Workbook
Name DataMarket.Monetization.Industry: '[1]4.0 EDM Forecast Model'!$ID$79:$IV$95
Name DataMarket.Monetization.MS: '[1]4.0 EDM Forecast Model'!$ID$7:$IV$42
Name DataMarket.Spending.Industry: '[1]4.0 EDM Forecast Model'!$DW$61:$EO$76
Name DataMarket.Spending.MS: '[1]4.0 EDM Forecast Model'!$DW$7:$EO$42
Name DataMarket.Spending.SizeBand: '[1]4.0 EDM Forecast Model'!$DW$114:$EO$118
Name DataProfessionals.Industry: '[2]1.0 Data Professionals'!$DX$48:$EO$61
Name DataProfessionals.MS: '[2]1.0 Data Professionals'!$DX$7:$EO$43
Name DataProfessionals.Total.Industry: '[2]1.0 Data Professionals'!$FO$48:$FZ$63
Name DataProfessionals.Total.MS: '[2]1.0 Data Professionals'!$FO$7:$FZ$44
Name DataSuppliers.Industry: '[2]2.0 Data Companies'!$LR$74:$ME$89
Name DataSuppliers.MS: '[2]2.0 Data Companies'!$LR$9:$ME$44
Name DataSuppliers.SizeBand: '[2]2.0 Data Companies'!$LR$102:$ME$106
Name DataSuppliers.Total.Industry: '[2]2.0 Data Companies'!$HH$106:$HU$119
Name DataSuppliers.Total.MS: '[2]2.0 Data Companies'!$HH$9:$HU$43
Name DataSuppliers.Total.SizeBand: '[2]2.0 Data Companies'!$HH$222:$HU$225
Name DataUsers.Industry: '[2]2.0 Data Companies'!$FU$50:$GH$65
Name DataUsers.MS: '[2]2.0 Data Companies'!$FU$9:$GH$45
Name DataUsers.SizeBand: '[2]2.0 Data Companies'!$FU$94:$GH$98
Name DataUsers.Total.Industry: '[2]2.0 Data Companies'!$BR$50:$CM$64
Name DataUsers.Total.MS: '[2]2.0 Data Companies'!$BR$9:$CM$45
Name DataUsers.Total.SizeBand: '[2]2.0 Data Companies'!$BS$99:$CM$103
Name DC.Revenues.MS: '[1]3.0 Data Revenues Model'!$ER$6:$FH$41
Name DC.Revenues.SizeBand: '[1]3.0 Data Revenues Model'!$ES$50:$FH$54
Name DC.Turnover.MS: '[1]3.0 Data Revenues Model'!$JQ$7:$JW$41
Name ICT.Spending: "'[Data Market-Revenues-Internationals Sep 2023 v08.xlsx]ICT Spending - BlackBook Live'!$DM$8:$EE$43"

Sheet COVER
B9: European Data Market Update
B10: VIGIE 2020-0655
B12: D2.7 - Final Report on Facts and Figures
B14: STUDY DATASET
B19: DATE: 11st October 2023
B20: Version 2.0: 03.03.2025

Sheet ICT SPENDING
B3: ICT SPENDING 2023 October 2023
C7: 2020 | D7: 2021 | E7: 2022 | F7: 2023 | G7: 2025 | I7: 2030 Challenge Scenario | J7: 2030 Baseline Scenario | K7: 2030 High Growth Scenario | M7: Growth Rate - 2023/2022 | N7: CAGR 2030/2025 Challenge Scenario | O7: CAGR 2030/2025 Baseline Scenario | P7: CAGR 2030/2025 High Growth Scenario
A8: Member States | B8: Abbrev. | C8: EUR Million (Current) | D8: EUR Million (Current) | E8: EUR Million (Current) | F8: EUR Million (Current) | G8: EUR Million (Current) | I8: EUR Million (Current) | J8: EUR Million (Current) | K8: EUR Million (Current) | M8: Percent | N8: Percent | O8: Percent | P8: Percent
A9: Austria | B9: AT | C9: 12539.632 | D9: 13332.615 | E9: 14857.778 | F9: 15313.337 | G9: 17048.319 | I9: 18402.814 | J9: 20919.76 | K9: 23357.428 | M9: =F9/E9-1 -> 0.030661316 | N9: =IFERROR((I9/$G9)^(1/5)-1,0) -> 0.015407889 | O9: =IFERROR((J9/$G9)^(1/5)-1,0) -> 0.041777624 | P9: =IFERROR((K9/$G9)^(1/5)-1,0) -> 0.064997748
A10: Belgium | B10: BE | C10: 16249.807 | D10: 17454.521 | E10: 18939.576 | F10: 19572.14 | G10: 22009.949 | I10: 22655.751 | J10: 26413.744 | K10: 29586.088 | M10: =F10/E10-1 -> 0.033399023 | N10: =IFERROR((I10/$G10)^(1/5)-1,0) -> 0.0058005862 | O10: =IFERROR((J10/$G10)^(1/5)-1,0) -> 0.037151466 | P10: =IFERROR((K10/$G10)^(1/5)-1,0) -> 0.060947031
A11: Bulgaria | B11: BG | C11: 2447.0375 | D11: 2734.6793 | E11: 3149.9278 | F11: 3190.3484 | G11: 3382.9883 | I11: 3950.5751 | J11: 4475.7405 | K11: 5068.8573 | M11: =F11/E11-1 -> 0.012832243 | N11: =IFERROR((I11/$G11)^(1/5)-1,0) -> 0.031506491 | O11: =IFERROR((J11/$G11)^(1/5)-1,0) -> 0.057579148 | P11: =IFERROR((K11/$G11)^(1/5)-1,0) -> 0.084231232
A12: Croatia | B12: HR | C12: 2205.5809 | D12: 2505.3663 | E12: 3050.6741 | F12: 3120.4282 | G12: 3284.3755 | I12: 3631.4086 | J12: 4185.0337 | K12: 4746.6438 | M12: =F12/E12-1 -> 0.022865168 | N12: =IFERROR((I12/$G12)^(1/5)-1,0) -> 0.020291957 | O12: =IFERROR((J12/$G12)^(1/5)-1,0) -> 0.049661413 | P12: =IFERROR((K12/$G12)^(1/5)-1,0) -> 0.076432416
A13: Cyprus | B13: CY | C13: 895.93516 | D13: 1043.0023 | E13: 1075.2538 | F13: 1108.7844 | G13: 1207.2328 | I13: 1353.994 | J13: 1555.2165 | K13: 1731.6332 | M13: =F13/E13-1 -> 0.031183909 | N13: =IFERROR((I13/$G13)^(1/5)-1,0) -> 0.023210859 | O13: =IFERROR((J13/$G13)^(1/5)-1,0) -> 0.051961791 | P13: =IFERROR((K13/$G13)^(1/5)-1,0) -> 0.074813154
A14: Czechia | B14: CZ | C14: 8955.7691 | D14: 10246.737 | E14: 12156.367 | F14: 12399.746 | G14: 13708.622 | I14: 15887.187 | J14: 18121.632 | K14: 20567.79 | M14: =F14/E14-1 -> 0.020020732 | N14: =IFERROR((I14/$G14)^(1/5)-1,0) -> 0.029936958 | O14: =IFERROR((J14/$G14)^(1/5)-1,0) -> 0.057403394 | P14: =IFERROR((K14/$G14)^(1/5)-1,0) -> 0.084522994
A15: Denmark | B15: DK | C15: 15767.793 | D15: 17310.305 | E15: 19167.671 | F15: 19909.135 | G15: 22874.371 | I15: 25169.027 | J15: 28914.726 | K15: 32502.271 | M15: =F15/E15-1 -> 0.038683049 | N15: =IFERROR((I15/$G15)^(1/5)-1,0) -> 0.019303355 | O15: =IFERROR((J15/$G15)^(1/5)-1,0) -> 0.047982384 | P15: =IFERROR((K15/$G15)^(1/5)-1,0) -> 0.072785532
A16: Estonia | B16: EE | C16: 874.50018 | D16: 963.61876 | E16: 1070.7144 | F16: 1079.7281 | G16: 1149.0052 | I16: 1227.9447 | J16: 1407.7445 | K16: 1585.612 | M16: =F16/E16-1 -> 0.0084184457 | N16: =IFERROR((I16/$G16)^(1/5)-1,0) -> 0.013377742 | O16: =IFERROR((J16/$G16)^(1/5)-1,0) -> 0.041454657 | P16: =IFERROR((K16/$G16)^(1/5)-1,0) -> 0.066534678
A17: Finland | B17: FI | C17: 13225.151 | D17: 14329.446 | E17: 15553.318 | F17: 16231.397 | G17: 18694.85 | I17: 20529.048 | J17: 23563.969 | K17: 26525.504 | M17: =F17/E17-1 -> 0.043597082 | N17: =IFERROR((I17/$G17)^(1/5)-1,0) -> 0.01889485 | O17: =IFERROR((J17/$G17)^(1/5)-1,0) -> 0.047382445 | P17: =IFERROR((K17/$G17)^(1/5)-1,0) -> 0.072477851
A18: France | B18: FR | C18: 103805.82 | D18: 112223.17 | E18: 120693.06 | F18: 124419.55 | G18: 141024.19 | I18: 149848.8 | J18: 173366.99 | K18: 193264.1 | M18: =F18/E18-1 -> 0.030875759 | N18: =IFERROR((I18/$G18)^(1/5)-1,0) -> 0.01221305 | O18: =IFERROR((J18/$G18)^(1/5)-1,0) -> 0.042160382 | P18: =IFERROR((K18/$G18)^(1/5)-1,0) -> 0.06505372
A19: Germany | B19: DE | C19: 135483.11 | D19: 146773.56 | E19: 159619.27 | F19: 164986.8 | G19: 188406.81 | I19: 209066.58 | J19: 240965.08 | K19: 272706.19 | M19: =F19/E19-1 -> 0.033627061 | N19: =IFERROR((I19/$G19)^(1/5)-1,0) -> 0.021027887 | O19: =IFERROR((J19/$G19)^(1/5)-1,0) -> 0.050440615 | P19: =IFERROR((K19/$G19)^(1/5)-1,0) -> 0.076761902
A20: Greece | B20: EL | C20: 4501.2646 | D20: 5221.2755 | E20: 5355.6899 | F20: 5498.9892 | G20: 5915.0847 | I20: 5697.5518 | J20: 6537.9427 | K20: 7261.8386 | M20: =F20/E20-1 -> 0.026756448 | N20: =IFERROR((I20/$G20)^(1/5)-1,0) -> -0.0074658421 | O20: =IFERROR((J20/$G20)^(1/5)-1,0) -> 0.020225154 | P20: =IFERROR((K20/$G20)^(1/5)-1,0) -> 0.041878617
... A38: EEA (NO, LI, IS) | B38: RoEEA | C38: 13592.732 | D38: 15201.666 | E38: 16654.438 | F38: 17576.962 | G38: 20071.982 | I38: 22716.067 | J38: 25408.899 | K38: 28097.739 | M38: =F38/E38-1 -> 0.055392071 | N38: =IFERROR((I38/$G38)^(1/5)-1,0) -> 0.025058324 | O38: =IFERROR((J38/$G38)^(1/5)-1,0) -> 0.048284386 | P38: =IFERROR((K38/$G38)^(1/5)-1,0) -> 0.069587262
A39: Total EU27 | B39: EU27 | C39: =SUM(C9:C35) -> 531180.54 | D39: =SUM(D9:D35) -> 575292.81 | E39: =SUM(E9:E35) -> 622334.64 | F39: =SUM(F9:F35) -> 640352.43 | G39: =SUM(G9:G35) -> 721345.54 | I39: =SUM(I9:I35) -> 776783.46 | J39: =SUM(J9:J35) -> 893965.27 | K39: =SUM(K9:K35) -> 1005539.4 | M39: =F39/E39-1 -> 0.028951933 | N39: =IFERROR((I39/$G39)^(1/5)-1,0) -> 0.01491886 | O39: =IFERROR((J39/$G39)^(1/5)-1,0) -> 0.043843662 | P39: =IFERROR((K39/$G39)^(1/5)-1,0) -> 0.068688528
A40: Total EU27 + U.K. | B40: EU27 + UK | C40: =SUM(C37,C39) -> 675417.59 | D40: =SUM(D37,D39) -> 732160 | E40: =SUM(E37,E39) -> 793135.6 | F40: =SUM(F37,F39) -> 817896.33 | G40: =SUM(G37,G39) -> 920656.33 | I40: =SUM(I37,I39) -> 993019.72 | J40: =SUM(J37,J39) -> 1144478.5 | K40: =SUM(K37,K39) -> 1284684.3 | M40: =F40/E40-1 -> 0.031218776 | N40: =IFERROR((I40/$G40)^(1/5)-1,0) -> 0.015247821 | O40: =IFERROR((J40/$G40)^(1/5)-1,0) -> 0.044484553 | P40: =IFERROR((K40/$G40)^(1/5)-1,0) -> 0.068906644
A41: Total All Countries | C41: =SUM(C9:C38) -> 719233.73 | D41: =SUM(D9:D38) -> 778304.48 | E41: =SUM(E9:E38) -> 846113.53 | F41: =SUM(F9:F38) -> 873051.27 | G41: =SUM(G9:G38) -> 983539.43 | I41: =SUM(I9:I38) -> 1061162.6 | J41: =SUM(J9:J38) -> 1221478.9 | K41: =SUM(K9:K38) -> 1370341.4 | M41: =F41/E41-1 -> 0.03183703 | N41: =IFERROR((I41/$G41)^(1/5)-1,0) -> 0.015308519 | O41: =IFERROR((J41/$G41)^(1/5)-1,0) -> 0.044284516 | P41: =IFERROR((K41/$G41)^(1/5)-1,0) -> 0.06858088
A42: Source: European Data Market Monitoring Tool, IDC 2023

Sheet GDP
B2: Gross domestic product at market prices (October 2023) Chain linked volumes (2010), million euro
A5: Member States | B5: 2014 | C5: 2015 | D5: 2016 | E5: 2017 | F5: 2018 | G5: 2019 | H5: 2020 | I5: 2021 | J5: 2022 | K5: 2023 | L5: 2025 | N5: 2030 Challenge Scenario | O5: 2030 Baseline Scenario | P5: 2030 High Growth Scenario | R5: Growth Rate 2023/2022 | S5: CAGR 2030/2025 Challenge Scenario | T5: CAGR 2030/2025 Baseline Scenario | U5: CAGR 2030/2025 High Growth Scenario
B6: EUR Million (Current) | C6: EUR Million (Current) | D6: EUR Million (Current) | E6: EUR Million (Current) | F6: EUR Million (Current) | G6: EUR Million (Current) | H6: EUR Million (Current) | I6: EUR Million (Current) | J6: EUR Million (Current) | K6: EUR Million (Current) | L6: EUR Million (Current) | N6: Euro (M) | O6: Euro (M) | P6: Euro (M) | R6: Percentage | S6: Percentage | T6: Percentage | U6: Percentage
A7: Austria | B7: 308723.7 | C7: 311855.7 | D7: 318350.4 | E7: 326234.2 | F7: 334128.3 | G7: 339474.35 | H7: 318033.15 | I7: 332525.92 | J7: 348650.11 | K7: 348981.32 | L7: 357586.96 | N7: 372437.42 | O7: 387777.21 | P7: 406847.78 | R7: =K7/J7-1 -> 0.00095 | S7: =IFERROR((N7/$L7)^(1/5)-1,0) -> 0.0081712887 | T7: =IFERROR((O7/$L7)^(1/5)-1,0) -> 0.016342577 | U7: =IFERROR((P7/$L7)^(1/5)-1,0) -> 0.026148124
A8: Belgium | B8: 379631.3 | C8: 387348.4 | D8: 393201.7 | E8: 400924.9 | F8: 406772 | G8: 411653.26 | H8: 385784.97 | I8: 410035.42 | J8: 423353.37 | K8: 427591.13 | L8: 436508.2 | N8: 450693.31 | O8: 465244.82 | P8: 483200.21 | R8: =K8/J8-1 -> 0.01001 | S8: =IFERROR((N8/$L8)^(1/5)-1,0) -> 0.0064164805 | T8: =IFERROR((O8/$L8)^(1/5)-1,0) -> 0.012832961 | U8: =IFERROR((P8/$L8)^(1/5)-1,0) -> 0.020532738
A9: Bulgaria | B9: 39946.2 | C9: 41539.9 | D9: 43123.2 | E9: 44635.4 | F9: 46012 | G9: 47714.444 | H9: 45886.504 | I9: 49389.938 | J9: 51049.934 | K9: 51898.894 | L9: 55145.601 | N9: 59193.879 | O9: 63476.491 | P9: 68939.086 | R9: =K9/J9-1 -> 0.01663 | S9: =IFERROR((N9/$L9)^(1/5)-1,0) -> 0.014269077 | T9: =IFERROR((O9/$L9)^(1/5)-1,0) -> 0.028538154 | U9: =IFERROR((P9/$L9)^(1/5)-1,0) -> 0.045661047
A10: Croatia | B10: 43679.1 | C10: 44743.6 | D10: 46302.2 | E10: 47755.8 | F10: 49042.7 | G10: 50513.981 | H10: 46458.213 | I10: 52537.735 | J10: 55805.057 | K10: 57311.794 | L10: 60389.552 | N10: 64908.633 | O10: 69694.292 | P10: 75805.355 | R10: =K10/J10-1 -> 0.027 | S10: =IFERROR((N10/$L10)^(1/5)-1,0) -> 0.014537563 | T10: =IFERROR((O10/$L10)^(1/5)-1,0) -> 0.029075127 | U10: =IFERROR((P10/$L10)^(1/5)-1,0) -> 0.046520202
A11: Cyprus | B11: 17255.4 | C11: 17837.8 | D11: 19041.2 | E11: 19871.6 | F11: 20678.4 | G11: 21319.43 | H11: 20232.139 | I11: 21567.461 | J11: 22775.238 | K11: 23276.294 | L11: 24621.896 | N11: 26482.887 | O11: 28454.742 | P11: 30974.191 | R11: =K11/J11-1 -> 0.022 | S11: =IFERROR((N11/$L11)^(1/5)-1,0) -> 0.014679222 | T11: =IFERROR((O11/$L11)^(1/5)-1,0) -> 0.029358445 | U11: =IFERROR((P11/$L11)^(1/5)-1,0) -> 0.046973511
A12: Czech Republic | B12: 161738.6 | C12: 170325.7 | D12: 174499.6 | E12: 182094.9 | F12: 187277.4 | G12: 191959.33 | H12: 180814.18 | I12: 187238.5 | J12: 191623.63 | K12: 191974.3 | L12: 202134.04 | N12: 213418.74 | O12: 227889.71 | P12: 244560.64 | R12: =K12/J12-1 -> 0.00183 | S12: =IFERROR((N12/$L12)^(1/5)-1,0) -> 0.010924262 | T12: =IFERROR((O12/$L12)^(1/5)-1,0) -> 0.024276137 | U12: =IFERROR((P12/$L12)^(1/5)-1,0) -> 0.038841819
A13: Denmark | B13: 253316 | C13: 259250.2 | D13: 267665.3 | E13: 273115.4 | F13: 279646.5 | G13: 284400.49 | H13: 278536.15 | I13: 297601.95 | J13: 305729.46 | K13: 310926.86 | L13: 319063.2 | N13: 329539.18 | O13: 342714.96 | P13: 357565.72 | R13: =K13/J13-1 -> 0.017 | S13: =IFERROR((N13/$L13)^(1/5)-1,0) -> 0.0064821329 | T13: =IFERROR((O13/$L13)^(1/5)-1,0) -> 0.01440474 | U13: =IFERROR((P13/$L13)^(1/5)-1,0) -> 0.023047584
A14: Estonia | B14: 17186 | C14: 17503 | D14: 17963.6 | E14: 18996.3 | F14: 19900.8 | G14: 20537.626 | H14: 19991.119 | I14: 21440.276 | J14: 21341.436 | K14: 20857.199 | L14: 21920.317 | N14: 23348.463 | O14: 25194.05 | P14: 27338.647 | R14: =K14/J14-1 -> -0.02269 | S14: =IFERROR((N14/$L14)^(1/5)-1,0) -> 0.012703454 | T14: =IFERROR((O14/$L14)^(1/5)-1,0) -> 0.028229898 | U14: =IFERROR((P14/$L14)^(1/5)-1,0) -> 0.045167837
A15: Finland | B15: 187836 | C15: 188889 | D15: 193853 | E15: 199768 | F15: 203107 | G15: 205544.28 | H15: 199589.67 | I15: 205916.66 | J15: 209221.62 | K15: 208951.72 | L15: 213983.51 | N15: 222764.51 | O15: 231831.45 | P15: 243098.96 | R15: =K15/J15-1 -> -0.00129 | S15: =IFERROR((N15/$L15)^(1/5)-1,0) -> 0.0080756873 | T15: =IFERROR((O15/$L15)^(1/5)-1,0) -> 0.016151375 | U15: =IFERROR((P15/$L15)^(1/5)-1,0) -> 0.025842199
A16: France | B16: 2076883.7 | C16: 2099997.6 | D16: 2123002.3 | E16: 2170986.5 | F16: 2208433.4 | G16: 2234934.6 | H16: 2056408 | I16: 2187401.2 | J16: 2242567.5 | K16: 2263894.3 | L16: 2335917.3 | N16: 2418461.2 | O16: 2522499.8 | P16: 2640048.5 | R16: =K16/J16-1 -> 0.00951 | S16: =IFERROR((N16/$L16)^(1/5)-1,0) -> 0.0069695389 | T16: =IFERROR((O16/$L16)^(1/5)-1,0) -> 0.015487864 | U16: =IFERROR((P16/$L16)^(1/5)-1,0) -> 0.024780583
A17: Germany | B17: 2747491.6 | C17: 2795291 | D17: 2857626 | E17: 2928067.4 | F17: 2972792 | G17: 2987656 | H17: 2840424.3 | I17: 2930437.3 | J17: 2983302.4 | K17: 2967341.7 | L17: 3054173.2 | N17: 3148972.4 | O17: 3268019.7 | P17: 3401967.7 | R17: =K17/J17-1 -> -0.00535 | S17: =IFERROR((N17/$L17)^(1/5)-1,0) -> 0.0061321821 | T17: =IFERROR((O17/$L17)^(1/5)-1,0) -> 0.013627071 | U17: =IFERROR((P17/$L17)^(1/5)-1,0) -> 0.021803314
A18: Greece | B18: 185586.1 | C18: 184773.5 | D18: 184420.7 | E18: 187196.4 | F18: 190817.5 | G18: 194633.85 | H18: 179425.16 | I18: 194557.88 | J18: 206064.03 | K18: 211137.33 | L18: 218358.21 | N18: 226449.74 | O18: 234779.39 | P18: 245096.62 | R18: =K18/J18-1 -> 0.02462 | S18: =IFERROR((N18/$L18)^(1/5)-1,0) -> 0.0073037735 | T18: =IFERROR((O18/$L18)^(1/5)-1,0) -> 0.014607547 | U18: =IFERROR((P18/$L18)^(1/5)-1,0) -> 0.023372075
... A36: EEA (NO, LI, IS) | B36: 389419.9 | C36: 363427.4 | D36: 352275.5 | E36: 375234.1 | F36: 392537.9 | G36: 384443.4 | H36: 378280.33 | I36: 393152.32 | J36: 406895.2 | K36: 416429.58 | L36: 428157.87 | N36: 443437.78 | O36: 459168.9 | P36: 478656.73 | R36: =K36/J36-1 -> 0.023432039 | S36: =IFERROR((N36/$L36)^(1/5)-1,0) -> 0.0070377529 | T36: =IFERROR((O36/$L36)^(1/5)-1,0) -> 0.014083477 | U36: =IFERROR((P36/$L36)^(1/5)-1,0) -> 0.022548807
A37: Total EU27 | B37: =SUM(B7:B33) -> 11265523 | C37: =SUM(C7:C33) -> 11530746 | D37: =SUM(D7:D33) -> 11768343 | E37: =SUM(E7:E33) -> 12088767 | F37: =SUM(F7:F33) -> 12346465 | G37: =SUM(G7:G33) -> 12515078 | H37: =SUM(H7:H33) -> 11748729 | I37: =SUM(I7:I33) -> 12433246 | ... L37: =SUM(L7:L33) -> 13379167 | N37: =SUM(N7:N33) -> 13930288 | O37: =SUM(O7:O33) -> 14571050 | P37: =SUM(P7:P33) -> 15330498 | R37: =K37/J37-1 -> 0.0066330335 | S37: =IFERROR((N37/$L37)^(1/5)-1,0) -> 0.0081060111 | T37: =IFERROR((O37/$L37)^(1/5)-1,0) -> 0.017214062 | U37: =IFERROR((P37/$L37)^(1/5)-1,0) -> 0.027603173
A38: Total EU27 + U.K. | B38: =B37+B35 -> 13282137 | C38: =C37+C35 -> 13594861 | D38: =D37+D35 -> 13872052 | E38: =E37+E35 -> 14232279 | F38: =F37+F35 -> 14518716 | G38: =G37+G35 -> 14713396 | H38: =H37+H35 -> 13730579 | I38: =I37+I35 -> 14565656 | ... L38: =L37+L35 -> 15668404 | N38: =N37+N35 -> 16311666 | O38: =O37+O35 -> 17069049 | P38: =P37+P35 -> 17960885 | R38: =K38/J38-1 -> 0.0063632995 | S38: =IFERROR((N38/$L38)^(1/5)-1,0) -> 0.0080793394 | T38: =IFERROR((O38/$L38)^(1/5)-1,0) -> 0.017271593 | U38: =IFERROR((P38/$L38)^(1/5)-1,0) -> 0.027686375
A39: Total All Countries | B39: =SUM(B7:B36) -> 14225499 | C39: =SUM(C7:C36) -> 14591059 | D39: =SUM(D7:D36) -> 14853057 | E39: =SUM(E7:E36) -> 15231507 | F39: =SUM(F7:F36) -> 15534000 | G39: =SUM(G7:G36) -> 15751572 | H39: =SUM(H7:H36) -> 14746209 | I39: =SUM(I7:I36) -> 15630531 | ... L39: =SUM(L7:L36) -> 16813168 | N39: =SUM(N7:N36) -> 17500835 | O39: =SUM(O7:O36) -> 18304013 | P39: =SUM(P7:P36) -> 19252685 | R39: =K39/J39-1 -> 0.0068903632 | S39: =IFERROR((N39/$L39)^(1/5)-1,0) -> 0.0080494602 | T39: =IFERROR((O39/$L39)^(1/5)-1,0) -> 0.017136762 | U39: =IFERROR((P39/$L39)^(1/5)-1,0) -> 0.027468104
A40: Source: European Data Market Monitoring Tool, IDC 2023
A41: Data Sources: IDC estimates on Eurostat Labour Force Survey by Occupation and NACE II Industry Code 2023

Sheet Ind.1 DATA PROFESSIONALS
A1: October 2023 Deliverable
A3: INDICATOR 1: MEASUREMENT OF DATA PROFESSIONALS
A6: INDICATOR 1: MEASUREMENT OF DATA PROFESSIONALS
A7: Indicator 1.1 - Number of Data Professionals by Member State: 2020-2023, 2025, 2030 3 Scenarios
A8: Indicator 1.2 - Employment Share of Data Professionals by Member State: 2020-2023, 2025, 2030 3 Scenarios
R9: Total Employment | W9: % on Total Employment
C10: 2020 | D10: 2021 | E10: 2022 | F10: 2023 | G10: 2025 | I10: 2030 Challenge Scenario | J10: 2030 Baseline Scenario | K10: 2030 High Growth Scenario | M10: Growth Rate 2023/2022 | N10: CAGR 2030/2025 Challenge Scenario | O10: CAGR 2030/2025 Baseline Scenario | P10: CAGR 2030/2025 High Growth Scenario | R10: {=$C$10:$F$10} -> 2020 | S10: 2021 | T10: 2022 | U10: 2023 | W10: {=$C$10:$F$10} -> 2020 | X10: 2021 | Y10: 2022 | Z10: 2023
A11: Member States | B11: Abbrev. | C11: 000s | D11: 000s | E11: 000s | F11: 000s | G11: 000s | I11: 000s | J11: 000s | K11: 000s | M11: Percent | N11: Percent | O11: Percent | P11: Percent | R11: 000s | S11: 000s | T11: 000s | U11: 000s | W11: Percent | X11: Percent | Y11: Percent | Z11: Percent
A12: Austria | B12: AT | C12: 134.28768 | D12: 137.76736 | E12: 139.87624 | F12: 143.31099 | G12: 150.45735 | I12: 170.48583 | J12: 172.74323 | K12: 194.8199 | M12: =F12/E12-1 -> 0.024555628 | N12: =IFERROR((I12/$G12)^(1/5)-1,0) -> 0.025309482 | O12: =IFERROR((J12/$G12)^(1/5)-1,0) -> 0.028010436 | P12: =IFERROR((K12/$G12)^(1/5)-1,0) -> 0.053037841 | R12: 3847.7042 | S12: 3813.301 | T12: 3955.232 | U12: 3957.477 | W12: =IFERROR(C12/R12,0) -> 0.034900729 | X12: =IFERROR(D12/S12,0) -> 0.036128111 | Y12: =IFERROR(E12/T12,0) -> 0.035364864 | Z12: =IFERROR(F12/U12,0) -> 0.036212716
A13: Belgium | B13: BE | C13: 135.48531 | D13: 137.57958 | E13: 138.48077 | F13: 140.7895 | G13: 147.55068 | I13: 149.6437 | J13: 168.49871 | K13: 194.62745 | M13: =F13/E13-1 -> 0.016671831 | N13: =IFERROR((I13/$G13)^(1/5)-1,0) -> 0.0028210593 | O13: =IFERROR((J13/$G13)^(1/5)-1,0) -> 0.026906899 | P13: =IFERROR((K13/$G13)^(1/5)-1,0) -> 0.056945456 | R13: 4398.5858 | S13: 4412.149 | T13: 4486.277 | U13: 4521.9143 | W13: =IFERROR(C13/R13,0) -> 0.030802016 | X13: =IFERROR(D13/S13,0) -> 0.031181989 | Y13: =IFERROR(E13/T13,0) -> 0.030867638 | Z13: =IFERROR(F13/U13,0) -> 0.031134933
A14: Bulgaria | B14: BG | C14: 85.79796 | D14: 90.928096 | E14: 95.410723 | F14: 99.607253 | G14: 107.3443 | I14: 108.89393 | J14: 124.53102 | K14: 144.38405 | M14: =F14/E14-1 -> 0.043983835 | N14: =IFERROR((I14/$G14)^(1/5)-1,0) -> 0.0028706957 | O14: =IFERROR((J14/$G14)^(1/5)-1,0) -> 0.030148212 | P14: =IFERROR((K14/$G14)^(1/5)-1,0) -> 0.061079802 | R14: 2940.5276 | S14: 2744.396 | T14: 2827.493 | U14: 2793.3055 | W14: =IFERROR(C14/R14,0) -> 0.029177744 | X14: =IFERROR(D14/S14,0) -> 0.03313228 | Y14: =IFERROR(E14/T14,0) -> 0.033743929 | Z14: =IFERROR(F14/U14,0) -> 0.035659277
A15: Croatia | B15: HR | C15: 45.280732 | D15: 49.079132 | E15: 51.179025 | F15: 53.170733 | G15: 56.944707 | I15: 57.034496 | J15: 65.851136 | K15: 75.199024 | M15: =F15/E15-1 -> 0.038916488 | N15: =IFERROR((I15/$G15)^(1/5)-1,0) -> 0.00031515387 | O15: =IFERROR((J15/$G15)^(1/5)-1,0) -> 0.029489643 | P15: =IFERROR((K15/$G15)^(1/5)-1,0) -> 0.057186886 | R15: 1494.2959 | S15: 1486.72 | T15: 1495.576 | U15: 1515.755 | W15: =IFERROR(C15/R15,0) -> 0.030302388 | X15: =IFERROR(D15/S15,0) -> 0.033011684 | Y15: =IFERROR(E15/T15,0) -> 0.034220277 | Z15: =IFERROR(F15/U15,0) -> 0.035078712
A16: Cyprus | B16: CY | C16: 13.794616 | D16: 15.868498 | E16: 17.474503 | F16: 18.664514 | G16: 20.786439 | I16: 23.5579 | J16: 25.361153 | K16: 26.516816 | M16: =F16/E16-1 -> 0.068099799 | N16: =IFERROR((I16/$G16)^(1/5)-1,0) -> 0.025348021 | O16: =IFERROR((J16/$G16)^(1/5)-1,0) -> 0.040585529 | P16: =IFERROR((K16/$G16)^(1/5)-1,0) -> 0.049900774 | R16: 341.64331 | S16: 352.412 | T16: 363.759 | U16: 379.439 | W16: =IFERROR(C16/R16,0) -> 0.040377246 | X16: =IFERROR(D16/S16,0) -> 0.045028258 | Y16: =IFERROR(E16/T16,0) -> 0.048038684 | Z16: =IFERROR(F16/U16,0) -> 0.049189761
A17: Czechia | B17: CZ | C17: 176.63894 | D17: 194.49452 | E17: 210.63294 | F17: 222.56884 | G17: 243.52544 | I17: 297.65049 | J17: 299.50332 | K17: 361.02363 | M17: =F17/E17-1 -> 0.056666838 | N17: =IFERROR((I17/$G17)^(1/5)-1,0) -> 0.040956187 | O17: =IFERROR((J17/$G17)^(1/5)-1,0) -> 0.042248936 | P17: =IFERROR((K17/$G17)^(1/5)-1,0) -> 0.081927745 | R17: 4894.375 | S17: 4796.142 | T17: 4740.067 | U17: 4761.3867 | W17: =IFERROR(C17/R17,0) -> 0.036090194 | X17: =IFERROR(D17/S17,0) -> 0.040552285 | Y17: =IFERROR(E17/T17,0) -> 0.0444367 | Z17: =IFERROR(F17/U17,0) -> 0.046744542
A18: Denmark | B18: DK | C18: 105.20726 | D18: 112.78793 | E18: 120.14955 | F18: 127.23741 | G18: 140.58615 | I18: 155.2674 | J18: 169.8228 | K18: 202.22356 | M18: =F18/E18-1 -> 0.058992007 | N18: =IFERROR((I18/$G18)^(1/5)-1,0) -> 0.020064302 | O18: =IFERROR((J18/$G18)^(1/5)-1,0) -> 0.038510022 | P18: =IFERROR((K18/$G18)^(1/5)-1,0) -> 0.075419342 | R18: 2543.9802 | S18: 2525.27 | T18: 2597.972 | U18: 2599.1393 | W18: =IFERROR(C18/R18,0) -> 0.041355377 | X18: =IFERROR(D18/S18,0) -> 0.044663711 | Y18: =IFERROR(E18/T18,0) -> 0.046247437 | Z18: =IFERROR(F18/U18,0) -> 0.048953672
A19: Estonia | B19: EE | C19: 28.165337 | D19: 30.468009 | E19: 33.132132 | F19: 35.36235 | G19: 39.549036 | I19: 43.767941 | J19: 48.489386 | K19: 65.797915 | M19: =F19/E19-1 -> 0.067312847 | N19: =IFERROR((I19/$G19)^(1/5)-1,0) -> 0.020478931 | O19: =IFERROR((J19/$G19)^(1/5)-1,0) -> 0.041602842 | P19: =IFERROR((K19/$G19)^(1/5)-1,0) -> 0.10717239 | R19: 587.02228 | S19: 566.42 | T19: 597.47 | U19: 590.84333 | W19: =IFERROR(C19/R19,0) -> 0.047980014 | X19: =IFERROR(D19/S19,0) -> 0.053790489 | Y19: =IFERROR(E19/T19,0) -> 0.055454052 | Z19: =IFERROR(F19/U19,0) -> 0.059850638
A20: Finland | B20: FI | C20: 92.815269 | D20: 103.55064 | E20: 110.14625 | F20: 116.25708 | G20: 127.29769 | I20: 153.55909 | J20: 153.78119 | K20: 192.77725 | M20: =F20/E20-1 -> 0.0554793 | N20: =IFERROR((I20/$G20)^(1/5)-1,0) -> 0.038223847 | O20: =IFERROR((J20/$G20)^(1/5)-1,0) -> 0.038524006 | P20: =IFERROR((K20/$G20)^(1/5)-1,0) -> 0.086543332 | R20: 2268.1337 | S20: 2232.924 | T20: 2273.173 | U20: 2278.498 | W20: =IFERROR(C20/R20,0) -> 0.040921427 | X20: =IFERROR(D20/S20,0) -> 0.046374457 | Y20: =IFERROR(E20/T20,0) -> 0.048454845 | Z20: =IFERROR(F20/U20,0) -> 0.051023561
A21: France | B21: FR | C21: 985.71605 | D21: 1059.756 | E21: 1114.2393 | F21: 1157.2115 | G21: 1243.1366 | I21: 1465.6384 | J21: 1486.9994 | K21: 1727.3377 | M21: =F21/E21-1 -> 0.038566357 | N21: =IFERROR((I21/$G21)^(1/5)-1,0) -> 0.03347886 | O21: =IFERROR((J21/$G21)^(1/5)-1,0) -> 0.03647394 | P21: =IFERROR((K21/$G21)^(1/5)-1,0) -> 0.068001047 | R21: 23980.768 | S21: 23485.839 | T21: 24448.085 | U21: 24271.879 | W21: =IFERROR(C21/R21,0) -> 0.04110444 | X21: =IFERROR(D21/S21,0) -> 0.045123193 | Y21: =IFERROR(E21/T21,0) -> 0.045575729 | Z21: =IFERROR(F21/U21,0) -> 0.047677044
A22: Germany | B22: DE | C22: 1589.3751 | D22: 1716.6426 | E22: 1829.9515 | F22: 1938.5252 | G22: 2141.118 | I22: 2535.9884 | J22: 2573.4929 | K22: 3090.9563 | M22: =F22/E22-1 -> 0.059331479 | N22: =IFERROR((I22/$G22)^(1/5)-1,0) -> 0.034430531 | O22: =IFERROR((J22/$G22)^(1/5)-1,0) -> 0.037472216 | P22: =IFERROR((K22/$G22)^(1/5)-1,0) -> 0.076193714 | R22: 39053.019 | S22: 36903.846 | T22: 38113.151 | U22: 37042.504 | W22: =IFERROR(C22/R22,0) -> 0.040697881 | X22: =IFERROR(D22/S22,0) -> 0.046516631 | Y22: =IFERROR(E22/T22,0) -> 0.048013649 | Z22: =IFERROR(F22/U22,0) -> 0.052332455
A23: Greece | B23: EL | C23: 69.267459 | D23: 72.319088 | E23: 73.396849 | F23: 75.327903 | G23: 79.109778 | I23: 80.162694 | J23: 88.139301 | K23: 101.82301 | M23: =F23/E23-1 -> 0.02630976 | N23: =IFERROR((I23/$G23)^(1/5)-1,0) -> 0.0026478509 | O23: =IFERROR((J23/$G23)^(1/5)-1,0) -> 0.021851735 | P23: =IFERROR((K23/$G23)^(1/5)-1,0) -> 0.051775742 | R23: 3414.0851 | S23: 3421.815 | T23: 3492.379 | U23: 3475.6879 | W23: =IFERROR(C23/R23,0) -> 0.020288733 | X23: =IFERROR(D23/S23,0) -> 0.021134716 | Y23: =IFERROR(E23/T23,0) -> 0.02101629 | Z23: =IFERROR(F23/U23,0) -> 0.021672804
... A41: EEA (NO, LI, IS) | B41: RoEEA | C41: 141.23089 | D41: 154.95205 | E41: 165.14063 | F41: 173.39688 | G41: 185.67056 | I41: 190.32904 | J41: 204.68322 | K41: 269.64991 | M41: =F41/E41-1 -> 0.0499953 | N41: =IFERROR((I41/$G41)^(1/5)-1,0) -> 0.0049683862 | O41: =IFERROR((J41/$G41)^(1/5)-1,0) -> 0.019689246 | P41: =IFERROR((K41/$G41)^(1/5)-1,0) -> 0.077485526 | R41: 2523.6327 | S41: 2579.612 | T41: 2617.389 | U41: 2631.3651 | W41: =IFERROR(C41/R41,0) -> 0.055963329 | X41: =IFERROR(D41/S41,0) -> 0.060067966 | Y41: =IFERROR(E41/T41,0) -> 0.063093651 | Z41: =IFERROR(F41/U41,0) -> 0.065896171
A42: Total EU27 | B42: EU27 | C42: =SUM(C12:C38) -> 6501.8557 | D42: =SUM(D12:D38) -> 6957.4761 | E42: =SUM(E12:E38) -> 7319.1984 | F42: =SUM(F12:F38) -> 7660.4706 | G42: =SUM(G12:G38) -> 8317.1061 | I42: =SUM(I12:I38) -> 9287.3361 | J42: =SUM(J12:J38) -> 9884.8533 | K42: =SUM(K12:K38) -> 11638.017 | M42: =F42/E42-1 -> 0.046626982 | N42: =IFERROR((I42/$G42)^(1/5)-1,0) -> 0.022312767 | O42: =IFERROR((J42/$G42)^(1/5)-1,0) -> 0.035141207 | P42: =IFERROR((K42/$G42)^(1/5)-1,0) -> 0.069501384 | R42: =SUM(R12:R38) -> 178230.33 | S42: =SUM(S12:S38) -> 174259.65 | T42: =SUM(T12:T38) -> 178413.43 | U42: =SUM(U12:U38) -> 177144.41 | W42: =IFERROR(C42/R42,0) -> 0.036480075 | X42: =IFERROR(D42/S42,0) -> 0.039925915 | Y42: =IFERROR(E42/T42,0) -> 0.041023808 | Z42: =IFERROR(F42/U42,0) -> 0.043244213
A43: Total EU27 + U.K. | B43: EU27 + UK | C43: =SUM(C40,C42) -> 8297.1406 | D43: =SUM(D40,D42) -> 8843.6472 | E43: =SUM(E40,E42) -> 9287.8826 | F43: =SUM(F40,F42) -> 9712.2868 | G43: =SUM(G40,G42) -> 10525.785 | I43: =SUM(I40,I42) -> 11885.547 | J43: =SUM(J40,J42) -> 12496.324 | K43: =SUM(K40,K42) -> 14526.602 | M43: =F43/E43-1 -> 0.045694387 | N43: =IFERROR((I43/$G43)^(1/5)-1,0) -> 0.024596657 | O43: =IFERROR((J43/$G43)^(1/5)-1,0) -> 0.034917088 | P43: =IFERROR((K43/$G43)^(1/5)-1,0) -> 0.066551692 | R43: =SUM(R40,R42) -> 207032.21 | S43: =SUM(S40,S42) -> 203385.15 | T43: =SUM(T40,T42) -> 207858.61 | U43: =SUM(U40,U42) -> 206949.04 | W43: =IFERROR(C43/R43,0) -> 0.040076568 | X43: =IFERROR(D43/S43,0) -> 0.043482266 | Y43: =IFERROR(E43/T43,0) -> 0.044683656 | Z43: =IFERROR(F43/U43,0) -> 0.046930814
A44: Total All Countries | C44: =SUM(C12:C41) -> 8621.9905 | D44: =SUM(D12:D41) -> 9200.6519 | E44: =SUM(E12:E41) -> 9669.9006 | F44: =SUM(F12:F41) -> 10115.883 | G44: =SUM(G12:G41) -> 10964.847 | I44: =SUM(I12:I41) -> 12345.072 | J44: =SUM(J12:J41) -> 12999.637 | K44: =SUM(K12:K41) -> 15137.746 | M44: =F44/E44-1 -> 0.046120704 | N44: =IFERROR((I44/$G44)^(1/5)-1,0) -> 0.023995896 | O44: =IFERROR((J44/$G44)^(1/5)-1,0) -> 0.034631584 | P44: =IFERROR((K44/$G44)^(1/5)-1,0) -> 0.066624938 | R44: =SUM(R12:R41) -> 213687.26 | S44: =SUM(S12:S41) -> 209606.19 | T44: =SUM(T12:T41) -> 214479.96 | U44: =SUM(U12:U41) -> 213613.84 | W44: =IFERROR(C44/R44,0) -> 0.040348642 | X44: =IFERROR(D44/S44,0) -> 0.043894944 | Y44: =IFERROR(E44/T44,0) -> 0.045085334 | Z44: =IFERROR(F44/U44,0) -> 0.047355936
A45: Source: European Data Market Monitoring Tool, IDC 2023
A46: Data Sources: IDC estimates on Eurostat Labour Force Survey by Occupation and NACE II Industry Code 2023
A49: Indicator 1.1 - Number of Data Professionals by Industry : 2020-2023, 2025, 2030 3 Scenarios
A50: Indicator 1.2 - Employment Share of Data Professionals by Industry: 2020-2023, 2025, 2030 3 Scenarios
A51: Thousands; % | R51: Total Employment | W51: % on Total Employment
C52: {=$C$10:$F$10} -> 2020 | D52: 2021 | E52: 2022 | F52: 2023 | G52: 2025 | I52: 2030 Challenge Scenario | J52: 2030 Baseline Scenario | K52: 2030 High Growth Scenario | M52: Growth Rate 2023/2022 | N52: CAGR 2030/2025 Challenge Scenario | O52: CAGR 2030/2025 Baseline Scenario | P52: CAGR 2030/2025 High Growth Scenario | R52: {=$C$10:$F$10} -> 2020 | S52: 2021 | T52: 2022 | U52: 2023 | W52: {=$C$10:$F$10} -> 2020 | X52: 2021 | Y52: 2022 | Z52: 2023
A53: Member States | B53: Abbrev. | C53: 000s | D53: 000s | E53: 000s | F53: 000s | G53: 000s | I53: 000s | J53: 000s | K53: 000s | M53: Percent | N53: Percent | O53: Percent | P53: Percent | R53: 000s | S53: 000s | T53: 000s | U53: 000s | W53: Percent | X53: Percent | Z53: Percent
A54: Agriculture | C54: 34.923049 | D54: 37.36855 | E54: 38.128357 | F54: 40.577973 | G54: 43.51 | I54: 48.590557 | J54: 50.184443 | K54: 57.395451 | M54: =F54/E54-1 -> 0.064246558 | N54: =IFERROR((I54/$G54)^(1/5)-1,0) -> 0.022333425 | O54: =IFERROR((J54/$G54)^(1/5)-1,0) -> 0.028954107 | P54: =IFERROR((K54/$G54)^(1/5)-1,0) -> 0.056957873 | R54: 7301.063 | S54: 7268.089 | T54: 7451.765 | U54: 6887.3491 | W54: =IFERROR(C54/R54,0) -> 0.0047832828 | X54: =IFERROR(D54/S54,0) -> 0.0051414546 | Y54: =IFERROR(E54/T54,0) -> 0.0051166881 | Z54: =IFERROR(F54/U54,0) -> 0.0058916678
A55: Construction | C55: 131.05605 | D55: 140.4204 | E55: 147.25547 | F55: 152.26925 | G55: 161.73376 | I55: 182.04715 | J55: 182.27371 | K55: 205.90679 | M55: =F55/E55-1 -> 0.034048145 | N55: =IFERROR((I55/$G55)^(1/5)-1,0) -> 0.023945026 | O55: =IFERROR((J55/$G55)^(1/5)-1,0) -> 0.024199762 | P55: =IFERROR((K55/$G55)^(1/5)-1,0) -> 0.049479592 | R55: 13800.634 | S55: 13046.661 | T55: 13372.119 | U55: 13353.77 | W55: =IFERROR(C55/R55,0) -> 0.0094963794 | X55: =IFERROR(D55/S55,0) -> 0.010762938 | Y55: =IFERROR(E55/T55,0) -> 0.011012127 | Z55: =IFERROR(F55/U55,0) -> 0.011402716
A56: Education | C56: 479.54328 | D56: 512.02801 | E56: 532.78699 | F56: 561.59555 | G56: 609.64357 | I56: 665.73407 | J56: 722.7787 | K56: 831.70623 | M56: =F56/E56-1 -> 0.054071456 | N56: =IFERROR((I56/$G56)^(1/5)-1,0) -> 0.017759011 | O56: =IFERROR((J56/$G56)^(1/5)-1,0) -> 0.034631912 | P56: =IFERROR((K56/$G56)^(1/5)-1,0) -> 0.064091052 | R56: 15598.262 | S56: 14599.18 | T56: 15022.767 | U56: 15052.476 | W56: =IFERROR(C56/R56,0) -> 0.03074338 | X56: =IFERROR(D56/S56,0) -> 0.035072381 | Y56: =IFERROR(E56/T56,0) -> 0.035465303 | Z56: =IFERROR(F56/U56,0) -> 0.037309182
A57: Finance | C57: 608.6681 | D57: 658.1983 | E57: 674.77622 | F57: 709.98676 | G57: 767.44406 | I57: 861.40243 | J57: 904.34215 | K57: 1051.208 | M57: =F57/E57-1 -> 0.052181069 | N57: =IFERROR((I57/$G57)^(1/5)-1,0) -> 0.023368094 | O57: =IFERROR((J57/$G57)^(1/5)-1,0) -> 0.033373235 | P57: =IFERROR((K57/$G57)^(1/5)-1,0) -> 0.064947965 | R57: 5681.5292 | S57: 5433.308 | T57: 5441.5177 | U57: 5449.5623 | W57: =IFERROR(C57/R57,0) -> 0.10713103 | X57: =IFERROR(D57/S57,0) -> 0.12114136 | Y57: =IFERROR(E57/T57,0) -> 0.12400515 | Z57: =IFERROR(F57/U57,0) -> 0.13028326
A58: Health | C58: 518.47015 | D58: 556.30219 | E58: 577.57418 | F58: 611.14903 | G58: 664.47563 | I58: 761.2758 | J58: 790.02022 | K58: 922.01558 | M58: =F58/E58-1 -> 0.058130786 | N58: =IFERROR((I58/$G58)^(1/5)-1,0) -> 0.027572784 | O58: =IFERROR((J58/$G58)^(1/5)-1,0) -> 0.035218037 | P58: =IFERROR((K58/$G58)^(1/5)-1,0) -> 0.067706387 | R58: 23009.47 | S58: 21732.704 | T58: 22287.825 | U58: 22324.811 | W58: =IFERROR(C58/R58,0) -> 0.022532902 | X58: =IFERROR(D58/S58,0) -> 0.025597468 | Y58: =IFERROR(E58/T58,0) -> 0.025914336 | Z58: =IFERROR(F58/U58,0) -> 0.027375328
A59: Information & Communication | C59: 753.17076 | D59: 828.95646 | E59: 913.79726 | F59: 961.641 | G59: 1090.994 | I59: 1277.548 | J59: 1424.1948 | K59: 1727.1007 | M59: =F59/E59-1 -> 0.052357065 | N59: =IFERROR((I59/$G59)^(1/5)-1,0) -> 0.032074318 | O59: =IFERROR((J59/$G59)^(1/5)-1,0) -> 0.054749687 | P59: =IFERROR((K59/$G59)^(1/5)-1,0) -> 0.096223376 | R59: 6780.722 | S59: 7003.98 | T59: 7305.8448 | U59: 7671.6445 | W59: =IFERROR(C59/R59,0) -> 0.1110753 | X59: =IFERROR(D59/S59,0) -> 0.11835506 | Y59: =IFERROR(E59/T59,0) -> 0.12507756 | Z59: =IFERROR(F59/U59,0) -> 0.12535005
A60: Mining, Manufacturing | C60: 745.35952 | D60: 800.36108 | E60: 810.81405 | F60: 867.97091 | G60: 929.5913 | I60: 978.75174 | J60: 1069.058 | K60: 1198.9177 | M60: =F60/E60-1 -> 0.070493177 | N60: =IFERROR((I60/$G60)^(1/5)-1,0) -> 0.010359895 | O60: =IFERROR((J60/$G60)^(1/5)-1,0) -> 0.028352105 | P60: =IFERROR((K60/$G60)^(1/5)-1,0) -> 0.052202829 | R60: 31109.653 | S60: 32127.932 | T60: 32943.485 | U60: 32074.652 | W60: =IFERROR(C60/R60,0) -> 0.023959107 | X60: =IFERROR(D60/S60,0) -> 0.02491169 | Y60: =IFERROR(E60/T60,0) -> 0.024612273 | Z60: =IFERROR(F60/U60,0) -> 0.027060961
A61: Professional services | C61: 1384.5925 | D61: 1497.179 | E61: 1615.3483 | F61: 1681.2343 | G61: 1843.7655 | I61: 2158.6648 | J61: 2242.3242 | K61: 2737.59 | M61: =F61/E61-1 -> 0.040787494 | N61: =IFERROR((I61/$G61)^(1/5)-1,0) -> 0.032038515 | O61: =IFERROR((J61/$G61)^(1/5)-1,0) -> 0.039916671 | P61: =IFERROR((K61/$G61)^(1/5)-1,0) -> 0.08226233 | R61: 20640.104 | S61: 18824.541 | T61: 19324.001 | U61: 19648.388 | W61: =IFERROR(C61/R61,0) -> 0.067082635 | X61: =IFERROR(D61/S61,0) -> 0.079533358 | Y61: =IFERROR(E61/T61,0) -> 0.083592845 | Z61: =IFERROR(F61/U61,0) -> 0.085566013
A62: Public Administration | C62: 395.17039 | D62: 419.38597 | E62: 423.19213 | F62: 446.09054 | G62: 473.74564 | I62: 540.59446 | J62: 536.30149 | K62: 606.46394 | M62: =F62/E62-1 -> 0.054108782 | N62: =IFERROR((I62/$G62)^(1/5)-1,0) -> 0.026751328 | O62: =IFERROR((J62/$G62)^(1/5)-1,0) -> 0.025115392 | P62: =IFERROR((K62/$G62)^(1/5)-1,0) -> 0.050635211 | R62: 13508.707 | S62: 14069.327 | T62: 14437.063 | U62: 14223.796 | W62: =IFERROR(C62/R62,0) -> 0.029253013 | X62: =IFERROR(D62/S62,0) -> 0.029808531 | Y62: =IFERROR(E62/T62,0) -> 0.029312897 | Z62: =IFERROR(F62/U62,0) -> 0.031362271
...

Sheet Ind.2 DATA COMPANIES
A3: INDICATOR 2: MEASUREMENT OF DATA COMPANIES
A4: Indicator 2.1 - Number of Data Suppliers by Member State, 2020-2023, 2025, 2030 3 Scenarios
A5: Indicator 2.2 - Share of Data Suppliers by Member State, 2020-2023, 2025, 2030 3 Scenarios
C6: Number of Data Suppliers | I6: Number of Data Suppliers | M6: Growth Rate of Data Suppliers | R6: Share of Total Number of EU Companies A,C:E,G:H,J:K,M,P,Q | X6: Share of Total Number of EU Companies A,C:E,G:H,J:K,M,P,Q | AB6: Total Number of EU Companies A,C,D,E,G,H,J,K,M,P,Q | AH6: Total Number of EU Companies A,C,D,E,G,H,J,K,M,P,Q
C7: 2020 | D7: 2021 | E7: 2022 | F7: 2023 | G7: 2025 | I7: 2030 Challenge Scenario | J7: 2030 Baseline Scenario | K7: 2030 High Growth Scenario | M7: Growth Rate 2023/2022 | N7: CAGR 2030/2025 Challenge Scenario | O7: CAGR 2030/2025 Baseline Scenario | P7: CAGR 2030/2025 High Growth Scenario | R7: {=$C$7:$F$7} -> 2020 | S7: 2021 | T7: 2022 | U7: 2023 | V7: 2025 | X7: 2030 Challenge Scenario | Y7: 2030 Baseline Scenario | Z7: 2030 High Growth Scenario | AB7: {=$C$7:$F$7} -> 2020 | AC7: 2021 | AD7: 2022 | AE7: 2023 | AF7: 2025 | AH7: 2030 Challenge Scenario | AI7: 2030 Baseline Scenario | AJ7: 2030 High Growth Scenario
A8: Member States | B8: Abbrev. | C8: Units | D8: Units | E8: Units | F8: Units | G8: Units | I8: 000s | J8: 000s | K8: 000s | M8: Percent | N8: Percent | O8: Percent | P8: Percent | R8: Percent | S8: Percent | T8: Percent | U8: Percent | V8: Percent | X8: Percent | Y8: Percent | Z8: Percent | AB8: Units | AC8: Units | AD8: Units | AE8: Units | AF8: Units | AH8: 000s | AI8: 000s | AJ8: 000s
A9: Austria | B9: AT | C9: 5448.2254 | D9: 5844.66 | E9: 6611.2654 | F9: 7130.9745 | G9: 8376.8268 | I9: 9490.3168 | J9: 9726.7275 | K9: 10109.195 | M9: =F9/E9-1 -> 0.078609632 | N9: =IFERROR((I9/$G9)^(1/5)-1,0) -> 0.025274687 | O9: =IFERROR((J9/$G9)^(1/5)-1,0) -> 0.030332604 | P9: =IFERROR((K9/$G9)^(1/5)-1,0) -> 0.038310888 | R9: =C9/AB9 -> 0.022543894 | S9: =D9/AC9 -> 0.02389209 | T9: =E9/AD9 -> 0.026367489 | U9: =F9/AE9 -> 0.027773427 | V9: =G9/AF9 -> 0.031567238 | X9: =I9/AH9 -> 0.034508232 | Y9: =J9/AI9 -> 0.034981811 | Z9: =K9/AJ9 -> 0.035114989 | AB9: 241671.89 | AC9: 244627.41 | AD9: 250735.5 | AE9: 256755.3 | AF9: 265364.58 | AH9: 275016.02 | AI9: 278051 | AJ9: 287888.32
A10: Belgium | B10: BE | C10: 3326.285 | D10: 3630.1724 | E10: 4152.6937 | F10: 4568.1771 | G10: 5012.5616 | I10: 5756.9863 | J10: 6164.5 | K10: 6467.5454 | M10: =F10/E10-1 -> 0.10005153 | N10: =IFERROR((I10/$G10)^(1/5)-1,0) -> 0.028080434 | O10: =IFERROR((J10/$G10)^(1/5)-1,0) -> 0.042239737 | P10: =IFERROR((K10/$G10)^(1/5)-1,0) -> 0.052291235 | R10: =C10/AB10 -> 0.011645053 | S10: =D10/AC10 -> 0.012583264 | T10: =E10/AD10 -> 0.014021748 | U10: =F10/AE10 -> 0.014970112 | V10: =G10/AF10 -> 0.01564899 | X10: =I10/AH10 -> 0.017106945 | Y10: =J10/AI10 -> 0.017341714 | Z10: =K10/AJ10 -> 0.017407735 | AB10: 285639.31 | AC10: 288492.11 | AD10: 296160.91 | AE10: 305153.16 | AF10: 320312.14 | AH10: 336529.19 | AI10: 355472.36 | AJ10: 371532.85
A11: Bulgaria | B11: BG | C11: 1491.0933 | D11: 1629.8106 | E11: 1871.1536 | F11: 2053.8684 | G11: 2295.8005 | I11: 2639.077 | J11: 2795.7386 | K11: 2947.066 | M11: =F11/E11-1 -> 0.097648226 | N11: =IFERROR((I11/$G11)^(1/5)-1,0) -> 0.02826152 | O11: =IFERROR((J11/$G11)^(1/5)-1,0) -> 0.040189541 | P11: =IFERROR((K11/$G11)^(1/5)-1,0) -> 0.051214018 | R11: =C11/AB11 -> 0.01695077 | S11: =D11/AC11 -> 0.018175229 | T11: =E11/AD11 -> 0.020114325 | U11: =F11/AE11 -> 0.021296064 | V11: =G11/AF11 -> 0.022411968 | X11: =I11/AH11 -> 0.024642355 | Y11: =J11/AI11 -> 0.024776281 | Z11: =K11/AJ11 -> 0.024910206 | AB11: 87966.11 | AC11: 89672.082 | AD11: 93025.921 | AE11: 96443.57 | AF11: 102436.36 | AH11: 107095.16 | AI11: 112839.32 | AJ11: 118307.57
A12: Croatia | B12: HR | C12: 906.12591 | D12: 998.90942 | E12: 1162.5011 | F12: 1282.396 | G12: 1392.6869 | I12: 1551.9572 | J12: 1658.6385 | K12: 1737.5526 | M12: =F12/E12-1 -> 0.10313524 | N12: =IFERROR((I12/$G12)^(1/5)-1,0) -> 0.021892594 | O12: =IFERROR((J12/$G12)^(1/5)-1,0) -> 0.035570457 | P12: =IFERROR((K12/$G12)^(1/5)-1,0) -> 0.0452421 | R12: =C12/AB12 -> 0.014361154 | S12: =D12/AC12 -> 0.015505102 | T12: =E12/AD12 -> 0.017628819 | U12: =F12/AE12 -> 0.019063502 | V12: =G12/AF12 -> 0.019723813 | X12: =I12/AH12 -> 0.021277506 | Y12: =J12/AI12 -> 0.02158324 | Z12: =K12/AJ12 -> 0.021835943 | AB12: 63095.618 | AC12: 64424.562 | AD12: 65943.224 | AE12: 67269.696 | AF12: 70609.414 | AH12: 72938.868 | AI12: 76848.449 | AJ12: 79573.05
A13: Cyprus | B13: CY | C13: 630.84715 | D13: 709.5076 | E13: 822.48981 | F13: 927.57124 | G13: 1057.651 | I13: 1095.7123 | J13: 1146.3114 | K13: 1179.896 | M13: =F13/E13-1 -> 0.12776017 | N13: =IFERROR((I13/$G13)^(1/5)-1,0) -> 0.0070959152 | O13: =IFERROR((J13/$G13)^(1/5)-1,0) -> 0.016230087 | P13: =IFERROR((K13/$G13)^(1/5)-1,0) -> 0.022116206 | R13: =C13/AB13 -> 0.020521211 | S13: =D13/AC13 -> 0.022603913 | T13: =E13/AD13 -> 0.025599907 | U13: =F13/AE13 -> 0.028301265 | V13: =G13/AF13 -> 0.030743818 | X13: =I13/AH13 -> 0.0300819 | Y13: =J13/AI13 -> 0.030408877 | Z13: =K13/AJ13 -> 0.030735854 | AB13: 30741.224 | AC13: 31388.707 | AD13: 32128.624 | AE13: 32774.904 | AF13: 34402.069 | AH13: 36424.306 | AI13: 37696.604 | AJ13: 38388.262
A14: Czechia | B14: CZ | C14: 2580.7383 | D14: 2804.7936 | E14: 3213.459 | F14: 3491.8987 | G14: 3970.8256 | I14: 4463.4206 | J14: 4568.6077 | K14: 4857.8365 | M14: =F14/E14-1 -> 0.086647989 | N14: =IFERROR((I14/$G14)^(1/5)-1,0) -> 0.023663932 | O14: =IFERROR((J14/$G14)^(1/5)-1,0) -> 0.028443909 | P14: =IFERROR((K14/$G14)^(1/5)-1,0) -> 0.041147875 | R14: =C14/AB14 -> 0.023609642 | S14: =D14/AC14 -> 0.025421705 | T14: =E14/AD14 -> 0.02887568 | U14: =F14/AE14 -> 0.031208432 | V14: =G14/AF14 -> 0.034692124 | X14: =I14/AH14 -> 0.037924252 | Y14: =J14/AI14 -> 0.038444711 | Z14: =K14/AJ14 -> 0.038591072 | AB14: 109308.66 | AC14: 110330.66 | AD14: 111286 | AE14: 111889.59 | AF14: 114458.99 | AH14: 117693.04 | AI14: 118835.79 | AJ14: 125879.8
A15: Denmark | B15: DK | C15: 4760.0285 | D15: 5195.4424 | E15: 5964.5016 | F15: 6545.9718 | G15: 7220.673 | I15: 8105.414 | J15: 8577.6179 | K15: 9081.3353 | M15: =F15/E15-1 -> 0.09748849 | N15: =IFERROR((I15/$G15)^(1/5)-1,0) -> 0.02338608 | O15: =IFERROR((J15/$G15)^(1/5)-1,0) -> 0.035041598 | P15: =IFERROR((K15/$G15)^(1/5)-1,0) -> 0.046922194 | R15: =C15/AB15 -> 0.054316367 | S15: =D15/AC15 -> 0.058390361 | T15: =E15/AD15 -> 0.065191164 | U15: =F15/AE15 -> 0.070259515 | V15: =G15/AF15 -> 0.074361196 | X15: =I15/AH15 -> 0.081784237 | Y15: =J15/AI15 -> 0.083833041 | Z15: =K15/AJ15 -> 0.084152198 | AB15: 87635.252 | AC15: 88977.74 | AD15: 91492.484 | AE15: 93168.474 | AF15: 97102.701 | AH15: 99107.289 | AI15: 102317.87 | AJ15: 107915.6
A16: Estonia | B16: EE | C16: 665.257 | D16: 735.19786 | E16: 855.74321 | F16: 943.82541 | G16: 1038.896 | I16: 1178.3194 | J16: 1242.6059 | K16: 1366.7174 | M16: =F16/E16-1 -> 0.10293064 | N16: =IFERROR((I16/$G16)^(1/5)-1,0) -> 0.025505962 | O16: =IFERROR((J16/$G16)^(1/5)-1,0) -> 0.036459339 | P16: =IFERROR((K16/$G16)^(1/5)-1,0) -> 0.056382832 | R16: =C16/AB16 -> 0.10178006 | S16: =D16/AC16 -> 0.10993524 | T16: =E16/AD16 -> 0.12401542 | U16: =F16/AE16 -> 0.13309656 | V16: =G16/AF16 -> 0.13588841 | X16: =I16/AH16 -> 0.1485486 | Y16: =J16/AI16 -> 0.15058723 | Z16: =K16/AJ16 -> 0.15116052 | AB16: 6536.2212 | AC16: 6687.5543 | AD16: 6900.2969 | AE16: 7091.2835 | AF16: 7645.2138 | AH16: 7932.2146 | AI16: 8251.735 | AJ16: 9041.4973
A17: Finland | B17: FI | C17: 3613.0337 | D17: 3865.0695 | E17: 4355.8357 | F17: 4669.9004 | G17: 5545.7152 | I17: 6176.8889 | J17: 6314.3901 | K17: 6834.6617 | M17: =F17/E17-1 -> 0.072102039 | N17: =IFERROR((I17/$G17)^(1/5)-1,0) -> 0.021791875 | O17: =IFERROR((J17/$G17)^(1/5)-1,0) -> 0.026301041 | P17: =IFERROR((K17/$G17)^(1/5)-1,0) -> 0.042682038 | R17: =C17/AB17 -> 0.031540238 | S17: =D17/AC17 -> 0.033214832 | T17: =E17/AD17 -> 0.036477001 | U17: =F17/AE17 -> 0.038348047 | V17: =G17/AF17 -> 0.043605039 | X17: =I17/AH17 -> 0.047390805 | Y17: =J17/AI17 -> 0.048180651 | Z17: =K17/AJ17 -> 0.048707216 | AB17: 114553.15 | AC17: 116365.77 | AD17: 119413.21 | AE17: 121776.75 | AF17: 127180.6 | AH17: 130339.4 | AI17: 131056.55 | AJ17: 140321.34
A18: France | B18: FR | C18: 15828.529 | D18: 17160.621 | E18: 19627.227 | F18: 21300.952 | G18: 23659.759 | I18: 26965.879 | J18: 27631.885 | K18: 29530.67 | M18: =F18/E18-1 -> 0.085275671 | N18: =IFERROR((I18/$G18)^(1/5)-1,0) -> 0.026504493 | O18: =IFERROR((J18/$G18)^(1/5)-1,0) -> 0.031525667 | P18: =IFERROR((K18/$G18)^(1/5)-1,0) -> 0.045328036 | R18: =C18/AB18 -> 0.0083838782 | S18: =D18/AC18 -> 0.0089462198 | T18: =E18/AD18 -> 0.0099502431 | U18: =F18/AE18 -> 0.010484283 | V18: =G18/AF18 -> 0.011087906 | X18: =I18/AH18 -> 0.012191348 | Y18: =J18/AI18 -> 0.01239012 | Z18: =K18/AJ18 -> 0.012612509 | AB18: 1887972.1 | AC18: 1918198 | AD18: 1972537.5 | AE18: 2031703.2 | AF18: 2133834.8 | AH18: 2211886.6 | AI18: 2230154.7 | AJ18: 2341379.5
A19: Germany | B19: DE | C19: 32632.003 | D19: 35304.139 | E19: 40530.329 | F19: 43953.753 | G19: 48925.163 | I19: 54480.33 | J19: 56316.239 | K19: 59171.519 | M19: =F19/E19-1 -> 0.084465732 | N19: =IFERROR((I19/$G19)^(1/5)-1,0) -> 0.021742571 | O19: =IFERROR((J19/$G19)^(1/5)-1,0) -> 0.028537836 | P19: =IFERROR((K19/$G19)^(1/5)-1,0) -> 0.038762079 | R19: =C19/AB19 -> 0.022093326 | S19: =D19/AC19 -> 0.023616698 | T19: =E19/AD19 -> 0.026347224 | U19: =F19/AE19 -> 0.028066342 | V19: =G19/AF19 -> 0.030145524 | X19: =I19/AH19 -> 0.032954063 | Y19: =J19/AI19 -> 0.033406313 | Z19: =K19/AJ19 -> 0.033533492 | AB19: 1477007.3 | AC19: 1494880.4 | AD19: 1538315 | AE19: 1566066.3 | AF19: 1622966.1 | AH19: 1653220.4 | AI19: 1685796.3 | AJ19: 1764549.9
A20: Greece | B20: EL | C20: 6939.3187 | D20: 7456.6297 | E20: 8461.4902 | F20: 9168.1549 | G20: 10558.8 | I20: 11976.543 | J20: 12559.928 | K20: 13195.606 | M20: =F20/E20-1 -> 0.083515396 | N20: =IFERROR((I20/$G20)^(1/5)-1,0) -> 0.025518228 | O20: =IFERROR((J20/$G20)^(1/5)-1,0) -> 0.035319788 | P20: =IFERROR((K20/$G20)^(1/5)-1,0) -> 0.045593681 | R20: =C20/AB20 -> 0.088759547 | S20: =D20/AC20 -> 0.093439709 | T20: =E20/AD20 -> 0.10444676 | U20: =F20/AE20 -> 0.11149194 | V20: =G20/AF20 -> 0.12466838 | X20: =I20/AH20 -> 0.13850295 | Y20: =J20/AI20 -> 0.13850295 | Z20: =K20/AJ20 -> 0.13925568 | AB20: 78181.096 | AC20: 79801.508 | AD20: 81012.471 | AE20: 82231.547 | AF20: 84695.097 | AH20: 86471.396 | AI20: 90683.469 | AJ20: 94758.111
... A38: EEA (NO, LI, IS) | B38: RoEEA | C38: 5058.2472 | D38: 5492.4995 | E38: 6298.0642 | F38: 6895.747 | G38: 7853.8936 | I38: 8832.0106 | J38: 9506.7328 | K38: 10394.578 | M38: =F38/E38-1 -> 0.09489945 | N38: =IFERROR((I38/$G38)^(1/5)-1,0) -> 0.023752353 | O38: =IFERROR((J38/$G38)^(1/5)-1,0) -> 0.0389371 | P38: =IFERROR((K38/$G38)^(1/5)-1,0) -> 0.057655829 | R38: =C38/AB38 -> 0.043107841 | S38: =D38/AC38 -> 0.045644847 | T38: =E38/AD38 -> 0.051576918 | U38: =F38/AE38 -> 0.055150584 | V38: =G38/AF38 -> 0.060330335 | X38: =I38/AH38 -> 0.065982407 | Y38: =J38/AI38 -> 0.066919425 | Z38: =K38/AJ38 -> 0.067227608 | AB38: 117339.37 | AC38: 120331.21 | AD38: 122110.13 | AE38: 125034.89 | AF38: 130181.5 | AH38: 133854.02 | AI38: 142062.38 | AJ38: 154617.69
A39: Total EU27 | B39: EU27 | C39: =SUM(C9:C35) -> 175604.91 | D39: =SUM(D9:D35) -> 190796.18 | E39: =SUM(E9:E35) -> 218339.72 | F39: =SUM(F9:F35) -> 238324.82 | G39: =SUM(G9:G35) -> 267647.68 | I39: =SUM(I9:I35) -> 301643.98 | J39: =SUM(J9:J35) -> 316888.69 | K39: =SUM(K9:K35) -> 333886.86 | M39: =F39/E39-1 -> 0.091532142 | N39: =IFERROR((I39/$G39)^(1/5)-1,0) -> 0.02420345 | O39: =IFERROR((J39/$G39)^(1/5)-1,0) -> 0.034352694 | P39: =IFERROR((K39/$G39)^(1/5)-1,0) -> 0.045218693 | R39: =C39/AB39 -> 0.016818609 | S39: =D39/AC39 -> 0.018026214 | T39: =E39/AD39 -> 0.020095192 | U39: =F39/AE39 -> 0.021442383 | V39: =G39/AF39 -> 0.023064862 | X39: =I39/AH39 -> 0.025174865 | Y39: =J39/AI39 -> 0.025609559 | Z39: =K39/AJ39 -> 0.025817487 | AB39: =SUM(AB9:AB35) -> 10441107 | AC39: =SUM(AC9:AC35) -> 10584374 | AD39: =SUM(AD9:AD35) -> 10865272 | AE39: =SUM(AE9:AE35) -> 11114661 | AF39: =SUM(AF9:AF35) -> 11604131 | AH39: =SUM(AH9:AH35) -> 11981950 | AI39: =SUM(AI9:AI35) -> 12373844 | AJ39: =SUM(AJ9:AJ35) -> 12932586
A40: Total EU27 + U.K. | B40: EU27 + UK | C40: =SUM(C37,C39) -> 341058.91 | D40: =SUM(D37,D39) -> 367827.2 | E40: =SUM(E37,E39) -> 418844.51 | F40: =SUM(F37,F39) -> 453351.16 | G40: =SUM(G37,G39) -> 517889.63 | I40: =SUM(I37,I39) -> 589153.91 | J40: =SUM(J37,J39) -> 609743.95 | K40: =SUM(K37,K39) -> 639574.11 | M40: =F40/E40-1 -> 0.082385355 | N40: =IFERROR((I40/$G40)^(1/5)-1,0) -> 0.026120371 | O40: =IFERROR((J40/$G40)^(1/5)-1,0) -> 0.033194433 | P40: =IFERROR((K40/$G40)^(1/5)-1,0) -> 0.043111495 | R40: =C40/AB40 -> 0.029481423 | S40: =D40/AC40 -> 0.031360378 | T40: =E40/AD40 -> 0.034776151 | U40: =F40/AE40 -> 0.036799494 | V40: =G40/AF40 -> 0.040271243 | X40: =I40/AH40 -> 0.044365909 | Y40: =J40/AI40 -> 0.044542987 | Z40: =K40/AJ40 -> 0.044762217 | AB40: =SUM(AB37,AB39) -> 11568604 | AC40: =SUM(AC37,AC39) -> 11729042 | AD40: =SUM(AD37,AD39) -> 12044016 | AE40: =SUM(AE37,AE39) -> 12319495 | AF40: =SUM(AF37,AF39) -> 12860036 | AH40: =SUM(AH37,AH39) -> 13279428 | AI40: =SUM(AI37,AI39) -> 13688888 | AJ40: =SUM(AJ37,AJ39) -> 14288258
A41: Total All Countries | C41: =SUM(C9:C38) -> 351565.38 | D41: =SUM(D9:D38) -> 379242.85 | E41: =SUM(E9:E38) -> 431935.31 | F41: =SUM(F9:F38) -> 467685.89 | G41: =SUM(G9:G38) -> 534051.35 | I41: =SUM(I9:I38) -> 607320.79 | J41: =SUM(J9:J38) -> 629085.35 | K41: =SUM(K9:K38) -> 660210.07 | M41: =F41/E41-1 -> 0.082768362 | N41: =IFERROR((I41/$G41)^(1/5)-1,0) -> 0.026046457 | O41: =IFERROR((J41/$G41)^(1/5)-1,0) -> 0.033297338 | P41: =IFERROR((K41/$G41)^(1/5)-1,0) -> 0.043325505 | R41: =C41/AB41 -> 0.029388993 | S41: =D41/AC41 -> 0.031266996 | T41: =E41/AD41 -> 0.034684636 | U41: =F41/AE41 -> 0.036716515 | V41: =G41/AF41 -> 0.04016104 | X41: =I41/AH41 -> 0.04423512 | Y41: =J41/AI41 -> 0.044428613 | Z41: =K41/AJ41 -> 0.044658039 | AB41: =SUM(AB9:AB38) -> 11962485 | AC41: =SUM(AC9:AC38) -> 12129175 | AD41: =SUM(AD9:AD38) -> 12453217 | AE41: =SUM(AE9:AE38) -> 12737753 | AF41: =SUM(AF9:AF38) -> 13297747 | AH41: =SUM(AH9:AH38) -> 13729380 | AI41: =SUM(AI9:AI38) -> 14159464 | AJ41: =SUM(AJ9:AJ38) -> 14783678
A42: Source: European Data Market Monitoring Tool, IDC 2023
A43: Data Sources: IDC estimates on Eurostat Labour Force Survey by Occupation and NACE II Industry Code 2023
A46: Indicator 2.3 - Number of Data Suppliers by Industry : 2020-2023, 2025, 2030 3 Scenarios
A47: Indicator 2.4 - Share of Data Suppliers by Industry: 2020-2023, 2025 2030 3 Scenarios
A48: Thousands; % | C48: Number of Data Suppliers | I48: Number of Data Suppliers | M48: Growth Rate of Data Suppliers | R48: Share of Total Number of EU Companies | X48: Share of Total Number of EU Companies | AB48: Total Number of EU Companies | AH48: Total Number of EU Companies
C49: {=$C$7:$F$7} -> 2020 | D49: 2021 | E49: 2022 | F49: 2023 | G49: 2025 | I49: 2030 Challenge Scenario | J49: 2030 Baseline Scenario | K49: 2030 High Growth Scenario | M49: Growth Rate 2023/2022 | N49: CAGR 2030/2025 Challenge Scenario | O49: CAGR 2030/2025 Baseline Scenario | P49: CAGR 2030/2025 High Growth Scenario | R49: {=$C$7:$F$7} -> 2020 | S49: 2021 | T49: 2022 | U49: 2023 | V49: 2025 | X49: 2030 Challenge Scenario | Y49: 2030 Baseline Scenario | Z49: 2030 High Growth Scenario | AB49: {=$C$7:$F$7} -> 2020 | AC49: 2021 | AD49: 2022 | AE49: 2023 | AF49: 2025 | AH49: 2030 Challenge Scenario | AI49: 2030 Baseline Scenario | AJ49: 2030 High Growth Scenario
A50: Member States | B50: Abbrev. | C50: Units | D50: Units | E50: Units | F50: Units | G50: Units | I50: Units | J50: Units | K50: Units | M50: Percent | N50: Percent | O50: Percent | P50: Percent | R50: Units | S50: Units | T50: Units | U50: Units | V50: Units | X50: Units | Y50: Units | Z50: Units | AB50: Units | AC50: Units | AD50: Units | AE50: Units | AF50: Units | AH50: Units | AI50: Units | AJ50: Units
A51: Agriculture | C51: 26.76525 | D51: 42.165072 | E51: 56.882689 | F51: 66.695828 | G51: 83.07528 | I51: 122.88656 | J51: 134.05258 | K51: 147.31963 | M51: =IFERROR(F51/E51-1,0) -> 0.17251539 | N51: =IFERROR((I51/$G51)^(1/5)-1,0) -> 0.081450166 | O51: =IFERROR((J51/$G51)^(1/5)-1,0) -> 0.10042557 | P51: =IFERROR((K51/$G51)^(1/5)-1,0) -> 0.12139279 | R51: =IFERROR(C51/AB51,0) -> 0.00036792437 | S51: =IFERROR(D51/AC51,0) -> 0.00043810896 | T51: =IFERROR(E51/AD51,0) -> 0.00031960956 | U51: =IFERROR(F51/AE51,0) -> 0.00023607697 | V51: =IFERROR(G51/AF51,0) -> 0.00023102194 | X51: =IFERROR(I51/AH51,0) -> 0.00033063407 | Y51: =IFERROR(J51/AI51,0) -> 0.00034824465 | Z51: =IFERROR(K51/AJ51,0) -> 0.00036871488 | AB51: 72746.61 | AC51: 96243.344 | AD51: 177975.56 | AE51: 282517.3 | AF51: 359599.1 | AH51: 371669.37 | AI51: 384937.95 | AJ51: 399548.9
A52: Construction | C52: 52.889139 | D52: 85.503145 | E52: 122.59614 | F52: 149.34111 | G52: 189.98545 | I52: 280.86321 | J52: 306.82567 | K52: 336.17707 | M52: =IFERROR(F52/E52-1,0) -> 0.21815506 | N52: =IFERROR((I52/$G52)^(1/5)-1,0) -> 0.081321663 | O52: =IFERROR((J52/$G52)^(1/5)-1,0) -> 0.10061206 | P52: =IFERROR((K52/$G52)^(1/5)-1,0) -> 0.12090691 | R52: =IFERROR(C52/AB52,0) -> 8.3443308e-05 | S52: =IFERROR(D52/AC52,0) -> 0.00013210687 | T52: =IFERROR(E52/AD52,0) -> 0.00017646203 | U52: =IFERROR(F52/AE52,0) -> 0.00020937523 | V52: =IFERROR(G52/AF52,0) -> 0.00023838517 | X52: =IFERROR(I52/AH52,0) -> 0.00034209577 | Y52: =IFERROR(J52/AI52,0) -> 0.00036541437 | Z52: =IFERROR(K52/AJ52,0) -> 0.00038645392 | AB52: 633833.2 | AC52: 647227.09 | AD52: 694745.15 | AE52: 713270.19 | AF52: 796968.42 | AH52: 821007.57 | AI52: 839665.02 | AJ52: 869902.07
A53: Education | C53: 146.93929 | D53: 205.21938 | E53: 286.24913 | F53: 371.04157 | G53: 507.02415 | I53: 749.81095 | J53: 820.85656 | K53: 901.70984 | M53: =IFERROR(F53/E53-1,0) -> 0.29621905 | N53: =IFERROR((I53/$G53)^(1/5)-1,0) -> 0.081395669 | O53: =IFERROR((J53/$G53)^(1/5)-1,0) -> 0.10115315 | P53: =IFERROR((K53/$G53)^(1/5)-1,0) -> 0.12203817 | R53: =IFERROR(C53/AB53,0) -> 0.00037166338 | S53: =IFERROR(D53/AC53,0) -> 0.00051720292 | T53: =IFERROR(E53/AD53,0) -> 0.00071730844 | U53: =IFERROR(F53/AE53,0) -> 0.00091765696 | V53: =IFERROR(G53/AF53,0) -> 0.0012287879 | X53: =IFERROR(I53/AH53,0) -> 0.0017882274 | Y53: =IFERROR(J53/AI53,0) -> 0.0018872072 | Z53: =IFERROR(K53/AJ53,0) -> 0.002003102 | AB53: 395355.86 | AC53: 396786.97 | AD53: 399060.03 | AE53: 404335.81 | AF53: 412621.37 | AH53: 419304.03 | AI53: 434958.36 | AJ53: 450156.72
A54: Finance | C54: 4620.5713 | D54: 6135.3636 | E54: 8242.5275 | F54: 10043.286 | G54: 13226.198 | I54: 19547.791 | J54: 21385.84 | K54: 23416.872 | M54: =IFERROR(F54/E54-1,0) -> 0.21847168 | N54: =IFERROR((I54/$G54)^(1/5)-1,0) -> 0.081265963 | O54: =IFERROR((J54/$G54)^(1/5)-1,0) -> 0.10087563 | P54: =IFERROR((K54/$G54)^(1/5)-1,0) -> 0.12103396 | R54: =IFERROR(C54/AB54,0) -> 0.010994765 | S54: =IFERROR(D54/AC54,0) -> 0.014396577 | T54: =IFERROR(E54/AD54,0) -> 0.019071816 | U54: =IFERROR(F54/AE54,0) -> 0.022494377 | V54: =IFERROR(G54/AF54,0) -> 0.028554216 | X54: =IFERROR(I54/AH54,0) -> 0.040647654 | Y54: =IFERROR(J54/AI54,0) -> 0.043072253 | Z54: =IFERROR(K54/AJ54,0) -> 0.045295692 | AB54: 420251.94 | AC54: 426168.22 | AD54: 432183.66 | AE54: 446479.85 | AF54: 463195.99 | AH54: 480908.23 | AI54: 496510.82 | AJ54: 516977.9
A55: Health | C55: 3100.7275 | D55: 4147.9967 | E55: 5540.0766 | F55: 6923.9733 | G55: 9290.9226 | I55: 13716.111 | J55: 14969.046 | K55: 16408.96 | M55: =IFERROR(F55/E55-1,0) -> 0.24979738 | N55: =IFERROR((I55/$G55)^(1/5)-1,0) -> 0.08102174 | O55: =IFERROR((J55/$G55)^(1/5)-1,0) -> 0.10008707 | P55: =IFERROR((K55/$G55)^(1/5)-1,0) -> 0.12048086 | R55: =IFERROR(C55/AB55,0) -> 0.0039794165 | S55: =IFERROR(D55/AC55,0) -> 0.0052183929 | T55: =IFERROR(E55/AD55,0) -> 0.0068416392 | U55: =IFERROR(F55/AE55,0) -> 0.0084729671 | V55: =IFERROR(G55/AF55,0) -> 0.010964283 | X55: =IFERROR(I55/AH55,0) -> 0.01541307 | Y55: =IFERROR(J55/AI55,0) -> 0.016332772 | Z55: =IFERROR(K55/AJ55,0) -> 0.017171133 | AB55: 779191.49 | AC55: 794880.11 | AD55: 809758.67 | AE55: 817184.02 | AF55: 847380.79 | AH55: 889901.29 | AI55: 916503.73 | AJ55: 955613.11
A56: Information & Communication | C56: 93244.339 | D56: 97594.693 | E56: 108047.32 | F56: 114260.3 | G56: 118977.71 | I56: 130976.84 | J56: 135983.93 | K56: 141684.93 | M56: =IFERROR(F56/E56-1,0) -> 0.057502404 | N56: =IFERROR((I56/$G56)^(1/5)-1,0) -> 0.019402708 | O56: =IFERROR((J56/$G56)^(1/5)-1,0) -> 0.027080299 | P56: =IFERROR((K56/$G56)^(1/5)-1,0) -> 0.035551287 | R56: =IFERROR(C56/AB56,0) -> 0.10871597 | S56: =IFERROR(D56/AC56,0) -> 0.11250059 | T56: =IFERROR(E56/AD56,0) -> 0.12083369 | U56: =IFERROR(F56/AE56,0) -> 0.12669151 | V56: =IFERROR(G56/AF56,0) -> 0.1276412 | X56: =IFERROR(I56/AH56,0) -> 0.13578488 | Y56: =IFERROR(J56/AI56,0) -> 0.13637043 | Z56: =IFERROR(K56/AJ56,0) -> 0.13486248 | AB56: 857687.61 | AC56: 867503.81 | AD56: 894182.09 | AE56: 901878.13 | AF56: 932126.25 | AH56: 964590.74 | AI56: 997165.82 | AJ56: 1050588.2
A57: Mining, Manufacturing | C57: 21.172541 | D57: 36.288 | E57: 66.396032 | F57: 114.43698 | G57: 352.6382 | I57: 520.63925 | J57: 568.9622 | K57: 622.92707 | M57: =IFERROR(F57/E57-1,0) -> 0.72355145 | N57: =IFERROR((I57/$G57)^(1/5)-1,0) -> 0.08103937 | O57: =IFERROR((J57/$G57)^(1/5)-1,0) -> 0.10040059 | P57: =IFERROR((K57/$G57)^(1/5)-1,0) -> 0.12052505 | R57: =IFERROR(C57/AB57,0) -> 3.395351e-05 | S57: =IFERROR(D57/AC57,0) -> 5.7342253e-05 | T57: =IFERROR(E57/AD57,0) -> 0.00010221907 | U57: =IFERROR(F57/AE57,0) -> 0.00017408383 | V57: =IFERROR(G57/AF57,0) -> 0.00050478418 | X57: =IFERROR(I57/AH57,0) -> 0.0007298922 | Y57: =IFERROR(J57/AI57,0) -> 0.00076755008 | Z57: =IFERROR(K57/AJ57,0) -> 0.00081522443 | AB57: 623574.43 | AC57: 632831.78 | AD57: 649546.44 | AE57: 657367.06 | AF57: 698592.02 | AH57: 713309.78 | AI57: 741270.45 | AJ57: 764117.28
A58: Professional services | C58: 67957.59 | D58: 74479.18 | E58: 85384.875 | F58: 93441.308 | G58: 104789.58 | I58: 105839.35 | J58: 110048.47 | K58: 114614.62 | M58: =IFERROR(F58/E58-1,0) -> 0.094354332 | N58: =IFERROR((I58/$G58)^(1/5)-1,0) -> 0.0019956089 | O58: =IFERROR((J58/$G58)^(1/5)-1,0) -> 0.0098414312 | P58: =IFERROR((K58/$G58)^(1/5)-1,0) -> 0.018085814 | R58: =IFERROR(C58/AB58,0) -> 0.019338612 | S58: =IFERROR(D58/AC58,0) -> 0.021071356 | T58: =IFERROR(E58/AD58,0) -> 0.02379204 | U58: =IFERROR(F58/AE58,0) -> 0.025919817 | V58: =IFERROR(G58/AF58,0) -> 0.028276622 | X58: =IFERROR(I58/AH58,0) -> 0.027531607 | Y58: =IFERROR(J58/AI58,0) -> 0.027819695 | Z58: =IFERROR(K58/AJ58,0) -> 0.027494596 | AB58: 3514088.3 | AC58: 3534617.4 | AD58: 3588800 | AE58: 3605014.2 | AF58: 3705873.1 | AH58: 3844285.3 | AI58: 3955775.5 | AJ58: 4168623.5
A59: Public Administration | C59: 0 | D59: 0 | E59: 0 | F59: 0 | G59: 0 | I59: 0 | J59: 0 | K59: 0 | M59: =IFERROR(F59/E59-1,0) -> 0 | N59: =IFERROR((I59/$G59)^(1/5)-1,0) -> 0 | O59: =IFERROR((J59/$G59)^(1/5)-1,0) -> 0 | P59: =IFERROR((K59/$G59)^(1/5)-1,0) -> 0 | R59: =IFERROR(C59/AB59,0) -> 0 | S59: =IFERROR(D59/AC59,0) -> 0 | T59: =IFERROR(E59/AD59,0) -> 0 | U59: =IFERROR(F59/AE59,0) -> 0 | V59: =IFERROR(G59/AF59,0) -> 0 | X59: =IFERROR(I59/AH59,0) -> 0 | Y59: =IFERROR(J59/AI59,0) -> 0 | Z59: =IFERROR(K59/AJ59,0) -> 0 | AB59: 0 | AC59: 0 | AD59: 0 | AE59: 0 | AF59: 0 | AH59: 0 | AI59: 0 | AJ59: 0
A60: Retail and Wholesale | C60: 6055.106 | D60: 7553.4716 | E60: 9877.6988 | F60: 12022.461 | G60: 18939.588 | I60: 27985.182 | J60: 30595.796 | K60: 33477.901 | M60: =IFERROR(F60/E60-1,0) -> 0.21713179 | N60: =IFERROR((I60/$G60)^(1/5)-1,0) -> 0.081213662 | O60: =IFERROR((J60/$G60)^(1/5)-1,0) -> 0.10067284 | P60: =IFERROR((K60/$G60)^(1/5)-1,0) -> 0.12066947 | R60: =IFERROR(C60/AB60,0) -> 0.0022464651 | S60: =IFERROR(D60/AC60,0) -> 0.0027587767 | T60: =IFERROR(E60/AD60,0) -> 0.0035736524 | U60: =IFERROR(F60/AE60,0) -> 0.0042540527 | V60: =IFERROR(G60/AF60,0) -> 0.0064914251 | X60: =IFERROR(I60/AH60,0) -> 0.0093464876 | Y60: =IFERROR(J60/AI60,0) -> 0.0098613248 | Z60: =IFERROR(K60/AJ60,0) -> 0.010348893 | AB60: 2695392.9 | AC60: 2737978.6 | AD60: 2764034.6 | AE60: 2826119.5 | AF60: 2917631.7 | AH60: 2994192.4 | AI60: 3102605.1 | AJ60: 3234925.7
A61: Transport | C61: 117.37815 | D61: 157.33053 | E61: 219.9116 | F61: 288.76782 | G61: 413.20625 | I61: 612.59003 | J61: 670.04686 | K61: 735.44796 | M61: =IFERROR(F61/E61-1,0) -> 0.31310866 | N61: =IFERROR((I61/$G61)^(1/5)-1,0) -> 0.081933603 | O61: =IFERROR((J61/$G61)^(1/5)-1,0) -> 0.10150801 | P61: =IFERROR((K61/$G61)^(1/5)-1,0) -> 0.12221744 | R61: =IFERROR(C61/AB61,0) -> 0.00031919908 | S61: =IFERROR(D61/AC61,0) -> 0.00042839979 | T61: =IFERROR(E61/AD61,0) -> 0.00059387022 | U61: =IFERROR(F61/AE61,0) -> 0.00077194177 | V61: =IFERROR(G61/AF61,0) -> 0.0010858349 | X61: =IFERROR(I61/AH61,0) -> 0.0015654672 | Y61: =IFERROR(J61/AI61,0) -> 0.0016373088 | Z61: =IFERROR(K61/AJ61,0) -> 0.0017372264 | AB61: 367727.08 | AC61: 367251.64 | AD61: 370302.44 | AE61: 374079.8 | AF61: 380542.42 | AH61: 391314.51 | AI61: 409236.72 | AJ61: 423346.06
...

Sheet Ind. 3. DC Revenue 
A1: October 2023 Deliverable
A3: INDICATOR 3: MEASUREMENT OF DATA COMPANIES' REVENUES
