Workbook
Name DataMarket.Monetization.Industry: '[1]4.0 EDM Forecast Model'!$ID$79:$IV$95
Name DataMarket.Monetization.MS: '[1]4.0 EDM Forecast Model'!$ID$7:$IV$42
Name DataMarket.Spending.Industry: '[1]4.0 EDM Forecast Model'!$DW$61:$EO$76
Name DataMarket.Spending.MS: '[1]4.0 EDM Forecast Model'!$DW$7:$EO$42
Name DataMarket.Spending.SizeBand: '[1]4.0 EDM Forecast Model'!$DW$114:$EO$118
Name DataProfessionals.Industry: '[2]1.0 Data Professionals'!$DX$48:$EO$61
Name DataProfessionals.MS: '[2]1.0 Data Professionals'!$DX$7:$EO$43
Name DataProfessionals.Total.Industry: '[2]1.0 Data Professionals'!$FO$48:$FZ$63
Name DataProfessionals.Total.MS: '[2]1.0 Data Professionals'!$FO$7:$FZ$44
Name DataSuppliers.Industry: '[2]2.0 Data Companies'!$LR$74:$ME$89
Name DataSuppliers.MS: '[2]2.0 Data Companies'!$LR$9:$ME$44
Name DataSuppliers.SizeBand: '[2]2.0 Data Companies'!$LR$102:$ME$106
Name DataSuppliers.Total.Industry: '[2]2.0 Data Companies'!$HH$106:$HU$119
Name DataSuppliers.Total.MS: '[2]2.0 Data Companies'!$HH$9:$HU$43
Name DataSuppliers.Total.SizeBand: '[2]2.0 Data Companies'!$HH$222:$HU$225
Name DataUsers.Industry: '[2]2.0 Data Companies'!$FU$50:$GH$65
Name DataUsers.MS: '[2]2.0 Data Companies'!$FU$9:$GH$45
Name DataUsers.SizeBand: '[2]2.0 Data Companies'!$FU$94:$GH$98
Name DataUsers.Total.Industry: '[2]2.0 Data Companies'!$BR$50:$CM$64
Name DataUsers.Total.MS: '[2]2.0 Data Companies'!$BR$9:$CM$45
Name DataUsers.Total.SizeBand: '[2]2.0 Data Companies'!$BS$99:$CM$103
Name DC.Revenues.MS: '[1]3.0 Data Revenues Model'!$ER$6:$FH$41
Name DC.Revenues.SizeBand: '[1]3.0 Data Revenues Model'!$ES$50:$FH$54
Name DC.Turnover.MS: '[1]3.0 Data Revenues Model'!$JQ$7:$JW$41
Name ICT.Spending: "'[Data Market-Revenues-Internationals Sep 2023 v08.xlsx]ICT Spending - BlackBook Live'!$DM$8:$EE$43"

Sheet COVER
B9: European Data Market Update
B10: VIGIE 2020-0655
B12: D2.7 - Final Report on Facts and Figures
B14: STUDY DATASET
B19: DATE: 11st October 2023
B20: Version 2.0: 03.03.2025

Sheet ICT SPENDING
B3: ICT SPENDING 2023 October 2023
C7: 2020 | D7: 2021 | E7: 2022 | F7: 2023 | G7: 2025 | I7: 2030 Challenge Scenario | J7: 2030 Baseline Scenario | K7: 2030 High Growth Scenario | M7: Growth Rate - 2023/2022 | N7: CAGR 2030/2025 Challenge Scenario | O7: CAGR 2030/2025 Baseline Scenario | P7: CAGR 2030/2025 High Growth Scenario
A8: Member States | B8: Abbrev. | C8: EUR Million (Current) | D8: EUR Million (Current) | E8: EUR Million (Current) | F8: EUR Million (Current) | G8: EUR Million (Current) | I8: EUR Million (Current) | J8: EUR Million (Current) | K8: EUR Million (Current) | M8: Percent | N8: Percent | O8: Percent | P8: Percent
A9: Austria | B9: AT | C9: 12539.632 | D9: 13332.615 | E9: 14857.778 | F9: 15313.337 | G9: 17048.319 | I9: 18402.814 | J9: 20919.76 | K9: 23357.428 | M9: =F9/E9-1 -> 0.030661316 | N9: =IFERROR((I9/$G9)^(1/5)-1,0) -> 0.015407889 | O9: =IFERROR((J9/$G9)^(1/5)-1,0) -> 0.041777624 | P9: =IFERROR((K9/$G9)^(1/5)-1,0) -> 0.064997748
A10: Belgium | B10: BE | C10: 16249.807 | D10: 17454.521 | E10: 18939.576 | F10: 19572.14 | G10: 22009.949 | I10: 22655.751 | J10: 26413.744 | K10: 29586.088 | M10: =F10/E10-1 -> 0.033399023 | N10: =IFERROR((I10/$G10)^(1/5)-1,0) -> 0.0058005862 | O10: =IFERROR((J10/$G10)^(1/5)-1,0) -> 0.037151466 | P10: =IFERROR((K10/$G10)^(1/5)-1,0) -> 0.060947031
A11: Bulgaria | B11: BG | C11: 2447.0375 | D11: 2734.6793 | E11: 3149.9278 | F11: 3190.3484 | G11: 3382.9883 | I11: 3950.5751 | J11: 4475.7405 | K11: 5068.8573 | M11: =F11/E11-1 -> 0.012832243 | N11: =IFERROR((I11/$G11)^(1/5)-1,0) -> 0.031506491 | O11: =IFERROR((J11/$G11)^(1/5)-1,0) -> 0.057579148 | P11: =IFERROR((K11/$G11)^(1/5)-1,0) -> 0.084231232
A12: Croatia | B12: HR | C12: 2205.5809 | D12: 2505.3663 | E12: 3050.6741 | F12: 3120.4282 | G12: 3284.3755 | I12: 3631.4086 | J12: 4185.0337 | K12: 4746.6438 | M12: =F12/E12-1 -> 0.022865168 | N12: =IFERROR((I12/$G12)^(1/5)-1,0) -> 0.020291957 | O12: =IFERROR((J12/$G12)^(1/5)-1,0) -> 0.049661413 | P12: =IFERROR((K12/$G12)^(1/5)-1,0) -> 0.076432416
A13: Cyprus | B13: CY | C13: 895.93516 | D13: 1043.0023 | E13: 1075.2538 | F13: 1108.7844 | G13: 1207.2328 | I13: 1353.994 | J13: 1555.2165 | K13: 1731.6332 | M13: =F13/E13-1 -> 0.031183909 | N13: =IFERROR((I13/$G13)^(1/5)-1,0) -> 0.023210859 | O13: =IFERROR((J13/$G13)^(1/5)-1,0) -> 0.051961791 | P13: =IFERROR((K13/$G13)^(1/5)-1,0) -> 0.074813154
A14: Czechia | B14: CZ | C14: 8955.7691 | D14: 10246.737 | E14: 12156.367 | F14: 12399.746 | G14: 13708.622 | I14: 15887.187 | J14: 18121.632 | K14: 20567.79 | M14: =F14/E14-1 -> 0.020020732 | N14: =IFERROR((I14/$G14)^(1/5)-1,0) -> 0.029936958 | O14: =IFERROR((J14/$G14)^(1/5)-1,0) -> 0.057403394 | P14: =IFERROR((K14/$G14)^(1/5)-1,0) -> 0.084522994
A15: Denmark | B15: DK | C15: 15767.793 | D15: 17310.305 | E15: 19167.671 | F15: 19909.135 | G15: 22874.371 | I15: 25169.027 | J15: 28914.726 | K15: 32502.271 | M15: =F15/E15-1 -> 0.038683049 | N15: =IFERROR((I15/$G15)^(1/5)-1,0) -> 0.019303355 | O15: =IFERROR((J15/$G15)^(1/5)-1,0) -> 0.047982384 | P15: =IFERROR((K15/$G15)^(1/5)-1,0) -> 0.072785532
A16: Estonia | B16: EE | C16: 874.50018 | D16: 963.61876 | E16: 1070.7144 | F16: 1079.7281 | G16: 1149.0052 | I16: 1227.9447 | J16: 1407.7445 | K16: 1585.612 | M16: =F16/E16-1 -> 0.0084184457 | N16: =IFERROR((I16/$G16)^(1/5)-1,0) -> 0.013377742 | O16: =IFERROR((J16/$G16)^(1/5)-1,0) -> 0.041454657 | P16: =IFERROR((K16/$G16)^(1/5)-1,0) -> 0.066534678
A17: Finland | B17: FI | C17: 13225.151 | D17: 14329.446 | E17: 15553.318 | F17: 16231.397 | G17: 18694.85 | I17: 20529.048 | J17: 23563.969 | K17: 26525.504 | M17: =F17/E17-1 -> 0.043597082 | N17: =IFERROR((I17/$G17)^(1/5)-1,0) -> 0.01889485 | O17: =IFERROR((J17/$G17)^(1/5)-1,0) -> 0.047382445 | P17: =IFERROR((K17/$G17)^(1/5)-1,0) -> 0.072477851
A18: France | B18: FR | C18: 103805.82 | D18: 112223.17 | E18: 120693.06 | F18: 124419.55 | G18: 141024.19 | I18: 149848.8 | J18: 173366.99 | K18: 193264.1 | M18: =F18/E18-1 -> 0.030875759 | N18: =IFERROR((I18/$G18)^(1/5)-1,0) -> 0.01221305 | O18: =IFERROR((J18/$G18)^(1/5)-1,0) -> 0.042160382 | P18: =IFERROR((K18/$G18)^(1/5)-1,0) -> 0.06505372
A19: Germany | B19: DE | C19: 135483.11 | D19: 146773.56 | E19: 159619.27 | F19: 164986.8 | G19: 188406.81 | I19: 209066.58 | J19: 240965.08 | K19: 272706.19 | M19: =F19/E19-1 -> 0.033627061 | N19: =IFERROR((I19/$G19)^(1/5)-1,0) -> 0.021027887 | O19: =IFERROR((J19/$G19)^(1/5)-1,0) -> 0.050440615 | P19: =IFERROR((K19/$G19)^(1/5)-1,0) -> 0.076761902
A20: Greece | B20: EL | C20: 4501.2646 | D20: 5221.2755 | E20: 5355.6899 | F20: 5498.9892 | G20: 5915.0847 | I20: 5697.5518 | J20: 6537.9427 | K20: 7261.8386 | M20: =F20/E20-1 -> 0.026756448 | N20: =IFERROR((I20/$G20)^(1/5)-1,0) -> -0.0074658421 | O20: =IFERROR((J20/$G20)^(1/5)-1,0) -> 0.020225154 | P20: =IFERROR((K20/$G20)^(1/5)-1,0) -> 0.041878617
... A38: EEA (NO, LI, IS) | B38: RoEEA | C38: 13592.732 | D38: 15201.666 | E38: 16654.438 | F38: 17576.962 | G38: 20071.982 | I38: 22716.067 | J38: 25408.899 | K38: 28097.739 | M38: =F38/E38-1 -> 0.055392071 | N38: =IFERROR((I38/$G38)^(1/5)-1,0) -> 0.025058324 | O38: =IFERROR((J38/$G38)^(1/5)-1,0) -> 0.048284386 | P38: =IFERROR((K38/$G38)^(1/5)-1,0) -> 0.069587262
A39: Total EU27 | B39: EU27 | C39: =SUM(C9:C35) -> 531180.54 | D39: =SUM(D9:D35) -> 575292.81 | E39: =SUM(E9:E35) -> 622334.64 | F39: =SUM(F9:F35) -> 640352.43 | G39: =SUM(G9:G35) -> 721345.54 | I39: =SUM(I9:I35) -> 776783.46 | J39: =SUM(J9:J35) -> 893965.27 | K39: =SUM(K9:K35) -> 1005539.4 | M39: =F39/E39-1 -> 0.028951933 | N39: =IFERROR((I39/$G39)^(1/5)-1,0) -> 0.01491886 | O39: =IFERROR((J39/$G39)^(1/5)-1,0) -> 0.043843662 | P39: =IFERROR((K39/$G39)^(1/5)-1,0) -> 0.068688528
A40: Total EU27 + U.K. | B40: EU27 + UK | C40: =SUM(C37,C39) -> 675417.59 | D40: =SUM(D37,D39) -> 732160 | E40: =SUM(E37,E39) -> 793135.6 | F40: =SUM(F37,F39) -> 817896.33 | G40: =SUM(G37,G39) -> 920656.33 | I40: =SUM(I37,I39) -> 993019.72 | J40: =SUM(J37,J39) -> 1144478.5 | K40: =SUM(K37,K39) -> 1284684.3 | M40: =F40/E40-1 -> 0.031218776 | N40: =IFERROR((I40/$G40)^(1/5)-1,0) -> 0.015247821 | O40: =IFERROR((J40/$G40)^(1/5)-1,0) -> 0.044484553 | P40: =IFERROR((K40/$G40)^(1/5)-1,0) -> 0.068906644
A41: Total All Countries | C41: =SUM(C9:C38) -> 719233.73 | D41: =SUM(D9:D38) -> 778304.48 | E41: =SUM(E9:E38) -> 846113.53 | F41: =SUM(F9:F38) -> 873051.27 | G41: =SUM(G9:G38) -> 983539.43 | I41: =SUM(I9:I38) -> 1061162.6 | J41: =SUM(J9:J38) -> 1221478.9 | K41: =SUM(K9:K38) -> 1370341.4 | M41: =F41/E41-1 -> 0.03183703 | N41: =IFERROR((I41/$G41)^(1/5)-1,0) -> 0.015308519 | O41: =IFERROR((J41/$G41)^(1/5)-1,0) -> 0.044284516 | P41: =IFERROR((K41/$G41)^(1/5)-1,0) -> 0.06858088
A42: Source: European Data Market Monitoring Tool, IDC 2023

Sheet GDP
B2: Gross domestic product at market prices (October 2023) Chain linked volumes (2010), million euro
A5: Member States | B5: 2014 | C5: 2015 | D5: 2016 | E5: 2017 | F5: 2018 | G5: 2019 | H5: 2020 | I5: 2021 | J5: 2022 | K5: 2023 | L5: 2025 | N5: 2030 Challenge Scenario | O5: 2030 Baseline Scenario | P5: 2030 High Growth Scenario | R5: Growth Rate 2023/2022 | S5: CAGR 2030/2025 Challenge Scenario | T5: CAGR 2030/2025 Baseline Scenario | U5: CAGR 2030/2025 High Growth Scenario
B6: EUR Million (Current) | C6: EUR Million (Current) | D6: EUR Million (Current) | E6: EUR Million (Current) | F6: EUR Million (Current) | G6: EUR Million (Current) | H6: EUR Million (Current) | I6: EUR Million (Current) | J6: EUR Million (Current) | K6: EUR Million (Current) | L6: EUR Million (Current) | N6: Euro (M) | O6: Euro (M) | P6: Euro (M) | R6: Percentage | S6: Percentage | T6: Percentage | U6: Percentage
A7: Austria | B7: 308723.7 | C7: 311855.7 | D7: 318350.4 | E7: 326234.2 | F7: 334128.3 | G7: 339474.35 | H7: 318033.15 | I7: 332525.92 | J7: 348650.11 | K7: 348981.32 | L7: 357586.96 | N7: 372437.42 | O7: 387777.21 | P7: 406847.78 | R7: =K7/J7-1 -> 0.00095 | S7: =IFERROR((N7/$L7)^(1/5)-1,0) -> 0.0081712887 | T7: =IFERROR((O7/$L7)^(1/5)-1,0) -> 0.016342577 | U7: =IFERROR((P7/$L7)^(1/5)-1,0) -> 0.026148124
A8: Belgium | B8: 379631.3 | C8: 387348.4 | D8: 393201.7 | E8: 400924.9 | F8: 406772 | G8: 411653.26 | H8: 385784.97 | I8: 410035.42 | J8: 423353.37 | K8: 427591.13 | L8: 436508.2 | N8: 450693.31 | O8: 465244.82 | P8: 483200.21 | R8: =K8/J8-1 -> 0.01001 | S8: =IFERROR((N8/$L8)^(1/5)-1,0) -> 0.0064164805 | T8: =IFERROR((O8/$L8)^(1/5)-1,0) -> 0.012832961 | U8: =IFERROR((P8/$L8)^(1/5)-1,0) -> 0.020532738
A9: Bulgaria | B9: 39946.2 | C9: 41539.9 | D9: 43123.2 | E9: 44635.4 | F9: 46012 | G9: 47714.444 | H9: 45886.504 | I9: 49389.938 | J9: 51049.934 | K9: 51898.894 | L9: 55145.601 | N9: 59193.879 | O9: 63476.491 | P9: 68939.086 | R9: =K9/J9-1 -> 0.01663 | S9: =IFERROR((N9/$L9)^(1/5)-1,0) -> 0.014269077 | T9: =IFERROR((O9/$L9)^(1/5)-1,0) -> 0.028538154 | U9: =IFERROR((P9/$L9)^(1/5)-1,0) -> 0.045661047
A10: Croatia | B10: 43679.1 | C10: 44743.6 | D10: 46302.2 | E10: 47755.8 | F10: 49042.7 | G10: 50513.981 | H10: 46458.213 | I10: 52537.735 | J10: 55805.057 | K10: 57311.794 | L10: 60389.552 | N10: 64908.633 | O10: 69694.292 | P10: 75805.355 | R10: =K10/J10-1 -> 0.027 | S10: =IFERROR((N10/$L10)^(1/5)-1,0) -> 0.014537563 | T10: =IFERROR((O10/$L10)^(1/5)-1,0) -> 0.029075127 | U10: =IFERROR((P10/$L10)^(1/5)-1,0) -> 0.046520202
A11: Cyprus | B11: 17255.4 | C11: 17837.8 | D11: 19041.2 | E11: 19871.6 | F11: 20678.4 | G11: 21319.43 | H11: 20232.139 | I11: 21567.461 | J11: 22775.238 | K11: 23276.294 | L11: 24621.896 | N11: 26482.887 | O11: 28454.742 | P11: 30974.191 | R11: =K11/J11-1 -> 0.022 | S11: =IFERROR((N11/$L11)^(1/5)-1,0) -> 0.014679222 | T11: =IFERROR((O11/$L11)^(1/5)-1,0) -> 0.029358445 | U11: =IFERROR((P11/$L11)^(1/5)-1,0) -> 0.046973511
A12: Czech Republic | B12: 161738.6 | C12: 170325.7 | D12: 174499.6 | E12: 182094.9 | F12: 187277.4 | G12: 191959.33 | H12: 180814.18 | I12: 187238.5 | J12: 191623.63 | K12: 191974.3 | L12: 202134.04 | N12: 213418.74 | O12: 227889.71 | P12: 244560.64 | R12: =K12/J12-1 -> 0.00183 | S12: =IFERROR((N12/$L12)^(1/5)-1,0) -> 0.010924262 | T12: =IFERROR((O12/$L12)^(1/5)-1,0) -> 0.024276137 | U12: =IFERROR((P12/$L12)^(1/5)-1,0) -> 0.038841819
A13: Denmark | B13: 253316 | C13: 259250.2 | D13: 267665.3 | E13: 273115.4 | F13: 279646.5 | G13: 284400.49 | H13: 278536.15 | I13: 297601.95 | J13: 305729.46 | K13: 310926.86 | L13: 319063.2 | N13: 329539.18 | O13: 342714.96 | P13: 357565.72 | R13: =K13/J13-1 -> 0.017 | S13: =IFERROR((N13/$L13)^(1/5)-1,0) -> 0.0064821329 | T13: =IFERROR((O13/$L13)^(1/5)-1,0) -> 0.01440474 | U13: =IFERROR((P13/$L13)^(1/5)-1,0) -> 0.023047584
A14: Estonia | B14: 17186 | C14: 17503 | D14: 17963.6 | E14: 18996.3 | F14: 19900.8 | G14: 20537.626 | H14: 19991.119 | I14: 21440.276 | J14: 21341.436 | K14: 20857.199 | L14: 21920.317 | N14: 23348.463 | O14: 25194.05 | P14: 27338.647 | R14: =K14/J14-1 -> -0.02269 | S14: =IFERROR((N14/$L14)^(1/5)-1,0) -> 0.012703454 | T14: =IFERROR((O14/$L14)^(1/5)-1,0) -> 0.028229898 | U14: =IFERROR((P14/$L14)^(1/5)-1,0) -> 0.045167837
A15: Finland | B15: 187836 | C15: 188889 | D15: 193853 | E15: 199768 | F15: 203107 | G15: 205544.28 | H15: 199589.67 | I15: 205916.66 | J15: 209221.62 | K15: 208951.72 | L15: 213983.51 | N15: 222764.51 | O15: 231831.45 | P15: 243098.96 | R15: =K15/J15-1 -> -0.00129 | S15: =IFERROR((N15/$L15)^(1/5)-1,0) -> 0.0080756873 | T15: =IFERROR((O15/$L15)^(1/5)-1,0) -> 0.016151375 | U15: =IFERROR((P15/$L15)^(1/5)-1,0) -> 0.025842199
A16: France | B16: 2076883.7 | C16: 2099997.6 | D16: 2123002.3 | E16: 2170986.5 | F16: 2208433.4 | G16: 2234934.6 | H16: 2056408 | I16: 2187401.2 | J16: 2242567.5 | K16: 2263894.3 | L16: 2335917.3 | N16: 2418461.2 | O16: 2522499.8 | P16: 2640048.5 | R16: =K16/J16-1 -> 0.00951 | S16: =IFERROR((N16/$L16)^(1/5)-1,0) -> 0.0069695389 | T16: =IFERROR((O16/$L16)^(1/5)-1,0) -> 0.015487864 | U16: =IFERROR((P16/$L16)^(1/5)-1,0) -> 0.024780583
A17: Germany | B17: 2747491.6 | C17: 2795291 | D17: 2857626 | E17: 2928067.4 | F17: 2972792 | G17: 2987656 | H17: 2840424.3 | I17: 2930437.3 | J17: 2983302.4 | K17: 2967341.7 | L17: 3054173.2 | N17: 3148972.4 | O17: 3268019.7 | P17: 3401967.7 | R17: =K17/J17-1 -> -0.00535 | S17: =IFERROR((N17/$L17)^(1/5)-1,0) -> 0.0061321821 | T17: =IFERROR((O17/$L17)^(1/5)-1,0) -> 0.013627071 | U17: =IFERROR((P17/$L17)^(1/5)-1,0) -> 0.021803314
A18: Greece | B18: 185586.1 | C18: 184773.5 | D18: 184420.7 | E18: 187196.4 | F18: 190817.5 | G18: 194633.85 | H18: 179425.16 | I18: 194557.88 | J18: 206064.03 | K18: 211137.33 | L18: 218358.21 | N18: 226449.74 | O18: 234779.39 | P18: 245096.62 | R18: =K18/J18-1 -> 0.02462 | S18: =IFERROR((N18/$L18)^(1/5)-1,0) -> 0.0073037735 | T18: =IFERROR((O18/$L18)^(1/5)-1,0) -> 0.014607547 | U18: =IFERROR((P18/$L18)^(1/5)-1,0) -> 0.023372075
... A36: EEA (NO, LI, IS) | B36: 389419.9 | C36: 363427.4 | D36: 352275.5 | E36: 375234.1 | F36: 392537.9 | G36: 384443.4 | H36: 378280.33 | I36: 393152.32 | J36: 406895.2 | K36: 416429.58 | L36: 428157.87 | N36: 443437.78 | O36: 459168.9 | P36: 478656.73 | R36: =K36/J36-1 -> 0.023432039 | S36: =IFERROR((N36/$L36)^(1/5)-1,0) -> 0.0070377529 | T36: =IFERROR((O36/$L36)^(1/5)-1,0) -> 0.014083477 | U36: =IFERROR((P36/$L36)^(1/5)-1,0) -> 0.022548807
A37: Total EU27 | B37: =SUM(B7:B33) -> 11265523 | C37: =SUM(C7:C33) -> 11530746 | D37: =SUM(D7:D33) -> 11768343 | E37: =SUM(E7:E33) -> 12088767 | F37: =SUM(F7:F33) -> 12346465 | G37: =SUM(G7:G33) -> 12515078 | H37: =SUM(H7:H33) -> 11748729 | I37: =SUM(I7:I33) -> 12433246 | ... L37: =SUM(L7:L33) -> 13379167 | N37: =SUM(N7:N33) -> 13930288 | O37: =SUM(O7:O33) -> 14571050 | P37: =SUM(P7:P33) -> 15330498 | R37: =K37/J37-1 -> 0.0066330335 | S37: =IFERROR((N37/$L37)^(1/5)-1,0) -> 0.0081060111 | T37: =IFERROR((O37/$L37)^(1/5)-1,0) -> 0.017214062 | U37: =IFERROR((P37/$L37)^(1/5)-1,0) -> 0.027603173
A38: Total EU27 + U.K. | B38: =B37+B35 -> 13282137 | C38: =C37+C35 -> 13594861 | D38: =D37+D35 -> 13872052 | E38: =E37+E35 -> 14232279 | F38: =F37+F35 -> 14518716 | G38: =G37+G35 -> 14713396 | H38: =H37+H35 -> 13730579 | I38: =I37+I35 -> 14565656 | ... L38: =L37+L35 -> 15668404 | N38: =N37+N35 -> 16311666 | O38: =O37+O35 -> 17069049 | P38: =P37+P35 -> 17960885 | R38: =K38/J38-1 -> 0.0063632995 | S38: =IFERROR((N38/$L38)^(1/5)-1,0) -> 0.0080793394 | T38: =IFERROR((O38/$L38)^(1/5)-1,0) -> 0.017271593 | U38: =IFERROR((P38/$L38)^(1/5)-1,0) -> 0.027686375
A39: Total All Countries | B39: =SUM(B7:B36) -> 14225499 | C39: =SUM(C7:C36) -> 14591059 | D39: =SUM(D7:D36) -> 14853057 | E39: =SUM(E7:E36) -> 15231507 | F39: =SUM(F7:F36) -> 15534000 | G39: =SUM(G7:G36) -> 15751572 | H39: =SUM(H7:H36) -> 14746209 | I39: =SUM(I7:I36) -> 15630531 | ... L39: =SUM(L7:L36) -> 16813168 | N39: =SUM(N7:N36) -> 17500835 | O39: =SUM(O7:O36) -> 18304013 | P39: =SUM(P7:P36) -> 19252685 | R39: =K39/J39-1 -> 0.0068903632 | S39: =IFERROR((N39/$L39)^(1/5)-1,0) -> 0.0080494602 | T39: =IFERROR((O39/$L39)^(1/5)-1,0) -> 0.017136762 | U39: =IFERROR((P39/$L39)^(1/5)-1,0) -> 0.027468104
A40: Source: European Data Market Monitoring Tool, IDC 2023
A41: Data Sources: IDC estimates on Eurostat Labour Force Survey by Occupation and NACE II Industry Code 2023

Sheet Ind.1 DATA PROFESSIONALS
A1: October 2023 Deliverable
A3: INDICATOR 1: MEASUREMENT OF DATA PROFESSIONALS
A6: INDICATOR 1: MEASUREMENT OF DATA PROFESSIONALS
A7: Indicator 1.1 - Number of Data Professionals by Member State: 2020-2023, 2025, 2030 3 Scenarios
A8: Indicator 1.2 - Employment Share of Data Professionals by Member State: 2020-2023, 2025, 2030 3 Scenarios
R9: Total Employment | W9: % on Total Employment
C10: 2020 | D10: 2021 | E10: 2022 | F10: 2023 | G10: 2025 | I10: 2030 Challenge Scenario | J10: 2030 Baseline Scenario | K10: 2030 High Growth Scenario | M10: Growth Rate 2023/2022 | N10: CAGR 2030/2025 Challenge Scenario | O10: CAGR 2030/2025 Baseline Scenario | P10: CAGR 2030/2025 High Growth Scenario | R10: {=$C$10:$F$10} -> 2020 | S10: 2021 | T10: 2022 | U10: 2023 | W10: {=$C$10:$F$10} -> 2020 | X10: 2021 | Y10: 2022 | Z10: 2023
A11: Member States | B11: Abbrev. | C11: 000s | D11: 000s | E11: 000s | F11: 000s | G11: 000s | I11: 000s | J11: 000s | K11: 000s | M11: Percent | N11: Percent | O11: Percent | P11: Percent | R11: 000s | S11: 000s | T11: 000s | U11: 000s | W11: Percent | X11: Percent | Y11: Percent | Z11: Percent
A12: Austria | B12: AT | C12: 134.28768 | D12: 137.76736 | E12: 139.87624 | F12: 143.31099 | G12: 150.45735 | I12: 170.48583 | J12: 172.74323 | K12: 194.8199 | M12: =F12/E12-1 -> 0.024555628 | N12: =IFERROR((I12/$G12)^(1/5)-1,0) -> 0.025309482 | O12: =IFERROR((J12/$G12)^(1/5)-1,0) -> 0.028010436 | P12: =IFERROR((K12/$G12)^(1/5)-1,0) -> 0.053037841 | R12: 3847.7042 | S12: 3813.301 | T12: 3955.232 | U12: 3957.477 | W12: =IFERROR(C12/R12,0) -> 0.034900729 | X12: =IFERROR(D12/S12,0) -> 0.036128111 | Y12: =IFERROR(E12/T12,0) -> 0.035364864 | Z12: =IFERROR(F12/U12,0) -> 0.036212716
A13: Belgium | B13: BE | C13: 135.48531 | D13: 137.57958 | E13: 138.48077 | F13: 140.7895 | G13: 147.55068 | I13: 149.6437 | J13: 168.49871 | K13: 194.62745 | M13: =F13/E13-1 -> 0.016671831 | N13: =IFERROR((I13/$G13)^(1/5)-1,0) -> 0.0028210593 | O13: =IFERROR((J13/$G13)^(1/5)-1,0) -> 0.026906899 | P13: =IFERROR((K13/$G13)^(1/5)-1,0) -> 0.056945456 | R13: 4398.5858 | S13: 4412.149 | T13: 4486.277 | U13: 4521.9143 | W13: =IFERROR(C13/R13,0) -> 0.030802016 | X13: =IFERROR(D13/S13,0) -> 0.031181989 | Y13: =IFERROR(E13/T13,0) -> 0.030867638 | Z13: =IFERROR(F13/U13,0) -> 0.031134933
A14: Bulgaria | B14: BG | C14: 85.79796 | D14: 90.928096 | E14: 95.410723 | F14: 99.607253 | G14: 107.3443 | I14: 108.89393 | J14: 124.53102 | K14: 144.38405 | M14: =F14/E14-1 -> 0.043983835 | N14: =IFERROR((I14/$G14)^(1/5)-1,0) -> 0.0028706957 | O14: =IFERROR((J14/$G14)^(1/5)-1,0) -> 0.030148212 | P14: =IFERROR((K14/$G14)^(1/5)-1,0) -> 0.061079802 | R14: 2940.5276 | S14: 2744.396 | T14: 2827.493 | U14: 2793.3055 | W14: =IFERROR(C14/R14,0) -> 0.029177744 | X14: =IFERROR(D14/S14,0) -> 0.03313228 | Y14: =IFERROR(E14/T14,0) -> 0.033743929 | Z14: =IFERROR(F14/U14,0) -> 0.035659277
A15: Croatia | B15: HR | C15: 45.280732 | D15: 49.079132 | E15: 51.179025 | F15: 53.170733 | G15: 56.944707 | I15: 57.034496 | J15: 65.851136 | K15: 75.199024 | M15: =F15/E15-1 -> 0.038916488 | N15: =IFERROR((I15/$G15)^(1/5)-1,0) -> 0.00031515387 | O15: =IFERROR((J15/$G15)^(1/5)-1,0) -> 0.029489643 | P15: =IFERROR((K15/$G15)^(1/5)-1,0) -> 0.057186886 | R15: 1494.2959 | S15: 1486.72 | T15: 1495.576 | U15: 1515.755 | W15: =IFERROR(C15/R15,0) -> 0.030302388 | X15: =IFERROR(D15/S15,0) -> 0.033011684 | Y15: =IFERROR(E15/T15,0) -> 0.034220277 | Z15: =IFERROR(F15/U15,0) -> 0.035078712
A16: Cyprus | B16: CY | C16: 13.794616 | D16: 15.868498 | E16: 17.474503 | F16: 18.664514 | G16: 20.786439 | I16: 23.5579 | J16: 25.361153 | K16: 26.516816 | M16: =F16/E16-1 -> 0.068099799 | N16: =IFERROR((I16/$G16)^(1/5)-1,0) -> 0.025348021 | O16: =IFERROR((J16/$G16)^(1/5)-1,0) -> 0.040585529 | P16: =IFERROR((K16/$G16)^(1/5)-1,0) -> 0.049900774 | R16: 341.64331 | S16: 352.412 | T16: 363.759 | U16: 379.439 | W16: =IFERROR(C16/R16,0) -> 0.040377246 | X16: =IFERROR(D16/S16,0) -> 0.045028258 | Y16: =IFERROR(E16/T16,0) -> 0.048038684 | Z16: =IFERROR(F16/U16,0) -> 0.049189761
A17: Czechia | B17: CZ | C17: 176.63894 | D17: 194.49452 | E17: 210.63294 | F17: 222.56884 | G17: 243.52544 | I17: 297.65049 | J17: 299.50332 | K17: 361.02363 | M17: =F17/E17-1 -> 0.056666838 | N17: =IFERROR((I17/$G17)^(1/5)-1,0) -> 0.040956187 | O17: =IFERROR((J17/$G17)^(1/5)-1,0) -> 0.042248936 | P17: =IFERROR((K17/$G17)^(1/5)-1,0) -> 0.081927745 | R17: 4894.375 | S17: 4796.142 | T17: 4740.067 | U17: 4761.3867 | W17: =IFERROR(C17/R17,0) -> 0.036090194 | X17: =IFERROR(D17/S17,0) -> 0.040552285 | Y17: =IFERROR(E17/T17,0) -> 0.0444367 | Z17: =IFERROR(F17/U17,0) -> 0.046744542
A18: Denmark | B18: DK | C18: 105.20726 | D18: 112.78793 | E18: 120.14955 | F18: 127.23741 | G18: 140.58615 | I18: 155.2674 | J18: 169.8228 | K18: 202.22356 | M18: =F18/E18-1 -> 0.058992007 | N18: =IFERROR((I18/$G18)^(1/5)-1,0) -> 0.020064302 | O18: =IFERROR((J18/$G18)^(1/5)-1,0) -> 0.038510022 | P18: =IFERROR((K18/$G18)^(1/5)-1,0) -> 0.075419342 | R18: 2543.9802 | S18: 2525.27 | T18: 2597.972 | U18: 2599.1393 | W18: =IFERROR(C18/R18,0) -> 0.041355377 | X18: =IFERROR(D18/S18,0) -> 0.044663711 | Y18: =IFERROR(E18/T18,0) -> 0.046247437 | Z18: =IFERROR(F18/U18,0) -> 0.048953672
A19: Estonia | B19: EE | C19: 28.165337 | D19: 30.468009 | E19: 33.132132 | F19: 35.36235 | G19: 39.549036 | I19: 43.767941 | J19: 48.489386 | K19: 65.797915 | M19: =F19/E19-1 -> 0.067312847 | N19: =IFERROR((I19/$G19)^(1/5)-1,0) -> 0.020478931 | O19: =IFERROR((J19/$G19)^(1/5)-1,0) -> 0.041602842 | P19: =IFERROR((K19/$G19)^(1/5)-1,0) -> 0.10717239 | R19: 587.02228 | S19: 566.42 | T19: 597.47 | U19: 590.84333 | W19: =IFERROR(C19/R19,0) -> 0.047980014 | X19: =IFERROR(D19/S19,0) -> 0.053790489 | Y19: =IFERROR(E19/T19,0) -> 0.055454052 | Z19: =IFERROR(F19/U19,0) -> 0.059850638
A20: Finland | B20: FI | C20: 92.815269 | D20: 103.55064 | E20: 110.14625 | F20: 116.25708 | G20: 127.29769 | I20: 153.55909 | J20: 153.78119 | K20: 192.77725 | M20: =F20/E20-1 -> 0.0554793 | N20: =IFERROR((I20/$G20)^(1/5)-1,0) -> 0.038223847 | O20: =IFERROR((J20/$G20)^(1/5)-1,0) -> 0.038524006 | P20: =IFERROR((K20/$G20)^(1/5)-1,0) -> 0.086543332 | R20: 2268.1337 | S20: 2232.924 | T20: 2273.173 | U20: 2278.498 | W20: =IFERROR(C20/R20,0) -> 0.040921427 | X20: =IFERROR(D20/S20,0) -> 0.046374457 | Y20: =IFERROR(E20/T20,0) -> 0.048454845 | Z20: =IFERROR(F20/U20,0) -> 0.051023561
A21: France | B21: FR | C21: 985.71605 | D21: 1059.756 | E21: 1114.2393 | F21: 1157.2115 | G21: 1243.1366 | I21: 1465.6384 | J21: 1486.9994 | K21: 1727.3377 | M21: =F21/E21-1 -> 0.038566357 | N21: =IFERROR((I21/$G21)^(1/5)-1,0) -> 0.03347886 | O21: =IFERROR((J21/$G21)^(1/5)-1,0) -> 0.03647394 | P21: =IFERROR((K21/$G21)^(1/5)-1,0) -> 0.068001047 | R21: 23980.768 | S21: 23485.839 | T21: 24448.085 | U21: 24271.879 | W21: =IFERROR(C21/R21,0) -> 0.04110444 | X21: =IFERROR(D21/S21,0) -> 0.045123193 | Y21: =IFERROR(E21/T21,0) -> 0.045575729 | Z21: =IFERROR(F21/U21,0) -> 0.047677044
A22: Germany | B22: DE | C22: 1589.3751 | D22: 1716.6426 | E22: 1829.9515 | F22: 1938.5252 | G22: 2141.118 | I22: 2535.9884 | J22: 2573.4929 | K22: 3090.9563 | M22: =F22/E22-1 -> 0.059331479 | N22: =IFERROR((I22/$G22)^(1/5)-1,0) -> 0.034430531 | O22: =IFERROR((J22/$G22)^(1/5)-1,0) -> 0.037472216 | P22: =IFERROR((K22/$G22)^(1/5)-1,0) -> 0.076193714 | R22: 39053.019 | S22: 36903.846 | T22: 38113.151 | U22: 37042.504 | W22: =IFERROR(C22/R22,0) -> 0.040697881 | X22: =IFERROR(D22/S22,0) -> 0.046516631 | Y22: =IFERROR(E22/T22,0) -> 0.048013649 | Z22: =IFERROR(F22/U22,0) -> 0.052332455
A23: Greece | B23: EL | C23: 69.267459 | D23: 72.319088 | E23: 73.396849 | F23: 75.327903 | G23: 79.109778 | I23: 80.162694 | J23: 88.139301 | K23: 101.82301 | M23: =F23/E23-1 -> 0.02630976 | N23: =IFERROR((I23/$G23)^(1/5)-1,0) -> 0.0026478509 | O23: =IFERROR((J23/$G23)^(1/5)-1,0) -> 0.021851735 | P23: =IFERROR((K23/$G23)^(1/5)-1,0) -> 0.051775742 | R23: 3414.0851 | S23: 3421.815 | T23: 3492.379 | U23: 3475.6879 | W23: =IFERROR(C23/R23,0) -> 0.020288733 | X23: =IFERROR(D23/S23,0) -> 0.021134716 | Y23: =IFERROR(E23/T23,0) -> 0.02101629 | Z23: =IFERROR(F23/U23,0) -> 0.021672804
... A41: EEA (NO, LI, IS) | B41: RoEEA | C41: 141.23089 | D41: 154.95205 | E41: 165.14063 | F41: 173.39688 | G41: 185.67056 | I41: 190.32904 | J41: 204.68322 | K41: 269.64991 | M41: =F41/E41-1 -> 0.0499953 | N41: =IFERROR((I41/$G41)^(1/5)-1,0) -> 0.0049683862 | O41: =IFERROR((J41/$G41)^(1/5)-1,0) -> 0.019689246 | P41: =IFERROR((K41/$G41)^(1/5)-1,0) -> 0.077485526 | R41: 2523.6327 | S41: 2579.612 | T41: 2617.389 | U41: 2631.3651 | W41: =IFERROR(C41/R41,0) -> 0.055963329 | X41: =IFERROR(D41/S41,0) -> 0.060067966 | Y41: =IFERROR(E41/T41,0) -> 0.063093651 | Z41: =IFERROR(F41/U41,0) -> 0.065896171
A42: Total EU27 | B42: EU27 | C42: =SUM(C12:C38) -> 6501.8557 | D42: =SUM(D12:D38) -> 6957.4761 | E42: =SUM(E12:E38) -> 7319.1984 | F42: =SUM(F12:F38) -> 7660.4706 | G42: =SUM(G12:G38) -> 8317.1061 | I42: =SUM(I12:I38) -> 9287.3361 | J42: =SUM(J12:J38) -> 9884.8533 | K42: =SUM(K12:K38) -> 11638.017 | M42: =F42/E42-1 -> 0.046626982 | N42: =IFERROR((I42/$G42)^(1/5)-1,0) -> 0.022312767 | O42: =IFERROR((J42/$G42)^(1/5)-1,0) -> 0.035141207 | P42: =IFERROR((K42/$G42)^(1/5)-1,0) -> 0.069501384 | R42: =SUM(R12:R38) -> 178230.33 | S42: =SUM(S12:S38) -> 174259.65 | T42: =SUM(T12:T38) -> 178413.43 | U42: =SUM(U12:U38) -> 177144.41 | W42: =IFERROR(C42/R42,0) -> 0.036480075 | X42: =IFERROR(D42/S42,0) -> 0.039925915 | Y42: =IFERROR(E42/T42,0) -> 0.041023808 | Z42: =IFERROR(F42/U42,0) -> 0.043244213
A43: Total EU27 + U.K. | B43: EU27 + UK | C43: =SUM(C40,C42) -> 8297.1406 | D43: =SUM(D40,D42) -> 8843.6472 | E43: =SUM(E40,E42) -> 9287.8826 | F43: =SUM(F40,F42) -> 9712.2868 | G43: =SUM(G40,G42) -> 10525.785 | I43: =SUM(I40,I42) -> 11885.547 | J43: =SUM(J40,J42) -> 12496.324 | K43: =SUM(K40,K42) -> 14526.602 | M43: =F43/E43-1 -> 0.045694387 | N43: =IFERROR((I43/$G43)^(1/5)-1,0) -> 0.024596657 | O43: =IFERROR((J43/$G43)^(1/5)-1,0) -> 0.034917088 | P43: =IFERROR((K43/$G43)^(1/5)-1,0) -> 0.066551692 | R43: =SUM(R40,R42) -> 207032.21 | S43: =SUM(S40,S42) -> 203385.15 | T43: =SUM(T40,T42) -> 207858.61 | U43: =SUM(U40,U42) -> 206949.04 | W43: =IFERROR(C43/R43,0) -> 0.040076568 | X43: =IFERROR(D43/S43,0) -> 0.043482266 | Y43: =IFERROR(E43/T43,0) -> 0.044683656 | Z43: =IFERROR(F43/U43,0) -> 0.046930814
A44: Total All Countries | C44: =SUM(C12:C41) -> 8621.9905 | D44: =SUM(D12:D41) -> 9200.6519 | E44: =SUM(E12:E41) -> 9669.9006 | F44: =SUM(F12:F41) -> 10115.883 | G44: =SUM(G12:G41) -> 10964.847 | I44: =SUM(I12:I41) -> 12345.072 | J44: =SUM(J12:J41) -> 12999.637 | K44: =SUM(K12:K41) -> 15137.746 | M44: =F44/E44-1 -> 0.046120704 | N44: =IFERROR((I44/$G44)^(1/5)-1,0) -> 0.023995896 | O44: =IFERROR((J44/$G44)^(1/5)-1,0) -> 0.034631584 | P44: =IFERROR((K44/$G44)^(1/5)-1,0) -> 0.066624938 | R44: =SUM(R12:R41) -> 213687.26 | S44: =SUM(S12:S41) -> 209606.19 | T44: =SUM(T12:T41) -> 214479.96 | U44: =SUM(U12:U41) -> 213613.84 | W44: =IFERROR(C44/R44,0) -> 0.040348642 | X44: =IFERROR(D44/S44,0) -> 0.043894944 | Y44: =IFERROR(E44/T44,0) -> 0.045085334 | Z44: =IFERROR(F44/U44,0) -> 0.047355936
A45: Source: European Data Market Monitoring Tool, IDC 2023
A46: Data Sources: IDC estimates on Eurostat Labour Force Survey by Occupation and NACE II Industry Code 2023
A49: Indicator 1.1 - Number of Data Professionals by Industry : 2020-2023, 2025, 2030 3 Scenarios
A50: Indicator 1.2 - Employment Share of Data Professionals by Industry: 2020-2023, 2025, 2030 3 Scenarios
A51: Thousands; % | R51: Total Employment | W51: % on Total Employment
C52: {=$C$10:$F$10} -> 2020 | D52: 2021 | E52: 2022 | F52: 2023 | G52: 2025 | I52: 2030 Challenge Scenario | J52: 2030 Baseline Scenario | K52: 2030 High Growth Scenario | M52: Growth Rate 2023/2022 | N52: CAGR 2030/2025 Challenge Scenario | O52: CAGR 2030/2025 Baseline Scenario | P52: CAGR 2030/2025 High Growth Scenario | R52: {=$C$10:$F$10} -> 2020 | S52: 2021 | T52: 2022 | U52: 2023 | W52: {=$C$10:$F$10} -> 2020 | X52: 2021 | Y52: 2022 | Z52: 2023
A53: Member States | B53: Abbrev. | C53: 000s | D53: 000s | E53: 000s | F53: 000s | G53: 000s | I53: 000s | J53: 000s | K53: 000s | M53: Percent | N53: Percent | O53: Percent | P53: Percent | R53: 000s | S53: 000s | T53: 000s | U53: 000s | W53: Percent | X53: Percent | Z53: Percent
A54: Agriculture | C54: 34.923049 | D54: 37.36855 | E54: 38.128357 | F54: 40.577973 | G54: 43.51 | I54: 48.590557 | J54: 50.184443 | K54: 57.395451 | M54: =F54/E54-1 -> 0.064246558 | N54: =IFERROR((I54/$G54)^(1/5)-1,0) -> 0.022333425 | O54: =IFERROR((J54/$G54)^(1/5)-1,0) -> 0.028954107 | P54: =IFERROR((K54/$G54)^(1/5)-1,0) -> 0.056957873 | R54: 7301.063 | S54: 7268.089 | T54: 7451.765 | U54: 6887.3491 | W54: =IFERROR(C54/R54,0) -> 0.0047832828 | X54: =IFERROR(D54/S54,0) -> 0.0051414546 | Y54: =IFERROR(E54/T54,0) -> 0.0051166881 | Z54: =IFERROR(F54/U54,0) -> 0.0058916678
A55: Construction | C55: 131.05605 | D55: 140.4204 | E55: 147.25547 | F55: 152.26925 | G55: 161.73376 | I55: 182.04715 | J55: 182.27371 | K55: 205.90679 | M55: =F55/E55-1 -> 0.034048145 | N55: =IFERROR((I55/$G55)^(1/5)-1,0) -> 0.023945026 | O55: =IFERROR((J55/$G55)^(1/5)-1,0) -> 0.024199762 | P55: =IFERROR((K55/$G55)^(1/5)-1,0) -> 0.049479592 | R55: 13800.634 | S55: 13046.661 | T55: 13372.119 | U55: 13353.77 | W55: =IFERROR(C55/R55,0) -> 0.0094963794 | X55: =IFERROR(D55/S55,0) -> 0.010762938 | Y55: =IFERROR(E55/T55,0) -> 0.011012127 | Z55: =IFERROR(F55/U55,0) -> 0.011402716
A56: Education | C56: 479.54328 | D56: 512.02801 | E56: 532.78699 | F56: 561.59555 | G56: 609.64357 | I56: 665.73407 | J56: 722.7787 | K56: 831.70623 | M56: =F56/E56-1 -> 0.054071456 | N56: =IFERROR((I56/$G56)^(1/5)-1,0) -> 0.017759011 | O56: =IFERROR((J56/$G56)^(1/5)-1,0) -> 0.034631912 | P56: =IFERROR((K56/$G56)^(1/5)-1,0) -> 0.064091052 | R56: 15598.262 | S56: 14599.18 | T56: 15022.767 | U56: 15052.476 | W56: =IFERROR(C56/R56,0) -> 0.03074338 | X56: =IFERROR(D56/S56,0) -> 0.035072381 | Y56: =IFERROR(E56/T56,0) -> 0.035465303 | Z56: =IFERROR(F56/U56,0) -> 0.037309182
A57: Finance | C57: 608.6681 | D57: 658.1983 | E57: 674.77622 | F57: 709.98676 | G57: 767.44406 | I57: 861.40243 | J57: 904.34215 | K57: 1051.208 | M57: =F57/E57-1 -> 0.052181069 | N57: =IFERROR((I57/$G57)^(1/5)-1,0) -> 0.023368094 | O57: =IFERROR((J57/$G57)^(1/5)-1,0) -> 0.033373235 | P57: =IFERROR((K57/$G57)^(1/5)-1,0) -> 0.064947965 | R57: 5681.5292 | S57: 5433.308 | T57: 5441.5177 | U57: 5449.5623 | W57: =IFERROR(C57/R57,0) -> 0.10713103 | X57: =IFERROR(D57/S57,0) -> 0.12114136 | Y57: =IFERROR(E57/T57,0) -> 0.12400515 | Z57: =IFERROR(F57/U57,0) -> 0.13028326
A58: Health | C58: 518.47015 | D58: 556.30219 | E58: 577.57418 | F58: 611.14903 | G58: 664.47563 | I58: 761.2758 | J58: 790.02022 | K58: 922.01558 | M58: =F58/E58-1 -> 0.058130786 | N58: =IFERROR((I58/$G58)^(1/5)-1,0) -> 0.027572784 | O58: =IFERROR((J58/$G58)^(1/5)-1,0) -> 0.035218037 | P58: =IFERROR((K58/$G58)^(1/5)-1,0) -> 0.067706387 | R58: 23009.47 | S58: 21732.704 | T58: 22287.825 | U58: 22324.811 | W58: =IFERROR(C58/R58,0) -> 0.022532902 | X58: =IFERROR(D58/S58,0) -> 0.025597468 | Y58: =IFERROR(E58/T58,0) -> 0.025914336 | Z58: =IFERROR(F58/U58,0) -> 0.027375328
A59: Information & Communication | C59: 753.17076 | D59: 828.95646 | E59: 913.79726 | F59: 961.641 | G59: 1090.994 | I59: 1277.548 | J59: 1424.1948 | K59: 1727.1007 | M59: =F59/E59-1 -> 0.052357065 | N59: =IFERROR((I59/$G59)^(1/5)-1,0) -> 0.032074318 | O59: =IFERROR((J59/$G59)^(1/5)-1,0) -> 0.054749687 | P59: =IFERROR((K59/$G59)^(1/5)-1,0) -> 0.096223376 | R59: 6780.722 | S59: 7003.98 | T59: 7305.8448 | U59: 7671.6445 | W59: =IFERROR(C59/R59,0) -> 0.1110753 | X59: =IFERROR(D59/S59,0) -> 0.11835506 | Y59: =IFERROR(E59/T59,0) -> 0.12507756 | Z59: =IFERROR(F59/U59,0) -> 0.12535005
A60: Mining, Manufacturing | C60: 745.35952 | D60: 800.36108 | E60: 810.81405 | F60: 867.97091 | G60: 929.5913 | I60: 978.75174 | J60: 1069.058 | K60: 1198.9177 | M60: =F60/E60-1 -> 0.070493177 | N60: =IFERROR((I60/$G60)^(1/5)-1,0) -> 0.010359895 | O60: =IFERROR((J60/$G60)^(1/5)-1,0) -> 0.028352105 | P60: =IFERROR((K60/$G60)^(1/5)-1,0) -> 0.052202829 | R60: 31109.653 | S60: 32127.932 | T60: 32943.485 | U60: 32074.652 | W60: =IFERROR(C60/R60,0) -> 0.023959107 | X60: =IFERROR(D60/S60,0) -> 0.02491169 | Y60: =IFERROR(E60/T60,0) -> 0.024612273 | Z60: =IFERROR(F60/U60,0) -> 0.027060961
A61: Professional services | C61: 1384.5925 | D61: 1497.179 | E61: 1615.3483 | F61: 1681.2343 | G61: 1843.7655 | I61: 2158.6648 | J61: 2242.3242 | K61: 2737.59 | M61: =F61/E61-1 -> 0.040787494 | N61: =IFERROR((I61/$G61)^(1/5)-1,0) -> 0.032038515 | O61: =IFERROR((J61/$G61)^(1/5)-1,0) -> 0.039916671 | P61: =IFERROR((K61/$G61)^(1/5)-1,0) -> 0.08226233 | R61: 20640.104 | S61: 18824.541 | T61: 19324.001 | U61: 19648.388 | W61: =IFERROR(C61/R61,0) -> 0.067082635 | X61: =IFERROR(D61/S61,0) -> 0.079533358 | Y61: =IFERROR(E61/T61,0) -> 0.083592845 | Z61: =IFERROR(F61/U61,0) -> 0.085566013
A62: Public Administration | C62: 395.17039 | D62: 419.38597 | E62: 423.19213 | F62: 446.09054 | G62: 473.74564 | I62: 540.59446 | J62: 536.30149 | K62: 606.46394 | M62: =F62/E62-1 -> 0.054108782 | N62: =IFERROR((I62/$G62)^(1/5)-1,0) -> 0.026751328 | O62: =IFERROR((J62/$G62)^(1/5)-1,0) -> 0.025115392 | P62: =IFERROR((K62/$G62)^(1/5)-1,0) -> 0.050635211 | R62: 13508.707 | S62: 14069.327 | T62: 14437.063 | U62: 14223.796 | W62: =IFERROR(C62/R62,0) -> 0.029253013 | X62: =IFERROR(D62/S62,0) -> 0.029808531 | Y62: =IFERROR(E62/T62,0) -> 0.029312897 | Z62: =IFERROR(F62/U62,0) -> 0.031362271
A63: Retail and Wholesale | C63: 1131.1755 | D63: 1197.551 | E63: 1269.1884 | F63: 1295.9056 | G63: 1377.3742 | I63: 1448.2428 | J63: 1556.7086 | K63: 1833.185 | M63: =F63/E63-1 -> 0.021050604 | N63: =IFERROR((I63/$G63)^(1/5)-1,0) -> 0.010084917 | O63: =IFERROR((J63/$G63)^(1/5)-1,0) -> 0.024781014 | P63: =IFERROR((K63/$G63)^(1/5)-1,0) -> 0.058841286 | R63: 27263.977 | S63: 26844.837 | T63: 27178.156 | U63: 26861.247 | W63: =IFERROR(C63/R63,0) -> 0.041489748 | X63: =IFERROR(D63/S63,0) -> 0.044610105 | Y63: =IFERROR(E63/T63,0) -> 0.046698842 | Z63: =IFERROR(F63/U63,0) -> 0.048244431
A64: Transport | C64: 196.66125 | D64: 212.11186 | E64: 215.96659 | F64: 226.80515 | G64: 242.24513 | I64: 245.21498 | J64: 276.78682 | K64: 317.52938 | M64: =F64/E64-1 -> 0.050186281 | N64: =IFERROR((I64/$G64)^(1/5)-1,0) -> 0.0024400037 | O64: =IFERROR((J64/$G64)^(1/5)-1,0) -> 0.027018032 | P64: =IFERROR((K64/$G64)^(1/5)-1,0) -> 0.055615533 | R64: 10713.492 | S64: 10441.835 | T64: 10713.95 | U64: 10598.362 | W64: =IFERROR(C64/R64,0) -> 0.01835641 | X64: =IFERROR(D64/S64,0) -> 0.020313657 | Y64: =IFERROR(E64/T64,0) -> 0.020157514 | Z64: =IFERROR(F64/U64,0) -> 0.021400019
A65: Utilities | C65: 92.226304 | D65: 97.613266 | E65: 100.37052 | F65: 105.24455 | G65: 112.58323 | I65: 119.2693 | J65: 129.88031 | K65: 148.99848 | M65: =F65/E65-1 -> 0.048560373 | N65: =IFERROR((I65/$G65)^(1/5)-1,0) -> 0.011605071 | O65: =IFERROR((J65/$G65)^(1/5)-1,0) -> 0.028996574 | P65: =IFERROR((K65/$G65)^(1/5)-1,0) -> 0.057649169 | R65: 2822.7143 | S65: 2867.26 | T65: 2934.9383 | U65: 2998.3505 | W65: =IFERROR(C65/R65,0) -> 0.032672915 | X65: =IFERROR(D65/S65,0) -> 0.034044093 | Y65: =IFERROR(E65/T65,0) -> 0.034198509 | Z65: =IFERROR(F65/U65,0) -> 0.035100815
A66: Total EU27 | B66: EU27 | C66: =SUM(C54:C65) -> 6471.0169 | D66: =SUM(D54:D65) -> 6957.4761 | E66: =SUM(E54:E65) -> 7319.1984 | F66: =SUM(F54:F65) -> 7660.4706 | G66: =SUM(G54:G65) -> 8317.1061 | I66: =SUM(I54:I65) -> 9287.3361 | J66: =SUM(J54:J65) -> 9884.8533 | K66: =SUM(K54:K65) -> 11638.017 | M66: =F66/E66-1 -> 0.046626982 | N66: =IFERROR((I66/$G66)^(1/5)-1,0) -> 0.022312767 | O66: =IFERROR((J66/$G66)^(1/5)-1,0) -> 0.035141207 | P66: =IFERROR((K66/$G66)^(1/5)-1,0) -> 0.069501384 | R66: =SUM(R54:R65) -> 178230.33 | S66: =SUM(S54:S65) -> 174259.65 | T66: =SUM(T54:T65) -> 178413.43 | U66: =SUM(U54:U65) -> 177144.41 | W66: =IFERROR(C66/R66,0) -> 0.036307047 | X66: =IFERROR(D66/S66,0) -> 0.039925915 | Y66: =IFERROR(E66/T66,0) -> 0.041023808 | Z66: =IFERROR(F66/U66,0) -> 0.043244213
A67: Source: European Data Market Monitoring Tool, IDC 2023
A68: Data Sources: IDC estimates on Eurostat Labour Force Survey by Occupation and NACE II Industry Code 2023
A71: Indicator 1.3 - Intensity Share of Data Professionals (average number of data Professionals per 1,000 User Companies) by Member State, 2020-2023
C73: # data professionals / 1,000 user co. | I73: # User Companies
C74: {=$C$10:$F$10} -> 2020 | D74: 2021 | E74: 2022 | F74: 2023 | I74: {=$C$10:$F$10} -> 2020 | J74: 2021 | K74: 2022 | L74: 2023
A75: Member States | B75: Abbrev. | C75: Number | D75: Number | E75: Number | F75: Number
A76: Austria | B76: AT | C76: =1000*C12/I76 -> 9.423697 | D76: =1000*D12/J76 -> 9.4483353 | E76: =1000*E12/K76 -> 9.2257302 | F76: =1000*F12/L76 -> 9.1569931 | I76: {='Ind.2 DATA COMPANIES'!C85:F114} -> 14250 | J76: 14581.126 | K76: 15161.536 | L76: 15650.442
A77: Belgium | B77: BE | C77: =1000*C13/I77 -> 9.3761462 | D77: =1000*D13/J77 -> 9.2364301 | E77: =1000*E13/K77 -> 8.9073925 | F77: =1000*F13/L77 -> 8.7339654 | I77: 14450 | J77: 14895.32 | K77: 15546.724 | L77: 16119.769
A78: Bulgaria | B78: BG | C78: =1000*C14/I78 -> 26.399372 | D78: =1000*D14/J78 -> 27.040858 | E78: =1000*E14/K78 -> 27.190206 | F78: =1000*F14/L78 -> 27.115907 | I78: 3250 | J78: 3362.6188 | K78: 3509.0107 | L78: 3673.3882
A79: Croatia | B79: HR | C79: =1000*C15/I79 -> 25.155962 | D79: =1000*D15/J79 -> 26.352178 | E79: =1000*E15/K79 -> 26.249364 | F79: =1000*F15/L79 -> 26.266541 | I79: 1800 | J79: 1862.4317 | K79: 1949.7244 | L79: 2024.2761
A80: Cyprus | B80: CY | C80: =1000*C16/I80 -> 7.6636754 | D80: =1000*D16/J80 -> 8.48822 | E80: =1000*E16/K80 -> 8.8951632 | F80: =1000*F16/L80 -> 9.1510141 | I80: 1800 | J80: 1869.4731 | K80: 1964.495 | L80: 2039.6115
A81: Czech Republic | B81: CZ | C81: =1000*C17/I81 -> 25.415675 | D81: =1000*D17/J81 -> 27.41033 | E81: =1000*E17/K81 -> 29.077702 | F81: =1000*F17/L81 -> 30.175166 | I81: 6950 | J81: 7095.6651 | K81: 7243.7959 | L81: 7375.8945
A82: Denmark | B82: DK | C82: =1000*C18/I82 -> 12.524674 | D82: =1000*D18/J82 -> 13.026139 | E82: =1000*E18/K82 -> 13.4002 | F82: =1000*F18/L82 -> 13.699629 | I82: 8400 | J82: 8658.5851 | K82: 8966.2505 | L82: 9287.6537
A83: Estonia | B83: EE | C83: =1000*C19/I83 -> 16.094478 | D83: =1000*D19/J83 -> 16.836757 | E83: =1000*E19/K83 -> 17.585916 | F83: =1000*F19/L83 -> 17.982426 | I83: 1750 | J83: 1809.6127 | K83: 1884.0152 | L83: 1966.495
A84: Finland | B84: FI | C84: =1000*C20/I84 -> 11.049437 | D84: =1000*D20/J84 -> 12.053618 | E84: =1000*E20/K84 -> 12.390741 | F84: =1000*F20/L84 -> 12.629391 | I84: 8400 | J84: 8590.8343 | K84: 8889.3991 | L84: 9205.2801
A85: France | B85: FR | C85: =1000*C21/I85 -> 13.00417 | D85: =1000*D21/J85 -> 13.477596 | E85: =1000*E21/K85 -> 13.583265 | F85: =1000*F21/L85 -> 13.565124 | I85: 75800 | J85: 78630.941 | K85: 82030.302 | L85: 85307.841
A86: Germany | B86: DE | C86: =1000*C22/I86 -> 13.820653 | D86: =1000*D22/J86 -> 14.331035 | E86: =1000*E22/K86 -> 14.638857 | F86: =1000*F22/L86 -> 15.004556 | I86: 115000 | J86: 119784.97 | K86: 125006.45 | L86: 129195.77
A87: Greece | B87: EL | C87: =1000*C23/I87 -> 6.1571075 | D87: =1000*D23/J87 -> 6.2847594 | E87: =1000*E23/K87 -> 6.1697433 | F87: =1000*F23/L87 -> 6.1250597 | I87: 11250 | J87: 11507.058 | K87: 11896.257 | L87: 12298.313
A88: Hungary | B88: HU | C88: =1000*C24/I88 -> 28.917666 | D88: =1000*D24/J88 -> 32.173184 | E88: =1000*E24/K88 -> 33.321415 | F88: =1000*F24/L88 -> 33.63775 | I88: 4700 | J88: 4849.3517 | K88: 5041.5158 | L88: 5232.5229
... A105: EEA (NO, LI, IS) | B105: RoEEA | C105: =1000*C41/I105 -> 19.92318 | D105: =1000*D41/J105 -> 21.299982 | E105: =1000*E41/K105 -> 22.152288 | F105: =1000*F41/L105 -> 22.531518 | I105: 7088.7722 | J105: 7274.7502 | K105: 7454.7887 | L105: 7695.748
A106: Total EU27 | B106: EU27 | C106: =1000*C42/I106 -> 11.984767 | D106: =1000*D42/J106 -> 12.410857 | E106: =1000*E42/K106 -> 12.54187 | F106: =1000*F42/L106 -> 12.677011 | I106: =SUM(I76:I102) -> 542510 | J106: =SUM(J76:J102) -> 560595.96 | K106: =SUM(K76:K102) -> 583581.1 | L106: =SUM(L76:L102) -> 604280.49
A107: Total EU27 + U.K. | B107: EU27 + UK | C107: =1000*C43/I107 -> 11.426837 | D107: =1000*D43/J107 -> 11.77416 | E107: =1000*E43/K107 -> 11.881093 | F107: =1000*F43/L107 -> 11.99844 | I107: =SUM(I104,I106) -> 726110 | J107: =SUM(J104,J106) -> 751106.4 | K107: =SUM(K104,K106) -> 781736.4 | L107: =SUM(L104,L106) -> 809462.43
A108: Total All Countries | C108: =1000*C44/I108 -> 11.503583 | D108: =1000*D44/J108 -> 11.869022 | E108: =1000*E44/K108 -> 11.987556 | F108: =1000*F44/L108 -> 12.111024 | I108: =SUM(I76:I105) -> 749504.81 | J108: =SUM(J76:J105) -> 775181.99 | K108: =SUM(K76:K105) -> 806661.53 | L108: =SUM(L76:L105) -> 835262.43
A109: Source: European Data Market Monitoring Tool, IDC 2023
A110: Data Sources: IDC estimates on Eurostat Labour Force Survey by Occupation and NACE II Industry Code 2023
A113: Indicator 1.3 - Intensity Share of Data Professionals (average number of data Professionals per 1,000 User Companies) by Industry, 2020-2023
C115: # data professionals / 1,000 user co's. | I115: # User Companies
C116: {=$C$10:$F$10} -> 2020 | D116: 2021 | E116: 2022 | F116: 2023 | I116: {=$C$10:$F$10} -> 2020 | J116: 2021 | K116: 2022 | L116: 2023
A117: Member States | C117: Number | D117: Number | E117: Number | F117: Number | I117: 000s | J117: 000s | K117: 000s | L117: 000s
A118: Agriculture | C118: =IFERROR(1000*C54/I118,0) -> 9.293999 | D118: =IFERROR(1000*D54/J118,0) -> 8.4656846 | E118: =IFERROR(1000*E54/K118,0) -> 6.7493406 | F118: =IFERROR(1000*F54/L118,0) -> 5.6894869 | I118: {='Ind.2 DATA COMPANIES'!$C$127:$F$138} -> 3757.5913 | J118: 4414.1202 | K118: 5649.1974 | L118: 7132.0971
A119: Construction | C119: =IFERROR(1000*C55/I119,0) -> 3.8281512 | D119: =IFERROR(1000*D55/J119,0) -> 3.9882756 | E119: =IFERROR(1000*E55/K119,0) -> 4.0349339 | F119: =IFERROR(1000*F55/L119,0) -> 4.0536279 | I119: 34234.816 | J119: 35208.299 | K119: 36495.139 | L119: 37563.697
A120: Education | C120: =IFERROR(1000*C56/I120,0) -> 39.455824 | D120: =IFERROR(1000*D56/J120,0) -> 38.763264 | E120: =IFERROR(1000*E56/K120,0) -> 36.94705 | F120: =IFERROR(1000*F56/L120,0) -> 36.525788 | I120: 12153.929 | J120: 13209.105 | K120: 14420.285 | L120: 15375.317
A121: Finance | C121: =IFERROR(1000*C57/I121,0) -> 20.315958 | D121: =IFERROR(1000*D57/J121,0) -> 21.800723 | E121: =IFERROR(1000*E57/K121,0) -> 22.071832 | F121: =IFERROR(1000*F57/L121,0) -> 22.900208 | I121: 29960.099 | J121: 30191.581 | K121: 30571.826 | L121: 31003.507
A122: Health | C122: =IFERROR(1000*C58/I122,0) -> 19.975983 | D122: =IFERROR(1000*D58/J122,0) -> 19.86858 | E122: =IFERROR(1000*E58/K122,0) -> 19.016067 | F122: =IFERROR(1000*F58/L122,0) -> 18.957679 | I122: 25954.675 | J122: 27999.091 | K122: 30372.956 | L122: 32237.544
A123: Information & Communication | C123: =IFERROR(1000*C59/I123,0) -> 12.87325 | D123: =IFERROR(1000*D59/J123,0) -> 14.010991 | E123: =IFERROR(1000*E59/K123,0) -> 15.19331 | F123: =IFERROR(1000*F59/L123,0) -> 15.733216 | I123: 58506.651 | J123: 59164.727 | K123: 60144.713 | L123: 61121.706
A124: Mining, Manufacturing | C124: =IFERROR(1000*C60/I124,0) -> 8.9341317 | D124: =IFERROR(1000*D60/J124,0) -> 9.8270678 | E124: =IFERROR(1000*E60/K124,0) -> 10.164201 | F124: =IFERROR(1000*F60/L124,0) -> 10.986451 | I124: 83428.312 | J124: 81444.547 | K124: 79771.549 | L124: 79003.755
A125: Professional services | C125: =IFERROR(1000*C61/I125,0) -> 9.4321303 | D125: =IFERROR(1000*D61/J125,0) -> 9.6448727 | E125: =IFERROR(1000*E61/K125,0) -> 9.7909123 | F125: =IFERROR(1000*F61/L125,0) -> 9.7132025 | I125: 146795.32 | J125: 155230.56 | K125: 164984.45 | L125: 173087.53
A126: Public Administration | C126: =IFERROR(1000*C62/I126,0) -> 0 | D126: =IFERROR(1000*D62/J126,0) -> 0 | E126: =IFERROR(1000*E62/K126,0) -> 0 | F126: =IFERROR(1000*F62/L126,0) -> 0 | I126: 0 | J126: 0 | K126: 0 | L126: 0
A127: Retail and Wholesale | C127: =IFERROR(1000*C63/I127,0) -> 14.569922 | D127: =IFERROR(1000*D63/J127,0) -> 13.9977 | E127: =IFERROR(1000*E63/K127,0) -> 13.406346 | F127: =IFERROR(1000*F63/L127,0) -> 12.700691 | I127: 77637.716 | J127: 85553.414 | K127: 94670.718 | L127: 102034.26
A128: Transport | C128: =IFERROR(1000*C64/I128,0) -> 3.2735137 | D128: =IFERROR(1000*D64/J128,0) -> 3.6343736 | E128: =IFERROR(1000*E64/K128,0) -> 3.8000383 | F128: =IFERROR(1000*F64/L128,0) -> 4.0425666 | I128: 60076.502 | J128: 58362.7 | K128: 56832.741 | L128: 56104.246
A129: Utilities | C129: =IFERROR(1000*C65/I129,0) -> 9.2185803 | D129: =IFERROR(1000*D65/J129,0) -> 9.9424636 | E129: =IFERROR(1000*E65/K129,0) -> 10.38223 | F129: =IFERROR(1000*F65/L129,0) -> 10.94379 | I129: 10004.393 | J129: 9817.8147 | K129: 9667.5296 | L129: 9616.8277
A130: Total EU27 | B130: EU27 | C130: =IFERROR(1000*C66/I130,0) -> 11.927922 | D130: =IFERROR(1000*D66/J130,0) -> 12.410857 | E130: =IFERROR(1000*E66/K130,0) -> 12.54187 | F130: =IFERROR(1000*F66/L130,0) -> 12.677011 | I130: =SUM(I118:I129) -> 542510 | J130: =SUM(J118:J129) -> 560595.96 | K130: =SUM(K118:K129) -> 583581.1 | L130: =SUM(L118:L129) -> 604280.49
A131: Source: European Data Market Monitoring Tool, IDC 2023
A132: Data Sources: IDC estimates on Eurostat Labour Force Survey by Occupation and NACE II Industry Code 2023

Sheet Ind.2 DATA COMPANIES
A3: INDICATOR 2: MEASUREMENT OF DATA COMPANIES
A4: Indicator 2.1 - Number of Data Suppliers by Member State, 2020-2023, 2025, 2030 3 Scenarios
A5: Indicator 2.2 - Share of Data Suppliers by Member State, 2020-2023, 2025, 2030 3 Scenarios
C6: Number of Data Suppliers | I6: Number of Data Suppliers | M6: Growth Rate of Data Suppliers | R6: Share of Total Number of EU Companies A,C:E,G:H,J:K,M,P,Q | X6: Share of Total Number of EU Companies A,C:E,G:H,J:K,M,P,Q | AB6: Total Number of EU Companies A,C,D,E,G,H,J,K,M,P,Q | AH6: Total Number of EU Companies A,C,D,E,G,H,J,K,M,P,Q
C7: 2020 | D7: 2021 | E7: 2022 | F7: 2023 | G7: 2025 | I7: 2030 Challenge Scenario | J7: 2030 Baseline Scenario | K7: 2030 High Growth Scenario | M7: Growth Rate 2023/2022 | N7: CAGR 2030/2025 Challenge Scenario | O7: CAGR 2030/2025 Baseline Scenario | P7: CAGR 2030/2025 High Growth Scenario | R7: {=$C$7:$F$7} -> 2020 | S7: 2021 | T7: 2022 | U7: 2023 | V7: 2025 | X7: 2030 Challenge Scenario | Y7: 2030 Baseline Scenario | Z7: 2030 High Growth Scenario | AB7: {=$C$7:$F$7} -> 2020 | AC7: 2021 | AD7: 2022 | AE7: 2023 | AF7: 2025 | AH7: 2030 Challenge Scenario | AI7: 2030 Baseline Scenario | AJ7: 2030 High Growth Scenario
A8: Member States | B8: Abbrev. | C8: Units | D8: Units | E8: Units | F8: Units | G8: Units | I8: 000s | J8: 000s | K8: 000s | M8: Percent | N8: Percent | O8: Percent | P8: Percent | R8: Percent | S8: Percent | T8: Percent | U8: Percent | V8: Percent | X8: Percent | Y8: Percent | Z8: Percent | AB8: Units | AC8: Units | AD8: Units | AE8: Units | AF8: Units | AH8: 000s | AI8: 000s | AJ8: 000s
A9: Austria | B9: AT | C9: 5448.2254 | D9: 5844.66 | E9: 6611.2654 | F9: 7130.9745 | G9: 8376.8268 | I9: 9490.3168 | J9: 9726.7275 | K9: 10109.195 | M9: =F9/E9-1 -> 0.078609632 | N9: =IFERROR((I9/$G9)^(1/5)-1,0) -> 0.025274687 | O9: =IFERROR((J9/$G9)^(1/5)-1,0) -> 0.030332604 | P9: =IFERROR((K9/$G9)^(1/5)-1,0) -> 0.038310888 | R9: =C9/AB9 -> 0.022543894 | S9: =D9/AC9 -> 0.02389209 | T9: =E9/AD9 -> 0.026367489 | U9: =F9/AE9 -> 0.027773427 | V9: =G9/AF9 -> 0.031567238 | X9: =I9/AH9 -> 0.034508232 | Y9: =J9/AI9 -> 0.034981811 | Z9: =K9/AJ9 -> 0.035114989 | AB9: 241671.89 | AC9: 244627.41 | AD9: 250735.5 | AE9: 256755.3 | AF9: 265364.58 | AH9: 275016.02 | AI9: 278051 | AJ9: 287888.32
A10: Belgium | B10: BE | C10: 3326.285 | D10: 3630.1724 | E10: 4152.6937 | F10: 4568.1771 | G10: 5012.5616 | I10: 5756.9863 | J10: 6164.5 | K10: 6467.5454 | M10: =F10/E10-1 -> 0.10005153 | N10: =IFERROR((I10/$G10)^(1/5)-1,0) -> 0.028080434 | O10: =IFERROR((J10/$G10)^(1/5)-1,0) -> 0.042239737 | P10: =IFERROR((K10/$G10)^(1/5)-1,0) -> 0.052291235 | R10: =C10/AB10 -> 0.011645053 | S10: =D10/AC10 -> 0.012583264 | T10: =E10/AD10 -> 0.014021748 | U10: =F10/AE10 -> 0.014970112 | V10: =G10/AF10 -> 0.01564899 | X10: =I10/AH10 -> 0.017106945 | Y10: =J10/AI10 -> 0.017341714 | Z10: =K10/AJ10 -> 0.017407735 | AB10: 285639.31 | AC10: 288492.11 | AD10: 296160.91 | AE10: 305153.16 | AF10: 320312.14 | AH10: 336529.19 | AI10: 355472.36 | AJ10: 371532.85
A11: Bulgaria | B11: BG | C11: 1491.0933 | D11: 1629.8106 | E11: 1871.1536 | F11: 2053.8684 | G11: 2295.8005 | I11: 2639.077 | J11: 2795.7386 | K11: 2947.066 | M11: =F11/E11-1 -> 0.097648226 | N11: =IFERROR((I11/$G11)^(1/5)-1,0) -> 0.02826152 | O11: =IFERROR((J11/$G11)^(1/5)-1,0) -> 0.040189541 | P11: =IFERROR((K11/$G11)^(1/5)-1,0) -> 0.051214018 | R11: =C11/AB11 -> 0.01695077 | S11: =D11/AC11 -> 0.018175229 | T11: =E11/AD11 -> 0.020114325 | U11: =F11/AE11 -> 0.021296064 | V11: =G11/AF11 -> 0.022411968 | X11: =I11/AH11 -> 0.024642355 | Y11: =J11/AI11 -> 0.024776281 | Z11: =K11/AJ11 -> 0.024910206 | AB11: 87966.11 | AC11: 89672.082 | AD11: 93025.921 | AE11: 96443.57 | AF11: 102436.36 | AH11: 107095.16 | AI11: 112839.32 | AJ11: 118307.57
A12: Croatia | B12: HR | C12: 906.12591 | D12: 998.90942 | E12: 1162.5011 | F12: 1282.396 | G12: 1392.6869 | I12: 1551.9572 | J12: 1658.6385 | K12: 1737.5526 | M12: =F12/E12-1 -> 0.10313524 | N12: =IFERROR((I12/$G12)^(1/5)-1,0) -> 0.021892594 | O12: =IFERROR((J12/$G12)^(1/5)-1,0) -> 0.035570457 | P12: =IFERROR((K12/$G12)^(1/5)-1,0) -> 0.0452421 | R12: =C12/AB12 -> 0.014361154 | S12: =D12/AC12 -> 0.015505102 | T12: =E12/AD12 -> 0.017628819 | U12: =F12/AE12 -> 0.019063502 | V12: =G12/AF12 -> 0.019723813 | X12: =I12/AH12 -> 0.021277506 | Y12: =J12/AI12 -> 0.02158324 | Z12: =K12/AJ12 -> 0.021835943 | AB12: 63095.618 | AC12: 64424.562 | AD12: 65943.224 | AE12: 67269.696 | AF12: 70609.414 | AH12: 72938.868 | AI12: 76848.449 | AJ12: 79573.05
A13: Cyprus | B13: CY | C13: 630.84715 | D13: 709.5076 | E13: 822.48981 | F13: 927.57124 | G13: 1057.651 | I13: 1095.7123 | J13: 1146.3114 | K13: 1179.896 | M13: =F13/E13-1 -> 0.12776017 | N13: =IFERROR((I13/$G13)^(1/5)-1,0) -> 0.0070959152 | O13: =IFERROR((J13/$G13)^(1/5)-1,0) -> 0.016230087 | P13: =IFERROR((K13/$G13)^(1/5)-1,0) -> 0.022116206 | R13: =C13/AB13 -> 0.020521211 | S13: =D13/AC13 -> 0.022603913 | T13: =E13/AD13 -> 0.025599907 | U13: =F13/AE13 -> 0.028301265 | V13: =G13/AF13 -> 0.030743818 | X13: =I13/AH13 -> 0.0300819 | Y13: =J13/AI13 -> 0.030408877 | Z13: =K13/AJ13 -> 0.030735854 | AB13: 30741.224 | AC13: 31388.707 | AD13: 32128.624 | AE13: 32774.904 | AF13: 34402.069 | AH13: 36424.306 | AI13: 37696.604 | AJ13: 38388.262
A14: Czechia | B14: CZ | C14: 2580.7383 | D14: 2804.7936 | E14: 3213.459 | F14: 3491.8987 | G14: 3970.8256 | I14: 4463.4206 | J14: 4568.6077 | K14: 4857.8365 | M14: =F14/E14-1 -> 0.086647989 | N14: =IFERROR((I14/$G14)^(1/5)-1,0) -> 0.023663932 | O14: =IFERROR((J14/$G14)^(1/5)-1,0) -> 0.028443909 | P14: =IFERROR((K14/$G14)^(1/5)-1,0) -> 0.041147875 | R14: =C14/AB14 -> 0.023609642 | S14: =D14/AC14 -> 0.025421705 | T14: =E14/AD14 -> 0.02887568 | U14: =F14/AE14 -> 0.031208432 | V14: =G14/AF14 -> 0.034692124 | X14: =I14/AH14 -> 0.037924252 | Y14: =J14/AI14 -> 0.038444711 | Z14: =K14/AJ14 -> 0.038591072 | AB14: 109308.66 | AC14: 110330.66 | AD14: 111286 | AE14: 111889.59 | AF14: 114458.99 | AH14: 117693.04 | AI14: 118835.79 | AJ14: 125879.8
A15: Denmark | B15: DK | C15: 4760.0285 | D15: 5195.4424 | E15: 5964.5016 | F15: 6545.9718 | G15: 7220.673 | I15: 8105.414 | J15: 8577.6179 | K15: 9081.3353 | M15: =F15/E15-1 -> 0.09748849 | N15: =IFERROR((I15/$G15)^(1/5)-1,0) -> 0.02338608 | O15: =IFERROR((J15/$G15)^(1/5)-1,0) -> 0.035041598 | P15: =IFERROR((K15/$G15)^(1/5)-1,0) -> 0.046922194 | R15: =C15/AB15 -> 0.054316367 | S15: =D15/AC15 -> 0.058390361 | T15: =E15/AD15 -> 0.065191164 | U15: =F15/AE15 -> 0.070259515 | V15: =G15/AF15 -> 0.074361196 | X15: =I15/AH15 -> 0.081784237 | Y15: =J15/AI15 -> 0.083833041 | Z15: =K15/AJ15 -> 0.084152198 | AB15: 87635.252 | AC15: 88977.74 | AD15: 91492.484 | AE15: 93168.474 | AF15: 97102.701 | AH15: 99107.289 | AI15: 102317.87 | AJ15: 107915.6
A16: Estonia | B16: EE | C16: 665.257 | D16: 735.19786 | E16: 855.74321 | F16: 943.82541 | G16: 1038.896 | I16: 1178.3194 | J16: 1242.6059 | K16: 1366.7174 | M16: =F16/E16-1 -> 0.10293064 | N16: =IFERROR((I16/$G16)^(1/5)-1,0) -> 0.025505962 | O16: =IFERROR((J16/$G16)^(1/5)-1,0) -> 0.036459339 | P16: =IFERROR((K16/$G16)^(1/5)-1,0) -> 0.056382832 | R16: =C16/AB16 -> 0.10178006 | S16: =D16/AC16 -> 0.10993524 | T16: =E16/AD16 -> 0.12401542 | U16: =F16/AE16 -> 0.13309656 | V16: =G16/AF16 -> 0.13588841 | X16: =I16/AH16 -> 0.1485486 | Y16: =J16/AI16 -> 0.15058723 | Z16: =K16/AJ16 -> 0.15116052 | AB16: 6536.2212 | AC16: 6687.5543 | AD16: 6900.2969 | AE16: 7091.2835 | AF16: 7645.2138 | AH16: 7932.2146 | AI16: 8251.735 | AJ16: 9041.4973
A17: Finland | B17: FI | C17: 3613.0337 | D17: 3865.0695 | E17: 4355.8357 | F17: 4669.9004 | G17: 5545.7152 | I17: 6176.8889 | J17: 6314.3901 | K17: 6834.6617 | M17: =F17/E17-1 -> 0.072102039 | N17: =IFERROR((I17/$G17)^(1/5)-1,0) -> 0.021791875 | O17: =IFERROR((J17/$G17)^(1/5)-1,0) -> 0.026301041 | P17: =IFERROR((K17/$G17)^(1/5)-1,0) -> 0.042682038 | R17: =C17/AB17 -> 0.031540238 | S17: =D17/AC17 -> 0.033214832 | T17: =E17/AD17 -> 0.036477001 | U17: =F17/AE17 -> 0.038348047 | V17: =G17/AF17 -> 0.043605039 | X17: =I17/AH17 -> 0.047390805 | Y17: =J17/AI17 -> 0.048180651 | Z17: =K17/AJ17 -> 0.048707216 | AB17: 114553.15 | AC17: 116365.77 | AD17: 119413.21 | AE17: 121776.75 | AF17: 127180.6 | AH17: 130339.4 | AI17: 131056.55 | AJ17: 140321.34
A18: France | B18: FR | C18: 15828.529 | D18: 17160.621 | E18: 19627.227 | F18: 21300.952 | G18: 23659.759 | I18: 26965.879 | J18: 27631.885 | K18: 29530.67 | M18: =F18/E18-1 -> 0.085275671 | N18: =IFERROR((I18/$G18)^(1/5)-1,0) -> 0.026504493 | O18: =IFERROR((J18/$G18)^(1/5)-1,0) -> 0.031525667 | P18: =IFERROR((K18/$G18)^(1/5)-1,0) -> 0.045328036 | R18: =C18/AB18 -> 0.0083838782 | S18: =D18/AC18 -> 0.0089462198 | T18: =E18/AD18 -> 0.0099502431 | U18: =F18/AE18 -> 0.010484283 | V18: =G18/AF18 -> 0.011087906 | X18: =I18/AH18 -> 0.012191348 | Y18: =J18/AI18 -> 0.01239012 | Z18: =K18/AJ18 -> 0.012612509 | AB18: 1887972.1 | AC18: 1918198 | AD18: 1972537.5 | AE18: 2031703.2 | AF18: 2133834.8 | AH18: 2211886.6 | AI18: 2230154.7 | AJ18: 2341379.5
A19: Germany | B19: DE | C19: 32632.003 | D19: 35304.139 | E19: 40530.329 | F19: 43953.753 | G19: 48925.163 | I19: 54480.33 | J19: 56316.239 | K19: 59171.519 | M19: =F19/E19-1 -> 0.084465732 | N19: =IFERROR((I19/$G19)^(1/5)-1,0) -> 0.021742571 | O19: =IFERROR((J19/$G19)^(1/5)-1,0) -> 0.028537836 | P19: =IFERROR((K19/$G19)^(1/5)-1,0) -> 0.038762079 | R19: =C19/AB19 -> 0.022093326 | S19: =D19/AC19 -> 0.023616698 | T19: =E19/AD19 -> 0.026347224 | U19: =F19/AE19 -> 0.028066342 | V19: =G19/AF19 -> 0.030145524 | X19: =I19/AH19 -> 0.032954063 | Y19: =J19/AI19 -> 0.033406313 | Z19: =K19/AJ19 -> 0.033533492 | AB19: 1477007.3 | AC19: 1494880.4 | AD19: 1538315 | AE19: 1566066.3 | AF19: 1622966.1 | AH19: 1653220.4 | AI19: 1685796.3 | AJ19: 1764549.9
A20: Greece | B20: EL | C20: 6939.3187 | D20: 7456.6297 | E20: 8461.4902 | F20: 9168.1549 | G20: 10558.8 | I20: 11976.543 | J20: 12559.928 | K20: 13195.606 | M20: =F20/E20-1 -> 0.083515396 | N20: =IFERROR((I20/$G20)^(1/5)-1,0) -> 0.025518228 | O20: =IFERROR((J20/$G20)^(1/5)-1,0) -> 0.035319788 | P20: =IFERROR((K20/$G20)^(1/5)-1,0) -> 0.045593681 | R20: =C20/AB20 -> 0.088759547 | S20: =D20/AC20 -> 0.093439709 | T20: =E20/AD20 -> 0.10444676 | U20: =F20/AE20 -> 0.11149194 | V20: =G20/AF20 -> 0.12466838 | X20: =I20/AH20 -> 0.13850295 | Y20: =J20/AI20 -> 0.13850295 | Z20: =K20/AJ20 -> 0.13925568 | AB20: 78181.096 | AC20: 79801.508 | AD20: 81012.471 | AE20: 82231.547 | AF20: 84695.097 | AH20: 86471.396 | AI20: 90683.469 | AJ20: 94758.111
... A38: EEA (NO, LI, IS) | B38: RoEEA | C38: 5058.2472 | D38: 5492.4995 | E38: 6298.0642 | F38: 6895.747 | G38: 7853.8936 | I38: 8832.0106 | J38: 9506.7328 | K38: 10394.578 | M38: =F38/E38-1 -> 0.09489945 | N38: =IFERROR((I38/$G38)^(1/5)-1,0) -> 0.023752353 | O38: =IFERROR((J38/$G38)^(1/5)-1,0) -> 0.0389371 | P38: =IFERROR((K38/$G38)^(1/5)-1,0) -> 0.057655829 | R38: =C38/AB38 -> 0.043107841 | S38: =D38/AC38 -> 0.045644847 | T38: =E38/AD38 -> 0.051576918 | U38: =F38/AE38 -> 0.055150584 | V38: =G38/AF38 -> 0.060330335 | X38: =I38/AH38 -> 0.065982407 | Y38: =J38/AI38 -> 0.066919425 | Z38: =K38/AJ38 -> 0.067227608 | AB38: 117339.37 | AC38: 120331.21 | AD38: 122110.13 | AE38: 125034.89 | AF38: 130181.5 | AH38: 133854.02 | AI38: 142062.38 | AJ38: 154617.69
A39: Total EU27 | B39: EU27 | C39: =SUM(C9:C35) -> 175604.91 | D39: =SUM(D9:D35) -> 190796.18 | E39: =SUM(E9:E35) -> 218339.72 | F39: =SUM(F9:F35) -> 238324.82 | G39: =SUM(G9:G35) -> 267647.68 | I39: =SUM(I9:I35) -> 301643.98 | J39: =SUM(J9:J35) -> 316888.69 | K39: =SUM(K9:K35) -> 333886.86 | M39: =F39/E39-1 -> 0.091532142 | N39: =IFERROR((I39/$G39)^(1/5)-1,0) -> 0.02420345 | O39: =IFERROR((J39/$G39)^(1/5)-1,0) -> 0.034352694 | P39: =IFERROR((K39/$G39)^(1/5)-1,0) -> 0.045218693 | R39: =C39/AB39 -> 0.016818609 | S39: =D39/AC39 -> 0.018026214 | T39: =E39/AD39 -> 0.020095192 | U39: =F39/AE39 -> 0.021442383 | V39: =G39/AF39 -> 0.023064862 | X39: =I39/AH39 -> 0.025174865 | Y39: =J39/AI39 -> 0.025609559 | Z39: =K39/AJ39 -> 0.025817487 | AB39: =SUM(AB9:AB35) -> 10441107 | AC39: =SUM(AC9:AC35) -> 10584374 | AD39: =SUM(AD9:AD35) -> 10865272 | AE39: =SUM(AE9:AE35) -> 11114661 | AF39: =SUM(AF9:AF35) -> 11604131 | AH39: =SUM(AH9:AH35) -> 11981950 | AI39: =SUM(AI9:AI35) -> 12373844 | AJ39: =SUM(AJ9:AJ35) -> 12932586
A40: Total EU27 + U.K. | B40: EU27 + UK | C40: =SUM(C37,C39) -> 341058.91 | D40: =SUM(D37,D39) -> 367827.2 | E40: =SUM(E37,E39) -> 418844.51 | F40: =SUM(F37,F39) -> 453351.16 | G40: =SUM(G37,G39) -> 517889.63 | I40: =SUM(I37,I39) -> 589153.91 | J40: =SUM(J37,J39) -> 609743.95 | K40: =SUM(K37,K39) -> 639574.11 | M40: =F40/E40-1 -> 0.082385355 | N40: =IFERROR((I40/$G40)^(1/5)-1,0) -> 0.026120371 | O40: =IFERROR((J40/$G40)^(1/5)-1,0) -> 0.033194433 | P40: =IFERROR((K40/$G40)^(1/5)-1,0) -> 0.043111495 | R40: =C40/AB40 -> 0.029481423 | S40: =D40/AC40 -> 0.031360378 | T40: =E40/AD40 -> 0.034776151 | U40: =F40/AE40 -> 0.036799494 | V40: =G40/AF40 -> 0.040271243 | X40: =I40/AH40 -> 0.044365909 | Y40: =J40/AI40 -> 0.044542987 | Z40: =K40/AJ40 -> 0.044762217 | AB40: =SUM(AB37,AB39) -> 11568604 | AC40: =SUM(AC37,AC39) -> 11729042 | AD40: =SUM(AD37,AD39) -> 12044016 | AE40: =SUM(AE37,AE39) -> 12319495 | AF40: =SUM(AF37,AF39) -> 12860036 | AH40: =SUM(AH37,AH39) -> 13279428 | AI40: =SUM(AI37,AI39) -> 13688888 | AJ40: =SUM(AJ37,AJ39) -> 14288258
A41: Total All Countries | C41: =SUM(C9:C38) -> 351565.38 | D41: =SUM(D9:D38) -> 379242.85 | E41: =SUM(E9:E38) -> 431935.31 | F41: =SUM(F9:F38) -> 467685.89 | G41: =SUM(G9:G38) -> 534051.35 | I41: =SUM(I9:I38) -> 607320.79 | J41: =SUM(J9:J38) -> 629085.35 | K41: =SUM(K9:K38) -> 660210.07 | M41: =F41/E41-1 -> 0.082768362 | N41: =IFERROR((I41/$G41)^(1/5)-1,0) -> 0.026046457 | O41: =IFERROR((J41/$G41)^(1/5)-1,0) -> 0.033297338 | P41: =IFERROR((K41/$G41)^(1/5)-1,0) -> 0.043325505 | R41: =C41/AB41 -> 0.029388993 | S41: =D41/AC41 -> 0.031266996 | T41: =E41/AD41 -> 0.034684636 | U41: =F41/AE41 -> 0.036716515 | V41: =G41/AF41 -> 0.04016104 | X41: =I41/AH41 -> 0.04423512 | Y41: =J41/AI41 -> 0.044428613 | Z41: =K41/AJ41 -> 0.044658039 | AB41: =SUM(AB9:AB38) -> 11962485 | AC41: =SUM(AC9:AC38) -> 12129175 | AD41: =SUM(AD9:AD38) -> 12453217 | AE41: =SUM(AE9:AE38) -> 12737753 | AF41: =SUM(AF9:AF38) -> 13297747 | AH41: =SUM(AH9:AH38) -> 13729380 | AI41: =SUM(AI9:AI38) -> 14159464 | AJ41: =SUM(AJ9:AJ38) -> 14783678
A42: Source: European Data Market Monitoring Tool, IDC 2023
A43: Data Sources: IDC estimates on Eurostat Labour Force Survey by Occupation and NACE II Industry Code 2023
A46: Indicator 2.3 - Number of Data Suppliers by Industry : 2020-2023, 2025, 2030 3 Scenarios
A47: Indicator 2.4 - Share of Data Suppliers by Industry: 2020-2023, 2025 2030 3 Scenarios
A48: Thousands; % | C48: Number of Data Suppliers | I48: Number of Data Suppliers | M48: Growth Rate of Data Suppliers | R48: Share of Total Number of EU Companies | X48: Share of Total Number of EU Companies | AB48: Total Number of EU Companies | AH48: Total Number of EU Companies
C49: {=$C$7:$F$7} -> 2020 | D49: 2021 | E49: 2022 | F49: 2023 | G49: 2025 | I49: 2030 Challenge Scenario | J49: 2030 Baseline Scenario | K49: 2030 High Growth Scenario | M49: Growth Rate 2023/2022 | N49: CAGR 2030/2025 Challenge Scenario | O49: CAGR 2030/2025 Baseline Scenario | P49: CAGR 2030/2025 High Growth Scenario | R49: {=$C$7:$F$7} -> 2020 | S49: 2021 | T49: 2022 | U49: 2023 | V49: 2025 | X49: 2030 Challenge Scenario | Y49: 2030 Baseline Scenario | Z49: 2030 High Growth Scenario | AB49: {=$C$7:$F$7} -> 2020 | AC49: 2021 | AD49: 2022 | AE49: 2023 | AF49: 2025 | AH49: 2030 Challenge Scenario | AI49: 2030 Baseline Scenario | AJ49: 2030 High Growth Scenario
A50: Member States | B50: Abbrev. | C50: Units | D50: Units | E50: Units | F50: Units | G50: Units | I50: Units | J50: Units | K50: Units | M50: Percent | N50: Percent | O50: Percent | P50: Percent | R50: Units | S50: Units | T50: Units | U50: Units | V50: Units | X50: Units | Y50: Units | Z50: Units | AB50: Units | AC50: Units | AD50: Units | AE50: Units | AF50: Units | AH50: Units | AI50: Units | AJ50: Units
A51: Agriculture | C51: 26.76525 | D51: 42.165072 | E51: 56.882689 | F51: 66.695828 | G51: 83.07528 | I51: 122.88656 | J51: 134.05258 | K51: 147.31963 | M51: =IFERROR(F51/E51-1,0) -> 0.17251539 | N51: =IFERROR((I51/$G51)^(1/5)-1,0) -> 0.081450166 | O51: =IFERROR((J51/$G51)^(1/5)-1,0) -> 0.10042557 | P51: =IFERROR((K51/$G51)^(1/5)-1,0) -> 0.12139279 | R51: =IFERROR(C51/AB51,0) -> 0.00036792437 | S51: =IFERROR(D51/AC51,0) -> 0.00043810896 | T51: =IFERROR(E51/AD51,0) -> 0.00031960956 | U51: =IFERROR(F51/AE51,0) -> 0.00023607697 | V51: =IFERROR(G51/AF51,0) -> 0.00023102194 | X51: =IFERROR(I51/AH51,0) -> 0.00033063407 | Y51: =IFERROR(J51/AI51,0) -> 0.00034824465 | Z51: =IFERROR(K51/AJ51,0) -> 0.00036871488 | AB51: 72746.61 | AC51: 96243.344 | AD51: 177975.56 | AE51: 282517.3 | AF51: 359599.1 | AH51: 371669.37 | AI51: 384937.95 | AJ51: 399548.9
A52: Construction | C52: 52.889139 | D52: 85.503145 | E52: 122.59614 | F52: 149.34111 | G52: 189.98545 | I52: 280.86321 | J52: 306.82567 | K52: 336.17707 | M52: =IFERROR(F52/E52-1,0) -> 0.21815506 | N52: =IFERROR((I52/$G52)^(1/5)-1,0) -> 0.081321663 | O52: =IFERROR((J52/$G52)^(1/5)-1,0) -> 0.10061206 | P52: =IFERROR((K52/$G52)^(1/5)-1,0) -> 0.12090691 | R52: =IFERROR(C52/AB52,0) -> 8.3443308e-05 | S52: =IFERROR(D52/AC52,0) -> 0.00013210687 | T52: =IFERROR(E52/AD52,0) -> 0.00017646203 | U52: =IFERROR(F52/AE52,0) -> 0.00020937523 | V52: =IFERROR(G52/AF52,0) -> 0.00023838517 | X52: =IFERROR(I52/AH52,0) -> 0.00034209577 | Y52: =IFERROR(J52/AI52,0) -> 0.00036541437 | Z52: =IFERROR(K52/AJ52,0) -> 0.00038645392 | AB52: 633833.2 | AC52: 647227.09 | AD52: 694745.15 | AE52: 713270.19 | AF52: 796968.42 | AH52: 821007.57 | AI52: 839665.02 | AJ52: 869902.07
A53: Education | C53: 146.93929 | D53: 205.21938 | E53: 286.24913 | F53: 371.04157 | G53: 507.02415 | I53: 749.81095 | J53: 820.85656 | K53: 901.70984 | M53: =IFERROR(F53/E53-1,0) -> 0.29621905 | N53: =IFERROR((I53/$G53)^(1/5)-1,0) -> 0.081395669 | O53: =IFERROR((J53/$G53)^(1/5)-1,0) -> 0.10115315 | P53: =IFERROR((K53/$G53)^(1/5)-1,0) -> 0.12203817 | R53: =IFERROR(C53/AB53,0) -> 0.00037166338 | S53: =IFERROR(D53/AC53,0) -> 0.00051720292 | T53: =IFERROR(E53/AD53,0) -> 0.00071730844 | U53: =IFERROR(F53/AE53,0) -> 0.00091765696 | V53: =IFERROR(G53/AF53,0) -> 0.0012287879 | X53: =IFERROR(I53/AH53,0) -> 0.0017882274 | Y53: =IFERROR(J53/AI53,0) -> 0.0018872072 | Z53: =IFERROR(K53/AJ53,0) -> 0.002003102 | AB53: 395355.86 | AC53: 396786.97 | AD53: 399060.03 | AE53: 404335.81 | AF53: 412621.37 | AH53: 419304.03 | AI53: 434958.36 | AJ53: 450156.72
A54: Finance | C54: 4620.5713 | D54: 6135.3636 | E54: 8242.5275 | F54: 10043.286 | G54: 13226.198 | I54: 19547.791 | J54: 21385.84 | K54: 23416.872 | M54: =IFERROR(F54/E54-1,0) -> 0.21847168 | N54: =IFERROR((I54/$G54)^(1/5)-1,0) -> 0.081265963 | O54: =IFERROR((J54/$G54)^(1/5)-1,0) -> 0.10087563 | P54: =IFERROR((K54/$G54)^(1/5)-1,0) -> 0.12103396 | R54: =IFERROR(C54/AB54,0) -> 0.010994765 | S54: =IFERROR(D54/AC54,0) -> 0.014396577 | T54: =IFERROR(E54/AD54,0) -> 0.019071816 | U54: =IFERROR(F54/AE54,0) -> 0.022494377 | V54: =IFERROR(G54/AF54,0) -> 0.028554216 | X54: =IFERROR(I54/AH54,0) -> 0.040647654 | Y54: =IFERROR(J54/AI54,0) -> 0.043072253 | Z54: =IFERROR(K54/AJ54,0) -> 0.045295692 | AB54: 420251.94 | AC54: 426168.22 | AD54: 432183.66 | AE54: 446479.85 | AF54: 463195.99 | AH54: 480908.23 | AI54: 496510.82 | AJ54: 516977.9
A55: Health | C55: 3100.7275 | D55: 4147.9967 | E55: 5540.0766 | F55: 6923.9733 | G55: 9290.9226 | I55: 13716.111 | J55: 14969.046 | K55: 16408.96 | M55: =IFERROR(F55/E55-1,0) -> 0.24979738 | N55: =IFERROR((I55/$G55)^(1/5)-1,0) -> 0.08102174 | O55: =IFERROR((J55/$G55)^(1/5)-1,0) -> 0.10008707 | P55: =IFERROR((K55/$G55)^(1/5)-1,0) -> 0.12048086 | R55: =IFERROR(C55/AB55,0) -> 0.0039794165 | S55: =IFERROR(D55/AC55,0) -> 0.0052183929 | T55: =IFERROR(E55/AD55,0) -> 0.0068416392 | U55: =IFERROR(F55/AE55,0) -> 0.0084729671 | V55: =IFERROR(G55/AF55,0) -> 0.010964283 | X55: =IFERROR(I55/AH55,0) -> 0.01541307 | Y55: =IFERROR(J55/AI55,0) -> 0.016332772 | Z55: =IFERROR(K55/AJ55,0) -> 0.017171133 | AB55: 779191.49 | AC55: 794880.11 | AD55: 809758.67 | AE55: 817184.02 | AF55: 847380.79 | AH55: 889901.29 | AI55: 916503.73 | AJ55: 955613.11
A56: Information & Communication | C56: 93244.339 | D56: 97594.693 | E56: 108047.32 | F56: 114260.3 | G56: 118977.71 | I56: 130976.84 | J56: 135983.93 | K56: 141684.93 | M56: =IFERROR(F56/E56-1,0) -> 0.057502404 | N56: =IFERROR((I56/$G56)^(1/5)-1,0) -> 0.019402708 | O56: =IFERROR((J56/$G56)^(1/5)-1,0) -> 0.027080299 | P56: =IFERROR((K56/$G56)^(1/5)-1,0) -> 0.035551287 | R56: =IFERROR(C56/AB56,0) -> 0.10871597 | S56: =IFERROR(D56/AC56,0) -> 0.11250059 | T56: =IFERROR(E56/AD56,0) -> 0.12083369 | U56: =IFERROR(F56/AE56,0) -> 0.12669151 | V56: =IFERROR(G56/AF56,0) -> 0.1276412 | X56: =IFERROR(I56/AH56,0) -> 0.13578488 | Y56: =IFERROR(J56/AI56,0) -> 0.13637043 | Z56: =IFERROR(K56/AJ56,0) -> 0.13486248 | AB56: 857687.61 | AC56: 867503.81 | AD56: 894182.09 | AE56: 901878.13 | AF56: 932126.25 | AH56: 964590.74 | AI56: 997165.82 | AJ56: 1050588.2
A57: Mining, Manufacturing | C57: 21.172541 | D57: 36.288 | E57: 66.396032 | F57: 114.43698 | G57: 352.6382 | I57: 520.63925 | J57: 568.9622 | K57: 622.92707 | M57: =IFERROR(F57/E57-1,0) -> 0.72355145 | N57: =IFERROR((I57/$G57)^(1/5)-1,0) -> 0.08103937 | O57: =IFERROR((J57/$G57)^(1/5)-1,0) -> 0.10040059 | P57: =IFERROR((K57/$G57)^(1/5)-1,0) -> 0.12052505 | R57: =IFERROR(C57/AB57,0) -> 3.395351e-05 | S57: =IFERROR(D57/AC57,0) -> 5.7342253e-05 | T57: =IFERROR(E57/AD57,0) -> 0.00010221907 | U57: =IFERROR(F57/AE57,0) -> 0.00017408383 | V57: =IFERROR(G57/AF57,0) -> 0.00050478418 | X57: =IFERROR(I57/AH57,0) -> 0.0007298922 | Y57: =IFERROR(J57/AI57,0) -> 0.00076755008 | Z57: =IFERROR(K57/AJ57,0) -> 0.00081522443 | AB57: 623574.43 | AC57: 632831.78 | AD57: 649546.44 | AE57: 657367.06 | AF57: 698592.02 | AH57: 713309.78 | AI57: 741270.45 | AJ57: 764117.28
A58: Professional services | C58: 67957.59 | D58: 74479.18 | E58: 85384.875 | F58: 93441.308 | G58: 104789.58 | I58: 105839.35 | J58: 110048.47 | K58: 114614.62 | M58: =IFERROR(F58/E58-1,0) -> 0.094354332 | N58: =IFERROR((I58/$G58)^(1/5)-1,0) -> 0.0019956089 | O58: =IFERROR((J58/$G58)^(1/5)-1,0) -> 0.0098414312 | P58: =IFERROR((K58/$G58)^(1/5)-1,0) -> 0.018085814 | R58: =IFERROR(C58/AB58,0) -> 0.019338612 | S58: =IFERROR(D58/AC58,0) -> 0.021071356 | T58: =IFERROR(E58/AD58,0) -> 0.02379204 | U58: =IFERROR(F58/AE58,0) -> 0.025919817 | V58: =IFERROR(G58/AF58,0) -> 0.028276622 | X58: =IFERROR(I58/AH58,0) -> 0.027531607 | Y58: =IFERROR(J58/AI58,0) -> 0.027819695 | Z58: =IFERROR(K58/AJ58,0) -> 0.027494596 | AB58: 3514088.3 | AC58: 3534617.4 | AD58: 3588800 | AE58: 3605014.2 | AF58: 3705873.1 | AH58: 3844285.3 | AI58: 3955775.5 | AJ58: 4168623.5
A59: Public Administration | C59: 0 | D59: 0 | E59: 0 | F59: 0 | G59: 0 | I59: 0 | J59: 0 | K59: 0 | M59: =IFERROR(F59/E59-1,0) -> 0 | N59: =IFERROR((I59/$G59)^(1/5)-1,0) -> 0 | O59: =IFERROR((J59/$G59)^(1/5)-1,0) -> 0 | P59: =IFERROR((K59/$G59)^(1/5)-1,0) -> 0 | R59: =IFERROR(C59/AB59,0) -> 0 | S59: =IFERROR(D59/AC59,0) -> 0 | T59: =IFERROR(E59/AD59,0) -> 0 | U59: =IFERROR(F59/AE59,0) -> 0 | V59: =IFERROR(G59/AF59,0) -> 0 | X59: =IFERROR(I59/AH59,0) -> 0 | Y59: =IFERROR(J59/AI59,0) -> 0 | Z59: =IFERROR(K59/AJ59,0) -> 0 | AB59: 0 | AC59: 0 | AD59: 0 | AE59: 0 | AF59: 0 | AH59: 0 | AI59: 0 | AJ59: 0
A60: Retail and Wholesale | C60: 6055.106 | D60: 7553.4716 | E60: 9877.6988 | F60: 12022.461 | G60: 18939.588 | I60: 27985.182 | J60: 30595.796 | K60: 33477.901 | M60: =IFERROR(F60/E60-1,0) -> 0.21713179 | N60: =IFERROR((I60/$G60)^(1/5)-1,0) -> 0.081213662 | O60: =IFERROR((J60/$G60)^(1/5)-1,0) -> 0.10067284 | P60: =IFERROR((K60/$G60)^(1/5)-1,0) -> 0.12066947 | R60: =IFERROR(C60/AB60,0) -> 0.0022464651 | S60: =IFERROR(D60/AC60,0) -> 0.0027587767 | T60: =IFERROR(E60/AD60,0) -> 0.0035736524 | U60: =IFERROR(F60/AE60,0) -> 0.0042540527 | V60: =IFERROR(G60/AF60,0) -> 0.0064914251 | X60: =IFERROR(I60/AH60,0) -> 0.0093464876 | Y60: =IFERROR(J60/AI60,0) -> 0.0098613248 | Z60: =IFERROR(K60/AJ60,0) -> 0.010348893 | AB60: 2695392.9 | AC60: 2737978.6 | AD60: 2764034.6 | AE60: 2826119.5 | AF60: 2917631.7 | AH60: 2994192.4 | AI60: 3102605.1 | AJ60: 3234925.7
A61: Transport | C61: 117.37815 | D61: 157.33053 | E61: 219.9116 | F61: 288.76782 | G61: 413.20625 | I61: 612.59003 | J61: 670.04686 | K61: 735.44796 | M61: =IFERROR(F61/E61-1,0) -> 0.31310866 | N61: =IFERROR((I61/$G61)^(1/5)-1,0) -> 0.081933603 | O61: =IFERROR((J61/$G61)^(1/5)-1,0) -> 0.10150801 | P61: =IFERROR((K61/$G61)^(1/5)-1,0) -> 0.12221744 | R61: =IFERROR(C61/AB61,0) -> 0.00031919908 | S61: =IFERROR(D61/AC61,0) -> 0.00042839979 | T61: =IFERROR(E61/AD61,0) -> 0.00059387022 | U61: =IFERROR(F61/AE61,0) -> 0.00077194177 | V61: =IFERROR(G61/AF61,0) -> 0.0010858349 | X61: =IFERROR(I61/AH61,0) -> 0.0015654672 | Y61: =IFERROR(J61/AI61,0) -> 0.0016373088 | Z61: =IFERROR(K61/AJ61,0) -> 0.0017372264 | AB61: 367727.08 | AC61: 367251.64 | AD61: 370302.44 | AE61: 374079.8 | AF61: 380542.42 | AH61: 391314.51 | AI61: 409236.72 | AJ61: 423346.06
A62: Utilities | C62: 261.42815 | D62: 358.97091 | E62: 495.18449 | F62: 643.20762 | G62: 877.76297 | I62: 1291.9114 | J62: 1404.8646 | K62: 1539.9986 | M62: =IFERROR(F62/E62-1,0) -> 0.29892522 | N62: =IFERROR((I62/$G62)^(1/5)-1,0) -> 0.080366466 | O62: =IFERROR((J62/$G62)^(1/5)-1,0) -> 0.098629966 | P62: =IFERROR((K62/$G62)^(1/5)-1,0) -> 0.11899621 | R62: =IFERROR(C62/AB62,0) -> 0.0032172571 | S62: =IFERROR(D62/AC62,0) -> 0.0043309688 | T62: =IFERROR(E62/AD62,0) -> 0.0058475037 | U62: =IFERROR(F62/AE62,0) -> 0.0074432292 | V62: =IFERROR(G62/AF62,0) -> 0.0097964701 | X62: =IFERROR(I62/AH62,0) -> 0.014124383 | Y62: =IFERROR(J62/AI62,0) -> 0.014754699 | Z62: =IFERROR(K62/AJ62,0) -> 0.015589194 | AB62: 81258.086 | AC62: 82884.667 | AD62: 84683.056 | AE62: 86415.131 | AF62: 89599.923 | AH62: 91466.752 | AI62: 95214.72 | AJ62: 98786.285
A63: Total EU27 | B63: EU27 | C63: =SUM(C51:C62) -> 175604.91 | D63: =SUM(D51:D62) -> 190796.18 | E63: =SUM(E51:E62) -> 218339.72 | F63: =SUM(F51:F62) -> 238324.82 | G63: =SUM(G51:G62) -> 267647.68 | I63: =SUM(I51:I62) -> 301643.98 | J63: =SUM(J51:J62) -> 316888.69 | K63: =SUM(K51:K62) -> 333886.86 | M63: =IFERROR(F63/E63-1,0) -> 0.091532142 | N63: =IFERROR((I63/$G63)^(1/5)-1,0) -> 0.02420345 | O63: =IFERROR((J63/$G63)^(1/5)-1,0) -> 0.034352694 | P63: =IFERROR((K63/$G63)^(1/5)-1,0) -> 0.045218693 | R63: =IFERROR(C63/AB63,0) -> 0.016818609 | S63: =IFERROR(D63/AC63,0) -> 0.018026214 | T63: =IFERROR(E63/AD63,0) -> 0.020095192 | U63: =IFERROR(F63/AE63,0) -> 0.021442383 | V63: =IFERROR(G63/AF63,0) -> 0.023064862 | X63: =IFERROR(I63/AH63,0) -> 0.025174865 | Y63: =IFERROR(J63/AI63,0) -> 0.025609559 | Z63: =IFERROR(K63/AJ63,0) -> 0.025817487 | AB63: 10441107 | AC63: 10584374 | AD63: 10865272 | AE63: 11114661 | AF63: 11604131 | AH63: 11981950 | AI63: 12373844 | AJ63: 12932586
A64: Source: European Data Market Monitoring Tool, IDC 2023
A65: Data Sources: IDC estimates on Eurostat Labour Force Survey by Occupation and NACE II Industry Code 2023
A68: Indicator 2.5 - Number of Data Suppliers by company size, 2020-2023, 2025, 2030 3 Scenarios
A69: Indicator 2.6 - Share of Data Suppliers by company size, 2020-2023, 2025, 2030 3 Scenarios
A70: Thousands; % | C70: Number of Data Suppliers | I70: Number of Data Suppliers | M70: Growth Rate of Data Suppliers | R70: Share of Total Number of EU Companies | X70: Share of Total Number of EU Companies | AB70: Total Number of EU Companies | AH70: Total Number of EU Companies
C71: {=$C$7:$F$7} -> 2020 | D71: 2021 | E71: 2022 | F71: 2023 | G71: 2025 | I71: 2030 Challenge Scenario | J71: 2030 Baseline Scenario | K71: 2030 High Growth Scenario | M71: Growth Rate 2023/2022 | N71: CAGR 2030/2025 Challenge Scenario | O71: CAGR 2030/2025 Baseline Scenario | P71: CAGR 2030/2025 High Growth Scenario | R71: {=$C$7:$F$7} -> 2020 | S71: 2021 | T71: 2022 | U71: 2023 | V71: 2025 | X71: 2030 Challenge Scenario | Y71: 2030 Baseline Scenario | Z71: 2030 High Growth Scenario | AB71: {=$C$7:$F$7} -> 2020 | AC71: 2021 | AD71: 2022 | AE71: 2023 | AF71: 2025 | AH71: 2030 Challenge Scenario | AI71: 2030 Baseline Scenario | AJ71: 2030 High Growth Scenario
A72: Member States | B72: Abbrev. | C72: Units | D72: Units | E72: Units | F72: Units | G72: Units | I72: Units | J72: Units | K72: Units | M72: Percent | N72: Percent | O72: Percent | P72: Percent | R72: Units | S72: Units | T72: Units | U72: Units | V72: Units | X72: Units | Y72: Units | Z72: Units | AB72: Units | AC72: Units | AD72: Units | AE72: Units | AF72: Units | AH72: Units | AI72: Units | AJ72: Units
A73: 1-249 empl. | C73: 171318.11 | D73: 186291.88 | E73: 213380.06 | F73: 233058.69 | G73: 261934.37 | I73: 295405.08 | J73: 310334.49 | K73: 326981.08 | M73: =F73/E73-1 -> 0.092223384 | N73: =IFERROR((I73/$G73)^(1/5)-1,0) -> 0.024342272 | O73: =IFERROR((J73/$G73)^(1/5)-1,0) -> 0.034492892 | P73: =IFERROR((K73/$G73)^(1/5)-1,0) -> 0.045360364 | R73: =C73/AB73 -> 0.016704607 | S73: =D73/AC73 -> 0.017928094 | T73: =E73/AD73 -> 0.020012185 | U73: =F73/AE73 -> 0.021373997 | V73: =G73/AF73 -> 0.023018547 | X73: =I73/AH73 -> 0.025151698 | Y73: =J73/AI73 -> 0.025585992 | Z73: =K73/AJ73 -> 0.025793728 | AB73: 10255741 | AC73: 10391059 | AD73: 10662507 | AE73: 10903842 | AF73: 11379275 | AH73: 11744936 | AI73: 12129078 | AJ73: 12676767
A74: 250+ empl. | C74: 4286.7924 | D74: 4504.2982 | E74: 4959.662 | F74: 5266.1333 | G74: 5713.3177 | I74: 6238.8996 | J74: 6554.2058 | K74: 6905.7788 | M74: =F74/E74-1 -> 0.061792781 | N74: =IFERROR((I74/$G74)^(1/5)-1,0) -> 0.017756591 | O74: =IFERROR((J74/$G74)^(1/5)-1,0) -> 0.027841951 | P74: =IFERROR((K74/$G74)^(1/5)-1,0) -> 0.038639553 | R74: =C74/AB74 -> 0.023125994 | S74: =D74/AC74 -> 0.023300357 | T74: =E74/AD74 -> 0.024460152 | U74: =F74/AE74 -> 0.024979413 | V74: =G74/AF74 -> 0.025408752 | X74: =I74/AH74 -> 0.026322901 | Y74: =J74/AI74 -> 0.026777418 | Z74: =K74/AJ74 -> 0.026994827 | AB74: 185366.84 | AC74: 193314.56 | AD74: 202764.97 | AE74: 210818.94 | AF74: 224856.29 | AH74: 237014.13 | AI74: 244766.16 | AJ74: 255818.59
A75: Total EU27 | B75: EU27 | C75: =SUM(C73:C74) -> 175604.91 | D75: =SUM(D73:D74) -> 190796.18 | E75: =SUM(E73:E74) -> 218339.72 | F75: =SUM(F73:F74) -> 238324.82 | G75: =SUM(G73:G74) -> 267647.68 | I75: =SUM(I73:I74) -> 301643.98 | J75: =SUM(J73:J74) -> 316888.69 | K75: =SUM(K73:K74) -> 333886.86 | M75: =F75/E75-1 -> 0.091532142 | N75: =IFERROR((I75/$G75)^(1/5)-1,0) -> 0.02420345 | O75: =IFERROR((J75/$G75)^(1/5)-1,0) -> 0.034352694 | P75: =IFERROR((K75/$G75)^(1/5)-1,0) -> 0.045218693 | R75: =C75/AB75 -> 0.016818609 | S75: =D75/AC75 -> 0.018026214 | T75: =E75/AD75 -> 0.020095192 | U75: =F75/AE75 -> 0.021442383 | V75: =G75/AF75 -> 0.023064862 | X75: =I75/AH75 -> 0.025174865 | Y75: =J75/AI75 -> 0.025609559 | Z75: =K75/AJ75 -> 0.025817487 | AB75: =SUM(AB73:AB74) -> 10441107 | AC75: =SUM(AC73:AC74) -> 10584374 | AD75: =SUM(AD73:AD74) -> 10865272 | AE75: =SUM(AE73:AE74) -> 11114661 | AF75: =SUM(AF73:AF74) -> 11604131 | AH75: =SUM(AH73:AH74) -> 11981950 | AI75: =SUM(AI73:AI74) -> 12373844 | AJ75: =SUM(AJ73:AJ74) -> 12932586
A76: SMEs share | C76: =C73/C75 -> 0.97558842 | D76: =D73/D75 -> 0.97639209 | E76: =E73/E75 -> 0.97728466 | F76: =F73/F75 -> 0.97790355 | G76: =G73/G75 -> 0.97865359 | I76: =I73/I75 -> 0.97931701 | J76: =J73/J75 -> 0.97931701 | K76: =K73/K75 -> 0.97931701
A77: Source: European Data Market Monitoring Tool, IDC 2023
A80: Indicator 2.3 - Number of Data Users by Member State, 2020-2023, 2025 2030 3 Scenarios
A81: Indicator 2.4 - Share of Data Users, by Member State, 2020-2023, 2025 2030 3 Scenarios
C82: Number of Data User Companies | I82: Number of Data User Companies | M82: Growth Rate of Data User Companies | R82: Share of Total Number of EU Private Companies | X82: Share of Total Number of EU Private Companies | AB82: Total Number of EU Private Companies | AH82: Total Number of EU Private Companies
C83: {=$C$7:$F$7} -> 2020 | D83: 2021 | E83: 2022 | F83: 2023 | G83: 2025 | I83: 2030 Challenge Scenario | J83: 2030 Baseline Scenario | K83: 2030 High Growth Scenario | M83: Growth Rate 2023/2022 | N83: CAGR 2030/2025 Challenge Scenario | O83: CAGR 2030/2025 Baseline Scenario | P83: CAGR 2030/2025 High Growth Scenario | R83: {=$C$7:$F$7} -> 2020 | S83: 2021 | T83: 2022 | U83: 2023 | V83: 2025 | X83: 2030 Challenge Scenario | Y83: 2030 Baseline Scenario | Z83: 2030 High Growth Scenario | AB83: {=$C$7:$F$7} -> 2020 | AC83: 2021 | AD83: 2022 | AE83: 2023 | AF83: 2025 | AH83: 2030 Challenge Scenario | AI83: 2030 Baseline Scenario | AJ83: 2030 High Growth Scenario
A84: Member States | B84: Abbrev. | C84: Units | D84: Units | E84: Units | F84: Units | G84: Units | I84: 000s | J84: 000s | K84: 000s | M84: Percent | N84: Percent | O84: Percent | P84: Percent | R84: Percent | S84: Percent | T84: Percent | U84: Percent | V84: Percent | X84: Percent | Y84: Percent | Z84: Percent | AB84: Units | AC84: Units | AD84: Units | AE84: Units | AF84: Units | AH84: 000s | AI84: 000s | AJ84: 000s
A85: Austria | B85: AT | C85: 14250 | D85: 14581.126 | E85: 15161.536 | F85: 15650.442 | G85: 16775.392 | I85: 19165.883 | J85: 22363.407 | K85: 27060.523 | M85: =F85/E85-1 -> 0.032246463 | N85: =IFERROR((I85/$G85)^(1/5)-1,0) -> 0.027001861 | O85: =IFERROR((J85/$G85)^(1/5)-1,0) -> 0.059188019 | P85: =IFERROR((K85/$G85)^(1/5)-1,0) -> 0.1003547 | R85: =C85/AB85 -> 0.030610463 | S85: =D85/AC85 -> 0.03008229 | T85: =E85/AD85 -> 0.031456587 | U85: =F85/AE85 -> 0.032321425 | V85: =G85/AF85 -> 0.034065648 | X85: =I85/AH85 -> 0.039140272 | Y85: =J85/AI85 -> 0.043562402 | Z85: =K85/AJ85 -> 0.045852695 | AB85: 465527.1 | AC85: 484707.97 | AD85: 481982.87 | AE85: 484212.63 | AF85: 492443.05 | AH85: 489671.68 | AI85: 513364.88 | AJ85: 590162.1
A86: Belgium | B86: BE | C86: 14450 | D86: 14895.32 | E86: 15546.724 | F86: 16119.769 | G86: 17504.074 | I86: 21336.942 | J86: 25800.465 | K86: 31280.391 | M86: =F86/E86-1 -> 0.036859507 | N86: =IFERROR((I86/$G86)^(1/5)-1,0) -> 0.040395834 | O86: =IFERROR((J86/$G86)^(1/5)-1,0) -> 0.080681398 | P86: =IFERROR((K86/$G86)^(1/5)-1,0) -> 0.12312115 | R86: =C86/AB86 -> 0.023185612 | S86: =D86/AC86 -> 0.022851449 | T86: =E86/AD86 -> 0.023657531 | U86: =F86/AE86 -> 0.02437263 | V86: =G86/AF86 -> 0.02601048 | X86: =I86/AH86 -> 0.037631659 | Y86: =J86/AI86 -> 0.036816499 | Z86: =K86/AJ86 -> 0.038417768 | AB86: 623231.34 | AC86: 651832.64 | AD86: 657157.52 | AE86: 661388.14 | AF86: 672962.36 | AH86: 566994.45 | AI86: 700785.39 | AJ86: 814216.77
A87: Bulgaria | B87: BG | C87: 3250 | D87: 3362.6188 | E87: 3509.0107 | F87: 3673.3882 | G87: 4032.2972 | I87: 4783.823 | J87: 5765.8322 | K87: 6870.9323 | M87: =F87/E87-1 -> 0.046844381 | N87: =IFERROR((I87/$G87)^(1/5)-1,0) -> 0.034771633 | O87: =IFERROR((J87/$G87)^(1/5)-1,0) -> 0.074142484 | P87: =IFERROR((K87/$G87)^(1/5)-1,0) -> 0.11248107 | R87: =C87/AB87 -> 0.0094546704 | S87: =D87/AC87 -> 0.010108153 | T87: =E87/AD87 -> 0.010364986 | U87: =F87/AE87 -> 0.010720494 | V87: =G87/AF87 -> 0.011419371 | X87: =I87/AH87 -> 0.015491122 | Y87: =J87/AI87 -> 0.015199134 | Z87: =K87/AJ87 -> 0.015388202 | AB87: 343745.46 | AC87: 332664.02 | AD87: 338544.67 | AE87: 342651.03 | AF87: 353110.27 | AH87: 308810.63 | AI87: 379352.69 | AJ87: 446506.52
A88: Croatia | B88: HR | C88: 1800 | D88: 1862.4317 | E88: 1949.7244 | F88: 2024.2761 | G88: 2202.1331 | I88: 2714.6177 | J88: 3248.9937 | K88: 3814.8426 | M88: =F88/E88-1 -> 0.038237065 | N88: =IFERROR((I88/$G88)^(1/5)-1,0) -> 0.042732771 | O88: =IFERROR((J88/$G88)^(1/5)-1,0) -> 0.080888909 | P88: =IFERROR((K88/$G88)^(1/5)-1,0) -> 0.11616041 | R88: =C88/AB88 -> 0.01252955 | S88: =D88/AC88 -> 0.010996583 | T88: =E88/AD88 -> 0.011321094 | U88: =F88/AE88 -> 0.01158355 | V88: =G88/AF88 -> 0.012120986 | X88: =I88/AH88 -> 0.017240829 | Y88: =J88/AI88 -> 0.016672555 | Z88: =K88/AJ88 -> 0.017265837 | AB88: 143660.39 | AC88: 169364.58 | AD88: 172220.5 | AE88: 174754.38 | AF88: 181679.37 | AH88: 157452.85 | AI88: 194870.77 | AJ88: 220947.45
A89: Cyprus | B89: CY | C89: 1800 | D89: 1869.4731 | E89: 1964.495 | F89: 2039.6115 | G89: 2218.8159 | I89: 2699.4185 | J89: 3204.1633 | K89: 3732.2294 | M89: =F89/E89-1 -> 0.038237065 | N89: =IFERROR((I89/$G89)^(1/5)-1,0) -> 0.039991507 | O89: =IFERROR((J89/$G89)^(1/5)-1,0) -> 0.076263661 | P89: =IFERROR((K89/$G89)^(1/5)-1,0) -> 0.10960757 | R89: =C89/AB89 -> 0.032893405 | S89: =D89/AC89 -> 0.029458185 | T89: =E89/AD89 -> 0.03030772 | U89: =F89/AE89 -> 0.030985058 | V89: =G89/AF89 -> 0.032613475 | X89: =I89/AH89 -> 0.041976955 | Y89: =J89/AI89 -> 0.043595577 | Z89: =K89/AJ89 -> 0.047548234 | AB89: 54722.215 | AC89: 63461.923 | AD89: 64818.302 | AE89: 65825.647 | AF89: 68033.715 | AH89: 64307.154 | AI89: 73497.44 | AJ89: 78493.544
A90: Czechia | B90: CZ | C90: 6950 | D90: 7095.6651 | E90: 7243.7959 | F90: 7375.8945 | G90: 7699.9317 | I90: 8643.3908 | J90: 10263.589 | K90: 12664.629 | M90: =F90/E90-1 -> 0.018236106 | N90: =IFERROR((I90/$G90)^(1/5)-1,0) -> 0.023385963 | O90: =IFERROR((J90/$G90)^(1/5)-1,0) -> 0.059162215 | P90: =IFERROR((K90/$G90)^(1/5)-1,0) -> 0.10464091 | R90: =C90/AB90 -> 0.00677865 | S90: =D90/AC90 -> 0.0069098954 | T90: =E90/AD90 -> 0.0068922703 | U90: =F90/AE90 -> 0.0069988275 | V90: =G90/AF90 -> 0.0072150503 | X90: =I90/AH90 -> 0.0080401763 | Y90: =J90/AI90 -> 0.0091472033 | Z90: =K90/AJ90 -> 0.008969962 | AB90: 1025277.9 | AC90: 1026884.6 | AD90: 1051002.9 | AE90: 1053875.7 | AF90: 1067204.2 | AH90: 1075025 | AI90: 1122046.7 | AJ90: 1411893.3
A91: Denmark | B91: DK | C91: 8400 | D91: 8658.5851 | E91: 8966.2505 | F91: 9287.6537 | G91: 10051.699 | I91: 12023.718 | J91: 14314.089 | K91: 17322.71 | M91: =F91/E91-1 -> 0.035845892 | N91: =IFERROR((I91/$G91)^(1/5)-1,0) -> 0.03647746 | O91: =IFERROR((J91/$G91)^(1/5)-1,0) -> 0.073259772 | P91: =IFERROR((K91/$G91)^(1/5)-1,0) -> 0.11500105 | R91: =C91/AB91 -> 0.036867156 | S91: =D91/AC91 -> 0.037661019 | T91: =E91/AD91 -> 0.03863436 | U91: =F91/AE91 -> 0.039708302 | V91: =G91/AF91 -> 0.042205946 | X91: =I91/AH91 -> 0.055727294 | Y91: =J91/AI91 -> 0.057696748 | Z91: =K91/AJ91 -> 0.056895885 | AB91: 227845.08 | AC91: 229908.41 | AD91: 232079.69 | AE91: 233897.03 | AF91: 238158.35 | AH91: 215759.94 | AI91: 248091.78 | AJ91: 304463.32
A92: Estonia | B92: EE | C92: 1750 | D92: 1809.6127 | E92: 1884.0152 | F92: 1966.495 | G92: 2175.9484 | I92: 2577.8857 | J92: 3153.1696 | K92: 4026.2769 | M92: =F92/E92-1 -> 0.043778747 | N92: =IFERROR((I92/$G92)^(1/5)-1,0) -> 0.034482182 | O92: =IFERROR((J92/$G92)^(1/5)-1,0) -> 0.077010031 | P92: =IFERROR((K92/$G92)^(1/5)-1,0) -> 0.13096981 | R92: =C92/AB92 -> 0.019626115 | S92: =D92/AC92 -> 0.019984665 | T92: =E92/AD92 -> 0.020463788 | U92: =F92/AE92 -> 0.021181816 | V92: =G92/AF92 -> 0.022978453 | X92: =I92/AH92 -> 0.030188107 | Y92: =J92/AI92 -> 0.031400259 | Z92: =K92/AJ92 -> 0.029270343 | AB92: 89166.908 | AC92: 90550.063 | AD92: 92065.807 | AE92: 92838.829 | AF92: 94695.163 | AH92: 85394.081 | AI92: 100418.58 | AJ92: 137554.82
A93: Finland | B93: FI | C93: 8400 | D93: 8590.8343 | E93: 8889.3991 | F93: 9205.2801 | G93: 9975.9105 | I93: 11756.792 | J93: 13669.218 | K93: 16589.331 | M93: =F93/E93-1 -> 0.035534577 | N93: =IFERROR((I93/$G93)^(1/5)-1,0) -> 0.033397153 | O93: =IFERROR((J93/$G93)^(1/5)-1,0) -> 0.065021125 | P93: =IFERROR((K93/$G93)^(1/5)-1,0) -> 0.10707047 | R93: =C93/AB93 -> 0.026156538 | S93: =D93/AC93 -> 0.026352348 | T93: =E93/AD93 -> 0.027153725 | U93: =F93/AE93 -> 0.028007741 | V93: =G93/AF93 -> 0.029999042 | X93: =I93/AH93 -> 0.035178331 | Y93: =J93/AI93 -> 0.039899948 | Z93: =K93/AJ93 -> 0.03679402 | AB93: 321143.42 | AC93: 325998.82 | AD93: 327373.1 | AE93: 328669.14 | AF93: 332540.97 | AH93: 334205.52 | AI93: 342587.35 | AJ93: 450870.31
A94: France | B94: FR | C94: 75800 | D94: 78630.941 | E94: 82030.302 | F94: 85307.841 | G94: 92923.949 | I94: 106638.4 | J94: 124719.76 | K94: 151585.74 | M94: =F94/E94-1 -> 0.039955224 | N94: =IFERROR((I94/$G94)^(1/5)-1,0) -> 0.027914976 | O94: =IFERROR((J94/$G94)^(1/5)-1,0) -> 0.060624181 | P94: =IFERROR((K94/$G94)^(1/5)-1,0) -> 0.10282383 | R94: =C94/AB94 -> 0.01792854 | S94: =D94/AC94 -> 0.017529486 | T94: =E94/AD94 -> 0.018203778 | U94: =F94/AE94 -> 0.018865773 | V94: =G94/AF94 -> 0.0202265 | X94: =I94/AH94 -> 0.023176336 | Y94: =J94/AI94 -> 0.026159418 | Z94: =K94/AJ94 -> 0.026219372 | AB94: 4227895.9 | AC94: 4485638.7 | AD94: 4506224.1 | AE94: 4521831.3 | AF94: 4594168.6 | AH94: 4601176.1 | AI94: 4767681.2 | AJ94: 5781440.7
A95: Germany | B95: DE | C95: 115000 | D95: 119784.97 | E95: 125006.45 | F95: 129195.77 | G95: 138900.56 | I95: 156305.48 | J95: 184323.04 | K95: 223905.76 | M95: =F95/E95-1 -> 0.03351288 | N95: =IFERROR((I95/$G95)^(1/5)-1,0) -> 0.023891748 | O95: =IFERROR((J95/$G95)^(1/5)-1,0) -> 0.058217954 | P95: =IFERROR((K95/$G95)^(1/5)-1,0) -> 0.10020156 | R95: =C95/AB95 -> 0.043178871 | S95: =D95/AC95 -> 0.044685344 | T95: =E95/AD95 -> 0.046443185 | U95: =F95/AE95 -> 0.047926183 | V95: =G95/AF95 -> 0.051066604 | X95: =I95/AH95 -> 0.060807257 | Y95: =J95/AI95 -> 0.065677519 | Z95: =K95/AJ95 -> 0.066303654 | AB95: 2663339.7 | AC95: 2680632.1 | AD95: 2691599.3 | AE95: 2695724.2 | AF95: 2719988.2 | AH95: 2570507 | AI95: 2806486 | AJ95: 3376974.6
A96: Greece | B96: EL | C96: 11250 | D96: 11507.058 | E96: 11896.257 | F96: 12298.313 | G96: 13158.815 | I96: 14948.775 | J96: 18158.526 | K96: 21525.762 | M96: =F96/E96-1 -> 0.03379691 | N96: =IFERROR((I96/$G96)^(1/5)-1,0) -> 0.025835605 | O96: =IFERROR((J96/$G96)^(1/5)-1,0) -> 0.066529233 | P96: =IFERROR((K96/$G96)^(1/5)-1,0) -> 0.10343906 | R96: =C96/AB96 -> 0.014741653 | S96: =D96/AC96 -> 0.014685765 | T96: =E96/AD96 -> 0.015057843 | U96: =F96/AE96 -> 0.015429131 | V96: =G96/AF96 -> 0.016053133 | X96: =I96/AH96 -> 0.021702288 | Y96: =J96/AI96 -> 0.021519049 | Z96: =K96/AJ96 -> 0.021660037 | AB96: 763143.72 | AC96: 783551.83 | AD96: 790037.25 | AE96: 797083.98 | AF96: 819703.82 | AH96: 688811.02 | AI96: 843834.94 | AJ96: 993800.78
... A114: EEA (NO, LI, IS) | B114: RoEEA | C114: 7088.7722 | D114: 7274.7502 | E114: 7454.7887 | F114: 7695.748 | G114: 8329.2565 | I114: 10085.135 | J114: 12216.863 | K114: 14975.79 | M114: =F114/E114-1 -> 0.032322761 | N114: =IFERROR((I114/$G114)^(1/5)-1,0) -> 0.038998913 | O114: =IFERROR((J114/$G114)^(1/5)-1,0) -> 0.079619433 | P114: =IFERROR((K114/$G114)^(1/5)-1,0) -> 0.12449286 | R114: =C114/AB114 -> 0.021963004 | S114: =D114/AC114 -> 0.023302239 | T114: =E114/AD114 -> 0.023696247 | U114: =F114/AE114 -> 0.024246292 | V114: =G114/AF114 -> 0.02561756 | X114: =I114/AH114 -> 0.037631892 | Y114: =J114/AI114 -> 0.035763745 | Z114: =K114/AJ114 -> 0.032902208 | AB114: 322759.68 | AC114: 312191.04 | AD114: 314597.86 | AE114: 317398.96 | AF114: 325138.55 | AH114: 267994.36 | AI114: 341599.1 | AJ114: 455160.64
A115: Total EU27 | B115: EU27 | C115: =SUM(C85:C111) -> 542510 | D115: =SUM(D85:D111) -> 560595.96 | E115: =SUM(E85:E111) -> 583581.1 | F115: =SUM(F85:F111) -> 604280.49 | G115: =SUM(G85:G111) -> 653198.25 | I115: =SUM(I85:I111) -> 764931.28 | J115: =SUM(J85:J111) -> 909735.09 | K115: =SUM(K85:K111) -> 1098209.8 | M115: =F115/E115-1 -> 0.035469596 | N115: =IFERROR((I115/$G115)^(1/5)-1,0) -> 0.032085035 | O115: =IFERROR((J115/$G115)^(1/5)-1,0) -> 0.068498672 | P115: =IFERROR((K115/$G115)^(1/5)-1,0) -> 0.10950192 | R115: =C115/AB115 -> 0.021047641 | S115: =D115/AC115 -> 0.021315338 | T115: =E115/AD115 -> 0.021999473 | U115: =F115/AE115 -> 0.022640285 | V115: =G115/AF115 -> 0.023991017 | X115: =I115/AH115 -> 0.030933281 | Y115: =J115/AI115 -> 0.03185645 | Z115: =K115/AJ115 -> 0.032364067 | AB115: =SUM(AB85:AB111) -> 25775335 | AC115: =SUM(AC85:AC111) -> 26300120 | AD115: =SUM(AD85:AD111) -> 26527049 | AE115: =SUM(AE85:AE111) -> 26690498 | AF115: =SUM(AF85:AF111) -> 27226785 | AH115: =SUM(AH85:AH111) -> 24728424 | AI115: =SUM(AI85:AI111) -> 28557328 | AJ115: =SUM(AJ85:AJ111) -> 33932996
A116: Total EU27 + U.K. | B116: EU27 + UK | C116: =SUM(C113,C115) -> 726110 | D116: =SUM(D113,D115) -> 751106.4 | E116: =SUM(E113,E115) -> 781736.4 | F116: =SUM(F113,F115) -> 809462.43 | G116: =SUM(G113,G115) -> 874643 | I116: =SUM(I113,I115) -> 1017882.7 | J116: =SUM(J113,J115) -> 1207525.1 | K116: =SUM(K113,K115) -> 1455034.5 | M116: =F116/E116-1 -> 0.035467246 | N116: =IFERROR((I116/$G116)^(1/5)-1,0) -> 0.030797558 | O116: =IFERROR((J116/$G116)^(1/5)-1,0) -> 0.066628224 | P116: =IFERROR((K116/$G116)^(1/5)-1,0) -> 0.10715517 | R116: =C116/AB116 -> 0.025598464 | S116: =D116/AC116 -> 0.025871544 | T116: =E116/AD116 -> 0.026718748 | U116: =F116/AE116 -> 0.027510285 | V116: =G116/AF116 -> 0.029154479 | X116: =I116/AH116 -> 0.037084381 | Y116: =J116/AI116 -> 0.038407517 | Z116: =K116/AJ116 -> 0.03912133 | AB116: =SUM(AB113,AB115) -> 28365374 | AC116: =SUM(AC113,AC115) -> 29032145 | AD116: =SUM(AD113,AD115) -> 29257972 | AE116: =SUM(AE113,AE115) -> 29423993 | AF116: =SUM(AF113,AF115) -> 30000296 | AH116: =SUM(AH113,AH115) -> 27447747 | AI116: =SUM(AI113,AI115) -> 31439812 | AJ116: =SUM(AJ113,AJ115) -> 37192869
A117: Total All Countries | C117: =SUM(C85:C114) -> 749504.81 | D117: =SUM(D85:D114) -> 775181.99 | E117: =SUM(E85:E114) -> 806661.53 | F117: =SUM(F85:F114) -> 835262.43 | G117: =SUM(G85:G114) -> 902518.99 | I117: =SUM(I85:I114) -> 1050257.9 | J117: =SUM(J85:J114) -> 1246407 | K117: =SUM(K85:K114) -> 1502297.7 | M117: =F117/E117-1 -> 0.035455886 | N117: =IFERROR((I117/$G117)^(1/5)-1,0) -> 0.030784605 | O117: =IFERROR((J117/$G117)^(1/5)-1,0) -> 0.066696099 | P117: =IFERROR((K117/$G117)^(1/5)-1,0) -> 0.10728631 | R117: =C117/AB117 -> 0.025720183 | S117: =D117/AC117 -> 0.026009858 | T117: =E117/AD117 -> 0.026857291 | U117: =F117/AE117 -> 0.02765168 | V117: =G117/AF117 -> 0.029304164 | X117: =I117/AH117 -> 0.037328496 | Y117: =J117/AI117 -> 0.038617616 | Z117: =K117/AJ117 -> 0.03931086 | AB117: =SUM(AB85:AB114) -> 29140726 | AC117: =SUM(AC85:AC114) -> 29803392 | AD117: =SUM(AD85:AD114) -> 30035105 | AE117: =SUM(AE85:AE114) -> 30206570 | AF117: =SUM(AF85:AF114) -> 30798319 | AH117: =SUM(AH85:AH114) -> 28135554 | AI117: =SUM(AI85:AI114) -> 32275607 | AJ117: =SUM(AJ85:AJ114) -> 38215844
A118: Source: European Data Market Monitoring Tool, IDC 2023
A119: Data Sources: IDC estimates on Eurostat Labour Force Survey by Occupation and NACE II Industry Code 2023
A122: Indicator 2.3 - Number of Data Users by Industry, 2020-2023, 2025 2030 3 Scenarios
A123: Indicator 2.4 - Share of Data Users, by Industry, 2020-2023, 2025 2030 3 Scenarios
C124: Number of Data User Companies | I124: Number of Data User Companies | M124: Growth Rate of Data User Companies | R124: Share of Total Number of EU Companies | X124: Share of Total Number of EU Companies | AB124: Total Number of EU Companies | AH124: Total Number of EU Companies
C125: {=$C$7:$F$7} -> 2020 | D125: 2021 | E125: 2022 | F125: 2023 | G125: 2025 | I125: 2030 Challenge Scenario | J125: 2030 Baseline Scenario | K125: 2030 High Growth Scenario | M125: Growth Rate 2023/2022 | N125: CAGR 2030/2025 Challenge Scenario | O125: CAGR 2030/2025 Baseline Scenario | P125: CAGR 2030/2025 High Growth Scenario | R125: {=$C$7:$F$7} -> 2020 | S125: 2021 | T125: 2022 | U125: 2023 | V125: 2025 | X125: 2030 Challenge Scenario | Y125: 2030 Baseline Scenario | Z125: 2030 High Growth Scenario | AB125: {=$C$7:$F$7} -> 2020 | AC125: 2021 | AD125: 2022 | AE125: 2023 | AF125: 2025 | AH125: 2030 Challenge Scenario | AI125: 2030 Baseline Scenario | AJ125: 2030 High Growth Scenario
A126: Member States | B126: Abbrev. | C126: Units | D126: Units | E126: Units | F126: Units | G126: Units | I126: Units | J126: Units | K126: Units | M126: Percent | N126: Percent | O126: Percent | P126: Percent | R126: Units | S126: Units | T126: Units | U126: Units | V126: Units | X126: Units | Y126: Units | Z126: Units | AB126: Units | AC126: Units | AD126: Units | AE126: Units | AF126: Units | AH126: Units | AI126: Units | AJ126: Units
A127: Agriculture | C127: 3757.5913 | D127: 4414.1202 | E127: 5649.1974 | F127: 7132.0971 | G127: 10939.942 | I127: 15191.529 | J127: 18069.776 | K127: 21806.354 | M127: =F127/E127-1 -> 0.26249742 | N127: =IFERROR((I127/$G127)^(1/5)-1,0) -> 0.067867306 | O127: =IFERROR((J127/$G127)^(1/5)-1,0) -> 0.10557331 | P127: =IFERROR((K127/$G127)^(1/5)-1,0) -> 0.14792525 | R127: =IFERROR(C127/AB127,0) -> 0.0059693946 | S127: =IFERROR(D127/AC127,0) -> 0.0076890304 | T127: =IFERROR(E127/AD127,0) -> 0.0098089393 | U127: =IFERROR(F127/AE127,0) -> 0.012335341 | V127: =IFERROR(G127/AF127,0) -> 0.01801899 | X127: =IFERROR(I127/AH127,0) -> 0.026624792 | Y127: =IFERROR(J127/AI127,0) -> 0.027909056 | Z127: =IFERROR(K127/AJ127,0) -> 0.029026718 | AB127: 629476.1 | AC127: 574080.21 | AD127: 575923.37 | AE127: 578184.04 | AF127: 607134.03 | AH127: 570578.3 | AI127: 647452.06 | AJ127: 751251.12
A128: Construction | C128: 34234.816 | D128: 35208.299 | E128: 36495.139 | F128: 37563.697 | G128: 40171.225 | I128: 46575.427 | J128: 55374.288 | K128: 66826.985 | M128: =F128/E128-1 -> 0.029279452 | N128: =IFERROR((I128/$G128)^(1/5)-1,0) -> 0.030026395 | O128: =IFERROR((J128/$G128)^(1/5)-1,0) -> 0.066298052 | P128: =IFERROR((K128/$G128)^(1/5)-1,0) -> 0.10715228 | R128: =IFERROR(C128/AB128,0) -> 0.009218211 | S128: =IFERROR(D128/AC128,0) -> 0.0093572154 | T128: =IFERROR(E128/AD128,0) -> 0.0096356647 | U128: =IFERROR(F128/AE128,0) -> 0.0098744154 | V128: =IFERROR(G128/AF128,0) -> 0.010259923 | X128: =IFERROR(I128/AH128,0) -> 0.012492803 | Y128: =IFERROR(J128/AI128,0) -> 0.013501932 | Z128: =IFERROR(K128/AJ128,0) -> 0.01421752 | AB128: 3713824.3 | AC128: 3762689.8 | AD128: 3787506.1 | AE128: 3804143.9 | AF128: 3915353.7 | AH128: 3728180.6 | AI128: 4101212.1 | AJ128: 4700326.4
A129: Education | C129: 12153.929 | D129: 13209.105 | E129: 14420.285 | F129: 15375.317 | G129: 17311.201 | I129: 20793.608 | J129: 24734.164 | K129: 29847.198 | M129: =F129/E129-1 -> 0.066228348 | N129: =IFERROR((I129/$G129)^(1/5)-1,0) -> 0.037338578 | O129: =IFERROR((J129/$G129)^(1/5)-1,0) -> 0.073974596 | P129: =IFERROR((K129/$G129)^(1/5)-1,0) -> 0.11510374 | R129: =IFERROR(C129/AB129,0) -> 0.014512808 | S129: =IFERROR(D129/AC129,0) -> 0.014666416 | T129: =IFERROR(E129/AD129,0) -> 0.01557408 | U129: =IFERROR(F129/AE129,0) -> 0.016246075 | V129: =IFERROR(G129/AF129,0) -> 0.019370408 | X129: =IFERROR(I129/AH129,0) -> 0.026190851 | Y129: =IFERROR(J129/AI129,0) -> 0.026117843 | Z129: =IFERROR(K129/AJ129,0) -> 0.026996649 | AB129: 837462.27 | AC129: 900636.19 | AD129: 925915.68 | AE129: 946401.93 | AF129: 893693.15 | AH129: 793926.37 | AI129: 947021.71 | AJ129: 1105589
A130: Finance | C130: 29960.099 | D130: 30191.581 | E130: 30571.826 | F130: 31003.507 | G130: 32263.29 | I130: 36859.931 | J130: 43837.35 | K130: 52914.41 | M130: =F130/E130-1 -> 0.014120216 | N130: =IFERROR((I130/$G130)^(1/5)-1,0) -> 0.026996995 | O130: =IFERROR((J130/$G130)^(1/5)-1,0) -> 0.06322977 | P130: =IFERROR((K130/$G130)^(1/5)-1,0) -> 0.10401014 | R130: =IFERROR(C130/AB130,0) -> 0.050485859 | S130: =IFERROR(D130/AC130,0) -> 0.049583045 | T130: =IFERROR(E130/AD130,0) -> 0.050155138 | U130: =IFERROR(F130/AE130,0) -> 0.050899561 | V130: =IFERROR(G130/AF130,0) -> 0.050329108 | X130: =IFERROR(I130/AH130,0) -> 0.063960452 | Y130: =IFERROR(J130/AI130,0) -> 0.065451502 | Z130: =IFERROR(K130/AJ130,0) -> 0.067098213 | AB130: 593435.46 | AC130: 608909.38 | AD130: 609545.26 | AE130: 609111.49 | AF130: 641046.34 | AH130: 576292.53 | AI130: 669768.44 | AJ130: 788611.32
A131: Health | C131: 25954.675 | D131: 27999.091 | E131: 30372.956 | F131: 32237.544 | G131: 36097.262 | I131: 43221.809 | J131: 51398.327 | K131: 62041.016 | M131: =F131/E131-1 -> 0.061389741 | N131: =IFERROR((I131/$G131)^(1/5)-1,0) -> 0.036682423 | O131: =IFERROR((J131/$G131)^(1/5)-1,0) -> 0.073235288 | P131: =IFERROR((K131/$G131)^(1/5)-1,0) -> 0.11439955 | R131: =IFERROR(C131/AB131,0) -> 0.011898074 | S131: =IFERROR(D131/AC131,0) -> 0.012106852 | T131: =IFERROR(E131/AD131,0) -> 0.012873818 | U131: =IFERROR(F131/AE131,0) -> 0.013429144 | V131: =IFERROR(G131/AF131,0) -> 0.015588033 | X131: =IFERROR(I131/AH131,0) -> 0.020607061 | Y131: =IFERROR(J131/AI131,0) -> 0.02108533 | Z131: =IFERROR(K131/AJ131,0) -> 0.021615834 | AB131: 2181418.1 | AC131: 2312664.9 | AD131: 2359281.2 | AE131: 2400565.8 | AF131: 2315703.5 | AH131: 2097427.2 | AI131: 2437634.4 | AJ131: 2870165.3
A132: Information & Communication | C132: 58506.651 | D132: 59164.727 | E132: 60144.713 | F132: 61121.706 | G132: 63888.345 | I132: 73178.172 | J132: 87033.278 | K132: 105085.73 | M132: =F132/E132-1 -> 0.016244032 | N132: =IFERROR((I132/$G132)^(1/5)-1,0) -> 0.027524024 | O132: =IFERROR((J132/$G132)^(1/5)-1,0) -> 0.063782254 | P132: =IFERROR((K132/$G132)^(1/5)-1,0) -> 0.10464931 | R132: =IFERROR(C132/AB132,0) -> 0.042515663 | S132: =IFERROR(D132/AC132,0) -> 0.045122153 | T132: =IFERROR(E132/AD132,0) -> 0.044428962 | U132: =IFERROR(F132/AE132,0) -> 0.043864195 | V132: =IFERROR(G132/AF132,0) -> 0.04957308 | X132: =IFERROR(I132/AH132,0) -> 0.062136744 | Y132: =IFERROR(J132/AI132,0) -> 0.063587329 | Z132: =IFERROR(K132/AJ132,0) -> 0.065206468 | AB132: 1376119.9 | AC132: 1311212.4 | AD132: 1353727.6 | AE132: 1393430.5 | AF132: 1288770.9 | AH132: 1177695.6 | AI132: 1368720.5 | AJ132: 1611584.5
A133: Mining, Manufacturing | C133: 83428.312 | D133: 81444.547 | E133: 79771.549 | F133: 79003.755 | G133: 79153.354 | I133: 88323.512 | J133: 105053.6 | K133: 126791.14 | M133: =F133/E133-1 -> -0.0096249123 | N133: =IFERROR((I133/$G133)^(1/5)-1,0) -> 0.02216593 | O133: =IFERROR((J133/$G133)^(1/5)-1,0) -> 0.058250107 | P133: =IFERROR((K133/$G133)^(1/5)-1,0) -> 0.098813325 | R133: =IFERROR(C133/AB133,0) -> 0.039000728 | S133: =IFERROR(D133/AC133,0) -> 0.036571849 | T133: =IFERROR(E133/AD133,0) -> 0.035846451 | U133: =IFERROR(F133/AE133,0) -> 0.03562243 | V133: =IFERROR(G133/AF133,0) -> 0.033567659 | X133: =IFERROR(I133/AH133,0) -> 0.042554999 | Y133: =IFERROR(J133/AI133,0) -> 0.042603584 | Z133: =IFERROR(K133/AJ133,0) -> 0.04519255 | AB133: 2139147.5 | AC133: 2226973.7 | AD133: 2225368.1 | AE133: 2217809.3 | AF133: 2358024.2 | AH133: 2075514.4 | AI133: 2465839.4 | AJ133: 2805576.2
A134: Professional services | C134: 146795.32 | D134: 155230.56 | E134: 164984.45 | F134: 173087.53 | G134: 190718.92 | I134: 225605.95 | J134: 268282.54 | K134: 323950.93 | M134: =F134/E134-1 -> 0.049114243 | N134: =IFERROR((I134/$G134)^(1/5)-1,0) -> 0.034168614 | O134: =IFERROR((J134/$G134)^(1/5)-1,0) -> 0.070630781 | P134: =IFERROR((K134/$G134)^(1/5)-1,0) -> 0.11177547 | R134: =IFERROR(C134/AB134,0) -> 0.021742723 | S134: =IFERROR(D134/AC134,0) -> 0.022797004 | T134: =IFERROR(E134/AD134,0) -> 0.023708697 | U134: =IFERROR(F134/AE134,0) -> 0.024396861 | V134: =IFERROR(G134/AF134,0) -> 0.028006475 | X134: =IFERROR(I134/AH134,0) -> 0.035895954 | Y134: =IFERROR(J134/AI134,0) -> 0.037402363 | Z134: =IFERROR(K134/AJ134,0) -> 0.036462522 | AB134: 6751468.9 | AC134: 6809252.5 | AD134: 6958815.6 | AE134: 7094664 | AF134: 6809815.4 | AH134: 6284996.7 | AI134: 7172876.8 | AJ134: 8884490.6
A135: Public Administration | C135: 0 | D135: 0 | E135: 0 | F135: 0 | G135: 0 | I135: 0 | J135: 0 | K135: 0 | N135: =IFERROR((I135/$G135)^(1/5)-1,0) -> 0 | O135: =IFERROR((J135/$G135)^(1/5)-1,0) -> 0 | P135: =IFERROR((K135/$G135)^(1/5)-1,0) -> 0 | R135: =IFERROR(C135/AB135,0) -> 0 | S135: =IFERROR(D135/AC135,0) -> 0 | T135: =IFERROR(E135/AD135,0) -> 0 | U135: =IFERROR(F135/AE135,0) -> 0 | V135: =IFERROR(G135/AF135,0) -> 0 | X135: =IFERROR(I135/AH135,0) -> 0 | Y135: =IFERROR(J135/AI135,0) -> 0 | Z135: =IFERROR(K135/AJ135,0) -> 0 | AB135: 0 | AC135: 0 | AD135: 0 | AE135: 0 | AF135: 0 | AH135: 0 | AI135: 0 | AJ135: 0
A136: Retail and Wholesale | C136: 77637.716 | D136: 85553.414 | E136: 94670.718 | F136: 102034.26 | G136: 117036.15 | I136: 142110.38 | J136: 169035.34 | K136: 204035.54 | M136: =F136/E136-1 -> 0.077780544 | N136: =IFERROR((I136/$G136)^(1/5)-1,0) -> 0.03958775 | O136: =IFERROR((J136/$G136)^(1/5)-1,0) -> 0.076295429 | P136: =IFERROR((K136/$G136)^(1/5)-1,0) -> 0.11757624 | R136: =IFERROR(C136/AB136,0) -> 0.013067257 | S136: =IFERROR(D136/AC136,0) -> 0.013934636 | T136: =IFERROR(E136/AD136,0) -> 0.015652684 | U136: =IFERROR(F136/AE136,0) -> 0.017180587 | V136: =IFERROR(G136/AF136,0) -> 0.017450212 | X136: =IFERROR(I136/AH136,0) -> 0.024093469 | Y136: =IFERROR(J136/AI136,0) -> 0.024266659 | Z136: =IFERROR(K136/AJ136,0) -> 0.024517161 | AB136: 5941393.5 | AC136: 6139623.3 | AD136: 6048209.9 | AE136: 5938927.3 | AF136: 6706861 | AH136: 5898294.5 | AI136: 6965744.1 | AJ136: 8322152.1
A137: Transport | C137: 60076.502 | D137: 58362.7 | E137: 56832.741 | F137: 56104.246 | G137: 55912.754 | I137: 62194.35 | J137: 73979.188 | K137: 89294.759 | M137: =F137/E137-1 -> -0.012818221 | N137: =IFERROR((I137/$G137)^(1/5)-1,0) -> 0.021522669 | O137: =IFERROR((J137/$G137)^(1/5)-1,0) -> 0.057595843 | P137: =IFERROR((K137/$G137)^(1/5)-1,0) -> 0.098153415 | R137: =IFERROR(C137/AB137,0) -> 0.044142331 | S137: =IFERROR(D137/AC137,0) -> 0.042097363 | T137: =IFERROR(E137/AD137,0) -> 0.040260533 | U137: =IFERROR(F137/AE137,0) -> 0.039147401 | V137: =IFERROR(G137/AF137,0) -> 0.03934944 | X137: =IFERROR(I137/AH137,0) -> 0.048252096 | Y137: =IFERROR(J137/AI137,0) -> 0.049384781 | Z137: =IFERROR(K137/AJ137,0) -> 0.050625719 | AB137: 1360972.6 | AC137: 1386374.2 | AD137: 1411624.1 | AE137: 1433153.8 | AF137: 1420928.8 | AH137: 1288946.1 | AI137: 1498015.9 | AJ137: 1763822
A138: Utilities | C138: 10004.393 | D138: 9817.8147 | E138: 9667.5296 | F138: 9616.8277 | G138: 9705.8079 | I138: 10876.611 | J138: 12937.249 | K138: 15615.68 | M138: =F138/E138-1 -> -0.0052445606 | N138: =IFERROR((I138/$G138)^(1/5)-1,0) -> 0.023039452 | O138: =IFERROR((J138/$G138)^(1/5)-1,0) -> 0.059161163 | P138: =IFERROR((K138/$G138)^(1/5)-1,0) -> 0.099780062 | R138: =IFERROR(C138/AB138,0) -> 0.03991919 | S138: =IFERROR(D138/AC138,0) -> 0.036674213 | T138: =IFERROR(E138/AD138,0) -> 0.035656172 | U138: =IFERROR(F138/AE138,0) -> 0.035084371 | V138: =IFERROR(G138/AF138,0) -> 0.036020331 | X138: =IFERROR(I138/AH138,0) -> 0.045975997 | Y138: =IFERROR(J138/AI138,0) -> 0.045707734 | Z138: =IFERROR(K138/AJ138,0) -> 0.047402472 | AB138: 250616.14 | AC138: 267703.48 | AD138: 271132.01 | AE138: 274105.74 | AF138: 269453.6 | AH138: 236571.51 | AI138: 283042.88 | AJ138: 329427.54
A139: Total EU27 | B139: EU27 | C139: =SUM(C127:C138) -> 542510 | D139: =SUM(D127:D138) -> 560595.96 | E139: =SUM(E127:E138) -> 583581.1 | F139: =SUM(F127:F138) -> 604280.49 | G139: =SUM(G127:G138) -> 653198.25 | I139: =SUM(I127:I138) -> 764931.28 | J139: =SUM(J127:J138) -> 909735.09 | K139: =SUM(K127:K138) -> 1098209.8 | M139: =F139/E139-1 -> 0.035469596 | N139: =IFERROR((I139/$G139)^(1/5)-1,0) -> 0.032085035 | O139: =IFERROR((J139/$G139)^(1/5)-1,0) -> 0.068498672 | P139: =IFERROR((K139/$G139)^(1/5)-1,0) -> 0.10950192 | R139: =IFERROR(C139/AB139,0) -> 0.021047641 | S139: =IFERROR(D139/AC139,0) -> 0.021315338 | T139: =IFERROR(E139/AD139,0) -> 0.021999473 | U139: =IFERROR(F139/AE139,0) -> 0.022640285 | V139: =IFERROR(G139/AF139,0) -> 0.023991017 | X139: =IFERROR(I139/AH139,0) -> 0.030933281 | Y139: =IFERROR(J139/AI139,0) -> 0.03185645 | Z139: =IFERROR(K139/AJ139,0) -> 0.032364067 | AB139: =SUM(AB127:AB138) -> 25775335 | AC139: =SUM(AC127:AC138) -> 26300120 | AD139: =SUM(AD127:AD138) -> 26527049 | AE139: =SUM(AE127:AE138) -> 26690498 | AF139: =SUM(AF127:AF138) -> 27226785 | AH139: =SUM(AH127:AH138) -> 24728424 | AI139: =SUM(AI127:AI138) -> 28557328 | AJ139: =SUM(AJ127:AJ138) -> 33932996
A140: Source: European Data Market Monitoring Tool, IDC 2023
A141: Data Sources: IDC estimates on Eurostat Labour Force Survey by Occupation and NACE II Industry Code 2023
A144: Indicator 2.3 - Number of Data Users by Company size, 2020-2023, 2025, 2030 3 Scenarios
A145: Indicator 2.4 - Share of Data Users, by Company size, 2020-2023, 2025, 2030 3 Scenarios
A146: Thousands; % | C146: Number of Data Users | I146: Number of Data Users | M146: Growth Rate of Data Users | R146: Share of Total Number of EU Companies | X146: Share of Total Number of EU Companies | AB146: Total Number of EU Companies | AH146: Total Number of EU Companies
...

Sheet Ind. 3. DC Revenue 
A1: October 2023 Deliverable
A3: INDICATOR 3: MEASUREMENT OF DATA COMPANIES' REVENUES
A4: Indicator 3.1 - Total Revenues of Data Supplier Companies by Member State, 2020-2023, 2025, 2030 3 scenarios
A5: Indicator 3.2 - Share of Data Companies' Revenues by Member State, 2020-2023, 2025, 2030 3 scenarios
C6: Data Supplier Company Revenues | I6: Data Supplier Company Revenues | M6: Growth Rate of Data Companies Revenues | R6: Source data Turnover EU28 NACE for companies with 0+ empl. | X6: Share of Data Companies Revenues
C7: 2020 | D7: 2021 | E7: 2022 | F7: 2023 | G7: 2025 | I7: 2030 Challenge Scenario | J7: 2030 Baseline Scenario | K7: 2030 High Growth Scenario | M7: Growth Rate 2023/2022 | N7: CAGR 2030/2025 Challenge Scenario | O7: CAGR 2030/2025 Baseline Scenario | P7: CAGR 2030/2025 High Growth Scenario | R7: 2020 | S7: 2021 | T7: 2022 | U7: 2023 | X7: 2020 | Y7: 2021 | Z7: 2022 | AA7: 2023
A8: Member States | B8: Abbrev. | C8: Euro (M) | D8: Euro (M) | E8: Euro (M) | F8: Euro (M) | G8: Euro (M) | I8: Euro (M) | J8: Euro (M) | K8: Euro (M) | M8: Percent | N8: Percent | O8: Percent | P8: Percent | R8: Euro (M) | S8: Euro (M) | T8: Euro (M) | U8: Euro (M) | X8: Percent | Y8: Percent | Z8: Percent | AA8: Percent
A9: Austria | B9: AT | C9: 1898.2482 | D9: 2022.0215 | E9: 2295.1105 | F9: 2465.2086 | G9: 2795.1899 | I9: 2850.6678 | J9: 2942.3 | K9: 4018.1001 | M9: =F9/E9-1 -> 0.07411323 | N9: =IFERROR((I9/$G9)^(1/5)-1,0) -> 0.0039383858 | O9: =IFERROR((J9/$G9)^(1/5)-1,0) -> 0.010311104 | P9: =IFERROR((K9/$G9)^(1/5)-1,0) -> 0.075280791 | R9: 635769.4 | S9: 603328.1 | T9: 641749.25 | U9: 655206.68 | X9: =IFERROR(C9/R9,0) -> 0.0029857496 | Y9: =IFERROR(D9/S9,0) -> 0.003351446 | Z9: =IFERROR(E9/T9,0) -> 0.0035763353 | AA9: =IFERROR(F9/U9,0) -> 0.00376249
A10: Belgium | B10: BE | C10: 2380.8189 | D10: 2602.8264 | E10: 2735.2134 | F10: 2836.7869 | G10: 3154.5573 | I10: 3667.484 | J10: 4911.2824 | K10: 5681.1993 | M10: =F10/E10-1 -> 0.037135492 | N10: =IFERROR((I10/$G10)^(1/5)-1,0) -> 0.030590086 | O10: =IFERROR((J10/$G10)^(1/5)-1,0) -> 0.092575093 | P10: =IFERROR((K10/$G10)^(1/5)-1,0) -> 0.12486478 | R10: 949721.9 | S10: 900820.1 | T10: 928544.29 | U10: 933169.16 | X10: =IFERROR(C10/R10,0) -> 0.002506859 | Y10: =IFERROR(D10/S10,0) -> 0.0028893965 | Z10: =IFERROR(E10/T10,0) -> 0.0029457005 | AA10: =IFERROR(F10/U10,0) -> 0.0030399492
A11: Bulgaria | B11: BG | C11: 320.22844 | D11: 343.30392 | E11: 386.35827 | F11: 422.61706 | G11: 479.85485 | I11: 646.42462 | J11: 742.44997 | K11: 855.64565 | M11: =F11/E11-1 -> 0.093847587 | N11: =IFERROR((I11/$G11)^(1/5)-1,0) -> 0.06140615 | O11: =IFERROR((J11/$G11)^(1/5)-1,0) -> 0.091217848 | P11: =IFERROR((K11/$G11)^(1/5)-1,0) -> 0.12263043 | R11: 134773.6 | S11: 129093.4 | T11: 140905.05 | U11: 146885.56 | X11: =IFERROR(C11/R11,0) -> 0.0023760472 | Y11: =IFERROR(D11/S11,0) -> 0.0026593452 | Z11: =IFERROR(E11/T11,0) -> 0.002741976 | AA11: =IFERROR(F11/U11,0) -> 0.0028771859
A12: Croatia | B12: HR | C12: 187.81524 | D12: 214.55508 | E12: 247.67926 | F12: 277.97322 | G12: 351.61951 | I12: 355.7576 | J12: 398.57001 | K12: 487.41885 | M12: =F12/E12-1 -> 0.12231126 | N12: =IFERROR((I12/$G12)^(1/5)-1,0) -> 0.0023427299 | O12: =IFERROR((J12/$G12)^(1/5)-1,0) -> 0.025383515 | P12: =IFERROR((K12/$G12)^(1/5)-1,0) -> 0.067495055 | R12: 80084.4 | S12: 73794.7 | T12: 80125.21 | U12: 81874.12 | X12: =IFERROR(C12/R12,0) -> 0.0023452163 | Y12: =IFERROR(D12/S12,0) -> 0.0029074593 | Z12: =IFERROR(E12/T12,0) -> 0.0030911527 | AA12: =IFERROR(F12/U12,0) -> 0.0033951292
A13: Cyprus | B13: CY | C13: 178.18548 | D13: 191.71487 | E13: 199.70852 | F13: 223.19851 | G13: 281.16042 | I13: 284.92706 | J13: 349.54922 | K13: 410.20004 | M13: =F13/E13-1 -> 0.11762137 | N13: =IFERROR((I13/$G13)^(1/5)-1,0) -> 0.0026651119 | O13: =IFERROR((J13/$G13)^(1/5)-1,0) -> 0.044505739 | P13: =IFERROR((K13/$G13)^(1/5)-1,0) -> 0.078470584 | R13: 29062.1 | S13: 28775.2 | T13: 31425.65 | U13: 33109.14 | X13: =IFERROR(C13/R13,0) -> 0.0061311976 | Y13: =IFERROR(D13/S13,0) -> 0.0066625034 | Z13: =IFERROR(E13/T13,0) -> 0.0063549527 | AA13: =IFERROR(F13/U13,0) -> 0.0067412959
A14: Czechia | B14: CZ | C14: 640.61355 | D14: 671.15909 | E14: 678.63369 | F14: 689.30912 | G14: 847.57025 | I14: 865.72899 | J14: 944.33217 | K14: 1190.7293 | M14: =F14/E14-1 -> 0.015730776 | N14: =IFERROR((I14/$G14)^(1/5)-1,0) -> 0.004248637 | O14: =IFERROR((J14/$G14)^(1/5)-1,0) -> 0.021856273 | P14: =IFERROR((K14/$G14)^(1/5)-1,0) -> 0.070354082 | R14: 487872.3 | S14: 448748.2 | T14: 495584.67 | U14: 511438.04 | X14: =IFERROR(C14/R14,0) -> 0.0013130763 | Y14: =IFERROR(D14/S14,0) -> 0.0014956251 | Z14: =IFERROR(E14/T14,0) -> 0.0013693597 | AA14: =IFERROR(F14/U14,0) -> 0.0013477862
A15: Denmark | B15: DK | C15: 1991.5665 | D15: 2145.5299 | E15: 2428.323 | F15: 2628.4705 | G15: 3151.9834 | I15: 3175.735 | J15: 3720.9998 | K15: 4527.7391 | M15: =F15/E15-1 -> 0.082422102 | N15: =IFERROR((I15/$G15)^(1/5)-1,0) -> 0.0015025627 | O15: =IFERROR((J15/$G15)^(1/5)-1,0) -> 0.0337491 | P15: =IFERROR((K15/$G15)^(1/5)-1,0) -> 0.075126317 | R15: 475523.4 | S15: 462825.7 | T15: 490129.62 | U15: 503461.22 | X15: =IFERROR(C15/R15,0) -> 0.0041881567 | Y15: =IFERROR(D15/S15,0) -> 0.004635719 | Z15: =IFERROR(E15/T15,0) -> 0.0049544506 | AA15: =IFERROR(F15/U15,0) -> 0.0052208003
A16: Estonia | B16: EE | C16: 350.95828 | D16: 372.46005 | E16: 454.55167 | F16: 512.20055 | G16: 729.35041 | I16: 795.96797 | J16: 945.04222 | K16: 1118.2125 | M16: =F16/E16-1 -> 0.12682581 | N16: =IFERROR((I16/$G16)^(1/5)-1,0) -> 0.017634617 | O16: =IFERROR((J16/$G16)^(1/5)-1,0) -> 0.053180953 | P16: =IFERROR((K16/$G16)^(1/5)-1,0) -> 0.089225054 | R16: 57517.8 | S16: 52883.8 | T16: 59150.4 | U16: 61642.72 | X16: =IFERROR(C16/R16,0) -> 0.0061017334 | Y16: =IFERROR(D16/S16,0) -> 0.0070429895 | Z16: =IFERROR(E16/T16,0) -> 0.0076846762 | AA16: =IFERROR(F16/U16,0) -> 0.0083091816
A17: Finland | B17: FI | C17: 1599.3253 | D17: 1685.1393 | E17: 2175.0417 | F17: 2426.1997 | G17: 2707.1542 | I17: 2948.5202 | J17: 2951.9739 | K17: 3658.2713 | M17: =F17/E17-1 -> 0.11547276 | N17: =IFERROR((I17/$G17)^(1/5)-1,0) -> 0.017227809 | O17: =IFERROR((J17/$G17)^(1/5)-1,0) -> 0.017465998 | P17: =IFERROR((K17/$G17)^(1/5)-1,0) -> 0.062068633 | R17: 336704.6 | S17: 323297.8 | T17: 337751.96 | U17: 342902.42 | X17: =IFERROR(C17/R17,0) -> 0.004749936 | Y17: =IFERROR(D17/S17,0) -> 0.0052123438 | Z17: =IFERROR(E17/T17,0) -> 0.0064397603 | AA17: =IFERROR(F17/U17,0) -> 0.0070754815
A18: France | B18: FR | C18: 12398.248 | D18: 12678.895 | E18: 14927.922 | F18: 16914.212 | G18: 22806.349 | I18: 22978.368 | J18: 23196.963 | K18: 29144.705 | M18: =F18/E18-1 -> 0.13305865 | N18: =IFERROR((I18/$G18)^(1/5)-1,0) -> 0.0015039854 | O18: =IFERROR((J18/$G18)^(1/5)-1,0) -> 0.0034022498 | P18: =IFERROR((K18/$G18)^(1/5)-1,0) -> 0.050269559 | R18: 3247440.9 | S18: 3014045.6 | T18: 3127888.2 | U18: 3129733.9 | X18: =IFERROR(C18/R18,0) -> 0.0038178518 | Y18: =IFERROR(D18/S18,0) -> 0.0042066034 | Z18: =IFERROR(E18/T18,0) -> 0.0047725243 | AA18: =IFERROR(F18/U18,0) -> 0.005404361
A19: Germany | B19: DE | C19: 19748.039 | D19: 20632.248 | E19: 24279.101 | F19: 26637.007 | G19: 31987.039 | I19: 32019.912 | J19: 33773.154 | K19: 44254.782 | M19: =F19/E19-1 -> 0.097116657 | N19: =IFERROR((I19/$G19)^(1/5)-1,0) -> 0.00020545179 | O19: =IFERROR((J19/$G19)^(1/5)-1,0) -> 0.010926347 | P19: =IFERROR((K19/$G19)^(1/5)-1,0) -> 0.067080622 | R19: 6182531.3 | S19: 5914707.1 | T19: 6245333.7 | U19: 6363928.1 | X19: =IFERROR(C19/R19,0) -> 0.0031941673 | Y19: =IFERROR(D19/S19,0) -> 0.0034882958 | Z19: =IFERROR(E19/T19,0) -> 0.0038875587 | AA19: =IFERROR(F19/U19,0) -> 0.0041856234
A20: Greece | B20: EL | C20: 399.53522 | D20: 439.02119 | E20: 454.83991 | F20: 458.61855 | G20: 492.61616 | I20: 524.23356 | J20: 619.15768 | K20: 784.46119 | M20: =F20/E20-1 -> 0.008307636 | N20: =IFERROR((I20/$G20)^(1/5)-1,0) -> 0.012519121 | O20: =IFERROR((J20/$G20)^(1/5)-1,0) -> 0.046787487 | P20: =IFERROR((K20/$G20)^(1/5)-1,0) -> 0.097520302 | R20: 223881 | S20: 208593.4 | T20: 220577.01 | U20: 223030.84 | X20: =IFERROR(C20/R20,0) -> 0.0017845875 | Y20: =IFERROR(D20/S20,0) -> 0.0021046744 | Z20: =IFERROR(E20/T20,0) -> 0.0020620459 | AA20: =IFERROR(F20/U20,0) -> 0.0020563011
... A38: EEA (NO, LI, IS) | B38: RoEEA | C38: 2499.4792 | D38: 2784.765 | E38: 2915.5306 | F38: 3115.9601 | G38: 3689.3524 | I38: 3939.647 | J38: 5438.0085 | K38: 7011.1562 | M38: =F38/E38-1 -> 0.068745463 | N38: =IFERROR((I38/$G38)^(1/5)-1,0) -> 0.013214586 | O38: =IFERROR((J38/$G38)^(1/5)-1,0) -> 0.080682075 | P38: =IFERROR((K38/$G38)^(1/5)-1,0) -> 0.13701946 | R38: 417259.8 | S38: 378184.4 | T38: 400939.42 | U38: 401920.62 | X38: =IFERROR(C38/R38,0) -> 0.0059902228 | Y38: =IFERROR(D38/S38,0) -> 0.0073635109 | Z38: =IFERROR(E38/T38,0) -> 0.0072717484 | AA38: =IFERROR(F38/U38,0) -> 0.0077526754
A39: Total EU27 | B39: EU27 | C39: =SUM(C9:C35) -> 71049.621 | D39: =SUM(D9:D35) -> 75287.042 | E39: =SUM(E9:E35) -> 84969.976 | F39: =SUM(F9:F35) -> 92848.522 | G39: =SUM(G9:G35) -> 115415.41 | I39: =SUM(I9:I35) -> 121317.02 | J39: =SUM(J9:J35) -> 138931.66 | K39: =SUM(K9:K35) -> 171646.51 | M39: =F39/E39-1 -> 0.092721522 | N39: =IFERROR((I39/$G39)^(1/5)-1,0) -> 0.010023749 | O39: =IFERROR((J39/$G39)^(1/5)-1,0) -> 0.037785221 | P39: =IFERROR((K39/$G39)^(1/5)-1,0) -> 0.082615474 | R39: =SUM(R9:R35) -> 22596708 | S39: =SUM(S9:S35) -> 21309260 | T39: =SUM(T9:T35) -> 22574199 | U39: =SUM(U9:U35) -> 22953549 | X39: =IFERROR(C39/R39,0) -> 0.0031442466 | Y39: =IFERROR(D39/S39,0) -> 0.003533067 | Z39: =IFERROR(E39/T39,0) -> 0.0037640307 | AA39: =IFERROR(F39/U39,0) -> 0.0040450617
A40: Total EU27 + U.K. | B40: EU27 + UK | C40: =SUM(C37,C39) -> 91317.999 | D40: =SUM(D37,D39) -> 96614.188 | E40: =SUM(E37,E39) -> 109063.91 | F40: =SUM(F37,F39) -> 118191.76 | G40: =SUM(G37,G39) -> 145096.51 | I40: =SUM(I37,I39) -> 160361.39 | J40: =SUM(J37,J39) -> 183932.46 | K40: =SUM(K37,K39) -> 224337.36 | M40: =F40/E40-1 -> 0.083692708 | N40: =IFERROR((I40/$G40)^(1/5)-1,0) -> 0.020207633 | O40: =IFERROR((J40/$G40)^(1/5)-1,0) -> 0.048576882 | P40: =IFERROR((K40/$G40)^(1/5)-1,0) -> 0.091060729 | R40: =SUM(R37,R39) -> 25917751 | S40: =SUM(S37,S39) -> 24635470 | T40: =SUM(T37,T39) -> 25978478 | U40: =SUM(U37,U39) -> 26387372 | X40: =IFERROR(C40/R40,0) -> 0.0035233767 | Y40: =IFERROR(D40/S40,0) -> 0.0039217513 | Z40: =IFERROR(E40/T40,0) -> 0.0041982408 | AA40: =IFERROR(F40/U40,0) -> 0.0044791031
A41: Total All Countries | C41: =SUM(C9:C38) -> 98441.403 | D41: =SUM(D9:D38) -> 104258.21 | E41: =SUM(E9:E38) -> 117427.29 | F41: =SUM(F9:F38) -> 127225.01 | G41: =SUM(G9:G38) -> 155958.81 | I41: =SUM(I9:I38) -> 172355.06 | J41: =SUM(J9:J38) -> 199579.11 | K41: =SUM(K9:K38) -> 242817.27 | M41: =F41/E41-1 -> 0.083436411 | N41: =IFERROR((I41/$G41)^(1/5)-1,0) -> 0.020194146 | O41: =IFERROR((J41/$G41)^(1/5)-1,0) -> 0.05056042 | P41: =IFERROR((K41/$G41)^(1/5)-1,0) -> 0.092581729 | R41: =SUM(R9:R38) -> 28312198 | S41: =SUM(S9:S38) -> 26833203 | T41: =SUM(T9:T38) -> 28418038 | U41: =SUM(U9:U38) -> 28877596 | X41: =IFERROR(C41/R41,0) -> 0.0034769962 | Y41: =IFERROR(D41/S41,0) -> 0.0038854181 | Z41: =IFERROR(E41/T41,0) -> 0.0041321393 | AA41: =IFERROR(F41/U41,0) -> 0.0044056647
A42: Source: European Data Market Monitoring Tool, IDC 2023
A45: Indicator 3.1 - Revenues of Data Companies by Company size, 2020-2023, 2025, 2030 3 scenarios
C47: Data Supplier Company Revenues | I47: Data Supplier Company Revenues | M47: Growth Rate of Data Companies Revenues
C48: {=$C$7:$F$7} -> 2020 | D48: 2021 | E48: 2022 | F48: 2023 | G48: 2025 | I48: 2030 Challenge Scenario | J48: 2030 Baseline Scenario | K48: 2030 High Growth Scenario | M48: Growth Rate 2023/2022 | N48: CAGR 2030/2025 Challenge Scenario | O48: CAGR 2030/2025 Baseline Scenario | P48: CAGR 2030/2025 High Growth Scenario
A49: Company Size Bands | C49: Euro (M) | D49: Euro (M) | E49: Euro (M) | F49: Euro (M) | G49: Euro (M) | I49: Euro (M) | J49: Euro (M) | K49: Euro (M) | M49: Percent | N49: Percent | O49: Percent | P49: Percent
A50: 1-249 empl. | C50: 9129.3898 | D50: 10440.913 | E50: 11967.103 | F50: 13057.166 | G50: 16253.485 | I50: 17090.105 | J50: 19571.505 | K50: 24180.093 | M50: =F50/E50-1 -> 0.091088329 | N50: =IFERROR((I50/$G50)^(1/5)-1,0) -> 0.010089021 | O50: =IFERROR((J50/$G50)^(1/5)-1,0) -> 0.037852287 | P50: =IFERROR((K50/$G50)^(1/5)-1,0) -> 0.082685437
A51: 250+ empl. | C51: 61920.231 | D51: 64846.129 | E51: 73002.873 | F51: 79791.356 | G51: 99161.93 | I51: 104226.92 | J51: 119360.15 | K51: 147466.41 | M51: =F51/E51-1 -> 0.092989246 | N51: =IFERROR((I51/$G51)^(1/5)-1,0) -> 0.010013048 | O51: =IFERROR((J51/$G51)^(1/5)-1,0) -> 0.037774227 | P51: =IFERROR((K51/$G51)^(1/5)-1,0) -> 0.082604004
A52: Total EU27 | B52: EU27 | C52: =SUM(C50:C51) -> 71049.621 | D52: =SUM(D50:D51) -> 75287.042 | E52: =SUM(E50:E51) -> 84969.976 | F52: =SUM(F50:F51) -> 92848.522 | G52: =SUM(G50:G51) -> 115415.41 | I52: =SUM(I50:I51) -> 121317.02 | J52: =SUM(J50:J51) -> 138931.66 | K52: =SUM(K50:K51) -> 171646.51 | M52: =F52/E52-1 -> 0.092721522 | N52: =IFERROR((I52/$G52)^(1/5)-1,0) -> 0.010023749 | O52: =IFERROR((J52/$G52)^(1/5)-1,0) -> 0.037785221 | P52: =IFERROR((K52/$G52)^(1/5)-1,0) -> 0.082615474
A53: Source: European Data Market Monitoring Tool, IDC 2023
A56: Average Data Companies' Revenues by size class, 2020-2023, 2025, 2030 3 scenarios
C57: Data Companies Average Revenues | I57: Data Companies Average Revenues | M57: Data Companies Average Revenues Growth rates %
C58: {=$C$7:$F$7} -> 2020 | D58: 2021 | E58: 2022 | F58: 2023 | G58: 2025 | I58: 2030 Challenge Scenario | J58: 2030 Baseline Scenario | K58: 2030 High Growth Scenario | M58: Growth Rate 2023/2022 | N58: CAGR 2030/2025 Challenge Scenario | O58: CAGR 2030/2025 Baseline Scenario | P58: CAGR 2030/2025 High Growth Scenario
A59: Company Size Vbans | C59: Euro (000) | D59: Euro (000) | E59: Euro (000) | F59: Euro (000) | G59: Euro (000) | I59: Euro (000) | J59: Euro (000) | K59: Euro (000) | M59: Percent | N59: Percent | O59: Percent | P59: Percent
A60: 1-249 empl. | C60: =C50/'Ind.2 DATA COMPANIES'!C73 -> 0.053289109 | D60: =D50/'Ind.2 DATA COMPANIES'!D73 -> 0.056045991 | E60: =E50/'Ind.2 DATA COMPANIES'!E73 -> 0.05608351 | F60: =F50/'Ind.2 DATA COMPANIES'!F73 -> 0.056025227 | G60: =G50/'Ind.2 DATA COMPANIES'!G73 -> 0.062051745 | I60: =I50/'Ind.2 DATA COMPANIES'!I73 -> 0.057853119 | J60: =J50/'Ind.2 DATA COMPANIES'!J73 -> 0.063065839 | K60: =K50/'Ind.2 DATA COMPANIES'!K73 -> 0.073949515 | M60: =F60/E60-1 -> -0.0010392149 | N60: =(I60/$G60)^(1/5)-1 -> -0.013914539 | O60: =(J60/$G60)^(1/5)-1 -> 0.0032473836 | P60: =(K60/$G60)^(1/5)-1 -> 0.035705461
A61: 250+ empl. | C61: =C51/'Ind.2 DATA COMPANIES'!C74 -> 14.44442 | D61: =D51/'Ind.2 DATA COMPANIES'!D74 -> 14.3965 | E61: =E51/'Ind.2 DATA COMPANIES'!E74 -> 14.719324 | F61: =F51/'Ind.2 DATA COMPANIES'!F74 -> 15.151792 | G61: =G51/'Ind.2 DATA COMPANIES'!G74 -> 17.356278 | I61: =I51/'Ind.2 DATA COMPANIES'!I74 -> 16.705978 | J61: =J51/'Ind.2 DATA COMPANIES'!J74 -> 18.211231 | K61: =K51/'Ind.2 DATA COMPANIES'!K74 -> 21.35406 | M61: =F61/E61-1 -> 0.029380936 | N61: =(I61/$G61)^(1/5)-1 -> -0.0076084421 | O61: =(J61/$G61)^(1/5)-1 -> 0.0096632327 | P61: =(K61/$G61)^(1/5)-1 -> 0.042328882
A62: Total EU27 | B62: EU27 | C62: =SUM(C60:C61) -> 14.49771 | D62: =SUM(D60:D61) -> 14.452546 | E62: =SUM(E60:E61) -> 14.775408 | F62: =SUM(F60:F61) -> 15.207817 | G62: =SUM(G60:G61) -> 17.41833 | I62: =SUM(I60:I61) -> 16.763831 | J62: =SUM(J60:J61) -> 18.274297 | K62: =SUM(K60:K61) -> 21.428009 | M62: =F62/E62-1 -> 0.029265469 | N62: =(I62/$G62)^(1/5)-1 -> -0.0076306245 | O62: =(J62/$G62)^(1/5)-1 -> 0.0096406642 | P62: =(K62/$G62)^(1/5)-1 -> 0.042305584
A63: Source: European Data Market Monitoring Tool, IDC 2023

Sheet Ind.4 DATA MARKET
A3: INDICATOR 4: MEASUREMENT OF DATA MARKET
A4: Indicator 4.0.: Data Market Value by MS, 2020-2023 2025, 2030 3 Scenarios
C6: Size of the Data Market | I6: Size of the Data Market | M6: Growth Rate of Data Market
C7: 2020 | D7: 2021 | E7: 2022 | F7: 2023 | G7: 2025 | I7: 2030 Challenge Scenario | J7: 2030 Baseline Scenario | K7: 2030 High Growth Scenario | M7: Growth Rate 2023/2022 | N7: CAGR 2030/2025 Challenge Scenario | O7: CAGR 2030/2025 Baseline Scenario | P7: CAGR 2030/2025 High Growth Scenario
A8: Member States | B8: Abbrev. | C8: Euro (M) | D8: Euro (M) | E8: Euro (M) | F8: Euro (M) | G8: Euro (M) | I8: Euro (M) | J8: Euro (M) | K8: Euro (M) | M8: Percent | N8: Percent | O8: Percent | P8: Percent
A9: Austria | B9: AT | C9: 1546.7279 | D9: 1641.3064 | E9: 1846.2146 | F9: 2067.8396 | G9: 2425.6993 | I9: 2616.2994 | J9: 2742.8914 | K9: 3153.2164 | M9: =F9/E9-1 -> 0.12004291 | N9: =IFERROR((I9/$G9)^(1/5)-1,0) -> 0.015243218 | O9: =IFERROR((J9/$G9)^(1/5)-1,0) -> 0.024883096 | P9: =IFERROR((K9/$G9)^(1/5)-1,0) -> 0.053861074
A10: Belgium | B10: BE | C10: 1984.221 | D10: 2083.3073 | E10: 2360.2033 | F10: 2718.5143 | G10: 3425.5599 | I10: 3753.7589 | J10: 4639.5152 | K10: 5390.4821 | M10: =F10/E10-1 -> 0.15181363 | N10: =IFERROR((I10/$G10)^(1/5)-1,0) -> 0.018467002 | O10: =IFERROR((J10/$G10)^(1/5)-1,0) -> 0.062547145 | P10: =IFERROR((K10/$G10)^(1/5)-1,0) -> 0.094911985
A11: Bulgaria | B11: BG | C11: 311.73093 | D11: 341.95871 | E11: 405.90696 | F11: 480.46938 | G11: 638.69764 | I11: 673.37067 | J11: 827.1897 | K11: 973.6206 | M11: =F11/E11-1 -> 0.18369337 | N11: =IFERROR((I11/$G11)^(1/5)-1,0) -> 0.01062905 | O11: =IFERROR((J11/$G11)^(1/5)-1,0) -> 0.053081447 | P11: =IFERROR((K11/$G11)^(1/5)-1,0) -> 0.087974932
A12: Croatia | B12: HR | C12: 254.42022 | D12: 281.21371 | E12: 314.35856 | F12: 345.97576 | G12: 436.00177 | I12: 449.18889 | J12: 555.93648 | K12: 630.32924 | M12: =F12/E12-1 -> 0.10057688 | N12: =IFERROR((I12/$G12)^(1/5)-1,0) -> 0.0059772268 | O12: =IFERROR((J12/$G12)^(1/5)-1,0) -> 0.04980197 | P12: =IFERROR((K12/$G12)^(1/5)-1,0) -> 0.076504476
A13: Cyprus | B13: CY | C13: 188.69892 | D13: 208.57116 | E13: 233.15411 | F13: 256.60402 | G13: 323.3747 | I13: 370.03514 | J13: 422.91773 | K13: 451.66622 | M13: =F13/E13-1 -> 0.10057688 | N13: =IFERROR((I13/$G13)^(1/5)-1,0) -> 0.02732389 | O13: =IFERROR((J13/$G13)^(1/5)-1,0) -> 0.05513972 | P13: =IFERROR((K13/$G13)^(1/5)-1,0) -> 0.069109814
A14: Czechia | B14: CZ | C14: 738.661 | D14: 773.19235 | E14: 806.66716 | F14: 828.5431 | G14: 925.70046 | I14: 1013.1435 | J14: 1057.4585 | K14: 1330.6207 | M14: =F14/E14-1 -> 0.027118916 | N14: =IFERROR((I14/$G14)^(1/5)-1,0) -> 0.01821642 | O14: =IFERROR((J14/$G14)^(1/5)-1,0) -> 0.026971918 | P14: =IFERROR((K14/$G14)^(1/5)-1,0) -> 0.075268086
A15: Denmark | B15: DK | C15: 1665.8424 | D15: 1793.4379 | E15: 2046.8742 | F15: 2234.3508 | G15: 2725.545 | I15: 2737.7026 | J15: 3147.95 | K15: 3863.2289 | M15: =F15/E15-1 -> 0.091591689 | N15: =IFERROR((I15/$G15)^(1/5)-1,0) -> 0.00089052797 | O15: =IFERROR((J15/$G15)^(1/5)-1,0) -> 0.029235822 | P15: =IFERROR((K15/$G15)^(1/5)-1,0) -> 0.072258295
A16: Estonia | B16: EE | C16: 290.64304 | D16: 324.28933 | E16: 375.87034 | F16: 427.88709 | G16: 607.06332 | I16: 625.69087 | J16: 735.77689 | K16: 1007.8778 | M16: =F16/E16-1 -> 0.13839013 | N16: =IFERROR((I16/$G16)^(1/5)-1,0) -> 0.0060629733 | O16: =IFERROR((J16/$G16)^(1/5)-1,0) -> 0.039207878 | P16: =IFERROR((K16/$G16)^(1/5)-1,0) -> 0.1067124
A17: Finland | B17: FI | C17: 1311.3724 | D17: 1415.1241 | E17: 1600.4236 | F17: 1758.809 | G17: 2165.9537 | I17: 2204.1715 | J17: 2259.4519 | K17: 2973.6059 | M17: =F17/E17-1 -> 0.098964678 | N17: =IFERROR((I17/$G17)^(1/5)-1,0) -> 0.0035043155 | O17: =IFERROR((J17/$G17)^(1/5)-1,0) -> 0.0084881216 | P17: =IFERROR((K17/$G17)^(1/5)-1,0) -> 0.065434732
A18: France | B18: FR | C18: 9986.0804 | D18: 10785.45 | E18: 12313.124 | F18: 14159.768 | G18: 17890.78 | I18: 18576.184 | J18: 19248.41 | K18: 23341.229 | M18: =F18/E18-1 -> 0.14997371 | N18: =IFERROR((I18/$G18)^(1/5)-1,0) -> 0.0075473078 | O18: =IFERROR((J18/$G18)^(1/5)-1,0) -> 0.014736113 | P18: =IFERROR((K18/$G18)^(1/5)-1,0) -> 0.054627014
A19: Germany | B19: DE | C19: 16966.145 | D19: 17992.674 | E19: 20606.609 | F19: 22465.333 | G19: 26692.138 | I19: 26773.621 | J19: 29231.506 | K19: 35173.543 | M19: =F19/E19-1 -> 0.09020041 | N19: =IFERROR((I19/$G19)^(1/5)-1,0) -> 0.0006097912 | O19: =IFERROR((J19/$G19)^(1/5)-1,0) -> 0.018341787 | P19: =IFERROR((K19/$G19)^(1/5)-1,0) -> 0.056736112
A20: Greece | B20: EL | C20: 535.15992 | D20: 590.6196 | E20: 635.43194 | F20: 683.24185 | G20: 788.57511 | I20: 805.11198 | J20: 986.3106 | K20: 1161.5971 | M20: =F20/E20-1 -> 0.075240019 | N20: =IFERROR((I20/$G20)^(1/5)-1,0) -> 0.0041593684 | O20: =IFERROR((J20/$G20)^(1/5)-1,0) -> 0.045765059 | P20: =IFERROR((K20/$G20)^(1/5)-1,0) -> 0.080544092
... A38: EEA (NO, LI, IS) | B38: RoEEA | C38: 2248.9056 | D38: 2540.7159 | E38: 2722.3927 | F38: 3052.7443 | G38: 3708.099 | I38: 3808.3799 | J38: 4881.4211 | K38: 6476.5323 | M38: =F38/E38-1 -> 0.12134606 | N38: =IFERROR((I38/$G38)^(1/5)-1,0) -> 0.0053511753 | O38: =IFERROR((J38/$G38)^(1/5)-1,0) -> 0.056523084 | P38: =IFERROR((K38/$G38)^(1/5)-1,0) -> 0.11799083
A39: Total EU27 | B39: EU27 | C39: =SUM(C9:C35) -> 60634.571 | D39: =SUM(D9:D35) -> 64819.626 | E39: =SUM(E9:E35) -> 73753.79 | F39: =SUM(F9:F35) -> 81940.195 | G39: =SUM(G9:G35) -> 100211.57 | I39: =SUM(I9:I35) -> 103676.55 | J39: =SUM(J9:J35) -> 118111.52 | K39: =SUM(K9:K35) -> 141025.41 | M39: =F39/E39-1 -> 0.11099639 | N39: =IFERROR((I39/$G39)^(1/5)-1,0) -> 0.0068216324 | O39: =IFERROR((J39/$G39)^(1/5)-1,0) -> 0.033415283 | P39: =IFERROR((K39/$G39)^(1/5)-1,0) -> 0.070719968
A40: Total EU27 + U.K. | B40: EU27 + UK | C40: =SUM(C37,C39) -> 78479.206 | D40: =SUM(D37,D39) -> 84023.155 | E40: =SUM(E37,E39) -> 95815.636 | F40: =SUM(F37,F39) -> 106443.55 | G40: =SUM(G37,G39) -> 130117.89 | I40: =SUM(I37,I39) -> 134729.19 | J40: =SUM(J37,J39) -> 151027.33 | K40: =SUM(K37,K39) -> 178250.72 | M40: =F40/E40-1 -> 0.11092051 | N40: =IFERROR((I40/$G40)^(1/5)-1,0) -> 0.0069894867 | O40: =IFERROR((J40/$G40)^(1/5)-1,0) -> 0.030252573 | P40: =IFERROR((K40/$G40)^(1/5)-1,0) -> 0.064973638
A41: Total All Countries | C41: =SUM(C9:C38) -> 84376.586 | D41: =SUM(D9:D38) -> 90427.396 | E41: =SUM(E9:E38) -> 102904.89 | F41: =SUM(F9:F38) -> 114329.51 | G41: =SUM(G9:G38) -> 139893.34 | I41: =SUM(I9:I38) -> 144614.69 | J41: =SUM(J9:J38) -> 163062.62 | K41: =SUM(K9:K38) -> 192946.82 | M41: =F41/E41-1 -> 0.11102114 | N41: =IFERROR((I41/$G41)^(1/5)-1,0) -> 0.0066606095 | O41: =IFERROR((J41/$G41)^(1/5)-1,0) -> 0.031125385 | P41: =IFERROR((K41/$G41)^(1/5)-1,0) -> 0.066419598
A42: Source: European Data Market Monitoring Tool, IDC 2023
A45: Share of Data Market by MS, 2020-2023,2025, 2030 3 Scenarios
C46: Share of the Data Market | I46: Share of the Data Market
C47: {=$C$7:$F$7} -> 2020 | D47: 2021 | E47: 2022 | F47: 2023 | G47: 2025 | I47: 2030 Challenge Scenario | J47: 2030 Baseline Scenario | K47: 2030 High Growth Scenario
A48: Member States | B48: Abbrev. | C48: Percent | D48: Percent | E48: Percent | F48: Percent | G48: Percent | I48: Percent | J48: Percent | K48: Percent
A49: Austria | B49: AT | C49: =C9/C$39 -> 0.025509011 | D49: =D9/D$39 -> 0.025321133 | E49: =E9/E$39 -> 0.025032132 | F49: =F9/F$39 -> 0.025235962 | G49: =G9/G$39 -> 0.024205781 | I49: =I9/I$39 -> 0.025235209 | J49: =J9/J$39 -> 0.023222895 | K49: =K9/K$39 -> 0.022359208
A50: Belgium | B50: BE | C50: =C10/C$39 -> 0.032724253 | D50: =D10/D$39 -> 0.03214007 | E50: =E10/E$39 -> 0.032001112 | F50: =F10/F$39 -> 0.03317681 | G50: =G10/G$39 -> 0.034183278 | I50: =I10/I$39 -> 0.03620644 | J50: =J10/J$39 -> 0.039280802 | K50: =K10/K$39 -> 0.038223481
A51: Bulgaria | B51: BG | C51: =C11/C$39 -> 0.0051411418 | D51: =D11/D$39 -> 0.0052755428 | E51: =E11/E$39 -> 0.0055035404 | F51: =F11/F$39 -> 0.0058636593 | G51: =G11/G$39 -> 0.0063734921 | I51: =I11/I$39 -> 0.0064949176 | J51: =J11/J$39 -> 0.0070034633 | K51: =K11/K$39 -> 0.0069038665
A52: Croatia | B52: HR | C52: =C12/C$39 -> 0.0041959598 | D52: =D12/D$39 -> 0.0043384037 | E52: =E12/E$39 -> 0.0042622699 | F52: =F12/F$39 -> 0.0042222961 | G52: =G12/G$39 -> 0.0043508128 | I52: =I12/I$39 -> 0.0043325986 | J52: =J12/J$39 -> 0.0047068777 | K52: =K12/K$39 -> 0.0044696147
A53: Cyprus | B53: CY | C53: =C13/C$39 -> 0.0031120681 | D53: =D13/D$39 -> 0.0032177162 | E53: =E13/E$39 -> 0.0031612491 | F53: =F13/F$39 -> 0.0031316013 | G53: =G13/G$39 -> 0.0032269198 | I53: =I13/I$39 -> 0.0035691305 | J53: =J13/J$39 -> 0.0035806645 | K53: =K13/K$39 -> 0.0032027294
A54: Czechia | B54: CZ | C54: =C14/C$39 -> 0.012182176 | D54: =D14/D$39 -> 0.011928368 | E54: =E14/E$39 -> 0.010937298 | F54: =F14/F$39 -> 0.010111559 | G54: =G14/G$39 -> 0.0092374611 | I54: =I14/I$39 -> 0.0097721565 | J54: =J14/J$39 -> 0.0089530511 | K54: =K14/K$39 -> 0.0094353256
A55: Denmark | B55: DK | C55: =C15/C$39 -> 0.027473475 | D55: =D15/D$39 -> 0.027668131 | E55: =E15/E$39 -> 0.0277528 | F55: =F15/F$39 -> 0.027268068 | G55: =G15/G$39 -> 0.027197908 | I55: =I15/I$39 -> 0.026406188 | J55: =J15/J$39 -> 0.026652354 | K55: =K15/K$39 -> 0.02739385
A56: Estonia | B56: EE | C56: =C16/C$39 -> 0.0047933554 | D56: =D16/D$39 -> 0.0050029497 | E56: =E16/E$39 -> 0.0050962851 | F56: =F16/F$39 -> 0.0052219437 | G56: =G16/G$39 -> 0.0060578168 | I56: =I16/I$39 -> 0.0060350277 | J56: =J16/J$39 -> 0.00622951 | K56: =K16/K$39 -> 0.0071467815
A57: Finland | B57: FI | C57: =C17/C$39 -> 0.02162747 | D57: =D17/D$39 -> 0.021831723 | E57: =E17/E$39 -> 0.021699544 | F57: =F17/F$39 -> 0.021464545 | G57: =G17/G$39 -> 0.021613809 | I57: =I17/I$39 -> 0.021260077 | J57: =J17/J$39 -> 0.019129818 | K57: =K17/K$39 -> 0.021085604
A58: France | B58: FR | C58: =C18/C$39 -> 0.16469285 | D58: =D18/D$39 -> 0.16639174 | E58: =E18/E$39 -> 0.16694903 | F58: =F18/F$39 -> 0.17280614 | G58: =G18/G$39 -> 0.17853009 | I58: =I18/I$39 -> 0.1791744 | J58: =J18/J$39 -> 0.1629681 | K58: =K18/K$39 -> 0.16551081
A59: Germany | B59: DE | C59: =C19/C$39 -> 0.27980976 | D59: =D19/D$39 -> 0.27758065 | E59: =E19/E$39 -> 0.27939728 | F59: =F19/F$39 -> 0.27416744 | G59: =G19/G$39 -> 0.26635785 | I59: =I19/I$39 -> 0.25824181 | J59: =J19/J$39 -> 0.24749073 | K59: =K19/K$39 -> 0.2494128
A60: Greece | B60: EL | C60: =C20/C$39 -> 0.0088259867 | D60: =D20/D$39 -> 0.0091117404 | E60: =E20/E$39 -> 0.0086155835 | F60: =F20/F$39 -> 0.0083382991 | G60: =G20/G$39 -> 0.0078691026 | I60: =I20/I$39 -> 0.0077656129 | J60: =J20/J$39 -> 0.0083506723 | K60: =K20/K$39 -> 0.0082367932
... A80: Total EU27 + U.K. | B80: EU27 + UK | C80: =C40/C$39 -> 1.294298 | D80: =D40/D$39 -> 1.296261 | E80: =E40/E$39 -> 1.2991283 | F80: =F40/F$39 -> 1.2990396 | G80: =G40/G$39 -> 1.2984318 | I80: =I40/I$39 -> 1.2995145 | J80: =J40/J$39 -> 1.2786842 | K80: =K40/K$39 -> 1.2639617
A81: Total All Countries | C81: =C41/C$39 -> 1.3915591 | D81: =D41/D$39 -> 1.395062 | E81: =E41/E$39 -> 1.3952489 | F81: =F41/F$39 -> 1.39528 | G81: =G41/G$39 -> 1.3959799 | I81: =I41/I$39 -> 1.394864 | J81: =J41/J$39 -> 1.3805819 | K81: =K41/K$39 -> 1.3681706
A82: Source: European Data Market Monitoring Tool, IDC 2023
A85: Indicator 4.1.: Data Market Value by Industry, 2020-2023, 2025, 2030 3 Scenarios
C86: Size of the Data Market | I86: Size of the Data Market | M86: Growth Rate of Data Market
C87: {=$C$7:$F$7} -> 2020 | D87: 2021 | E87: 2022 | F87: 2023 | G87: 2025 | I87: 2030 Challenge Scenario | J87: 2030 Baseline Scenario | K87: 2030 High Growth Scenario | M87: Growth Rate 2023/2022 | N87: CAGR 2030/2025 Challenge Scenario | O87: CAGR 2030/2025 Baseline Scenario | P87: CAGR 2030/2025 High Growth Scenario
A88: Member States | B88: Abbrev. | C88: Euro (M) | D88: Euro (M) | E88: Euro (M) | F88: Euro (M) | G88: Euro (M) | I88: Euro (M) | J88: Euro (M) | K88: Euro (M) | M88: Percent | N88: Percent | O88: Percent | P88: Percent
A89: Agriculture | C89: 242.14056 | D89: 247.54701 | E89: 282.40732 | F89: 304.83815 | G89: 337.59454 | I89: 356.67267 | J89: 397.18336 | K89: 467.34257 | M89: =F89/E89-1 -> 0.079427235 | N89: =IFERROR((I89/$G89)^(1/5)-1,0) -> 0.011055239 | O89: =IFERROR((J89/$G89)^(1/5)-1,0) -> 0.033044732 | P89: =IFERROR((K89/$G89)^(1/5)-1,0) -> 0.067205332
A90: Construction | C90: 256.2659 | D90: 285.00078 | E90: 339.5233 | F90: 416.48616 | G90: 598.31563 | I90: 675.45734 | J90: 729.19229 | K90: 847.47059 | M90: =F90/E90-1 -> 0.22667918 | N90: =IFERROR((I90/$G90)^(1/5)-1,0) -> 0.024550843 | O90: =IFERROR((J90/$G90)^(1/5)-1,0) -> 0.04035688 | P90: =IFERROR((K90/$G90)^(1/5)-1,0) -> 0.07210879
A91: Education | C91: 1613.6845 | D91: 1639.6287 | E91: 1765.6113 | F91: 1810.6822 | G91: 1816.9162 | I91: 1828.0773 | J91: 2139.9475 | K91: 2533.3993 | M91: =F91/E91-1 -> 0.025527101 | N91: =IFERROR((I91/$G91)^(1/5)-1,0) -> 0.0012255715 | O91: =IFERROR((J91/$G91)^(1/5)-1,0) -> 0.033269583 | P91: =IFERROR((K91/$G91)^(1/5)-1,0) -> 0.068744156
A92: Finance | C92: 12781.932 | D92: 13705.276 | E92: 15789.285 | F92: 17754.118 | G92: 21977.595 | I92: 22898.891 | J92: 25920.604 | K92: 30998.234 | M92: =F92/E92-1 -> 0.1244409 | N92: =IFERROR((I92/$G92)^(1/5)-1,0) -> 0.0082468119 | O92: =IFERROR((J92/$G92)^(1/5)-1,0) -> 0.033553572 | P92: =IFERROR((K92/$G92)^(1/5)-1,0) -> 0.071201956
A93: Health | C93: 1942.9894 | D93: 2108.4123 | E93: 2430.3896 | F93: 2750.9951 | G93: 3450.8446 | I93: 3639.5896 | J93: 4072.4203 | K93: 4889.7716 | M93: =F93/E93-1 -> 0.13191523 | N93: =IFERROR((I93/$G93)^(1/5)-1,0) -> 0.010707302 | O93: =IFERROR((J93/$G93)^(1/5)-1,0) -> 0.033678396 | P93: =IFERROR((K93/$G93)^(1/5)-1,0) -> 0.072192181
A94: Information & Communication | C94: 6445.6608 | D94: 6826.4613 | E94: 7902.3181 | F94: 8822.5398 | G94: 10766.626 | I94: 10776.045 | J94: 12690.89 | K94: 15833.477 | M94: =F94/E94-1 -> 0.11644959 | N94: =IFERROR((I94/$G94)^(1/5)-1,0) -> 0.00017489727 | O94: =IFERROR((J94/$G94)^(1/5)-1,0) -> 0.033433394 | P94: =IFERROR((K94/$G94)^(1/5)-1,0) -> 0.080187956
A95: Mining, Manufacturing | C95: 12240.345 | D95: 13218.287 | E95: 15086.389 | F95: 16980.137 | G95: 20854.148 | I95: 21134.617 | J95: 24641.224 | K95: 28430.62 | M95: =F95/E95-1 -> 0.12552689 | N95: =IFERROR((I95/$G95)^(1/5)-1,0) -> 0.0026754639 | O95: =IFERROR((J95/$G95)^(1/5)-1,0) -> 0.033936739 | P95: =IFERROR((K95/$G95)^(1/5)-1,0) -> 0.063944017
A96: Professional services | C96: 7325.7439 | D96: 7542.4802 | E96: 8177.367 | F96: 8711.5189 | G96: 9581.1459 | I96: 10064.892 | J96: 11272.657 | K96: 14158.989 | M96: =F96/E96-1 -> 0.065320769 | N96: =IFERROR((I96/$G96)^(1/5)-1,0) -> 0.0098999151 | O96: =IFERROR((J96/$G96)^(1/5)-1,0) -> 0.033051017 | P96: =IFERROR((K96/$G96)^(1/5)-1,0) -> 0.081242125
A97: Public Administration | C97: 4306.8381 | D97: 5244.1872 | E97: 6635.7411 | F97: 8338.775 | G97: 13093.567 | I97: 14642.326 | J97: 15662.153 | K97: 18221.469 | M97: =F97/E97-1 -> 0.25664561 | N97: =IFERROR((I97/$G97)^(1/5)-1,0) -> 0.022610902 | O97: =IFERROR((J97/$G97)^(1/5)-1,0) -> 0.036474683 | P97: =IFERROR((K97/$G97)^(1/5)-1,0) -> 0.068329157
A98: Retail and Wholesale | C98: 6507.0209 | D98: 6857.6634 | E98: 7559.1688 | F98: 8003.6638 | G98: 8784.6853 | I98: 8916.4594 | J98: 10333.855 | K98: 12519.796 | M98: =F98/E98-1 -> 0.058802103 | N98: =IFERROR((I98/$G98)^(1/5)-1,0) -> 0.0029822453 | O98: =IFERROR((J98/$G98)^(1/5)-1,0) -> 0.033016429 | P98: =IFERROR((K98/$G98)^(1/5)-1,0) -> 0.073431192
A99: Transport | C99: 2631.9276 | D99: 2706.4784 | E99: 2973.1373 | F99: 3064.0643 | G99: 3186.1886 | I99: 3200.5403 | J99: 3750.3182 | K99: 4426.3175 | M99: =F99/E99-1 -> 0.030582854 | N99: =IFERROR((I99/$G99)^(1/5)-1,0) -> 0.00089924841 | O99: =IFERROR((J99/$G99)^(1/5)-1,0) -> 0.033140357 | P99: =IFERROR((K99/$G99)^(1/5)-1,0) -> 0.067958105
A100: Utilities | C100: 2610.0934 | D100: 2762.9691 | E100: 3203.7538 | F100: 3615.3278 | G100: 4507.4672 | I100: 4529.1534 | J100: 5317.8451 | K100: 6276.393 | M100: =F100/E100-1 -> 0.1284662 | N100: =IFERROR((I100/$G100)^(1/5)-1,0) -> 0.00096038972 | O100: =IFERROR((J100/$G100)^(1/5)-1,0) -> 0.033619328 | P100: =IFERROR((K100/$G100)^(1/5)-1,0) -> 0.068453218
A101: Home | C101: 1729.9291 | D101: 1675.2348 | E101: 1608.6982 | F101: 1367.0485 | G101: 1256.4747 | I101: 1013.8321 | J101: 1183.2292 | K101: 1422.1303 | M101: =F101/E101-1 -> -0.15021445 | N101: =IFERROR((I101/$G101)^(1/5)-1,0) -> -0.042006722 | O101: =IFERROR((J101/$G101)^(1/5)-1,0) -> -0.011940654 | P101: =IFERROR((K101/$G101)^(1/5)-1,0) -> 0.025078511
A102: Total EU27 | B102: EU27 | C102: =SUM(C89:C101) -> 60634.571 | D102: =SUM(D89:D101) -> 64819.626 | E102: =SUM(E89:E101) -> 73753.79 | F102: =SUM(F89:F101) -> 81940.195 | G102: =SUM(G89:G101) -> 100211.57 | I102: =SUM(I89:I101) -> 103676.55 | J102: =SUM(J89:J101) -> 118111.52 | K102: =SUM(K89:K101) -> 141025.41 | M102: =F102/E102-1 -> 0.11099639 | N102: =IFERROR((I102/$G102)^(1/5)-1,0) -> 0.0068216324 | O102: =IFERROR((J102/$G102)^(1/5)-1,0) -> 0.033415283 | P102: =IFERROR((K102/$G102)^(1/5)-1,0) -> 0.070719968
A103: Source: European Data Market Monitoring Tool, IDC 2023
A106: Indicator 4.1.: Share of Data Marke by Industry, 2020-2023, 2025, 2030 3 Scenarios
C107: Share of the Data Market | I107: Share of the Data Market
C108: {=$C$7:$F$7} -> 2020 | D108: 2021 | E108: 2022 | F108: 2023 | G108: 2025 | I108: 2030 Challenge Scenario | J108: 2030 Baseline Scenario | K108: 2030 High Growth Scenario
A109: Member States | B109: Abbrev. | C109: Euro (M) | D109: Euro (M) | E109: Euro (M) | F109: Euro (M) | G109: Euro (M) | I109: Euro (M) | J109: Euro (M) | K109: Euro (M)
A110: Agriculture | C110: =C89/C$102 -> 0.0039934407 | D110: =D89/D$102 -> 0.0038190133 | E110: =E89/E$102 -> 0.003829055 | F110: =F89/F$102 -> 0.0037202518 | G110: =G89/G$102 -> 0.003368818 | I110: =I89/I$102 -> 0.0034402443 | J110: =J89/J$102 -> 0.0033627826 | K110: =K89/K$102 -> 0.0033138892
A111: Construction | C111: =C90/C$102 -> 0.0042263992 | D111: =D90/D$102 -> 0.0043968286 | E111: =E90/E$102 -> 0.0046034691 | F111: =F90/F$102 -> 0.0050828065 | G111: =G90/G$102 -> 0.0059705246 | I111: =I90/I$102 -> 0.0065150443 | J111: =J90/J$102 -> 0.0061737609 | K111: =K90/K$102 -> 0.0060093468
A112: Education | C112: =C91/C$102 -> 0.026613275 | D112: =D91/D$102 -> 0.02529525 | E112: =E91/E$102 -> 0.023939262 | F112: =F91/F$102 -> 0.022097607 | G112: =G91/G$102 -> 0.018130803 | I112: =I91/I$102 -> 0.017632505 | J112: =J91/J$102 -> 0.018118025 | K112: =K91/K$102 -> 0.017964134
A113: Finance | C113: =C92/C$102 -> 0.21080271 | D113: =D92/D$102 -> 0.21143714 | E113: =E92/E$102 -> 0.214081 | F113: =F92/F$102 -> 0.21667166 | G113: =G92/G$102 -> 0.21931195 | I113: =I92/I$102 -> 0.22086856 | J113: =J92/J$102 -> 0.21945873 | K113: =K92/K$102 -> 0.21980602
A114: Health | C114: =C93/C$102 -> 0.03204425 | D114: =D93/D$102 -> 0.032527375 | E114: =E93/E$102 -> 0.032952742 | F114: =F93/F$102 -> 0.033573206 | G114: =G93/G$102 -> 0.034435591 | I114: =I93/I$102 -> 0.035105233 | J114: =J93/J$102 -> 0.03447945 | K114: =K93/K$102 -> 0.034672983
A115: Information & Communication | C115: =C94/C$102 -> 0.1063034 | D115: =D94/D$102 -> 0.10531473 | E115: =E94/E$102 -> 0.10714457 | F115: =F94/F$102 -> 0.10767048 | G115: =G94/G$102 -> 0.10743896 | I115: =I94/I$102 -> 0.10393907 | J115: =J94/J$102 -> 0.10744837 | K115: =K94/K$102 -> 0.11227393
A116: Mining, Manufacturing | C116: =C95/C$102 -> 0.20187073 | D116: =D95/D$102 -> 0.20392414 | E116: =E95/E$102 -> 0.2045507 | F116: =F95/F$102 -> 0.20722597 | G116: =G95/G$102 -> 0.2081012 | I116: =I95/I$102 -> 0.20385146 | J116: =J95/J$102 -> 0.20862676 | K116: =K95/K$102 -> 0.20159927
A117: Professional services | C117: =C96/C$102 -> 0.12081794 | D117: =D96/D$102 -> 0.11636106 | E117: =E96/E$102 -> 0.11087385 | F117: =F96/F$102 -> 0.10631557 | G117: =G96/G$102 -> 0.09560918 | I117: =I96/I$102 -> 0.097079735 | J117: =J96/J$102 -> 0.095440794 | K117: =K96/K$102 -> 0.10040027
A118: Public Administration | C118: =C97/C$102 -> 0.071029415 | D118: =D97/D$102 -> 0.080904312 | E118: =E97/E$102 -> 0.089971527 | F118: =F97/F$102 -> 0.1017666 | G118: =G97/G$102 -> 0.13065924 | I118: =I97/I$102 -> 0.14123083 | J118: =J97/J$102 -> 0.13260479 | K118: =K97/K$102 -> 0.12920699
A119: Retail and Wholesale | C119: =C98/C$102 -> 0.10731536 | D119: =D98/D$102 -> 0.1057961 | E119: =E98/E$102 -> 0.10249194 | F119: =F98/F$102 -> 0.097676895 | G119: =G98/G$102 -> 0.087661389 | I119: =I98/I$102 -> 0.08600266 | J119: =J98/J$102 -> 0.087492352 | K119: =K98/K$102 -> 0.088776883
A120: Transport | C120: =C99/C$102 -> 0.043406386 | D120: =D99/D$102 -> 0.041753996 | E120: =E99/E$102 -> 0.040311654 | F120: =F99/F$102 -> 0.037393911 | G120: =G99/G$102 -> 0.031794619 | I120: =I99/I$102 -> 0.030870435 | J120: =J99/J$102 -> 0.031752349 | K120: =K99/K$102 -> 0.031386667
A121: Utilities | C121: =C100/C$102 -> 0.043046291 | D121: =D100/D$102 -> 0.042625502 | E121: =E100/E$102 -> 0.043438496 | F121: =F100/F$102 -> 0.044121543 | G121: =G100/G$102 -> 0.044979509 | I121: =I100/I$102 -> 0.043685417 | J121: =J100/J$102 -> 0.045023932 | K121: =K100/K$102 -> 0.044505405
A122: Home | C122: =C101/C$102 -> 0.028530409 | D122: =D101/D$102 -> 0.025844562 | E122: =E101/E$102 -> 0.021811736 | F122: =F101/F$102 -> 0.016683491 | G122: =G101/G$102 -> 0.01253822 | I122: =I101/I$102 -> 0.0097787984 | J122: =J101/J$102 -> 0.010017899 | K122: =K101/K$102 -> 0.010084213
A123: Total EU27 | B123: EU27 | C123: =C102/C$102 -> 1 | D123: =D102/D$102 -> 1 | E123: =E102/E$102 -> 1 | F123: =F102/F$102 -> 1 | G123: =G102/G$102 -> 1 | I123: =I102/I$102 -> 1 | J123: =J102/J$102 -> 1 | K123: =K102/K$102 -> 1
A124: Source: European Data Market Monitoring Tool, IDC 2023
A126: Indicator 4.1.: Data Monetisation Value by MS, 2020-2023 2025, 2030 3 Scenarios
C128: Data Monetisation | I128: Data Monetisation | M128: Growth Rate of Data Monetisation
C129: {=$C$7:$F$7} -> 2020 | D129: 2021 | E129: 2022 | F129: 2023 | G129: 2025 | I129: 2030 Challenge Scenario | J129: 2030 Baseline Scenario | K129: 2030 High Growth Scenario | M129: Growth Rate 2023/2022 | N129: CAGR 2030/2025 Challenge Scenario | O129: CAGR 2030/2025 Baseline Scenario | P129: CAGR 2030/2025 High Growth Scenario
A130: Member States | B130: Abbrev. | C130: Euro (M) | D130: Euro (M) | E130: Euro (M) | F130: Euro (M) | G130: Euro (M) | I130: Euro (M) | J130: Euro (M) | K130: Euro (M) | M130: Percent | N130: Percent | O130: Percent | P130: Percent
A131: Austria | B131: AT | C131: 362.41562 | D131: 462.64782 | E131: 564.21721 | F131: 690.02893 | G131: 822.15577 | I131: 874.78126 | J131: 1035.6012 | K131: 1107.9085 | M131: =F131/E131-1 -> 0.22298454 | N131: =IFERROR((I131/$G131)^(1/5)-1,0) -> 0.012486106 | O131: =IFERROR((J131/$G131)^(1/5)-1,0) -> 0.04724354 | P131: =IFERROR((K131/$G131)^(1/5)-1,0) -> 0.061475467
A132: Belgium | B132: BE | C132: 219.84745 | D132: 304.56755 | E132: 437.44136 | F132: 600.20904 | G132: 985.80007 | I132: 1241.4794 | J132: 1625.3598 | K132: 1749.9104 | M132: =F132/E132-1 -> 0.37209028 | N132: =IFERROR((I132/$G132)^(1/5)-1,0) -> 0.047201214 | O132: =IFERROR((J132/$G132)^(1/5)-1,0) -> 0.10517776 | P132: =IFERROR((K132/$G132)^(1/5)-1,0) -> 0.1216191
A133: Bulgaria | B133: BG | C133: 30.970185 | D133: 43.077079 | E133: 57.471236 | F133: 76.328483 | G133: 136.34013 | I133: 155.00409 | J133: 224.65755 | K133: 227.33197 | M133: =F133/E133-1 -> 0.32811626 | N133: =IFERROR((I133/$G133)^(1/5)-1,0) -> 0.025991808 | O133: =IFERROR((J133/$G133)^(1/5)-1,0) -> 0.10504373 | P133: =IFERROR((K133/$G133)^(1/5)-1,0) -> 0.10766227
A134: Croatia | B134: HR | C134: 35.457691 | D134: 49.430193 | E134: 64.098525 | F134: 82.377272 | G134: 116.3499 | I134: 128.38484 | J134: 154.3362 | K134: 175.55603 | M134: =F134/E134-1 -> 0.28516642 | N134: =IFERROR((I134/$G134)^(1/5)-1,0) -> 0.019881103 | O134: =IFERROR((J134/$G134)^(1/5)-1,0) -> 0.058133245 | P134: =IFERROR((K134/$G134)^(1/5)-1,0) -> 0.085750276
A135: Cyprus | B135: CY | C135: 13.75023 | D135: 15.764824 | E135: 20.116058 | F135: 25.40404 | G135: 48.63142 | I135: 78.776347 | J135: 82.337356 | K135: 104.46535 | M135: =F135/E135-1 -> 0.26287368 | N135: =IFERROR((I135/$G135)^(1/5)-1,0) -> 0.10127499 | O135: =IFERROR((J135/$G135)^(1/5)-1,0) -> 0.11105611 | P135: =IFERROR((K135/$G135)^(1/5)-1,0) -> 0.16522841
A136: Czechia | B136: CZ | C136: 91.149189 | D136: 114.7373 | E136: 146.52346 | F136: 183.84185 | G136: 254.73221 | I136: 345.6133 | J136: 363.47985 | K136: 459.66066 | M136: =F136/E136-1 -> 0.25469225 | N136: =IFERROR((I136/$G136)^(1/5)-1,0) -> 0.062921807 | O136: =IFERROR((J136/$G136)^(1/5)-1,0) -> 0.073690955 | P136: =IFERROR((K136/$G136)^(1/5)-1,0) -> 0.12530616
A137: Denmark | B137: DK | C137: 371.83462 | D137: 486.34053 | E137: 597.29342 | F137: 729.28222 | G137: 923.95977 | I137: 935.90615 | J137: 1137.8525 | K137: 1440.0504 | M137: =F137/E137-1 -> 0.22097815 | N137: =IFERROR((I137/$G137)^(1/5)-1,0) -> 0.0025726385 | O137: =IFERROR((J137/$G137)^(1/5)-1,0) -> 0.042525239 | P137: =IFERROR((K137/$G137)^(1/5)-1,0) -> 0.092810662
A138: Estonia | B138: EE | C138: 75.972174 | D138: 95.506464 | E138: 128.69561 | F138: 154.95507 | G138: 237.04777 | I138: 244.84597 | J138: 301.61039 | K138: 423.93454 | M138: =F138/E138-1 -> 0.2040431 | N138: =IFERROR((I138/$G138)^(1/5)-1,0) -> 0.0064945202 | O138: =IFERROR((J138/$G138)^(1/5)-1,0) -> 0.049354144 | P138: =IFERROR((K138/$G138)^(1/5)-1,0) -> 0.12329179
A139: Finland | B139: FI | C139: 173.58195 | D139: 234.59147 | E139: 295.60238 | F139: 423.52346 | G139: 597.92555 | I139: 626.89903 | J139: 655.83939 | K139: 880.52877 | M139: =F139/E139-1 -> 0.43274709 | N139: =IFERROR((I139/$G139)^(1/5)-1,0) -> 0.0095087726 | O139: =IFERROR((J139/$G139)^(1/5)-1,0) -> 0.018661931 | P139: =IFERROR((K139/$G139)^(1/5)-1,0) -> 0.080486357
A140: France | B140: FR | C140: 2188.8491 | D140: 2879.5709 | E140: 3753.2555 | F140: 4924.92 | G140: 6785.0324 | I140: 7737.8709 | J140: 8114.1272 | K140: 9956.153 | M140: =F140/E140-1 -> 0.31217287 | N140: =IFERROR((I140/$G140)^(1/5)-1,0) -> 0.026629904 | O140: =IFERROR((J140/$G140)^(1/5)-1,0) -> 0.03642523 | P140: =IFERROR((K140/$G140)^(1/5)-1,0) -> 0.079711996
A141: Germany | B141: DE | C141: 4227.8512 | D141: 5486.1471 | E141: 7123.5736 | F141: 7859.2742 | G141: 10657.711 | I141: 10707.333 | J141: 11739.986 | K141: 14066.638 | M141: =F141/E141-1 -> 0.1032769 | N141: =IFERROR((I141/$G141)^(1/5)-1,0) -> 0.00092945468 | O141: =IFERROR((J141/$G141)^(1/5)-1,0) -> 0.019531684 | P141: =IFERROR((K141/$G141)^(1/5)-1,0) -> 0.057073707
A142: Greece | B142: EL | C142: 47.891772 | D142: 69.698403 | E142: 83.846837 | F142: 102.60125 | G142: 134.81144 | I142: 156.2363 | J142: 174.43432 | K142: 228.55046 | M142: =F142/E142-1 -> 0.22367461 | N142: =IFERROR((I142/$G142)^(1/5)-1,0) -> 0.02993789 | O142: =IFERROR((J142/$G142)^(1/5)-1,0) -> 0.052885234 | P142: =IFERROR((K142/$G142)^(1/5)-1,0) -> 0.11135055
... A160: EEA (NO, LI, IS) | B160: RoEEA | C160: 231.16842 | D160: 346.09495 | E160: 449.19755 | F160: 590.42218 | G160: 866.20289 | I160: 1058.5386 | J160: 1509.9593 | K160: 1750.4003 | M160: =F160/E160-1 -> 0.31439313 | N160: =IFERROR((I160/$G160)^(1/5)-1,0) -> 0.040920155 | O160: =IFERROR((J160/$G160)^(1/5)-1,0) -> 0.11755555 | P160: =IFERROR((K160/$G160)^(1/5)-1,0) -> 0.15107481
A161: Total EU27 | B161: EU27 | C161: =SUM(C131:C157) -> 12779.53 | D161: =SUM(D131:D157) -> 16541.998 | E161: =SUM(E131:E157) -> 21067.285 | F161: =SUM(F131:F157) -> 25400.878 | G161: =SUM(G131:G157) -> 34542.919 | I161: =SUM(I131:I157) -> 37562.215 | J161: =SUM(J131:J157) -> 42321.638 | K161: =SUM(K131:K157) -> 51158.563 | M161: =F161/E161-1 -> 0.20570251 | N161: =IFERROR((I161/$G161)^(1/5)-1,0) -> 0.01690043 | O161: =IFERROR((J161/$G161)^(1/5)-1,0) -> 0.041455422 | P161: =IFERROR((K161/$G161)^(1/5)-1,0) -> 0.081712527
A162: Total EU27 + U.K. | B162: EU27 + UK | C162: =SUM(C159,C161) -> 17278.045 | D162: =SUM(D159,D161) -> 22545.214 | E162: =SUM(E159,E161) -> 28802.027 | F162: =SUM(F159,F161) -> 34624.925 | G162: =SUM(G159,G161) -> 46495.96 | I162: =SUM(I159,I161) -> 49614.393 | J162: =SUM(J159,J161) -> 55159.494 | K162: =SUM(K159,K161) -> 66451.501 | M162: =F162/E162-1 -> 0.20216972 | N162: =IFERROR((I162/$G162)^(1/5)-1,0) -> 0.013067756 | O162: =IFERROR((J162/$G162)^(1/5)-1,0) -> 0.034763285 | P162: =IFERROR((K162/$G162)^(1/5)-1,0) -> 0.074033716
A163: Total All Countries | C163: =SUM(C131:C160) -> 18078.515 | D163: =SUM(D131:D160) -> 23611.589 | E163: =SUM(E131:E160) -> 30291.854 | F163: =SUM(F131:F160) -> 36420.083 | G163: =SUM(G131:G160) -> 49060.906 | I163: =SUM(I131:I160) -> 52538.245 | J163: =SUM(J131:J160) -> 58966.134 | K163: =SUM(K131:K160) -> 70539.876 | M163: =F163/E163-1 -> 0.20230617 | N163: =IFERROR((I163/$G163)^(1/5)-1,0) -> 0.01378999 | O163: =IFERROR((J163/$G163)^(1/5)-1,0) -> 0.037464912 | P163: =IFERROR((K163/$G163)^(1/5)-1,0) -> 0.075325204
A164: Source: European Data Market Monitoring Tool, IDC 2023
...

Sheet Ind.5 DATA ECONOMY
A4: INDICATOR 5 DATA ECONOMY
A5: Indicator 5.2: Data Economy Value (TOTAL IMPACTS) by MS, 2020-2023, 2025, 2030 3 Scenarios (2030 Baseline - 2030 Challenge - 2030 High Growth); Data Economy as a % of GDP by MS, 2020-2023, 2025, 3 Scenarios
C6: Size of the Data Economy | I6: Size of the Data Economy | M6: Growth Rate of Data Economy | R6: Total impacts/GDP
C7: 2020 | D7: 2021 | E7: 2022 | F7: 2023 | G7: 2025 | I7: 2030 Challenge Scenario | J7: 2030 Baseline Scenario | K7: 2030 High Growth Scenario | M7: Growth Rate 2023/2022 | N7: CAGR 2030/2025 Challenge Scenario | O7: CAGR 2030/2025 Baseline Scenario | P7: CAGR 2030/2025 High Growth Scenario | R7: 2020 | S7: 2021 | T7: 2022 | U7: 2023 | V7: 2025 | X7: 2030 Challenge Scenario | Y7: 2030 Baseline Scenario | Z7: 2030 High Growth Scenario
A8: Member States | B8: Abbrev. | C8: Euro (M) | D8: Euro (M) | E8: Euro (M) | F8: Euro (M) | G8: Euro (M) | I8: Euro (M) | J8: Euro (M) | K8: Euro (M) | M8: Percent | N8: Percent | O8: Percent | P8: Percent | R8: Percent | S8: Percent | T8: Percent | U8: Percent | V8: Percent | X8: Percent | Y8: Percent | Z8: Percent
A9: Austria | B9: AT | C9: 11437.581 | D9: 11963.471 | E9: 12793.805 | F9: 13780.933 | G9: 15985.106 | I9: 17553.889 | J9: 19798.191 | K9: 23010.973 | M9: =F9/E9-1 -> 0.077156659 | N9: =(I9/$G9)^(1/5)-1 -> 0.018900004 | O9: =(J9/$G9)^(1/5)-1 -> 0.043715171 | P9: =(K9/$G9)^(1/5)-1 -> 0.075582902 | R9: =C9/GDP!H7 -> 0.035963485 | S9: =D9/GDP!I7 -> 0.035977558 | T9: =E9/GDP!J7 -> 0.036695257 | U9: =F9/GDP!K7 -> 0.039489026 | V9: =G9/GDP!L7 -> 0.04470271 | X9: =I9/GDP!N7 -> 0.047132453 | Y9: =J9/GDP!O7 -> 0.051055582 | Z9: =K9/GDP!P7 -> 0.056559169
A10: Belgium | B10: BE | C10: 14733.46 | D10: 15471.438 | E10: 16144.599 | F10: 17794.998 | G10: 21103.543 | I10: 23768.077 | J10: 29250.678 | K10: 32800.588 | M10: =F10/E10-1 -> 0.10222611 | N10: =(I10/$G10)^(1/5)-1 -> 0.024065493 | O10: =(J10/$G10)^(1/5)-1 -> 0.067471066 | P10: =(K10/$G10)^(1/5)-1 -> 0.092207742 | R10: =C10/GDP!H8 -> 0.038190862 | S10: =D10/GDP!I8 -> 0.037731956 | T10: =E10/GDP!J8 -> 0.038135043 | U10: =F10/GDP!K8 -> 0.041616855 | V10: =G10/GDP!L8 -> 0.048346269 | X10: =I10/GDP!N8 -> 0.052736697 | Y10: =J10/GDP!O8 -> 0.062871583 | Z10: =K10/GDP!P8 -> 0.067881982
A11: Bulgaria | B11: BG | C11: 2210.9062 | D11: 2352.8368 | E11: 2506.8742 | F11: 2725.5656 | G11: 3189.0709 | I11: 3728.502 | J11: 4400.179 | K11: 4974.0204 | M11: =F11/E11-1 -> 0.087236676 | N11: =(I11/$G11)^(1/5)-1 -> 0.031748963 | O11: =(J11/$G11)^(1/5)-1 -> 0.066500919 | P11: =(K11/$G11)^(1/5)-1 -> 0.092971096 | R11: =C11/GDP!H9 -> 0.048182058 | S11: =D11/GDP!I9 -> 0.047637978 | T11: =E11/GDP!J9 -> 0.049106316 | U11: =F11/GDP!K9 -> 0.052516833 | V11: =G11/GDP!L9 -> 0.057830015 | X11: =I11/GDP!N9 -> 0.062987966 | Y11: =J11/GDP!O9 -> 0.069319822 | Z11: =K11/GDP!P9 -> 0.072150948
A12: Croatia | B12: HR | C12: 1089.2176 | D12: 1148.3858 | E12: 1262.2395 | F12: 1382.0832 | G12: 1651.8131 | I12: 1807.1193 | J12: 2153.5874 | K12: 2451.5399 | M12: =F12/E12-1 -> 0.094945309 | N12: =(I12/$G12)^(1/5)-1 -> 0.018134575 | O12: =(J12/$G12)^(1/5)-1 -> 0.054484793 | P12: =(K12/$G12)^(1/5)-1 -> 0.082170306 | R12: =C12/GDP!H10 -> 0.023445103 | S12: =D12/GDP!I10 -> 0.021858304 | T12: =E12/GDP!J10 -> 0.02261873 | U12: =F12/GDP!K10 -> 0.024115163 | V12: =G12/GDP!L10 -> 0.02735263 | X12: =I12/GDP!N10 -> 0.02784097 | Y12: =J12/GDP!O10 -> 0.030900485 | Z12: =K12/GDP!P10 -> 0.03233993
A13: Cyprus | B13: CY | C13: 1369.7443 | D13: 1473.6537 | E13: 1571.7017 | F13: 1673.7742 | G13: 1982.0666 | I13: 2093.1138 | J13: 2471.7971 | K13: 2823.7086 | M13: =F13/E13-1 -> 0.06494393 | N13: =(I13/$G13)^(1/5)-1 -> 0.010962204 | O13: =(J13/$G13)^(1/5)-1 -> 0.045150691 | P13: =(K13/$G13)^(1/5)-1 -> 0.073347442 | R13: =C13/GDP!H11 -> 0.067701406 | S13: =D13/GDP!I11 -> 0.068327643 | T13: =E13/GDP!J11 -> 0.069009233 | U13: =F13/GDP!K11 -> 0.071908966 | V13: =G13/GDP!L11 -> 0.080500162 | X13: =I13/GDP!N11 -> 0.079036467 | Y13: =J13/GDP!O11 -> 0.086867667 | Z13: =K13/GDP!P11 -> 0.091163274
A14: Czechia | B14: CZ | C14: 3701.8456 | D14: 3934.1639 | E14: 4204.3963 | F14: 4520.755 | G14: 5402.0525 | I14: 5873.0923 | J14: 6916.4864 | K14: 8318.6022 | M14: =F14/E14-1 -> 0.075244746 | N14: =(I14/$G14)^(1/5)-1 -> 0.016861034 | O14: =(J14/$G14)^(1/5)-1 -> 0.050667615 | P14: =(K14/$G14)^(1/5)-1 -> 0.090180255 | R14: =C14/GDP!H12 -> 0.020473205 | S14: =D14/GDP!I12 -> 0.021011511 | T14: =E14/GDP!J12 -> 0.021940907 | U14: =F14/GDP!K12 -> 0.023548751 | V14: =G14/GDP!L12 -> 0.026725101 | X14: =I14/GDP!N12 -> 0.027519103 | Y14: =J14/GDP!O12 -> 0.030350148 | Z14: =K14/GDP!P12 -> 0.034014476
A15: Denmark | B15: DK | C15: 10925.219 | D15: 11409.919 | E15: 12534.554 | F15: 13784.232 | G15: 16680.897 | I15: 18312.723 | J15: 21200.457 | K15: 24730.507 | M15: =F15/E15-1 -> 0.099698617 | N15: =(I15/$G15)^(1/5)-1 -> 0.018841678 | O15: =(J15/$G15)^(1/5)-1 -> 0.049119993 | P15: =(K15/$G15)^(1/5)-1 -> 0.081938864 | R15: =C15/GDP!H13 -> 0.039223704 | S15: =D15/GDP!I13 -> 0.03833953 | T15: =E15/GDP!J13 -> 0.040998844 | U15: =F15/GDP!K13 -> 0.044332716 | V15: =G15/GDP!L13 -> 0.052280857 | X15: =I15/GDP!N13 -> 0.055570699 | Y15: =J15/GDP!O13 -> 0.06186032 | Z15: =K15/GDP!P13 -> 0.069163527
A16: Estonia | B16: EE | C16: 1932.2233 | D16: 2102.7373 | E16: 2345.5617 | F16: 2596.4261 | G16: 3305.6728 | I16: 3498.5252 | J16: 4390.2412 | K16: 5312.4495 | M16: =F16/E16-1 -> 0.10695281 | N16: =(I16/$G16)^(1/5)-1 -> 0.011404842 | O16: =(J16/$G16)^(1/5)-1 -> 0.058389942 | P16: =(K16/$G16)^(1/5)-1 -> 0.099529768 | R16: =C16/GDP!H14 -> 0.096654084 | S16: =D16/GDP!I14 -> 0.098074174 | T16: =E16/GDP!J14 -> 0.10990646 | U16: =F16/GDP!K14 -> 0.12448585 | V16: =G16/GDP!L14 -> 0.15080406 | X16: =I16/GDP!N14 -> 0.14983963 | Y16: =J16/GDP!O14 -> 0.17425707 | Z16: =K16/GDP!P14 -> 0.19432013
A17: Finland | B17: FI | C17: 8754.7218 | D17: 9084.5071 | E17: 10380.914 | F17: 11569.29 | G17: 13872.954 | I17: 15867.506 | J17: 17666.924 | K17: 20355.792 | M17: =F17/E17-1 -> 0.11447694 | N17: =(I17/$G17)^(1/5)-1 -> 0.027230585 | O17: =(J17/$G17)^(1/5)-1 -> 0.049538559 | P17: =(K17/$G17)^(1/5)-1 -> 0.079701761 | R17: =C17/GDP!H15 -> 0.043863603 | S17: =D17/GDP!I15 -> 0.044117398 | T17: =E17/GDP!J15 -> 0.049616833 | U17: =F17/GDP!K15 -> 0.055368241 | V17: =G17/GDP!L15 -> 0.064831884 | X17: =I17/GDP!N15 -> 0.071229952 | Y17: =J17/GDP!O15 -> 0.0762059 | Z17: =K17/GDP!P15 -> 0.083734589
A18: France | B18: FR | C18: 63523.695 | D18: 65741.3 | E18: 72619.791 | F18: 80814.034 | G18: 100781.52 | I18: 110550.06 | J18: 124398.27 | K18: 144971.01 | M18: =F18/E18-1 -> 0.11283759 | N18: =(I18/$G18)^(1/5)-1 -> 0.018674913 | O18: =(J18/$G18)^(1/5)-1 -> 0.0430057 | P18: =(K18/$G18)^(1/5)-1 -> 0.075424812 | R18: =C18/GDP!H16 -> 0.030890608 | S18: =D18/GDP!I16 -> 0.030054523 | T18: =E18/GDP!J16 -> 0.032382433 | U18: =F18/GDP!K16 -> 0.035696911 | V18: =G18/GDP!L16 -> 0.043144303 | X18: =I18/GDP!N16 -> 0.045710908 | Y18: =J18/GDP!O16 -> 0.04931547 | Z18: =K18/GDP!P16 -> 0.054912255
A19: Germany | B19: DE | C19: 124589.33 | D19: 129971.6 | E19: 144399.94 | F19: 159651.41 | G19: 191417.67 | I19: 204162.62 | J19: 236057.2 | K19: 282600.17 | M19: =F19/E19-1 -> 0.10561963 | N19: =(I19/$G19)^(1/5)-1 -> 0.012975262 | O19: =(J19/$G19)^(1/5)-1 -> 0.042814457 | P19: =(K19/$G19)^(1/5)-1 -> 0.081030823 | R19: =C19/GDP!H17 -> 0.04386293 | S19: =D19/GDP!I17 -> 0.04435229 | T19: =E19/GDP!J17 -> 0.048402715 | U19: =F19/GDP!K17 -> 0.053802838 | V19: =G19/GDP!L17 -> 0.062674139 | X19: =I19/GDP!N17 -> 0.06483468 | Y19: =J19/GDP!O17 -> 0.072232491 | Z19: =K19/GDP!P17 -> 0.083069621
A20: Greece | B20: EL | C20: 3031.637 | D20: 3230.5684 | E20: 3369.1207 | F20: 3526.1109 | G20: 3987.5507 | I20: 4274.1972 | J20: 4957.3504 | K20: 5795.453 | M20: =F20/E20-1 -> 0.046596792 | N20: =(I20/$G20)^(1/5)-1 -> 0.013980655 | O20: =(J20/$G20)^(1/5)-1 -> 0.044500568 | P20: =(K20/$G20)^(1/5)-1 -> 0.077646282 | R20: =C20/GDP!H18 -> 0.016896387 | S20: =D20/GDP!I18 -> 0.016604665 | T20: =E20/GDP!J18 -> 0.016349873 | U20: =F20/GDP!K18 -> 0.016700557 | V20: =G20/GDP!L18 -> 0.01826151 | X20: =I20/GDP!N18 -> 0.018874816 | Y20: =J20/GDP!O18 -> 0.02111493 | Z20: =K20/GDP!P18 -> 0.023645585
... A38: EEA (NO, LI, IS) | B38: RoEEA | C38: 19227.554 | D38: 19937.403 | E38: 20818.77 | F38: 22333.365 | G38: 25490.007 | I38: 28477.048 | J38: 34217.903 | K38: 40980.699 | M38: =F38/E38-1 -> 0.072751416 | N38: =(I38/$G38)^(1/5)-1 -> 0.022409797 | O38: =(J38/$G38)^(1/5)-1 -> 0.060661216 | P38: =(K38/$G38)^(1/5)-1 -> 0.099618107 | R38: =C38/GDP!H36 -> 0.05082885 | S38: =D38/GDP!I36 -> 0.050711652 | T38: =E38/GDP!J36 -> 0.051164944 | U38: =F38/GDP!K36 -> 0.053630592 | V38: =G38/GDP!L36 -> 0.059534131 | X38: =I38/GDP!N36 -> 0.064218812 | Y38: =J38/GDP!O36 -> 0.074521387 | Z38: =K38/GDP!P36 -> 0.085616052
A39: Total EU27 | B39: EU27 | C39: =SUM(C9:C35) -> 434029.73 | D39: =SUM(D9:D35) -> 455672.24 | E39: =SUM(E9:E35) -> 497806.33 | F39: =SUM(F9:F35) -> 544100.61 | G39: =SUM(G9:G35) -> 659184.16 | H39: =(G39/E39)^(1/3)-1 -> 0.098117422 | I39: =SUM(I9:I35) -> 723421.18 | J39: =SUM(J9:J35) -> 851489.63 | K39: =SUM(K9:K35) -> 994949.03 | M39: =F39/E39-1 -> 0.092996559 | N39: =(I39/$G39)^(1/5)-1 -> 0.018771743 | O39: =(J39/$G39)^(1/5)-1 -> 0.052530089 | P39: =(K39/$G39)^(1/5)-1 -> 0.085822443 | R39: =C39/GDP!H37 -> 0.036942695 | S39: =D39/GDP!I37 -> 0.0366495 | T39: =E39/GDP!J37 -> 0.038692237 | U39: =F39/GDP!K37 -> 0.042011817 | V39: =G39/GDP!L37 -> 0.049269447 | X39: =I39/GDP!N37 -> 0.051931531 | Y39: =J39/GDP!O37 -> 0.058437081 | Z39: =K39/GDP!P37 -> 0.064899982
A40: Total EU27 + U.K. | B40: EU27 + UK | C40: =C39+C37 -> 567746.45 | D40: =D39+D37 -> 593845.77 | E40: =E39+E37 -> 650418.42 | F40: =F39+F37 -> 709569.56 | G40: =G39+G37 -> 856273.83 | H40: =(G40/E40)^(1/3)-1 -> 0.095990057 | I40: =I39+I37 -> 946614.25 | J40: =J39+J37 -> 1110977.8 | K40: =K39+K37 -> 1289461.8 | M40: =F40/E40-1 -> 0.09094321 | N40: =(I40/$G40)^(1/5)-1 -> 0.020262848 | O40: =(J40/$G40)^(1/5)-1 -> 0.053461185 | P40: =(K40/$G40)^(1/5)-1 -> 0.085323394 | R40: =C40/GDP!H38 -> 0.041349054 | S40: =D40/GDP!I38 -> 0.040770272 | T40: =E40/GDP!J38 -> 0.043114968 | U40: =F40/GDP!K38 -> 0.04673857 | V40: =G40/GDP!L38 -> 0.054649718 | X40: =I40/GDP!N38 -> 0.058032959 | Y40: =J40/GDP!O38 -> 0.065087266 | Z40: =K40/GDP!P38 -> 0.071792777
A41: Total All Countries | C41: =SUM(C9:C38) -> 617924.3 | D41: =SUM(D9:D38) -> 645986.87 | E41: =SUM(E9:E38) -> 706512.27 | F41: =SUM(F9:F38) -> 770183.55 | G41: =SUM(G9:G38) -> 927622.05 | H41: =(G41/E41)^(1/3)-1 -> 0.095007564 | I41: =SUM(I9:I38) -> 1024897.4 | J41: =SUM(J9:J38) -> 1204752.8 | K41: =SUM(K9:K38) -> 1396180 | M41: =F41/E41-1 -> 0.09012056 | N41: =(I41/$G41)^(1/5)-1 -> 0.02014491 | O41: =(J41/$G41)^(1/5)-1 -> 0.053671838 | P41: =(K41/$G41)^(1/5)-1 -> 0.085210712 | R41: =C41/GDP!H39 -> 0.041903942 | S41: =D41/GDP!I39 -> 0.04132853 | T41: =E41/GDP!J39 -> 0.043659855 | U41: =F41/GDP!K39 -> 0.047268806 | V41: =G41/GDP!L39 -> 0.055172352 | X41: =I41/GDP!N39 -> 0.058562772 | Y41: =J41/GDP!O39 -> 0.06581905 | Z41: =K41/GDP!P39 -> 0.072518718
A42: Source: European Data Market Monitoring Tool, IDC 2023
A45: Indicator 5.1: Data Economy Value (DIRECT IMPACTS) by MS, 2020-2023, 2025, 2030 3 Scenarios (2030 Baseline - 2030 Challenge - 2030 High Growth); Data Economy as a % of GDP by MS, 2020-2023, 2025, 3 Scenarios Direct Impacts also contain Data monetisation
C46: Size of the Data Economy | I46: Size of the Data Economy | M46: Growth Rate of Data Economy | R46: Total impacts/GDP
C47: 2020 | D47: 2021 | E47: 2022 | F47: 2023 | G47: 2025 | I47: 2030 Challenge Scenario | J47: 2030 Baseline Scenario | K47: 2030 High Growth Scenario | M47: Growth Rate 2023/2022 | N47: CAGR 2030/2025 Challenge Scenario | O47: CAGR 2030/2025 Baseline Scenario | P47: CAGR 2030/2025 High Growth Scenario | R47: 2020 | S47: 2021 | T47: 2022 | U47: 2023 | V47: 2025 | X47: 2030 Challenge Scenario | Y47: 2030 Baseline Scenario | Z47: 2030 High Growth Scenario
A48: Member States | B48: Abbrev. | C48: Euro (M) | D48: Euro (M) | E48: Euro (M) | F48: Euro (M) | G48: Euro (M) | I48: Euro (M) | J48: Euro (M) | K48: Euro (M) | M48: Percent | N48: Percent | O48: Percent | P48: Percent | R48: Percent | S48: Percent | T48: Percent | U48: Percent | V48: Percent | X48: Percent | Y48: Percent | Z48: Percent
A49: Austria | B49: AT | C49: 2260.6639 | D49: 2484.6693 | E49: 2859.3277 | F49: 3155.2375 | G49: 3617.3456 | I49: 3725.4491 | J49: 3977.9012 | K49: 5126.0086 | M49: =F49/E49-1 -> 0.10348928 | N49: =(I49/$G49)^(1/5)-1 -> 0.0059067553 | O49: =(J49/$G49)^(1/5)-1 -> 0.019184468 | P49: =(K49/$G49)^(1/5)-1 -> 0.072205092 | R49: =C49/GDP!H7 -> 0.0071082648 | S49: =D49/GDP!I7 -> 0.0074721072 | T49: =E49/GDP!J7 -> 0.0082011382 | U49: =F49/GDP!K7 -> 0.0090412789 | V49: =G49/GDP!L7 -> 0.010115989 | X49: =I49/GDP!N7 -> 0.010002886 | Y49: =J49/GDP!O7 -> 0.010258213 | Z49: =K49/GDP!P7 -> 0.012599328
A50: Belgium | B50: BE | C50: 2600.6664 | D50: 2907.394 | E50: 3172.6547 | F50: 3436.9959 | G50: 4140.3574 | I50: 4908.9634 | J50: 6536.6422 | K50: 7431.1097 | M50: =F50/E50-1 -> 0.083318607 | N50: =(I50/$G50)^(1/5)-1 -> 0.034642688 | O50: =(J50/$G50)^(1/5)-1 -> 0.09562864 | P50: =(K50/$G50)^(1/5)-1 -> 0.12409539 | R50: =C50/GDP!H8 -> 0.006741233 | S50: =D50/GDP!I8 -> 0.0070905923 | T50: =E50/GDP!J8 -> 0.0074941053 | U50: =F50/GDP!K8 -> 0.008038043 | V50: =G50/GDP!L8 -> 0.0094851765 | X50: =I50/GDP!N8 -> 0.010892026 | Y50: =J50/GDP!O8 -> 0.014049898 | Z50: =K50/GDP!P8 -> 0.015378945
A51: Bulgaria | B51: BG | C51: 351.19862 | D51: 386.381 | E51: 443.8295 | F51: 498.94554 | G51: 616.19498 | I51: 801.42871 | J51: 967.10752 | K51: 1082.9776 | M51: =F51/E51-1 -> 0.12418291 | N51: =(I51/$G51)^(1/5)-1 -> 0.053972667 | O51: =(J51/$G51)^(1/5)-1 -> 0.0943376 | P51: =(K51/$G51)^(1/5)-1 -> 0.11938702 | R51: =C51/GDP!H9 -> 0.0076536366 | S51: =D51/GDP!I9 -> 0.0078230711 | T51: =E51/GDP!J9 -> 0.008694027 | U51: =F51/GDP!K9 -> 0.009613799 | V51: =G51/GDP!L9 -> 0.011173964 | X51: =I51/GDP!N9 -> 0.013539047 | Y51: =J51/GDP!O9 -> 0.01523568 | Z51: =K51/GDP!P9 -> 0.015709196
A52: Croatia | B52: HR | C52: 223.27293 | D52: 263.98528 | E52: 311.77778 | F52: 360.35049 | G52: 467.96941 | I52: 484.14243 | J52: 552.90621 | K52: 662.97488 | M52: =F52/E52-1 -> 0.15579272 | N52: =(I52/$G52)^(1/5)-1 -> 0.006818386 | O52: =(J52/$G52)^(1/5)-1 -> 0.033919679 | P52: =(K52/$G52)^(1/5)-1 -> 0.07215092 | R52: =C52/GDP!H10 -> 0.0048058872 | S52: =D52/GDP!I10 -> 0.0050246794 | T52: =E52/GDP!J10 -> 0.0055869091 | U52: =F52/GDP!K10 -> 0.0062875451 | V52: =G52/GDP!L10 -> 0.0077491783 | X52: =I52/GDP!N10 -> 0.0074588296 | Y52: =J52/GDP!O10 -> 0.0079333069 | Z52: =K52/GDP!P10 -> 0.0087457526
A53: Cyprus | B53: CY | C53: 191.93571 | D53: 207.47969 | E53: 219.82458 | F53: 248.60255 | G53: 329.79184 | I53: 363.70341 | J53: 431.88657 | K53: 514.66539 | M53: =F53/E53-1 -> 0.13091335 | N53: =(I53/$G53)^(1/5)-1 -> 0.019768267 | O53: =(J53/$G53)^(1/5)-1 -> 0.055421556 | P53: =(K53/$G53)^(1/5)-1 -> 0.093092746 | R53: =C53/GDP!H11 -> 0.0094866738 | S53: =D53/GDP!I11 -> 0.0096200334 | T53: =E53/GDP!J11 -> 0.0096519111 | U53: =F53/GDP!K11 -> 0.010680504 | V53: =G53/GDP!L11 -> 0.01339425 | X53: =I53/GDP!N11 -> 0.013733525 | Y53: =J53/GDP!O11 -> 0.015178017 | Z53: =K53/GDP!P11 -> 0.016615943
A54: Czechia | B54: CZ | C54: 731.76274 | D54: 785.89639 | E54: 825.15715 | F54: 873.15097 | G54: 1102.3025 | I54: 1211.3423 | J54: 1307.812 | K54: 1650.39 | M54: =F54/E54-1 -> 0.058163254 | N54: =(I54/$G54)^(1/5)-1 -> 0.019044667 | O54: =(J54/$G54)^(1/5)-1 -> 0.034782103 | P54: =(K54/$G54)^(1/5)-1 -> 0.084069588 | R54: =C54/GDP!H12 -> 0.0040470429 | S54: =D54/GDP!I12 -> 0.0041973011 | T54: =E54/GDP!J12 -> 0.0043061346 | U54: =F54/GDP!K12 -> 0.0045482701 | V54: =G54/GDP!L12 -> 0.0054533244 | X54: =I54/GDP!N12 -> 0.0056758948 | Y54: =J54/GDP!O12 -> 0.0057387936 | Z54: =K54/GDP!P12 -> 0.0067483876
A55: Denmark | B55: DK | C55: 2363.4011 | D55: 2631.8704 | E55: 3025.6164 | F55: 3357.7527 | G55: 4075.9432 | I55: 4111.6411 | J55: 4858.8523 | K55: 5967.7894 | M55: =F55/E55-1 -> 0.10977475 | N55: =(I55/$G55)^(1/5)-1 -> 0.001745535 | O55: =(J55/$G55)^(1/5)-1 -> 0.035764721 | P55: =(K55/$G55)^(1/5)-1 -> 0.079237615 | R55: =C55/GDP!H13 -> 0.0084850785 | S55: =D55/GDP!I13 -> 0.0088435926 | T55: =E55/GDP!J13 -> 0.0098963848 | U55: =F55/GDP!K13 -> 0.010799172 | V55: =G55/GDP!L13 -> 0.012774721 | X55: =I55/GDP!N13 -> 0.012476942 | Y55: =J55/GDP!O13 -> 0.014177532 | Z55: =K55/GDP!P13 -> 0.016690049
A56: Estonia | B56: EE | C56: 426.93046 | D56: 467.96651 | E56: 583.24729 | F56: 667.15562 | G56: 966.39818 | I56: 1040.8139 | J56: 1246.6526 | K56: 1542.147 | M56: =F56/E56-1 -> 0.14386408 | N56: =(I56/$G56)^(1/5)-1 -> 0.014947081 | O56: =(J56/$G56)^(1/5)-1 -> 0.052247419 | P56: =(K56/$G56)^(1/5)-1 -> 0.097978753 | R56: =C56/GDP!H14 -> 0.021356006 | S56: =D56/GDP!I14 -> 0.021826516 | T56: =E56/GDP!J14 -> 0.027329337 | U56: =F56/GDP!K14 -> 0.031986828 | V56: =G56/GDP!L14 -> 0.04408687 | X56: =I56/GDP!N14 -> 0.044577407 | Y56: =J56/GDP!O14 -> 0.049482026 | Z56: =K56/GDP!P14 -> 0.056409047
A57: Finland | B57: FI | C57: 1772.9073 | D57: 1919.7308 | E57: 2470.6441 | F57: 2849.7232 | G57: 3305.0797 | I57: 3575.4193 | J57: 3607.8133 | K57: 4538.8 | M57: =F57/E57-1 -> 0.15343332 | N57: =(I57/$G57)^(1/5)-1 -> 0.015848648 | O57: =(J57/$G57)^(1/5)-1 -> 0.017682772 | P57: =(K57/$G57)^(1/5)-1 -> 0.065495995 | R57: =C57/GDP!H15 -> 0.0088827608 | S57: =D57/GDP!I15 -> 0.0093228531 | T57: =E57/GDP!J15 -> 0.011808742 | U57: =F57/GDP!K15 -> 0.013638189 | V57: =G57/GDP!L15 -> 0.015445488 | X57: =I57/GDP!N15 -> 0.016050219 | Y57: =J57/GDP!O15 -> 0.015562225 | Z57: =K57/GDP!P15 -> 0.018670586
A58: France | B58: FR | C58: 14587.097 | D58: 15558.465 | E58: 18681.178 | F58: 21839.132 | G58: 29591.382 | I58: 30716.239 | J58: 31311.09 | K58: 39100.858 | M58: =F58/E58-1 -> 0.16904468 | N58: =(I58/$G58)^(1/5)-1 -> 0.0074895694 | O58: =(J58/$G58)^(1/5)-1 -> 0.011361898 | P58: =(K58/$G58)^(1/5)-1 -> 0.057314549 | R58: =C58/GDP!H16 -> 0.0070934839 | S58: =D58/GDP!I16 -> 0.0071127625 | T58: =E58/GDP!J16 -> 0.0083302634 | U58: =F58/GDP!K16 -> 0.0096467099 | V58: =G58/GDP!L16 -> 0.012667992 | X58: =I58/GDP!N16 -> 0.012700737 | Y58: =J58/GDP!O16 -> 0.012412722 | Z58: =K58/GDP!P16 -> 0.014810659
A59: Germany | B59: DE | C59: 23975.89 | D59: 26118.395 | E59: 31402.675 | F59: 34496.281 | G59: 42644.751 | I59: 42727.245 | J59: 45513.14 | K59: 58321.42 | M59: =F59/E59-1 -> 0.098514083 | N59: =(I59/$G59)^(1/5)-1 -> 0.00038659001 | O59: =(J59/$G59)^(1/5)-1 -> 0.0131045 | P59: =(K59/$G59)^(1/5)-1 -> 0.064614807 | R59: =C59/GDP!H17 -> 0.0084409539 | S59: =D59/GDP!I17 -> 0.0089127977 | T59: =E59/GDP!J17 -> 0.010526145 | U59: =F59/GDP!K17 -> 0.011625314 | V59: =G59/GDP!L17 -> 0.013962781 | X59: =I59/GDP!N17 -> 0.013568631 | Y59: =J59/GDP!O17 -> 0.013926826 | Z59: =K59/GDP!P17 -> 0.017143437
A60: Greece | B60: EL | C60: 447.427 | D60: 508.71959 | E60: 538.68675 | F60: 561.2198 | G60: 627.4276 | I60: 680.46985 | J60: 793.592 | K60: 1013.0117 | M60: =F60/E60-1 -> 0.041829603 | N60: =(I60/$G60)^(1/5)-1 -> 0.016363486 | O60: =(J60/$G60)^(1/5)-1 -> 0.048109681 | P60: =(K60/$G60)^(1/5)-1 -> 0.10055098 | R60: =C60/GDP!H18 -> 0.0024936692 | S60: =D60/GDP!I18 -> 0.0026147468 | T60: =E60/GDP!J18 -> 0.0026141716 | U60: =F60/GDP!K18 -> 0.0026580795 | V60: =G60/GDP!L18 -> 0.0028733868 | X60: =I60/GDP!N18 -> 0.0030049487 | Y60: =J60/GDP!O18 -> 0.0033801605 | Z60: =K60/GDP!P18 -> 0.0041331114
... A78: EEA (NO, LI, IS) | B78: RoEEA | C78: 3332.1362 | D78: 3697.6031 | E78: 3364.7281 | F78: 3706.3823 | G78: 4555.5553 | I78: 4998.1856 | J78: 6947.9678 | K78: 8761.5564 | M78: =F78/E78-1 -> 0.10153989 | N78: =(I78/$G78)^(1/5)-1 -> 0.018718543 | O78: =(J78/$G78)^(1/5)-1 -> 0.08808618 | P78: =(K78/$G78)^(1/5)-1 -> 0.13974577 | R78: =C78/GDP!H36 -> 0.0088086426 | S78: =D78/GDP!I36 -> 0.0094050142 | T78: =E78/GDP!J36 -> 0.0082692746 | U78: =F78/GDP!K36 -> 0.0089003818 | V78: =G78/GDP!L36 -> 0.010639896 | X78: =I78/GDP!N36 -> 0.011271447 | Y78: =J78/GDP!O36 -> 0.015131617 | Z78: =K78/GDP!P36 -> 0.018304467
A79: Total EU27 | B79: EU27 | C79: =SUM(C49:C75) -> 83829.151 | D79: =SUM(D49:D75) -> 91829.04 | E79: =SUM(E49:E75) -> 106037.26 | F79: =SUM(F49:F75) -> 118249.4 | G79: =SUM(G49:G75) -> 149958.33 | I79: =SUM(I49:I75) -> 158879.24 | J79: =SUM(J49:J75) -> 181253.3 | K79: =SUM(K49:K75) -> 222805.07 | M79: =F79/E79-1 -> 0.11516837 | N79: =(I79/$G79)^(1/5)-1 -> 0.011624429 | O79: =(J79/$G79)^(1/5)-1 -> 0.03863526 | P79: =(K79/$G79)^(1/5)-1 -> 0.082407747 | R79: =C79/GDP!H37 -> 0.0071351674 | S79: =D79/GDP!I37 -> 0.0073857658 | T79: =E79/GDP!J37 -> 0.0082417972 | U79: =F79/GDP!K37 -> 0.0091304292 | V79: =G79/GDP!L37 -> 0.011208346 | X79: =I79/GDP!N37 -> 0.011405309 | Y79: =J79/GDP!O37 -> 0.012439275 | Z79: =K79/GDP!P37 -> 0.014533453
A80: Total EU27 + U.K. | B80: EU27 + UK | C80: =C79+C77 -> 108596.04 | D80: =D79+D77 -> 119159.4 | E80: =E79+E77 -> 137865.94 | F80: =F79+F77 -> 152816.69 | G80: =G79+G77 -> 191592.47 | I80: =I79+I77 -> 209975.79 | J80: =J79+J77 -> 239091.95 | K80: =K79+K77 -> 290788.86 | M80: =F80/E80-1 -> 0.10844413 | N80: =(I80/$G80)^(1/5)-1 -> 0.018493248 | O80: =(J80/$G80)^(1/5)-1 -> 0.045291219 | P80: =(K80/$G80)^(1/5)-1 -> 0.087025829 | R80: =C80/GDP!H38 -> 0.0079090652 | S80: =D80/GDP!I38 -> 0.0081808467 | T80: =E80/GDP!J38 -> 0.0091388638 | U80: =F80/GDP!K38 -> 0.010065868 | V80: =G80/GDP!L38 -> 0.012227951 | X80: =I80/GDP!N38 -> 0.012872737 | Y80: =J80/GDP!O38 -> 0.014007338 | Z80: =K80/GDP!P38 -> 0.016190118
A81: Total All Countries | C81: =SUM(C49:C78) -> 117121.41 | D81: =SUM(D49:D78) -> 128436.54 | E81: =SUM(E49:E78) -> 147719.15 | F81: =SUM(F49:F78) -> 163645.09 | G81: =SUM(G49:G78) -> 205019.71 | I81: =SUM(I49:I78) -> 224893.3 | J81: =SUM(J49:J78) -> 258545.24 | K81: =SUM(K49:K78) -> 313357.14 | M81: =F81/E81-1 -> 0.1078123 | N81: =(I81/$G81)^(1/5)-1 -> 0.018676251 | O81: =(J81/$G81)^(1/5)-1 -> 0.0474859 | P81: =(K81/$G81)^(1/5)-1 -> 0.088551038 | R81: =C81/GDP!H39 -> 0.0079424755 | S81: =D81/GDP!I39 -> 0.0082170301 | T81: =E81/GDP!J39 -> 0.0091284991 | U81: =F81/GDP!K39 -> 0.010043461 | V81: =G81/GDP!L39 -> 0.012193996 | X81: 0.060795949 | Y81: 0.064912697 | Z81: 0.074354934
A82: Source: European Data Market Monitoring Tool, IDC 2023
A85: Indicator 5.1: Data Economy Value (BACKWARD INDIRECT IMPACTS) by MS, 2020-2023, 2025, 2030 3 Scenarios (2030 Baseline - 2030 Challenge - 2030 High Growth); Data Economy as a % of GDP by MS, 2020-2023, 2025, 3 Scenarios
C86: Size of the Data Economy | I86: Size of the Data Economy | M86: Growth Rate of Data Economy | R86: Total impacts/GDP
C87: 2020 | D87: 2021 | E87: 2022 | F87: 2023 | G87: 2025 | I87: 2030 Challenge Scenario | J87: 2030 Baseline Scenario | K87: 2030 High Growth Scenario | M87: Growth Rate 2023/2022 | N87: CAGR 2030/2025 Challenge Scenario | O87: CAGR 2030/2025 Baseline Scenario | P87: CAGR 2030/2025 High Growth Scenario | R87: 2020 | S87: 2021 | T87: 2022 | U87: 2023 | V87: 2025 | X87: 2030 Challenge Scenario | Y87: 2030 Baseline Scenario | Z87: 2030 High Growth Scenario
A88: Member States | B88: Abbrev. | C88: Euro (M) | D88: Euro (M) | E88: Euro (M) | F88: Euro (M) | G88: Euro (M) | I88: Euro (M) | J88: Euro (M) | K88: Euro (M) | M88: Percent | N88: Percent | O88: Percent | P88: Percent | R88: Percent | S88: Percent | T88: Percent | U88: Percent | V88: Percent | X88: Percent | Y88: Percent | Z88: Percent
A89: Austria | B89: AT | C89: 3251.2823 | D89: 3253.1288 | E89: 3291.7456 | F89: 3433.2232 | G89: 3950.8796 | I89: 4548.2822 | J89: 5053.6469 | K89: 5572.3128 | M89: =F89/E89-1 -> 0.042979513 | N89: =(I89/$G89)^(1/5)-1 -> 0.028562585 | O89: =(J89/$G89)^(1/5)-1 -> 0.050466533 | P89: =(K89/$G89)^(1/5)-1 -> 0.071194512 | R89: =C89/GDP!H7 -> 0.010223092 | S89: =D89/GDP!I7 -> 0.0097830832 | T89: =E89/GDP!J7 -> 0.0094414013 | U89: =F89/GDP!K7 -> 0.0098378422 | V89: =G89/GDP!L7 -> 0.011048724 | X89: =I89/GDP!N7 -> 0.012212205 | Y89: =J89/GDP!O7 -> 0.013032347 | Z89: =K89/GDP!P7 -> 0.013696309
A90: Belgium | B90: BE | C90: 4135.8921 | D90: 4151.3693 | E90: 4296.7026 | F90: 4650.0133 | G90: 5242.7153 | I90: 6152.2454 | J90: 6835.8283 | K90: 7289.7087 | M90: =F90/E90-1 -> 0.082228339 | N90: =(I90/$G90)^(1/5)-1 -> 0.032512874 | O90: =(J90/$G90)^(1/5)-1 -> 0.054500946 | P90: =(K90/$G90)^(1/5)-1 -> 0.068146397 | R90: =C90/GDP!H8 -> 0.010720718 | S90: =D90/GDP!I8 -> 0.010124416 | T90: =E90/GDP!J8 -> 0.010149211 | U90: =F90/GDP!K8 -> 0.010874906 | V90: =G90/GDP!L8 -> 0.012010577 | X90: =I90/GDP!N8 -> 0.013650625 | Y90: =J90/GDP!O8 -> 0.01469297 | Z90: =K90/GDP!P8 -> 0.015086311
A91: Bulgaria | B91: BG | C91: 533.38948 | D91: 534.06927 | E91: 586.37564 | F91: 669.29278 | G91: 770.4942 | I91: 903.60528 | J91: 1004.0059 | K91: 1104.4065 | M91: =F91/E91-1 -> 0.14140618 | N91: =(I91/$G91)^(1/5)-1 -> 0.032385455 | O91: =(J91/$G91)^(1/5)-1 -> 0.054370813 | P91: =(K91/$G91)^(1/5)-1 -> 0.07466205 | R91: =C91/GDP!H9 -> 0.011624104 | S91: =D91/GDP!I9 -> 0.010813321 | T91: =E91/GDP!J9 -> 0.011486315 | U91: =F91/GDP!K9 -> 0.012896089 | V91: =G91/GDP!L9 -> 0.013971997 | X91: =I91/GDP!N9 -> 0.015265181 | Y91: =J91/GDP!O9 -> 0.015816972 | Z91: =K91/GDP!P9 -> 0.016020033
A92: Croatia | B92: HR | C92: 277.80572 | D92: 276.60242 | E92: 308.82402 | F92: 335.76553 | G92: 404.17219 | I92: 468.94913 | J92: 521.05459 | K92: 574.53147 | M92: =F92/E92-1 -> 0.087239029 | N92: =(I92/$G92)^(1/5)-1 -> 0.030177027 | O92: =(J92/$G92)^(1/5)-1 -> 0.052115355 | P92: =(K92/$G92)^(1/5)-1 -> 0.072875869 | R92: =C92/GDP!H10 -> 0.0059796901 | S92: =D92/GDP!I10 -> 0.0052648333 | T92: =E92/GDP!J10 -> 0.0055339791 | U92: =F92/GDP!K10 -> 0.0058585765 | V92: =G92/GDP!L10 -> 0.0066927504 | X92: =I92/GDP!N10 -> 0.0072247575 | Y92: =J92/GDP!O10 -> 0.0074762879 | Z92: =K92/GDP!P10 -> 0.0075790353
A93: Cyprus | B93: CY | C93: 315.5897 | D93: 329.82109 | E93: 372.46334 | F93: 405.73443 | G93: 491.18573 | I93: 541.19962 | J93: 601.33291 | K93: 641.25978 | M93: =F93/E93-1 -> 0.089327162 | N93: =(I93/$G93)^(1/5)-1 -> 0.01958244 | O93: =(J93/$G93)^(1/5)-1 -> 0.04129515 | P93: =(K93/$G93)^(1/5)-1 -> 0.054769715 | R93: =C93/GDP!H11 -> 0.015598434 | S93: =D93/GDP!I11 -> 0.015292532 | T93: =E93/GDP!J11 -> 0.016353872 | U93: =F93/GDP!K11 -> 0.01743123 | V93: =G93/GDP!L11 -> 0.019949143 | X93: =I93/GDP!N11 -> 0.020435824 | Y93: =J93/GDP!O11 -> 0.021132959 | Z93: =K93/GDP!P11 -> 0.020703036
A94: Czechia | B94: CZ | C94: 964.42328 | D94: 1015.0315 | E94: 1115.4054 | F94: 1182.2104 | G94: 1393.0703 | I94: 1564.1882 | J94: 1737.9869 | K94: 1914.456 | M94: =F94/E94-1 -> 0.059892984 | N94: =(I94/$G94)^(1/5)-1 -> 0.023441898 | O94: =(J94/$G94)^(1/5)-1 -> 0.045236797 | P94: =(K94/$G94)^(1/5)-1 -> 0.065649701 | R94: =C94/GDP!H12 -> 0.0053337813 | S94: =D94/GDP!I12 -> 0.0054210617 | T94: =E94/GDP!J12 -> 0.0058208136 | U94: =F94/GDP!K12 -> 0.00615817 | V94: =G94/GDP!L12 -> 0.0068918148 | X94: =I94/GDP!N12 -> 0.0073291982 | Y94: =J94/GDP!O12 -> 0.0076264386 | Z94: =K94/GDP!P12 -> 0.0078281442
A95: Denmark | B95: DK | C95: 2782.5375 | D95: 2799.3218 | E95: 3097.6575 | F95: 3498.7544 | G95: 4137.3297 | I95: 4551.1482 | J95: 5056.8313 | K95: 5575.8241 | M95: =F95/E95-1 -> 0.12948393 | N95: =(I95/$G95)^(1/5)-1 -> 0.019248706 | O95: =(J95/$G95)^(1/5)-1 -> 0.040954308 | P95: =(K95/$G95)^(1/5)-1 -> 0.06149459 | R95: =C95/GDP!H13 -> 0.0099898613 | S95: =D95/GDP!I13 -> 0.0094062614 | T95: =E95/GDP!J13 -> 0.010132022 | U95: =F95/GDP!K13 -> 0.01125266 | V95: =G95/GDP!L13 -> 0.012967117 | X95: =I95/GDP!N13 -> 0.013810644 | Y95: =J95/GDP!O13 -> 0.01475521 | Z95: =K95/GDP!P13 -> 0.015593844
A96: Estonia | B96: EE | C96: 391.69059 | D96: 441.99719 | E96: 460.2149 | F96: 482.40188 | G96: 549.53476 | I96: 618.08937 | J96: 686.76597 | K96: 732.36537 | M96: =F96/E96-1 -> 0.048210052 | N96: =(I96/$G96)^(1/5)-1 -> 0.023790799 | O96: =(J96/$G96)^(1/5)-1 -> 0.045593128 | P96: =(K96/$G96)^(1/5)-1 -> 0.05912331 | R96: =C96/GDP!H14 -> 0.01959323 | S96: =D96/GDP!I14 -> 0.020615276 | T96: =E96/GDP!J14 -> 0.021564383 | U96: =F96/GDP!K14 -> 0.023128795 | V96: =G96/GDP!L14 -> 0.025069653 | X96: =I96/GDP!N14 -> 0.02647238 | Y96: =J96/GDP!O14 -> 0.027259055 | Z96: =K96/GDP!P14 -> 0.026788647
A97: Finland | B97: FI | C97: 2421.3276 | D97: 2338.4944 | E97: 2591.5829 | F97: 2792.8455 | G97: 3170.9288 | I97: 3684.1458 | J97: 4093.4953 | K97: 4502.8448 | M97: =F97/E97-1 -> 0.077660122 | N97: =(I97/$G97)^(1/5)-1 -> 0.030457446 | O97: =(J97/$G97)^(1/5)-1 -> 0.052401746 | P97: =(K97/$G97)^(1/5)-1 -> 0.072655088 | R97: =C97/GDP!H15 -> 0.012131528 | S97: =D97/GDP!I15 -> 0.011356509 | T97: =E97/GDP!J15 -> 0.012386783 | U97: =F97/GDP!K15 -> 0.013365985 | V97: =G97/GDP!L15 -> 0.014818566 | X97: =I97/GDP!N15 -> 0.016538297 | Y97: =J97/GDP!O15 -> 0.017657204 | Z97: =K97/GDP!P15 -> 0.018522682
A98: France | B98: FR | C98: 17506.367 | D98: 18389.437 | E98: 19773.552 | F98: 21755.185 | G98: 26268.982 | I98: 29382.151 | J98: 32646.834 | K98: 35997.444 | M98: =F98/E98-1 -> 0.10021637 | N98: =(I98/$G98)^(1/5)-1 -> 0.022652458 | O98: =(J98/$G98)^(1/5)-1 -> 0.044430545 | P98: =(K98/$G98)^(1/5)-1 -> 0.065039421 | R98: =C98/GDP!H16 -> 0.0085130805 | S98: =D98/GDP!I16 -> 0.0084069796 | T98: =E98/GDP!J16 -> 0.0088173721 | U98: =F98/GDP!K16 -> 0.0096096295 | V98: =G98/GDP!L16 -> 0.011245682 | X98: =I98/GDP!N16 -> 0.01214911 | Y98: =J98/GDP!O16 -> 0.012942254 | Z98: =K98/GDP!P16 -> 0.013635145
A99: Germany | B99: DE | C99: 28614.099 | D99: 29498.361 | E99: 32228.349 | F99: 35870.697 | G99: 41844.589 | I99: 45084.115 | J99: 50093.461 | K99: 53419.531 | M99: =F99/E99-1 -> 0.1130169 | N99: =(I99/$G99)^(1/5)-1 -> 0.015025255 | O99: =(J99/$G99)^(1/5)-1 -> 0.036640916 | P99: =(K99/$G99)^(1/5)-1 -> 0.050055254 | R99: =C99/GDP!H17 -> 0.010073882 | S99: =D99/GDP!I17 -> 0.010066198 | T99: =E99/GDP!J17 -> 0.01080291 | U99: =F99/GDP!K17 -> 0.012088495 | V99: =G99/GDP!L17 -> 0.013700791 | X99: =I99/GDP!N17 -> 0.014317088 | Y99: =J99/GDP!O17 -> 0.015328384 | Z99: =K99/GDP!P17 -> 0.015702539
A100: Greece | B100: EL | C100: 595.37496 | D100: 635.32188 | E100: 673.73104 | F100: 706.86849 | G100: 778.99024 | I100: 819.23795 | J100: 910.26439 | K100: 1002.6894 | M100: =F100/E100-1 -> 0.049184973 | N100: =(I100/$G100)^(1/5)-1 -> 0.010126139 | O100: =(J100/$G100)^(1/5)-1 -> 0.03163747 | P100: =(K100/$G100)^(1/5)-1 -> 0.051784786 | R100: =C100/GDP!H18 -> 0.0033182356 | S100: =D100/GDP!I18 -> 0.0032654647 | T100: =E100/GDP!J18 -> 0.0032695228 | U100: =F100/GDP!K18 -> 0.0033479086 | V100: =G100/GDP!L18 -> 0.0035674878 | X100: =I100/GDP!N18 -> 0.0036177474 | Y100: =J100/GDP!O18 -> 0.0038771053 | Z100: =K100/GDP!P18 -> 0.0040909965
... A118: EEA (NO, LI, IS) | B118: RoEEA | C118: 4018.2396 | D118: 4082.1681 | E118: 4408.7415 | F118: 4618.5976 | G118: 5326.2657 | I118: 5819.1831 | J118: 6465.759 | K118: 7045.6405 | M118: =F118/E118-1 -> 0.0476 | N118: =(I118/$G118)^(1/5)-1 -> 0.017859512 | O118: =(J118/$G118)^(1/5)-1 -> 0.03953553 | P118: =(K118/$G118)^(1/5)-1 -> 0.057546643 | R118: =C118/GDP!H36 -> 0.010622386 | S118: =D118/GDP!I36 -> 0.010383172 | T118: =E118/GDP!J36 -> 0.010835079 | U118: =F118/GDP!K36 -> 0.011090945 | V118: =G118/GDP!L36 -> 0.012439957 | X118: =I118/GDP!N36 -> 0.013122885 | Y118: =J118/GDP!O36 -> 0.014081439 | Z118: =K118/GDP!P36 -> 0.01471961
A119: Total EU27 | B119: EU27 | C119: =SUM(C89:C115) -> 108198.43 | D119: =SUM(D89:D115) -> 111460.96 | E119: =SUM(E89:E115) -> 121686.33 | F119: =SUM(F89:F115) -> 133283.8 | G119: =SUM(G89:G115) -> 158250.52 | I119: =SUM(I89:I115) -> 176558.37 | J119: =SUM(J89:J115) -> 196175.96 | K119: =SUM(K89:K115) -> 212920.39 | M119: =F119/E119-1 -> 0.095306244 | N119: =(I119/$G119)^(1/5)-1 -> 0.022135874 | O119: =(J119/$G119)^(1/5)-1 -> 0.043902961 | P119: =(K119/$G119)^(1/5)-1 -> 0.061144237 | R119: =C119/GDP!H37 -> 0.0092093731 | S119: =D119/GDP!I37 -> 0.008964752 | T119: =E119/GDP!J37 -> 0.009458129 | U119: =F119/GDP!K37 -> 0.010291285 | V119: =G119/GDP!L37 -> 0.01182813 | X119: =I119/GDP!N37 -> 0.012674423 | Y119: =J119/GDP!O37 -> 0.013463406 | Z119: =K119/GDP!P37 -> 0.013888681
A120: Total EU27 + U.K. | B120: EU27 + UK | C120: =C119+C117 -> 136575.31 | D120: =D119+D117 -> 140472.11 | E120: =E119+E117 -> 154661.96 | F120: =F119+F117 -> 169375.43 | G120: =G119+G117 -> 200519.75 | I120: =I119+I117 -> 224544.71 | J120: =J119+J117 -> 249494.13 | K120: =K119+K117 -> 271022.45 | M120: =F120/E120-1 -> 0.095133109 | N120: =(I120/$G120)^(1/5)-1 -> 0.022890483 | O120: =(J120/$G120)^(1/5)-1 -> 0.044673639 | P120: =(K120/$G120)^(1/5)-1 -> 0.062110306 | R120: =C120/GDP!H38 -> 0.0099467988 | S120: =D120/GDP!I38 -> 0.0096440635 | T120: =E120/GDP!J38 -> 0.010252239 | U120: =F120/GDP!K38 -> 0.011156574 | V120: =G120/GDP!L38 -> 0.012797714 | X120: =I120/GDP!N38 -> 0.013765897 | Y120: =J120/GDP!O38 -> 0.014616756 | Z120: =K120/GDP!P38 -> 0.015089593
A121: Total All Countries | C121: =SUM(C89:C118) -> 148216.01 | D121: =SUM(D89:D118) -> 152334.74 | E121: =SUM(E89:E118) -> 167943.84 | F121: =SUM(F89:F118) -> 184022.46 | G121: =SUM(G89:G118) -> 217844.62 | I121: =SUM(I89:I118) -> 244218.47 | J121: =SUM(J89:J118) -> 271353.85 | K121: =SUM(K89:K118) -> 295001.45 | M121: =F121/E121-1 -> 0.095738102 | N121: =(I121/$G121)^(1/5)-1 -> 0.02311943 | O121: =(J121/$G121)^(1/5)-1 -> 0.044907462 | P121: =(K121/$G121)^(1/5)-1 -> 0.06251596 | R121: =C121/GDP!H39 -> 0.010051126 | S121: =D121/GDP!I39 -> 0.0097459736 | T121: =E121/GDP!J39 -> 0.01037831 | U121: =F121/GDP!K39 -> 0.01129409 | V121: =G121/GDP!L39 -> 0.012956786 | X121: =I121/GDP!N39 -> 0.013954675 | Y121: =J121/GDP!O39 -> 0.014824828 | Z121: =K121/GDP!P39 -> 0.015322613
A122: Source: European Data Market Monitoring Tool, IDC 2023
A125: Indicator 5.1: Data Economy Value (FORWARD INDIRECT IMPACTS) by MS, 2020-2023, 2025, 2030 3 Scenarios (2030 Baseline - 2030 Challenge - 2030 High Growth); Data Economy as a % of GDP by MS, 2020-2023, 2025, 3 Scenarios
C126: Size of the Data Economy | I126: Size of the Data Economy | M126: Growth Rate of Data Economy | R126: Total impacts/GDP
C127: 2020 | D127: 2021 | E127: 2022 | F127: 2023 | G127: 2025 | I127: 2030 Challenge Scenario | J127: 2030 Baseline Scenario | K127: 2030 High Growth Scenario | M127: Growth Rate 2023/2022 | N127: CAGR 2030/2025 Challenge Scenario | O127: CAGR 2030/2025 Baseline Scenario | P127: CAGR 2030/2025 High Growth Scenario | R127: 2020 | S127: 2021 | T127: 2022 | U127: 2023 | V127: 2025 | X127: 2030 Challenge Scenario | Y127: 2030 Baseline Scenario | Z127: 2030 High Growth Scenario
A128: Member States | B128: Abbrev. | C128: Euro (M) | D128: Euro (M) | E128: Euro (M) | F128: Euro (M) | G128: Euro (M) | I128: Euro (M) | J128: Euro (M) | K128: Euro (M) | M128: Percent | N128: Percent | O128: Percent | P128: Percent | R128: Percent | S128: Percent | T128: Percent | U128: Percent | V128: Percent | X128: Percent | Y128: Percent | Z128: Percent
A129: Austria | B129: AT | C129: 2858.8787 | D129: 2946.9921 | E129: 3094.3379 | F129: 3276.857 | G129: 3927.795 | I129: 4367.9639 | J129: 4904.5117 | K129: 5533.8694 | M129: =F129/E129-1 -> 0.058984875 | N129: =(I129/$G129)^(1/5)-1 -> 0.021471008 | O129: =(J129/$G129)^(1/5)-1 -> 0.045416599 | P129: =(K129/$G129)^(1/5)-1 -> 0.070966825 | R129: =C129/GDP!H7 -> 0.0089892475 | S129: =D129/GDP!I7 -> 0.008862443 | T129: =E129/GDP!J7 -> 0.0088751956 | U129: =F129/GDP!K7 -> 0.0093897776 | V129: =G129/GDP!L7 -> 0.010984167 | X129: =I129/GDP!N7 -> 0.011728048 | Y129: =J129/GDP!O7 -> 0.012647757 | Z129: =K129/GDP!P7 -> 0.013601818
A130: Belgium | B130: BE | C130: 3490.2581 | D130: 3557.9346 | E130: 3672.145 | F130: 3808.5119 | G130: 4651.7033 | I130: 5046.8175 | J130: 5798.2919 | K130: 6450.0042 | M130: =F130/E130-1 -> 0.037135492 | N130: =(I130/$G130)^(1/5)-1 -> 0.016438531 | O130: =(J130/$G130)^(1/5)-1 -> 0.045051311 | P130: =(K130/$G130)^(1/5)-1 -> 0.067553376 | R130: =C130/GDP!H8 -> 0.0090471592 | S130: =D130/GDP!I8 -> 0.0086771398 | T130: =E130/GDP!J8 -> 0.0086739478 | U130: =F130/GDP!K8 -> 0.0089069011 | V130: =G130/GDP!L8 -> 0.010656623 | X130: =I130/GDP!N8 -> 0.011197898 | Y130: =J130/GDP!O8 -> 0.012462883 | Z130: =K130/GDP!P8 -> 0.013348513
A131: Bulgaria | B131: BG | C131: 512.42586 | D131: 535.59394 | E131: 547.04267 | F131: 564.51066 | G131: 666.60468 | I131: 730.91643 | J131: 808.53587 | K131: 926.58211 | M131: =F131/E131-1 -> 0.031931686 | N131: =(I131/$G131)^(1/5)-1 -> 0.018591091 | O131: =(J131/$G131)^(1/5)-1 -> 0.03936045 | P131: =(K131/$G131)^(1/5)-1 -> 0.068078347 | R131: =C131/GDP!H9 -> 0.011167246 | S131: =D131/GDP!I9 -> 0.010844191 | T131: =E131/GDP!J9 -> 0.010715835 | U131: =F131/GDP!K9 -> 0.010877123 | V131: =G131/GDP!L9 -> 0.012088084 | X131: =I131/GDP!N9 -> 0.012347838 | Y131: =J131/GDP!O9 -> 0.012737564 | Z131: =K131/GDP!P9 -> 0.013440592
A132: Croatia | B132: HR | C132: 224.51973 | D132: 234.65462 | E132: 242.13793 | F132: 251.79478 | G132: 287.43165 | I132: 307.73964 | J132: 339.4317 | K132: 389.88211 | M132: =F132/E132-1 -> 0.039881616 | N132: =(I132/$G132)^(1/5)-1 -> 0.013747436 | O132: =(J132/$G132)^(1/5)-1 -> 0.03381674 | P132: =(K132/$G132)^(1/5)-1 -> 0.062869005 | R132: =C132/GDP!H10 -> 0.0048327242 | S132: =D132/GDP!I10 -> 0.0044664015 | T132: =E132/GDP!J10 -> 0.0043389961 | U132: =F132/GDP!K10 -> 0.00439342 | V132: =G132/GDP!L10 -> 0.0047596256 | X132: =I132/GDP!N10 -> 0.0047411203 | Y132: =J132/GDP!O10 -> 0.0048702941 | Z132: =K132/GDP!P10 -> 0.0051432001
A133: Cyprus | B133: CY | C133: 372.95873 | D133: 404.46946 | E133: 420.68496 | F133: 431.14082 | G133: 496.28358 | I133: 510.82958 | J133: 586.89243 | K133: 652.85754 | M133: =F133/E133-1 -> 0.024854382 | N133: =(I133/$G133)^(1/5)-1 -> 0.0057944278 | O133: =(J133/$G133)^(1/5)-1 -> 0.034107576 | P133: =(K133/$G133)^(1/5)-1 -> 0.056374001 | R133: =C133/GDP!H11 -> 0.018433974 | S133: =D133/GDP!I11 -> 0.018753689 | T133: =E133/GDP!J11 -> 0.018471155 | U133: =F133/GDP!K11 -> 0.018522744 | V133: =G133/GDP!L11 -> 0.020156188 | X133: =I133/GDP!N11 -> 0.019289044 | Y133: =J133/GDP!O11 -> 0.02062547 | Z133: =K133/GDP!P11 -> 0.021077469
A134: Czechia | B134: CZ | C134: 729.47728 | D134: 754.68975 | E134: 789.03359 | F134: 816.56732 | G134: 948.26581 | I134: 1035.631 | J134: 1143.6657 | K134: 1312.3981 | M134: =F134/E134-1 -> 0.034895508 | N134: =(I134/$G134)^(1/5)-1 -> 0.017782521 | O134: =(J134/$G134)^(1/5)-1 -> 0.038182725 | P134: =(K134/$G134)^(1/5)-1 -> 0.067154004 | R134: =C134/GDP!H12 -> 0.0040344031 | S134: =D134/GDP!I12 -> 0.0040306333 | T134: =E134/GDP!J12 -> 0.0041176216 | U134: =F134/GDP!K12 -> 0.0042535241 | V134: =G134/GDP!L12 -> 0.0046912723 | X134: =I134/GDP!N12 -> 0.0048525776 | Y134: =J134/GDP!O12 -> 0.005018505 | Z134: =K134/GDP!P12 -> 0.0053663502
A135: Denmark | B135: DK | C135: 2693.5893 | D135: 2719.0307 | E135: 2961.3239 | F135: 3205.4024 | G135: 3949.1333 | I135: 4440.7164 | J135: 4898.0362 | K135: 5626.0411 | M135: =F135/E135-1 -> 0.082422102 | N135: =(I135/$G135)^(1/5)-1 -> 0.023741359 | O135: =(J135/$G135)^(1/5)-1 -> 0.044008514 | P135: =(K135/$G135)^(1/5)-1 -> 0.073347187 | R135: =C135/GDP!H13 -> 0.0096705196 | S135: =D135/GDP!I13 -> 0.0091364679 | T135: =E135/GDP!J13 -> 0.0096860927 | U135: =F135/GDP!K13 -> 0.010309185 | V135: =G135/GDP!L13 -> 0.012377276 | X135: =I135/GDP!N13 -> 0.013475534 | Y135: =J135/GDP!O13 -> 0.014291866 | Z135: =K135/GDP!P13 -> 0.015734285
A136: Estonia | B136: EE | C136: 529.94763 | D136: 565.11611 | E136: 602.98398 | F136: 658.59965 | G136: 846.48483 | I136: 930.66885 | J136: 1069.246 | K136: 1189.4264 | M136: =F136/E136-1 -> 0.09223407 | N136: =(I136/$G136)^(1/5)-1 -> 0.019143173 | O136: =(J136/$G136)^(1/5)-1 -> 0.047832089 | P136: =(K136/$G136)^(1/5)-1 -> 0.07039403 | R136: =C136/GDP!H14 -> 0.026509152 | S136: =D136/GDP!I14 -> 0.026357689 | T136: =E136/GDP!J14 -> 0.028254143 | U136: =F136/GDP!K14 -> 0.031576611 | V136: =G136/GDP!L14 -> 0.038616449 | X136: =I136/GDP!N14 -> 0.039859962 | Y136: =J136/GDP!O14 -> 0.04244042 | Z136: =K136/GDP!P14 -> 0.043507141
A137: Finland | B137: FI | C137: 2313.7372 | D137: 2403.6377 | E137: 2585.834 | F137: 2785.8144 | G137: 3741.0981 | I137: 4370.5711 | J137: 4834.7025 | K137: 5540.5691 | M137: =F137/E137-1 -> 0.077336937 | N137: =(I137/$G137)^(1/5)-1 -> 0.031591652 | O137: =(J137/$G137)^(1/5)-1 -> 0.052626097 | P137: =(K137/$G137)^(1/5)-1 -> 0.081710528 | R137: =C137/GDP!H15 -> 0.01159247 | S137: =D137/GDP!I15 -> 0.011672867 | T137: =E137/GDP!J15 -> 0.012359306 | U137: =F137/GDP!K15 -> 0.013332335 | V137: =G137/GDP!L15 -> 0.017483114 | X137: =I137/GDP!N15 -> 0.019619692 | Y137: =J137/GDP!O15 -> 0.020854386 | Z137: =K137/GDP!P15 -> 0.022791414
A138: France | B138: FR | C138: 15669.353 | D138: 15808.939 | E138: 16715.27 | F138: 17791.54 | G138: 21667.754 | I138: 24492.646 | J138: 27014.98 | K138: 31030.271 | M138: =F138/E138-1 -> 0.064388425 | N138: =(I138/$G138)^(1/5)-1 -> 0.024812373 | O138: =(J138/$G138)^(1/5)-1 -> 0.04510073 | P138: =(K138/$G138)^(1/5)-1 -> 0.074470097 | R138: =C138/GDP!H16 -> 0.0076197687 | S138: =D138/GDP!I16 -> 0.0072272699 | T138: =E138/GDP!J16 -> 0.0074536309 | U138: =F138/GDP!K16 -> 0.0078588211 | V138: =G138/GDP!L16 -> 0.0092759082 | X138: =I138/GDP!N16 -> 0.010127368 | Y138: =J138/GDP!O16 -> 0.010709606 | Z138: =K138/GDP!P16 -> 0.011753675
A139: Germany | B139: DE | C139: 30705.032 | D139: 32079.835 | E139: 34101.962 | F139: 36827.931 | G139: 43554.734 | I139: 46948.447 | J139: 53939.101 | K139: 60001.709 | M139: =F139/E139-1 -> 0.079935859 | N139: =(I139/$G139)^(1/5)-1 -> 0.015119502 | O139: =(J139/$G139)^(1/5)-1 -> 0.043695152 | P139: =(K139/$G139)^(1/5)-1 -> 0.066168016 | R139: =C139/GDP!H17 -> 0.010810016 | S139: =D139/GDP!I17 -> 0.010947115 | T139: =E139/GDP!J17 -> 0.011430944 | U139: =F139/GDP!K17 -> 0.012411085 | V139: =G139/GDP!L17 -> 0.014260729 | X139: =I139/GDP!N17 -> 0.014909132 | Y139: =J139/GDP!O17 -> 0.016505133 | Z139: =K139/GDP!P17 -> 0.017637354
A140: Greece | B140: EL | C140: 738.02425 | D140: 744.85119 | E140: 766.29673 | F140: 809.45631 | G140: 961.67731 | I140: 1091.3082 | J140: 1205.151 | K140: 1382.9547 | M140: =F140/E140-1 -> 0.056322285 | N140: =(I140/$G140)^(1/5)-1 -> 0.025613216 | O140: =(J140/$G140)^(1/5)-1 -> 0.046170377 | P140: =(K140/$G140)^(1/5)-1 -> 0.075364557 | R140: =C140/GDP!H18 -> 0.0041132707 | S140: =D140/GDP!I18 -> 0.0038284298 | T140: =E140/GDP!J18 -> 0.0037187311 | U140: =F140/GDP!K18 -> 0.0038337906 | V140: =G140/GDP!L18 -> 0.0044041271 | X140: =I140/GDP!N18 -> 0.0048192071 | Y140: =J140/GDP!O18 -> 0.005133121 | Z140: =K140/GDP!P18 -> 0.0056424878
... A158: EEA (NO, LI, IS) | B158: RoEEA | C158: 4707.6262 | D158: 4580.4553 | E158: 4875.5943 | F158: 5228.8517 | G158: 5931.7401 | I158: 6664.0853 | J158: 7377.1737 | K158: 8390.3798 | M158: =F158/E158-1 -> 0.072454228 | N158: =(I158/$G158)^(1/5)-1 -> 0.023556186 | O158: =(J158/$G158)^(1/5)-1 -> 0.044579694 | P158: =(K158/$G158)^(1/5)-1 -> 0.071815176 | R158: =C158/GDP!H36 -> 0.012444808 | S158: =D158/GDP!I36 -> 0.011650587 | T158: =E158/GDP!J36 -> 0.011982433 | U158: =F158/GDP!K36 -> 0.012556389 | V158: =G158/GDP!L36 -> 0.013854095 | X158: =I158/GDP!N36 -> 0.015028231 | Y158: =J158/GDP!O36 -> 0.016066362 | Z158: =K158/GDP!P36 -> 0.017529013
A159: Total EU27 | B159: EU27 | C159: =SUM(C129:C155) -> 107175.63 | D159: =SUM(D129:D155) -> 110920.06 | E159: =SUM(E129:E155) -> 117103.73 | F159: =SUM(F129:F155) -> 124847.62 | G159: =SUM(G129:G155) -> 150864.67 | I159: =SUM(I129:I155) -> 165514.15 | J159: =SUM(J129:J155) -> 187386.02 | K159: =SUM(K129:K155) -> 210613.94 | M159: =F159/E159-1 -> 0.066128515 | N159: =(I159/$G159)^(1/5)-1 -> 0.018707521 | O159: =(J159/$G159)^(1/5)-1 -> 0.044311176 | P159: =(K159/$G159)^(1/5)-1 -> 0.069005432 | R159: =C159/GDP!H37 -> 0.0091223163 | S159: =D159/GDP!I37 -> 0.0089212478 | T159: =E159/GDP!J37 -> 0.0091019438 | U159: =F159/GDP!K37 -> 0.0096399001 | V159: =G159/GDP!L37 -> 0.011276089 | X159: =I159/GDP!N37 -> 0.011881603 | Y159: =J159/GDP!O37 -> 0.012860159 | Z159: =K159/GDP!P37 -> 0.013738233
A160: Total EU27 + U.K. | B160: EU27 + UK | C160: =C159+C157 -> 139097.38 | D160: =D159+D157 -> 143384.03 | E160: =E159+E157 -> 150889.79 | F160: =F159+F157 -> 160385.54 | G160: =G159+G157 -> 193806.71 | I160: =I159+I157 -> 214659.93 | J160: =J159+J157 -> 242375.93 | K160: =K159+K157 -> 273067.28 | M160: =F160/E160-1 -> 0.062931734 | N160: =(I160/$G160)^(1/5)-1 -> 0.020649045 | O160: =(J160/$G160)^(1/5)-1 -> 0.045741001 | P160: =(K160/$G160)^(1/5)-1 -> 0.070977066 | R160: =C160/GDP!H38 -> 0.010130482 | S160: =D160/GDP!I38 -> 0.0098439803 | T160: =E160/GDP!J38 -> 0.01000219 | U160: =F160/GDP!K38 -> 0.01056442 | V160: =G160/GDP!L38 -> 0.01236927 | X160: =I160/GDP!N38 -> 0.013159902 | Y160: =J160/GDP!O38 -> 0.014199732 | Z160: =K160/GDP!P38 -> 0.015203442
A161: Total All Countries | C161: =SUM(C129:C158) -> 150898.21 | D161: =SUM(D129:D158) -> 155220.74 | E161: =SUM(E129:E158) -> 163205.48 | F161: =SUM(F129:F158) -> 173340.04 | G161: =SUM(G129:G158) -> 208796.67 | I161: =SUM(I129:I158) -> 231282.56 | J161: =SUM(J129:J158) -> 260769.2 | K161: =SUM(K129:K158) -> 294082.11 | M161: =F161/E161-1 -> 0.062096938 | N161: =(I161/$G161)^(1/5)-1 -> 0.020666511 | O161: =(J161/$G161)^(1/5)-1 -> 0.045457894 | P161: =(K161/$G161)^(1/5)-1 -> 0.070900218 | R161: =C161/GDP!H39 -> 0.010233017 | S161: =D161/GDP!I39 -> 0.0099306123 | T161: =E161/GDP!J39 -> 0.010085497 | U161: =F161/GDP!K39 -> 0.010638473 | V161: =G161/GDP!L39 -> 0.012418639 | X161: =I161/GDP!N39 -> 0.013215516 | Y161: =J161/GDP!O39 -> 0.014246559 | Z161: =K161/GDP!P39 -> 0.015274862
A162: Source: European Data Market Monitoring Tool, IDC 2023
A165: Indicator 5.1: Data Economy Value (INDUCED IMPACTS) by MS, 2020-2023, 2025, 2030 3 Scenarios (2030 Baseline - 2030 Challenge - 2030 High Growth); Data Economy as a % of GDP by MS, 2020-2023, 2025, 3 Scenarios
C166: Size of the Data Economy | I166: Size of the Data Economy | M166: Growth Rate of Data Economy | R166: Total impacts/GDP
C167: 2020 | D167: 2021 | E167: 2022 | F167: 2023 | G167: 2025 | I167: 2030 Challenge Scenario | J167: 2030 Baseline Scenario | K167: 2030 High Growth Scenario | M167: Growth Rate 2023/2022 | N167: CAGR 2030/2025 Challenge Scenario | O167: CAGR 2030/2025 Baseline Scenario | P167: CAGR 2030/2025 High Growth Scenario | R167: 2020 | S167: 2021 | T167: 2022 | U167: 2023 | V167: 2025 | X167: 2030 Challenge Scenario | Y167: 2030 Baseline Scenario | Z167: 2030 High Growth Scenario
A168: Member States | B168: Abbrev. | C168: Euro (M) | D168: Euro (M) | E168: Euro (M) | F168: Euro (M) | G168: Euro (M) | I168: Euro (M) | J168: Euro (M) | K168: Euro (M) | M168: Percent | N168: Percent | O168: Percent | P168: Percent | R168: Percent | S168: Percent | T168: Percent | U168: Percent | V168: Percent | X168: Percent | Y168: Percent | Z168: Percent
A169: Austria | B169: AT | C169: 3066.7558 | D169: 3278.6805 | E169: 3548.3942 | F169: 3915.6149 | G169: 4489.0861 | I169: 4912.1938 | J169: 5862.1312 | K169: 6778.7819 | M169: =F169/E169-1 -> 0.10348928 | N169: =(I169/$G169)^(1/5)-1 -> 0.018177539 | O169: =(J169/$G169)^(1/5)-1 -> 0.054822829 | P169: =(K169/$G169)^(1/5)-1 -> 0.085922284 | R169: =C169/GDP!H7 -> 0.0096428808 | S169: =D169/GDP!I7 -> 0.0098599246 | T169: =E169/GDP!J7 -> 0.010177522 | U169: =F169/GDP!K7 -> 0.011220128 | V169: =G169/GDP!L7 -> 0.01255383 | X169: =I169/GDP!N7 -> 0.013189314 | Y169: =J169/GDP!O7 -> 0.015117266 | Z169: =K169/GDP!P7 -> 0.016661715
A170: Belgium | B170: BE | C170: 4506.644 | D170: 4854.7405 | E170: 5003.0964 | F170: 5899.4772 | G170: 7068.7672 | I170: 7660.0502 | J170: 10079.916 | K170: 11629.766 | M170: =F170/E170-1 -> 0.17916519 | N170: =(I170/$G170)^(1/5)-1 -> 0.016196251 | O170: =(J170/$G170)^(1/5)-1 -> 0.073550909 | P170: =(K170/$G170)^(1/5)-1 -> 0.1047028 | R170: =C170/GDP!H8 -> 0.011681751 | S170: =D170/GDP!I8 -> 0.011839808 | T170: =E170/GDP!J8 -> 0.011817779 | U170: =F170/GDP!K8 -> 0.013797005 | V170: =G170/GDP!L8 -> 0.016193893 | X170: =I170/GDP!N8 -> 0.016996148 | Y170: =J170/GDP!O8 -> 0.021665831 | Z170: =K170/GDP!P8 -> 0.024068213
A171: Bulgaria | B171: BG | C171: 813.89222 | D171: 896.79258 | E171: 929.62638 | F171: 992.81658 | G171: 1135.7771 | I171: 1292.5516 | J171: 1620.5298 | K171: 1860.0542 | M171: =F171/E171-1 -> 0.067973762 | N171: =(I171/$G171)^(1/5)-1 -> 0.026197516 | O171: =(J171/$G171)^(1/5)-1 -> 0.07367486 | P171: =(K171/$G171)^(1/5)-1 -> 0.10368846 | R171: =C171/GDP!H9 -> 0.017737072 | S171: =D171/GDP!I9 -> 0.018157394 | T171: =E171/GDP!J9 -> 0.018210139 | U171: =F171/GDP!K9 -> 0.019129821 | V171: =G171/GDP!L9 -> 0.020595969 | X171: =I171/GDP!N9 -> 0.0218359 | Y171: =J171/GDP!O9 -> 0.025529606 | Z171: =K171/GDP!P9 -> 0.026981127
