Workbook
Name countries: [1]MS!$A$112:$B$146
Name countries: [1]MS!$A$112:$B$146
Name countries: [1]MS!$A$112:$B$146
Name countries: [1]MS!$A$112:$B$146
Name countries: [2]MS!$A$112:$B$146
Name holidays: [1]schedule!$AN$3:$AN$22
Name holidays: [1]schedule!$AN$3:$AN$22
Name holidays: [1]schedule!$AN$3:$AN$22
Name holidays: [1]schedule!$AN$3:$AN$22
Name holidays: [2]schedule!$AN$3:$AN$22

Sheet EA>

Sheet Figure 1
C3: Eurostatistics
C4: 46023
C6: ="Figure 1: Economic sentiment and rates of change for output indicators, euro area, January 2025 to December 2025" -> Figure 1: Economic sentiment and rates of change for output indicators, euro area, January 2025 to December 2025
D9: 2025 | P9: 2026
D10: Q1 | G10: Q2 | J10: Q3 | M10: Q4 | P10: Q1
D11: Jan | E11: Feb | F11: Mar | G11: Apr | H11: May | I11: Jun | J11: Jul | K11: Aug | L11: Sep | M11: Oct | N11: Nov | O11: Dec | P11: Jan | Q11: Feb | R11: Mar
C12: GDP, Q/Q-1 | E12: 0.6 | H12: 0.1 | K12: 0.3
C13: GDP, Q/Q-4 | E13: 1.6 | H13: 1.5 | K13: 1.4
C14: Industrial production, M/M-1 | D14: 0.5 | E14: 1.3 | F14: 2.2 | G14: -2.6 | H14: 0.9 | I14: -0.7 | J14: 0.7 | K14: -1.1 | L14: 0.3 | M14: 0.7 | N14: 0.6
C15: Industrial production, M/M-12 | D15: -0.4 | E15: 0.9 | F15: 3.7 | G15: 0.3 | H15: 2.9 | I15: 0.6 | J15: 1.9 | K15: 1.2 | L15: 1.2 | M15: 1.6 | N15: 2.4
C16: Economic sentiment indicator | D16: 95.3 | E16: 96.2 | F16: 95.1 | G16: 93.9 | H16: 95 | I16: 94.2 | J16: 95.8 | K16: 95.5 | L16: 95.7 | M16: 96.9 | N16: 97.1 | O16: 96.7
C18: Note: quarterly data are plotted in the middle month of the quarter. Data for GDP and the industrial production index are calendar adjusted; data for GDP and the M/M-1 rate of change for the industrial production index are also seasonally adjusted. The economic sentiment indicator is seasonally adjusted.
C19: Source: Eurostat (online data codes: namq_10_gdp, ei_isir_m and ei_bssi_m_r2) and DG Economic and Financial Affairs (ECFIN)
C21: GDP and industrial production rates of change (%)
C22: Economic sentiment indicator (index; long-term average = 100)
A25: Bookmarks
A26: namq_10_gdp | B26: https://ec.europa.eu/eurostat/databrowser/bookmark/3c6ab35a-e8d6-491a-bde1-113aa48fbf16?lang=en
A27: ei_isir_m | B27: https://ec.europa.eu/eurostat/databrowser/bookmark/6be661d0-a1ae-4079-9f9d-1738012036ba?lang=en
A28: ei_bssi_m_r2 | B28: https://ec.europa.eu/eurostat/databrowser/bookmark/deeccf88-c28b-415c-b319-d01f49e93e7b?lang=en

Sheet Figure 2
C3: Eurostatistics
C4: =+'Figure 1'!C4 -> 46023
C6: ="Figure 2: Rates of change for prices, euro area, January 2025 to December 2025" -> Figure 2: Rates of change for prices, euro area, January 2025 to December 2025
C7: (%)
D10: 2025 | P10: 2026
D11: Jan | E11: Feb | F11: Mar | G11: Apr | H11: May | I11: Jun | J11: Jul | K11: Aug | L11: Sep | M11: Oct | N11: Nov | O11: Dec | P11: Jan | Q11: Feb | R11: Mar
C12: Industrial producer prices, M/M-1 | D12: 0.8 | E12: 0.3 | F12: -1.7 | G12: -2.2 | H12: -0.6 | I12: 0.9 | J12: 0.5 | K12: -0.4 | L12: -0.1 | M12: 0.1 | N12: 0.5
C13: Industrial producer prices, M/M-12 | D13: 1.8 | E13: 3.3 | F13: 2.1 | G13: 0.7 | H13: 0.3 | I13: 0.6 | J13: 0.3 | K13: -0.6 | L13: -0.1 | M13: -0.4 | N13: -1.6
C14: Industrial import prices, M/M-1 | D14: 0.9 | E14: 0.3 | F14: -1.3 | G14: -1.7 | H14: -0.8 | I14: 0.1 | J14: -0.1 | K14: -0.6 | L14: 0 | M14: -0.3 | N14: 0.3
C15: Industrial import prices, M/M-12 | D15: 2.1 | E15: 2.5 | F15: 1.1 | G15: -1.1 | H15: -1.8 | I15: -1.9 | J15: -2.2 | K15: -2.4 | L15: -1.6 | M15: -2.3 | N15: -2.9
C16: Inflation (HICP), M/M-12 (¹) | D16: 2.5 | E16: 2.3 | F16: 2.2 | G16: 2.2 | H16: 1.9 | I16: 2 | J16: 2 | K16: 2 | L16: 2.2 | M16: 2.1 | N16: 2.1 | O16: 1.9
C18: Note: unadjusted data.
C19: (¹) The inflation rate is calculated from an index compiled for a changing (rather than fixed) composition of the euro area.
C20: Source: Eurostat (online data codes: ei_isir_m and ei_cphi_m)
A23: Bookmarks
A24: ei_isir_m | B24: https://ec.europa.eu/eurostat/databrowser/bookmark/9c25f3d6-6dc8-400d-8fdf-9d3fe15a9837?lang=en
A25: ei_cphi_m | B25: https://ec.europa.eu/eurostat/databrowser/bookmark/8145f187-725b-482c-aa26-e8f5bbb7f9af?lang=en

Sheet Figure 3
C3: Eurostatistics
C4: =+'Figure 1'!C4 -> 46023
C6: ="Figure 3: Rates of change for demand indicators, euro area, January 2025 to November 2025" -> Figure 3: Rates of change for demand indicators, euro area, January 2025 to November 2025
C7: (%)
D10: 2025 | P10: 2026
D11: Q1 | G11: Q2 | J11: Q3 | M11: Q4 | P11: Q1
D12: Jan | E12: Feb | F12: Mar | G12: Apr | H12: May | I12: Jun | J12: Jul | K12: Aug | L12: Sep | M12: Oct | N12: Nov | O12: Dec | P12: Jan | Q12: Feb | R12: Mar
C13: Private final consumption, Q/Q-1 | E13: 0.2 | H13: 0.3 | K13: 0.1
C14: Private final consumption, Q/Q-4 | E14: 1.5 | H14: 1.6 | K14: 1.1
C15: Investment, Q/Q-1 | E15: 2.6 | H15: -1.7 | K15: 1
C16: Investment, Q/Q-4 | E16: 2.4 | H16: 3.2 | K16: 2.6
C17: Retail trade volume of sales, M/M-1 | D17: 0 | E17: 0.2 | F17: 0.5 | G17: 0.4 | H17: -0.2 | I17: 0.5 | J17: -0.1 | K17: 0 | L17: 0.2 | M17: 0.3 | N17: 0.1
C18: Retail trade volume of sales, M/M-12 | D18: 2.4 | E18: 2.4 | F18: 2.4 | G18: 3 | H18: 2.3 | I18: 3.8 | J18: 2.7 | K18: 1.7 | L18: 1.3 | M18: 2 | N18: 2.3
C20: Note: quarterly data are plotted in the middle month of the quarter. Data are calendar adjusted. Data for private final consumption, investment and the M/M-1 rate of change for the retail trade volume of sales are also seasonally adjusted.
C21: Source: Eurostat (online data codes: namq_10_gdp and ei_isrr_m)
A23: Bookmarks
A24: namq_10_gdp | B24: https://ec.europa.eu/eurostat/databrowser/bookmark/6bdd5535-6b1b-4c3e-9136-cd8bfb149383?lang=en
A25: ei_isrr_m | B25: https://ec.europa.eu/eurostat/databrowser/bookmark/36528b86-b4b4-49bb-a362-d6ac67e798da?lang=en

Sheet Figure 4
C3: Eurostatistics
C4: =+'Figure 1'!C4 -> 46023
C6: ="Figure 4: Labour indicator rates, euro area, January 2025 to November 2025" -> Figure 4: Labour indicator rates, euro area, January 2025 to November 2025
C7: (%)
D10: 2025 | P10: 2026
D11: Q1 | G11: Q2 | J11: Q3 | M11: Q4 | P11: Q1
D12: Jan | E12: Feb | F12: Mar | G12: Apr | H12: May | I12: Jun | J12: Jul | K12: Aug | L12: Sep | M12: Oct | N12: Nov | O12: Dec | P12: Jan | Q12: Feb | R12: Mar
C13: Monthly unemployment rate | D13: 6.3 | E13: 6.3 | F13: 6.3 | G13: 6.3 | H13: 6.3 | I13: 6.3 | J13: 6.3 | K13: 6.3 | L13: 6.3 | M13: 6.3 | N13: 6.3
C14: Employment, Q/Q-1 | E14: 0.2 | H14: 0.1 | K14: 0.2
C15: Employment, Q/Q-4 | E15: 0.8 | H15: 0.7 | K15: 0.6
C16: Hourly labour costs, Q/Q-1 | E16: 1.1 | H16: 1 | K16: 0.8
C17: Hourly labour costs, Q/Q-4 | E17: 3.7 | H17: 3.9 | K17: 3.3
C19: Note: quarterly data are plotted in the middle month of the quarter. Data for employment and hourly labour costs are calendar adjusted; data for employment and the Q/Q-1 rate of change for hourly labour costs are also seasonally adjusted. The unemployment rate is seasonally adjusted.
C20: Source: Eurostat (online data codes: namq_10_a10_e, ei_lmlc_q and ei_lmhr_m)
C21: Employment and labour costs rates of change
C22: Monthly unemployment rate
A24: Bookmarks
A25: namq_10_a10_e | B25: https://ec.europa.eu/eurostat/databrowser/bookmark/7466c456-c063-481c-943f-a57670a07c9a?lang=en
A26: ei_lmlc_q | B26: https://ec.europa.eu/eurostat/databrowser/bookmark/73bab96a-8b1a-4074-85e8-38bb7ad1102c?lang=en
A27: ei_lmhr_m | B27: https://ec.europa.eu/eurostat/databrowser/bookmark/c2dbb543-d5a5-4545-9de8-35eb2d7275c8?lang=en

Sheet Figure 5
C3: Eurostatistics
C4: =+'Figure 1'!C4 -> 46023
C6: Figure 5: Financial indicators, euro area, January 2025 to December 2025
D10: 2025 | P10: 2026
D11: Jan | E11: Feb | F11: Mar | G11: Apr | H11: May | I11: Jun | J11: Jul | K11: Aug | L11: Sep | M11: Oct | N11: Nov | O11: Dec | P11: Jan | Q11: Feb | R11: Mar
C12: 3-month interest rate (%) (¹) | D12: 2.7031 | E12: 2.525 | F12: 2.4424 | G12: 2.2482 | H12: 2.0913 | I12: 1.9836 | J12: 1.9863 | K12: 2.0211 | L12: 2.0273 | M12: 2.0344 | N12: 2.0417 | O12: 2.0458
C13: Long-term interest rate (%) (¹) | D13: 3.03703 | E13: 2.93736 | F13: 3.24205 | G13: 3.05794 | H13: 3.05778 | I13: 3.00597 | J13: 3.09335 | K13: 3.12363 | L13: 3.15122 | M13: 3.06529 | N13: 3.08819 | O13: 3.21255
C14: Exchange rate 1 EUR = … USD | D14: 1.0354 | E14: 1.0413 | F14: 1.0807 | G14: 1.1214 | H14: 1.1278 | I14: 1.1516 | J14: 1.1677 | K14: 1.1631 | L14: 1.1732 | M14: 1.163 | N14: 1.156 | O14: 1.1709
C16: (¹) The interest rates are calculated for a changing (rather than fixed) composition of the euro area.
C17: Source: Eurostat (online data codes: ei_mfir_m and ei_mfrt_m) and the European Central Bank (ECB)
A20: Bookmarks
A21: ei_mfir_m | B21: https://ec.europa.eu/eurostat/databrowser/bookmark/444760d5-b974-4544-9ca8-5f1b464e6e4e?lang=en
A22: ei_mfrt_m | B22: https://ec.europa.eu/eurostat/databrowser/bookmark/8bd7db68-3299-4f02-b771-9a5365324749?lang=en

Sheet Forecasts>

Sheet Table 1
C3: Eurostatistics
C4: =+'Figure 1'!C4 -> 46023
C6: Table 1: Overview of macroeconomic forecasts, euro area, 2025 to 2027
C7: (%)
D10: GDP annual change: forecasts | G10: Annual inflation rate: forecasts
D11: 2025 | E11: 2026 | F11: 2027 | G11: 2025 | H11: 2026 | I11: 2027
C12: European Commission Economic Forecast
C13: Spring 2025 | D13: 0.9 | E13: 1.4 | F13: : | G13: 2.1 | H13: 1.7 | I13: :
C14: Autumn 2025 | D14: 1.3 | E14: 1.2 | F14: 1.4 | G14: 2.1 | H14: 1.9 | I14: 2
C15: ECB Macroeconomic Projections
C16: September 2025 | D16: 1.2 | E16: 1 | F16: 1.3 | G16: 2.1 | H16: 1.7 | I16: 1.9
C17: December 2025 | D17: 1.4 | E17: 1.2 | F17: 1.4 | G17: 2.1 | H17: 1.9 | I17: 1.8
C18: IMF World Economic Outlook
C19: October 2025 | D19: 1.2 | E19: 1.1 | F19: 1.4 | G19: 2.1 | H19: 1.9 | I19: 2.1
C20: January 2026 | D20: 1.4 | E20: 1.3 | F20: 1.4 | G20: : | H20: 1.9 | I20: 2.0
C21: OECD Economic Outlook
C22: September 2025 | D22: 1.2 | E22: 1 | F22: : | G22: 2.1 | H22: 1.9 | I22: :
C23: December 2025 | D23: 1.3 | E23: 1.2 | F23: 1.4 | G23: 2.1 | H23: 1.9 | I23: 2
C25: Source: European Commission Economic Forecast, ECB Macroeconomic Projections, IMF World Economic Outlook, OECD Economic Outlook
A28: Bookmarks:
A29: European Commission Economic Forecast | B29: https://economy-finance.ec.europa.eu/economic-forecast-and-surveys/economic-forecasts_en
A30: ECB Macroeconomic Projections | B30: https://www.ecb.europa.eu/pub/projections/html/index.en.html
B31: https://data.ecb.europa.eu/data/datasets/MPD?dataset%5B0%5D=Macroeconomic%20Projection%20Database%20%28MPD%29&filterSequence=dataset&advFilterDataset%5B0%5D=Macroeconomic%20Projection%20Database%20%28MPD%29&resetAllFilters=true&sort=t_ecb_last_update
A32: IMF World Economic Outlook | B32: https://www.imf.org/en/publications/weo
A33: OECD Economic Outlook | B33: https://www.oecd.org/economic-outlook/

Sheet MS1>
A1: Bulgaria
A3: Country in focus
A4: Year | B4: Month | C4: Country
A5: 2022 | B5: December | C5: Croatia
A6: 2023 | B6: January | C6: Sweden
A7: 2023 | B7: February | C7: Slovakia
A8: 2023 | B8: March | C8: Portugal
A9: 2023 | B9: April | C9: Latvia
A10: 2023 | B10: May | C10: Bulgaria
A11: 2023 | B11: June | C11: Cyprus
A12: 2023 | B12: July | C12: Ireland
A13: 2023 | B13: August | C13: Slovenia
A14: 2023 | B14: September | C14: Finland
A15: 2023 | B15: October | C15: Luxembourg
A16: 2023 | B16: November | C16: Hungary
... A25: 2024 | B25: August | C25: Romania
A26: 2024 | B26: September | C26: =+C5 -> Croatia
A27: 2024 | B27: October | C27: =+C6 -> Sweden
A28: 2024 | B28: November | C28: =+C7 -> Slovakia
A29: 2024 | B29: December | C29: =+C8 -> Portugal
A30: 2025 | B30: January | C30: =+C9 -> Latvia
A31: 2025 | B31: February | C31: Bulgaria
A32: 2025 | B32: March | C32: Cyprus
A33: 2025 | B33: April | C33: Ireland
A34: 2025 | B34: May | C34: Slovenia
A35: 2025 | B35: June | C35: Finland
A36: 2025 | B36: July | C36: Luxembourg
A37: 2025 | B37: August | C37: Hungary
A38: 2025 | B38: September | C38: Estonia
A39: 2025 | B39: October | C39: Belgium
A40: 2025 | B40: November | C40: Czechia
A41: 2025 | B41: December | C41: Malta
A42: 2026 | B42: January | C42: Bulgaria | D42: < Provisional planning
A43: 2026 | B43: February
A44: 2026 | B44: March
A45: 2026 | B45: April
A46: 2026 | B46: May
A47: 2026 | B47: June
A48: 2026 | B48: July
A49: 2026 | B49: August
...

Sheet Figure 6
C3: Eurostatistics
C4: =+'Figure 1'!C4 -> 46023
C6: ="Figure 6: Economic sentiment and rates of change for output indicators, "&'MS1>'!A1&", January 2025 to December 2025" -> Figure 6: Economic sentiment and rates of change for output indicators, Bulgaria, January 2025 to December 2025
D9: 2025 | P9: 2026
D10: Q1 | G10: Q2 | J10: Q3 | M10: Q4 | P10: Q1
D11: Jan | E11: Feb | F11: Mar | G11: Apr | H11: May | I11: Jun | J11: Jul | K11: Aug | L11: Sep | M11: Oct | N11: Nov | O11: Dec | P11: Jan | Q11: Feb | R11: Mar
C12: GDP, Q/Q-1 | E12: 0.6 | H12: 0.9 | K12: 0.7
C13: GDP, Q/Q-4 | E13: 3.5 | H13: 3.4 | K13: 3.2
C14: Industrial production, M/M-1 | D14: -2.1 | E14: -0.5 | F14: -5 | G14: 1.6 | H14: 0.8 | I14: -1.9 | J14: 0 | K14: 0.3 | L14: 2.8 | M14: -2.3 | N14: -1.7
C15: Industrial production, M/M-12 | D15: -3.3 | E15: -3.5 | F15: -9.8 | G15: -9.8 | H15: -6 | I15: -8.3 | J15: -8.4 | K15: -9 | L15: -5.7 | M15: -7.5 | N15: -9.3
C16: Economic sentiment indicator | D16: 104.5 | E16: 104.9 | F16: 105.4 | G16: 102.5 | H16: 103.4 | I16: 104 | J16: 103.2 | K16: 103.4 | L16: 103.2 | M16: 101.6 | N16: 101.5 | O16: 100.5
C18: Note: quarterly data are plotted in the middle month of the quarter. Data for GDP and the industrial production index are calendar adjusted; data for GDP and the M/M-1 rate of change for the industrial production index are also seasonally adjusted. The economic sentiment indicator is seasonally adjusted.
C19: Source: Eurostat (online data codes: namq_10_gdp, ei_isir_m and ei_bssi_m_r2) and DG Economic and Financial Affairs (ECFIN)
C21: GDP and industrial production rates of change (%)
C22: Economic sentiment indicator (index; long-term average = 100)
A25: Bookmarks
A26: namq_10_gdp | B26: https://ec.europa.eu/eurostat/databrowser/bookmark/ec47f0dc-eaff-47ef-acd1-c7d8602aceb3?lang=en
A27: ei_isir_m | B27: https://ec.europa.eu/eurostat/databrowser/bookmark/8690a6d5-8323-4439-aa90-ee077a237315?lang=en
A28: ei_bssi_m_r2 | B28: https://ec.europa.eu/eurostat/databrowser/bookmark/b8a14881-99f6-431c-881d-e262afa55da0?lang=en

Sheet Figure 7
C3: Eurostatistics
C4: =+'Figure 1'!C4 -> 46023
C6: ="Figure 7: Rates of change for prices, "&'MS1>'!A1&", January 2025 to December 2025" -> Figure 7: Rates of change for prices, Bulgaria, January 2025 to December 2025
C7: (%)
D10: 2025 | P10: 2026
D11: Jan | E11: Feb | F11: Mar | G11: Apr | H11: May | I11: Jun | J11: Jul | K11: Aug | L11: Sep | M11: Oct | N11: Nov | O11: Dec | P11: Jan | Q11: Feb | R11: Mar
C12: Industrial producer prices, M/M-1 | D12: 5.4 | E12: 2.5 | F12: -1 | G12: -4.9 | H12: -3.7 | I12: -0.4 | J12: 5.7 | K12: -0.5 | L12: -0.7 | M12: 4.6 | N12: 1.6
C13: Industrial producer prices, M/M-12 | D13: 14.4 | E13: 19 | F13: 22 | G13: 17 | H13: 7.8 | I13: 8.4 | J13: 10.7 | K13: 9.1 | L13: 9.1 | M13: 17.6 | N13: 13.8
C14: Industrial import prices, M/M-1
C15: Industrial import prices, M/M-12
C16: Inflation (HICP), M/M-12 | D16: 3.8 | E16: 3.9 | F16: 4 | G16: 2.8 | H16: 2.9 | I16: 3.1 | J16: 3.4 | K16: 3.5 | L16: 4.1 | M16: 3.8 | N16: 3.7 | O16: 3.5
C18: Note: unadjusted data.
C19: Source: Eurostat (online data codes: ei_isir_m and ei_cphi_m)
A22: Bookmarks
A23: ei_isir_m | B23: https://ec.europa.eu/eurostat/databrowser/bookmark/4e071fce-8894-4cd4-ba33-68176ba2dd13?lang=en
A24: ei_cphi_m | B24: https://ec.europa.eu/eurostat/databrowser/bookmark/490673a9-a741-4f3b-bbb1-68d0cbb62d79?lang=en

Sheet Figure 8
C3: Eurostatistics
C4: =+'Figure 1'!C4 -> 46023
C6: ="Figure 8: Rates of change for demand indicators, "&'MS1>'!A1&", January 2025 to November 2025" -> Figure 8: Rates of change for demand indicators, Bulgaria, January 2025 to November 2025
C7: (%)
D10: 2025 | P10: 2026
D11: Q1 | G11: Q2 | J11: Q3 | M11: Q4 | P11: Q1
D12: Jan | E12: Feb | F12: Mar | G12: Apr | H12: May | I12: Jun | J12: Jul | K12: Aug | L12: Sep | M12: Oct | N12: Nov | O12: Dec | P12: Jan | Q12: Feb | R12: Mar
C13: Private final consumption, Q/Q-1 | E13: 2.3 | H13: 1.6 | K13: 2.1
C14: Private final consumption, Q/Q-4 | E14: 8 | H14: 7.8 | K14: 8.8
C15: Investment, Q/Q-1 | E15: 3.3 | H15: 1.7 | K15: 1.9
C16: Investment, Q/Q-4 | E16: 8.5 | H16: 8.6 | K16: 8.7
C17: Retail trade volume of sales, M/M-1 | D17: -0.9 | E17: -1.6 | F17: 1.4 | G17: -0.3 | H17: 2.2 | I17: 0.7 | J17: -0.3 | K17: 0.2 | L17: 1.3 | M17: 0.5 | N17: -0.4
C18: Retail trade volume of sales, M/M-12 | D18: 8.1 | E18: 2.4 | F18: 5.4 | G18: 2.4 | H18: 7.2 | I18: 6.8 | J18: 6 | K18: 4.9 | L18: 5.7 | M18: 7.4 | N18: 3.1
C20: Note: quarterly data are plotted in the middle month of the quarter. Data are calendar adjusted. Data for private final consumption, investment and the M/M-1 rate of change for the retail trade volume of sales are also seasonally adjusted.
C21: Source: Eurostat (online data codes: namq_10_gdp and ei_isrr_m)
A23: Bookmarks
A24: namq_10_gdp | B24: https://ec.europa.eu/eurostat/databrowser/bookmark/fcbbc3b5-356e-4444-9be5-0310e14ba0f0?lang=en
A25: ei_isrr_m | B25: https://ec.europa.eu/eurostat/databrowser/bookmark/e670f955-44ef-4213-87e5-d68afb17992b?lang=en

Sheet Figure 9
C3: Eurostatistics
C4: =+'Figure 1'!C4 -> 46023
C6: ="Figure 9: Labour indicator rates, "&'MS1>'!A1&", January 2025 to November 2025" -> Figure 9: Labour indicator rates, Bulgaria, January 2025 to November 2025
C7: (%)
D10: 2025 | P10: 2026
D11: Q1 | G11: Q2 | J11: Q3 | M11: Q4 | P11: Q1
D12: Jan | E12: Feb | F12: Mar | G12: Apr | H12: May | I12: Jun | J12: Jul | K12: Aug | L12: Sep | M12: Oct | N12: Nov | O12: Dec | P12: Jan | Q12: Feb | R12: Mar
C13: Monthly unemployment rate | D13: 3.6 | E13: 3.5 | F13: 3.4 | G13: 3.4 | H13: 3.5 | I13: 3.7 | J13: 3.8 | K13: 3.8 | L13: 3.7 | M13: 3.6 | N13: 3.5
C14: Employment, Q/Q-1 | E14: 0.6 | H14: 0.7 | K14: 0.5
C15: Employment, Q/Q-4 | E15: 1.6 | H15: 2.1 | K15: 2.3
C16: Hourly labour costs, Q/Q-1 | E16: 4.6 | H16: 3 | K16: 1.8
C17: Hourly labour costs, Q/Q-4 | E17: 12.4 | H17: 13.2 | K17: 12.3
C19: Note: quarterly data are plotted in the middle month of the quarter. Data for employment and hourly labour costs are calendar adjusted; data for employment and the Q/Q-1 rate of change for hourly labour costs are also seasonally adjusted. The unemployment rate is seasonally adjusted.
C20: Source: Eurostat (online data codes: namq_10_a10_e, ei_lmlc_q and ei_lmhr_m)
C21: Employment and labour costs rates of change
C22: Monthly unemployment rate
A24: Bookmarks
A25: ei_lmhr_m | B25: https://ec.europa.eu/eurostat/databrowser/bookmark/ccd764f4-b925-4438-8af2-415c7ad8c9c9?lang=en
A26: namq_10_a10_e | B26: https://ec.europa.eu/eurostat/databrowser/bookmark/4a5090c9-ad84-433f-a9fa-2535acb79826?lang=en
A27: ei_lmlc_q | B27: https://ec.europa.eu/eurostat/databrowser/bookmark/5555d068-9615-4741-bbe9-059fd3ab3ba9?lang=en

Sheet EU>

Sheet Table 2
C3: Eurostatistics
C4: =+'Figure 1'!C4 -> 46023
C6: Table 2: Overview of recent rates, euro area, EU and largest EU economies, October to December 2025 or quarters 2 and 3 2025
D10: GDP, quarter-on-quarter rate of change (%) | G10: GDP, year-on-year rate of change (%) | J10: Annual inflation rate (%) | M10: Unemployment rate (%) | P10: Economic sentiment indicator (index; long-term average = 100)
E11: Q2 2025 | F11: Q3 2025 | H11: Q2 2025 | I11: Q3 2025 | K11: Nov 2025 | L11: Dec 2025 | N11: Oct 2025 | O11: Nov 2025 | Q11: Nov 2025 | R11: Dec 2025
C12: Euro area (¹) | D12: p | E12: 0.1 | F12: 0.3 | G12: s | H12: 1.5 | I12: 1.4 | J12: s | K12: 2.1 | L12: 1.9 | M12: n | N12: 6.3 | O12: 6.3 | P12: s | Q12: 97.1 | R12: 96.7
C13: EU (¹) | D13: p | E13: 0.3 | F13: 0.4 | G13: s | H13: 1.7 | I13: 1.6 | J13: s | K13: 2.4 | L13: 2.3 | M13: n | N13: 6 | O13: 6 | P13: s | Q13: 96.9 | R13: 96.8
C14: Germany | D14: p | E14: -0.2 | F14: 0 | G14: n | H14: 0.3 | I14: 0.3 | J14: s | K14: 2.6 | L14: 2 | M14: n | N14: 3.8 | O14: 3.8 | P14: s | Q14: 91.2 | R14: 90.1
C15: Spain | D15: s | E15: 0.7 | F15: 0.6 | G15: s | H15: 2.9 | I15: 2.8 | J15: s | K15: 3.2 | L15: 3 | M15: s | N15: 10.5 | O15: 10.4 | P15: s | Q15: 105.1 | R15: 104.6
C16: France | D16: p | E16: 0.3 | F16: 0.5 | G16: p | H16: 0.7 | I16: 0.9 | J16: s | K16: 0.8 | L16: 0.7 | M16: n | N16: 7.7 | O16: 7.7 | P16: s | Q16: 95.2 | R16: 94.3
C17: Italy | D17: p | E17: -0.1 | F17: 0.1 | G17: p | H17: 0.5 | I17: 0.6 | J17: p | K17: 1.1 | L17: 1.2 | M17: s | N17: 5.8 | O17: 5.7 | P17: s | Q17: 101.7 | R17: 101.1
C18: Netherlands | D18: p | E18: 0.3 | F18: 0.5 | G18: s | H18: 1.7 | I18: 1.6 | J18: s | K18: 2.6 | L18: 2.5 | M18: n | N18: 4 | O18: 4 | P18: p | Q18: 99.9 | R18: 100.4
C19: Poland | D19: p | E19: 0.8 | F19: 0.9 | G19: p | H19: 3 | I19: 3.8 | J19: s | K19: 2.6 | L19: 2.5 | M19: n | N19: 3.2 | O19: 3.2 | P19: p | Q19: 98.9 | R19: 100
C21: Note: GDP rates of change are real rates of change and are based on seasonally and calendar adjusted data. The inflation rate is not seasonally adjusted. The unemployment rate and the economic sentiment indicator are seasonally adjusted.
C22: (¹) The inflation rate is calculated from an index compiled for an evolving (rather than the current) membership of the euro area and the EU.
C23: Source: Eurostat (online data codes: namq_10_gdp, ei_cphi_m, ei_lmhr_m and ei_bssi_m_r2) and DG Economic and Financial Affairs (ECFIN)
A25: Bookmarks:
A26: namq_10_gdp | B26: https://ec.europa.eu/eurostat/databrowser/bookmark/2ce31e59-c97f-400d-a9f2-d95062abbcce?lang=en | C26: gdp
A27: ei_cphi_m | B27: https://ec.europa.eu/eurostat/databrowser/bookmark/7ea790c2-d937-4aae-887b-75e074e6ab77?lang=en | C27: Inflation
A28: ei_lmhr_m | B28: https://ec.europa.eu/eurostat/databrowser/bookmark/8c5841ad-10ac-4389-9cf3-b21039bb393e?lang=en | C28: Unemployment
A29: ei_bssi_m_r2 | B29: https://ec.europa.eu/eurostat/databrowser/bookmark/d6a3316d-5e6d-476a-83b0-59ebe0dcfe81?lang=en | C29: ESI

Sheet MS2>
A1: France
A3: Large country in focus
A4: Year | B4: Month | C4: Country
A5: 2022 | B5: December | C5: Poland
A6: 2023 | B6: January | C6: France
A7: 2023 | B7: February | C7: Netherlands
A8: 2023 | B8: March | C8: Germany
A9: 2023 | B9: April | C9: Italy
A10: 2023 | B10: May | C10: Spain
A11: 2023 | B11: June | C11: Poland
A12: 2023 | B12: July | C12: France
A13: 2023 | B13: August | C13: Netherlands
A14: 2023 | B14: September | C14: Germany
A15: 2023 | B15: October | C15: Italy
A16: 2023 | B16: November | C16: Spain
... A53: 2026 | B53: December | C53: Poland

Sheet Figure 10
C3: Eurostatistics
C4: =+'Figure 1'!C4 -> 46023
C6: ="Figure 10: Economic sentiment and rates of change for output indicators, "&'MS2>'!A1&", January 2025 to December 2025" -> Figure 10: Economic sentiment and rates of change for output indicators, France, January 2025 to December 2025
D9: 2025 | P9: 2026
D10: Q1 | G10: Q2 | J10: Q3 | M10: Q4 | P10: Q1
D11: Jan | E11: Feb | F11: Mar | G11: Apr | H11: May | I11: Jun | J11: Jul | K11: Aug | L11: Sep | M11: Oct | N11: Nov | O11: Dec | P11: Jan | Q11: Feb | R11: Mar
C12: GDP, Q/Q-1 | E12: 0.1 | H12: 0.3 | K12: 0.5
C13: GDP, Q/Q-4 | E13: 0.6 | H13: 0.7 | K13: 0.9
C14: Industrial production, M/M-1 | D14: -0.5 | E14: 1.1 | F14: 0.2 | G14: -1.3 | H14: -0.7 | I14: 3.4 | J14: 0.2 | K14: -1.2 | L14: 1 | M14: 0.2 | N14: -0.2
C15: Industrial production, M/M-12 | D15: -1.1 | E15: -0.3 | F15: 0.3 | G15: -2.1 | H15: -1.3 | I15: 1.7 | J15: 1.9 | K15: 0.3 | L15: 1.5 | M15: 1.6 | N15: 2
C16: Economic sentiment indicator | D16: 95.9 | E16: 98.3 | F16: 96.3 | G16: 96.7 | H16: 93.2 | I16: 90.1 | J16: 92.3 | K16: 92.8 | L16: 92.9 | M16: 94.7 | N16: 95.2 | O16: 94.3
C18: Note: quarterly data are plotted in the middle month of the quarter. Data for GDP and the industrial production index are calendar adjusted; data for GDP and the M/M-1 rate of change for the industrial production index are also seasonally adjusted. The economic sentiment indicator is seasonally adjusted.
C19: Source: Eurostat (online data codes: namq_10_gdp, ei_isir_m and ei_bssi_m_r2) and DG Economic and Financial Affairs (ECFIN)
C21: GDP and industrial production rates of change (%)
C22: Economic sentiment indicator (index; long-term average = 100)
A24: Bookmarks
A25: namq_10_gdp | B25: https://ec.europa.eu/eurostat/databrowser/bookmark/ec47f0dc-eaff-47ef-acd1-c7d8602aceb3?lang=en
A26: ei_isir_m | B26: https://ec.europa.eu/eurostat/databrowser/bookmark/8690a6d5-8323-4439-aa90-ee077a237315?lang=en
A27: ei_bssi_m_r2 | B27: https://ec.europa.eu/eurostat/databrowser/bookmark/b8a14881-99f6-431c-881d-e262afa55da0?lang=en

Sheet Figure 11
C3: Eurostatistics
C4: =+'Figure 1'!C4 -> 46023
C6: ="Figure 11: Rates of change for prices, "&'MS2>'!A1&", January 2025 to December 2025" -> Figure 11: Rates of change for prices, France, January 2025 to December 2025
C7: (%)
D10: 2025 | P10: 2026
D11: Jan | E11: Feb | F11: Mar | G11: Apr | H11: May | I11: Jun | J11: Jul | K11: Aug | L11: Sep | M11: Oct | N11: Nov | O11: Dec | P11: Jan | Q11: Feb | R11: Mar
C12: Industrial producer prices, M/M-1 | D12: 0.9 | E12: -0.2 | F12: -0.6 | G12: -4.1 | H12: -1 | I12: -0.1 | J12: 0.5 | K12: -0.3 | L12: -0.1 | M12: 0 | N12: 1.1
C13: Industrial producer prices, M/M-12 | D13: -2.2 | E13: -0.8 | F13: -0.2 | G13: -0.7 | H13: 0 | I13: 0.3 | J13: 0.5 | K13: 0 | L13: 0.1 | M13: -0.8 | N13: -3.3
C14: Industrial import prices, M/M-1 | D14: 0.9 | E14: 0.2 | F14: -1.3 | G14: -2 | H14: -0.6 | I14: 0.5 | J14: -0.3 | K14: -0.8 | L14: 0.3 | M14: -0.4 | N14: 0.4
C15: Industrial import prices, M/M-12 | D15: 1.7 | E15: 1.8 | F15: 0.8 | G15: -1.4 | H15: -1.2 | I15: -1.3 | J15: -2 | K15: -2.2 | L15: -1.3 | M15: -2.2 | N15: -3.1
C16: Inflation (HICP), M/M-12 | D16: 1.8 | E16: 0.9 | F16: 0.9 | G16: 0.9 | H16: 0.6 | I16: 0.9 | J16: 0.9 | K16: 0.8 | L16: 1.1 | M16: 0.8 | N16: 0.8 | O16: 0.7
C18: Note: unadjusted data.
C19: Source: Eurostat (online data codes: ei_isir_m and ei_cphi_m)
A21: Bookmarks
A22: ei_isir_m | B22: https://ec.europa.eu/eurostat/databrowser/bookmark/4e071fce-8894-4cd4-ba33-68176ba2dd13?lang=en
A23: ei_cphi_m | B23: https://ec.europa.eu/eurostat/databrowser/bookmark/490673a9-a741-4f3b-bbb1-68d0cbb62d79?lang=en

Sheet Figure 12
C3: Eurostatistics
C4: =+'Figure 1'!C4 -> 46023
C6: ="Figure 12: Rates of change for demand indicators, "&'MS2>'!A1&", January 2025 to November 2025" -> Figure 12: Rates of change for demand indicators, France, January 2025 to November 2025
C7: (%)
D10: 2025 | P10: 2026
D11: Q1 | G11: Q2 | J11: Q3 | M11: Q4 | P11: Q1
D12: Jan | E12: Feb | F12: Mar | G12: Apr | H12: May | I12: Jun | J12: Jul | K12: Aug | L12: Sep | M12: Oct | N12: Nov | O12: Dec | P12: Jan | Q12: Feb | R12: Mar
C13: Private final consumption, Q/Q-1 | E13: -0.3 | H13: 0.1 | K13: 0.1
C14: Private final consumption, Q/Q-4 | E14: 0.7 | H14: 0.7 | K14: -0.1
C15: Investment, Q/Q-1 | E15: -0.1 | H15: 0 | K15: 0.5
C16: Investment, Q/Q-4 | E16: -0.6 | H16: -0.8 | K16: 0.5
C17: Retail trade volume of sales, M/M-1 | D17: 0.9 | E17: -0.3 | F17: 0.5 | G17: 0.7 | H17: 0.1 | I17: -0.1 | J17: 0.3 | K17: 0.5 | L17: 0.1 | M17: 0.5 | N17: 0.5
C18: Retail trade volume of sales, M/M-12 | D18: 2.8 | E18: 1.5 | F18: 2.8 | G18: 3.5 | H18: 3.4 | I18: 3.8 | J18: 2.4 | K18: 1.8 | L18: 2.2 | M18: 3.2 | N18: 3.3
C20: Note: quarterly data are plotted in the middle month of the quarter. Data are calendar adjusted. Data for private final consumption, investment and the M/M-1 rate of change for the retail trade volume of sales are also seasonally adjusted.
C21: Source: Eurostat (online data codes: namq_10_gdp and ei_isrr_m)
A23: Bookmarks
A24: namq_10_gdp | B24: https://ec.europa.eu/eurostat/databrowser/bookmark/fcbbc3b5-356e-4444-9be5-0310e14ba0f0?lang=en
A25: ei_isrr_m | B25: https://ec.europa.eu/eurostat/databrowser/bookmark/e670f955-44ef-4213-87e5-d68afb17992b?lang=en

Sheet Figure 13
C3: Eurostatistics
C4: =+'Figure 1'!C4 -> 46023
C6: ="Figure 13: Labour indicator rates, "&'MS2>'!A1&", January 2025 to November 2025" -> Figure 13: Labour indicator rates, France, January 2025 to November 2025
C7: (%)
D10: 2025 | P10: 2026
D11: Q1 | G11: Q2 | J11: Q3 | M11: Q4 | P11: Q1
D12: Jan | E12: Feb | F12: Mar | G12: Apr | H12: May | I12: Jun | J12: Jul | K12: Aug | L12: Sep | M12: Oct | N12: Nov | O12: Dec | P12: Jan | Q12: Feb | R12: Mar
C13: Monthly unemployment rate | D13: 7.3 | E13: 7.5 | F13: 7.6 | G13: 7.5 | H13: 7.6 | I13: 7.6 | J13: 7.7 | K13: 7.7 | L13: 7.7 | M13: 7.7 | N13: 7.7
C14: Employment, Q/Q-1 | E14: -0.1 | H14: 0.1 | K14: 0.1
C15: Employment, Q/Q-4 | E15: 0.1 | H15: 0 | K15: 0.1
C16: Hourly labour costs, Q/Q-1 | E16: 0.7 | H16: 0 | K16: 0.3
C17: Hourly labour costs, Q/Q-4 | E17: 2.3 | H17: 1.6 | K17: 1.7
C19: Note: quarterly data are plotted in the middle month of the quarter. Data for hourly labour costs are calendar adjusted; data for the Q/Q-1 rate of change for hourly labour costs are also seasonally adjusted. The data for employment and the unemployment rate are seasonally adjusted.
C20: Source: Eurostat (online data codes: namq_10_a10_e, ei_lmlc_q and ei_lmhr_m)
C21: Employment and labour costs rates of change
C22: Monthly unemployment rate
A24: Bookmarks
A25: ei_lmhr_m | B25: https://ec.europa.eu/eurostat/databrowser/bookmark/ccd764f4-b925-4438-8af2-415c7ad8c9c9?lang=en
A26: namq_10_a10_e | B26: https://ec.europa.eu/eurostat/databrowser/bookmark/4a5090c9-ad84-433f-a9fa-2535acb79826?lang=en
A27: ei_lmlc_q | B27: https://ec.europa.eu/eurostat/databrowser/bookmark/5555d068-9615-4741-bbe9-059fd3ab3ba9?lang=en

Sheet Non-EU>

Sheet Table 3
C3: Eurostatistics
C4: =+'Figure 1'!C4 -> 46023
C6: Table 3: Overview of recent rates, EFTA countries, October to December 2025 or quarters 2 and 3 2025
C7: (%)
D10: GDP, quarter-on-quarter rate of change | G10: GDP, year-on-year rate of change | J10: Annual inflation rate | M10: Unemployment rate
E11: Q2 2025 | F11: Q3 2025 | H11: Q2 2025 | I11: Q3 2025 | K11: Nov 2025 | L11: Dec 2025 | N11: Oct 2025 | O11: Nov 2025
C12: Iceland | D12: p | E12: -0.4 | F12: -0.2 | G12: p | H12: -0.3 | I12: 0.2 | J12: p | K12: 3.4 | L12: 4 | M12: p | N12: 4.5 | O12: 4.6
C13: Norway | D13: s | E13: 1.2 | F13: 1.1 | G13: p | H13: 0.3 | I13: 2.2 | J13: p | K13: 2.7 | L13: 3 | M13: p | N13: 4.4 | O13: 4.5
C14: Switzerland | D14: s | E14: 0.2 | F14: -0.5 | G14: s | H14: 1.5 | I14: 0.5 | J14: p | K14: 0 | L14: 0.2 | N14: : | O14: :
C16: Note: GDP rates of change are real rates of change based on seasonally and calendar adjusted data. The inflation rate is not seasonally adjusted. The unemployment rate is seasonally adjusted.
C17: Source: Eurostat (online data codes: namq_10_gdp, ei_cphi_m and ei_lmhr_m)
A19: Bookmarks:
A20: namq_10_gdp | B20: https://ec.europa.eu/eurostat/databrowser/bookmark/4cbf5851-3080-4dcf-9252-66538518c1d9?lang=en | C20: GDP
A21: ei_cphi_m | B21: https://ec.europa.eu/eurostat/databrowser/bookmark/7a4287b4-2312-477e-a469-67f00a8ac744?lang=en | C21: Inflation
A22: ei_lmhr_m | B22: https://ec.europa.eu/eurostat/databrowser/bookmark/0ac43125-51c6-4c09-b209-350bd3fd1445?lang=en | C22: Unemployment

Sheet Table 4
C3: Eurostatistics
C4: =+'Figure 1'!C4 -> 46023
C6: Table 4: Overview of recent rates, other non-EU countries, October to December 2025 or quarters 2 and 3 2025
C7: (%)
D10: GDP, quarter-on-quarter change | G10: GDP, year-on-year change | J10: Annual inflation rate | M10: Unemployment rate
E11: Q2 2025 | F11: Q3 2025 | H11: Q2 2025 | I11: Q3 2025 | K11: Nov 2025 | L11: Dec 2025 | N11: Oct 2025 | O11: Nov 2025
C12: China | D12: =IF(OR(E12=":",F12=":"),"",IF(E12=F12,#REF!,IF(F12>E12,#REF!,#REF!))) -> #REF! | E12: 1 | F12: 1.1 | G12: =IF(OR(H12=":",I12=":"),"",IF(H12=I12,#REF!,IF(I12>H12,#REF!,#REF!))) -> #REF! | H12: 5.2 | I12: 4.8 | J12: =IF(OR(K12=":",L12=":"),"",IF(K12=L12,#REF!,IF(L12>K12,#REF!,#REF!))) -> #REF! | K12: 0.7 | L12: 0.8 | M12: =IF(OR(N12=":",O12=":"),"",IF(N12=O12,#REF!,IF(O12>N12,#REF!,#REF!))) | N12: : | O12: :
C13: Japan | D13: =IF(OR(E13=":",F13=":"),"",IF(E13=F13,#REF!,IF(F13>E13,#REF!,#REF!))) -> #REF! | E13: 0.5 | F13: -0.6 | G13: =IF(OR(H13=":",I13=":"),"",IF(H13=I13,#REF!,IF(I13>H13,#REF!,#REF!))) -> #REF! | H13: 1.9 | I13: 0.7 | J13: =IF(OR(K13=":",L13=":"),"",IF(K13=L13,#REF!,IF(L13>K13,#REF!,#REF!))) | K13: 2.9 | L13: : | M13: =IF(OR(N13=":",O13=":"),"",IF(N13=O13,#REF!,IF(O13>N13,#REF!,#REF!))) -> #REF! | N13: 2.6 | O13: 2.6
C14: United States | D14: =IF(OR(E14=":",F14=":"),"",IF(E14=F14,#REF!,IF(F14>E14,#REF!,#REF!))) -> #REF! | E14: 0.9 | F14: 1.1 | G14: =IF(OR(H14=":",I14=":"),"",IF(H14=I14,#REF!,IF(I14>H14,#REF!,#REF!))) -> #REF! | H14: 2.1 | I14: 2.3 | J14: =IF(OR(K14=":",L14=":"),"",IF(K14=L14,#REF!,IF(L14>K14,#REF!,#REF!))) -> #REF! | K14: 2.7 | L14: 2.7 | M14: =IF(OR(N14=":",O14=":"),"",IF(N14=O14,#REF!,IF(O14>N14,#REF!,#REF!))) | N14: : | O14: 4.6
C16: Note: GDP rates of change are real rates of change and are based on seasonally and calendar adjusted data. The inflation rate is not seasonally adjusted. The unemployment rate is seasonally adjusted.
C17: Source: Eurostat (online data code: ei_lmhr_m) and the OECD
A18: Bookmarks:
A19: ei_lmhr_m | B19: https://ec.europa.eu/eurostat/databrowser/bookmark/021af055-d4bd-48cb-8ea1-63ec6faa4510?lang=en | C19: < JP and US unemployment
A21: OECD
A22: Quarterly real GDP growth – G20 countries | B22: https://data-explorer.oecd.org/vis?fs[0]=Topic%2C1%7CEconomy%23ECO%23%7CNational%20accounts%23ECO_NAD%23&fs[1]=Topic%2C3%7CEconomy%23ECO%23%7CNational%20accounts%23ECO_NAD%23%7CGDP%20and%20non-financial%20accounts%23ECO_NAD_GNF%23%7CGDP%20and%20components%23ECO_NAD_GNF_GDP%23&pg=0&fc=Topic&snb=21&vw=tb&df[ds]=dsDisseminateFinalDMZ&df[id]=DSD_NAMAIN1%40DF_QNA_EXPENDITURE_GROWTH_G20&df[ag]=OECD.SDD.NAD&df[vs]=&dq=Q..CHN%2BJPN%2BUSA.S1..B1GQ......GY%2BG1.&lom=LASTNPERIODS&lo=5&to[TIME_PERIOD]=false | C22: < GDP
A23: Consumer price indices COICOP 1999 | B23: https://data-explorer.oecd.org/vis?fs[0]=Topic%2C1%7CEconomy%23ECO%23%7CPrices%23ECO_PRI%23&pg=0&fc=Topic&bp=true&snb=17&vw=tb&df[ds]=dsDisseminateFinalDMZ&df[id]=DSD_PRICES%40DF_PRICES_ALL&df[ag]=OECD.SDD.TPS&df[vs]=1.0&pd=%2C&dq=USA%2BCHN.M.N.CPI.._T.N.GY&ly[rw]=REF_AREA&ly[cl]=TIME_PERIOD&to[TIME_PERIOD]=false&lo=13&lom=LASTNOBSERVATIONS | C23: < Inflation CN and US
A24: Consumer price indices COICOP 2018 | B24: https://data-explorer.oecd.org/vis?fs[0]=Topic%2C1%7CEconomy%23ECO%23%7CPrices%23ECO_PRI%23&pg=0&fc=Topic&bp=true&snb=17&vw=tb&df[ds]=dsDisseminateFinalDMZ&df[id]=DSD_PRICES_COICOP2018%40DF_PRICES_C2018_ALL&df[ag]=OECD.SDD.TPS&df[vs]=1.0&dq=JPN.M.N.CPI.PA._T.N.GY&ly[cl]=TIME_PERIOD&to[TIME_PERIOD]=false&lo=13&lom=LASTNOBSERVATIONS | C24: < Inflation JP
