{"text_format":"1","workbook":"xlsx","n_sheets":16,"sheets":["MAIN","OVERALL SUMMARY","REMARKS","OVERALL TARGET","TRANSPORT","HEAT PUMPS","RENEWABLE COOLING","STAT. TRANSFERS","COAL","OIL","GAS","REN","ELE","Fuels_GFCoE","Parameter_mapping","Parameters"],"not_rendered":{"charts":0,"images":20,"macros":1,"external_links":6,"defined_names":124,"comments":4,"pivot_tables":0},"unopened":[],"bounds":{"document_bytes":16777216,"sheet_cells":100000,"rows_first":2000,"rows_last":500,"rows_between":2000,"halvings":0,"cell_chars":16384,"cell_head_chars":4096},"cells_cut":0,"cells_raw":0,"read":"whole","date_system":"1900"}

{"sheet":"MAIN","index":0,"n_rows":143,"n_cols":16,"rows_kept":143,"cut":false,"hidden":false,"merged":[[46,0,46,40],[48,0,50,40],[1,0,1,40],[2,0,2,40],[3,0,6,40],[44,0,44,40],[10,0,10,40],[43,0,43,40],[39,0,40,40],[42,0,42,40]]}
[]
[" SHARES tool 2024"]
["SHort Assessment of Renewable Energy Sources"]
["v2024.120925"]
[]
[]
[]
[null,"Please select your country in the box below:"]
[null,null,null,""]
[null,null,null,{"$f":"IF(ISERROR(VLOOKUP(D9,H103:I143,2,FALSE)),\"ERROR\",VLOOKUP(D9,H103:I143,2,FALSE))","v":"ERROR"}]
["This tool works only if Visual Basic macros are enabled."]
[null,"Prefill the SHARES file using csv from the annual questionnaires:"]
[]
[]
[null,null,"û"]
[]
[null,null,"û"]
[null,null,"û"]
[]
[null,null,"û"]
[null,null,"û"]
[]
[null,null,"û"]
[null,null,"û"]
[]
[null,null,"û"]
[null,null,"û"]
[]
[]
[]
[]
[]
[]
[]
[]
[]
[]
[]
[]
["The objective of this tool is to facilitate the calculation of the share of energy\nfrom renewable sources according to Directive (EU) 2018/2001."]
[]
[]
["Please refer to the relevant SHARES tool manual for additional details on methodology."]
["The manual also describes how to use this tool and the prerequisites."]
["http://ec.europa.eu/eurostat/web/energy/data/shares"]
[]
["Completed SHARES tool shall be transmitted to Eurostat\nfollowing the eDAMIS implementing procedures (dataset name: ENERGY_SHARES_A)."]
[]
["For any questions or comments on the use of this tool,\nplease contact Fernando Diaz Alonso (Fernando.Diaz-Alonso@ec.europa.eu) or                     ESTAT-ENERGY@EC.EUROPA.EU."]
[]
[]
[]
[]
[]
[]
[]
[]
[]
[]
[]
[]
[]
[]
[]
[]
[]
[]
[]
[]
[]
[]
[]
[]
[]
[]
[]
[]
[]
[]
[]
[]
[]
[]
[]
[]
[]
[]
[]
[]
[]
[]
[]
[]
[]
[]
[]
[]
[]
[]
[]
[null,null,null,null,null,null,null,null,null,"2020 target","\n2011-2012","indicative\n2013-2014","trajectory \n2015-2016","\n2017-2018","S2005"]
[null,null,null,null,null,null,null,null,null,0.2,":",":",":",":",":","EU28"]
[null,null,null,null,null,null,null,"Albania","ALBANIA",0.38,0.32600000000000001,0.33200000000000002,0.34300000000000003,0.35599999999999998,":","AL"]
[null,null,null,null,null,null,null,"Austria","AUSTRIA",0.34,0.25440000000000002,0.2651,0.28115000000000001,0.30255000000000004,0.23300000000000001,"AT"]
[null,null,null,null,null,null,null,"Belgium","BELGIUM",0.13,4.36E-2,5.4400000000000004E-2,7.0599999999999996E-2,9.2200000000000004E-2,2.1999999999999999E-2,"BE"]
[null,null,null,null,null,null,null,"Bosnia & Herzegovina","BOSNIAHERZ",0.4,0.35199999999999998,0.35799999999999998,0.36699999999999999,0.379,":","BA"]
[null,null,null,null,null,null,null,"Bulgaria","BULGARIA",0.16,0.1072,0.1138,0.1237,0.13689999999999999,9.4E-2,"BG"]
[null,null,null,null,null,null,null,"Croatia","CROATIA",0.2,0.14080000000000001,0.1482,0.1593,0.1741,0.126,"HR"]
[null,null,null,null,null,null,null,"Cyprus","CYPRUS",0.13,4.9200000000000008E-2,5.9300000000000005E-2,7.4450000000000002E-2,9.4649999999999998E-2,2.9000000000000001E-2,"CY"]
[null,null,null,null,null,null,null,"Czechia","CZECH",0.13,7.4800000000000005E-2,8.1699999999999995E-2,9.2050000000000007E-2,0.10585,6.0999999999999999E-2,"CZ"]
[null,null,null,null,null,null,null,"Denmark","DENMARK",0.3,0.19600000000000001,0.20900000000000002,0.22850000000000001,0.2545,0.17,"DK"]
[null,null,null,null,null,null,null,"Estonia","ESTONIA",0.25,0.19400000000000001,0.20099999999999998,0.21149999999999999,0.22550000000000001,0.18,"EE"]
[null,null,null,null,null,null,null,"Finland","FINLAND",0.38,0.30399999999999999,0.3135,0.32774999999999999,0.34675,0.28499999999999998,"FI"]
[null,null,null,null,null,null,null,"France","FRANCE",0.23,0.12839999999999999,0.1411,0.16014999999999999,0.18554999999999999,0.10299999999999999,"FR"]
[null,null,null,null,null,null,null,"North Macedonia","FYROM",0.23,0.1898,0.19470000000000001,0.2021,0.21274999999999999,":","MK"]
[null,null,null,null,null,null,null,"Georgia","GEORGIA"," "," "," "," "," "," ","GE"]
[null,null,null,null,null,null,null,"Germany","GERMANY",0.18,8.2400000000000001E-2,9.4600000000000004E-2,0.1129,0.13730000000000001,5.8000000000000003E-2,"DE"]
[null,null,null,null,null,null,null,"Greece","GREECE",0.18,9.1200000000000003E-2,0.1023,0.11895,0.14115,6.9000000000000006E-2,"GR"]
[null,null,null,null,null,null,null,"Hungary","HUNGARY",0.13,6.0399999999999995E-2,6.9099999999999995E-2,8.2150000000000001E-2,9.955E-2,4.2999999999999997E-2,"HU"]
[null,null,null,null,null,null,null,"Iceland","ICELAND",0.64,0.56800000000000006,0.57700000000000007,0.59050000000000002,0.60850000000000004,0.55000000000000004,"IS"]
[null,null,null,null,null,null,null,"Ireland","IRELAND",0.16,5.6800000000000003E-2,6.9699999999999998E-2,8.9050000000000004E-2,0.11485000000000001,3.1E-2,"IE"]
[null,null,null,null,null,null,null,"Italy","ITALY",0.17,7.5600000000000001E-2,8.7400000000000005E-2,0.1051,0.12870000000000001,5.1999999999999998E-2,"IT"]
[null,null,null,null,null,null,null,"Kosovo","KOSOVO",0.25,0.20100000000000001,0.20699999999999999,0.216,0.22900000000000001,":","XK"]
[null,null,null,null,null,null,null,"Latvia","LATVIA",0.4,0.34079999999999999,0.34820000000000001,0.35930000000000001,0.37410000000000004,0.32600000000000001,"LV"]
[null,null,null,null,null,null,null,"Lithuania","LITHUANIA",0.23,0.16600000000000001,0.17399999999999999,0.186,0.20200000000000001,0.15,"LT"]
[null,null,null,null,null,null,null,"Luxembourg","LUXEMBOU",0.11,2.9200000000000004E-2,3.9300000000000002E-2,5.4450000000000005E-2,7.4649999999999994E-2,8.9999999999999993E-3,"LU"]
[null,null,null,null,null,null,null,"Malta","MALTA",0.1,2.0000000000000004E-2,0.03,4.5000000000000005E-2,6.5000000000000002E-2,0,"MT"]
[null,null,null,null,null,null,null,"Moldova","MOLDOVA",0.17,0.129,0.13400000000000001,0.14199999999999999,0.152,":","MD"]
[null,null,null,null,null,null,null,"Montenegro","MONTENEGRO",0.33,0.27600000000000002,0.28299999999999997,0.29299999999999998,0.307,":","ME"]
[null,null,null,null,null,null,null,"Netherlands","NETHLAND",0.14000000000000001,4.7200000000000006E-2,5.8800000000000005E-2,7.6200000000000018E-2,9.9400000000000016E-2,2.4E-2,"NL"]
[null,null,null,null,null,null,null,"Norway","NORWAY",0.67500000000000004,0.60060000000000002,0.6099,0.62385000000000002,0.64244999999999997,0.58199999999999996,"NO"]
[null,null,null,null,null,null,null,"Poland","POLAND",0.15,8.7599999999999997E-2,9.5399999999999999E-2,0.1071,0.1227,7.1999999999999995E-2,"PL"]
[null,null,null,null,null,null,null,"Portugal","PORTUGAL",0.31,0.22599999999999998,0.23649999999999999,0.25224999999999997,0.27324999999999999,0.20499999999999999,"PT"]
[null,null,null,null,null,null,null,"Romania","ROMANIA",0.24,0.19039999999999999,0.1966,0.2059,0.21829999999999999,0.17799999999999999,"RO"]
[null,null,null,null,null,null,null,"Serbia","SERBIA",0.27,0.224,0.22900000000000001,0.23799999999999999,0.25,":","RS"]
[null,null,null,null,null,null,null,"Slovakia","SLOVAKIA",0.14000000000000001,8.1600000000000006E-2,8.8900000000000007E-2,9.9850000000000008E-2,0.11445000000000001,6.7000000000000004E-2,"SK"]
[null,null,null,null,null,null,null,"Slovenia","SLOVENIA",0.25,0.17799999999999999,0.187,0.20050000000000001,0.2185,0.16,"SI"]
[null,null,null,null,null,null,null,"Spain","SPAIN",0.2,0.1096,0.12090000000000001,0.13785,0.16045000000000001,8.6999999999999994E-2,"ES"]
[null,null,null,null,null,null,null,"Sweden","SWEDEN",0.49,0.41639999999999999,0.42560000000000003,0.43940000000000001,0.45779999999999998,0.39800000000000002,"SE"]
[null,null,null,null,null,null,null,"Switzerland","SWITLAND"," "," "," "," "," "," ","CH"]
[null,null,null,null,null,null,null,"Turkey","TURKEY"," "," "," "," "," "," ","TR"]
[null,null,null,null,null,null,null,"Ukraine","UKRAINE",0.11,6.6000000000000003E-2,7.1999999999999995E-2,0.08,9.0999999999999998E-2,":","UA"]
[null,null,null,null,null,null,null,"United Kingdom","UK",0.15,4.0399999999999998E-2,5.4099999999999988E-2,7.4649999999999994E-2,0.10204999999999999,1.2999999999999999E-2,"UK"]

{"sheet":"OVERALL SUMMARY","index":1,"n_rows":206,"n_cols":49,"rows_kept":206,"cut":false,"hidden":false,"merged":[[0,21,1,24],[72,9,72,10],[72,11,72,12],[72,13,72,14],[72,15,72,16],[71,9,71,10],[71,11,71,12],[71,13,71,14],[71,15,71,16],[70,9,70,16]]}
[null,null,null,null,null,null,null,null,null,null,null,null,null,null,null,null,null,null,null,null,null,{"$f":"MAIN!$D$9","v":""},null,null,null,null,null,null,null,null,null,null,null,null,null,null,null,null,null,null,null,null,null,null,null,null,null,null,1]
[]
[null,null,null,null,null,null,null,null,null,null,null,null,null,null,null,null,null,null,null,null,"Data prior to 2021 have no legal value and will not be uploaded into Eurostat's database."]
[null,null,null,null,null,null,null,null,null,null,null,null,null,null,null,null,null,null,null,null,"Please consult https://ec.europa.eu/eurostat/web/energy/data/shares for results up to 2020."]
[null,null,2004,2005,2006,2007,2008,2009,2010,2011,2012,2013,2014,2015,2016,2017,2018,2019,2020,2021,2022,2023,2024,2025,2026,2027,2028,2029,2030,2031,2032,2033,2034,2035,2036,2037,2038,2039,2040,2041,2042,2043,2044,2045,2046,2047,2048,2049,2050]
["Electricity"]
["Hydro",null,{"$f":"$AW$1*'OVERALL TARGET'!V7*3.6/41.868","v":0},{"$f":"$AW$1*'OVERALL TARGET'!W7*3.6/41.868","v":0},{"$f":"$AW$1*'OVERALL TARGET'!X7*3.6/41.868","v":0},{"$f":"$AW$1*'OVERALL TARGET'!Y7*3.6/41.868","v":0},{"$f":"$AW$1*'OVERALL TARGET'!Z7*3.6/41.868","v":0},{"$f":"$AW$1*'OVERALL TARGET'!AA7*3.6/41.868","v":0},{"$f":"$AW$1*'OVERALL TARGET'!AB7*3.6/41.868","v":0},{"$f":"$AW$1*'OVERALL TARGET'!AC7*3.6/41.868","v":0},{"$f":"$AW$1*'OVERALL TARGET'!AD7*3.6/41.868","v":0},{"$f":"$AW$1*'OVERALL TARGET'!AE7*3.6/41.868","v":0},{"$f":"$AW$1*'OVERALL TARGET'!AF7*3.6/41.868","v":0},{"$f":"$AW$1*'OVERALL TARGET'!AG7*3.6/41.868","v":0},{"$f":"$AW$1*'OVERALL TARGET'!AH7*3.6/41.868","v":0},{"$f":"$AW$1*'OVERALL TARGET'!AI7*3.6/41.868","v":0},{"$f":"$AW$1*'OVERALL TARGET'!AJ7*3.6/41.868","v":0},{"$f":"$AW$1*'OVERALL TARGET'!AK7*3.6/41.868","v":0},{"$f":"$AW$1*'OVERALL TARGET'!AL7*3.6/41.868","v":0},{"$f":"$AW$1*'OVERALL TARGET'!AM7*3.6/41.868","v":0},{"$f":"$AW$1*'OVERALL TARGET'!AN7*3.6/41.868","v":0},{"$f":"$AW$1*'OVERALL TARGET'!AO7*3.6/41.868","v":0},{"$f":"$AW$1*'OVERALL TARGET'!AP7*3.6/41.868","v":0},{"$f":"$AW$1*'OVERALL TARGET'!AQ7*3.6/41.868","v":0},{"$f":"$AW$1*'OVERALL TARGET'!AR7*3.6/41.868","v":0},{"$f":"$AW$1*'OVERALL TARGET'!AS7*3.6/41.868","v":0},{"$f":"$AW$1*'OVERALL TARGET'!AT7*3.6/41.868","v":0},{"$f":"$AW$1*'OVERALL TARGET'!AU7*3.6/41.868","v":0},{"$f":"$AW$1*'OVERALL TARGET'!AV7*3.6/41.868","v":0},{"$f":"$AW$1*'OVERALL TARGET'!AW7*3.6/41.868","v":0},{"$f":"$AW$1*'OVERALL TARGET'!AX7*3.6/41.868","v":0},{"$f":"$AW$1*'OVERALL TARGET'!AY7*3.6/41.868","v":0},{"$f":"$AW$1*'OVERALL TARGET'!AZ7*3.6/41.868","v":0},{"$f":"$AW$1*'OVERALL TARGET'!BA7*3.6/41.868","v":0},{"$f":"$AW$1*'OVERALL TARGET'!BB7*3.6/41.868","v":0},{"$f":"$AW$1*'OVERALL TARGET'!BC7*3.6/41.868","v":0},{"$f":"$AW$1*'OVERALL TARGET'!BD7*3.6/41.868","v":0},{"$f":"$AW$1*'OVERALL TARGET'!BE7*3.6/41.868","v":0},{"$f":"$AW$1*'OVERALL TARGET'!BF7*3.6/41.868","v":0},{"$f":"$AW$1*'OVERALL TARGET'!BG7*3.6/41.868","v":0},{"$f":"$AW$1*'OVERALL TARGET'!BH7*3.6/41.868","v":0},{"$f":"$AW$1*'OVERALL TARGET'!BI7*3.6/41.868","v":0},{"$f":"$AW$1*'OVERALL TARGET'!BJ7*3.6/41.868","v":0},{"$f":"$AW$1*'OVERALL TARGET'!BK7*3.6/41.868","v":0},{"$f":"$AW$1*'OVERALL TARGET'!BL7*3.6/41.868","v":0},{"$f":"$AW$1*'OVERALL TARGET'!BM7*3.6/41.868","v":0},{"$f":"$AW$1*'OVERALL TARGET'!BN7*3.6/41.868","v":0},{"$f":"$AW$1*'OVERALL TARGET'!BO7*3.6/41.868","v":0},{"$f":"$AW$1*'OVERALL TARGET'!BP7*3.6/41.868","v":0}]
["Wind",null,{"$f":"$AW$1*'OVERALL TARGET'!V10*3.6/41.868","v":0},{"$f":"$AW$1*'OVERALL TARGET'!W10*3.6/41.868","v":0},{"$f":"$AW$1*'OVERALL TARGET'!X10*3.6/41.868","v":0},{"$f":"$AW$1*'OVERALL TARGET'!Y10*3.6/41.868","v":0},{"$f":"$AW$1*'OVERALL TARGET'!Z10*3.6/41.868","v":0},{"$f":"$AW$1*'OVERALL TARGET'!AA10*3.6/41.868","v":0},{"$f":"$AW$1*'OVERALL TARGET'!AB10*3.6/41.868","v":0},{"$f":"$AW$1*'OVERALL TARGET'!AC10*3.6/41.868","v":0},{"$f":"$AW$1*'OVERALL TARGET'!AD10*3.6/41.868","v":0},{"$f":"$AW$1*'OVERALL TARGET'!AE10*3.6/41.868","v":0},{"$f":"$AW$1*'OVERALL TARGET'!AF10*3.6/41.868","v":0},{"$f":"$AW$1*'OVERALL TARGET'!AG10*3.6/41.868","v":0},{"$f":"$AW$1*'OVERALL TARGET'!AH10*3.6/41.868","v":0},{"$f":"$AW$1*'OVERALL TARGET'!AI10*3.6/41.868","v":0},{"$f":"$AW$1*'OVERALL TARGET'!AJ10*3.6/41.868","v":0},{"$f":"$AW$1*'OVERALL TARGET'!AK10*3.6/41.868","v":0},{"$f":"$AW$1*'OVERALL TARGET'!AL10*3.6/41.868","v":0},{"$f":"$AW$1*'OVERALL TARGET'!AM10*3.6/41.868","v":0},{"$f":"$AW$1*'OVERALL TARGET'!AN10*3.6/41.868","v":0},{"$f":"$AW$1*'OVERALL TARGET'!AO10*3.6/41.868","v":0},{"$f":"$AW$1*'OVERALL TARGET'!AP10*3.6/41.868","v":0},{"$f":"$AW$1*'OVERALL TARGET'!AQ10*3.6/41.868","v":0},{"$f":"$AW$1*'OVERALL TARGET'!AR10*3.6/41.868","v":0},{"$f":"$AW$1*'OVERALL TARGET'!AS10*3.6/41.868","v":0},{"$f":"$AW$1*'OVERALL TARGET'!AT10*3.6/41.868","v":0},{"$f":"$AW$1*'OVERALL TARGET'!AU10*3.6/41.868","v":0},{"$f":"$AW$1*'OVERALL TARGET'!AV10*3.6/41.868","v":0},{"$f":"$AW$1*'OVERALL TARGET'!AW10*3.6/41.868","v":0},{"$f":"$AW$1*'OVERALL TARGET'!AX10*3.6/41.868","v":0},{"$f":"$AW$1*'OVERALL TARGET'!AY10*3.6/41.868","v":0},{"$f":"$AW$1*'OVERALL TARGET'!AZ10*3.6/41.868","v":0},{"$f":"$AW$1*'OVERALL TARGET'!BA10*3.6/41.868","v":0},{"$f":"$AW$1*'OVERALL TARGET'!BB10*3.6/41.868","v":0},{"$f":"$AW$1*'OVERALL TARGET'!BC10*3.6/41.868","v":0},{"$f":"$AW$1*'OVERALL TARGET'!BD10*3.6/41.868","v":0},{"$f":"$AW$1*'OVERALL TARGET'!BE10*3.6/41.868","v":0},{"$f":"$AW$1*'OVERALL TARGET'!BF10*3.6/41.868","v":0},{"$f":"$AW$1*'OVERALL TARGET'!BG10*3.6/41.868","v":0},{"$f":"$AW$1*'OVERALL TARGET'!BH10*3.6/41.868","v":0},{"$f":"$AW$1*'OVERALL TARGET'!BI10*3.6/41.868","v":0},{"$f":"$AW$1*'OVERALL TARGET'!BJ10*3.6/41.868","v":0},{"$f":"$AW$1*'OVERALL TARGET'!BK10*3.6/41.868","v":0},{"$f":"$AW$1*'OVERALL TARGET'!BL10*3.6/41.868","v":0},{"$f":"$AW$1*'OVERALL TARGET'!BM10*3.6/41.868","v":0},{"$f":"$AW$1*'OVERALL TARGET'!BN10*3.6/41.868","v":0},{"$f":"$AW$1*'OVERALL TARGET'!BO10*3.6/41.868","v":0},{"$f":"$AW$1*'OVERALL TARGET'!BP10*3.6/41.868","v":0}]
["Solar",null,{"$f":"$AW$1*((REN!V179+REN!V180+REN!V187+REN!V188))*3.6/41.868","v":0},{"$f":"$AW$1*((REN!W179+REN!W180+REN!W187+REN!W188))*3.6/41.868","v":0},{"$f":"$AW$1*((REN!X179+REN!X180+REN!X187+REN!X188))*3.6/41.868","v":0},{"$f":"$AW$1*((REN!Y179+REN!Y180+REN!Y187+REN!Y188))*3.6/41.868","v":0},{"$f":"$AW$1*((REN!Z179+REN!Z180+REN!Z187+REN!Z188))*3.6/41.868","v":0},{"$f":"$AW$1*((REN!AA179+REN!AA180+REN!AA187+REN!AA188))*3.6/41.868","v":0},{"$f":"$AW$1*((REN!AB179+REN!AB180+REN!AB187+REN!AB188))*3.6/41.868","v":0},{"$f":"$AW$1*((REN!AC179+REN!AC180+REN!AC187+REN!AC188))*3.6/41.868","v":0},{"$f":"$AW$1*((REN!AD179+REN!AD180+REN!AD187+REN!AD188))*3.6/41.868","v":0},{"$f":"$AW$1*((REN!AE179+REN!AE180+REN!AE187+REN!AE188))*3.6/41.868","v":0},{"$f":"$AW$1*((REN!AF179+REN!AF180+REN!AF187+REN!AF188))*3.6/41.868","v":0},{"$f":"$AW$1*((REN!AG179+REN!AG180+REN!AG187+REN!AG188))*3.6/41.868","v":0},{"$f":"$AW$1*((REN!AH179+REN!AH180+REN!AH187+REN!AH188))*3.6/41.868","v":0},{"$f":"$AW$1*((REN!AI179+REN!AI180+REN!AI187+REN!AI188))*3.6/41.868","v":0},{"$f":"$AW$1*((REN!AJ179+REN!AJ180+REN!AJ187+REN!AJ188))*3.6/41.868","v":0},{"$f":"$AW$1*((REN!AK179+REN!AK180+REN!AK187+REN!AK188))*3.6/41.868","v":0},{"$f":"$AW$1*((REN!AL179+REN!AL180+REN!AL187+REN!AL188))*3.6/41.868","v":0},{"$f":"$AW$1*((REN!AM179+REN!AM180+REN!AM187+REN!AM188))*3.6/41.868","v":0},{"$f":"$AW$1*((REN!AN179+REN!AN180+REN!AN187+REN!AN188))*3.6/41.868","v":0},{"$f":"$AW$1*((REN!AO179+REN!AO180+REN!AO187+REN!AO188))*3.6/41.868","v":0},{"$f":"$AW$1*((REN!AP179+REN!AP180+REN!AP187+REN!AP188))*3.6/41.868","v":0},{"$f":"$AW$1*((REN!AQ179+REN!AQ180+REN!AQ187+REN!AQ188))*3.6/41.868","v":0},{"$f":"$AW$1*((REN!AR179+REN!AR180+REN!AR187+REN!AR188))*3.6/41.868","v":0},{"$f":"$AW$1*((REN!AS179+REN!AS180+REN!AS187+REN!AS188))*3.6/41.868","v":0},{"$f":"$AW$1*((REN!AT179+REN!AT180+REN!AT187+REN!AT188))*3.6/41.868","v":0},{"$f":"$AW$1*((REN!AU179+REN!AU180+REN!AU187+REN!AU188))*3.6/41.868","v":0},{"$f":"$AW$1*((REN!AV179+REN!AV180+REN!AV187+REN!AV188))*3.6/41.868","v":0},{"$f":"$AW$1*((REN!AW179+REN!AW180+REN!AW187+REN!AW188))*3.6/41.868","v":0},{"$f":"$AW$1*((REN!AX179+REN!AX180+REN!AX187+REN!AX188))*3.6/41.868","v":0},{"$f":"$AW$1*((REN!AY179+REN!AY180+REN!AY187+REN!AY188))*3.6/41.868","v":0},{"$f":"$AW$1*((REN!AZ179+REN!AZ180+REN!AZ187+REN!AZ188))*3.6/41.868","v":0},{"$f":"$AW$1*((REN!BA179+REN!BA180+REN!BA187+REN!BA188))*3.6/41.868","v":0},{"$f":"$AW$1*((REN!BB179+REN!BB180+REN!BB187+REN!BB188))*3.6/41.868","v":0},{"$f":"$AW$1*((REN!BC179+REN!BC180+REN!BC187+REN!BC188))*3.6/41.868","v":0},{"$f":"$AW$1*((REN!BD179+REN!BD180+REN!BD187+REN!BD188))*3.6/41.868","v":0},{"$f":"$AW$1*((REN!BE179+REN!BE180+REN!BE187+REN!BE188))*3.6/41.868","v":0},{"$f":"$AW$1*((REN!BF179+REN!BF180+REN!BF187+REN!BF188))*3.6/41.868","v":0},{"$f":"$AW$1*((REN!BG179+REN!BG180+REN!BG187+REN!BG188))*3.6/41.868","v":0},{"$f":"$AW$1*((REN!BH179+REN!BH180+REN!BH187+REN!BH188))*3.6/41.868","v":0},{"$f":"$AW$1*((REN!BI179+REN!BI180+REN!BI187+REN!BI188))*3.6/41.868","v":0},{"$f":"$AW$1*((REN!BJ179+REN!BJ180+REN!BJ187+REN!BJ188))*3.6/41.868","v":0},{"$f":"$AW$1*((REN!BK179+REN!BK180+REN!BK187+REN!BK188))*3.6/41.868","v":0},{"$f":"$AW$1*((REN!BL179+REN!BL180+REN!BL187+REN!BL188))*3.6/41.868","v":0},{"$f":"$AW$1*((REN!BM179+REN!BM180+REN!BM187+REN!BM188))*3.6/41.868","v":0},{"$f":"$AW$1*((REN!BN179+REN!BN180+REN!BN187+REN!BN188))*3.6/41.868","v":0},{"$f":"$AW$1*((REN!BO179+REN!BO180+REN!BO187+REN!BO188))*3.6/41.868","v":0},{"$f":"$AW$1*((REN!BP179+REN!BP180+REN!BP187+REN!BP188))*3.6/41.868","v":0}]
["Solid biofuels",null,{"$f":"$AW$1*'OVERALL TARGET'!V31*3.6/41.868","v":0},{"$f":"$AW$1*'OVERALL TARGET'!W31*3.6/41.868","v":0},{"$f":"$AW$1*'OVERALL TARGET'!X31*3.6/41.868","v":0},{"$f":"$AW$1*'OVERALL TARGET'!Y31*3.6/41.868","v":0},{"$f":"$AW$1*'OVERALL TARGET'!Z31*3.6/41.868","v":0},{"$f":"$AW$1*'OVERALL TARGET'!AA31*3.6/41.868","v":0},{"$f":"$AW$1*'OVERALL TARGET'!AB31*3.6/41.868","v":0},{"$f":"$AW$1*'OVERALL TARGET'!AC31*3.6/41.868","v":0},{"$f":"$AW$1*'OVERALL TARGET'!AD31*3.6/41.868","v":0},{"$f":"$AW$1*'OVERALL TARGET'!AE31*3.6/41.868","v":0},{"$f":"$AW$1*'OVERALL TARGET'!AF31*3.6/41.868","v":0},{"$f":"$AW$1*'OVERALL TARGET'!AG31*3.6/41.868","v":0},{"$f":"$AW$1*'OVERALL TARGET'!AH31*3.6/41.868","v":0},{"$f":"$AW$1*'OVERALL TARGET'!AI31*3.6/41.868","v":0},{"$f":"$AW$1*'OVERALL TARGET'!AJ31*3.6/41.868","v":0},{"$f":"$AW$1*'OVERALL TARGET'!AK31*3.6/41.868","v":0},{"$f":"$AW$1*'OVERALL TARGET'!AL31*3.6/41.868","v":0},{"$f":"$AW$1*'OVERALL TARGET'!AM31*3.6/41.868","v":0},{"$f":"$AW$1*'OVERALL TARGET'!AN31*3.6/41.868","v":0},{"$f":"$AW$1*'OVERALL TARGET'!AO31*3.6/41.868","v":0},{"$f":"$AW$1*'OVERALL TARGET'!AP31*3.6/41.868","v":0},{"$f":"$AW$1*'OVERALL TARGET'!AQ31*3.6/41.868","v":0},{"$f":"$AW$1*'OVERALL TARGET'!AR31*3.6/41.868","v":0},{"$f":"$AW$1*'OVERALL TARGET'!AS31*3.6/41.868","v":0},{"$f":"$AW$1*'OVERALL TARGET'!AT31*3.6/41.868","v":0},{"$f":"$AW$1*'OVERALL TARGET'!AU31*3.6/41.868","v":0},{"$f":"$AW$1*'OVERALL TARGET'!AV31*3.6/41.868","v":0},{"$f":"$AW$1*'OVERALL TARGET'!AW31*3.6/41.868","v":0},{"$f":"$AW$1*'OVERALL TARGET'!AX31*3.6/41.868","v":0},{"$f":"$AW$1*'OVERALL TARGET'!AY31*3.6/41.868","v":0},{"$f":"$AW$1*'OVERALL TARGET'!AZ31*3.6/41.868","v":0},{"$f":"$AW$1*'OVERALL TARGET'!BA31*3.6/41.868","v":0},{"$f":"$AW$1*'OVERALL TARGET'!BB31*3.6/41.868","v":0},{"$f":"$AW$1*'OVERALL TARGET'!BC31*3.6/41.868","v":0},{"$f":"$AW$1*'OVERALL TARGET'!BD31*3.6/41.868","v":0},{"$f":"$AW$1*'OVERALL TARGET'!BE31*3.6/41.868","v":0},{"$f":"$AW$1*'OVERALL TARGET'!BF31*3.6/41.868","v":0},{"$f":"$AW$1*'OVERALL TARGET'!BG31*3.6/41.868","v":0},{"$f":"$AW$1*'OVERALL TARGET'!BH31*3.6/41.868","v":0},{"$f":"$AW$1*'OVERALL TARGET'!BI31*3.6/41.868","v":0},{"$f":"$AW$1*'OVERALL TARGET'!BJ31*3.6/41.868","v":0},{"$f":"$AW$1*'OVERALL TARGET'!BK31*3.6/41.868","v":0},{"$f":"$AW$1*'OVERALL TARGET'!BL31*3.6/41.868","v":0},{"$f":"$AW$1*'OVERALL TARGET'!BM31*3.6/41.868","v":0},{"$f":"$AW$1*'OVERALL TARGET'!BN31*3.6/41.868","v":0},{"$f":"$AW$1*'OVERALL TARGET'!BO31*3.6/41.868","v":0},{"$f":"$AW$1*'OVERALL TARGET'!BP31*3.6/41.868","v":0}]
["All other renewables",null,{"$f":"$AW$1*('OVERALL TARGET'!V6-'OVERALL TARGET'!V7-'OVERALL TARGET'!V10-'OVERALL TARGET'!V26-'OVERALL TARGET'!V27-'OVERALL TARGET'!V31)*3.6/41.868","v":0},{"$f":"$AW$1*('OVERALL TARGET'!W6-'OVERALL TARGET'!W7-'OVERALL TARGET'!W10-'OVERALL TARGET'!W26-'OVERALL TARGET'!W27-'OVERALL TARGET'!W31)*3.6/41.868","v":0},{"$f":"$AW$1*('OVERALL TARGET'!X6-'OVERALL TARGET'!X7-'OVERALL TARGET'!X10-'OVERALL TARGET'!X26-'OVERALL TARGET'!X27-'OVERALL TARGET'!X31)*3.6/41.868","v":0},{"$f":"$AW$1*('OVERALL TARGET'!Y6-'OVERALL TARGET'!Y7-'OVERALL TARGET'!Y10-'OVERALL TARGET'!Y26-'OVERALL TARGET'!Y27-'OVERALL TARGET'!Y31)*3.6/41.868","v":0},{"$f":"$AW$1*('OVERALL TARGET'!Z6-'OVERALL TARGET'!Z7-'OVERALL TARGET'!Z10-'OVERALL TARGET'!Z26-'OVERALL TARGET'!Z27-'OVERALL TARGET'!Z31)*3.6/41.868","v":0},{"$f":"$AW$1*('OVERALL TARGET'!AA6-'OVERALL TARGET'!AA7-'OVERALL TARGET'!AA10-'OVERALL TARGET'!AA26-'OVERALL TARGET'!AA27-'OVERALL TARGET'!AA31)*3.6/41.868","v":0},{"$f":"$AW$1*('OVERALL TARGET'!AB6-'OVERALL TARGET'!AB7-'OVERALL TARGET'!AB10-'OVERALL TARGET'!AB26-'OVERALL TARGET'!AB27-'OVERALL TARGET'!AB31)*3.6/41.868","v":0},{"$f":"$AW$1*('OVERALL TARGET'!AC6-'OVERALL TARGET'!AC7-'OVERALL TARGET'!AC10-'OVERALL TARGET'!AC26-'OVERALL TARGET'!AC27-'OVERALL TARGET'!AC31)*3.6/41.868","v":0},{"$f":"$AW$1*('OVERALL TARGET'!AD6-'OVERALL TARGET'!AD7-'OVERALL TARGET'!AD10-'OVERALL TARGET'!AD26-'OVERALL TARGET'!AD27-'OVERALL TARGET'!AD31)*3.6/41.868","v":0},{"$f":"$AW$1*('OVERALL TARGET'!AE6-'OVERALL TARGET'!AE7-'OVERALL TARGET'!AE10-'OVERALL TARGET'!AE26-'OVERALL TARGET'!AE27-'OVERALL TARGET'!AE31)*3.6/41.868","v":0},{"$f":"$AW$1*('OVERALL TARGET'!AF6-'OVERALL TARGET'!AF7-'OVERALL TARGET'!AF10-'OVERALL TARGET'!AF26-'OVERALL TARGET'!AF27-'OVERALL TARGET'!AF31)*3.6/41.868","v":0},{"$f":"$AW$1*('OVERALL TARGET'!AG6-'OVERALL TARGET'!AG7-'OVERALL TARGET'!AG10-'OVERALL TARGET'!AG26-'OVERALL TARGET'!AG27-'OVERALL TARGET'!AG31)*3.6/41.868","v":0},{"$f":"$AW$1*('OVERALL TARGET'!AH6-'OVERALL TARGET'!AH7-'OVERALL TARGET'!AH10-'OVERALL TARGET'!AH26-'OVERALL TARGET'!AH27-'OVERALL TARGET'!AH31)*3.6/41.868","v":0},{"$f":"$AW$1*('OVERALL TARGET'!AI6-'OVERALL TARGET'!AI7-'OVERALL TARGET'!AI10-'OVERALL TARGET'!AI26-'OVERALL TARGET'!AI27-'OVERALL TARGET'!AI31)*3.6/41.868","v":0},{"$f":"$AW$1*('OVERALL TARGET'!AJ6-'OVERALL TARGET'!AJ7-'OVERALL TARGET'!AJ10-'OVERALL TARGET'!AJ26-'OVERALL TARGET'!AJ27-'OVERALL TARGET'!AJ31)*3.6/41.868","v":0},{"$f":"$AW$1*('OVERALL TARGET'!AK6-'OVERALL TARGET'!AK7-'OVERALL TARGET'!AK10-'OVERALL TARGET'!AK26-'OVERALL TARGET'!AK27-'OVERALL TARGET'!AK31)*3.6/41.868","v":0},{"$f":"$AW$1*('OVERALL TARGET'!AL6-'OVERALL TARGET'!AL7-'OVERALL TARGET'!AL10-'OVERALL TARGET'!AL26-'OVERALL TARGET'!AL27-'OVERALL TARGET'!AL31)*3.6/41.868","v":0},{"$f":"$AW$1*('OVERALL TARGET'!AM6-'OVERALL TARGET'!AM7-'OVERALL TARGET'!AM10-'OVERALL TARGET'!AM26-'OVERALL TARGET'!AM27-'OVERALL TARGET'!AM31)*3.6/41.868","v":0},{"$f":"$AW$1*('OVERALL TARGET'!AN6-'OVERALL TARGET'!AN7-'OVERALL TARGET'!AN10-'OVERALL TARGET'!AN26-'OVERALL TARGET'!AN27-'OVERALL TARGET'!AN31)*3.6/41.868","v":0},{"$f":"$AW$1*('OVERALL TARGET'!AO6-'OVERALL TARGET'!AO7-'OVERALL TARGET'!AO10-'OVERALL TARGET'!AO26-'OVERALL TARGET'!AO27-'OVERALL TARGET'!AO31)*3.6/41.868","v":0},{"$f":"$AW$1*('OVERALL TARGET'!AP6-'OVERALL TARGET'!AP7-'OVERALL TARGET'!AP10-'OVERALL TARGET'!AP26-'OVERALL TARGET'!AP27-'OVERALL TARGET'!AP31)*3.6/41.868","v":0},{"$f":"$AW$1*('OVERALL TARGET'!AQ6-'OVERALL TARGET'!AQ7-'OVERALL TARGET'!AQ10-'OVERALL TARGET'!AQ26-'OVERALL TARGET'!AQ27-'OVERALL TARGET'!AQ31)*3.6/41.868","v":0},{"$f":"$AW$1*('OVERALL TARGET'!AR6-'OVERALL TARGET'!AR7-'OVERALL TARGET'!AR10-'OVERALL TARGET'!AR26-'OVERALL TARGET'!AR27-'OVERALL TARGET'!AR31)*3.6/41.868","v":0},{"$f":"$AW$1*('OVERALL TARGET'!AS6-'OVERALL TARGET'!AS7-'OVERALL TARGET'!AS10-'OVERALL TARGET'!AS26-'OVERALL TARGET'!AS27-'OVERALL TARGET'!AS31)*3.6/41.868","v":0},{"$f":"$AW$1*('OVERALL TARGET'!AT6-'OVERALL TARGET'!AT7-'OVERALL TARGET'!AT10-'OVERALL TARGET'!AT26-'OVERALL TARGET'!AT27-'OVERALL TARGET'!AT31)*3.6/41.868","v":0},{"$f":"$AW$1*('OVERALL TARGET'!AU6-'OVERALL TARGET'!AU7-'OVERALL TARGET'!AU10-'OVERALL TARGET'!AU26-'OVERALL TARGET'!AU27-'OVERALL TARGET'!AU31)*3.6/41.868","v":0},{"$f":"$AW$1*('OVERALL TARGET'!AV6-'OVERALL TARGET'!AV7-'OVERALL TARGET'!AV10-'OVERALL TARGET'!AV26-'OVERALL TARGET'!AV27-'OVERALL TARGET'!AV31)*3.6/41.868","v":0},{"$f":"$AW$1*('OVERALL TARGET'!AW6-'OVERALL TARGET'!AW7-'OVERALL TARGET'!AW10-'OVERALL TARGET'!AW26-'OVERALL TARGET'!AW27-'OVERALL TARGET'!AW31)*3.6/41.868","v":0},{"$f":"$AW$1*('OVERALL TARGET'!AX6-'OVERALL TARGET'!AX7-'OVERALL TARGET'!AX10-'OVERALL TARGET'!AX26-'OVERALL TARGET'!AX27-'OVERALL TARGET'!AX31)*3.6/41.868","v":0},{"$f":"$AW$1*('OVERALL TARGET'!AY6-'OVERALL TARGET'!AY7-'OVERALL TARGET'!AY10-'OVERALL TARGET'!AY26-'OVERALL TARGET'!AY27-'OVERALL TARGET'!AY31)*3.6/41.868","v":0},{"$f":"$AW$1*('OVERALL TARGET'!AZ6-'OVERALL TARGET'!AZ7-'OVERALL TARGET'!AZ10-'OVERALL TARGET'!AZ26-'OVERALL TARGET'!AZ27-'OVERALL TARGET'!AZ31)*3.6/41.868","v":0},{"$f":"$AW$1*('OVERALL TARGET'!BA6-'OVERALL TARGET'!BA7-'OVERALL TARGET'!BA10-'OVERALL TARGET'!BA26-'OVERALL TARGET'!BA27-'OVERALL TARGET'!BA31)*3.6/41.868","v":0},{"$f":"$AW$1*('OVERALL TARGET'!BB6-'OVERALL TARGET'!BB7-'OVERALL TARGET'!BB10-'OVERALL TARGET'!BB26-'OVERALL TARGET'!BB27-'OVERALL TARGET'!BB31)*3.6/41.868","v":0},{"$f":"$AW$1*('OVERALL TARGET'!BC6-'OVERALL TARGET'!BC7-'OVERALL TARGET'!BC10-'OVERALL TARGET'!BC26-'OVERALL TARGET'!BC27-'OVERALL TARGET'!BC31)*3.6/41.868","v":0},{"$f":"$AW$1*('OVERALL TARGET'!BD6-'OVERALL TARGET'!BD7-'OVERALL TARGET'!BD10-'OVERALL TARGET'!BD26-'OVERALL TARGET'!BD27-'OVERALL TARGET'!BD31)*3.6/41.868","v":0},{"$f":"$AW$1*('OVERALL TARGET'!BE6-'OVERALL TARGET'!BE7-'OVERALL TARGET'!BE10-'OVERALL TARGET'!BE26-'OVERALL TARGET'!BE27-'OVERALL TARGET'!BE31)*3.6/41.868","v":0},{"$f":"$AW$1*('OVERALL TARGET'!BF6-'OVERALL TARGET'!BF7-'OVERALL TARGET'!BF10-'OVERALL TARGET'!BF26-'OVERALL TARGET'!BF27-'OVERALL TARGET'!BF31)*3.6/41.868","v":0},{"$f":"$AW$1*('OVERALL TARGET'!BG6-'OVERALL TARGET'!BG7-'OVERALL TARGET'!BG10-'OVERALL TARGET'!BG26-'OVERALL TARGET'!BG27-'OVERALL TARGET'!BG31)*3.6/41.868","v":0},{"$f":"$AW$1*('OVERALL TARGET'!BH6-'OVERALL TARGET'!BH7-'OVERALL TARGET'!BH10-'OVERALL TARGET'!BH26-'OVERALL TARGET'!BH27-'OVERALL TARGET'!BH31)*3.6/41.868","v":0},{"$f":"$AW$1*('OVERALL TARGET'!BI6-'OVERALL TARGET'!BI7-'OVERALL TARGET'!BI10-'OVERALL TARGET'!BI26-'OVERALL TARGET'!BI27-'OVERALL TARGET'!BI31)*3.6/41.868","v":0},{"$f":"$AW$1*('OVERALL TARGET'!BJ6-'OVERALL TARGET'!BJ7-'OVERALL TARGET'!BJ10-'OVERALL TARGET'!BJ26-'OVERALL TARGET'!BJ27-'OVERALL TARGET'!BJ31)*3.6/41.868","v":0},{"$f":"$AW$1*('OVERALL TARGET'!BK6-'OVERALL TARGET'!BK7-'OVERALL TARGET'!BK10-'OVERALL TARGET'!BK26-'OVERALL TARGET'!BK27-'OVERALL TARGET'!BK31)*3.6/41.868","v":0},{"$f":"$AW$1*('OVERALL TARGET'!BL6-'OVERALL TARGET'!BL7-'OVERALL TARGET'!BL10-'OVERALL TARGET'!BL26-'OVERALL TARGET'!BL27-'OVERALL TARGET'!BL31)*3.6/41.868","v":0},{"$f":"$AW$1*('OVERALL TARGET'!BM6-'OVERALL TARGET'!BM7-'OVERALL TARGET'!BM10-'OVERALL TARGET'!BM26-'OVERALL TARGET'!BM27-'OVERALL TARGET'!BM31)*3.6/41.868","v":0},{"$f":"$AW$1*('OVERALL TARGET'!BN6-'OVERALL TARGET'!BN7-'OVERALL TARGET'!BN10-'OVERALL TARGET'!BN26-'OVERALL TARGET'!BN27-'OVERALL TARGET'!BN31)*3.6/41.868","v":0},{"$f":"$AW$1*('OVERALL TARGET'!BO6-'OVERALL TARGET'!BO7-'OVERALL TARGET'!BO10-'OVERALL TARGET'!BO26-'OVERALL TARGET'!BO27-'OVERALL TARGET'!BO31)*3.6/41.868","v":0},{"$f":"$AW$1*('OVERALL TARGET'!BP6-'OVERALL TARGET'!BP7-'OVERALL TARGET'!BP10-'OVERALL TARGET'!BP26-'OVERALL TARGET'!BP27-'OVERALL TARGET'!BP31)*3.6/41.868","v":0}]
["Total (RES-E numerator)",null,{"$f":"SUM(C7:C11)","v":0},{"$f":"SUM(D7:D11)","v":0},0,0,0,0,0,0,0,0,0,0,0,0,0,0,0,{"$f":"SUM(T7:T11)","v":0},{"$f":"SUM(U7:U11)","v":0},{"$f":"SUM(V7:V11)","v":0},{"$f":"SUM(W7:W11)","v":0},{"$f":"SUM(X7:X11)","v":0},0,0,0,0,0,0,{"$f":"SUM(AE7:AE11)","v":0},0,0,0,0,0,0,0,0,0,0,0,0,0,0,0,0,0,0]
["Notes: Hydro is normalised and excluding pumping. Wind is normalised. Solar includes solar photovoltaics and solar thermal generation. All other renewables includes electricity generation from gaseous and liquid biofuels, renewable municipal waste, geothermal, and tide, wave & ocean."]
["Electricity generation from all sources"]
["Total (RES-E denominator)",null,{"$f":"$AW$1*'OVERALL TARGET'!V34*3.6/41.868","v":0},{"$f":"$AW$1*'OVERALL TARGET'!W34*3.6/41.868","v":0},{"$f":"$AW$1*'OVERALL TARGET'!X34*3.6/41.868","v":0},{"$f":"$AW$1*'OVERALL TARGET'!Y34*3.6/41.868","v":0},{"$f":"$AW$1*'OVERALL TARGET'!Z34*3.6/41.868","v":0},{"$f":"$AW$1*'OVERALL TARGET'!AA34*3.6/41.868","v":0},{"$f":"$AW$1*'OVERALL TARGET'!AB34*3.6/41.868","v":0},{"$f":"$AW$1*'OVERALL TARGET'!AC34*3.6/41.868","v":0},{"$f":"$AW$1*'OVERALL TARGET'!AD34*3.6/41.868","v":0},{"$f":"$AW$1*'OVERALL TARGET'!AE34*3.6/41.868","v":0},{"$f":"$AW$1*'OVERALL TARGET'!AF34*3.6/41.868","v":0},{"$f":"$AW$1*'OVERALL TARGET'!AG34*3.6/41.868","v":0},{"$f":"$AW$1*'OVERALL TARGET'!AH34*3.6/41.868","v":0},{"$f":"$AW$1*'OVERALL TARGET'!AI34*3.6/41.868","v":0},{"$f":"$AW$1*'OVERALL TARGET'!AJ34*3.6/41.868","v":0},{"$f":"$AW$1*'OVERALL TARGET'!AK34*3.6/41.868","v":0},{"$f":"$AW$1*'OVERALL TARGET'!AL34*3.6/41.868","v":0},{"$f":"$AW$1*'OVERALL TARGET'!AM34*3.6/41.868","v":0},{"$f":"$AW$1*'OVERALL TARGET'!AN34*3.6/41.868","v":0},{"$f":"$AW$1*'OVERALL TARGET'!AO34*3.6/41.868","v":0},{"$f":"$AW$1*'OVERALL TARGET'!AP34*3.6/41.868","v":0},{"$f":"$AW$1*'OVERALL TARGET'!AQ34*3.6/41.868","v":0},{"$f":"$AW$1*'OVERALL TARGET'!AR34*3.6/41.868","v":0},{"$f":"$AW$1*'OVERALL TARGET'!AS34*3.6/41.868","v":0},{"$f":"$AW$1*'OVERALL TARGET'!AT34*3.6/41.868","v":0},{"$f":"$AW$1*'OVERALL TARGET'!AU34*3.6/41.868","v":0},{"$f":"$AW$1*'OVERALL TARGET'!AV34*3.6/41.868","v":0},{"$f":"$AW$1*'OVERALL TARGET'!AW34*3.6/41.868","v":0},{"$f":"$AW$1*'OVERALL TARGET'!AX34*3.6/41.868","v":0},{"$f":"$AW$1*'OVERALL TARGET'!AY34*3.6/41.868","v":0},{"$f":"$AW$1*'OVERALL TARGET'!AZ34*3.6/41.868","v":0},{"$f":"$AW$1*'OVERALL TARGET'!BA34*3.6/41.868","v":0},{"$f":"$AW$1*'OVERALL TARGET'!BB34*3.6/41.868","v":0},{"$f":"$AW$1*'OVERALL TARGET'!BC34*3.6/41.868","v":0},{"$f":"$AW$1*'OVERALL TARGET'!BD34*3.6/41.868","v":0},{"$f":"$AW$1*'OVERALL TARGET'!BE34*3.6/41.868","v":0},{"$f":"$AW$1*'OVERALL TARGET'!BF34*3.6/41.868","v":0},{"$f":"$AW$1*'OVERALL TARGET'!BG34*3.6/41.868","v":0},{"$f":"$AW$1*'OVERALL TARGET'!BH34*3.6/41.868","v":0},{"$f":"$AW$1*'OVERALL TARGET'!BI34*3.6/41.868","v":0},{"$f":"$AW$1*'OVERALL TARGET'!BJ34*3.6/41.868","v":0},{"$f":"$AW$1*'OVERALL TARGET'!BK34*3.6/41.868","v":0},{"$f":"$AW$1*'OVERALL TARGET'!BL34*3.6/41.868","v":0},{"$f":"$AW$1*'OVERALL TARGET'!BM34*3.6/41.868","v":0},{"$f":"$AW$1*'OVERALL TARGET'!BN34*3.6/41.868","v":0},{"$f":"$AW$1*'OVERALL TARGET'!BO34*3.6/41.868","v":0},{"$f":"$AW$1*'OVERALL TARGET'!BP34*3.6/41.868","v":0}]
["RES-E [%]",null,{"$f":"IF(C15>0,C12/C15,\"\")","v":""},"","","","","","","","","","","","","","","","",{"$f":"IF(T15>0,T12/T15,\"\")","v":""},{"$f":"IF(U15>0,U12/U15,\"\")","v":""},{"$f":"IF(V15>0,V12/V15,\"\")","v":""},{"$f":"IF(W15>0,W12/W15,\"\")","v":""},{"$f":"IF(X15>0,X12/X15,\"\")","v":""},"","","","","","",{"$f":"IF(AE15>0,AE12/AE15,\"\")","v":""},"","","","","","","","","","","","","","","","","",""]
[]
["Transport"]
["Ren. electricity in road transport",null,{"$f":"$AW$1*TRANSPORT!V99","v":0},{"$f":"$AW$1*TRANSPORT!W99","v":0},{"$f":"$AW$1*TRANSPORT!X99","v":0},{"$f":"$AW$1*TRANSPORT!Y99","v":0},{"$f":"$AW$1*TRANSPORT!Z99","v":0},{"$f":"$AW$1*TRANSPORT!AA99","v":0},{"$f":"$AW$1*TRANSPORT!AB99","v":0},{"$f":"$AW$1*TRANSPORT!AC99","v":0},{"$f":"$AW$1*TRANSPORT!AD99","v":0},{"$f":"$AW$1*TRANSPORT!AE99","v":0},{"$f":"$AW$1*TRANSPORT!AF99","v":0},{"$f":"$AW$1*TRANSPORT!AG99","v":0},{"$f":"$AW$1*TRANSPORT!AH99","v":0},{"$f":"$AW$1*TRANSPORT!AI99","v":0},{"$f":"$AW$1*TRANSPORT!AJ99","v":0},{"$f":"$AW$1*TRANSPORT!AK99","v":0},{"$f":"$AW$1*TRANSPORT!AL99","v":0},{"$f":"$AW$1*TRANSPORT!AM99","v":0},{"$f":"$AW$1*TRANSPORT!AN99","v":0},{"$f":"$AW$1*TRANSPORT!AO99","v":0},{"$f":"$AW$1*TRANSPORT!AP99","v":0},{"$f":"$AW$1*TRANSPORT!AQ99","v":0},{"$f":"$AW$1*TRANSPORT!AR99","v":0},{"$f":"$AW$1*TRANSPORT!AS99","v":0},{"$f":"$AW$1*TRANSPORT!AT99","v":0},{"$f":"$AW$1*TRANSPORT!AU99","v":0},{"$f":"$AW$1*TRANSPORT!AV99","v":0},{"$f":"$AW$1*TRANSPORT!AW99","v":0},{"$f":"$AW$1*TRANSPORT!AX99","v":0},{"$f":"$AW$1*TRANSPORT!AY99","v":0},{"$f":"$AW$1*TRANSPORT!AZ99","v":0},{"$f":"$AW$1*TRANSPORT!BA99","v":0},{"$f":"$AW$1*TRANSPORT!BB99","v":0},{"$f":"$AW$1*TRANSPORT!BC99","v":0},{"$f":"$AW$1*TRANSPORT!BD99","v":0},{"$f":"$AW$1*TRANSPORT!BE99","v":0},{"$f":"$AW$1*TRANSPORT!BF99","v":0},{"$f":"$AW$1*TRANSPORT!BG99","v":0},{"$f":"$AW$1*TRANSPORT!BH99","v":0},{"$f":"$AW$1*TRANSPORT!BI99","v":0},{"$f":"$AW$1*TRANSPORT!BJ99","v":0},{"$f":"$AW$1*TRANSPORT!BK99","v":0},{"$f":"$AW$1*TRANSPORT!BL99","v":0},{"$f":"$AW$1*TRANSPORT!BM99","v":0},{"$f":"$AW$1*TRANSPORT!BN99","v":0},{"$f":"$AW$1*TRANSPORT!BO99","v":0},{"$f":"$AW$1*TRANSPORT!BP99","v":0}]
["Ren. electricity in rail transport",null,{"$f":"$AW$1*TRANSPORT!V104","v":0},{"$f":"$AW$1*TRANSPORT!W104","v":0},{"$f":"$AW$1*TRANSPORT!X104","v":0},{"$f":"$AW$1*TRANSPORT!Y104","v":0},{"$f":"$AW$1*TRANSPORT!Z104","v":0},{"$f":"$AW$1*TRANSPORT!AA104","v":0},{"$f":"$AW$1*TRANSPORT!AB104","v":0},{"$f":"$AW$1*TRANSPORT!AC104","v":0},{"$f":"$AW$1*TRANSPORT!AD104","v":0},{"$f":"$AW$1*TRANSPORT!AE104","v":0},{"$f":"$AW$1*TRANSPORT!AF104","v":0},{"$f":"$AW$1*TRANSPORT!AG104","v":0},{"$f":"$AW$1*TRANSPORT!AH104","v":0},{"$f":"$AW$1*TRANSPORT!AI104","v":0},{"$f":"$AW$1*TRANSPORT!AJ104","v":0},{"$f":"$AW$1*TRANSPORT!AK104","v":0},{"$f":"$AW$1*TRANSPORT!AL104","v":0},{"$f":"$AW$1*TRANSPORT!AM104","v":0},{"$f":"$AW$1*TRANSPORT!AN104","v":0},{"$f":"$AW$1*TRANSPORT!AO104","v":0},{"$f":"$AW$1*TRANSPORT!AP104","v":0},{"$f":"$AW$1*TRANSPORT!AQ104","v":0},{"$f":"$AW$1*TRANSPORT!AR104","v":0},{"$f":"$AW$1*TRANSPORT!AS104","v":0},{"$f":"$AW$1*TRANSPORT!AT104","v":0},{"$f":"$AW$1*TRANSPORT!AU104","v":0},{"$f":"$AW$1*TRANSPORT!AV104","v":0},{"$f":"$AW$1*TRANSPORT!AW104","v":0},{"$f":"$AW$1*TRANSPORT!AX104","v":0},{"$f":"$AW$1*TRANSPORT!AY104","v":0},{"$f":"$AW$1*TRANSPORT!AZ104","v":0},{"$f":"$AW$1*TRANSPORT!BA104","v":0},{"$f":"$AW$1*TRANSPORT!BB104","v":0},{"$f":"$AW$1*TRANSPORT!BC104","v":0},{"$f":"$AW$1*TRANSPORT!BD104","v":0},{"$f":"$AW$1*TRANSPORT!BE104","v":0},{"$f":"$AW$1*TRANSPORT!BF104","v":0},{"$f":"$AW$1*TRANSPORT!BG104","v":0},{"$f":"$AW$1*TRANSPORT!BH104","v":0},{"$f":"$AW$1*TRANSPORT!BI104","v":0},{"$f":"$AW$1*TRANSPORT!BJ104","v":0},{"$f":"$AW$1*TRANSPORT!BK104","v":0},{"$f":"$AW$1*TRANSPORT!BL104","v":0},{"$f":"$AW$1*TRANSPORT!BM104","v":0},{"$f":"$AW$1*TRANSPORT!BN104","v":0},{"$f":"$AW$1*TRANSPORT!BO104","v":0},{"$f":"$AW$1*TRANSPORT!BP104","v":0}]
["Ren. electricity in all other transport modes",null,{"$f":"$AW$1*TRANSPORT!V107","v":0},{"$f":"$AW$1*TRANSPORT!W107","v":0},{"$f":"$AW$1*TRANSPORT!X107","v":0},{"$f":"$AW$1*TRANSPORT!Y107","v":0},{"$f":"$AW$1*TRANSPORT!Z107","v":0},{"$f":"$AW$1*TRANSPORT!AA107","v":0},{"$f":"$AW$1*TRANSPORT!AB107","v":0},{"$f":"$AW$1*TRANSPORT!AC107","v":0},{"$f":"$AW$1*TRANSPORT!AD107","v":0},{"$f":"$AW$1*TRANSPORT!AE107","v":0},{"$f":"$AW$1*TRANSPORT!AF107","v":0},{"$f":"$AW$1*TRANSPORT!AG107","v":0},{"$f":"$AW$1*TRANSPORT!AH107","v":0},{"$f":"$AW$1*TRANSPORT!AI107","v":0},{"$f":"$AW$1*TRANSPORT!AJ107","v":0},{"$f":"$AW$1*TRANSPORT!AK107","v":0},{"$f":"$AW$1*TRANSPORT!AL107","v":0},{"$f":"$AW$1*TRANSPORT!AM107","v":0},{"$f":"$AW$1*TRANSPORT!AN107","v":0},{"$f":"$AW$1*TRANSPORT!AO107","v":0},{"$f":"$AW$1*TRANSPORT!AP107","v":0},{"$f":"$AW$1*TRANSPORT!AQ107","v":0},{"$f":"$AW$1*TRANSPORT!AR107","v":0},{"$f":"$AW$1*TRANSPORT!AS107","v":0},{"$f":"$AW$1*TRANSPORT!AT107","v":0},{"$f":"$AW$1*TRANSPORT!AU107","v":0},{"$f":"$AW$1*TRANSPORT!AV107","v":0},{"$f":"$AW$1*TRANSPORT!AW107","v":0},{"$f":"$AW$1*TRANSPORT!AX107","v":0},{"$f":"$AW$1*TRANSPORT!AY107","v":0},{"$f":"$AW$1*TRANSPORT!AZ107","v":0},{"$f":"$AW$1*TRANSPORT!BA107","v":0},{"$f":"$AW$1*TRANSPORT!BB107","v":0},{"$f":"$AW$1*TRANSPORT!BC107","v":0},{"$f":"$AW$1*TRANSPORT!BD107","v":0},{"$f":"$AW$1*TRANSPORT!BE107","v":0},{"$f":"$AW$1*TRANSPORT!BF107","v":0},{"$f":"$AW$1*TRANSPORT!BG107","v":0},{"$f":"$AW$1*TRANSPORT!BH107","v":0},{"$f":"$AW$1*TRANSPORT!BI107","v":0},{"$f":"$AW$1*TRANSPORT!BJ107","v":0},{"$f":"$AW$1*TRANSPORT!BK107","v":0},{"$f":"$AW$1*TRANSPORT!BL107","v":0},{"$f":"$AW$1*TRANSPORT!BM107","v":0},{"$f":"$AW$1*TRANSPORT!BN107","v":0},{"$f":"$AW$1*TRANSPORT!BO107","v":0},{"$f":"$AW$1*TRANSPORT!BP107","v":0}]
["Compliant biofuels*",null,{"$f":"$AW$1*SUM(TRANSPORT!V35:V37,TRANSPORT!V39:V41)","v":0},{"$f":"$AW$1*SUM(TRANSPORT!W35:W37,TRANSPORT!W39:W41)","v":0},{"$f":"$AW$1*SUM(TRANSPORT!X35:X37,TRANSPORT!X39:X41)","v":0},{"$f":"$AW$1*SUM(TRANSPORT!Y35:Y37,TRANSPORT!Y39:Y41)","v":0},{"$f":"$AW$1*SUM(TRANSPORT!Z35:Z37,TRANSPORT!Z39:Z41)","v":0},{"$f":"$AW$1*SUM(TRANSPORT!AA35:AA37,TRANSPORT!AA39:AA41)","v":0},{"$f":"$AW$1*SUM(TRANSPORT!AB35:AB37,TRANSPORT!AB39:AB41)","v":0},{"$f":"$AW$1*TRANSPORT!AC58","v":0},{"$f":"$AW$1*TRANSPORT!AD58","v":0},{"$f":"$AW$1*TRANSPORT!AE58","v":0},{"$f":"$AW$1*TRANSPORT!AF58","v":0},{"$f":"$AW$1*TRANSPORT!AG58","v":0},{"$f":"$AW$1*TRANSPORT!AH58","v":0},{"$f":"$AW$1*TRANSPORT!AI58","v":0},{"$f":"$AW$1*TRANSPORT!AJ58","v":0},{"$f":"$AW$1*TRANSPORT!AK58","v":0},{"$f":"$AW$1*TRANSPORT!AL58","v":0},{"$f":"$AW$1*TRANSPORT!AM58","v":0},{"$f":"$AW$1*TRANSPORT!AN58","v":0},{"$f":"$AW$1*TRANSPORT!AO58","v":0},{"$f":"$AW$1*TRANSPORT!AP58","v":0},{"$f":"$AW$1*TRANSPORT!AQ58","v":0},{"$f":"$AW$1*TRANSPORT!AR58","v":0},{"$f":"$AW$1*TRANSPORT!AS58","v":0},{"$f":"$AW$1*TRANSPORT!AT58","v":0},{"$f":"$AW$1*TRANSPORT!AU58","v":0},{"$f":"$AW$1*TRANSPORT!AV58","v":0},{"$f":"$AW$1*TRANSPORT!AW58","v":0},{"$f":"$AW$1*TRANSPORT!AX58","v":0},{"$f":"$AW$1*TRANSPORT!AY58","v":0},{"$f":"$AW$1*TRANSPORT!AZ58","v":0},{"$f":"$AW$1*TRANSPORT!BA58","v":0},{"$f":"$AW$1*TRANSPORT!BB58","v":0},{"$f":"$AW$1*TRANSPORT!BC58","v":0},{"$f":"$AW$1*TRANSPORT!BD58","v":0},{"$f":"$AW$1*TRANSPORT!BE58","v":0},{"$f":"$AW$1*TRANSPORT!BF58","v":0},{"$f":"$AW$1*TRANSPORT!BG58","v":0},{"$f":"$AW$1*TRANSPORT!BH58","v":0},{"$f":"$AW$1*TRANSPORT!BI58","v":0},{"$f":"$AW$1*TRANSPORT!BJ58","v":0},{"$f":"$AW$1*TRANSPORT!BK58","v":0},{"$f":"$AW$1*TRANSPORT!BL58","v":0},{"$f":"$AW$1*TRANSPORT!BM58","v":0},{"$f":"$AW$1*TRANSPORT!BN58","v":0},{"$f":"$AW$1*TRANSPORT!BO58","v":0},{"$f":"$AW$1*TRANSPORT!BP58","v":0}]
[null,"Annex IX","û","û","û","û","û","û","û",{"$f":"$AW$1*TRANSPORT!AC59","v":0},{"$f":"$AW$1*TRANSPORT!AD59","v":0},{"$f":"$AW$1*TRANSPORT!AE59","v":0},{"$f":"$AW$1*TRANSPORT!AF59","v":0},{"$f":"$AW$1*TRANSPORT!AG59","v":0},{"$f":"$AW$1*TRANSPORT!AH59","v":0},{"$f":"$AW$1*TRANSPORT!AI59","v":0},{"$f":"$AW$1*TRANSPORT!AJ59","v":0},{"$f":"$AW$1*TRANSPORT!AK59","v":0},{"$f":"$AW$1*TRANSPORT!AL59","v":0},{"$f":"$AW$1*TRANSPORT!AM59","v":0},{"$f":"$AW$1*TRANSPORT!AN59","v":0},{"$f":"$AW$1*TRANSPORT!AO59","v":0},{"$f":"$AW$1*TRANSPORT!AP59","v":0},{"$f":"$AW$1*TRANSPORT!AQ59","v":0},{"$f":"$AW$1*TRANSPORT!AR59","v":0},{"$f":"$AW$1*TRANSPORT!AS59","v":0},{"$f":"$AW$1*TRANSPORT!AT59","v":0},{"$f":"$AW$1*TRANSPORT!AU59","v":0},{"$f":"$AW$1*TRANSPORT!AV59","v":0},{"$f":"$AW$1*TRANSPORT!AW59","v":0},{"$f":"$AW$1*TRANSPORT!AX59","v":0},{"$f":"$AW$1*TRANSPORT!AY59","v":0},{"$f":"$AW$1*TRANSPORT!AZ59","v":0},{"$f":"$AW$1*TRANSPORT!BA59","v":0},{"$f":"$AW$1*TRANSPORT!BB59","v":0},{"$f":"$AW$1*TRANSPORT!BC59","v":0},{"$f":"$AW$1*TRANSPORT!BD59","v":0},{"$f":"$AW$1*TRANSPORT!BE59","v":0},{"$f":"$AW$1*TRANSPORT!BF59","v":0},{"$f":"$AW$1*TRANSPORT!BG59","v":0},{"$f":"$AW$1*TRANSPORT!BH59","v":0},{"$f":"$AW$1*TRANSPORT!BI59","v":0},{"$f":"$AW$1*TRANSPORT!BJ59","v":0},{"$f":"$AW$1*TRANSPORT!BK59","v":0},{"$f":"$AW$1*TRANSPORT!BL59","v":0},{"$f":"$AW$1*TRANSPORT!BM59","v":0},{"$f":"$AW$1*TRANSPORT!BN59","v":0},{"$f":"$AW$1*TRANSPORT!BO59","v":0},{"$f":"$AW$1*TRANSPORT!BP59","v":0}]
[null,"From food and feed crops","û","û","û","û","û","û","û",{"$f":"$AW$1*TRANSPORT!AC90","v":0},{"$f":"$AW$1*TRANSPORT!AD90","v":0},{"$f":"$AW$1*TRANSPORT!AE90","v":0},{"$f":"$AW$1*TRANSPORT!AF90","v":0},{"$f":"$AW$1*TRANSPORT!AG90","v":0},{"$f":"$AW$1*TRANSPORT!AH90","v":0},{"$f":"$AW$1*TRANSPORT!AI90","v":0},{"$f":"$AW$1*TRANSPORT!AJ90","v":0},{"$f":"$AW$1*TRANSPORT!AK90","v":0},{"$f":"$AW$1*TRANSPORT!AL90","v":0},{"$f":"$AW$1*TRANSPORT!AM90","v":0},{"$f":"$AW$1*TRANSPORT!AN90","v":0},{"$f":"$AW$1*TRANSPORT!AO90","v":0},{"$f":"$AW$1*TRANSPORT!AP90","v":0},{"$f":"$AW$1*TRANSPORT!AQ90","v":0},{"$f":"$AW$1*TRANSPORT!AR90","v":0},{"$f":"$AW$1*TRANSPORT!AS90","v":0},{"$f":"$AW$1*TRANSPORT!AT90","v":0},{"$f":"$AW$1*TRANSPORT!AU90","v":0},{"$f":"$AW$1*TRANSPORT!AV90","v":0},{"$f":"$AW$1*TRANSPORT!AW90","v":0},{"$f":"$AW$1*TRANSPORT!AX90","v":0},{"$f":"$AW$1*TRANSPORT!AY90","v":0},{"$f":"$AW$1*TRANSPORT!AZ90","v":0},{"$f":"$AW$1*TRANSPORT!BA90","v":0},{"$f":"$AW$1*TRANSPORT!BB90","v":0},{"$f":"$AW$1*TRANSPORT!BC90","v":0},{"$f":"$AW$1*TRANSPORT!BD90","v":0},{"$f":"$AW$1*TRANSPORT!BE90","v":0},{"$f":"$AW$1*TRANSPORT!BF90","v":0},{"$f":"$AW$1*TRANSPORT!BG90","v":0},{"$f":"$AW$1*TRANSPORT!BH90","v":0},{"$f":"$AW$1*TRANSPORT!BI90","v":0},{"$f":"$AW$1*TRANSPORT!BJ90","v":0},{"$f":"$AW$1*TRANSPORT!BK90","v":0},{"$f":"$AW$1*TRANSPORT!BL90","v":0},{"$f":"$AW$1*TRANSPORT!BM90","v":0},{"$f":"$AW$1*TRANSPORT!BN90","v":0},{"$f":"$AW$1*TRANSPORT!BO90","v":0},{"$f":"$AW$1*TRANSPORT!BP90","v":0}]
[null,"other compliant biofuels","û","û","û","û","û","û","û",{"$f":"$AW$1*TRANSPORT!AC92","v":0},{"$f":"$AW$1*TRANSPORT!AD92","v":0},{"$f":"$AW$1*TRANSPORT!AE92","v":0},{"$f":"$AW$1*TRANSPORT!AF92","v":0},{"$f":"$AW$1*TRANSPORT!AG92","v":0},{"$f":"$AW$1*TRANSPORT!AH92","v":0},{"$f":"$AW$1*TRANSPORT!AI92","v":0},{"$f":"$AW$1*TRANSPORT!AJ92","v":0},{"$f":"$AW$1*TRANSPORT!AK92","v":0},{"$f":"$AW$1*TRANSPORT!AL92","v":0},{"$f":"$AW$1*TRANSPORT!AM92","v":0},{"$f":"$AW$1*TRANSPORT!AN92","v":0},{"$f":"$AW$1*TRANSPORT!AO92","v":0},{"$f":"$AW$1*TRANSPORT!AP92","v":0},{"$f":"$AW$1*TRANSPORT!AQ92","v":0},{"$f":"$AW$1*TRANSPORT!AR92","v":0},{"$f":"$AW$1*TRANSPORT!AS92","v":0},{"$f":"$AW$1*TRANSPORT!AT92","v":0},{"$f":"$AW$1*TRANSPORT!AU92","v":0},{"$f":"$AW$1*TRANSPORT!AV92","v":0},{"$f":"$AW$1*TRANSPORT!AW92","v":0},{"$f":"$AW$1*TRANSPORT!AX92","v":0},{"$f":"$AW$1*TRANSPORT!AY92","v":0},{"$f":"$AW$1*TRANSPORT!AZ92","v":0},{"$f":"$AW$1*TRANSPORT!BA92","v":0},{"$f":"$AW$1*TRANSPORT!BB92","v":0},{"$f":"$AW$1*TRANSPORT!BC92","v":0},{"$f":"$AW$1*TRANSPORT!BD92","v":0},{"$f":"$AW$1*TRANSPORT!BE92","v":0},{"$f":"$AW$1*TRANSPORT!BF92","v":0},{"$f":"$AW$1*TRANSPORT!BG92","v":0},{"$f":"$AW$1*TRANSPORT!BH92","v":0},{"$f":"$AW$1*TRANSPORT!BI92","v":0},{"$f":"$AW$1*TRANSPORT!BJ92","v":0},{"$f":"$AW$1*TRANSPORT!BK92","v":0},{"$f":"$AW$1*TRANSPORT!BL92","v":0},{"$f":"$AW$1*TRANSPORT!BM92","v":0},{"$f":"$AW$1*TRANSPORT!BN92","v":0},{"$f":"$AW$1*TRANSPORT!BO92","v":0},{"$f":"$AW$1*TRANSPORT!BP92","v":0}]
["Non-compliant biofuels",null,0,0,0,0,0,0,0,{"$f":"$AW$1*(SUM(TRANSPORT!AC35:AC37,TRANSPORT!AC39:AC41,TRANSPORT!AC46:AC49)-TRANSPORT!AC58)","v":0},{"$f":"$AW$1*(SUM(TRANSPORT!AD35:AD37,TRANSPORT!AD39:AD41,TRANSPORT!AD46:AD49)-TRANSPORT!AD58)","v":0},{"$f":"$AW$1*(SUM(TRANSPORT!AE35:AE37,TRANSPORT!AE39:AE41,TRANSPORT!AE46:AE49)-TRANSPORT!AE58)","v":0},{"$f":"$AW$1*(SUM(TRANSPORT!AF35:AF37,TRANSPORT!AF39:AF41,TRANSPORT!AF46:AF49)-TRANSPORT!AF58)","v":0},{"$f":"$AW$1*(SUM(TRANSPORT!AG35:AG37,TRANSPORT!AG39:AG41,TRANSPORT!AG46:AG49)-TRANSPORT!AG58)","v":0},{"$f":"$AW$1*(SUM(TRANSPORT!AH35:AH37,TRANSPORT!AH39:AH41,TRANSPORT!AH46:AH49)-TRANSPORT!AH58)","v":0},{"$f":"$AW$1*(SUM(TRANSPORT!AI35:AI37,TRANSPORT!AI39:AI41,TRANSPORT!AI46:AI49)-TRANSPORT!AI58)","v":0},{"$f":"$AW$1*(SUM(TRANSPORT!AJ35:AJ37,TRANSPORT!AJ39:AJ41,TRANSPORT!AJ46:AJ49)-TRANSPORT!AJ58)","v":0},{"$f":"$AW$1*(SUM(TRANSPORT!AK35:AK37,TRANSPORT!AK39:AK41,TRANSPORT!AK46:AK49)-TRANSPORT!AK58)","v":0},{"$f":"$AW$1*(SUM(TRANSPORT!AL35:AL37,TRANSPORT!AL39:AL41,TRANSPORT!AL46:AL49)-TRANSPORT!AL58)","v":0},{"$f":"$AW$1*(SUM(TRANSPORT!AM35:AM37,TRANSPORT!AM39:AM41,TRANSPORT!AM46:AM49)-TRANSPORT!AM58)","v":0},{"$f":"$AW$1*(SUM(TRANSPORT!AN35:AN37,TRANSPORT!AN39:AN41,TRANSPORT!AN46:AN49)-TRANSPORT!AN58)","v":0},{"$f":"$AW$1*(SUM(TRANSPORT!AO35:AO37,TRANSPORT!AO39:AO41,TRANSPORT!AO46:AO49)-TRANSPORT!AO58)","v":0},{"$f":"$AW$1*(SUM(TRANSPORT!AP35:AP37,TRANSPORT!AP39:AP41,TRANSPORT!AP46:AP49)-TRANSPORT!AP58)","v":0},{"$f":"$AW$1*(SUM(TRANSPORT!AQ35:AQ37,TRANSPORT!AQ39:AQ41,TRANSPORT!AQ46:AQ49)-TRANSPORT!AQ58)","v":0},{"$f":"$AW$1*(SUM(TRANSPORT!AR35:AR37,TRANSPORT!AR39:AR41,TRANSPORT!AR46:AR49)-TRANSPORT!AR58)","v":0},{"$f":"$AW$1*(SUM(TRANSPORT!AS35:AS37,TRANSPORT!AS39:AS41,TRANSPORT!AS46:AS49)-TRANSPORT!AS58)","v":0},{"$f":"$AW$1*(SUM(TRANSPORT!AT35:AT37,TRANSPORT!AT39:AT41,TRANSPORT!AT46:AT49)-TRANSPORT!AT58)","v":0},{"$f":"$AW$1*(SUM(TRANSPORT!AU35:AU37,TRANSPORT!AU39:AU41,TRANSPORT!AU46:AU49)-TRANSPORT!AU58)","v":0},{"$f":"$AW$1*(SUM(TRANSPORT!AV35:AV37,TRANSPORT!AV39:AV41,TRANSPORT!AV46:AV49)-TRANSPORT!AV58)","v":0},{"$f":"$AW$1*(SUM(TRANSPORT!AW35:AW37,TRANSPORT!AW39:AW41,TRANSPORT!AW46:AW49)-TRANSPORT!AW58)","v":0},{"$f":"$AW$1*(SUM(TRANSPORT!AX35:AX37,TRANSPORT!AX39:AX41,TRANSPORT!AX46:AX49)-TRANSPORT!AX58)","v":0},{"$f":"$AW$1*(SUM(TRANSPORT!AY35:AY37,TRANSPORT!AY39:AY41,TRANSPORT!AY46:AY49)-TRANSPORT!AY58)","v":0},{"$f":"$AW$1*(SUM(TRANSPORT!AZ35:AZ37,TRANSPORT!AZ39:AZ41,TRANSPORT!AZ46:AZ49)-TRANSPORT!AZ58)","v":0},{"$f":"$AW$1*(SUM(TRANSPORT!BA35:BA37,TRANSPORT!BA39:BA41,TRANSPORT!BA46:BA49)-TRANSPORT!BA58)","v":0},{"$f":"$AW$1*(SUM(TRANSPORT!BB35:BB37,TRANSPORT!BB39:BB41,TRANSPORT!BB46:BB49)-TRANSPORT!BB58)","v":0},{"$f":"$AW$1*(SUM(TRANSPORT!BC35:BC37,TRANSPORT!BC39:BC41,TRANSPORT!BC46:BC49)-TRANSPORT!BC58)","v":0},{"$f":"$AW$1*(SUM(TRANSPORT!BD35:BD37,TRANSPORT!BD39:BD41,TRANSPORT!BD46:BD49)-TRANSPORT!BD58)","v":0},{"$f":"$AW$1*(SUM(TRANSPORT!BE35:BE37,TRANSPORT!BE39:BE41,TRANSPORT!BE46:BE49)-TRANSPORT!BE58)","v":0},{"$f":"$AW$1*(SUM(TRANSPORT!BF35:BF37,TRANSPORT!BF39:BF41,TRANSPORT!BF46:BF49)-TRANSPORT!BF58)","v":0},{"$f":"$AW$1*(SUM(TRANSPORT!BG35:BG37,TRANSPORT!BG39:BG41,TRANSPORT!BG46:BG49)-TRANSPORT!BG58)","v":0},{"$f":"$AW$1*(SUM(TRANSPORT!BH35:BH37,TRANSPORT!BH39:BH41,TRANSPORT!BH46:BH49)-TRANSPORT!BH58)","v":0},{"$f":"$AW$1*(SUM(TRANSPORT!BI35:BI37,TRANSPORT!BI39:BI41,TRANSPORT!BI46:BI49)-TRANSPORT!BI58)","v":0},{"$f":"$AW$1*(SUM(TRANSPORT!BJ35:BJ37,TRANSPORT!BJ39:BJ41,TRANSPORT!BJ46:BJ49)-TRANSPORT!BJ58)","v":0},{"$f":"$AW$1*(SUM(TRANSPORT!BK35:BK37,TRANSPORT!BK39:BK41,TRANSPORT!BK46:BK49)-TRANSPORT!BK58)","v":0},{"$f":"$AW$1*(SUM(TRANSPORT!BL35:BL37,TRANSPORT!BL39:BL41,TRANSPORT!BL46:BL49)-TRANSPORT!BL58)","v":0},{"$f":"$AW$1*(SUM(TRANSPORT!BM35:BM37,TRANSPORT!BM39:BM41,TRANSPORT!BM46:BM49)-TRANSPORT!BM58)","v":0},{"$f":"$AW$1*(SUM(TRANSPORT!BN35:BN37,TRANSPORT!BN39:BN41,TRANSPORT!BN46:BN49)-TRANSPORT!BN58)","v":0},{"$f":"$AW$1*(SUM(TRANSPORT!BO35:BO37,TRANSPORT!BO39:BO41,TRANSPORT!BO46:BO49)-TRANSPORT!BO58)","v":0},{"$f":"$AW$1*(SUM(TRANSPORT!BP35:BP37,TRANSPORT!BP39:BP41,TRANSPORT!BP46:BP49)-TRANSPORT!BP58)","v":0}]
["Other renewable energies",null,{"$f":"$AW$1*(TRANSPORT!V43+TRANSPORT!V46+TRANSPORT!V49)","v":0},{"$f":"$AW$1*(TRANSPORT!W43+TRANSPORT!W46+TRANSPORT!W49)","v":0},{"$f":"$AW$1*(TRANSPORT!X43+TRANSPORT!X46+TRANSPORT!X49)","v":0},{"$f":"$AW$1*(TRANSPORT!Y43+TRANSPORT!Y46+TRANSPORT!Y49)","v":0},{"$f":"$AW$1*(TRANSPORT!Z43+TRANSPORT!Z46+TRANSPORT!Z49)","v":0},{"$f":"$AW$1*(TRANSPORT!AA43+TRANSPORT!AA46+TRANSPORT!AA49)","v":0},{"$f":"$AW$1*(TRANSPORT!AB43+TRANSPORT!AB46+TRANSPORT!AB49)","v":0},{"$f":"$AW$1*(TRANSPORT!AC43+TRANSPORT!AC46+TRANSPORT!AC49)","v":0},{"$f":"$AW$1*(TRANSPORT!AD43+TRANSPORT!AD46+TRANSPORT!AD49)","v":0},{"$f":"$AW$1*(TRANSPORT!AE43+TRANSPORT!AE46+TRANSPORT!AE49)","v":0},{"$f":"$AW$1*(TRANSPORT!AF43+TRANSPORT!AF46+TRANSPORT!AF49)","v":0},{"$f":"$AW$1*(TRANSPORT!AG43+TRANSPORT!AG46+TRANSPORT!AG49)","v":0},{"$f":"$AW$1*(TRANSPORT!AH43+TRANSPORT!AH46+TRANSPORT!AH49)","v":0},{"$f":"$AW$1*(TRANSPORT!AI43+TRANSPORT!AI46+TRANSPORT!AI49)","v":0},{"$f":"$AW$1*(TRANSPORT!AJ43+TRANSPORT!AJ46+TRANSPORT!AJ49)","v":0},{"$f":"$AW$1*(TRANSPORT!AK43+TRANSPORT!AK46+TRANSPORT!AK49)","v":0},{"$f":"$AW$1*(TRANSPORT!AL43+TRANSPORT!AL46+TRANSPORT!AL49)","v":0},{"$f":"$AW$1*(TRANSPORT!AM43+TRANSPORT!AM46+TRANSPORT!AM49)","v":0},{"$f":"$AW$1*(TRANSPORT!AN43+TRANSPORT!AN46+TRANSPORT!AN49)","v":0},{"$f":"$AW$1*(TRANSPORT!AO43+TRANSPORT!AO46+TRANSPORT!AO49)","v":0},{"$f":"$AW$1*(TRANSPORT!AP43+TRANSPORT!AP46+TRANSPORT!AP49)","v":0},{"$f":"$AW$1*(TRANSPORT!AQ43+TRANSPORT!AQ46+TRANSPORT!AQ49)","v":0},{"$f":"$AW$1*(TRANSPORT!AR43+TRANSPORT!AR46+TRANSPORT!AR49)","v":0},{"$f":"$AW$1*(TRANSPORT!AS43+TRANSPORT!AS46+TRANSPORT!AS49)","v":0},{"$f":"$AW$1*(TRANSPORT!AT43+TRANSPORT!AT46+TRANSPORT!AT49)","v":0},{"$f":"$AW$1*(TRANSPORT!AU43+TRANSPORT!AU46+TRANSPORT!AU49)","v":0},{"$f":"$AW$1*(TRANSPORT!AV43+TRANSPORT!AV46+TRANSPORT!AV49)","v":0},{"$f":"$AW$1*(TRANSPORT!AW43+TRANSPORT!AW46+TRANSPORT!AW49)","v":0},{"$f":"$AW$1*(TRANSPORT!AX43+TRANSPORT!AX46+TRANSPORT!AX49)","v":0},{"$f":"$AW$1*(TRANSPORT!AY43+TRANSPORT!AY46+TRANSPORT!AY49)","v":0},{"$f":"$AW$1*(TRANSPORT!AZ43+TRANSPORT!AZ46+TRANSPORT!AZ49)","v":0},{"$f":"$AW$1*(TRANSPORT!BA43+TRANSPORT!BA46+TRANSPORT!BA49)","v":0},{"$f":"$AW$1*(TRANSPORT!BB43+TRANSPORT!BB46+TRANSPORT!BB49)","v":0},{"$f":"$AW$1*(TRANSPORT!BC43+TRANSPORT!BC46+TRANSPORT!BC49)","v":0},{"$f":"$AW$1*(TRANSPORT!BD43+TRANSPORT!BD46+TRANSPORT!BD49)","v":0},{"$f":"$AW$1*(TRANSPORT!BE43+TRANSPORT!BE46+TRANSPORT!BE49)","v":0},{"$f":"$AW$1*(TRANSPORT!BF43+TRANSPORT!BF46+TRANSPORT!BF49)","v":0},{"$f":"$AW$1*(TRANSPORT!BG43+TRANSPORT!BG46+TRANSPORT!BG49)","v":0},{"$f":"$AW$1*(TRANSPORT!BH43+TRANSPORT!BH46+TRANSPORT!BH49)","v":0},{"$f":"$AW$1*(TRANSPORT!BI43+TRANSPORT!BI46+TRANSPORT!BI49)","v":0},{"$f":"$AW$1*(TRANSPORT!BJ43+TRANSPORT!BJ46+TRANSPORT!BJ49)","v":0},{"$f":"$AW$1*(TRANSPORT!BK43+TRANSPORT!BK46+TRANSPORT!BK49)","v":0},{"$f":"$AW$1*(TRANSPORT!BL43+TRANSPORT!BL46+TRANSPORT!BL49)","v":0},{"$f":"$AW$1*(TRANSPORT!BM43+TRANSPORT!BM46+TRANSPORT!BM49)","v":0},{"$f":"$AW$1*(TRANSPORT!BN43+TRANSPORT!BN46+TRANSPORT!BN49)","v":0},{"$f":"$AW$1*(TRANSPORT!BO43+TRANSPORT!BO46+TRANSPORT!BO49)","v":0},{"$f":"$AW$1*(TRANSPORT!BP43+TRANSPORT!BP46+TRANSPORT!BP49)","v":0}]
["Total (RES-T numerator with multiplicators)",null,{"$f":"$AW$1*TRANSPORT!V113","v":0},{"$f":"$AW$1*TRANSPORT!W113","v":0},{"$f":"$AW$1*TRANSPORT!X113","v":0},{"$f":"$AW$1*TRANSPORT!Y113","v":0},{"$f":"$AW$1*TRANSPORT!Z113","v":0},{"$f":"$AW$1*TRANSPORT!AA113","v":0},{"$f":"$AW$1*TRANSPORT!AB113","v":0},{"$f":"$AW$1*TRANSPORT!AC113","v":0},{"$f":"$AW$1*TRANSPORT!AD113","v":0},{"$f":"$AW$1*TRANSPORT!AE113","v":0},{"$f":"$AW$1*TRANSPORT!AF113","v":0},{"$f":"$AW$1*TRANSPORT!AG113","v":0},{"$f":"$AW$1*TRANSPORT!AH113","v":0},{"$f":"$AW$1*TRANSPORT!AI113","v":0},{"$f":"$AW$1*TRANSPORT!AJ113","v":0},{"$f":"$AW$1*TRANSPORT!AK113","v":0},{"$f":"$AW$1*TRANSPORT!AL113","v":0},{"$f":"$AW$1*TRANSPORT!AM113","v":0},{"$f":"$AW$1*TRANSPORT!AN113","v":0},{"$f":"$AW$1*TRANSPORT!AO113","v":0},{"$f":"$AW$1*TRANSPORT!AP113","v":0},{"$f":"$AW$1*TRANSPORT!AQ113","v":0},{"$f":"$AW$1*TRANSPORT!AR113","v":0},{"$f":"$AW$1*TRANSPORT!AS113","v":0},{"$f":"$AW$1*TRANSPORT!AT113","v":0},{"$f":"$AW$1*TRANSPORT!AU113","v":0},{"$f":"$AW$1*TRANSPORT!AV113","v":0},{"$f":"$AW$1*TRANSPORT!AW113","v":0},{"$f":"$AW$1*TRANSPORT!AX113","v":0},{"$f":"$AW$1*TRANSPORT!AY113","v":0},{"$f":"$AW$1*TRANSPORT!AZ113","v":0},{"$f":"$AW$1*TRANSPORT!BA113","v":0},{"$f":"$AW$1*TRANSPORT!BB113","v":0},{"$f":"$AW$1*TRANSPORT!BC113","v":0},{"$f":"$AW$1*TRANSPORT!BD113","v":0},{"$f":"$AW$1*TRANSPORT!BE113","v":0},{"$f":"$AW$1*TRANSPORT!BF113","v":0},{"$f":"$AW$1*TRANSPORT!BG113","v":0},{"$f":"$AW$1*TRANSPORT!BH113","v":0},{"$f":"$AW$1*TRANSPORT!BI113","v":0},{"$f":"$AW$1*TRANSPORT!BJ113","v":0},{"$f":"$AW$1*TRANSPORT!BK113","v":0},{"$f":"$AW$1*TRANSPORT!BL113","v":0},{"$f":"$AW$1*TRANSPORT!BM113","v":0},{"$f":"$AW$1*TRANSPORT!BN113","v":0},{"$f":"$AW$1*TRANSPORT!BO113","v":0},{"$f":"$AW$1*TRANSPORT!BP113","v":0}]
["* In period 2004-2010 all consumed biofuels are included in this category; as of 2011 only those compliant with Directive 2009/28/EC and from 2021 onwards only those compliant with Directive 2018/2001."]
["Fuel used in transport (as defined in Article 7)"]
["Total (RES-T denominator with multiplicators)",null,{"$f":"$AW$1*TRANSPORT!V116","v":0},{"$f":"$AW$1*TRANSPORT!W116","v":0},{"$f":"$AW$1*TRANSPORT!X116","v":0},{"$f":"$AW$1*TRANSPORT!Y116","v":0},{"$f":"$AW$1*TRANSPORT!Z116","v":0},{"$f":"$AW$1*TRANSPORT!AA116","v":0},{"$f":"$AW$1*TRANSPORT!AB116","v":0},{"$f":"$AW$1*TRANSPORT!AC116","v":0},{"$f":"$AW$1*TRANSPORT!AD116","v":0},{"$f":"$AW$1*TRANSPORT!AE116","v":0},{"$f":"$AW$1*TRANSPORT!AF116","v":0},{"$f":"$AW$1*TRANSPORT!AG116","v":0},{"$f":"$AW$1*TRANSPORT!AH116","v":0},{"$f":"$AW$1*TRANSPORT!AI116","v":0},{"$f":"$AW$1*TRANSPORT!AJ116","v":0},{"$f":"$AW$1*TRANSPORT!AK116","v":0},{"$f":"$AW$1*TRANSPORT!AL116","v":0},{"$f":"$AW$1*TRANSPORT!AM116","v":0},{"$f":"$AW$1*TRANSPORT!AN116","v":0},{"$f":"$AW$1*TRANSPORT!AO116","v":0},{"$f":"$AW$1*TRANSPORT!AP116","v":0},{"$f":"$AW$1*TRANSPORT!AQ116","v":0},{"$f":"$AW$1*TRANSPORT!AR116","v":0},{"$f":"$AW$1*TRANSPORT!AS116","v":0},{"$f":"$AW$1*TRANSPORT!AT116","v":0},{"$f":"$AW$1*TRANSPORT!AU116","v":0},{"$f":"$AW$1*TRANSPORT!AV116","v":0},{"$f":"$AW$1*TRANSPORT!AW116","v":0},{"$f":"$AW$1*TRANSPORT!AX116","v":0},{"$f":"$AW$1*TRANSPORT!AY116","v":0},{"$f":"$AW$1*TRANSPORT!AZ116","v":0},{"$f":"$AW$1*TRANSPORT!BA116","v":0},{"$f":"$AW$1*TRANSPORT!BB116","v":0},{"$f":"$AW$1*TRANSPORT!BC116","v":0},{"$f":"$AW$1*TRANSPORT!BD116","v":0},{"$f":"$AW$1*TRANSPORT!BE116","v":0},{"$f":"$AW$1*TRANSPORT!BF116","v":0},{"$f":"$AW$1*TRANSPORT!BG116","v":0},{"$f":"$AW$1*TRANSPORT!BH116","v":0},{"$f":"$AW$1*TRANSPORT!BI116","v":0},{"$f":"$AW$1*TRANSPORT!BJ116","v":0},{"$f":"$AW$1*TRANSPORT!BK116","v":0},{"$f":"$AW$1*TRANSPORT!BL116","v":0},{"$f":"$AW$1*TRANSPORT!BM116","v":0},{"$f":"$AW$1*TRANSPORT!BN116","v":0},{"$f":"$AW$1*TRANSPORT!BO116","v":0},{"$f":"$AW$1*TRANSPORT!BP116","v":0}]
["Note: All calculation provisions set out in Directive 2018/2001 are applied to the total numerator and the total denominator"]
["RES-T [%]",null,{"$f":"IF(C31>0,C28/C31,\"\")","v":""},"","","","","","","","","","","","","","","","",{"$f":"IF(T31>0,T28/T31,\"\")","v":""},{"$f":"IF(U31>0,U28/U31,\"\")","v":""},{"$f":"IF(V31>0,V28/V31,\"\")","v":""},{"$f":"IF(W31>0,W28/W31,\"\")","v":""},{"$f":"IF(X31>0,X28/X31,\"\")","v":""},"","","","","","",{"$f":"IF(AE31>0,AE28/AE31,\"\")","v":""},"","","","","","","","","","","","","","","","","",""]
[]
["Heating and cooling"]
["Final energy consumption",null,{"$f":"$AW$1*('OVERALL TARGET'!V39+'OVERALL TARGET'!V41+'OVERALL TARGET'!V43+'OVERALL TARGET'!V44+'OVERALL TARGET'!V45+'OVERALL TARGET'!V46+'OVERALL TARGET'!V47+'OVERALL TARGET'!V49+'OVERALL TARGET'!V51)","v":0},{"$f":"$AW$1*('OVERALL TARGET'!W39+'OVERALL TARGET'!W41+'OVERALL TARGET'!W43+'OVERALL TARGET'!W44+'OVERALL TARGET'!W45+'OVERALL TARGET'!W46+'OVERALL TARGET'!W47+'OVERALL TARGET'!W49+'OVERALL TARGET'!W51)","v":0},{"$f":"$AW$1*('OVERALL TARGET'!X39+'OVERALL TARGET'!X41+'OVERALL TARGET'!X43+'OVERALL TARGET'!X44+'OVERALL TARGET'!X45+'OVERALL TARGET'!X46+'OVERALL TARGET'!X47+'OVERALL TARGET'!X49+'OVERALL TARGET'!X51)","v":0},{"$f":"$AW$1*('OVERALL TARGET'!Y39+'OVERALL TARGET'!Y41+'OVERALL TARGET'!Y43+'OVERALL TARGET'!Y44+'OVERALL TARGET'!Y45+'OVERALL TARGET'!Y46+'OVERALL TARGET'!Y47+'OVERALL TARGET'!Y49+'OVERALL TARGET'!Y51)","v":0},{"$f":"$AW$1*('OVERALL TARGET'!Z39+'OVERALL TARGET'!Z41+'OVERALL TARGET'!Z43+'OVERALL TARGET'!Z44+'OVERALL TARGET'!Z45+'OVERALL TARGET'!Z46+'OVERALL TARGET'!Z47+'OVERALL TARGET'!Z49+'OVERALL TARGET'!Z51)","v":0},{"$f":"$AW$1*('OVERALL TARGET'!AA39+'OVERALL TARGET'!AA41+'OVERALL TARGET'!AA43+'OVERALL TARGET'!AA44+'OVERALL TARGET'!AA45+'OVERALL TARGET'!AA46+'OVERALL TARGET'!AA47+'OVERALL TARGET'!AA49+'OVERALL TARGET'!AA51)","v":0},{"$f":"$AW$1*('OVERALL TARGET'!AB39+'OVERALL TARGET'!AB41+'OVERALL TARGET'!AB43+'OVERALL TARGET'!AB44+'OVERALL TARGET'!AB45+'OVERALL TARGET'!AB46+'OVERALL TARGET'!AB47+'OVERALL TARGET'!AB49+'OVERALL TARGET'!AB51)","v":0},{"$f":"$AW$1*('OVERALL TARGET'!AC39+'OVERALL TARGET'!AC41+'OVERALL TARGET'!AC43+'OVERALL TARGET'!AC44+'OVERALL TARGET'!AC45+'OVERALL TARGET'!AC46+'OVERALL TARGET'!AC47+'OVERALL TARGET'!AC49+'OVERALL TARGET'!AC51)","v":0},{"$f":"$AW$1*('OVERALL TARGET'!AD39+'OVERALL TARGET'!AD41+'OVERALL TARGET'!AD43+'OVERALL TARGET'!AD44+'OVERALL TARGET'!AD45+'OVERALL TARGET'!AD46+'OVERALL TARGET'!AD47+'OVERALL TARGET'!AD49+'OVERALL TARGET'!AD51)","v":0},{"$f":"$AW$1*('OVERALL TARGET'!AE39+'OVERALL TARGET'!AE41+'OVERALL TARGET'!AE43+'OVERALL TARGET'!AE44+'OVERALL TARGET'!AE45+'OVERALL TARGET'!AE46+'OVERALL TARGET'!AE47+'OVERALL TARGET'!AE49+'OVERALL TARGET'!AE51)","v":0},{"$f":"$AW$1*('OVERALL TARGET'!AF39+'OVERALL TARGET'!AF41+'OVERALL TARGET'!AF43+'OVERALL TARGET'!AF44+'OVERALL TARGET'!AF45+'OVERALL TARGET'!AF46+'OVERALL TARGET'!AF47+'OVERALL TARGET'!AF49+'OVERALL TARGET'!AF51)","v":0},{"$f":"$AW$1*('OVERALL TARGET'!AG39+'OVERALL TARGET'!AG41+'OVERALL TARGET'!AG43+'OVERALL TARGET'!AG44+'OVERALL TARGET'!AG45+'OVERALL TARGET'!AG46+'OVERALL TARGET'!AG47+'OVERALL TARGET'!AG49+'OVERALL TARGET'!AG51)","v":0},{"$f":"$AW$1*('OVERALL TARGET'!AH39+'OVERALL TARGET'!AH41+'OVERALL TARGET'!AH43+'OVERALL TARGET'!AH44+'OVERALL TARGET'!AH45+'OVERALL TARGET'!AH46+'OVERALL TARGET'!AH47+'OVERALL TARGET'!AH49+'OVERALL TARGET'!AH51)","v":0},{"$f":"$AW$1*('OVERALL TARGET'!AI39+'OVERALL TARGET'!AI41+'OVERALL TARGET'!AI43+'OVERALL TARGET'!AI44+'OVERALL TARGET'!AI45+'OVERALL TARGET'!AI46+'OVERALL TARGET'!AI47+'OVERALL TARGET'!AI49+'OVERALL TARGET'!AI51)","v":0},{"$f":"$AW$1*('OVERALL TARGET'!AJ39+'OVERALL TARGET'!AJ41+'OVERALL TARGET'!AJ43+'OVERALL TARGET'!AJ44+'OVERALL TARGET'!AJ45+'OVERALL TARGET'!AJ46+'OVERALL TARGET'!AJ47+'OVERALL TARGET'!AJ49+'OVERALL TARGET'!AJ51)","v":0},{"$f":"$AW$1*('OVERALL TARGET'!AK39+'OVERALL TARGET'!AK41+'OVERALL TARGET'!AK43+'OVERALL TARGET'!AK44+'OVERALL TARGET'!AK45+'OVERALL TARGET'!AK46+'OVERALL TARGET'!AK47+'OVERALL TARGET'!AK49+'OVERALL TARGET'!AK51)","v":0},{"$f":"$AW$1*('OVERALL TARGET'!AL39+'OVERALL TARGET'!AL41+'OVERALL TARGET'!AL43+'OVERALL TARGET'!AL44+'OVERALL TARGET'!AL45+'OVERALL TARGET'!AL46+'OVERALL TARGET'!AL47+'OVERALL TARGET'!AL49+'OVERALL TARGET'!AL51)","v":0},{"$f":"$AW$1*('OVERALL TARGET'!AM39+'OVERALL TARGET'!AM41+'OVERALL TARGET'!AM43+'OVERALL TARGET'!AM44+'OVERALL TARGET'!AM45+'OVERALL TARGET'!AM46+'OVERALL TARGET'!AM47+'OVERALL TARGET'!AM49+'OVERALL TARGET'!AM51)","v":0},{"$f":"$AW$1*('OVERALL TARGET'!AN39+'OVERALL TARGET'!AN41+'OVERALL TARGET'!AN43+'OVERALL TARGET'!AN44+'OVERALL TARGET'!AN45+'OVERALL TARGET'!AN46+'OVERALL TARGET'!AN47+'OVERALL TARGET'!AN49+'OVERALL TARGET'!AN51)","v":0},{"$f":"$AW$1*('OVERALL TARGET'!AO39+'OVERALL TARGET'!AO41+'OVERALL TARGET'!AO43+'OVERALL TARGET'!AO44+'OVERALL TARGET'!AO45+'OVERALL TARGET'!AO46+'OVERALL TARGET'!AO47+'OVERALL TARGET'!AO49+'OVERALL TARGET'!AO51)","v":0},{"$f":"$AW$1*('OVERALL TARGET'!AP39+'OVERALL TARGET'!AP41+'OVERALL TARGET'!AP43+'OVERALL TARGET'!AP44+'OVERALL TARGET'!AP45+'OVERALL TARGET'!AP46+'OVERALL TARGET'!AP47+'OVERALL TARGET'!AP49+'OVERALL TARGET'!AP51)","v":0},{"$f":"$AW$1*('OVERALL TARGET'!AQ39+'OVERALL TARGET'!AQ41+'OVERALL TARGET'!AQ43+'OVERALL TARGET'!AQ44+'OVERALL TARGET'!AQ45+'OVERALL TARGET'!AQ46+'OVERALL TARGET'!AQ47+'OVERALL TARGET'!AQ49+'OVERALL TARGET'!AQ51)","v":0},{"$f":"$AW$1*('OVERALL TARGET'!AR39+'OVERALL TARGET'!AR41+'OVERALL TARGET'!AR43+'OVERALL TARGET'!AR44+'OVERALL TARGET'!AR45+'OVERALL TARGET'!AR46+'OVERALL TARGET'!AR47+'OVERALL TARGET'!AR49+'OVERALL TARGET'!AR51)","v":0},{"$f":"$AW$1*('OVERALL TARGET'!AS39+'OVERALL TARGET'!AS41+'OVERALL TARGET'!AS43+'OVERALL TARGET'!AS44+'OVERALL TARGET'!AS45+'OVERALL TARGET'!AS46+'OVERALL TARGET'!AS47+'OVERALL TARGET'!AS49+'OVERALL TARGET'!AS51)","v":0},{"$f":"$AW$1*('OVERALL TARGET'!AT39+'OVERALL TARGET'!AT41+'OVERALL TARGET'!AT43+'OVERALL TARGET'!AT44+'OVERALL TARGET'!AT45+'OVERALL TARGET'!AT46+'OVERALL TARGET'!AT47+'OVERALL TARGET'!AT49+'OVERALL TARGET'!AT51)","v":0},{"$f":"$AW$1*('OVERALL TARGET'!AU39+'OVERALL TARGET'!AU41+'OVERALL TARGET'!AU43+'OVERALL TARGET'!AU44+'OVERALL TARGET'!AU45+'OVERALL TARGET'!AU46+'OVERALL TARGET'!AU47+'OVERALL TARGET'!AU49+'OVERALL TARGET'!AU51)","v":0},{"$f":"$AW$1*('OVERALL TARGET'!AV39+'OVERALL TARGET'!AV41+'OVERALL TARGET'!AV43+'OVERALL TARGET'!AV44+'OVERALL TARGET'!AV45+'OVERALL TARGET'!AV46+'OVERALL TARGET'!AV47+'OVERALL TARGET'!AV49+'OVERALL TARGET'!AV51)","v":0},{"$f":"$AW$1*('OVERALL TARGET'!AW39+'OVERALL TARGET'!AW41+'OVERALL TARGET'!AW43+'OVERALL TARGET'!AW44+'OVERALL TARGET'!AW45+'OVERALL TARGET'!AW46+'OVERALL TARGET'!AW47+'OVERALL TARGET'!AW49+'OVERALL TARGET'!AW51)","v":0},{"$f":"$AW$1*('OVERALL TARGET'!AX39+'OVERALL TARGET'!AX41+'OVERALL TARGET'!AX43+'OVERALL TARGET'!AX44+'OVERALL TARGET'!AX45+'OVERALL TARGET'!AX46+'OVERALL TARGET'!AX47+'OVERALL TARGET'!AX49+'OVERALL TARGET'!AX51)","v":0},{"$f":"$AW$1*('OVERALL TARGET'!AY39+'OVERALL TARGET'!AY41+'OVERALL TARGET'!AY43+'OVERALL TARGET'!AY44+'OVERALL TARGET'!AY45+'OVERALL TARGET'!AY46+'OVERALL TARGET'!AY47+'OVERALL TARGET'!AY49+'OVERALL TARGET'!AY51)","v":0},{"$f":"$AW$1*('OVERALL TARGET'!AZ39+'OVERALL TARGET'!AZ41+'OVERALL TARGET'!AZ43+'OVERALL TARGET'!AZ44+'OVERALL TARGET'!AZ45+'OVERALL TARGET'!AZ46+'OVERALL TARGET'!AZ47+'OVERALL TARGET'!AZ49+'OVERALL TARGET'!AZ51)","v":0},{"$f":"$AW$1*('OVERALL TARGET'!BA39+'OVERALL TARGET'!BA41+'OVERALL TARGET'!BA43+'OVERALL TARGET'!BA44+'OVERALL TARGET'!BA45+'OVERALL TARGET'!BA46+'OVERALL TARGET'!BA47+'OVERALL TARGET'!BA49+'OVERALL TARGET'!BA51)","v":0},{"$f":"$AW$1*('OVERALL TARGET'!BB39+'OVERALL TARGET'!BB41+'OVERALL TARGET'!BB43+'OVERALL TARGET'!BB44+'OVERALL TARGET'!BB45+'OVERALL TARGET'!BB46+'OVERALL TARGET'!BB47+'OVERALL TARGET'!BB49+'OVERALL TARGET'!BB51)","v":0},{"$f":"$AW$1*('OVERALL TARGET'!BC39+'OVERALL TARGET'!BC41+'OVERALL TARGET'!BC43+'OVERALL TARGET'!BC44+'OVERALL TARGET'!BC45+'OVERALL TARGET'!BC46+'OVERALL TARGET'!BC47+'OVERALL TARGET'!BC49+'OVERALL TARGET'!BC51)","v":0},{"$f":"$AW$1*('OVERALL TARGET'!BD39+'OVERALL TARGET'!BD41+'OVERALL TARGET'!BD43+'OVERALL TARGET'!BD44+'OVERALL TARGET'!BD45+'OVERALL TARGET'!BD46+'OVERALL TARGET'!BD47+'OVERALL TARGET'!BD49+'OVERALL TARGET'!BD51)","v":0},{"$f":"$AW$1*('OVERALL TARGET'!BE39+'OVERALL TARGET'!BE41+'OVERALL TARGET'!BE43+'OVERALL TARGET'!BE44+'OVERALL TARGET'!BE45+'OVERALL TARGET'!BE46+'OVERALL TARGET'!BE47+'OVERALL TARGET'!BE49+'OVERALL TARGET'!BE51)","v":0},{"$f":"$AW$1*('OVERALL TARGET'!BF39+'OVERALL TARGET'!BF41+'OVERALL TARGET'!BF43+'OVERALL TARGET'!BF44+'OVERALL TARGET'!BF45+'OVERALL TARGET'!BF46+'OVERALL TARGET'!BF47+'OVERALL TARGET'!BF49+'OVERALL TARGET'!BF51)","v":0},{"$f":"$AW$1*('OVERALL TARGET'!BG39+'OVERALL TARGET'!BG41+'OVERALL TARGET'!BG43+'OVERALL TARGET'!BG44+'OVERALL TARGET'!BG45+'OVERALL TARGET'!BG46+'OVERALL TARGET'!BG47+'OVERALL TARGET'!BG49+'OVERALL TARGET'!BG51)","v":0},{"$f":"$AW$1*('OVERALL TARGET'!BH39+'OVERALL TARGET'!BH41+'OVERALL TARGET'!BH43+'OVERALL TARGET'!BH44+'OVERALL TARGET'!BH45+'OVERALL TARGET'!BH46+'OVERALL TARGET'!BH47+'OVERALL TARGET'!BH49+'OVERALL TARGET'!BH51)","v":0},{"$f":"$AW$1*('OVERALL TARGET'!BI39+'OVERALL TARGET'!BI41+'OVERALL TARGET'!BI43+'OVERALL TARGET'!BI44+'OVERALL TARGET'!BI45+'OVERALL TARGET'!BI46+'OVERALL TARGET'!BI47+'OVERALL TARGET'!BI49+'OVERALL TARGET'!BI51)","v":0},{"$f":"$AW$1*('OVERALL TARGET'!BJ39+'OVERALL TARGET'!BJ41+'OVERALL TARGET'!BJ43+'OVERALL TARGET'!BJ44+'OVERALL TARGET'!BJ45+'OVERALL TARGET'!BJ46+'OVERALL TARGET'!BJ47+'OVERALL TARGET'!BJ49+'OVERALL TARGET'!BJ51)","v":0},{"$f":"$AW$1*('OVERALL TARGET'!BK39+'OVERALL TARGET'!BK41+'OVERALL TARGET'!BK43+'OVERALL TARGET'!BK44+'OVERALL TARGET'!BK45+'OVERALL TARGET'!BK46+'OVERALL TARGET'!BK47+'OVERALL TARGET'!BK49+'OVERALL TARGET'!BK51)","v":0},{"$f":"$AW$1*('OVERALL TARGET'!BL39+'OVERALL TARGET'!BL41+'OVERALL TARGET'!BL43+'OVERALL TARGET'!BL44+'OVERALL TARGET'!BL45+'OVERALL TARGET'!BL46+'OVERALL TARGET'!BL47+'OVERALL TARGET'!BL49+'OVERALL TARGET'!BL51)","v":0},{"$f":"$AW$1*('OVERALL TARGET'!BM39+'OVERALL TARGET'!BM41+'OVERALL TARGET'!BM43+'OVERALL TARGET'!BM44+'OVERALL TARGET'!BM45+'OVERALL TARGET'!BM46+'OVERALL TARGET'!BM47+'OVERALL TARGET'!BM49+'OVERALL TARGET'!BM51)","v":0},{"$f":"$AW$1*('OVERALL TARGET'!BN39+'OVERALL TARGET'!BN41+'OVERALL TARGET'!BN43+'OVERALL TARGET'!BN44+'OVERALL TARGET'!BN45+'OVERALL TARGET'!BN46+'OVERALL TARGET'!BN47+'OVERALL TARGET'!BN49+'OVERALL TARGET'!BN51)","v":0},{"$f":"$AW$1*('OVERALL TARGET'!BO39+'OVERALL TARGET'!BO41+'OVERALL TARGET'!BO43+'OVERALL TARGET'!BO44+'OVERALL TARGET'!BO45+'OVERALL TARGET'!BO46+'OVERALL TARGET'!BO47+'OVERALL TARGET'!BO49+'OVERALL TARGET'!BO51)","v":0},{"$f":"$AW$1*('OVERALL TARGET'!BP39+'OVERALL TARGET'!BP41+'OVERALL TARGET'!BP43+'OVERALL TARGET'!BP44+'OVERALL TARGET'!BP45+'OVERALL TARGET'!BP46+'OVERALL TARGET'!BP47+'OVERALL TARGET'!BP49+'OVERALL TARGET'!BP51)","v":0}]
["Derived heat",null,{"$f":"$AW$1*(SUM('OVERALL TARGET'!V56:V66,'OVERALL TARGET'!V75,'OVERALL TARGET'!V76))","v":0},{"$f":"$AW$1*(SUM('OVERALL TARGET'!W56:W66,'OVERALL TARGET'!W75,'OVERALL TARGET'!W76))","v":0},{"$f":"$AW$1*(SUM('OVERALL TARGET'!X56:X66,'OVERALL TARGET'!X75,'OVERALL TARGET'!X76))","v":0},{"$f":"$AW$1*(SUM('OVERALL TARGET'!Y56:Y66,'OVERALL TARGET'!Y75,'OVERALL TARGET'!Y76))","v":0},{"$f":"$AW$1*(SUM('OVERALL TARGET'!Z56:Z66,'OVERALL TARGET'!Z75,'OVERALL TARGET'!Z76))","v":0},{"$f":"$AW$1*(SUM('OVERALL TARGET'!AA56:AA66,'OVERALL TARGET'!AA75,'OVERALL TARGET'!AA76))","v":0},{"$f":"$AW$1*(SUM('OVERALL TARGET'!AB56:AB66,'OVERALL TARGET'!AB75,'OVERALL TARGET'!AB76))","v":0},{"$f":"$AW$1*('OVERALL TARGET'!AC56+'OVERALL TARGET'!AC57+'OVERALL TARGET'!AC58+'OVERALL TARGET'!AC60+'OVERALL TARGET'!AC62+'OVERALL TARGET'!AC64+'OVERALL TARGET'!AC65+'OVERALL TARGET'!AC67+'OVERALL TARGET'!AC71+'OVERALL TARGET'!AC75+'OVERALL TARGET'!AC76)","v":0},{"$f":"$AW$1*('OVERALL TARGET'!AD56+'OVERALL TARGET'!AD57+'OVERALL TARGET'!AD58+'OVERALL TARGET'!AD60+'OVERALL TARGET'!AD62+'OVERALL TARGET'!AD64+'OVERALL TARGET'!AD65+'OVERALL TARGET'!AD67+'OVERALL TARGET'!AD71+'OVERALL TARGET'!AD75+'OVERALL TARGET'!AD76)","v":0},{"$f":"$AW$1*('OVERALL TARGET'!AE56+'OVERALL TARGET'!AE57+'OVERALL TARGET'!AE58+'OVERALL TARGET'!AE60+'OVERALL TARGET'!AE62+'OVERALL TARGET'!AE64+'OVERALL TARGET'!AE65+'OVERALL TARGET'!AE67+'OVERALL TARGET'!AE71+'OVERALL TARGET'!AE75+'OVERALL TARGET'!AE76)","v":0},{"$f":"$AW$1*('OVERALL TARGET'!AF56+'OVERALL TARGET'!AF57+'OVERALL TARGET'!AF58+'OVERALL TARGET'!AF60+'OVERALL TARGET'!AF62+'OVERALL TARGET'!AF64+'OVERALL TARGET'!AF65+'OVERALL TARGET'!AF67+'OVERALL TARGET'!AF71+'OVERALL TARGET'!AF75+'OVERALL TARGET'!AF76)","v":0},{"$f":"$AW$1*('OVERALL TARGET'!AG56+'OVERALL TARGET'!AG57+'OVERALL TARGET'!AG58+'OVERALL TARGET'!AG60+'OVERALL TARGET'!AG62+'OVERALL TARGET'!AG64+'OVERALL TARGET'!AG65+'OVERALL TARGET'!AG67+'OVERALL TARGET'!AG71+'OVERALL TARGET'!AG75+'OVERALL TARGET'!AG76)","v":0},{"$f":"$AW$1*('OVERALL TARGET'!AH56+'OVERALL TARGET'!AH57+'OVERALL TARGET'!AH58+'OVERALL TARGET'!AH60+'OVERALL TARGET'!AH62+'OVERALL TARGET'!AH64+'OVERALL TARGET'!AH65+'OVERALL TARGET'!AH67+'OVERALL TARGET'!AH71+'OVERALL TARGET'!AH75+'OVERALL TARGET'!AH76)","v":0},{"$f":"$AW$1*('OVERALL TARGET'!AI56+'OVERALL TARGET'!AI57+'OVERALL TARGET'!AI58+'OVERALL TARGET'!AI60+'OVERALL TARGET'!AI62+'OVERALL TARGET'!AI64+'OVERALL TARGET'!AI65+'OVERALL TARGET'!AI67+'OVERALL TARGET'!AI71+'OVERALL TARGET'!AI75+'OVERALL TARGET'!AI76)","v":0},{"$f":"$AW$1*('OVERALL TARGET'!AJ56+'OVERALL TARGET'!AJ57+'OVERALL TARGET'!AJ58+'OVERALL TARGET'!AJ60+'OVERALL TARGET'!AJ62+'OVERALL TARGET'!AJ64+'OVERALL TARGET'!AJ65+'OVERALL TARGET'!AJ67+'OVERALL TARGET'!AJ71+'OVERALL TARGET'!AJ75+'OVERALL TARGET'!AJ76)","v":0},{"$f":"$AW$1*('OVERALL TARGET'!AK56+'OVERALL TARGET'!AK57+'OVERALL TARGET'!AK58+'OVERALL TARGET'!AK60+'OVERALL TARGET'!AK62+'OVERALL TARGET'!AK64+'OVERALL TARGET'!AK65+'OVERALL TARGET'!AK67+'OVERALL TARGET'!AK71+'OVERALL TARGET'!AK75+'OVERALL TARGET'!AK76)","v":0},{"$f":"$AW$1*('OVERALL TARGET'!AL56+'OVERALL TARGET'!AL57+'OVERALL TARGET'!AL58+'OVERALL TARGET'!AL60+'OVERALL TARGET'!AL62+'OVERALL TARGET'!AL64+'OVERALL TARGET'!AL65+'OVERALL TARGET'!AL67+'OVERALL TARGET'!AL71+'OVERALL TARGET'!AL75+'OVERALL TARGET'!AL76)","v":0},{"$f":"$AW$1*('OVERALL TARGET'!AM56+'OVERALL TARGET'!AM57+'OVERALL TARGET'!AM58+'OVERALL TARGET'!AM60+'OVERALL TARGET'!AM62+'OVERALL TARGET'!AM64+'OVERALL TARGET'!AM65+'OVERALL TARGET'!AM67+'OVERALL TARGET'!AM71+'OVERALL TARGET'!AM75+'OVERALL TARGET'!AM76)","v":0},{"$f":"$AW$1*('OVERALL TARGET'!AN56+'OVERALL TARGET'!AN57+'OVERALL TARGET'!AN58+'OVERALL TARGET'!AN60+'OVERALL TARGET'!AN62+'OVERALL TARGET'!AN64+'OVERALL TARGET'!AN65+'OVERALL TARGET'!AN67+'OVERALL TARGET'!AN71+'OVERALL TARGET'!AN75+'OVERALL TARGET'!AN76)","v":0},{"$f":"$AW$1*('OVERALL TARGET'!AO56+'OVERALL TARGET'!AO57+'OVERALL TARGET'!AO58+'OVERALL TARGET'!AO60+'OVERALL TARGET'!AO62+'OVERALL TARGET'!AO64+'OVERALL TARGET'!AO65+'OVERALL TARGET'!AO67+'OVERALL TARGET'!AO71+'OVERALL TARGET'!AO75+'OVERALL TARGET'!AO76)","v":0},{"$f":"$AW$1*('OVERALL TARGET'!AP56+'OVERALL TARGET'!AP57+'OVERALL TARGET'!AP58+'OVERALL TARGET'!AP60+'OVERALL TARGET'!AP62+'OVERALL TARGET'!AP64+'OVERALL TARGET'!AP65+'OVERALL TARGET'!AP67+'OVERALL TARGET'!AP71+'OVERALL TARGET'!AP75+'OVERALL TARGET'!AP76)","v":0},{"$f":"$AW$1*('OVERALL TARGET'!AQ56+'OVERALL TARGET'!AQ57+'OVERALL TARGET'!AQ58+'OVERALL TARGET'!AQ60+'OVERALL TARGET'!AQ62+'OVERALL TARGET'!AQ64+'OVERALL TARGET'!AQ65+'OVERALL TARGET'!AQ67+'OVERALL TARGET'!AQ71+'OVERALL TARGET'!AQ75+'OVERALL TARGET'!AQ76)","v":0},{"$f":"$AW$1*('OVERALL TARGET'!AR56+'OVERALL TARGET'!AR57+'OVERALL TARGET'!AR58+'OVERALL TARGET'!AR60+'OVERALL TARGET'!AR62+'OVERALL TARGET'!AR64+'OVERALL TARGET'!AR65+'OVERALL TARGET'!AR67+'OVERALL TARGET'!AR71+'OVERALL TARGET'!AR75+'OVERALL TARGET'!AR76)","v":0},{"$f":"$AW$1*('OVERALL TARGET'!AS56+'OVERALL TARGET'!AS57+'OVERALL TARGET'!AS58+'OVERALL TARGET'!AS60+'OVERALL TARGET'!AS62+'OVERALL TARGET'!AS64+'OVERALL TARGET'!AS65+'OVERALL TARGET'!AS67+'OVERALL TARGET'!AS71+'OVERALL TARGET'!AS75+'OVERALL TARGET'!AS76)","v":0},{"$f":"$AW$1*('OVERALL TARGET'!AT56+'OVERALL TARGET'!AT57+'OVERALL TARGET'!AT58+'OVERALL TARGET'!AT60+'OVERALL TARGET'!AT62+'OVERALL TARGET'!AT64+'OVERALL TARGET'!AT65+'OVERALL TARGET'!AT67+'OVERALL TARGET'!AT71+'OVERALL TARGET'!AT75+'OVERALL TARGET'!AT76)","v":0},{"$f":"$AW$1*('OVERALL TARGET'!AU56+'OVERALL TARGET'!AU57+'OVERALL TARGET'!AU58+'OVERALL TARGET'!AU60+'OVERALL TARGET'!AU62+'OVERALL TARGET'!AU64+'OVERALL TARGET'!AU65+'OVERALL TARGET'!AU67+'OVERALL TARGET'!AU71+'OVERALL TARGET'!AU75+'OVERALL TARGET'!AU76)","v":0},{"$f":"$AW$1*('OVERALL TARGET'!AV56+'OVERALL TARGET'!AV57+'OVERALL TARGET'!AV58+'OVERALL TARGET'!AV60+'OVERALL TARGET'!AV62+'OVERALL TARGET'!AV64+'OVERALL TARGET'!AV65+'OVERALL TARGET'!AV67+'OVERALL TARGET'!AV71+'OVERALL TARGET'!AV75+'OVERALL TARGET'!AV76)","v":0},{"$f":"$AW$1*('OVERALL TARGET'!AW56+'OVERALL TARGET'!AW57+'OVERALL TARGET'!AW58+'OVERALL TARGET'!AW60+'OVERALL TARGET'!AW62+'OVERALL TARGET'!AW64+'OVERALL TARGET'!AW65+'OVERALL TARGET'!AW67+'OVERALL TARGET'!AW71+'OVERALL TARGET'!AW75+'OVERALL TARGET'!AW76)","v":0},{"$f":"$AW$1*('OVERALL TARGET'!AX56+'OVERALL TARGET'!AX57+'OVERALL TARGET'!AX58+'OVERALL TARGET'!AX60+'OVERALL TARGET'!AX62+'OVERALL TARGET'!AX64+'OVERALL TARGET'!AX65+'OVERALL TARGET'!AX67+'OVERALL TARGET'!AX71+'OVERALL TARGET'!AX75+'OVERALL TARGET'!AX76)","v":0},{"$f":"$AW$1*('OVERALL TARGET'!AY56+'OVERALL TARGET'!AY57+'OVERALL TARGET'!AY58+'OVERALL TARGET'!AY60+'OVERALL TARGET'!AY62+'OVERALL TARGET'!AY64+'OVERALL TARGET'!AY65+'OVERALL TARGET'!AY67+'OVERALL TARGET'!AY71+'OVERALL TARGET'!AY75+'OVERALL TARGET'!AY76)","v":0},{"$f":"$AW$1*('OVERALL TARGET'!AZ56+'OVERALL TARGET'!AZ57+'OVERALL TARGET'!AZ58+'OVERALL TARGET'!AZ60+'OVERALL TARGET'!AZ62+'OVERALL TARGET'!AZ64+'OVERALL TARGET'!AZ65+'OVERALL TARGET'!AZ67+'OVERALL TARGET'!AZ71+'OVERALL TARGET'!AZ75+'OVERALL TARGET'!AZ76)","v":0},{"$f":"$AW$1*('OVERALL TARGET'!BA56+'OVERALL TARGET'!BA57+'OVERALL TARGET'!BA58+'OVERALL TARGET'!BA60+'OVERALL TARGET'!BA62+'OVERALL TARGET'!BA64+'OVERALL TARGET'!BA65+'OVERALL TARGET'!BA67+'OVERALL TARGET'!BA71+'OVERALL TARGET'!BA75+'OVERALL TARGET'!BA76)","v":0},{"$f":"$AW$1*('OVERALL TARGET'!BB56+'OVERALL TARGET'!BB57+'OVERALL TARGET'!BB58+'OVERALL TARGET'!BB60+'OVERALL TARGET'!BB62+'OVERALL TARGET'!BB64+'OVERALL TARGET'!BB65+'OVERALL TARGET'!BB67+'OVERALL TARGET'!BB71+'OVERALL TARGET'!BB75+'OVERALL TARGET'!BB76)","v":0},{"$f":"$AW$1*('OVERALL TARGET'!BC56+'OVERALL TARGET'!BC57+'OVERALL TARGET'!BC58+'OVERALL TARGET'!BC60+'OVERALL TARGET'!BC62+'OVERALL TARGET'!BC64+'OVERALL TARGET'!BC65+'OVERALL TARGET'!BC67+'OVERALL TARGET'!BC71+'OVERALL TARGET'!BC75+'OVERALL TARGET'!BC76)","v":0},{"$f":"$AW$1*('OVERALL TARGET'!BD56+'OVERALL TARGET'!BD57+'OVERALL TARGET'!BD58+'OVERALL TARGET'!BD60+'OVERALL TARGET'!BD62+'OVERALL TARGET'!BD64+'OVERALL TARGET'!BD65+'OVERALL TARGET'!BD67+'OVERALL TARGET'!BD71+'OVERALL TARGET'!BD75+'OVERALL TARGET'!BD76)","v":0},{"$f":"$AW$1*('OVERALL TARGET'!BE56+'OVERALL TARGET'!BE57+'OVERALL TARGET'!BE58+'OVERALL TARGET'!BE60+'OVERALL TARGET'!BE62+'OVERALL TARGET'!BE64+'OVERALL TARGET'!BE65+'OVERALL TARGET'!BE67+'OVERALL TARGET'!BE71+'OVERALL TARGET'!BE75+'OVERALL TARGET'!BE76)","v":0},{"$f":"$AW$1*('OVERALL TARGET'!BF56+'OVERALL TARGET'!BF57+'OVERALL TARGET'!BF58+'OVERALL TARGET'!BF60+'OVERALL TARGET'!BF62+'OVERALL TARGET'!BF64+'OVERALL TARGET'!BF65+'OVERALL TARGET'!BF67+'OVERALL TARGET'!BF71+'OVERALL TARGET'!BF75+'OVERALL TARGET'!BF76)","v":0},{"$f":"$AW$1*('OVERALL TARGET'!BG56+'OVERALL TARGET'!BG57+'OVERALL TARGET'!BG58+'OVERALL TARGET'!BG60+'OVERALL TARGET'!BG62+'OVERALL TARGET'!BG64+'OVERALL TARGET'!BG65+'OVERALL TARGET'!BG67+'OVERALL TARGET'!BG71+'OVERALL TARGET'!BG75+'OVERALL TARGET'!BG76)","v":0},{"$f":"$AW$1*('OVERALL TARGET'!BH56+'OVERALL TARGET'!BH57+'OVERALL TARGET'!BH58+'OVERALL TARGET'!BH60+'OVERALL TARGET'!BH62+'OVERALL TARGET'!BH64+'OVERALL TARGET'!BH65+'OVERALL TARGET'!BH67+'OVERALL TARGET'!BH71+'OVERALL TARGET'!BH75+'OVERALL TARGET'!BH76)","v":0},{"$f":"$AW$1*('OVERALL TARGET'!BI56+'OVERALL TARGET'!BI57+'OVERALL TARGET'!BI58+'OVERALL TARGET'!BI60+'OVERALL TARGET'!BI62+'OVERALL TARGET'!BI64+'OVERALL TARGET'!BI65+'OVERALL TARGET'!BI67+'OVERALL TARGET'!BI71+'OVERALL TARGET'!BI75+'OVERALL TARGET'!BI76)","v":0},{"$f":"$AW$1*('OVERALL TARGET'!BJ56+'OVERALL TARGET'!BJ57+'OVERALL TARGET'!BJ58+'OVERALL TARGET'!BJ60+'OVERALL TARGET'!BJ62+'OVERALL TARGET'!BJ64+'OVERALL TARGET'!BJ65+'OVERALL TARGET'!BJ67+'OVERALL TARGET'!BJ71+'OVERALL TARGET'!BJ75+'OVERALL TARGET'!BJ76)","v":0},{"$f":"$AW$1*('OVERALL TARGET'!BK56+'OVERALL TARGET'!BK57+'OVERALL TARGET'!BK58+'OVERALL TARGET'!BK60+'OVERALL TARGET'!BK62+'OVERALL TARGET'!BK64+'OVERALL TARGET'!BK65+'OVERALL TARGET'!BK67+'OVERALL TARGET'!BK71+'OVERALL TARGET'!BK75+'OVERALL TARGET'!BK76)","v":0},{"$f":"$AW$1*('OVERALL TARGET'!BL56+'OVERALL TARGET'!BL57+'OVERALL TARGET'!BL58+'OVERALL TARGET'!BL60+'OVERALL TARGET'!BL62+'OVERALL TARGET'!BL64+'OVERALL TARGET'!BL65+'OVERALL TARGET'!BL67+'OVERALL TARGET'!BL71+'OVERALL TARGET'!BL75+'OVERALL TARGET'!BL76)","v":0},{"$f":"$AW$1*('OVERALL TARGET'!BM56+'OVERALL TARGET'!BM57+'OVERALL TARGET'!BM58+'OVERALL TARGET'!BM60+'OVERALL TARGET'!BM62+'OVERALL TARGET'!BM64+'OVERALL TARGET'!BM65+'OVERALL TARGET'!BM67+'OVERALL TARGET'!BM71+'OVERALL TARGET'!BM75+'OVERALL TARGET'!BM76)","v":0},{"$f":"$AW$1*('OVERALL TARGET'!BN56+'OVERALL TARGET'!BN57+'OVERALL TARGET'!BN58+'OVERALL TARGET'!BN60+'OVERALL TARGET'!BN62+'OVERALL TARGET'!BN64+'OVERALL TARGET'!BN65+'OVERALL TARGET'!BN67+'OVERALL TARGET'!BN71+'OVERALL TARGET'!BN75+'OVERALL TARGET'!BN76)","v":0},{"$f":"$AW$1*('OVERALL TARGET'!BO56+'OVERALL TARGET'!BO57+'OVERALL TARGET'!BO58+'OVERALL TARGET'!BO60+'OVERALL TARGET'!BO62+'OVERALL TARGET'!BO64+'OVERALL TARGET'!BO65+'OVERALL TARGET'!BO67+'OVERALL TARGET'!BO71+'OVERALL TARGET'!BO75+'OVERALL TARGET'!BO76)","v":0},{"$f":"$AW$1*('OVERALL TARGET'!BP56+'OVERALL TARGET'!BP57+'OVERALL TARGET'!BP58+'OVERALL TARGET'!BP60+'OVERALL TARGET'!BP62+'OVERALL TARGET'!BP64+'OVERALL TARGET'!BP65+'OVERALL TARGET'!BP67+'OVERALL TARGET'!BP71+'OVERALL TARGET'!BP75+'OVERALL TARGET'!BP76)","v":0}]
["Heat pumps for heating",null,{"$f":"$AW$1*'OVERALL TARGET'!V78","v":0},{"$f":"$AW$1*'OVERALL TARGET'!W78","v":0},{"$f":"$AW$1*'OVERALL TARGET'!X78","v":0},{"$f":"$AW$1*'OVERALL TARGET'!Y78","v":0},{"$f":"$AW$1*'OVERALL TARGET'!Z78","v":0},{"$f":"$AW$1*'OVERALL TARGET'!AA78","v":0},{"$f":"$AW$1*'OVERALL TARGET'!AB78","v":0},{"$f":"$AW$1*'OVERALL TARGET'!AC78","v":0},{"$f":"$AW$1*'OVERALL TARGET'!AD78","v":0},{"$f":"$AW$1*'OVERALL TARGET'!AE78","v":0},{"$f":"$AW$1*'OVERALL TARGET'!AF78","v":0},{"$f":"$AW$1*'OVERALL TARGET'!AG78","v":0},{"$f":"$AW$1*'OVERALL TARGET'!AH78","v":0},{"$f":"$AW$1*'OVERALL TARGET'!AI78","v":0},{"$f":"$AW$1*'OVERALL TARGET'!AJ78","v":0},{"$f":"$AW$1*'OVERALL TARGET'!AK78","v":0},{"$f":"$AW$1*'OVERALL TARGET'!AL78","v":0},{"$f":"$AW$1*'OVERALL TARGET'!AM78","v":0},{"$f":"$AW$1*'OVERALL TARGET'!AN78","v":0},{"$f":"$AW$1*'OVERALL TARGET'!AO78","v":0},{"$f":"$AW$1*'OVERALL TARGET'!AP78","v":0},{"$f":"$AW$1*'OVERALL TARGET'!AQ78","v":0},{"$f":"$AW$1*'OVERALL TARGET'!AR78","v":0},{"$f":"$AW$1*'OVERALL TARGET'!AS78","v":0},{"$f":"$AW$1*'OVERALL TARGET'!AT78","v":0},{"$f":"$AW$1*'OVERALL TARGET'!AU78","v":0},{"$f":"$AW$1*'OVERALL TARGET'!AV78","v":0},{"$f":"$AW$1*'OVERALL TARGET'!AW78","v":0},{"$f":"$AW$1*'OVERALL TARGET'!AX78","v":0},{"$f":"$AW$1*'OVERALL TARGET'!AY78","v":0},{"$f":"$AW$1*'OVERALL TARGET'!AZ78","v":0},{"$f":"$AW$1*'OVERALL TARGET'!BA78","v":0},{"$f":"$AW$1*'OVERALL TARGET'!BB78","v":0},{"$f":"$AW$1*'OVERALL TARGET'!BC78","v":0},{"$f":"$AW$1*'OVERALL TARGET'!BD78","v":0},{"$f":"$AW$1*'OVERALL TARGET'!BE78","v":0},{"$f":"$AW$1*'OVERALL TARGET'!BF78","v":0},{"$f":"$AW$1*'OVERALL TARGET'!BG78","v":0},{"$f":"$AW$1*'OVERALL TARGET'!BH78","v":0},{"$f":"$AW$1*'OVERALL TARGET'!BI78","v":0},{"$f":"$AW$1*'OVERALL TARGET'!BJ78","v":0},{"$f":"$AW$1*'OVERALL TARGET'!BK78","v":0},{"$f":"$AW$1*'OVERALL TARGET'!BL78","v":0},{"$f":"$AW$1*'OVERALL TARGET'!BM78","v":0},{"$f":"$AW$1*'OVERALL TARGET'!BN78","v":0},{"$f":"$AW$1*'OVERALL TARGET'!BO78","v":0},{"$f":"$AW$1*'OVERALL TARGET'!BP78","v":0}]
["     Of which from aerothermal and hydrothermal heat pumps",null,{"$f":"$AW$1*'OVERALL TARGET'!V79","v":0},{"$f":"$AW$1*'OVERALL TARGET'!W79","v":0},{"$f":"$AW$1*'OVERALL TARGET'!X79","v":0},{"$f":"$AW$1*'OVERALL TARGET'!Y79","v":0},{"$f":"$AW$1*'OVERALL TARGET'!Z79","v":0},{"$f":"$AW$1*'OVERALL TARGET'!AA79","v":0},{"$f":"$AW$1*'OVERALL TARGET'!AB79","v":0},{"$f":"$AW$1*'OVERALL TARGET'!AC79","v":0},{"$f":"$AW$1*'OVERALL TARGET'!AD79","v":0},{"$f":"$AW$1*'OVERALL TARGET'!AE79","v":0},{"$f":"$AW$1*'OVERALL TARGET'!AF79","v":0},{"$f":"$AW$1*'OVERALL TARGET'!AG79","v":0},{"$f":"$AW$1*'OVERALL TARGET'!AH79","v":0},{"$f":"$AW$1*'OVERALL TARGET'!AI79","v":0},{"$f":"$AW$1*'OVERALL TARGET'!AJ79","v":0},{"$f":"$AW$1*'OVERALL TARGET'!AK79","v":0},{"$f":"$AW$1*'OVERALL TARGET'!AL79","v":0},{"$f":"$AW$1*'OVERALL TARGET'!AM79","v":0},{"$f":"$AW$1*'OVERALL TARGET'!AN79","v":0},{"$f":"$AW$1*'OVERALL TARGET'!AO79","v":0},{"$f":"$AW$1*'OVERALL TARGET'!AP79","v":0},{"$f":"$AW$1*'OVERALL TARGET'!AQ79","v":0},{"$f":"$AW$1*'OVERALL TARGET'!AR79","v":0},{"$f":"$AW$1*'OVERALL TARGET'!AS79","v":0},{"$f":"$AW$1*'OVERALL TARGET'!AT79","v":0},{"$f":"$AW$1*'OVERALL TARGET'!AU79","v":0},{"$f":"$AW$1*'OVERALL TARGET'!AV79","v":0},{"$f":"$AW$1*'OVERALL TARGET'!AW79","v":0},{"$f":"$AW$1*'OVERALL TARGET'!AX79","v":0},{"$f":"$AW$1*'OVERALL TARGET'!AY79","v":0},{"$f":"$AW$1*'OVERALL TARGET'!AZ79","v":0},{"$f":"$AW$1*'OVERALL TARGET'!BA79","v":0},{"$f":"$AW$1*'OVERALL TARGET'!BB79","v":0},{"$f":"$AW$1*'OVERALL TARGET'!BC79","v":0},{"$f":"$AW$1*'OVERALL TARGET'!BD79","v":0},{"$f":"$AW$1*'OVERALL TARGET'!BE79","v":0},{"$f":"$AW$1*'OVERALL TARGET'!BF79","v":0},{"$f":"$AW$1*'OVERALL TARGET'!BG79","v":0},{"$f":"$AW$1*'OVERALL TARGET'!BH79","v":0},{"$f":"$AW$1*'OVERALL TARGET'!BI79","v":0},{"$f":"$AW$1*'OVERALL TARGET'!BJ79","v":0},{"$f":"$AW$1*'OVERALL TARGET'!BK79","v":0},{"$f":"$AW$1*'OVERALL TARGET'!BL79","v":0},{"$f":"$AW$1*'OVERALL TARGET'!BM79","v":0},{"$f":"$AW$1*'OVERALL TARGET'!BN79","v":0},{"$f":"$AW$1*'OVERALL TARGET'!BO79","v":0},{"$f":"$AW$1*'OVERALL TARGET'!BP79","v":0}]
["     Of which from geothermal energy using heat pumps",null,{"$f":"$AW$1*'OVERALL TARGET'!V80","v":0},{"$f":"$AW$1*'OVERALL TARGET'!W80","v":0},{"$f":"$AW$1*'OVERALL TARGET'!X80","v":0},{"$f":"$AW$1*'OVERALL TARGET'!Y80","v":0},{"$f":"$AW$1*'OVERALL TARGET'!Z80","v":0},{"$f":"$AW$1*'OVERALL TARGET'!AA80","v":0},{"$f":"$AW$1*'OVERALL TARGET'!AB80","v":0},{"$f":"$AW$1*'OVERALL TARGET'!AC80","v":0},{"$f":"$AW$1*'OVERALL TARGET'!AD80","v":0},{"$f":"$AW$1*'OVERALL TARGET'!AE80","v":0},{"$f":"$AW$1*'OVERALL TARGET'!AF80","v":0},{"$f":"$AW$1*'OVERALL TARGET'!AG80","v":0},{"$f":"$AW$1*'OVERALL TARGET'!AH80","v":0},{"$f":"$AW$1*'OVERALL TARGET'!AI80","v":0},{"$f":"$AW$1*'OVERALL TARGET'!AJ80","v":0},{"$f":"$AW$1*'OVERALL TARGET'!AK80","v":0},{"$f":"$AW$1*'OVERALL TARGET'!AL80","v":0},{"$f":"$AW$1*'OVERALL TARGET'!AM80","v":0},{"$f":"$AW$1*'OVERALL TARGET'!AN80","v":0},{"$f":"$AW$1*'OVERALL TARGET'!AO80","v":0},{"$f":"$AW$1*'OVERALL TARGET'!AP80","v":0},{"$f":"$AW$1*'OVERALL TARGET'!AQ80","v":0},{"$f":"$AW$1*'OVERALL TARGET'!AR80","v":0},{"$f":"$AW$1*'OVERALL TARGET'!AS80","v":0},{"$f":"$AW$1*'OVERALL TARGET'!AT80","v":0},{"$f":"$AW$1*'OVERALL TARGET'!AU80","v":0},{"$f":"$AW$1*'OVERALL TARGET'!AV80","v":0},{"$f":"$AW$1*'OVERALL TARGET'!AW80","v":0},{"$f":"$AW$1*'OVERALL TARGET'!AX80","v":0},{"$f":"$AW$1*'OVERALL TARGET'!AY80","v":0},{"$f":"$AW$1*'OVERALL TARGET'!AZ80","v":0},{"$f":"$AW$1*'OVERALL TARGET'!BA80","v":0},{"$f":"$AW$1*'OVERALL TARGET'!BB80","v":0},{"$f":"$AW$1*'OVERALL TARGET'!BC80","v":0},{"$f":"$AW$1*'OVERALL TARGET'!BD80","v":0},{"$f":"$AW$1*'OVERALL TARGET'!BE80","v":0},{"$f":"$AW$1*'OVERALL TARGET'!BF80","v":0},{"$f":"$AW$1*'OVERALL TARGET'!BG80","v":0},{"$f":"$AW$1*'OVERALL TARGET'!BH80","v":0},{"$f":"$AW$1*'OVERALL TARGET'!BI80","v":0},{"$f":"$AW$1*'OVERALL TARGET'!BJ80","v":0},{"$f":"$AW$1*'OVERALL TARGET'!BK80","v":0},{"$f":"$AW$1*'OVERALL TARGET'!BL80","v":0},{"$f":"$AW$1*'OVERALL TARGET'!BM80","v":0},{"$f":"$AW$1*'OVERALL TARGET'!BN80","v":0},{"$f":"$AW$1*'OVERALL TARGET'!BO80","v":0},{"$f":"$AW$1*'OVERALL TARGET'!BP80","v":0}]
["Renewable cooling",null,{"$f":"$AW$1*'OVERALL TARGET'!V81","v":0},{"$f":"$AW$1*'OVERALL TARGET'!W81","v":0},{"$f":"$AW$1*'OVERALL TARGET'!X81","v":0},{"$f":"$AW$1*'OVERALL TARGET'!Y81","v":0},{"$f":"$AW$1*'OVERALL TARGET'!Z81","v":0},{"$f":"$AW$1*'OVERALL TARGET'!AA81","v":0},{"$f":"$AW$1*'OVERALL TARGET'!AB81","v":0},{"$f":"$AW$1*'OVERALL TARGET'!AC81","v":0},{"$f":"$AW$1*'OVERALL TARGET'!AD81","v":0},{"$f":"$AW$1*'OVERALL TARGET'!AE81","v":0},{"$f":"$AW$1*'OVERALL TARGET'!AF81","v":0},{"$f":"$AW$1*'OVERALL TARGET'!AG81","v":0},{"$f":"$AW$1*'OVERALL TARGET'!AH81","v":0},{"$f":"$AW$1*'OVERALL TARGET'!AI81","v":0},{"$f":"$AW$1*'OVERALL TARGET'!AJ81","v":0},{"$f":"$AW$1*'OVERALL TARGET'!AK81","v":0},{"$f":"$AW$1*'OVERALL TARGET'!AL81","v":0},{"$f":"$AW$1*'OVERALL TARGET'!AM81","v":0},{"$f":"$AW$1*'OVERALL TARGET'!AN81","v":0},{"$f":"$AW$1*'OVERALL TARGET'!AO81","v":0},{"$f":"$AW$1*'OVERALL TARGET'!AP81","v":0},{"$f":"$AW$1*'OVERALL TARGET'!AQ81","v":0},{"$f":"$AW$1*'OVERALL TARGET'!AR81","v":0},{"$f":"$AW$1*'OVERALL TARGET'!AS81","v":0},{"$f":"$AW$1*'OVERALL TARGET'!AT81","v":0},{"$f":"$AW$1*'OVERALL TARGET'!AU81","v":0},{"$f":"$AW$1*'OVERALL TARGET'!AV81","v":0},{"$f":"$AW$1*'OVERALL TARGET'!AW81","v":0},{"$f":"$AW$1*'OVERALL TARGET'!AX81","v":0},{"$f":"$AW$1*'OVERALL TARGET'!AY81","v":0},{"$f":"$AW$1*'OVERALL TARGET'!AZ81","v":0},{"$f":"$AW$1*'OVERALL TARGET'!BA81","v":0},{"$f":"$AW$1*'OVERALL TARGET'!BB81","v":0},{"$f":"$AW$1*'OVERALL TARGET'!BC81","v":0},{"$f":"$AW$1*'OVERALL TARGET'!BD81","v":0},{"$f":"$AW$1*'OVERALL TARGET'!BE81","v":0},{"$f":"$AW$1*'OVERALL TARGET'!BF81","v":0},{"$f":"$AW$1*'OVERALL TARGET'!BG81","v":0},{"$f":"$AW$1*'OVERALL TARGET'!BH81","v":0},{"$f":"$AW$1*'OVERALL TARGET'!BI81","v":0},{"$f":"$AW$1*'OVERALL TARGET'!BJ81","v":0},{"$f":"$AW$1*'OVERALL TARGET'!BK81","v":0},{"$f":"$AW$1*'OVERALL TARGET'!BL81","v":0},{"$f":"$AW$1*'OVERALL TARGET'!BM81","v":0},{"$f":"$AW$1*'OVERALL TARGET'!BN81","v":0},{"$f":"$AW$1*'OVERALL TARGET'!BO81","v":0},{"$f":"$AW$1*'OVERALL TARGET'!BP81","v":0}]
["Total (RES-H&C numerator)",null,{"$f":"$AW$1*'OVERALL TARGET'!V82","v":0},{"$f":"$AW$1*'OVERALL TARGET'!W82","v":0},{"$f":"$AW$1*'OVERALL TARGET'!X82","v":0},{"$f":"$AW$1*'OVERALL TARGET'!Y82","v":0},{"$f":"$AW$1*'OVERALL TARGET'!Z82","v":0},{"$f":"$AW$1*'OVERALL TARGET'!AA82","v":0},{"$f":"$AW$1*'OVERALL TARGET'!AB82","v":0},{"$f":"$AW$1*'OVERALL TARGET'!AC82","v":0},{"$f":"$AW$1*'OVERALL TARGET'!AD82","v":0},{"$f":"$AW$1*'OVERALL TARGET'!AE82","v":0},{"$f":"$AW$1*'OVERALL TARGET'!AF82","v":0},{"$f":"$AW$1*'OVERALL TARGET'!AG82","v":0},{"$f":"$AW$1*'OVERALL TARGET'!AH82","v":0},{"$f":"$AW$1*'OVERALL TARGET'!AI82","v":0},{"$f":"$AW$1*'OVERALL TARGET'!AJ82","v":0},{"$f":"$AW$1*'OVERALL TARGET'!AK82","v":0},{"$f":"$AW$1*'OVERALL TARGET'!AL82","v":0},{"$f":"$AW$1*'OVERALL TARGET'!AM82","v":0},{"$f":"$AW$1*'OVERALL TARGET'!AN82","v":0},{"$f":"$AW$1*'OVERALL TARGET'!AO82","v":0},{"$f":"$AW$1*'OVERALL TARGET'!AP82","v":0},{"$f":"$AW$1*'OVERALL TARGET'!AQ82","v":0},{"$f":"$AW$1*'OVERALL TARGET'!AR82","v":0},{"$f":"$AW$1*'OVERALL TARGET'!AS82","v":0},{"$f":"$AW$1*'OVERALL TARGET'!AT82","v":0},{"$f":"$AW$1*'OVERALL TARGET'!AU82","v":0},{"$f":"$AW$1*'OVERALL TARGET'!AV82","v":0},{"$f":"$AW$1*'OVERALL TARGET'!AW82","v":0},{"$f":"$AW$1*'OVERALL TARGET'!AX82","v":0},{"$f":"$AW$1*'OVERALL TARGET'!AY82","v":0},{"$f":"$AW$1*'OVERALL TARGET'!AZ82","v":0},{"$f":"$AW$1*'OVERALL TARGET'!BA82","v":0},{"$f":"$AW$1*'OVERALL TARGET'!BB82","v":0},{"$f":"$AW$1*'OVERALL TARGET'!BC82","v":0},{"$f":"$AW$1*'OVERALL TARGET'!BD82","v":0},{"$f":"$AW$1*'OVERALL TARGET'!BE82","v":0},{"$f":"$AW$1*'OVERALL TARGET'!BF82","v":0},{"$f":"$AW$1*'OVERALL TARGET'!BG82","v":0},{"$f":"$AW$1*'OVERALL TARGET'!BH82","v":0},{"$f":"$AW$1*'OVERALL TARGET'!BI82","v":0},{"$f":"$AW$1*'OVERALL TARGET'!BJ82","v":0},{"$f":"$AW$1*'OVERALL TARGET'!BK82","v":0},{"$f":"$AW$1*'OVERALL TARGET'!BL82","v":0},{"$f":"$AW$1*'OVERALL TARGET'!BM82","v":0},{"$f":"$AW$1*'OVERALL TARGET'!BN82","v":0},{"$f":"$AW$1*'OVERALL TARGET'!BO82","v":0},{"$f":"$AW$1*'OVERALL TARGET'!BP82","v":0}]
["All fuel consumed for heating and cooling"]
["Total (RES-H&C denominator)",null,{"$f":"$AW$1*'OVERALL TARGET'!V83","v":0},{"$f":"$AW$1*'OVERALL TARGET'!W83","v":0},{"$f":"$AW$1*'OVERALL TARGET'!X83","v":0},{"$f":"$AW$1*'OVERALL TARGET'!Y83","v":0},{"$f":"$AW$1*'OVERALL TARGET'!Z83","v":0},{"$f":"$AW$1*'OVERALL TARGET'!AA83","v":0},{"$f":"$AW$1*'OVERALL TARGET'!AB83","v":0},{"$f":"$AW$1*'OVERALL TARGET'!AC83","v":0},{"$f":"$AW$1*'OVERALL TARGET'!AD83","v":0},{"$f":"$AW$1*'OVERALL TARGET'!AE83","v":0},{"$f":"$AW$1*'OVERALL TARGET'!AF83","v":0},{"$f":"$AW$1*'OVERALL TARGET'!AG83","v":0},{"$f":"$AW$1*'OVERALL TARGET'!AH83","v":0},{"$f":"$AW$1*'OVERALL TARGET'!AI83","v":0},{"$f":"$AW$1*'OVERALL TARGET'!AJ83","v":0},{"$f":"$AW$1*'OVERALL TARGET'!AK83","v":0},{"$f":"$AW$1*'OVERALL TARGET'!AL83","v":0},{"$f":"$AW$1*'OVERALL TARGET'!AM83","v":0},{"$f":"$AW$1*'OVERALL TARGET'!AN83","v":0},{"$f":"$AW$1*'OVERALL TARGET'!AO83","v":0},{"$f":"$AW$1*'OVERALL TARGET'!AP83","v":0},{"$f":"$AW$1*'OVERALL TARGET'!AQ83","v":0},{"$f":"$AW$1*'OVERALL TARGET'!AR83","v":0},{"$f":"$AW$1*'OVERALL TARGET'!AS83","v":0},{"$f":"$AW$1*'OVERALL TARGET'!AT83","v":0},{"$f":"$AW$1*'OVERALL TARGET'!AU83","v":0},{"$f":"$AW$1*'OVERALL TARGET'!AV83","v":0},{"$f":"$AW$1*'OVERALL TARGET'!AW83","v":0},{"$f":"$AW$1*'OVERALL TARGET'!AX83","v":0},{"$f":"$AW$1*'OVERALL TARGET'!AY83","v":0},{"$f":"$AW$1*'OVERALL TARGET'!AZ83","v":0},{"$f":"$AW$1*'OVERALL TARGET'!BA83","v":0},{"$f":"$AW$1*'OVERALL TARGET'!BB83","v":0},{"$f":"$AW$1*'OVERALL TARGET'!BC83","v":0},{"$f":"$AW$1*'OVERALL TARGET'!BD83","v":0},{"$f":"$AW$1*'OVERALL TARGET'!BE83","v":0},{"$f":"$AW$1*'OVERALL TARGET'!BF83","v":0},{"$f":"$AW$1*'OVERALL TARGET'!BG83","v":0},{"$f":"$AW$1*'OVERALL TARGET'!BH83","v":0},{"$f":"$AW$1*'OVERALL TARGET'!BI83","v":0},{"$f":"$AW$1*'OVERALL TARGET'!BJ83","v":0},{"$f":"$AW$1*'OVERALL TARGET'!BK83","v":0},{"$f":"$AW$1*'OVERALL TARGET'!BL83","v":0},{"$f":"$AW$1*'OVERALL TARGET'!BM83","v":0},{"$f":"$AW$1*'OVERALL TARGET'!BN83","v":0},{"$f":"$AW$1*'OVERALL TARGET'!BO83","v":0},{"$f":"$AW$1*'OVERALL TARGET'!BP83","v":0}]
["Note: total includes all elements of \"gross final consumption of energy\" other than electricity and for other purposes than transport"]
["RES-H&C [%]",null,{"$f":"IF(C44>0,C42/C44,\"\")","v":""},{"$f":"IF(D44>0,D42/D44,\"\")","v":""},"","","","","","","","","","","","","","","",{"$f":"IF(T44>0,T42/T44,\"\")","v":""},{"$f":"IF(U44>0,U42/U44,\"\")","v":""},{"$f":"IF(V44>0,V42/V44,\"\")","v":""},{"$f":"IF(W44>0,W42/W44,\"\")","v":""},{"$f":"IF(X44>0,X42/X44,\"\")","v":""},"","","","","","",{"$f":"IF(AE44>0,AE42/AE44,\"\")","v":""},"","","","","","","","","","","","","","","","","",""]
["RES-H&C [%] with waste heat and cold",null,{"$f":"IF('OVERALL TARGET'!V90>0,'OVERALL TARGET'!V90,\"\")","v":""},{"$f":"IF('OVERALL TARGET'!W90>0,'OVERALL TARGET'!W90,\"\")","v":""},{"$f":"IF('OVERALL TARGET'!X90>0,'OVERALL TARGET'!X90,\"\")","v":""},{"$f":"IF('OVERALL TARGET'!Y90>0,'OVERALL TARGET'!Y90,\"\")","v":""},{"$f":"IF('OVERALL TARGET'!Z90>0,'OVERALL TARGET'!Z90,\"\")","v":""},{"$f":"IF('OVERALL TARGET'!AA90>0,'OVERALL TARGET'!AA90,\"\")","v":""},{"$f":"IF('OVERALL TARGET'!AB90>0,'OVERALL TARGET'!AB90,\"\")","v":""},{"$f":"IF('OVERALL TARGET'!AC90>0,'OVERALL TARGET'!AC90,\"\")","v":""},{"$f":"IF('OVERALL TARGET'!AD90>0,'OVERALL TARGET'!AD90,\"\")","v":""},{"$f":"IF('OVERALL TARGET'!AE90>0,'OVERALL TARGET'!AE90,\"\")","v":""},{"$f":"IF('OVERALL TARGET'!AF90>0,'OVERALL TARGET'!AF90,\"\")","v":""},{"$f":"IF('OVERALL TARGET'!AG90>0,'OVERALL TARGET'!AG90,\"\")","v":""},{"$f":"IF('OVERALL TARGET'!AH90>0,'OVERALL TARGET'!AH90,\"\")","v":""},{"$f":"IF('OVERALL TARGET'!AI90>0,'OVERALL TARGET'!AI90,\"\")","v":""},{"$f":"IF('OVERALL TARGET'!AJ90>0,'OVERALL TARGET'!AJ90,\"\")","v":""},{"$f":"IF('OVERALL TARGET'!AK90>0,'OVERALL TARGET'!AK90,\"\")","v":""},{"$f":"IF('OVERALL TARGET'!AL90>0,'OVERALL TARGET'!AL90,\"\")","v":""},{"$f":"IF('OVERALL TARGET'!AM90>0,'OVERALL TARGET'!AM90,\"\")","v":""},{"$f":"IF('OVERALL TARGET'!AN90>0,'OVERALL TARGET'!AN90,\"\")","v":""},{"$f":"IF('OVERALL TARGET'!AO90>0,'OVERALL TARGET'!AO90,\"\")","v":""},{"$f":"IF('OVERALL TARGET'!AP90>0,'OVERALL TARGET'!AP90,\"\")","v":""},{"$f":"IF('OVERALL TARGET'!AQ90>0,'OVERALL TARGET'!AQ90,\"\")","v":""},{"$f":"IF('OVERALL TARGET'!AR90>0,'OVERALL TARGET'!AR90,\"\")","v":""},{"$f":"IF('OVERALL TARGET'!AS90>0,'OVERALL TARGET'!AS90,\"\")","v":""},{"$f":"IF('OVERALL TARGET'!AT90>0,'OVERALL TARGET'!AT90,\"\")","v":""},{"$f":"IF('OVERALL TARGET'!AU90>0,'OVERALL TARGET'!AU90,\"\")","v":""},{"$f":"IF('OVERALL TARGET'!AV90>0,'OVERALL TARGET'!AV90,\"\")","v":""},{"$f":"IF('OVERALL TARGET'!AW90>0,'OVERALL TARGET'!AW90,\"\")","v":""},{"$f":"IF('OVERALL TARGET'!AX90>0,'OVERALL TARGET'!AX90,\"\")","v":""},{"$f":"IF('OVERALL TARGET'!AY90>0,'OVERALL TARGET'!AY90,\"\")","v":""},{"$f":"IF('OVERALL TARGET'!AZ90>0,'OVERALL TARGET'!AZ90,\"\")","v":""},{"$f":"IF('OVERALL TARGET'!BA90>0,'OVERALL TARGET'!BA90,\"\")","v":""},{"$f":"IF('OVERALL TARGET'!BB90>0,'OVERALL TARGET'!BB90,\"\")","v":""},{"$f":"IF('OVERALL TARGET'!BC90>0,'OVERALL TARGET'!BC90,\"\")","v":""},{"$f":"IF('OVERALL TARGET'!BD90>0,'OVERALL TARGET'!BD90,\"\")","v":""},{"$f":"IF('OVERALL TARGET'!BE90>0,'OVERALL TARGET'!BE90,\"\")","v":""},{"$f":"IF('OVERALL TARGET'!BF90>0,'OVERALL TARGET'!BF90,\"\")","v":""},{"$f":"IF('OVERALL TARGET'!BG90>0,'OVERALL TARGET'!BG90,\"\")","v":""},{"$f":"IF('OVERALL TARGET'!BH90>0,'OVERALL TARGET'!BH90,\"\")","v":""},{"$f":"IF('OVERALL TARGET'!BI90>0,'OVERALL TARGET'!BI90,\"\")","v":""},{"$f":"IF('OVERALL TARGET'!BJ90>0,'OVERALL TARGET'!BJ90,\"\")","v":""},{"$f":"IF('OVERALL TARGET'!BK90>0,'OVERALL TARGET'!BK90,\"\")","v":""},{"$f":"IF('OVERALL TARGET'!BL90>0,'OVERALL TARGET'!BL90,\"\")","v":""},{"$f":"IF('OVERALL TARGET'!BM90>0,'OVERALL TARGET'!BM90,\"\")","v":""},{"$f":"IF('OVERALL TARGET'!BN90>0,'OVERALL TARGET'!BN90,\"\")","v":""},{"$f":"IF('OVERALL TARGET'!BO90>0,'OVERALL TARGET'!BO90,\"\")","v":""},{"$f":"IF('OVERALL TARGET'!BP90>0,'OVERALL TARGET'!BP90,\"\")","v":""}]
[]
["Article 7: Gross final consumption of energy from renewable sources"]
["(a) electricity",null,{"$f":"$AW$1*'OVERALL TARGET'!V107","v":0},{"$f":"$AW$1*'OVERALL TARGET'!W107","v":0},{"$f":"$AW$1*'OVERALL TARGET'!X107","v":0},{"$f":"$AW$1*'OVERALL TARGET'!Y107","v":0},{"$f":"$AW$1*'OVERALL TARGET'!Z107","v":0},{"$f":"$AW$1*'OVERALL TARGET'!AA107","v":0},{"$f":"$AW$1*'OVERALL TARGET'!AB107","v":0},{"$f":"$AW$1*'OVERALL TARGET'!AC107","v":0},{"$f":"$AW$1*'OVERALL TARGET'!AD107","v":0},{"$f":"$AW$1*'OVERALL TARGET'!AE107","v":0},{"$f":"$AW$1*'OVERALL TARGET'!AF107","v":0},{"$f":"$AW$1*'OVERALL TARGET'!AG107","v":0},{"$f":"$AW$1*'OVERALL TARGET'!AH107","v":0},{"$f":"$AW$1*'OVERALL TARGET'!AI107","v":0},{"$f":"$AW$1*'OVERALL TARGET'!AJ107","v":0},{"$f":"$AW$1*'OVERALL TARGET'!AK107","v":0},{"$f":"$AW$1*'OVERALL TARGET'!AL107","v":0},{"$f":"$AW$1*'OVERALL TARGET'!AM107","v":0},{"$f":"$AW$1*'OVERALL TARGET'!AN107","v":0},{"$f":"$AW$1*'OVERALL TARGET'!AO107","v":0},{"$f":"$AW$1*'OVERALL TARGET'!AP107","v":0},{"$f":"$AW$1*'OVERALL TARGET'!AQ107","v":0},{"$f":"$AW$1*'OVERALL TARGET'!AR107","v":0},{"$f":"$AW$1*'OVERALL TARGET'!AS107","v":0},{"$f":"$AW$1*'OVERALL TARGET'!AT107","v":0},{"$f":"$AW$1*'OVERALL TARGET'!AU107","v":0},{"$f":"$AW$1*'OVERALL TARGET'!AV107","v":0},{"$f":"$AW$1*'OVERALL TARGET'!AW107","v":0},{"$f":"$AW$1*'OVERALL TARGET'!AX107","v":0},{"$f":"$AW$1*'OVERALL TARGET'!AY107","v":0},{"$f":"$AW$1*'OVERALL TARGET'!AZ107","v":0},{"$f":"$AW$1*'OVERALL TARGET'!BA107","v":0},{"$f":"$AW$1*'OVERALL TARGET'!BB107","v":0},{"$f":"$AW$1*'OVERALL TARGET'!BC107","v":0},{"$f":"$AW$1*'OVERALL TARGET'!BD107","v":0},{"$f":"$AW$1*'OVERALL TARGET'!BE107","v":0},{"$f":"$AW$1*'OVERALL TARGET'!BF107","v":0},{"$f":"$AW$1*'OVERALL TARGET'!BG107","v":0},{"$f":"$AW$1*'OVERALL TARGET'!BH107","v":0},{"$f":"$AW$1*'OVERALL TARGET'!BI107","v":0},{"$f":"$AW$1*'OVERALL TARGET'!BJ107","v":0},{"$f":"$AW$1*'OVERALL TARGET'!BK107","v":0},{"$f":"$AW$1*'OVERALL TARGET'!BL107","v":0},{"$f":"$AW$1*'OVERALL TARGET'!BM107","v":0},{"$f":"$AW$1*'OVERALL TARGET'!BN107","v":0},{"$f":"$AW$1*'OVERALL TARGET'!BO107","v":0},{"$f":"$AW$1*'OVERALL TARGET'!BP107","v":0}]
["(b) heating and cooling",null,{"$f":"$AW$1*'OVERALL TARGET'!V108","v":0},{"$f":"$AW$1*'OVERALL TARGET'!W108","v":0},{"$f":"$AW$1*'OVERALL TARGET'!X108","v":0},{"$f":"$AW$1*'OVERALL TARGET'!Y108","v":0},{"$f":"$AW$1*'OVERALL TARGET'!Z108","v":0},{"$f":"$AW$1*'OVERALL TARGET'!AA108","v":0},{"$f":"$AW$1*'OVERALL TARGET'!AB108","v":0},{"$f":"$AW$1*'OVERALL TARGET'!AC108","v":0},{"$f":"$AW$1*'OVERALL TARGET'!AD108","v":0},{"$f":"$AW$1*'OVERALL TARGET'!AE108","v":0},{"$f":"$AW$1*'OVERALL TARGET'!AF108","v":0},{"$f":"$AW$1*'OVERALL TARGET'!AG108","v":0},{"$f":"$AW$1*'OVERALL TARGET'!AH108","v":0},{"$f":"$AW$1*'OVERALL TARGET'!AI108","v":0},{"$f":"$AW$1*'OVERALL TARGET'!AJ108","v":0},{"$f":"$AW$1*'OVERALL TARGET'!AK108","v":0},{"$f":"$AW$1*'OVERALL TARGET'!AL108","v":0},{"$f":"$AW$1*'OVERALL TARGET'!AM108","v":0},{"$f":"$AW$1*'OVERALL TARGET'!AN108","v":0},{"$f":"$AW$1*'OVERALL TARGET'!AO108","v":0},{"$f":"$AW$1*'OVERALL TARGET'!AP108","v":0},{"$f":"$AW$1*'OVERALL TARGET'!AQ108","v":0},{"$f":"$AW$1*'OVERALL TARGET'!AR108","v":0},{"$f":"$AW$1*'OVERALL TARGET'!AS108","v":0},{"$f":"$AW$1*'OVERALL TARGET'!AT108","v":0},{"$f":"$AW$1*'OVERALL TARGET'!AU108","v":0},{"$f":"$AW$1*'OVERALL TARGET'!AV108","v":0},{"$f":"$AW$1*'OVERALL TARGET'!AW108","v":0},{"$f":"$AW$1*'OVERALL TARGET'!AX108","v":0},{"$f":"$AW$1*'OVERALL TARGET'!AY108","v":0},{"$f":"$AW$1*'OVERALL TARGET'!AZ108","v":0},{"$f":"$AW$1*'OVERALL TARGET'!BA108","v":0},{"$f":"$AW$1*'OVERALL TARGET'!BB108","v":0},{"$f":"$AW$1*'OVERALL TARGET'!BC108","v":0},{"$f":"$AW$1*'OVERALL TARGET'!BD108","v":0},{"$f":"$AW$1*'OVERALL TARGET'!BE108","v":0},{"$f":"$AW$1*'OVERALL TARGET'!BF108","v":0},{"$f":"$AW$1*'OVERALL TARGET'!BG108","v":0},{"$f":"$AW$1*'OVERALL TARGET'!BH108","v":0},{"$f":"$AW$1*'OVERALL TARGET'!BI108","v":0},{"$f":"$AW$1*'OVERALL TARGET'!BJ108","v":0},{"$f":"$AW$1*'OVERALL TARGET'!BK108","v":0},{"$f":"$AW$1*'OVERALL TARGET'!BL108","v":0},{"$f":"$AW$1*'OVERALL TARGET'!BM108","v":0},{"$f":"$AW$1*'OVERALL TARGET'!BN108","v":0},{"$f":"$AW$1*'OVERALL TARGET'!BO108","v":0},{"$f":"$AW$1*'OVERALL TARGET'!BP108","v":0}]
["(c) transport",null,{"$f":"$AW$1*'OVERALL TARGET'!V109","v":0},{"$f":"$AW$1*'OVERALL TARGET'!W109","v":0},{"$f":"$AW$1*'OVERALL TARGET'!X109","v":0},{"$f":"$AW$1*'OVERALL TARGET'!Y109","v":0},{"$f":"$AW$1*'OVERALL TARGET'!Z109","v":0},{"$f":"$AW$1*'OVERALL TARGET'!AA109","v":0},{"$f":"$AW$1*'OVERALL TARGET'!AB109","v":0},{"$f":"$AW$1*'OVERALL TARGET'!AC109","v":0},{"$f":"$AW$1*'OVERALL TARGET'!AD109","v":0},{"$f":"$AW$1*'OVERALL TARGET'!AE109","v":0},{"$f":"$AW$1*'OVERALL TARGET'!AF109","v":0},{"$f":"$AW$1*'OVERALL TARGET'!AG109","v":0},{"$f":"$AW$1*'OVERALL TARGET'!AH109","v":0},{"$f":"$AW$1*'OVERALL TARGET'!AI109","v":0},{"$f":"$AW$1*'OVERALL TARGET'!AJ109","v":0},{"$f":"$AW$1*'OVERALL TARGET'!AK109","v":0},{"$f":"$AW$1*'OVERALL TARGET'!AL109","v":0},{"$f":"$AW$1*'OVERALL TARGET'!AM109","v":0},{"$f":"$AW$1*'OVERALL TARGET'!AN109","v":0},{"$f":"$AW$1*'OVERALL TARGET'!AO109","v":0},{"$f":"$AW$1*'OVERALL TARGET'!AP109","v":0},{"$f":"$AW$1*'OVERALL TARGET'!AQ109","v":0},{"$f":"$AW$1*'OVERALL TARGET'!AR109","v":0},{"$f":"$AW$1*'OVERALL TARGET'!AS109","v":0},{"$f":"$AW$1*'OVERALL TARGET'!AT109","v":0},{"$f":"$AW$1*'OVERALL TARGET'!AU109","v":0},{"$f":"$AW$1*'OVERALL TARGET'!AV109","v":0},{"$f":"$AW$1*'OVERALL TARGET'!AW109","v":0},{"$f":"$AW$1*'OVERALL TARGET'!AX109","v":0},{"$f":"$AW$1*'OVERALL TARGET'!AY109","v":0},{"$f":"$AW$1*'OVERALL TARGET'!AZ109","v":0},{"$f":"$AW$1*'OVERALL TARGET'!BA109","v":0},{"$f":"$AW$1*'OVERALL TARGET'!BB109","v":0},{"$f":"$AW$1*'OVERALL TARGET'!BC109","v":0},{"$f":"$AW$1*'OVERALL TARGET'!BD109","v":0},{"$f":"$AW$1*'OVERALL TARGET'!BE109","v":0},{"$f":"$AW$1*'OVERALL TARGET'!BF109","v":0},{"$f":"$AW$1*'OVERALL TARGET'!BG109","v":0},{"$f":"$AW$1*'OVERALL TARGET'!BH109","v":0},{"$f":"$AW$1*'OVERALL TARGET'!BI109","v":0},{"$f":"$AW$1*'OVERALL TARGET'!BJ109","v":0},{"$f":"$AW$1*'OVERALL TARGET'!BK109","v":0},{"$f":"$AW$1*'OVERALL TARGET'!BL109","v":0},{"$f":"$AW$1*'OVERALL TARGET'!BM109","v":0},{"$f":"$AW$1*'OVERALL TARGET'!BN109","v":0},{"$f":"$AW$1*'OVERALL TARGET'!BO109","v":0},{"$f":"$AW$1*'OVERALL TARGET'!BP109","v":0}]
["(a) + (b) + (c)  adjusted with  7% limit and high-ILUC risk",null,{"$f":"C50+C51+C52","v":0},{"$f":"D50+D51+D52","v":0},0,0,0,0,0,0,0,0,0,0,0,0,0,0,0,{"$f":"T50+T51+T52","v":0},{"$f":"U50+U51+U52","v":0},{"$f":"V50+V51+V52","v":0},{"$f":"W50+W51+W52","v":0},{"$f":"X50+X51+X52","v":0},0,0,0,0,0,0,{"$f":"AE50+AE51+AE52","v":0},0,0,0,0,0,0,0,0,0,0,0,0,0,0,0,0,0,0]
["Note: electricity used in transport is included in transport and thus not included in electricity"]
[]
["Articles 8-13: Statistical Transfers & Joint Projects"]
["total amount to be added",null,{"$f":"$AW$1*'OVERALL TARGET'!V117","v":0},{"$f":"$AW$1*'OVERALL TARGET'!W117","v":0},{"$f":"$AW$1*'OVERALL TARGET'!X117","v":0},{"$f":"$AW$1*'OVERALL TARGET'!Y117","v":0},{"$f":"$AW$1*'OVERALL TARGET'!Z117","v":0},{"$f":"$AW$1*'OVERALL TARGET'!AA117","v":0},{"$f":"$AW$1*'OVERALL TARGET'!AB117","v":0},{"$f":"$AW$1*'OVERALL TARGET'!AC117","v":0},{"$f":"$AW$1*'OVERALL TARGET'!AD117","v":0},{"$f":"$AW$1*'OVERALL TARGET'!AE117","v":0},{"$f":"$AW$1*'OVERALL TARGET'!AF117","v":0},{"$f":"$AW$1*'OVERALL TARGET'!AG117","v":0},{"$f":"$AW$1*'OVERALL TARGET'!AH117","v":0},{"$f":"$AW$1*'OVERALL TARGET'!AI117","v":0},{"$f":"$AW$1*'OVERALL TARGET'!AJ117","v":0},{"$f":"$AW$1*'OVERALL TARGET'!AK117","v":0},{"$f":"$AW$1*'OVERALL TARGET'!AL117","v":0},{"$f":"$AW$1*'OVERALL TARGET'!AM117","v":0},{"$f":"$AW$1*'OVERALL TARGET'!AN117","v":0},{"$f":"$AW$1*'OVERALL TARGET'!AO117","v":0},{"$f":"$AW$1*'OVERALL TARGET'!AP117","v":0},{"$f":"$AW$1*'OVERALL TARGET'!AQ117","v":0},{"$f":"$AW$1*'OVERALL TARGET'!AR117","v":0},{"$f":"$AW$1*'OVERALL TARGET'!AS117","v":0},{"$f":"$AW$1*'OVERALL TARGET'!AT117","v":0},{"$f":"$AW$1*'OVERALL TARGET'!AU117","v":0},{"$f":"$AW$1*'OVERALL TARGET'!AV117","v":0},{"$f":"$AW$1*'OVERALL TARGET'!AW117","v":0},{"$f":"$AW$1*'OVERALL TARGET'!AX117","v":0},{"$f":"$AW$1*'OVERALL TARGET'!AY117","v":0},{"$f":"$AW$1*'OVERALL TARGET'!AZ117","v":0},{"$f":"$AW$1*'OVERALL TARGET'!BA117","v":0},{"$f":"$AW$1*'OVERALL TARGET'!BB117","v":0},{"$f":"$AW$1*'OVERALL TARGET'!BC117","v":0},{"$f":"$AW$1*'OVERALL TARGET'!BD117","v":0},{"$f":"$AW$1*'OVERALL TARGET'!BE117","v":0},{"$f":"$AW$1*'OVERALL TARGET'!BF117","v":0},{"$f":"$AW$1*'OVERALL TARGET'!BG117","v":0},{"$f":"$AW$1*'OVERALL TARGET'!BH117","v":0},{"$f":"$AW$1*'OVERALL TARGET'!BI117","v":0},{"$f":"$AW$1*'OVERALL TARGET'!BJ117","v":0},{"$f":"$AW$1*'OVERALL TARGET'!BK117","v":0},{"$f":"$AW$1*'OVERALL TARGET'!BL117","v":0},{"$f":"$AW$1*'OVERALL TARGET'!BM117","v":0},{"$f":"$AW$1*'OVERALL TARGET'!BN117","v":0},{"$f":"$AW$1*'OVERALL TARGET'!BO117","v":0},{"$f":"$AW$1*'OVERALL TARGET'!BP117","v":0}]
["total amount to be deduced",null,{"$f":"$AW$1*'OVERALL TARGET'!V118","v":0},{"$f":"$AW$1*'OVERALL TARGET'!W118","v":0},{"$f":"$AW$1*'OVERALL TARGET'!X118","v":0},{"$f":"$AW$1*'OVERALL TARGET'!Y118","v":0},{"$f":"$AW$1*'OVERALL TARGET'!Z118","v":0},{"$f":"$AW$1*'OVERALL TARGET'!AA118","v":0},{"$f":"$AW$1*'OVERALL TARGET'!AB118","v":0},{"$f":"$AW$1*'OVERALL TARGET'!AC118","v":0},{"$f":"$AW$1*'OVERALL TARGET'!AD118","v":0},{"$f":"$AW$1*'OVERALL TARGET'!AE118","v":0},{"$f":"$AW$1*'OVERALL TARGET'!AF118","v":0},{"$f":"$AW$1*'OVERALL TARGET'!AG118","v":0},{"$f":"$AW$1*'OVERALL TARGET'!AH118","v":0},{"$f":"$AW$1*'OVERALL TARGET'!AI118","v":0},{"$f":"$AW$1*'OVERALL TARGET'!AJ118","v":0},{"$f":"$AW$1*'OVERALL TARGET'!AK118","v":0},{"$f":"$AW$1*'OVERALL TARGET'!AL118","v":0},{"$f":"$AW$1*'OVERALL TARGET'!AM118","v":0},{"$f":"$AW$1*'OVERALL TARGET'!AN118","v":0},{"$f":"$AW$1*'OVERALL TARGET'!AO118","v":0},{"$f":"$AW$1*'OVERALL TARGET'!AP118","v":0},{"$f":"$AW$1*'OVERALL TARGET'!AQ118","v":0},{"$f":"$AW$1*'OVERALL TARGET'!AR118","v":0},{"$f":"$AW$1*'OVERALL TARGET'!AS118","v":0},{"$f":"$AW$1*'OVERALL TARGET'!AT118","v":0},{"$f":"$AW$1*'OVERALL TARGET'!AU118","v":0},{"$f":"$AW$1*'OVERALL TARGET'!AV118","v":0},{"$f":"$AW$1*'OVERALL TARGET'!AW118","v":0},{"$f":"$AW$1*'OVERALL TARGET'!AX118","v":0},{"$f":"$AW$1*'OVERALL TARGET'!AY118","v":0},{"$f":"$AW$1*'OVERALL TARGET'!AZ118","v":0},{"$f":"$AW$1*'OVERALL TARGET'!BA118","v":0},{"$f":"$AW$1*'OVERALL TARGET'!BB118","v":0},{"$f":"$AW$1*'OVERALL TARGET'!BC118","v":0},{"$f":"$AW$1*'OVERALL TARGET'!BD118","v":0},{"$f":"$AW$1*'OVERALL TARGET'!BE118","v":0},{"$f":"$AW$1*'OVERALL TARGET'!BF118","v":0},{"$f":"$AW$1*'OVERALL TARGET'!BG118","v":0},{"$f":"$AW$1*'OVERALL TARGET'!BH118","v":0},{"$f":"$AW$1*'OVERALL TARGET'!BI118","v":0},{"$f":"$AW$1*'OVERALL TARGET'!BJ118","v":0},{"$f":"$AW$1*'OVERALL TARGET'!BK118","v":0},{"$f":"$AW$1*'OVERALL TARGET'!BL118","v":0},{"$f":"$AW$1*'OVERALL TARGET'!BM118","v":0},{"$f":"$AW$1*'OVERALL TARGET'!BN118","v":0},{"$f":"$AW$1*'OVERALL TARGET'!BO118","v":0},{"$f":"$AW$1*'OVERALL TARGET'!BP118","v":0}]
[]
["Total (RES numerator)",null,{"$f":"C53+C57-C58","v":0},0,0,0,0,0,0,0,0,0,0,0,0,0,0,0,0,0,0,0,0,0,0,0,0,0,0,0,0,0,0,0,0,0,0,0,0,0,0,0,0,0,0,0,0,0,0]
[]
["Article 2 (4): Gross final consumption of energy"]
["GFCoE",null,{"$f":"$AW$1*'OVERALL TARGET'!V96","v":0},{"$f":"$AW$1*'OVERALL TARGET'!W96","v":0},{"$f":"$AW$1*'OVERALL TARGET'!X96","v":0},{"$f":"$AW$1*'OVERALL TARGET'!Y96","v":0},{"$f":"$AW$1*'OVERALL TARGET'!Z96","v":0},{"$f":"$AW$1*'OVERALL TARGET'!AA96","v":0},{"$f":"$AW$1*'OVERALL TARGET'!AB96","v":0},{"$f":"$AW$1*'OVERALL TARGET'!AC96","v":0},{"$f":"$AW$1*'OVERALL TARGET'!AD96","v":0},{"$f":"$AW$1*'OVERALL TARGET'!AE96","v":0},{"$f":"$AW$1*'OVERALL TARGET'!AF96","v":0},{"$f":"$AW$1*'OVERALL TARGET'!AG96","v":0},{"$f":"$AW$1*'OVERALL TARGET'!AH96","v":0},{"$f":"$AW$1*'OVERALL TARGET'!AI96","v":0},{"$f":"$AW$1*'OVERALL TARGET'!AJ96","v":0},{"$f":"$AW$1*'OVERALL TARGET'!AK96","v":0},{"$f":"$AW$1*'OVERALL TARGET'!AL96","v":0},{"$f":"$AW$1*'OVERALL TARGET'!AM96","v":0},{"$f":"$AW$1*'OVERALL TARGET'!AN96","v":0},{"$f":"$AW$1*'OVERALL TARGET'!AO96","v":0},{"$f":"$AW$1*'OVERALL TARGET'!AP96","v":0},{"$f":"$AW$1*'OVERALL TARGET'!AQ96","v":0},{"$f":"$AW$1*'OVERALL TARGET'!AR96","v":0},{"$f":"$AW$1*'OVERALL TARGET'!AS96","v":0},{"$f":"$AW$1*'OVERALL TARGET'!AT96","v":0},{"$f":"$AW$1*'OVERALL TARGET'!AU96","v":0},{"$f":"$AW$1*'OVERALL TARGET'!AV96","v":0},{"$f":"$AW$1*'OVERALL TARGET'!AW96","v":0},{"$f":"$AW$1*'OVERALL TARGET'!AX96","v":0},{"$f":"$AW$1*'OVERALL TARGET'!AY96","v":0},{"$f":"$AW$1*'OVERALL TARGET'!AZ96","v":0},{"$f":"$AW$1*'OVERALL TARGET'!BA96","v":0},{"$f":"$AW$1*'OVERALL TARGET'!BB96","v":0},{"$f":"$AW$1*'OVERALL TARGET'!BC96","v":0},{"$f":"$AW$1*'OVERALL TARGET'!BD96","v":0},{"$f":"$AW$1*'OVERALL TARGET'!BE96","v":0},{"$f":"$AW$1*'OVERALL TARGET'!BF96","v":0},{"$f":"$AW$1*'OVERALL TARGET'!BG96","v":0},{"$f":"$AW$1*'OVERALL TARGET'!BH96","v":0},{"$f":"$AW$1*'OVERALL TARGET'!BI96","v":0},{"$f":"$AW$1*'OVERALL TARGET'!BJ96","v":0},{"$f":"$AW$1*'OVERALL TARGET'!BK96","v":0},{"$f":"$AW$1*'OVERALL TARGET'!BL96","v":0},{"$f":"$AW$1*'OVERALL TARGET'!BM96","v":0},{"$f":"$AW$1*'OVERALL TARGET'!BN96","v":0},{"$f":"$AW$1*'OVERALL TARGET'!BO96","v":0},{"$f":"$AW$1*'OVERALL TARGET'!BP96","v":0}]
[]
["Article 7 (5): Aviation adjustment"]
["Total before adjustment",null,{"$f":"$AW$1*'OVERALL TARGET'!V122","v":0},{"$f":"$AW$1*'OVERALL TARGET'!W122","v":0},{"$f":"$AW$1*'OVERALL TARGET'!X122","v":0},{"$f":"$AW$1*'OVERALL TARGET'!Y122","v":0},{"$f":"$AW$1*'OVERALL TARGET'!Z122","v":0},{"$f":"$AW$1*'OVERALL TARGET'!AA122","v":0},{"$f":"$AW$1*'OVERALL TARGET'!AB122","v":0},{"$f":"$AW$1*'OVERALL TARGET'!AC122","v":0},{"$f":"$AW$1*'OVERALL TARGET'!AD122","v":0},{"$f":"$AW$1*'OVERALL TARGET'!AE122","v":0},{"$f":"$AW$1*'OVERALL TARGET'!AF122","v":0},{"$f":"$AW$1*'OVERALL TARGET'!AG122","v":0},{"$f":"$AW$1*'OVERALL TARGET'!AH122","v":0},{"$f":"$AW$1*'OVERALL TARGET'!AI122","v":0},{"$f":"$AW$1*'OVERALL TARGET'!AJ122","v":0},{"$f":"$AW$1*'OVERALL TARGET'!AK122","v":0},{"$f":"$AW$1*'OVERALL TARGET'!AL122","v":0},{"$f":"$AW$1*'OVERALL TARGET'!AM122","v":0},{"$f":"$AW$1*'OVERALL TARGET'!AN122","v":0},{"$f":"$AW$1*'OVERALL TARGET'!AO122","v":0},{"$f":"$AW$1*'OVERALL TARGET'!AP122","v":0},{"$f":"$AW$1*'OVERALL TARGET'!AQ122","v":0},{"$f":"$AW$1*'OVERALL TARGET'!AR122","v":0},{"$f":"$AW$1*'OVERALL TARGET'!AS122","v":0},{"$f":"$AW$1*'OVERALL TARGET'!AT122","v":0},{"$f":"$AW$1*'OVERALL TARGET'!AU122","v":0},{"$f":"$AW$1*'OVERALL TARGET'!AV122","v":0},{"$f":"$AW$1*'OVERALL TARGET'!AW122","v":0},{"$f":"$AW$1*'OVERALL TARGET'!AX122","v":0},{"$f":"$AW$1*'OVERALL TARGET'!AY122","v":0},{"$f":"$AW$1*'OVERALL TARGET'!AZ122","v":0},{"$f":"$AW$1*'OVERALL TARGET'!BA122","v":0},{"$f":"$AW$1*'OVERALL TARGET'!BB122","v":0},{"$f":"$AW$1*'OVERALL TARGET'!BC122","v":0},{"$f":"$AW$1*'OVERALL TARGET'!BD122","v":0},{"$f":"$AW$1*'OVERALL TARGET'!BE122","v":0},{"$f":"$AW$1*'OVERALL TARGET'!BF122","v":0},{"$f":"$AW$1*'OVERALL TARGET'!BG122","v":0},{"$f":"$AW$1*'OVERALL TARGET'!BH122","v":0},{"$f":"$AW$1*'OVERALL TARGET'!BI122","v":0},{"$f":"$AW$1*'OVERALL TARGET'!BJ122","v":0},{"$f":"$AW$1*'OVERALL TARGET'!BK122","v":0},{"$f":"$AW$1*'OVERALL TARGET'!BL122","v":0},{"$f":"$AW$1*'OVERALL TARGET'!BM122","v":0},{"$f":"$AW$1*'OVERALL TARGET'!BN122","v":0},{"$f":"$AW$1*'OVERALL TARGET'!BO122","v":0},{"$f":"$AW$1*'OVERALL TARGET'!BP122","v":0}]
["Total (RES denominator)",null,{"$f":"$AW$1*'OVERALL TARGET'!V127","v":0},{"$f":"$AW$1*'OVERALL TARGET'!W127","v":0},{"$f":"$AW$1*'OVERALL TARGET'!X127","v":0},{"$f":"$AW$1*'OVERALL TARGET'!Y127","v":0},{"$f":"$AW$1*'OVERALL TARGET'!Z127","v":0},{"$f":"$AW$1*'OVERALL TARGET'!AA127","v":0},{"$f":"$AW$1*'OVERALL TARGET'!AB127","v":0},{"$f":"$AW$1*'OVERALL TARGET'!AC127","v":0},{"$f":"$AW$1*'OVERALL TARGET'!AD127","v":0},{"$f":"$AW$1*'OVERALL TARGET'!AE127","v":0},{"$f":"$AW$1*'OVERALL TARGET'!AF127","v":0},{"$f":"$AW$1*'OVERALL TARGET'!AG127","v":0},{"$f":"$AW$1*'OVERALL TARGET'!AH127","v":0},{"$f":"$AW$1*'OVERALL TARGET'!AI127","v":0},{"$f":"$AW$1*'OVERALL TARGET'!AJ127","v":0},{"$f":"$AW$1*'OVERALL TARGET'!AK127","v":0},{"$f":"$AW$1*'OVERALL TARGET'!AL127","v":0},{"$f":"$AW$1*'OVERALL TARGET'!AM127","v":0},{"$f":"$AW$1*'OVERALL TARGET'!AN127","v":0},{"$f":"$AW$1*'OVERALL TARGET'!AO127","v":0},{"$f":"$AW$1*'OVERALL TARGET'!AP127","v":0},{"$f":"$AW$1*'OVERALL TARGET'!AQ127","v":0},{"$f":"$AW$1*'OVERALL TARGET'!AR127","v":0},{"$f":"$AW$1*'OVERALL TARGET'!AS127","v":0},{"$f":"$AW$1*'OVERALL TARGET'!AT127","v":0},{"$f":"$AW$1*'OVERALL TARGET'!AU127","v":0},{"$f":"$AW$1*'OVERALL TARGET'!AV127","v":0},{"$f":"$AW$1*'OVERALL TARGET'!AW127","v":0},{"$f":"$AW$1*'OVERALL TARGET'!AX127","v":0},{"$f":"$AW$1*'OVERALL TARGET'!AY127","v":0},{"$f":"$AW$1*'OVERALL TARGET'!AZ127","v":0},{"$f":"$AW$1*'OVERALL TARGET'!BA127","v":0},{"$f":"$AW$1*'OVERALL TARGET'!BB127","v":0},{"$f":"$AW$1*'OVERALL TARGET'!BC127","v":0},{"$f":"$AW$1*'OVERALL TARGET'!BD127","v":0},{"$f":"$AW$1*'OVERALL TARGET'!BE127","v":0},{"$f":"$AW$1*'OVERALL TARGET'!BF127","v":0},{"$f":"$AW$1*'OVERALL TARGET'!BG127","v":0},{"$f":"$AW$1*'OVERALL TARGET'!BH127","v":0},{"$f":"$AW$1*'OVERALL TARGET'!BI127","v":0},{"$f":"$AW$1*'OVERALL TARGET'!BJ127","v":0},{"$f":"$AW$1*'OVERALL TARGET'!BK127","v":0},{"$f":"$AW$1*'OVERALL TARGET'!BL127","v":0},{"$f":"$AW$1*'OVERALL TARGET'!BM127","v":0},{"$f":"$AW$1*'OVERALL TARGET'!BN127","v":0},{"$f":"$AW$1*'OVERALL TARGET'!BO127","v":0},{"$f":"$AW$1*'OVERALL TARGET'!BP127","v":0}]
[]
["RES [%]",null,{"$f":"IF(C67>0,(C53+C57-C58)/C67,\"\")","v":""},{"$f":"IF(D67>0,(D53+D57-D58)/D67,\"\")","v":""},"","","","","","","","","","","","","","","","","","","","","","","","","","","","","","","","","","","","","","","","","","","","",""]
[{"$f":"MAIN!A4","v":"v2024.120925"}]
[null,null,null,null,null,null,null,null,null,"Indicative Trajectory"]
[null,null,null,"S2005",null,null,null,null,null,"2011-2012",null,"2013-2014",null,"2015-2016",null,"2017-2018",null,null,"Target"]
[null,null,null,{"$f":"VLOOKUP($V$1,MAIN!$H$103:$P$143,8,FALSE)","v":{"$error":"#N/A"}},null,null,null,null,null,{"$f":"VLOOKUP($V$1,MAIN!$H$103:$P$143,4,FALSE)","v":{"$error":"#N/A"}},null,{"$f":"VLOOKUP($V$1,MAIN!$H$103:$P$143,5,FALSE)","v":{"$error":"#N/A"}},null,{"$f":"VLOOKUP($V$1,MAIN!$H$103:$P$143,6,FALSE)","v":{"$error":"#N/A"}},null,{"$f":"VLOOKUP($V$1,MAIN!$H$103:$P$143,7,FALSE)","v":{"$error":"#N/A"}},null,null,{"$f":"VLOOKUP(V1,MAIN!H103:P143,3,FALSE)","v":{"$error":"#N/A"}}]
[]
[]
[]
[]
[]
[]
[]
[]
[]
[]
[]
[]
[]
[]
[]
[]
[]
[]
[]
[]
[]
[]
[]
[]
[]
[]
[]
[]
[]
[]
[]
[]
[]
[]
[]
[]
[]
[]
[]
[]
[]
[]
[]
[]
[]
[]
[]
[]
[]
[]
[]
[]
[]
[]
[]
[]
[]
[]
[]
[]
[]
[]
[]
[]
[]
[]
[]
[]
[]
[]
[]
[]
[]
[]
[]
[]
[]
[]
[]
[]
[]
[]
[]
[]
[]
[]
[]
[]
[]
[]
[]
[]
[]
[]
[]
[]
[]
[]
[]
[]
[]
[]
[]
[]
[]
[]
[]
[]
[]
[]
[]
[]
[]
[]
[]
[]
[]
[]
[]
[]
[]
[]
[]
[]
[]
[]
[]
[]
[41.868000000000002,"TJ (terajoule)"]
[10,"Tcal (teracalorie)"]
[1,"ktoe (thousand tonnes of oil equivalent)"]
[{"$f":"41.868/3.6","v":11.63},"GWh (gigawatt hour)"]
[39.68,"Mbtu (million British thermal unit)"]

{"sheet":"REMARKS","index":2,"n_rows":2,"n_cols":1,"rows_kept":2,"cut":false,"hidden":false,"merged":[]}
["REMARKS"]
["Please include here important remarks."]

{"sheet":"OVERALL TARGET","index":3,"n_rows":1001,"n_cols":142,"rows_kept":1001,"cut":false,"hidden":false,"merged":[]}
[null,null,null,null,null,null,null,null,null,null,null,null,null,null,null,null,null,null,null,null,null,null,null,null,null,null,null,null,null,null,null,null,null,null,null,null,null,null,"Due to different legal basis, data prior to 2021 in this tool have no legal value and are only intended for data quality checks"]
[null,null,null,null,null,null,null,null,null,null,null,null,null,null,null,null,null,null,null,null,null,null,null,null,null,null,null,null,null,null,null,null,null,null,null,null,null,null,"Please consult https://ec.europa.eu/eurostat/web/energy/data/shares for results up to 2020."]
[]
[null,null,null,null,null,null,null,null,null,null,null,null,null,null,null,null,null,null,null,null,null,null,null,null,null,null,null,null,null,null,null,null,null,null,null,null,null,null,null,null,null,null,null,null,null,null,null,null,null,null,null,null,null,null,null,null,null,null,null,null,null,null,null,null,null,null,null,null,null,null,null,null,null,null,null,null,null,null,null,null,null,null,null,null,null,null,null,null,null,null,null,null,null,null,null,null,null,null,null,null,null,null,null,null,null,null,null,null,null,null,null,null,null,null,null,null,null,null,null,null,null,null,"*** DSD codes ***"]
[{"$f":"MAIN!$D$9","v":""},null,null,null,null,null,null,1990,1991,1992,1993,1994,1995,1996,1997,1998,1999,2000,2001,2002,2003,2004,2005,2006,2007,2008,2009,2010,2011,2012,2013,2014,2015,2016,2017,2018,2019,2020,2021,2022,2023,2024,2025,2026,2027,2028,2029,2030,2031,2032,2033,2034,2035,2036,2037,2038,2039,2040,2041,2042,2043,2044,2045,2046,2047,2048,2049,2050,null,null,null,null,null,null,null,null,null,null,null,null,null,null,null,null,null,null,null,null,null,null,null,null,null,null,null,null,null,null,null,null,null,null,null,null,null,null,null,null,null,null,null,null,null,null,null,null,null,null,null,null,null,null,"REF_AREA","ENERGY_PRODUCT","MAIN_FLOW","FLOW_BREAKDOWN","PLANT_TECH","PLANT_TYPE","STOCKS","INFRASTRUCTURE_IND","VIS_A_VIS_AREA","MEASURE_VALUE_TYPE","FACILITY_ID","UNIT_MEASURE",null,"Eurobase dataset","MDT","MDT","MDT","MDT","MDT","Formula for country aggregates (Agg.)"]
["Renewable Electricity Generation [GWh]",null,null,null,null,null,null,null,null,null,null,null,null,null,null,null,null,null,null,null,null,{"$f":"V7+V10+V14+V18+V23+V24+V25+V26+V27+V28+V29+V31+V33-TRANSPORT!V110*41.868/3.6","v":0},{"$f":"W7+W10+W14+W18+W23+W24+W25+W26+W27+W28+W29+W31+W33-TRANSPORT!W110*41.868/3.6","v":0},{"$f":"X7+X10+X14+X18+X23+X24+X25+X26+X27+X28+X29+X31+X33-TRANSPORT!X110*41.868/3.6","v":0},{"$f":"Y7+Y10+Y14+Y18+Y23+Y24+Y25+Y26+Y27+Y28+Y29+Y31+Y33-TRANSPORT!Y110*41.868/3.6","v":0},{"$f":"Z7+Z10+Z14+Z18+Z23+Z24+Z25+Z26+Z27+Z28+Z29+Z31+Z33-TRANSPORT!Z110*41.868/3.6","v":0},{"$f":"AA7+AA10+AA14+AA18+AA23+AA24+AA25+AA26+AA27+AA28+AA29+AA31+AA33-TRANSPORT!AA110*41.868/3.6","v":0},{"$f":"AB7+AB10+AB14+AB18+AB23+AB24+AB25+AB26+AB27+AB28+AB29+AB31+AB33-TRANSPORT!AB110*41.868/3.6","v":0},{"$f":"AC7+AC10+AC14+AC18+AC23+AC24+AC25+AC26+AC27+AC28+AC29+AC31+AC33-TRANSPORT!AC110*41.868/3.6","v":0},{"$f":"AD7+AD10+AD14+AD18+AD23+AD24+AD25+AD26+AD27+AD28+AD29+AD31+AD33-TRANSPORT!AD110*41.868/3.6","v":0},{"$f":"AE7+AE10+AE14+AE18+AE23+AE24+AE25+AE26+AE27+AE28+AE29+AE31+AE33-TRANSPORT!AE110*41.868/3.6","v":0},{"$f":"AF7+AF10+AF14+AF18+AF23+AF24+AF25+AF26+AF27+AF28+AF29+AF31+AF33-TRANSPORT!AF110*41.868/3.6","v":0},{"$f":"AG7+AG10+AG14+AG18+AG23+AG24+AG25+AG26+AG27+AG28+AG29+AG31+AG33-TRANSPORT!AG110*41.868/3.6","v":0},{"$f":"AH7+AH10+AH14+AH18+AH23+AH24+AH25+AH26+AH27+AH28+AH29+AH31+AH33-TRANSPORT!AH110*41.868/3.6","v":0},{"$f":"AI7+AI10+AI14+AI18+AI23+AI24+AI25+AI26+AI27+AI28+AI29+AI31+AI33-TRANSPORT!AI110*41.868/3.6","v":0},{"$f":"AJ7+AJ10+AJ14+AJ18+AJ23+AJ24+AJ25+AJ26+AJ27+AJ28+AJ29+AJ31+AJ33-TRANSPORT!AJ110*41.868/3.6","v":0},{"$f":"AK7+AK10+AK14+AK18+AK23+AK24+AK25+AK26+AK27+AK28+AK29+AK31+AK33-TRANSPORT!AK110*41.868/3.6","v":0},{"$f":"AL7+AL10+AL14+AL18+AL23+AL24+AL25+AL26+AL27+AL28+AL29+AL31+AL33-TRANSPORT!AL110*41.868/3.6","v":0},{"$f":"AM7+AM10+AM14+AM18+AM23+AM24+AM25+AM26+AM27+AM28+AM29+AM31+AM33-TRANSPORT!AM110*41.868/3.6","v":0},{"$f":"AN7+AN10+AN14+AN18+AN23+AN24+AN25+AN26+AN27+AN28+AN29+AN31+AN33-TRANSPORT!AN110*41.868/3.6","v":0},{"$f":"AO7+AO10+AO14+AO18+AO23+AO24+AO25+AO26+AO27+AO28+AO29+AO31+AO33-TRANSPORT!AO110*41.868/3.6","v":0},{"$f":"AP7+AP10+AP14+AP18+AP23+AP24+AP25+AP26+AP27+AP28+AP29+AP31+AP33-TRANSPORT!AP110*41.868/3.6","v":0},{"$f":"AQ7+AQ10+AQ14+AQ18+AQ23+AQ24+AQ25+AQ26+AQ27+AQ28+AQ29+AQ31+AQ33-TRANSPORT!AQ110*41.868/3.6","v":0},{"$f":"AR7+AR10+AR14+AR18+AR23+AR24+AR25+AR26+AR27+AR28+AR29+AR31+AR33-TRANSPORT!AR110*41.868/3.6","v":0},{"$f":"AS7+AS10+AS14+AS18+AS23+AS24+AS25+AS26+AS27+AS28+AS29+AS31+AS33-TRANSPORT!AS110*41.868/3.6","v":0},{"$f":"AT7+AT10+AT14+AT18+AT23+AT24+AT25+AT26+AT27+AT28+AT29+AT31+AT33-TRANSPORT!AT110*41.868/3.6","v":0},{"$f":"AU7+AU10+AU14+AU18+AU23+AU24+AU25+AU26+AU27+AU28+AU29+AU31+AU33-TRANSPORT!AU110*41.868/3.6","v":0},{"$f":"AV7+AV10+AV14+AV18+AV23+AV24+AV25+AV26+AV27+AV28+AV29+AV31+AV33-TRANSPORT!AV110*41.868/3.6","v":0},{"$f":"AW7+AW10+AW14+AW18+AW23+AW24+AW25+AW26+AW27+AW28+AW29+AW31+AW33-TRANSPORT!AW110*41.868/3.6","v":0},{"$f":"AX7+AX10+AX14+AX18+AX23+AX24+AX25+AX26+AX27+AX28+AX29+AX31+AX33-TRANSPORT!AX110*41.868/3.6","v":0},{"$f":"AY7+AY10+AY14+AY18+AY23+AY24+AY25+AY26+AY27+AY28+AY29+AY31+AY33-TRANSPORT!AY110*41.868/3.6","v":0},{"$f":"AZ7+AZ10+AZ14+AZ18+AZ23+AZ24+AZ25+AZ26+AZ27+AZ28+AZ29+AZ31+AZ33-TRANSPORT!AZ110*41.868/3.6","v":0},{"$f":"BA7+BA10+BA14+BA18+BA23+BA24+BA25+BA26+BA27+BA28+BA29+BA31+BA33-TRANSPORT!BA110*41.868/3.6","v":0},{"$f":"BB7+BB10+BB14+BB18+BB23+BB24+BB25+BB26+BB27+BB28+BB29+BB31+BB33-TRANSPORT!BB110*41.868/3.6","v":0},{"$f":"BC7+BC10+BC14+BC18+BC23+BC24+BC25+BC26+BC27+BC28+BC29+BC31+BC33-TRANSPORT!BC110*41.868/3.6","v":0},{"$f":"BD7+BD10+BD14+BD18+BD23+BD24+BD25+BD26+BD27+BD28+BD29+BD31+BD33-TRANSPORT!BD110*41.868/3.6","v":0},{"$f":"BE7+BE10+BE14+BE18+BE23+BE24+BE25+BE26+BE27+BE28+BE29+BE31+BE33-TRANSPORT!BE110*41.868/3.6","v":0},{"$f":"BF7+BF10+BF14+BF18+BF23+BF24+BF25+BF26+BF27+BF28+BF29+BF31+BF33-TRANSPORT!BF110*41.868/3.6","v":0},{"$f":"BG7+BG10+BG14+BG18+BG23+BG24+BG25+BG26+BG27+BG28+BG29+BG31+BG33-TRANSPORT!BG110*41.868/3.6","v":0},{"$f":"BH7+BH10+BH14+BH18+BH23+BH24+BH25+BH26+BH27+BH28+BH29+BH31+BH33-TRANSPORT!BH110*41.868/3.6","v":0},{"$f":"BI7+BI10+BI14+BI18+BI23+BI24+BI25+BI26+BI27+BI28+BI29+BI31+BI33-TRANSPORT!BI110*41.868/3.6","v":0},{"$f":"BJ7+BJ10+BJ14+BJ18+BJ23+BJ24+BJ25+BJ26+BJ27+BJ28+BJ29+BJ31+BJ33-TRANSPORT!BJ110*41.868/3.6","v":0},{"$f":"BK7+BK10+BK14+BK18+BK23+BK24+BK25+BK26+BK27+BK28+BK29+BK31+BK33-TRANSPORT!BK110*41.868/3.6","v":0},{"$f":"BL7+BL10+BL14+BL18+BL23+BL24+BL25+BL26+BL27+BL28+BL29+BL31+BL33-TRANSPORT!BL110*41.868/3.6","v":0},{"$f":"BM7+BM10+BM14+BM18+BM23+BM24+BM25+BM26+BM27+BM28+BM29+BM31+BM33-TRANSPORT!BM110*41.868/3.6","v":0},{"$f":"BN7+BN10+BN14+BN18+BN23+BN24+BN25+BN26+BN27+BN28+BN29+BN31+BN33-TRANSPORT!BN110*41.868/3.6","v":0},{"$f":"BO7+BO10+BO14+BO18+BO23+BO24+BO25+BO26+BO27+BO28+BO29+BO31+BO33-TRANSPORT!BO110*41.868/3.6","v":0},{"$f":"BP7+BP10+BP14+BP18+BP23+BP24+BP25+BP26+BP27+BP28+BP29+BP31+BP33-TRANSPORT!BP110*41.868/3.6","v":0},null,null,null,null,null,null,null,null,null,null,null,null,null,null,null,null,null,null,null,null,null,null,null,null,null,null,null,null,null,null,null,null,null,null,null,null,null,null,null,null,null,null,null,null,null,null,null,null,null,null,null,null,null,null,null,"E7000","GEP_RED","_Z","PTRENEWRED","_Z","_Z","_Z","_Z","ENERGY","_Z","GWH",null,"nrg_ind_ured","TIMESERIES","RA000","GEP_RED","_Z","GWH","Agg.=SUM(countries)"]
[null,"Normalised hydro generation",null,null,null,null,null,null,null,null,null,null,null,null,null,null,null,null,null,null,null,{"$f":"REN!V236+REN!V244","v":0},{"$f":"REN!W236+REN!W244","v":0},{"$f":"REN!X236+REN!X244","v":0},{"$f":"REN!Y236+REN!Y244","v":0},{"$f":"REN!Z236+REN!Z244","v":0},{"$f":"REN!AA236+REN!AA244","v":0},{"$f":"REN!AB236+REN!AB244","v":0},{"$f":"REN!AC236+REN!AC244","v":0},{"$f":"REN!AD236+REN!AD244","v":0},{"$f":"REN!AE236+REN!AE244","v":0},{"$f":"REN!AF236+REN!AF244","v":0},{"$f":"REN!AG236+REN!AG244","v":0},{"$f":"REN!AH236+REN!AH244","v":0},{"$f":"REN!AI236+REN!AI244","v":0},{"$f":"REN!AJ236+REN!AJ244","v":0},{"$f":"REN!AK236+REN!AK244","v":0},{"$f":"REN!AL236+REN!AL244","v":0},{"$f":"REN!AM236+REN!AM244","v":0},{"$f":"REN!AN236+REN!AN244","v":0},{"$f":"REN!AO236+REN!AO244","v":0},{"$f":"REN!AP236+REN!AP244","v":0},{"$f":"REN!AQ236+REN!AQ244","v":0},{"$f":"REN!AR236+REN!AR244","v":0},{"$f":"REN!AS236+REN!AS244","v":0},{"$f":"REN!AT236+REN!AT244","v":0},{"$f":"REN!AU236+REN!AU244","v":0},{"$f":"REN!AV236+REN!AV244","v":0},{"$f":"REN!AW236+REN!AW244","v":0},{"$f":"REN!AX236+REN!AX244","v":0},{"$f":"REN!AY236+REN!AY244","v":0},{"$f":"REN!AZ236+REN!AZ244","v":0},{"$f":"REN!BA236+REN!BA244","v":0},{"$f":"REN!BB236+REN!BB244","v":0},{"$f":"REN!BC236+REN!BC244","v":0},{"$f":"REN!BD236+REN!BD244","v":0},{"$f":"REN!BE236+REN!BE244","v":0},{"$f":"REN!BF236+REN!BF244","v":0},{"$f":"REN!BG236+REN!BG244","v":0},{"$f":"REN!BH236+REN!BH244","v":0},{"$f":"REN!BI236+REN!BI244","v":0},{"$f":"REN!BJ236+REN!BJ244","v":0},{"$f":"REN!BK236+REN!BK244","v":0},{"$f":"REN!BL236+REN!BL244","v":0},{"$f":"REN!BM236+REN!BM244","v":0},{"$f":"REN!BN236+REN!BN244","v":0},{"$f":"REN!BO236+REN!BO244","v":0},{"$f":"REN!BP236+REN!BP244","v":0},null,null,null,null,null,null,null,null,null,null,null,null,null,null,null,null,null,null,null,null,null,null,null,null,null,null,null,null,null,null,null,null,null,null,null,null,null,null,null,null,null,null,null,null,null,null,null,null,null,null,null,null,null,null,null,"E7000","GEP_RED","_Z","HYDRO","_Z","_Z","_Z","_Z","ENERGY","_Z","GWH",null,"nrg_ind_ured","TIMESERIES","RA100","GEP_RED","_Z","GWH","Agg.=SUM(countries)"]
[null,null,"Normalised pure hydro",null,null,null,null,null,null,null,null,null,null,null,null,null,null,null,null,null,null,{"$f":"REN!V236","v":0},{"$f":"REN!W236","v":0},{"$f":"REN!X236","v":0},{"$f":"REN!Y236","v":0},{"$f":"REN!Z236","v":0},{"$f":"REN!AA236","v":0},{"$f":"REN!AB236","v":0},{"$f":"REN!AC236","v":0},{"$f":"REN!AD236","v":0},{"$f":"REN!AE236","v":0},{"$f":"REN!AF236","v":0},{"$f":"REN!AG236","v":0},{"$f":"REN!AH236","v":0},{"$f":"REN!AI236","v":0},{"$f":"REN!AJ236","v":0},{"$f":"REN!AK236","v":0},{"$f":"REN!AL236","v":0},{"$f":"REN!AM236","v":0},{"$f":"REN!AN236","v":0},{"$f":"REN!AO236","v":0},{"$f":"REN!AP236","v":0},{"$f":"REN!AQ236","v":0},{"$f":"REN!AR236","v":0},{"$f":"REN!AS236","v":0},{"$f":"REN!AT236","v":0},{"$f":"REN!AU236","v":0},{"$f":"REN!AV236","v":0},{"$f":"REN!AW236","v":0},{"$f":"REN!AX236","v":0},{"$f":"REN!AY236","v":0},{"$f":"REN!AZ236","v":0},{"$f":"REN!BA236","v":0},{"$f":"REN!BB236","v":0},{"$f":"REN!BC236","v":0},{"$f":"REN!BD236","v":0},{"$f":"REN!BE236","v":0},{"$f":"REN!BF236","v":0},{"$f":"REN!BG236","v":0},{"$f":"REN!BH236","v":0},{"$f":"REN!BI236","v":0},{"$f":"REN!BJ236","v":0},{"$f":"REN!BK236","v":0},{"$f":"REN!BL236","v":0},{"$f":"REN!BM236","v":0},{"$f":"REN!BN236","v":0},{"$f":"REN!BO236","v":0},{"$f":"REN!BP236","v":0}]
[null,null,"Normalised mixed hydro (without pumping)",null,null,null,null,null,null,null,null,null,null,null,null,null,null,null,null,null,null,{"$f":"REN!V244","v":0},{"$f":"REN!W244","v":0},{"$f":"REN!X244","v":0},{"$f":"REN!Y244","v":0},{"$f":"REN!Z244","v":0},{"$f":"REN!AA244","v":0},{"$f":"REN!AB244","v":0},{"$f":"REN!AC244","v":0},{"$f":"REN!AD244","v":0},{"$f":"REN!AE244","v":0},{"$f":"REN!AF244","v":0},{"$f":"REN!AG244","v":0},{"$f":"REN!AH244","v":0},{"$f":"REN!AI244","v":0},{"$f":"REN!AJ244","v":0},{"$f":"REN!AK244","v":0},{"$f":"REN!AL244","v":0},{"$f":"REN!AM244","v":0},{"$f":"REN!AN244","v":0},{"$f":"REN!AO244","v":0},{"$f":"REN!AP244","v":0},{"$f":"REN!AQ244","v":0},{"$f":"REN!AR244","v":0},{"$f":"REN!AS244","v":0},{"$f":"REN!AT244","v":0},{"$f":"REN!AU244","v":0},{"$f":"REN!AV244","v":0},{"$f":"REN!AW244","v":0},{"$f":"REN!AX244","v":0},{"$f":"REN!AY244","v":0},{"$f":"REN!AZ244","v":0},{"$f":"REN!BA244","v":0},{"$f":"REN!BB244","v":0},{"$f":"REN!BC244","v":0},{"$f":"REN!BD244","v":0},{"$f":"REN!BE244","v":0},{"$f":"REN!BF244","v":0},{"$f":"REN!BG244","v":0},{"$f":"REN!BH244","v":0},{"$f":"REN!BI244","v":0},{"$f":"REN!BJ244","v":0},{"$f":"REN!BK244","v":0},{"$f":"REN!BL244","v":0},{"$f":"REN!BM244","v":0},{"$f":"REN!BN244","v":0},{"$f":"REN!BO244","v":0},{"$f":"REN!BP244","v":0}]
[null,"Normalised wind generation",null,null,null,null,null,null,null,null,null,null,null,null,null,null,null,null,null,null,null,{"$f":"V11+V12","v":0},{"$f":"W11+W12","v":0},0,0,0,0,0,0,0,0,0,0,0,0,0,0,0,0,0,0,0,0,0,0,0,0,0,0,0,0,0,0,0,0,0,0,0,0,0,0,0,0,0,0,0,0,0,null,null,null,null,null,null,null,null,null,null,null,null,null,null,null,null,null,null,null,null,null,null,null,null,null,null,null,null,null,null,null,null,null,null,null,null,null,null,null,null,null,null,null,null,null,null,null,null,null,null,null,null,null,null,null,"E7000","GEP_RED","_Z","WIND","_Z","_Z","_Z","_Z","ENERGY","_Z","GWH",null,"nrg_ind_ured","TIMESERIES","RA300","GEP_RED","_Z","GWH","Agg.=SUM(countries)"]
[null,null,"Normalised on-shore wind generation",null,null,null,null,null,null,null,null,null,null,null,null,null,null,null,null,null,null,{"$f":"IF(SUM(REN!V146)>0,((REN!V146+REN!U146)/2)*(SUM(REN!R165:V165,REN!R166:V166)/(REN!V146/2+REN!U146+REN!T146+REN!S146+REN!R146+REN!Q146/2)),0)","v":0},{"$f":"IF(SUM(REN!W146)>0,((REN!W146+REN!V146)/2)*(SUM(REN!S165:W165,REN!S166:W166)/(REN!W146/2+REN!V146+REN!U146+REN!T146+REN!S146+REN!R146/2)),0)","v":0},{"$f":"IF(SUM(REN!X146)>0,((REN!X146+REN!W146)/2)*(SUM(REN!T165:X165,REN!T166:X166)/(REN!X146/2+REN!W146+REN!V146+REN!U146+REN!T146+REN!S146/2)),0)","v":0},{"$f":"IF(SUM(REN!Y146)>0,((REN!Y146+REN!X146)/2)*(SUM(REN!U165:Y165,REN!U166:Y166)/(REN!Y146/2+REN!X146+REN!W146+REN!V146+REN!U146+REN!T146/2)),0)","v":0},{"$f":"IF(SUM(REN!Z146)>0,((REN!Z146+REN!Y146)/2)*(SUM(REN!V165:Z165,REN!V166:Z166)/(REN!Z146/2+REN!Y146+REN!X146+REN!W146+REN!V146+REN!U146/2)),0)","v":0},{"$f":"IF(SUM(REN!AA146)>0,((REN!AA146+REN!Z146)/2)*(SUM(REN!W165:AA165,REN!W166:AA166)/(REN!AA146/2+REN!Z146+REN!Y146+REN!X146+REN!W146+REN!V146/2)),0)","v":0},{"$f":"IF(SUM(REN!AB146)>0,((REN!AB146+REN!AA146)/2)*(SUM(REN!X165:AB165,REN!X166:AB166)/(REN!AB146/2+REN!AA146+REN!Z146+REN!Y146+REN!X146+REN!W146/2)),0)","v":0},{"$f":"IF(SUM(REN!AC146)>0,((REN!AC146+REN!AB146)/2)*(SUM(REN!Y165:AC165,REN!Y166:AC166)/(REN!AC146/2+REN!AB146+REN!AA146+REN!Z146+REN!Y146+REN!X146/2)),0)","v":0},{"$f":"IF(SUM(REN!AD146)>0,((REN!AD146+REN!AC146)/2)*(SUM(REN!Z165:AD165,REN!Z166:AD166)/(REN!AD146/2+REN!AC146+REN!AB146+REN!AA146+REN!Z146+REN!Y146/2)),0)","v":0},{"$f":"IF(SUM(REN!AE146)>0,((REN!AE146+REN!AD146)/2)*(SUM(REN!AA165:AE165,REN!AA166:AE166)/(REN!AE146/2+REN!AD146+REN!AC146+REN!AB146+REN!AA146+REN!Z146/2)),0)","v":0},{"$f":"IF(SUM(REN!AF146)>0,((REN!AF146+REN!AE146)/2)*(SUM(REN!AB165:AF165,REN!AB166:AF166)/(REN!AF146/2+REN!AE146+REN!AD146+REN!AC146+REN!AB146+REN!AA146/2)),0)","v":0},{"$f":"IF(SUM(REN!AG146)>0,((REN!AG146+REN!AF146)/2)*(SUM(REN!AC165:AG165,REN!AC166:AG166)/(REN!AG146/2+REN!AF146+REN!AE146+REN!AD146+REN!AC146+REN!AB146/2)),0)","v":0},{"$f":"IF(SUM(REN!AH146)>0,((REN!AH146+REN!AG146)/2)*(SUM(REN!AD165:AH165,REN!AD166:AH166)/(REN!AH146/2+REN!AG146+REN!AF146+REN!AE146+REN!AD146+REN!AC146/2)),0)","v":0},{"$f":"IF(SUM(REN!AI146)>0,((REN!AI146+REN!AH146)/2)*(SUM(REN!AE165:AI165,REN!AE166:AI166)/(REN!AI146/2+REN!AH146+REN!AG146+REN!AF146+REN!AE146+REN!AD146/2)),0)","v":0},{"$f":"IF(SUM(REN!AJ146)>0,((REN!AJ146+REN!AI146)/2)*(SUM(REN!AF165:AJ165,REN!AF166:AJ166)/(REN!AJ146/2+REN!AI146+REN!AH146+REN!AG146+REN!AF146+REN!AE146/2)),0)","v":0},{"$f":"IF(SUM(REN!AK146)>0,((REN!AK146+REN!AJ146)/2)*(SUM(REN!AG165:AK165,REN!AG166:AK166)/(REN!AK146/2+REN!AJ146+REN!AI146+REN!AH146+REN!AG146+REN!AF146/2)),0)","v":0},{"$f":"IF(SUM(REN!AL146)>0,((REN!AL146+REN!AK146)/2)*(SUM(REN!AH165:AL165,REN!AH166:AL166)/(REN!AL146/2+REN!AK146+REN!AJ146+REN!AI146+REN!AH146+REN!AG146/2)),0)","v":0},{"$f":"IF(SUM(REN!AM146)>0,((REN!AM146+REN!AL146)/2)*(SUM(REN!AI165:AM165,REN!AI166:AM166)/(REN!AM146/2+REN!AL146+REN!AK146+REN!AJ146+REN!AI146+REN!AH146/2)),0)","v":0},{"$f":"IF(SUM(REN!AN146)>0,((REN!AN146+REN!AM146)/2)*(SUM(REN!AJ165:AN165,REN!AJ166:AN166)/(REN!AN146/2+REN!AM146+REN!AL146+REN!AK146+REN!AJ146+REN!AI146/2)),0)","v":0},{"$f":"IF(SUM(REN!AO146)>0,((REN!AO146+REN!AN146)/2)*(SUM(REN!AK165:AO165,REN!AK166:AO166)/(REN!AO146/2+REN!AN146+REN!AM146+REN!AL146+REN!AK146+REN!AJ146/2)),0)","v":0},{"$f":"IF(SUM(REN!AP146)>0,((REN!AP146+REN!AO146)/2)*(SUM(REN!AL165:AP165,REN!AL166:AP166)/(REN!AP146/2+REN!AO146+REN!AN146+REN!AM146+REN!AL146+REN!AK146/2)),0)","v":0},{"$f":"IF(SUM(REN!AQ146)>0,((REN!AQ146+REN!AP146)/2)*(SUM(REN!AM165:AQ165,REN!AM166:AQ166)/(REN!AQ146/2+REN!AP146+REN!AO146+REN!AN146+REN!AM146+REN!AL146/2)),0)","v":0},{"$f":"IF(SUM(REN!AR146)>0,((REN!AR146+REN!AQ146)/2)*(SUM(REN!AN165:AR165,REN!AN166:AR166)/(REN!AR146/2+REN!AQ146+REN!AP146+REN!AO146+REN!AN146+REN!AM146/2)),0)","v":0},{"$f":"IF(SUM(REN!AS146)>0,((REN!AS146+REN!AR146)/2)*(SUM(REN!AO165:AS165,REN!AO166:AS166)/(REN!AS146/2+REN!AR146+REN!AQ146+REN!AP146+REN!AO146+REN!AN146/2)),0)","v":0},{"$f":"IF(SUM(REN!AT146)>0,((REN!AT146+REN!AS146)/2)*(SUM(REN!AP165:AT165,REN!AP166:AT166)/(REN!AT146/2+REN!AS146+REN!AR146+REN!AQ146+REN!AP146+REN!AO146/2)),0)","v":0},{"$f":"IF(SUM(REN!AU146)>0,((REN!AU146+REN!AT146)/2)*(SUM(REN!AQ165:AU165,REN!AQ166:AU166)/(REN!AU146/2+REN!AT146+REN!AS146+REN!AR146+REN!AQ146+REN!AP146/2)),0)","v":0},{"$f":"IF(SUM(REN!AV146)>0,((REN!AV146+REN!AU146)/2)*(SUM(REN!AR165:AV165,REN!AR166:AV166)/(REN!AV146/2+REN!AU146+REN!AT146+REN!AS146+REN!AR146+REN!AQ146/2)),0)","v":0},{"$f":"IF(SUM(REN!AW146)>0,((REN!AW146+REN!AV146)/2)*(SUM(REN!AS165:AW165,REN!AS166:AW166)/(REN!AW146/2+REN!AV146+REN!AU146+REN!AT146+REN!AS146+REN!AR146/2)),0)","v":0},{"$f":"IF(SUM(REN!AX146)>0,((REN!AX146+REN!AW146)/2)*(SUM(REN!AT165:AX165,REN!AT166:AX166)/(REN!AX146/2+REN!AW146+REN!AV146+REN!AU146+REN!AT146+REN!AS146/2)),0)","v":0},{"$f":"IF(SUM(REN!AY146)>0,((REN!AY146+REN!AX146)/2)*(SUM(REN!AU165:AY165,REN!AU166:AY166)/(REN!AY146/2+REN!AX146+REN!AW146+REN!AV146+REN!AU146+REN!AT146/2)),0)","v":0},{"$f":"IF(SUM(REN!AZ146)>0,((REN!AZ146+REN!AY146)/2)*(SUM(REN!AV165:AZ165,REN!AV166:AZ166)/(REN!AZ146/2+REN!AY146+REN!AX146+REN!AW146+REN!AV146+REN!AU146/2)),0)","v":0},{"$f":"IF(SUM(REN!BA146)>0,((REN!BA146+REN!AZ146)/2)*(SUM(REN!AW165:BA165,REN!AW166:BA166)/(REN!BA146/2+REN!AZ146+REN!AY146+REN!AX146+REN!AW146+REN!AV146/2)),0)","v":0},{"$f":"IF(SUM(REN!BB146)>0,((REN!BB146+REN!BA146)/2)*(SUM(REN!AX165:BB165,REN!AX166:BB166)/(REN!BB146/2+REN!BA146+REN!AZ146+REN!AY146+REN!AX146+REN!AW146/2)),0)","v":0},{"$f":"IF(SUM(REN!BC146)>0,((REN!BC146+REN!BB146)/2)*(SUM(REN!AY165:BC165,REN!AY166:BC166)/(REN!BC146/2+REN!BB146+REN!BA146+REN!AZ146+REN!AY146+REN!AX146/2)),0)","v":0},{"$f":"IF(SUM(REN!BD146)>0,((REN!BD146+REN!BC146)/2)*(SUM(REN!AZ165:BD165,REN!AZ166:BD166)/(REN!BD146/2+REN!BC146+REN!BB146+REN!BA146+REN!AZ146+REN!AY146/2)),0)","v":0},{"$f":"IF(SUM(REN!BE146)>0,((REN!BE146+REN!BD146)/2)*(SUM(REN!BA165:BE165,REN!BA166:BE166)/(REN!BE146/2+REN!BD146+REN!BC146+REN!BB146+REN!BA146+REN!AZ146/2)),0)","v":0},{"$f":"IF(SUM(REN!BF146)>0,((REN!BF146+REN!BE146)/2)*(SUM(REN!BB165:BF165,REN!BB166:BF166)/(REN!BF146/2+REN!BE146+REN!BD146+REN!BC146+REN!BB146+REN!BA146/2)),0)","v":0},{"$f":"IF(SUM(REN!BG146)>0,((REN!BG146+REN!BF146)/2)*(SUM(REN!BC165:BG165,REN!BC166:BG166)/(REN!BG146/2+REN!BF146+REN!BE146+REN!BD146+REN!BC146+REN!BB146/2)),0)","v":0},{"$f":"IF(SUM(REN!BH146)>0,((REN!BH146+REN!BG146)/2)*(SUM(REN!BD165:BH165,REN!BD166:BH166)/(REN!BH146/2+REN!BG146+REN!BF146+REN!BE146+REN!BD146+REN!BC146/2)),0)","v":0},{"$f":"IF(SUM(REN!BI146)>0,((REN!BI146+REN!BH146)/2)*(SUM(REN!BE165:BI165,REN!BE166:BI166)/(REN!BI146/2+REN!BH146+REN!BG146+REN!BF146+REN!BE146+REN!BD146/2)),0)","v":0},{"$f":"IF(SUM(REN!BJ146)>0,((REN!BJ146+REN!BI146)/2)*(SUM(REN!BF165:BJ165,REN!BF166:BJ166)/(REN!BJ146/2+REN!BI146+REN!BH146+REN!BG146+REN!BF146+REN!BE146/2)),0)","v":0},{"$f":"IF(SUM(REN!BK146)>0,((REN!BK146+REN!BJ146)/2)*(SUM(REN!BG165:BK165,REN!BG166:BK166)/(REN!BK146/2+REN!BJ146+REN!BI146+REN!BH146+REN!BG146+REN!BF146/2)),0)","v":0},{"$f":"IF(SUM(REN!BL146)>0,((REN!BL146+REN!BK146)/2)*(SUM(REN!BH165:BL165,REN!BH166:BL166)/(REN!BL146/2+REN!BK146+REN!BJ146+REN!BI146+REN!BH146+REN!BG146/2)),0)","v":0},{"$f":"IF(SUM(REN!BM146)>0,((REN!BM146+REN!BL146)/2)*(SUM(REN!BI165:BM165,REN!BI166:BM166)/(REN!BM146/2+REN!BL146+REN!BK146+REN!BJ146+REN!BI146+REN!BH146/2)),0)","v":0},{"$f":"IF(SUM(REN!BN146)>0,((REN!BN146+REN!BM146)/2)*(SUM(REN!BJ165:BN165,REN!BJ166:BN166)/(REN!BN146/2+REN!BM146+REN!BL146+REN!BK146+REN!BJ146+REN!BI146/2)),0)","v":0},{"$f":"IF(SUM(REN!BO146)>0,((REN!BO146+REN!BN146)/2)*(SUM(REN!BK165:BO165,REN!BK166:BO166)/(REN!BO146/2+REN!BN146+REN!BM146+REN!BL146+REN!BK146+REN!BJ146/2)),0)","v":0},{"$f":"IF(SUM(REN!BP146)>0,((REN!BP146+REN!BO146)/2)*(SUM(REN!BL165:BP165,REN!BL166:BP166)/(REN!BP146/2+REN!BO146+REN!BN146+REN!BM146+REN!BL146+REN!BK146/2)),0)","v":0},null,null,null,null,null,null,null,null,null,null,null,null,null,null,null,null,null,null,null,null,null,null,null,null,null,null,null,null,null,null,null,null,null,null,null,null,null,null,null,null,null,null,null,null,null,null,null,null,null,null,null,null,null,null,null,"E7000","GEP_RED","_Z","WINDON","_Z","_Z","_Z","_Z","ENERGY","_Z","GWH",null,"nrg_ind_ured","TIMESERIES","RA310","GEP_RED","_Z","GWH","Agg.=SUM(countries)"]
[null,null,"Normalised off-shore wind generation",null,null,null,null,null,null,null,null,null,null,null,null,null,null,null,null,null,null,{"$f":"IF(SUM(REN!V147)>0,((REN!V147+REN!U147)/2)*(SUM(REN!R167:V167,REN!R168:V168)/(REN!V147/2+REN!U147+REN!T147+REN!S147+REN!R147+REN!Q147/2)),0)","v":0},{"$f":"IF(SUM(REN!W147)>0,((REN!W147+REN!V147)/2)*(SUM(REN!S167:W167,REN!S168:W168)/(REN!W147/2+REN!V147+REN!U147+REN!T147+REN!S147+REN!R147/2)),0)","v":0},{"$f":"IF(SUM(REN!X147)>0,((REN!X147+REN!W147)/2)*(SUM(REN!T167:X167,REN!T168:X168)/(REN!X147/2+REN!W147+REN!V147+REN!U147+REN!T147+REN!S147/2)),0)","v":0},{"$f":"IF(SUM(REN!Y147)>0,((REN!Y147+REN!X147)/2)*(SUM(REN!U167:Y167,REN!U168:Y168)/(REN!Y147/2+REN!X147+REN!W147+REN!V147+REN!U147+REN!T147/2)),0)","v":0},{"$f":"IF(SUM(REN!Z147)>0,((REN!Z147+REN!Y147)/2)*(SUM(REN!V167:Z167,REN!V168:Z168)/(REN!Z147/2+REN!Y147+REN!X147+REN!W147+REN!V147+REN!U147/2)),0)","v":0},{"$f":"IF(SUM(REN!AA147)>0,((REN!AA147+REN!Z147)/2)*(SUM(REN!W167:AA167,REN!W168:AA168)/(REN!AA147/2+REN!Z147+REN!Y147+REN!X147+REN!W147+REN!V147/2)),0)","v":0},{"$f":"IF(SUM(REN!AB147)>0,((REN!AB147+REN!AA147)/2)*(SUM(REN!X167:AB167,REN!X168:AB168)/(REN!AB147/2+REN!AA147+REN!Z147+REN!Y147+REN!X147+REN!W147/2)),0)","v":0},{"$f":"IF(SUM(REN!AC147)>0,((REN!AC147+REN!AB147)/2)*(SUM(REN!Y167:AC167,REN!Y168:AC168)/(REN!AC147/2+REN!AB147+REN!AA147+REN!Z147+REN!Y147+REN!X147/2)),0)","v":0},{"$f":"IF(SUM(REN!AD147)>0,((REN!AD147+REN!AC147)/2)*(SUM(REN!Z167:AD167,REN!Z168:AD168)/(REN!AD147/2+REN!AC147+REN!AB147+REN!AA147+REN!Z147+REN!Y147/2)),0)","v":0},{"$f":"IF(SUM(REN!AE147)>0,((REN!AE147+REN!AD147)/2)*(SUM(REN!AA167:AE167,REN!AA168:AE168)/(REN!AE147/2+REN!AD147+REN!AC147+REN!AB147+REN!AA147+REN!Z147/2)),0)","v":0},{"$f":"IF(SUM(REN!AF147)>0,((REN!AF147+REN!AE147)/2)*(SUM(REN!AB167:AF167,REN!AB168:AF168)/(REN!AF147/2+REN!AE147+REN!AD147+REN!AC147+REN!AB147+REN!AA147/2)),0)","v":0},{"$f":"IF(SUM(REN!AG147)>0,((REN!AG147+REN!AF147)/2)*(SUM(REN!AC167:AG167,REN!AC168:AG168)/(REN!AG147/2+REN!AF147+REN!AE147+REN!AD147+REN!AC147+REN!AB147/2)),0)","v":0},{"$f":"IF(SUM(REN!AH147)>0,((REN!AH147+REN!AG147)/2)*(SUM(REN!AD167:AH167,REN!AD168:AH168)/(REN!AH147/2+REN!AG147+REN!AF147+REN!AE147+REN!AD147+REN!AC147/2)),0)","v":0},{"$f":"IF(SUM(REN!AI147)>0,((REN!AI147+REN!AH147)/2)*(SUM(REN!AE167:AI167,REN!AE168:AI168)/(REN!AI147/2+REN!AH147+REN!AG147+REN!AF147+REN!AE147+REN!AD147/2)),0)","v":0},{"$f":"IF(SUM(REN!AJ147)>0,((REN!AJ147+REN!AI147)/2)*(SUM(REN!AF167:AJ167,REN!AF168:AJ168)/(REN!AJ147/2+REN!AI147+REN!AH147+REN!AG147+REN!AF147+REN!AE147/2)),0)","v":0},{"$f":"IF(SUM(REN!AK147)>0,((REN!AK147+REN!AJ147)/2)*(SUM(REN!AG167:AK167,REN!AG168:AK168)/(REN!AK147/2+REN!AJ147+REN!AI147+REN!AH147+REN!AG147+REN!AF147/2)),0)","v":0},{"$f":"IF(SUM(REN!AL147)>0,((REN!AL147+REN!AK147)/2)*(SUM(REN!AH167:AL167,REN!AH168:AL168)/(REN!AL147/2+REN!AK147+REN!AJ147+REN!AI147+REN!AH147+REN!AG147/2)),0)","v":0},{"$f":"IF(SUM(REN!AM147)>0,((REN!AM147+REN!AL147)/2)*(SUM(REN!AI167:AM167,REN!AI168:AM168)/(REN!AM147/2+REN!AL147+REN!AK147+REN!AJ147+REN!AI147+REN!AH147/2)),0)","v":0},{"$f":"IF(SUM(REN!AN147)>0,((REN!AN147+REN!AM147)/2)*(SUM(REN!AJ167:AN167,REN!AJ168:AN168)/(REN!AN147/2+REN!AM147+REN!AL147+REN!AK147+REN!AJ147+REN!AI147/2)),0)","v":0},{"$f":"IF(SUM(REN!AO147)>0,((REN!AO147+REN!AN147)/2)*(SUM(REN!AK167:AO167,REN!AK168:AO168)/(REN!AO147/2+REN!AN147+REN!AM147+REN!AL147+REN!AK147+REN!AJ147/2)),0)","v":0},{"$f":"IF(SUM(REN!AP147)>0,((REN!AP147+REN!AO147)/2)*(SUM(REN!AL167:AP167,REN!AL168:AP168)/(REN!AP147/2+REN!AO147+REN!AN147+REN!AM147+REN!AL147+REN!AK147/2)),0)","v":0},{"$f":"IF(SUM(REN!AQ147)>0,((REN!AQ147+REN!AP147)/2)*(SUM(REN!AM167:AQ167,REN!AM168:AQ168)/(REN!AQ147/2+REN!AP147+REN!AO147+REN!AN147+REN!AM147+REN!AL147/2)),0)","v":0},{"$f":"IF(SUM(REN!AR147)>0,((REN!AR147+REN!AQ147)/2)*(SUM(REN!AN167:AR167,REN!AN168:AR168)/(REN!AR147/2+REN!AQ147+REN!AP147+REN!AO147+REN!AN147+REN!AM147/2)),0)","v":0},{"$f":"IF(SUM(REN!AS147)>0,((REN!AS147+REN!AR147)/2)*(SUM(REN!AO167:AS167,REN!AO168:AS168)/(REN!AS147/2+REN!AR147+REN!AQ147+REN!AP147+REN!AO147+REN!AN147/2)),0)","v":0},{"$f":"IF(SUM(REN!AT147)>0,((REN!AT147+REN!AS147)/2)*(SUM(REN!AP167:AT167,REN!AP168:AT168)/(REN!AT147/2+REN!AS147+REN!AR147+REN!AQ147+REN!AP147+REN!AO147/2)),0)","v":0},{"$f":"IF(SUM(REN!AU147)>0,((REN!AU147+REN!AT147)/2)*(SUM(REN!AQ167:AU167,REN!AQ168:AU168)/(REN!AU147/2+REN!AT147+REN!AS147+REN!AR147+REN!AQ147+REN!AP147/2)),0)","v":0},{"$f":"IF(SUM(REN!AV147)>0,((REN!AV147+REN!AU147)/2)*(SUM(REN!AR167:AV167,REN!AR168:AV168)/(REN!AV147/2+REN!AU147+REN!AT147+REN!AS147+REN!AR147+REN!AQ147/2)),0)","v":0},{"$f":"IF(SUM(REN!AW147)>0,((REN!AW147+REN!AV147)/2)*(SUM(REN!AS167:AW167,REN!AS168:AW168)/(REN!AW147/2+REN!AV147+REN!AU147+REN!AT147+REN!AS147+REN!AR147/2)),0)","v":0},{"$f":"IF(SUM(REN!AX147)>0,((REN!AX147+REN!AW147)/2)*(SUM(REN!AT167:AX167,REN!AT168:AX168)/(REN!AX147/2+REN!AW147+REN!AV147+REN!AU147+REN!AT147+REN!AS147/2)),0)","v":0},{"$f":"IF(SUM(REN!AY147)>0,((REN!AY147+REN!AX147)/2)*(SUM(REN!AU167:AY167,REN!AU168:AY168)/(REN!AY147/2+REN!AX147+REN!AW147+REN!AV147+REN!AU147+REN!AT147/2)),0)","v":0},{"$f":"IF(SUM(REN!AZ147)>0,((REN!AZ147+REN!AY147)/2)*(SUM(REN!AV167:AZ167,REN!AV168:AZ168)/(REN!AZ147/2+REN!AY147+REN!AX147+REN!AW147+REN!AV147+REN!AU147/2)),0)","v":0},{"$f":"IF(SUM(REN!BA147)>0,((REN!BA147+REN!AZ147)/2)*(SUM(REN!AW167:BA167,REN!AW168:BA168)/(REN!BA147/2+REN!AZ147+REN!AY147+REN!AX147+REN!AW147+REN!AV147/2)),0)","v":0},{"$f":"IF(SUM(REN!BB147)>0,((REN!BB147+REN!BA147)/2)*(SUM(REN!AX167:BB167,REN!AX168:BB168)/(REN!BB147/2+REN!BA147+REN!AZ147+REN!AY147+REN!AX147+REN!AW147/2)),0)","v":0},{"$f":"IF(SUM(REN!BC147)>0,((REN!BC147+REN!BB147)/2)*(SUM(REN!AY167:BC167,REN!AY168:BC168)/(REN!BC147/2+REN!BB147+REN!BA147+REN!AZ147+REN!AY147+REN!AX147/2)),0)","v":0},{"$f":"IF(SUM(REN!BD147)>0,((REN!BD147+REN!BC147)/2)*(SUM(REN!AZ167:BD167,REN!AZ168:BD168)/(REN!BD147/2+REN!BC147+REN!BB147+REN!BA147+REN!AZ147+REN!AY147/2)),0)","v":0},{"$f":"IF(SUM(REN!BE147)>0,((REN!BE147+REN!BD147)/2)*(SUM(REN!BA167:BE167,REN!BA168:BE168)/(REN!BE147/2+REN!BD147+REN!BC147+REN!BB147+REN!BA147+REN!AZ147/2)),0)","v":0},{"$f":"IF(SUM(REN!BF147)>0,((REN!BF147+REN!BE147)/2)*(SUM(REN!BB167:BF167,REN!BB168:BF168)/(REN!BF147/2+REN!BE147+REN!BD147+REN!BC147+REN!BB147+REN!BA147/2)),0)","v":0},{"$f":"IF(SUM(REN!BG147)>0,((REN!BG147+REN!BF147)/2)*(SUM(REN!BC167:BG167,REN!BC168:BG168)/(REN!BG147/2+REN!BF147+REN!BE147+REN!BD147+REN!BC147+REN!BB147/2)),0)","v":0},{"$f":"IF(SUM(REN!BH147)>0,((REN!BH147+REN!BG147)/2)*(SUM(REN!BD167:BH167,REN!BD168:BH168)/(REN!BH147/2+REN!BG147+REN!BF147+REN!BE147+REN!BD147+REN!BC147/2)),0)","v":0},{"$f":"IF(SUM(REN!BI147)>0,((REN!BI147+REN!BH147)/2)*(SUM(REN!BE167:BI167,REN!BE168:BI168)/(REN!BI147/2+REN!BH147+REN!BG147+REN!BF147+REN!BE147+REN!BD147/2)),0)","v":0},{"$f":"IF(SUM(REN!BJ147)>0,((REN!BJ147+REN!BI147)/2)*(SUM(REN!BF167:BJ167,REN!BF168:BJ168)/(REN!BJ147/2+REN!BI147+REN!BH147+REN!BG147+REN!BF147+REN!BE147/2)),0)","v":0},{"$f":"IF(SUM(REN!BK147)>0,((REN!BK147+REN!BJ147)/2)*(SUM(REN!BG167:BK167,REN!BG168:BK168)/(REN!BK147/2+REN!BJ147+REN!BI147+REN!BH147+REN!BG147+REN!BF147/2)),0)","v":0},{"$f":"IF(SUM(REN!BL147)>0,((REN!BL147+REN!BK147)/2)*(SUM(REN!BH167:BL167,REN!BH168:BL168)/(REN!BL147/2+REN!BK147+REN!BJ147+REN!BI147+REN!BH147+REN!BG147/2)),0)","v":0},{"$f":"IF(SUM(REN!BM147)>0,((REN!BM147+REN!BL147)/2)*(SUM(REN!BI167:BM167,REN!BI168:BM168)/(REN!BM147/2+REN!BL147+REN!BK147+REN!BJ147+REN!BI147+REN!BH147/2)),0)","v":0},{"$f":"IF(SUM(REN!BN147)>0,((REN!BN147+REN!BM147)/2)*(SUM(REN!BJ167:BN167,REN!BJ168:BN168)/(REN!BN147/2+REN!BM147+REN!BL147+REN!BK147+REN!BJ147+REN!BI147/2)),0)","v":0},{"$f":"IF(SUM(REN!BO147)>0,((REN!BO147+REN!BN147)/2)*(SUM(REN!BK167:BO167,REN!BK168:BO168)/(REN!BO147/2+REN!BN147+REN!BM147+REN!BL147+REN!BK147+REN!BJ147/2)),0)","v":0},{"$f":"IF(SUM(REN!BP147)>0,((REN!BP147+REN!BO147)/2)*(SUM(REN!BL167:BP167,REN!BL168:BP168)/(REN!BP147/2+REN!BO147+REN!BN147+REN!BM147+REN!BL147+REN!BK147/2)),0)","v":0},null,null,null,null,null,null,null,null,null,null,null,null,null,null,null,null,null,null,null,null,null,null,null,null,null,null,null,null,null,null,null,null,null,null,null,null,null,null,null,null,null,null,null,null,null,null,null,null,null,null,null,null,null,null,null,"E7000","GEP_RED","_Z","WINDOFF","_Z","_Z","_Z","_Z","ENERGY","_Z","GWH",null,"nrg_ind_ured","TIMESERIES","RA320","GEP_RED","_Z","GWH","Agg.=SUM(countries)"]
[null,"From pure bioliquids, compliant + non-compliant",null,null,null,null,null,null,null,null,null,null,null,null,null,null,null,null,null,null,null,{"$f":"SUM(REN!V171:V174)","v":0},{"$f":"SUM(REN!W171:W174)","v":0},{"$f":"SUM(REN!X171:X174)","v":0},{"$f":"SUM(REN!Y171:Y174)","v":0},{"$f":"SUM(REN!Z171:Z174)","v":0},{"$f":"SUM(REN!AA171:AA174)","v":0},{"$f":"SUM(REN!AB171:AB174)","v":0},{"$f":"SUM(REN!AC171:AC174)","v":0},{"$f":"SUM(REN!AD171:AD174)","v":0},{"$f":"SUM(REN!AE171:AE174)","v":0},{"$f":"SUM(REN!AF171:AF174)","v":0},{"$f":"SUM(REN!AG171:AG174)","v":0},{"$f":"SUM(REN!AH171:AH174)","v":0},{"$f":"SUM(REN!AI171:AI174)","v":0},{"$f":"SUM(REN!AJ171:AJ174)","v":0},{"$f":"SUM(REN!AK171:AK174)","v":0},{"$f":"SUM(REN!AL171:AL174)","v":0},{"$f":"SUM(REN!AM171:AM174)","v":0},{"$f":"SUM(REN!AN171:AN174)","v":0},{"$f":"SUM(REN!AO171:AO174)","v":0},{"$f":"SUM(REN!AP171:AP174)","v":0},{"$f":"SUM(REN!AQ171:AQ174)","v":0},{"$f":"SUM(REN!AR171:AR174)","v":0},{"$f":"SUM(REN!AS171:AS174)","v":0},{"$f":"SUM(REN!AT171:AT174)","v":0},{"$f":"SUM(REN!AU171:AU174)","v":0},{"$f":"SUM(REN!AV171:AV174)","v":0},{"$f":"SUM(REN!AW171:AW174)","v":0},{"$f":"SUM(REN!AX171:AX174)","v":0},{"$f":"SUM(REN!AY171:AY174)","v":0},{"$f":"SUM(REN!AZ171:AZ174)","v":0},{"$f":"SUM(REN!BA171:BA174)","v":0},{"$f":"SUM(REN!BB171:BB174)","v":0},{"$f":"SUM(REN!BC171:BC174)","v":0},{"$f":"SUM(REN!BD171:BD174)","v":0},{"$f":"SUM(REN!BE171:BE174)","v":0},{"$f":"SUM(REN!BF171:BF174)","v":0},{"$f":"SUM(REN!BG171:BG174)","v":0},{"$f":"SUM(REN!BH171:BH174)","v":0},{"$f":"SUM(REN!BI171:BI174)","v":0},{"$f":"SUM(REN!BJ171:BJ174)","v":0},{"$f":"SUM(REN!BK171:BK174)","v":0},{"$f":"SUM(REN!BL171:BL174)","v":0},{"$f":"SUM(REN!BM171:BM174)","v":0},{"$f":"SUM(REN!BN171:BN174)","v":0},{"$f":"SUM(REN!BO171:BO174)","v":0},{"$f":"SUM(REN!BP171:BP174)","v":0},null,null,null,null,null,null,null,null,null,null,null,null,null,null,null,null,null,null,null,null,null,null,null,null,null,null,null,null,null,null,null,null,null,null,null,null,null,null,null,null,null,null,null,null,null,null,null,null,null,null,null,null,null,null,null,"E7000","GROSPROD","_Z","PBIOL","_Z","_Z","_Z","_Z","ENERGY","_Z","GWH",null,"nrg_ind_ured","TIMESERIES","R5292P","GEP_RED","_Z","GWH","Agg.=SUM(countries)"]
[null,"- of which from compliant pure (non-blended) bioliquids",null,null,null,null,null,null,null,null,null,null,null,null,null,null,null,null,null,null,null,0,0,0,0,0,0,0,0,0,0,0,0,0,0,0,0,0,0,0,0,0,0,0,0,0,0,0,0,0,0,0,0,0,0,0,0,0,0,0,0,0,0,0,0,0,0,0,null,null,null,null,null,null,null,null,null,null,null,null,null,null,null,null,null,null,null,null,null,null,null,null,null,null,null,null,null,null,null,null,null,null,null,null,null,null,null,null,null,null,null,null,null,null,null,null,null,null,null,null,null,null,null,"E7000","GROSPROD","_Z","PBIOLS","_Z","_Z","_Z","_Z","ENERGY","_Z","GWH",null,"nrg_ind_ured","TIMESERIES","R5292SP","GEP_RED","_Z","GWH","Agg.=SUM(countries)"]
[null,null,"- of which NOT from food and feed crops",null,null,null,null,null,null,null,null,null,null,null,null,null,null,null,null,null,null,0,0,0,0,0,0,0,0,0,0,0,0,0,0,0,0,0,0,0,0,0,0,0,0,0,0,0,0,0,0,0,0,0,0,0,0,0,0,0,0,0,0,0,0,0,0,0,null,null,null,null,null,null,null,null,null,null,null,null,null,null,null,null,null,null,null,null,null,null,null,null,null,null,null,null,null,null,null,null,null,null,null,null,null,null,null,null,null,null,null,null,null,null,null,null,null,null,null,null,null,null,null,"E7000","GROSPROD","_Z","PBIOLSNF","_Z","_Z","_Z","_Z","ENERGY","_Z","GWH",null,"nrg_ind_ured","TIMESERIES","R5293SP","GEP_RED","_Z","GWH","Agg.=SUM(countries)"]
[null,null,"- of which from food and feed crops",null,null,null,null,null,null,null,null,null,null,null,null,null,null,null,null,null,null,{"$f":"V14-V15","v":0},0,0,0,0,0,0,{"$f":"AC14-AC15","v":0},{"$f":"AD14-AD15","v":0},{"$f":"AE14-AE15","v":0},{"$f":"AF14-AF15","v":0},{"$f":"AG14-AG15","v":0},{"$f":"AH14-AH15","v":0},{"$f":"AI14-AI15","v":0},{"$f":"AJ14-AJ15","v":0},{"$f":"AK14-AK15","v":0},{"$f":"AL14-AL15","v":0},{"$f":"AM14-AM15","v":0},{"$f":"AN14-AN15","v":0},{"$f":"AO14-AO15","v":0},{"$f":"AP14-AP15","v":0},{"$f":"AQ14-AQ15","v":0},{"$f":"AR14-AR15","v":0},{"$f":"AS14-AS15","v":0},{"$f":"AT14-AT15","v":0},{"$f":"AU14-AU15","v":0},{"$f":"AV14-AV15","v":0},{"$f":"AW14-AW15","v":0},{"$f":"AX14-AX15","v":0},{"$f":"AY14-AY15","v":0},{"$f":"AZ14-AZ15","v":0},{"$f":"BA14-BA15","v":0},{"$f":"BB14-BB15","v":0},{"$f":"BC14-BC15","v":0},{"$f":"BD14-BD15","v":0},{"$f":"BE14-BE15","v":0},{"$f":"BF14-BF15","v":0},{"$f":"BG14-BG15","v":0},{"$f":"BH14-BH15","v":0},{"$f":"BI14-BI15","v":0},{"$f":"BJ14-BJ15","v":0},{"$f":"BK14-BK15","v":0},{"$f":"BL14-BL15","v":0},{"$f":"BM14-BM15","v":0},{"$f":"BN14-BN15","v":0},{"$f":"BO14-BO15","v":0},{"$f":"BP14-BP15","v":0},null,null,null,null,null,null,null,null,null,null,null,null,null,null,null,null,null,null,null,null,null,null,null,null,null,null,null,null,null,null,null,null,null,null,null,null,null,null,null,null,null,null,null,null,null,null,null,null,null,null,null,null,null,null,null,"E7000","GROSPROD","_Z","PBIOLSF","_Z","_Z","_Z","_Z","ENERGY","_Z","GWH",null,"nrg_ind_ured","TIMESERIES","R5294SP","GEP_RED","_Z","GWH","Agg.=SUM(countries)"]
[null,null,null,"- of which from NON high-ILUC risk",null,null,null,null,null,null,null,null,null,null,null,null,null,null,null,null,null,0,0,0,0,0,0,0,0,0,0,0,0,0,0,0,0,0,0,0,0,0,0,0,0,0,0,0,0,0,0,0,0,0,0,0,0,0,0,0,0,0,0,0,0,0,0,0,null,null,null,null,null,null,null,null,null,null,null,null,null,null,null,null,null,null,null,null,null,null,null,null,null,null,null,null,null,null,null,null,null,null,null,null,null,null,null,null,null,null,null,null,null,null,null,null,null,null,null,null,null,null,null,"E7000","GROSPROD","_Z","PBIOLSFNIR","_Z","_Z","_Z","_Z","ENERGY","_Z","GWH",null,"nrg_ind_ured","TIMESERIES","R5295SP","GEP_RED","_Z","GWH","Agg.=SUM(countries)"]
[null,"From compliant blended bioliquids, only bio part",null,null,null,null,null,null,null,null,null,null,null,null,null,null,null,null,null,null,null,0,0,0,0,0,0,0,0,0,0,0,0,0,0,0,0,0,0,0,0,0,0,0,0,0,0,0,0,0,0,0,0,0,0,0,0,0,0,0,0,0,0,0,0,0,0,0,null,null,null,null,null,null,null,null,null,null,null,null,null,null,null,null,null,null,null,null,null,null,null,null,null,null,null,null,null,null,null,null,null,null,null,null,null,null,null,null,null,null,null,null,null,null,null,null,null,null,null,null,null,null,null,"E7000","GROSPROD","_Z","BLBIOLS","_Z","_Z","_Z","_Z","ENERGY","_Z","GWH",null,"nrg_ind_ured","TIMESERIES","R5292SB","GEP_RED","_Z","GWH","Agg.=SUM(countries)"]
[null,null,"- of which NOT from food and feed crops",null,null,null,null,null,null,null,null,null,null,null,null,null,null,null,null,null,null,0,0,0,0,0,0,0,0,0,0,0,0,0,0,0,0,0,0,0,0,0,0,0,0,0,0,0,0,0,0,0,0,0,0,0,0,0,0,0,0,0,0,0,0,0,0,0,null,null,null,null,null,null,null,null,null,null,null,null,null,null,null,null,null,null,null,null,null,null,null,null,null,null,null,null,null,null,null,null,null,null,null,null,null,null,null,null,null,null,null,null,null,null,null,null,null,null,null,null,null,null,null,"E7000","GROSPROD","_Z","BLBIOLSNF","_Z","_Z","_Z","_Z","ENERGY","_Z","GWH",null,"nrg_ind_ured","TIMESERIES","R5293SB","GEP_RED","_Z","GWH","Agg.=SUM(countries)"]
[null,null,"- of which from food and feed crops",null,null,null,null,null,null,null,null,null,null,null,null,null,null,null,null,null,null,{"$f":"V18-V19","v":0},0,0,0,0,0,0,{"$f":"AC18-AC19","v":0},{"$f":"AD18-AD19","v":0},{"$f":"AE18-AE19","v":0},{"$f":"AF18-AF19","v":0},{"$f":"AG18-AG19","v":0},{"$f":"AH18-AH19","v":0},{"$f":"AI18-AI19","v":0},{"$f":"AJ18-AJ19","v":0},{"$f":"AK18-AK19","v":0},{"$f":"AL18-AL19","v":0},{"$f":"AM18-AM19","v":0},{"$f":"AN18-AN19","v":0},{"$f":"AO18-AO19","v":0},{"$f":"AP18-AP19","v":0},{"$f":"AQ18-AQ19","v":0},{"$f":"AR18-AR19","v":0},{"$f":"AS18-AS19","v":0},{"$f":"AT18-AT19","v":0},{"$f":"AU18-AU19","v":0},{"$f":"AV18-AV19","v":0},{"$f":"AW18-AW19","v":0},{"$f":"AX18-AX19","v":0},{"$f":"AY18-AY19","v":0},{"$f":"AZ18-AZ19","v":0},{"$f":"BA18-BA19","v":0},{"$f":"BB18-BB19","v":0},{"$f":"BC18-BC19","v":0},{"$f":"BD18-BD19","v":0},{"$f":"BE18-BE19","v":0},{"$f":"BF18-BF19","v":0},{"$f":"BG18-BG19","v":0},{"$f":"BH18-BH19","v":0},{"$f":"BI18-BI19","v":0},{"$f":"BJ18-BJ19","v":0},{"$f":"BK18-BK19","v":0},{"$f":"BL18-BL19","v":0},{"$f":"BM18-BM19","v":0},{"$f":"BN18-BN19","v":0},{"$f":"BO18-BO19","v":0},{"$f":"BP18-BP19","v":0},null,null,null,null,null,null,null,null,null,null,null,null,null,null,null,null,null,null,null,null,null,null,null,null,null,null,null,null,null,null,null,null,null,null,null,null,null,null,null,null,null,null,null,null,null,null,null,null,null,null,null,null,null,null,null,"E7000","GROSPROD","_Z","BLBIOLSF","_Z","_Z","_Z","_Z","ENERGY","_Z","GWH",null,"nrg_ind_ured","TIMESERIES","R5294SB","GEP_RED","_Z","GWH","Agg.=SUM(countries)"]
[null,null,null,"- of which from NON high-ILUC risk",null,null,null,null,null,null,null,null,null,null,null,null,null,null,null,null,null,0,0,0,0,0,0,0,0,0,0,0,0,0,0,0,0,0,0,0,0,0,0,0,0,0,0,0,0,0,0,0,0,0,0,0,0,0,0,0,0,0,0,0,0,0,0,0,null,null,null,null,null,null,null,null,null,null,null,null,null,null,null,null,null,null,null,null,null,null,null,null,null,null,null,null,null,null,null,null,null,null,null,null,null,null,null,null,null,null,null,null,null,null,null,null,null,null,null,null,null,null,null,"E7000","GROSPROD","_Z","BLBIOLSFNIR","_Z","_Z","_Z","_Z","ENERGY","_Z","GWH",null,"nrg_ind_ured","TIMESERIES","R5295SB","GEP_RED","_Z","GWH","Agg.=SUM(countries)"]
[null,"From biogas blended in the grid",null,null,null,null,null,null,null,null,null,null,null,null,null,null,null,null,null,null,null,{"$f":"GAS!V27*ELE!V48","v":0},{"$f":"GAS!W27*ELE!W48","v":0},{"$f":"GAS!X27*ELE!X48","v":0},{"$f":"GAS!Y27*ELE!Y48","v":0},{"$f":"GAS!Z27*ELE!Z48","v":0},{"$f":"GAS!AA27*ELE!AA48","v":0},{"$f":"GAS!AB27*ELE!AB48","v":0},{"$f":"GAS!AC27*ELE!AC48","v":0},{"$f":"GAS!AD27*ELE!AD48","v":0},{"$f":"GAS!AE27*ELE!AE48","v":0},{"$f":"GAS!AF27*ELE!AF48","v":0},{"$f":"GAS!AG27*ELE!AG48","v":0},{"$f":"GAS!AH27*ELE!AH48","v":0},{"$f":"GAS!AI27*ELE!AI48","v":0},{"$f":"GAS!AJ27*ELE!AJ48","v":0},{"$f":"GAS!AK27*ELE!AK48","v":0},{"$f":"GAS!AL27*ELE!AL48","v":0},{"$f":"GAS!AM27*ELE!AM48","v":0},{"$f":"GAS!AN27*ELE!AN48","v":0},{"$f":"GAS!AO27*ELE!AO48","v":0},{"$f":"GAS!AP27*ELE!AP48","v":0},{"$f":"GAS!AQ27*ELE!AQ48","v":0},{"$f":"GAS!AR27*ELE!AR48","v":0},{"$f":"GAS!AS27*ELE!AS48","v":0},{"$f":"GAS!AT27*ELE!AT48","v":0},{"$f":"GAS!AU27*ELE!AU48","v":0},{"$f":"GAS!AV27*ELE!AV48","v":0},{"$f":"GAS!AW27*ELE!AW48","v":0},{"$f":"GAS!AX27*ELE!AX48","v":0},{"$f":"GAS!AY27*ELE!AY48","v":0},{"$f":"GAS!AZ27*ELE!AZ48","v":0},{"$f":"GAS!BA27*ELE!BA48","v":0},{"$f":"GAS!BB27*ELE!BB48","v":0},{"$f":"GAS!BC27*ELE!BC48","v":0},{"$f":"GAS!BD27*ELE!BD48","v":0},{"$f":"GAS!BE27*ELE!BE48","v":0},{"$f":"GAS!BF27*ELE!BF48","v":0},{"$f":"GAS!BG27*ELE!BG48","v":0},{"$f":"GAS!BH27*ELE!BH48","v":0},{"$f":"GAS!BI27*ELE!BI48","v":0},{"$f":"GAS!BJ27*ELE!BJ48","v":0},{"$f":"GAS!BK27*ELE!BK48","v":0},{"$f":"GAS!BL27*ELE!BL48","v":0},{"$f":"GAS!BM27*ELE!BM48","v":0},{"$f":"GAS!BN27*ELE!BN48","v":0},{"$f":"GAS!BO27*ELE!BO48","v":0},{"$f":"GAS!BP27*ELE!BP48","v":0},null,null,null,null,null,null,null,null,null,null,null,null,null,null,null,null,null,null,null,null,null,null,null,null,null,null,null,null,null,null,null,null,null,null,null,null,null,null,null,null,null,null,null,null,null,null,null,null,null,null,null,null,null,null,null,"E7000","GROSPROD","_Z","BIOGGRID","_Z","_Z","_Z","_Z","ENERGY","_Z","GWH",null,"nrg_ind_ured","TIMESERIES","R5300B","GEP_RED","_Z","GWH","Agg.=SUM(countries)"]
[null,"     - Of which compliant",null,null,null,null,null,null,null,null,null,null,null,null,null,null,null,null,null,null,null,{"$f":"V22","v":0},{"$f":"W22","v":0},0,0,0,0,0,{"$f":"AC22","v":0},{"$f":"AD22","v":0},0,0,0,0,0,0,0,0,0,0,0,0,0,0,0,0,0,0,0,0,0,0,0,0,0,0,0,0,0,0,0,0,0,0,0,0,0,0,null,null,null,null,null,null,null,null,null,null,null,null,null,null,null,null,null,null,null,null,null,null,null,null,null,null,null,null,null,null,null,null,null,null,null,null,null,null,null,null,null,null,null,null,null,null,null,null,null,null,null,null,null,null,null,"E7000","GROSPROD","_Z","BIOGGRIDS","_Z","_Z","_Z","_Z","ENERGY","_Z","GWH",null,"nrg_ind_ured","TIMESERIES","R5300SB","GEP_RED","_Z","GWH","Agg.=SUM(countries)"]
[null,"From biogas accounted towards electricity based on sustainability certificates",null,null,null,null,null,null,null,null,null,null,null,null,null,null,null,null,null,null,null,0,0,0,0,0,0,0,0,0,0,0,0,0,0,0,0,0,0,0,0,0,0,0,0,0,0,0,0,0,0,0,0,0,0,0,0,0,0,0,0,0,0,0,0,0,0,0,null,null,null,null,null,null,null,null,null,null,null,null,null,null,null,null,null,null,null,null,null,null,null,null,null,null,null,null,null,null,null,null,null,null,null,null,null,null,null,null,null,null,null,null,null,null,null,null,null,null,null,null,null,null,null,"E7000","GROSPROD","_Z","BIOGGRIDA","_Z","_Z","_Z","_Z","ENERGY","_Z","GWH",null,"nrg_ind_ured","TIMESERIES","R5301SB","GEP_RED","_Z","GWH","Agg.=SUM(countries)"]
[null,"Geothermal",null,null,null,null,null,null,null,null,null,null,null,null,null,null,null,null,null,null,null,{"$f":"REN!V178+REN!V186","v":0},{"$f":"REN!W178+REN!W186","v":0},{"$f":"REN!X178+REN!X186","v":0},{"$f":"REN!Y178+REN!Y186","v":0},{"$f":"REN!Z178+REN!Z186","v":0},{"$f":"REN!AA178+REN!AA186","v":0},{"$f":"REN!AB178+REN!AB186","v":0},{"$f":"REN!AC178+REN!AC186","v":0},{"$f":"REN!AD178+REN!AD186","v":0},{"$f":"REN!AE178+REN!AE186","v":0},{"$f":"REN!AF178+REN!AF186","v":0},{"$f":"REN!AG178+REN!AG186","v":0},{"$f":"REN!AH178+REN!AH186","v":0},{"$f":"REN!AI178+REN!AI186","v":0},{"$f":"REN!AJ178+REN!AJ186","v":0},{"$f":"REN!AK178+REN!AK186","v":0},{"$f":"REN!AL178+REN!AL186","v":0},{"$f":"REN!AM178+REN!AM186","v":0},{"$f":"REN!AN178+REN!AN186","v":0},{"$f":"REN!AO178+REN!AO186","v":0},{"$f":"REN!AP178+REN!AP186","v":0},{"$f":"REN!AQ178+REN!AQ186","v":0},{"$f":"REN!AR178+REN!AR186","v":0},{"$f":"REN!AS178+REN!AS186","v":0},{"$f":"REN!AT178+REN!AT186","v":0},{"$f":"REN!AU178+REN!AU186","v":0},{"$f":"REN!AV178+REN!AV186","v":0},{"$f":"REN!AW178+REN!AW186","v":0},{"$f":"REN!AX178+REN!AX186","v":0},{"$f":"REN!AY178+REN!AY186","v":0},{"$f":"REN!AZ178+REN!AZ186","v":0},{"$f":"REN!BA178+REN!BA186","v":0},{"$f":"REN!BB178+REN!BB186","v":0},{"$f":"REN!BC178+REN!BC186","v":0},{"$f":"REN!BD178+REN!BD186","v":0},{"$f":"REN!BE178+REN!BE186","v":0},{"$f":"REN!BF178+REN!BF186","v":0},{"$f":"REN!BG178+REN!BG186","v":0},{"$f":"REN!BH178+REN!BH186","v":0},{"$f":"REN!BI178+REN!BI186","v":0},{"$f":"REN!BJ178+REN!BJ186","v":0},{"$f":"REN!BK178+REN!BK186","v":0},{"$f":"REN!BL178+REN!BL186","v":0},{"$f":"REN!BM178+REN!BM186","v":0},{"$f":"REN!BN178+REN!BN186","v":0},{"$f":"REN!BO178+REN!BO186","v":0},{"$f":"REN!BP178+REN!BP186","v":0},null,null,null,null,null,null,null,null,null,null,null,null,null,null,null,null,null,null,null,null,null,null,null,null,null,null,null,null,null,null,null,null,null,null,null,null,null,null,null,null,null,null,null,null,null,null,null,null,null,null,null,null,null,null,null,"E7000","GROSPROD","_Z","GEOTHERM","_Z","_Z","_Z","_Z","ENERGY","_Z","GWH",null,"nrg_ind_ured","TIMESERIES","RA200","GEP_RED","_Z","GWH","Agg.=SUM(countries)"]
[null,"Solar photovoltaic",null,null,null,null,null,null,null,null,null,null,null,null,null,null,null,null,null,null,null,{"$f":"REN!V179+REN!V187","v":0},{"$f":"REN!W179+REN!W187","v":0},{"$f":"REN!X179+REN!X187","v":0},{"$f":"REN!Y179+REN!Y187","v":0},{"$f":"REN!Z179+REN!Z187","v":0},{"$f":"REN!AA179+REN!AA187","v":0},{"$f":"REN!AB179+REN!AB187","v":0},{"$f":"REN!AC179+REN!AC187","v":0},{"$f":"REN!AD179+REN!AD187","v":0},{"$f":"REN!AE179+REN!AE187","v":0},{"$f":"REN!AF179+REN!AF187","v":0},{"$f":"REN!AG179+REN!AG187","v":0},{"$f":"REN!AH179+REN!AH187","v":0},{"$f":"REN!AI179+REN!AI187","v":0},{"$f":"REN!AJ179+REN!AJ187","v":0},{"$f":"REN!AK179+REN!AK187","v":0},{"$f":"REN!AL179+REN!AL187","v":0},{"$f":"REN!AM179+REN!AM187","v":0},{"$f":"REN!AN179+REN!AN187","v":0},{"$f":"REN!AO179+REN!AO187","v":0},{"$f":"REN!AP179+REN!AP187","v":0},{"$f":"REN!AQ179+REN!AQ187","v":0},{"$f":"REN!AR179+REN!AR187","v":0},{"$f":"REN!AS179+REN!AS187","v":0},{"$f":"REN!AT179+REN!AT187","v":0},{"$f":"REN!AU179+REN!AU187","v":0},{"$f":"REN!AV179+REN!AV187","v":0},{"$f":"REN!AW179+REN!AW187","v":0},{"$f":"REN!AX179+REN!AX187","v":0},{"$f":"REN!AY179+REN!AY187","v":0},{"$f":"REN!AZ179+REN!AZ187","v":0},{"$f":"REN!BA179+REN!BA187","v":0},{"$f":"REN!BB179+REN!BB187","v":0},{"$f":"REN!BC179+REN!BC187","v":0},{"$f":"REN!BD179+REN!BD187","v":0},{"$f":"REN!BE179+REN!BE187","v":0},{"$f":"REN!BF179+REN!BF187","v":0},{"$f":"REN!BG179+REN!BG187","v":0},{"$f":"REN!BH179+REN!BH187","v":0},{"$f":"REN!BI179+REN!BI187","v":0},{"$f":"REN!BJ179+REN!BJ187","v":0},{"$f":"REN!BK179+REN!BK187","v":0},{"$f":"REN!BL179+REN!BL187","v":0},{"$f":"REN!BM179+REN!BM187","v":0},{"$f":"REN!BN179+REN!BN187","v":0},{"$f":"REN!BO179+REN!BO187","v":0},{"$f":"REN!BP179+REN!BP187","v":0},null,null,null,null,null,null,null,null,null,null,null,null,null,null,null,null,null,null,null,null,null,null,null,null,null,null,null,null,null,null,null,null,null,null,null,null,null,null,null,null,null,null,null,null,null,null,null,null,null,null,null,null,null,null,null,"E7000","GROSPROD","_Z","SOLARPV","_Z","_Z","_Z","_Z","ENERGY","_Z","GWH",null,"nrg_ind_ured","TIMESERIES","RA420","GEP_RED","_Z","GWH","Agg.=SUM(countries)"]
[null,"Solar thermal",null,null,null,null,null,null,null,null,null,null,null,null,null,null,null,null,null,null,null,{"$f":"REN!V180+REN!V188","v":0},{"$f":"REN!W180+REN!W188","v":0},{"$f":"REN!X180+REN!X188","v":0},{"$f":"REN!Y180+REN!Y188","v":0},{"$f":"REN!Z180+REN!Z188","v":0},{"$f":"REN!AA180+REN!AA188","v":0},{"$f":"REN!AB180+REN!AB188","v":0},{"$f":"REN!AC180+REN!AC188","v":0},{"$f":"REN!AD180+REN!AD188","v":0},{"$f":"REN!AE180+REN!AE188","v":0},{"$f":"REN!AF180+REN!AF188","v":0},{"$f":"REN!AG180+REN!AG188","v":0},{"$f":"REN!AH180+REN!AH188","v":0},{"$f":"REN!AI180+REN!AI188","v":0},{"$f":"REN!AJ180+REN!AJ188","v":0},{"$f":"REN!AK180+REN!AK188","v":0},{"$f":"REN!AL180+REN!AL188","v":0},{"$f":"REN!AM180+REN!AM188","v":0},{"$f":"REN!AN180+REN!AN188","v":0},{"$f":"REN!AO180+REN!AO188","v":0},{"$f":"REN!AP180+REN!AP188","v":0},{"$f":"REN!AQ180+REN!AQ188","v":0},{"$f":"REN!AR180+REN!AR188","v":0},{"$f":"REN!AS180+REN!AS188","v":0},{"$f":"REN!AT180+REN!AT188","v":0},{"$f":"REN!AU180+REN!AU188","v":0},{"$f":"REN!AV180+REN!AV188","v":0},{"$f":"REN!AW180+REN!AW188","v":0},{"$f":"REN!AX180+REN!AX188","v":0},{"$f":"REN!AY180+REN!AY188","v":0},{"$f":"REN!AZ180+REN!AZ188","v":0},{"$f":"REN!BA180+REN!BA188","v":0},{"$f":"REN!BB180+REN!BB188","v":0},{"$f":"REN!BC180+REN!BC188","v":0},{"$f":"REN!BD180+REN!BD188","v":0},{"$f":"REN!BE180+REN!BE188","v":0},{"$f":"REN!BF180+REN!BF188","v":0},{"$f":"REN!BG180+REN!BG188","v":0},{"$f":"REN!BH180+REN!BH188","v":0},{"$f":"REN!BI180+REN!BI188","v":0},{"$f":"REN!BJ180+REN!BJ188","v":0},{"$f":"REN!BK180+REN!BK188","v":0},{"$f":"REN!BL180+REN!BL188","v":0},{"$f":"REN!BM180+REN!BM188","v":0},{"$f":"REN!BN180+REN!BN188","v":0},{"$f":"REN!BO180+REN!BO188","v":0},{"$f":"REN!BP180+REN!BP188","v":0},null,null,null,null,null,null,null,null,null,null,null,null,null,null,null,null,null,null,null,null,null,null,null,null,null,null,null,null,null,null,null,null,null,null,null,null,null,null,null,null,null,null,null,null,null,null,null,null,null,null,null,null,null,null,null,"E7000","GROSPROD","_Z","SOLARTH","_Z","_Z","_Z","_Z","ENERGY","_Z","GWH",null,"nrg_ind_ured","TIMESERIES","RA410","GEP_RED","_Z","GWH","Agg.=SUM(countries)"]
[null,"Tide, wave and ocean",null,null,null,null,null,null,null,null,null,null,null,null,null,null,null,null,null,null,null,{"$f":"REN!V181+REN!V189","v":0},{"$f":"REN!W181+REN!W189","v":0},{"$f":"REN!X181+REN!X189","v":0},{"$f":"REN!Y181+REN!Y189","v":0},{"$f":"REN!Z181+REN!Z189","v":0},{"$f":"REN!AA181+REN!AA189","v":0},{"$f":"REN!AB181+REN!AB189","v":0},{"$f":"REN!AC181+REN!AC189","v":0},{"$f":"REN!AD181+REN!AD189","v":0},{"$f":"REN!AE181+REN!AE189","v":0},{"$f":"REN!AF181+REN!AF189","v":0},{"$f":"REN!AG181+REN!AG189","v":0},{"$f":"REN!AH181+REN!AH189","v":0},{"$f":"REN!AI181+REN!AI189","v":0},{"$f":"REN!AJ181+REN!AJ189","v":0},{"$f":"REN!AK181+REN!AK189","v":0},{"$f":"REN!AL181+REN!AL189","v":0},{"$f":"REN!AM181+REN!AM189","v":0},{"$f":"REN!AN181+REN!AN189","v":0},{"$f":"REN!AO181+REN!AO189","v":0},{"$f":"REN!AP181+REN!AP189","v":0},{"$f":"REN!AQ181+REN!AQ189","v":0},{"$f":"REN!AR181+REN!AR189","v":0},{"$f":"REN!AS181+REN!AS189","v":0},{"$f":"REN!AT181+REN!AT189","v":0},{"$f":"REN!AU181+REN!AU189","v":0},{"$f":"REN!AV181+REN!AV189","v":0},{"$f":"REN!AW181+REN!AW189","v":0},{"$f":"REN!AX181+REN!AX189","v":0},{"$f":"REN!AY181+REN!AY189","v":0},{"$f":"REN!AZ181+REN!AZ189","v":0},{"$f":"REN!BA181+REN!BA189","v":0},{"$f":"REN!BB181+REN!BB189","v":0},{"$f":"REN!BC181+REN!BC189","v":0},{"$f":"REN!BD181+REN!BD189","v":0},{"$f":"REN!BE181+REN!BE189","v":0},{"$f":"REN!BF181+REN!BF189","v":0},{"$f":"REN!BG181+REN!BG189","v":0},{"$f":"REN!BH181+REN!BH189","v":0},{"$f":"REN!BI181+REN!BI189","v":0},{"$f":"REN!BJ181+REN!BJ189","v":0},{"$f":"REN!BK181+REN!BK189","v":0},{"$f":"REN!BL181+REN!BL189","v":0},{"$f":"REN!BM181+REN!BM189","v":0},{"$f":"REN!BN181+REN!BN189","v":0},{"$f":"REN!BO181+REN!BO189","v":0},{"$f":"REN!BP181+REN!BP189","v":0},null,null,null,null,null,null,null,null,null,null,null,null,null,null,null,null,null,null,null,null,null,null,null,null,null,null,null,null,null,null,null,null,null,null,null,null,null,null,null,null,null,null,null,null,null,null,null,null,null,null,null,null,null,null,null,"E7000","GROSPROD","_Z","TIDE","_Z","_Z","_Z","_Z","ENERGY","_Z","GWH",null,"nrg_ind_ured","TIMESERIES","RA500","GEP_RED","_Z","GWH","Agg.=SUM(countries)"]
[null,"Municipal waste renewable",null,null,null,null,null,null,null,null,null,null,null,null,null,null,null,null,null,null,null,{"$f":"REN!V182+REN!V190","v":0},{"$f":"REN!W182+REN!W190","v":0},{"$f":"REN!X182+REN!X190","v":0},{"$f":"REN!Y182+REN!Y190","v":0},{"$f":"REN!Z182+REN!Z190","v":0},{"$f":"REN!AA182+REN!AA190","v":0},{"$f":"REN!AB182+REN!AB190","v":0},{"$f":"REN!AC182+REN!AC190","v":0},{"$f":"REN!AD182+REN!AD190","v":0},{"$f":"REN!AE182+REN!AE190","v":0},{"$f":"REN!AF182+REN!AF190","v":0},{"$f":"REN!AG182+REN!AG190","v":0},{"$f":"REN!AH182+REN!AH190","v":0},{"$f":"REN!AI182+REN!AI190","v":0},{"$f":"REN!AJ182+REN!AJ190","v":0},{"$f":"REN!AK182+REN!AK190","v":0},{"$f":"REN!AL182+REN!AL190","v":0},{"$f":"REN!AM182+REN!AM190","v":0},{"$f":"REN!AN182+REN!AN190","v":0},{"$f":"REN!AO182+REN!AO190","v":0},{"$f":"REN!AP182+REN!AP190","v":0},{"$f":"REN!AQ182+REN!AQ190","v":0},{"$f":"REN!AR182+REN!AR190","v":0},{"$f":"REN!AS182+REN!AS190","v":0},{"$f":"REN!AT182+REN!AT190","v":0},{"$f":"REN!AU182+REN!AU190","v":0},{"$f":"REN!AV182+REN!AV190","v":0},{"$f":"REN!AW182+REN!AW190","v":0},{"$f":"REN!AX182+REN!AX190","v":0},{"$f":"REN!AY182+REN!AY190","v":0},{"$f":"REN!AZ182+REN!AZ190","v":0},{"$f":"REN!BA182+REN!BA190","v":0},{"$f":"REN!BB182+REN!BB190","v":0},{"$f":"REN!BC182+REN!BC190","v":0},{"$f":"REN!BD182+REN!BD190","v":0},{"$f":"REN!BE182+REN!BE190","v":0},{"$f":"REN!BF182+REN!BF190","v":0},{"$f":"REN!BG182+REN!BG190","v":0},{"$f":"REN!BH182+REN!BH190","v":0},{"$f":"REN!BI182+REN!BI190","v":0},{"$f":"REN!BJ182+REN!BJ190","v":0},{"$f":"REN!BK182+REN!BK190","v":0},{"$f":"REN!BL182+REN!BL190","v":0},{"$f":"REN!BM182+REN!BM190","v":0},{"$f":"REN!BN182+REN!BN190","v":0},{"$f":"REN!BO182+REN!BO190","v":0},{"$f":"REN!BP182+REN!BP190","v":0},null,null,null,null,null,null,null,null,null,null,null,null,null,null,null,null,null,null,null,null,null,null,null,null,null,null,null,null,null,null,null,null,null,null,null,null,null,null,null,null,null,null,null,null,null,null,null,null,null,null,null,null,null,null,null,"E7000","GROSPROD","_Z","COMBMURW","_Z","_Z","_Z","_Z","ENERGY","_Z","GWH",null,"nrg_ind_ured","TIMESERIES","W6210","GEP_RED","_Z","GWH","Agg.=SUM(countries)"]
[null,"Solid biofuels",null,null,null,null,null,null,null,null,null,null,null,null,null,null,null,null,null,null,null,{"$f":"REN!V183+REN!V191","v":0},{"$f":"REN!W183+REN!W191","v":0},{"$f":"REN!X183+REN!X191","v":0},{"$f":"REN!Y183+REN!Y191","v":0},{"$f":"REN!Z183+REN!Z191","v":0},{"$f":"REN!AA183+REN!AA191","v":0},{"$f":"REN!AB183+REN!AB191","v":0},{"$f":"REN!AC183+REN!AC191","v":0},{"$f":"REN!AD183+REN!AD191","v":0},{"$f":"REN!AE183+REN!AE191","v":0},{"$f":"REN!AF183+REN!AF191","v":0},{"$f":"REN!AG183+REN!AG191","v":0},{"$f":"REN!AH183+REN!AH191","v":0},{"$f":"REN!AI183+REN!AI191","v":0},{"$f":"REN!AJ183+REN!AJ191","v":0},{"$f":"REN!AK183+REN!AK191","v":0},{"$f":"REN!AL183+REN!AL191","v":0},{"$f":"REN!AM183+REN!AM191","v":0},{"$f":"REN!AN183+REN!AN191","v":0},{"$f":"REN!AO183+REN!AO191","v":0},{"$f":"REN!AP183+REN!AP191","v":0},{"$f":"REN!AQ183+REN!AQ191","v":0},{"$f":"REN!AR183+REN!AR191","v":0},{"$f":"REN!AS183+REN!AS191","v":0},{"$f":"REN!AT183+REN!AT191","v":0},{"$f":"REN!AU183+REN!AU191","v":0},{"$f":"REN!AV183+REN!AV191","v":0},{"$f":"REN!AW183+REN!AW191","v":0},{"$f":"REN!AX183+REN!AX191","v":0},{"$f":"REN!AY183+REN!AY191","v":0},{"$f":"REN!AZ183+REN!AZ191","v":0},{"$f":"REN!BA183+REN!BA191","v":0},{"$f":"REN!BB183+REN!BB191","v":0},{"$f":"REN!BC183+REN!BC191","v":0},{"$f":"REN!BD183+REN!BD191","v":0},{"$f":"REN!BE183+REN!BE191","v":0},{"$f":"REN!BF183+REN!BF191","v":0},{"$f":"REN!BG183+REN!BG191","v":0},{"$f":"REN!BH183+REN!BH191","v":0},{"$f":"REN!BI183+REN!BI191","v":0},{"$f":"REN!BJ183+REN!BJ191","v":0},{"$f":"REN!BK183+REN!BK191","v":0},{"$f":"REN!BL183+REN!BL191","v":0},{"$f":"REN!BM183+REN!BM191","v":0},{"$f":"REN!BN183+REN!BN191","v":0},{"$f":"REN!BO183+REN!BO191","v":0},{"$f":"REN!BP183+REN!BP191","v":0},null,null,null,null,null,null,null,null,null,null,null,null,null,null,null,null,null,null,null,null,null,null,null,null,null,null,null,null,null,null,null,null,null,null,null,null,null,null,null,null,null,null,null,null,null,null,null,null,null,null,null,null,null,null,null,"E7000","GROSPROD","_Z","COMBSOBI","_Z","_Z","_Z","_Z","ENERGY","_Z","GWH",null,"nrg_ind_ured","TIMESERIES","R5110-5150_W6000RI","GEP_RED","_Z","GWH","Agg.=SUM(countries)"]
[null,"     - Of which compliant",null,null,null,null,null,null,null,null,null,null,null,null,null,null,null,null,null,null,null,{"$f":"V30","v":0},0,0,0,0,{"$f":"AA30","v":0},{"$f":"AB30","v":0},{"$f":"AC30","v":0},{"$f":"AD30","v":0},0,0,0,0,0,0,0,0,0,0,0,0,0,0,0,0,0,0,0,0,0,0,0,0,0,0,0,0,0,0,0,0,0,0,0,0,0,0,null,null,null,null,null,null,null,null,null,null,null,null,null,null,null,null,null,null,null,null,null,null,null,null,null,null,null,null,null,null,null,null,null,null,null,null,null,null,null,null,null,null,null,null,null,null,null,null,null,null,null,null,null,null,null,"E7000","GROSPROD","_Z","COMBSOBIS","_Z","_Z","_Z","_Z","ENERGY","_Z","GWH",null,"nrg_ind_ured","TIMESERIES","R5110-5150_W6000RIS","GEP_RED","_Z","GWH","Agg.=SUM(countries)"]
[null,"From pure biogas",null,null,null,null,null,null,null,null,null,null,null,null,null,null,null,null,null,null,null,{"$f":"REN!V184+REN!V192","v":0},{"$f":"REN!W184+REN!W192","v":0},{"$f":"REN!X184+REN!X192","v":0},{"$f":"REN!Y184+REN!Y192","v":0},{"$f":"REN!Z184+REN!Z192","v":0},{"$f":"REN!AA184+REN!AA192","v":0},{"$f":"REN!AB184+REN!AB192","v":0},{"$f":"REN!AC184+REN!AC192","v":0},{"$f":"REN!AD184+REN!AD192","v":0},{"$f":"REN!AE184+REN!AE192","v":0},{"$f":"REN!AF184+REN!AF192","v":0},{"$f":"REN!AG184+REN!AG192","v":0},{"$f":"REN!AH184+REN!AH192","v":0},{"$f":"REN!AI184+REN!AI192","v":0},{"$f":"REN!AJ184+REN!AJ192","v":0},{"$f":"REN!AK184+REN!AK192","v":0},{"$f":"REN!AL184+REN!AL192","v":0},{"$f":"REN!AM184+REN!AM192","v":0},{"$f":"REN!AN184+REN!AN192","v":0},{"$f":"REN!AO184+REN!AO192","v":0},{"$f":"REN!AP184+REN!AP192","v":0},{"$f":"REN!AQ184+REN!AQ192","v":0},{"$f":"REN!AR184+REN!AR192","v":0},{"$f":"REN!AS184+REN!AS192","v":0},{"$f":"REN!AT184+REN!AT192","v":0},{"$f":"REN!AU184+REN!AU192","v":0},{"$f":"REN!AV184+REN!AV192","v":0},{"$f":"REN!AW184+REN!AW192","v":0},{"$f":"REN!AX184+REN!AX192","v":0},{"$f":"REN!AY184+REN!AY192","v":0},{"$f":"REN!AZ184+REN!AZ192","v":0},{"$f":"REN!BA184+REN!BA192","v":0},{"$f":"REN!BB184+REN!BB192","v":0},{"$f":"REN!BC184+REN!BC192","v":0},{"$f":"REN!BD184+REN!BD192","v":0},{"$f":"REN!BE184+REN!BE192","v":0},{"$f":"REN!BF184+REN!BF192","v":0},{"$f":"REN!BG184+REN!BG192","v":0},{"$f":"REN!BH184+REN!BH192","v":0},{"$f":"REN!BI184+REN!BI192","v":0},{"$f":"REN!BJ184+REN!BJ192","v":0},{"$f":"REN!BK184+REN!BK192","v":0},{"$f":"REN!BL184+REN!BL192","v":0},{"$f":"REN!BM184+REN!BM192","v":0},{"$f":"REN!BN184+REN!BN192","v":0},{"$f":"REN!BO184+REN!BO192","v":0},{"$f":"REN!BP184+REN!BP192","v":0},null,null,null,null,null,null,null,null,null,null,null,null,null,null,null,null,null,null,null,null,null,null,null,null,null,null,null,null,null,null,null,null,null,null,null,null,null,null,null,null,null,null,null,null,null,null,null,null,null,null,null,null,null,null,null,"E7000","GROSPROD","_Z","COMBBIGA","_Z","_Z","_Z","_Z","ENERGY","_Z","GWH",null,"nrg_ind_ured","TIMESERIES","R5300","GEP_RED","_Z","GWH","Agg.=SUM(countries)"]
[null,"     - Of which compliant",null,null,null,null,null,null,null,null,null,null,null,null,null,null,null,null,null,null,null,{"$f":"V32","v":0},0,0,0,0,0,{"$f":"AB32","v":0},{"$f":"AC32","v":0},{"$f":"AD32","v":0},0,0,0,0,0,0,0,0,0,0,0,0,0,0,0,0,0,0,0,0,0,0,0,0,0,0,0,0,0,0,0,0,0,0,0,0,0,0,null,null,null,null,null,null,null,null,null,null,null,null,null,null,null,null,null,null,null,null,null,null,null,null,null,null,null,null,null,null,null,null,null,null,null,null,null,null,null,null,null,null,null,null,null,null,null,null,null,null,null,null,null,null,null,"E7000","GROSPROD","_Z","COMBBIGAS","_Z","_Z","_Z","_Z","ENERGY","_Z","GWH",null,"nrg_ind_ured","TIMESERIES","R5300S","GEP_RED","_Z","GWH","Agg.=SUM(countries)"]
["Total Gross Electricity Consumption [GWh]",null,null,null,null,null,null,null,null,null,null,null,null,null,null,null,null,null,null,null,null,{"$f":"ELE!V44","v":0},{"$f":"ELE!W44","v":0},{"$f":"ELE!X44","v":0},{"$f":"ELE!Y44","v":0},{"$f":"ELE!Z44","v":0},{"$f":"ELE!AA44","v":0},{"$f":"ELE!AB44","v":0},{"$f":"ELE!AC44","v":0},{"$f":"ELE!AD44","v":0},{"$f":"ELE!AE44","v":0},{"$f":"ELE!AF44","v":0},{"$f":"ELE!AG44","v":0},{"$f":"ELE!AH44","v":0},{"$f":"ELE!AI44","v":0},{"$f":"ELE!AJ44","v":0},{"$f":"ELE!AK44","v":0},{"$f":"ELE!AL44","v":0},{"$f":"ELE!AM44","v":0},{"$f":"ELE!AN44","v":0},{"$f":"ELE!AO44","v":0},{"$f":"ELE!AP44","v":0},{"$f":"ELE!AQ44","v":0},{"$f":"ELE!AR44","v":0},{"$f":"ELE!AS44","v":0},{"$f":"ELE!AT44","v":0},{"$f":"ELE!AU44","v":0},{"$f":"ELE!AV44","v":0},{"$f":"ELE!AW44","v":0},{"$f":"ELE!AX44","v":0},{"$f":"ELE!AY44","v":0},{"$f":"ELE!AZ44","v":0},{"$f":"ELE!BA44","v":0},{"$f":"ELE!BB44","v":0},{"$f":"ELE!BC44","v":0},{"$f":"ELE!BD44","v":0},{"$f":"ELE!BE44","v":0},{"$f":"ELE!BF44","v":0},{"$f":"ELE!BG44","v":0},{"$f":"ELE!BH44","v":0},{"$f":"ELE!BI44","v":0},{"$f":"ELE!BJ44","v":0},{"$f":"ELE!BK44","v":0},{"$f":"ELE!BL44","v":0},{"$f":"ELE!BM44","v":0},{"$f":"ELE!BN44","v":0},{"$f":"ELE!BO44","v":0},{"$f":"ELE!BP44","v":0},null,null,null,null,null,null,null,null,null,null,null,null,null,null,null,null,null,null,null,null,null,null,null,null,null,null,null,null,null,null,null,null,null,null,null,null,null,null,null,null,null,null,null,null,null,null,null,null,null,null,null,null,null,null,null,"E7000","ENERGUSE","GFC_ELC","_Z","_Z","_Z","_Z","_Z","ENERGY","_Z","GWH",null,"nrg_ind_ured","TIMESERIES","TOTAL","GFC_ELC","_Z","GWH","Agg.=SUM(countries)"]
["RES-E (%)",null,null,null,null,null,null,null,null,null,null,null,null,null,null,null,null,null,null,null,null,{"$f":"IF(V34>0,V6/V34,\"\")","v":""},"","","","","","","","","","","","","","","","","","","","","","","","","","","","","","","","","","","","","","","","","","","","","","",null,null,null,null,null,null,null,null,null,null,null,null,null,null,null,null,null,null,null,null,null,null,null,null,null,null,null,null,null,null,null,null,null,null,null,null,null,null,null,null,null,null,null,null,null,null,null,null,null,null,null,null,null,null,null,"_Z","REN_ELC ","_Z","_Z","_Z","_Z","_Z","_Z","_Z","_Z","PC",null,"nrg_ind_ren","TIMESERIES","_Z","REN_ELC ","_Z","PC","Agg.=100*[SUM(countries row 6) / SUM(countries row 34)]"]
[]
["Renewable sources for heating & cooling [ktoe]"]
["Final Energy Consumption of renewable sources in Industry and Other Sectors [ktoe]"]
["- Charcoal",null,null,null,null,null,null,null,null,null,null,null,null,null,null,null,null,null,null,null,null,{"$f":"(SUM(REN!V40,REN!V54,REN!V68)*REN!V32)/41868","v":0},{"$f":"(SUM(REN!W40,REN!W54,REN!W68)*REN!W32)/41868","v":0},{"$f":"(SUM(REN!X40,REN!X54,REN!X68)*REN!X32)/41868","v":0},{"$f":"(SUM(REN!Y40,REN!Y54,REN!Y68)*REN!Y32)/41868","v":0},{"$f":"(SUM(REN!Z40,REN!Z54,REN!Z68)*REN!Z32)/41868","v":0},{"$f":"(SUM(REN!AA40,REN!AA54,REN!AA68)*REN!AA32)/41868","v":0},{"$f":"(SUM(REN!AB40,REN!AB54,REN!AB68)*REN!AB32)/41868","v":0},{"$f":"(SUM(REN!AC40,REN!AC54,REN!AC68)*REN!AC32)/41868","v":0},{"$f":"(SUM(REN!AD40,REN!AD54,REN!AD68)*REN!AD32)/41868","v":0},{"$f":"(SUM(REN!AE40,REN!AE54,REN!AE68)*REN!AE32)/41868","v":0},{"$f":"(SUM(REN!AF40,REN!AF54,REN!AF68)*REN!AF32)/41868","v":0},{"$f":"(SUM(REN!AG40,REN!AG54,REN!AG68)*REN!AG32)/41868","v":0},{"$f":"(SUM(REN!AH40,REN!AH54,REN!AH68)*REN!AH32)/41868","v":0},{"$f":"(SUM(REN!AI40,REN!AI54,REN!AI68)*REN!AI32)/41868","v":0},{"$f":"(SUM(REN!AJ40,REN!AJ54,REN!AJ68)*REN!AJ32)/41868","v":0},{"$f":"(SUM(REN!AK40,REN!AK54,REN!AK68)*REN!AK32)/41868","v":0},{"$f":"(SUM(REN!AL40,REN!AL54,REN!AL68)*REN!AL32)/41868","v":0},{"$f":"(SUM(REN!AM40,REN!AM54,REN!AM68)*REN!AM32)/41868","v":0},{"$f":"(SUM(REN!AN40,REN!AN54,REN!AN68)*REN!AN32)/41868","v":0},{"$f":"(SUM(REN!AO40,REN!AO54,REN!AO68)*REN!AO32)/41868","v":0},{"$f":"(SUM(REN!AP40,REN!AP54,REN!AP68)*REN!AP32)/41868","v":0},{"$f":"(SUM(REN!AQ40,REN!AQ54,REN!AQ68)*REN!AQ32)/41868","v":0},{"$f":"(SUM(REN!AR40,REN!AR54,REN!AR68)*REN!AR32)/41868","v":0},{"$f":"(SUM(REN!AS40,REN!AS54,REN!AS68)*REN!AS32)/41868","v":0},{"$f":"(SUM(REN!AT40,REN!AT54,REN!AT68)*REN!AT32)/41868","v":0},{"$f":"(SUM(REN!AU40,REN!AU54,REN!AU68)*REN!AU32)/41868","v":0},{"$f":"(SUM(REN!AV40,REN!AV54,REN!AV68)*REN!AV32)/41868","v":0},{"$f":"(SUM(REN!AW40,REN!AW54,REN!AW68)*REN!AW32)/41868","v":0},{"$f":"(SUM(REN!AX40,REN!AX54,REN!AX68)*REN!AX32)/41868","v":0},{"$f":"(SUM(REN!AY40,REN!AY54,REN!AY68)*REN!AY32)/41868","v":0},{"$f":"(SUM(REN!AZ40,REN!AZ54,REN!AZ68)*REN!AZ32)/41868","v":0},{"$f":"(SUM(REN!BA40,REN!BA54,REN!BA68)*REN!BA32)/41868","v":0},{"$f":"(SUM(REN!BB40,REN!BB54,REN!BB68)*REN!BB32)/41868","v":0},{"$f":"(SUM(REN!BC40,REN!BC54,REN!BC68)*REN!BC32)/41868","v":0},{"$f":"(SUM(REN!BD40,REN!BD54,REN!BD68)*REN!BD32)/41868","v":0},{"$f":"(SUM(REN!BE40,REN!BE54,REN!BE68)*REN!BE32)/41868","v":0},{"$f":"(SUM(REN!BF40,REN!BF54,REN!BF68)*REN!BF32)/41868","v":0},{"$f":"(SUM(REN!BG40,REN!BG54,REN!BG68)*REN!BG32)/41868","v":0},{"$f":"(SUM(REN!BH40,REN!BH54,REN!BH68)*REN!BH32)/41868","v":0},{"$f":"(SUM(REN!BI40,REN!BI54,REN!BI68)*REN!BI32)/41868","v":0},{"$f":"(SUM(REN!BJ40,REN!BJ54,REN!BJ68)*REN!BJ32)/41868","v":0},{"$f":"(SUM(REN!BK40,REN!BK54,REN!BK68)*REN!BK32)/41868","v":0},{"$f":"(SUM(REN!BL40,REN!BL54,REN!BL68)*REN!BL32)/41868","v":0},{"$f":"(SUM(REN!BM40,REN!BM54,REN!BM68)*REN!BM32)/41868","v":0},{"$f":"(SUM(REN!BN40,REN!BN54,REN!BN68)*REN!BN32)/41868","v":0},{"$f":"(SUM(REN!BO40,REN!BO54,REN!BO68)*REN!BO32)/41868","v":0},{"$f":"(SUM(REN!BP40,REN!BP54,REN!BP68)*REN!BP32)/41868","v":0},null,null,null,null,null,null,null,null,null,null,null,null,null,null,null,null,null,null,null,null,null,null,null,null,null,null,null,null,null,null,null,null,null,null,null,null,null,null,null,null,null,null,null,null,null,null,null,null,null,null,null,null,null,null,null,"R5160","ENERGUSE","FC_IND_OTH_E","_Z","_Z","_Z","_Z","_Z","ENERGY","_Z","KTOE",null,"nrg_ind_urhcd","TIMESERIES","R5160","FC_IND_OTH_E","_Z","KTOE","Agg.=SUM(countries)"]
["- Pure biogas",null,null,null,null,null,null,null,null,null,null,null,null,null,null,null,null,null,null,null,null,{"$f":"(SUM(REN!V41,REN!V55,REN!V69)*1000)/41868","v":0},{"$f":"(SUM(REN!W41,REN!W55,REN!W69)*1000)/41868","v":0},{"$f":"(SUM(REN!X41,REN!X55,REN!X69)*1000)/41868","v":0},{"$f":"(SUM(REN!Y41,REN!Y55,REN!Y69)*1000)/41868","v":0},{"$f":"(SUM(REN!Z41,REN!Z55,REN!Z69)*1000)/41868","v":0},{"$f":"(SUM(REN!AA41,REN!AA55,REN!AA69)*1000)/41868","v":0},{"$f":"(SUM(REN!AB41,REN!AB55,REN!AB69)*1000)/41868","v":0},{"$f":"(SUM(REN!AC41,REN!AC55,REN!AC69)*1000)/41868","v":0},{"$f":"(SUM(REN!AD41,REN!AD55,REN!AD69)*1000)/41868","v":0},{"$f":"(SUM(REN!AE41,REN!AE55,REN!AE69)*1000)/41868","v":0},{"$f":"(SUM(REN!AF41,REN!AF55,REN!AF69)*1000)/41868","v":0},{"$f":"(SUM(REN!AG41,REN!AG55,REN!AG69)*1000)/41868","v":0},{"$f":"(SUM(REN!AH41,REN!AH55,REN!AH69)*1000)/41868","v":0},{"$f":"(SUM(REN!AI41,REN!AI55,REN!AI69)*1000)/41868","v":0},{"$f":"(SUM(REN!AJ41,REN!AJ55,REN!AJ69)*1000)/41868","v":0},{"$f":"(SUM(REN!AK41,REN!AK55,REN!AK69)*1000)/41868","v":0},{"$f":"(SUM(REN!AL41,REN!AL55,REN!AL69)*1000)/41868","v":0},{"$f":"(SUM(REN!AM41,REN!AM55,REN!AM69)*1000)/41868","v":0},{"$f":"(SUM(REN!AN41,REN!AN55,REN!AN69)*1000)/41868","v":0},{"$f":"(SUM(REN!AO41,REN!AO55,REN!AO69)*1000)/41868","v":0},{"$f":"(SUM(REN!AP41,REN!AP55,REN!AP69)*1000)/41868","v":0},{"$f":"(SUM(REN!AQ41,REN!AQ55,REN!AQ69)*1000)/41868","v":0},{"$f":"(SUM(REN!AR41,REN!AR55,REN!AR69)*1000)/41868","v":0},{"$f":"(SUM(REN!AS41,REN!AS55,REN!AS69)*1000)/41868","v":0},{"$f":"(SUM(REN!AT41,REN!AT55,REN!AT69)*1000)/41868","v":0},{"$f":"(SUM(REN!AU41,REN!AU55,REN!AU69)*1000)/41868","v":0},{"$f":"(SUM(REN!AV41,REN!AV55,REN!AV69)*1000)/41868","v":0},{"$f":"(SUM(REN!AW41,REN!AW55,REN!AW69)*1000)/41868","v":0},{"$f":"(SUM(REN!AX41,REN!AX55,REN!AX69)*1000)/41868","v":0},{"$f":"(SUM(REN!AY41,REN!AY55,REN!AY69)*1000)/41868","v":0},{"$f":"(SUM(REN!AZ41,REN!AZ55,REN!AZ69)*1000)/41868","v":0},{"$f":"(SUM(REN!BA41,REN!BA55,REN!BA69)*1000)/41868","v":0},{"$f":"(SUM(REN!BB41,REN!BB55,REN!BB69)*1000)/41868","v":0},{"$f":"(SUM(REN!BC41,REN!BC55,REN!BC69)*1000)/41868","v":0},{"$f":"(SUM(REN!BD41,REN!BD55,REN!BD69)*1000)/41868","v":0},{"$f":"(SUM(REN!BE41,REN!BE55,REN!BE69)*1000)/41868","v":0},{"$f":"(SUM(REN!BF41,REN!BF55,REN!BF69)*1000)/41868","v":0},{"$f":"(SUM(REN!BG41,REN!BG55,REN!BG69)*1000)/41868","v":0},{"$f":"(SUM(REN!BH41,REN!BH55,REN!BH69)*1000)/41868","v":0},{"$f":"(SUM(REN!BI41,REN!BI55,REN!BI69)*1000)/41868","v":0},{"$f":"(SUM(REN!BJ41,REN!BJ55,REN!BJ69)*1000)/41868","v":0},{"$f":"(SUM(REN!BK41,REN!BK55,REN!BK69)*1000)/41868","v":0},{"$f":"(SUM(REN!BL41,REN!BL55,REN!BL69)*1000)/41868","v":0},{"$f":"(SUM(REN!BM41,REN!BM55,REN!BM69)*1000)/41868","v":0},{"$f":"(SUM(REN!BN41,REN!BN55,REN!BN69)*1000)/41868","v":0},{"$f":"(SUM(REN!BO41,REN!BO55,REN!BO69)*1000)/41868","v":0},{"$f":"(SUM(REN!BP41,REN!BP55,REN!BP69)*1000)/41868","v":0},null,null,null,null,null,null,null,null,null,null,null,null,null,null,null,null,null,null,null,null,null,null,null,null,null,null,null,null,null,null,null,null,null,null,null,null,null,null,null,null,null,null,null,null,null,null,null,null,null,null,null,null,null,null,null,"R5300","ENERGUSE","FC_IND_OTH_E","_Z","_Z","_Z","_Z","_Z","ENERGY","_Z","KTOE",null,"nrg_ind_urhcd","TIMESERIES","R5300","FC_IND_OTH_E","_Z","KTOE","Agg.=SUM(countries)"]
[null,"     Of which compliant",null,null,null,null,null,null,null,null,null,null,null,null,null,null,null,null,null,null,null,{"$f":"V40","v":0},{"$f":"W40","v":0},0,0,0,0,0,0,0,0,0,0,0,0,0,0,{"$f":"AL40","v":0},0,0,0,0,0,0,0,0,0,0,0,0,0,0,0,0,0,0,0,0,0,0,0,0,0,0,0,0,0,0,null,null,null,null,null,null,null,null,null,null,null,null,null,null,null,null,null,null,null,null,null,null,null,null,null,null,null,null,null,null,null,null,null,null,null,null,null,null,null,null,null,null,null,null,null,null,null,null,null,null,null,null,null,null,null,"R5300S","ENERGUSE","FC_IND_OTH_E","_Z","_Z","_Z","_Z","_Z","ENERGY","_Z","KTOE",null,"nrg_ind_urhcd","TIMESERIES","R5300S","FC_IND_OTH_E","_Z","KTOE","Agg.=SUM(countries)"]
["- Biogas blended in the grid",null,null,null,null,null,null,null,null,null,null,null,null,null,null,null,null,null,null,null,null,{"$f":"(GAS!V27*SUM(GAS!V9:V11))*900/41868","v":0},{"$f":"(GAS!W27*SUM(GAS!W9:W11))*900/41868","v":0},{"$f":"(GAS!X27*SUM(GAS!X9:X11))*900/41868","v":0},{"$f":"(GAS!Y27*SUM(GAS!Y9:Y11))*900/41868","v":0},{"$f":"(GAS!Z27*SUM(GAS!Z9:Z11))*900/41868","v":0},{"$f":"(GAS!AA27*SUM(GAS!AA9:AA11))*900/41868","v":0},{"$f":"(GAS!AB27*SUM(GAS!AB9:AB11))*900/41868","v":0},{"$f":"(GAS!AC27*SUM(GAS!AC9:AC11))*900/41868","v":0},{"$f":"(GAS!AD27*SUM(GAS!AD9:AD11))*900/41868","v":0},{"$f":"(GAS!AE27*SUM(GAS!AE9:AE11))*900/41868","v":0},{"$f":"(GAS!AF27*SUM(GAS!AF9:AF11))*900/41868","v":0},{"$f":"(GAS!AG27*SUM(GAS!AG9:AG11))*900/41868","v":0},{"$f":"(GAS!AH27*SUM(GAS!AH9:AH11))*900/41868","v":0},{"$f":"(GAS!AI27*SUM(GAS!AI9:AI11))*900/41868","v":0},{"$f":"(GAS!AJ27*SUM(GAS!AJ9:AJ11))*900/41868","v":0},{"$f":"(GAS!AK27*SUM(GAS!AK9:AK11))*900/41868","v":0},{"$f":"(GAS!AL27*SUM(GAS!AL9:AL11))*900/41868","v":0},{"$f":"(GAS!AM27*SUM(GAS!AM9:AM11))*900/41868","v":0},{"$f":"(GAS!AN27*SUM(GAS!AN9:AN11))*900/41868","v":0},{"$f":"(GAS!AO27*SUM(GAS!AO9:AO11))*900/41868","v":0},{"$f":"(GAS!AP27*SUM(GAS!AP9:AP11))*900/41868","v":0},{"$f":"(GAS!AQ27*SUM(GAS!AQ9:AQ11))*900/41868","v":0},{"$f":"(GAS!AR27*SUM(GAS!AR9:AR11))*900/41868","v":0},{"$f":"(GAS!AS27*SUM(GAS!AS9:AS11))*900/41868","v":0},{"$f":"(GAS!AT27*SUM(GAS!AT9:AT11))*900/41868","v":0},{"$f":"(GAS!AU27*SUM(GAS!AU9:AU11))*900/41868","v":0},{"$f":"(GAS!AV27*SUM(GAS!AV9:AV11))*900/41868","v":0},{"$f":"(GAS!AW27*SUM(GAS!AW9:AW11))*900/41868","v":0},{"$f":"(GAS!AX27*SUM(GAS!AX9:AX11))*900/41868","v":0},{"$f":"(GAS!AY27*SUM(GAS!AY9:AY11))*900/41868","v":0},{"$f":"(GAS!AZ27*SUM(GAS!AZ9:AZ11))*900/41868","v":0},{"$f":"(GAS!BA27*SUM(GAS!BA9:BA11))*900/41868","v":0},{"$f":"(GAS!BB27*SUM(GAS!BB9:BB11))*900/41868","v":0},{"$f":"(GAS!BC27*SUM(GAS!BC9:BC11))*900/41868","v":0},{"$f":"(GAS!BD27*SUM(GAS!BD9:BD11))*900/41868","v":0},{"$f":"(GAS!BE27*SUM(GAS!BE9:BE11))*900/41868","v":0},{"$f":"(GAS!BF27*SUM(GAS!BF9:BF11))*900/41868","v":0},{"$f":"(GAS!BG27*SUM(GAS!BG9:BG11))*900/41868","v":0},{"$f":"(GAS!BH27*SUM(GAS!BH9:BH11))*900/41868","v":0},{"$f":"(GAS!BI27*SUM(GAS!BI9:BI11))*900/41868","v":0},{"$f":"(GAS!BJ27*SUM(GAS!BJ9:BJ11))*900/41868","v":0},{"$f":"(GAS!BK27*SUM(GAS!BK9:BK11))*900/41868","v":0},{"$f":"(GAS!BL27*SUM(GAS!BL9:BL11))*900/41868","v":0},{"$f":"(GAS!BM27*SUM(GAS!BM9:BM11))*900/41868","v":0},{"$f":"(GAS!BN27*SUM(GAS!BN9:BN11))*900/41868","v":0},{"$f":"(GAS!BO27*SUM(GAS!BO9:BO11))*900/41868","v":0},{"$f":"(GAS!BP27*SUM(GAS!BP9:BP11))*900/41868","v":0},null,null,null,null,null,null,null,null,null,null,null,null,null,null,null,null,null,null,null,null,null,null,null,null,null,null,null,null,null,null,null,null,null,null,null,null,null,null,null,null,null,null,null,null,null,null,null,null,null,null,null,null,null,null,null,"R5300B","ENERGUSE","FC_IND_OTH_E","_Z","_Z","_Z","_Z","_Z","ENERGY","_Z","KTOE",null,"nrg_ind_urhcd","TIMESERIES","R5300B","FC_IND_OTH_E","_Z","KTOE","Agg.=SUM(countries)"]
[null,"     Of which compliant",null,null,null,null,null,null,null,null,null,null,null,null,null,null,null,null,null,null,null,{"$f":"V42","v":0},0,0,0,0,0,0,0,0,0,0,0,0,0,0,0,{"$f":"AL42","v":0},0,0,0,0,0,0,0,0,0,0,0,0,0,0,0,0,0,0,0,0,0,0,0,0,0,0,0,0,0,0,null,null,null,null,null,null,null,null,null,null,null,null,null,null,null,null,null,null,null,null,null,null,null,null,null,null,null,null,null,null,null,null,null,null,null,null,null,null,null,null,null,null,null,null,null,null,null,null,null,null,null,null,null,null,null,"R5300SB","ENERGUSE","FC_IND_OTH_E","_Z","_Z","_Z","_Z","_Z","ENERGY","_Z","KTOE",null,"nrg_ind_urhcd","TIMESERIES","R5300SB","FC_IND_OTH_E","_Z","KTOE","Agg.=SUM(countries)"]
["- Biogas accounted towards FEC in industry and other sectors based on sustainability certificates",null,null,null,null,null,null,null,null,null,null,null,null,null,null,null,null,null,null,null,null,0,0,0,0,0,0,0,0,0,0,0,0,0,0,0,0,0,0,0,0,0,0,0,0,0,0,0,0,0,0,0,0,0,0,0,0,0,0,0,0,0,0,0,0,0,0,0,null,null,null,null,null,null,null,null,null,null,null,null,null,null,null,null,null,null,null,null,null,null,null,null,null,null,null,null,null,null,null,null,null,null,null,null,null,null,null,null,null,null,null,null,null,null,null,null,null,null,null,null,null,null,null,"R5301SB","ENERGUSE","FC_IND_OTH_E","_Z","_Z","_Z","_Z","_Z","ENERGY","_Z","KTOE",null,"nrg_ind_urhcd","TIMESERIES","R5301SB","FC_IND_OTH_E","_Z","KTOE","Agg.=SUM(countries)"]
["- Geothermal",null,null,null,null,null,null,null,null,null,null,null,null,null,null,null,null,null,null,null,null,{"$f":"(SUM(REN!V48,REN!V62)*1000)/41868","v":0},{"$f":"(SUM(REN!W48,REN!W62)*1000)/41868","v":0},{"$f":"(SUM(REN!X48,REN!X62)*1000)/41868","v":0},{"$f":"(SUM(REN!Y48,REN!Y62)*1000)/41868","v":0},{"$f":"(SUM(REN!Z48,REN!Z62)*1000)/41868","v":0},{"$f":"(SUM(REN!AA48,REN!AA62)*1000)/41868","v":0},{"$f":"(SUM(REN!AB48,REN!AB62)*1000)/41868","v":0},{"$f":"(SUM(REN!AC48,REN!AC62)*1000)/41868","v":0},{"$f":"(SUM(REN!AD48,REN!AD62)*1000)/41868","v":0},{"$f":"(SUM(REN!AE48,REN!AE62)*1000)/41868","v":0},{"$f":"(SUM(REN!AF48,REN!AF62)*1000)/41868","v":0},{"$f":"(SUM(REN!AG48,REN!AG62)*1000)/41868","v":0},{"$f":"(SUM(REN!AH48,REN!AH62)*1000)/41868","v":0},{"$f":"(SUM(REN!AI48,REN!AI62)*1000)/41868","v":0},{"$f":"(SUM(REN!AJ48,REN!AJ62)*1000)/41868","v":0},{"$f":"(SUM(REN!AK48,REN!AK62)*1000)/41868","v":0},{"$f":"(SUM(REN!AL48,REN!AL62)*1000)/41868","v":0},{"$f":"(SUM(REN!AM48,REN!AM62)*1000)/41868","v":0},{"$f":"(SUM(REN!AN48,REN!AN62)*1000)/41868","v":0},{"$f":"(SUM(REN!AO48,REN!AO62)*1000)/41868","v":0},{"$f":"(SUM(REN!AP48,REN!AP62)*1000)/41868","v":0},{"$f":"(SUM(REN!AQ48,REN!AQ62)*1000)/41868","v":0},{"$f":"(SUM(REN!AR48,REN!AR62)*1000)/41868","v":0},{"$f":"(SUM(REN!AS48,REN!AS62)*1000)/41868","v":0},{"$f":"(SUM(REN!AT48,REN!AT62)*1000)/41868","v":0},{"$f":"(SUM(REN!AU48,REN!AU62)*1000)/41868","v":0},{"$f":"(SUM(REN!AV48,REN!AV62)*1000)/41868","v":0},{"$f":"(SUM(REN!AW48,REN!AW62)*1000)/41868","v":0},{"$f":"(SUM(REN!AX48,REN!AX62)*1000)/41868","v":0},{"$f":"(SUM(REN!AY48,REN!AY62)*1000)/41868","v":0},{"$f":"(SUM(REN!AZ48,REN!AZ62)*1000)/41868","v":0},{"$f":"(SUM(REN!BA48,REN!BA62)*1000)/41868","v":0},{"$f":"(SUM(REN!BB48,REN!BB62)*1000)/41868","v":0},{"$f":"(SUM(REN!BC48,REN!BC62)*1000)/41868","v":0},{"$f":"(SUM(REN!BD48,REN!BD62)*1000)/41868","v":0},{"$f":"(SUM(REN!BE48,REN!BE62)*1000)/41868","v":0},{"$f":"(SUM(REN!BF48,REN!BF62)*1000)/41868","v":0},{"$f":"(SUM(REN!BG48,REN!BG62)*1000)/41868","v":0},{"$f":"(SUM(REN!BH48,REN!BH62)*1000)/41868","v":0},{"$f":"(SUM(REN!BI48,REN!BI62)*1000)/41868","v":0},{"$f":"(SUM(REN!BJ48,REN!BJ62)*1000)/41868","v":0},{"$f":"(SUM(REN!BK48,REN!BK62)*1000)/41868","v":0},{"$f":"(SUM(REN!BL48,REN!BL62)*1000)/41868","v":0},{"$f":"(SUM(REN!BM48,REN!BM62)*1000)/41868","v":0},{"$f":"(SUM(REN!BN48,REN!BN62)*1000)/41868","v":0},{"$f":"(SUM(REN!BO48,REN!BO62)*1000)/41868","v":0},{"$f":"(SUM(REN!BP48,REN!BP62)*1000)/41868","v":0},null,null,null,null,null,null,null,null,null,null,null,null,null,null,null,null,null,null,null,null,null,null,null,null,null,null,null,null,null,null,null,null,null,null,null,null,null,null,null,null,null,null,null,null,null,null,null,null,null,null,null,null,null,null,null,"RA200","ENERGUSE","FC_IND_OTH_E","_Z","_Z","_Z","_Z","_Z","ENERGY","_Z","KTOE",null,"nrg_ind_urhcd","TIMESERIES","RA200","FC_IND_OTH_E","_Z","KTOE","Agg.=SUM(countries)"]
["- Solar thermal",null,null,null,null,null,null,null,null,null,null,null,null,null,null,null,null,null,null,null,null,{"$f":"(SUM(REN!V49,REN!V63)*1000)/41868","v":0},{"$f":"(SUM(REN!W49,REN!W63)*1000)/41868","v":0},{"$f":"(SUM(REN!X49,REN!X63)*1000)/41868","v":0},{"$f":"(SUM(REN!Y49,REN!Y63)*1000)/41868","v":0},{"$f":"(SUM(REN!Z49,REN!Z63)*1000)/41868","v":0},{"$f":"(SUM(REN!AA49,REN!AA63)*1000)/41868","v":0},{"$f":"(SUM(REN!AB49,REN!AB63)*1000)/41868","v":0},{"$f":"(SUM(REN!AC49,REN!AC63)*1000)/41868","v":0},{"$f":"(SUM(REN!AD49,REN!AD63)*1000)/41868","v":0},{"$f":"(SUM(REN!AE49,REN!AE63)*1000)/41868","v":0},{"$f":"(SUM(REN!AF49,REN!AF63)*1000)/41868","v":0},{"$f":"(SUM(REN!AG49,REN!AG63)*1000)/41868","v":0},{"$f":"(SUM(REN!AH49,REN!AH63)*1000)/41868","v":0},{"$f":"(SUM(REN!AI49,REN!AI63)*1000)/41868","v":0},{"$f":"(SUM(REN!AJ49,REN!AJ63)*1000)/41868","v":0},{"$f":"(SUM(REN!AK49,REN!AK63)*1000)/41868","v":0},{"$f":"(SUM(REN!AL49,REN!AL63)*1000)/41868","v":0},{"$f":"(SUM(REN!AM49,REN!AM63)*1000)/41868","v":0},{"$f":"(SUM(REN!AN49,REN!AN63)*1000)/41868","v":0},{"$f":"(SUM(REN!AO49,REN!AO63)*1000)/41868","v":0},{"$f":"(SUM(REN!AP49,REN!AP63)*1000)/41868","v":0},{"$f":"(SUM(REN!AQ49,REN!AQ63)*1000)/41868","v":0},{"$f":"(SUM(REN!AR49,REN!AR63)*1000)/41868","v":0},{"$f":"(SUM(REN!AS49,REN!AS63)*1000)/41868","v":0},{"$f":"(SUM(REN!AT49,REN!AT63)*1000)/41868","v":0},{"$f":"(SUM(REN!AU49,REN!AU63)*1000)/41868","v":0},{"$f":"(SUM(REN!AV49,REN!AV63)*1000)/41868","v":0},{"$f":"(SUM(REN!AW49,REN!AW63)*1000)/41868","v":0},{"$f":"(SUM(REN!AX49,REN!AX63)*1000)/41868","v":0},{"$f":"(SUM(REN!AY49,REN!AY63)*1000)/41868","v":0},{"$f":"(SUM(REN!AZ49,REN!AZ63)*1000)/41868","v":0},{"$f":"(SUM(REN!BA49,REN!BA63)*1000)/41868","v":0},{"$f":"(SUM(REN!BB49,REN!BB63)*1000)/41868","v":0},{"$f":"(SUM(REN!BC49,REN!BC63)*1000)/41868","v":0},{"$f":"(SUM(REN!BD49,REN!BD63)*1000)/41868","v":0},{"$f":"(SUM(REN!BE49,REN!BE63)*1000)/41868","v":0},{"$f":"(SUM(REN!BF49,REN!BF63)*1000)/41868","v":0},{"$f":"(SUM(REN!BG49,REN!BG63)*1000)/41868","v":0},{"$f":"(SUM(REN!BH49,REN!BH63)*1000)/41868","v":0},{"$f":"(SUM(REN!BI49,REN!BI63)*1000)/41868","v":0},{"$f":"(SUM(REN!BJ49,REN!BJ63)*1000)/41868","v":0},{"$f":"(SUM(REN!BK49,REN!BK63)*1000)/41868","v":0},{"$f":"(SUM(REN!BL49,REN!BL63)*1000)/41868","v":0},{"$f":"(SUM(REN!BM49,REN!BM63)*1000)/41868","v":0},{"$f":"(SUM(REN!BN49,REN!BN63)*1000)/41868","v":0},{"$f":"(SUM(REN!BO49,REN!BO63)*1000)/41868","v":0},{"$f":"(SUM(REN!BP49,REN!BP63)*1000)/41868","v":0},null,null,null,null,null,null,null,null,null,null,null,null,null,null,null,null,null,null,null,null,null,null,null,null,null,null,null,null,null,null,null,null,null,null,null,null,null,null,null,null,null,null,null,null,null,null,null,null,null,null,null,null,null,null,null,"RA410","ENERGUSE","FC_IND_OTH_E","_Z","_Z","_Z","_Z","_Z","ENERGY","_Z","KTOE",null,"nrg_ind_urhcd","TIMESERIES","RA410","FC_IND_OTH_E","_Z","KTOE","Agg.=SUM(countries)"]
["- Municipal waste renewable",null,null,null,null,null,null,null,null,null,null,null,null,null,null,null,null,null,null,null,null,{"$f":"(SUM(REN!V51,REN!V65)*1000)/41868","v":0},{"$f":"(SUM(REN!W51,REN!W65)*1000)/41868","v":0},{"$f":"(SUM(REN!X51,REN!X65)*1000)/41868","v":0},{"$f":"(SUM(REN!Y51,REN!Y65)*1000)/41868","v":0},{"$f":"(SUM(REN!Z51,REN!Z65)*1000)/41868","v":0},{"$f":"(SUM(REN!AA51,REN!AA65)*1000)/41868","v":0},{"$f":"(SUM(REN!AB51,REN!AB65)*1000)/41868","v":0},{"$f":"(SUM(REN!AC51,REN!AC65)*1000)/41868","v":0},{"$f":"(SUM(REN!AD51,REN!AD65)*1000)/41868","v":0},{"$f":"(SUM(REN!AE51,REN!AE65)*1000)/41868","v":0},{"$f":"(SUM(REN!AF51,REN!AF65)*1000)/41868","v":0},{"$f":"(SUM(REN!AG51,REN!AG65)*1000)/41868","v":0},{"$f":"(SUM(REN!AH51,REN!AH65)*1000)/41868","v":0},{"$f":"(SUM(REN!AI51,REN!AI65)*1000)/41868","v":0},{"$f":"(SUM(REN!AJ51,REN!AJ65)*1000)/41868","v":0},{"$f":"(SUM(REN!AK51,REN!AK65)*1000)/41868","v":0},{"$f":"(SUM(REN!AL51,REN!AL65)*1000)/41868","v":0},{"$f":"(SUM(REN!AM51,REN!AM65)*1000)/41868","v":0},{"$f":"(SUM(REN!AN51,REN!AN65)*1000)/41868","v":0},{"$f":"(SUM(REN!AO51,REN!AO65)*1000)/41868","v":0},{"$f":"(SUM(REN!AP51,REN!AP65)*1000)/41868","v":0},{"$f":"(SUM(REN!AQ51,REN!AQ65)*1000)/41868","v":0},{"$f":"(SUM(REN!AR51,REN!AR65)*1000)/41868","v":0},{"$f":"(SUM(REN!AS51,REN!AS65)*1000)/41868","v":0},{"$f":"(SUM(REN!AT51,REN!AT65)*1000)/41868","v":0},{"$f":"(SUM(REN!AU51,REN!AU65)*1000)/41868","v":0},{"$f":"(SUM(REN!AV51,REN!AV65)*1000)/41868","v":0},{"$f":"(SUM(REN!AW51,REN!AW65)*1000)/41868","v":0},{"$f":"(SUM(REN!AX51,REN!AX65)*1000)/41868","v":0},{"$f":"(SUM(REN!AY51,REN!AY65)*1000)/41868","v":0},{"$f":"(SUM(REN!AZ51,REN!AZ65)*1000)/41868","v":0},{"$f":"(SUM(REN!BA51,REN!BA65)*1000)/41868","v":0},{"$f":"(SUM(REN!BB51,REN!BB65)*1000)/41868","v":0},{"$f":"(SUM(REN!BC51,REN!BC65)*1000)/41868","v":0},{"$f":"(SUM(REN!BD51,REN!BD65)*1000)/41868","v":0},{"$f":"(SUM(REN!BE51,REN!BE65)*1000)/41868","v":0},{"$f":"(SUM(REN!BF51,REN!BF65)*1000)/41868","v":0},{"$f":"(SUM(REN!BG51,REN!BG65)*1000)/41868","v":0},{"$f":"(SUM(REN!BH51,REN!BH65)*1000)/41868","v":0},{"$f":"(SUM(REN!BI51,REN!BI65)*1000)/41868","v":0},{"$f":"(SUM(REN!BJ51,REN!BJ65)*1000)/41868","v":0},{"$f":"(SUM(REN!BK51,REN!BK65)*1000)/41868","v":0},{"$f":"(SUM(REN!BL51,REN!BL65)*1000)/41868","v":0},{"$f":"(SUM(REN!BM51,REN!BM65)*1000)/41868","v":0},{"$f":"(SUM(REN!BN51,REN!BN65)*1000)/41868","v":0},{"$f":"(SUM(REN!BO51,REN!BO65)*1000)/41868","v":0},{"$f":"(SUM(REN!BP51,REN!BP65)*1000)/41868","v":0},null,null,null,null,null,null,null,null,null,null,null,null,null,null,null,null,null,null,null,null,null,null,null,null,null,null,null,null,null,null,null,null,null,null,null,null,null,null,null,null,null,null,null,null,null,null,null,null,null,null,null,null,null,null,null,"W6210","ENERGUSE","FC_IND_OTH_E","_Z","_Z","_Z","_Z","_Z","ENERGY","_Z","KTOE",null,"nrg_ind_urhcd","TIMESERIES","W6210","FC_IND_OTH_E","_Z","KTOE","Agg.=SUM(countries)"]
["- Solid biofuels excluding charcoal",null,null,null,null,null,null,null,null,null,null,null,null,null,null,null,null,null,null,null,null,{"$f":"(SUM(REN!V53,REN!V67)*1000)/41868","v":0},{"$f":"(SUM(REN!W53,REN!W67)*1000)/41868","v":0},{"$f":"(SUM(REN!X53,REN!X67)*1000)/41868","v":0},{"$f":"(SUM(REN!Y53,REN!Y67)*1000)/41868","v":0},{"$f":"(SUM(REN!Z53,REN!Z67)*1000)/41868","v":0},{"$f":"(SUM(REN!AA53,REN!AA67)*1000)/41868","v":0},{"$f":"(SUM(REN!AB53,REN!AB67)*1000)/41868","v":0},{"$f":"(SUM(REN!AC53,REN!AC67)*1000)/41868","v":0},{"$f":"(SUM(REN!AD53,REN!AD67)*1000)/41868","v":0},{"$f":"(SUM(REN!AE53,REN!AE67)*1000)/41868","v":0},{"$f":"(SUM(REN!AF53,REN!AF67)*1000)/41868","v":0},{"$f":"(SUM(REN!AG53,REN!AG67)*1000)/41868","v":0},{"$f":"(SUM(REN!AH53,REN!AH67)*1000)/41868","v":0},{"$f":"(SUM(REN!AI53,REN!AI67)*1000)/41868","v":0},{"$f":"(SUM(REN!AJ53,REN!AJ67)*1000)/41868","v":0},{"$f":"(SUM(REN!AK53,REN!AK67)*1000)/41868","v":0},{"$f":"(SUM(REN!AL53,REN!AL67)*1000)/41868","v":0},{"$f":"(SUM(REN!AM53,REN!AM67)*1000)/41868","v":0},{"$f":"(SUM(REN!AN53,REN!AN67)*1000)/41868","v":0},{"$f":"(SUM(REN!AO53,REN!AO67)*1000)/41868","v":0},{"$f":"(SUM(REN!AP53,REN!AP67)*1000)/41868","v":0},{"$f":"(SUM(REN!AQ53,REN!AQ67)*1000)/41868","v":0},{"$f":"(SUM(REN!AR53,REN!AR67)*1000)/41868","v":0},{"$f":"(SUM(REN!AS53,REN!AS67)*1000)/41868","v":0},{"$f":"(SUM(REN!AT53,REN!AT67)*1000)/41868","v":0},{"$f":"(SUM(REN!AU53,REN!AU67)*1000)/41868","v":0},{"$f":"(SUM(REN!AV53,REN!AV67)*1000)/41868","v":0},{"$f":"(SUM(REN!AW53,REN!AW67)*1000)/41868","v":0},{"$f":"(SUM(REN!AX53,REN!AX67)*1000)/41868","v":0},{"$f":"(SUM(REN!AY53,REN!AY67)*1000)/41868","v":0},{"$f":"(SUM(REN!AZ53,REN!AZ67)*1000)/41868","v":0},{"$f":"(SUM(REN!BA53,REN!BA67)*1000)/41868","v":0},{"$f":"(SUM(REN!BB53,REN!BB67)*1000)/41868","v":0},{"$f":"(SUM(REN!BC53,REN!BC67)*1000)/41868","v":0},{"$f":"(SUM(REN!BD53,REN!BD67)*1000)/41868","v":0},{"$f":"(SUM(REN!BE53,REN!BE67)*1000)/41868","v":0},{"$f":"(SUM(REN!BF53,REN!BF67)*1000)/41868","v":0},{"$f":"(SUM(REN!BG53,REN!BG67)*1000)/41868","v":0},{"$f":"(SUM(REN!BH53,REN!BH67)*1000)/41868","v":0},{"$f":"(SUM(REN!BI53,REN!BI67)*1000)/41868","v":0},{"$f":"(SUM(REN!BJ53,REN!BJ67)*1000)/41868","v":0},{"$f":"(SUM(REN!BK53,REN!BK67)*1000)/41868","v":0},{"$f":"(SUM(REN!BL53,REN!BL67)*1000)/41868","v":0},{"$f":"(SUM(REN!BM53,REN!BM67)*1000)/41868","v":0},{"$f":"(SUM(REN!BN53,REN!BN67)*1000)/41868","v":0},{"$f":"(SUM(REN!BO53,REN!BO67)*1000)/41868","v":0},{"$f":"(SUM(REN!BP53,REN!BP67)*1000)/41868","v":0},null,null,null,null,null,null,null,null,null,null,null,null,null,null,null,null,null,null,null,null,null,null,null,null,null,null,null,null,null,null,null,null,null,null,null,null,null,null,null,null,null,null,null,null,null,null,null,null,null,null,null,null,null,null,null,"R510C","ENERGUSE","FC_IND_OTH_E","_Z","_Z","_Z","_Z","_Z","ENERGY","_Z","KTOE",null,"nrg_ind_urhcd","TIMESERIES","R5110-5150_W6000RI","FC_IND_OTH_E","_Z","KTOE","Agg.=SUM(countries)"]
[null,"     Of which compliant",null,null,null,null,null,null,null,null,null,null,null,null,null,null,null,null,null,null,null,{"$f":"V48","v":0},{"$f":"W48","v":0},0,0,0,0,0,0,0,0,0,0,0,0,0,0,{"$f":"AL48","v":0},0,0,0,0,0,0,0,0,0,0,0,0,0,0,0,0,0,0,0,0,0,0,0,0,0,0,0,0,0,0,null,null,null,null,null,null,null,null,null,null,null,null,null,null,null,null,null,null,null,null,null,null,null,null,null,null,null,null,null,null,null,null,null,null,null,null,null,null,null,null,null,null,null,null,null,null,null,null,null,null,null,null,null,null,null,"R5110-5150_W6000RIS","ENERGUSE","FC_IND_OTH_E","_Z","_Z","_Z","_Z","_Z","ENERGY","_Z","KTOE",null,"nrg_ind_urhcd","TIMESERIES","R5110-5150_W6000RIS","FC_IND_OTH_E","_Z","KTOE","Agg.=SUM(countries)"]
["- all bioliquids, compliant and also non-compliant",null,null,null,null,null,null,null,null,null,null,null,null,null,null,null,null,null,null,null,null,{"$f":"(SUMPRODUCT(REN!V42:V45,REN!V34:V37)+SUMPRODUCT(REN!V56:V59,REN!V34:V37)+SUMPRODUCT(REN!V70:V73,REN!V34:V37))/41868+(SUM(OIL!V88,OIL!V112,OIL!V136)*OIL!V64+SUM(OIL!V92,OIL!V116,OIL!V140)*OIL!V68+SUM(OIL!V95,OIL!V119,OIL!V143)*OIL!V71)/41868","v":0},{"$f":"(SUMPRODUCT(REN!W42:W45,REN!W34:W37)+SUMPRODUCT(REN!W56:W59,REN!W34:W37)+SUMPRODUCT(REN!W70:W73,REN!W34:W37))/41868+(SUM(OIL!W88,OIL!W112,OIL!W136)*OIL!W64+SUM(OIL!W92,OIL!W116,OIL!W140)*OIL!W68+SUM(OIL!W95,OIL!W119,OIL!W143)*OIL!W71)/41868","v":0},{"$f":"(SUMPRODUCT(REN!X42:X45,REN!X34:X37)+SUMPRODUCT(REN!X56:X59,REN!X34:X37)+SUMPRODUCT(REN!X70:X73,REN!X34:X37))/41868+(SUM(OIL!X88,OIL!X112,OIL!X136)*OIL!X64+SUM(OIL!X92,OIL!X116,OIL!X140)*OIL!X68+SUM(OIL!X95,OIL!X119,OIL!X143)*OIL!X71)/41868","v":0},{"$f":"(SUMPRODUCT(REN!Y42:Y45,REN!Y34:Y37)+SUMPRODUCT(REN!Y56:Y59,REN!Y34:Y37)+SUMPRODUCT(REN!Y70:Y73,REN!Y34:Y37))/41868+(SUM(OIL!Y88,OIL!Y112,OIL!Y136)*OIL!Y64+SUM(OIL!Y92,OIL!Y116,OIL!Y140)*OIL!Y68+SUM(OIL!Y95,OIL!Y119,OIL!Y143)*OIL!Y71)/41868","v":0},{"$f":"(SUMPRODUCT(REN!Z42:Z45,REN!Z34:Z37)+SUMPRODUCT(REN!Z56:Z59,REN!Z34:Z37)+SUMPRODUCT(REN!Z70:Z73,REN!Z34:Z37))/41868+(SUM(OIL!Z88,OIL!Z112,OIL!Z136)*OIL!Z64+SUM(OIL!Z92,OIL!Z116,OIL!Z140)*OIL!Z68+SUM(OIL!Z95,OIL!Z119,OIL!Z143)*OIL!Z71)/41868","v":0},{"$f":"(SUMPRODUCT(REN!AA42:AA45,REN!AA34:AA37)+SUMPRODUCT(REN!AA56:AA59,REN!AA34:AA37)+SUMPRODUCT(REN!AA70:AA73,REN!AA34:AA37))/41868+(SUM(OIL!AA88,OIL!AA112,OIL!AA136)*OIL!AA64+SUM(OIL!AA92,OIL!AA116,OIL!AA140)*OIL!AA68+SUM(OIL!AA95,OIL!AA119,OIL!AA143)*OIL!AA71)/41868","v":0},{"$f":"(SUMPRODUCT(REN!AB42:AB45,REN!AB34:AB37)+SUMPRODUCT(REN!AB56:AB59,REN!AB34:AB37)+SUMPRODUCT(REN!AB70:AB73,REN!AB34:AB37))/41868+(SUM(OIL!AB88,OIL!AB112,OIL!AB136)*OIL!AB64+SUM(OIL!AB92,OIL!AB116,OIL!AB140)*OIL!AB68+SUM(OIL!AB95,OIL!AB119,OIL!AB143)*OIL!AB71)/41868","v":0},{"$f":"(SUMPRODUCT(REN!AC42:AC45,REN!AC34:AC37)+SUMPRODUCT(REN!AC56:AC59,REN!AC34:AC37)+SUMPRODUCT(REN!AC70:AC73,REN!AC34:AC37))/41868+(SUM(OIL!AC88,OIL!AC112,OIL!AC136)*OIL!AC64+SUM(OIL!AC92,OIL!AC116,OIL!AC140)*OIL!AC68+SUM(OIL!AC95,OIL!AC119,OIL!AC143)*OIL!AC71)/41868","v":0},{"$f":"(SUMPRODUCT(REN!AD42:AD45,REN!AD34:AD37)+SUMPRODUCT(REN!AD56:AD59,REN!AD34:AD37)+SUMPRODUCT(REN!AD70:AD73,REN!AD34:AD37))/41868+(SUM(OIL!AD88,OIL!AD112,OIL!AD136)*OIL!AD64+SUM(OIL!AD92,OIL!AD116,OIL!AD140)*OIL!AD68+SUM(OIL!AD95,OIL!AD119,OIL!AD143)*OIL!AD71)/41868","v":0},{"$f":"(SUMPRODUCT(REN!AE42:AE45,REN!AE34:AE37)+SUMPRODUCT(REN!AE56:AE59,REN!AE34:AE37)+SUMPRODUCT(REN!AE70:AE73,REN!AE34:AE37))/41868+(SUM(OIL!AE88,OIL!AE112,OIL!AE136)*OIL!AE64+SUM(OIL!AE92,OIL!AE116,OIL!AE140)*OIL!AE68+SUM(OIL!AE95,OIL!AE119,OIL!AE143)*OIL!AE71)/41868","v":0},{"$f":"(SUMPRODUCT(REN!AF42:AF45,REN!AF34:AF37)+SUMPRODUCT(REN!AF56:AF59,REN!AF34:AF37)+SUMPRODUCT(REN!AF70:AF73,REN!AF34:AF37))/41868+(SUM(OIL!AF88,OIL!AF112,OIL!AF136)*OIL!AF64+SUM(OIL!AF92,OIL!AF116,OIL!AF140)*OIL!AF68+SUM(OIL!AF95,OIL!AF119,OIL!AF143)*OIL!AF71)/41868","v":0},{"$f":"(SUMPRODUCT(REN!AG42:AG45,REN!AG34:AG37)+SUMPRODUCT(REN!AG56:AG59,REN!AG34:AG37)+SUMPRODUCT(REN!AG70:AG73,REN!AG34:AG37))/41868+(SUM(OIL!AG88,OIL!AG112,OIL!AG136)*OIL!AG64+SUM(OIL!AG92,OIL!AG116,OIL!AG140)*OIL!AG68+SUM(OIL!AG95,OIL!AG119,OIL!AG143)*OIL!AG71)/41868","v":0},{"$f":"(SUMPRODUCT(REN!AH42:AH45,REN!AH34:AH37)+SUMPRODUCT(REN!AH56:AH59,REN!AH34:AH37)+SUMPRODUCT(REN!AH70:AH73,REN!AH34:AH37))/41868+(SUM(OIL!AH88,OIL!AH112,OIL!AH136)*OIL!AH64+SUM(OIL!AH92,OIL!AH116,OIL!AH140)*OIL!AH68+SUM(OIL!AH95,OIL!AH119,OIL!AH143)*OIL!AH71)/41868","v":0},{"$f":"(SUMPRODUCT(REN!AI42:AI45,REN!AI34:AI37)+SUMPRODUCT(REN!AI56:AI59,REN!AI34:AI37)+SUMPRODUCT(REN!AI70:AI73,REN!AI34:AI37))/41868+(SUM(OIL!AI88,OIL!AI112,OIL!AI136)*OIL!AI64+SUM(OIL!AI92,OIL!AI116,OIL!AI140)*OIL!AI68+SUM(OIL!AI95,OIL!AI119,OIL!AI143)*OIL!AI71)/41868","v":0},{"$f":"(SUMPRODUCT(REN!AJ42:AJ45,REN!AJ34:AJ37)+SUMPRODUCT(REN!AJ56:AJ59,REN!AJ34:AJ37)+SUMPRODUCT(REN!AJ70:AJ73,REN!AJ34:AJ37))/41868+(SUM(OIL!AJ88,OIL!AJ112,OIL!AJ136)*OIL!AJ64+SUM(OIL!AJ92,OIL!AJ116,OIL!AJ140)*OIL!AJ68+SUM(OIL!AJ95,OIL!AJ119,OIL!AJ143)*OIL!AJ71)/41868","v":0},{"$f":"(SUMPRODUCT(REN!AK42:AK45,REN!AK34:AK37)+SUMPRODUCT(REN!AK56:AK59,REN!AK34:AK37)+SUMPRODUCT(REN!AK70:AK73,REN!AK34:AK37))/41868+(SUM(OIL!AK88,OIL!AK112,OIL!AK136)*OIL!AK64+SUM(OIL!AK92,OIL!AK116,OIL!AK140)*OIL!AK68+SUM(OIL!AK95,OIL!AK119,OIL!AK143)*OIL!AK71)/41868","v":0},{"$f":"(SUMPRODUCT(REN!AL42:AL45,REN!AL34:AL37)+SUMPRODUCT(REN!AL56:AL59,REN!AL34:AL37)+SUMPRODUCT(REN!AL70:AL73,REN!AL34:AL37))/41868+(SUM(OIL!AL88,OIL!AL112,OIL!AL136)*OIL!AL64+SUM(OIL!AL92,OIL!AL116,OIL!AL140)*OIL!AL68+SUM(OIL!AL95,OIL!AL119,OIL!AL143)*OIL!AL71)/41868","v":0},{"$f":"(SUMPRODUCT(REN!AM42:AM45,REN!AM34:AM37)+SUMPRODUCT(REN!AM56:AM59,REN!AM34:AM37)+SUMPRODUCT(REN!AM70:AM73,REN!AM34:AM37))/41868+(SUM(OIL!AM88,OIL!AM112,OIL!AM136)*OIL!AM64+SUM(OIL!AM92,OIL!AM116,OIL!AM140)*OIL!AM68+SUM(OIL!AM95,OIL!AM119,OIL!AM143)*OIL!AM71)/41868","v":0},{"$f":"(SUMPRODUCT(REN!AN42:AN45,REN!AN34:AN37)+SUMPRODUCT(REN!AN56:AN59,REN!AN34:AN37)+SUMPRODUCT(REN!AN70:AN73,REN!AN34:AN37))/41868+(SUM(OIL!AN88,OIL!AN112,OIL!AN136)*OIL!AN64+SUM(OIL!AN92,OIL!AN116,OIL!AN140)*OIL!AN68+SUM(OIL!AN95,OIL!AN119,OIL!AN143)*OIL!AN71)/41868","v":0},{"$f":"(SUMPRODUCT(REN!AO42:AO45,REN!AO34:AO37)+SUMPRODUCT(REN!AO56:AO59,REN!AO34:AO37)+SUMPRODUCT(REN!AO70:AO73,REN!AO34:AO37))/41868+(SUM(OIL!AO88,OIL!AO112,OIL!AO136)*OIL!AO64+SUM(OIL!AO92,OIL!AO116,OIL!AO140)*OIL!AO68+SUM(OIL!AO95,OIL!AO119,OIL!AO143)*OIL!AO71)/41868","v":0},{"$f":"(SUMPRODUCT(REN!AP42:AP45,REN!AP34:AP37)+SUMPRODUCT(REN!AP56:AP59,REN!AP34:AP37)+SUMPRODUCT(REN!AP70:AP73,REN!AP34:AP37))/41868+(SUM(OIL!AP88,OIL!AP112,OIL!AP136)*OIL!AP64+SUM(OIL!AP92,OIL!AP116,OIL!AP140)*OIL!AP68+SUM(OIL!AP95,OIL!AP119,OIL!AP143)*OIL!AP71)/41868","v":0},{"$f":"(SUMPRODUCT(REN!AQ42:AQ45,REN!AQ34:AQ37)+SUMPRODUCT(REN!AQ56:AQ59,REN!AQ34:AQ37)+SUMPRODUCT(REN!AQ70:AQ73,REN!AQ34:AQ37))/41868+(SUM(OIL!AQ88,OIL!AQ112,OIL!AQ136)*OIL!AQ64+SUM(OIL!AQ92,OIL!AQ116,OIL!AQ140)*OIL!AQ68+SUM(OIL!AQ95,OIL!AQ119,OIL!AQ143)*OIL!AQ71)/41868","v":0},{"$f":"(SUMPRODUCT(REN!AR42:AR45,REN!AR34:AR37)+SUMPRODUCT(REN!AR56:AR59,REN!AR34:AR37)+SUMPRODUCT(REN!AR70:AR73,REN!AR34:AR37))/41868+(SUM(OIL!AR88,OIL!AR112,OIL!AR136)*OIL!AR64+SUM(OIL!AR92,OIL!AR116,OIL!AR140)*OIL!AR68+SUM(OIL!AR95,OIL!AR119,OIL!AR143)*OIL!AR71)/41868","v":0},{"$f":"(SUMPRODUCT(REN!AS42:AS45,REN!AS34:AS37)+SUMPRODUCT(REN!AS56:AS59,REN!AS34:AS37)+SUMPRODUCT(REN!AS70:AS73,REN!AS34:AS37))/41868+(SUM(OIL!AS88,OIL!AS112,OIL!AS136)*OIL!AS64+SUM(OIL!AS92,OIL!AS116,OIL!AS140)*OIL!AS68+SUM(OIL!AS95,OIL!AS119,OIL!AS143)*OIL!AS71)/41868","v":0},{"$f":"(SUMPRODUCT(REN!AT42:AT45,REN!AT34:AT37)+SUMPRODUCT(REN!AT56:AT59,REN!AT34:AT37)+SUMPRODUCT(REN!AT70:AT73,REN!AT34:AT37))/41868+(SUM(OIL!AT88,OIL!AT112,OIL!AT136)*OIL!AT64+SUM(OIL!AT92,OIL!AT116,OIL!AT140)*OIL!AT68+SUM(OIL!AT95,OIL!AT119,OIL!AT143)*OIL!AT71)/41868","v":0},{"$f":"(SUMPRODUCT(REN!AU42:AU45,REN!AU34:AU37)+SUMPRODUCT(REN!AU56:AU59,REN!AU34:AU37)+SUMPRODUCT(REN!AU70:AU73,REN!AU34:AU37))/41868+(SUM(OIL!AU88,OIL!AU112,OIL!AU136)*OIL!AU64+SUM(OIL!AU92,OIL!AU116,OIL!AU140)*OIL!AU68+SUM(OIL!AU95,OIL!AU119,OIL!AU143)*OIL!AU71)/41868","v":0},{"$f":"(SUMPRODUCT(REN!AV42:AV45,REN!AV34:AV37)+SUMPRODUCT(REN!AV56:AV59,REN!AV34:AV37)+SUMPRODUCT(REN!AV70:AV73,REN!AV34:AV37))/41868+(SUM(OIL!AV88,OIL!AV112,OIL!AV136)*OIL!AV64+SUM(OIL!AV92,OIL!AV116,OIL!AV140)*OIL!AV68+SUM(OIL!AV95,OIL!AV119,OIL!AV143)*OIL!AV71)/41868","v":0},{"$f":"(SUMPRODUCT(REN!AW42:AW45,REN!AW34:AW37)+SUMPRODUCT(REN!AW56:AW59,REN!AW34:AW37)+SUMPRODUCT(REN!AW70:AW73,REN!AW34:AW37))/41868+(SUM(OIL!AW88,OIL!AW112,OIL!AW136)*OIL!AW64+SUM(OIL!AW92,OIL!AW116,OIL!AW140)*OIL!AW68+SUM(OIL!AW95,OIL!AW119,OIL!AW143)*OIL!AW71)/41868","v":0},{"$f":"(SUMPRODUCT(REN!AX42:AX45,REN!AX34:AX37)+SUMPRODUCT(REN!AX56:AX59,REN!AX34:AX37)+SUMPRODUCT(REN!AX70:AX73,REN!AX34:AX37))/41868+(SUM(OIL!AX88,OIL!AX112,OIL!AX136)*OIL!AX64+SUM(OIL!AX92,OIL!AX116,OIL!AX140)*OIL!AX68+SUM(OIL!AX95,OIL!AX119,OIL!AX143)*OIL!AX71)/41868","v":0},{"$f":"(SUMPRODUCT(REN!AY42:AY45,REN!AY34:AY37)+SUMPRODUCT(REN!AY56:AY59,REN!AY34:AY37)+SUMPRODUCT(REN!AY70:AY73,REN!AY34:AY37))/41868+(SUM(OIL!AY88,OIL!AY112,OIL!AY136)*OIL!AY64+SUM(OIL!AY92,OIL!AY116,OIL!AY140)*OIL!AY68+SUM(OIL!AY95,OIL!AY119,OIL!AY143)*OIL!AY71)/41868","v":0},{"$f":"(SUMPRODUCT(REN!AZ42:AZ45,REN!AZ34:AZ37)+SUMPRODUCT(REN!AZ56:AZ59,REN!AZ34:AZ37)+SUMPRODUCT(REN!AZ70:AZ73,REN!AZ34:AZ37))/41868+(SUM(OIL!AZ88,OIL!AZ112,OIL!AZ136)*OIL!AZ64+SUM(OIL!AZ92,OIL!AZ116,OIL!AZ140)*OIL!AZ68+SUM(OIL!AZ95,OIL!AZ119,OIL!AZ143)*OIL!AZ71)/41868","v":0},{"$f":"(SUMPRODUCT(REN!BA42:BA45,REN!BA34:BA37)+SUMPRODUCT(REN!BA56:BA59,REN!BA34:BA37)+SUMPRODUCT(REN!BA70:BA73,REN!BA34:BA37))/41868+(SUM(OIL!BA88,OIL!BA112,OIL!BA136)*OIL!BA64+SUM(OIL!BA92,OIL!BA116,OIL!BA140)*OIL!BA68+SUM(OIL!BA95,OIL!BA119,OIL!BA143)*OIL!BA71)/41868","v":0},{"$f":"(SUMPRODUCT(REN!BB42:BB45,REN!BB34:BB37)+SUMPRODUCT(REN!BB56:BB59,REN!BB34:BB37)+SUMPRODUCT(REN!BB70:BB73,REN!BB34:BB37))/41868+(SUM(OIL!BB88,OIL!BB112,OIL!BB136)*OIL!BB64+SUM(OIL!BB92,OIL!BB116,OIL!BB140)*OIL!BB68+SUM(OIL!BB95,OIL!BB119,OIL!BB143)*OIL!BB71)/41868","v":0},{"$f":"(SUMPRODUCT(REN!BC42:BC45,REN!BC34:BC37)+SUMPRODUCT(REN!BC56:BC59,REN!BC34:BC37)+SUMPRODUCT(REN!BC70:BC73,REN!BC34:BC37))/41868+(SUM(OIL!BC88,OIL!BC112,OIL!BC136)*OIL!BC64+SUM(OIL!BC92,OIL!BC116,OIL!BC140)*OIL!BC68+SUM(OIL!BC95,OIL!BC119,OIL!BC143)*OIL!BC71)/41868","v":0},{"$f":"(SUMPRODUCT(REN!BD42:BD45,REN!BD34:BD37)+SUMPRODUCT(REN!BD56:BD59,REN!BD34:BD37)+SUMPRODUCT(REN!BD70:BD73,REN!BD34:BD37))/41868+(SUM(OIL!BD88,OIL!BD112,OIL!BD136)*OIL!BD64+SUM(OIL!BD92,OIL!BD116,OIL!BD140)*OIL!BD68+SUM(OIL!BD95,OIL!BD119,OIL!BD143)*OIL!BD71)/41868","v":0},{"$f":"(SUMPRODUCT(REN!BE42:BE45,REN!BE34:BE37)+SUMPRODUCT(REN!BE56:BE59,REN!BE34:BE37)+SUMPRODUCT(REN!BE70:BE73,REN!BE34:BE37))/41868+(SUM(OIL!BE88,OIL!BE112,OIL!BE136)*OIL!BE64+SUM(OIL!BE92,OIL!BE116,OIL!BE140)*OIL!BE68+SUM(OIL!BE95,OIL!BE119,OIL!BE143)*OIL!BE71)/41868","v":0},{"$f":"(SUMPRODUCT(REN!BF42:BF45,REN!BF34:BF37)+SUMPRODUCT(REN!BF56:BF59,REN!BF34:BF37)+SUMPRODUCT(REN!BF70:BF73,REN!BF34:BF37))/41868+(SUM(OIL!BF88,OIL!BF112,OIL!BF136)*OIL!BF64+SUM(OIL!BF92,OIL!BF116,OIL!BF140)*OIL!BF68+SUM(OIL!BF95,OIL!BF119,OIL!BF143)*OIL!BF71)/41868","v":0},{"$f":"(SUMPRODUCT(REN!BG42:BG45,REN!BG34:BG37)+SUMPRODUCT(REN!BG56:BG59,REN!BG34:BG37)+SUMPRODUCT(REN!BG70:BG73,REN!BG34:BG37))/41868+(SUM(OIL!BG88,OIL!BG112,OIL!BG136)*OIL!BG64+SUM(OIL!BG92,OIL!BG116,OIL!BG140)*OIL!BG68+SUM(OIL!BG95,OIL!BG119,OIL!BG143)*OIL!BG71)/41868","v":0},{"$f":"(SUMPRODUCT(REN!BH42:BH45,REN!BH34:BH37)+SUMPRODUCT(REN!BH56:BH59,REN!BH34:BH37)+SUMPRODUCT(REN!BH70:BH73,REN!BH34:BH37))/41868+(SUM(OIL!BH88,OIL!BH112,OIL!BH136)*OIL!BH64+SUM(OIL!BH92,OIL!BH116,OIL!BH140)*OIL!BH68+SUM(OIL!BH95,OIL!BH119,OIL!BH143)*OIL!BH71)/41868","v":0},{"$f":"(SUMPRODUCT(REN!BI42:BI45,REN!BI34:BI37)+SUMPRODUCT(REN!BI56:BI59,REN!BI34:BI37)+SUMPRODUCT(REN!BI70:BI73,REN!BI34:BI37))/41868+(SUM(OIL!BI88,OIL!BI112,OIL!BI136)*OIL!BI64+SUM(OIL!BI92,OIL!BI116,OIL!BI140)*OIL!BI68+SUM(OIL!BI95,OIL!BI119,OIL!BI143)*OIL!BI71)/41868","v":0},{"$f":"(SUMPRODUCT(REN!BJ42:BJ45,REN!BJ34:BJ37)+SUMPRODUCT(REN!BJ56:BJ59,REN!BJ34:BJ37)+SUMPRODUCT(REN!BJ70:BJ73,REN!BJ34:BJ37))/41868+(SUM(OIL!BJ88,OIL!BJ112,OIL!BJ136)*OIL!BJ64+SUM(OIL!BJ92,OIL!BJ116,OIL!BJ140)*OIL!BJ68+SUM(OIL!BJ95,OIL!BJ119,OIL!BJ143)*OIL!BJ71)/41868","v":0},{"$f":"(SUMPRODUCT(REN!BK42:BK45,REN!BK34:BK37)+SUMPRODUCT(REN!BK56:BK59,REN!BK34:BK37)+SUMPRODUCT(REN!BK70:BK73,REN!BK34:BK37))/41868+(SUM(OIL!BK88,OIL!BK112,OIL!BK136)*OIL!BK64+SUM(OIL!BK92,OIL!BK116,OIL!BK140)*OIL!BK68+SUM(OIL!BK95,OIL!BK119,OIL!BK143)*OIL!BK71)/41868","v":0},{"$f":"(SUMPRODUCT(REN!BL42:BL45,REN!BL34:BL37)+SUMPRODUCT(REN!BL56:BL59,REN!BL34:BL37)+SUMPRODUCT(REN!BL70:BL73,REN!BL34:BL37))/41868+(SUM(OIL!BL88,OIL!BL112,OIL!BL136)*OIL!BL64+SUM(OIL!BL92,OIL!BL116,OIL!BL140)*OIL!BL68+SUM(OIL!BL95,OIL!BL119,OIL!BL143)*OIL!BL71)/41868","v":0},{"$f":"(SUMPRODUCT(REN!BM42:BM45,REN!BM34:BM37)+SUMPRODUCT(REN!BM56:BM59,REN!BM34:BM37)+SUMPRODUCT(REN!BM70:BM73,REN!BM34:BM37))/41868+(SUM(OIL!BM88,OIL!BM112,OIL!BM136)*OIL!BM64+SUM(OIL!BM92,OIL!BM116,OIL!BM140)*OIL!BM68+SUM(OIL!BM95,OIL!BM119,OIL!BM143)*OIL!BM71)/41868","v":0},{"$f":"(SUMPRODUCT(REN!BN42:BN45,REN!BN34:BN37)+SUMPRODUCT(REN!BN56:BN59,REN!BN34:BN37)+SUMPRODUCT(REN!BN70:BN73,REN!BN34:BN37))/41868+(SUM(OIL!BN88,OIL!BN112,OIL!BN136)*OIL!BN64+SUM(OIL!BN92,OIL!BN116,OIL!BN140)*OIL!BN68+SUM(OIL!BN95,OIL!BN119,OIL!BN143)*OIL!BN71)/41868","v":0},{"$f":"(SUMPRODUCT(REN!BO42:BO45,REN!BO34:BO37)+SUMPRODUCT(REN!BO56:BO59,REN!BO34:BO37)+SUMPRODUCT(REN!BO70:BO73,REN!BO34:BO37))/41868+(SUM(OIL!BO88,OIL!BO112,OIL!BO136)*OIL!BO64+SUM(OIL!BO92,OIL!BO116,OIL!BO140)*OIL!BO68+SUM(OIL!BO95,OIL!BO119,OIL!BO143)*OIL!BO71)/41868","v":0},{"$f":"(SUMPRODUCT(REN!BP42:BP45,REN!BP34:BP37)+SUMPRODUCT(REN!BP56:BP59,REN!BP34:BP37)+SUMPRODUCT(REN!BP70:BP73,REN!BP34:BP37))/41868+(SUM(OIL!BP88,OIL!BP112,OIL!BP136)*OIL!BP64+SUM(OIL!BP92,OIL!BP116,OIL!BP140)*OIL!BP68+SUM(OIL!BP95,OIL!BP119,OIL!BP143)*OIL!BP71)/41868","v":0},null,null,null,null,null,null,null,null,null,null,null,null,null,null,null,null,null,null,null,null,null,null,null,null,null,null,null,null,null,null,null,null,null,null,null,null,null,null,null,null,null,null,null,null,null,null,null,null,null,null,null,null,null,null,null,"R5292","ENERGUSE","FC_IND_OTH_E","_Z","_Z","_Z","_Z","_Z","ENERGY","_Z","KTOE",null,"nrg_ind_urhcd","TIMESERIES","R5292","FC_IND_OTH_E","_Z","KTOE","Agg.=SUM(countries)"]
["- - of which only compliant bioliquids",null,null,null,null,null,null,null,null,null,null,null,null,null,null,null,null,null,null,null,null,null,null,null,null,null,null,null,0,0,0,0,0,0,0,0,0,0,0,0,0,0,0,0,0,0,0,0,0,0,0,0,0,0,0,0,0,0,0,0,0,0,0,0,0,0,0,0,null,null,null,null,null,null,null,null,null,null,null,null,null,null,null,null,null,null,null,null,null,null,null,null,null,null,null,null,null,null,null,null,null,null,null,null,null,null,null,null,null,null,null,null,null,null,null,null,null,null,null,null,null,null,null,"R5292S","ENERGUSE","FC_IND_OTH_E","_Z","_Z","_Z","_Z","_Z","ENERGY","_Z","KTOE",null,"nrg_ind_urhcd","TIMESERIES","R5292S","FC_IND_OTH_E","_Z","KTOE","Agg.=SUM(countries)"]
[null,null,"- of which NOT from food and feed crops",null,null,null,null,null,null,null,null,null,null,null,null,null,null,null,null,null,null,null,null,null,null,null,null,null,0,0,0,0,0,0,0,0,0,0,0,0,0,0,0,0,0,0,0,0,0,0,0,0,0,0,0,0,0,0,0,0,0,0,0,0,0,0,0,0,null,null,null,null,null,null,null,null,null,null,null,null,null,null,null,null,null,null,null,null,null,null,null,null,null,null,null,null,null,null,null,null,null,null,null,null,null,null,null,null,null,null,null,null,null,null,null,null,null,null,null,null,null,null,null,"R5293S","ENERGUSE","FC_IND_OTH_E","_Z","_Z","_Z","_Z","_Z","ENERGY","_Z","KTOE",null,"nrg_ind_urhcd","TIMESERIES","R5293S","FC_IND_OTH_E","_Z","KTOE","Agg.=SUM(countries)"]
[null,null,"- of which from food and feed crops",null,null,null,null,null,null,null,null,null,null,null,null,null,null,null,null,null,null,null,null,null,null,null,null,null,{"$f":"AC51-AC52","v":0},{"$f":"AD51-AD52","v":0},0,0,0,0,0,0,0,0,0,0,0,0,0,0,0,0,0,0,0,0,0,0,0,0,0,0,0,0,0,0,0,0,0,0,0,0,0,0,null,null,null,null,null,null,null,null,null,null,null,null,null,null,null,null,null,null,null,null,null,null,null,null,null,null,null,null,null,null,null,null,null,null,null,null,null,null,null,null,null,null,null,null,null,null,null,null,null,null,null,null,null,null,null,"R5294S","ENERGUSE","FC_IND_OTH_E","_Z","_Z","_Z","_Z","_Z","ENERGY","_Z","KTOE",null,"nrg_ind_urhcd","TIMESERIES","R5294S","FC_IND_OTH_E","_Z","KTOE","Agg.=SUM(countries)"]
[null,null,null,"- of which from NON high-ILUC risk",null,null,null,null,null,null,null,null,null,null,null,null,null,null,null,null,null,null,null,null,null,null,null,null,0,0,0,0,0,0,0,0,0,0,0,0,0,0,0,0,0,0,0,0,0,0,0,0,0,0,0,0,0,0,0,0,0,0,0,0,0,0,0,0,null,null,null,null,null,null,null,null,null,null,null,null,null,null,null,null,null,null,null,null,null,null,null,null,null,null,null,null,null,null,null,null,null,null,null,null,null,null,null,null,null,null,null,null,null,null,null,null,null,null,null,null,null,null,null,"R5295S","ENERGUSE","FC_IND_OTH_E","_Z","_Z","_Z","_Z","_Z","ENERGY","_Z","KTOE",null,"nrg_ind_urhcd","TIMESERIES","R5295S","FC_IND_OTH_E","_Z","KTOE","Agg.=SUM(countries)"]
["Production of heat from renewable fuels [ktoe]"]
["- Geothermal energy",null,null,null,null,null,null,null,null,null,null,null,null,null,null,null,null,null,null,null,null,{"$f":"SUM(REN!V214,REN!V222)*1000/41868","v":0},{"$f":"SUM(REN!W214,REN!W222)*1000/41868","v":0},{"$f":"SUM(REN!X214,REN!X222)*1000/41868","v":0},{"$f":"SUM(REN!Y214,REN!Y222)*1000/41868","v":0},{"$f":"SUM(REN!Z214,REN!Z222)*1000/41868","v":0},{"$f":"SUM(REN!AA214,REN!AA222)*1000/41868","v":0},{"$f":"SUM(REN!AB214,REN!AB222)*1000/41868","v":0},{"$f":"SUM(REN!AC214,REN!AC222)*1000/41868","v":0},{"$f":"SUM(REN!AD214,REN!AD222)*1000/41868","v":0},{"$f":"SUM(REN!AE214,REN!AE222)*1000/41868","v":0},{"$f":"SUM(REN!AF214,REN!AF222)*1000/41868","v":0},{"$f":"SUM(REN!AG214,REN!AG222)*1000/41868","v":0},{"$f":"SUM(REN!AH214,REN!AH222)*1000/41868","v":0},{"$f":"SUM(REN!AI214,REN!AI222)*1000/41868","v":0},{"$f":"SUM(REN!AJ214,REN!AJ222)*1000/41868","v":0},{"$f":"SUM(REN!AK214,REN!AK222)*1000/41868","v":0},{"$f":"SUM(REN!AL214,REN!AL222)*1000/41868","v":0},{"$f":"SUM(REN!AM214,REN!AM222)*1000/41868","v":0},{"$f":"SUM(REN!AN214,REN!AN222)*1000/41868","v":0},{"$f":"SUM(REN!AO214,REN!AO222)*1000/41868","v":0},{"$f":"SUM(REN!AP214,REN!AP222)*1000/41868","v":0},{"$f":"SUM(REN!AQ214,REN!AQ222)*1000/41868","v":0},{"$f":"SUM(REN!AR214,REN!AR222)*1000/41868","v":0},{"$f":"SUM(REN!AS214,REN!AS222)*1000/41868","v":0},{"$f":"SUM(REN!AT214,REN!AT222)*1000/41868","v":0},{"$f":"SUM(REN!AU214,REN!AU222)*1000/41868","v":0},{"$f":"SUM(REN!AV214,REN!AV222)*1000/41868","v":0},{"$f":"SUM(REN!AW214,REN!AW222)*1000/41868","v":0},{"$f":"SUM(REN!AX214,REN!AX222)*1000/41868","v":0},{"$f":"SUM(REN!AY214,REN!AY222)*1000/41868","v":0},{"$f":"SUM(REN!AZ214,REN!AZ222)*1000/41868","v":0},{"$f":"SUM(REN!BA214,REN!BA222)*1000/41868","v":0},{"$f":"SUM(REN!BB214,REN!BB222)*1000/41868","v":0},{"$f":"SUM(REN!BC214,REN!BC222)*1000/41868","v":0},{"$f":"SUM(REN!BD214,REN!BD222)*1000/41868","v":0},{"$f":"SUM(REN!BE214,REN!BE222)*1000/41868","v":0},{"$f":"SUM(REN!BF214,REN!BF222)*1000/41868","v":0},{"$f":"SUM(REN!BG214,REN!BG222)*1000/41868","v":0},{"$f":"SUM(REN!BH214,REN!BH222)*1000/41868","v":0},{"$f":"SUM(REN!BI214,REN!BI222)*1000/41868","v":0},{"$f":"SUM(REN!BJ214,REN!BJ222)*1000/41868","v":0},{"$f":"SUM(REN!BK214,REN!BK222)*1000/41868","v":0},{"$f":"SUM(REN!BL214,REN!BL222)*1000/41868","v":0},{"$f":"SUM(REN!BM214,REN!BM222)*1000/41868","v":0},{"$f":"SUM(REN!BN214,REN!BN222)*1000/41868","v":0},{"$f":"SUM(REN!BO214,REN!BO222)*1000/41868","v":0},{"$f":"SUM(REN!BP214,REN!BP222)*1000/41868","v":0},null,null,null,null,null,null,null,null,null,null,null,null,null,null,null,null,null,null,null,null,null,null,null,null,null,null,null,null,null,null,null,null,null,null,null,null,null,null,null,null,null,null,null,null,null,null,null,null,null,null,null,null,null,null,null,"H8000","GROSPROD","_Z","GEOTHERM","_Z","_Z","_Z","_Z","ENERGY","_Z","KTOE",null,"nrg_ind_urhcd","TIMESERIES","RA200","GHP_RED","_Z","KTOE","Agg.=SUM(countries)"]
["- Solar thermal",null,null,null,null,null,null,null,null,null,null,null,null,null,null,null,null,null,null,null,null,{"$f":"SUM(REN!V215,REN!V223)*1000/41868","v":0},{"$f":"SUM(REN!W215,REN!W223)*1000/41868","v":0},{"$f":"SUM(REN!X215,REN!X223)*1000/41868","v":0},{"$f":"SUM(REN!Y215,REN!Y223)*1000/41868","v":0},{"$f":"SUM(REN!Z215,REN!Z223)*1000/41868","v":0},{"$f":"SUM(REN!AA215,REN!AA223)*1000/41868","v":0},{"$f":"SUM(REN!AB215,REN!AB223)*1000/41868","v":0},{"$f":"SUM(REN!AC215,REN!AC223)*1000/41868","v":0},{"$f":"SUM(REN!AD215,REN!AD223)*1000/41868","v":0},{"$f":"SUM(REN!AE215,REN!AE223)*1000/41868","v":0},{"$f":"SUM(REN!AF215,REN!AF223)*1000/41868","v":0},{"$f":"SUM(REN!AG215,REN!AG223)*1000/41868","v":0},{"$f":"SUM(REN!AH215,REN!AH223)*1000/41868","v":0},{"$f":"SUM(REN!AI215,REN!AI223)*1000/41868","v":0},{"$f":"SUM(REN!AJ215,REN!AJ223)*1000/41868","v":0},{"$f":"SUM(REN!AK215,REN!AK223)*1000/41868","v":0},{"$f":"SUM(REN!AL215,REN!AL223)*1000/41868","v":0},{"$f":"SUM(REN!AM215,REN!AM223)*1000/41868","v":0},{"$f":"SUM(REN!AN215,REN!AN223)*1000/41868","v":0},{"$f":"SUM(REN!AO215,REN!AO223)*1000/41868","v":0},{"$f":"SUM(REN!AP215,REN!AP223)*1000/41868","v":0},{"$f":"SUM(REN!AQ215,REN!AQ223)*1000/41868","v":0},{"$f":"SUM(REN!AR215,REN!AR223)*1000/41868","v":0},{"$f":"SUM(REN!AS215,REN!AS223)*1000/41868","v":0},{"$f":"SUM(REN!AT215,REN!AT223)*1000/41868","v":0},{"$f":"SUM(REN!AU215,REN!AU223)*1000/41868","v":0},{"$f":"SUM(REN!AV215,REN!AV223)*1000/41868","v":0},{"$f":"SUM(REN!AW215,REN!AW223)*1000/41868","v":0},{"$f":"SUM(REN!AX215,REN!AX223)*1000/41868","v":0},{"$f":"SUM(REN!AY215,REN!AY223)*1000/41868","v":0},{"$f":"SUM(REN!AZ215,REN!AZ223)*1000/41868","v":0},{"$f":"SUM(REN!BA215,REN!BA223)*1000/41868","v":0},{"$f":"SUM(REN!BB215,REN!BB223)*1000/41868","v":0},{"$f":"SUM(REN!BC215,REN!BC223)*1000/41868","v":0},{"$f":"SUM(REN!BD215,REN!BD223)*1000/41868","v":0},{"$f":"SUM(REN!BE215,REN!BE223)*1000/41868","v":0},{"$f":"SUM(REN!BF215,REN!BF223)*1000/41868","v":0},{"$f":"SUM(REN!BG215,REN!BG223)*1000/41868","v":0},{"$f":"SUM(REN!BH215,REN!BH223)*1000/41868","v":0},{"$f":"SUM(REN!BI215,REN!BI223)*1000/41868","v":0},{"$f":"SUM(REN!BJ215,REN!BJ223)*1000/41868","v":0},{"$f":"SUM(REN!BK215,REN!BK223)*1000/41868","v":0},{"$f":"SUM(REN!BL215,REN!BL223)*1000/41868","v":0},{"$f":"SUM(REN!BM215,REN!BM223)*1000/41868","v":0},{"$f":"SUM(REN!BN215,REN!BN223)*1000/41868","v":0},{"$f":"SUM(REN!BO215,REN!BO223)*1000/41868","v":0},{"$f":"SUM(REN!BP215,REN!BP223)*1000/41868","v":0},null,null,null,null,null,null,null,null,null,null,null,null,null,null,null,null,null,null,null,null,null,null,null,null,null,null,null,null,null,null,null,null,null,null,null,null,null,null,null,null,null,null,null,null,null,null,null,null,null,null,null,null,null,null,null,"H8000","GROSPROD","_Z","SOLARTH","_Z","_Z","_Z","_Z","ENERGY","_Z","KTOE",null,"nrg_ind_urhcd","TIMESERIES","RA410","GHP_RED","_Z","KTOE","Agg.=SUM(countries)"]
["- Municipal Waste renewable",null,null,null,null,null,null,null,null,null,null,null,null,null,null,null,null,null,null,null,null,{"$f":"SUM(REN!V216,REN!V224)*1000/41868","v":0},{"$f":"SUM(REN!W216,REN!W224)*1000/41868","v":0},{"$f":"SUM(REN!X216,REN!X224)*1000/41868","v":0},{"$f":"SUM(REN!Y216,REN!Y224)*1000/41868","v":0},{"$f":"SUM(REN!Z216,REN!Z224)*1000/41868","v":0},{"$f":"SUM(REN!AA216,REN!AA224)*1000/41868","v":0},{"$f":"SUM(REN!AB216,REN!AB224)*1000/41868","v":0},{"$f":"SUM(REN!AC216,REN!AC224)*1000/41868","v":0},{"$f":"SUM(REN!AD216,REN!AD224)*1000/41868","v":0},{"$f":"SUM(REN!AE216,REN!AE224)*1000/41868","v":0},{"$f":"SUM(REN!AF216,REN!AF224)*1000/41868","v":0},{"$f":"SUM(REN!AG216,REN!AG224)*1000/41868","v":0},{"$f":"SUM(REN!AH216,REN!AH224)*1000/41868","v":0},{"$f":"SUM(REN!AI216,REN!AI224)*1000/41868","v":0},{"$f":"SUM(REN!AJ216,REN!AJ224)*1000/41868","v":0},{"$f":"SUM(REN!AK216,REN!AK224)*1000/41868","v":0},{"$f":"SUM(REN!AL216,REN!AL224)*1000/41868","v":0},{"$f":"SUM(REN!AM216,REN!AM224)*1000/41868","v":0},{"$f":"SUM(REN!AN216,REN!AN224)*1000/41868","v":0},{"$f":"SUM(REN!AO216,REN!AO224)*1000/41868","v":0},{"$f":"SUM(REN!AP216,REN!AP224)*1000/41868","v":0},{"$f":"SUM(REN!AQ216,REN!AQ224)*1000/41868","v":0},{"$f":"SUM(REN!AR216,REN!AR224)*1000/41868","v":0},{"$f":"SUM(REN!AS216,REN!AS224)*1000/41868","v":0},{"$f":"SUM(REN!AT216,REN!AT224)*1000/41868","v":0},{"$f":"SUM(REN!AU216,REN!AU224)*1000/41868","v":0},{"$f":"SUM(REN!AV216,REN!AV224)*1000/41868","v":0},{"$f":"SUM(REN!AW216,REN!AW224)*1000/41868","v":0},{"$f":"SUM(REN!AX216,REN!AX224)*1000/41868","v":0},{"$f":"SUM(REN!AY216,REN!AY224)*1000/41868","v":0},{"$f":"SUM(REN!AZ216,REN!AZ224)*1000/41868","v":0},{"$f":"SUM(REN!BA216,REN!BA224)*1000/41868","v":0},{"$f":"SUM(REN!BB216,REN!BB224)*1000/41868","v":0},{"$f":"SUM(REN!BC216,REN!BC224)*1000/41868","v":0},{"$f":"SUM(REN!BD216,REN!BD224)*1000/41868","v":0},{"$f":"SUM(REN!BE216,REN!BE224)*1000/41868","v":0},{"$f":"SUM(REN!BF216,REN!BF224)*1000/41868","v":0},{"$f":"SUM(REN!BG216,REN!BG224)*1000/41868","v":0},{"$f":"SUM(REN!BH216,REN!BH224)*1000/41868","v":0},{"$f":"SUM(REN!BI216,REN!BI224)*1000/41868","v":0},{"$f":"SUM(REN!BJ216,REN!BJ224)*1000/41868","v":0},{"$f":"SUM(REN!BK216,REN!BK224)*1000/41868","v":0},{"$f":"SUM(REN!BL216,REN!BL224)*1000/41868","v":0},{"$f":"SUM(REN!BM216,REN!BM224)*1000/41868","v":0},{"$f":"SUM(REN!BN216,REN!BN224)*1000/41868","v":0},{"$f":"SUM(REN!BO216,REN!BO224)*1000/41868","v":0},{"$f":"SUM(REN!BP216,REN!BP224)*1000/41868","v":0},null,null,null,null,null,null,null,null,null,null,null,null,null,null,null,null,null,null,null,null,null,null,null,null,null,null,null,null,null,null,null,null,null,null,null,null,null,null,null,null,null,null,null,null,null,null,null,null,null,null,null,null,null,null,null,"H8000","GROSPROD","_Z","COMBMURW","_Z","_Z","_Z","_Z","ENERGY","_Z","KTOE",null,"nrg_ind_urhcd","TIMESERIES","W6210","GHP_RED","_Z","KTOE","Agg.=SUM(countries)"]
["- Solid biofuels",null,null,null,null,null,null,null,null,null,null,null,null,null,null,null,null,null,null,null,null,{"$f":"SUM(REN!V217,REN!V225)*1000/41868","v":0},{"$f":"SUM(REN!W217,REN!W225)*1000/41868","v":0},{"$f":"SUM(REN!X217,REN!X225)*1000/41868","v":0},{"$f":"SUM(REN!Y217,REN!Y225)*1000/41868","v":0},{"$f":"SUM(REN!Z217,REN!Z225)*1000/41868","v":0},{"$f":"SUM(REN!AA217,REN!AA225)*1000/41868","v":0},{"$f":"SUM(REN!AB217,REN!AB225)*1000/41868","v":0},{"$f":"SUM(REN!AC217,REN!AC225)*1000/41868","v":0},{"$f":"SUM(REN!AD217,REN!AD225)*1000/41868","v":0},{"$f":"SUM(REN!AE217,REN!AE225)*1000/41868","v":0},{"$f":"SUM(REN!AF217,REN!AF225)*1000/41868","v":0},{"$f":"SUM(REN!AG217,REN!AG225)*1000/41868","v":0},{"$f":"SUM(REN!AH217,REN!AH225)*1000/41868","v":0},{"$f":"SUM(REN!AI217,REN!AI225)*1000/41868","v":0},{"$f":"SUM(REN!AJ217,REN!AJ225)*1000/41868","v":0},{"$f":"SUM(REN!AK217,REN!AK225)*1000/41868","v":0},{"$f":"SUM(REN!AL217,REN!AL225)*1000/41868","v":0},{"$f":"SUM(REN!AM217,REN!AM225)*1000/41868","v":0},{"$f":"SUM(REN!AN217,REN!AN225)*1000/41868","v":0},{"$f":"SUM(REN!AO217,REN!AO225)*1000/41868","v":0},{"$f":"SUM(REN!AP217,REN!AP225)*1000/41868","v":0},{"$f":"SUM(REN!AQ217,REN!AQ225)*1000/41868","v":0},{"$f":"SUM(REN!AR217,REN!AR225)*1000/41868","v":0},{"$f":"SUM(REN!AS217,REN!AS225)*1000/41868","v":0},{"$f":"SUM(REN!AT217,REN!AT225)*1000/41868","v":0},{"$f":"SUM(REN!AU217,REN!AU225)*1000/41868","v":0},{"$f":"SUM(REN!AV217,REN!AV225)*1000/41868","v":0},{"$f":"SUM(REN!AW217,REN!AW225)*1000/41868","v":0},{"$f":"SUM(REN!AX217,REN!AX225)*1000/41868","v":0},{"$f":"SUM(REN!AY217,REN!AY225)*1000/41868","v":0},{"$f":"SUM(REN!AZ217,REN!AZ225)*1000/41868","v":0},{"$f":"SUM(REN!BA217,REN!BA225)*1000/41868","v":0},{"$f":"SUM(REN!BB217,REN!BB225)*1000/41868","v":0},{"$f":"SUM(REN!BC217,REN!BC225)*1000/41868","v":0},{"$f":"SUM(REN!BD217,REN!BD225)*1000/41868","v":0},{"$f":"SUM(REN!BE217,REN!BE225)*1000/41868","v":0},{"$f":"SUM(REN!BF217,REN!BF225)*1000/41868","v":0},{"$f":"SUM(REN!BG217,REN!BG225)*1000/41868","v":0},{"$f":"SUM(REN!BH217,REN!BH225)*1000/41868","v":0},{"$f":"SUM(REN!BI217,REN!BI225)*1000/41868","v":0},{"$f":"SUM(REN!BJ217,REN!BJ225)*1000/41868","v":0},{"$f":"SUM(REN!BK217,REN!BK225)*1000/41868","v":0},{"$f":"SUM(REN!BL217,REN!BL225)*1000/41868","v":0},{"$f":"SUM(REN!BM217,REN!BM225)*1000/41868","v":0},{"$f":"SUM(REN!BN217,REN!BN225)*1000/41868","v":0},{"$f":"SUM(REN!BO217,REN!BO225)*1000/41868","v":0},{"$f":"SUM(REN!BP217,REN!BP225)*1000/41868","v":0},null,null,null,null,null,null,null,null,null,null,null,null,null,null,null,null,null,null,null,null,null,null,null,null,null,null,null,null,null,null,null,null,null,null,null,null,null,null,null,null,null,null,null,null,null,null,null,null,null,null,null,null,null,null,null,"H8000","GROSPROD","_Z","COMBSOBI","_Z","_Z","_Z","_Z","ENERGY","_Z","KTOE",null,"nrg_ind_urhcd","TIMESERIES","R5110-5150_W6000RI","GHP_RED","_Z","KTOE","Agg.=SUM(countries)"]
[null,"     Of which compliant",null,null,null,null,null,null,null,null,null,null,null,null,null,null,null,null,null,null,null,{"$f":"V59","v":0},{"$f":"W59","v":0},0,0,0,0,0,0,0,0,0,0,0,0,0,0,{"$f":"AL59","v":0},0,0,0,0,0,0,0,0,0,0,0,0,0,0,0,0,0,0,0,0,0,0,0,0,0,0,0,0,0,0,null,null,null,null,null,null,null,null,null,null,null,null,null,null,null,null,null,null,null,null,null,null,null,null,null,null,null,null,null,null,null,null,null,null,null,null,null,null,null,null,null,null,null,null,null,null,null,null,null,null,null,null,null,null,null,"H8000","GROSPROD","_Z","COMBSOBIS","_Z","_Z","_Z","_Z","ENERGY","_Z","KTOE",null,"nrg_ind_urhcd","TIMESERIES","R5110-5150_W6000RIS","GHP_RED","_Z","KTOE","Agg.=SUM(countries)"]
["- From pure biogas",null,null,null,null,null,null,null,null,null,null,null,null,null,null,null,null,null,null,null,null,{"$f":"SUM(REN!V218,REN!V226)*1000/41868","v":0},{"$f":"SUM(REN!W218,REN!W226)*1000/41868","v":0},{"$f":"SUM(REN!X218,REN!X226)*1000/41868","v":0},{"$f":"SUM(REN!Y218,REN!Y226)*1000/41868","v":0},{"$f":"SUM(REN!Z218,REN!Z226)*1000/41868","v":0},{"$f":"SUM(REN!AA218,REN!AA226)*1000/41868","v":0},{"$f":"SUM(REN!AB218,REN!AB226)*1000/41868","v":0},{"$f":"SUM(REN!AC218,REN!AC226)*1000/41868","v":0},{"$f":"SUM(REN!AD218,REN!AD226)*1000/41868","v":0},{"$f":"SUM(REN!AE218,REN!AE226)*1000/41868","v":0},{"$f":"SUM(REN!AF218,REN!AF226)*1000/41868","v":0},{"$f":"SUM(REN!AG218,REN!AG226)*1000/41868","v":0},{"$f":"SUM(REN!AH218,REN!AH226)*1000/41868","v":0},{"$f":"SUM(REN!AI218,REN!AI226)*1000/41868","v":0},{"$f":"SUM(REN!AJ218,REN!AJ226)*1000/41868","v":0},{"$f":"SUM(REN!AK218,REN!AK226)*1000/41868","v":0},{"$f":"SUM(REN!AL218,REN!AL226)*1000/41868","v":0},{"$f":"SUM(REN!AM218,REN!AM226)*1000/41868","v":0},{"$f":"SUM(REN!AN218,REN!AN226)*1000/41868","v":0},{"$f":"SUM(REN!AO218,REN!AO226)*1000/41868","v":0},{"$f":"SUM(REN!AP218,REN!AP226)*1000/41868","v":0},{"$f":"SUM(REN!AQ218,REN!AQ226)*1000/41868","v":0},{"$f":"SUM(REN!AR218,REN!AR226)*1000/41868","v":0},{"$f":"SUM(REN!AS218,REN!AS226)*1000/41868","v":0},{"$f":"SUM(REN!AT218,REN!AT226)*1000/41868","v":0},{"$f":"SUM(REN!AU218,REN!AU226)*1000/41868","v":0},{"$f":"SUM(REN!AV218,REN!AV226)*1000/41868","v":0},{"$f":"SUM(REN!AW218,REN!AW226)*1000/41868","v":0},{"$f":"SUM(REN!AX218,REN!AX226)*1000/41868","v":0},{"$f":"SUM(REN!AY218,REN!AY226)*1000/41868","v":0},{"$f":"SUM(REN!AZ218,REN!AZ226)*1000/41868","v":0},{"$f":"SUM(REN!BA218,REN!BA226)*1000/41868","v":0},{"$f":"SUM(REN!BB218,REN!BB226)*1000/41868","v":0},{"$f":"SUM(REN!BC218,REN!BC226)*1000/41868","v":0},{"$f":"SUM(REN!BD218,REN!BD226)*1000/41868","v":0},{"$f":"SUM(REN!BE218,REN!BE226)*1000/41868","v":0},{"$f":"SUM(REN!BF218,REN!BF226)*1000/41868","v":0},{"$f":"SUM(REN!BG218,REN!BG226)*1000/41868","v":0},{"$f":"SUM(REN!BH218,REN!BH226)*1000/41868","v":0},{"$f":"SUM(REN!BI218,REN!BI226)*1000/41868","v":0},{"$f":"SUM(REN!BJ218,REN!BJ226)*1000/41868","v":0},{"$f":"SUM(REN!BK218,REN!BK226)*1000/41868","v":0},{"$f":"SUM(REN!BL218,REN!BL226)*1000/41868","v":0},{"$f":"SUM(REN!BM218,REN!BM226)*1000/41868","v":0},{"$f":"SUM(REN!BN218,REN!BN226)*1000/41868","v":0},{"$f":"SUM(REN!BO218,REN!BO226)*1000/41868","v":0},{"$f":"SUM(REN!BP218,REN!BP226)*1000/41868","v":0},null,null,null,null,null,null,null,null,null,null,null,null,null,null,null,null,null,null,null,null,null,null,null,null,null,null,null,null,null,null,null,null,null,null,null,null,null,null,null,null,null,null,null,null,null,null,null,null,null,null,null,null,null,null,null,"H8000","GROSPROD","_Z","COMBBIGA","_Z","_Z","_Z","_Z","ENERGY","_Z","KTOE",null,"nrg_ind_urhcd","TIMESERIES","R5300","GHP_RED","_Z","KTOE","Agg.=SUM(countries)"]
[null,"     Of which compliant",null,null,null,null,null,null,null,null,null,null,null,null,null,null,null,null,null,null,null,{"$f":"V61","v":0},0,0,0,0,0,0,0,0,0,0,0,0,0,0,{"$f":"AK61","v":0},{"$f":"AL61","v":0},0,0,0,0,0,0,0,0,0,0,0,0,0,0,0,0,0,0,0,0,0,0,0,0,0,0,0,0,0,0,null,null,null,null,null,null,null,null,null,null,null,null,null,null,null,null,null,null,null,null,null,null,null,null,null,null,null,null,null,null,null,null,null,null,null,null,null,null,null,null,null,null,null,null,null,null,null,null,null,null,null,null,null,null,null,"H8000","GROSPROD","_Z","COMBBIGAS","_Z","_Z","_Z","_Z","ENERGY","_Z","KTOE",null,"nrg_ind_urhcd","TIMESERIES","R5300S","GHP_RED","_Z","KTOE","Agg.=SUM(countries)"]
["- From biogas blended in the grid",null,null,null,null,null,null,null,null,null,null,null,null,null,null,null,null,null,null,null,null,{"$f":"GAS!V27*(ELE!V49*1000/41868)","v":0},{"$f":"GAS!W27*(ELE!W49*1000/41868)","v":0},{"$f":"GAS!X27*(ELE!X49*1000/41868)","v":0},{"$f":"GAS!Y27*(ELE!Y49*1000/41868)","v":0},{"$f":"GAS!Z27*(ELE!Z49*1000/41868)","v":0},{"$f":"GAS!AA27*(ELE!AA49*1000/41868)","v":0},{"$f":"GAS!AB27*(ELE!AB49*1000/41868)","v":0},{"$f":"GAS!AC27*(ELE!AC49*1000/41868)","v":0},{"$f":"GAS!AD27*(ELE!AD49*1000/41868)","v":0},{"$f":"GAS!AE27*(ELE!AE49*1000/41868)","v":0},{"$f":"GAS!AF27*(ELE!AF49*1000/41868)","v":0},{"$f":"GAS!AG27*(ELE!AG49*1000/41868)","v":0},{"$f":"GAS!AH27*(ELE!AH49*1000/41868)","v":0},{"$f":"GAS!AI27*(ELE!AI49*1000/41868)","v":0},{"$f":"GAS!AJ27*(ELE!AJ49*1000/41868)","v":0},{"$f":"GAS!AK27*(ELE!AK49*1000/41868)","v":0},{"$f":"GAS!AL27*(ELE!AL49*1000/41868)","v":0},{"$f":"GAS!AM27*(ELE!AM49*1000/41868)","v":0},{"$f":"GAS!AN27*(ELE!AN49*1000/41868)","v":0},{"$f":"GAS!AO27*(ELE!AO49*1000/41868)","v":0},{"$f":"GAS!AP27*(ELE!AP49*1000/41868)","v":0},{"$f":"GAS!AQ27*(ELE!AQ49*1000/41868)","v":0},{"$f":"GAS!AR27*(ELE!AR49*1000/41868)","v":0},{"$f":"GAS!AS27*(ELE!AS49*1000/41868)","v":0},{"$f":"GAS!AT27*(ELE!AT49*1000/41868)","v":0},{"$f":"GAS!AU27*(ELE!AU49*1000/41868)","v":0},{"$f":"GAS!AV27*(ELE!AV49*1000/41868)","v":0},{"$f":"GAS!AW27*(ELE!AW49*1000/41868)","v":0},{"$f":"GAS!AX27*(ELE!AX49*1000/41868)","v":0},{"$f":"GAS!AY27*(ELE!AY49*1000/41868)","v":0},{"$f":"GAS!AZ27*(ELE!AZ49*1000/41868)","v":0},{"$f":"GAS!BA27*(ELE!BA49*1000/41868)","v":0},{"$f":"GAS!BB27*(ELE!BB49*1000/41868)","v":0},{"$f":"GAS!BC27*(ELE!BC49*1000/41868)","v":0},{"$f":"GAS!BD27*(ELE!BD49*1000/41868)","v":0},{"$f":"GAS!BE27*(ELE!BE49*1000/41868)","v":0},{"$f":"GAS!BF27*(ELE!BF49*1000/41868)","v":0},{"$f":"GAS!BG27*(ELE!BG49*1000/41868)","v":0},{"$f":"GAS!BH27*(ELE!BH49*1000/41868)","v":0},{"$f":"GAS!BI27*(ELE!BI49*1000/41868)","v":0},{"$f":"GAS!BJ27*(ELE!BJ49*1000/41868)","v":0},{"$f":"GAS!BK27*(ELE!BK49*1000/41868)","v":0},{"$f":"GAS!BL27*(ELE!BL49*1000/41868)","v":0},{"$f":"GAS!BM27*(ELE!BM49*1000/41868)","v":0},{"$f":"GAS!BN27*(ELE!BN49*1000/41868)","v":0},{"$f":"GAS!BO27*(ELE!BO49*1000/41868)","v":0},{"$f":"GAS!BP27*(ELE!BP49*1000/41868)","v":0},null,null,null,null,null,null,null,null,null,null,null,null,null,null,null,null,null,null,null,null,null,null,null,null,null,null,null,null,null,null,null,null,null,null,null,null,null,null,null,null,null,null,null,null,null,null,null,null,null,null,null,null,null,null,null,"H8000","GROSPROD","_Z","BIOGGRID","_Z","_Z","_Z","_Z","ENERGY","_Z","KTOE",null,"nrg_ind_urhcd","TIMESERIES","R5300B","GHP_RED","_Z","KTOE","Agg.=SUM(countries)"]
[null,"     Of which compliant",null,null,null,null,null,null,null,null,null,null,null,null,null,null,null,null,null,null,null,{"$f":"V63","v":0},{"$f":"W63","v":0},0,0,0,0,0,0,0,0,0,0,0,0,0,0,{"$f":"AL63","v":0},0,0,0,0,0,0,0,0,0,0,0,0,0,0,0,0,0,0,0,0,0,0,0,0,0,0,0,0,0,0,null,null,null,null,null,null,null,null,null,null,null,null,null,null,null,null,null,null,null,null,null,null,null,null,null,null,null,null,null,null,null,null,null,null,null,null,null,null,null,null,null,null,null,null,null,null,null,null,null,null,null,null,null,null,null,"H8000","GROSPROD","_Z","BIOGGRIDS","_Z","_Z","_Z","_Z","ENERGY","_Z","KTOE",null,"nrg_ind_urhcd","TIMESERIES","R5300SB","GHP_RED","_Z","KTOE","Agg.=SUM(countries)"]
["- From biogas accounted towards heat production based on sustainability certificates",null,null,null,null,null,null,null,null,null,null,null,null,null,null,null,null,null,null,null,null,0,0,0,0,0,0,0,0,0,0,0,0,0,0,0,0,0,0,0,0,0,0,0,0,0,0,0,0,0,0,0,0,0,0,0,0,0,0,0,0,0,0,0,0,0,0,0,null,null,null,null,null,null,null,null,null,null,null,null,null,null,null,null,null,null,null,null,null,null,null,null,null,null,null,null,null,null,null,null,null,null,null,null,null,null,null,null,null,null,null,null,null,null,null,null,null,null,null,null,null,null,null,"H8000","GROSPROD","_Z","BIOGGRIDA","_Z","_Z","_Z","_Z","ENERGY","_Z","KTOE",null,"nrg_ind_urhcd","TIMESERIES","R5301SB","GHP_RED","_Z","KTOE","Agg.=SUM(countries)"]
["- all pure bioliquids, compliant and also non-compliant",null,null,null,null,null,null,null,null,null,null,null,null,null,null,null,null,null,null,null,null,{"$f":"SUM(REN!V219:V220,REN!V227:V228)*1000/41868","v":0},{"$f":"SUM(REN!W219:W220,REN!W227:W228)*1000/41868","v":0},{"$f":"SUM(REN!X219:X220,REN!X227:X228)*1000/41868","v":0},{"$f":"SUM(REN!Y219:Y220,REN!Y227:Y228)*1000/41868","v":0},{"$f":"SUM(REN!Z219:Z220,REN!Z227:Z228)*1000/41868","v":0},{"$f":"SUM(REN!AA219:AA220,REN!AA227:AA228)*1000/41868","v":0},{"$f":"SUM(REN!AB219:AB220,REN!AB227:AB228)*1000/41868","v":0},{"$f":"SUM(REN!AC219:AC220,REN!AC227:AC228)*1000/41868","v":0},{"$f":"SUM(REN!AD219:AD220,REN!AD227:AD228)*1000/41868","v":0},{"$f":"SUM(REN!AE219:AE220,REN!AE227:AE228)*1000/41868","v":0},{"$f":"SUM(REN!AF219:AF220,REN!AF227:AF228)*1000/41868","v":0},{"$f":"SUM(REN!AG219:AG220,REN!AG227:AG228)*1000/41868","v":0},{"$f":"SUM(REN!AH219:AH220,REN!AH227:AH228)*1000/41868","v":0},{"$f":"SUM(REN!AI219:AI220,REN!AI227:AI228)*1000/41868","v":0},{"$f":"SUM(REN!AJ219:AJ220,REN!AJ227:AJ228)*1000/41868","v":0},{"$f":"SUM(REN!AK219:AK220,REN!AK227:AK228)*1000/41868","v":0},{"$f":"SUM(REN!AL219:AL220,REN!AL227:AL228)*1000/41868","v":0},{"$f":"SUM(REN!AM219:AM220,REN!AM227:AM228)*1000/41868","v":0},{"$f":"SUM(REN!AN219:AN220,REN!AN227:AN228)*1000/41868","v":0},{"$f":"SUM(REN!AO219:AO220,REN!AO227:AO228)*1000/41868","v":0},{"$f":"SUM(REN!AP219:AP220,REN!AP227:AP228)*1000/41868","v":0},{"$f":"SUM(REN!AQ219:AQ220,REN!AQ227:AQ228)*1000/41868","v":0},{"$f":"SUM(REN!AR219:AR220,REN!AR227:AR228)*1000/41868","v":0},{"$f":"SUM(REN!AS219:AS220,REN!AS227:AS228)*1000/41868","v":0},{"$f":"SUM(REN!AT219:AT220,REN!AT227:AT228)*1000/41868","v":0},{"$f":"SUM(REN!AU219:AU220,REN!AU227:AU228)*1000/41868","v":0},{"$f":"SUM(REN!AV219:AV220,REN!AV227:AV228)*1000/41868","v":0},{"$f":"SUM(REN!AW219:AW220,REN!AW227:AW228)*1000/41868","v":0},{"$f":"SUM(REN!AX219:AX220,REN!AX227:AX228)*1000/41868","v":0},{"$f":"SUM(REN!AY219:AY220,REN!AY227:AY228)*1000/41868","v":0},{"$f":"SUM(REN!AZ219:AZ220,REN!AZ227:AZ228)*1000/41868","v":0},{"$f":"SUM(REN!BA219:BA220,REN!BA227:BA228)*1000/41868","v":0},{"$f":"SUM(REN!BB219:BB220,REN!BB227:BB228)*1000/41868","v":0},{"$f":"SUM(REN!BC219:BC220,REN!BC227:BC228)*1000/41868","v":0},{"$f":"SUM(REN!BD219:BD220,REN!BD227:BD228)*1000/41868","v":0},{"$f":"SUM(REN!BE219:BE220,REN!BE227:BE228)*1000/41868","v":0},{"$f":"SUM(REN!BF219:BF220,REN!BF227:BF228)*1000/41868","v":0},{"$f":"SUM(REN!BG219:BG220,REN!BG227:BG228)*1000/41868","v":0},{"$f":"SUM(REN!BH219:BH220,REN!BH227:BH228)*1000/41868","v":0},{"$f":"SUM(REN!BI219:BI220,REN!BI227:BI228)*1000/41868","v":0},{"$f":"SUM(REN!BJ219:BJ220,REN!BJ227:BJ228)*1000/41868","v":0},{"$f":"SUM(REN!BK219:BK220,REN!BK227:BK228)*1000/41868","v":0},{"$f":"SUM(REN!BL219:BL220,REN!BL227:BL228)*1000/41868","v":0},{"$f":"SUM(REN!BM219:BM220,REN!BM227:BM228)*1000/41868","v":0},{"$f":"SUM(REN!BN219:BN220,REN!BN227:BN228)*1000/41868","v":0},{"$f":"SUM(REN!BO219:BO220,REN!BO227:BO228)*1000/41868","v":0},{"$f":"SUM(REN!BP219:BP220,REN!BP227:BP228)*1000/41868","v":0},null,null,null,null,null,null,null,null,null,null,null,null,null,null,null,null,null,null,null,null,null,null,null,null,null,null,null,null,null,null,null,null,null,null,null,null,null,null,null,null,null,null,null,null,null,null,null,null,null,null,null,null,null,null,null,"H8000","GROSPROD","_Z","PBIOL","_Z","_Z","_Z","_Z","ENERGY","_Z","KTOE",null,"nrg_ind_urhcd","TIMESERIES","R5292P","GHP_RED","_Z","KTOE","Agg.=SUM(countries)"]
["- - of which only compliant pure bioliquids",null,null,null,null,null,null,null,null,null,null,null,null,null,null,null,null,null,null,null,null,{"$f":"V66","v":0},{"$f":"W66","v":0},0,0,0,0,0,{"$f":"AC66","v":0},{"$f":"AD66","v":0},0,0,0,0,0,0,0,0,0,0,0,0,0,0,0,0,0,0,0,0,0,0,0,0,0,0,0,0,0,0,0,0,0,0,0,0,0,0,null,null,null,null,null,null,null,null,null,null,null,null,null,null,null,null,null,null,null,null,null,null,null,null,null,null,null,null,null,null,null,null,null,null,null,null,null,null,null,null,null,null,null,null,null,null,null,null,null,null,null,null,null,null,null,"H8000","GROSPROD","_Z","PBIOLS","_Z","_Z","_Z","_Z","ENERGY","_Z","KTOE",null,"nrg_ind_urhcd","TIMESERIES","R5292SP","GHP_RED","_Z","KTOE","Agg.=SUM(countries)"]
[null,null,"- of which NOT from food and feed crops",null,null,null,null,null,null,null,null,null,null,null,null,null,null,null,null,null,null,null,null,null,null,null,null,null,0,0,0,0,0,0,0,0,0,0,0,0,0,0,0,0,0,0,0,0,0,0,0,0,0,0,0,0,0,0,0,0,0,0,0,0,0,0,0,0,null,null,null,null,null,null,null,null,null,null,null,null,null,null,null,null,null,null,null,null,null,null,null,null,null,null,null,null,null,null,null,null,null,null,null,null,null,null,null,null,null,null,null,null,null,null,null,null,null,null,null,null,null,null,null,"H8000","GROSPROD","_Z","PBIOLSNF","_Z","_Z","_Z","_Z","ENERGY","_Z","KTOE",null,"nrg_ind_urhcd","TIMESERIES","R5293SP","GHP_RED","_Z","KTOE","Agg.=SUM(countries)"]
[null,null,"- of which from food and feed crops",null,null,null,null,null,null,null,null,null,null,null,null,null,null,null,null,null,null,null,null,null,null,null,null,null,{"$f":"AC67-AC68","v":0},{"$f":"AD67-AD68","v":0},{"$f":"AE67-AE68","v":0},{"$f":"AF67-AF68","v":0},{"$f":"AG67-AG68","v":0},{"$f":"AH67-AH68","v":0},{"$f":"AI67-AI68","v":0},{"$f":"AJ67-AJ68","v":0},{"$f":"AK67-AK68","v":0},{"$f":"AL67-AL68","v":0},{"$f":"AM67-AM68","v":0},{"$f":"AN67-AN68","v":0},{"$f":"AO67-AO68","v":0},{"$f":"AP67-AP68","v":0},{"$f":"AQ67-AQ68","v":0},{"$f":"AR67-AR68","v":0},{"$f":"AS67-AS68","v":0},{"$f":"AT67-AT68","v":0},{"$f":"AU67-AU68","v":0},{"$f":"AV67-AV68","v":0},{"$f":"AW67-AW68","v":0},{"$f":"AX67-AX68","v":0},{"$f":"AY67-AY68","v":0},{"$f":"AZ67-AZ68","v":0},{"$f":"BA67-BA68","v":0},{"$f":"BB67-BB68","v":0},{"$f":"BC67-BC68","v":0},{"$f":"BD67-BD68","v":0},{"$f":"BE67-BE68","v":0},{"$f":"BF67-BF68","v":0},{"$f":"BG67-BG68","v":0},{"$f":"BH67-BH68","v":0},{"$f":"BI67-BI68","v":0},{"$f":"BJ67-BJ68","v":0},{"$f":"BK67-BK68","v":0},{"$f":"BL67-BL68","v":0},{"$f":"BM67-BM68","v":0},{"$f":"BN67-BN68","v":0},{"$f":"BO67-BO68","v":0},{"$f":"BP67-BP68","v":0},null,null,null,null,null,null,null,null,null,null,null,null,null,null,null,null,null,null,null,null,null,null,null,null,null,null,null,null,null,null,null,null,null,null,null,null,null,null,null,null,null,null,null,null,null,null,null,null,null,null,null,null,null,null,null,"H8000","GROSPROD","_Z","PBIOLSF","_Z","_Z","_Z","_Z","ENERGY","_Z","KTOE",null,"nrg_ind_urhcd","TIMESERIES","R5294SP","GHP_RED","_Z","KTOE","Agg.=SUM(countries)"]
[null,null,null,"- of which from NON high-ILUC risk",null,null,null,null,null,null,null,null,null,null,null,null,null,null,null,null,null,null,null,null,null,null,null,null,0,0,0,0,0,0,0,0,0,0,0,0,0,0,0,0,0,0,0,0,0,0,0,0,0,0,0,0,0,0,0,0,0,0,0,0,0,0,0,0,null,null,null,null,null,null,null,null,null,null,null,null,null,null,null,null,null,null,null,null,null,null,null,null,null,null,null,null,null,null,null,null,null,null,null,null,null,null,null,null,null,null,null,null,null,null,null,null,null,null,null,null,null,null,null,"H8000","GROSPROD","_Z","PBIOLSFNIR","_Z","_Z","_Z","_Z","ENERGY","_Z","KTOE",null,"nrg_ind_urhcd","TIMESERIES","R5295SP","GHP_RED","_Z","KTOE","Agg.=SUM(countries)"]
["- blended bioliquids, compliant, only bio- part",null,null,null,null,null,null,null,null,null,null,null,null,null,null,null,null,null,null,null,null,null,null,null,null,null,null,null,0,0,0,0,0,0,0,0,0,0,0,0,0,0,0,0,0,0,0,0,0,0,0,0,0,0,0,0,0,0,0,0,0,0,0,0,0,0,0,0,null,null,null,null,null,null,null,null,null,null,null,null,null,null,null,null,null,null,null,null,null,null,null,null,null,null,null,null,null,null,null,null,null,null,null,null,null,null,null,null,null,null,null,null,null,null,null,null,null,null,null,null,null,null,null,"H8000","GROSPROD","_Z","BLBIOLS","_Z","_Z","_Z","_Z","ENERGY","_Z","KTOE",null,"nrg_ind_urhcd","TIMESERIES","R5292SB","GHP_RED","_Z","KTOE","Agg.=SUM(countries)"]
[null,null,"- of which NOT from food and feed crops",null,null,null,null,null,null,null,null,null,null,null,null,null,null,null,null,null,null,null,null,null,null,null,null,null,0,0,0,0,0,0,0,0,0,0,0,0,0,0,0,0,0,0,0,0,0,0,0,0,0,0,0,0,0,0,0,0,0,0,0,0,0,0,0,0,null,null,null,null,null,null,null,null,null,null,null,null,null,null,null,null,null,null,null,null,null,null,null,null,null,null,null,null,null,null,null,null,null,null,null,null,null,null,null,null,null,null,null,null,null,null,null,null,null,null,null,null,null,null,null,"H8000","GROSPROD","_Z","BLBIOLSNF","_Z","_Z","_Z","_Z","ENERGY","_Z","KTOE",null,"nrg_ind_urhcd","TIMESERIES","R5293SB","GHP_RED","_Z","KTOE","Agg.=SUM(countries)"]
[null,null,"- of which from food and feed crops",null,null,null,null,null,null,null,null,null,null,null,null,null,null,null,null,null,null,null,null,null,null,null,null,null,{"$f":"AC71-AC72","v":0},{"$f":"AD71-AD72","v":0},{"$f":"AE71-AE72","v":0},{"$f":"AF71-AF72","v":0},{"$f":"AG71-AG72","v":0},{"$f":"AH71-AH72","v":0},{"$f":"AI71-AI72","v":0},{"$f":"AJ71-AJ72","v":0},{"$f":"AK71-AK72","v":0},{"$f":"AL71-AL72","v":0},{"$f":"AM71-AM72","v":0},{"$f":"AN71-AN72","v":0},{"$f":"AO71-AO72","v":0},{"$f":"AP71-AP72","v":0},{"$f":"AQ71-AQ72","v":0},{"$f":"AR71-AR72","v":0},{"$f":"AS71-AS72","v":0},{"$f":"AT71-AT72","v":0},{"$f":"AU71-AU72","v":0},{"$f":"AV71-AV72","v":0},{"$f":"AW71-AW72","v":0},{"$f":"AX71-AX72","v":0},{"$f":"AY71-AY72","v":0},{"$f":"AZ71-AZ72","v":0},{"$f":"BA71-BA72","v":0},{"$f":"BB71-BB72","v":0},{"$f":"BC71-BC72","v":0},{"$f":"BD71-BD72","v":0},{"$f":"BE71-BE72","v":0},{"$f":"BF71-BF72","v":0},{"$f":"BG71-BG72","v":0},{"$f":"BH71-BH72","v":0},{"$f":"BI71-BI72","v":0},{"$f":"BJ71-BJ72","v":0},{"$f":"BK71-BK72","v":0},{"$f":"BL71-BL72","v":0},{"$f":"BM71-BM72","v":0},{"$f":"BN71-BN72","v":0},{"$f":"BO71-BO72","v":0},{"$f":"BP71-BP72","v":0},null,null,null,null,null,null,null,null,null,null,null,null,null,null,null,null,null,null,null,null,null,null,null,null,null,null,null,null,null,null,null,null,null,null,null,null,null,null,null,null,null,null,null,null,null,null,null,null,null,null,null,null,null,null,null,"H8000","GROSPROD","_Z","BLBIOLSF","_Z","_Z","_Z","_Z","ENERGY","_Z","KTOE",null,"nrg_ind_urhcd","TIMESERIES","R5294SB","GHP_RED","_Z","KTOE","Agg.=SUM(countries)"]
[null,null,null,"- of which from NON high-ILUC risk",null,null,null,null,null,null,null,null,null,null,null,null,null,null,null,null,null,null,null,null,null,null,null,null,0,0,0,0,0,0,0,0,0,0,0,0,0,0,0,0,0,0,0,0,0,0,0,0,0,0,0,0,0,0,0,0,0,0,0,0,0,0,0,0,null,null,null,null,null,null,null,null,null,null,null,null,null,null,null,null,null,null,null,null,null,null,null,null,null,null,null,null,null,null,null,null,null,null,null,null,null,null,null,null,null,null,null,null,null,null,null,null,null,null,null,null,null,null,null,"H8000","GROSPROD","_Z","BLBIOLSFNIR","_Z","_Z","_Z","_Z","ENERGY","_Z","KTOE",null,"nrg_ind_urhcd","TIMESERIES","R5295SB","GHP_RED","_Z","KTOE","Agg.=SUM(countries)"]
["- From hydrogen of renewable origin",null,null,null,null,null,null,null,null,null,null,null,null,null,null,null,null,null,null,null,null,null,null,null,null,null,null,null,0,0,0,0,0,0,0,0,0,0,0,0,0,0,0,0,0,0,0,0,0,0,0,0,0,0,0,0,0,0,0,0,0,0,0,0,0,0,0,0,null,null,null,null,null,null,null,null,null,null,null,null,null,null,null,null,null,null,null,null,null,null,null,null,null,null,null,null,null,null,null,null,null,null,null,null,null,null,null,null,null,null,null,null,null,null,null,null,null,null,null,null,null,null,null,"H8000","GROSPROD","_Z","RHYD","_Z","_Z","_Z","_Z","ENERGY","_Z","KTOE",null,"nrg_ind_urhcd","TIMESERIES","RHYD","GHP_RED","_Z","KTOE","Agg.=SUM(countries)"]
["- From RFNBOs",null,null,null,null,null,null,null,null,null,null,null,null,null,null,null,null,null,null,null,null,null,null,null,null,null,null,null,0,0,0,0,0,0,0,0,0,0,0,0,0,0,0,0,0,0,0,0,0,0,0,0,0,0,0,0,0,0,0,0,0,0,0,0,0,0,0,0,null,null,null,null,null,null,null,null,null,null,null,null,null,null,null,null,null,null,null,null,null,null,null,null,null,null,null,null,null,null,null,null,null,null,null,null,null,null,null,null,null,null,null,null,null,null,null,null,null,null,null,null,null,null,null,"H8000","GROSPROD","_Z","RSYNF","_Z","_Z","_Z","_Z","ENERGY","_Z","KTOE",null,"nrg_ind_urhcd","TIMESERIES","RSYNF","GHP_RED","_Z","KTOE","Agg.=SUM(countries)"]
[]
["Heat pumps for heating [ktoe]",null,null,null,null,null,null,null,null,null,null,null,null,null,null,null,null,null,null,null,null,{"$f":"'HEAT PUMPS'!V6*3.6/41.868","v":0},{"$f":"'HEAT PUMPS'!W6*3.6/41.868","v":0},{"$f":"'HEAT PUMPS'!X6*3.6/41.868","v":0},{"$f":"'HEAT PUMPS'!Y6*3.6/41.868","v":0},{"$f":"'HEAT PUMPS'!Z6*3.6/41.868","v":0},{"$f":"'HEAT PUMPS'!AA6*3.6/41.868","v":0},{"$f":"'HEAT PUMPS'!AB6*3.6/41.868","v":0},{"$f":"'HEAT PUMPS'!AC6*3.6/41.868","v":0},{"$f":"'HEAT PUMPS'!AD6*3.6/41.868","v":0},{"$f":"'HEAT PUMPS'!AE6*3.6/41.868","v":0},{"$f":"'HEAT PUMPS'!AF6*3.6/41.868","v":0},{"$f":"'HEAT PUMPS'!AG6*3.6/41.868","v":0},{"$f":"'HEAT PUMPS'!AH6*3.6/41.868","v":0},{"$f":"'HEAT PUMPS'!AI6*3.6/41.868","v":0},{"$f":"'HEAT PUMPS'!AJ6*3.6/41.868","v":0},{"$f":"'HEAT PUMPS'!AK6*3.6/41.868","v":0},{"$f":"'HEAT PUMPS'!AL6*3.6/41.868","v":0},{"$f":"'HEAT PUMPS'!AM6*3.6/41.868","v":0},{"$f":"'HEAT PUMPS'!AN6*3.6/41.868","v":0},{"$f":"'HEAT PUMPS'!AO6*3.6/41.868","v":0},{"$f":"'HEAT PUMPS'!AP6*3.6/41.868","v":0},{"$f":"'HEAT PUMPS'!AQ6*3.6/41.868","v":0},{"$f":"'HEAT PUMPS'!AR6*3.6/41.868","v":0},{"$f":"'HEAT PUMPS'!AS6*3.6/41.868","v":0},{"$f":"'HEAT PUMPS'!AT6*3.6/41.868","v":0},{"$f":"'HEAT PUMPS'!AU6*3.6/41.868","v":0},{"$f":"'HEAT PUMPS'!AV6*3.6/41.868","v":0},{"$f":"'HEAT PUMPS'!AW6*3.6/41.868","v":0},{"$f":"'HEAT PUMPS'!AX6*3.6/41.868","v":0},{"$f":"'HEAT PUMPS'!AY6*3.6/41.868","v":0},{"$f":"'HEAT PUMPS'!AZ6*3.6/41.868","v":0},{"$f":"'HEAT PUMPS'!BA6*3.6/41.868","v":0},{"$f":"'HEAT PUMPS'!BB6*3.6/41.868","v":0},{"$f":"'HEAT PUMPS'!BC6*3.6/41.868","v":0},{"$f":"'HEAT PUMPS'!BD6*3.6/41.868","v":0},{"$f":"'HEAT PUMPS'!BE6*3.6/41.868","v":0},{"$f":"'HEAT PUMPS'!BF6*3.6/41.868","v":0},{"$f":"'HEAT PUMPS'!BG6*3.6/41.868","v":0},{"$f":"'HEAT PUMPS'!BH6*3.6/41.868","v":0},{"$f":"'HEAT PUMPS'!BI6*3.6/41.868","v":0},{"$f":"'HEAT PUMPS'!BJ6*3.6/41.868","v":0},{"$f":"'HEAT PUMPS'!BK6*3.6/41.868","v":0},{"$f":"'HEAT PUMPS'!BL6*3.6/41.868","v":0},{"$f":"'HEAT PUMPS'!BM6*3.6/41.868","v":0},{"$f":"'HEAT PUMPS'!BN6*3.6/41.868","v":0},{"$f":"'HEAT PUMPS'!BO6*3.6/41.868","v":0},{"$f":"'HEAT PUMPS'!BP6*3.6/41.868","v":0},null,null,null,null,null,null,null,null,null,null,null,null,null,null,null,null,null,null,null,null,null,null,null,null,null,null,null,null,null,null,null,null,null,null,null,null,null,null,null,null,null,null,null,null,null,null,null,null,null,null,null,null,null,null,null,"RA600","PRODUCT","PPRD_RED","_Z","_Z","_Z","_Z","_Z","ENERGY","_Z","KTOE",null,"nrg_ind_urhcd","TIMESERIES","RA600","PPRD_RED","_Z","KTOE","Agg.=SUM(countries)"]
[null,"Of which from aerothermal and hydrothermal heat pumps (excluding geothermal HP) [ktoe]",null,null,null,null,null,null,null,null,null,null,null,null,null,null,null,null,null,null,null,{"$f":"('HEAT PUMPS'!V6-'HEAT PUMPS'!V7)*3.6/41.868","v":0},{"$f":"('HEAT PUMPS'!W6-'HEAT PUMPS'!W7)*3.6/41.868","v":0},{"$f":"('HEAT PUMPS'!X6-'HEAT PUMPS'!X7)*3.6/41.868","v":0},{"$f":"('HEAT PUMPS'!Y6-'HEAT PUMPS'!Y7)*3.6/41.868","v":0},{"$f":"('HEAT PUMPS'!Z6-'HEAT PUMPS'!Z7)*3.6/41.868","v":0},{"$f":"('HEAT PUMPS'!AA6-'HEAT PUMPS'!AA7)*3.6/41.868","v":0},{"$f":"('HEAT PUMPS'!AB6-'HEAT PUMPS'!AB7)*3.6/41.868","v":0},{"$f":"('HEAT PUMPS'!AC6-'HEAT PUMPS'!AC7)*3.6/41.868","v":0},{"$f":"('HEAT PUMPS'!AD6-'HEAT PUMPS'!AD7)*3.6/41.868","v":0},{"$f":"('HEAT PUMPS'!AE6-'HEAT PUMPS'!AE7)*3.6/41.868","v":0},{"$f":"('HEAT PUMPS'!AF6-'HEAT PUMPS'!AF7)*3.6/41.868","v":0},{"$f":"('HEAT PUMPS'!AG6-'HEAT PUMPS'!AG7)*3.6/41.868","v":0},{"$f":"('HEAT PUMPS'!AH6-'HEAT PUMPS'!AH7)*3.6/41.868","v":0},{"$f":"('HEAT PUMPS'!AI6-'HEAT PUMPS'!AI7)*3.6/41.868","v":0},{"$f":"('HEAT PUMPS'!AJ6-'HEAT PUMPS'!AJ7)*3.6/41.868","v":0},{"$f":"('HEAT PUMPS'!AK6-'HEAT PUMPS'!AK7)*3.6/41.868","v":0},{"$f":"('HEAT PUMPS'!AL6-'HEAT PUMPS'!AL7)*3.6/41.868","v":0},{"$f":"('HEAT PUMPS'!AM6-'HEAT PUMPS'!AM7)*3.6/41.868","v":0},{"$f":"('HEAT PUMPS'!AN6-'HEAT PUMPS'!AN7)*3.6/41.868","v":0},{"$f":"('HEAT PUMPS'!AO6-'HEAT PUMPS'!AO7)*3.6/41.868","v":0},{"$f":"('HEAT PUMPS'!AP6-'HEAT PUMPS'!AP7)*3.6/41.868","v":0},{"$f":"('HEAT PUMPS'!AQ6-'HEAT PUMPS'!AQ7)*3.6/41.868","v":0},{"$f":"('HEAT PUMPS'!AR6-'HEAT PUMPS'!AR7)*3.6/41.868","v":0},{"$f":"('HEAT PUMPS'!AS6-'HEAT PUMPS'!AS7)*3.6/41.868","v":0},{"$f":"('HEAT PUMPS'!AT6-'HEAT PUMPS'!AT7)*3.6/41.868","v":0},{"$f":"('HEAT PUMPS'!AU6-'HEAT PUMPS'!AU7)*3.6/41.868","v":0},{"$f":"('HEAT PUMPS'!AV6-'HEAT PUMPS'!AV7)*3.6/41.868","v":0},{"$f":"('HEAT PUMPS'!AW6-'HEAT PUMPS'!AW7)*3.6/41.868","v":0},{"$f":"('HEAT PUMPS'!AX6-'HEAT PUMPS'!AX7)*3.6/41.868","v":0},{"$f":"('HEAT PUMPS'!AY6-'HEAT PUMPS'!AY7)*3.6/41.868","v":0},{"$f":"('HEAT PUMPS'!AZ6-'HEAT PUMPS'!AZ7)*3.6/41.868","v":0},{"$f":"('HEAT PUMPS'!BA6-'HEAT PUMPS'!BA7)*3.6/41.868","v":0},{"$f":"('HEAT PUMPS'!BB6-'HEAT PUMPS'!BB7)*3.6/41.868","v":0},{"$f":"('HEAT PUMPS'!BC6-'HEAT PUMPS'!BC7)*3.6/41.868","v":0},{"$f":"('HEAT PUMPS'!BD6-'HEAT PUMPS'!BD7)*3.6/41.868","v":0},{"$f":"('HEAT PUMPS'!BE6-'HEAT PUMPS'!BE7)*3.6/41.868","v":0},{"$f":"('HEAT PUMPS'!BF6-'HEAT PUMPS'!BF7)*3.6/41.868","v":0},{"$f":"('HEAT PUMPS'!BG6-'HEAT PUMPS'!BG7)*3.6/41.868","v":0},{"$f":"('HEAT PUMPS'!BH6-'HEAT PUMPS'!BH7)*3.6/41.868","v":0},{"$f":"('HEAT PUMPS'!BI6-'HEAT PUMPS'!BI7)*3.6/41.868","v":0},{"$f":"('HEAT PUMPS'!BJ6-'HEAT PUMPS'!BJ7)*3.6/41.868","v":0},{"$f":"('HEAT PUMPS'!BK6-'HEAT PUMPS'!BK7)*3.6/41.868","v":0},{"$f":"('HEAT PUMPS'!BL6-'HEAT PUMPS'!BL7)*3.6/41.868","v":0},{"$f":"('HEAT PUMPS'!BM6-'HEAT PUMPS'!BM7)*3.6/41.868","v":0},{"$f":"('HEAT PUMPS'!BN6-'HEAT PUMPS'!BN7)*3.6/41.868","v":0},{"$f":"('HEAT PUMPS'!BO6-'HEAT PUMPS'!BO7)*3.6/41.868","v":0},{"$f":"('HEAT PUMPS'!BP6-'HEAT PUMPS'!BP7)*3.6/41.868","v":0},null,null,null,null,null,null,null,null,null,null,null,null,null,null,null,null,null,null,null,null,null,null,null,null,null,null,null,null,null,null,null,null,null,null,null,null,null,null,null,null,null,null,null,null,null,null,null,null,null,null,null,null,null,null,null,"RA620","PRODUCT","PPRD_RED","_Z","_Z","_Z","_Z","_Z","ENERGY","_Z","KTOE",null,"nrg_ind_urhcd","TIMESERIES","RA620","PPRD_RED","_Z","KTOE","Agg.=SUM(countries)"]
[null,"Of which from geothermal energy using heat pumps [ktoe]",null,null,null,null,null,null,null,null,null,null,null,null,null,null,null,null,null,null,null,{"$f":"'HEAT PUMPS'!V7*3.6/41.868","v":0},{"$f":"'HEAT PUMPS'!W7*3.6/41.868","v":0},{"$f":"'HEAT PUMPS'!X7*3.6/41.868","v":0},{"$f":"'HEAT PUMPS'!Y7*3.6/41.868","v":0},{"$f":"'HEAT PUMPS'!Z7*3.6/41.868","v":0},{"$f":"'HEAT PUMPS'!AA7*3.6/41.868","v":0},{"$f":"'HEAT PUMPS'!AB7*3.6/41.868","v":0},{"$f":"'HEAT PUMPS'!AC7*3.6/41.868","v":0},{"$f":"'HEAT PUMPS'!AD7*3.6/41.868","v":0},{"$f":"'HEAT PUMPS'!AE7*3.6/41.868","v":0},{"$f":"'HEAT PUMPS'!AF7*3.6/41.868","v":0},{"$f":"'HEAT PUMPS'!AG7*3.6/41.868","v":0},{"$f":"'HEAT PUMPS'!AH7*3.6/41.868","v":0},{"$f":"'HEAT PUMPS'!AI7*3.6/41.868","v":0},{"$f":"'HEAT PUMPS'!AJ7*3.6/41.868","v":0},{"$f":"'HEAT PUMPS'!AK7*3.6/41.868","v":0},{"$f":"'HEAT PUMPS'!AL7*3.6/41.868","v":0},{"$f":"'HEAT PUMPS'!AM7*3.6/41.868","v":0},{"$f":"'HEAT PUMPS'!AN7*3.6/41.868","v":0},{"$f":"'HEAT PUMPS'!AO7*3.6/41.868","v":0},{"$f":"'HEAT PUMPS'!AP7*3.6/41.868","v":0},{"$f":"'HEAT PUMPS'!AQ7*3.6/41.868","v":0},{"$f":"'HEAT PUMPS'!AR7*3.6/41.868","v":0},{"$f":"'HEAT PUMPS'!AS7*3.6/41.868","v":0},{"$f":"'HEAT PUMPS'!AT7*3.6/41.868","v":0},{"$f":"'HEAT PUMPS'!AU7*3.6/41.868","v":0},{"$f":"'HEAT PUMPS'!AV7*3.6/41.868","v":0},{"$f":"'HEAT PUMPS'!AW7*3.6/41.868","v":0},{"$f":"'HEAT PUMPS'!AX7*3.6/41.868","v":0},{"$f":"'HEAT PUMPS'!AY7*3.6/41.868","v":0},{"$f":"'HEAT PUMPS'!AZ7*3.6/41.868","v":0},{"$f":"'HEAT PUMPS'!BA7*3.6/41.868","v":0},{"$f":"'HEAT PUMPS'!BB7*3.6/41.868","v":0},{"$f":"'HEAT PUMPS'!BC7*3.6/41.868","v":0},{"$f":"'HEAT PUMPS'!BD7*3.6/41.868","v":0},{"$f":"'HEAT PUMPS'!BE7*3.6/41.868","v":0},{"$f":"'HEAT PUMPS'!BF7*3.6/41.868","v":0},{"$f":"'HEAT PUMPS'!BG7*3.6/41.868","v":0},{"$f":"'HEAT PUMPS'!BH7*3.6/41.868","v":0},{"$f":"'HEAT PUMPS'!BI7*3.6/41.868","v":0},{"$f":"'HEAT PUMPS'!BJ7*3.6/41.868","v":0},{"$f":"'HEAT PUMPS'!BK7*3.6/41.868","v":0},{"$f":"'HEAT PUMPS'!BL7*3.6/41.868","v":0},{"$f":"'HEAT PUMPS'!BM7*3.6/41.868","v":0},{"$f":"'HEAT PUMPS'!BN7*3.6/41.868","v":0},{"$f":"'HEAT PUMPS'!BO7*3.6/41.868","v":0},{"$f":"'HEAT PUMPS'!BP7*3.6/41.868","v":0},null,null,null,null,null,null,null,null,null,null,null,null,null,null,null,null,null,null,null,null,null,null,null,null,null,null,null,null,null,null,null,null,null,null,null,null,null,null,null,null,null,null,null,null,null,null,null,null,null,null,null,null,null,null,null,"RA610","PRODUCT","PPRD_RED","_Z","_Z","_Z","_Z","_Z","ENERGY","_Z","KTOE",null,"nrg_ind_urhcd","TIMESERIES","RA610","PPRD_RED","_Z","KTOE","Agg.=SUM(countries)"]
["Renewable cooling [ktoe]",null,null,null,null,null,null,null,null,null,null,null,null,null,null,null,null,null,null,null,null,{"$f":"'RENEWABLE COOLING'!V6*3.6/41.868","v":0},{"$f":"'RENEWABLE COOLING'!W6*3.6/41.868","v":0},{"$f":"'RENEWABLE COOLING'!X6*3.6/41.868","v":0},{"$f":"'RENEWABLE COOLING'!Y6*3.6/41.868","v":0},{"$f":"'RENEWABLE COOLING'!Z6*3.6/41.868","v":0},{"$f":"'RENEWABLE COOLING'!AA6*3.6/41.868","v":0},{"$f":"'RENEWABLE COOLING'!AB6*3.6/41.868","v":0},{"$f":"'RENEWABLE COOLING'!AC6*3.6/41.868","v":0},{"$f":"'RENEWABLE COOLING'!AD6*3.6/41.868","v":0},{"$f":"'RENEWABLE COOLING'!AE6*3.6/41.868","v":0},{"$f":"'RENEWABLE COOLING'!AF6*3.6/41.868","v":0},{"$f":"'RENEWABLE COOLING'!AG6*3.6/41.868","v":0},{"$f":"'RENEWABLE COOLING'!AH6*3.6/41.868","v":0},{"$f":"'RENEWABLE COOLING'!AI6*3.6/41.868","v":0},{"$f":"'RENEWABLE COOLING'!AJ6*3.6/41.868","v":0},{"$f":"'RENEWABLE COOLING'!AK6*3.6/41.868","v":0},{"$f":"'RENEWABLE COOLING'!AL6*3.6/41.868","v":0},{"$f":"'RENEWABLE COOLING'!AM6*3.6/41.868","v":0},{"$f":"'RENEWABLE COOLING'!AN6*3.6/41.868","v":0},{"$f":"'RENEWABLE COOLING'!AO6*3.6/41.868","v":0},{"$f":"'RENEWABLE COOLING'!AP6*3.6/41.868","v":0},{"$f":"'RENEWABLE COOLING'!AQ6*3.6/41.868","v":0},{"$f":"'RENEWABLE COOLING'!AR6*3.6/41.868","v":0},{"$f":"'RENEWABLE COOLING'!AS6*3.6/41.868","v":0},{"$f":"'RENEWABLE COOLING'!AT6*3.6/41.868","v":0},{"$f":"'RENEWABLE COOLING'!AU6*3.6/41.868","v":0},{"$f":"'RENEWABLE COOLING'!AV6*3.6/41.868","v":0},{"$f":"'RENEWABLE COOLING'!AW6*3.6/41.868","v":0},{"$f":"'RENEWABLE COOLING'!AX6*3.6/41.868","v":0},{"$f":"'RENEWABLE COOLING'!AY6*3.6/41.868","v":0},{"$f":"'RENEWABLE COOLING'!AZ6*3.6/41.868","v":0},{"$f":"'RENEWABLE COOLING'!BA6*3.6/41.868","v":0},{"$f":"'RENEWABLE COOLING'!BB6*3.6/41.868","v":0},{"$f":"'RENEWABLE COOLING'!BC6*3.6/41.868","v":0},{"$f":"'RENEWABLE COOLING'!BD6*3.6/41.868","v":0},{"$f":"'RENEWABLE COOLING'!BE6*3.6/41.868","v":0},{"$f":"'RENEWABLE COOLING'!BF6*3.6/41.868","v":0},{"$f":"'RENEWABLE COOLING'!BG6*3.6/41.868","v":0},{"$f":"'RENEWABLE COOLING'!BH6*3.6/41.868","v":0},{"$f":"'RENEWABLE COOLING'!BI6*3.6/41.868","v":0},{"$f":"'RENEWABLE COOLING'!BJ6*3.6/41.868","v":0},{"$f":"'RENEWABLE COOLING'!BK6*3.6/41.868","v":0},{"$f":"'RENEWABLE COOLING'!BL6*3.6/41.868","v":0},{"$f":"'RENEWABLE COOLING'!BM6*3.6/41.868","v":0},{"$f":"'RENEWABLE COOLING'!BN6*3.6/41.868","v":0},{"$f":"'RENEWABLE COOLING'!BO6*3.6/41.868","v":0},{"$f":"'RENEWABLE COOLING'!BP6*3.6/41.868","v":0},null,null,null,null,null,null,null,null,null,null,null,null,null,null,null,null,null,null,null,null,null,null,null,null,null,null,null,null,null,null,null,null,null,null,null,null,null,null,null,null,null,null,null,null,null,null,null,null,null,null,null,null,null,null,null,"RA700","PRODUCT","PPRD_RED","_Z","_Z","_Z","_Z","_Z","ENERGY","_Z","KTOE",null,"nrg_ind_urhcd","TIMESERIES","RA700","PPRD_RED","_Z","KTOE","Agg.=SUM(countries)"]
["RES-H&C numerator",null,null,null,null,null,null,null,null,null,null,null,null,null,null,null,null,null,null,null,null,{"$f":"SUM(V39,V41,V43:V47,V49,V51,V56:V57,V58,V60,V62,V64,V65,V67,V78,V81)","v":0},{"$f":"SUM(W39,W41,W43:W47,W49,W51,W56:W57,W58,W60,W62,W64,W65,W67,W78,W81)","v":0},0,{"$f":"SUM(Y39,Y41,Y43:Y47,Y49,Y51,Y56:Y57,Y58,Y60,Y62,Y64,Y65,Y67,Y78,Y81)","v":0},0,0,0,{"$f":"SUM(AC39,AC41,AC43:AC47,AC49,AC51,AC56:AC57,AC58,AC60,AC62,AC64,AC65,AC67,AC71,AC78,AC81)","v":0},{"$f":"SUM(AD39,AD41,AD43:AD47,AD49,AD51,AD56:AD57,AD58,AD60,AD62,AD64,AD65,AD67,AD71,AD78,AD81)","v":0},0,0,0,0,0,0,0,{"$f":"SUM(AL39,AL41,AL43:AL47,AL49,AL51,AL56:AL57,AL58,AL60,AL62,AL64,AL65,AL67,AL71,AL78,AL81)","v":0},{"$f":"SUM(AM39,AM41,AM43:AM47,AM49,AM51,AM56:AM57,AM58,AM60,AM62,AM64,AM65,AM67,AM71,AM78,AM81)","v":0},{"$f":"SUM(AN39,AN41,AN43:AN47,AN49,AN51,AN56:AN57,AN58,AN60,AN62,AN64,AN65,AN67,AN71,AN78,AN81)","v":0},{"$f":"SUM(AO39,AO41,AO43:AO47,AO49,AO51,AO56:AO57,AO58,AO60,AO62,AO64,AO65,AO67,AO71,AO78,AO81)","v":0},{"$f":"SUM(AP39,AP41,AP43:AP47,AP49,AP51,AP56:AP57,AP58,AP60,AP62,AP64,AP65,AP67,AP71,AP78,AP81)","v":0},{"$f":"SUM(AQ39,AQ41,AQ43:AQ47,AQ49,AQ51,AQ56:AQ57,AQ58,AQ60,AQ62,AQ64,AQ65,AQ67,AQ71,AQ78,AQ81)","v":0},{"$f":"SUM(AR39,AR41,AR43:AR47,AR49,AR51,AR56:AR57,AR58,AR60,AR62,AR64,AR65,AR67,AR71,AR78,AR81)","v":0},{"$f":"SUM(AS39,AS41,AS43:AS47,AS49,AS51,AS56:AS57,AS58,AS60,AS62,AS64,AS65,AS67,AS71,AS78,AS81)","v":0},{"$f":"SUM(AT39,AT41,AT43:AT47,AT49,AT51,AT56:AT57,AT58,AT60,AT62,AT64,AT65,AT67,AT71,AT78,AT81)","v":0},{"$f":"SUM(AU39,AU41,AU43:AU47,AU49,AU51,AU56:AU57,AU58,AU60,AU62,AU64,AU65,AU67,AU71,AU78,AU81)","v":0},{"$f":"SUM(AV39,AV41,AV43:AV47,AV49,AV51,AV56:AV57,AV58,AV60,AV62,AV64,AV65,AV67,AV71,AV78,AV81)","v":0},{"$f":"SUM(AW39,AW41,AW43:AW47,AW49,AW51,AW56:AW57,AW58,AW60,AW62,AW64,AW65,AW67,AW71,AW78,AW81)","v":0},{"$f":"SUM(AX39,AX41,AX43:AX47,AX49,AX51,AX56:AX57,AX58,AX60,AX62,AX64,AX65,AX67,AX71,AX78,AX81)","v":0},{"$f":"SUM(AY39,AY41,AY43:AY47,AY49,AY51,AY56:AY57,AY58,AY60,AY62,AY64,AY65,AY67,AY71,AY78,AY81)","v":0},{"$f":"SUM(AZ39,AZ41,AZ43:AZ47,AZ49,AZ51,AZ56:AZ57,AZ58,AZ60,AZ62,AZ64,AZ65,AZ67,AZ71,AZ78,AZ81)","v":0},{"$f":"SUM(BA39,BA41,BA43:BA47,BA49,BA51,BA56:BA57,BA58,BA60,BA62,BA64,BA65,BA67,BA71,BA78,BA81)","v":0},{"$f":"SUM(BB39,BB41,BB43:BB47,BB49,BB51,BB56:BB57,BB58,BB60,BB62,BB64,BB65,BB67,BB71,BB78,BB81)","v":0},{"$f":"SUM(BC39,BC41,BC43:BC47,BC49,BC51,BC56:BC57,BC58,BC60,BC62,BC64,BC65,BC67,BC71,BC78,BC81)","v":0},{"$f":"SUM(BD39,BD41,BD43:BD47,BD49,BD51,BD56:BD57,BD58,BD60,BD62,BD64,BD65,BD67,BD71,BD78,BD81)","v":0},{"$f":"SUM(BE39,BE41,BE43:BE47,BE49,BE51,BE56:BE57,BE58,BE60,BE62,BE64,BE65,BE67,BE71,BE78,BE81)","v":0},{"$f":"SUM(BF39,BF41,BF43:BF47,BF49,BF51,BF56:BF57,BF58,BF60,BF62,BF64,BF65,BF67,BF71,BF78,BF81)","v":0},{"$f":"SUM(BG39,BG41,BG43:BG47,BG49,BG51,BG56:BG57,BG58,BG60,BG62,BG64,BG65,BG67,BG71,BG78,BG81)","v":0},{"$f":"SUM(BH39,BH41,BH43:BH47,BH49,BH51,BH56:BH57,BH58,BH60,BH62,BH64,BH65,BH67,BH71,BH78,BH81)","v":0},{"$f":"SUM(BI39,BI41,BI43:BI47,BI49,BI51,BI56:BI57,BI58,BI60,BI62,BI64,BI65,BI67,BI71,BI78,BI81)","v":0},{"$f":"SUM(BJ39,BJ41,BJ43:BJ47,BJ49,BJ51,BJ56:BJ57,BJ58,BJ60,BJ62,BJ64,BJ65,BJ67,BJ71,BJ78,BJ81)","v":0},{"$f":"SUM(BK39,BK41,BK43:BK47,BK49,BK51,BK56:BK57,BK58,BK60,BK62,BK64,BK65,BK67,BK71,BK78,BK81)","v":0},{"$f":"SUM(BL39,BL41,BL43:BL47,BL49,BL51,BL56:BL57,BL58,BL60,BL62,BL64,BL65,BL67,BL71,BL78,BL81)","v":0},{"$f":"SUM(BM39,BM41,BM43:BM47,BM49,BM51,BM56:BM57,BM58,BM60,BM62,BM64,BM65,BM67,BM71,BM78,BM81)","v":0},{"$f":"SUM(BN39,BN41,BN43:BN47,BN49,BN51,BN56:BN57,BN58,BN60,BN62,BN64,BN65,BN67,BN71,BN78,BN81)","v":0},{"$f":"SUM(BO39,BO41,BO43:BO47,BO49,BO51,BO56:BO57,BO58,BO60,BO62,BO64,BO65,BO67,BO71,BO78,BO81)","v":0},{"$f":"SUM(BP39,BP41,BP43:BP47,BP49,BP51,BP56:BP57,BP58,BP60,BP62,BP64,BP65,BP67,BP71,BP78,BP81)","v":0},null,null,null,null,null,null,null,null,null,null,null,null,null,null,null,null,null,null,null,null,null,null,null,null,null,null,null,null,null,null,null,null,null,null,null,null,null,null,null,null,null,null,null,null,null,null,null,null,null,null,null,null,null,null,null,"RA000","ENERGUSE","GFC_HEAT_CL_E","_Z","_Z","_Z","_Z","_Z","ENERGY","_Z","KTOE",null,"nrg_ind_urhcd and nrg_ind_cotd","TIMESERIES","RA000","GFC_HEAT_CL_E","_Z","KTOE","Agg.=SUM(countries)"]
["RES-H&C denominator",null,null,null,null,null,null,null,null,null,null,null,null,null,null,null,null,null,null,null,null,{"$f":"(V97+OIL!V5+GAS!V5+ELE!V6+V101)+V79+V80+V81","v":0},{"$f":"(W97+OIL!W5+GAS!W5+ELE!W6+W101)+W79+W80+W81","v":0},{"$f":"(X97+OIL!X5+GAS!X5+ELE!X6+X101)+X79+X80+X81","v":0},{"$f":"(Y97+OIL!Y5+GAS!Y5+ELE!Y6+Y101)+Y79+Y80+Y81","v":0},{"$f":"(Z97+OIL!Z5+GAS!Z5+ELE!Z6+Z101)+Z79+Z80+Z81","v":0},{"$f":"(AA97+OIL!AA5+GAS!AA5+ELE!AA6+AA101)+AA79+AA80+AA81","v":0},{"$f":"(AB97+OIL!AB5+GAS!AB5+ELE!AB6+AB101)+AB79+AB80+AB81","v":0},{"$f":"(AC97+OIL!AC5+GAS!AC5+ELE!AC6+AC101)+AC79+AC80+AC81","v":0},{"$f":"(AD97+OIL!AD5+GAS!AD5+ELE!AD6+AD101)+AD79+AD80+AD81","v":0},{"$f":"(AE97+OIL!AE5+GAS!AE5+ELE!AE6+AE101)+AE79+AE80+AE81","v":0},{"$f":"(AF97+OIL!AF5+GAS!AF5+ELE!AF6+AF101)+AF79+AF80+AF81","v":0},{"$f":"(AG97+OIL!AG5+GAS!AG5+ELE!AG6+AG101)+AG79+AG80+AG81","v":0},{"$f":"(AH97+OIL!AH5+GAS!AH5+ELE!AH6+AH101)+AH79+AH80+AH81","v":0},{"$f":"(AI97+OIL!AI5+GAS!AI5+ELE!AI6+AI101)+AI79+AI80+AI81","v":0},{"$f":"(AJ97+OIL!AJ5+GAS!AJ5+ELE!AJ6+AJ101)+AJ79+AJ80+AJ81","v":0},{"$f":"(AK97+OIL!AK5+GAS!AK5+ELE!AK6+AK101)+AK79+AK80+AK81","v":0},{"$f":"(AL97+OIL!AL5+GAS!AL5+ELE!AL6+AL101)+AL79+AL80+AL81","v":0},{"$f":"(AM97+OIL!AM5+GAS!AM5+ELE!AM6+AM101)+AM79+AM80+AM81","v":0},{"$f":"(AN97+OIL!AN5+GAS!AN5+ELE!AN6+AN101)+AN79+AN80+AN81","v":0},{"$f":"(AO97+OIL!AO5+GAS!AO5+ELE!AO6+AO101)+AO79+AO80+AO81","v":0},{"$f":"(AP97+OIL!AP5+GAS!AP5+ELE!AP6+AP101)+AP79+AP80+AP81","v":0},{"$f":"(AQ97+OIL!AQ5+GAS!AQ5+ELE!AQ6+AQ101)+AQ79+AQ80+AQ81","v":0},{"$f":"(AR97+OIL!AR5+GAS!AR5+ELE!AR6+AR101)+AR79+AR80+AR81","v":0},{"$f":"(AS97+OIL!AS5+GAS!AS5+ELE!AS6+AS101)+AS79+AS80+AS81","v":0},{"$f":"(AT97+OIL!AT5+GAS!AT5+ELE!AT6+AT101)+AT79+AT80+AT81","v":0},{"$f":"(AU97+OIL!AU5+GAS!AU5+ELE!AU6+AU101)+AU79+AU80+AU81","v":0},{"$f":"(AV97+OIL!AV5+GAS!AV5+ELE!AV6+AV101)+AV79+AV80+AV81","v":0},{"$f":"(AW97+OIL!AW5+GAS!AW5+ELE!AW6+AW101)+AW79+AW80+AW81","v":0},{"$f":"(AX97+OIL!AX5+GAS!AX5+ELE!AX6+AX101)+AX79+AX80+AX81","v":0},{"$f":"(AY97+OIL!AY5+GAS!AY5+ELE!AY6+AY101)+AY79+AY80+AY81","v":0},{"$f":"(AZ97+OIL!AZ5+GAS!AZ5+ELE!AZ6+AZ101)+AZ79+AZ80+AZ81","v":0},{"$f":"(BA97+OIL!BA5+GAS!BA5+ELE!BA6+BA101)+BA79+BA80+BA81","v":0},{"$f":"(BB97+OIL!BB5+GAS!BB5+ELE!BB6+BB101)+BB79+BB80+BB81","v":0},{"$f":"(BC97+OIL!BC5+GAS!BC5+ELE!BC6+BC101)+BC79+BC80+BC81","v":0},{"$f":"(BD97+OIL!BD5+GAS!BD5+ELE!BD6+BD101)+BD79+BD80+BD81","v":0},{"$f":"(BE97+OIL!BE5+GAS!BE5+ELE!BE6+BE101)+BE79+BE80+BE81","v":0},{"$f":"(BF97+OIL!BF5+GAS!BF5+ELE!BF6+BF101)+BF79+BF80+BF81","v":0},{"$f":"(BG97+OIL!BG5+GAS!BG5+ELE!BG6+BG101)+BG79+BG80+BG81","v":0},{"$f":"(BH97+OIL!BH5+GAS!BH5+ELE!BH6+BH101)+BH79+BH80+BH81","v":0},{"$f":"(BI97+OIL!BI5+GAS!BI5+ELE!BI6+BI101)+BI79+BI80+BI81","v":0},{"$f":"(BJ97+OIL!BJ5+GAS!BJ5+ELE!BJ6+BJ101)+BJ79+BJ80+BJ81","v":0},{"$f":"(BK97+OIL!BK5+GAS!BK5+ELE!BK6+BK101)+BK79+BK80+BK81","v":0},{"$f":"(BL97+OIL!BL5+GAS!BL5+ELE!BL6+BL101)+BL79+BL80+BL81","v":0},{"$f":"(BM97+OIL!BM5+GAS!BM5+ELE!BM6+BM101)+BM79+BM80+BM81","v":0},{"$f":"(BN97+OIL!BN5+GAS!BN5+ELE!BN6+BN101)+BN79+BN80+BN81","v":0},{"$f":"(BO97+OIL!BO5+GAS!BO5+ELE!BO6+BO101)+BO79+BO80+BO81","v":0},{"$f":"(BP97+OIL!BP5+GAS!BP5+ELE!BP6+BP101)+BP79+BP80+BP81","v":0},null,null,null,null,null,null,null,null,null,null,null,null,null,null,null,null,null,null,null,null,null,null,null,null,null,null,null,null,null,null,null,null,null,null,null,null,null,null,null,null,null,null,null,null,null,null,null,null,null,null,null,null,null,null,null,"_T","ENERGUSE","GFC_HEAT_CL_E","_Z","_Z","_Z","_Z","_Z","ENERGY","_Z","KTOE",null,"nrg_ind_urhcd","TIMESERIES","TOTAL","GFC_HEAT_CL_E","_Z","KTOE","Agg.=SUM(countries)"]
[null,"Of which waste heat and cold utilised through district heating/cooling networks [ktoe]",null,null,null,null,null,null,null,null,null,null,null,null,null,null,null,null,null,null,null,null,null,null,null,null,null,null,null,null,null,null,null,null,null,null,null,0,0,0,0,0,0,0,0,0,0,0,0,0,0,0,0,0,0,0,0,0,0,0,0,0,0,0,0,0,0,0,null,null,null,null,null,null,null,null,null,null,null,null,null,null,null,null,null,null,null,null,null,null,null,null,null,null,null,null,null,null,null,null,null,null,null,null,null,null,null,null,null,null,null,null,null,null,null,null,null,null,null,null,null,null,null,"H8200","GROSPROD","_Z","_Z","_Z","_Z","_Z","_Z","ENERGY","_Z","KTOE",null,"nrg_ind_urhcd","TIMESERIES","H8200","GHP_RED","_Z","KTOE","Agg.=SUM(countries)"]
["RES-H&C (%)",null,null,null,null,null,null,null,null,null,null,null,null,null,null,null,null,null,null,null,null,{"$f":"IF(V83>0,V82/V83,\"\")","v":""},"","","","","","","","","","","","","","","","","","","","","","","","","","","","","","","","","","","","","","","","","","","","","","",null,null,null,null,null,null,null,null,null,null,null,null,null,null,null,null,null,null,null,null,null,null,null,null,null,null,null,null,null,null,null,null,null,null,null,null,null,null,null,null,null,null,null,null,null,null,null,null,null,null,null,null,null,null,null,"_Z","REN_HEAT_CL  ","_Z","_Z","_Z","_Z","_Z","_Z","NUMBER","_Z","PC",null,"nrg_ind_ren","TIMESERIES","_Z","REN_HEAT_CL  ","_Z","PC","Agg.=100*[SUM(countries row 82) / SUM(countries row 83)]"]
[]
["Share of renewable energy in the heating and cooling sector in 2020 for baseline (%)",null,null,null,null,null,null,null,null,null,null,null,null,null,null,null,null,null,null,null,null,null,null,null,null,null,null,null,null,null,null,null,null,null,null,null,null,null,{"$f":"AM85","v":""},"In 2020",{"$f":"IF(AM85<>\"\",IF(AM85=AM87,\"NOT FILLED BY COUNTRY, 2021 VALUE TAKEN BY DEFAULT\",\"\"),\"\")","v":""}]
["Share of renewable energy in the heating and cooling sector with waste heat and cold in 2020 for baseline (%)",null,null,null,null,null,null,null,null,null,null,null,null,null,null,null,null,null,null,null,null,null,null,null,null,null,null,null,null,null,null,null,null,null,null,null,null,null,{"$f":"AM90","v":""},"In 2020",{"$f":"IF(AM90<>\"\",IF(AM90=AM88,\"NOT FILLED BY COUNTRY, 2021 VALUE TAKEN BY DEFAULT\",\"\"),\"\")","v":""}]
[]
["RES-H&C with waste heat and cold (%)",null,null,null,null,null,null,null,null,null,null,null,null,null,null,null,null,null,null,null,null,null,null,null,null,null,null,null,null,null,null,null,null,null,null,null,null,{"$f":"IF(AND(AL83>0,AL84>0),(AL82+AL84)/(AL83),\"\")","v":""},{"$f":"IF(AND(AM83>0,AM84>0),(AM82+AM84)/(AM83),\"\")","v":""},"","","","","","","","","","","","","","","","","","","","","","","","","","","","","",null,null,null,null,null,null,null,null,null,null,null,null,null,null,null,null,null,null,null,null,null,null,null,null,null,null,null,null,null,null,null,null,null,null,null,null,null,null,null,null,null,null,null,null,null,null,null,null,null,null,null,null,null,null,null,"_Z","REN_HEAT_CL_WHC  ","_Z","_Z","_Z","_Z","_Z","_Z","NUMBER","_Z","PC",null,"nrg_ind_ren","TIMESERIES","_Z","REN_HEAT_CL_WHC  ","_Z","PC","Agg.=100*[SUM(countries row 82+84) / SUM(countries row 83)]"]
[]
["Energy from renewable sources and from waste heat and cold used in district heating and district cooling [ktoe]",null,null,null,null,null,null,null,null,null,null,null,null,null,null,null,null,null,null,null,null,null,null,null,null,null,null,null,null,null,null,null,null,null,null,null,null,0,0,0,0,0,0,0,0,0,0,0,0,0,0,0,0,0,0,0,0,0,0,0,0,0,0,0,0,0,0,0,null,null,null,null,null,null,null,null,null,null,null,null,null,null,null,null,null,null,null,null,null,null,null,null,null,null,null,null,null,null,null,null,null,null,null,null,null,null,null,null,null,null,null,null,null,null,null,null,null,null,null,null,null,null,null,"RA000","ENERGUSE","GFC_DHEAT_DCL_E","_Z","_Z","_Z","_Z","_Z","ENERGY","_Z","KTOE",null,"nrg_ind_urhcd","TIMESERIES","RA000","GFC_DHEAT_DCL_E","_Z","KTOE","Agg.=SUM(countries)"]
["Energy from all sources used for district heating and district cooling [ktoe]",null,null,null,null,null,null,null,null,null,null,null,null,null,null,null,null,null,null,null,null,null,null,null,null,null,null,null,null,null,null,null,null,null,null,null,null,0,0,0,0,0,0,0,0,0,0,0,0,0,0,0,0,0,0,0,0,0,0,0,0,0,0,0,0,0,0,0,null,null,null,null,null,null,null,null,null,null,null,null,null,null,null,null,null,null,null,null,null,null,null,null,null,null,null,null,null,null,null,null,null,null,null,null,null,null,null,null,null,null,null,null,null,null,null,null,null,null,null,null,null,null,null,"_T","ENERGUSE","GFC_DHEAT_DCL_E","_Z","_Z","_Z","_Z","_Z","ENERGY","_Z","KTOE",null,"nrg_ind_urhcd","TIMESERIES","TOTAL","GFC_DHEAT_DCL_E","_Z","KTOE","Agg.=SUM(countries)"]
["Share of energy from renewable sources and from waste heat and cold in district heating and district cooling",null,null,null,null,null,null,null,null,null,null,null,null,null,null,null,null,null,null,null,null,null,null,null,null,null,null,null,null,null,null,null,null,null,null,null,null,{"$f":"IFERROR(AL92/AL93,\"\")","v":""},{"$f":"IFERROR(AM92/AM93,\"\")","v":""},"","","","","","","","","","","","","","","","","","","","","","","","","","","","","",null,null,null,null,null,null,null,null,null,null,null,null,null,null,null,null,null,null,null,null,null,null,null,null,null,null,null,null,null,null,null,null,null,null,null,null,null,null,null,null,null,null,null,null,null,null,null,null,null,null,null,null,null,null,null,"_Z","REN_WHC_DHEAT_DCL","_Z","_Z","_Z","_Z","_Z","_Z","NUMBER","_Z","PC",null,"nrg_ind_ren","TIMESERIES","_Z","REN_WHC_DHEAT_DCL","_Z","PC","Agg.=100*[SUM(countries row 92) / SUM(countries row 93)]"]
[]
["Gross Final Consumption of Energy excluding heat pumps and renewable cooling [ktoe]",null,null,null,null,null,null,null,null,null,null,null,null,null,null,null,null,null,null,null,null,{"$f":"SUM(V97:V101)","v":0},0,0,0,0,0,0,0,0,0,0,0,0,0,0,0,0,{"$f":"SUM(AM97:AM101)","v":0},0,0,0,0,0,0,0,0,0,0,0,{"$f":"SUM(AY97:AY101)","v":0},0,0,0,0,0,0,0,0,0,0,0,0,0,0,0,0,0]
[null,"COAL questionnaire",null,null,null,null,null,null,null,null,null,null,null,null,null,null,null,null,null,null,null,{"$f":"COAL!V4","v":0},{"$f":"COAL!W4","v":0},{"$f":"COAL!X4","v":0},{"$f":"COAL!Y4","v":0},{"$f":"COAL!Z4","v":0},{"$f":"COAL!AA4","v":0},{"$f":"COAL!AB4","v":0},{"$f":"COAL!AC4","v":0},{"$f":"COAL!AD4","v":0},{"$f":"COAL!AE4","v":0},{"$f":"COAL!AF4","v":0},{"$f":"COAL!AG4","v":0},{"$f":"COAL!AH4","v":0},{"$f":"COAL!AI4","v":0},{"$f":"COAL!AJ4","v":0},{"$f":"COAL!AK4","v":0},{"$f":"COAL!AL4","v":0},{"$f":"COAL!AM4","v":0},{"$f":"COAL!AN4","v":0},{"$f":"COAL!AO4","v":0},{"$f":"COAL!AP4","v":0},{"$f":"COAL!AQ4","v":0},{"$f":"COAL!AR4","v":0},{"$f":"COAL!AS4","v":0},{"$f":"COAL!AT4","v":0},{"$f":"COAL!AU4","v":0},{"$f":"COAL!AV4","v":0},{"$f":"COAL!AW4","v":0},{"$f":"COAL!AX4","v":0},{"$f":"COAL!AY4","v":0},{"$f":"COAL!AZ4","v":0},{"$f":"COAL!BA4","v":0},{"$f":"COAL!BB4","v":0},{"$f":"COAL!BC4","v":0},{"$f":"COAL!BD4","v":0},{"$f":"COAL!BE4","v":0},{"$f":"COAL!BF4","v":0},{"$f":"COAL!BG4","v":0},{"$f":"COAL!BH4","v":0},{"$f":"COAL!BI4","v":0},{"$f":"COAL!BJ4","v":0},{"$f":"COAL!BK4","v":0},{"$f":"COAL!BL4","v":0},{"$f":"COAL!BM4","v":0},{"$f":"COAL!BN4","v":0},{"$f":"COAL!BO4","v":0},{"$f":"COAL!BP4","v":0}]
[null,"OIL questionnaire",null,null,null,null,null,null,null,null,null,null,null,null,null,null,null,null,null,null,null,{"$f":"OIL!V4","v":0},{"$f":"OIL!W4","v":0},{"$f":"OIL!X4","v":0},{"$f":"OIL!Y4","v":0},{"$f":"OIL!Z4","v":0},{"$f":"OIL!AA4","v":0},{"$f":"OIL!AB4","v":0},{"$f":"OIL!AC4","v":0},{"$f":"OIL!AD4","v":0},{"$f":"OIL!AE4","v":0},{"$f":"OIL!AF4","v":0},{"$f":"OIL!AG4","v":0},{"$f":"OIL!AH4","v":0},{"$f":"OIL!AI4","v":0},{"$f":"OIL!AJ4","v":0},{"$f":"OIL!AK4","v":0},{"$f":"OIL!AL4","v":0},{"$f":"OIL!AM4","v":0},{"$f":"OIL!AN4","v":0},{"$f":"OIL!AO4","v":0},{"$f":"OIL!AP4","v":0},{"$f":"OIL!AQ4","v":0},{"$f":"OIL!AR4","v":0},{"$f":"OIL!AS4","v":0},{"$f":"OIL!AT4","v":0},{"$f":"OIL!AU4","v":0},{"$f":"OIL!AV4","v":0},{"$f":"OIL!AW4","v":0},{"$f":"OIL!AX4","v":0},{"$f":"OIL!AY4","v":0},{"$f":"OIL!AZ4","v":0},{"$f":"OIL!BA4","v":0},{"$f":"OIL!BB4","v":0},{"$f":"OIL!BC4","v":0},{"$f":"OIL!BD4","v":0},{"$f":"OIL!BE4","v":0},{"$f":"OIL!BF4","v":0},{"$f":"OIL!BG4","v":0},{"$f":"OIL!BH4","v":0},{"$f":"OIL!BI4","v":0},{"$f":"OIL!BJ4","v":0},{"$f":"OIL!BK4","v":0},{"$f":"OIL!BL4","v":0},{"$f":"OIL!BM4","v":0},{"$f":"OIL!BN4","v":0},{"$f":"OIL!BO4","v":0},{"$f":"OIL!BP4","v":0}]
[null,"NATURAL GAS questionnaire",null,null,null,null,null,null,null,null,null,null,null,null,null,null,null,null,null,null,null,{"$f":"GAS!V4","v":0},{"$f":"GAS!W4","v":0},{"$f":"GAS!X4","v":0},{"$f":"GAS!Y4","v":0},{"$f":"GAS!Z4","v":0},{"$f":"GAS!AA4","v":0},{"$f":"GAS!AB4","v":0},{"$f":"GAS!AC4","v":0},{"$f":"GAS!AD4","v":0},{"$f":"GAS!AE4","v":0},{"$f":"GAS!AF4","v":0},{"$f":"GAS!AG4","v":0},{"$f":"GAS!AH4","v":0},{"$f":"GAS!AI4","v":0},{"$f":"GAS!AJ4","v":0},{"$f":"GAS!AK4","v":0},{"$f":"GAS!AL4","v":0},{"$f":"GAS!AM4","v":0},{"$f":"GAS!AN4","v":0},{"$f":"GAS!AO4","v":0},{"$f":"GAS!AP4","v":0},{"$f":"GAS!AQ4","v":0},{"$f":"GAS!AR4","v":0},{"$f":"GAS!AS4","v":0},{"$f":"GAS!AT4","v":0},{"$f":"GAS!AU4","v":0},{"$f":"GAS!AV4","v":0},{"$f":"GAS!AW4","v":0},{"$f":"GAS!AX4","v":0},{"$f":"GAS!AY4","v":0},{"$f":"GAS!AZ4","v":0},{"$f":"GAS!BA4","v":0},{"$f":"GAS!BB4","v":0},{"$f":"GAS!BC4","v":0},{"$f":"GAS!BD4","v":0},{"$f":"GAS!BE4","v":0},{"$f":"GAS!BF4","v":0},{"$f":"GAS!BG4","v":0},{"$f":"GAS!BH4","v":0},{"$f":"GAS!BI4","v":0},{"$f":"GAS!BJ4","v":0},{"$f":"GAS!BK4","v":0},{"$f":"GAS!BL4","v":0},{"$f":"GAS!BM4","v":0},{"$f":"GAS!BN4","v":0},{"$f":"GAS!BO4","v":0},{"$f":"GAS!BP4","v":0}]
[null,"ELECTRICITY questionnaire",null,null,null,null,null,null,null,null,null,null,null,null,null,null,null,null,null,null,null,{"$f":"ELE!V4","v":0},{"$f":"ELE!W4","v":0},{"$f":"ELE!X4","v":0},{"$f":"ELE!Y4","v":0},{"$f":"ELE!Z4","v":0},{"$f":"ELE!AA4","v":0},{"$f":"ELE!AB4","v":0},{"$f":"ELE!AC4","v":0},{"$f":"ELE!AD4","v":0},{"$f":"ELE!AE4","v":0},{"$f":"ELE!AF4","v":0},{"$f":"ELE!AG4","v":0},{"$f":"ELE!AH4","v":0},{"$f":"ELE!AI4","v":0},{"$f":"ELE!AJ4","v":0},{"$f":"ELE!AK4","v":0},{"$f":"ELE!AL4","v":0},{"$f":"ELE!AM4","v":0},{"$f":"ELE!AN4","v":0},{"$f":"ELE!AO4","v":0},{"$f":"ELE!AP4","v":0},{"$f":"ELE!AQ4","v":0},{"$f":"ELE!AR4","v":0},{"$f":"ELE!AS4","v":0},{"$f":"ELE!AT4","v":0},{"$f":"ELE!AU4","v":0},{"$f":"ELE!AV4","v":0},{"$f":"ELE!AW4","v":0},{"$f":"ELE!AX4","v":0},{"$f":"ELE!AY4","v":0},{"$f":"ELE!AZ4","v":0},{"$f":"ELE!BA4","v":0},{"$f":"ELE!BB4","v":0},{"$f":"ELE!BC4","v":0},{"$f":"ELE!BD4","v":0},{"$f":"ELE!BE4","v":0},{"$f":"ELE!BF4","v":0},{"$f":"ELE!BG4","v":0},{"$f":"ELE!BH4","v":0},{"$f":"ELE!BI4","v":0},{"$f":"ELE!BJ4","v":0},{"$f":"ELE!BK4","v":0},{"$f":"ELE!BL4","v":0},{"$f":"ELE!BM4","v":0},{"$f":"ELE!BN4","v":0},{"$f":"ELE!BO4","v":0},{"$f":"ELE!BP4","v":0}]
[null,"RENEWABLES questionnaire",null,null,null,null,null,null,null,null,null,null,null,null,null,null,null,null,null,null,null,{"$f":"REN!V4","v":0},{"$f":"REN!W4","v":0},{"$f":"REN!X4","v":0},{"$f":"REN!Y4","v":0},{"$f":"REN!Z4","v":0},{"$f":"REN!AA4","v":0},{"$f":"REN!AB4","v":0},{"$f":"REN!AC4","v":0},{"$f":"REN!AD4","v":0},{"$f":"REN!AE4","v":0},{"$f":"REN!AF4","v":0},{"$f":"REN!AG4","v":0},{"$f":"REN!AH4","v":0},{"$f":"REN!AI4","v":0},{"$f":"REN!AJ4","v":0},{"$f":"REN!AK4","v":0},{"$f":"REN!AL4","v":0},{"$f":"REN!AM4","v":0},{"$f":"REN!AN4","v":0},{"$f":"REN!AO4","v":0},{"$f":"REN!AP4","v":0},{"$f":"REN!AQ4","v":0},{"$f":"REN!AR4","v":0},{"$f":"REN!AS4","v":0},{"$f":"REN!AT4","v":0},{"$f":"REN!AU4","v":0},{"$f":"REN!AV4","v":0},{"$f":"REN!AW4","v":0},{"$f":"REN!AX4","v":0},{"$f":"REN!AY4","v":0},{"$f":"REN!AZ4","v":0},{"$f":"REN!BA4","v":0},{"$f":"REN!BB4","v":0},{"$f":"REN!BC4","v":0},{"$f":"REN!BD4","v":0},{"$f":"REN!BE4","v":0},{"$f":"REN!BF4","v":0},{"$f":"REN!BG4","v":0},{"$f":"REN!BH4","v":0},{"$f":"REN!BI4","v":0},{"$f":"REN!BJ4","v":0},{"$f":"REN!BK4","v":0},{"$f":"REN!BL4","v":0},{"$f":"REN!BM4","v":0},{"$f":"REN!BN4","v":0},{"$f":"REN!BO4","v":0},{"$f":"REN!BP4","v":0}]
[null,"Notes for calculation of Gross Final Consumption of Energy:"]
[null,"- all transport fuels from the renewables questionnaire are included together with the oil questionnaire, Annex III calorific values are taken into account"]
[null,"- renewable electricity/heat is included together with the electricity questionnaire"]
[]
["Article 7: Gross final consumption of energy from renewable sources [ktoe]"]
[null,"(a) electricity",null,null,null,null,null,null,null,null,null,null,null,null,null,null,null,null,null,null,null,{"$f":"(V6*3.6/41.868)-(TRANSPORT!V99+TRANSPORT!V104+TRANSPORT!V107)","v":0},{"$f":"(W6*3.6/41.868)-(TRANSPORT!W99+TRANSPORT!W104+TRANSPORT!W107)","v":0},{"$f":"(X6*3.6/41.868)-(TRANSPORT!X99+TRANSPORT!X104+TRANSPORT!X107)","v":0},{"$f":"(Y6*3.6/41.868)-(TRANSPORT!Y99+TRANSPORT!Y104+TRANSPORT!Y107)","v":0},{"$f":"(Z6*3.6/41.868)-(TRANSPORT!Z99+TRANSPORT!Z104+TRANSPORT!Z107)","v":0},{"$f":"(AA6*3.6/41.868)-(TRANSPORT!AA99+TRANSPORT!AA104+TRANSPORT!AA107)","v":0},{"$f":"(AB6*3.6/41.868)-(TRANSPORT!AB99+TRANSPORT!AB104+TRANSPORT!AB107)","v":0},{"$f":"(AC6*3.6/41.868)-(TRANSPORT!AC99+TRANSPORT!AC104+TRANSPORT!AC107)","v":0},{"$f":"(AD6*3.6/41.868)-(TRANSPORT!AD99+TRANSPORT!AD104+TRANSPORT!AD107)","v":0},{"$f":"(AE6*3.6/41.868)-(TRANSPORT!AE99+TRANSPORT!AE104+TRANSPORT!AE107)","v":0},{"$f":"(AF6*3.6/41.868)-(TRANSPORT!AF99+TRANSPORT!AF104+TRANSPORT!AF107)","v":0},{"$f":"(AG6*3.6/41.868)-(TRANSPORT!AG99+TRANSPORT!AG104+TRANSPORT!AG107)","v":0},{"$f":"(AH6*3.6/41.868)-(TRANSPORT!AH99+TRANSPORT!AH104+TRANSPORT!AH107)","v":0},{"$f":"(AI6*3.6/41.868)-(TRANSPORT!AI99+TRANSPORT!AI104+TRANSPORT!AI107)","v":0},{"$f":"(AJ6*3.6/41.868)-(TRANSPORT!AJ99+TRANSPORT!AJ104+TRANSPORT!AJ107)","v":0},{"$f":"(AK6*3.6/41.868)-(TRANSPORT!AK99+TRANSPORT!AK104+TRANSPORT!AK107)","v":0},{"$f":"(AL6*3.6/41.868)-(TRANSPORT!AL99+TRANSPORT!AL104+TRANSPORT!AL107)","v":0},{"$f":"(AM6*3.6/41.868)-(TRANSPORT!AM99+TRANSPORT!AM104+TRANSPORT!AM107)","v":0},{"$f":"(AN6*3.6/41.868)-(TRANSPORT!AN99+TRANSPORT!AN104+TRANSPORT!AN107)","v":0},{"$f":"(AO6*3.6/41.868)-(TRANSPORT!AO99+TRANSPORT!AO104+TRANSPORT!AO107)","v":0},{"$f":"(AP6*3.6/41.868)-(TRANSPORT!AP99+TRANSPORT!AP104+TRANSPORT!AP107)","v":0},{"$f":"(AQ6*3.6/41.868)-(TRANSPORT!AQ99+TRANSPORT!AQ104+TRANSPORT!AQ107)","v":0},{"$f":"(AR6*3.6/41.868)-(TRANSPORT!AR99+TRANSPORT!AR104+TRANSPORT!AR107)","v":0},{"$f":"(AS6*3.6/41.868)-(TRANSPORT!AS99+TRANSPORT!AS104+TRANSPORT!AS107)","v":0},{"$f":"(AT6*3.6/41.868)-(TRANSPORT!AT99+TRANSPORT!AT104+TRANSPORT!AT107)","v":0},{"$f":"(AU6*3.6/41.868)-(TRANSPORT!AU99+TRANSPORT!AU104+TRANSPORT!AU107)","v":0},{"$f":"(AV6*3.6/41.868)-(TRANSPORT!AV99+TRANSPORT!AV104+TRANSPORT!AV107)","v":0},{"$f":"(AW6*3.6/41.868)-(TRANSPORT!AW99+TRANSPORT!AW104+TRANSPORT!AW107)","v":0},{"$f":"(AX6*3.6/41.868)-(TRANSPORT!AX99+TRANSPORT!AX104+TRANSPORT!AX107)","v":0},{"$f":"(AY6*3.6/41.868)-(TRANSPORT!AY99+TRANSPORT!AY104+TRANSPORT!AY107)","v":0},{"$f":"(AZ6*3.6/41.868)-(TRANSPORT!AZ99+TRANSPORT!AZ104+TRANSPORT!AZ107)","v":0},{"$f":"(BA6*3.6/41.868)-(TRANSPORT!BA99+TRANSPORT!BA104+TRANSPORT!BA107)","v":0},{"$f":"(BB6*3.6/41.868)-(TRANSPORT!BB99+TRANSPORT!BB104+TRANSPORT!BB107)","v":0},{"$f":"(BC6*3.6/41.868)-(TRANSPORT!BC99+TRANSPORT!BC104+TRANSPORT!BC107)","v":0},{"$f":"(BD6*3.6/41.868)-(TRANSPORT!BD99+TRANSPORT!BD104+TRANSPORT!BD107)","v":0},{"$f":"(BE6*3.6/41.868)-(TRANSPORT!BE99+TRANSPORT!BE104+TRANSPORT!BE107)","v":0},{"$f":"(BF6*3.6/41.868)-(TRANSPORT!BF99+TRANSPORT!BF104+TRANSPORT!BF107)","v":0},{"$f":"(BG6*3.6/41.868)-(TRANSPORT!BG99+TRANSPORT!BG104+TRANSPORT!BG107)","v":0},{"$f":"(BH6*3.6/41.868)-(TRANSPORT!BH99+TRANSPORT!BH104+TRANSPORT!BH107)","v":0},{"$f":"(BI6*3.6/41.868)-(TRANSPORT!BI99+TRANSPORT!BI104+TRANSPORT!BI107)","v":0},{"$f":"(BJ6*3.6/41.868)-(TRANSPORT!BJ99+TRANSPORT!BJ104+TRANSPORT!BJ107)","v":0},{"$f":"(BK6*3.6/41.868)-(TRANSPORT!BK99+TRANSPORT!BK104+TRANSPORT!BK107)","v":0},{"$f":"(BL6*3.6/41.868)-(TRANSPORT!BL99+TRANSPORT!BL104+TRANSPORT!BL107)","v":0},{"$f":"(BM6*3.6/41.868)-(TRANSPORT!BM99+TRANSPORT!BM104+TRANSPORT!BM107)","v":0},{"$f":"(BN6*3.6/41.868)-(TRANSPORT!BN99+TRANSPORT!BN104+TRANSPORT!BN107)","v":0},{"$f":"(BO6*3.6/41.868)-(TRANSPORT!BO99+TRANSPORT!BO104+TRANSPORT!BO107)","v":0},{"$f":"(BP6*3.6/41.868)-(TRANSPORT!BP99+TRANSPORT!BP104+TRANSPORT!BP107)","v":0},null,null,null,null,null,null,null,null,null,null,null,null,null,null,null,null,null,null,null,null,null,null,null,null,null,null,null,null,null,null,null,null,null,null,null,null,null,null,null,null,null,null,null,null,null,null,null,null,null,null,null,null,null,null,null,"RA000","ENERGUSE","GFC_ELC_OT","_Z","_Z","_Z","_Z","_Z","ENERGY","_Z","KTOE",null,"nrg_ind_cotd",null,"RA000","GFC_ELC_OT",null,"KTOE","Agg.=SUM(countries)"]
[null,"(b) heating and cooling",null,null,null,null,null,null,null,null,null,null,null,null,null,null,null,null,null,null,null,{"$f":"V82","v":0},0,0,0,0,0,0,0,0,0,0,0,0,0,0,0,0,0,0,0,0,0,0,0,0,0,0,0,0,0,0,0,0,0,0,0,0,0,0,0,0,0,0,0,0,0,0]
[null,"(c) transport",null,null,null,null,null,null,null,null,null,null,null,null,null,null,null,null,null,null,null,{"$f":"TRANSPORT!V112-3.6/41.868*('OVERALL TARGET'!V16-'OVERALL TARGET'!V20)-'OVERALL TARGET'!V53-'OVERALL TARGET'!V69-'OVERALL TARGET'!V73","v":0},{"$f":"TRANSPORT!W112-3.6/41.868*('OVERALL TARGET'!W16-'OVERALL TARGET'!W20)-'OVERALL TARGET'!W53-'OVERALL TARGET'!W69-'OVERALL TARGET'!W73","v":0},{"$f":"TRANSPORT!X112-3.6/41.868*('OVERALL TARGET'!X16-'OVERALL TARGET'!X20)-'OVERALL TARGET'!X53-'OVERALL TARGET'!X69-'OVERALL TARGET'!X73","v":0},{"$f":"TRANSPORT!Y112-3.6/41.868*('OVERALL TARGET'!Y16-'OVERALL TARGET'!Y20)-'OVERALL TARGET'!Y53-'OVERALL TARGET'!Y69-'OVERALL TARGET'!Y73","v":0},{"$f":"TRANSPORT!Z112-3.6/41.868*('OVERALL TARGET'!Z16-'OVERALL TARGET'!Z20)-'OVERALL TARGET'!Z53-'OVERALL TARGET'!Z69-'OVERALL TARGET'!Z73","v":0},{"$f":"TRANSPORT!AA112-3.6/41.868*('OVERALL TARGET'!AA16-'OVERALL TARGET'!AA20)-'OVERALL TARGET'!AA53-'OVERALL TARGET'!AA69-'OVERALL TARGET'!AA73","v":0},{"$f":"TRANSPORT!AB112-3.6/41.868*('OVERALL TARGET'!AB16-'OVERALL TARGET'!AB20)-'OVERALL TARGET'!AB53-'OVERALL TARGET'!AB69-'OVERALL TARGET'!AB73","v":0},{"$f":"TRANSPORT!AC112-3.6/41.868*('OVERALL TARGET'!AC16-'OVERALL TARGET'!AC20)-'OVERALL TARGET'!AC53-'OVERALL TARGET'!AC69-'OVERALL TARGET'!AC73","v":0},{"$f":"TRANSPORT!AD112-3.6/41.868*('OVERALL TARGET'!AD16-'OVERALL TARGET'!AD20)-'OVERALL TARGET'!AD53-'OVERALL TARGET'!AD69-'OVERALL TARGET'!AD73","v":0},{"$f":"TRANSPORT!AE112-3.6/41.868*('OVERALL TARGET'!AE16-'OVERALL TARGET'!AE20)-'OVERALL TARGET'!AE53-'OVERALL TARGET'!AE69-'OVERALL TARGET'!AE73","v":0},{"$f":"TRANSPORT!AF112-3.6/41.868*('OVERALL TARGET'!AF16-'OVERALL TARGET'!AF20)-'OVERALL TARGET'!AF53-'OVERALL TARGET'!AF69-'OVERALL TARGET'!AF73","v":0},{"$f":"TRANSPORT!AG112-3.6/41.868*('OVERALL TARGET'!AG16-'OVERALL TARGET'!AG20)-'OVERALL TARGET'!AG53-'OVERALL TARGET'!AG69-'OVERALL TARGET'!AG73","v":0},{"$f":"TRANSPORT!AH112-3.6/41.868*('OVERALL TARGET'!AH16-'OVERALL TARGET'!AH20)-'OVERALL TARGET'!AH53-'OVERALL TARGET'!AH69-'OVERALL TARGET'!AH73","v":0},{"$f":"TRANSPORT!AI112-3.6/41.868*('OVERALL TARGET'!AI16-'OVERALL TARGET'!AI20)-'OVERALL TARGET'!AI53-'OVERALL TARGET'!AI69-'OVERALL TARGET'!AI73","v":0},{"$f":"TRANSPORT!AJ112-3.6/41.868*('OVERALL TARGET'!AJ16-'OVERALL TARGET'!AJ20)-'OVERALL TARGET'!AJ53-'OVERALL TARGET'!AJ69-'OVERALL TARGET'!AJ73","v":0},{"$f":"TRANSPORT!AK112-3.6/41.868*('OVERALL TARGET'!AK16-'OVERALL TARGET'!AK20)-'OVERALL TARGET'!AK53-'OVERALL TARGET'!AK69-'OVERALL TARGET'!AK73","v":0},{"$f":"TRANSPORT!AL112-3.6/41.868*('OVERALL TARGET'!AL16-'OVERALL TARGET'!AL20)-'OVERALL TARGET'!AL53-'OVERALL TARGET'!AL69-'OVERALL TARGET'!AL73","v":0},{"$f":"TRANSPORT!AM112-3.6/41.868*('OVERALL TARGET'!AM16-'OVERALL TARGET'!AM20)-'OVERALL TARGET'!AM53-'OVERALL TARGET'!AM69-'OVERALL TARGET'!AM73","v":0},{"$f":"TRANSPORT!AN112-3.6/41.868*('OVERALL TARGET'!AN16-'OVERALL TARGET'!AN20)-'OVERALL TARGET'!AN53-'OVERALL TARGET'!AN69-'OVERALL TARGET'!AN73","v":0},{"$f":"TRANSPORT!AO112-3.6/41.868*('OVERALL TARGET'!AO16-'OVERALL TARGET'!AO20)-'OVERALL TARGET'!AO53-'OVERALL TARGET'!AO69-'OVERALL TARGET'!AO73","v":0},{"$f":"TRANSPORT!AP112-3.6/41.868*('OVERALL TARGET'!AP16-'OVERALL TARGET'!AP20)-'OVERALL TARGET'!AP53-'OVERALL TARGET'!AP69-'OVERALL TARGET'!AP73","v":0},{"$f":"TRANSPORT!AQ112-3.6/41.868*('OVERALL TARGET'!AQ16-'OVERALL TARGET'!AQ20)-'OVERALL TARGET'!AQ53-'OVERALL TARGET'!AQ69-'OVERALL TARGET'!AQ73","v":0},{"$f":"TRANSPORT!AR112-3.6/41.868*('OVERALL TARGET'!AR16-'OVERALL TARGET'!AR20)-'OVERALL TARGET'!AR53-'OVERALL TARGET'!AR69-'OVERALL TARGET'!AR73","v":0},{"$f":"TRANSPORT!AS112-3.6/41.868*('OVERALL TARGET'!AS16-'OVERALL TARGET'!AS20)-'OVERALL TARGET'!AS53-'OVERALL TARGET'!AS69-'OVERALL TARGET'!AS73","v":0},{"$f":"TRANSPORT!AT112-3.6/41.868*('OVERALL TARGET'!AT16-'OVERALL TARGET'!AT20)-'OVERALL TARGET'!AT53-'OVERALL TARGET'!AT69-'OVERALL TARGET'!AT73","v":0},{"$f":"TRANSPORT!AU112-3.6/41.868*('OVERALL TARGET'!AU16-'OVERALL TARGET'!AU20)-'OVERALL TARGET'!AU53-'OVERALL TARGET'!AU69-'OVERALL TARGET'!AU73","v":0},{"$f":"TRANSPORT!AV112-3.6/41.868*('OVERALL TARGET'!AV16-'OVERALL TARGET'!AV20)-'OVERALL TARGET'!AV53-'OVERALL TARGET'!AV69-'OVERALL TARGET'!AV73","v":0},{"$f":"TRANSPORT!AW112-3.6/41.868*('OVERALL TARGET'!AW16-'OVERALL TARGET'!AW20)-'OVERALL TARGET'!AW53-'OVERALL TARGET'!AW69-'OVERALL TARGET'!AW73","v":0},{"$f":"TRANSPORT!AX112-3.6/41.868*('OVERALL TARGET'!AX16-'OVERALL TARGET'!AX20)-'OVERALL TARGET'!AX53-'OVERALL TARGET'!AX69-'OVERALL TARGET'!AX73","v":0},{"$f":"TRANSPORT!AY112-3.6/41.868*('OVERALL TARGET'!AY16-'OVERALL TARGET'!AY20)-'OVERALL TARGET'!AY53-'OVERALL TARGET'!AY69-'OVERALL TARGET'!AY73","v":0},{"$f":"TRANSPORT!AZ112-3.6/41.868*('OVERALL TARGET'!AZ16-'OVERALL TARGET'!AZ20)-'OVERALL TARGET'!AZ53-'OVERALL TARGET'!AZ69-'OVERALL TARGET'!AZ73","v":0},{"$f":"TRANSPORT!BA112-3.6/41.868*('OVERALL TARGET'!BA16-'OVERALL TARGET'!BA20)-'OVERALL TARGET'!BA53-'OVERALL TARGET'!BA69-'OVERALL TARGET'!BA73","v":0},{"$f":"TRANSPORT!BB112-3.6/41.868*('OVERALL TARGET'!BB16-'OVERALL TARGET'!BB20)-'OVERALL TARGET'!BB53-'OVERALL TARGET'!BB69-'OVERALL TARGET'!BB73","v":0},{"$f":"TRANSPORT!BC112-3.6/41.868*('OVERALL TARGET'!BC16-'OVERALL TARGET'!BC20)-'OVERALL TARGET'!BC53-'OVERALL TARGET'!BC69-'OVERALL TARGET'!BC73","v":0},{"$f":"TRANSPORT!BD112-3.6/41.868*('OVERALL TARGET'!BD16-'OVERALL TARGET'!BD20)-'OVERALL TARGET'!BD53-'OVERALL TARGET'!BD69-'OVERALL TARGET'!BD73","v":0},{"$f":"TRANSPORT!BE112-3.6/41.868*('OVERALL TARGET'!BE16-'OVERALL TARGET'!BE20)-'OVERALL TARGET'!BE53-'OVERALL TARGET'!BE69-'OVERALL TARGET'!BE73","v":0},{"$f":"TRANSPORT!BF112-3.6/41.868*('OVERALL TARGET'!BF16-'OVERALL TARGET'!BF20)-'OVERALL TARGET'!BF53-'OVERALL TARGET'!BF69-'OVERALL TARGET'!BF73","v":0},{"$f":"TRANSPORT!BG112-3.6/41.868*('OVERALL TARGET'!BG16-'OVERALL TARGET'!BG20)-'OVERALL TARGET'!BG53-'OVERALL TARGET'!BG69-'OVERALL TARGET'!BG73","v":0},{"$f":"TRANSPORT!BH112-3.6/41.868*('OVERALL TARGET'!BH16-'OVERALL TARGET'!BH20)-'OVERALL TARGET'!BH53-'OVERALL TARGET'!BH69-'OVERALL TARGET'!BH73","v":0},{"$f":"TRANSPORT!BI112-3.6/41.868*('OVERALL TARGET'!BI16-'OVERALL TARGET'!BI20)-'OVERALL TARGET'!BI53-'OVERALL TARGET'!BI69-'OVERALL TARGET'!BI73","v":0},{"$f":"TRANSPORT!BJ112-3.6/41.868*('OVERALL TARGET'!BJ16-'OVERALL TARGET'!BJ20)-'OVERALL TARGET'!BJ53-'OVERALL TARGET'!BJ69-'OVERALL TARGET'!BJ73","v":0},{"$f":"TRANSPORT!BK112-3.6/41.868*('OVERALL TARGET'!BK16-'OVERALL TARGET'!BK20)-'OVERALL TARGET'!BK53-'OVERALL TARGET'!BK69-'OVERALL TARGET'!BK73","v":0},{"$f":"TRANSPORT!BL112-3.6/41.868*('OVERALL TARGET'!BL16-'OVERALL TARGET'!BL20)-'OVERALL TARGET'!BL53-'OVERALL TARGET'!BL69-'OVERALL TARGET'!BL73","v":0},{"$f":"TRANSPORT!BM112-3.6/41.868*('OVERALL TARGET'!BM16-'OVERALL TARGET'!BM20)-'OVERALL TARGET'!BM53-'OVERALL TARGET'!BM69-'OVERALL TARGET'!BM73","v":0},{"$f":"TRANSPORT!BN112-3.6/41.868*('OVERALL TARGET'!BN16-'OVERALL TARGET'!BN20)-'OVERALL TARGET'!BN53-'OVERALL TARGET'!BN69-'OVERALL TARGET'!BN73","v":0},{"$f":"TRANSPORT!BO112-3.6/41.868*('OVERALL TARGET'!BO16-'OVERALL TARGET'!BO20)-'OVERALL TARGET'!BO53-'OVERALL TARGET'!BO69-'OVERALL TARGET'!BO73","v":0},{"$f":"TRANSPORT!BP112-3.6/41.868*('OVERALL TARGET'!BP16-'OVERALL TARGET'!BP20)-'OVERALL TARGET'!BP53-'OVERALL TARGET'!BP69-'OVERALL TARGET'!BP73","v":0},null,null,null,null,null,null,null,null,null,null,null,null,null,null,null,null,null,null,null,null,null,null,null,null,null,null,null,null,null,null,null,null,null,null,null,null,null,null,null,null,null,null,null,null,null,null,null,null,null,null,null,null,null,null,null,"RA000","ENERGUSE","GFC_TRA_E_OT","_Z","_Z","_Z","_Z","_Z","ENERGY","_Z","KTOE",null,"nrg_ind_cotd",null,"RA000","GFC_TRA_E_OT",null,"KTOE","Agg.=SUM(countries)"]
[null,"(a) + (b) + (c) adjusted with the 7% limit and high-ILUC risk",null,null,null,null,null,null,null,null,null,null,null,null,null,null,null,null,null,null,null,{"$f":"V107+V108+V109","v":0},0,0,0,0,0,0,0,0,{"$f":"AE107+AE108+AE109","v":0},0,0,0,0,0,0,0,0,0,0,0,0,0,0,0,0,0,0,0,0,0,0,0,0,0,0,0,0,0,0,0,0,0,0,0,0,0,null,null,null,null,null,null,null,null,null,null,null,null,null,null,null,null,null,null,null,null,null,null,null,null,null,null,null,null,null,null,null,null,null,null,null,null,null,null,null,null,null,null,null,null,null,null,null,null,null,null,null,null,null,null,null,"RA000","ENERGUSE","GFC_E_OTA_LIM","_Z","_Z","_Z","_Z","_Z","ENERGY","_Z","KTOE",null,"nrg_ind_cotd",null,"RA000","GFC_E_OTA_LIM",null,"KTOE","Agg.=SUM(countries)"]
[null,"Bioliquids, biofuels and biomass fuels from food and feed crops - contribution to the 7% limit for overall target",null,null,null,null,null,null,null,null,null,null,null,null,null,null,null,null,null,null,null,null,null,null,null,null,null,null,{"$f":"(AC14+AC18-AC15-AC19)*3.6/41.868+(AC51+AC67+AC71)-(AC52+AC68+AC72)+TRANSPORT!AC90","v":0},{"$f":"(AD14+AD18-AD15-AD19)*3.6/41.868+(AD51+AD67+AD71)-(AD52+AD68+AD72)+TRANSPORT!AD90","v":0},{"$f":"(AE14+AE18-AE15-AE19)*3.6/41.868+(AE51+AE67+AE71)-(AE52+AE68+AE72)+TRANSPORT!AE90","v":0},{"$f":"(AF14+AF18-AF15-AF19)*3.6/41.868+(AF51+AF67+AF71)-(AF52+AF68+AF72)+TRANSPORT!AF90","v":0},{"$f":"(AG14+AG18-AG15-AG19)*3.6/41.868+(AG51+AG67+AG71)-(AG52+AG68+AG72)+TRANSPORT!AG90","v":0},{"$f":"(AH14+AH18-AH15-AH19)*3.6/41.868+(AH51+AH67+AH71)-(AH52+AH68+AH72)+TRANSPORT!AH90","v":0},{"$f":"(AI14+AI18-AI15-AI19)*3.6/41.868+(AI51+AI67+AI71)-(AI52+AI68+AI72)+TRANSPORT!AI90","v":0},{"$f":"(AJ14+AJ18-AJ15-AJ19)*3.6/41.868+(AJ51+AJ67+AJ71)-(AJ52+AJ68+AJ72)+TRANSPORT!AJ90","v":0},{"$f":"(AK14+AK18-AK15-AK19)*3.6/41.868+(AK51+AK67+AK71)-(AK52+AK68+AK72)+TRANSPORT!AK90","v":0},{"$f":"(AL14+AL18-AL15-AL19)*3.6/41.868+(AL51+AL67+AL71)-(AL52+AL68+AL72)+TRANSPORT!AL90","v":0},{"$f":"(AM14+AM18-AM15-AM19)*3.6/41.868+(AM51+AM67+AM71)-(AM52+AM68+AM72)+TRANSPORT!AM90","v":0},{"$f":"(AN14+AN18-AN15-AN19)*3.6/41.868+(AN51+AN67+AN71)-(AN52+AN68+AN72)+TRANSPORT!AN90","v":0},{"$f":"(AO14+AO18-AO15-AO19)*3.6/41.868+(AO51+AO67+AO71)-(AO52+AO68+AO72)+TRANSPORT!AO90","v":0},{"$f":"(AP14+AP18-AP15-AP19)*3.6/41.868+(AP51+AP67+AP71)-(AP52+AP68+AP72)+TRANSPORT!AP90","v":0},{"$f":"(AQ14+AQ18-AQ15-AQ19)*3.6/41.868+(AQ51+AQ67+AQ71)-(AQ52+AQ68+AQ72)+TRANSPORT!AQ90","v":0},{"$f":"(AR14+AR18-AR15-AR19)*3.6/41.868+(AR51+AR67+AR71)-(AR52+AR68+AR72)+TRANSPORT!AR90","v":0},{"$f":"(AS14+AS18-AS15-AS19)*3.6/41.868+(AS51+AS67+AS71)-(AS52+AS68+AS72)+TRANSPORT!AS90","v":0},{"$f":"(AT14+AT18-AT15-AT19)*3.6/41.868+(AT51+AT67+AT71)-(AT52+AT68+AT72)+TRANSPORT!AT90","v":0},{"$f":"(AU14+AU18-AU15-AU19)*3.6/41.868+(AU51+AU67+AU71)-(AU52+AU68+AU72)+TRANSPORT!AU90","v":0},{"$f":"(AV14+AV18-AV15-AV19)*3.6/41.868+(AV51+AV67+AV71)-(AV52+AV68+AV72)+TRANSPORT!AV90","v":0},{"$f":"(AW14+AW18-AW15-AW19)*3.6/41.868+(AW51+AW67+AW71)-(AW52+AW68+AW72)+TRANSPORT!AW90","v":0},{"$f":"(AX14+AX18-AX15-AX19)*3.6/41.868+(AX51+AX67+AX71)-(AX52+AX68+AX72)+TRANSPORT!AX90","v":0},{"$f":"(AY14+AY18-AY15-AY19)*3.6/41.868+(AY51+AY67+AY71)-(AY52+AY68+AY72)+TRANSPORT!AY90","v":0},{"$f":"(AZ14+AZ18-AZ15-AZ19)*3.6/41.868+(AZ51+AZ67+AZ71)-(AZ52+AZ68+AZ72)+TRANSPORT!AZ90","v":0},{"$f":"(BA14+BA18-BA15-BA19)*3.6/41.868+(BA51+BA67+BA71)-(BA52+BA68+BA72)+TRANSPORT!BA90","v":0},{"$f":"(BB14+BB18-BB15-BB19)*3.6/41.868+(BB51+BB67+BB71)-(BB52+BB68+BB72)+TRANSPORT!BB90","v":0},{"$f":"(BC14+BC18-BC15-BC19)*3.6/41.868+(BC51+BC67+BC71)-(BC52+BC68+BC72)+TRANSPORT!BC90","v":0},{"$f":"(BD14+BD18-BD15-BD19)*3.6/41.868+(BD51+BD67+BD71)-(BD52+BD68+BD72)+TRANSPORT!BD90","v":0},{"$f":"(BE14+BE18-BE15-BE19)*3.6/41.868+(BE51+BE67+BE71)-(BE52+BE68+BE72)+TRANSPORT!BE90","v":0},{"$f":"(BF14+BF18-BF15-BF19)*3.6/41.868+(BF51+BF67+BF71)-(BF52+BF68+BF72)+TRANSPORT!BF90","v":0},{"$f":"(BG14+BG18-BG15-BG19)*3.6/41.868+(BG51+BG67+BG71)-(BG52+BG68+BG72)+TRANSPORT!BG90","v":0},{"$f":"(BH14+BH18-BH15-BH19)*3.6/41.868+(BH51+BH67+BH71)-(BH52+BH68+BH72)+TRANSPORT!BH90","v":0},{"$f":"(BI14+BI18-BI15-BI19)*3.6/41.868+(BI51+BI67+BI71)-(BI52+BI68+BI72)+TRANSPORT!BI90","v":0},{"$f":"(BJ14+BJ18-BJ15-BJ19)*3.6/41.868+(BJ51+BJ67+BJ71)-(BJ52+BJ68+BJ72)+TRANSPORT!BJ90","v":0},{"$f":"(BK14+BK18-BK15-BK19)*3.6/41.868+(BK51+BK67+BK71)-(BK52+BK68+BK72)+TRANSPORT!BK90","v":0},{"$f":"(BL14+BL18-BL15-BL19)*3.6/41.868+(BL51+BL67+BL71)-(BL52+BL68+BL72)+TRANSPORT!BL90","v":0},{"$f":"(BM14+BM18-BM15-BM19)*3.6/41.868+(BM51+BM67+BM71)-(BM52+BM68+BM72)+TRANSPORT!BM90","v":0},{"$f":"(BN14+BN18-BN15-BN19)*3.6/41.868+(BN51+BN67+BN71)-(BN52+BN68+BN72)+TRANSPORT!BN90","v":0},{"$f":"(BO14+BO18-BO15-BO19)*3.6/41.868+(BO51+BO67+BO71)-(BO52+BO68+BO72)+TRANSPORT!BO90","v":0},{"$f":"(BP14+BP18-BP15-BP19)*3.6/41.868+(BP51+BP67+BP71)-(BP52+BP68+BP72)+TRANSPORT!BP90","v":0},null,null,null,null,null,null,null,null,null,null,null,null,null,null,null,null,null,null,null,null,null,null,null,null,null,null,null,null,null,null,null,null,null,null,null,null,null,null,null,null,null,null,null,null,null,null,null,null,null,null,null,null,null,null,null,"R5200","ENERGUSE","BIOL_BIOFCON_LIM","_Z","_Z","_Z","_Z","_Z","ENERGY","_Z","KTOE",null,"nrg_ind_cotd",null,"R5200","BIOL_BIOFCON_LIM",null,"KTOE","Agg.=SUM(countries)"]
[null,"7% limit for the overall target",null,null,null,null,null,null,null,null,null,null,null,null,null,null,null,null,null,null,null,null,null,null,null,null,null,null,{"$f":"0.07*TRANSPORT!AC116","v":0},{"$f":"0.07*TRANSPORT!AD116","v":0},{"$f":"0.07*TRANSPORT!AE116","v":0},{"$f":"0.07*TRANSPORT!AF116","v":0},{"$f":"0.07*TRANSPORT!AG116","v":0},{"$f":"0.07*TRANSPORT!AH116","v":0},{"$f":"0.07*TRANSPORT!AI116","v":0},{"$f":"0.07*TRANSPORT!AJ116","v":0},{"$f":"0.07*TRANSPORT!AK116","v":0},{"$f":"0.07*TRANSPORT!AL116","v":0},{"$f":"0.07*TRANSPORT!AM116","v":0},{"$f":"0.07*TRANSPORT!AN116","v":0},{"$f":"0.07*TRANSPORT!AO116","v":0},{"$f":"0.07*TRANSPORT!AP116","v":0},{"$f":"0.07*TRANSPORT!AQ116","v":0},{"$f":"0.07*TRANSPORT!AR116","v":0},{"$f":"0.07*TRANSPORT!AS116","v":0},{"$f":"0.07*TRANSPORT!AT116","v":0},{"$f":"0.07*TRANSPORT!AU116","v":0},{"$f":"0.07*TRANSPORT!AV116","v":0},{"$f":"0.07*TRANSPORT!AW116","v":0},{"$f":"0.07*TRANSPORT!AX116","v":0},{"$f":"0.07*TRANSPORT!AY116","v":0},{"$f":"0.07*TRANSPORT!AZ116","v":0},{"$f":"0.07*TRANSPORT!BA116","v":0},{"$f":"0.07*TRANSPORT!BB116","v":0},{"$f":"0.07*TRANSPORT!BC116","v":0},{"$f":"0.07*TRANSPORT!BD116","v":0},{"$f":"0.07*TRANSPORT!BE116","v":0},{"$f":"0.07*TRANSPORT!BF116","v":0},{"$f":"0.07*TRANSPORT!BG116","v":0},{"$f":"0.07*TRANSPORT!BH116","v":0},{"$f":"0.07*TRANSPORT!BI116","v":0},{"$f":"0.07*TRANSPORT!BJ116","v":0},{"$f":"0.07*TRANSPORT!BK116","v":0},{"$f":"0.07*TRANSPORT!BL116","v":0},{"$f":"0.07*TRANSPORT!BM116","v":0},{"$f":"0.07*TRANSPORT!BN116","v":0},{"$f":"0.07*TRANSPORT!BO116","v":0},{"$f":"0.07*TRANSPORT!BP116","v":0},null,null,null,null,null,null,null,null,null,null,null,null,null,null,null,null,null,null,null,null,null,null,null,null,null,null,null,null,null,null,null,null,null,null,null,null,null,null,null,null,null,null,null,null,null,null,null,null,null,null,null,null,null,null,null,"_T","ENERGUSE","LIM_OT","_Z","_Z","_Z","_Z","_Z","ENERGY","_Z","KTOE",null,"nrg_ind_cotd",null,"TOTAL","LIM_OT",null,"KTOE","Agg.=SUM(countries)"]
[null,"Share of bioliquids, biofuels and biomass fuels in transport from food and feed crops for overall target (0.01 = 1%)",null,null,null,null,null,null,null,null,null,null,null,null,null,null,null,null,null,null,null,null,null,null,null,null,null,null,{"$f":"IFERROR(0.07*AC111/AC112,0)","v":0},{"$f":"IFERROR(0.07*AD111/AD112,0)","v":0},0,0,0,0,0,0,0,{"$f":"AM131","v":0},{"$f":"IFERROR(0.07*AM111/AM112,0)","v":0},{"$f":"IFERROR(0.07*AN111/AN112,0)","v":0},{"$f":"IFERROR(0.07*AO111/AO112,0)","v":0},{"$f":"IFERROR(0.07*AP111/AP112,0)","v":0},{"$f":"IFERROR(0.07*AQ111/AQ112,0)","v":0},{"$f":"IFERROR(0.07*AR111/AR112,0)","v":0},{"$f":"IFERROR(0.07*AS111/AS112,0)","v":0},{"$f":"IFERROR(0.07*AT111/AT112,0)","v":0},{"$f":"IFERROR(0.07*AU111/AU112,0)","v":0},{"$f":"IFERROR(0.07*AV111/AV112,0)","v":0},{"$f":"IFERROR(0.07*AW111/AW112,0)","v":0},{"$f":"IFERROR(0.07*AX111/AX112,0)","v":0},{"$f":"IFERROR(0.07*AY111/AY112,0)","v":0},{"$f":"IFERROR(0.07*AZ111/AZ112,0)","v":0},{"$f":"IFERROR(0.07*BA111/BA112,0)","v":0},{"$f":"IFERROR(0.07*BB111/BB112,0)","v":0},{"$f":"IFERROR(0.07*BC111/BC112,0)","v":0},{"$f":"IFERROR(0.07*BD111/BD112,0)","v":0},{"$f":"IFERROR(0.07*BE111/BE112,0)","v":0},{"$f":"IFERROR(0.07*BF111/BF112,0)","v":0},{"$f":"IFERROR(0.07*BG111/BG112,0)","v":0},{"$f":"IFERROR(0.07*BH111/BH112,0)","v":0},{"$f":"IFERROR(0.07*BI111/BI112,0)","v":0},{"$f":"IFERROR(0.07*BJ111/BJ112,0)","v":0},{"$f":"IFERROR(0.07*BK111/BK112,0)","v":0},{"$f":"IFERROR(0.07*BL111/BL112,0)","v":0},{"$f":"IFERROR(0.07*BM111/BM112,0)","v":0},{"$f":"IFERROR(0.07*BN111/BN112,0)","v":0},{"$f":"IFERROR(0.07*BO111/BO112,0)","v":0},{"$f":"IFERROR(0.07*BP111/BP112,0)","v":0},null,null,null,null,null,null,null,null,null,null,null,null,null,null,null,null,null,null,null,null,null,null,null,null,null,null,null,null,null,null,null,null,null,null,null,null,null,null,null,null,null,null,null,null,null,null,null,null,null,null,null,null,null,null,null,"R5200","ENERGUSE","BIOL_BIOF_FS_SHR","_Z","_Z","_Z","_Z","_Z","NUMBER","_Z","PC",null,"nrg_ind_cotd",null,"R5200","BIOL_BIOF_FS_SHR",null,"PC","Agg.=100*[SUM(countries 0.07*Row 111)/SUM(countries row 112)]"]
[null,"Share of high ILUC-risk bioliquids, biofuels and biomass fuels for overall target (0.01 = 1%)",null,null,null,null,null,null,null,null,null,null,null,null,null,null,null,null,null,null,null,null,null,null,null,null,null,null,{"$f":"IFERROR((3.6/41.868*(AC16-AC17+AC20-AC21)+AC53-AC54+AC69-AC70+AC73-AC74+TRANSPORT!AC90-TRANSPORT!AC91)/TRANSPORT!AC116,0)","v":0},{"$f":"IFERROR((3.6/41.868*(AD16-AD17+AD20-AD21)+AD53-AD54+AD69-AD70+AD73-AD74+TRANSPORT!AD90-TRANSPORT!AD91)/TRANSPORT!AD116,0)","v":0},{"$f":"IFERROR((3.6/41.868*(AE16-AE17+AE20-AE21)+AE53-AE54+AE69-AE70+AE73-AE74+TRANSPORT!AE90-TRANSPORT!AE91)/TRANSPORT!AE116,0)","v":0},{"$f":"IFERROR((3.6/41.868*(AF16-AF17+AF20-AF21)+AF53-AF54+AF69-AF70+AF73-AF74+TRANSPORT!AF90-TRANSPORT!AF91)/TRANSPORT!AF116,0)","v":0},{"$f":"IFERROR((3.6/41.868*(AG16-AG17+AG20-AG21)+AG53-AG54+AG69-AG70+AG73-AG74+TRANSPORT!AG90-TRANSPORT!AG91)/TRANSPORT!AG116,0)","v":0},{"$f":"IFERROR((3.6/41.868*(AH16-AH17+AH20-AH21)+AH53-AH54+AH69-AH70+AH73-AH74+TRANSPORT!AH90-TRANSPORT!AH91)/TRANSPORT!AH116,0)","v":0},{"$f":"IFERROR((3.6/41.868*(AI16-AI17+AI20-AI21)+AI53-AI54+AI69-AI70+AI73-AI74+TRANSPORT!AI90-TRANSPORT!AI91)/TRANSPORT!AI116,0)","v":0},{"$f":"IFERROR((3.6/41.868*(AJ16-AJ17+AJ20-AJ21)+AJ53-AJ54+AJ69-AJ70+AJ73-AJ74+TRANSPORT!AJ90-TRANSPORT!AJ91)/TRANSPORT!AJ116,0)","v":0},{"$f":"AM132","v":0},{"$f":"IFERROR((3.6/41.868*(AL16-AL17+AL20-AL21)+AL53-AL54+AL69-AL70+AL73-AL74+TRANSPORT!AL90-TRANSPORT!AL91)/TRANSPORT!AL116,0)","v":0},{"$f":"IFERROR((3.6/41.868*(AM16-AM17+AM20-AM21)+AM53-AM54+AM69-AM70+AM73-AM74+TRANSPORT!AM90-TRANSPORT!AM91)/TRANSPORT!AM116,0)","v":0},{"$f":"IFERROR((3.6/41.868*(AN16-AN17+AN20-AN21)+AN53-AN54+AN69-AN70+AN73-AN74+TRANSPORT!AN90-TRANSPORT!AN91)/TRANSPORT!AN116,0)","v":0},{"$f":"IFERROR((3.6/41.868*(AO16-AO17+AO20-AO21)+AO53-AO54+AO69-AO70+AO73-AO74+TRANSPORT!AO90-TRANSPORT!AO91)/TRANSPORT!AO116,0)","v":0},{"$f":"IFERROR((3.6/41.868*(AP16-AP17+AP20-AP21)+AP53-AP54+AP69-AP70+AP73-AP74+TRANSPORT!AP90-TRANSPORT!AP91)/TRANSPORT!AP116,0)","v":0},{"$f":"IFERROR((3.6/41.868*(AQ16-AQ17+AQ20-AQ21)+AQ53-AQ54+AQ69-AQ70+AQ73-AQ74+TRANSPORT!AQ90-TRANSPORT!AQ91)/TRANSPORT!AQ116,0)","v":0},{"$f":"IFERROR((3.6/41.868*(AR16-AR17+AR20-AR21)+AR53-AR54+AR69-AR70+AR73-AR74+TRANSPORT!AR90-TRANSPORT!AR91)/TRANSPORT!AR116,0)","v":0},{"$f":"IFERROR((3.6/41.868*(AS16-AS17+AS20-AS21)+AS53-AS54+AS69-AS70+AS73-AS74+TRANSPORT!AS90-TRANSPORT!AS91)/TRANSPORT!AS116,0)","v":0},{"$f":"IFERROR((3.6/41.868*(AT16-AT17+AT20-AT21)+AT53-AT54+AT69-AT70+AT73-AT74+TRANSPORT!AT90-TRANSPORT!AT91)/TRANSPORT!AT116,0)","v":0},{"$f":"IFERROR((3.6/41.868*(AU16-AU17+AU20-AU21)+AU53-AU54+AU69-AU70+AU73-AU74+TRANSPORT!AU90-TRANSPORT!AU91)/TRANSPORT!AU116,0)","v":0},{"$f":"IFERROR((3.6/41.868*(AV16-AV17+AV20-AV21)+AV53-AV54+AV69-AV70+AV73-AV74+TRANSPORT!AV90-TRANSPORT!AV91)/TRANSPORT!AV116,0)","v":0},{"$f":"IFERROR((3.6/41.868*(AW16-AW17+AW20-AW21)+AW53-AW54+AW69-AW70+AW73-AW74+TRANSPORT!AW90-TRANSPORT!AW91)/TRANSPORT!AW116,0)","v":0},{"$f":"IFERROR((3.6/41.868*(AX16-AX17+AX20-AX21)+AX53-AX54+AX69-AX70+AX73-AX74+TRANSPORT!AX90-TRANSPORT!AX91)/TRANSPORT!AX116,0)","v":0},{"$f":"IFERROR((3.6/41.868*(AY16-AY17+AY20-AY21)+AY53-AY54+AY69-AY70+AY73-AY74+TRANSPORT!AY90-TRANSPORT!AY91)/TRANSPORT!AY116,0)","v":0},{"$f":"IFERROR((3.6/41.868*(AZ16-AZ17+AZ20-AZ21)+AZ53-AZ54+AZ69-AZ70+AZ73-AZ74+TRANSPORT!AZ90-TRANSPORT!AZ91)/TRANSPORT!AZ116,0)","v":0},{"$f":"IFERROR((3.6/41.868*(BA16-BA17+BA20-BA21)+BA53-BA54+BA69-BA70+BA73-BA74+TRANSPORT!BA90-TRANSPORT!BA91)/TRANSPORT!BA116,0)","v":0},{"$f":"IFERROR((3.6/41.868*(BB16-BB17+BB20-BB21)+BB53-BB54+BB69-BB70+BB73-BB74+TRANSPORT!BB90-TRANSPORT!BB91)/TRANSPORT!BB116,0)","v":0},{"$f":"IFERROR((3.6/41.868*(BC16-BC17+BC20-BC21)+BC53-BC54+BC69-BC70+BC73-BC74+TRANSPORT!BC90-TRANSPORT!BC91)/TRANSPORT!BC116,0)","v":0},{"$f":"IFERROR((3.6/41.868*(BD16-BD17+BD20-BD21)+BD53-BD54+BD69-BD70+BD73-BD74+TRANSPORT!BD90-TRANSPORT!BD91)/TRANSPORT!BD116,0)","v":0},{"$f":"IFERROR((3.6/41.868*(BE16-BE17+BE20-BE21)+BE53-BE54+BE69-BE70+BE73-BE74+TRANSPORT!BE90-TRANSPORT!BE91)/TRANSPORT!BE116,0)","v":0},{"$f":"IFERROR((3.6/41.868*(BF16-BF17+BF20-BF21)+BF53-BF54+BF69-BF70+BF73-BF74+TRANSPORT!BF90-TRANSPORT!BF91)/TRANSPORT!BF116,0)","v":0},{"$f":"IFERROR((3.6/41.868*(BG16-BG17+BG20-BG21)+BG53-BG54+BG69-BG70+BG73-BG74+TRANSPORT!BG90-TRANSPORT!BG91)/TRANSPORT!BG116,0)","v":0},{"$f":"IFERROR((3.6/41.868*(BH16-BH17+BH20-BH21)+BH53-BH54+BH69-BH70+BH73-BH74+TRANSPORT!BH90-TRANSPORT!BH91)/TRANSPORT!BH116,0)","v":0},{"$f":"IFERROR((3.6/41.868*(BI16-BI17+BI20-BI21)+BI53-BI54+BI69-BI70+BI73-BI74+TRANSPORT!BI90-TRANSPORT!BI91)/TRANSPORT!BI116,0)","v":0},{"$f":"IFERROR((3.6/41.868*(BJ16-BJ17+BJ20-BJ21)+BJ53-BJ54+BJ69-BJ70+BJ73-BJ74+TRANSPORT!BJ90-TRANSPORT!BJ91)/TRANSPORT!BJ116,0)","v":0},{"$f":"IFERROR((3.6/41.868*(BK16-BK17+BK20-BK21)+BK53-BK54+BK69-BK70+BK73-BK74+TRANSPORT!BK90-TRANSPORT!BK91)/TRANSPORT!BK116,0)","v":0},{"$f":"IFERROR((3.6/41.868*(BL16-BL17+BL20-BL21)+BL53-BL54+BL69-BL70+BL73-BL74+TRANSPORT!BL90-TRANSPORT!BL91)/TRANSPORT!BL116,0)","v":0},{"$f":"IFERROR((3.6/41.868*(BM16-BM17+BM20-BM21)+BM53-BM54+BM69-BM70+BM73-BM74+TRANSPORT!BM90-TRANSPORT!BM91)/TRANSPORT!BM116,0)","v":0},{"$f":"IFERROR((3.6/41.868*(BN16-BN17+BN20-BN21)+BN53-BN54+BN69-BN70+BN73-BN74+TRANSPORT!BN90-TRANSPORT!BN91)/TRANSPORT!BN116,0)","v":0},{"$f":"IFERROR((3.6/41.868*(BO16-BO17+BO20-BO21)+BO53-BO54+BO69-BO70+BO73-BO74+TRANSPORT!BO90-TRANSPORT!BO91)/TRANSPORT!BO116,0)","v":0},{"$f":"IFERROR((3.6/41.868*(BP16-BP17+BP20-BP21)+BP53-BP54+BP69-BP70+BP73-BP74+TRANSPORT!BP90-TRANSPORT!BP91)/TRANSPORT!BP116,0)","v":0},null,null,null,null,null,null,null,null,null,null,null,null,null,null,null,null,null,null,null,null,null,null,null,null,null,null,null,null,null,null,null,null,null,null,null,null,null,null,null,null,null,null,null,null,null,null,null,null,null,null,null,null,null,null,null,"R5200","ENERGUSE","HILUC_OT_SHR","_Z","_Z","_Z","_Z","_Z","NUMBER","_Z","PC",null,"nrg_ind_cotd",null,"R5200","HILUC_OT_SHR",null,"PC","Agg.= 100*[SUM(countries (Row 16-Row 17+Row 20-Row 21+Row 53-Row 54+Row 69-Row 70+Row 73-Row 74+TRANSPORT!Row 90-TRANSPORT!Row 91))/SUM(countries TRANSPORT!Row 116)]"]
[]
["Articles 8-13: Statistical Transfers, Joint Projects & Joint Support Schemes"]
[null,"total amount to be added",null,null,null,null,null,null,null,null,null,null,null,null,null,null,null,null,null,null,null,{"$f":"'STAT. TRANSFERS'!V7+'STAT. TRANSFERS'!V17+'STAT. TRANSFERS'!V20+'STAT. TRANSFERS'!V26+'STAT. TRANSFERS'!V32+'STAT. TRANSFERS'!V35","v":0},{"$f":"'STAT. TRANSFERS'!W7+'STAT. TRANSFERS'!W17+'STAT. TRANSFERS'!W20+'STAT. TRANSFERS'!W26+'STAT. TRANSFERS'!W32+'STAT. TRANSFERS'!W35","v":0},{"$f":"'STAT. TRANSFERS'!X7+'STAT. TRANSFERS'!X17+'STAT. TRANSFERS'!X20+'STAT. TRANSFERS'!X26+'STAT. TRANSFERS'!X32+'STAT. TRANSFERS'!X35","v":0},{"$f":"'STAT. TRANSFERS'!Y7+'STAT. TRANSFERS'!Y17+'STAT. TRANSFERS'!Y20+'STAT. TRANSFERS'!Y26+'STAT. TRANSFERS'!Y32+'STAT. TRANSFERS'!Y35","v":0},{"$f":"'STAT. TRANSFERS'!Z7+'STAT. TRANSFERS'!Z17+'STAT. TRANSFERS'!Z20+'STAT. TRANSFERS'!Z26+'STAT. TRANSFERS'!Z32+'STAT. TRANSFERS'!Z35","v":0},{"$f":"'STAT. TRANSFERS'!AA7+'STAT. TRANSFERS'!AA17+'STAT. TRANSFERS'!AA20+'STAT. TRANSFERS'!AA26+'STAT. TRANSFERS'!AA32+'STAT. TRANSFERS'!AA35","v":0},{"$f":"'STAT. TRANSFERS'!AB7+'STAT. TRANSFERS'!AB17+'STAT. TRANSFERS'!AB20+'STAT. TRANSFERS'!AB26+'STAT. TRANSFERS'!AB32+'STAT. TRANSFERS'!AB35","v":0},{"$f":"'STAT. TRANSFERS'!AC7+'STAT. TRANSFERS'!AC17+'STAT. TRANSFERS'!AC20+'STAT. TRANSFERS'!AC26+'STAT. TRANSFERS'!AC32+'STAT. TRANSFERS'!AC35","v":0},{"$f":"'STAT. TRANSFERS'!AD7+'STAT. TRANSFERS'!AD17+'STAT. TRANSFERS'!AD20+'STAT. TRANSFERS'!AD26+'STAT. TRANSFERS'!AD32+'STAT. TRANSFERS'!AD35","v":0},{"$f":"'STAT. TRANSFERS'!AE7+'STAT. TRANSFERS'!AE17+'STAT. TRANSFERS'!AE20+'STAT. TRANSFERS'!AE26+'STAT. TRANSFERS'!AE32+'STAT. TRANSFERS'!AE35","v":0},{"$f":"'STAT. TRANSFERS'!AF7+'STAT. TRANSFERS'!AF17+'STAT. TRANSFERS'!AF20+'STAT. TRANSFERS'!AF26+'STAT. TRANSFERS'!AF32+'STAT. TRANSFERS'!AF35","v":0},{"$f":"'STAT. TRANSFERS'!AG7+'STAT. TRANSFERS'!AG17+'STAT. TRANSFERS'!AG20+'STAT. TRANSFERS'!AG26+'STAT. TRANSFERS'!AG32+'STAT. TRANSFERS'!AG35","v":0},{"$f":"'STAT. TRANSFERS'!AH7+'STAT. TRANSFERS'!AH17+'STAT. TRANSFERS'!AH20+'STAT. TRANSFERS'!AH26+'STAT. TRANSFERS'!AH32+'STAT. TRANSFERS'!AH35","v":0},{"$f":"'STAT. TRANSFERS'!AI7+'STAT. TRANSFERS'!AI17+'STAT. TRANSFERS'!AI20+'STAT. TRANSFERS'!AI26+'STAT. TRANSFERS'!AI32+'STAT. TRANSFERS'!AI35","v":0},{"$f":"'STAT. TRANSFERS'!AJ7+'STAT. TRANSFERS'!AJ17+'STAT. TRANSFERS'!AJ20+'STAT. TRANSFERS'!AJ26+'STAT. TRANSFERS'!AJ32+'STAT. TRANSFERS'!AJ35","v":0},{"$f":"'STAT. TRANSFERS'!AK7+'STAT. TRANSFERS'!AK17+'STAT. TRANSFERS'!AK20+'STAT. TRANSFERS'!AK26+'STAT. TRANSFERS'!AK32+'STAT. TRANSFERS'!AK35","v":0},{"$f":"'STAT. TRANSFERS'!AL7+'STAT. TRANSFERS'!AL17+'STAT. TRANSFERS'!AL20+'STAT. TRANSFERS'!AL26+'STAT. TRANSFERS'!AL32+'STAT. TRANSFERS'!AL35","v":0},{"$f":"'STAT. TRANSFERS'!AM7+'STAT. TRANSFERS'!AM17+'STAT. TRANSFERS'!AM20+'STAT. TRANSFERS'!AM26+'STAT. TRANSFERS'!AM32+'STAT. TRANSFERS'!AM35","v":0},{"$f":"'STAT. TRANSFERS'!AN7+'STAT. TRANSFERS'!AN17+'STAT. TRANSFERS'!AN20+'STAT. TRANSFERS'!AN26+'STAT. TRANSFERS'!AN32+'STAT. TRANSFERS'!AN35","v":0},{"$f":"'STAT. TRANSFERS'!AO7+'STAT. TRANSFERS'!AO17+'STAT. TRANSFERS'!AO20+'STAT. TRANSFERS'!AO26+'STAT. TRANSFERS'!AO32+'STAT. TRANSFERS'!AO35","v":0},{"$f":"'STAT. TRANSFERS'!AP7+'STAT. TRANSFERS'!AP17+'STAT. TRANSFERS'!AP20+'STAT. TRANSFERS'!AP26+'STAT. TRANSFERS'!AP32+'STAT. TRANSFERS'!AP35","v":0},{"$f":"'STAT. TRANSFERS'!AQ7+'STAT. TRANSFERS'!AQ17+'STAT. TRANSFERS'!AQ20+'STAT. TRANSFERS'!AQ26+'STAT. TRANSFERS'!AQ32+'STAT. TRANSFERS'!AQ35","v":0},{"$f":"'STAT. TRANSFERS'!AR7+'STAT. TRANSFERS'!AR17+'STAT. TRANSFERS'!AR20+'STAT. TRANSFERS'!AR26+'STAT. TRANSFERS'!AR32+'STAT. TRANSFERS'!AR35","v":0},{"$f":"'STAT. TRANSFERS'!AS7+'STAT. TRANSFERS'!AS17+'STAT. TRANSFERS'!AS20+'STAT. TRANSFERS'!AS26+'STAT. TRANSFERS'!AS32+'STAT. TRANSFERS'!AS35","v":0},{"$f":"'STAT. TRANSFERS'!AT7+'STAT. TRANSFERS'!AT17+'STAT. TRANSFERS'!AT20+'STAT. TRANSFERS'!AT26+'STAT. TRANSFERS'!AT32+'STAT. TRANSFERS'!AT35","v":0},{"$f":"'STAT. TRANSFERS'!AU7+'STAT. TRANSFERS'!AU17+'STAT. TRANSFERS'!AU20+'STAT. TRANSFERS'!AU26+'STAT. TRANSFERS'!AU32+'STAT. TRANSFERS'!AU35","v":0},{"$f":"'STAT. TRANSFERS'!AV7+'STAT. TRANSFERS'!AV17+'STAT. TRANSFERS'!AV20+'STAT. TRANSFERS'!AV26+'STAT. TRANSFERS'!AV32+'STAT. TRANSFERS'!AV35","v":0},{"$f":"'STAT. TRANSFERS'!AW7+'STAT. TRANSFERS'!AW17+'STAT. TRANSFERS'!AW20+'STAT. TRANSFERS'!AW26+'STAT. TRANSFERS'!AW32+'STAT. TRANSFERS'!AW35","v":0},{"$f":"'STAT. TRANSFERS'!AX7+'STAT. TRANSFERS'!AX17+'STAT. TRANSFERS'!AX20+'STAT. TRANSFERS'!AX26+'STAT. TRANSFERS'!AX32+'STAT. TRANSFERS'!AX35","v":0},{"$f":"'STAT. TRANSFERS'!AY7+'STAT. TRANSFERS'!AY17+'STAT. TRANSFERS'!AY20+'STAT. TRANSFERS'!AY26+'STAT. TRANSFERS'!AY32+'STAT. TRANSFERS'!AY35","v":0},{"$f":"'STAT. TRANSFERS'!AZ7+'STAT. TRANSFERS'!AZ17+'STAT. TRANSFERS'!AZ20+'STAT. TRANSFERS'!AZ26+'STAT. TRANSFERS'!AZ32+'STAT. TRANSFERS'!AZ35","v":0},{"$f":"'STAT. TRANSFERS'!BA7+'STAT. TRANSFERS'!BA17+'STAT. TRANSFERS'!BA20+'STAT. TRANSFERS'!BA26+'STAT. TRANSFERS'!BA32+'STAT. TRANSFERS'!BA35","v":0},{"$f":"'STAT. TRANSFERS'!BB7+'STAT. TRANSFERS'!BB17+'STAT. TRANSFERS'!BB20+'STAT. TRANSFERS'!BB26+'STAT. TRANSFERS'!BB32+'STAT. TRANSFERS'!BB35","v":0},{"$f":"'STAT. TRANSFERS'!BC7+'STAT. TRANSFERS'!BC17+'STAT. TRANSFERS'!BC20+'STAT. TRANSFERS'!BC26+'STAT. TRANSFERS'!BC32+'STAT. TRANSFERS'!BC35","v":0},{"$f":"'STAT. TRANSFERS'!BD7+'STAT. TRANSFERS'!BD17+'STAT. TRANSFERS'!BD20+'STAT. TRANSFERS'!BD26+'STAT. TRANSFERS'!BD32+'STAT. TRANSFERS'!BD35","v":0},{"$f":"'STAT. TRANSFERS'!BE7+'STAT. TRANSFERS'!BE17+'STAT. TRANSFERS'!BE20+'STAT. TRANSFERS'!BE26+'STAT. TRANSFERS'!BE32+'STAT. TRANSFERS'!BE35","v":0},{"$f":"'STAT. TRANSFERS'!BF7+'STAT. TRANSFERS'!BF17+'STAT. TRANSFERS'!BF20+'STAT. TRANSFERS'!BF26+'STAT. TRANSFERS'!BF32+'STAT. TRANSFERS'!BF35","v":0},{"$f":"'STAT. TRANSFERS'!BG7+'STAT. TRANSFERS'!BG17+'STAT. TRANSFERS'!BG20+'STAT. TRANSFERS'!BG26+'STAT. TRANSFERS'!BG32+'STAT. TRANSFERS'!BG35","v":0},{"$f":"'STAT. TRANSFERS'!BH7+'STAT. TRANSFERS'!BH17+'STAT. TRANSFERS'!BH20+'STAT. TRANSFERS'!BH26+'STAT. TRANSFERS'!BH32+'STAT. TRANSFERS'!BH35","v":0},{"$f":"'STAT. TRANSFERS'!BI7+'STAT. TRANSFERS'!BI17+'STAT. TRANSFERS'!BI20+'STAT. TRANSFERS'!BI26+'STAT. TRANSFERS'!BI32+'STAT. TRANSFERS'!BI35","v":0},{"$f":"'STAT. TRANSFERS'!BJ7+'STAT. TRANSFERS'!BJ17+'STAT. TRANSFERS'!BJ20+'STAT. TRANSFERS'!BJ26+'STAT. TRANSFERS'!BJ32+'STAT. TRANSFERS'!BJ35","v":0},{"$f":"'STAT. TRANSFERS'!BK7+'STAT. TRANSFERS'!BK17+'STAT. TRANSFERS'!BK20+'STAT. TRANSFERS'!BK26+'STAT. TRANSFERS'!BK32+'STAT. TRANSFERS'!BK35","v":0},{"$f":"'STAT. TRANSFERS'!BL7+'STAT. TRANSFERS'!BL17+'STAT. TRANSFERS'!BL20+'STAT. TRANSFERS'!BL26+'STAT. TRANSFERS'!BL32+'STAT. TRANSFERS'!BL35","v":0},{"$f":"'STAT. TRANSFERS'!BM7+'STAT. TRANSFERS'!BM17+'STAT. TRANSFERS'!BM20+'STAT. TRANSFERS'!BM26+'STAT. TRANSFERS'!BM32+'STAT. TRANSFERS'!BM35","v":0},{"$f":"'STAT. TRANSFERS'!BN7+'STAT. TRANSFERS'!BN17+'STAT. TRANSFERS'!BN20+'STAT. TRANSFERS'!BN26+'STAT. TRANSFERS'!BN32+'STAT. TRANSFERS'!BN35","v":0},{"$f":"'STAT. TRANSFERS'!BO7+'STAT. TRANSFERS'!BO17+'STAT. TRANSFERS'!BO20+'STAT. TRANSFERS'!BO26+'STAT. TRANSFERS'!BO32+'STAT. TRANSFERS'!BO35","v":0},{"$f":"'STAT. TRANSFERS'!BP7+'STAT. TRANSFERS'!BP17+'STAT. TRANSFERS'!BP20+'STAT. TRANSFERS'!BP26+'STAT. TRANSFERS'!BP32+'STAT. TRANSFERS'!BP35","v":0},null,null,null,null,null,null,null,null,null,null,null,null,null,null,null,null,null,null,null,null,null,null,null,null,null,null,null,null,null,null,null,null,null,null,null,null,null,null,null,null,null,null,null,null,null,null,null,null,null,null,null,null,null,null,null,"RA000","ENERGUSE","ST_JP_JSS_TAA","_Z","_Z","_Z","_Z","_Z","ENERGY","_Z","KTOE",null,"nrg_ind_cotd",null,"RA000","ST_JP_JSS_TAA",null,"KTOE","Agg.=SUM(countries)"]
[null,"total amount to be deduced",null,null,null,null,null,null,null,null,null,null,null,null,null,null,null,null,null,null,null,{"$f":"'STAT. TRANSFERS'!V8+'STAT. TRANSFERS'!V18+'STAT. TRANSFERS'!V21+'STAT. TRANSFERS'!V27+'STAT. TRANSFERS'!V33+'STAT. TRANSFERS'!V36","v":0},{"$f":"'STAT. TRANSFERS'!W8+'STAT. TRANSFERS'!W18+'STAT. TRANSFERS'!W21+'STAT. TRANSFERS'!W27+'STAT. TRANSFERS'!W33+'STAT. TRANSFERS'!W36","v":0},{"$f":"'STAT. TRANSFERS'!X8+'STAT. TRANSFERS'!X18+'STAT. TRANSFERS'!X21+'STAT. TRANSFERS'!X27+'STAT. TRANSFERS'!X33+'STAT. TRANSFERS'!X36","v":0},{"$f":"'STAT. TRANSFERS'!Y8+'STAT. TRANSFERS'!Y18+'STAT. TRANSFERS'!Y21+'STAT. TRANSFERS'!Y27+'STAT. TRANSFERS'!Y33+'STAT. TRANSFERS'!Y36","v":0},{"$f":"'STAT. TRANSFERS'!Z8+'STAT. TRANSFERS'!Z18+'STAT. TRANSFERS'!Z21+'STAT. TRANSFERS'!Z27+'STAT. TRANSFERS'!Z33+'STAT. TRANSFERS'!Z36","v":0},{"$f":"'STAT. TRANSFERS'!AA8+'STAT. TRANSFERS'!AA18+'STAT. TRANSFERS'!AA21+'STAT. TRANSFERS'!AA27+'STAT. TRANSFERS'!AA33+'STAT. TRANSFERS'!AA36","v":0},{"$f":"'STAT. TRANSFERS'!AB8+'STAT. TRANSFERS'!AB18+'STAT. TRANSFERS'!AB21+'STAT. TRANSFERS'!AB27+'STAT. TRANSFERS'!AB33+'STAT. TRANSFERS'!AB36","v":0},{"$f":"'STAT. TRANSFERS'!AC8+'STAT. TRANSFERS'!AC18+'STAT. TRANSFERS'!AC21+'STAT. TRANSFERS'!AC27+'STAT. TRANSFERS'!AC33+'STAT. TRANSFERS'!AC36","v":0},{"$f":"'STAT. TRANSFERS'!AD8+'STAT. TRANSFERS'!AD18+'STAT. TRANSFERS'!AD21+'STAT. TRANSFERS'!AD27+'STAT. TRANSFERS'!AD33+'STAT. TRANSFERS'!AD36","v":0},{"$f":"'STAT. TRANSFERS'!AE8+'STAT. TRANSFERS'!AE18+'STAT. TRANSFERS'!AE21+'STAT. TRANSFERS'!AE27+'STAT. TRANSFERS'!AE33+'STAT. TRANSFERS'!AE36","v":0},{"$f":"'STAT. TRANSFERS'!AF8+'STAT. TRANSFERS'!AF18+'STAT. TRANSFERS'!AF21+'STAT. TRANSFERS'!AF27+'STAT. TRANSFERS'!AF33+'STAT. TRANSFERS'!AF36","v":0},{"$f":"'STAT. TRANSFERS'!AG8+'STAT. TRANSFERS'!AG18+'STAT. TRANSFERS'!AG21+'STAT. TRANSFERS'!AG27+'STAT. TRANSFERS'!AG33+'STAT. TRANSFERS'!AG36","v":0},{"$f":"'STAT. TRANSFERS'!AH8+'STAT. TRANSFERS'!AH18+'STAT. TRANSFERS'!AH21+'STAT. TRANSFERS'!AH27+'STAT. TRANSFERS'!AH33+'STAT. TRANSFERS'!AH36","v":0},{"$f":"'STAT. TRANSFERS'!AI8+'STAT. TRANSFERS'!AI18+'STAT. TRANSFERS'!AI21+'STAT. TRANSFERS'!AI27+'STAT. TRANSFERS'!AI33+'STAT. TRANSFERS'!AI36","v":0},{"$f":"'STAT. TRANSFERS'!AJ8+'STAT. TRANSFERS'!AJ18+'STAT. TRANSFERS'!AJ21+'STAT. TRANSFERS'!AJ27+'STAT. TRANSFERS'!AJ33+'STAT. TRANSFERS'!AJ36","v":0},{"$f":"'STAT. TRANSFERS'!AK8+'STAT. TRANSFERS'!AK18+'STAT. TRANSFERS'!AK21+'STAT. TRANSFERS'!AK27+'STAT. TRANSFERS'!AK33+'STAT. TRANSFERS'!AK36","v":0},{"$f":"'STAT. TRANSFERS'!AL8+'STAT. TRANSFERS'!AL18+'STAT. TRANSFERS'!AL21+'STAT. TRANSFERS'!AL27+'STAT. TRANSFERS'!AL33+'STAT. TRANSFERS'!AL36","v":0},{"$f":"'STAT. TRANSFERS'!AM8+'STAT. TRANSFERS'!AM18+'STAT. TRANSFERS'!AM21+'STAT. TRANSFERS'!AM27+'STAT. TRANSFERS'!AM33+'STAT. TRANSFERS'!AM36","v":0},{"$f":"'STAT. TRANSFERS'!AN8+'STAT. TRANSFERS'!AN18+'STAT. TRANSFERS'!AN21+'STAT. TRANSFERS'!AN27+'STAT. TRANSFERS'!AN33+'STAT. TRANSFERS'!AN36","v":0},{"$f":"'STAT. TRANSFERS'!AO8+'STAT. TRANSFERS'!AO18+'STAT. TRANSFERS'!AO21+'STAT. TRANSFERS'!AO27+'STAT. TRANSFERS'!AO33+'STAT. TRANSFERS'!AO36","v":0},{"$f":"'STAT. TRANSFERS'!AP8+'STAT. TRANSFERS'!AP18+'STAT. TRANSFERS'!AP21+'STAT. TRANSFERS'!AP27+'STAT. TRANSFERS'!AP33+'STAT. TRANSFERS'!AP36","v":0},{"$f":"'STAT. TRANSFERS'!AQ8+'STAT. TRANSFERS'!AQ18+'STAT. TRANSFERS'!AQ21+'STAT. TRANSFERS'!AQ27+'STAT. TRANSFERS'!AQ33+'STAT. TRANSFERS'!AQ36","v":0},{"$f":"'STAT. TRANSFERS'!AR8+'STAT. TRANSFERS'!AR18+'STAT. TRANSFERS'!AR21+'STAT. TRANSFERS'!AR27+'STAT. TRANSFERS'!AR33+'STAT. TRANSFERS'!AR36","v":0},{"$f":"'STAT. TRANSFERS'!AS8+'STAT. TRANSFERS'!AS18+'STAT. TRANSFERS'!AS21+'STAT. TRANSFERS'!AS27+'STAT. TRANSFERS'!AS33+'STAT. TRANSFERS'!AS36","v":0},{"$f":"'STAT. TRANSFERS'!AT8+'STAT. TRANSFERS'!AT18+'STAT. TRANSFERS'!AT21+'STAT. TRANSFERS'!AT27+'STAT. TRANSFERS'!AT33+'STAT. TRANSFERS'!AT36","v":0},{"$f":"'STAT. TRANSFERS'!AU8+'STAT. TRANSFERS'!AU18+'STAT. TRANSFERS'!AU21+'STAT. TRANSFERS'!AU27+'STAT. TRANSFERS'!AU33+'STAT. TRANSFERS'!AU36","v":0},{"$f":"'STAT. TRANSFERS'!AV8+'STAT. TRANSFERS'!AV18+'STAT. TRANSFERS'!AV21+'STAT. TRANSFERS'!AV27+'STAT. TRANSFERS'!AV33+'STAT. TRANSFERS'!AV36","v":0},{"$f":"'STAT. TRANSFERS'!AW8+'STAT. TRANSFERS'!AW18+'STAT. TRANSFERS'!AW21+'STAT. TRANSFERS'!AW27+'STAT. TRANSFERS'!AW33+'STAT. TRANSFERS'!AW36","v":0},{"$f":"'STAT. TRANSFERS'!AX8+'STAT. TRANSFERS'!AX18+'STAT. TRANSFERS'!AX21+'STAT. TRANSFERS'!AX27+'STAT. TRANSFERS'!AX33+'STAT. TRANSFERS'!AX36","v":0},{"$f":"'STAT. TRANSFERS'!AY8+'STAT. TRANSFERS'!AY18+'STAT. TRANSFERS'!AY21+'STAT. TRANSFERS'!AY27+'STAT. TRANSFERS'!AY33+'STAT. TRANSFERS'!AY36","v":0},{"$f":"'STAT. TRANSFERS'!AZ8+'STAT. TRANSFERS'!AZ18+'STAT. TRANSFERS'!AZ21+'STAT. TRANSFERS'!AZ27+'STAT. TRANSFERS'!AZ33+'STAT. TRANSFERS'!AZ36","v":0},{"$f":"'STAT. TRANSFERS'!BA8+'STAT. TRANSFERS'!BA18+'STAT. TRANSFERS'!BA21+'STAT. TRANSFERS'!BA27+'STAT. TRANSFERS'!BA33+'STAT. TRANSFERS'!BA36","v":0},{"$f":"'STAT. TRANSFERS'!BB8+'STAT. TRANSFERS'!BB18+'STAT. TRANSFERS'!BB21+'STAT. TRANSFERS'!BB27+'STAT. TRANSFERS'!BB33+'STAT. TRANSFERS'!BB36","v":0},{"$f":"'STAT. TRANSFERS'!BC8+'STAT. TRANSFERS'!BC18+'STAT. TRANSFERS'!BC21+'STAT. TRANSFERS'!BC27+'STAT. TRANSFERS'!BC33+'STAT. TRANSFERS'!BC36","v":0},{"$f":"'STAT. TRANSFERS'!BD8+'STAT. TRANSFERS'!BD18+'STAT. TRANSFERS'!BD21+'STAT. TRANSFERS'!BD27+'STAT. TRANSFERS'!BD33+'STAT. TRANSFERS'!BD36","v":0},{"$f":"'STAT. TRANSFERS'!BE8+'STAT. TRANSFERS'!BE18+'STAT. TRANSFERS'!BE21+'STAT. TRANSFERS'!BE27+'STAT. TRANSFERS'!BE33+'STAT. TRANSFERS'!BE36","v":0},{"$f":"'STAT. TRANSFERS'!BF8+'STAT. TRANSFERS'!BF18+'STAT. TRANSFERS'!BF21+'STAT. TRANSFERS'!BF27+'STAT. TRANSFERS'!BF33+'STAT. TRANSFERS'!BF36","v":0},{"$f":"'STAT. TRANSFERS'!BG8+'STAT. TRANSFERS'!BG18+'STAT. TRANSFERS'!BG21+'STAT. TRANSFERS'!BG27+'STAT. TRANSFERS'!BG33+'STAT. TRANSFERS'!BG36","v":0},{"$f":"'STAT. TRANSFERS'!BH8+'STAT. TRANSFERS'!BH18+'STAT. TRANSFERS'!BH21+'STAT. TRANSFERS'!BH27+'STAT. TRANSFERS'!BH33+'STAT. TRANSFERS'!BH36","v":0},{"$f":"'STAT. TRANSFERS'!BI8+'STAT. TRANSFERS'!BI18+'STAT. TRANSFERS'!BI21+'STAT. TRANSFERS'!BI27+'STAT. TRANSFERS'!BI33+'STAT. TRANSFERS'!BI36","v":0},{"$f":"'STAT. TRANSFERS'!BJ8+'STAT. TRANSFERS'!BJ18+'STAT. TRANSFERS'!BJ21+'STAT. TRANSFERS'!BJ27+'STAT. TRANSFERS'!BJ33+'STAT. TRANSFERS'!BJ36","v":0},{"$f":"'STAT. TRANSFERS'!BK8+'STAT. TRANSFERS'!BK18+'STAT. TRANSFERS'!BK21+'STAT. TRANSFERS'!BK27+'STAT. TRANSFERS'!BK33+'STAT. TRANSFERS'!BK36","v":0},{"$f":"'STAT. TRANSFERS'!BL8+'STAT. TRANSFERS'!BL18+'STAT. TRANSFERS'!BL21+'STAT. TRANSFERS'!BL27+'STAT. TRANSFERS'!BL33+'STAT. TRANSFERS'!BL36","v":0},{"$f":"'STAT. TRANSFERS'!BM8+'STAT. TRANSFERS'!BM18+'STAT. TRANSFERS'!BM21+'STAT. TRANSFERS'!BM27+'STAT. TRANSFERS'!BM33+'STAT. TRANSFERS'!BM36","v":0},{"$f":"'STAT. TRANSFERS'!BN8+'STAT. TRANSFERS'!BN18+'STAT. TRANSFERS'!BN21+'STAT. TRANSFERS'!BN27+'STAT. TRANSFERS'!BN33+'STAT. TRANSFERS'!BN36","v":0},{"$f":"'STAT. TRANSFERS'!BO8+'STAT. TRANSFERS'!BO18+'STAT. TRANSFERS'!BO21+'STAT. TRANSFERS'!BO27+'STAT. TRANSFERS'!BO33+'STAT. TRANSFERS'!BO36","v":0},{"$f":"'STAT. TRANSFERS'!BP8+'STAT. TRANSFERS'!BP18+'STAT. TRANSFERS'!BP21+'STAT. TRANSFERS'!BP27+'STAT. TRANSFERS'!BP33+'STAT. TRANSFERS'!BP36","v":0},null,null,null,null,null,null,null,null,null,null,null,null,null,null,null,null,null,null,null,null,null,null,null,null,null,null,null,null,null,null,null,null,null,null,null,null,null,null,null,null,null,null,null,null,null,null,null,null,null,null,null,null,null,null,null,"RA000","ENERGUSE","ST_JP_JSS_TAD","_Z","_Z","_Z","_Z","_Z","ENERGY","_Z","KTOE",null,"nrg_ind_cotd",null,"RA000","ST_JP_JSS_TAD",null,"KTOE","Agg.=SUM(countries)"]
["Total Gross Final Consumption of Energy from renewables [ktoe]",null,null,null,null,null,null,null,null,null,null,null,null,null,null,null,null,null,null,null,null,{"$f":"V110+V117-V118","v":0},0,0,0,0,0,0,0,0,0,0,0,0,0,0,0,0,0,0,0,0,0,0,0,0,0,0,0,0,0,0,0,{"$f":"BB110+BB117-BB118","v":0},0,0,0,0,0,0,0,0,0,0,0,0,0,0,null,null,null,null,null,null,null,null,null,null,null,null,null,null,null,null,null,null,null,null,null,null,null,null,null,null,null,null,null,null,null,null,null,null,null,null,null,null,null,null,null,null,null,null,null,null,null,null,null,null,null,null,null,null,null,"RA000","ENERGUSE","GFC_E_OT_NAVICAPA","_Z","_Z","_Z","_Z","_Z","ENERGY","_Z","KTOE",null,"nrg_ind_cotd",null,"RA000","GFC_E_OT_NAVICAPA",null,"KTOE","Agg.=SUM(countries)"]
[]
["Article 7 (5): Aviation adjustment"]
["Total Gross Final Consumption of Energy [ktoe]",null,null,null,null,null,null,null,null,null,null,null,null,null,null,null,null,null,null,null,null,{"$f":"V96+V78+V81","v":0},{"$f":"W96+W78+W81","v":0},0,0,0,0,0,0,0,0,0,0,0,0,0,0,0,0,0,0,0,0,0,0,0,0,0,0,0,0,0,0,0,0,0,0,0,0,0,0,0,0,0,0,0,0,0,null,null,null,null,null,null,null,null,null,null,null,null,null,null,null,null,null,null,null,null,null,null,null,null,null,null,null,null,null,null,null,null,null,null,null,null,null,null,null,null,null,null,null,null,null,null,null,null,null,null,null,null,null,null,null,"_T","ENERGUSE","GFC_E_OT_NAVICAPA","_Z","_Z","_Z","_Z","_Z","ENERGY","_Z","KTOE",null,"nrg_ind_cotd",null,"TOTAL","GFC_E_OT_NAVICAPA",null,"KTOE","Agg.=SUM(countries)"]
["Reported Energy Consumption in Aviation [ktoe]",null,null,null,null,null,null,null,null,null,null,null,null,null,null,null,null,null,null,null,null,{"$f":"(SUMPRODUCT(OIL!V226:V247,OIL!V58:V79)+SUMPRODUCT(OIL!V250:V271,OIL!V58:V79)+REN!V89*REN!V35)/41868","v":0},{"$f":"(SUMPRODUCT(OIL!W226:W247,OIL!W58:W79)+SUMPRODUCT(OIL!W250:W271,OIL!W58:W79)+REN!W89*REN!W35)/41868","v":0},{"$f":"(SUMPRODUCT(OIL!X226:X247,OIL!X58:X79)+SUMPRODUCT(OIL!X250:X271,OIL!X58:X79)+REN!X89*REN!X35)/41868","v":0},{"$f":"(SUMPRODUCT(OIL!Y226:Y247,OIL!Y58:Y79)+SUMPRODUCT(OIL!Y250:Y271,OIL!Y58:Y79)+REN!Y89*REN!Y35)/41868","v":0},{"$f":"(SUMPRODUCT(OIL!Z226:Z247,OIL!Z58:Z79)+SUMPRODUCT(OIL!Z250:Z271,OIL!Z58:Z79)+REN!Z89*REN!Z35)/41868","v":0},{"$f":"(SUMPRODUCT(OIL!AA226:AA247,OIL!AA58:AA79)+SUMPRODUCT(OIL!AA250:AA271,OIL!AA58:AA79)+REN!AA89*REN!AA35)/41868","v":0},{"$f":"(SUMPRODUCT(OIL!AB226:AB247,OIL!AB58:AB79)+SUMPRODUCT(OIL!AB250:AB271,OIL!AB58:AB79)+REN!AB89*REN!AB35)/41868","v":0},{"$f":"(SUMPRODUCT(OIL!AC226:AC247,OIL!AC58:AC79)+SUMPRODUCT(OIL!AC250:AC271,OIL!AC58:AC79)+REN!AC89*REN!AC35)/41868","v":0},{"$f":"(SUMPRODUCT(OIL!AD226:AD247,OIL!AD58:AD79)+SUMPRODUCT(OIL!AD250:AD271,OIL!AD58:AD79)+REN!AD89*REN!AD35)/41868","v":0},{"$f":"(SUMPRODUCT(OIL!AE226:AE247,OIL!AE58:AE79)+SUMPRODUCT(OIL!AE250:AE271,OIL!AE58:AE79)+REN!AE89*REN!AE35)/41868","v":0},{"$f":"(SUMPRODUCT(OIL!AF226:AF247,OIL!AF58:AF79)+SUMPRODUCT(OIL!AF250:AF271,OIL!AF58:AF79)+REN!AF89*REN!AF35)/41868","v":0},{"$f":"(SUMPRODUCT(OIL!AG226:AG247,OIL!AG58:AG79)+SUMPRODUCT(OIL!AG250:AG271,OIL!AG58:AG79)+REN!AG89*REN!AG35)/41868","v":0},{"$f":"(SUMPRODUCT(OIL!AH226:AH247,OIL!AH58:AH79)+SUMPRODUCT(OIL!AH250:AH271,OIL!AH58:AH79)+REN!AH89*REN!AH35)/41868","v":0},{"$f":"(SUMPRODUCT(OIL!AI226:AI247,OIL!AI58:AI79)+SUMPRODUCT(OIL!AI250:AI271,OIL!AI58:AI79)+REN!AI89*REN!AI35)/41868","v":0},{"$f":"(SUMPRODUCT(OIL!AJ226:AJ247,OIL!AJ58:AJ79)+SUMPRODUCT(OIL!AJ250:AJ271,OIL!AJ58:AJ79)+REN!AJ89*REN!AJ35)/41868","v":0},{"$f":"(SUMPRODUCT(OIL!AK226:AK247,OIL!AK58:AK79)+SUMPRODUCT(OIL!AK250:AK271,OIL!AK58:AK79)+REN!AK89*REN!AK35)/41868","v":0},{"$f":"(SUMPRODUCT(OIL!AL226:AL247,OIL!AL58:AL79)+SUMPRODUCT(OIL!AL250:AL271,OIL!AL58:AL79)+REN!AL89*REN!AL35)/41868","v":0},{"$f":"(SUMPRODUCT(OIL!AM226:AM247,OIL!AM58:AM79)+SUMPRODUCT(OIL!AM250:AM271,OIL!AM58:AM79)+REN!AM89*REN!AM35)/41868","v":0},{"$f":"(SUMPRODUCT(OIL!AN226:AN247,OIL!AN58:AN79)+SUMPRODUCT(OIL!AN250:AN271,OIL!AN58:AN79)+REN!AN89*REN!AN35)/41868","v":0},{"$f":"(SUMPRODUCT(OIL!AO226:AO247,OIL!AO58:AO79)+SUMPRODUCT(OIL!AO250:AO271,OIL!AO58:AO79)+REN!AO89*REN!AO35)/41868","v":0},{"$f":"(SUMPRODUCT(OIL!AP226:AP247,OIL!AP58:AP79)+SUMPRODUCT(OIL!AP250:AP271,OIL!AP58:AP79)+REN!AP89*REN!AP35)/41868","v":0},{"$f":"(SUMPRODUCT(OIL!AQ226:AQ247,OIL!AQ58:AQ79)+SUMPRODUCT(OIL!AQ250:AQ271,OIL!AQ58:AQ79)+REN!AQ89*REN!AQ35)/41868","v":0},{"$f":"(SUMPRODUCT(OIL!AR226:AR247,OIL!AR58:AR79)+SUMPRODUCT(OIL!AR250:AR271,OIL!AR58:AR79)+REN!AR89*REN!AR35)/41868","v":0},{"$f":"(SUMPRODUCT(OIL!AS226:AS247,OIL!AS58:AS79)+SUMPRODUCT(OIL!AS250:AS271,OIL!AS58:AS79)+REN!AS89*REN!AS35)/41868","v":0},{"$f":"(SUMPRODUCT(OIL!AT226:AT247,OIL!AT58:AT79)+SUMPRODUCT(OIL!AT250:AT271,OIL!AT58:AT79)+REN!AT89*REN!AT35)/41868","v":0},{"$f":"(SUMPRODUCT(OIL!AU226:AU247,OIL!AU58:AU79)+SUMPRODUCT(OIL!AU250:AU271,OIL!AU58:AU79)+REN!AU89*REN!AU35)/41868","v":0},{"$f":"(SUMPRODUCT(OIL!AV226:AV247,OIL!AV58:AV79)+SUMPRODUCT(OIL!AV250:AV271,OIL!AV58:AV79)+REN!AV89*REN!AV35)/41868","v":0},{"$f":"(SUMPRODUCT(OIL!AW226:AW247,OIL!AW58:AW79)+SUMPRODUCT(OIL!AW250:AW271,OIL!AW58:AW79)+REN!AW89*REN!AW35)/41868","v":0},{"$f":"(SUMPRODUCT(OIL!AX226:AX247,OIL!AX58:AX79)+SUMPRODUCT(OIL!AX250:AX271,OIL!AX58:AX79)+REN!AX89*REN!AX35)/41868","v":0},{"$f":"(SUMPRODUCT(OIL!AY226:AY247,OIL!AY58:AY79)+SUMPRODUCT(OIL!AY250:AY271,OIL!AY58:AY79)+REN!AY89*REN!AY35)/41868","v":0},{"$f":"(SUMPRODUCT(OIL!AZ226:AZ247,OIL!AZ58:AZ79)+SUMPRODUCT(OIL!AZ250:AZ271,OIL!AZ58:AZ79)+REN!AZ89*REN!AZ35)/41868","v":0},{"$f":"(SUMPRODUCT(OIL!BA226:BA247,OIL!BA58:BA79)+SUMPRODUCT(OIL!BA250:BA271,OIL!BA58:BA79)+REN!BA89*REN!BA35)/41868","v":0},{"$f":"(SUMPRODUCT(OIL!BB226:BB247,OIL!BB58:BB79)+SUMPRODUCT(OIL!BB250:BB271,OIL!BB58:BB79)+REN!BB89*REN!BB35)/41868","v":0},{"$f":"(SUMPRODUCT(OIL!BC226:BC247,OIL!BC58:BC79)+SUMPRODUCT(OIL!BC250:BC271,OIL!BC58:BC79)+REN!BC89*REN!BC35)/41868","v":0},{"$f":"(SUMPRODUCT(OIL!BD226:BD247,OIL!BD58:BD79)+SUMPRODUCT(OIL!BD250:BD271,OIL!BD58:BD79)+REN!BD89*REN!BD35)/41868","v":0},{"$f":"(SUMPRODUCT(OIL!BE226:BE247,OIL!BE58:BE79)+SUMPRODUCT(OIL!BE250:BE271,OIL!BE58:BE79)+REN!BE89*REN!BE35)/41868","v":0},{"$f":"(SUMPRODUCT(OIL!BF226:BF247,OIL!BF58:BF79)+SUMPRODUCT(OIL!BF250:BF271,OIL!BF58:BF79)+REN!BF89*REN!BF35)/41868","v":0},{"$f":"(SUMPRODUCT(OIL!BG226:BG247,OIL!BG58:BG79)+SUMPRODUCT(OIL!BG250:BG271,OIL!BG58:BG79)+REN!BG89*REN!BG35)/41868","v":0},{"$f":"(SUMPRODUCT(OIL!BH226:BH247,OIL!BH58:BH79)+SUMPRODUCT(OIL!BH250:BH271,OIL!BH58:BH79)+REN!BH89*REN!BH35)/41868","v":0},{"$f":"(SUMPRODUCT(OIL!BI226:BI247,OIL!BI58:BI79)+SUMPRODUCT(OIL!BI250:BI271,OIL!BI58:BI79)+REN!BI89*REN!BI35)/41868","v":0},{"$f":"(SUMPRODUCT(OIL!BJ226:BJ247,OIL!BJ58:BJ79)+SUMPRODUCT(OIL!BJ250:BJ271,OIL!BJ58:BJ79)+REN!BJ89*REN!BJ35)/41868","v":0},{"$f":"(SUMPRODUCT(OIL!BK226:BK247,OIL!BK58:BK79)+SUMPRODUCT(OIL!BK250:BK271,OIL!BK58:BK79)+REN!BK89*REN!BK35)/41868","v":0},{"$f":"(SUMPRODUCT(OIL!BL226:BL247,OIL!BL58:BL79)+SUMPRODUCT(OIL!BL250:BL271,OIL!BL58:BL79)+REN!BL89*REN!BL35)/41868","v":0},{"$f":"(SUMPRODUCT(OIL!BM226:BM247,OIL!BM58:BM79)+SUMPRODUCT(OIL!BM250:BM271,OIL!BM58:BM79)+REN!BM89*REN!BM35)/41868","v":0},{"$f":"(SUMPRODUCT(OIL!BN226:BN247,OIL!BN58:BN79)+SUMPRODUCT(OIL!BN250:BN271,OIL!BN58:BN79)+REN!BN89*REN!BN35)/41868","v":0},{"$f":"(SUMPRODUCT(OIL!BO226:BO247,OIL!BO58:BO79)+SUMPRODUCT(OIL!BO250:BO271,OIL!BO58:BO79)+REN!BO89*REN!BO35)/41868","v":0},{"$f":"(SUMPRODUCT(OIL!BP226:BP247,OIL!BP58:BP79)+SUMPRODUCT(OIL!BP250:BP271,OIL!BP58:BP79)+REN!BP89*REN!BP35)/41868","v":0},null,null,null,null,null,null,null,null,null,null,null,null,null,null,null,null,null,null,null,null,null,null,null,null,null,null,null,null,null,null,null,null,null,null,null,null,null,null,null,null,null,null,null,null,null,null,null,null,null,null,null,null,null,null,null,"_T","ENERGUSE","AVI_REC","_Z","_Z","_Z","_Z","_Z","ENERGY","_Z","KTOE",null,"nrg_ind_cotd",null,"TOTAL","AVI_REC",null,"KTOE","Agg.=SUM(countries)"]
["Actual Energy Consumption in Aviation [ktoe]",null,null,null,null,null,null,null,null,null,null,null,null,null,null,null,null,null,null,null,null,{"$f":"V123","v":0},0,0,0,0,0,0,0,0,0,0,0,0,0,0,0,0,{"$f":"AM123","v":0},0,0,0,0,0,0,0,0,0,0,0,{"$f":"AY123","v":0},0,0,0,0,0,0,0,0,0,0,0,0,0,0,0,0,0,null,null,null,null,null,null,null,null,null,null,null,null,null,null,null,null,null,null,null,null,null,null,null,null,null,null,null,null,null,null,null,null,null,null,null,null,null,null,null,null,null,null,null,null,null,null,null,null,null,null,null,null,null,null,null,"_T","ENERGUSE","AVI_AEC","_Z","_Z","_Z","_Z","_Z","ENERGY","_Z","KTOE",null,"nrg_ind_cotd",null,"TOTAL","AVI_AEC",null,"KTOE","Agg.=SUM(countries)"]
["Actual share of aviation in GFCoE [%]",null,null,null,null,null,null,null,null,null,null,null,null,null,null,null,null,null,null,null,null,{"$f":"IF(V122>0,V124/V122,0)","v":0},0,0,0,0,0,0,0,0,0,0,0,0,0,0,0,0,{"$f":"IF(AM122>0,AM124/AM122,0)","v":0},0,0,0,0,0,0,0,0,{"$f":"IF(AV122>0,AV124/AV122,0)","v":0},0,0,{"$f":"IF(AY122>0,AY124/AY122,0)","v":0},0,0,0,0,0,0,0,0,0,0,0,0,0,0,0,0,{"$f":"IF(BP122>0,BP124/BP122,0)","v":0},null,null,null,null,null,null,null,null,null,null,null,null,null,null,null,null,null,null,null,null,null,null,null,null,null,null,null,null,null,null,null,null,null,null,null,null,null,null,null,null,null,null,null,null,null,null,null,null,null,null,null,null,null,null,null,"_T","ENERGUSE","GFC_E_AVI_ASHR","_Z","_Z","_Z","_Z","_Z","NUMBER","_Z","PC",null,"nrg_ind_cotd",null,"TOTAL","GFC_E_AVI_ASHR",null,"PC","Agg.=100*[SUM(countries row 124) / SUM(countries row 122)]"]
["Aviation Cap [%]",null,null,null,null,null,null,null,null,null,null,null,null,null,null,null,null,null,null,null,null,{"$f":"IF(OR($A$5=\"Cyprus\",$A$5=\"Malta\"),0.0412,0.0618)","v":6.1800000000000001E-2},6.1800000000000001E-2,6.1800000000000001E-2,6.1800000000000001E-2,6.1800000000000001E-2,6.1800000000000001E-2,6.1800000000000001E-2,6.1800000000000001E-2,6.1800000000000001E-2,6.1800000000000001E-2,6.1800000000000001E-2,6.1800000000000001E-2,6.1800000000000001E-2,6.1800000000000001E-2,6.1800000000000001E-2,6.1800000000000001E-2,6.1800000000000001E-2,6.1800000000000001E-2,6.1800000000000001E-2,6.1800000000000001E-2,6.1800000000000001E-2,6.1800000000000001E-2,6.1800000000000001E-2,6.1800000000000001E-2,6.1800000000000001E-2,6.1800000000000001E-2,6.1800000000000001E-2,6.1800000000000001E-2,6.1800000000000001E-2,6.1800000000000001E-2,6.1800000000000001E-2,6.1800000000000001E-2,6.1800000000000001E-2,6.1800000000000001E-2,6.1800000000000001E-2,6.1800000000000001E-2,6.1800000000000001E-2,6.1800000000000001E-2,6.1800000000000001E-2,6.1800000000000001E-2,6.1800000000000001E-2,6.1800000000000001E-2,6.1800000000000001E-2,6.1800000000000001E-2,6.1800000000000001E-2,6.1800000000000001E-2,6.1800000000000001E-2,null,null,null,null,null,null,null,null,null,null,null,null,null,null,null,null,null,null,null,null,null,null,null,null,null,null,null,null,null,null,null,null,null,null,null,null,null,null,null,null,null,null,null,null,null,null,null,null,null,null,null,null,null,null,null,"_T","ENERGUSE","AVI_CAP","_Z","_Z","_Z","_Z","_Z","NUMBER","_Z","PC",null,"nrg_ind_cotd",null,"TOTAL","AVI_CAP",null,"PC","COUNTRY AGGREGATE IS NOT CALCULATED"]
["GFCoE adjusted [ktoe]",null,null,null,null,null,null,null,null,null,null,null,null,null,null,null,null,null,null,null,null,{"$f":"IF(V125>V126,V122*(1+V126-V125),V122)","v":0},0,0,0,0,0,0,0,0,0,0,0,0,0,0,0,0,{"$f":"IF(AM125>AM126,AM122*(1+AM126-AM125),AM122)","v":0},0,0,0,0,0,0,0,0,0,0,0,{"$f":"IF(AY125>AY126,AY122*(1+AY126-AY125),AY122)","v":0},0,0,0,0,0,0,0,0,0,0,0,0,0,0,0,0,0,null,null,null,null,null,null,null,null,null,null,null,null,null,null,null,null,null,null,null,null,null,null,null,null,null,null,null,null,null,null,null,null,null,null,null,null,null,null,null,null,null,null,null,null,null,null,null,null,null,null,null,null,null,null,null,"_T","ENERGUSE","GFC_E_OTA","_Z","_Z","_Z","_Z","_Z","ENERGY","_Z","KTOE",null,"nrg_ind_cotd",null,"TOTAL","GFC_E_OTA",null,"KTOE","Agg.=SUM(countries)"]
["RES [%]",null,null,null,null,null,null,null,null,null,null,null,null,null,null,null,null,null,null,null,null,{"$f":"IF(V127>0,V119/V127,\"\")","v":""},{"$f":"IF(W127>0,W119/W127,\"\")","v":""},"","","","","","","","","","","","","","","","","","","","","","","","","","","","","","","","","","","","","","","","","","","","","",null,null,null,null,null,null,null,null,null,null,null,null,null,null,null,null,null,null,null,null,null,null,null,null,null,null,null,null,null,null,null,null,null,null,null,null,null,null,null,null,null,null,null,null,null,null,null,null,null,null,null,null,null,null,null,"_Z","REN  ","_Z","_Z","_Z","_Z","_Z","_Z","_Z","_Z","PC",null,"nrg_ind_ren",null,"_Z","REN",null,"PC","Agg.=100*[SUM(countries row 119)/ SUM(countries row 127)]"]
[{"$f":"MAIN!$A$4","v":"v2024.120925"}]
[]
["% of bioliquids, biofuels and biomass fuels in transport from food and feed crops in 2020 for cap in overall target",null,null,null,null,null,null,null,null,null,null,null,null,null,null,null,null,null,null,null,null,null,null,null,null,null,null,null,null,null,null,null,null,null,null,null,null,null,{"$f":"IFERROR(0.07*AM111/AM112,0)","v":0},"In 2020",{"$f":"IF(AM113<>0,IF(AM113=AM131,\"NOT FILLED BY COUNTRY, 2021 VALUE TAKEN BY DEFAULT\",\"\"),\"\")","v":""}]
["% of high ILUC-risk bioliquids, biofuels and biomass fuels in 2019 for cap in overall target",null,null,null,null,null,null,null,null,null,null,null,null,null,null,null,null,null,null,null,null,null,null,null,null,null,null,null,null,null,null,null,null,null,null,null,null,null,{"$f":"IFERROR((3.6/41.868*(AM16-AM17+AM20-AM21)+AM53-AM54+AM69-AM70+AM73-AM74+TRANSPORT!AM90-TRANSPORT!AM91)/TRANSPORT!AM116,0)","v":0},"In 2019",{"$f":"IF(AM114<>0,IF(AM114=AM132,\"NOT FILLED BY COUNTRY, 2021 VALUE TAKEN BY DEFAULT\",\"\"),\"\")","v":""}]
[]
[]
[]
[]
[]
[]
[]
[]
[]
[]
[]
[]
[]
[]
[]
[]
[]
[]
[]
[]
[]
[]
[]
[]
[]
[]
[]
[]
[]
[]
[]
[]
[]
[]
[]
[]
[]
[]
[]
[]
[]
[]
[]
[]
[]
[]
[]
[]
[]
[]
[]
[]
[]
[]
[]
[]
[]
[]
[]
[]
[]
[]
[]
[]
[]
[]
[]
[]
[]
[]
[]
[]
[]
[]
[]
[]
[]
[]
[]
[]
[]
[]
[]
[]
[]
[]
[]
[]
[]
[]
[]
[]
[]
[]
[]
[]
[]
[]
[]
[]
[]
[]
[]
[]
[]
[]
[]
[]
[]
[]
[]
[]
[]
[]
[]
[]
[]
[]
[]
[]
[]
[]
[]
[]
[]
[]
[]
[]
[]
[]
[]
[]
[]
[]
[]
[]
[]
[]
[]
[]
[]
[]
[]
[]
[]
[]
[]
[]
[]
[]
[]
[]
[]
[]
[]
[]
[]
[]
[]
[]
[]
[]
[]
[]
[]
[]
[]
[]
[]
[]
[]
[]
[]
[]
[]
[]
[]
[]
[]
[]
[]
[]
[]
[]
[]
[]
[]
[]
[]
[]
[]
[]
[]
[]
[]
[]
[]
[]
[]
[]
[]
[]
[]
[]
[]
[]
[]
[]
[]
[]
[]
[]
[]
[]
[]
[]
[]
[]
[]
[]
[]
[]
[]
[]
[]
[]
[]
[]
[]
[]
[]
[]
[]
[]
[]
[]
[]
[]
[]
[]
[]
[]
[]
[]
[]
[]
[]
[]
[]
[]
[]
[]
[]
[]
[]
[]
[]
[]
[]
[]
[]
[]
[]
[]
[]
[]
[]
[]
[]
[]
[]
[]
[]
[]
[]
[]
[]
[]
[]
[]
[]
[]
[]
[]
[]
[]
[]
[]
[]
[]
[]
[]
[]
[]
[]
[]
[]
[]
[]
[]
[]
[]
[]
[]
[]
[]
[]
[]
[]
[]
[]
[]
[]
[]
[]
[]
[]
[]
[]
[]
[]
[]
[]
[]
[]
[]
[]
[]
[]
[]
[]
[]
[]
[]
[]
[]
[]
[]
[]
[]
[]
[]
[]
[]
[]
[]
[]
[]
[]
[]
[]
[]
[]
[]
[]
[]
[]
[]
[]
[]
[]
[]
[]
[]
[]
[]
[]
[]
[]
[]
[]
[]
[]
[]
[]
[]
[]
[]
[]
[]
[]
[]
[]
[]
[]
[]
[]
[]
[]
[]
[]
[]
[]
[]
[]
[]
[]
[]
[]
[]
[]
[]
[]
[]
[]
[]
[]
[]
[]
[]
[]
[]
[]
[]
[]
[]
[]
[]
[]
[]
[]
[]
[]
[]
[]
[]
[]
[]
[]
[]
[]
[]
[]
[]
[]
[]
[]
[]
[]
[]
[]
[]
[]
[]
[]
[]
[]
[]
[]
[]
[]
[]
[]
[]
[]
[]
[]
[]
[]
[]
[]
[]
[]
[]
[]
[]
[]
[]
[]
[]
[]
[]
[]
[]
[]
[]
[]
[]
[]
[]
[]
[]
[]
[]
[]
[]
[]
[]
[]
[]
[]
[]
[]
[]
[]
[]
[]
[]
[]
[]
[]
[]
[]
[]
[]
[]
[]
[]
[]
[]
[]
[]
[]
[]
[]
[]
[]
[]
[]
[]
[]
[]
[]
[]
[]
[]
[]
[]
[]
[]
[]
[]
[]
[]
[]
[]
[]
[]
[]
[]
[]
[]
[]
[]
[]
[]
[]
[]
[]
[]
[]
[]
[]
[]
[]
[]
[]
[]
[]
[]
[]
[]
[]
[]
[]
[]
[]
[]
[]
[]
[]
[]
[]
[]
[]
[]
[]
[]
[]
[]
[]
[]
[]
[]
[]
[]
[]
[]
[]
[]
[]
[]
[]
[]
[]
[]
[]
[]
[]
[]
[]
[]
[]
[]
[]
[]
[]
[]
[]
[]
[]
[]
[]
[]
[]
[]
[]
[]
[]
[]
[]
[]
[]
[]
[]
[]
[]
[]
[]
[]
[]
[]
[]
[]
[]
[]
[]
[]
[]
[]
[]
[]
[]
[]
[]
[]
[]
[]
[]
[]
[]
[]
[]
[]
[]
[]
[]
[]
[]
[]
[]
[]
[]
[]
[]
[]
[]
[]
[]
[]
[]
[]
[]
[]
[]
[]
[]
[]
[]
[]
[]
[]
[]
[]
[]
[]
[]
[]
[]
[]
[]
[]
[]
[]
[]
[]
[]
[]
[]
[]
[]
[]
[]
[]
[]
[]
[]
[]
[]
[]
[]
[]
[]
[]
[]
[]
[]
[]
[]
[]
[]
[]
[]
[]
[]
[]
[]
[]
[]
[]
[]
[]
[]
[]
[]
[]
[]
[]
[]
[]
[]
[]
[]
[]
[]
[]
[]
[]
[]
[]
[]
[]
[]
[]
[]
[]
[]
[]
[]
[]
[]
[]
[]
[]
[]
[]
[]
[]
[]
[]
[]
[]
[]
[]
[]
[]
[]
[]
[]
[]
[]
[]
[]
[]
[]
[]
[]
[]
[]
[]
[]
[]
[]
[]
[]
[]
[]
[]
[]
[]
[]
[]
[]
[]
[]
[]
[]
[]
[]
[]
[]
[]
[]
[]
[]
[]
[]
[]
[]
[]
[]
[]
[]
[]
[]
[]
[]
[]
[]
[]
[]
[]
[]
[]
[]
[]
[]
[]
[]
[]
[]
[]
[]
[]
[]
[]
[]
[]
[]
[]
[]
[]
[]
[]
[]
[]
[]
[]
[]
[]
[]
[]
[]
[]
[]
[]
[]
[null,null,null,null,null,null,null,null,null,null,null,null,null,null,null,null,null,null,null,null,null,null,null,null,null,null,null,null,null,null,null,null,null,null,null,null,null,null,{"$f":"IF(AM5<=$H1001, AM5, \"\")","v":2021},2022,2023,2024,"","","","","","","","","","","","","","","","","","","","","","","","","",""]
[null,null,null,null,null,null,null,{"$f":"IF(MONTH(NOW())<7, YEAR(NOW())-2, YEAR(NOW())-1)","v":2024}]

{"sheet":"TRANSPORT","index":4,"n_rows":1012,"n_cols":142,"rows_kept":1012,"cut":false,"hidden":false,"merged":[[116,0,116,6]]}
[null,null,null,null,null,null,null,null,null,null,null,null,null,null,null,null,null,null,null,null,null,null,null,null,null,null,null,null,null,null,null,null,null,null,null,null,null,null,{"$f":"MAIN!$D$9","v":""}]
[null,null,null,null,null,null,null,null,null,null,null,null,null,null,null,null,null,null,null,null,null,null,null,null,null,null,null,null,null,null,null,null,null,null,null,null,null,null,"Due to different legal basis, data prior to 2021 in this tool have no legal value and are only intended for data quality checks"]
["Transport sector",null,null,null,null,null,null,null,null,null,null,null,null,null,null,null,null,null,null,null,null,null,null,null,null,null,null,null,null,null,null,null,null,null,null,null,null,null,"Please consult https://ec.europa.eu/eurostat/web/energy/data/shares for results up to 2020."]
["units: ktoe",null,null,null,null,null,null,null,null,null,null,null,null,null,null,null,null,null,null,null,null,null,null,null,null,null,null,null,null,null,null,null,null,null,null,null,null,null,null,null,null,null,null,null,null,null,null,null,null,null,null,null,null,null,null,null,null,null,null,null,null,null,null,null,null,null,null,null,null,null,null,null,null,null,null,null,null,null,null,null,null,null,null,null,null,null,null,null,null,null,null,null,null,null,null,null,null,null,null,null,null,null,null,null,null,null,null,null,null,null,null,null,null,null,null,null,null,null,null,null,null,null,"*** DSD codes ***"]
[null,null,null,null,null,null,null,1990,1991,1992,1993,1994,1995,1996,1997,1998,1999,2000,2001,2002,2003,2004,2005,2006,2007,2008,2009,2010,2011,2012,2013,2014,2015,2016,2017,2018,2019,2020,2021,2022,2023,2024,2025,2026,2027,2028,2029,2030,2031,2032,2033,2034,2035,2036,2037,2038,2039,2040,2041,2042,2043,2044,2045,2046,2047,2048,2049,2050,null,null,null,null,null,null,null,null,null,null,null,null,null,null,null,null,null,null,null,null,null,null,null,null,null,null,null,null,null,null,null,null,null,null,null,null,null,null,null,null,null,null,null,null,null,null,null,null,null,null,null,null,null,null,"REF_AREA","ENERGY_PRODUCT","MAIN_FLOW","FLOW_BREAKDOWN","PLANT_TECH","PLANT_TYPE","STOCKS","INFRASTRUCTURE_IND","VIS_A_VIS_AREA","MEASURE_VALUE_TYPE","FACILITY_ID","UNIT_MEASURE",null,"Eurobase dataset","MDT","MDT","MDT","MDT","MDT","Formula for country aggregates (Agg.)"]
["Reported use of biofuels in transport (data from annual energy questionnaires) [ktoe]"]
[null,"OIL questionnaire"]
[null,null,"Biogasoline",null,null,null,null,{"$f":"OIL!H160*OIL!H64/41868","v":0},{"$f":"OIL!I160*OIL!I64/41868","v":0},{"$f":"OIL!J160*OIL!J64/41868","v":0},{"$f":"OIL!K160*OIL!K64/41868","v":0},{"$f":"OIL!L160*OIL!L64/41868","v":0},{"$f":"OIL!M160*OIL!M64/41868","v":0},{"$f":"OIL!N160*OIL!N64/41868","v":0},{"$f":"OIL!O160*OIL!O64/41868","v":0},{"$f":"OIL!P160*OIL!P64/41868","v":0},{"$f":"OIL!Q160*OIL!Q64/41868","v":0},{"$f":"OIL!R160*OIL!R64/41868","v":0},{"$f":"OIL!S160*OIL!S64/41868","v":0},{"$f":"OIL!T160*OIL!T64/41868","v":0},{"$f":"OIL!U160*OIL!U64/41868","v":0},{"$f":"OIL!V160*OIL!V64/41868","v":0},{"$f":"OIL!W160*OIL!W64/41868","v":0},{"$f":"OIL!X160*OIL!X64/41868","v":0},{"$f":"OIL!Y160*OIL!Y64/41868","v":0},{"$f":"OIL!Z160*OIL!Z64/41868","v":0},{"$f":"OIL!AA160*OIL!AA64/41868","v":0},{"$f":"OIL!AB160*OIL!AB64/41868","v":0},{"$f":"OIL!AC160*OIL!AC64/41868","v":0},{"$f":"OIL!AD160*OIL!AD64/41868","v":0},{"$f":"OIL!AE160*OIL!AE64/41868","v":0},{"$f":"OIL!AF160*OIL!AF64/41868","v":0},{"$f":"OIL!AG160*OIL!AG64/41868","v":0},{"$f":"OIL!AH160*OIL!AH64/41868","v":0},{"$f":"OIL!AI160*OIL!AI64/41868","v":0},{"$f":"OIL!AJ160*OIL!AJ64/41868","v":0},{"$f":"OIL!AK160*OIL!AK64/41868","v":0},{"$f":"OIL!AL160*OIL!AL64/41868","v":0},{"$f":"OIL!AM160*OIL!AM64/41868","v":0},{"$f":"OIL!AN160*OIL!AN64/41868","v":0},{"$f":"OIL!AO160*OIL!AO64/41868","v":0},{"$f":"OIL!AP160*OIL!AP64/41868","v":0},{"$f":"OIL!AQ160*OIL!AQ64/41868","v":0},{"$f":"OIL!AR160*OIL!AR64/41868","v":0},{"$f":"OIL!AS160*OIL!AS64/41868","v":0},{"$f":"OIL!AT160*OIL!AT64/41868","v":0},{"$f":"OIL!AU160*OIL!AU64/41868","v":0},{"$f":"OIL!AV160*OIL!AV64/41868","v":0},{"$f":"OIL!AW160*OIL!AW64/41868","v":0},{"$f":"OIL!AX160*OIL!AX64/41868","v":0},{"$f":"OIL!AY160*OIL!AY64/41868","v":0},{"$f":"OIL!AZ160*OIL!AZ64/41868","v":0},{"$f":"OIL!BA160*OIL!BA64/41868","v":0},{"$f":"OIL!BB160*OIL!BB64/41868","v":0},{"$f":"OIL!BC160*OIL!BC64/41868","v":0},{"$f":"OIL!BD160*OIL!BD64/41868","v":0},{"$f":"OIL!BE160*OIL!BE64/41868","v":0},{"$f":"OIL!BF160*OIL!BF64/41868","v":0},{"$f":"OIL!BG160*OIL!BG64/41868","v":0},{"$f":"OIL!BH160*OIL!BH64/41868","v":0},{"$f":"OIL!BI160*OIL!BI64/41868","v":0},{"$f":"OIL!BJ160*OIL!BJ64/41868","v":0},{"$f":"OIL!BK160*OIL!BK64/41868","v":0},{"$f":"OIL!BL160*OIL!BL64/41868","v":0},{"$f":"OIL!BM160*OIL!BM64/41868","v":0},{"$f":"OIL!BN160*OIL!BN64/41868","v":0},{"$f":"OIL!BO160*OIL!BO64/41868","v":0},{"$f":"OIL!BP160*OIL!BP64/41868","v":0}]
[null,null,"Bio jet kerosene",null,null,null,null,{"$f":"OIL!H164*OIL!H68/41868","v":0},{"$f":"OIL!I164*OIL!I68/41868","v":0},{"$f":"OIL!J164*OIL!J68/41868","v":0},{"$f":"OIL!K164*OIL!K68/41868","v":0},{"$f":"OIL!L164*OIL!L68/41868","v":0},{"$f":"OIL!M164*OIL!M68/41868","v":0},{"$f":"OIL!N164*OIL!N68/41868","v":0},{"$f":"OIL!O164*OIL!O68/41868","v":0},{"$f":"OIL!P164*OIL!P68/41868","v":0},{"$f":"OIL!Q164*OIL!Q68/41868","v":0},{"$f":"OIL!R164*OIL!R68/41868","v":0},{"$f":"OIL!S164*OIL!S68/41868","v":0},{"$f":"OIL!T164*OIL!T68/41868","v":0},{"$f":"OIL!U164*OIL!U68/41868","v":0},{"$f":"OIL!V164*OIL!V68/41868","v":0},{"$f":"OIL!W164*OIL!W68/41868","v":0},{"$f":"OIL!X164*OIL!X68/41868","v":0},{"$f":"OIL!Y164*OIL!Y68/41868","v":0},{"$f":"OIL!Z164*OIL!Z68/41868","v":0},{"$f":"OIL!AA164*OIL!AA68/41868","v":0},{"$f":"OIL!AB164*OIL!AB68/41868","v":0},{"$f":"OIL!AC164*OIL!AC68/41868","v":0},{"$f":"OIL!AD164*OIL!AD68/41868","v":0},{"$f":"OIL!AE164*OIL!AE68/41868","v":0},{"$f":"OIL!AF164*OIL!AF68/41868","v":0},{"$f":"OIL!AG164*OIL!AG68/41868","v":0},{"$f":"OIL!AH164*OIL!AH68/41868","v":0},{"$f":"OIL!AI164*OIL!AI68/41868","v":0},{"$f":"OIL!AJ164*OIL!AJ68/41868","v":0},{"$f":"OIL!AK164*OIL!AK68/41868","v":0},{"$f":"OIL!AL164*OIL!AL68/41868","v":0},{"$f":"OIL!AM164*OIL!AM68/41868","v":0},{"$f":"OIL!AN164*OIL!AN68/41868","v":0},{"$f":"OIL!AO164*OIL!AO68/41868","v":0},{"$f":"OIL!AP164*OIL!AP68/41868","v":0},{"$f":"OIL!AQ164*OIL!AQ68/41868","v":0},{"$f":"OIL!AR164*OIL!AR68/41868","v":0},{"$f":"OIL!AS164*OIL!AS68/41868","v":0},{"$f":"OIL!AT164*OIL!AT68/41868","v":0},{"$f":"OIL!AU164*OIL!AU68/41868","v":0},{"$f":"OIL!AV164*OIL!AV68/41868","v":0},{"$f":"OIL!AW164*OIL!AW68/41868","v":0},{"$f":"OIL!AX164*OIL!AX68/41868","v":0},{"$f":"OIL!AY164*OIL!AY68/41868","v":0},{"$f":"OIL!AZ164*OIL!AZ68/41868","v":0},{"$f":"OIL!BA164*OIL!BA68/41868","v":0},{"$f":"OIL!BB164*OIL!BB68/41868","v":0},{"$f":"OIL!BC164*OIL!BC68/41868","v":0},{"$f":"OIL!BD164*OIL!BD68/41868","v":0},{"$f":"OIL!BE164*OIL!BE68/41868","v":0},{"$f":"OIL!BF164*OIL!BF68/41868","v":0},{"$f":"OIL!BG164*OIL!BG68/41868","v":0},{"$f":"OIL!BH164*OIL!BH68/41868","v":0},{"$f":"OIL!BI164*OIL!BI68/41868","v":0},{"$f":"OIL!BJ164*OIL!BJ68/41868","v":0},{"$f":"OIL!BK164*OIL!BK68/41868","v":0},{"$f":"OIL!BL164*OIL!BL68/41868","v":0},{"$f":"OIL!BM164*OIL!BM68/41868","v":0},{"$f":"OIL!BN164*OIL!BN68/41868","v":0},{"$f":"OIL!BO164*OIL!BO68/41868","v":0},{"$f":"OIL!BP164*OIL!BP68/41868","v":0}]
[null,null,"Biodiesels",null,null,null,null,{"$f":"OIL!H167*OIL!H71/41868","v":0},{"$f":"OIL!I167*OIL!I71/41868","v":0},{"$f":"OIL!J167*OIL!J71/41868","v":0},{"$f":"OIL!K167*OIL!K71/41868","v":0},{"$f":"OIL!L167*OIL!L71/41868","v":0},{"$f":"OIL!M167*OIL!M71/41868","v":0},{"$f":"OIL!N167*OIL!N71/41868","v":0},{"$f":"OIL!O167*OIL!O71/41868","v":0},{"$f":"OIL!P167*OIL!P71/41868","v":0},{"$f":"OIL!Q167*OIL!Q71/41868","v":0},{"$f":"OIL!R167*OIL!R71/41868","v":0},{"$f":"OIL!S167*OIL!S71/41868","v":0},{"$f":"OIL!T167*OIL!T71/41868","v":0},{"$f":"OIL!U167*OIL!U71/41868","v":0},{"$f":"OIL!V167*OIL!V71/41868","v":0},{"$f":"OIL!W167*OIL!W71/41868","v":0},{"$f":"OIL!X167*OIL!X71/41868","v":0},{"$f":"OIL!Y167*OIL!Y71/41868","v":0},{"$f":"OIL!Z167*OIL!Z71/41868","v":0},{"$f":"OIL!AA167*OIL!AA71/41868","v":0},{"$f":"OIL!AB167*OIL!AB71/41868","v":0},{"$f":"OIL!AC167*OIL!AC71/41868","v":0},{"$f":"OIL!AD167*OIL!AD71/41868","v":0},{"$f":"OIL!AE167*OIL!AE71/41868","v":0},{"$f":"OIL!AF167*OIL!AF71/41868","v":0},{"$f":"OIL!AG167*OIL!AG71/41868","v":0},{"$f":"OIL!AH167*OIL!AH71/41868","v":0},{"$f":"OIL!AI167*OIL!AI71/41868","v":0},{"$f":"OIL!AJ167*OIL!AJ71/41868","v":0},{"$f":"OIL!AK167*OIL!AK71/41868","v":0},{"$f":"OIL!AL167*OIL!AL71/41868","v":0},{"$f":"OIL!AM167*OIL!AM71/41868","v":0},{"$f":"OIL!AN167*OIL!AN71/41868","v":0},{"$f":"OIL!AO167*OIL!AO71/41868","v":0},{"$f":"OIL!AP167*OIL!AP71/41868","v":0},{"$f":"OIL!AQ167*OIL!AQ71/41868","v":0},{"$f":"OIL!AR167*OIL!AR71/41868","v":0},{"$f":"OIL!AS167*OIL!AS71/41868","v":0},{"$f":"OIL!AT167*OIL!AT71/41868","v":0},{"$f":"OIL!AU167*OIL!AU71/41868","v":0},{"$f":"OIL!AV167*OIL!AV71/41868","v":0},{"$f":"OIL!AW167*OIL!AW71/41868","v":0},{"$f":"OIL!AX167*OIL!AX71/41868","v":0},{"$f":"OIL!AY167*OIL!AY71/41868","v":0},{"$f":"OIL!AZ167*OIL!AZ71/41868","v":0},{"$f":"OIL!BA167*OIL!BA71/41868","v":0},{"$f":"OIL!BB167*OIL!BB71/41868","v":0},{"$f":"OIL!BC167*OIL!BC71/41868","v":0},{"$f":"OIL!BD167*OIL!BD71/41868","v":0},{"$f":"OIL!BE167*OIL!BE71/41868","v":0},{"$f":"OIL!BF167*OIL!BF71/41868","v":0},{"$f":"OIL!BG167*OIL!BG71/41868","v":0},{"$f":"OIL!BH167*OIL!BH71/41868","v":0},{"$f":"OIL!BI167*OIL!BI71/41868","v":0},{"$f":"OIL!BJ167*OIL!BJ71/41868","v":0},{"$f":"OIL!BK167*OIL!BK71/41868","v":0},{"$f":"OIL!BL167*OIL!BL71/41868","v":0},{"$f":"OIL!BM167*OIL!BM71/41868","v":0},{"$f":"OIL!BN167*OIL!BN71/41868","v":0},{"$f":"OIL!BO167*OIL!BO71/41868","v":0},{"$f":"OIL!BP167*OIL!BP71/41868","v":0}]
[null,"NATURAL GAS questionnaire"]
[null,null,"Biogas blended in the grid",null,null,null,null,{"$f":"GAS!H23*GAS!H13*900/41868","v":0},{"$f":"GAS!I23*GAS!I13*900/41868","v":0},{"$f":"GAS!J23*GAS!J13*900/41868","v":0},{"$f":"GAS!K23*GAS!K13*900/41868","v":0},{"$f":"GAS!L23*GAS!L13*900/41868","v":0},{"$f":"GAS!M23*GAS!M13*900/41868","v":0},{"$f":"GAS!N23*GAS!N13*900/41868","v":0},{"$f":"GAS!O23*GAS!O13*900/41868","v":0},{"$f":"GAS!P23*GAS!P13*900/41868","v":0},{"$f":"GAS!Q23*GAS!Q13*900/41868","v":0},{"$f":"GAS!R23*GAS!R13*900/41868","v":0},{"$f":"GAS!S23*GAS!S13*900/41868","v":0},{"$f":"GAS!T23*GAS!T13*900/41868","v":0},{"$f":"GAS!U23*GAS!U13*900/41868","v":0},{"$f":"GAS!V27*GAS!V13*900/41868","v":0},{"$f":"GAS!W27*GAS!W13*900/41868","v":0},{"$f":"GAS!X27*GAS!X13*900/41868","v":0},{"$f":"GAS!Y27*GAS!Y13*900/41868","v":0},{"$f":"GAS!Z27*GAS!Z13*900/41868","v":0},{"$f":"GAS!AA27*GAS!AA13*900/41868","v":0},{"$f":"GAS!AB27*GAS!AB13*900/41868","v":0},{"$f":"GAS!AC27*GAS!AC13*900/41868","v":0},{"$f":"GAS!AD27*GAS!AD13*900/41868","v":0},{"$f":"GAS!AE27*GAS!AE13*900/41868","v":0},{"$f":"GAS!AF27*GAS!AF13*900/41868","v":0},{"$f":"GAS!AG27*GAS!AG13*900/41868","v":0},{"$f":"GAS!AH27*GAS!AH13*900/41868","v":0},{"$f":"GAS!AI27*GAS!AI13*900/41868","v":0},{"$f":"GAS!AJ27*GAS!AJ13*900/41868","v":0},{"$f":"GAS!AK27*GAS!AK13*900/41868","v":0},{"$f":"GAS!AL27*GAS!AL13*900/41868","v":0},{"$f":"GAS!AM27*GAS!AM13*900/41868","v":0},{"$f":"GAS!AN27*GAS!AN13*900/41868","v":0},{"$f":"GAS!AO27*GAS!AO13*900/41868","v":0},{"$f":"GAS!AP27*GAS!AP13*900/41868","v":0},{"$f":"GAS!AQ27*GAS!AQ13*900/41868","v":0},{"$f":"GAS!AR27*GAS!AR13*900/41868","v":0},{"$f":"GAS!AS27*GAS!AS13*900/41868","v":0},{"$f":"GAS!AT27*GAS!AT13*900/41868","v":0},{"$f":"GAS!AU27*GAS!AU13*900/41868","v":0},{"$f":"GAS!AV27*GAS!AV13*900/41868","v":0},{"$f":"GAS!AW27*GAS!AW13*900/41868","v":0},{"$f":"GAS!AX27*GAS!AX13*900/41868","v":0},{"$f":"GAS!AY27*GAS!AY13*900/41868","v":0},{"$f":"GAS!AZ27*GAS!AZ13*900/41868","v":0},{"$f":"GAS!BA27*GAS!BA13*900/41868","v":0},{"$f":"GAS!BB27*GAS!BB13*900/41868","v":0},{"$f":"GAS!BC27*GAS!BC13*900/41868","v":0},{"$f":"GAS!BD27*GAS!BD13*900/41868","v":0},{"$f":"GAS!BE27*GAS!BE13*900/41868","v":0},{"$f":"GAS!BF27*GAS!BF13*900/41868","v":0},{"$f":"GAS!BG27*GAS!BG13*900/41868","v":0},{"$f":"GAS!BH27*GAS!BH13*900/41868","v":0},{"$f":"GAS!BI27*GAS!BI13*900/41868","v":0},{"$f":"GAS!BJ27*GAS!BJ13*900/41868","v":0},{"$f":"GAS!BK27*GAS!BK13*900/41868","v":0},{"$f":"GAS!BL27*GAS!BL13*900/41868","v":0},{"$f":"GAS!BM27*GAS!BM13*900/41868","v":0},{"$f":"GAS!BN27*GAS!BN13*900/41868","v":0},{"$f":"GAS!BO27*GAS!BO13*900/41868","v":0},{"$f":"GAS!BP27*GAS!BP13*900/41868","v":0}]
[null,null,"Biogas in road transport",null,null,null,null,{"$f":"GAS!H16*900/41868","v":0},{"$f":"GAS!I16*900/41868","v":0},{"$f":"GAS!J16*900/41868","v":0},{"$f":"GAS!K16*900/41868","v":0},{"$f":"GAS!L16*900/41868","v":0},{"$f":"GAS!M16*900/41868","v":0},{"$f":"GAS!N16*900/41868","v":0},{"$f":"GAS!O16*900/41868","v":0},{"$f":"GAS!P16*900/41868","v":0},{"$f":"GAS!Q16*900/41868","v":0},{"$f":"GAS!R16*900/41868","v":0},{"$f":"GAS!S16*900/41868","v":0},{"$f":"GAS!T16*900/41868","v":0},{"$f":"GAS!U16*900/41868","v":0},{"$f":"GAS!V16*900/41868","v":0},{"$f":"GAS!W16*900/41868","v":0},{"$f":"GAS!X16*900/41868","v":0},{"$f":"GAS!Y16*900/41868","v":0},{"$f":"GAS!Z16*900/41868","v":0},{"$f":"GAS!AA16*900/41868","v":0},{"$f":"GAS!AB16*900/41868","v":0},{"$f":"GAS!AC16*900/41868","v":0},{"$f":"GAS!AD16*900/41868","v":0},{"$f":"GAS!AE16*900/41868","v":0},{"$f":"GAS!AF16*900/41868","v":0},{"$f":"GAS!AG16*900/41868","v":0},{"$f":"GAS!AH16*900/41868","v":0},{"$f":"GAS!AI16*900/41868","v":0},{"$f":"GAS!AJ16*900/41868","v":0},{"$f":"GAS!AK16*900/41868","v":0},{"$f":"GAS!AL16*900/41868","v":0},{"$f":"GAS!AM16*900/41868","v":0},{"$f":"GAS!AN16*900/41868","v":0},{"$f":"GAS!AO16*900/41868","v":0},{"$f":"GAS!AP16*900/41868","v":0},{"$f":"GAS!AQ16*900/41868","v":0},{"$f":"GAS!AR16*900/41868","v":0},{"$f":"GAS!AS16*900/41868","v":0},{"$f":"GAS!AT16*900/41868","v":0},{"$f":"GAS!AU16*900/41868","v":0},{"$f":"GAS!AV16*900/41868","v":0},{"$f":"GAS!AW16*900/41868","v":0},{"$f":"GAS!AX16*900/41868","v":0},{"$f":"GAS!AY16*900/41868","v":0},{"$f":"GAS!AZ16*900/41868","v":0},{"$f":"GAS!BA16*900/41868","v":0},{"$f":"GAS!BB16*900/41868","v":0},{"$f":"GAS!BC16*900/41868","v":0},{"$f":"GAS!BD16*900/41868","v":0},{"$f":"GAS!BE16*900/41868","v":0},{"$f":"GAS!BF16*900/41868","v":0},{"$f":"GAS!BG16*900/41868","v":0},{"$f":"GAS!BH16*900/41868","v":0},{"$f":"GAS!BI16*900/41868","v":0},{"$f":"GAS!BJ16*900/41868","v":0},{"$f":"GAS!BK16*900/41868","v":0},{"$f":"GAS!BL16*900/41868","v":0},{"$f":"GAS!BM16*900/41868","v":0},{"$f":"GAS!BN16*900/41868","v":0},{"$f":"GAS!BO16*900/41868","v":0},{"$f":"GAS!BP16*900/41868","v":0}]
[null,null,"Biomethane injected in the grid accounted towards transport",null,null,null,null,null,null,null,null,null,null,null,null,null,null,null,null,null,null,{"$f":"GAS!V24*900/41868","v":0},{"$f":"GAS!W24*900/41868","v":0},{"$f":"GAS!X24*900/41868","v":0},{"$f":"GAS!Y24*900/41868","v":0},{"$f":"GAS!Z24*900/41868","v":0},{"$f":"GAS!AA24*900/41868","v":0},{"$f":"GAS!AB24*900/41868","v":0},{"$f":"GAS!AC24*900/41868","v":0},{"$f":"GAS!AD24*900/41868","v":0},{"$f":"GAS!AE24*900/41868","v":0},{"$f":"GAS!AF24*900/41868","v":0},{"$f":"GAS!AG24*900/41868","v":0},{"$f":"GAS!AH24*900/41868","v":0},{"$f":"GAS!AI24*900/41868","v":0},{"$f":"GAS!AJ24*900/41868","v":0},{"$f":"GAS!AK24*900/41868","v":0},{"$f":"GAS!AL24*900/41868","v":0},{"$f":"GAS!AM24*900/41868","v":0},{"$f":"GAS!AN24*900/41868","v":0},{"$f":"GAS!AO24*900/41868","v":0},{"$f":"GAS!AP24*900/41868","v":0},{"$f":"GAS!AQ24*900/41868","v":0},{"$f":"GAS!AR24*900/41868","v":0},{"$f":"GAS!AS24*900/41868","v":0},{"$f":"GAS!AT24*900/41868","v":0},{"$f":"GAS!AU24*900/41868","v":0},{"$f":"GAS!AV24*900/41868","v":0},{"$f":"GAS!AW24*900/41868","v":0},{"$f":"GAS!AX24*900/41868","v":0},{"$f":"GAS!AY24*900/41868","v":0},{"$f":"GAS!AZ24*900/41868","v":0},{"$f":"GAS!BA24*900/41868","v":0},{"$f":"GAS!BB24*900/41868","v":0},{"$f":"GAS!BC24*900/41868","v":0},{"$f":"GAS!BD24*900/41868","v":0},{"$f":"GAS!BE24*900/41868","v":0},{"$f":"GAS!BF24*900/41868","v":0},{"$f":"GAS!BG24*900/41868","v":0},{"$f":"GAS!BH24*900/41868","v":0},{"$f":"GAS!BI24*900/41868","v":0},{"$f":"GAS!BJ24*900/41868","v":0},{"$f":"GAS!BK24*900/41868","v":0},{"$f":"GAS!BL24*900/41868","v":0},{"$f":"GAS!BM24*900/41868","v":0},{"$f":"GAS!BN24*900/41868","v":0},{"$f":"GAS!BO24*900/41868","v":0},{"$f":"GAS!BP24*900/41868","v":0}]
[null,"RENEWABLES questionnaire"]
[null,null,"Biogases",null,null,null,null,{"$f":"REN!H33*REN!H87/41868","v":0},{"$f":"REN!I33*REN!I87/41868","v":0},{"$f":"REN!J33*REN!J87/41868","v":0},{"$f":"REN!K33*REN!K87/41868","v":0},{"$f":"REN!L33*REN!L87/41868","v":0},{"$f":"REN!M33*REN!M87/41868","v":0},{"$f":"REN!N33*REN!N87/41868","v":0},{"$f":"REN!O33*REN!O87/41868","v":0},{"$f":"REN!P33*REN!P87/41868","v":0},{"$f":"REN!Q33*REN!Q87/41868","v":0},{"$f":"REN!R33*REN!R87/41868","v":0},{"$f":"REN!S33*REN!S87/41868","v":0},{"$f":"REN!T33*REN!T87/41868","v":0},{"$f":"REN!U33*REN!U87/41868","v":0},{"$f":"REN!V33*REN!V87/41868","v":0},{"$f":"REN!W33*REN!W87/41868","v":0},{"$f":"REN!X33*REN!X87/41868","v":0},{"$f":"REN!Y33*REN!Y87/41868","v":0},{"$f":"REN!Z33*REN!Z87/41868","v":0},{"$f":"REN!AA33*REN!AA87/41868","v":0},{"$f":"REN!AB33*REN!AB87/41868","v":0},{"$f":"REN!AC33*REN!AC87/41868","v":0},{"$f":"REN!AD33*REN!AD87/41868","v":0},{"$f":"REN!AE33*REN!AE87/41868","v":0},{"$f":"REN!AF33*REN!AF87/41868","v":0},{"$f":"REN!AG33*REN!AG87/41868","v":0},{"$f":"REN!AH33*REN!AH87/41868","v":0},{"$f":"REN!AI33*REN!AI87/41868","v":0},{"$f":"REN!AJ33*REN!AJ87/41868","v":0},{"$f":"REN!AK33*REN!AK87/41868","v":0},{"$f":"REN!AL33*REN!AL87/41868","v":0},{"$f":"REN!AM33*REN!AM87/41868","v":0},{"$f":"REN!AN33*REN!AN87/41868","v":0},{"$f":"REN!AO33*REN!AO87/41868","v":0},{"$f":"REN!AP33*REN!AP87/41868","v":0},{"$f":"REN!AQ33*REN!AQ87/41868","v":0},{"$f":"REN!AR33*REN!AR87/41868","v":0},{"$f":"REN!AS33*REN!AS87/41868","v":0},{"$f":"REN!AT33*REN!AT87/41868","v":0},{"$f":"REN!AU33*REN!AU87/41868","v":0},{"$f":"REN!AV33*REN!AV87/41868","v":0},{"$f":"REN!AW33*REN!AW87/41868","v":0},{"$f":"REN!AX33*REN!AX87/41868","v":0},{"$f":"REN!AY33*REN!AY87/41868","v":0},{"$f":"REN!AZ33*REN!AZ87/41868","v":0},{"$f":"REN!BA33*REN!BA87/41868","v":0},{"$f":"REN!BB33*REN!BB87/41868","v":0},{"$f":"REN!BC33*REN!BC87/41868","v":0},{"$f":"REN!BD33*REN!BD87/41868","v":0},{"$f":"REN!BE33*REN!BE87/41868","v":0},{"$f":"REN!BF33*REN!BF87/41868","v":0},{"$f":"REN!BG33*REN!BG87/41868","v":0},{"$f":"REN!BH33*REN!BH87/41868","v":0},{"$f":"REN!BI33*REN!BI87/41868","v":0},{"$f":"REN!BJ33*REN!BJ87/41868","v":0},{"$f":"REN!BK33*REN!BK87/41868","v":0},{"$f":"REN!BL33*REN!BL87/41868","v":0},{"$f":"REN!BM33*REN!BM87/41868","v":0},{"$f":"REN!BN33*REN!BN87/41868","v":0},{"$f":"REN!BO33*REN!BO87/41868","v":0},{"$f":"REN!BP33*REN!BP87/41868","v":0}]
[null,null,"Biogasoline",null,null,null,null,{"$f":"REN!H34*REN!H88/41868","v":0},{"$f":"REN!I34*REN!I88/41868","v":0},{"$f":"REN!J34*REN!J88/41868","v":0},{"$f":"REN!K34*REN!K88/41868","v":0},{"$f":"REN!L34*REN!L88/41868","v":0},{"$f":"REN!M34*REN!M88/41868","v":0},{"$f":"REN!N34*REN!N88/41868","v":0},{"$f":"REN!O34*REN!O88/41868","v":0},{"$f":"REN!P34*REN!P88/41868","v":0},{"$f":"REN!Q34*REN!Q88/41868","v":0},{"$f":"REN!R34*REN!R88/41868","v":0},{"$f":"REN!S34*REN!S88/41868","v":0},{"$f":"REN!T34*REN!T88/41868","v":0},{"$f":"REN!U34*REN!U88/41868","v":0},{"$f":"REN!V34*REN!V88/41868","v":0},{"$f":"REN!W34*REN!W88/41868","v":0},{"$f":"REN!X34*REN!X88/41868","v":0},{"$f":"REN!Y34*REN!Y88/41868","v":0},{"$f":"REN!Z34*REN!Z88/41868","v":0},{"$f":"REN!AA34*REN!AA88/41868","v":0},{"$f":"REN!AB34*REN!AB88/41868","v":0},{"$f":"REN!AC34*REN!AC88/41868","v":0},{"$f":"REN!AD34*REN!AD88/41868","v":0},{"$f":"REN!AE34*REN!AE88/41868","v":0},{"$f":"REN!AF34*REN!AF88/41868","v":0},{"$f":"REN!AG34*REN!AG88/41868","v":0},{"$f":"REN!AH34*REN!AH88/41868","v":0},{"$f":"REN!AI34*REN!AI88/41868","v":0},{"$f":"REN!AJ34*REN!AJ88/41868","v":0},{"$f":"REN!AK34*REN!AK88/41868","v":0},{"$f":"REN!AL34*REN!AL88/41868","v":0},{"$f":"REN!AM34*REN!AM88/41868","v":0},{"$f":"REN!AN34*REN!AN88/41868","v":0},{"$f":"REN!AO34*REN!AO88/41868","v":0},{"$f":"REN!AP34*REN!AP88/41868","v":0},{"$f":"REN!AQ34*REN!AQ88/41868","v":0},{"$f":"REN!AR34*REN!AR88/41868","v":0},{"$f":"REN!AS34*REN!AS88/41868","v":0},{"$f":"REN!AT34*REN!AT88/41868","v":0},{"$f":"REN!AU34*REN!AU88/41868","v":0},{"$f":"REN!AV34*REN!AV88/41868","v":0},{"$f":"REN!AW34*REN!AW88/41868","v":0},{"$f":"REN!AX34*REN!AX88/41868","v":0},{"$f":"REN!AY34*REN!AY88/41868","v":0},{"$f":"REN!AZ34*REN!AZ88/41868","v":0},{"$f":"REN!BA34*REN!BA88/41868","v":0},{"$f":"REN!BB34*REN!BB88/41868","v":0},{"$f":"REN!BC34*REN!BC88/41868","v":0},{"$f":"REN!BD34*REN!BD88/41868","v":0},{"$f":"REN!BE34*REN!BE88/41868","v":0},{"$f":"REN!BF34*REN!BF88/41868","v":0},{"$f":"REN!BG34*REN!BG88/41868","v":0},{"$f":"REN!BH34*REN!BH88/41868","v":0},{"$f":"REN!BI34*REN!BI88/41868","v":0},{"$f":"REN!BJ34*REN!BJ88/41868","v":0},{"$f":"REN!BK34*REN!BK88/41868","v":0},{"$f":"REN!BL34*REN!BL88/41868","v":0},{"$f":"REN!BM34*REN!BM88/41868","v":0},{"$f":"REN!BN34*REN!BN88/41868","v":0},{"$f":"REN!BO34*REN!BO88/41868","v":0},{"$f":"REN!BP34*REN!BP88/41868","v":0}]
[null,null,"Bio jet kerosenes",null,null,null,null,{"$f":"REN!H35*REN!H89/41868","v":0},{"$f":"REN!I35*REN!I89/41868","v":0},{"$f":"REN!J35*REN!J89/41868","v":0},{"$f":"REN!K35*REN!K89/41868","v":0},{"$f":"REN!L35*REN!L89/41868","v":0},{"$f":"REN!M35*REN!M89/41868","v":0},{"$f":"REN!N35*REN!N89/41868","v":0},{"$f":"REN!O35*REN!O89/41868","v":0},{"$f":"REN!P35*REN!P89/41868","v":0},{"$f":"REN!Q35*REN!Q89/41868","v":0},{"$f":"REN!R35*REN!R89/41868","v":0},{"$f":"REN!S35*REN!S89/41868","v":0},{"$f":"REN!T35*REN!T89/41868","v":0},{"$f":"REN!U35*REN!U89/41868","v":0},{"$f":"REN!V35*REN!V89/41868","v":0},{"$f":"REN!W35*REN!W89/41868","v":0},{"$f":"REN!X35*REN!X89/41868","v":0},{"$f":"REN!Y35*REN!Y89/41868","v":0},{"$f":"REN!Z35*REN!Z89/41868","v":0},{"$f":"REN!AA35*REN!AA89/41868","v":0},{"$f":"REN!AB35*REN!AB89/41868","v":0},{"$f":"REN!AC35*REN!AC89/41868","v":0},{"$f":"REN!AD35*REN!AD89/41868","v":0},{"$f":"REN!AE35*REN!AE89/41868","v":0},{"$f":"REN!AF35*REN!AF89/41868","v":0},{"$f":"REN!AG35*REN!AG89/41868","v":0},{"$f":"REN!AH35*REN!AH89/41868","v":0},{"$f":"REN!AI35*REN!AI89/41868","v":0},{"$f":"REN!AJ35*REN!AJ89/41868","v":0},{"$f":"REN!AK35*REN!AK89/41868","v":0},{"$f":"REN!AL35*REN!AL89/41868","v":0},{"$f":"REN!AM35*REN!AM89/41868","v":0},{"$f":"REN!AN35*REN!AN89/41868","v":0},{"$f":"REN!AO35*REN!AO89/41868","v":0},{"$f":"REN!AP35*REN!AP89/41868","v":0},{"$f":"REN!AQ35*REN!AQ89/41868","v":0},{"$f":"REN!AR35*REN!AR89/41868","v":0},{"$f":"REN!AS35*REN!AS89/41868","v":0},{"$f":"REN!AT35*REN!AT89/41868","v":0},{"$f":"REN!AU35*REN!AU89/41868","v":0},{"$f":"REN!AV35*REN!AV89/41868","v":0},{"$f":"REN!AW35*REN!AW89/41868","v":0},{"$f":"REN!AX35*REN!AX89/41868","v":0},{"$f":"REN!AY35*REN!AY89/41868","v":0},{"$f":"REN!AZ35*REN!AZ89/41868","v":0},{"$f":"REN!BA35*REN!BA89/41868","v":0},{"$f":"REN!BB35*REN!BB89/41868","v":0},{"$f":"REN!BC35*REN!BC89/41868","v":0},{"$f":"REN!BD35*REN!BD89/41868","v":0},{"$f":"REN!BE35*REN!BE89/41868","v":0},{"$f":"REN!BF35*REN!BF89/41868","v":0},{"$f":"REN!BG35*REN!BG89/41868","v":0},{"$f":"REN!BH35*REN!BH89/41868","v":0},{"$f":"REN!BI35*REN!BI89/41868","v":0},{"$f":"REN!BJ35*REN!BJ89/41868","v":0},{"$f":"REN!BK35*REN!BK89/41868","v":0},{"$f":"REN!BL35*REN!BL89/41868","v":0},{"$f":"REN!BM35*REN!BM89/41868","v":0},{"$f":"REN!BN35*REN!BN89/41868","v":0},{"$f":"REN!BO35*REN!BO89/41868","v":0},{"$f":"REN!BP35*REN!BP89/41868","v":0}]
[null,null,"Biodiesels",null,null,null,null,{"$f":"REN!H36*REN!H90/41868","v":0},{"$f":"REN!I36*REN!I90/41868","v":0},{"$f":"REN!J36*REN!J90/41868","v":0},{"$f":"REN!K36*REN!K90/41868","v":0},{"$f":"REN!L36*REN!L90/41868","v":0},{"$f":"REN!M36*REN!M90/41868","v":0},{"$f":"REN!N36*REN!N90/41868","v":0},{"$f":"REN!O36*REN!O90/41868","v":0},{"$f":"REN!P36*REN!P90/41868","v":0},{"$f":"REN!Q36*REN!Q90/41868","v":0},{"$f":"REN!R36*REN!R90/41868","v":0},{"$f":"REN!S36*REN!S90/41868","v":0},{"$f":"REN!T36*REN!T90/41868","v":0},{"$f":"REN!U36*REN!U90/41868","v":0},{"$f":"REN!V36*REN!V90/41868","v":0},{"$f":"REN!W36*REN!W90/41868","v":0},{"$f":"REN!X36*REN!X90/41868","v":0},{"$f":"REN!Y36*REN!Y90/41868","v":0},{"$f":"REN!Z36*REN!Z90/41868","v":0},{"$f":"REN!AA36*REN!AA90/41868","v":0},{"$f":"REN!AB36*REN!AB90/41868","v":0},{"$f":"REN!AC36*REN!AC90/41868","v":0},{"$f":"REN!AD36*REN!AD90/41868","v":0},{"$f":"REN!AE36*REN!AE90/41868","v":0},{"$f":"REN!AF36*REN!AF90/41868","v":0},{"$f":"REN!AG36*REN!AG90/41868","v":0},{"$f":"REN!AH36*REN!AH90/41868","v":0},{"$f":"REN!AI36*REN!AI90/41868","v":0},{"$f":"REN!AJ36*REN!AJ90/41868","v":0},{"$f":"REN!AK36*REN!AK90/41868","v":0},{"$f":"REN!AL36*REN!AL90/41868","v":0},{"$f":"REN!AM36*REN!AM90/41868","v":0},{"$f":"REN!AN36*REN!AN90/41868","v":0},{"$f":"REN!AO36*REN!AO90/41868","v":0},{"$f":"REN!AP36*REN!AP90/41868","v":0},{"$f":"REN!AQ36*REN!AQ90/41868","v":0},{"$f":"REN!AR36*REN!AR90/41868","v":0},{"$f":"REN!AS36*REN!AS90/41868","v":0},{"$f":"REN!AT36*REN!AT90/41868","v":0},{"$f":"REN!AU36*REN!AU90/41868","v":0},{"$f":"REN!AV36*REN!AV90/41868","v":0},{"$f":"REN!AW36*REN!AW90/41868","v":0},{"$f":"REN!AX36*REN!AX90/41868","v":0},{"$f":"REN!AY36*REN!AY90/41868","v":0},{"$f":"REN!AZ36*REN!AZ90/41868","v":0},{"$f":"REN!BA36*REN!BA90/41868","v":0},{"$f":"REN!BB36*REN!BB90/41868","v":0},{"$f":"REN!BC36*REN!BC90/41868","v":0},{"$f":"REN!BD36*REN!BD90/41868","v":0},{"$f":"REN!BE36*REN!BE90/41868","v":0},{"$f":"REN!BF36*REN!BF90/41868","v":0},{"$f":"REN!BG36*REN!BG90/41868","v":0},{"$f":"REN!BH36*REN!BH90/41868","v":0},{"$f":"REN!BI36*REN!BI90/41868","v":0},{"$f":"REN!BJ36*REN!BJ90/41868","v":0},{"$f":"REN!BK36*REN!BK90/41868","v":0},{"$f":"REN!BL36*REN!BL90/41868","v":0},{"$f":"REN!BM36*REN!BM90/41868","v":0},{"$f":"REN!BN36*REN!BN90/41868","v":0},{"$f":"REN!BO36*REN!BO90/41868","v":0},{"$f":"REN!BP36*REN!BP90/41868","v":0}]
[null,null,"Other liquid biofuels",null,null,null,null,{"$f":"REN!H37*REN!H91/41868","v":0},{"$f":"REN!I37*REN!I91/41868","v":0},{"$f":"REN!J37*REN!J91/41868","v":0},{"$f":"REN!K37*REN!K91/41868","v":0},{"$f":"REN!L37*REN!L91/41868","v":0},{"$f":"REN!M37*REN!M91/41868","v":0},{"$f":"REN!N37*REN!N91/41868","v":0},{"$f":"REN!O37*REN!O91/41868","v":0},{"$f":"REN!P37*REN!P91/41868","v":0},{"$f":"REN!Q37*REN!Q91/41868","v":0},{"$f":"REN!R37*REN!R91/41868","v":0},{"$f":"REN!S37*REN!S91/41868","v":0},{"$f":"REN!T37*REN!T91/41868","v":0},{"$f":"REN!U37*REN!U91/41868","v":0},{"$f":"REN!V37*REN!V91/41868","v":0},{"$f":"REN!W37*REN!W91/41868","v":0},{"$f":"REN!X37*REN!X91/41868","v":0},{"$f":"REN!Y37*REN!Y91/41868","v":0},{"$f":"REN!Z37*REN!Z91/41868","v":0},{"$f":"REN!AA37*REN!AA91/41868","v":0},{"$f":"REN!AB37*REN!AB91/41868","v":0},{"$f":"REN!AC37*REN!AC91/41868","v":0},{"$f":"REN!AD37*REN!AD91/41868","v":0},{"$f":"REN!AE37*REN!AE91/41868","v":0},{"$f":"REN!AF37*REN!AF91/41868","v":0},{"$f":"REN!AG37*REN!AG91/41868","v":0},{"$f":"REN!AH37*REN!AH91/41868","v":0},{"$f":"REN!AI37*REN!AI91/41868","v":0},{"$f":"REN!AJ37*REN!AJ91/41868","v":0},{"$f":"REN!AK37*REN!AK91/41868","v":0},{"$f":"REN!AL37*REN!AL91/41868","v":0},{"$f":"REN!AM37*REN!AM91/41868","v":0},{"$f":"REN!AN37*REN!AN91/41868","v":0},{"$f":"REN!AO37*REN!AO91/41868","v":0},{"$f":"REN!AP37*REN!AP91/41868","v":0},{"$f":"REN!AQ37*REN!AQ91/41868","v":0},{"$f":"REN!AR37*REN!AR91/41868","v":0},{"$f":"REN!AS37*REN!AS91/41868","v":0},{"$f":"REN!AT37*REN!AT91/41868","v":0},{"$f":"REN!AU37*REN!AU91/41868","v":0},{"$f":"REN!AV37*REN!AV91/41868","v":0},{"$f":"REN!AW37*REN!AW91/41868","v":0},{"$f":"REN!AX37*REN!AX91/41868","v":0},{"$f":"REN!AY37*REN!AY91/41868","v":0},{"$f":"REN!AZ37*REN!AZ91/41868","v":0},{"$f":"REN!BA37*REN!BA91/41868","v":0},{"$f":"REN!BB37*REN!BB91/41868","v":0},{"$f":"REN!BC37*REN!BC91/41868","v":0},{"$f":"REN!BD37*REN!BD91/41868","v":0},{"$f":"REN!BE37*REN!BE91/41868","v":0},{"$f":"REN!BF37*REN!BF91/41868","v":0},{"$f":"REN!BG37*REN!BG91/41868","v":0},{"$f":"REN!BH37*REN!BH91/41868","v":0},{"$f":"REN!BI37*REN!BI91/41868","v":0},{"$f":"REN!BJ37*REN!BJ91/41868","v":0},{"$f":"REN!BK37*REN!BK91/41868","v":0},{"$f":"REN!BL37*REN!BL91/41868","v":0},{"$f":"REN!BM37*REN!BM91/41868","v":0},{"$f":"REN!BN37*REN!BN91/41868","v":0},{"$f":"REN!BO37*REN!BO91/41868","v":0},{"$f":"REN!BP37*REN!BP91/41868","v":0}]
[]
["Reported use of petrol and diesel in all modes of transport (data from annual energy questionnaires) - [ktoe] - quantities calculated with calorific values of ANNEX III"]
[null,"OIL questionnaire"]
[null,null,"Petrol (all modes; including aviation gasoline)",null,null,null,null,{"$f":"(OIL!H161*43000/41868)+(OIL!H162*OIL!H66/41868)","v":0},{"$f":"(OIL!I161*43000/41868)+(OIL!I162*OIL!I66/41868)","v":0},{"$f":"(OIL!J161*43000/41868)+(OIL!J162*OIL!J66/41868)","v":0},{"$f":"(OIL!K161*43000/41868)+(OIL!K162*OIL!K66/41868)","v":0},{"$f":"(OIL!L161*43000/41868)+(OIL!L162*OIL!L66/41868)","v":0},{"$f":"(OIL!M161*43000/41868)+(OIL!M162*OIL!M66/41868)","v":0},{"$f":"(OIL!N161*43000/41868)+(OIL!N162*OIL!N66/41868)","v":0},{"$f":"(OIL!O161*43000/41868)+(OIL!O162*OIL!O66/41868)","v":0},{"$f":"(OIL!P161*43000/41868)+(OIL!P162*OIL!P66/41868)","v":0},{"$f":"(OIL!Q161*43000/41868)+(OIL!Q162*OIL!Q66/41868)","v":0},{"$f":"(OIL!R161*43000/41868)+(OIL!R162*OIL!R66/41868)","v":0},{"$f":"(OIL!S161*43000/41868)+(OIL!S162*OIL!S66/41868)","v":0},{"$f":"(OIL!T161*43000/41868)+(OIL!T162*OIL!T66/41868)","v":0},{"$f":"(OIL!U161*43000/41868)+(OIL!U162*OIL!U66/41868)","v":0},{"$f":"(OIL!V161*43000/41868)+(OIL!V162*43000/41868)","v":0},{"$f":"(OIL!W161*43000/41868)+(OIL!W162*43000/41868)","v":0},{"$f":"(OIL!X161*43000/41868)+(OIL!X162*43000/41868)","v":0},{"$f":"(OIL!Y161*43000/41868)+(OIL!Y162*43000/41868)","v":0},{"$f":"(OIL!Z161*43000/41868)+(OIL!Z162*43000/41868)","v":0},{"$f":"(OIL!AA161*43000/41868)+(OIL!AA162*43000/41868)","v":0},{"$f":"(OIL!AB161*43000/41868)+(OIL!AB162*43000/41868)","v":0},{"$f":"(OIL!AC161*43000/41868)+(OIL!AC162*43000/41868)","v":0},{"$f":"(OIL!AD161*43000/41868)+(OIL!AD162*43000/41868)","v":0},{"$f":"(OIL!AE161*43000/41868)+(OIL!AE162*43000/41868)","v":0},{"$f":"(OIL!AF161*43000/41868)+(OIL!AF162*43000/41868)","v":0},{"$f":"(OIL!AG161*43000/41868)+(OIL!AG162*43000/41868)","v":0},{"$f":"(OIL!AH161*43000/41868)+(OIL!AH162*43000/41868)","v":0},{"$f":"(OIL!AI161*43000/41868)+(OIL!AI162*43000/41868)","v":0},{"$f":"(OIL!AJ161*43000/41868)+(OIL!AJ162*43000/41868)","v":0},{"$f":"(OIL!AK161*43000/41868)+(OIL!AK162*43000/41868)","v":0},{"$f":"(OIL!AL161*43000/41868)+(OIL!AL162*43000/41868)","v":0},{"$f":"(OIL!AM161*43000/41868)+(OIL!AM162*43000/41868)","v":0},{"$f":"(OIL!AN161*43000/41868)+(OIL!AN162*43000/41868)","v":0},{"$f":"(OIL!AO161*43000/41868)+(OIL!AO162*43000/41868)","v":0},{"$f":"(OIL!AP161*43000/41868)+(OIL!AP162*43000/41868)","v":0},{"$f":"(OIL!AQ161*43000/41868)+(OIL!AQ162*43000/41868)","v":0},{"$f":"(OIL!AR161*43000/41868)+(OIL!AR162*43000/41868)","v":0},{"$f":"(OIL!AS161*43000/41868)+(OIL!AS162*43000/41868)","v":0},{"$f":"(OIL!AT161*43000/41868)+(OIL!AT162*43000/41868)","v":0},{"$f":"(OIL!AU161*43000/41868)+(OIL!AU162*43000/41868)","v":0},{"$f":"(OIL!AV161*43000/41868)+(OIL!AV162*43000/41868)","v":0},{"$f":"(OIL!AW161*43000/41868)+(OIL!AW162*43000/41868)","v":0},{"$f":"(OIL!AX161*43000/41868)+(OIL!AX162*43000/41868)","v":0},{"$f":"(OIL!AY161*43000/41868)+(OIL!AY162*43000/41868)","v":0},{"$f":"(OIL!AZ161*43000/41868)+(OIL!AZ162*43000/41868)","v":0},{"$f":"(OIL!BA161*43000/41868)+(OIL!BA162*43000/41868)","v":0},{"$f":"(OIL!BB161*43000/41868)+(OIL!BB162*43000/41868)","v":0},{"$f":"(OIL!BC161*43000/41868)+(OIL!BC162*43000/41868)","v":0},{"$f":"(OIL!BD161*43000/41868)+(OIL!BD162*43000/41868)","v":0},{"$f":"(OIL!BE161*43000/41868)+(OIL!BE162*43000/41868)","v":0},{"$f":"(OIL!BF161*43000/41868)+(OIL!BF162*43000/41868)","v":0},{"$f":"(OIL!BG161*43000/41868)+(OIL!BG162*43000/41868)","v":0},{"$f":"(OIL!BH161*43000/41868)+(OIL!BH162*43000/41868)","v":0},{"$f":"(OIL!BI161*43000/41868)+(OIL!BI162*43000/41868)","v":0},{"$f":"(OIL!BJ161*43000/41868)+(OIL!BJ162*43000/41868)","v":0},{"$f":"(OIL!BK161*43000/41868)+(OIL!BK162*43000/41868)","v":0},{"$f":"(OIL!BL161*43000/41868)+(OIL!BL162*43000/41868)","v":0},{"$f":"(OIL!BM161*43000/41868)+(OIL!BM162*43000/41868)","v":0},{"$f":"(OIL!BN161*43000/41868)+(OIL!BN162*43000/41868)","v":0},{"$f":"(OIL!BO161*43000/41868)+(OIL!BO162*43000/41868)","v":0},{"$f":"(OIL!BP161*43000/41868)+(OIL!BP162*43000/41868)","v":0}]
[null,null,null,"Of which in road and rail",null,null,null,null,null,null,null,null,null,null,null,null,null,null,null,null,null,{"$f":"(OIL!V185*43000/41868)+(OIL!V209*43000/41868)","v":0},{"$f":"(OIL!W185*43000/41868)+(OIL!W209*43000/41868)","v":0},{"$f":"(OIL!X185*43000/41868)+(OIL!X209*43000/41868)","v":0},{"$f":"(OIL!Y185*43000/41868)+(OIL!Y209*43000/41868)","v":0},{"$f":"(OIL!Z185*43000/41868)+(OIL!Z209*43000/41868)","v":0},{"$f":"(OIL!AA185*43000/41868)+(OIL!AA209*43000/41868)","v":0},{"$f":"(OIL!AB185*43000/41868)+(OIL!AB209*43000/41868)","v":0},{"$f":"(OIL!AC185*43000/41868)+(OIL!AC209*43000/41868)","v":0},{"$f":"(OIL!AD185*43000/41868)+(OIL!AD209*43000/41868)","v":0},{"$f":"(OIL!AE185*43000/41868)+(OIL!AE209*43000/41868)","v":0},{"$f":"(OIL!AF185*43000/41868)+(OIL!AF209*43000/41868)","v":0},{"$f":"(OIL!AG185*43000/41868)+(OIL!AG209*43000/41868)","v":0},{"$f":"(OIL!AH185*43000/41868)+(OIL!AH209*43000/41868)","v":0},{"$f":"(OIL!AI185*43000/41868)+(OIL!AI209*43000/41868)","v":0},{"$f":"(OIL!AJ185*43000/41868)+(OIL!AJ209*43000/41868)","v":0},{"$f":"(OIL!AK185*43000/41868)+(OIL!AK209*43000/41868)","v":0},{"$f":"(OIL!AL185*43000/41868)+(OIL!AL209*43000/41868)","v":0},{"$f":"(OIL!AM185*43000/41868)+(OIL!AM209*43000/41868)","v":0},{"$f":"(OIL!AN185*43000/41868)+(OIL!AN209*43000/41868)","v":0},{"$f":"(OIL!AO185*43000/41868)+(OIL!AO209*43000/41868)","v":0},{"$f":"(OIL!AP185*43000/41868)+(OIL!AP209*43000/41868)","v":0},{"$f":"(OIL!AQ185*43000/41868)+(OIL!AQ209*43000/41868)","v":0},{"$f":"(OIL!AR185*43000/41868)+(OIL!AR209*43000/41868)","v":0},{"$f":"(OIL!AS185*43000/41868)+(OIL!AS209*43000/41868)","v":0},{"$f":"(OIL!AT185*43000/41868)+(OIL!AT209*43000/41868)","v":0},{"$f":"(OIL!AU185*43000/41868)+(OIL!AU209*43000/41868)","v":0},{"$f":"(OIL!AV185*43000/41868)+(OIL!AV209*43000/41868)","v":0},{"$f":"(OIL!AW185*43000/41868)+(OIL!AW209*43000/41868)","v":0},{"$f":"(OIL!AX185*43000/41868)+(OIL!AX209*43000/41868)","v":0},{"$f":"(OIL!AY185*43000/41868)+(OIL!AY209*43000/41868)","v":0},{"$f":"(OIL!AZ185*43000/41868)+(OIL!AZ209*43000/41868)","v":0},{"$f":"(OIL!BA185*43000/41868)+(OIL!BA209*43000/41868)","v":0},{"$f":"(OIL!BB185*43000/41868)+(OIL!BB209*43000/41868)","v":0},{"$f":"(OIL!BC185*43000/41868)+(OIL!BC209*43000/41868)","v":0},{"$f":"(OIL!BD185*43000/41868)+(OIL!BD209*43000/41868)","v":0},{"$f":"(OIL!BE185*43000/41868)+(OIL!BE209*43000/41868)","v":0},{"$f":"(OIL!BF185*43000/41868)+(OIL!BF209*43000/41868)","v":0},{"$f":"(OIL!BG185*43000/41868)+(OIL!BG209*43000/41868)","v":0},{"$f":"(OIL!BH185*43000/41868)+(OIL!BH209*43000/41868)","v":0},{"$f":"(OIL!BI185*43000/41868)+(OIL!BI209*43000/41868)","v":0},{"$f":"(OIL!BJ185*43000/41868)+(OIL!BJ209*43000/41868)","v":0},{"$f":"(OIL!BK185*43000/41868)+(OIL!BK209*43000/41868)","v":0},{"$f":"(OIL!BL185*43000/41868)+(OIL!BL209*43000/41868)","v":0},{"$f":"(OIL!BM185*43000/41868)+(OIL!BM209*43000/41868)","v":0},{"$f":"(OIL!BN185*43000/41868)+(OIL!BN209*43000/41868)","v":0},{"$f":"(OIL!BO185*43000/41868)+(OIL!BO209*43000/41868)","v":0},{"$f":"(OIL!BP185*43000/41868)+(OIL!BP209*43000/41868)","v":0}]
[null,null,"Diesel (all modes)",null,null,null,null,{"$f":"(OIL!H168)*43000/41868","v":0},{"$f":"(OIL!I168)*43000/41868","v":0},{"$f":"(OIL!J168)*43000/41868","v":0},{"$f":"(OIL!K168)*43000/41868","v":0},{"$f":"(OIL!L168)*43000/41868","v":0},{"$f":"(OIL!M168)*43000/41868","v":0},{"$f":"(OIL!N168)*43000/41868","v":0},{"$f":"(OIL!O168)*43000/41868","v":0},{"$f":"(OIL!P168)*43000/41868","v":0},{"$f":"(OIL!Q168)*43000/41868","v":0},{"$f":"(OIL!R168)*43000/41868","v":0},{"$f":"(OIL!S168)*43000/41868","v":0},{"$f":"(OIL!T168)*43000/41868","v":0},{"$f":"(OIL!U168)*43000/41868","v":0},{"$f":"(OIL!V168)*43000/41868","v":0},{"$f":"(OIL!W168)*43000/41868","v":0},{"$f":"(OIL!X168)*43000/41868","v":0},{"$f":"(OIL!Y168)*43000/41868","v":0},{"$f":"(OIL!Z168)*43000/41868","v":0},{"$f":"(OIL!AA168)*43000/41868","v":0},{"$f":"(OIL!AB168)*43000/41868","v":0},{"$f":"(OIL!AC168)*43000/41868","v":0},{"$f":"(OIL!AD168)*43000/41868","v":0},{"$f":"(OIL!AE168)*43000/41868","v":0},{"$f":"(OIL!AF168)*43000/41868","v":0},{"$f":"(OIL!AG168)*43000/41868","v":0},{"$f":"(OIL!AH168)*43000/41868","v":0},{"$f":"(OIL!AI168)*43000/41868","v":0},{"$f":"(OIL!AJ168)*43000/41868","v":0},{"$f":"(OIL!AK168)*43000/41868","v":0},{"$f":"(OIL!AL168)*43000/41868","v":0},{"$f":"(OIL!AM168)*43000/41868","v":0},{"$f":"(OIL!AN168)*43000/41868","v":0},{"$f":"(OIL!AO168)*43000/41868","v":0},{"$f":"(OIL!AP168)*43000/41868","v":0},{"$f":"(OIL!AQ168)*43000/41868","v":0},{"$f":"(OIL!AR168)*43000/41868","v":0},{"$f":"(OIL!AS168)*43000/41868","v":0},{"$f":"(OIL!AT168)*43000/41868","v":0},{"$f":"(OIL!AU168)*43000/41868","v":0},{"$f":"(OIL!AV168)*43000/41868","v":0},{"$f":"(OIL!AW168)*43000/41868","v":0},{"$f":"(OIL!AX168)*43000/41868","v":0},{"$f":"(OIL!AY168)*43000/41868","v":0},{"$f":"(OIL!AZ168)*43000/41868","v":0},{"$f":"(OIL!BA168)*43000/41868","v":0},{"$f":"(OIL!BB168)*43000/41868","v":0},{"$f":"(OIL!BC168)*43000/41868","v":0},{"$f":"(OIL!BD168)*43000/41868","v":0},{"$f":"(OIL!BE168)*43000/41868","v":0},{"$f":"(OIL!BF168)*43000/41868","v":0},{"$f":"(OIL!BG168)*43000/41868","v":0},{"$f":"(OIL!BH168)*43000/41868","v":0},{"$f":"(OIL!BI168)*43000/41868","v":0},{"$f":"(OIL!BJ168)*43000/41868","v":0},{"$f":"(OIL!BK168)*43000/41868","v":0},{"$f":"(OIL!BL168)*43000/41868","v":0},{"$f":"(OIL!BM168)*43000/41868","v":0},{"$f":"(OIL!BN168)*43000/41868","v":0},{"$f":"(OIL!BO168)*43000/41868","v":0},{"$f":"(OIL!BP168)*43000/41868","v":0}]
[null,null,null,"Of which in road and rail",null,null,null,null,null,null,null,null,null,null,null,null,null,null,null,null,null,{"$f":"(OIL!V192*43000/41868)+(OIL!V216*43000/41868)","v":0},{"$f":"(OIL!W192*43000/41868)+(OIL!W216*43000/41868)","v":0},{"$f":"(OIL!X192*43000/41868)+(OIL!X216*43000/41868)","v":0},{"$f":"(OIL!Y192*43000/41868)+(OIL!Y216*43000/41868)","v":0},{"$f":"(OIL!Z192*43000/41868)+(OIL!Z216*43000/41868)","v":0},{"$f":"(OIL!AA192*43000/41868)+(OIL!AA216*43000/41868)","v":0},{"$f":"(OIL!AB192*43000/41868)+(OIL!AB216*43000/41868)","v":0},{"$f":"(OIL!AC192*43000/41868)+(OIL!AC216*43000/41868)","v":0},{"$f":"(OIL!AD192*43000/41868)+(OIL!AD216*43000/41868)","v":0},{"$f":"(OIL!AE192*43000/41868)+(OIL!AE216*43000/41868)","v":0},{"$f":"(OIL!AF192*43000/41868)+(OIL!AF216*43000/41868)","v":0},{"$f":"(OIL!AG192*43000/41868)+(OIL!AG216*43000/41868)","v":0},{"$f":"(OIL!AH192*43000/41868)+(OIL!AH216*43000/41868)","v":0},{"$f":"(OIL!AI192*43000/41868)+(OIL!AI216*43000/41868)","v":0},{"$f":"(OIL!AJ192*43000/41868)+(OIL!AJ216*43000/41868)","v":0},{"$f":"(OIL!AK192*43000/41868)+(OIL!AK216*43000/41868)","v":0},{"$f":"(OIL!AL192*43000/41868)+(OIL!AL216*43000/41868)","v":0},{"$f":"(OIL!AM192*43000/41868)+(OIL!AM216*43000/41868)","v":0},{"$f":"(OIL!AN192*43000/41868)+(OIL!AN216*43000/41868)","v":0},{"$f":"(OIL!AO192*43000/41868)+(OIL!AO216*43000/41868)","v":0},{"$f":"(OIL!AP192*43000/41868)+(OIL!AP216*43000/41868)","v":0},{"$f":"(OIL!AQ192*43000/41868)+(OIL!AQ216*43000/41868)","v":0},{"$f":"(OIL!AR192*43000/41868)+(OIL!AR216*43000/41868)","v":0},{"$f":"(OIL!AS192*43000/41868)+(OIL!AS216*43000/41868)","v":0},{"$f":"(OIL!AT192*43000/41868)+(OIL!AT216*43000/41868)","v":0},{"$f":"(OIL!AU192*43000/41868)+(OIL!AU216*43000/41868)","v":0},{"$f":"(OIL!AV192*43000/41868)+(OIL!AV216*43000/41868)","v":0},{"$f":"(OIL!AW192*43000/41868)+(OIL!AW216*43000/41868)","v":0},{"$f":"(OIL!AX192*43000/41868)+(OIL!AX216*43000/41868)","v":0},{"$f":"(OIL!AY192*43000/41868)+(OIL!AY216*43000/41868)","v":0},{"$f":"(OIL!AZ192*43000/41868)+(OIL!AZ216*43000/41868)","v":0},{"$f":"(OIL!BA192*43000/41868)+(OIL!BA216*43000/41868)","v":0},{"$f":"(OIL!BB192*43000/41868)+(OIL!BB216*43000/41868)","v":0},{"$f":"(OIL!BC192*43000/41868)+(OIL!BC216*43000/41868)","v":0},{"$f":"(OIL!BD192*43000/41868)+(OIL!BD216*43000/41868)","v":0},{"$f":"(OIL!BE192*43000/41868)+(OIL!BE216*43000/41868)","v":0},{"$f":"(OIL!BF192*43000/41868)+(OIL!BF216*43000/41868)","v":0},{"$f":"(OIL!BG192*43000/41868)+(OIL!BG216*43000/41868)","v":0},{"$f":"(OIL!BH192*43000/41868)+(OIL!BH216*43000/41868)","v":0},{"$f":"(OIL!BI192*43000/41868)+(OIL!BI216*43000/41868)","v":0},{"$f":"(OIL!BJ192*43000/41868)+(OIL!BJ216*43000/41868)","v":0},{"$f":"(OIL!BK192*43000/41868)+(OIL!BK216*43000/41868)","v":0},{"$f":"(OIL!BL192*43000/41868)+(OIL!BL216*43000/41868)","v":0},{"$f":"(OIL!BM192*43000/41868)+(OIL!BM216*43000/41868)","v":0},{"$f":"(OIL!BN192*43000/41868)+(OIL!BN216*43000/41868)","v":0},{"$f":"(OIL!BO192*43000/41868)+(OIL!BO216*43000/41868)","v":0},{"$f":"(OIL!BP192*43000/41868)+(OIL!BP216*43000/41868)","v":0}]
["Reported use of natural gas in all modes of transport (data from annual energy questionnaires) - [ktoe]"]
[null,"GAS questionnaire"]
[null,null,"Natural gas in transport",null,null,null,null,null,null,null,null,null,null,null,null,null,null,null,null,null,null,{"$f":"GAS!V6","v":0},{"$f":"GAS!W6","v":0},{"$f":"GAS!X6","v":0},{"$f":"GAS!Y6","v":0},{"$f":"GAS!Z6","v":0},{"$f":"GAS!AA6","v":0},{"$f":"GAS!AB6","v":0},{"$f":"GAS!AC6","v":0},{"$f":"GAS!AD6","v":0},{"$f":"GAS!AE6","v":0},{"$f":"GAS!AF6","v":0},{"$f":"GAS!AG6","v":0},{"$f":"GAS!AH6","v":0},{"$f":"GAS!AI6","v":0},{"$f":"GAS!AJ6","v":0},{"$f":"GAS!AK6","v":0},{"$f":"GAS!AL6","v":0},{"$f":"GAS!AM6","v":0},{"$f":"GAS!AN6","v":0},{"$f":"GAS!AO6","v":0},{"$f":"GAS!AP6","v":0},{"$f":"GAS!AQ6","v":0},{"$f":"GAS!AR6","v":0},{"$f":"GAS!AS6","v":0},{"$f":"GAS!AT6","v":0},{"$f":"GAS!AU6","v":0},{"$f":"GAS!AV6","v":0},{"$f":"GAS!AW6","v":0},{"$f":"GAS!AX6","v":0},{"$f":"GAS!AY6","v":0},{"$f":"GAS!AZ6","v":0},{"$f":"GAS!BA6","v":0},{"$f":"GAS!BB6","v":0},{"$f":"GAS!BC6","v":0},{"$f":"GAS!BD6","v":0},{"$f":"GAS!BE6","v":0},{"$f":"GAS!BF6","v":0},{"$f":"GAS!BG6","v":0},{"$f":"GAS!BH6","v":0},{"$f":"GAS!BI6","v":0},{"$f":"GAS!BJ6","v":0},{"$f":"GAS!BK6","v":0},{"$f":"GAS!BL6","v":0},{"$f":"GAS!BM6","v":0},{"$f":"GAS!BN6","v":0},{"$f":"GAS!BO6","v":0},{"$f":"GAS!BP6","v":0}]
[null,null,null,"Of which in road and rail",null,null,null,null,null,null,null,null,null,null,null,null,null,null,null,null,null,{"$f":"((GAS!V14+GAS!V15)*(1-GAS!V27)-GAS!V24)*900/41868","v":0},{"$f":"((GAS!W14+GAS!W15)*(1-GAS!W27)-GAS!W24)*900/41868","v":0},{"$f":"((GAS!X14+GAS!X15)*(1-GAS!X27)-GAS!X24)*900/41868","v":0},{"$f":"((GAS!Y14+GAS!Y15)*(1-GAS!Y27)-GAS!Y24)*900/41868","v":0},{"$f":"((GAS!Z14+GAS!Z15)*(1-GAS!Z27)-GAS!Z24)*900/41868","v":0},{"$f":"((GAS!AA14+GAS!AA15)*(1-GAS!AA27)-GAS!AA24)*900/41868","v":0},{"$f":"((GAS!AB14+GAS!AB15)*(1-GAS!AB27)-GAS!AB24)*900/41868","v":0},{"$f":"((GAS!AC14+GAS!AC15)*(1-GAS!AC27)-GAS!AC24)*900/41868","v":0},{"$f":"((GAS!AD14+GAS!AD15)*(1-GAS!AD27)-GAS!AD24)*900/41868","v":0},{"$f":"((GAS!AE14+GAS!AE15)*(1-GAS!AE27)-GAS!AE24)*900/41868","v":0},{"$f":"((GAS!AF14+GAS!AF15)*(1-GAS!AF27)-GAS!AF24)*900/41868","v":0},{"$f":"((GAS!AG14+GAS!AG15)*(1-GAS!AG27)-GAS!AG24)*900/41868","v":0},{"$f":"((GAS!AH14+GAS!AH15)*(1-GAS!AH27)-GAS!AH24)*900/41868","v":0},{"$f":"((GAS!AI14+GAS!AI15)*(1-GAS!AI27)-GAS!AI24)*900/41868","v":0},{"$f":"((GAS!AJ14+GAS!AJ15)*(1-GAS!AJ27)-GAS!AJ24)*900/41868","v":0},{"$f":"((GAS!AK14+GAS!AK15)*(1-GAS!AK27)-GAS!AK24)*900/41868","v":0},{"$f":"((GAS!AL14+GAS!AL15)*(1-GAS!AL27)-GAS!AL24)*900/41868","v":0},{"$f":"((GAS!AM14+GAS!AM15)*(1-GAS!AM27)-GAS!AM24)*900/41868","v":0},{"$f":"((GAS!AN14+GAS!AN15)*(1-GAS!AN27)-GAS!AN24)*900/41868","v":0},{"$f":"((GAS!AO14+GAS!AO15)*(1-GAS!AO27)-GAS!AO24)*900/41868","v":0},{"$f":"((GAS!AP14+GAS!AP15)*(1-GAS!AP27)-GAS!AP24)*900/41868","v":0},{"$f":"((GAS!AQ14+GAS!AQ15)*(1-GAS!AQ27)-GAS!AQ24)*900/41868","v":0},{"$f":"((GAS!AR14+GAS!AR15)*(1-GAS!AR27)-GAS!AR24)*900/41868","v":0},{"$f":"((GAS!AS14+GAS!AS15)*(1-GAS!AS27)-GAS!AS24)*900/41868","v":0},{"$f":"((GAS!AT14+GAS!AT15)*(1-GAS!AT27)-GAS!AT24)*900/41868","v":0},{"$f":"((GAS!AU14+GAS!AU15)*(1-GAS!AU27)-GAS!AU24)*900/41868","v":0},{"$f":"((GAS!AV14+GAS!AV15)*(1-GAS!AV27)-GAS!AV24)*900/41868","v":0},{"$f":"((GAS!AW14+GAS!AW15)*(1-GAS!AW27)-GAS!AW24)*900/41868","v":0},{"$f":"((GAS!AX14+GAS!AX15)*(1-GAS!AX27)-GAS!AX24)*900/41868","v":0},{"$f":"((GAS!AY14+GAS!AY15)*(1-GAS!AY27)-GAS!AY24)*900/41868","v":0},{"$f":"((GAS!AZ14+GAS!AZ15)*(1-GAS!AZ27)-GAS!AZ24)*900/41868","v":0},{"$f":"((GAS!BA14+GAS!BA15)*(1-GAS!BA27)-GAS!BA24)*900/41868","v":0},{"$f":"((GAS!BB14+GAS!BB15)*(1-GAS!BB27)-GAS!BB24)*900/41868","v":0},{"$f":"((GAS!BC14+GAS!BC15)*(1-GAS!BC27)-GAS!BC24)*900/41868","v":0},{"$f":"((GAS!BD14+GAS!BD15)*(1-GAS!BD27)-GAS!BD24)*900/41868","v":0},{"$f":"((GAS!BE14+GAS!BE15)*(1-GAS!BE27)-GAS!BE24)*900/41868","v":0},{"$f":"((GAS!BF14+GAS!BF15)*(1-GAS!BF27)-GAS!BF24)*900/41868","v":0},{"$f":"((GAS!BG14+GAS!BG15)*(1-GAS!BG27)-GAS!BG24)*900/41868","v":0},{"$f":"((GAS!BH14+GAS!BH15)*(1-GAS!BH27)-GAS!BH24)*900/41868","v":0},{"$f":"((GAS!BI14+GAS!BI15)*(1-GAS!BI27)-GAS!BI24)*900/41868","v":0},{"$f":"((GAS!BJ14+GAS!BJ15)*(1-GAS!BJ27)-GAS!BJ24)*900/41868","v":0},{"$f":"((GAS!BK14+GAS!BK15)*(1-GAS!BK27)-GAS!BK24)*900/41868","v":0},{"$f":"((GAS!BL14+GAS!BL15)*(1-GAS!BL27)-GAS!BL24)*900/41868","v":0},{"$f":"((GAS!BM14+GAS!BM15)*(1-GAS!BM27)-GAS!BM24)*900/41868","v":0},{"$f":"((GAS!BN14+GAS!BN15)*(1-GAS!BN27)-GAS!BN24)*900/41868","v":0},{"$f":"((GAS!BO14+GAS!BO15)*(1-GAS!BO27)-GAS!BO24)*900/41868","v":0},{"$f":"((GAS!BP14+GAS!BP15)*(1-GAS!BP27)-GAS!BP24)*900/41868","v":0}]
[]
["ALL renewable fuels in transport - [ktoe] - quantities calculated with calorific values in ANNEX III"]
["include here all biofuels (pure and renewable part of blended), H2, RFNBOs and other renewable fuels, compliant and also non-compliant, all of them used in transport"]
[null,"Liquid biofuels in road transport",null,null,null,null,null,null,null,null,null,null,null,null,null,null,null,null,null,null,null,0,0,0,0,0,0,0,0,0,0,0,0,0,0,0,0,0,0,0,0,0,0,0,0,0,0,0,0,0,0,0,0,0,0,0,0,0,0,0,0,0,0,0,0,0,0,0,null,null,null,null,null,null,null,null,null,null,null,null,null,null,null,null,null,null,null,null,null,null,null,null,null,null,null,null,null,null,null,null,null,null,null,null,null,null,null,null,null,null,null,null,null,null,null,null,null,null,null,null,null,null,null,"R5200","ENERGUSE","FC_TRA_ROAD_E_RED","_Z","_Z","_Z","_Z","_Z","ENERGY","_Z","KTOE",null,"nrg_ind_urtd","TIMESERIES","R5200",{"$f":"DV35","v":"FC_TRA_ROAD_E_RED"},"_Z","KTOE","Agg.=SUM(countries)"]
[null,"Liquid biofuels in rail transport",null,null,null,null,null,null,null,null,null,null,null,null,null,null,null,null,null,null,null,0,0,0,0,0,0,0,0,0,0,0,0,0,0,0,0,0,0,0,0,0,0,0,0,0,0,0,0,0,0,0,0,0,0,0,0,0,0,0,0,0,0,0,0,0,0,0,null,null,null,null,null,null,null,null,null,null,null,null,null,null,null,null,null,null,null,null,null,null,null,null,null,null,null,null,null,null,null,null,null,null,null,null,null,null,null,null,null,null,null,null,null,null,null,null,null,null,null,null,null,null,null,"R5200","ENERGUSE","FC_TRA_RAIL_E_RED","_Z","_Z","_Z","_Z","_Z","ENERGY","_Z","KTOE",null,"nrg_ind_urtd","TIMESERIES","R5200",{"$f":"DV36","v":"FC_TRA_RAIL_E_RED"},"_Z","KTOE","Agg.=SUM(countries)"]
[null,"Liquid biofuels in other modes",null,null,null,null,null,null,null,null,null,null,null,null,null,null,null,null,null,null,null,0,0,0,0,0,0,0,0,0,0,0,0,0,0,0,0,0,0,0,0,0,0,0,0,0,0,0,0,0,0,0,0,0,0,0,0,0,0,0,0,0,0,0,0,0,0,0,null,null,null,null,null,null,null,null,null,null,null,null,null,null,null,null,null,null,null,null,null,null,null,null,null,null,null,null,null,null,null,null,null,null,null,null,null,null,null,null,null,null,null,null,null,null,null,null,null,null,null,null,null,null,null,"R5200","ENERGUSE","FC_TRA_OTH_E_RED","_Z","_Z","_Z","_Z","_Z","ENERGY","_Z","KTOE",null,"nrg_ind_urtd","TIMESERIES","R5200","FC_TRA_OTH_E_RED","_Z","KTOE","Agg.=SUM(countries)"]
[]
[null,"Gaseous biofuels in road transport",null,null,null,null,null,null,null,null,null,null,null,null,null,null,null,null,null,null,null,0,0,0,0,0,0,0,0,0,0,0,0,0,0,0,0,0,0,0,0,0,0,0,0,0,0,0,0,0,0,0,0,0,0,0,0,0,0,0,0,0,0,0,0,0,0,0,null,null,null,null,null,null,null,null,null,null,null,null,null,null,null,null,null,null,null,null,null,null,null,null,null,null,null,null,null,null,null,null,null,null,null,null,null,null,null,null,null,null,null,null,null,null,null,null,null,null,null,null,null,null,null,"R5300","ENERGUSE","FC_TRA_ROAD_E_RED","_Z","_Z","_Z","_Z","_Z","ENERGY","_Z","KTOE",null,"nrg_ind_urtd","TIMESERIES","R5300","FC_TRA_ROAD_E_RED","_Z","KTOE","Agg.=SUM(countries)"]
[null,"Gaseous biofuels in rail transport",null,null,null,null,null,null,null,null,null,null,null,null,null,null,null,null,null,null,null,0,0,0,0,0,0,0,0,0,0,0,0,0,0,0,0,0,0,0,0,0,0,0,0,0,0,0,0,0,0,0,0,0,0,0,0,0,0,0,0,0,0,0,0,0,0,0,null,null,null,null,null,null,null,null,null,null,null,null,null,null,null,null,null,null,null,null,null,null,null,null,null,null,null,null,null,null,null,null,null,null,null,null,null,null,null,null,null,null,null,null,null,null,null,null,null,null,null,null,null,null,null,"R5300","ENERGUSE","FC_TRA_RAIL_E_RED","_Z","_Z","_Z","_Z","_Z","ENERGY","_Z","KTOE",null,"nrg_ind_urtd","TIMESERIES","R5300","FC_TRA_RAIL_E_RED","_Z","KTOE","Agg.=SUM(countries)"]
[null,"Gaseous biofuels in other modes",null,null,null,null,null,null,null,null,null,null,null,null,null,null,null,null,null,null,null,0,0,0,0,0,0,0,0,0,0,0,0,0,0,0,0,0,0,0,0,0,0,0,0,0,0,0,0,0,0,0,0,0,0,0,0,0,0,0,0,0,0,0,0,0,0,0,null,null,null,null,null,null,null,null,null,null,null,null,null,null,null,null,null,null,null,null,null,null,null,null,null,null,null,null,null,null,null,null,null,null,null,null,null,null,null,null,null,null,null,null,null,null,null,null,null,null,null,null,null,null,null,"R5300","ENERGUSE","FC_TRA_OTH_E_RED","_Z","_Z","_Z","_Z","_Z","ENERGY","_Z","KTOE",null,"nrg_ind_urtd","TIMESERIES","R5300","FC_TRA_OTH_E_RED","_Z","KTOE","Agg.=SUM(countries)"]
[]
[null,"Other renewables (from REN. q.)",null,null,null,null,null,null,null,null,null,null,null,null,null,null,null,null,null,null,null,{"$f":"SUMPRODUCT(REN!V26:V32,REN!V80:V86)/41868-(REN!V28*REN!V82)/41868-(REN!V30*REN!V84)/41868","v":0},{"$f":"SUMPRODUCT(REN!W26:W32,REN!W80:W86)/41868-(REN!W28*REN!W82)/41868-(REN!W30*REN!W84)/41868","v":0},{"$f":"SUMPRODUCT(REN!X26:X32,REN!X80:X86)/41868-(REN!X28*REN!X82)/41868-(REN!X30*REN!X84)/41868","v":0},{"$f":"SUMPRODUCT(REN!Y26:Y32,REN!Y80:Y86)/41868-(REN!Y28*REN!Y82)/41868-(REN!Y30*REN!Y84)/41868","v":0},{"$f":"SUMPRODUCT(REN!Z26:Z32,REN!Z80:Z86)/41868-(REN!Z28*REN!Z82)/41868-(REN!Z30*REN!Z84)/41868","v":0},{"$f":"SUMPRODUCT(REN!AA26:AA32,REN!AA80:AA86)/41868-(REN!AA28*REN!AA82)/41868-(REN!AA30*REN!AA84)/41868","v":0},{"$f":"SUMPRODUCT(REN!AB26:AB32,REN!AB80:AB86)/41868-(REN!AB28*REN!AB82)/41868-(REN!AB30*REN!AB84)/41868","v":0},{"$f":"SUMPRODUCT(REN!AC26:AC32,REN!AC80:AC86)/41868-(REN!AC28*REN!AC82)/41868-(REN!AC30*REN!AC84)/41868","v":0},{"$f":"SUMPRODUCT(REN!AD26:AD32,REN!AD80:AD86)/41868-(REN!AD28*REN!AD82)/41868-(REN!AD30*REN!AD84)/41868","v":0},{"$f":"SUMPRODUCT(REN!AE26:AE32,REN!AE80:AE86)/41868-(REN!AE28*REN!AE82)/41868-(REN!AE30*REN!AE84)/41868","v":0},{"$f":"SUMPRODUCT(REN!AF26:AF32,REN!AF80:AF86)/41868-(REN!AF28*REN!AF82)/41868-(REN!AF30*REN!AF84)/41868","v":0},{"$f":"SUMPRODUCT(REN!AG26:AG32,REN!AG80:AG86)/41868-(REN!AG28*REN!AG82)/41868-(REN!AG30*REN!AG84)/41868","v":0},{"$f":"SUMPRODUCT(REN!AH26:AH32,REN!AH80:AH86)/41868-(REN!AH28*REN!AH82)/41868-(REN!AH30*REN!AH84)/41868","v":0},{"$f":"SUMPRODUCT(REN!AI26:AI32,REN!AI80:AI86)/41868-(REN!AI28*REN!AI82)/41868-(REN!AI30*REN!AI84)/41868","v":0},{"$f":"SUMPRODUCT(REN!AJ26:AJ32,REN!AJ80:AJ86)/41868-(REN!AJ28*REN!AJ82)/41868-(REN!AJ30*REN!AJ84)/41868","v":0},{"$f":"SUMPRODUCT(REN!AK26:AK32,REN!AK80:AK86)/41868-(REN!AK28*REN!AK82)/41868-(REN!AK30*REN!AK84)/41868","v":0},{"$f":"SUMPRODUCT(REN!AL26:AL32,REN!AL80:AL86)/41868-(REN!AL28*REN!AL82)/41868-(REN!AL30*REN!AL84)/41868","v":0},{"$f":"SUMPRODUCT(REN!AM26:AM32,REN!AM80:AM86)/41868-(REN!AM28*REN!AM82)/41868-(REN!AM30*REN!AM84)/41868","v":0},{"$f":"SUMPRODUCT(REN!AN26:AN32,REN!AN80:AN86)/41868-(REN!AN28*REN!AN82)/41868-(REN!AN30*REN!AN84)/41868","v":0},{"$f":"SUMPRODUCT(REN!AO26:AO32,REN!AO80:AO86)/41868-(REN!AO28*REN!AO82)/41868-(REN!AO30*REN!AO84)/41868","v":0},{"$f":"SUMPRODUCT(REN!AP26:AP32,REN!AP80:AP86)/41868-(REN!AP28*REN!AP82)/41868-(REN!AP30*REN!AP84)/41868","v":0},{"$f":"SUMPRODUCT(REN!AQ26:AQ32,REN!AQ80:AQ86)/41868-(REN!AQ28*REN!AQ82)/41868-(REN!AQ30*REN!AQ84)/41868","v":0},{"$f":"SUMPRODUCT(REN!AR26:AR32,REN!AR80:AR86)/41868-(REN!AR28*REN!AR82)/41868-(REN!AR30*REN!AR84)/41868","v":0},{"$f":"SUMPRODUCT(REN!AS26:AS32,REN!AS80:AS86)/41868-(REN!AS28*REN!AS82)/41868-(REN!AS30*REN!AS84)/41868","v":0},{"$f":"SUMPRODUCT(REN!AT26:AT32,REN!AT80:AT86)/41868-(REN!AT28*REN!AT82)/41868-(REN!AT30*REN!AT84)/41868","v":0},{"$f":"SUMPRODUCT(REN!AU26:AU32,REN!AU80:AU86)/41868-(REN!AU28*REN!AU82)/41868-(REN!AU30*REN!AU84)/41868","v":0},{"$f":"SUMPRODUCT(REN!AV26:AV32,REN!AV80:AV86)/41868-(REN!AV28*REN!AV82)/41868-(REN!AV30*REN!AV84)/41868","v":0},{"$f":"SUMPRODUCT(REN!AW26:AW32,REN!AW80:AW86)/41868-(REN!AW28*REN!AW82)/41868-(REN!AW30*REN!AW84)/41868","v":0},{"$f":"SUMPRODUCT(REN!AX26:AX32,REN!AX80:AX86)/41868-(REN!AX28*REN!AX82)/41868-(REN!AX30*REN!AX84)/41868","v":0},{"$f":"SUMPRODUCT(REN!AY26:AY32,REN!AY80:AY86)/41868-(REN!AY28*REN!AY82)/41868-(REN!AY30*REN!AY84)/41868","v":0},{"$f":"SUMPRODUCT(REN!AZ26:AZ32,REN!AZ80:AZ86)/41868-(REN!AZ28*REN!AZ82)/41868-(REN!AZ30*REN!AZ84)/41868","v":0},{"$f":"SUMPRODUCT(REN!BA26:BA32,REN!BA80:BA86)/41868-(REN!BA28*REN!BA82)/41868-(REN!BA30*REN!BA84)/41868","v":0},{"$f":"SUMPRODUCT(REN!BB26:BB32,REN!BB80:BB86)/41868-(REN!BB28*REN!BB82)/41868-(REN!BB30*REN!BB84)/41868","v":0},{"$f":"SUMPRODUCT(REN!BC26:BC32,REN!BC80:BC86)/41868-(REN!BC28*REN!BC82)/41868-(REN!BC30*REN!BC84)/41868","v":0},{"$f":"SUMPRODUCT(REN!BD26:BD32,REN!BD80:BD86)/41868-(REN!BD28*REN!BD82)/41868-(REN!BD30*REN!BD84)/41868","v":0},{"$f":"SUMPRODUCT(REN!BE26:BE32,REN!BE80:BE86)/41868-(REN!BE28*REN!BE82)/41868-(REN!BE30*REN!BE84)/41868","v":0},{"$f":"SUMPRODUCT(REN!BF26:BF32,REN!BF80:BF86)/41868-(REN!BF28*REN!BF82)/41868-(REN!BF30*REN!BF84)/41868","v":0},{"$f":"SUMPRODUCT(REN!BG26:BG32,REN!BG80:BG86)/41868-(REN!BG28*REN!BG82)/41868-(REN!BG30*REN!BG84)/41868","v":0},{"$f":"SUMPRODUCT(REN!BH26:BH32,REN!BH80:BH86)/41868-(REN!BH28*REN!BH82)/41868-(REN!BH30*REN!BH84)/41868","v":0},{"$f":"SUMPRODUCT(REN!BI26:BI32,REN!BI80:BI86)/41868-(REN!BI28*REN!BI82)/41868-(REN!BI30*REN!BI84)/41868","v":0},{"$f":"SUMPRODUCT(REN!BJ26:BJ32,REN!BJ80:BJ86)/41868-(REN!BJ28*REN!BJ82)/41868-(REN!BJ30*REN!BJ84)/41868","v":0},{"$f":"SUMPRODUCT(REN!BK26:BK32,REN!BK80:BK86)/41868-(REN!BK28*REN!BK82)/41868-(REN!BK30*REN!BK84)/41868","v":0},{"$f":"SUMPRODUCT(REN!BL26:BL32,REN!BL80:BL86)/41868-(REN!BL28*REN!BL82)/41868-(REN!BL30*REN!BL84)/41868","v":0},{"$f":"SUMPRODUCT(REN!BM26:BM32,REN!BM80:BM86)/41868-(REN!BM28*REN!BM82)/41868-(REN!BM30*REN!BM84)/41868","v":0},{"$f":"SUMPRODUCT(REN!BN26:BN32,REN!BN80:BN86)/41868-(REN!BN28*REN!BN82)/41868-(REN!BN30*REN!BN84)/41868","v":0},{"$f":"SUMPRODUCT(REN!BO26:BO32,REN!BO80:BO86)/41868-(REN!BO28*REN!BO82)/41868-(REN!BO30*REN!BO84)/41868","v":0},{"$f":"SUMPRODUCT(REN!BP26:BP32,REN!BP80:BP86)/41868-(REN!BP28*REN!BP82)/41868-(REN!BP30*REN!BP84)/41868","v":0}]
[]
["Non-biomass fuels [ktoe] that can be counted towards transport"]
[null,"Renewable fuels of non-biological origin [RFNBOs] (including renewable hydrogen)",null,null,null,null,null,null,null,null,null,null,null,null,null,null,null,null,null,null,null,0,0,0,0,0,0,0,0,0,0,0,0,0,0,0,0,0,0,0,0,0,0,0,0,0,0,0,0,0,0,0,0,0,0,0,0,0,0,0,0,0,0,0,0,0,0,0,null,null,null,null,null,null,null,null,null,null,null,null,null,null,null,null,null,null,null,null,null,null,null,null,null,null,null,null,null,null,null,null,null,null,null,null,null,null,null,null,null,null,null,null,null,null,null,null,null,null,null,null,null,null,null,"RSYNF","ENERGUSE","FC_TRA_E_RED","_Z","_Z","_Z","_Z","_Z","ENERGY","_Z","KTOE",null,"nrg_ind_urtd","TIMESERIES","RSYNF",{"$f":"DV46","v":"FC_TRA_E_RED"},"_Z","KTOE","Agg.=SUM(countries)"]
[null,null,null,"Of which in maritime sector (Art. 27.2c)",null,null,null,null,null,null,null,null,null,null,null,null,null,null,null,null,null,0,0,0,0,0,0,0,0,0,0,0,0,0,0,0,0,0,0,0,0,0,0,0,0,0,0,0,0,0,0,0,0,0,0,0,0,0,0,0,0,0,0,0,0,0,0,0,null,null,null,null,null,null,null,null,null,null,null,null,null,null,null,null,null,null,null,null,null,null,null,null,null,null,null,null,null,null,null,null,null,null,null,null,null,null,null,null,null,null,null,null,null,null,null,null,null,null,null,null,null,null,null,"RSYNF","ENERGUSE","FC_TRA_MAR_E_RED","_Z","_Z","_Z","_Z","_Z","ENERGY","_Z","KTOE",null,"nrg_ind_urtd","TIMESERIES","RSYNF","FC_TRA_MAR_E_RED","_Z","KTOE","Agg.=SUM(countries)"]
[null,null,null,"Of which in aviation sector (Art. 27.2c)",null,null,null,null,null,null,null,null,null,null,null,null,null,null,null,null,null,0,0,0,0,0,0,0,0,0,0,0,0,0,0,0,0,0,0,0,0,0,0,0,0,0,0,0,0,0,0,0,0,0,0,0,0,0,0,0,0,0,0,0,0,0,0,0,null,null,null,null,null,null,null,null,null,null,null,null,null,null,null,null,null,null,null,null,null,null,null,null,null,null,null,null,null,null,null,null,null,null,null,null,null,null,null,null,null,null,null,null,null,null,null,null,null,null,null,null,null,null,null,"RSYNF","ENERGUSE","FC_TRA_AVI_E_RED","_Z","_Z","_Z","_Z","_Z","ENERGY","_Z","KTOE",null,"nrg_ind_urtd","TIMESERIES","RSYNF","FC_TRA_AVI_E_RED","_Z","KTOE","Agg.=SUM(countries)"]
[null,null,"Of which renewable hydrogen",null,null,null,null,null,null,null,null,null,null,null,null,null,null,null,null,null,null,0,0,0,0,0,0,0,0,0,0,0,0,0,0,0,0,0,0,0,0,0,0,0,0,0,0,0,0,0,0,0,0,0,0,0,0,0,0,0,0,0,0,0,0,0,0,0,null,null,null,null,null,null,null,null,null,null,null,null,null,null,null,null,null,null,null,null,null,null,null,null,null,null,null,null,null,null,null,null,null,null,null,null,null,null,null,null,null,null,null,null,null,null,null,null,null,null,null,null,null,null,null,"RHYD","ENERGUSE","FC_TRA_E_RED","_Z","_Z","_Z","_Z","_Z","ENERGY","_Z","KTOE",null,"nrg_ind_urtd","TIMESERIES","RHYD","FC_TRA_E_RED","_Z","KTOE","Agg.=SUM(countries)"]
[null,null,null,"Of which in maritime sector (Art. 27.2c)",null,null,null,null,null,null,null,null,null,null,null,null,null,null,null,null,null,0,0,0,0,0,0,0,0,0,0,0,0,0,0,0,0,0,0,0,0,0,0,0,0,0,0,0,0,0,0,0,0,0,0,0,0,0,0,0,0,0,0,0,0,0,0,0,null,null,null,null,null,null,null,null,null,null,null,null,null,null,null,null,null,null,null,null,null,null,null,null,null,null,null,null,null,null,null,null,null,null,null,null,null,null,null,null,null,null,null,null,null,null,null,null,null,null,null,null,null,null,null,"RHYD","ENERGUSE","FC_TRA_MAR_E_RED","_Z","_Z","_Z","_Z","_Z","ENERGY","_Z","KTOE",null,"nrg_ind_urtd","TIMESERIES","RHYD","FC_TRA_MAR_E_RED","_Z","KTOE","Agg.=SUM(countries)"]
[null,null,null,"Of which in aviation sector (Art. 27.2c)",null,null,null,null,null,null,null,null,null,null,null,null,null,null,null,null,null,0,0,0,0,0,0,0,0,0,0,0,0,0,0,0,0,0,0,0,0,0,0,0,0,0,0,0,0,0,0,0,0,0,0,0,0,0,0,0,0,0,0,0,0,0,0,0,null,null,null,null,null,null,null,null,null,null,null,null,null,null,null,null,null,null,null,null,null,null,null,null,null,null,null,null,null,null,null,null,null,null,null,null,null,null,null,null,null,null,null,null,null,null,null,null,null,null,null,null,null,null,null,"RHYD","ENERGUSE","FC_TRA_AVI_E_RED","_Z","_Z","_Z","_Z","_Z","ENERGY","_Z","KTOE",null,"nrg_ind_urtd","TIMESERIES","RHYD","FC_TRA_AVI_E_RED","_Z","KTOE","Agg.=SUM(countries)"]
[null,"Recycled carbon fuels",null,null,null,null,null,null,null,null,null,null,null,null,null,null,null,null,null,null,null,0,0,0,0,0,0,0,0,0,0,0,0,0,0,0,0,0,0,0,0,0,0,0,0,0,0,0,0,0,0,0,0,0,0,0,0,0,0,0,0,0,0,0,0,0,0,0,null,null,null,null,null,null,null,null,null,null,null,null,null,null,null,null,null,null,null,null,null,null,null,null,null,null,null,null,null,null,null,null,null,null,null,null,null,null,null,null,null,null,null,null,null,null,null,null,null,null,null,null,null,null,null,"RCF","ENERGUSE","FC_TRA_E_RED","_Z","_Z","_Z","_Z","_Z","ENERGY","_Z","KTOE",null,"nrg_ind_urtd","TIMESERIES","RCF","FC_TRA_E_RED","_Z","KTOE","Agg.=SUM(countries)"]
[null,null,null,"Of which in maritime sector (Art. 27.2c)",null,null,null,null,null,null,null,null,null,null,null,null,null,null,null,null,null,0,0,0,0,0,0,0,0,0,0,0,0,0,0,0,0,0,0,0,0,0,0,0,0,0,0,0,0,0,0,0,0,0,0,0,0,0,0,0,0,0,0,0,0,0,0,0,null,null,null,null,null,null,null,null,null,null,null,null,null,null,null,null,null,null,null,null,null,null,null,null,null,null,null,null,null,null,null,null,null,null,null,null,null,null,null,null,null,null,null,null,null,null,null,null,null,null,null,null,null,null,null,"RCF","ENERGUSE","FC_TRA_MAR_E_RED","_Z","_Z","_Z","_Z","_Z","ENERGY","_Z","KTOE",null,"nrg_ind_urtd","TIMESERIES","RCF","FC_TRA_MAR_E_RED","_Z","KTOE","Agg.=SUM(countries)"]
[null,null,null,"Of which in aviation sector (Art. 27.2c)",null,null,null,null,null,null,null,null,null,null,null,null,null,null,null,null,null,0,0,0,0,0,0,0,0,0,0,0,0,0,0,0,0,0,0,0,0,0,0,0,0,0,0,0,0,0,0,0,0,0,0,0,0,0,0,0,0,0,0,0,0,0,0,0,null,null,null,null,null,null,null,null,null,null,null,null,null,null,null,null,null,null,null,null,null,null,null,null,null,null,null,null,null,null,null,null,null,null,null,null,null,null,null,null,null,null,null,null,null,null,null,null,null,null,null,null,null,null,null,"RCF","ENERGUSE","FC_TRA_AVI_E_RED","_Z","_Z","_Z","_Z","_Z","ENERGY","_Z","KTOE",null,"nrg_ind_urtd","TIMESERIES","RCF","FC_TRA_AVI_E_RED","_Z","KTOE","Agg.=SUM(countries)"]
[]
["COMPLIANT biofuels in transport - [ktoe] - quantities calculated with calorific values in ANNEX III"]
["include here only compliant biofuels and biomass fuels (Articles 29 & 30 of Directive (EU) 2018/2001), pure and corresponding renewable part of blended fuels used in transport"]
[null,"all compliant biofuels in all transport modes ",null,null,null,null,null,null,null,null,null,null,null,null,null,null,null,null,null,null,null,{"$f":"SUM(V35:V37,V39:V41,V43:V49)","v":0},0,0,0,0,0,0,{"$f":"AC59+AC90+AC92","v":0},0,0,0,0,0,0,0,0,0,0,0,0,0,0,0,0,0,0,0,0,0,0,0,0,0,0,0,0,0,0,0,0,0,0,0,0,0,0,0,null,null,null,null,null,null,null,null,null,null,null,null,null,null,null,null,null,null,null,null,null,null,null,null,null,null,null,null,null,null,null,null,null,null,null,null,null,null,null,null,null,null,null,null,null,null,null,null,null,null,null,null,null,null,null,"R5250S","ENERGUSE","FC_TRA_E_RED","_Z","_Z","_Z","_Z","_Z","ENERGY","_Z","KTOE",null,"nrg_ind_urtd","TIMESERIES","R5250S",{"$f":"DV58","v":"FC_TRA_E_RED"},"_Z","KTOE","Agg.=SUM(countries)"]
[null,null,"Annex IX (all transport modes)",null,null,null,null,null,null,null,null,null,null,null,null,null,null,null,null,null,null,0,0,0,0,0,0,0,{"$f":"AC63+AC84","v":0},0,0,0,0,0,{"$f":"AI63+AI84","v":0},0,0,0,0,0,0,0,0,0,0,0,0,0,0,0,0,0,0,0,0,0,0,0,0,0,0,0,0,0,0,0,0,0,null,null,null,null,null,null,null,null,null,null,null,null,null,null,null,null,null,null,null,null,null,null,null,null,null,null,null,null,null,null,null,null,null,null,null,null,null,null,null,null,null,null,null,null,null,null,null,null,null,null,null,null,null,null,null,"R5251S","ENERGUSE","FC_TRA_E_RED","_Z","_Z","_Z","_Z","_Z","ENERGY","_Z","KTOE",null,"nrg_ind_urtd","TIMESERIES","R5251S","FC_TRA_E_RED","_Z","KTOE","Agg.=SUM(countries)"]
[null,null,null,"Of which in maritime sector (Art. 27.2c)",null,null,null,null,null,null,null,null,null,null,null,null,null,null,null,null,null,{"$f":"V64+V85","v":0},{"$f":"W64+W85","v":0},0,0,0,0,0,0,0,0,0,0,0,0,0,0,0,0,0,0,0,0,0,0,0,0,0,0,0,0,0,0,0,0,0,0,0,0,0,0,0,0,0,0,0,0,0,null,null,null,null,null,null,null,null,null,null,null,null,null,null,null,null,null,null,null,null,null,null,null,null,null,null,null,null,null,null,null,null,null,null,null,null,null,null,null,null,null,null,null,null,null,null,null,null,null,null,null,null,null,null,null,"R5251S","ENERGUSE","FC_TRA_MAR_E_RED","_Z","_Z","_Z","_Z","_Z","ENERGY","_Z","KTOE",null,"nrg_ind_urtd","TIMESERIES","R5251S","FC_TRA_MAR_E_RED","_Z","KTOE","Agg.=SUM(countries)"]
[null,null,null,"Of which in aviation sector (Art. 27.2c)",null,null,null,null,null,null,null,null,null,null,null,null,null,null,null,null,null,{"$f":"V65+V86","v":0},{"$f":"W65+W86","v":0},0,0,0,0,0,0,0,0,0,0,0,0,0,0,0,0,0,0,0,0,0,0,0,0,0,0,0,0,0,0,0,0,0,0,0,0,0,0,0,0,0,0,0,0,0,null,null,null,null,null,null,null,null,null,null,null,null,null,null,null,null,null,null,null,null,null,null,null,null,null,null,null,null,null,null,null,null,null,null,null,null,null,null,null,null,null,null,null,null,null,null,null,null,null,null,null,null,null,null,null,"R5251S","ENERGUSE","FC_TRA_AVI_E_RED","_Z","_Z","_Z","_Z","_Z","ENERGY","_Z","KTOE",null,"nrg_ind_urtd","TIMESERIES","R5251S","FC_TRA_AVI_E_RED","_Z","KTOE","Agg.=SUM(countries)"]
[null,null,"By feedstock (all modes)"]
[null,null,null,"Part A",null,null,null,null,null,null,null,null,null,null,null,null,null,null,null,null,null,{"$f":"SUM(V67:V89)","v":0},0,{"$f":"SUM(X67:X83)","v":0},{"$f":"SUM(Y67:Y83)","v":0},0,0,0,{"$f":"SUM(AC67:AC83)","v":0},{"$f":"SUM(AD67:AD83)","v":0},{"$f":"SUM(AE67:AE83)","v":0},0,{"$f":"SUM(AG67:AG83)","v":0},{"$f":"SUM(AH67:AH83)","v":0},{"$f":"SUM(AI67:AI83)","v":0},0,0,0,0,0,0,0,0,0,0,0,0,0,0,0,0,0,0,0,0,0,0,0,0,0,0,0,0,0,0,0,0,0,null,null,null,null,null,null,null,null,null,null,null,null,null,null,null,null,null,null,null,null,null,null,null,null,null,null,null,null,null,null,null,null,null,null,null,null,null,null,null,null,null,null,null,null,null,null,null,null,null,null,null,null,null,null,null,"R5252S","ENERGUSE","FC_TRA_E_RED","_Z","_Z","_Z","_Z","_Z","ENERGY","_Z","KTOE",null,"nrg_ind_urtd","TIMESERIES","R5252S",{"$f":"DV63","v":"FC_TRA_E_RED"},"_Z","KTOE","Agg.=SUM(countries)"]
[null,null,null,null,"Of which Part A in maritime sector (Art. 27.2c)",null,null,null,null,null,null,null,null,null,null,null,null,null,null,null,null,0,0,0,0,0,0,0,0,0,0,0,0,0,0,0,0,0,0,0,0,0,0,0,0,0,0,0,0,0,0,0,0,0,0,0,0,0,0,0,0,0,0,0,0,0,0,0,null,null,null,null,null,null,null,null,null,null,null,null,null,null,null,null,null,null,null,null,null,null,null,null,null,null,null,null,null,null,null,null,null,null,null,null,null,null,null,null,null,null,null,null,null,null,null,null,null,null,null,null,null,null,null,"R5252S","ENERGUSE","FC_TRA_MAR_E_RED","_Z","_Z","_Z","_Z","_Z","ENERGY","_Z","KTOE",null,"nrg_ind_urtd","TIMESERIES","R5252S","FC_TRA_MAR_E_RED","_Z","KTOE","Agg.=SUM(countries)"]
[null,null,null,null,"Of which Part A in aviation sector (Art. 27.2c)",null,null,null,null,null,null,null,null,null,null,null,null,null,null,null,null,0,0,0,0,0,0,0,0,0,0,0,0,0,0,0,0,0,0,0,0,0,0,0,0,0,0,0,0,0,0,0,0,0,0,0,0,0,0,0,0,0,0,0,0,0,0,0,null,null,null,null,null,null,null,null,null,null,null,null,null,null,null,null,null,null,null,null,null,null,null,null,null,null,null,null,null,null,null,null,null,null,null,null,null,null,null,null,null,null,null,null,null,null,null,null,null,null,null,null,null,null,null,"R5252S","ENERGUSE","FC_TRA_AVI_E_RED","_Z","_Z","_Z","_Z","_Z","ENERGY","_Z","KTOE",null,"nrg_ind_urtd","TIMESERIES","R5252S","FC_TRA_AVI_E_RED","_Z","KTOE","Agg.=SUM(countries)"]
[null,null,null,"Part A by feedstock (all modes)"]
[null,null,null,"(a)",null,null,null,null,null,null,null,null,null,null,null,null,null,null,null,null,null,null,null,null,null,null,null,null,0,0,0,0,0,0,0,0,0,0,0,0,0,0,0,0,0,0,0,0,0,0,0,0,0,0,0,0,0,0,0,0,0,0,0,0,0,0,0,0,null,null,null,null,null,null,null,null,null,null,null,null,null,null,null,null,null,null,null,null,null,null,null,null,null,null,null,null,null,null,null,null,null,null,null,null,null,null,null,null,null,null,null,null,null,null,null,null,null,null,null,null,null,null,null,"R5253S","ENERGUSE","FC_TRA_E_RED","_Z","_Z","_Z","_Z","_Z","ENERGY","_Z","KTOE",null,"nrg_ind_urtd","TIMESERIES","R5253S",{"$f":"DV67","v":"FC_TRA_E_RED"},"_Z","KTOE","Agg.=SUM(countries)"]
[null,null,null,"(b) ",null,null,null,null,null,null,null,null,null,null,null,null,null,null,null,null,null,null,null,null,null,null,null,null,0,0,0,0,0,0,0,0,0,0,0,0,0,0,0,0,0,0,0,0,0,0,0,0,0,0,0,0,0,0,0,0,0,0,0,0,0,0,0,0,null,null,null,null,null,null,null,null,null,null,null,null,null,null,null,null,null,null,null,null,null,null,null,null,null,null,null,null,null,null,null,null,null,null,null,null,null,null,null,null,null,null,null,null,null,null,null,null,null,null,null,null,null,null,null,"R5254S","ENERGUSE","FC_TRA_E_RED","_Z","_Z","_Z","_Z","_Z","ENERGY","_Z","KTOE",null,"nrg_ind_urtd","TIMESERIES","R5254S","FC_TRA_E_RED","_Z","KTOE","Agg.=SUM(countries)"]
[null,null,null,"(c)",null,null,null,null,null,null,null,null,null,null,null,null,null,null,null,null,null,null,null,null,null,null,null,null,0,0,0,0,0,0,0,0,0,0,0,0,0,0,0,0,0,0,0,0,0,0,0,0,0,0,0,0,0,0,0,0,0,0,0,0,0,0,0,0,null,null,null,null,null,null,null,null,null,null,null,null,null,null,null,null,null,null,null,null,null,null,null,null,null,null,null,null,null,null,null,null,null,null,null,null,null,null,null,null,null,null,null,null,null,null,null,null,null,null,null,null,null,null,null,"R5255S","ENERGUSE","FC_TRA_E_RED","_Z","_Z","_Z","_Z","_Z","ENERGY","_Z","KTOE",null,"nrg_ind_urtd","TIMESERIES","R5255S","FC_TRA_E_RED","_Z","KTOE","Agg.=SUM(countries)"]
[null,null,null,"(d)",null,null,null,null,null,null,null,null,null,null,null,null,null,null,null,null,null,null,null,null,null,null,null,null,0,0,0,0,0,0,0,0,0,0,0,0,0,0,0,0,0,0,0,0,0,0,0,0,0,0,0,0,0,0,0,0,0,0,0,0,0,0,0,0,null,null,null,null,null,null,null,null,null,null,null,null,null,null,null,null,null,null,null,null,null,null,null,null,null,null,null,null,null,null,null,null,null,null,null,null,null,null,null,null,null,null,null,null,null,null,null,null,null,null,null,null,null,null,null,"R5256S","ENERGUSE","FC_TRA_E_RED","_Z","_Z","_Z","_Z","_Z","ENERGY","_Z","KTOE",null,"nrg_ind_urtd","TIMESERIES","R5256S","FC_TRA_E_RED","_Z","KTOE","Agg.=SUM(countries)"]
[null,null,null,"(e)",null,null,null,null,null,null,null,null,null,null,null,null,null,null,null,null,null,null,null,null,null,null,null,null,0,0,0,0,0,0,0,0,0,0,0,0,0,0,0,0,0,0,0,0,0,0,0,0,0,0,0,0,0,0,0,0,0,0,0,0,0,0,0,0,null,null,null,null,null,null,null,null,null,null,null,null,null,null,null,null,null,null,null,null,null,null,null,null,null,null,null,null,null,null,null,null,null,null,null,null,null,null,null,null,null,null,null,null,null,null,null,null,null,null,null,null,null,null,null,"R5257S","ENERGUSE","FC_TRA_E_RED","_Z","_Z","_Z","_Z","_Z","ENERGY","_Z","KTOE",null,"nrg_ind_urtd","TIMESERIES","R5257S","FC_TRA_E_RED","_Z","KTOE","Agg.=SUM(countries)"]
[null,null,null,"(f)",null,null,null,null,null,null,null,null,null,null,null,null,null,null,null,null,null,null,null,null,null,null,null,null,0,0,0,0,0,0,0,0,0,0,0,0,0,0,0,0,0,0,0,0,0,0,0,0,0,0,0,0,0,0,0,0,0,0,0,0,0,0,0,0,null,null,null,null,null,null,null,null,null,null,null,null,null,null,null,null,null,null,null,null,null,null,null,null,null,null,null,null,null,null,null,null,null,null,null,null,null,null,null,null,null,null,null,null,null,null,null,null,null,null,null,null,null,null,null,"R5258S","ENERGUSE","FC_TRA_E_RED","_Z","_Z","_Z","_Z","_Z","ENERGY","_Z","KTOE",null,"nrg_ind_urtd","TIMESERIES","R5258S","FC_TRA_E_RED","_Z","KTOE","Agg.=SUM(countries)"]
[null,null,null,"(g)",null,null,null,null,null,null,null,null,null,null,null,null,null,null,null,null,null,null,null,null,null,null,null,null,0,0,0,0,0,0,0,0,0,0,0,0,0,0,0,0,0,0,0,0,0,0,0,0,0,0,0,0,0,0,0,0,0,0,0,0,0,0,0,0,null,null,null,null,null,null,null,null,null,null,null,null,null,null,null,null,null,null,null,null,null,null,null,null,null,null,null,null,null,null,null,null,null,null,null,null,null,null,null,null,null,null,null,null,null,null,null,null,null,null,null,null,null,null,null,"R5259S","ENERGUSE","FC_TRA_E_RED","_Z","_Z","_Z","_Z","_Z","ENERGY","_Z","KTOE",null,"nrg_ind_urtd","TIMESERIES","R5259S","FC_TRA_E_RED","_Z","KTOE","Agg.=SUM(countries)"]
[null,null,null,"(h)",null,null,null,null,null,null,null,null,null,null,null,null,null,null,null,null,null,null,null,null,null,null,null,null,0,0,0,0,0,0,0,0,0,0,0,0,0,0,0,0,0,0,0,0,0,0,0,0,0,0,0,0,0,0,0,0,0,0,0,0,0,0,0,0,null,null,null,null,null,null,null,null,null,null,null,null,null,null,null,null,null,null,null,null,null,null,null,null,null,null,null,null,null,null,null,null,null,null,null,null,null,null,null,null,null,null,null,null,null,null,null,null,null,null,null,null,null,null,null,"R5260S","ENERGUSE","FC_TRA_E_RED","_Z","_Z","_Z","_Z","_Z","ENERGY","_Z","KTOE",null,"nrg_ind_urtd","TIMESERIES","R5260S","FC_TRA_E_RED","_Z","KTOE","Agg.=SUM(countries)"]
[null,null,null,"(i)",null,null,null,null,null,null,null,null,null,null,null,null,null,null,null,null,null,null,null,null,null,null,null,null,0,0,0,0,0,0,0,0,0,0,0,0,0,0,0,0,0,0,0,0,0,0,0,0,0,0,0,0,0,0,0,0,0,0,0,0,0,0,0,0,null,null,null,null,null,null,null,null,null,null,null,null,null,null,null,null,null,null,null,null,null,null,null,null,null,null,null,null,null,null,null,null,null,null,null,null,null,null,null,null,null,null,null,null,null,null,null,null,null,null,null,null,null,null,null,"R5261S","ENERGUSE","FC_TRA_E_RED","_Z","_Z","_Z","_Z","_Z","ENERGY","_Z","KTOE",null,"nrg_ind_urtd","TIMESERIES","R5261S","FC_TRA_E_RED","_Z","KTOE","Agg.=SUM(countries)"]
[null,null,null,"(j)",null,null,null,null,null,null,null,null,null,null,null,null,null,null,null,null,null,null,null,null,null,null,null,null,0,0,0,0,0,0,0,0,0,0,0,0,0,0,0,0,0,0,0,0,0,0,0,0,0,0,0,0,0,0,0,0,0,0,0,0,0,0,0,0,null,null,null,null,null,null,null,null,null,null,null,null,null,null,null,null,null,null,null,null,null,null,null,null,null,null,null,null,null,null,null,null,null,null,null,null,null,null,null,null,null,null,null,null,null,null,null,null,null,null,null,null,null,null,null,"R5262S","ENERGUSE","FC_TRA_E_RED","_Z","_Z","_Z","_Z","_Z","ENERGY","_Z","KTOE",null,"nrg_ind_urtd","TIMESERIES","R5262S","FC_TRA_E_RED","_Z","KTOE","Agg.=SUM(countries)"]
[null,null,null,"(k)",null,null,null,null,null,null,null,null,null,null,null,null,null,null,null,null,null,null,null,null,null,null,null,null,0,0,0,0,0,0,0,0,0,0,0,0,0,0,0,0,0,0,0,0,0,0,0,0,0,0,0,0,0,0,0,0,0,0,0,0,0,0,0,0,null,null,null,null,null,null,null,null,null,null,null,null,null,null,null,null,null,null,null,null,null,null,null,null,null,null,null,null,null,null,null,null,null,null,null,null,null,null,null,null,null,null,null,null,null,null,null,null,null,null,null,null,null,null,null,"R5263S","ENERGUSE","FC_TRA_E_RED","_Z","_Z","_Z","_Z","_Z","ENERGY","_Z","KTOE",null,"nrg_ind_urtd","TIMESERIES","R5263S","FC_TRA_E_RED","_Z","KTOE","Agg.=SUM(countries)"]
[null,null,null,"(l)",null,null,null,null,null,null,null,null,null,null,null,null,null,null,null,null,null,null,null,null,null,null,null,null,0,0,0,0,0,0,0,0,0,0,0,0,0,0,0,0,0,0,0,0,0,0,0,0,0,0,0,0,0,0,0,0,0,0,0,0,0,0,0,0,null,null,null,null,null,null,null,null,null,null,null,null,null,null,null,null,null,null,null,null,null,null,null,null,null,null,null,null,null,null,null,null,null,null,null,null,null,null,null,null,null,null,null,null,null,null,null,null,null,null,null,null,null,null,null,"R5264S","ENERGUSE","FC_TRA_E_RED","_Z","_Z","_Z","_Z","_Z","ENERGY","_Z","KTOE",null,"nrg_ind_urtd","TIMESERIES","R5264S","FC_TRA_E_RED","_Z","KTOE","Agg.=SUM(countries)"]
[null,null,null,"(m)",null,null,null,null,null,null,null,null,null,null,null,null,null,null,null,null,null,null,null,null,null,null,null,null,0,0,0,0,0,0,0,0,0,0,0,0,0,0,0,0,0,0,0,0,0,0,0,0,0,0,0,0,0,0,0,0,0,0,0,0,0,0,0,0,null,null,null,null,null,null,null,null,null,null,null,null,null,null,null,null,null,null,null,null,null,null,null,null,null,null,null,null,null,null,null,null,null,null,null,null,null,null,null,null,null,null,null,null,null,null,null,null,null,null,null,null,null,null,null,"R5265S","ENERGUSE","FC_TRA_E_RED","_Z","_Z","_Z","_Z","_Z","ENERGY","_Z","KTOE",null,"nrg_ind_urtd","TIMESERIES","R5265S","FC_TRA_E_RED","_Z","KTOE","Agg.=SUM(countries)"]
[null,null,null,"(n)",null,null,null,null,null,null,null,null,null,null,null,null,null,null,null,null,null,null,null,null,null,null,null,null,0,0,0,0,0,0,0,0,0,0,0,0,0,0,0,0,0,0,0,0,0,0,0,0,0,0,0,0,0,0,0,0,0,0,0,0,0,0,0,0,null,null,null,null,null,null,null,null,null,null,null,null,null,null,null,null,null,null,null,null,null,null,null,null,null,null,null,null,null,null,null,null,null,null,null,null,null,null,null,null,null,null,null,null,null,null,null,null,null,null,null,null,null,null,null,"R5266S","ENERGUSE","FC_TRA_E_RED","_Z","_Z","_Z","_Z","_Z","ENERGY","_Z","KTOE",null,"nrg_ind_urtd","TIMESERIES","R5266S","FC_TRA_E_RED","_Z","KTOE","Agg.=SUM(countries)"]
[null,null,null,"(o)",null,null,null,null,null,null,null,null,null,null,null,null,null,null,null,null,null,null,null,null,null,null,null,null,0,0,0,0,0,0,0,0,0,0,0,0,0,0,0,0,0,0,0,0,0,0,0,0,0,0,0,0,0,0,0,0,0,0,0,0,0,0,0,0,null,null,null,null,null,null,null,null,null,null,null,null,null,null,null,null,null,null,null,null,null,null,null,null,null,null,null,null,null,null,null,null,null,null,null,null,null,null,null,null,null,null,null,null,null,null,null,null,null,null,null,null,null,null,null,"R5267S","ENERGUSE","FC_TRA_E_RED","_Z","_Z","_Z","_Z","_Z","ENERGY","_Z","KTOE",null,"nrg_ind_urtd","TIMESERIES","R5267S","FC_TRA_E_RED","_Z","KTOE","Agg.=SUM(countries)"]
[null,null,null,"(p)",null,null,null,null,null,null,null,null,null,null,null,null,null,null,null,null,null,null,null,null,null,null,null,null,0,0,0,0,0,0,0,0,0,0,0,0,0,0,0,0,0,0,0,0,0,0,0,0,0,0,0,0,0,0,0,0,0,0,0,0,0,0,0,0,null,null,null,null,null,null,null,null,null,null,null,null,null,null,null,null,null,null,null,null,null,null,null,null,null,null,null,null,null,null,null,null,null,null,null,null,null,null,null,null,null,null,null,null,null,null,null,null,null,null,null,null,null,null,null,"R5268S","ENERGUSE","FC_TRA_E_RED","_Z","_Z","_Z","_Z","_Z","ENERGY","_Z","KTOE",null,"nrg_ind_urtd","TIMESERIES","R5268S","FC_TRA_E_RED","_Z","KTOE","Agg.=SUM(countries)"]
[null,null,null,"(q)",null,null,null,null,null,null,null,null,null,null,null,null,null,null,null,null,null,null,null,null,null,null,null,null,0,0,0,0,0,0,0,0,0,0,0,0,0,0,0,0,0,0,0,0,0,0,0,0,0,0,0,0,0,0,0,0,0,0,0,0,0,0,0,0,null,null,null,null,null,null,null,null,null,null,null,null,null,null,null,null,null,null,null,null,null,null,null,null,null,null,null,null,null,null,null,null,null,null,null,null,null,null,null,null,null,null,null,null,null,null,null,null,null,null,null,null,null,null,null,"R5269S","ENERGUSE","FC_TRA_E_RED","_Z","_Z","_Z","_Z","_Z","ENERGY","_Z","KTOE",null,"nrg_ind_urtd","TIMESERIES","R5269S","FC_TRA_E_RED","_Z","KTOE","Agg.=SUM(countries)"]
[null,null,null,"Part B",null,null,null,null,null,null,null,null,null,null,null,null,null,null,null,null,null,null,null,null,null,null,null,null,{"$f":"SUM(AC88:AC89)","v":0},0,0,0,0,{"$f":"SUM(AH88:AH89)","v":0},{"$f":"SUM(AI88:AI89)","v":0},{"$f":"SUM(AJ88:AJ89)","v":0},0,{"$f":"SUM(AL88:AL89)","v":0},{"$f":"SUM(AM88:AM89)","v":0},0,0,0,0,0,0,0,0,0,{"$f":"SUM(AW88:AW89)","v":0},0,0,0,0,0,0,0,0,0,0,0,0,{"$f":"SUM(BJ88:BJ89)","v":0},0,0,0,0,0,0,null,null,null,null,null,null,null,null,null,null,null,null,null,null,null,null,null,null,null,null,null,null,null,null,null,null,null,null,null,null,null,null,null,null,null,null,null,null,null,null,null,null,null,null,null,null,null,null,null,null,null,null,null,null,null,"R5273S","ENERGUSE","FC_TRA_E_RED","_Z","_Z","_Z","_Z","_Z","ENERGY","_Z","KTOE",null,"nrg_ind_urtd","TIMESERIES","R5273S","FC_TRA_E_RED","_Z","KTOE","Agg.=SUM(countries)"]
[null,null,null,null,"Of which Part B in maritime sector (Art. 27.2c)",null,null,null,null,null,null,null,null,null,null,null,null,null,null,null,null,0,0,0,0,0,0,0,0,0,0,0,0,0,0,0,0,0,0,0,0,0,0,0,0,0,0,0,0,0,0,0,0,0,0,0,0,0,0,0,0,0,0,0,0,0,0,0,null,null,null,null,null,null,null,null,null,null,null,null,null,null,null,null,null,null,null,null,null,null,null,null,null,null,null,null,null,null,null,null,null,null,null,null,null,null,null,null,null,null,null,null,null,null,null,null,null,null,null,null,null,null,null,"R5273S","ENERGUSE","FC_TRA_MAR_E_RED","_Z","_Z","_Z","_Z","_Z","ENERGY","_Z","KTOE",null,"nrg_ind_urtd","TIMESERIES","R5273S","FC_TRA_MAR_E_RED","_Z","KTOE","Agg.=SUM(countries)"]
[null,null,null,null,"Of which Part B in aviation sector (Art. 27.2c)",null,null,null,null,null,null,null,null,null,null,null,null,null,null,null,null,0,0,0,0,0,0,0,0,0,0,0,0,0,0,0,0,0,0,0,0,0,0,0,0,0,0,0,0,0,0,0,0,0,0,0,0,0,0,0,0,0,0,0,0,0,0,0,null,null,null,null,null,null,null,null,null,null,null,null,null,null,null,null,null,null,null,null,null,null,null,null,null,null,null,null,null,null,null,null,null,null,null,null,null,null,null,null,null,null,null,null,null,null,null,null,null,null,null,null,null,null,null,"R5273S","ENERGUSE","FC_TRA_AVI_E_RED","_Z","_Z","_Z","_Z","_Z","ENERGY","_Z","KTOE",null,"nrg_ind_urtd","TIMESERIES","R5273S","FC_TRA_AVI_E_RED","_Z","KTOE","Agg.=SUM(countries)"]
[null,null,null,"Part B by feedstock (all modes)"]
[null,null,null,"(a)",null,null,null,null,null,null,null,null,null,null,null,null,null,null,null,null,null,null,null,null,null,null,null,null,0,0,0,0,0,0,0,0,0,0,0,0,0,0,0,0,0,0,0,0,0,0,0,0,0,0,0,0,0,0,0,0,0,0,0,0,0,0,0,0,null,null,null,null,null,null,null,null,null,null,null,null,null,null,null,null,null,null,null,null,null,null,null,null,null,null,null,null,null,null,null,null,null,null,null,null,null,null,null,null,null,null,null,null,null,null,null,null,null,null,null,null,null,null,null,"R5274S","ENERGUSE","FC_TRA_E_RED","_Z","_Z","_Z","_Z","_Z","ENERGY","_Z","KTOE",null,"nrg_ind_urtd","TIMESERIES","R5274S",{"$f":"DV88","v":"FC_TRA_E_RED"},"_Z","KTOE","Agg.=SUM(countries)"]
[null,null,null,"(b) ",null,null,null,null,null,null,null,null,null,null,null,null,null,null,null,null,null,null,null,null,null,null,null,null,0,0,0,0,0,0,0,0,0,0,0,0,0,0,0,0,0,0,0,0,0,0,0,0,0,0,0,0,0,0,0,0,0,0,0,0,0,0,0,0,null,null,null,null,null,null,null,null,null,null,null,null,null,null,null,null,null,null,null,null,null,null,null,null,null,null,null,null,null,null,null,null,null,null,null,null,null,null,null,null,null,null,null,null,null,null,null,null,null,null,null,null,null,null,null,"R5275S","ENERGUSE","FC_TRA_E_RED","_Z","_Z","_Z","_Z","_Z","ENERGY","_Z","KTOE",null,"nrg_ind_urtd","TIMESERIES","R5275S","FC_TRA_E_RED","_Z","KTOE","Agg.=SUM(countries)"]
[null,null,"Article 26(1) - From food and feed crops",null,null,null,null,null,null,null,null,null,null,null,null,null,null,null,null,null,null,null,null,null,null,null,null,null,0,0,0,0,0,0,0,0,0,0,0,0,0,0,0,0,0,0,0,0,0,0,0,0,0,0,0,0,0,0,0,0,0,0,0,0,0,0,0,0,null,null,null,null,null,null,null,null,null,null,null,null,null,null,null,null,null,null,null,null,null,null,null,null,null,null,null,null,null,null,null,null,null,null,null,null,null,null,null,null,null,null,null,null,null,null,null,null,null,null,null,null,null,null,null,"R5280S","ENERGUSE","FC_TRA_E_RED","_Z","_Z","_Z","_Z","_Z","ENERGY","_Z","KTOE",null,"nrg_ind_urtd","TIMESERIES","R5280S","FC_TRA_E_RED","_Z","KTOE","Agg.=SUM(countries)"]
[null,null,null,"of which from NON high ILUC risk",null,null,null,null,null,null,null,null,null,null,null,null,null,null,null,null,null,null,null,null,null,null,null,null,0,0,0,0,0,0,0,0,0,0,0,0,0,0,0,0,0,0,0,0,0,0,0,0,0,0,0,0,0,0,0,0,0,0,0,0,0,0,0,0,null,null,null,null,null,null,null,null,null,null,null,null,null,null,null,null,null,null,null,null,null,null,null,null,null,null,null,null,null,null,null,null,null,null,null,null,null,null,null,null,null,null,null,null,null,null,null,null,null,null,null,null,null,null,null,"R5281S","ENERGUSE","FC_TRA_E_RED","_Z","_Z","_Z","_Z","_Z","ENERGY","_Z","KTOE",null,"nrg_ind_urtd","TIMESERIES","R5281S","FC_TRA_E_RED","_Z","KTOE","Agg.=SUM(countries)"]
[null,null,"other compliant biofuels",null,null,null,null,null,null,null,null,null,null,null,null,null,null,null,null,null,null,null,null,null,null,null,null,null,0,0,0,0,0,0,0,0,0,0,0,0,0,0,0,0,0,0,0,0,0,0,0,0,0,0,0,0,0,0,0,0,0,0,0,0,0,0,0,0,null,null,null,null,null,null,null,null,null,null,null,null,null,null,null,null,null,null,null,null,null,null,null,null,null,null,null,null,null,null,null,null,null,null,null,null,null,null,null,null,null,null,null,null,null,null,null,null,null,null,null,null,null,null,null,"R5278S","ENERGUSE","FC_TRA_E_RED","_Z","_Z","_Z","_Z","_Z","ENERGY","_Z","KTOE",null,"nrg_ind_urtd","TIMESERIES","R5278S","FC_TRA_E_RED","_Z","KTOE","Agg.=SUM(countries)"]
[null,null,null,"Of which in maritime sector (Art. 27.2c)",null,null,null,null,null,null,null,null,null,null,null,null,null,null,null,null,null,0,0,0,0,0,0,0,0,0,0,0,0,0,0,0,0,0,0,0,0,0,0,0,0,0,0,0,0,0,0,0,0,0,0,0,0,0,0,0,0,0,0,0,0,0,0,0,null,null,null,null,null,null,null,null,null,null,null,null,null,null,null,null,null,null,null,null,null,null,null,null,null,null,null,null,null,null,null,null,null,null,null,null,null,null,null,null,null,null,null,null,null,null,null,null,null,null,null,null,null,null,null,"R5278S","ENERGUSE","FC_TRA_MAR_E_RED","_Z","_Z","_Z","_Z","_Z","ENERGY","_Z","KTOE",null,"nrg_ind_urtd","TIMESERIES","R5278S","FC_TRA_MAR_E_RED","_Z","KTOE","Agg.=SUM(countries)"]
[null,null,null,"Of which in aviation sector (Art. 27.2c)",null,null,null,null,null,null,null,null,null,null,null,null,null,null,null,null,null,0,0,0,0,0,0,0,0,0,0,0,0,0,0,0,0,0,0,0,0,0,0,0,0,0,0,0,0,0,0,0,0,0,0,0,0,0,0,0,0,0,0,0,0,0,0,0,null,null,null,null,null,null,null,null,null,null,null,null,null,null,null,null,null,null,null,null,null,null,null,null,null,null,null,null,null,null,null,null,null,null,null,null,null,null,null,null,null,null,null,null,null,null,null,null,null,null,null,null,null,null,null,"R5278S","ENERGUSE","FC_TRA_AVI_E_RED","_Z","_Z","_Z","_Z","_Z","ENERGY","_Z","KTOE",null,"nrg_ind_urtd","TIMESERIES","R5278S","FC_TRA_AVI_E_RED","_Z","KTOE","Agg.=SUM(countries)"]
[]
["Renewable electricity in the grid used in the transport sector [ktoe]"]
[null,"All electricity in transport",null,null,null,null,null,null,null,null,null,null,null,null,null,null,null,null,null,null,null,{"$f":"ELE!V10*3.6/41.868","v":0},{"$f":"ELE!W10*3.6/41.868","v":0},{"$f":"ELE!X10*3.6/41.868","v":0},{"$f":"ELE!Y10*3.6/41.868","v":0},{"$f":"ELE!Z10*3.6/41.868","v":0},{"$f":"ELE!AA10*3.6/41.868","v":0},{"$f":"ELE!AB10*3.6/41.868","v":0},{"$f":"ELE!AC10*3.6/41.868","v":0},{"$f":"ELE!AD10*3.6/41.868","v":0},{"$f":"ELE!AE10*3.6/41.868","v":0},{"$f":"ELE!AF10*3.6/41.868","v":0},{"$f":"ELE!AG10*3.6/41.868","v":0},{"$f":"ELE!AH10*3.6/41.868","v":0},{"$f":"ELE!AI10*3.6/41.868","v":0},{"$f":"ELE!AJ10*3.6/41.868","v":0},{"$f":"ELE!AK10*3.6/41.868","v":0},{"$f":"ELE!AL10*3.6/41.868","v":0},{"$f":"ELE!AM10*3.6/41.868","v":0},{"$f":"ELE!AN10*3.6/41.868","v":0},{"$f":"ELE!AO10*3.6/41.868","v":0},{"$f":"ELE!AP10*3.6/41.868","v":0},{"$f":"ELE!AQ10*3.6/41.868","v":0},{"$f":"ELE!AR10*3.6/41.868","v":0},{"$f":"ELE!AS10*3.6/41.868","v":0},{"$f":"ELE!AT10*3.6/41.868","v":0},{"$f":"ELE!AU10*3.6/41.868","v":0},{"$f":"ELE!AV10*3.6/41.868","v":0},{"$f":"ELE!AW10*3.6/41.868","v":0},{"$f":"ELE!AX10*3.6/41.868","v":0},{"$f":"ELE!AY10*3.6/41.868","v":0},{"$f":"ELE!AZ10*3.6/41.868","v":0},{"$f":"ELE!BA10*3.6/41.868","v":0},{"$f":"ELE!BB10*3.6/41.868","v":0},{"$f":"ELE!BC10*3.6/41.868","v":0},{"$f":"ELE!BD10*3.6/41.868","v":0},{"$f":"ELE!BE10*3.6/41.868","v":0},{"$f":"ELE!BF10*3.6/41.868","v":0},{"$f":"ELE!BG10*3.6/41.868","v":0},{"$f":"ELE!BH10*3.6/41.868","v":0},{"$f":"ELE!BI10*3.6/41.868","v":0},{"$f":"ELE!BJ10*3.6/41.868","v":0},{"$f":"ELE!BK10*3.6/41.868","v":0},{"$f":"ELE!BL10*3.6/41.868","v":0},{"$f":"ELE!BM10*3.6/41.868","v":0},{"$f":"ELE!BN10*3.6/41.868","v":0},{"$f":"ELE!BO10*3.6/41.868","v":0},{"$f":"ELE!BP10*3.6/41.868","v":0}]
[null,null,"All electricity in road transport",null,null,null,null,null,null,null,null,null,null,null,null,null,null,null,null,null,null,{"$f":"ELE!V20*3.6/41.868","v":0},{"$f":"ELE!W20*3.6/41.868","v":0},{"$f":"ELE!X20*3.6/41.868","v":0},{"$f":"ELE!Y20*3.6/41.868","v":0},{"$f":"ELE!Z20*3.6/41.868","v":0},{"$f":"ELE!AA20*3.6/41.868","v":0},{"$f":"ELE!AB20*3.6/41.868","v":0},{"$f":"ELE!AC20*3.6/41.868","v":0},{"$f":"ELE!AD20*3.6/41.868","v":0},{"$f":"ELE!AE20*3.6/41.868","v":0},{"$f":"ELE!AF20*3.6/41.868","v":0},{"$f":"ELE!AG20*3.6/41.868","v":0},{"$f":"ELE!AH20*3.6/41.868","v":0},{"$f":"ELE!AI20*3.6/41.868","v":0},{"$f":"ELE!AJ20*3.6/41.868","v":0},{"$f":"ELE!AK20*3.6/41.868","v":0},{"$f":"ELE!AL20*3.6/41.868","v":0},{"$f":"ELE!AM20*3.6/41.868","v":0},{"$f":"ELE!AN20*3.6/41.868","v":0},{"$f":"ELE!AO20*3.6/41.868","v":0},{"$f":"ELE!AP20*3.6/41.868","v":0},{"$f":"ELE!AQ20*3.6/41.868","v":0},{"$f":"ELE!AR20*3.6/41.868","v":0},{"$f":"ELE!AS20*3.6/41.868","v":0},{"$f":"ELE!AT20*3.6/41.868","v":0},{"$f":"ELE!AU20*3.6/41.868","v":0},{"$f":"ELE!AV20*3.6/41.868","v":0},{"$f":"ELE!AW20*3.6/41.868","v":0},{"$f":"ELE!AX20*3.6/41.868","v":0},{"$f":"ELE!AY20*3.6/41.868","v":0},{"$f":"ELE!AZ20*3.6/41.868","v":0},{"$f":"ELE!BA20*3.6/41.868","v":0},{"$f":"ELE!BB20*3.6/41.868","v":0},{"$f":"ELE!BC20*3.6/41.868","v":0},{"$f":"ELE!BD20*3.6/41.868","v":0},{"$f":"ELE!BE20*3.6/41.868","v":0},{"$f":"ELE!BF20*3.6/41.868","v":0},{"$f":"ELE!BG20*3.6/41.868","v":0},{"$f":"ELE!BH20*3.6/41.868","v":0},{"$f":"ELE!BI20*3.6/41.868","v":0},{"$f":"ELE!BJ20*3.6/41.868","v":0},{"$f":"ELE!BK20*3.6/41.868","v":0},{"$f":"ELE!BL20*3.6/41.868","v":0},{"$f":"ELE!BM20*3.6/41.868","v":0},{"$f":"ELE!BN20*3.6/41.868","v":0},{"$f":"ELE!BO20*3.6/41.868","v":0},{"$f":"ELE!BP20*3.6/41.868","v":0}]
[null,null,null,"RE in road transport",null,null,null,null,null,null,null,null,null,null,null,null,null,null,null,null,null,{"$f":"IFERROR(V100+V101,0)","v":0},{"$f":"IFERROR(W100+W101,0)","v":0},0,0,0,0,0,0,0,0,0,0,0,0,0,0,0,0,0,0,0,0,0,0,0,0,0,0,0,0,0,0,0,0,0,0,0,0,0,0,0,0,0,0,0,0,0,null,null,null,null,null,null,null,null,null,null,null,null,null,null,null,null,null,null,null,null,null,null,null,null,null,null,null,null,null,null,null,null,null,null,null,null,null,null,null,null,null,null,null,null,null,null,null,null,null,null,null,null,null,null,null,"E7000","ENERGUSE","FC_TRA_ROAD_E_RED","ELEREN","_Z","_Z","_Z","_Z","ENERGY","_Z","KTOE",null,"nrg_ind_urtd","TIMESERIES","E7100",{"$f":"DV99","v":"FC_TRA_ROAD_E_RED"},"_Z","KTOE","Agg.=SUM(countries)"]
[null,null,null,null,"Of which RE in road transport from direct connection",null,null,null,null,null,null,null,null,null,null,null,null,null,null,null,null,0,0,0,0,0,0,0,0,0,0,0,0,0,0,0,0,0,0,0,0,0,0,0,0,0,0,0,0,0,0,0,0,0,0,0,0,0,0,0,0,0,0,0,0,0,0,0,null,null,null,null,null,null,null,null,null,null,null,null,null,null,null,null,null,null,null,null,null,null,null,null,null,null,null,null,null,null,null,null,null,null,null,null,null,null,null,null,null,null,null,null,null,null,null,null,null,null,null,null,null,null,null,"E7000","ENERGUSE","FC_TRA_ROAD_E_RED","ELERENDTL","_Z","_Z","_Z","_Z","ENERGY","_Z","KTOE",null,"nrg_ind_urtd","TIMESERIES","E7000","FC_TRA_ROAD_E_DTL_RED","_Z","KTOE","Agg.=SUM(countries)"]
[null,null,null,null,"Of which RE in road transport from the grid",null,null,null,null,null,null,null,null,null,null,null,null,null,null,null,null,{"$f":"IFERROR((V98*MIN(1,'OVERALL TARGET'!V35)-V100),0)","v":0},{"$f":"IFERROR((W98*MIN(1,'OVERALL TARGET'!V35)-W100),0)","v":0},{"$f":"IFERROR(X98*MIN(1,('OVERALL TARGET'!V35+'OVERALL TARGET'!W35)/2-X100),0)","v":0},{"$f":"IFERROR(Y98*MIN(1,('OVERALL TARGET'!W35+'OVERALL TARGET'!X35)/2-Y100),0)","v":0},{"$f":"IFERROR(Z98*MIN(1,('OVERALL TARGET'!X35+'OVERALL TARGET'!Y35)/2-Z100),0)","v":0},{"$f":"IFERROR(AA98*MIN(1,('OVERALL TARGET'!Y35+'OVERALL TARGET'!Z35)/2-AA100),0)","v":0},{"$f":"IFERROR(AB98*MIN(1,('OVERALL TARGET'!Z35+'OVERALL TARGET'!AA35)/2-AB100),0)","v":0},{"$f":"IFERROR(AC98*MIN(1,('OVERALL TARGET'!AA35+'OVERALL TARGET'!AB35)/2-AC100),0)","v":0},{"$f":"IFERROR(AD98*MIN(1,('OVERALL TARGET'!AB35+'OVERALL TARGET'!AC35)/2-AD100),0)","v":0},{"$f":"IFERROR(AE98*MIN(1,('OVERALL TARGET'!AC35+'OVERALL TARGET'!AD35)/2-AE100),0)","v":0},{"$f":"IFERROR(AF98*MIN(1,('OVERALL TARGET'!AD35+'OVERALL TARGET'!AE35)/2-AF100),0)","v":0},{"$f":"IFERROR(AG98*MIN(1,('OVERALL TARGET'!AE35+'OVERALL TARGET'!AF35)/2-AG100),0)","v":0},{"$f":"IFERROR(AH98*MIN(1,('OVERALL TARGET'!AF35+'OVERALL TARGET'!AG35)/2-AH100),0)","v":0},{"$f":"IFERROR(AI98*MIN(1,('OVERALL TARGET'!AG35+'OVERALL TARGET'!AH35)/2-AI100),0)","v":0},{"$f":"IFERROR(AJ98*MIN(1,('OVERALL TARGET'!AH35+'OVERALL TARGET'!AI35)/2-AJ100),0)","v":0},{"$f":"IFERROR(AK98*MIN(1,('OVERALL TARGET'!AI35+'OVERALL TARGET'!AJ35)/2-AK100),0)","v":0},{"$f":"IFERROR(AL98*MIN(1,('OVERALL TARGET'!AJ35+'OVERALL TARGET'!AK35)/2-AL100),0)","v":0},{"$f":"IFERROR(AM98*MIN(1,('OVERALL TARGET'!AK35+'OVERALL TARGET'!AL35)/2-AM100),0)","v":0},{"$f":"IFERROR(AN98*MIN(1,('OVERALL TARGET'!AL35+'OVERALL TARGET'!AM35)/2-AN100),0)","v":0},{"$f":"IFERROR(AO98*MIN(1,('OVERALL TARGET'!AM35+'OVERALL TARGET'!AN35)/2-AO100),0)","v":0},{"$f":"IFERROR(AP98*MIN(1,('OVERALL TARGET'!AN35+'OVERALL TARGET'!AO35)/2-AP100),0)","v":0},{"$f":"IFERROR(AQ98*MIN(1,('OVERALL TARGET'!AO35+'OVERALL TARGET'!AP35)/2-AQ100),0)","v":0},{"$f":"IFERROR(AR98*MIN(1,('OVERALL TARGET'!AP35+'OVERALL TARGET'!AQ35)/2-AR100),0)","v":0},{"$f":"IFERROR(AS98*MIN(1,('OVERALL TARGET'!AQ35+'OVERALL TARGET'!AR35)/2-AS100),0)","v":0},{"$f":"IFERROR(AT98*MIN(1,('OVERALL TARGET'!AR35+'OVERALL TARGET'!AS35)/2-AT100),0)","v":0},{"$f":"IFERROR(AU98*MIN(1,('OVERALL TARGET'!AS35+'OVERALL TARGET'!AT35)/2-AU100),0)","v":0},{"$f":"IFERROR(AV98*MIN(1,('OVERALL TARGET'!AT35+'OVERALL TARGET'!AU35)/2-AV100),0)","v":0},{"$f":"IFERROR(AW98*MIN(1,('OVERALL TARGET'!AU35+'OVERALL TARGET'!AV35)/2-AW100),0)","v":0},{"$f":"IFERROR(AX98*MIN(1,('OVERALL TARGET'!AV35+'OVERALL TARGET'!AW35)/2-AX100),0)","v":0},{"$f":"IFERROR(AY98*MIN(1,('OVERALL TARGET'!AW35+'OVERALL TARGET'!AX35)/2-AY100),0)","v":0},{"$f":"IFERROR(AZ98*MIN(1,('OVERALL TARGET'!AX35+'OVERALL TARGET'!AY35)/2-AZ100),0)","v":0},{"$f":"IFERROR(BA98*MIN(1,('OVERALL TARGET'!AY35+'OVERALL TARGET'!AZ35)/2-BA100),0)","v":0},{"$f":"IFERROR(BB98*MIN(1,('OVERALL TARGET'!AZ35+'OVERALL TARGET'!BA35)/2-BB100),0)","v":0},{"$f":"IFERROR(BC98*MIN(1,('OVERALL TARGET'!BA35+'OVERALL TARGET'!BB35)/2-BC100),0)","v":0},{"$f":"IFERROR(BD98*MIN(1,('OVERALL TARGET'!BB35+'OVERALL TARGET'!BC35)/2-BD100),0)","v":0},{"$f":"IFERROR(BE98*MIN(1,('OVERALL TARGET'!BC35+'OVERALL TARGET'!BD35)/2-BE100),0)","v":0},{"$f":"IFERROR(BF98*MIN(1,('OVERALL TARGET'!BD35+'OVERALL TARGET'!BE35)/2-BF100),0)","v":0},{"$f":"IFERROR(BG98*MIN(1,('OVERALL TARGET'!BE35+'OVERALL TARGET'!BF35)/2-BG100),0)","v":0},{"$f":"IFERROR(BH98*MIN(1,('OVERALL TARGET'!BF35+'OVERALL TARGET'!BG35)/2-BH100),0)","v":0},{"$f":"IFERROR(BI98*MIN(1,('OVERALL TARGET'!BG35+'OVERALL TARGET'!BH35)/2-BI100),0)","v":0},{"$f":"IFERROR(BJ98*MIN(1,('OVERALL TARGET'!BH35+'OVERALL TARGET'!BI35)/2-BJ100),0)","v":0},{"$f":"IFERROR(BK98*MIN(1,('OVERALL TARGET'!BI35+'OVERALL TARGET'!BJ35)/2-BK100),0)","v":0},{"$f":"IFERROR(BL98*MIN(1,('OVERALL TARGET'!BJ35+'OVERALL TARGET'!BK35)/2-BL100),0)","v":0},{"$f":"IFERROR(BM98*MIN(1,('OVERALL TARGET'!BK35+'OVERALL TARGET'!BL35)/2-BM100),0)","v":0},{"$f":"IFERROR(BN98*MIN(1,('OVERALL TARGET'!BL35+'OVERALL TARGET'!BM35)/2-BN100),0)","v":0},{"$f":"IFERROR(BO98*MIN(1,('OVERALL TARGET'!BM35+'OVERALL TARGET'!BN35)/2-BO100),0)","v":0},{"$f":"IFERROR(BP98*MIN(1,('OVERALL TARGET'!BN35+'OVERALL TARGET'!BO35)/2-BP100),0)","v":0},null,null,null,null,null,null,null,null,null,null,null,null,null,null,null,null,null,null,null,null,null,null,null,null,null,null,null,null,null,null,null,null,null,null,null,null,null,null,null,null,null,null,null,null,null,null,null,null,null,null,null,null,null,null,null,"E7000","ENERGUSE","FC_TRA_ROAD_E_RED","ELERENGRID","_Z","_Z","_Z","_Z","ENERGY","_Z","KTOE",null,"nrg_ind_urtd","TIMESERIES","E7000","FC_TRA_ROAD_E_GRD_RED","_Z","KTOE","Agg.=SUM(countries)"]
[null,null,null,"non-RE in road transport",null,null,null,null,null,null,null,null,null,null,null,null,null,null,null,null,null,{"$f":"V98-V100-V99","v":0},0,0,0,0,0,0,0,0,0,0,0,0,0,0,0,0,0,0,0,0,0,0,0,0,0,0,0,0,0,0,0,0,0,0,0,0,0,0,0,0,0,0,0,0,0,0,null,null,null,null,null,null,null,null,null,null,null,null,null,null,null,null,null,null,null,null,null,null,null,null,null,null,null,null,null,null,null,null,null,null,null,null,null,null,null,null,null,null,null,null,null,null,null,null,null,null,null,null,null,null,null,"E7000","ENERGUSE","FC_TRA_ROAD_E_RED","ELENREN","_Z","_Z","_Z","_Z","ENERGY","_Z","KTOE",null,"nrg_ind_urtd","TIMESERIES","E7200","FC_TRA_ROAD_E_RED","_Z","KTOE","Agg.=SUM(countries)"]
[null,null,"All electricity in rail transport",null,null,null,null,null,null,null,null,null,null,null,null,null,null,null,null,null,null,{"$f":"ELE!V21*3.6/41.868","v":0},{"$f":"ELE!W21*3.6/41.868","v":0},{"$f":"ELE!X21*3.6/41.868","v":0},{"$f":"ELE!Y21*3.6/41.868","v":0},{"$f":"ELE!Z21*3.6/41.868","v":0},{"$f":"ELE!AA21*3.6/41.868","v":0},{"$f":"ELE!AB21*3.6/41.868","v":0},{"$f":"ELE!AC21*3.6/41.868","v":0},{"$f":"ELE!AD21*3.6/41.868","v":0},{"$f":"ELE!AE21*3.6/41.868","v":0},{"$f":"ELE!AF21*3.6/41.868","v":0},{"$f":"ELE!AG21*3.6/41.868","v":0},{"$f":"ELE!AH21*3.6/41.868","v":0},{"$f":"ELE!AI21*3.6/41.868","v":0},{"$f":"ELE!AJ21*3.6/41.868","v":0},{"$f":"ELE!AK21*3.6/41.868","v":0},{"$f":"ELE!AL21*3.6/41.868","v":0},{"$f":"ELE!AM21*3.6/41.868","v":0},{"$f":"ELE!AN21*3.6/41.868","v":0},{"$f":"ELE!AO21*3.6/41.868","v":0},{"$f":"ELE!AP21*3.6/41.868","v":0},{"$f":"ELE!AQ21*3.6/41.868","v":0},{"$f":"ELE!AR21*3.6/41.868","v":0},{"$f":"ELE!AS21*3.6/41.868","v":0},{"$f":"ELE!AT21*3.6/41.868","v":0},{"$f":"ELE!AU21*3.6/41.868","v":0},{"$f":"ELE!AV21*3.6/41.868","v":0},{"$f":"ELE!AW21*3.6/41.868","v":0},{"$f":"ELE!AX21*3.6/41.868","v":0},{"$f":"ELE!AY21*3.6/41.868","v":0},{"$f":"ELE!AZ21*3.6/41.868","v":0},{"$f":"ELE!BA21*3.6/41.868","v":0},{"$f":"ELE!BB21*3.6/41.868","v":0},{"$f":"ELE!BC21*3.6/41.868","v":0},{"$f":"ELE!BD21*3.6/41.868","v":0},{"$f":"ELE!BE21*3.6/41.868","v":0},{"$f":"ELE!BF21*3.6/41.868","v":0},{"$f":"ELE!BG21*3.6/41.868","v":0},{"$f":"ELE!BH21*3.6/41.868","v":0},{"$f":"ELE!BI21*3.6/41.868","v":0},{"$f":"ELE!BJ21*3.6/41.868","v":0},{"$f":"ELE!BK21*3.6/41.868","v":0},{"$f":"ELE!BL21*3.6/41.868","v":0},{"$f":"ELE!BM21*3.6/41.868","v":0},{"$f":"ELE!BN21*3.6/41.868","v":0},{"$f":"ELE!BO21*3.6/41.868","v":0},{"$f":"ELE!BP21*3.6/41.868","v":0}]
[null,null,null,"RE in rail transport",null,null,null,null,null,null,null,null,null,null,null,null,null,null,null,null,null,{"$f":"IFERROR(V103*MIN(1,'OVERALL TARGET'!V35),0)","v":0},{"$f":"IFERROR(W103*MIN(1,'OVERALL TARGET'!V35),0)","v":0},{"$f":"IFERROR(X103*MIN(1,('OVERALL TARGET'!V35+'OVERALL TARGET'!W35)/2),0)","v":0},{"$f":"IFERROR(Y103*MIN(1,('OVERALL TARGET'!W35+'OVERALL TARGET'!X35)/2),0)","v":0},{"$f":"IFERROR(Z103*MIN(1,('OVERALL TARGET'!X35+'OVERALL TARGET'!Y35)/2),0)","v":0},{"$f":"IFERROR(AA103*MIN(1,('OVERALL TARGET'!Y35+'OVERALL TARGET'!Z35)/2),0)","v":0},{"$f":"IFERROR(AB103*MIN(1,('OVERALL TARGET'!Z35+'OVERALL TARGET'!AA35)/2),0)","v":0},{"$f":"IFERROR(AC103*MIN(1,('OVERALL TARGET'!AA35+'OVERALL TARGET'!AB35)/2),0)","v":0},{"$f":"IFERROR(AD103*MIN(1,('OVERALL TARGET'!AB35+'OVERALL TARGET'!AC35)/2),0)","v":0},{"$f":"IFERROR(AE103*MIN(1,('OVERALL TARGET'!AC35+'OVERALL TARGET'!AD35)/2),0)","v":0},{"$f":"IFERROR(AF103*MIN(1,('OVERALL TARGET'!AD35+'OVERALL TARGET'!AE35)/2),0)","v":0},{"$f":"IFERROR(AG103*MIN(1,('OVERALL TARGET'!AE35+'OVERALL TARGET'!AF35)/2),0)","v":0},{"$f":"IFERROR(AH103*MIN(1,('OVERALL TARGET'!AF35+'OVERALL TARGET'!AG35)/2),0)","v":0},{"$f":"IFERROR(AI103*MIN(1,('OVERALL TARGET'!AG35+'OVERALL TARGET'!AH35)/2),0)","v":0},{"$f":"IFERROR(AJ103*MIN(1,('OVERALL TARGET'!AH35+'OVERALL TARGET'!AI35)/2),0)","v":0},{"$f":"IFERROR(AK103*MIN(1,('OVERALL TARGET'!AI35+'OVERALL TARGET'!AJ35)/2),0)","v":0},{"$f":"IFERROR(AL103*MIN(1,('OVERALL TARGET'!AJ35+'OVERALL TARGET'!AK35)/2),0)","v":0},{"$f":"IFERROR(AM103*MIN(1,('OVERALL TARGET'!AK35+'OVERALL TARGET'!AL35)/2),0)","v":0},{"$f":"IFERROR(AN103*MIN(1,('OVERALL TARGET'!AL35+'OVERALL TARGET'!AM35)/2),0)","v":0},{"$f":"IFERROR(AO103*MIN(1,('OVERALL TARGET'!AM35+'OVERALL TARGET'!AN35)/2),0)","v":0},{"$f":"IFERROR(AP103*MIN(1,('OVERALL TARGET'!AN35+'OVERALL TARGET'!AO35)/2),0)","v":0},{"$f":"IFERROR(AQ103*MIN(1,('OVERALL TARGET'!AO35+'OVERALL TARGET'!AP35)/2),0)","v":0},{"$f":"IFERROR(AR103*MIN(1,('OVERALL TARGET'!AP35+'OVERALL TARGET'!AQ35)/2),0)","v":0},{"$f":"IFERROR(AS103*MIN(1,('OVERALL TARGET'!AQ35+'OVERALL TARGET'!AR35)/2),0)","v":0},{"$f":"IFERROR(AT103*MIN(1,('OVERALL TARGET'!AR35+'OVERALL TARGET'!AS35)/2),0)","v":0},{"$f":"IFERROR(AU103*MIN(1,('OVERALL TARGET'!AS35+'OVERALL TARGET'!AT35)/2),0)","v":0},{"$f":"IFERROR(AV103*MIN(1,('OVERALL TARGET'!AT35+'OVERALL TARGET'!AU35)/2),0)","v":0},{"$f":"IFERROR(AW103*MIN(1,('OVERALL TARGET'!AU35+'OVERALL TARGET'!AV35)/2),0)","v":0},{"$f":"IFERROR(AX103*MIN(1,('OVERALL TARGET'!AV35+'OVERALL TARGET'!AW35)/2),0)","v":0},{"$f":"IFERROR(AY103*MIN(1,('OVERALL TARGET'!AW35+'OVERALL TARGET'!AX35)/2),0)","v":0},{"$f":"IFERROR(AZ103*MIN(1,('OVERALL TARGET'!AX35+'OVERALL TARGET'!AY35)/2),0)","v":0},{"$f":"IFERROR(BA103*MIN(1,('OVERALL TARGET'!AY35+'OVERALL TARGET'!AZ35)/2),0)","v":0},{"$f":"IFERROR(BB103*MIN(1,('OVERALL TARGET'!AZ35+'OVERALL TARGET'!BA35)/2),0)","v":0},{"$f":"IFERROR(BC103*MIN(1,('OVERALL TARGET'!BA35+'OVERALL TARGET'!BB35)/2),0)","v":0},{"$f":"IFERROR(BD103*MIN(1,('OVERALL TARGET'!BB35+'OVERALL TARGET'!BC35)/2),0)","v":0},{"$f":"IFERROR(BE103*MIN(1,('OVERALL TARGET'!BC35+'OVERALL TARGET'!BD35)/2),0)","v":0},{"$f":"IFERROR(BF103*MIN(1,('OVERALL TARGET'!BD35+'OVERALL TARGET'!BE35)/2),0)","v":0},{"$f":"IFERROR(BG103*MIN(1,('OVERALL TARGET'!BE35+'OVERALL TARGET'!BF35)/2),0)","v":0},{"$f":"IFERROR(BH103*MIN(1,('OVERALL TARGET'!BF35+'OVERALL TARGET'!BG35)/2),0)","v":0},{"$f":"IFERROR(BI103*MIN(1,('OVERALL TARGET'!BG35+'OVERALL TARGET'!BH35)/2),0)","v":0},{"$f":"IFERROR(BJ103*MIN(1,('OVERALL TARGET'!BH35+'OVERALL TARGET'!BI35)/2),0)","v":0},{"$f":"IFERROR(BK103*MIN(1,('OVERALL TARGET'!BI35+'OVERALL TARGET'!BJ35)/2),0)","v":0},{"$f":"IFERROR(BL103*MIN(1,('OVERALL TARGET'!BJ35+'OVERALL TARGET'!BK35)/2),0)","v":0},{"$f":"IFERROR(BM103*MIN(1,('OVERALL TARGET'!BK35+'OVERALL TARGET'!BL35)/2),0)","v":0},{"$f":"IFERROR(BN103*MIN(1,('OVERALL TARGET'!BL35+'OVERALL TARGET'!BM35)/2),0)","v":0},{"$f":"IFERROR(BO103*MIN(1,('OVERALL TARGET'!BM35+'OVERALL TARGET'!BN35)/2),0)","v":0},{"$f":"IFERROR(BP103*MIN(1,('OVERALL TARGET'!BN35+'OVERALL TARGET'!BO35)/2),0)","v":0},null,null,null,null,null,null,null,null,null,null,null,null,null,null,null,null,null,null,null,null,null,null,null,null,null,null,null,null,null,null,null,null,null,null,null,null,null,null,null,null,null,null,null,null,null,null,null,null,null,null,null,null,null,null,null,"E7000","ENERGUSE","FC_TRA_RAIL_E_RED","ELEREN","_Z","_Z","_Z","_Z","ENERGY","_Z","KTOE",null,"nrg_ind_urtd","TIMESERIES","E7100",{"$f":"DV104","v":"FC_TRA_RAIL_E_RED"},"_Z","KTOE","Agg.=SUM(countries)"]
[null,null,null,"non-RE in rail transport",null,null,null,null,null,null,null,null,null,null,null,null,null,null,null,null,null,{"$f":"V103-V104","v":0},0,0,0,0,0,0,0,0,0,0,0,0,0,0,0,0,{"$f":"AM103-AM104","v":0},0,0,0,0,0,0,0,0,0,{"$f":"AW103-AW104","v":0},0,0,0,0,0,0,0,0,0,0,0,0,{"$f":"BJ103-BJ104","v":0},0,0,0,0,0,0,null,null,null,null,null,null,null,null,null,null,null,null,null,null,null,null,null,null,null,null,null,null,null,null,null,null,null,null,null,null,null,null,null,null,null,null,null,null,null,null,null,null,null,null,null,null,null,null,null,null,null,null,null,null,null,"E7000","ENERGUSE","FC_TRA_RAIL_E_RED","ELENREN","_Z","_Z","_Z","_Z","ENERGY","_Z","KTOE",null,"nrg_ind_urtd","TIMESERIES","E7200","FC_TRA_RAIL_E_RED","_Z","KTOE","Agg.=SUM(countries)"]
[null,null,"All electricity in all other transport modes",null,null,null,null,null,null,null,null,null,null,null,null,null,null,null,null,null,null,{"$f":"V97-(V98+V103)","v":0},0,0,0,0,0,0,0,0,0,0,0,0,0,0,0,0,0,0,0,0,0,0,0,0,0,0,0,0,0,0,0,0,0,0,0,0,0,0,0,0,0,0,0,0,0,0]
[null,null,null,"RE in all other transport modes",null,null,null,null,null,null,null,null,null,null,null,null,null,null,null,null,null,{"$f":"IFERROR(V106*MIN(1,'OVERALL TARGET'!V35),0)","v":0},{"$f":"IFERROR(W106*MIN(1,'OVERALL TARGET'!V35),0)","v":0},{"$f":"IFERROR(X106*MIN(1,'OVERALL TARGET'!V35),0)","v":0},{"$f":"IFERROR(Y106*MIN(1,'OVERALL TARGET'!W35),0)","v":0},{"$f":"IFERROR(Z106*MIN(1,'OVERALL TARGET'!X35),0)","v":0},{"$f":"IFERROR(AA106*MIN(1,'OVERALL TARGET'!Y35),0)","v":0},{"$f":"IFERROR(AB106*MIN(1,'OVERALL TARGET'!Z35),0)","v":0},{"$f":"IFERROR(AC106*MIN(1,'OVERALL TARGET'!AA35),0)","v":0},{"$f":"IFERROR(AD106*MIN(1,'OVERALL TARGET'!AB35),0)","v":0},{"$f":"IFERROR(AE106*MIN(1,'OVERALL TARGET'!AC35),0)","v":0},{"$f":"IFERROR(AF106*MIN(1,'OVERALL TARGET'!AD35),0)","v":0},{"$f":"IFERROR(AG106*MIN(1,'OVERALL TARGET'!AE35),0)","v":0},{"$f":"IFERROR(AH106*MIN(1,'OVERALL TARGET'!AF35),0)","v":0},{"$f":"IFERROR(AI106*MIN(1,'OVERALL TARGET'!AG35),0)","v":0},{"$f":"IFERROR(AJ106*MIN(1,'OVERALL TARGET'!AH35),0)","v":0},{"$f":"IFERROR(AK106*MIN(1,'OVERALL TARGET'!AI35),0)","v":0},{"$f":"IFERROR(AL106*MIN(1,'OVERALL TARGET'!AJ35),0)","v":0},{"$f":"IFERROR(AM106*MIN(1,'OVERALL TARGET'!AK35),0)","v":0},{"$f":"IFERROR(AN106*MIN(1,'OVERALL TARGET'!AL35),0)","v":0},{"$f":"IFERROR(AO106*MIN(1,'OVERALL TARGET'!AM35),0)","v":0},{"$f":"IFERROR(AP106*MIN(1,'OVERALL TARGET'!AN35),0)","v":0},{"$f":"IFERROR(AQ106*MIN(1,'OVERALL TARGET'!AO35),0)","v":0},{"$f":"IFERROR(AR106*MIN(1,'OVERALL TARGET'!AP35),0)","v":0},{"$f":"IFERROR(AS106*MIN(1,'OVERALL TARGET'!AQ35),0)","v":0},{"$f":"IFERROR(AT106*MIN(1,'OVERALL TARGET'!AR35),0)","v":0},{"$f":"IFERROR(AU106*MIN(1,'OVERALL TARGET'!AS35),0)","v":0},{"$f":"IFERROR(AV106*MIN(1,'OVERALL TARGET'!AT35),0)","v":0},{"$f":"IFERROR(AW106*MIN(1,'OVERALL TARGET'!AU35),0)","v":0},{"$f":"IFERROR(AX106*MIN(1,'OVERALL TARGET'!AV35),0)","v":0},{"$f":"IFERROR(AY106*MIN(1,'OVERALL TARGET'!AW35),0)","v":0},{"$f":"IFERROR(AZ106*MIN(1,'OVERALL TARGET'!AX35),0)","v":0},{"$f":"IFERROR(BA106*MIN(1,'OVERALL TARGET'!AY35),0)","v":0},{"$f":"IFERROR(BB106*MIN(1,'OVERALL TARGET'!AZ35),0)","v":0},{"$f":"IFERROR(BC106*MIN(1,'OVERALL TARGET'!BA35),0)","v":0},{"$f":"IFERROR(BD106*MIN(1,'OVERALL TARGET'!BB35),0)","v":0},{"$f":"IFERROR(BE106*MIN(1,'OVERALL TARGET'!BC35),0)","v":0},{"$f":"IFERROR(BF106*MIN(1,'OVERALL TARGET'!BD35),0)","v":0},{"$f":"IFERROR(BG106*MIN(1,'OVERALL TARGET'!BE35),0)","v":0},{"$f":"IFERROR(BH106*MIN(1,'OVERALL TARGET'!BF35),0)","v":0},{"$f":"IFERROR(BI106*MIN(1,'OVERALL TARGET'!BG35),0)","v":0},{"$f":"IFERROR(BJ106*MIN(1,'OVERALL TARGET'!BH35),0)","v":0},{"$f":"IFERROR(BK106*MIN(1,'OVERALL TARGET'!BI35),0)","v":0},{"$f":"IFERROR(BL106*MIN(1,'OVERALL TARGET'!BJ35),0)","v":0},{"$f":"IFERROR(BM106*MIN(1,'OVERALL TARGET'!BK35),0)","v":0},{"$f":"IFERROR(BN106*MIN(1,'OVERALL TARGET'!BL35),0)","v":0},{"$f":"IFERROR(BO106*MIN(1,'OVERALL TARGET'!BM35),0)","v":0},{"$f":"IFERROR(BP106*MIN(1,'OVERALL TARGET'!BN35),0)","v":0},null,null,null,null,null,null,null,null,null,null,null,null,null,null,null,null,null,null,null,null,null,null,null,null,null,null,null,null,null,null,null,null,null,null,null,null,null,null,null,null,null,null,null,null,null,null,null,null,null,null,null,null,null,null,null,"E7000","ENERGUSE","FC_TRA_OTH_E_RED","ELEREN","_Z","_Z","_Z","_Z","ENERGY","_Z","KTOE",null,"nrg_ind_urtd","TIMESERIES","E7100",{"$f":"DV107","v":"FC_TRA_OTH_E_RED"},"_Z","KTOE","Agg.=SUM(countries)"]
[null,null,null,"non-RE in all other transport modes",null,null,null,null,null,null,null,null,null,null,null,null,null,null,null,null,null,{"$f":"V106-V107","v":0},0,0,0,0,0,0,0,0,0,0,0,0,0,0,0,0,{"$f":"AM106-AM107","v":0},0,0,0,0,0,0,0,0,0,{"$f":"AW106-AW107","v":0},0,0,0,0,0,0,0,0,0,0,0,0,{"$f":"BJ106-BJ107","v":0},0,0,0,0,0,0,null,null,null,null,null,null,null,null,null,null,null,null,null,null,null,null,null,null,null,null,null,null,null,null,null,null,null,null,null,null,null,null,null,null,null,null,null,null,null,null,null,null,null,null,null,null,null,null,null,null,null,null,null,null,null,"E7000","ENERGUSE","FC_TRA_OTH_E_RED","ELENREN","_Z","_Z","_Z","_Z","ENERGY","_Z","KTOE",null,"nrg_ind_urtd","TIMESERIES","E7200","FC_TRA_OTH_E_RED","_Z","KTOE","Agg.=SUM(countries)"]
[]
[null,"Electricity to produce renewable hydrogen and other RFNBOs used in transport [ktoe]",null,null,null,null,null,null,null,null,null,null,null,null,null,null,null,null,null,null,null,0,0,0,0,0,0,0,0,0,0,0,0,0,0,0,0,0,0,0,0,0,0,0,0,0,0,0,0,0,0,0,0,0,0,0,0,0,0,0,0,0,0,0,0,0,0,0,null,null,null,null,null,null,null,null,null,null,null,null,null,null,null,null,null,null,null,null,null,null,null,null,null,null,null,null,null,null,null,null,null,null,null,null,null,null,null,null,null,null,null,null,null,null,null,null,null,null,null,null,null,null,null,"E7000","ENERGUSE","NRG_MNBRFT_E","_Z","_Z","_Z","_Z","_Z","ENERGY","_Z","KTOE",null,"nrg_ind_urtd","TIMESERIES","E7000","NRG_MNBRFT_E","_Z","KTOE","Agg.=SUM(countries)"]
[]
["NUMERATOR for the overall share",null,null,null,null,null,null,null,null,null,null,null,null,null,null,null,null,null,null,null,null,{"$f":"IFERROR(V63+V84+MIN(MIN(V90-V91+3.6/41.868*('OVERALL TARGET'!V16-'OVERALL TARGET'!V17+'OVERALL TARGET'!V20-'OVERALL TARGET'!V21)+'OVERALL TARGET'!V53-'OVERALL TARGET'!V54+'OVERALL TARGET'!V69-'OVERALL TARGET'!V70+'OVERALL TARGET'!V73-'OVERALL TARGET'!V74,'OVERALL TARGET'!$AK$114*V116)+V91+3.6/41.868*('OVERALL TARGET'!V17+'OVERALL TARGET'!V21)+'OVERALL TARGET'!V54+'OVERALL TARGET'!V70+'OVERALL TARGET'!V74,0.07*V116,('OVERALL TARGET'!$AL$113+0.01)*V116)+V92+V99+V104+V107,0)","v":0},{"$f":"IFERROR(W63+W84+MIN(MIN(W90-W91+3.6/41.868*('OVERALL TARGET'!W16-'OVERALL TARGET'!W17+'OVERALL TARGET'!W20-'OVERALL TARGET'!W21)+'OVERALL TARGET'!W53-'OVERALL TARGET'!W54+'OVERALL TARGET'!W69-'OVERALL TARGET'!W70+'OVERALL TARGET'!W73-'OVERALL TARGET'!W74,'OVERALL TARGET'!$AK$114*W116)+W91+3.6/41.868*('OVERALL TARGET'!W17+'OVERALL TARGET'!W21)+'OVERALL TARGET'!W54+'OVERALL TARGET'!W70+'OVERALL TARGET'!W74,0.07*W116,('OVERALL TARGET'!$AL$113+0.01)*W116)+W92+W99+W104+W107,0)","v":0},{"$f":"IFERROR(X63+X84+MIN(MIN(X90-X91+3.6/41.868*('OVERALL TARGET'!X16-'OVERALL TARGET'!X17+'OVERALL TARGET'!X20-'OVERALL TARGET'!X21)+'OVERALL TARGET'!X53-'OVERALL TARGET'!X54+'OVERALL TARGET'!X69-'OVERALL TARGET'!X70+'OVERALL TARGET'!X73-'OVERALL TARGET'!X74,'OVERALL TARGET'!$AK$114*X116)+X91+3.6/41.868*('OVERALL TARGET'!X17+'OVERALL TARGET'!X21)+'OVERALL TARGET'!X54+'OVERALL TARGET'!X70+'OVERALL TARGET'!X74,0.07*X116,('OVERALL TARGET'!$AL$113+0.01)*X116)+X92+X99+X104+X107,0)","v":0},{"$f":"IFERROR(Y63+Y84+MIN(MIN(Y90-Y91+3.6/41.868*('OVERALL TARGET'!Y16-'OVERALL TARGET'!Y17+'OVERALL TARGET'!Y20-'OVERALL TARGET'!Y21)+'OVERALL TARGET'!Y53-'OVERALL TARGET'!Y54+'OVERALL TARGET'!Y69-'OVERALL TARGET'!Y70+'OVERALL TARGET'!Y73-'OVERALL TARGET'!Y74,'OVERALL TARGET'!$AK$114*Y116)+Y91+3.6/41.868*('OVERALL TARGET'!Y17+'OVERALL TARGET'!Y21)+'OVERALL TARGET'!Y54+'OVERALL TARGET'!Y70+'OVERALL TARGET'!Y74,0.07*Y116,('OVERALL TARGET'!$AL$113+0.01)*Y116)+Y92+Y99+Y104+Y107,0)","v":0},{"$f":"IFERROR(Z63+Z84+MIN(MIN(Z90-Z91+3.6/41.868*('OVERALL TARGET'!Z16-'OVERALL TARGET'!Z17+'OVERALL TARGET'!Z20-'OVERALL TARGET'!Z21)+'OVERALL TARGET'!Z53-'OVERALL TARGET'!Z54+'OVERALL TARGET'!Z69-'OVERALL TARGET'!Z70+'OVERALL TARGET'!Z73-'OVERALL TARGET'!Z74,'OVERALL TARGET'!$AK$114*Z116)+Z91+3.6/41.868*('OVERALL TARGET'!Z17+'OVERALL TARGET'!Z21)+'OVERALL TARGET'!Z54+'OVERALL TARGET'!Z70+'OVERALL TARGET'!Z74,0.07*Z116,('OVERALL TARGET'!$AL$113+0.01)*Z116)+Z92+Z99+Z104+Z107,0)","v":0},{"$f":"IFERROR(AA63+AA84+MIN(MIN(AA90-AA91+3.6/41.868*('OVERALL TARGET'!AA16-'OVERALL TARGET'!AA17+'OVERALL TARGET'!AA20-'OVERALL TARGET'!AA21)+'OVERALL TARGET'!AA53-'OVERALL TARGET'!AA54+'OVERALL TARGET'!AA69-'OVERALL TARGET'!AA70+'OVERALL TARGET'!AA73-'OVERALL TARGET'!AA74,'OVERALL TARGET'!$AK$114*AA116)+AA91+3.6/41.868*('OVERALL TARGET'!AA17+'OVERALL TARGET'!AA21)+'OVERALL TARGET'!AA54+'OVERALL TARGET'!AA70+'OVERALL TARGET'!AA74,0.07*AA116,('OVERALL TARGET'!$AL$113+0.01)*AA116)+AA92+AA99+AA104+AA107,0)","v":0},{"$f":"IFERROR(AB63+AB84+MIN(MIN(AB90-AB91+3.6/41.868*('OVERALL TARGET'!AB16-'OVERALL TARGET'!AB17+'OVERALL TARGET'!AB20-'OVERALL TARGET'!AB21)+'OVERALL TARGET'!AB53-'OVERALL TARGET'!AB54+'OVERALL TARGET'!AB69-'OVERALL TARGET'!AB70+'OVERALL TARGET'!AB73-'OVERALL TARGET'!AB74,'OVERALL TARGET'!$AK$114*AB116)+AB91+3.6/41.868*('OVERALL TARGET'!AB17+'OVERALL TARGET'!AB21)+'OVERALL TARGET'!AB54+'OVERALL TARGET'!AB70+'OVERALL TARGET'!AB74,0.07*AB116,('OVERALL TARGET'!$AL$113+0.01)*AB116)+AB92+AB99+AB104+AB107,0)","v":0},{"$f":"IFERROR(AC63+AC84+MIN(MIN(AC90-AC91+3.6/41.868*('OVERALL TARGET'!AC16-'OVERALL TARGET'!AC17+'OVERALL TARGET'!AC20-'OVERALL TARGET'!AC21)+'OVERALL TARGET'!AC53-'OVERALL TARGET'!AC54+'OVERALL TARGET'!AC69-'OVERALL TARGET'!AC70+'OVERALL TARGET'!AC73-'OVERALL TARGET'!AC74,'OVERALL TARGET'!$AK$114*AC116)+AC91+3.6/41.868*('OVERALL TARGET'!AC17+'OVERALL TARGET'!AC21)+'OVERALL TARGET'!AC54+'OVERALL TARGET'!AC70+'OVERALL TARGET'!AC74,0.07*AC116,('OVERALL TARGET'!$AL$113+0.01)*AC116)+AC92+AC99+AC104+AC107,0)","v":0},{"$f":"IFERROR(AD63+AD84+MIN(MIN(AD90-AD91+3.6/41.868*('OVERALL TARGET'!AD16-'OVERALL TARGET'!AD17+'OVERALL TARGET'!AD20-'OVERALL TARGET'!AD21)+'OVERALL TARGET'!AD53-'OVERALL TARGET'!AD54+'OVERALL TARGET'!AD69-'OVERALL TARGET'!AD70+'OVERALL TARGET'!AD73-'OVERALL TARGET'!AD74,'OVERALL TARGET'!$AK$114*AD116)+AD91+3.6/41.868*('OVERALL TARGET'!AD17+'OVERALL TARGET'!AD21)+'OVERALL TARGET'!AD54+'OVERALL TARGET'!AD70+'OVERALL TARGET'!AD74,0.07*AD116,('OVERALL TARGET'!$AL$113+0.01)*AD116)+AD92+AD99+AD104+AD107,0)","v":0},{"$f":"IFERROR(AE63+AE84+MIN(MIN(AE90-AE91+3.6/41.868*('OVERALL TARGET'!AE16-'OVERALL TARGET'!AE17+'OVERALL TARGET'!AE20-'OVERALL TARGET'!AE21)+'OVERALL TARGET'!AE53-'OVERALL TARGET'!AE54+'OVERALL TARGET'!AE69-'OVERALL TARGET'!AE70+'OVERALL TARGET'!AE73-'OVERALL TARGET'!AE74,'OVERALL TARGET'!$AK$114*AE116)+AE91+3.6/41.868*('OVERALL TARGET'!AE17+'OVERALL TARGET'!AE21)+'OVERALL TARGET'!AE54+'OVERALL TARGET'!AE70+'OVERALL TARGET'!AE74,0.07*AE116,('OVERALL TARGET'!$AL$113+0.01)*AE116)+AE92+AE99+AE104+AE107,0)","v":0},{"$f":"IFERROR(AF63+AF84+MIN(MIN(AF90-AF91+3.6/41.868*('OVERALL TARGET'!AF16-'OVERALL TARGET'!AF17+'OVERALL TARGET'!AF20-'OVERALL TARGET'!AF21)+'OVERALL TARGET'!AF53-'OVERALL TARGET'!AF54+'OVERALL TARGET'!AF69-'OVERALL TARGET'!AF70+'OVERALL TARGET'!AF73-'OVERALL TARGET'!AF74,'OVERALL TARGET'!$AK$114*AF116)+AF91+3.6/41.868*('OVERALL TARGET'!AF17+'OVERALL TARGET'!AF21)+'OVERALL TARGET'!AF54+'OVERALL TARGET'!AF70+'OVERALL TARGET'!AF74,0.07*AF116,('OVERALL TARGET'!$AL$113+0.01)*AF116)+AF92+AF99+AF104+AF107,0)","v":0},{"$f":"IFERROR(AG63+AG84+MIN(MIN(AG90-AG91+3.6/41.868*('OVERALL TARGET'!AG16-'OVERALL TARGET'!AG17+'OVERALL TARGET'!AG20-'OVERALL TARGET'!AG21)+'OVERALL TARGET'!AG53-'OVERALL TARGET'!AG54+'OVERALL TARGET'!AG69-'OVERALL TARGET'!AG70+'OVERALL TARGET'!AG73-'OVERALL TARGET'!AG74,'OVERALL TARGET'!$AK$114*AG116)+AG91+3.6/41.868*('OVERALL TARGET'!AG17+'OVERALL TARGET'!AG21)+'OVERALL TARGET'!AG54+'OVERALL TARGET'!AG70+'OVERALL TARGET'!AG74,0.07*AG116,('OVERALL TARGET'!$AL$113+0.01)*AG116)+AG92+AG99+AG104+AG107,0)","v":0},{"$f":"IFERROR(AH63+AH84+MIN(MIN(AH90-AH91+3.6/41.868*('OVERALL TARGET'!AH16-'OVERALL TARGET'!AH17+'OVERALL TARGET'!AH20-'OVERALL TARGET'!AH21)+'OVERALL TARGET'!AH53-'OVERALL TARGET'!AH54+'OVERALL TARGET'!AH69-'OVERALL TARGET'!AH70+'OVERALL TARGET'!AH73-'OVERALL TARGET'!AH74,'OVERALL TARGET'!$AK$114*AH116)+AH91+3.6/41.868*('OVERALL TARGET'!AH17+'OVERALL TARGET'!AH21)+'OVERALL TARGET'!AH54+'OVERALL TARGET'!AH70+'OVERALL TARGET'!AH74,0.07*AH116,('OVERALL TARGET'!$AL$113+0.01)*AH116)+AH92+AH99+AH104+AH107,0)","v":0},{"$f":"IFERROR(AI63+AI84+MIN(MIN(AI90-AI91+3.6/41.868*('OVERALL TARGET'!AI16-'OVERALL TARGET'!AI17+'OVERALL TARGET'!AI20-'OVERALL TARGET'!AI21)+'OVERALL TARGET'!AI53-'OVERALL TARGET'!AI54+'OVERALL TARGET'!AI69-'OVERALL TARGET'!AI70+'OVERALL TARGET'!AI73-'OVERALL TARGET'!AI74,'OVERALL TARGET'!$AK$114*AI116)+AI91+3.6/41.868*('OVERALL TARGET'!AI17+'OVERALL TARGET'!AI21)+'OVERALL TARGET'!AI54+'OVERALL TARGET'!AI70+'OVERALL TARGET'!AI74,0.07*AI116,('OVERALL TARGET'!$AL$113+0.01)*AI116)+AI92+AI99+AI104+AI107,0)","v":0},{"$f":"IFERROR(AJ63+AJ84+MIN(MIN(AJ90-AJ91+3.6/41.868*('OVERALL TARGET'!AJ16-'OVERALL TARGET'!AJ17+'OVERALL TARGET'!AJ20-'OVERALL TARGET'!AJ21)+'OVERALL TARGET'!AJ53-'OVERALL TARGET'!AJ54+'OVERALL TARGET'!AJ69-'OVERALL TARGET'!AJ70+'OVERALL TARGET'!AJ73-'OVERALL TARGET'!AJ74,'OVERALL TARGET'!$AK$114*AJ116)+AJ91+3.6/41.868*('OVERALL TARGET'!AJ17+'OVERALL TARGET'!AJ21)+'OVERALL TARGET'!AJ54+'OVERALL TARGET'!AJ70+'OVERALL TARGET'!AJ74,0.07*AJ116,('OVERALL TARGET'!$AL$113+0.01)*AJ116)+AJ92+AJ99+AJ104+AJ107,0)","v":0},{"$f":"IFERROR(AK63+AK84+MIN(MIN(AK90-AK91+3.6/41.868*('OVERALL TARGET'!AK16-'OVERALL TARGET'!AK17+'OVERALL TARGET'!AK20-'OVERALL TARGET'!AK21)+'OVERALL TARGET'!AK53-'OVERALL TARGET'!AK54+'OVERALL TARGET'!AK69-'OVERALL TARGET'!AK70+'OVERALL TARGET'!AK73-'OVERALL TARGET'!AK74,'OVERALL TARGET'!$AK$114*AK116)+AK91+3.6/41.868*('OVERALL TARGET'!AK17+'OVERALL TARGET'!AK21)+'OVERALL TARGET'!AK54+'OVERALL TARGET'!AK70+'OVERALL TARGET'!AK74,0.07*AK116,('OVERALL TARGET'!$AL$113+0.01)*AK116)+AK92+AK99+AK104+AK107,0)","v":0},{"$f":"IFERROR(AL63+AL84+MIN(MIN(AL90-AL91+3.6/41.868*('OVERALL TARGET'!AL16-'OVERALL TARGET'!AL17+'OVERALL TARGET'!AL20-'OVERALL TARGET'!AL21)+'OVERALL TARGET'!AL53-'OVERALL TARGET'!AL54+'OVERALL TARGET'!AL69-'OVERALL TARGET'!AL70+'OVERALL TARGET'!AL73-'OVERALL TARGET'!AL74,'OVERALL TARGET'!$AK$114*AL116)+AL91+3.6/41.868*('OVERALL TARGET'!AL17+'OVERALL TARGET'!AL21)+'OVERALL TARGET'!AL54+'OVERALL TARGET'!AL70+'OVERALL TARGET'!AL74,0.07*AL116,('OVERALL TARGET'!$AL$113+0.01)*AL116)+AL92+AL99+AL104+AL107,0)","v":0},{"$f":"IFERROR(AM63+AM84+MIN(MIN(AM90-AM91+3.6/41.868*('OVERALL TARGET'!AM16-'OVERALL TARGET'!AM17+'OVERALL TARGET'!AM20-'OVERALL TARGET'!AM21)+'OVERALL TARGET'!AM53-'OVERALL TARGET'!AM54+'OVERALL TARGET'!AM69-'OVERALL TARGET'!AM70+'OVERALL TARGET'!AM73-'OVERALL TARGET'!AM74,'OVERALL TARGET'!$AK$114*AM116)+AM91+3.6/41.868*('OVERALL TARGET'!AM17+'OVERALL TARGET'!AM21)+'OVERALL TARGET'!AM54+'OVERALL TARGET'!AM70+'OVERALL TARGET'!AM74,0.07*AM116,('OVERALL TARGET'!$AL$113+0.01)*AM116)+AM92+AM99+AM104+AM107,0)","v":0},{"$f":"IFERROR(AN63+AN84+MIN(MIN(AN90-AN91+3.6/41.868*('OVERALL TARGET'!AN16-'OVERALL TARGET'!AN17+'OVERALL TARGET'!AN20-'OVERALL TARGET'!AN21)+'OVERALL TARGET'!AN53-'OVERALL TARGET'!AN54+'OVERALL TARGET'!AN69-'OVERALL TARGET'!AN70+'OVERALL TARGET'!AN73-'OVERALL TARGET'!AN74,'OVERALL TARGET'!$AK$114*AN116)+AN91+3.6/41.868*('OVERALL TARGET'!AN17+'OVERALL TARGET'!AN21)+'OVERALL TARGET'!AN54+'OVERALL TARGET'!AN70+'OVERALL TARGET'!AN74,0.07*AN116,('OVERALL TARGET'!$AL$113+0.01)*AN116)+AN92+AN99+AN104+AN107,0)","v":0},{"$f":"IFERROR(AO63+AO84+MIN(MIN(AO90-AO91+3.6/41.868*('OVERALL TARGET'!AO16-'OVERALL TARGET'!AO17+'OVERALL TARGET'!AO20-'OVERALL TARGET'!AO21)+'OVERALL TARGET'!AO53-'OVERALL TARGET'!AO54+'OVERALL TARGET'!AO69-'OVERALL TARGET'!AO70+'OVERALL TARGET'!AO73-'OVERALL TARGET'!AO74,'OVERALL TARGET'!$AK$114*AO116)+AO91+3.6/41.868*('OVERALL TARGET'!AO17+'OVERALL TARGET'!AO21)+'OVERALL TARGET'!AO54+'OVERALL TARGET'!AO70+'OVERALL TARGET'!AO74,0.07*AO116,('OVERALL TARGET'!$AL$113+0.01)*AO116)+AO92+AO99+AO104+AO107,0)","v":0},{"$f":"IFERROR(AP63+AP84+MIN(MIN(AP90-AP91+3.6/41.868*('OVERALL TARGET'!AP16-'OVERALL TARGET'!AP17+'OVERALL TARGET'!AP20-'OVERALL TARGET'!AP21)+'OVERALL TARGET'!AP53-'OVERALL TARGET'!AP54+'OVERALL TARGET'!AP69-'OVERALL TARGET'!AP70+'OVERALL TARGET'!AP73-'OVERALL TARGET'!AP74,'OVERALL TARGET'!$AK$114*AP116)+AP91+3.6/41.868*('OVERALL TARGET'!AP17+'OVERALL TARGET'!AP21)+'OVERALL TARGET'!AP54+'OVERALL TARGET'!AP70+'OVERALL TARGET'!AP74,0.07*AP116,('OVERALL TARGET'!$AL$113+0.01)*AP116)+AP92+AP99+AP104+AP107,0)","v":0},{"$f":"IFERROR(AQ63+AQ84+MIN(MIN(AQ90-AQ91+3.6/41.868*('OVERALL TARGET'!AQ16-'OVERALL TARGET'!AQ17+'OVERALL TARGET'!AQ20-'OVERALL TARGET'!AQ21)+'OVERALL TARGET'!AQ53-'OVERALL TARGET'!AQ54+'OVERALL TARGET'!AQ69-'OVERALL TARGET'!AQ70+'OVERALL TARGET'!AQ73-'OVERALL TARGET'!AQ74,'OVERALL TARGET'!$AK$114*AQ116)+AQ91+3.6/41.868*('OVERALL TARGET'!AQ17+'OVERALL TARGET'!AQ21)+'OVERALL TARGET'!AQ54+'OVERALL TARGET'!AQ70+'OVERALL TARGET'!AQ74,0.07*AQ116,('OVERALL TARGET'!$AL$113+0.01)*AQ116)+AQ92+AQ99+AQ104+AQ107,0)","v":0},{"$f":"IFERROR(AR63+AR84+MIN(MIN(AR90-AR91+3.6/41.868*('OVERALL TARGET'!AR16-'OVERALL TARGET'!AR17+'OVERALL TARGET'!AR20-'OVERALL TARGET'!AR21)+'OVERALL TARGET'!AR53-'OVERALL TARGET'!AR54+'OVERALL TARGET'!AR69-'OVERALL TARGET'!AR70+'OVERALL TARGET'!AR73-'OVERALL TARGET'!AR74,'OVERALL TARGET'!$AK$114*AR116)+AR91+3.6/41.868*('OVERALL TARGET'!AR17+'OVERALL TARGET'!AR21)+'OVERALL TARGET'!AR54+'OVERALL TARGET'!AR70+'OVERALL TARGET'!AR74,0.07*AR116,('OVERALL TARGET'!$AL$113+0.01)*AR116)+AR92+AR99+AR104+AR107,0)","v":0},{"$f":"IFERROR(AS63+AS84+MIN(MIN(AS90-AS91+3.6/41.868*('OVERALL TARGET'!AS16-'OVERALL TARGET'!AS17+'OVERALL TARGET'!AS20-'OVERALL TARGET'!AS21)+'OVERALL TARGET'!AS53-'OVERALL TARGET'!AS54+'OVERALL TARGET'!AS69-'OVERALL TARGET'!AS70+'OVERALL TARGET'!AS73-'OVERALL TARGET'!AS74,'OVERALL TARGET'!$AK$114*AS116)+AS91+3.6/41.868*('OVERALL TARGET'!AS17+'OVERALL TARGET'!AS21)+'OVERALL TARGET'!AS54+'OVERALL TARGET'!AS70+'OVERALL TARGET'!AS74,0.07*AS116,('OVERALL TARGET'!$AL$113+0.01)*AS116)+AS92+AS99+AS104+AS107,0)","v":0},{"$f":"IFERROR(AT63+AT84+MIN(MIN(AT90-AT91+3.6/41.868*('OVERALL TARGET'!AT16-'OVERALL TARGET'!AT17+'OVERALL TARGET'!AT20-'OVERALL TARGET'!AT21)+'OVERALL TARGET'!AT53-'OVERALL TARGET'!AT54+'OVERALL TARGET'!AT69-'OVERALL TARGET'!AT70+'OVERALL TARGET'!AT73-'OVERALL TARGET'!AT74,'OVERALL TARGET'!$AK$114*AT116)+AT91+3.6/41.868*('OVERALL TARGET'!AT17+'OVERALL TARGET'!AT21)+'OVERALL TARGET'!AT54+'OVERALL TARGET'!AT70+'OVERALL TARGET'!AT74,0.07*AT116,('OVERALL TARGET'!$AL$113+0.01)*AT116)+AT92+AT99+AT104+AT107,0)","v":0},{"$f":"IFERROR(AU63+AU84+MIN(MIN(AU90-AU91+3.6/41.868*('OVERALL TARGET'!AU16-'OVERALL TARGET'!AU17+'OVERALL TARGET'!AU20-'OVERALL TARGET'!AU21)+'OVERALL TARGET'!AU53-'OVERALL TARGET'!AU54+'OVERALL TARGET'!AU69-'OVERALL TARGET'!AU70+'OVERALL TARGET'!AU73-'OVERALL TARGET'!AU74,'OVERALL TARGET'!$AK$114*AU116)+AU91+3.6/41.868*('OVERALL TARGET'!AU17+'OVERALL TARGET'!AU21)+'OVERALL TARGET'!AU54+'OVERALL TARGET'!AU70+'OVERALL TARGET'!AU74,0.07*AU116,('OVERALL TARGET'!$AL$113+0.01)*AU116)+AU92+AU99+AU104+AU107,0)","v":0},{"$f":"IFERROR(AV63+AV84+MIN(MIN(AV90-AV91+3.6/41.868*('OVERALL TARGET'!AV16-'OVERALL TARGET'!AV17+'OVERALL TARGET'!AV20-'OVERALL TARGET'!AV21)+'OVERALL TARGET'!AV53-'OVERALL TARGET'!AV54+'OVERALL TARGET'!AV69-'OVERALL TARGET'!AV70+'OVERALL TARGET'!AV73-'OVERALL TARGET'!AV74,'OVERALL TARGET'!$AK$114*AV116)+AV91+3.6/41.868*('OVERALL TARGET'!AV17+'OVERALL TARGET'!AV21)+'OVERALL TARGET'!AV54+'OVERALL TARGET'!AV70+'OVERALL TARGET'!AV74,0.07*AV116,('OVERALL TARGET'!$AL$113+0.01)*AV116)+AV92+AV99+AV104+AV107,0)","v":0},{"$f":"IFERROR(AW63+AW84+MIN(MIN(AW90-AW91+3.6/41.868*('OVERALL TARGET'!AW16-'OVERALL TARGET'!AW17+'OVERALL TARGET'!AW20-'OVERALL TARGET'!AW21)+'OVERALL TARGET'!AW53-'OVERALL TARGET'!AW54+'OVERALL TARGET'!AW69-'OVERALL TARGET'!AW70+'OVERALL TARGET'!AW73-'OVERALL TARGET'!AW74,'OVERALL TARGET'!$AK$114*AW116)+AW91+3.6/41.868*('OVERALL TARGET'!AW17+'OVERALL TARGET'!AW21)+'OVERALL TARGET'!AW54+'OVERALL TARGET'!AW70+'OVERALL TARGET'!AW74,0.07*AW116,('OVERALL TARGET'!$AL$113+0.01)*AW116)+AW92+AW99+AW104+AW107,0)","v":0},{"$f":"IFERROR(AX63+AX84+MIN(MIN(AX90-AX91+3.6/41.868*('OVERALL TARGET'!AX16-'OVERALL TARGET'!AX17+'OVERALL TARGET'!AX20-'OVERALL TARGET'!AX21)+'OVERALL TARGET'!AX53-'OVERALL TARGET'!AX54+'OVERALL TARGET'!AX69-'OVERALL TARGET'!AX70+'OVERALL TARGET'!AX73-'OVERALL TARGET'!AX74,'OVERALL TARGET'!$AK$114*AX116)+AX91+3.6/41.868*('OVERALL TARGET'!AX17+'OVERALL TARGET'!AX21)+'OVERALL TARGET'!AX54+'OVERALL TARGET'!AX70+'OVERALL TARGET'!AX74,0.07*AX116,('OVERALL TARGET'!$AL$113+0.01)*AX116)+AX92+AX99+AX104+AX107,0)","v":0},{"$f":"IFERROR(AY63+AY84+MIN(MIN(AY90-AY91+3.6/41.868*('OVERALL TARGET'!AY16-'OVERALL TARGET'!AY17+'OVERALL TARGET'!AY20-'OVERALL TARGET'!AY21)+'OVERALL TARGET'!AY53-'OVERALL TARGET'!AY54+'OVERALL TARGET'!AY69-'OVERALL TARGET'!AY70+'OVERALL TARGET'!AY73-'OVERALL TARGET'!AY74,'OVERALL TARGET'!$AK$114*AY116)+AY91+3.6/41.868*('OVERALL TARGET'!AY17+'OVERALL TARGET'!AY21)+'OVERALL TARGET'!AY54+'OVERALL TARGET'!AY70+'OVERALL TARGET'!AY74,0.07*AY116,('OVERALL TARGET'!$AL$113+0.01)*AY116)+AY92+AY99+AY104+AY107,0)","v":0},{"$f":"IFERROR(AZ63+AZ84+MIN(MIN(AZ90-AZ91+3.6/41.868*('OVERALL TARGET'!AZ16-'OVERALL TARGET'!AZ17+'OVERALL TARGET'!AZ20-'OVERALL TARGET'!AZ21)+'OVERALL TARGET'!AZ53-'OVERALL TARGET'!AZ54+'OVERALL TARGET'!AZ69-'OVERALL TARGET'!AZ70+'OVERALL TARGET'!AZ73-'OVERALL TARGET'!AZ74,'OVERALL TARGET'!$AK$114*AZ116)+AZ91+3.6/41.868*('OVERALL TARGET'!AZ17+'OVERALL TARGET'!AZ21)+'OVERALL TARGET'!AZ54+'OVERALL TARGET'!AZ70+'OVERALL TARGET'!AZ74,0.07*AZ116,('OVERALL TARGET'!$AL$113+0.01)*AZ116)+AZ92+AZ99+AZ104+AZ107,0)","v":0},{"$f":"IFERROR(BA63+BA84+MIN(MIN(BA90-BA91+3.6/41.868*('OVERALL TARGET'!BA16-'OVERALL TARGET'!BA17+'OVERALL TARGET'!BA20-'OVERALL TARGET'!BA21)+'OVERALL TARGET'!BA53-'OVERALL TARGET'!BA54+'OVERALL TARGET'!BA69-'OVERALL TARGET'!BA70+'OVERALL TARGET'!BA73-'OVERALL TARGET'!BA74,'OVERALL TARGET'!$AK$114*BA116)+BA91+3.6/41.868*('OVERALL TARGET'!BA17+'OVERALL TARGET'!BA21)+'OVERALL TARGET'!BA54+'OVERALL TARGET'!BA70+'OVERALL TARGET'!BA74,0.07*BA116,('OVERALL TARGET'!$AL$113+0.01)*BA116)+BA92+BA99+BA104+BA107,0)","v":0},{"$f":"IFERROR(BB63+BB84+MIN(MIN(BB90-BB91+3.6/41.868*('OVERALL TARGET'!BB16-'OVERALL TARGET'!BB17+'OVERALL TARGET'!BB20-'OVERALL TARGET'!BB21)+'OVERALL TARGET'!BB53-'OVERALL TARGET'!BB54+'OVERALL TARGET'!BB69-'OVERALL TARGET'!BB70+'OVERALL TARGET'!BB73-'OVERALL TARGET'!BB74,'OVERALL TARGET'!$AK$114*BB116)+BB91+3.6/41.868*('OVERALL TARGET'!BB17+'OVERALL TARGET'!BB21)+'OVERALL TARGET'!BB54+'OVERALL TARGET'!BB70+'OVERALL TARGET'!BB74,0.07*BB116,('OVERALL TARGET'!$AL$113+0.01)*BB116)+BB92+BB99+BB104+BB107,0)","v":0},{"$f":"IFERROR(BC63+BC84+MIN(MIN(BC90-BC91+3.6/41.868*('OVERALL TARGET'!BC16-'OVERALL TARGET'!BC17+'OVERALL TARGET'!BC20-'OVERALL TARGET'!BC21)+'OVERALL TARGET'!BC53-'OVERALL TARGET'!BC54+'OVERALL TARGET'!BC69-'OVERALL TARGET'!BC70+'OVERALL TARGET'!BC73-'OVERALL TARGET'!BC74,'OVERALL TARGET'!$AK$114*BC116)+BC91+3.6/41.868*('OVERALL TARGET'!BC17+'OVERALL TARGET'!BC21)+'OVERALL TARGET'!BC54+'OVERALL TARGET'!BC70+'OVERALL TARGET'!BC74,0.07*BC116,('OVERALL TARGET'!$AL$113+0.01)*BC116)+BC92+BC99+BC104+BC107,0)","v":0},{"$f":"IFERROR(BD63+BD84+MIN(MIN(BD90-BD91+3.6/41.868*('OVERALL TARGET'!BD16-'OVERALL TARGET'!BD17+'OVERALL TARGET'!BD20-'OVERALL TARGET'!BD21)+'OVERALL TARGET'!BD53-'OVERALL TARGET'!BD54+'OVERALL TARGET'!BD69-'OVERALL TARGET'!BD70+'OVERALL TARGET'!BD73-'OVERALL TARGET'!BD74,'OVERALL TARGET'!$AK$114*BD116)+BD91+3.6/41.868*('OVERALL TARGET'!BD17+'OVERALL TARGET'!BD21)+'OVERALL TARGET'!BD54+'OVERALL TARGET'!BD70+'OVERALL TARGET'!BD74,0.07*BD116,('OVERALL TARGET'!$AL$113+0.01)*BD116)+BD92+BD99+BD104+BD107,0)","v":0},{"$f":"IFERROR(BE63+BE84+MIN(MIN(BE90-BE91+3.6/41.868*('OVERALL TARGET'!BE16-'OVERALL TARGET'!BE17+'OVERALL TARGET'!BE20-'OVERALL TARGET'!BE21)+'OVERALL TARGET'!BE53-'OVERALL TARGET'!BE54+'OVERALL TARGET'!BE69-'OVERALL TARGET'!BE70+'OVERALL TARGET'!BE73-'OVERALL TARGET'!BE74,'OVERALL TARGET'!$AK$114*BE116)+BE91+3.6/41.868*('OVERALL TARGET'!BE17+'OVERALL TARGET'!BE21)+'OVERALL TARGET'!BE54+'OVERALL TARGET'!BE70+'OVERALL TARGET'!BE74,0.07*BE116,('OVERALL TARGET'!$AL$113+0.01)*BE116)+BE92+BE99+BE104+BE107,0)","v":0},{"$f":"IFERROR(BF63+BF84+MIN(MIN(BF90-BF91+3.6/41.868*('OVERALL TARGET'!BF16-'OVERALL TARGET'!BF17+'OVERALL TARGET'!BF20-'OVERALL TARGET'!BF21)+'OVERALL TARGET'!BF53-'OVERALL TARGET'!BF54+'OVERALL TARGET'!BF69-'OVERALL TARGET'!BF70+'OVERALL TARGET'!BF73-'OVERALL TARGET'!BF74,'OVERALL TARGET'!$AK$114*BF116)+BF91+3.6/41.868*('OVERALL TARGET'!BF17+'OVERALL TARGET'!BF21)+'OVERALL TARGET'!BF54+'OVERALL TARGET'!BF70+'OVERALL TARGET'!BF74,0.07*BF116,('OVERALL TARGET'!$AL$113+0.01)*BF116)+BF92+BF99+BF104+BF107,0)","v":0},{"$f":"IFERROR(BG63+BG84+MIN(MIN(BG90-BG91+3.6/41.868*('OVERALL TARGET'!BG16-'OVERALL TARGET'!BG17+'OVERALL TARGET'!BG20-'OVERALL TARGET'!BG21)+'OVERALL TARGET'!BG53-'OVERALL TARGET'!BG54+'OVERALL TARGET'!BG69-'OVERALL TARGET'!BG70+'OVERALL TARGET'!BG73-'OVERALL TARGET'!BG74,'OVERALL TARGET'!$AK$114*BG116)+BG91+3.6/41.868*('OVERALL TARGET'!BG17+'OVERALL TARGET'!BG21)+'OVERALL TARGET'!BG54+'OVERALL TARGET'!BG70+'OVERALL TARGET'!BG74,0.07*BG116,('OVERALL TARGET'!$AL$113+0.01)*BG116)+BG92+BG99+BG104+BG107,0)","v":0},{"$f":"IFERROR(BH63+BH84+MIN(MIN(BH90-BH91+3.6/41.868*('OVERALL TARGET'!BH16-'OVERALL TARGET'!BH17+'OVERALL TARGET'!BH20-'OVERALL TARGET'!BH21)+'OVERALL TARGET'!BH53-'OVERALL TARGET'!BH54+'OVERALL TARGET'!BH69-'OVERALL TARGET'!BH70+'OVERALL TARGET'!BH73-'OVERALL TARGET'!BH74,'OVERALL TARGET'!$AK$114*BH116)+BH91+3.6/41.868*('OVERALL TARGET'!BH17+'OVERALL TARGET'!BH21)+'OVERALL TARGET'!BH54+'OVERALL TARGET'!BH70+'OVERALL TARGET'!BH74,0.07*BH116,('OVERALL TARGET'!$AL$113+0.01)*BH116)+BH92+BH99+BH104+BH107,0)","v":0},{"$f":"IFERROR(BI63+BI84+MIN(MIN(BI90-BI91+3.6/41.868*('OVERALL TARGET'!BI16-'OVERALL TARGET'!BI17+'OVERALL TARGET'!BI20-'OVERALL TARGET'!BI21)+'OVERALL TARGET'!BI53-'OVERALL TARGET'!BI54+'OVERALL TARGET'!BI69-'OVERALL TARGET'!BI70+'OVERALL TARGET'!BI73-'OVERALL TARGET'!BI74,'OVERALL TARGET'!$AK$114*BI116)+BI91+3.6/41.868*('OVERALL TARGET'!BI17+'OVERALL TARGET'!BI21)+'OVERALL TARGET'!BI54+'OVERALL TARGET'!BI70+'OVERALL TARGET'!BI74,0.07*BI116,('OVERALL TARGET'!$AL$113+0.01)*BI116)+BI92+BI99+BI104+BI107,0)","v":0},{"$f":"IFERROR(BJ63+BJ84+MIN(MIN(BJ90-BJ91+3.6/41.868*('OVERALL TARGET'!BJ16-'OVERALL TARGET'!BJ17+'OVERALL TARGET'!BJ20-'OVERALL TARGET'!BJ21)+'OVERALL TARGET'!BJ53-'OVERALL TARGET'!BJ54+'OVERALL TARGET'!BJ69-'OVERALL TARGET'!BJ70+'OVERALL TARGET'!BJ73-'OVERALL TARGET'!BJ74,'OVERALL TARGET'!$AK$114*BJ116)+BJ91+3.6/41.868*('OVERALL TARGET'!BJ17+'OVERALL TARGET'!BJ21)+'OVERALL TARGET'!BJ54+'OVERALL TARGET'!BJ70+'OVERALL TARGET'!BJ74,0.07*BJ116,('OVERALL TARGET'!$AL$113+0.01)*BJ116)+BJ92+BJ99+BJ104+BJ107,0)","v":0},{"$f":"IFERROR(BK63+BK84+MIN(MIN(BK90-BK91+3.6/41.868*('OVERALL TARGET'!BK16-'OVERALL TARGET'!BK17+'OVERALL TARGET'!BK20-'OVERALL TARGET'!BK21)+'OVERALL TARGET'!BK53-'OVERALL TARGET'!BK54+'OVERALL TARGET'!BK69-'OVERALL TARGET'!BK70+'OVERALL TARGET'!BK73-'OVERALL TARGET'!BK74,'OVERALL TARGET'!$AK$114*BK116)+BK91+3.6/41.868*('OVERALL TARGET'!BK17+'OVERALL TARGET'!BK21)+'OVERALL TARGET'!BK54+'OVERALL TARGET'!BK70+'OVERALL TARGET'!BK74,0.07*BK116,('OVERALL TARGET'!$AL$113+0.01)*BK116)+BK92+BK99+BK104+BK107,0)","v":0},{"$f":"IFERROR(BL63+BL84+MIN(MIN(BL90-BL91+3.6/41.868*('OVERALL TARGET'!BL16-'OVERALL TARGET'!BL17+'OVERALL TARGET'!BL20-'OVERALL TARGET'!BL21)+'OVERALL TARGET'!BL53-'OVERALL TARGET'!BL54+'OVERALL TARGET'!BL69-'OVERALL TARGET'!BL70+'OVERALL TARGET'!BL73-'OVERALL TARGET'!BL74,'OVERALL TARGET'!$AK$114*BL116)+BL91+3.6/41.868*('OVERALL TARGET'!BL17+'OVERALL TARGET'!BL21)+'OVERALL TARGET'!BL54+'OVERALL TARGET'!BL70+'OVERALL TARGET'!BL74,0.07*BL116,('OVERALL TARGET'!$AL$113+0.01)*BL116)+BL92+BL99+BL104+BL107,0)","v":0},{"$f":"IFERROR(BM63+BM84+MIN(MIN(BM90-BM91+3.6/41.868*('OVERALL TARGET'!BM16-'OVERALL TARGET'!BM17+'OVERALL TARGET'!BM20-'OVERALL TARGET'!BM21)+'OVERALL TARGET'!BM53-'OVERALL TARGET'!BM54+'OVERALL TARGET'!BM69-'OVERALL TARGET'!BM70+'OVERALL TARGET'!BM73-'OVERALL TARGET'!BM74,'OVERALL TARGET'!$AK$114*BM116)+BM91+3.6/41.868*('OVERALL TARGET'!BM17+'OVERALL TARGET'!BM21)+'OVERALL TARGET'!BM54+'OVERALL TARGET'!BM70+'OVERALL TARGET'!BM74,0.07*BM116,('OVERALL TARGET'!$AL$113+0.01)*BM116)+BM92+BM99+BM104+BM107,0)","v":0},{"$f":"IFERROR(BN63+BN84+MIN(MIN(BN90-BN91+3.6/41.868*('OVERALL TARGET'!BN16-'OVERALL TARGET'!BN17+'OVERALL TARGET'!BN20-'OVERALL TARGET'!BN21)+'OVERALL TARGET'!BN53-'OVERALL TARGET'!BN54+'OVERALL TARGET'!BN69-'OVERALL TARGET'!BN70+'OVERALL TARGET'!BN73-'OVERALL TARGET'!BN74,'OVERALL TARGET'!$AK$114*BN116)+BN91+3.6/41.868*('OVERALL TARGET'!BN17+'OVERALL TARGET'!BN21)+'OVERALL TARGET'!BN54+'OVERALL TARGET'!BN70+'OVERALL TARGET'!BN74,0.07*BN116,('OVERALL TARGET'!$AL$113+0.01)*BN116)+BN92+BN99+BN104+BN107,0)","v":0},{"$f":"IFERROR(BO63+BO84+MIN(MIN(BO90-BO91+3.6/41.868*('OVERALL TARGET'!BO16-'OVERALL TARGET'!BO17+'OVERALL TARGET'!BO20-'OVERALL TARGET'!BO21)+'OVERALL TARGET'!BO53-'OVERALL TARGET'!BO54+'OVERALL TARGET'!BO69-'OVERALL TARGET'!BO70+'OVERALL TARGET'!BO73-'OVERALL TARGET'!BO74,'OVERALL TARGET'!$AK$114*BO116)+BO91+3.6/41.868*('OVERALL TARGET'!BO17+'OVERALL TARGET'!BO21)+'OVERALL TARGET'!BO54+'OVERALL TARGET'!BO70+'OVERALL TARGET'!BO74,0.07*BO116,('OVERALL TARGET'!$AL$113+0.01)*BO116)+BO92+BO99+BO104+BO107,0)","v":0},{"$f":"IFERROR(BP63+BP84+MIN(MIN(BP90-BP91+3.6/41.868*('OVERALL TARGET'!BP16-'OVERALL TARGET'!BP17+'OVERALL TARGET'!BP20-'OVERALL TARGET'!BP21)+'OVERALL TARGET'!BP53-'OVERALL TARGET'!BP54+'OVERALL TARGET'!BP69-'OVERALL TARGET'!BP70+'OVERALL TARGET'!BP73-'OVERALL TARGET'!BP74,'OVERALL TARGET'!$AK$114*BP116)+BP91+3.6/41.868*('OVERALL TARGET'!BP17+'OVERALL TARGET'!BP21)+'OVERALL TARGET'!BP54+'OVERALL TARGET'!BP70+'OVERALL TARGET'!BP74,0.07*BP116,('OVERALL TARGET'!$AL$113+0.01)*BP116)+BP92+BP99+BP104+BP107,0)","v":0},null,null,null,null,null,null,null,null,null,null,null,null,null,null,null,null,null,null,null,null,null,null,null,null,null,null,null,null,null,null,null,null,null,null,null,null,null,null,null,null,null,null,null,null,null,null,null,null,null,null,null,null,null,null,null,"RA000","ENERGUSE","GFC_TRA_E_NMULTI","_Z","_Z","_Z","_Z","_Z","ENERGY","_Z","KTOE",null,"nrg_ind_urtd","TIMESERIES","RA000",{"$f":"DV112","v":"GFC_TRA_E_NMULTI"},"_Z","KTOE","Agg.=SUM(countries)"]
["NUMERATOR for the transport share",null,null,null,null,null,null,null,null,null,null,null,null,null,null,null,null,null,null,null,null,{"$f":"IFERROR(V46+0.2*V47+0.2*V48+V49+0.2*V50+0.2*V51+V52+0.2*V53+0.2*V54+2*(V63-V64-V65)+2.4*(V64+V65)+IF(OR($AM$1=\"Malta\",$AM$1=\"Cyprus\"),2*(V84-V85-V86)+2.4*(V85+V86),IF(V84>V124*V116,IF((V85+V86)>V124*V116,V124*V116*2.4,V124*V116*2+0.4*(V85+V86)),V84*2+0.4*(V85+V86)))+MIN(MIN(V90-V91,$AK$121*V116)+V91,0.07*V116,(IF($AL$120<0.01,$AL$120+0.02,$AL$120+0.01))*V116)+V92-V93-V94+1.2*(V93+V94)+4*V99+1.5*V104+V107,0)","v":0},0,0,0,0,0,0,0,0,0,0,0,0,0,0,0,0,{"$f":"IFERROR(AM46+0.2*AM47+0.2*AM48+AM49+0.2*AM50+0.2*AM51+AM52+0.2*AM53+0.2*AM54+2*(AM63-AM64-AM65)+2.4*(AM64+AM65)+IF(OR($AM$1=\"Malta\",$AM$1=\"Cyprus\"),2*(AM84-AM85-AM86)+2.4*(AM85+AM86),IF(AM84>AM124*AM116,IF((AM85+AM86)>AM124*AM116,AM124*AM116*2.4,AM124*AM116*2+0.4*(AM85+AM86)),AM84*2+0.4*(AM85+AM86)))+MIN(MIN(AM90-AM91,$AK$121*AM116)+AM91,0.07*AM116,(IF($AL$120<0.01,$AL$120+0.02,$AL$120+0.01))*AM116)+AM92-AM93-AM94+1.2*(AM93+AM94)+4*AM99+1.5*AM104+AM107,0)","v":0},{"$f":"IFERROR(AN46+0.2*AN47+0.2*AN48+AN49+0.2*AN50+0.2*AN51+AN52+0.2*AN53+0.2*AN54+2*(AN63-AN64-AN65)+2.4*(AN64+AN65)+IF(OR($AM$1=\"Malta\",$AM$1=\"Cyprus\"),2*(AN84-AN85-AN86)+2.4*(AN85+AN86),IF(AN84>AN124*AN116,IF((AN85+AN86)>AN124*AN116,AN124*AN116*2.4,AN124*AN116*2+0.4*(AN85+AN86)),AN84*2+0.4*(AN85+AN86)))+MIN(MIN(AN90-AN91,$AK$121*AN116)+AN91,0.07*AN116,(IF($AL$120<0.01,$AL$120+0.02,$AL$120+0.01))*AN116)+AN92-AN93-AN94+1.2*(AN93+AN94)+4*AN99+1.5*AN104+AN107,0)","v":0},0,0,0,0,0,0,0,0,0,0,0,0,0,0,0,0,0,0,0,0,0,0,0,0,0,0,0,0,null,null,null,null,null,null,null,null,null,null,null,null,null,null,null,null,null,null,null,null,null,null,null,null,null,null,null,null,null,null,null,null,null,null,null,null,null,null,null,null,null,null,null,null,null,null,null,null,null,null,null,null,null,null,null,"RA000","ENERGUSE","GFC_TRA_E_MULTI","_Z","_Z","_Z","_Z","_Z","ENERGY","_Z","KTOE",null,"nrg_ind_urtd","TIMESERIES","RA000","GFC_TRA_E_MULTI","_Z","KTOE","Agg.=SUM(countries)"]
["DENOMINATOR (without multipliers and statistical transfers)",null,null,null,null,null,null,null,null,null,null,null,null,null,null,null,null,null,null,null,null,{"$f":"V25+V27+V31+SUM(V35,V36,V39,V40,V43,V46,V49,V52)+V98+V103","v":0},0,0,0,0,0,0,0,0,0,0,0,0,0,0,0,0,0,0,0,0,0,0,0,0,0,0,0,0,0,0,0,0,0,0,0,0,0,0,0,0,0,0,0,0,0,0,null,null,null,null,null,null,null,null,null,null,null,null,null,null,null,null,null,null,null,null,null,null,null,null,null,null,null,null,null,null,null,null,null,null,null,null,null,null,null,null,null,null,null,null,null,null,null,null,null,null,null,null,null,null,null,"_T","ENERGUSE","GFC_TRA_E_NMULTI","_Z","_Z","_Z","_Z","_Z","ENERGY","_Z","KTOE",null,"nrg_ind_urtd","TIMESERIES","TOTAL","GFC_TRA_E_NMULTI","_Z","KTOE","Agg.=SUM(countries)"]
["Statistical transfers - transport",null,null,null,null,null,null,null,null,null,null,null,null,null,null,null,null,null,null,null,null,{"$f":"'STAT. TRANSFERS'!V12","v":0},{"$f":"'STAT. TRANSFERS'!W12","v":0},{"$f":"'STAT. TRANSFERS'!X12","v":0},{"$f":"'STAT. TRANSFERS'!Y12","v":0},{"$f":"'STAT. TRANSFERS'!Z12","v":0},{"$f":"'STAT. TRANSFERS'!AA12","v":0},{"$f":"'STAT. TRANSFERS'!AB12","v":0},{"$f":"'STAT. TRANSFERS'!AC12","v":0},{"$f":"'STAT. TRANSFERS'!AD12","v":0},{"$f":"'STAT. TRANSFERS'!AE12","v":0},{"$f":"'STAT. TRANSFERS'!AF12","v":0},{"$f":"'STAT. TRANSFERS'!AG12","v":0},{"$f":"'STAT. TRANSFERS'!AH12","v":0},{"$f":"'STAT. TRANSFERS'!AI12","v":0},{"$f":"'STAT. TRANSFERS'!AJ12","v":0},{"$f":"'STAT. TRANSFERS'!AK12","v":0},{"$f":"'STAT. TRANSFERS'!AL12","v":0},{"$f":"'STAT. TRANSFERS'!AM12","v":0},{"$f":"'STAT. TRANSFERS'!AN12","v":0},{"$f":"'STAT. TRANSFERS'!AO12","v":0},{"$f":"'STAT. TRANSFERS'!AP12","v":0},{"$f":"'STAT. TRANSFERS'!AQ12","v":0},{"$f":"'STAT. TRANSFERS'!AR12","v":0},{"$f":"'STAT. TRANSFERS'!AS12","v":0},{"$f":"'STAT. TRANSFERS'!AT12","v":0},{"$f":"'STAT. TRANSFERS'!AU12","v":0},{"$f":"'STAT. TRANSFERS'!AV12","v":0},{"$f":"'STAT. TRANSFERS'!AW12","v":0},{"$f":"'STAT. TRANSFERS'!AX12","v":0},{"$f":"'STAT. TRANSFERS'!AY12","v":0},{"$f":"'STAT. TRANSFERS'!AZ12","v":0},{"$f":"'STAT. TRANSFERS'!BA12","v":0},{"$f":"'STAT. TRANSFERS'!BB12","v":0},{"$f":"'STAT. TRANSFERS'!BC12","v":0},{"$f":"'STAT. TRANSFERS'!BD12","v":0},{"$f":"'STAT. TRANSFERS'!BE12","v":0},{"$f":"'STAT. TRANSFERS'!BF12","v":0},{"$f":"'STAT. TRANSFERS'!BG12","v":0},{"$f":"'STAT. TRANSFERS'!BH12","v":0},{"$f":"'STAT. TRANSFERS'!BI12","v":0},{"$f":"'STAT. TRANSFERS'!BJ12","v":0},{"$f":"'STAT. TRANSFERS'!BK12","v":0},{"$f":"'STAT. TRANSFERS'!BL12","v":0},{"$f":"'STAT. TRANSFERS'!BM12","v":0},{"$f":"'STAT. TRANSFERS'!BN12","v":0},{"$f":"'STAT. TRANSFERS'!BO12","v":0},{"$f":"'STAT. TRANSFERS'!BP12","v":0}]
["DENOMINATOR (with multipliers and statistical transfers)",null,null,null,null,null,null,null,null,null,null,null,null,null,null,null,null,null,null,null,null,{"$f":"V25+V27+V31+SUM(V35,V36,V39,V40,V43,V46-V47-V48,V49-V50-V51,V52-V53-V54)+V59-V60-V61+V98+3*V99+V103+0.5*V104+V115","v":0},0,0,0,0,0,0,0,0,0,0,0,0,0,0,0,0,0,0,0,0,0,0,0,0,0,0,0,0,0,0,0,0,0,0,0,0,0,0,0,0,0,0,0,0,0,0,null,null,null,null,null,null,null,null,null,null,null,null,null,null,null,null,null,null,null,null,null,null,null,null,null,null,null,null,null,null,null,null,null,null,null,null,null,null,null,null,null,null,null,null,null,null,null,null,null,null,null,null,null,null,null,"_T","ENERGUSE","GFC_TRA_E_MULTI","_Z","_Z","_Z","_Z","_Z","ENERGY","_Z","KTOE",null,"nrg_ind_urtd","TIMESERIES","TOTAL",{"$f":"DV116","v":"GFC_TRA_E_MULTI"},"_Z","KTOE","Agg.=SUM(countries)"]
["RES-T(%)",null,null,null,null,null,null,null,null,null,null,null,null,null,null,null,null,null,null,null,null,{"$f":"IF(V116>0,(V113+V115)/V116,\"\")","v":""},{"$f":"IF(W116>0,(W113+W115)/W116,\"\")","v":""},"","","","","",{"$f":"IF(AC116>0,(AC113+AC115)/AC116,\"\")","v":""},{"$f":"IF(AD116>0,(AD113+AD115)/AD116,\"\")","v":""},{"$f":"IF(AE116>0,(AE113+AE115)/AE116,\"\")","v":""},{"$f":"IF(AF116>0,(AF113+AF115)/AF116,\"\")","v":""},{"$f":"IF(AG116>0,(AG113+AG115)/AG116,\"\")","v":""},{"$f":"IF(AH116>0,(AH113+AH115)/AH116,\"\")","v":""},{"$f":"IF(AI116>0,(AI113+AI115)/AI116,\"\")","v":""},{"$f":"IF(AJ116>0,(AJ113+AJ115)/AJ116,\"\")","v":""},{"$f":"IF(AK116>0,(AK113+AK115)/AK116,\"\")","v":""},{"$f":"IF(AL116>0,(AL113+AL115)/AL116,\"\")","v":""},{"$f":"IF(AM116>0,(AM113+AM115)/AM116,\"\")","v":""},{"$f":"IF(AN116>0,(AN113+AN115)/AN116,\"\")","v":""},{"$f":"IF(AO116>0,(AO113+AO115)/AO116,\"\")","v":""},{"$f":"IF(AP116>0,(AP113+AP115)/AP116,\"\")","v":""},{"$f":"IF(AQ116>0,(AQ113+AQ115)/AQ116,\"\")","v":""},{"$f":"IF(AR116>0,(AR113+AR115)/AR116,\"\")","v":""},{"$f":"IF(AS116>0,(AS113+AS115)/AS116,\"\")","v":""},{"$f":"IF(AT116>0,(AT113+AT115)/AT116,\"\")","v":""},{"$f":"IF(AU116>0,(AU113+AU115)/AU116,\"\")","v":""},{"$f":"IF(AV116>0,(AV113+AV115)/AV116,\"\")","v":""},{"$f":"IF(AW116>0,(AW113+AW115)/AW116,\"\")","v":""},{"$f":"IF(AX116>0,(AX113+AX115)/AX116,\"\")","v":""},{"$f":"IF(AY116>0,(AY113+AY115)/AY116,\"\")","v":""},{"$f":"IF(AZ116>0,(AZ113+AZ115)/AZ116,\"\")","v":""},{"$f":"IF(BA116>0,(BA113+BA115)/BA116,\"\")","v":""},{"$f":"IF(BB116>0,(BB113+BB115)/BB116,\"\")","v":""},{"$f":"IF(BC116>0,(BC113+BC115)/BC116,\"\")","v":""},{"$f":"IF(BD116>0,(BD113+BD115)/BD116,\"\")","v":""},{"$f":"IF(BE116>0,(BE113+BE115)/BE116,\"\")","v":""},{"$f":"IF(BF116>0,(BF113+BF115)/BF116,\"\")","v":""},{"$f":"IF(BG116>0,(BG113+BG115)/BG116,\"\")","v":""},{"$f":"IF(BH116>0,(BH113+BH115)/BH116,\"\")","v":""},{"$f":"IF(BI116>0,(BI113+BI115)/BI116,\"\")","v":""},{"$f":"IF(BJ116>0,(BJ113+BJ115)/BJ116,\"\")","v":""},{"$f":"IF(BK116>0,(BK113+BK115)/BK116,\"\")","v":""},{"$f":"IF(BL116>0,(BL113+BL115)/BL116,\"\")","v":""},{"$f":"IF(BM116>0,(BM113+BM115)/BM116,\"\")","v":""},{"$f":"IF(BN116>0,(BN113+BN115)/BN116,\"\")","v":""},{"$f":"IF(BO116>0,(BO113+BO115)/BO116,\"\")","v":""},{"$f":"IF(BP116>0,(BP113+BP115)/BP116,\"\")","v":""},null,null,null,null,null,null,null,null,null,null,null,null,null,null,null,null,null,null,null,null,null,null,null,null,null,null,null,null,null,null,null,null,null,null,null,null,null,null,null,null,null,null,null,null,null,null,null,null,null,null,null,null,null,null,null,"_Z","REN_TRA","REN_TRA","_Z","_Z","_Z","_Z","_Z","NUMBER","_Z","PC",null,"nrg_ind_ren","TIMESERIES","_Z","REN_TRA","_Z","PC","Agg.=100*[SUM(countries row 113)/SUM(countries row 116)]"]
["Biofuels and biomass fuels in transport from food and feed crops",null,null,null,null,null,null,null,null,null,null,null,null,null,null,null,null,null,null,null,null,null,null,null,null,null,null,null,{"$f":"AC90","v":0},0,0,0,0,0,0,0,0,0,0,0,0,0,0,0,0,0,0,0,0,0,0,0,0,0,0,0,0,0,0,0,0,0,0,0,0,0,0,0,null,null,null,null,null,null,null,null,null,null,null,null,null,null,null,null,null,null,null,null,null,null,null,null,null,null,null,null,null,null,null,null,null,null,null,null,null,null,null,null,null,null,null,null,null,null,null,null,null,null,null,null,null,null,null,"R5200","ENERGUSE","BIOFCON_LIM_TRA","_Z","_Z","_Z","_Z","_Z","ENERGY","_Z","KTOE",null,"nrg_ind_urtd","TIMESERIES","R5200","BIOFCON_LIM_TRA","_Z","KTOE","Agg.=SUM(countries)"]
["7% limit for the transport target",null,null,null,null,null,null,null,null,null,null,null,null,null,null,null,null,null,null,null,null,null,null,null,null,null,null,null,{"$f":"0.07*AC116","v":0},{"$f":"0.07*AD116","v":0},0,0,0,0,0,0,0,0,0,0,0,0,0,0,0,0,0,0,0,0,0,0,0,0,0,0,0,0,0,0,0,0,0,0,0,0,0,0,null,null,null,null,null,null,null,null,null,null,null,null,null,null,null,null,null,null,null,null,null,null,null,null,null,null,null,null,null,null,null,null,null,null,null,null,null,null,null,null,null,null,null,null,null,null,null,null,null,null,null,null,null,null,null,"R5200","ENERGUSE","LIM_TT","_Z","_Z","_Z","_Z","_Z","ENERGY","_Z","KTOE",null,"nrg_ind_urtd","TIMESERIES","R5200","LIM_TT","_Z","KTOE","Agg.=SUM(countries)"]
["Share of biofuels and biomass fuels from food and feed crops in FEC in road and rail (0.01 = 1%)",null,null,null,null,null,null,null,null,null,null,null,null,null,null,null,null,null,null,null,null,null,null,null,null,null,null,null,{"$f":"IFERROR(0.07*AC118/AC119,0)","v":0},{"$f":"IFERROR(0.07*AD118/AD119,0)","v":0},0,0,0,0,0,0,{"$f":"IFERROR(0.07*AK118/AK119,0)","v":0},{"$f":"AM128","v":0},{"$f":"IFERROR(0.07*AM118/AM119,0)","v":0},{"$f":"IFERROR(0.07*AN118/AN119,0)","v":0},0,0,0,0,0,0,0,0,0,0,0,0,0,0,0,0,0,0,0,0,0,0,0,0,0,0,0,0,null,null,null,null,null,null,null,null,null,null,null,null,null,null,null,null,null,null,null,null,null,null,null,null,null,null,null,null,null,null,null,null,null,null,null,null,null,null,null,null,null,null,null,null,null,null,null,null,null,null,null,null,null,null,null,"R5200","ENERGUSE","BIOF_FS_SHR","_Z","_Z","_Z","_Z","_Z","NUMBER","_Z","PC",null,"nrg_ind_urtd","TIMESERIES","R5200","BIOF_FS_SHR","_Z","PC","Agg.=100*0.07*[SUM(countries row 118)/SUM(countries row 119)]"]
["Share of high ILUC-risk biofuels and biomass fuels in transport  (0.01 = 1%)",null,null,null,null,null,null,null,null,null,null,null,null,null,null,null,null,null,null,null,null,null,null,null,null,null,null,null,{"$f":"IFERROR((AC90-AC91)/AC116,0)","v":0},0,0,0,0,0,0,0,{"$f":"AM129","v":0},{"$f":"IFERROR((AL90-AL91)/AL116,0)","v":0},0,0,0,0,0,0,0,0,0,0,0,0,0,0,0,0,0,0,0,0,0,0,0,0,0,0,0,0,0,0,null,null,null,null,null,null,null,null,null,null,null,null,null,null,null,null,null,null,null,null,null,null,null,null,null,null,null,null,null,null,null,null,null,null,null,null,null,null,null,null,null,null,null,null,null,null,null,null,null,null,null,null,null,null,null,"R5200","ENERGUSE","HILUC_TT_SHR","_Z","_Z","_Z","_Z","_Z","NUMBER","_Z","PC",null,"nrg_ind_urtd","TIMESERIES","R5200","HILUC_TT_SHR","_Z","PC","Agg.=100*[SUM(countries row 90 - countries row 91)/SUM(countries row 116)]"]
["Share of advanced biofuels and biogas from Annex IX Part A in FEC in transport (0.01 = 1%)",null,null,null,null,null,null,null,null,null,null,null,null,null,null,null,null,null,null,null,null,null,null,null,null,null,null,null,{"$f":"IFERROR(((2*(AC63-AC64-AC65)+2.4*(AC64+AC65))/AC116),0)","v":0},0,0,0,0,0,0,0,0,0,{"$f":"IFERROR(((2*(AM63-AM64-AM65)+2.4*(AM64+AM65))/AM116),0)","v":0},{"$f":"IFERROR(((2*(AN63-AN64-AN65)+2.4*(AN64+AN65))/AN116),0)","v":0},0,0,0,0,0,0,0,0,0,0,0,0,0,{"$f":"IFERROR(((2*(BB63-BB64-BB65)+2.4*(BB64+BB65))/BB116),0)","v":0},0,0,0,0,0,0,0,0,0,0,0,0,0,0,null,null,null,null,null,null,null,null,null,null,null,null,null,null,null,null,null,null,null,null,null,null,null,null,null,null,null,null,null,null,null,null,null,null,null,null,null,null,null,null,null,null,null,null,null,null,null,null,null,null,null,null,null,null,null,"R5200","ENERGUSE","BIOF_BIOG_PA_SHR ","_Z","_Z","_Z","_Z","_Z","NUMBER","_Z","PC",null,"nrg_ind_urtd","TIMESERIES","R5200","BIOF_BIOG_PA_SHR ","_Z","PC","Agg.=100*[SUM(2*(countries row 63-countries row 64-countries row 65)+2.4*(countries row 64+countries row 65))/SUM(countries row 116)]"]
["Share of biofuels and biogas from Annex IX Part B in FEC in transport (0.01 = 1%)",null,null,null,null,null,null,null,null,null,null,null,null,null,null,null,null,null,null,null,null,null,null,null,null,null,null,null,{"$f":"IFERROR((AC84/AC116),0)","v":0},0,0,0,0,0,0,0,0,0,0,0,0,0,0,0,0,0,0,0,0,0,0,0,0,0,0,0,0,0,0,0,0,0,0,0,0,0,0,0,null,null,null,null,null,null,null,null,null,null,null,null,null,null,null,null,null,null,null,null,null,null,null,null,null,null,null,null,null,null,null,null,null,null,null,null,null,null,null,null,null,null,null,null,null,null,null,null,null,null,null,null,null,null,null,"R5200","ENERGUSE","BIOF_BIOG_PB_SHR ","_Z","_Z","_Z","_Z","_Z","NUMBER","_Z","PC",null,"nrg_ind_urtd","TIMESERIES","R5200","BIOF_BIOG_PB_SHR ","_Z","PC","Agg.=100*[SUM(countries row 84)/SUM(countries row 116)]"]
["Limit of biofuels and biogas produced from the feedstock listed in Part B of Annex IX (0.01 = 1%)",null,null,null,null,null,null,null,null,null,null,null,null,null,null,null,null,null,null,null,null,1.7000000000000001E-2,1.7000000000000001E-2,1.7000000000000001E-2,1.7000000000000001E-2,1.7000000000000001E-2,1.7000000000000001E-2,1.7000000000000001E-2,1.7000000000000001E-2,1.7000000000000001E-2,1.7000000000000001E-2,1.7000000000000001E-2,1.7000000000000001E-2,1.7000000000000001E-2,1.7000000000000001E-2,1.7000000000000001E-2,1.7000000000000001E-2,1.7000000000000001E-2,1.7000000000000001E-2,1.7000000000000001E-2,1.7000000000000001E-2,1.7000000000000001E-2,1.7000000000000001E-2,1.7000000000000001E-2,1.7000000000000001E-2,1.7000000000000001E-2,1.7000000000000001E-2,1.7000000000000001E-2,1.7000000000000001E-2,1.7000000000000001E-2,1.7000000000000001E-2,1.7000000000000001E-2,1.7000000000000001E-2,1.7000000000000001E-2,1.7000000000000001E-2,1.7000000000000001E-2,1.7000000000000001E-2,1.7000000000000001E-2,1.7000000000000001E-2,1.7000000000000001E-2,1.7000000000000001E-2,1.7000000000000001E-2,1.7000000000000001E-2,1.7000000000000001E-2,1.7000000000000001E-2,1.7000000000000001E-2,1.7000000000000001E-2,1.7000000000000001E-2]
[]
[]
[]
["% of biofuels and biomass fuels from food and feed crops in FEC in road and rail in 2020 for cap in transport",null,null,null,null,null,null,null,null,null,null,null,null,null,null,null,null,null,null,null,null,null,null,null,null,null,null,null,null,null,null,null,null,null,null,null,null,null,{"$f":"IFERROR(AM118/AM116,0)","v":0},"In 2020",{"$f":"IF(AM120<>0,IF(AM120=AM128,\"NOT FILLED BY COUNTRY, 2021 VALUE TAKEN BY DEFAULT\",\"\"),\"\")","v":""}]
["% of high ILUC-risk biofuels and biomass fuels in transport in 2019 for cap in transport",null,null,null,null,null,null,null,null,null,null,null,null,null,null,null,null,null,null,null,null,null,null,null,null,null,null,null,null,null,null,null,null,null,null,null,null,null,{"$f":"IFERROR((AM90-AM91)/AM116,0)","v":0},"In 2019",{"$f":"IF(AM121<>0,IF(AM121=AM129,\"NOT FILLED BY COUNTRY, 2021 VALUE TAKEN BY DEFAULT\",\"\"),\"\")","v":""}]
[]
[]
[]
[]
[]
[]
[]
[]
[]
[]
[]
[]
[]
[]
[]
[]
[]
[]
[]
[]
[]
[]
[]
[]
[]
[]
[]
[]
[]
[]
[]
[]
[]
[]
[]
[]
[]
[]
[]
[]
[]
[]
[]
[]
[]
[]
[]
[]
[]
[]
[]
[]
[]
[]
[]
[]
[]
[]
[]
[]
[]
[]
[]
[]
[]
[]
[]
[]
[]
[]
[]
[]
[]
[]
[]
[]
[]
[]
[]
[]
[]
[]
[]
[]
[]
[]
[]
[]
[]
[]
[]
[]
[]
[]
[]
[]
[]
[]
[]
[]
[]
[]
[]
[]
[]
[]
[]
[]
[]
[]
[]
[]
[]
[]
[]
[]
[]
[]
[]
[]
[]
[]
[]
[]
[]
[]
[]
[]
[]
[]
[]
[]
[]
[]
[]
[]
[]
[]
[]
[]
[]
[]
[]
[]
[]
[]
[]
[]
[]
[]
[]
[]
[]
[]
[]
[]
[]
[]
[]
[]
[]
[]
[]
[]
[]
[]
[]
[]
[]
[]
[]
[]
[]
[]
[]
[]
[]
[]
[]
[]
[]
[]
[]
[]
[]
[]
[]
[]
[]
[]
[]
[]
[]
[]
[]
[]
[]
[]
[]
[]
[]
[]
[]
[]
[]
[]
[]
[]
[]
[]
[]
[]
[]
[]
[]
[]
[]
[]
[]
[]
[]
[]
[]
[]
[]
[]
[]
[]
[]
[]
[]
[]
[]
[]
[]
[]
[]
[]
[]
[]
[]
[]
[]
[]
[]
[]
[]
[]
[]
[]
[]
[]
[]
[]
[]
[]
[]
[]
[]
[]
[]
[]
[]
[]
[]
[]
[]
[]
[]
[]
[]
[]
[]
[]
[]
[]
[]
[]
[]
[]
[]
[]
[]
[]
[]
[]
[]
[]
[]
[]
[]
[]
[]
[]
[]
[]
[]
[]
[]
[]
[]
[]
[]
[]
[]
[]
[]
[]
[]
[]
[]
[]
[]
[]
[]
[]
[]
[]
[]
[]
[]
[]
[]
[]
[]
[]
[]
[]
[]
[]
[]
[]
[]
[]
[]
[]
[]
[]
[]
[]
[]
[]
[]
[]
[]
[]
[]
[]
[]
[]
[]
[]
[]
[]
[]
[]
[]
[]
[]
[]
[]
[]
[]
[]
[]
[]
[]
[]
[]
[]
[]
[]
[]
[]
[]
[]
[]
[]
[]
[]
[]
[]
[]
[]
[]
[]
[]
[]
[]
[]
[]
[]
[]
[]
[]
[]
[]
[]
[]
[]
[]
[]
[]
[]
[]
[]
[]
[]
[]
[]
[]
[]
[]
[]
[]
[]
[]
[]
[]
[]
[]
[]
[]
[]
[]
[]
[]
[]
[]
[]
[]
[]
[]
[]
[]
[]
[]
[]
[]
[]
[]
[]
[]
[]
[]
[]
[]
[]
[]
[]
[]
[]
[]
[]
[]
[]
[]
[]
[]
[]
[]
[]
[]
[]
[]
[]
[]
[]
[]
[]
[]
[]
[]
[]
[]
[]
[]
[]
[]
[]
[]
[]
[]
[]
[]
[]
[]
[]
[]
[]
[]
[]
[]
[]
[]
[]
[]
[]
[]
[]
[]
[]
[]
[]
[]
[]
[]
[]
[]
[]
[]
[]
[]
[]
[]
[]
[]
[]
[]
[]
[]
[]
[]
[]
[]
[]
[]
[]
[]
[]
[]
[]
[]
[]
[]
[]
[]
[]
[]
[]
[]
[]
[]
[]
[]
[]
[]
[]
[]
[]
[]
[]
[]
[]
[]
[]
[]
[]
[]
[]
[]
[]
[]
[]
[]
[]
[]
[]
[]
[]
[]
[]
[]
[]
[]
[]
[]
[]
[]
[]
[]
[]
[]
[]
[]
[]
[]
[]
[]
[]
[]
[]
[]
[]
[]
[]
[]
[]
[]
[]
[]
[]
[]
[]
[]
[]
[]
[]
[]
[]
[]
[]
[]
[]
[]
[]
[]
[]
[]
[]
[]
[]
[]
[]
[]
[]
[]
[]
[]
[]
[]
[]
[]
[]
[]
[]
[]
[]
[]
[]
[]
[]
[]
[]
[]
[]
[]
[]
[]
[]
[]
[]
[]
[]
[]
[]
[]
[]
[]
[]
[]
[]
[]
[]
[]
[]
[]
[]
[]
[]
[]
[]
[]
[]
[]
[]
[]
[]
[]
[]
[]
[]
[]
[]
[]
[]
[]
[]
[]
[]
[]
[]
[]
[]
[]
[]
[]
[]
[]
[]
[]
[]
[]
[]
[]
[]
[]
[]
[]
[]
[]
[]
[]
[]
[]
[]
[]
[]
[]
[]
[]
[]
[]
[]
[]
[]
[]
[]
[]
[]
[]
[]
[]
[]
[]
[]
[]
[]
[]
[]
[]
[]
[]
[]
[]
[]
[]
[]
[]
[]
[]
[]
[]
[]
[]
[]
[]
[]
[]
[]
[]
[]
[]
[]
[]
[]
[]
[]
[]
[]
[]
[]
[]
[]
[]
[]
[]
[]
[]
[]
[]
[]
[]
[]
[]
[]
[]
[]
[]
[]
[]
[]
[]
[]
[]
[]
[]
[]
[]
[]
[]
[]
[]
[]
[]
[]
[]
[]
[]
[]
[]
[]
[]
[]
[]
[]
[]
[]
[]
[]
[]
[]
[]
[]
[]
[]
[]
[]
[]
[]
[]
[]
[]
[]
[]
[]
[]
[]
[]
[]
[]
[]
[]
[]
[]
[]
[]
[]
[]
[]
[]
[]
[]
[]
[]
[]
[]
[]
[]
[]
[]
[]
[]
[]
[]
[]
[]
[]
[]
[]
[null,null,null,null,null,null,null,null,null,null,null,null,null,null,null,null,null,null,null,null,null,null,null,null,null,null,null,null,null,null,null,null,null,null,null,null,null,null,{"$f":"IF(AM5<=$H1001, AM5, \"\")","v":2021},2022,2023,2024,"","","","","","","","","","","","","","","","","","","","","","","","","",""]
[null,null,null,null,null,null,null,{"$f":"IF(MONTH(NOW())<7, YEAR(NOW())-2, YEAR(NOW())-1)","v":2024}]
[]
[]
[]
[]
[]
[]
[]
[]
[]
[]
[null,null,null,null,null,null,null,null,null,null,null,null,null,null,null,null,null,null,null,null,null,null,null,null,null,null,null,null,null,null,null,null,null,null,null,null,null,null,null,null,{"$f":"IF(AO5<=$H1013, AO5, \"\")","v":""},"","","","","","","","","","","","","","","","","","","","","","","","","","",""]

{"sheet":"HEAT PUMPS","index":5,"n_rows":1001,"n_cols":142,"rows_kept":1001,"cut":false,"hidden":false,"merged":[]}
[{"$f":"MAIN!$D$9","v":""},null,null,null,null,null,null,null,null,null,null,null,null,null,null,null,null,null,null,null,null,null,null,null,null,null,null,null,null,null,null,null,null,null,null,null,null,null,"Due to different legal basis, data prior to 2021 in this tool have no legal value and are only intended for data quality checks"]
["Accounting of energy from heat pumps: ANNEX VII",null,null,null,null,null,null,null,null,null,null,null,null,null,null,null,null,null,null,null,null,null,null,null,null,null,null,null,null,null,null,null,null,null,null,null,null,null,"Please consult https://ec.europa.eu/eurostat/web/energy/data/shares for results up to 2020."]
["in effect of the Commission decision C(2013) 1082"]
["establishing the guidelines for Member States on calculating renewable energy from heat pumps from different heat pump technologies pursuant to Article 5 of Directive 2009/28/EC. This Commission decision is still in force.",null,null,null,null,null,null,null,null,null,null,null,null,null,null,null,null,null,null,null,null,null,null,null,null,null,null,null,null,null,null,null,null,null,null,null,null,null,null,null,null,null,null,null,null,null,null,null,null,null,null,null,null,null,null,null,null,null,null,null,null,null,null,null,null,null,null,null,null,null,null,null,null,null,null,null,null,null,null,null,null,null,null,null,null,null,null,null,null,null,null,null,null,null,null,null,null,null,null,null,null,null,null,null,null,null,null,null,null,null,null,null,null,null,null,null,null,null,null,null,null,null,"*** DSD codes ***",null,null,null,null,null,null,null,null,null,null,null,null,"MDT Dim","PRODUCT","FLOW","FLOW","INDICATORS","UNIT"]
[null,null,null,null,null,null,null,1990,1991,1992,1993,1994,1995,1996,1997,1998,1999,2000,2001,2002,2003,2004,2005,2006,2007,2008,2009,2010,2011,2012,2013,2014,2015,2016,2017,2018,2019,2020,2021,2022,2023,2024,2025,2026,2027,2028,2029,2030,2031,2032,2033,2034,2035,2036,2037,2038,2039,2040,2041,2042,2043,2044,2045,2046,2047,2048,2049,2050,null,null,null,null,null,null,null,null,null,null,null,null,null,null,null,null,null,null,null,null,null,null,null,null,null,null,null,null,null,null,null,null,null,null,null,null,null,null,null,null,null,null,null,null,null,null,null,null,null,null,null,null,null,null,"REF_AREA","ENERGY_PRODUCT","MAIN_FLOW","FLOW_BREAKDOWN","PLANT_TECH","PLANT_TYPE","STOCKS","INFRASTRUCTURE_IND","VIS_A_VIS_AREA","MEASURE_VALUE_TYPE","FACILITY_ID","UNIT_MEASURE",null,"Eurobase Dim","SIEC","NRG_BAL","PLANT_TEC","HP_TECH","UNIT","Formula for country aggregates (Agg.)"]
["Renewable heat captured [GWh]",null,null,null,null,null,null,{"$f":"SUM(H8,H11,H48,H61,H76,H113,H126,H141,H178,H191,H206,H243,H256,H271,H308,H321,H336,H373,H386)","v":0},{"$f":"SUM(I8,I11,I48,I61,I76,I113,I126,I141,I178,I191,I206,I243,I256,I271,I308,I321,I336,I373,I386)","v":0},0,0,0,0,0,0,0,0,0,0,0,0,{"$f":"SUM(V8,V11,V48,V61,V76,V113,V126,V141,V178,V191,V206,V243,V256,V271,V308,V321,V336,V373,V386)","v":0},0,0,0,0,0,0,0,0,0,0,0,0,0,0,0,0,{"$f":"SUM(AM8,AM11,AM48,AM61,AM76,AM113,AM126,AM141,AM178,AM191,AM206,AM243,AM256,AM271,AM308,AM321,AM336,AM373,AM386)","v":0},0,0,0,0,0,0,0,0,0,0,0,0,0,0,0,0,0,0,0,0,0,0,0,0,0,0,0,0,0,null,null,null,null,null,null,null,null,null,null,null,null,null,null,null,null,null,null,null,null,null,null,null,null,null,null,null,null,null,null,null,null,null,null,null,null,null,null,null,null,null,null,null,null,null,null,null,null,null,null,null,null,null,null,null,"RA600","PRODUCT",{"$f":"EH6","v":"PPRD_RED"},"_T","_Z","_Z","_Z","_Z","ENERGY","_Z","GWH",null,"nrg_ind_ahbtc","RA600","PPRD_RED","_Z","TOTAL","GWH","Agg.=SUM(countries)"]
[null,"of which from geothermal heat pumps [GWh]",null,null,null,null,null,null,null,null,null,null,null,null,null,null,null,null,null,null,null,{"$f":"V48+V113+V178+V243+V308+V373","v":0},{"$f":"W48+W113+W178+W243+W308+W373","v":0},0,0,0,0,0,0,0,0,0,0,0,0,0,0,0,0,0,0,0,0,0,0,0,0,0,0,0,0,0,0,0,0,0,0,0,0,0,0,0,0,0,0,0,0,0,null,null,null,null,null,null,null,null,null,null,null,null,null,null,null,null,null,null,null,null,null,null,null,null,null,null,null,null,null,null,null,null,null,null,null,null,null,null,null,null,null,null,null,null,null,null,null,null,null,null,null,null,null,null,null,"RA600","PRODUCT",{"$f":"EH7","v":"PPRD_RED"},"HPGT","_Z","_Z","_Z","_Z","ENERGY","_Z","GWH",null,"nrg_ind_ahbtc","RA600","PPRD_RED","_Z","GTH","GWH","Agg.=SUM(countries)"]
["other renewable heat captured by heat pumps [GWh]",null,null,null,null,null,null,0,0,0,0,0,0,0,0,0,0,0,0,0,0,0,0,0,0,0,0,0,0,0,0,0,0,0,0,0,0,0,0,0,0,0,0,0,0,0,0,0,0,0,0,0,0,0,0,0,0,0,0,0,0,0,0,0,0,0,0,0,null,null,null,null,null,null,null,null,null,null,null,null,null,null,null,null,null,null,null,null,null,null,null,null,null,null,null,null,null,null,null,null,null,null,null,null,null,null,null,null,null,null,null,null,null,null,null,null,null,null,null,null,null,null,null,"RA600","PRODUCT",{"$f":"EH8","v":"PPRD_RED"},"OTHGEN","_Z","_Z","_Z","_Z","ENERGY","_Z","GWH",null,"nrg_ind_ahbtc","RA600","PPRD_RED","_Z","OTH","GWH","Agg.=SUM(countries)"]
[]
["ELECTRICALLY DRIVEN HEAT PUMPS in COLDER CLIMATE"]
["Aerothermal energy",null,null,null,null,null,null,{"$f":"SUM(H17,H23,H29,H35,H41,H47)","v":0},0,0,0,0,0,0,0,0,0,0,0,0,0,0,0,0,0,0,0,0,0,0,0,0,0,0,0,0,0,{"$f":"SUM(AL17,AL23,AL29,AL35,AL41,AL47)","v":0},{"$f":"SUM(AM17,AM23,AM29,AM35,AM41,AM47)","v":0},0,0,0,0,0,0,0,0,0,0,0,0,0,0,0,0,0,0,0,0,0,0,0,0,0,0,0,0,0,null,null,null,null,null,null,null,null,null,null,null,null,null,null,null,null,null,null,null,null,null,null,null,null,null,null,null,null,null,null,null,null,null,null,null,null,null,null,null,null,null,null,null,null,null,null,null,null,null,null,null,null,null,null,null,"RA600","PRODUCT",{"$f":"EH11","v":"PPRD_RED"},"HPAT","HP_EC","_Z","_Z","_Z","ENERGY","_Z","GWH",null,"nrg_ind_ahbtc","RA600","PPRD_RED","_Z","ATH_EC","GWH","Agg.=SUM(countries)"]
[null,"Air-Air"]
[null,null,"Capacity of heat pump installed",null,null,null,"[GW]",0,0,0,0,0,0,0,0,0,0,0,0,0,0,0,0,0,0,0,0,0,0,0,0,0,0,0,0,0,0,0,0,0,0,0,0,0,0,0,0,0,0,0,0,0,0,0,0,0,0,0,0,0,0,0,0,0,0,0,0,0,null,null,null,null,null,null,null,null,null,null,null,null,null,null,null,null,null,null,null,null,null,null,null,null,null,null,null,null,null,null,null,null,null,null,null,null,null,null,null,null,null,null,null,null,null,null,null,null,null,null,null,null,null,null,null,"RA600","_Z",{"$f":"EH13","v":"_Z"},"HPATAA","HP_EC","_Z","HPCAP","_Z","ENERGY","_Z","GW",null,"nrg_ind_hptctc","RA600","_Z","CAP_HEAT","ATH_AA_EC","GW","Agg.=SUM(countries)"]
[null,null,"of which SPF is above the minimum threshold",null,null,null,"[GW]",0,0,0,0,0,0,0,0,0,0,0,0,0,0,0,0,0,0,0,0,0,0,0,0,0,0,0,0,0,0,0,0,0,0,0,0,0,0,0,0,0,0,0,0,0,0,0,0,0,0,0,0,0,0,0,0,0,0,0,0,0,null,null,null,null,null,null,null,null,null,null,null,null,null,null,null,null,null,null,null,null,null,null,null,null,null,null,null,null,null,null,null,null,null,null,null,null,null,null,null,null,null,null,null,null,null,null,null,null,null,null,null,null,null,null,null,"RA600","_Z",{"$f":"EH14","v":"_Z"},"HPATAA","HP_EC","_Z","HPCAPABVTH","_Z","ENERGY","_Z","GW",null,"nrg_ind_hptctc","RA600","_Z","CAP_ABVTH","ATH_AA_EC","GW","Agg.=SUM(countries)"]
[null,null,"Equivalent full load hours of operation",null,null,null,"[h]",1970,1970,1970,1970,1970,1970,1970,1970,1970,1970,1970,1970,1970,1970,1970,1970,1970,1970,1970,1970,1970,1970,1970,1970,1970,1970,1970,1970,1970,1970,1970,1970,1970,1970,1970,1970,1970,1970,1970,1970,1970,1970,1970,1970,1970,1970,1970,1970,1970,1970,1970,1970,1970,1970,1970,1970,1970,1970,1970,1970,1970,null,null,null,null,null,null,null,null,null,null,null,null,null,null,null,null,null,null,null,null,null,null,null,null,null,null,null,null,null,null,null,null,null,null,null,null,null,null,null,null,null,null,null,null,null,null,null,null,null,null,null,null,null,null,null,"RA600","_Z",{"$f":"EH15","v":"_Z"},"HPATAA","HP_EC","_Z","TUS","_Z","_Z","_Z","HR",null,"nrg_ind_hptctc","RA600","_Z","TIME_USE","ATH_AA_EC","HR","COUNTRY AGGREGATE IS NOT CALCULATED"]
[null,null,"Estimated average SPF",null,null,null,null,2.5,2.5,2.5,2.5,2.5,2.5,2.5,2.5,2.5,2.5,2.5,2.5,2.5,2.5,2.5,2.5,2.5,2.5,2.5,2.5,2.5,2.5,2.5,2.5,2.5,2.5,2.5,2.5,2.5,2.5,2.5,2.5,2.5,2.5,2.5,2.5,2.5,2.5,2.5,2.5,2.5,2.5,2.5,2.5,2.5,2.5,2.5,2.5,2.5,2.5,2.5,2.5,2.5,2.5,2.5,2.5,2.5,2.5,2.5,2.5,2.5,null,null,null,null,null,null,null,null,null,null,null,null,null,null,null,null,null,null,null,null,null,null,null,null,null,null,null,null,null,null,null,null,null,null,null,null,null,null,null,null,null,null,null,null,null,null,null,null,null,null,null,null,null,null,null,"RA600","_Z",{"$f":"EH16","v":"_Z"},"HPATAA","HP_EC","_Z","SPF","_Z","_Z","_Z","NR",null,"nrg_ind_hptctc","RA600","_Z","SPERF_FACT","ATH_AA_EC","NR","COUNTRY AGGREGATE IS NOT CALCULATED"]
[null,null,"The amount of renewable energy supplied",null,null,null,"[GWh]",{"$f":"IF(H16>0,(H14*H15)*(1-1/H16),0)","v":0},{"$f":"IF(I16>0,(I14*I15)*(1-1/I16),0)","v":0},0,0,0,0,0,0,0,0,0,0,0,0,0,0,0,0,0,0,0,0,0,0,0,0,0,0,0,0,0,{"$f":"IF(AM16>0,(AM14*AM15)*(1-1/AM16),0)","v":0},0,0,0,0,0,0,0,0,0,0,0,0,0,0,0,0,0,0,0,0,0,0,0,0,0,0,0,0,0,null,null,null,null,null,null,null,null,null,null,null,null,null,null,null,null,null,null,null,null,null,null,null,null,null,null,null,null,null,null,null,null,null,null,null,null,null,null,null,null,null,null,null,null,null,null,null,null,null,null,null,null,null,null,null,"RA600","PRODUCT",{"$f":"EH17","v":"PPRD_RED"},"HPATAA","HP_EC","_Z","_Z","_Z","ENERGY","_Z","GWH",null,"nrg_ind_ahbtc","RA600","PPRD_RED","_Z","ATH_AA_EC","GWH","Agg.=SUM(countries)"]
[null,"Air-Water"]
[null,null,"Capacity of heat pump installed",null,null,null,"[GW]",0,0,0,0,0,0,0,0,0,0,0,0,0,0,0,0,0,0,0,0,0,0,0,0,0,0,0,0,0,0,0,0,0,0,0,0,0,0,0,0,0,0,0,0,0,0,0,0,0,0,0,0,0,0,0,0,0,0,0,0,0,null,null,null,null,null,null,null,null,null,null,null,null,null,null,null,null,null,null,null,null,null,null,null,null,null,null,null,null,null,null,null,null,null,null,null,null,null,null,null,null,null,null,null,null,null,null,null,null,null,null,null,null,null,null,null,"RA600","_Z",{"$f":"EH19","v":"_Z"},"HPATAW","HP_EC","_Z","HPCAP","_Z","ENERGY","_Z","GW",null,"nrg_ind_hptctc","RA600","_Z","CAP_HEAT","ATH_AW_EC","GW","Agg.=SUM(countries)"]
[null,null,"of which SPF is above the minimum threshold",null,null,null,"[GW]",0,0,0,0,0,0,0,0,0,0,0,0,0,0,0,0,0,0,0,0,0,0,0,0,0,0,0,0,0,0,0,0,0,0,0,0,0,0,0,0,0,0,0,0,0,0,0,0,0,0,0,0,0,0,0,0,0,0,0,0,0,null,null,null,null,null,null,null,null,null,null,null,null,null,null,null,null,null,null,null,null,null,null,null,null,null,null,null,null,null,null,null,null,null,null,null,null,null,null,null,null,null,null,null,null,null,null,null,null,null,null,null,null,null,null,null,"RA600","_Z",{"$f":"EH20","v":"_Z"},"HPATAW","HP_EC","_Z","HPCAPABVTH","_Z","ENERGY","_Z","GW",null,"nrg_ind_hptctc","RA600","_Z","CAP_ABVTH","ATH_AW_EC","GW","Agg.=SUM(countries)"]
[null,null,"Equivalent full load hours of operation",null,null,null,"[h]",1710,1710,1710,1710,1710,1710,1710,1710,1710,1710,1710,1710,1710,1710,1602.0727248988101,1638.2054364988601,1500.28872199125,1648.6657578624399,1695.39504638672,1812.5803838489501,1830.4833546874299,1849.48904660537,1862.5391488323701,1899.8203159050399,1926.4376451078199,1937.45238377486,1939.1662565591901,1932.15598723226,1934.5433279295801,1938.1802805058601,1710,1710,1710,1710,1710,1710,1710,1710,1710,1710,1710,1710,1710,1710,1710,1710,1710,1710,1710,1710,1710,1710,1710,1710,1710,1710,1710,1710,1710,1710,1710,null,null,null,null,null,null,null,null,null,null,null,null,null,null,null,null,null,null,null,null,null,null,null,null,null,null,null,null,null,null,null,null,null,null,null,null,null,null,null,null,null,null,null,null,null,null,null,null,null,null,null,null,null,null,null,"RA600","_Z",{"$f":"EH21","v":"_Z"},"HPATAW","HP_EC","_Z","TUS","_Z","_Z","_Z","HR",null,"nrg_ind_hptctc","RA600","_Z","TIME_USE","ATH_AW_EC","HR","COUNTRY AGGREGATE IS NOT CALCULATED"]
[null,null,"Estimated average SPF",null,null,null,null,2.5,2.5,2.5,2.5,2.5,2.5,2.5,2.5,2.5,2.5,2.5,2.5,2.5,2.5,2.5761969173460799,2.6059457560628299,2.65178085208208,2.6890517705367101,2.7226124100467102,2.7502818722260001,2.7764271039493602,2.8039803198405502,2.8325361470969899,2.85937207902679,2.8833416949781001,2.9063422366259499,2.93035357084602,2.9571522395107901,2.9861500796252298,3.0160332792729498,2.5,2.5,2.5,2.5,2.5,2.5,2.5,2.5,2.5,2.5,2.5,2.5,2.5,2.5,2.5,2.5,2.5,2.5,2.5,2.5,2.5,2.5,2.5,2.5,2.5,2.5,2.5,2.5,2.5,2.5,2.5,null,null,null,null,null,null,null,null,null,null,null,null,null,null,null,null,null,null,null,null,null,null,null,null,null,null,null,null,null,null,null,null,null,null,null,null,null,null,null,null,null,null,null,null,null,null,null,null,null,null,null,null,null,null,null,"RA600","_Z",{"$f":"EH22","v":"_Z"},"HPATAW","HP_EC","_Z","SPF","_Z","_Z","_Z","NR",null,"nrg_ind_hptctc","RA600","_Z","SPERF_FACT","ATH_AW_EC","NR","COUNTRY AGGREGATE IS NOT CALCULATED"]
[null,null,"The amount of renewable energy supplied",null,null,null,"[GWh]",{"$f":"IF(H22>0,(H20*H21)*(1-1/H22),0)","v":0},0,0,0,0,0,0,0,0,0,0,0,0,0,0,0,0,{"$f":"IF(Y22>0,(Y20*Y21)*(1-1/Y22),0)","v":0},0,0,0,0,0,0,0,0,0,0,0,0,0,{"$f":"IF(AM22>0,(AM20*AM21)*(1-1/AM22),0)","v":0},0,0,0,0,0,0,0,0,0,0,0,0,0,0,0,0,0,0,0,0,0,0,0,0,0,0,0,0,0,null,null,null,null,null,null,null,null,null,null,null,null,null,null,null,null,null,null,null,null,null,null,null,null,null,null,null,null,null,null,null,null,null,null,null,null,null,null,null,null,null,null,null,null,null,null,null,null,null,null,null,null,null,null,null,"RA600","PRODUCT",{"$f":"EH23","v":"PPRD_RED"},"HPATAW","HP_EC","_Z","_Z","_Z","ENERGY","_Z","GWH",null,"nrg_ind_ahbtc","RA600","PPRD_RED","_Z","ATH_AW_EC","GWH","Agg.=SUM(countries)"]
[null,"Air-Air (reversible)"]
[null,null,"Capacity of heat pump installed",null,null,null,"[GW]",0,0,0,0,0,0,0,0,0,0,0,0,0,0,0,0,0,0,0,0,0,0,0,0,0,0,0,0,0,0,0,0,0,0,0,0,0,0,0,0,0,0,0,0,0,0,0,0,0,0,0,0,0,0,0,0,0,0,0,0,0,null,null,null,null,null,null,null,null,null,null,null,null,null,null,null,null,null,null,null,null,null,null,null,null,null,null,null,null,null,null,null,null,null,null,null,null,null,null,null,null,null,null,null,null,null,null,null,null,null,null,null,null,null,null,null,"RA600","_Z",{"$f":"EH25","v":"_Z"},"HPATAAR","HP_EC","_Z","HPCAP","_Z","ENERGY","_Z","GW",null,"nrg_ind_hptctc","RA600","_Z","CAP_HEAT","ATH_RAA_EC","GW","Agg.=SUM(countries)"]
[null,null,"of which SPF is above the minimum threshold",null,null,null,"[GW]",0,0,0,0,0,0,0,0,0,0,0,0,0,0,0,0,0,0,0,0,0,0,0,0,0,0,0,0,0,0,0,0,0,0,0,0,0,0,0,0,0,0,0,0,0,0,0,0,0,0,0,0,0,0,0,0,0,0,0,0,0,null,null,null,null,null,null,null,null,null,null,null,null,null,null,null,null,null,null,null,null,null,null,null,null,null,null,null,null,null,null,null,null,null,null,null,null,null,null,null,null,null,null,null,null,null,null,null,null,null,null,null,null,null,null,null,"RA600","_Z",{"$f":"EH26","v":"_Z"},"HPATAAR","HP_EC","_Z","HPCAPABVTH","_Z","ENERGY","_Z","GW",null,"nrg_ind_hptctc","RA600","_Z","CAP_ABVTH","ATH_RAA_EC","GW","Agg.=SUM(countries)"]
[null,null,"Equivalent full load hours of operation",null,null,null,"[h]",1970,1970,1970,1970,1970,1970,1970,1970,1970,1970,1970,1970,1970,1970,1970,1970,1970,1970,1970,1970,1970,1970,1970,1970,1970,1970,1970,1970,1970,1970,1970,1970,1970,1970,1970,1970,1970,1970,1970,1970,1970,1970,1970,1970,1970,1970,1970,1970,1970,1970,1970,1970,1970,1970,1970,1970,1970,1970,1970,1970,1970,null,null,null,null,null,null,null,null,null,null,null,null,null,null,null,null,null,null,null,null,null,null,null,null,null,null,null,null,null,null,null,null,null,null,null,null,null,null,null,null,null,null,null,null,null,null,null,null,null,null,null,null,null,null,null,"RA600","_Z",{"$f":"EH27","v":"_Z"},"HPATAAR","HP_EC","_Z","TUS","_Z","_Z","_Z","HR",null,"nrg_ind_hptctc","RA600","_Z","TIME_USE","ATH_RAA_EC","HR","COUNTRY AGGREGATE IS NOT CALCULATED"]
[null,null,"Estimated average SPF",null,null,null,null,2.5,2.5,2.5,2.5,2.5,2.5,2.5,2.5,2.5,2.5,2.5,2.5,2.5,2.5,2.5,2.5,2.5,2.5,2.5,2.5,2.5,2.5,2.5,2.5,2.5,2.5,2.5,2.5,2.5,2.5,2.5,2.5,2.5,2.5,2.5,2.5,2.5,2.5,2.5,2.5,2.5,2.5,2.5,2.5,2.5,2.5,2.5,2.5,2.5,2.5,2.5,2.5,2.5,2.5,2.5,2.5,2.5,2.5,2.5,2.5,2.5,null,null,null,null,null,null,null,null,null,null,null,null,null,null,null,null,null,null,null,null,null,null,null,null,null,null,null,null,null,null,null,null,null,null,null,null,null,null,null,null,null,null,null,null,null,null,null,null,null,null,null,null,null,null,null,"RA600","_Z",{"$f":"EH28","v":"_Z"},"HPATAAR","HP_EC","_Z","SPF","_Z","_Z","_Z","NR",null,"nrg_ind_hptctc","RA600","_Z","SPERF_FACT","ATH_RAA_EC","NR","COUNTRY AGGREGATE IS NOT CALCULATED"]
[null,null,"The amount of renewable energy supplied",null,null,null,"[GWh]",{"$f":"IF(H28>0,(H26*H27)*(1-1/H28),0)","v":0},0,0,0,0,0,0,0,0,0,0,0,0,0,0,0,0,0,0,0,0,0,0,0,0,0,0,0,0,0,0,{"$f":"IF(AM28>0,(AM26*AM27)*(1-1/AM28),0)","v":0},0,0,0,0,0,0,0,0,0,0,0,0,0,0,0,0,0,0,0,0,0,0,0,0,0,0,0,0,0,null,null,null,null,null,null,null,null,null,null,null,null,null,null,null,null,null,null,null,null,null,null,null,null,null,null,null,null,null,null,null,null,null,null,null,null,null,null,null,null,null,null,null,null,null,null,null,null,null,null,null,null,null,null,null,"RA600","PRODUCT",{"$f":"EH29","v":"PPRD_RED"},"HPATAAR","HP_EC","_Z","_Z","_Z","ENERGY","_Z","GWH",null,"nrg_ind_ahbtc","RA600","PPRD_RED","_Z","ATH_RAA_EC","GWH","Agg.=SUM(countries)"]
[null,"Air-Water (reversible)"]
[null,null,"Capacity of heat pump installed",null,null,null,"[GW]",0,0,0,0,0,0,0,0,0,0,0,0,0,0,0,0,0,0,0,0,0,0,0,0,0,0,0,0,0,0,0,0,0,0,0,0,0,0,0,0,0,0,0,0,0,0,0,0,0,0,0,0,0,0,0,0,0,0,0,0,0,null,null,null,null,null,null,null,null,null,null,null,null,null,null,null,null,null,null,null,null,null,null,null,null,null,null,null,null,null,null,null,null,null,null,null,null,null,null,null,null,null,null,null,null,null,null,null,null,null,null,null,null,null,null,null,"RA600","_Z",{"$f":"EH31","v":"_Z"},"HPATAWR","HP_EC","_Z","HPCAP","_Z","ENERGY","_Z","GW",null,"nrg_ind_hptctc","RA600","_Z","CAP_HEAT","ATH_RAW_EC","GW","Agg.=SUM(countries)"]
[null,null,"of which SPF is above the minimum threshold",null,null,null,"[GW]",0,0,0,0,0,0,0,0,0,0,0,0,0,0,0,0,0,0,0,0,0,0,0,0,0,0,0,0,0,0,0,0,0,0,0,0,0,0,0,0,0,0,0,0,0,0,0,0,0,0,0,0,0,0,0,0,0,0,0,0,0,null,null,null,null,null,null,null,null,null,null,null,null,null,null,null,null,null,null,null,null,null,null,null,null,null,null,null,null,null,null,null,null,null,null,null,null,null,null,null,null,null,null,null,null,null,null,null,null,null,null,null,null,null,null,null,"RA600","_Z",{"$f":"EH32","v":"_Z"},"HPATAWR","HP_EC","_Z","HPCAPABVTH","_Z","ENERGY","_Z","GW",null,"nrg_ind_hptctc","RA600","_Z","CAP_ABVTH","ATH_RAW_EC","GW","Agg.=SUM(countries)"]
[null,null,"Equivalent full load hours of operation",null,null,null,"[h]",1710,1710,1710,1710,1710,1710,1710,1710,1710,1710,1710,1710,1710,1710,1710,1710,1710,1710,1710,1710,1710,1710,1710,1710,1710,1710,1710,1710,1710,1710,1710,1710,1710,1710,1710,1710,1710,1710,1710,1710,1710,1710,1710,1710,1710,1710,1710,1710,1710,1710,1710,1710,1710,1710,1710,1710,1710,1710,1710,1710,1710,null,null,null,null,null,null,null,null,null,null,null,null,null,null,null,null,null,null,null,null,null,null,null,null,null,null,null,null,null,null,null,null,null,null,null,null,null,null,null,null,null,null,null,null,null,null,null,null,null,null,null,null,null,null,null,"RA600","_Z",{"$f":"EH33","v":"_Z"},"HPATAWR","HP_EC","_Z","TUS","_Z","_Z","_Z","HR",null,"nrg_ind_hptctc","RA600","_Z","TIME_USE","ATH_RAW_EC","HR","COUNTRY AGGREGATE IS NOT CALCULATED"]
[null,null,"Estimated average SPF",null,null,null,null,2.5,2.5,2.5,2.5,2.5,2.5,2.5,2.5,2.5,2.5,2.5,2.5,2.5,2.5,2.5,2.5,2.5,2.5,2.5,2.5,2.5,2.5,2.5,2.5,2.5,2.5,2.5,2.5,2.5,2.5,2.5,2.5,2.5,2.5,2.5,2.5,2.5,2.5,2.5,2.5,2.5,2.5,2.5,2.5,2.5,2.5,2.5,2.5,2.5,2.5,2.5,2.5,2.5,2.5,2.5,2.5,2.5,2.5,2.5,2.5,2.5,null,null,null,null,null,null,null,null,null,null,null,null,null,null,null,null,null,null,null,null,null,null,null,null,null,null,null,null,null,null,null,null,null,null,null,null,null,null,null,null,null,null,null,null,null,null,null,null,null,null,null,null,null,null,null,"RA600","_Z",{"$f":"EH34","v":"_Z"},"HPATAWR","HP_EC","_Z","SPF","_Z","_Z","_Z","NR",null,"nrg_ind_hptctc","RA600","_Z","SPERF_FACT","ATH_RAW_EC","NR","COUNTRY AGGREGATE IS NOT CALCULATED"]
[null,null,"The amount of renewable energy supplied",null,null,null,"[GWh]",{"$f":"IF(H34>0,(H32*H33)*(1-1/H34),0)","v":0},0,0,0,0,0,0,0,0,0,0,0,0,0,0,0,0,0,0,0,0,0,0,0,0,0,0,0,0,0,0,{"$f":"IF(AM34>0,(AM32*AM33)*(1-1/AM34),0)","v":0},0,0,0,0,0,0,0,0,0,0,0,0,0,0,0,0,0,0,0,0,0,0,0,0,0,0,0,0,0,null,null,null,null,null,null,null,null,null,null,null,null,null,null,null,null,null,null,null,null,null,null,null,null,null,null,null,null,null,null,null,null,null,null,null,null,null,null,null,null,null,null,null,null,null,null,null,null,null,null,null,null,null,null,null,"RA600","PRODUCT",{"$f":"EH35","v":"PPRD_RED"},"HPATAWR","HP_EC","_Z","_Z","_Z","ENERGY","_Z","GWH",null,"nrg_ind_ahbtc","RA600","PPRD_RED","_Z","ATH_RAW_EC","GWH","Agg.=SUM(countries)"]
[null,"Exhaust Air-Air"]
[null,null,"Capacity of heat pump installed",null,null,null,"[GW]",0,0,0,0,0,0,0,0,0,0,0,0,0,0,0,0,0,0,0,0,0,0,0,0,0,0,0,0,0,0,0,0,0,0,0,0,0,0,0,0,0,0,0,0,0,0,0,0,0,0,0,0,0,0,0,0,0,0,0,0,0,null,null,null,null,null,null,null,null,null,null,null,null,null,null,null,null,null,null,null,null,null,null,null,null,null,null,null,null,null,null,null,null,null,null,null,null,null,null,null,null,null,null,null,null,null,null,null,null,null,null,null,null,null,null,null,"RA600","_Z",{"$f":"EH37","v":"_Z"},"HPATEAA","HP_EC","_Z","HPCAP","_Z","ENERGY","_Z","GW",null,"nrg_ind_hptctc","RA600","_Z","CAP_HEAT","ATH_EAA_EC","GW","Agg.=SUM(countries)"]
[null,null,"of which SPF is above the minimum threshold",null,null,null,"[GW]",0,0,0,0,0,0,0,0,0,0,0,0,0,0,0,0,0,0,0,0,0,0,0,0,0,0,0,0,0,0,0,0,0,0,0,0,0,0,0,0,0,0,0,0,0,0,0,0,0,0,0,0,0,0,0,0,0,0,0,0,0,null,null,null,null,null,null,null,null,null,null,null,null,null,null,null,null,null,null,null,null,null,null,null,null,null,null,null,null,null,null,null,null,null,null,null,null,null,null,null,null,null,null,null,null,null,null,null,null,null,null,null,null,null,null,null,"RA600","_Z",{"$f":"EH38","v":"_Z"},"HPATEAA","HP_EC","_Z","HPCAPABVTH","_Z","ENERGY","_Z","GW",null,"nrg_ind_hptctc","RA600","_Z","CAP_ABVTH","ATH_EAA_EC","GW","Agg.=SUM(countries)"]
[null,null,"Equivalent full load hours of operation",null,null,null,"[h]",600,600,600,600,600,600,600,600,600,600,600,600,600,600,600,600,600,600,600,600,600,600,600,600,600,600,600,600,600,600,600,600,600,600,600,600,600,600,600,600,600,600,600,600,600,600,600,600,600,600,600,600,600,600,600,600,600,600,600,600,600,null,null,null,null,null,null,null,null,null,null,null,null,null,null,null,null,null,null,null,null,null,null,null,null,null,null,null,null,null,null,null,null,null,null,null,null,null,null,null,null,null,null,null,null,null,null,null,null,null,null,null,null,null,null,null,"RA600","_Z",{"$f":"EH39","v":"_Z"},"HPATEAA","HP_EC","_Z","TUS","_Z","_Z","_Z","HR",null,"nrg_ind_hptctc","RA600","_Z","TIME_USE","ATH_EAA_EC","HR","COUNTRY AGGREGATE IS NOT CALCULATED"]
[null,null,"Estimated average SPF",null,null,null,null,2.5,2.5,2.5,2.5,2.5,2.5,2.5,2.5,2.5,2.5,2.5,2.5,2.5,2.5,2.5,2.5,2.5,2.5,2.5,2.5,2.5,2.5,2.5,2.5,2.5,2.5,2.5,2.5,2.5,2.5,2.5,2.5,2.5,2.5,2.5,2.5,2.5,2.5,2.5,2.5,2.5,2.5,2.5,2.5,2.5,2.5,2.5,2.5,2.5,2.5,2.5,2.5,2.5,2.5,2.5,2.5,2.5,2.5,2.5,2.5,2.5,null,null,null,null,null,null,null,null,null,null,null,null,null,null,null,null,null,null,null,null,null,null,null,null,null,null,null,null,null,null,null,null,null,null,null,null,null,null,null,null,null,null,null,null,null,null,null,null,null,null,null,null,null,null,null,"RA600","_Z",{"$f":"EH40","v":"_Z"},"HPATEAA","HP_EC","_Z","SPF","_Z","_Z","_Z","NR",null,"nrg_ind_hptctc","RA600","_Z","SPERF_FACT","ATH_EAA_EC","NR","COUNTRY AGGREGATE IS NOT CALCULATED"]
[null,null,"The amount of renewable energy supplied",null,null,null,"[GWh]",{"$f":"IF(H40>0,(H38*H39)*(1-1/H40),0)","v":0},0,0,0,0,0,0,0,0,0,0,0,0,0,0,0,0,0,0,0,0,0,0,0,0,0,0,0,0,0,0,{"$f":"IF(AM40>0,(AM38*AM39)*(1-1/AM40),0)","v":0},0,0,0,0,0,0,0,0,0,0,0,0,0,0,0,0,0,0,0,0,0,0,0,0,0,0,0,0,0,null,null,null,null,null,null,null,null,null,null,null,null,null,null,null,null,null,null,null,null,null,null,null,null,null,null,null,null,null,null,null,null,null,null,null,null,null,null,null,null,null,null,null,null,null,null,null,null,null,null,null,null,null,null,null,"RA600","PRODUCT",{"$f":"EH41","v":"PPRD_RED"},"HPATEAA","HP_EC","_Z","_Z","_Z","ENERGY","_Z","GWH",null,"nrg_ind_ahbtc","RA600","PPRD_RED","_Z","ATH_EAA_EC","GWH","Agg.=SUM(countries)"]
[null,"Exhaust Air-Water"]
[null,null,"Capacity of heat pump installed",null,null,null,"[GW]",0,0,0,0,0,0,0,0,0,0,0,0,0,0,0,0,0,0,0,0,0,0,0,0,0,0,0,0,0,0,0,0,0,0,0,0,0,0,0,0,0,0,0,0,0,0,0,0,0,0,0,0,0,0,0,0,0,0,0,0,0,null,null,null,null,null,null,null,null,null,null,null,null,null,null,null,null,null,null,null,null,null,null,null,null,null,null,null,null,null,null,null,null,null,null,null,null,null,null,null,null,null,null,null,null,null,null,null,null,null,null,null,null,null,null,null,"RA600","_Z",{"$f":"EH43","v":"_Z"},"HPATAEW","HP_EC","_Z","HPCAP","_Z","ENERGY","_Z","GW",null,"nrg_ind_hptctc","RA600","_Z","CAP_HEAT","ATH_EAW_EC","GW","Agg.=SUM(countries)"]
[null,null,"of which SPF is above the minimum threshold",null,null,null,"[GW]",0,0,0,0,0,0,0,0,0,0,0,0,0,0,0,0,0,0,0,0,0,0,0,0,0,0,0,0,0,0,0,0,0,0,0,0,0,0,0,0,0,0,0,0,0,0,0,0,0,0,0,0,0,0,0,0,0,0,0,0,0,null,null,null,null,null,null,null,null,null,null,null,null,null,null,null,null,null,null,null,null,null,null,null,null,null,null,null,null,null,null,null,null,null,null,null,null,null,null,null,null,null,null,null,null,null,null,null,null,null,null,null,null,null,null,null,"RA600","_Z","_Z","HPATAEW","HP_EC","_Z","HPCAPABVTH","_Z","ENERGY","_Z","GW",null,"nrg_ind_hptctc","RA600","_Z","CAP_ABVTH","ATH_EAW_EC","GW","Agg.=SUM(countries)"]
[null,null,"Equivalent full load hours of operation",null,null,null,"[h]",600,600,600,600,600,600,600,600,600,600,600,600,600,600,576.335577788769,575.45952029806801,563.80039383380404,570.03734321693503,552.47258171195995,566.58215199725305,577.29937802106394,577.57312724544602,574.99593055982996,573.82523134965402,573.04975157702199,576.23501315246403,577.71503978036799,577.26935100962203,576.29394995064604,575.59052472134601,600,600,600,600,600,600,600,600,600,600,600,600,600,600,600,600,600,600,600,600,600,600,600,600,600,600,600,600,600,600,600,null,null,null,null,null,null,null,null,null,null,null,null,null,null,null,null,null,null,null,null,null,null,null,null,null,null,null,null,null,null,null,null,null,null,null,null,null,null,null,null,null,null,null,null,null,null,null,null,null,null,null,null,null,null,null,"RA600","_Z","_Z","HPATAEW","HP_EC","_Z","TUS","_Z","_Z","_Z","HR",null,"nrg_ind_hptctc","RA600","_Z","TIME_USE","ATH_EAW_EC","HR","COUNTRY AGGREGATE IS NOT CALCULATED"]
[null,null,"Estimated average SPF",null,null,null,null,2.5,2.5,2.5,2.5,2.5,2.5,2.5,2.5,2.5,2.5,2.5,2.5,2.5,2.5,2.6773548780429799,2.6951979805617601,2.7196271088133699,2.7461891044914899,2.7795577065104702,2.8138721569198601,2.8387626444685701,2.8606688407109,2.8861144189270602,2.9149892252948701,2.94877005666046,2.9814158805564799,3.0125593227449898,3.0425899587435801,3.0734571199705401,3.10539020009641,2.5,2.5,2.5,2.5,2.5,2.5,2.5,2.5,2.5,2.5,2.5,2.5,2.5,2.5,2.5,2.5,2.5,2.5,2.5,2.5,2.5,2.5,2.5,2.5,2.5,2.5,2.5,2.5,2.5,2.5,2.5,null,null,null,null,null,null,null,null,null,null,null,null,null,null,null,null,null,null,null,null,null,null,null,null,null,null,null,null,null,null,null,null,null,null,null,null,null,null,null,null,null,null,null,null,null,null,null,null,null,null,null,null,null,null,null,"RA600","_Z","_Z","HPATAEW","HP_EC","_Z","SPF","_Z","_Z","_Z","NR",null,"nrg_ind_hptctc","RA600","_Z","SPERF_FACT","ATH_EAW_EC","NR","COUNTRY AGGREGATE IS NOT CALCULATED"]
[null,null,"The amount of renewable energy supplied",null,null,null,"[GWh]",{"$f":"IF(H46>0,(H44*H45)*(1-1/H46),0)","v":0},0,0,0,0,0,0,0,0,0,0,0,0,0,0,0,0,0,0,0,0,0,0,0,0,0,0,0,0,0,0,{"$f":"IF(AM46>0,(AM44*AM45)*(1-1/AM46),0)","v":0},0,0,0,0,0,0,0,0,0,0,0,0,0,0,0,0,0,0,0,0,0,0,0,0,0,0,0,0,0,null,null,null,null,null,null,null,null,null,null,null,null,null,null,null,null,null,null,null,null,null,null,null,null,null,null,null,null,null,null,null,null,null,null,null,null,null,null,null,null,null,null,null,null,null,null,null,null,null,null,null,null,null,null,null,"RA600","PRODUCT","PPRD_RED","HPATAEW","HP_EC","_Z","_Z","_Z","ENERGY","_Z","GWH",null,"nrg_ind_ahbtc","RA600","PPRD_RED","_Z","ATH_EAW_EC","GWH","Agg.=SUM(countries)"]
["Geothermal energy",null,null,null,null,null,null,{"$f":"SUM(H54,H60)","v":0},0,0,0,0,0,0,0,0,0,0,0,0,0,0,0,0,0,0,0,0,0,0,0,0,0,0,0,0,0,{"$f":"SUM(AL54,AL60)","v":0},{"$f":"SUM(AM54,AM60)","v":0},0,0,0,0,0,0,0,0,0,0,0,0,0,0,0,0,0,0,0,0,0,0,0,0,0,0,0,0,0,null,null,null,null,null,null,null,null,null,null,null,null,null,null,null,null,null,null,null,null,null,null,null,null,null,null,null,null,null,null,null,null,null,null,null,null,null,null,null,null,null,null,null,null,null,null,null,null,null,null,null,null,null,null,null,"RA600","PRODUCT","PPRD_RED","HPGT","HP_EC","_Z","_Z","_Z","ENERGY","_Z","GWH",null,"nrg_ind_ahbtc","RA600","PPRD_RED","_Z","GTH_EC","GWH","Agg.=SUM(countries)"]
[null,"Ground-Air"]
[null,null,"Capacity of heat pump installed",null,null,null,"[GW]",0,0,0,0,0,0,0,0,0,0,0,0,0,0,0,0,0,0,0,0,0,0,0,0,0,0,0,0,0,0,0,0,0,0,0,0,0,0,0,0,0,0,0,0,0,0,0,0,0,0,0,0,0,0,0,0,0,0,0,0,0,null,null,null,null,null,null,null,null,null,null,null,null,null,null,null,null,null,null,null,null,null,null,null,null,null,null,null,null,null,null,null,null,null,null,null,null,null,null,null,null,null,null,null,null,null,null,null,null,null,null,null,null,null,null,null,"RA600","_Z",{"$f":"EH50","v":"_Z"},"HPGTGA","HP_EC","_Z","HPCAP","_Z","ENERGY","_Z","GW",null,"nrg_ind_hptctc","RA600","_Z","CAP_HEAT","GTH_GA_EC","GW","Agg.=SUM(countries)"]
[null,null,"of which SPF is above the minimum threshold",null,null,null,"[GW]",0,0,0,0,0,0,0,0,0,0,0,0,0,0,0,0,0,0,0,0,0,0,0,0,0,0,0,0,0,0,0,0,0,0,0,0,0,0,0,0,0,0,0,0,0,0,0,0,0,0,0,0,0,0,0,0,0,0,0,0,0,null,null,null,null,null,null,null,null,null,null,null,null,null,null,null,null,null,null,null,null,null,null,null,null,null,null,null,null,null,null,null,null,null,null,null,null,null,null,null,null,null,null,null,null,null,null,null,null,null,null,null,null,null,null,null,"RA600","_Z",{"$f":"EH51","v":"_Z"},"HPGTGA","HP_EC","_Z","HPCAPABVTH","_Z","ENERGY","_Z","GW",null,"nrg_ind_hptctc","RA600","_Z","CAP_ABVTH","GTH_GA_EC","GW","Agg.=SUM(countries)"]
[null,null,"Equivalent full load hours of operation",null,null,null,"[h]",2470,2470,2470,2470,2470,2470,2470,2470,2470,2470,2470,2470,2470,2470,2470,2470,2470,2470,2470,2470,2470,2470,2470,2470,2470,2470,2470,2470,2470,2470,2470,2470,2470,2470,2470,2470,2470,2470,2470,2470,2470,2470,2470,2470,2470,2470,2470,2470,2470,2470,2470,2470,2470,2470,2470,2470,2470,2470,2470,2470,2470,null,null,null,null,null,null,null,null,null,null,null,null,null,null,null,null,null,null,null,null,null,null,null,null,null,null,null,null,null,null,null,null,null,null,null,null,null,null,null,null,null,null,null,null,null,null,null,null,null,null,null,null,null,null,null,"RA600","_Z",{"$f":"EH52","v":"_Z"},"HPGTGA","HP_EC","_Z","TUS","_Z","_Z","_Z","HR",null,"nrg_ind_hptctc","RA600","_Z","TIME_USE","GTH_GA_EC","HR","COUNTRY AGGREGATE IS NOT CALCULATED"]
[null,null,"Estimated average SPF",null,null,null,null,3.2,3.2,3.2,3.2,3.2,3.2,3.2,3.2,3.2,3.2,3.2,3.2,3.2,3.2,3.2,3.2,3.2,3.2,3.2,3.2,3.2,3.2,3.2,3.2,3.2,3.2,3.2,3.2,3.2,3.2,3.2,3.2,3.2,3.2,3.2,3.2,3.2,3.2,3.2,3.2,3.2,3.2,3.2,3.2,3.2,3.2,3.2,3.2,3.2,3.2,3.2,3.2,3.2,3.2,3.2,3.2,3.2,3.2,3.2,3.2,3.2,null,null,null,null,null,null,null,null,null,null,null,null,null,null,null,null,null,null,null,null,null,null,null,null,null,null,null,null,null,null,null,null,null,null,null,null,null,null,null,null,null,null,null,null,null,null,null,null,null,null,null,null,null,null,null,"RA600","_Z",{"$f":"EH53","v":"_Z"},"HPGTGA","HP_EC","_Z","SPF","_Z","_Z","_Z","NR",null,"nrg_ind_hptctc","RA600","_Z","SPERF_FACT","GTH_GA_EC","NR","COUNTRY AGGREGATE IS NOT CALCULATED"]
[null,null,"The amount of renewable energy supplied",null,null,null,"[GWh]",{"$f":"IF(H53>0,(H51*H52)*(1-1/H53),0)","v":0},0,0,0,0,0,0,0,0,0,0,0,0,0,0,0,0,0,0,0,0,0,0,0,0,0,0,0,0,0,0,{"$f":"IF(AM53>0,(AM51*AM52)*(1-1/AM53),0)","v":0},0,0,0,0,0,0,0,0,0,0,0,0,0,0,0,0,0,0,0,0,0,0,0,0,0,0,0,0,0,null,null,null,null,null,null,null,null,null,null,null,null,null,null,null,null,null,null,null,null,null,null,null,null,null,null,null,null,null,null,null,null,null,null,null,null,null,null,null,null,null,null,null,null,null,null,null,null,null,null,null,null,null,null,null,"RA600","PRODUCT",{"$f":"EH54","v":"PPRD_RED"},"HPGTGA","HP_EC","_Z","_Z","_Z","ENERGY","_Z","GWH",null,"nrg_ind_ahbtc","RA600","PPRD_RED","_Z","GTH_GA_EC","GWH","Agg.=SUM(countries)"]
[null,"Ground-Water"]
[null,null,"Capacity of heat pump installed",null,null,null,"[GW]",0,0,0,0,0,0,0,0,0,0,0,0,0,0,0,0,0,0,0,0,0,0,0,0,0,0,0,0,0,0,0,0,0,0,0,0,0,0,0,0,0,0,0,0,0,0,0,0,0,0,0,0,0,0,0,0,0,0,0,0,0,null,null,null,null,null,null,null,null,null,null,null,null,null,null,null,null,null,null,null,null,null,null,null,null,null,null,null,null,null,null,null,null,null,null,null,null,null,null,null,null,null,null,null,null,null,null,null,null,null,null,null,null,null,null,null,"RA600","_Z",{"$f":"EH56","v":"_Z"},"HPGTGW","HP_EC","_Z","HPCAP","_Z","ENERGY","_Z","GW",null,"nrg_ind_hptctc","RA600","_Z","CAP_HEAT","GTH_GW_EC","GW","Agg.=SUM(countries)"]
[null,null,"of which SPF is above the minimum threshold",null,null,null,"[GW]",0,0,0,0,0,0,0,0,0,0,0,0,0,0,0,0,0,0,0,0,0,0,0,0,0,0,0,0,0,0,0,0,0,0,0,0,0,0,0,0,0,0,0,0,0,0,0,0,0,0,0,0,0,0,0,0,0,0,0,0,0,null,null,null,null,null,null,null,null,null,null,null,null,null,null,null,null,null,null,null,null,null,null,null,null,null,null,null,null,null,null,null,null,null,null,null,null,null,null,null,null,null,null,null,null,null,null,null,null,null,null,null,null,null,null,null,"RA600","_Z","_Z","HPGTGW","HP_EC","_Z","HPCAPABVTH","_Z","ENERGY","_Z","GW",null,"nrg_ind_hptctc","RA600","_Z","CAP_ABVTH","GTH_GW_EC","GW","Agg.=SUM(countries)"]
[null,null,"Equivalent full load hours of operation",null,null,null,"[h]",2470,2470,2470,2470,2470,2470,2470,2470,2470,2470,2470,2470,2470,2470,1932.1269038001501,1909.57303114557,1797.5689902271099,1878.11436270328,1872.7073689835399,1911.4409007962599,1928.6347728313599,1954.46511855161,1960.28354144747,1974.5985679471401,1982.2211197909101,1998.2579370398601,1992.16718383016,1996.5865143835399,1996.13142782971,2002.1669641881499,2470,2470,2470,2470,2470,2470,2470,2470,2470,2470,2470,2470,2470,2470,2470,2470,2470,2470,2470,2470,2470,2470,2470,2470,2470,2470,2470,2470,2470,2470,2470,null,null,null,null,null,null,null,null,null,null,null,null,null,null,null,null,null,null,null,null,null,null,null,null,null,null,null,null,null,null,null,null,null,null,null,null,null,null,null,null,null,null,null,null,null,null,null,null,null,null,null,null,null,null,null,"RA600","_Z","_Z","HPGTGW","HP_EC","_Z","TUS","_Z","_Z","_Z","HR",null,"nrg_ind_hptctc","RA600","_Z","TIME_USE","GTH_GW_EC","HR","COUNTRY AGGREGATE IS NOT CALCULATED"]
[null,null,"Estimated average SPF",null,null,null,null,3.5,3.5,3.5,3.5,3.5,3.5,3.5,3.5,3.5,3.5,3.5,3.5,3.5,3.5,3.2978546674688398,3.3462907299136702,3.4102592763161201,3.4670362246721398,3.5102826121785302,3.54623012552711,3.5757302083687299,3.60056665679515,3.6212906403606802,3.6399655057620501,3.6569534408711699,3.6720882331269502,3.6870841286346701,3.7031165331239602,3.7197895119016402,3.7367961490020698,3.5,3.5,3.5,3.5,3.5,3.5,3.5,3.5,3.5,3.5,3.5,3.5,3.5,3.5,3.5,3.5,3.5,3.5,3.5,3.5,3.5,3.5,3.5,3.5,3.5,3.5,3.5,3.5,3.5,3.5,3.5,null,null,null,null,null,null,null,null,null,null,null,null,null,null,null,null,null,null,null,null,null,null,null,null,null,null,null,null,null,null,null,null,null,null,null,null,null,null,null,null,null,null,null,null,null,null,null,null,null,null,null,null,null,null,null,"RA600","_Z","_Z","HPGTGW","HP_EC","_Z","SPF","_Z","_Z","_Z","NR",null,"nrg_ind_hptctc","RA600","_Z","SPERF_FACT","GTH_GW_EC","NR","COUNTRY AGGREGATE IS NOT CALCULATED"]
[null,null,"The amount of renewable energy supplied",null,null,null,"[GWh]",{"$f":"IF(H59>0,(H57*H58)*(1-1/H59),0)","v":0},0,0,0,0,0,0,0,0,0,0,0,0,0,0,0,0,0,0,0,0,0,0,0,0,0,0,0,0,0,0,{"$f":"IF(AM59>0,(AM57*AM58)*(1-1/AM59),0)","v":0},0,0,0,0,0,0,0,0,0,0,0,0,0,0,0,0,0,0,0,0,0,0,0,0,0,0,0,0,0,null,null,null,null,null,null,null,null,null,null,null,null,null,null,null,null,null,null,null,null,null,null,null,null,null,null,null,null,null,null,null,null,null,null,null,null,null,null,null,null,null,null,null,null,null,null,null,null,null,null,null,null,null,null,null,"RA600","PRODUCT","PPRD_RED","HPGTGW","HP_EC","_Z","_Z","_Z","ENERGY","_Z","GWH",null,"nrg_ind_ahbtc","RA600","PPRD_RED","_Z","GTH_GW_EC","GWH","Agg.=SUM(countries)"]
["Hydrothermal heat",null,null,null,null,null,null,{"$f":"SUM(H67,H73)","v":0},0,0,0,0,0,0,0,0,0,0,0,0,0,0,0,0,0,0,0,0,0,0,0,0,0,0,0,0,0,{"$f":"SUM(AL67,AL73)","v":0},{"$f":"SUM(AM67,AM73)","v":0},0,0,0,0,0,0,0,0,0,0,0,0,0,0,0,0,0,0,0,0,0,0,0,0,0,0,0,0,0,null,null,null,null,null,null,null,null,null,null,null,null,null,null,null,null,null,null,null,null,null,null,null,null,null,null,null,null,null,null,null,null,null,null,null,null,null,null,null,null,null,null,null,null,null,null,null,null,null,null,null,null,null,null,null,"RA600","PRODUCT","PPRD_RED","HPHT","HP_EC","_Z","_Z","_Z","ENERGY","_Z","GWH",null,"nrg_ind_ahbtc","RA600","PPRD_RED","_Z","HTH_EC","GWH"]
[null,"Water-Air"]
[null,null,"Capacity of heat pump installed",null,null,null,"[GW]",0,0,0,0,0,0,0,0,0,0,0,0,0,0,0,0,0,0,0,0,0,0,0,0,0,0,0,0,0,0,0,0,0,0,0,0,0,0,0,0,0,0,0,0,0,0,0,0,0,0,0,0,0,0,0,0,0,0,0,0,0,null,null,null,null,null,null,null,null,null,null,null,null,null,null,null,null,null,null,null,null,null,null,null,null,null,null,null,null,null,null,null,null,null,null,null,null,null,null,null,null,null,null,null,null,null,null,null,null,null,null,null,null,null,null,null,"RA600","_Z",{"$f":"EH63","v":"_Z"},"HPHTWA","HP_EC","_Z","HPCAP","_Z","ENERGY","_Z","GW",null,"nrg_ind_hptctc","RA600","_Z","CAP_HEAT","HTH_WA_EC","GW","Agg.=SUM(countries)"]
[null,null,"of which SPF is above the minimum threshold",null,null,null,"[GW]",0,0,0,0,0,0,0,0,0,0,0,0,0,0,0,0,0,0,0,0,0,0,0,0,0,0,0,0,0,0,0,0,0,0,0,0,0,0,0,0,0,0,0,0,0,0,0,0,0,0,0,0,0,0,0,0,0,0,0,0,0,null,null,null,null,null,null,null,null,null,null,null,null,null,null,null,null,null,null,null,null,null,null,null,null,null,null,null,null,null,null,null,null,null,null,null,null,null,null,null,null,null,null,null,null,null,null,null,null,null,null,null,null,null,null,null,"RA600","_Z",{"$f":"EH64","v":"_Z"},"HPHTWA","HP_EC","_Z","HPCAPABVTH","_Z","ENERGY","_Z","GW",null,"nrg_ind_hptctc","RA600","_Z","CAP_ABVTH","HTH_WA_EC","GW","Agg.=SUM(countries)"]
[null,null,"Equivalent full load hours of operation",null,null,null,"[h]",2470,2470,2470,2470,2470,2470,2470,2470,2470,2470,2470,2470,2470,2470,2470,2470,2470,2470,2470,2470,2470,2470,2470,2470,2470,2470,2470,2470,2470,2470,2470,2470,2470,2470,2470,2470,2470,2470,2470,2470,2470,2470,2470,2470,2470,2470,2470,2470,2470,2470,2470,2470,2470,2470,2470,2470,2470,2470,2470,2470,2470,null,null,null,null,null,null,null,null,null,null,null,null,null,null,null,null,null,null,null,null,null,null,null,null,null,null,null,null,null,null,null,null,null,null,null,null,null,null,null,null,null,null,null,null,null,null,null,null,null,null,null,null,null,null,null,"RA600","_Z",{"$f":"EH65","v":"_Z"},"HPHTWA","HP_EC","_Z","TUS","_Z","_Z","_Z","HR",null,"nrg_ind_hptctc","RA600","_Z","TIME_USE","HTH_WA_EC","HR","COUNTRY AGGREGATE IS NOT CALCULATED"]
[null,null,"Estimated average SPF",null,null,null,null,3.2,3.2,3.2,3.2,3.2,3.2,3.2,3.2,3.2,3.2,3.2,3.2,3.2,3.2,3.2,3.2,3.2,3.2,3.2,3.2,3.2,3.2,3.2,3.2,3.2,3.2,3.2,3.2,3.2,3.2,3.2,3.2,3.2,3.2,3.2,3.2,3.2,3.2,3.2,3.2,3.2,3.2,3.2,3.2,3.2,3.2,3.2,3.2,3.2,3.2,3.2,3.2,3.2,3.2,3.2,3.2,3.2,3.2,3.2,3.2,3.2,null,null,null,null,null,null,null,null,null,null,null,null,null,null,null,null,null,null,null,null,null,null,null,null,null,null,null,null,null,null,null,null,null,null,null,null,null,null,null,null,null,null,null,null,null,null,null,null,null,null,null,null,null,null,null,"RA600","_Z",{"$f":"EH66","v":"_Z"},"HPHTWA","HP_EC","_Z","SPF","_Z","_Z","_Z","NR",null,"nrg_ind_hptctc","RA600","_Z","SPERF_FACT","HTH_WA_EC","NR","COUNTRY AGGREGATE IS NOT CALCULATED"]
[null,null,"The amount of renewable energy supplied",null,null,null,"[GWh]",{"$f":"IF(H66>0,(H64*H65)*(1-1/H66),0)","v":0},0,0,0,0,0,0,0,0,0,0,0,0,0,0,0,0,0,0,0,0,0,0,0,0,0,0,0,0,0,0,{"$f":"IF(AM66>0,(AM64*AM65)*(1-1/AM66),0)","v":0},0,0,0,0,0,0,0,0,0,0,0,0,0,0,0,0,0,0,0,0,0,0,0,0,0,0,0,0,0,null,null,null,null,null,null,null,null,null,null,null,null,null,null,null,null,null,null,null,null,null,null,null,null,null,null,null,null,null,null,null,null,null,null,null,null,null,null,null,null,null,null,null,null,null,null,null,null,null,null,null,null,null,null,null,"RA600","PRODUCT",{"$f":"EH67","v":"PPRD_RED"},"HPHTWA","HP_EC","_Z","_Z","_Z","ENERGY","_Z","GWH",null,"nrg_ind_ahbtc","RA600","PPRD_RED","_Z","HTH_WA_EC","GWH","Agg.=SUM(countries)"]
[null,"Water-Water"]
[null,null,"Capacity of heat pump installed",null,null,null,"[GW]",0,0,0,0,0,0,0,0,0,0,0,0,0,0,0,0,0,0,0,0,0,0,0,0,0,0,0,0,0,0,0,0,0,0,0,0,0,0,0,0,0,0,0,0,0,0,0,0,0,0,0,0,0,0,0,0,0,0,0,0,0,null,null,null,null,null,null,null,null,null,null,null,null,null,null,null,null,null,null,null,null,null,null,null,null,null,null,null,null,null,null,null,null,null,null,null,null,null,null,null,null,null,null,null,null,null,null,null,null,null,null,null,null,null,null,null,"RA600","_Z",{"$f":"EH69","v":"_Z"},"HPHTWW","HP_EC","_Z","HPCAP","_Z","ENERGY","_Z","GW",null,"nrg_ind_hptctc","RA600","_Z","CAP_HEAT","HTH_WW_EC","GW","Agg.=SUM(countries)"]
[null,null,"of which SPF is above the minimum threshold",null,null,null,"[GW]",0,0,0,0,0,0,0,0,0,0,0,0,0,0,0,0,0,0,0,0,0,0,0,0,0,0,0,0,0,0,0,0,0,0,0,0,0,0,0,0,0,0,0,0,0,0,0,0,0,0,0,0,0,0,0,0,0,0,0,0,0,null,null,null,null,null,null,null,null,null,null,null,null,null,null,null,null,null,null,null,null,null,null,null,null,null,null,null,null,null,null,null,null,null,null,null,null,null,null,null,null,null,null,null,null,null,null,null,null,null,null,null,null,null,null,null,"RA600","_Z",{"$f":"EH70","v":"_Z"},"HPHTWW","HP_EC","_Z","HPCAPABVTH","_Z","ENERGY","_Z","GW",null,"nrg_ind_hptctc","RA600","_Z","CAP_ABVTH","HTH_WW_EC","GW","Agg.=SUM(countries)"]
[null,null,"Equivalent full load hours of operation",null,null,null,"[h]",2470,2470,2470,2470,2470,2470,2470,2470,2470,2470,2470,2470,2470,2470,1953.1810169719799,1929.9283034196701,1862.7306042397599,1902.4894338920501,1894.17813329604,1922.59503363775,1952.0734477241499,1962.3611441753501,1970.28171525209,1980.3199941370201,1992.96808530318,1993.9705746407999,1997.8493942247701,1999.40656041189,2003.0573738437299,2018.1499052172701,2470,2470,2470,2470,2470,2470,2470,2470,2470,2470,2470,2470,2470,2470,2470,2470,2470,2470,2470,2470,2470,2470,2470,2470,2470,2470,2470,2470,2470,2470,2470,null,null,null,null,null,null,null,null,null,null,null,null,null,null,null,null,null,null,null,null,null,null,null,null,null,null,null,null,null,null,null,null,null,null,null,null,null,null,null,null,null,null,null,null,null,null,null,null,null,null,null,null,null,null,null,"RA600","_Z",{"$f":"EH71","v":"_Z"},"HPHTWW","HP_EC","_Z","TUS","_Z","_Z","_Z","HR",null,"nrg_ind_hptctc","RA600","_Z","TIME_USE","HTH_WW_EC","HR","COUNTRY AGGREGATE IS NOT CALCULATED"]
[null,null,"Estimated average SPF",null,null,null,null,3.5,3.5,3.5,3.5,3.5,3.5,3.5,3.5,3.5,3.5,3.5,3.5,3.5,3.5,3.2922775640658899,3.3349973448629799,3.3884408007877398,3.4395864002462599,3.4827567227417999,3.52013820346433,3.5499819884568802,3.5753753858389801,3.5974376278927398,3.6173531114245101,3.6351895784853201,3.6522128262017599,3.6695144531512298,3.6869710109563498,3.7046537574469798,3.7206742400320301,3.5,3.5,3.5,3.5,3.5,3.5,3.5,3.5,3.5,3.5,3.5,3.5,3.5,3.5,3.5,3.5,3.5,3.5,3.5,3.5,3.5,3.5,3.5,3.5,3.5,3.5,3.5,3.5,3.5,3.5,3.5,null,null,null,null,null,null,null,null,null,null,null,null,null,null,null,null,null,null,null,null,null,null,null,null,null,null,null,null,null,null,null,null,null,null,null,null,null,null,null,null,null,null,null,null,null,null,null,null,null,null,null,null,null,null,null,"RA600","_Z",{"$f":"EH72","v":"_Z"},"HPHTWW","HP_EC","_Z","SPF","_Z","_Z","_Z","NR",null,"nrg_ind_hptctc","RA600","_Z","SPERF_FACT","HTH_WW_EC","NR","COUNTRY AGGREGATE IS NOT CALCULATED"]
[null,null,"The amount of renewable energy supplied",null,null,null,"[GWh]",{"$f":"IF(H72>0,(H70*H71)*(1-1/H72),0)","v":0},0,0,0,0,0,0,0,0,0,0,0,0,0,0,0,0,0,0,0,0,0,0,0,0,0,0,0,0,0,0,{"$f":"IF(AM72>0,(AM70*AM71)*(1-1/AM72),0)","v":0},0,0,0,0,0,0,0,0,0,0,0,0,0,0,0,0,0,0,0,0,0,0,0,0,0,0,0,0,0,null,null,null,null,null,null,null,null,null,null,null,null,null,null,null,null,null,null,null,null,null,null,null,null,null,null,null,null,null,null,null,null,null,null,null,null,null,null,null,null,null,null,null,null,null,null,null,null,null,null,null,null,null,null,null,"RA600","PRODUCT",{"$f":"EH73","v":"PPRD_RED"},"HPHTWW","HP_EC","_Z","_Z","_Z","ENERGY","_Z","GWH",null,"nrg_ind_ahbtc","RA600","PPRD_RED","_Z","HTH_WW_EC","GWH","Agg.=SUM(countries)"]
[]
["ELECTRICALLY DRIVEN HEAT PUMPS in AVERAGE CLIMATE"]
["Aerothermal energy",null,null,null,null,null,null,{"$f":"SUM(H82,H88,H94,H100,H106,H112)","v":0},0,0,0,0,0,0,0,0,0,0,0,0,0,0,0,0,0,0,0,0,0,0,0,0,0,0,0,0,0,{"$f":"SUM(AL82,AL88,AL94,AL100,AL106,AL112)","v":0},{"$f":"SUM(AM82,AM88,AM94,AM100,AM106,AM112)","v":0},0,0,0,0,0,0,0,0,0,0,0,0,0,0,0,0,0,0,0,0,0,0,0,0,0,0,0,0,0,null,null,null,null,null,null,null,null,null,null,null,null,null,null,null,null,null,null,null,null,null,null,null,null,null,null,null,null,null,null,null,null,null,null,null,null,null,null,null,null,null,null,null,null,null,null,null,null,null,null,null,null,null,null,null,"RA600","PRODUCT",{"$f":"EH76","v":"PPRD_RED"},"HPAT","HP_EA","_Z","_Z","_Z","ENERGY","_Z","GWH",null,"nrg_ind_ahbtc","RA600","PPRD_RED","_Z","ATH_EA","GWH","Agg.=SUM(countries)"]
[null,"Air-Air"]
[null,null,"Capacity of heat pump installed",null,null,null,"[GW]",0,0,0,0,0,0,0,0,0,0,0,0,0,0,0,0,0,0,0,0,0,0,0,0,0,0,0,0,0,0,0,0,0,0,0,0,0,0,0,0,0,0,0,0,0,0,0,0,0,0,0,0,0,0,0,0,0,0,0,0,0,null,null,null,null,null,null,null,null,null,null,null,null,null,null,null,null,null,null,null,null,null,null,null,null,null,null,null,null,null,null,null,null,null,null,null,null,null,null,null,null,null,null,null,null,null,null,null,null,null,null,null,null,null,null,null,"RA600","_Z",{"$f":"EH78","v":"_Z"},"HPATAA","HP_EA","_Z","HPCAP","_Z","ENERGY","_Z","GW",null,"nrg_ind_hptctc","RA600","_Z","CAP_HEAT","ATH_AA_EA","GW","Agg.=SUM(countries)"]
[null,null,"of which SPF is above the minimum threshold",null,null,null,"[GW]",0,0,0,0,0,0,0,0,0,0,0,0,0,0,0,0,0,0,0,0,0,0,0,0,0,0,0,0,0,0,0,0,0,0,0,0,0,0,0,0,0,0,0,0,0,0,0,0,0,0,0,0,0,0,0,0,0,0,0,0,0,null,null,null,null,null,null,null,null,null,null,null,null,null,null,null,null,null,null,null,null,null,null,null,null,null,null,null,null,null,null,null,null,null,null,null,null,null,null,null,null,null,null,null,null,null,null,null,null,null,null,null,null,null,null,null,"RA600","_Z",{"$f":"EH79","v":"_Z"},"HPATAA","HP_EA","_Z","HPCAPABVTH","_Z","ENERGY","_Z","GW",null,"nrg_ind_hptctc","RA600","_Z","CAP_ABVTH","ATH_AA_EA","GW","Agg.=SUM(countries)"]
[null,null,"Equivalent full load hours of operation",null,null,null,"[h]",1770,1770,1770,1770,1770,1770,1770,1770,1770,1770,1770,1770,1770,1770,1770,1770,1770,1770,1770,1770,1770,1770,1770,1770,1770,1770,1770,1770,1770,1770,1770,1770,1770,1770,1770,1770,1770,1770,1770,1770,1770,1770,1770,1770,1770,1770,1770,1770,1770,1770,1770,1770,1770,1770,1770,1770,1770,1770,1770,1770,1770,null,null,null,null,null,null,null,null,null,null,null,null,null,null,null,null,null,null,null,null,null,null,null,null,null,null,null,null,null,null,null,null,null,null,null,null,null,null,null,null,null,null,null,null,null,null,null,null,null,null,null,null,null,null,null,"RA600","_Z",{"$f":"EH80","v":"_Z"},"HPATAA","HP_EA","_Z","TUS","_Z","_Z","_Z","HR",null,"nrg_ind_hptctc","RA600","_Z","TIME_USE","ATH_AA_EA","HR","COUNTRY AGGREGATE IS NOT CALCULATED"]
[null,null,"Estimated average SPF",null,null,null,null,2.6,2.6,2.6,2.6,2.6,2.6,2.6,2.6,2.6,2.6,2.6,2.6,2.6,2.6,2.6,2.6,2.6,2.6,2.6,2.6,2.6,2.6,2.6,2.6,2.6,2.6,2.6,2.6,2.6,2.6,2.6,2.6,2.6,2.6,2.6,2.6,2.6,2.6,2.6,2.6,2.6,2.6,2.6,2.6,2.6,2.6,2.6,2.6,2.6,2.6,2.6,2.6,2.6,2.6,2.6,2.6,2.6,2.6,2.6,2.6,2.6,null,null,null,null,null,null,null,null,null,null,null,null,null,null,null,null,null,null,null,null,null,null,null,null,null,null,null,null,null,null,null,null,null,null,null,null,null,null,null,null,null,null,null,null,null,null,null,null,null,null,null,null,null,null,null,"RA600","_Z",{"$f":"EH81","v":"_Z"},"HPATAA","HP_EA","_Z","SPF","_Z","_Z","_Z","NR",null,"nrg_ind_hptctc","RA600","_Z","SPERF_FACT","ATH_AA_EA","NR","COUNTRY AGGREGATE IS NOT CALCULATED"]
[null,null,"The amount of renewable energy supplied",null,null,null,"[GWh]",{"$f":"IF(H81>0,(H79*H80)*(1-1/H81),0)","v":0},0,0,0,0,0,0,0,0,0,0,0,0,0,0,0,0,0,0,0,0,0,0,0,0,0,0,0,0,0,0,{"$f":"IF(AM81>0,(AM79*AM80)*(1-1/AM81),0)","v":0},0,0,0,0,0,0,0,0,0,0,0,0,0,0,0,0,0,0,0,0,0,0,0,0,0,0,0,0,0,null,null,null,null,null,null,null,null,null,null,null,null,null,null,null,null,null,null,null,null,null,null,null,null,null,null,null,null,null,null,null,null,null,null,null,null,null,null,null,null,null,null,null,null,null,null,null,null,null,null,null,null,null,null,null,"RA600","PRODUCT",{"$f":"EH82","v":"PPRD_RED"},"HPATAA","HP_EA","_Z","_Z","_Z","ENERGY","_Z","GWH",null,"nrg_ind_ahbtc","RA600","PPRD_RED","_Z","ATH_AA_EA","GWH","Agg.=SUM(countries)"]
[null,"Air-Water"]
[null,null,"Capacity of heat pump installed",null,null,null,"[GW]",0,0,0,0,0,0,0,0,0,0,0,0,0,0,0,0,0,0,0,0,0,0,0,0,0,0,0,0,0,0,0,0,0,0,0,0,0,0,0,0,0,0,0,0,0,0,0,0,0,0,0,0,0,0,0,0,0,0,0,0,0,null,null,null,null,null,null,null,null,null,null,null,null,null,null,null,null,null,null,null,null,null,null,null,null,null,null,null,null,null,null,null,null,null,null,null,null,null,null,null,null,null,null,null,null,null,null,null,null,null,null,null,null,null,null,null,"RA600","_Z",{"$f":"EH84","v":"_Z"},"HPATAW","HP_EA","_Z","HPCAP","_Z","ENERGY","_Z","GW",null,"nrg_ind_hptctc","RA600","_Z","CAP_HEAT","ATH_AW_EA","GW","Agg.=SUM(countries)"]
[null,null,"of which SPF is above the minimum threshold",null,null,null,"[GW]",0,0,0,0,0,0,0,0,0,0,0,0,0,0,0,0,0,0,0,0,0,0,0,0,0,0,0,0,0,0,0,0,0,0,0,0,0,0,0,0,0,0,0,0,0,0,0,0,0,0,0,0,0,0,0,0,0,0,0,0,0,null,null,null,null,null,null,null,null,null,null,null,null,null,null,null,null,null,null,null,null,null,null,null,null,null,null,null,null,null,null,null,null,null,null,null,null,null,null,null,null,null,null,null,null,null,null,null,null,null,null,null,null,null,null,null,"RA600","_Z",{"$f":"EH85","v":"_Z"},"HPATAW","HP_EA","_Z","HPCAPABVTH","_Z","ENERGY","_Z","GW",null,"nrg_ind_hptctc","RA600","_Z","CAP_ABVTH","ATH_AW_EA","GW","Agg.=SUM(countries)"]
[null,null,"Equivalent full load hours of operation",null,null,null,"[h]",1640,1640,1640,1640,1640,1640,1640,1640,1640,1640,1640,1640,1640,1640,1640,1640,1640,1640,1640,1640,1640,1640,1640,1640,1640,1640,1640,1640,1640,1640,1640,1640,1640,1640,1640,1640,1640,1640,1640,1640,1640,1640,1640,1640,1640,1640,1640,1640,1640,1640,1640,1640,1640,1640,1640,1640,1640,1640,1640,1640,1640,null,null,null,null,null,null,null,null,null,null,null,null,null,null,null,null,null,null,null,null,null,null,null,null,null,null,null,null,null,null,null,null,null,null,null,null,null,null,null,null,null,null,null,null,null,null,null,null,null,null,null,null,null,null,null,"RA600","_Z",{"$f":"EH86","v":"_Z"},"HPATAW","HP_EA","_Z","TUS","_Z","_Z","_Z","HR",null,"nrg_ind_hptctc","RA600","_Z","TIME_USE","ATH_AW_EA","HR","COUNTRY AGGREGATE IS NOT CALCULATED"]
[null,null,"Estimated average SPF",null,null,null,null,2.6,2.6,2.6,2.6,2.6,2.6,2.6,2.6,2.6,2.6,2.6,2.6,2.6,2.6,2.6,2.6,2.6,2.6,2.6,2.6,2.6,2.6,2.6,2.6,2.6,2.6,2.6,2.6,2.6,2.6,2.6,2.6,2.6,2.6,2.6,2.6,2.6,2.6,2.6,2.6,2.6,2.6,2.6,2.6,2.6,2.6,2.6,2.6,2.6,2.6,2.6,2.6,2.6,2.6,2.6,2.6,2.6,2.6,2.6,2.6,2.6,null,null,null,null,null,null,null,null,null,null,null,null,null,null,null,null,null,null,null,null,null,null,null,null,null,null,null,null,null,null,null,null,null,null,null,null,null,null,null,null,null,null,null,null,null,null,null,null,null,null,null,null,null,null,null,"RA600","_Z",{"$f":"EH87","v":"_Z"},"HPATAW","HP_EA","_Z","SPF","_Z","_Z","_Z","NR",null,"nrg_ind_hptctc","RA600","_Z","SPERF_FACT","ATH_AW_EA","NR","COUNTRY AGGREGATE IS NOT CALCULATED"]
[null,null,"The amount of renewable energy supplied",null,null,null,"[GWh]",{"$f":"IF(H87>0,(H85*H86)*(1-1/H87),0)","v":0},0,0,0,0,0,0,0,0,0,0,0,0,0,0,0,0,0,0,0,0,0,0,0,0,0,0,0,0,0,0,{"$f":"IF(AM87>0,(AM85*AM86)*(1-1/AM87),0)","v":0},0,0,0,0,0,0,0,0,0,0,0,0,0,0,0,0,0,0,0,0,0,0,0,0,0,0,0,0,0,null,null,null,null,null,null,null,null,null,null,null,null,null,null,null,null,null,null,null,null,null,null,null,null,null,null,null,null,null,null,null,null,null,null,null,null,null,null,null,null,null,null,null,null,null,null,null,null,null,null,null,null,null,null,null,"RA600","PRODUCT",{"$f":"EH88","v":"PPRD_RED"},"HPATAW","HP_EA","_Z","_Z","_Z","ENERGY","_Z","GWH",null,"nrg_ind_ahbtc","RA600","PPRD_RED","_Z","ATH_AW_EA","GWH","Agg.=SUM(countries)"]
[null,"Air-Air (reversible)"]
[null,null,"Capacity of heat pump installed",null,null,null,"[GW]",0,0,0,0,0,0,0,0,0,0,0,0,0,0,0,0,0,0,0,0,0,0,0,0,0,0,0,0,0,0,0,0,0,0,0,0,0,0,0,0,0,0,0,0,0,0,0,0,0,0,0,0,0,0,0,0,0,0,0,0,0,null,null,null,null,null,null,null,null,null,null,null,null,null,null,null,null,null,null,null,null,null,null,null,null,null,null,null,null,null,null,null,null,null,null,null,null,null,null,null,null,null,null,null,null,null,null,null,null,null,null,null,null,null,null,null,"RA600","_Z",{"$f":"EH90","v":"_Z"},"HPATAAR","HP_EA","_Z","HPCAP","_Z","ENERGY","_Z","GW",null,"nrg_ind_hptctc","RA600","_Z","CAP_HEAT","ATH_RAA_EA","GW","Agg.=SUM(countries)"]
[null,null,"of which SPF is above the minimum threshold",null,null,null,"[GW]",0,0,0,0,0,0,0,0,0,0,0,0,0,0,0,0,0,0,0,0,0,0,0,0,0,0,0,0,0,0,0,0,0,0,0,0,0,0,0,0,0,0,0,0,0,0,0,0,0,0,0,0,0,0,0,0,0,0,0,0,0,null,null,null,null,null,null,null,null,null,null,null,null,null,null,null,null,null,null,null,null,null,null,null,null,null,null,null,null,null,null,null,null,null,null,null,null,null,null,null,null,null,null,null,null,null,null,null,null,null,null,null,null,null,null,null,"RA600","_Z",{"$f":"EH91","v":"_Z"},"HPATAAR","HP_EA","_Z","HPCAPABVTH","_Z","ENERGY","_Z","GW",null,"nrg_ind_hptctc","RA600","_Z","CAP_ABVTH","ATH_RAA_EA","GW","Agg.=SUM(countries)"]
[null,null,"Equivalent full load hours of operation",null,null,null,"[h]",710,710,710,710,710,710,710,710,710,710,710,710,710,710,710,710,710,710,710,710,710,710,710,710,710,710,710,710,710,710,710,710,710,710,710,710,710,710,710,710,710,710,710,710,710,710,710,710,710,710,710,710,710,710,710,710,710,710,710,710,710,null,null,null,null,null,null,null,null,null,null,null,null,null,null,null,null,null,null,null,null,null,null,null,null,null,null,null,null,null,null,null,null,null,null,null,null,null,null,null,null,null,null,null,null,null,null,null,null,null,null,null,null,null,null,null,"RA600","_Z",{"$f":"EH92","v":"_Z"},"HPATAAR","HP_EA","_Z","TUS","_Z","_Z","_Z","HR",null,"nrg_ind_hptctc","RA600","_Z","TIME_USE","ATH_RAA_EA","HR","COUNTRY AGGREGATE IS NOT CALCULATED"]
[null,null,"Estimated average SPF",null,null,null,null,2.6,2.6,2.6,2.6,2.6,2.6,2.6,2.6,2.6,2.6,2.6,2.6,2.6,2.6,2.6,2.6,2.6,2.6,2.6,2.6,2.6,2.6,2.6,2.6,2.6,2.6,2.6,2.6,2.6,2.6,2.6,2.6,2.6,2.6,2.6,2.6,2.6,2.6,2.6,2.6,2.6,2.6,2.6,2.6,2.6,2.6,2.6,2.6,2.6,2.6,2.6,2.6,2.6,2.6,2.6,2.6,2.6,2.6,2.6,2.6,2.6,null,null,null,null,null,null,null,null,null,null,null,null,null,null,null,null,null,null,null,null,null,null,null,null,null,null,null,null,null,null,null,null,null,null,null,null,null,null,null,null,null,null,null,null,null,null,null,null,null,null,null,null,null,null,null,"RA600","_Z",{"$f":"EH93","v":"_Z"},"HPATAAR","HP_EA","_Z","SPF","_Z","_Z","_Z","NR",null,"nrg_ind_hptctc","RA600","_Z","SPERF_FACT","ATH_RAA_EA","NR","COUNTRY AGGREGATE IS NOT CALCULATED"]
[null,null,"The amount of renewable energy supplied",null,null,null,"[GWh]",{"$f":"IF(H93>0,(H91*H92)*(1-1/H93),0)","v":0},0,0,0,0,0,0,0,0,0,0,0,0,0,0,0,0,0,0,0,0,0,0,0,0,0,0,0,0,0,0,{"$f":"IF(AM93>0,(AM91*AM92)*(1-1/AM93),0)","v":0},0,0,0,0,0,0,0,0,0,0,0,0,0,0,0,0,0,0,0,0,0,0,0,0,0,0,0,0,0,null,null,null,null,null,null,null,null,null,null,null,null,null,null,null,null,null,null,null,null,null,null,null,null,null,null,null,null,null,null,null,null,null,null,null,null,null,null,null,null,null,null,null,null,null,null,null,null,null,null,null,null,null,null,null,"RA600","PRODUCT",{"$f":"EH94","v":"PPRD_RED"},"HPATAAR","HP_EA","_Z","_Z","_Z","ENERGY","_Z","GWH",null,"nrg_ind_ahbtc","RA600","PPRD_RED","_Z","ATH_RAA_EA","GWH","Agg.=SUM(countries)"]
[null,"Air-Water (reversible)"]
[null,null,"Capacity of heat pump installed",null,null,null,"[GW]",0,0,0,0,0,0,0,0,0,0,0,0,0,0,0,0,0,0,0,0,0,0,0,0,0,0,0,0,0,0,0,0,0,0,0,0,0,0,0,0,0,0,0,0,0,0,0,0,0,0,0,0,0,0,0,0,0,0,0,0,0,null,null,null,null,null,null,null,null,null,null,null,null,null,null,null,null,null,null,null,null,null,null,null,null,null,null,null,null,null,null,null,null,null,null,null,null,null,null,null,null,null,null,null,null,null,null,null,null,null,null,null,null,null,null,null,"RA600","_Z",{"$f":"EH96","v":"_Z"},"HPATAWR","HP_EA","_Z","HPCAP","_Z","ENERGY","_Z","GW",null,"nrg_ind_hptctc","RA600","_Z","CAP_HEAT","ATH_RAW_EA","GW","Agg.=SUM(countries)"]
[null,null,"of which SPF is above the minimum threshold",null,null,null,"[GW]",0,0,0,0,0,0,0,0,0,0,0,0,0,0,0,0,0,0,0,0,0,0,0,0,0,0,0,0,0,0,0,0,0,0,0,0,0,0,0,0,0,0,0,0,0,0,0,0,0,0,0,0,0,0,0,0,0,0,0,0,0,null,null,null,null,null,null,null,null,null,null,null,null,null,null,null,null,null,null,null,null,null,null,null,null,null,null,null,null,null,null,null,null,null,null,null,null,null,null,null,null,null,null,null,null,null,null,null,null,null,null,null,null,null,null,null,"RA600","_Z",{"$f":"EH97","v":"_Z"},"HPATAWR","HP_EA","_Z","HPCAPABVTH","_Z","ENERGY","_Z","GW",null,"nrg_ind_hptctc","RA600","_Z","CAP_ABVTH","ATH_RAW_EA","GW","Agg.=SUM(countries)"]
[null,null,"Equivalent full load hours of operation",null,null,null,"[h]",660,660,660,660,660,660,660,660,660,660,660,660,660,660,660,660,660,660,660,660,660,660,660,660,660,660,660,660,660,660,660,660,660,660,660,660,660,660,660,660,660,660,660,660,660,660,660,660,660,660,660,660,660,660,660,660,660,660,660,660,660,null,null,null,null,null,null,null,null,null,null,null,null,null,null,null,null,null,null,null,null,null,null,null,null,null,null,null,null,null,null,null,null,null,null,null,null,null,null,null,null,null,null,null,null,null,null,null,null,null,null,null,null,null,null,null,"RA600","_Z",{"$f":"EH98","v":"_Z"},"HPATAWR","HP_EA","_Z","TUS","_Z","_Z","_Z","HR",null,"nrg_ind_hptctc","RA600","_Z","TIME_USE","ATH_RAW_EA","HR","COUNTRY AGGREGATE IS NOT CALCULATED"]
[null,null,"Estimated average SPF",null,null,null,null,2.6,2.6,2.6,2.6,2.6,2.6,2.6,2.6,2.6,2.6,2.6,2.6,2.6,2.6,2.6,2.6,2.6,2.6,2.6,2.6,2.6,2.6,2.6,2.6,2.6,2.6,2.6,2.6,2.6,2.6,2.6,2.6,2.6,2.6,2.6,2.6,2.6,2.6,2.6,2.6,2.6,2.6,2.6,2.6,2.6,2.6,2.6,2.6,2.6,2.6,2.6,2.6,2.6,2.6,2.6,2.6,2.6,2.6,2.6,2.6,2.6,null,null,null,null,null,null,null,null,null,null,null,null,null,null,null,null,null,null,null,null,null,null,null,null,null,null,null,null,null,null,null,null,null,null,null,null,null,null,null,null,null,null,null,null,null,null,null,null,null,null,null,null,null,null,null,"RA600","_Z",{"$f":"EH99","v":"_Z"},"HPATAWR","HP_EA","_Z","SPF","_Z","_Z","_Z","NR",null,"nrg_ind_hptctc","RA600","_Z","SPERF_FACT","ATH_RAW_EA","NR","COUNTRY AGGREGATE IS NOT CALCULATED"]
[null,null,"The amount of renewable energy supplied",null,null,null,"[GWh]",{"$f":"IF(H99>0,(H97*H98)*(1-1/H99),0)","v":0},0,0,0,0,0,0,0,0,0,0,0,0,0,0,0,0,0,0,0,0,0,0,0,0,0,0,0,0,0,0,{"$f":"IF(AM99>0,(AM97*AM98)*(1-1/AM99),0)","v":0},0,0,0,0,0,0,0,0,0,0,0,0,0,0,0,0,0,0,0,0,0,0,0,0,0,0,0,0,0,null,null,null,null,null,null,null,null,null,null,null,null,null,null,null,null,null,null,null,null,null,null,null,null,null,null,null,null,null,null,null,null,null,null,null,null,null,null,null,null,null,null,null,null,null,null,null,null,null,null,null,null,null,null,null,"RA600","PRODUCT",{"$f":"EH100","v":"PPRD_RED"},"HPATAWR","HP_EA","_Z","_Z","_Z","ENERGY","_Z","GWH",null,"nrg_ind_ahbtc","RA600","PPRD_RED","_Z","ATH_RAW_EA","GWH","Agg.=SUM(countries)"]
[null,"Exhaust Air-Air"]
[null,null,"Capacity of heat pump installed",null,null,null,"[GW]",0,0,0,0,0,0,0,0,0,0,0,0,0,0,0,0,0,0,0,0,0,0,0,0,0,0,0,0,0,0,0,0,0,0,0,0,0,0,0,0,0,0,0,0,0,0,0,0,0,0,0,0,0,0,0,0,0,0,0,0,0,null,null,null,null,null,null,null,null,null,null,null,null,null,null,null,null,null,null,null,null,null,null,null,null,null,null,null,null,null,null,null,null,null,null,null,null,null,null,null,null,null,null,null,null,null,null,null,null,null,null,null,null,null,null,null,"RA600","_Z",{"$f":"EH102","v":"_Z"},"HPATEAA","HP_EA","_Z","HPCAP","_Z","ENERGY","_Z","GW",null,"nrg_ind_hptctc","RA600","_Z","CAP_HEAT","ATH_EAA_EA","GW","Agg.=SUM(countries)"]
[null,null,"of which SPF is above the minimum threshold",null,null,null,"[GW]",0,0,0,0,0,0,0,0,0,0,0,0,0,0,0,0,0,0,0,0,0,0,0,0,0,0,0,0,0,0,0,0,0,0,0,0,0,0,0,0,0,0,0,0,0,0,0,0,0,0,0,0,0,0,0,0,0,0,0,0,0,null,null,null,null,null,null,null,null,null,null,null,null,null,null,null,null,null,null,null,null,null,null,null,null,null,null,null,null,null,null,null,null,null,null,null,null,null,null,null,null,null,null,null,null,null,null,null,null,null,null,null,null,null,null,null,"RA600","_Z",{"$f":"EH103","v":"_Z"},"HPATEAA","HP_EA","_Z","HPCAPABVTH","_Z","ENERGY","_Z","GW",null,"nrg_ind_hptctc","RA600","_Z","CAP_ABVTH","ATH_EAA_EA","GW","Agg.=SUM(countries)"]
[null,null,"Equivalent full load hours of operation",null,null,null,"[h]",660,660,660,660,660,660,660,660,660,660,660,660,660,660,660,660,660,660,660,660,660,660,660,660,660,660,660,660,660,660,660,660,660,660,660,660,660,660,660,660,660,660,660,660,660,660,660,660,660,660,660,660,660,660,660,660,660,660,660,660,660,null,null,null,null,null,null,null,null,null,null,null,null,null,null,null,null,null,null,null,null,null,null,null,null,null,null,null,null,null,null,null,null,null,null,null,null,null,null,null,null,null,null,null,null,null,null,null,null,null,null,null,null,null,null,null,"RA600","_Z",{"$f":"EH104","v":"_Z"},"HPATEAA","HP_EA","_Z","TUS","_Z","_Z","_Z","HR",null,"nrg_ind_hptctc","RA600","_Z","TIME_USE","ATH_EAA_EA","HR","COUNTRY AGGREGATE IS NOT CALCULATED"]
[null,null,"Estimated average SPF",null,null,null,null,2.6,2.6,2.6,2.6,2.6,2.6,2.6,2.6,2.6,2.6,2.6,2.6,2.6,2.6,2.6,2.6,2.6,2.6,2.6,2.6,2.6,2.6,2.6,2.6,2.6,2.6,2.6,2.6,2.6,2.6,2.6,2.6,2.6,2.6,2.6,2.6,2.6,2.6,2.6,2.6,2.6,2.6,2.6,2.6,2.6,2.6,2.6,2.6,2.6,2.6,2.6,2.6,2.6,2.6,2.6,2.6,2.6,2.6,2.6,2.6,2.6,null,null,null,null,null,null,null,null,null,null,null,null,null,null,null,null,null,null,null,null,null,null,null,null,null,null,null,null,null,null,null,null,null,null,null,null,null,null,null,null,null,null,null,null,null,null,null,null,null,null,null,null,null,null,null,"RA600","_Z",{"$f":"EH105","v":"_Z"},"HPATEAA","HP_EA","_Z","SPF","_Z","_Z","_Z","NR",null,"nrg_ind_hptctc","RA600","_Z","SPERF_FACT","ATH_EAA_EA","NR","COUNTRY AGGREGATE IS NOT CALCULATED"]
[null,null,"The amount of renewable energy supplied",null,null,null,"[GWh]",{"$f":"IF(H105>0,(H103*H104)*(1-1/H105),0)","v":0},0,0,0,0,0,0,0,0,0,0,0,0,0,0,0,0,0,0,0,0,0,0,0,0,0,0,0,0,0,0,{"$f":"IF(AM105>0,(AM103*AM104)*(1-1/AM105),0)","v":0},0,0,0,0,0,0,0,0,0,0,0,0,0,0,0,0,0,0,0,0,0,0,0,0,0,0,0,0,0,null,null,null,null,null,null,null,null,null,null,null,null,null,null,null,null,null,null,null,null,null,null,null,null,null,null,null,null,null,null,null,null,null,null,null,null,null,null,null,null,null,null,null,null,null,null,null,null,null,null,null,null,null,null,null,"RA600","PRODUCT",{"$f":"EH106","v":"PPRD_RED"},"HPATEAA","HP_EA","_Z","_Z","_Z","ENERGY","_Z","GWH",null,"nrg_ind_ahbtc","RA600","PPRD_RED","_Z","ATH_EAA_EA","GWH","Agg.=SUM(countries)"]
[null,"Exhaust Air-Water"]
[null,null,"Capacity of heat pump installed",null,null,null,"[GW]",0,0,0,0,0,0,0,0,0,0,0,0,0,0,0,0,0,0,0,0,0,0,0,0,0,0,0,0,0,0,0,0,0,0,0,0,0,0,0,0,0,0,0,0,0,0,0,0,0,0,0,0,0,0,0,0,0,0,0,0,0,null,null,null,null,null,null,null,null,null,null,null,null,null,null,null,null,null,null,null,null,null,null,null,null,null,null,null,null,null,null,null,null,null,null,null,null,null,null,null,null,null,null,null,null,null,null,null,null,null,null,null,null,null,null,null,"RA600","_Z",{"$f":"EH108","v":"_Z"},"HPATAEW","HP_EA","_Z","HPCAP","_Z","ENERGY","_Z","GW",null,"nrg_ind_hptctc","RA600","_Z","CAP_HEAT","ATH_EAW_EA","GW","Agg.=SUM(countries)"]
[null,null,"of which SPF is above the minimum threshold",null,null,null,"[GW]",0,0,0,0,0,0,0,0,0,0,0,0,0,0,0,0,0,0,0,0,0,0,0,0,0,0,0,0,0,0,0,0,0,0,0,0,0,0,0,0,0,0,0,0,0,0,0,0,0,0,0,0,0,0,0,0,0,0,0,0,0,null,null,null,null,null,null,null,null,null,null,null,null,null,null,null,null,null,null,null,null,null,null,null,null,null,null,null,null,null,null,null,null,null,null,null,null,null,null,null,null,null,null,null,null,null,null,null,null,null,null,null,null,null,null,null,"RA600","_Z","_Z","HPATAEW","HP_EA","_Z","HPCAPABVTH","_Z","ENERGY","_Z","GW",null,"nrg_ind_hptctc","RA600","_Z","CAP_ABVTH","ATH_EAW_EA","GW","Agg.=SUM(countries)"]
[null,null,"Equivalent full load hours of operation",null,null,null,"[h]",600,600,600,600,600,600,600,600,600,600,600,600,600,600,660,660,660,660,660,660,660,660,660,660,660,660,660,660,660,660,660,660,660,660,660,660,660,660,660,660,660,660,660,660,660,660,660,660,660,660,660,660,660,660,660,660,660,660,660,660,660,null,null,null,null,null,null,null,null,null,null,null,null,null,null,null,null,null,null,null,null,null,null,null,null,null,null,null,null,null,null,null,null,null,null,null,null,null,null,null,null,null,null,null,null,null,null,null,null,null,null,null,null,null,null,null,"RA600","_Z","_Z","HPATAEW","HP_EA","_Z","TUS","_Z","_Z","_Z","HR",null,"nrg_ind_hptctc","RA600","_Z","TIME_USE","ATH_EAW_EA","HR","COUNTRY AGGREGATE IS NOT CALCULATED"]
[null,null,"Estimated average SPF",null,null,null,null,2.6,2.6,2.6,2.6,2.6,2.6,2.6,2.6,2.6,2.6,2.6,2.6,2.6,2.6,2.6,2.6,2.6,2.6,2.6,2.6,2.6,2.6,2.6,2.6,2.6,2.6,2.6,2.6,2.6,2.6,2.6,2.6,2.6,2.6,2.6,2.6,2.6,2.6,2.6,2.6,2.6,2.6,2.6,2.6,2.6,2.6,2.6,2.6,2.6,2.6,2.6,2.6,2.6,2.6,2.6,2.6,2.6,2.6,2.6,2.6,2.6,null,null,null,null,null,null,null,null,null,null,null,null,null,null,null,null,null,null,null,null,null,null,null,null,null,null,null,null,null,null,null,null,null,null,null,null,null,null,null,null,null,null,null,null,null,null,null,null,null,null,null,null,null,null,null,"RA600","_Z","_Z","HPATAEW","HP_EA","_Z","SPF","_Z","_Z","_Z","NR",null,"nrg_ind_hptctc","RA600","_Z","SPERF_FACT","ATH_EAW_EA","NR","COUNTRY AGGREGATE IS NOT CALCULATED"]
[null,null,"The amount of renewable energy supplied",null,null,null,"[GWh]",{"$f":"IF(H111>0,(H109*H110)*(1-1/H111),0)","v":0},0,0,0,0,0,0,0,0,0,0,0,0,0,0,0,0,0,0,0,0,0,0,0,0,0,0,0,0,0,0,{"$f":"IF(AM111>0,(AM109*AM110)*(1-1/AM111),0)","v":0},0,0,0,0,0,0,0,0,0,0,0,0,0,0,0,0,0,0,0,0,0,0,0,0,0,0,0,0,0,null,null,null,null,null,null,null,null,null,null,null,null,null,null,null,null,null,null,null,null,null,null,null,null,null,null,null,null,null,null,null,null,null,null,null,null,null,null,null,null,null,null,null,null,null,null,null,null,null,null,null,null,null,null,null,"RA600","PRODUCT","PPRD_RED","HPATAEW","HP_EA","_Z","_Z","_Z","ENERGY","_Z","GWH",null,"nrg_ind_ahbtc","RA600","PPRD_RED","_Z","ATH_EAW_EA","GWH","Agg.=SUM(countries)"]
["Geothermal energy",null,null,null,null,null,null,{"$f":"SUM(H119,H125)","v":0},0,0,0,0,0,0,0,0,0,0,0,0,0,0,0,0,0,0,0,0,0,0,0,0,0,0,0,0,0,{"$f":"SUM(AL119,AL125)","v":0},{"$f":"SUM(AM119,AM125)","v":0},0,0,0,0,0,0,0,0,0,0,0,0,0,0,0,0,0,0,0,0,0,0,0,0,0,0,0,0,0,null,null,null,null,null,null,null,null,null,null,null,null,null,null,null,null,null,null,null,null,null,null,null,null,null,null,null,null,null,null,null,null,null,null,null,null,null,null,null,null,null,null,null,null,null,null,null,null,null,null,null,null,null,null,null,"RA600","PRODUCT","PPRD_RED","HPGT","HP_EA","_Z","_Z","_Z","ENERGY","_Z","GWH",null,"nrg_ind_ahbtc","RA600","PPRD_RED","_Z","GTH_EA","GWH","Agg.=SUM(countries)"]
[null,"Ground-Air"]
[null,null,"Capacity of heat pump installed",null,null,null,"[GW]",0,0,0,0,0,0,0,0,0,0,0,0,0,0,0,0,0,0,0,0,0,0,0,0,0,0,0,0,0,0,0,0,0,0,0,0,0,0,0,0,0,0,0,0,0,0,0,0,0,0,0,0,0,0,0,0,0,0,0,0,0,null,null,null,null,null,null,null,null,null,null,null,null,null,null,null,null,null,null,null,null,null,null,null,null,null,null,null,null,null,null,null,null,null,null,null,null,null,null,null,null,null,null,null,null,null,null,null,null,null,null,null,null,null,null,null,"RA600","_Z",{"$f":"EH115","v":"_Z"},"HPGTGA","HP_EA","_Z","HPCAP","_Z","ENERGY","_Z","GW",null,"nrg_ind_hptctc","RA600","_Z","CAP_HEAT","GTH_GA_EA","GW","Agg.=SUM(countries)"]
[null,null,"of which SPF is above the minimum threshold",null,null,null,"[GW]",0,0,0,0,0,0,0,0,0,0,0,0,0,0,0,0,0,0,0,0,0,0,0,0,0,0,0,0,0,0,0,0,0,0,0,0,0,0,0,0,0,0,0,0,0,0,0,0,0,0,0,0,0,0,0,0,0,0,0,0,0,null,null,null,null,null,null,null,null,null,null,null,null,null,null,null,null,null,null,null,null,null,null,null,null,null,null,null,null,null,null,null,null,null,null,null,null,null,null,null,null,null,null,null,null,null,null,null,null,null,null,null,null,null,null,null,"RA600","_Z",{"$f":"EH116","v":"_Z"},"HPGTGA","HP_EA","_Z","HPCAPABVTH","_Z","ENERGY","_Z","GW",null,"nrg_ind_hptctc","RA600","_Z","CAP_ABVTH","GTH_GA_EA","GW","Agg.=SUM(countries)"]
[null,null,"Equivalent full load hours of operation",null,null,null,"[h]",2070,2070,2070,2070,2070,2070,2070,2070,2070,2070,2070,2070,2070,2070,2070,2070,2070,2070,2070,2070,2070,2070,2070,2070,2070,2070,2070,2070,2070,2070,2070,2070,2070,2070,2070,2070,2070,2070,2070,2070,2070,2070,2070,2070,2070,2070,2070,2070,2070,2070,2070,2070,2070,2070,2070,2070,2070,2070,2070,2070,2070,null,null,null,null,null,null,null,null,null,null,null,null,null,null,null,null,null,null,null,null,null,null,null,null,null,null,null,null,null,null,null,null,null,null,null,null,null,null,null,null,null,null,null,null,null,null,null,null,null,null,null,null,null,null,null,"RA600","_Z",{"$f":"EH117","v":"_Z"},"HPGTGA","HP_EA","_Z","TUS","_Z","_Z","_Z","HR",null,"nrg_ind_hptctc","RA600","_Z","TIME_USE","GTH_GA_EA","HR","COUNTRY AGGREGATE IS NOT CALCULATED"]
[null,null,"Estimated average SPF",null,null,null,null,3.2,3.2,3.2,3.2,3.2,3.2,3.2,3.2,3.2,3.2,3.2,3.2,3.2,3.2,3.2,3.2,3.2,3.2,3.2,3.2,3.2,3.2,3.2,3.2,3.2,3.2,3.2,3.2,3.2,3.2,3.2,3.2,3.2,3.2,3.2,3.2,3.2,3.2,3.2,3.2,3.2,3.2,3.2,3.2,3.2,3.2,3.2,3.2,3.2,3.2,3.2,3.2,3.2,3.2,3.2,3.2,3.2,3.2,3.2,3.2,3.2,null,null,null,null,null,null,null,null,null,null,null,null,null,null,null,null,null,null,null,null,null,null,null,null,null,null,null,null,null,null,null,null,null,null,null,null,null,null,null,null,null,null,null,null,null,null,null,null,null,null,null,null,null,null,null,"RA600","_Z",{"$f":"EH118","v":"_Z"},"HPGTGA","HP_EA","_Z","SPF","_Z","_Z","_Z","NR",null,"nrg_ind_hptctc","RA600","_Z","SPERF_FACT","GTH_GA_EA","NR","COUNTRY AGGREGATE IS NOT CALCULATED"]
[null,null,"The amount of renewable energy supplied",null,null,null,"[GWh]",{"$f":"IF(H118>0,(H116*H117)*(1-1/H118),0)","v":0},0,0,0,0,0,0,0,0,0,0,0,0,0,0,0,0,0,0,0,0,0,0,0,0,0,0,0,0,0,0,{"$f":"IF(AM118>0,(AM116*AM117)*(1-1/AM118),0)","v":0},0,0,0,0,0,0,0,0,0,0,0,0,0,0,0,0,0,0,0,0,0,0,0,0,0,0,0,0,0,null,null,null,null,null,null,null,null,null,null,null,null,null,null,null,null,null,null,null,null,null,null,null,null,null,null,null,null,null,null,null,null,null,null,null,null,null,null,null,null,null,null,null,null,null,null,null,null,null,null,null,null,null,null,null,"RA600","PRODUCT",{"$f":"EH119","v":"PPRD_RED"},"HPGTGA","HP_EA","_Z","_Z","_Z","ENERGY","_Z","GWH",null,"nrg_ind_ahbtc","RA600","PPRD_RED","_Z","GTH_GA_EA","GWH","Agg.=SUM(countries)"]
[null,"Ground-Water"]
[null,null,"Capacity of heat pump installed",null,null,null,"[GW]",0,0,0,0,0,0,0,0,0,0,0,0,0,0,0,0,0,0,0,0,0,0,0,0,0,0,0,0,0,0,0,0,0,0,0,0,0,0,0,0,0,0,0,0,0,0,0,0,0,0,0,0,0,0,0,0,0,0,0,0,0,null,null,null,null,null,null,null,null,null,null,null,null,null,null,null,null,null,null,null,null,null,null,null,null,null,null,null,null,null,null,null,null,null,null,null,null,null,null,null,null,null,null,null,null,null,null,null,null,null,null,null,null,null,null,null,"RA600","_Z",{"$f":"EH121","v":"_Z"},"HPGTGW","HP_EA","_Z","HPCAP","_Z","ENERGY","_Z","GW",null,"nrg_ind_hptctc","RA600","_Z","CAP_HEAT","GTH_GW_EA","GW","Agg.=SUM(countries)"]
[null,null,"of which SPF is above the minimum threshold",null,null,null,"[GW]",0,0,0,0,0,0,0,0,0,0,0,0,0,0,0,0,0,0,0,0,0,0,0,0,0,0,0,0,0,0,0,0,0,0,0,0,0,0,0,0,0,0,0,0,0,0,0,0,0,0,0,0,0,0,0,0,0,0,0,0,0,null,null,null,null,null,null,null,null,null,null,null,null,null,null,null,null,null,null,null,null,null,null,null,null,null,null,null,null,null,null,null,null,null,null,null,null,null,null,null,null,null,null,null,null,null,null,null,null,null,null,null,null,null,null,null,"RA600","_Z","_Z","HPGTGW","HP_EA","_Z","HPCAPABVTH","_Z","ENERGY","_Z","GW",null,"nrg_ind_hptctc","RA600","_Z","CAP_ABVTH","GTH_GW_EA","GW","Agg.=SUM(countries)"]
[null,null,"Equivalent full load hours of operation",null,null,null,"[h]",2070,2070,2070,2070,2070,2070,2070,2070,2070,2070,2070,2070,2070,2070,2070,2070,2070,2070,2070,2070,2070,2070,2070,2070,2070,2070,2070,2070,2070,2070,2070,2070,2070,2070,2070,2070,2070,2070,2070,2070,2070,2070,2070,2070,2070,2070,2070,2070,2070,2070,2070,2070,2070,2070,2070,2070,2070,2070,2070,2070,2070,null,null,null,null,null,null,null,null,null,null,null,null,null,null,null,null,null,null,null,null,null,null,null,null,null,null,null,null,null,null,null,null,null,null,null,null,null,null,null,null,null,null,null,null,null,null,null,null,null,null,null,null,null,null,null,"RA600","_Z","_Z","HPGTGW","HP_EA","_Z","TUS","_Z","_Z","_Z","HR",null,"nrg_ind_hptctc","RA600","_Z","TIME_USE","GTH_GW_EA","HR","COUNTRY AGGREGATE IS NOT CALCULATED"]
[null,null,"Estimated average SPF",null,null,null,null,3.5,3.5,3.5,3.5,3.5,3.5,3.5,3.5,3.5,3.5,3.5,3.5,3.5,3.5,3.5,3.5,3.5,3.5,3.5,3.5,3.5,3.5,3.5,3.5,3.5,3.5,3.5,3.5,3.5,3.5,3.5,3.5,3.5,3.5,3.5,3.5,3.5,3.5,3.5,3.5,3.5,3.5,3.5,3.5,3.5,3.5,3.5,3.5,3.5,3.5,3.5,3.5,3.5,3.5,3.5,3.5,3.5,3.5,3.5,3.5,3.5,null,null,null,null,null,null,null,null,null,null,null,null,null,null,null,null,null,null,null,null,null,null,null,null,null,null,null,null,null,null,null,null,null,null,null,null,null,null,null,null,null,null,null,null,null,null,null,null,null,null,null,null,null,null,null,"RA600","_Z","_Z","HPGTGW","HP_EA","_Z","SPF","_Z","_Z","_Z","NR",null,"nrg_ind_hptctc","RA600","_Z","SPERF_FACT","GTH_GW_EA","NR","COUNTRY AGGREGATE IS NOT CALCULATED"]
[null,null,"The amount of renewable energy supplied",null,null,null,"[GWh]",{"$f":"IF(H124>0,(H122*H123)*(1-1/H124),0)","v":0},0,0,0,0,0,0,0,0,0,0,0,0,0,0,0,0,0,0,0,0,0,0,0,0,0,0,0,0,0,0,{"$f":"IF(AM124>0,(AM122*AM123)*(1-1/AM124),0)","v":0},0,0,0,0,0,0,0,0,0,0,0,0,0,0,0,0,0,0,0,0,0,0,0,0,0,0,0,0,0,null,null,null,null,null,null,null,null,null,null,null,null,null,null,null,null,null,null,null,null,null,null,null,null,null,null,null,null,null,null,null,null,null,null,null,null,null,null,null,null,null,null,null,null,null,null,null,null,null,null,null,null,null,null,null,"RA600","PRODUCT","PPRD_RED","HPGTGW","HP_EA","_Z","_Z","_Z","ENERGY","_Z","GWH",null,"nrg_ind_ahbtc","RA600","PPRD_RED","_Z","GTH_GW_EA","GWH","Agg.=SUM(countries)"]
["Hydrothermal heat",null,null,null,null,null,null,{"$f":"SUM(H132,H138)","v":0},0,0,0,0,0,0,0,0,0,0,0,0,0,0,0,0,0,0,0,0,0,0,0,0,0,0,0,0,0,{"$f":"SUM(AL132,AL138)","v":0},{"$f":"SUM(AM132,AM138)","v":0},0,0,0,0,0,0,0,0,0,0,0,0,0,0,0,0,0,0,0,0,0,0,0,0,0,0,0,0,0,null,null,null,null,null,null,null,null,null,null,null,null,null,null,null,null,null,null,null,null,null,null,null,null,null,null,null,null,null,null,null,null,null,null,null,null,null,null,null,null,null,null,null,null,null,null,null,null,null,null,null,null,null,null,null,"RA600","PRODUCT","PPRD_RED","HPHT","HP_EA","_Z","_Z","_Z","ENERGY","_Z","GWH",null,"nrg_ind_ahbtc","RA600","PPRD_RED","_Z","HTH_EA","GWH","Agg.=SUM(countries)"]
[null,"Water-Air"]
[null,null,"Capacity of heat pump installed",null,null,null,"[GW]",0,0,0,0,0,0,0,0,0,0,0,0,0,0,0,0,0,0,0,0,0,0,0,0,0,0,0,0,0,0,0,0,0,0,0,0,0,0,0,0,0,0,0,0,0,0,0,0,0,0,0,0,0,0,0,0,0,0,0,0,0,null,null,null,null,null,null,null,null,null,null,null,null,null,null,null,null,null,null,null,null,null,null,null,null,null,null,null,null,null,null,null,null,null,null,null,null,null,null,null,null,null,null,null,null,null,null,null,null,null,null,null,null,null,null,null,"RA600","_Z",{"$f":"EH128","v":"_Z"},"HPHTWA","HP_EA","_Z","HPCAP","_Z","ENERGY","_Z","GW",null,"nrg_ind_hptctc","RA600","_Z","CAP_HEAT","HTH_WA_EA","GW","Agg.=SUM(countries)"]
[null,null,"of which SPF is above the minimum threshold",null,null,null,"[GW]",0,0,0,0,0,0,0,0,0,0,0,0,0,0,0,0,0,0,0,0,0,0,0,0,0,0,0,0,0,0,0,0,0,0,0,0,0,0,0,0,0,0,0,0,0,0,0,0,0,0,0,0,0,0,0,0,0,0,0,0,0,null,null,null,null,null,null,null,null,null,null,null,null,null,null,null,null,null,null,null,null,null,null,null,null,null,null,null,null,null,null,null,null,null,null,null,null,null,null,null,null,null,null,null,null,null,null,null,null,null,null,null,null,null,null,null,"RA600","_Z",{"$f":"EH129","v":"_Z"},"HPHTWA","HP_EA","_Z","HPCAPABVTH","_Z","ENERGY","_Z","GW",null,"nrg_ind_hptctc","RA600","_Z","CAP_ABVTH","HTH_WA_EA","GW","Agg.=SUM(countries)"]
[null,null,"Equivalent full load hours of operation",null,null,null,"[h]",2070,2070,2070,2070,2070,2070,2070,2070,2070,2070,2070,2070,2070,2070,2070,2070,2070,2070,2070,2070,2070,2070,2070,2070,2070,2070,2070,2070,2070,2070,2070,2070,2070,2070,2070,2070,2070,2070,2070,2070,2070,2070,2070,2070,2070,2070,2070,2070,2070,2070,2070,2070,2070,2070,2070,2070,2070,2070,2070,2070,2070,null,null,null,null,null,null,null,null,null,null,null,null,null,null,null,null,null,null,null,null,null,null,null,null,null,null,null,null,null,null,null,null,null,null,null,null,null,null,null,null,null,null,null,null,null,null,null,null,null,null,null,null,null,null,null,"RA600","_Z",{"$f":"EH130","v":"_Z"},"HPHTWA","HP_EA","_Z","TUS","_Z","_Z","_Z","HR",null,"nrg_ind_hptctc","RA600","_Z","TIME_USE","HTH_WA_EA","HR","COUNTRY AGGREGATE IS NOT CALCULATED"]
[null,null,"Estimated average SPF",null,null,null,null,3.2,3.2,3.2,3.2,3.2,3.2,3.2,3.2,3.2,3.2,3.2,3.2,3.2,3.2,3.2,3.2,3.2,3.2,3.2,3.2,3.2,3.2,3.2,3.2,3.2,3.2,3.2,3.2,3.2,3.2,3.2,3.2,3.2,3.2,3.2,3.2,3.2,3.2,3.2,3.2,3.2,3.2,3.2,3.2,3.2,3.2,3.2,3.2,3.2,3.2,3.2,3.2,3.2,3.2,3.2,3.2,3.2,3.2,3.2,3.2,3.2,null,null,null,null,null,null,null,null,null,null,null,null,null,null,null,null,null,null,null,null,null,null,null,null,null,null,null,null,null,null,null,null,null,null,null,null,null,null,null,null,null,null,null,null,null,null,null,null,null,null,null,null,null,null,null,"RA600","_Z",{"$f":"EH131","v":"_Z"},"HPHTWA","HP_EA","_Z","SPF","_Z","_Z","_Z","NR",null,"nrg_ind_hptctc","RA600","_Z","SPERF_FACT","HTH_WA_EA","NR","COUNTRY AGGREGATE IS NOT CALCULATED"]
[null,null,"The amount of renewable energy supplied",null,null,null,"[GWh]",{"$f":"IF(H131>0,(H129*H130)*(1-1/H131),0)","v":0},0,0,0,0,0,0,0,0,0,0,0,0,0,0,0,0,0,0,0,0,0,0,0,0,0,0,0,0,0,0,{"$f":"IF(AM131>0,(AM129*AM130)*(1-1/AM131),0)","v":0},0,0,0,0,0,0,0,0,0,0,0,0,0,0,0,0,0,0,0,0,0,0,0,0,0,0,0,0,0,null,null,null,null,null,null,null,null,null,null,null,null,null,null,null,null,null,null,null,null,null,null,null,null,null,null,null,null,null,null,null,null,null,null,null,null,null,null,null,null,null,null,null,null,null,null,null,null,null,null,null,null,null,null,null,"RA600","PRODUCT",{"$f":"EH132","v":"PPRD_RED"},"HPHTWA","HP_EA","_Z","_Z","_Z","ENERGY","_Z","GWH",null,"nrg_ind_ahbtc","RA600","PPRD_RED","_Z","HTH_WA_EA","GWH","Agg.=SUM(countries)"]
[null,"Water-Water"]
[null,null,"Capacity of heat pump installed",null,null,null,"[GW]",0,0,0,0,0,0,0,0,0,0,0,0,0,0,0,0,0,0,0,0,0,0,0,0,0,0,0,0,0,0,0,0,0,0,0,0,0,0,0,0,0,0,0,0,0,0,0,0,0,0,0,0,0,0,0,0,0,0,0,0,0,null,null,null,null,null,null,null,null,null,null,null,null,null,null,null,null,null,null,null,null,null,null,null,null,null,null,null,null,null,null,null,null,null,null,null,null,null,null,null,null,null,null,null,null,null,null,null,null,null,null,null,null,null,null,null,"RA600","_Z",{"$f":"EH134","v":"_Z"},"HPHTWW","HP_EA","_Z","HPCAP","_Z","ENERGY","_Z","GW",null,"nrg_ind_hptctc","RA600","_Z","CAP_HEAT","HTH_WW_EA","GW","Agg.=SUM(countries)"]
[null,null,"of which SPF is above the minimum threshold",null,null,null,"[GW]",0,0,0,0,0,0,0,0,0,0,0,0,0,0,0,0,0,0,0,0,0,0,0,0,0,0,0,0,0,0,0,0,0,0,0,0,0,0,0,0,0,0,0,0,0,0,0,0,0,0,0,0,0,0,0,0,0,0,0,0,0,null,null,null,null,null,null,null,null,null,null,null,null,null,null,null,null,null,null,null,null,null,null,null,null,null,null,null,null,null,null,null,null,null,null,null,null,null,null,null,null,null,null,null,null,null,null,null,null,null,null,null,null,null,null,null,"RA600","_Z",{"$f":"EH135","v":"_Z"},"HPHTWW","HP_EA","_Z","HPCAPABVTH","_Z","ENERGY","_Z","GW",null,"nrg_ind_hptctc","RA600","_Z","CAP_ABVTH","HTH_WW_EA","GW","Agg.=SUM(countries)"]
[null,null,"Equivalent full load hours of operation",null,null,null,"[h]",2070,2070,2070,2070,2070,2070,2070,2070,2070,2070,2070,2070,2070,2070,2070,2070,2070,2070,2070,2070,2070,2070,2070,2070,2070,2070,2070,2070,2070,2070,2070,2070,2070,2070,2070,2070,2070,2070,2070,2070,2070,2070,2070,2070,2070,2070,2070,2070,2070,2070,2070,2070,2070,2070,2070,2070,2070,2070,2070,2070,2070,null,null,null,null,null,null,null,null,null,null,null,null,null,null,null,null,null,null,null,null,null,null,null,null,null,null,null,null,null,null,null,null,null,null,null,null,null,null,null,null,null,null,null,null,null,null,null,null,null,null,null,null,null,null,null,"RA600","_Z",{"$f":"EH136","v":"_Z"},"HPHTWW","HP_EA","_Z","TUS","_Z","_Z","_Z","HR",null,"nrg_ind_hptctc","RA600","_Z","TIME_USE","HTH_WW_EA","HR","COUNTRY AGGREGATE IS NOT CALCULATED"]
[null,null,"Estimated average SPF",null,null,null,null,3.5,3.5,3.5,3.5,3.5,3.5,3.5,3.5,3.5,3.5,3.5,3.5,3.5,3.5,3.5,3.5,3.5,3.5,3.5,3.5,3.5,3.5,3.5,3.5,3.5,3.5,3.5,3.5,3.5,3.5,3.5,3.5,3.5,3.5,3.5,3.5,3.5,3.5,3.5,3.5,3.5,3.5,3.5,3.5,3.5,3.5,3.5,3.5,3.5,3.5,3.5,3.5,3.5,3.5,3.5,3.5,3.5,3.5,3.5,3.5,3.5,null,null,null,null,null,null,null,null,null,null,null,null,null,null,null,null,null,null,null,null,null,null,null,null,null,null,null,null,null,null,null,null,null,null,null,null,null,null,null,null,null,null,null,null,null,null,null,null,null,null,null,null,null,null,null,"RA600","_Z",{"$f":"EH137","v":"_Z"},"HPHTWW","HP_EA","_Z","SPF","_Z","_Z","_Z","NR",null,"nrg_ind_hptctc","RA600","_Z","SPERF_FACT","HTH_WW_EA","NR","COUNTRY AGGREGATE IS NOT CALCULATED"]
[null,null,"The amount of renewable energy supplied",null,null,null,"[GWh]",{"$f":"IF(H137>0,(H135*H136)*(1-1/H137),0)","v":0},0,0,0,0,0,0,0,0,0,0,0,0,0,0,0,0,0,0,0,0,0,0,0,0,0,0,0,0,0,0,{"$f":"IF(AM137>0,(AM135*AM136)*(1-1/AM137),0)","v":0},0,0,0,0,0,0,0,0,0,0,0,0,0,0,0,0,0,0,0,0,0,0,0,0,0,0,0,0,0,null,null,null,null,null,null,null,null,null,null,null,null,null,null,null,null,null,null,null,null,null,null,null,null,null,null,null,null,null,null,null,null,null,null,null,null,null,null,null,null,null,null,null,null,null,null,null,null,null,null,null,null,null,null,null,"RA600","PRODUCT",{"$f":"EH138","v":"PPRD_RED"},"HPHTWW","HP_EA","_Z","_Z","_Z","ENERGY","_Z","GWH",null,"nrg_ind_ahbtc","RA600","PPRD_RED","_Z","HTH_WW_EA","GWH","Agg.=SUM(countries)"]
[]
["ELECTRICALLY DRIVEN HEAT PUMPS in WARMER CLIMATE"]
["Aerothermal energy",null,null,null,null,null,null,{"$f":"SUM(H147,H153,H159,H165,H171,H177)","v":0},0,0,0,0,0,0,0,0,0,0,0,0,0,0,0,0,0,0,0,0,0,0,0,0,0,0,0,0,0,{"$f":"SUM(AL147,AL153,AL159,AL165,AL171,AL177)","v":0},{"$f":"SUM(AM147,AM153,AM159,AM165,AM171,AM177)","v":0},0,0,0,0,0,0,0,0,0,0,0,0,0,0,0,0,0,0,0,0,0,0,0,0,0,0,0,0,0,null,null,null,null,null,null,null,null,null,null,null,null,null,null,null,null,null,null,null,null,null,null,null,null,null,null,null,null,null,null,null,null,null,null,null,null,null,null,null,null,null,null,null,null,null,null,null,null,null,null,null,null,null,null,null,"RA600","PRODUCT",{"$f":"EH141","v":"PPRD_RED"},"HPAT","HP_EW","_Z","_Z","_Z","ENERGY","_Z","GWH",null,"nrg_ind_ahbtc","RA600","PPRD_RED","_Z","ATH_EW","GWH","Agg.=SUM(countries)"]
[null,"Air-Air"]
[null,null,"Capacity of heat pump installed",null,null,null,"[GW]",0,0,0,0,0,0,0,0,0,0,0,0,0,0,0,0,0,0,0,0,0,0,0,0,0,0,0,0,0,0,0,0,0,0,0,0,0,0,0,0,0,0,0,0,0,0,0,0,0,0,0,0,0,0,0,0,0,0,0,0,0,null,null,null,null,null,null,null,null,null,null,null,null,null,null,null,null,null,null,null,null,null,null,null,null,null,null,null,null,null,null,null,null,null,null,null,null,null,null,null,null,null,null,null,null,null,null,null,null,null,null,null,null,null,null,null,"RA600","_Z",{"$f":"EH143","v":"_Z"},"HPATAA","HP_EW","_Z","HPCAP","_Z","ENERGY","_Z","GW",null,"nrg_ind_hptctc","RA600","_Z","CAP_HEAT","ATH_AA_EW","GW","Agg.=SUM(countries)"]
[null,null,"of which SPF is above the minimum threshold",null,null,null,"[GW]",0,0,0,0,0,0,0,0,0,0,0,0,0,0,0,0,0,0,0,0,0,0,0,0,0,0,0,0,0,0,0,0,0,0,0,0,0,0,0,0,0,0,0,0,0,0,0,0,0,0,0,0,0,0,0,0,0,0,0,0,0,null,null,null,null,null,null,null,null,null,null,null,null,null,null,null,null,null,null,null,null,null,null,null,null,null,null,null,null,null,null,null,null,null,null,null,null,null,null,null,null,null,null,null,null,null,null,null,null,null,null,null,null,null,null,null,"RA600","_Z",{"$f":"EH144","v":"_Z"},"HPATAA","HP_EW","_Z","HPCAPABVTH","_Z","ENERGY","_Z","GW",null,"nrg_ind_hptctc","RA600","_Z","CAP_ABVTH","ATH_AA_EW","GW","Agg.=SUM(countries)"]
[null,null,"Equivalent full load hours of operation",null,null,null,"[h]",1200,1200,1200,1200,1200,1200,1200,1200,1200,1200,1200,1200,1200,1200,1200,1200,1200,1200,1200,1200,1200,1200,1200,1200,1200,1200,1200,1200,1200,1200,1200,1200,1200,1200,1200,1200,1200,1200,1200,1200,1200,1200,1200,1200,1200,1200,1200,1200,1200,1200,1200,1200,1200,1200,1200,1200,1200,1200,1200,1200,1200,null,null,null,null,null,null,null,null,null,null,null,null,null,null,null,null,null,null,null,null,null,null,null,null,null,null,null,null,null,null,null,null,null,null,null,null,null,null,null,null,null,null,null,null,null,null,null,null,null,null,null,null,null,null,null,"RA600","_Z",{"$f":"EH145","v":"_Z"},"HPATAA","HP_EW","_Z","TUS","_Z","_Z","_Z","HR",null,"nrg_ind_hptctc","RA600","_Z","TIME_USE","ATH_AA_EW","HR","COUNTRY AGGREGATE IS NOT CALCULATED"]
[null,null,"Estimated average SPF",null,null,null,null,2.7,2.7,2.7,2.7,2.7,2.7,2.7,2.7,2.7,2.7,2.7,2.7,2.7,2.7,2.7,2.7,2.7,2.7,2.7,2.7,2.7,2.7,2.7,2.7,2.7,2.7,2.7,2.7,2.7,2.7,2.7,2.7,2.7,2.7,2.7,2.7,2.7,2.7,2.7,2.7,2.7,2.7,2.7,2.7,2.7,2.7,2.7,2.7,2.7,2.7,2.7,2.7,2.7,2.7,2.7,2.7,2.7,2.7,2.7,2.7,2.7,null,null,null,null,null,null,null,null,null,null,null,null,null,null,null,null,null,null,null,null,null,null,null,null,null,null,null,null,null,null,null,null,null,null,null,null,null,null,null,null,null,null,null,null,null,null,null,null,null,null,null,null,null,null,null,"RA600","_Z",{"$f":"EH146","v":"_Z"},"HPATAA","HP_EW","_Z","SPF","_Z","_Z","_Z","NR",null,"nrg_ind_hptctc","RA600","_Z","SPERF_FACT","ATH_AA_EW","NR","COUNTRY AGGREGATE IS NOT CALCULATED"]
[null,null,"The amount of renewable energy supplied",null,null,null,"[GWh]",{"$f":"IF(H146>0,(H144*H145)*(1-1/H146),0)","v":0},0,0,0,0,0,0,0,0,0,0,0,0,0,0,0,0,0,0,0,0,0,0,0,0,0,0,0,0,0,0,{"$f":"IF(AM146>0,(AM144*AM145)*(1-1/AM146),0)","v":0},0,0,0,0,0,0,0,0,0,0,0,0,0,0,0,0,0,0,0,0,0,0,0,0,0,0,0,0,0,null,null,null,null,null,null,null,null,null,null,null,null,null,null,null,null,null,null,null,null,null,null,null,null,null,null,null,null,null,null,null,null,null,null,null,null,null,null,null,null,null,null,null,null,null,null,null,null,null,null,null,null,null,null,null,"RA600","PRODUCT",{"$f":"EH147","v":"PPRD_RED"},"HPATAA","HP_EW","_Z","_Z","_Z","ENERGY","_Z","GWH",null,"nrg_ind_ahbtc","RA600","PPRD_RED","_Z","ATH_AA_EW","GWH","Agg.=SUM(countries)"]
[null,"Air-Water"]
[null,null,"Capacity of heat pump installed",null,null,null,"[GW]",0,0,0,0,0,0,0,0,0,0,0,0,0,0,0,0,0,0,0,0,0,0,0,0,0,0,0,0,0,0,0,0,0,0,0,0,0,0,0,0,0,0,0,0,0,0,0,0,0,0,0,0,0,0,0,0,0,0,0,0,0,null,null,null,null,null,null,null,null,null,null,null,null,null,null,null,null,null,null,null,null,null,null,null,null,null,null,null,null,null,null,null,null,null,null,null,null,null,null,null,null,null,null,null,null,null,null,null,null,null,null,null,null,null,null,null,"RA600","_Z",{"$f":"EH149","v":"_Z"},"HPATAW","HP_EW","_Z","HPCAP","_Z","ENERGY","_Z","GW",null,"nrg_ind_hptctc","RA600","_Z","CAP_HEAT","ATH_AW_EW","GW","Agg.=SUM(countries)"]
[null,null,"of which SPF is above the minimum threshold",null,null,null,"[GW]",0,0,0,0,0,0,0,0,0,0,0,0,0,0,0,0,0,0,0,0,0,0,0,0,0,0,0,0,0,0,0,0,0,0,0,0,0,0,0,0,0,0,0,0,0,0,0,0,0,0,0,0,0,0,0,0,0,0,0,0,0,null,null,null,null,null,null,null,null,null,null,null,null,null,null,null,null,null,null,null,null,null,null,null,null,null,null,null,null,null,null,null,null,null,null,null,null,null,null,null,null,null,null,null,null,null,null,null,null,null,null,null,null,null,null,null,"RA600","_Z",{"$f":"EH150","v":"_Z"},"HPATAW","HP_EW","_Z","HPCAPABVTH","_Z","ENERGY","_Z","GW",null,"nrg_ind_hptctc","RA600","_Z","CAP_ABVTH","ATH_AW_EW","GW","Agg.=SUM(countries)"]
[null,null,"Equivalent full load hours of operation",null,null,null,"[h]",1170,1170,1170,1170,1170,1170,1170,1170,1170,1170,1170,1170,1170,1170,1170,1170,1170,1170,1170,1170,1170,1170,1170,1170,1170,1170,1170,1170,1170,1170,1170,1170,1170,1170,1170,1170,1170,1170,1170,1170,1170,1170,1170,1170,1170,1170,1170,1170,1170,1170,1170,1170,1170,1170,1170,1170,1170,1170,1170,1170,1170,null,null,null,null,null,null,null,null,null,null,null,null,null,null,null,null,null,null,null,null,null,null,null,null,null,null,null,null,null,null,null,null,null,null,null,null,null,null,null,null,null,null,null,null,null,null,null,null,null,null,null,null,null,null,null,"RA600","_Z",{"$f":"EH151","v":"_Z"},"HPATAW","HP_EW","_Z","TUS","_Z","_Z","_Z","HR",null,"nrg_ind_hptctc","RA600","_Z","TIME_USE","ATH_AW_EW","HR","COUNTRY AGGREGATE IS NOT CALCULATED"]
[null,null,"Estimated average SPF",null,null,null,null,2.7,2.7,2.7,2.7,2.7,2.7,2.7,2.7,2.7,2.7,2.7,2.7,2.7,2.7,2.7,2.7,2.7,2.7,2.7,2.7,2.7,2.7,2.7,2.7,2.7,2.7,2.7,2.7,2.7,2.7,2.7,2.7,2.7,2.7,2.7,2.7,2.7,2.7,2.7,2.7,2.7,2.7,2.7,2.7,2.7,2.7,2.7,2.7,2.7,2.7,2.7,2.7,2.7,2.7,2.7,2.7,2.7,2.7,2.7,2.7,2.7,null,null,null,null,null,null,null,null,null,null,null,null,null,null,null,null,null,null,null,null,null,null,null,null,null,null,null,null,null,null,null,null,null,null,null,null,null,null,null,null,null,null,null,null,null,null,null,null,null,null,null,null,null,null,null,"RA600","_Z",{"$f":"EH152","v":"_Z"},"HPATAW","HP_EW","_Z","SPF","_Z","_Z","_Z","NR",null,"nrg_ind_hptctc","RA600","_Z","SPERF_FACT","ATH_AW_EW","NR","COUNTRY AGGREGATE IS NOT CALCULATED"]
[null,null,"The amount of renewable energy supplied",null,null,null,"[GWh]",{"$f":"IF(H152>0,(H150*H151)*(1-1/H152),0)","v":0},0,0,0,0,0,0,0,0,0,0,0,0,0,0,0,0,0,0,0,0,0,0,0,0,0,0,0,0,0,0,{"$f":"IF(AM152>0,(AM150*AM151)*(1-1/AM152),0)","v":0},0,0,0,0,0,0,0,0,0,0,0,0,0,0,0,0,0,0,0,0,0,0,0,0,0,0,0,0,0,null,null,null,null,null,null,null,null,null,null,null,null,null,null,null,null,null,null,null,null,null,null,null,null,null,null,null,null,null,null,null,null,null,null,null,null,null,null,null,null,null,null,null,null,null,null,null,null,null,null,null,null,null,null,null,"RA600","PRODUCT",{"$f":"EH153","v":"PPRD_RED"},"HPATAW","HP_EW","_Z","_Z","_Z","ENERGY","_Z","GWH",null,"nrg_ind_ahbtc","RA600","PPRD_RED","_Z","ATH_AW_EW","GWH","Agg.=SUM(countries)"]
[null,"Air-Air (reversible)"]
[null,null,"Capacity of heat pump installed",null,null,null,"[GW]",0,0,0,0,0,0,0,0,0,0,0,0,0,0,0,0,0,0,0,0,0,0,0,0,0,0,0,0,0,0,0,0,0,0,0,0,0,0,0,0,0,0,0,0,0,0,0,0,0,0,0,0,0,0,0,0,0,0,0,0,0,null,null,null,null,null,null,null,null,null,null,null,null,null,null,null,null,null,null,null,null,null,null,null,null,null,null,null,null,null,null,null,null,null,null,null,null,null,null,null,null,null,null,null,null,null,null,null,null,null,null,null,null,null,null,null,"RA600","_Z",{"$f":"EH155","v":"_Z"},"HPATAAR","HP_EW","_Z","HPCAP","_Z","ENERGY","_Z","GW",null,"nrg_ind_hptctc","RA600","_Z","CAP_HEAT","ATH_RAA_EW","GW","Agg.=SUM(countries)"]
[null,null,"of which SPF is above the minimum threshold",null,null,null,"[GW]",0,0,0,0,0,0,0,0,0,0,0,0,0,0,0,0,0,0,0,0,0,0,0,0,0,0,0,0,0,0,0,0,0,0,0,0,0,0,0,0,0,0,0,0,0,0,0,0,0,0,0,0,0,0,0,0,0,0,0,0,0,null,null,null,null,null,null,null,null,null,null,null,null,null,null,null,null,null,null,null,null,null,null,null,null,null,null,null,null,null,null,null,null,null,null,null,null,null,null,null,null,null,null,null,null,null,null,null,null,null,null,null,null,null,null,null,"RA600","_Z",{"$f":"EH156","v":"_Z"},"HPATAAR","HP_EW","_Z","HPCAPABVTH","_Z","ENERGY","_Z","GW",null,"nrg_ind_hptctc","RA600","_Z","CAP_ABVTH","ATH_RAA_EW","GW","Agg.=SUM(countries)"]
[null,null,"Equivalent full load hours of operation",null,null,null,"[h]",120,120,120,120,120,120,120,120,120,120,120,120,120,120,120,120,120,120,120,120,120,120,120,120,120,120,120,120,120,120,120,120,120,120,120,120,120,120,120,120,120,120,120,120,120,120,120,120,120,120,120,120,120,120,120,120,120,120,120,120,120,null,null,null,null,null,null,null,null,null,null,null,null,null,null,null,null,null,null,null,null,null,null,null,null,null,null,null,null,null,null,null,null,null,null,null,null,null,null,null,null,null,null,null,null,null,null,null,null,null,null,null,null,null,null,null,"RA600","_Z",{"$f":"EH157","v":"_Z"},"HPATAAR","HP_EW","_Z","TUS","_Z","_Z","_Z","HR",null,"nrg_ind_hptctc","RA600","_Z","TIME_USE","ATH_RAA_EW","HR","COUNTRY AGGREGATE IS NOT CALCULATED"]
[null,null,"Estimated average SPF",null,null,null,null,2.7,2.7,2.7,2.7,2.7,2.7,2.7,2.7,2.7,2.7,2.7,2.7,2.7,2.7,2.7,2.7,2.7,2.7,2.7,2.7,2.7,2.7,2.7,2.7,2.7,2.7,2.7,2.7,2.7,2.7,2.7,2.7,2.7,2.7,2.7,2.7,2.7,2.7,2.7,2.7,2.7,2.7,2.7,2.7,2.7,2.7,2.7,2.7,2.7,2.7,2.7,2.7,2.7,2.7,2.7,2.7,2.7,2.7,2.7,2.7,2.7,null,null,null,null,null,null,null,null,null,null,null,null,null,null,null,null,null,null,null,null,null,null,null,null,null,null,null,null,null,null,null,null,null,null,null,null,null,null,null,null,null,null,null,null,null,null,null,null,null,null,null,null,null,null,null,"RA600","_Z",{"$f":"EH158","v":"_Z"},"HPATAAR","HP_EW","_Z","SPF","_Z","_Z","_Z","NR",null,"nrg_ind_hptctc","RA600","_Z","SPERF_FACT","ATH_RAA_EW","NR","COUNTRY AGGREGATE IS NOT CALCULATED"]
[null,null,"The amount of renewable energy supplied",null,null,null,"[GWh]",{"$f":"IF(H158>0,(H156*H157)*(1-1/H158),0)","v":0},0,0,0,0,0,0,0,0,0,0,0,0,0,0,0,0,0,0,0,0,0,0,0,0,0,0,0,0,0,0,{"$f":"IF(AM158>0,(AM156*AM157)*(1-1/AM158),0)","v":0},0,0,0,0,0,0,0,0,0,0,0,0,0,0,0,0,0,0,0,0,0,0,0,0,0,0,0,0,0,null,null,null,null,null,null,null,null,null,null,null,null,null,null,null,null,null,null,null,null,null,null,null,null,null,null,null,null,null,null,null,null,null,null,null,null,null,null,null,null,null,null,null,null,null,null,null,null,null,null,null,null,null,null,null,"RA600","PRODUCT",{"$f":"EH159","v":"PPRD_RED"},"HPATAAR","HP_EW","_Z","_Z","_Z","ENERGY","_Z","GWH",null,"nrg_ind_ahbtc","RA600","PPRD_RED","_Z","ATH_RAA_EW","GWH","Agg.=SUM(countries)"]
[null,"Air-Water (reversible)"]
[null,null,"Capacity of heat pump installed",null,null,null,"[GW]",0,0,0,0,0,0,0,0,0,0,0,0,0,0,0,0,0,0,0,0,0,0,0,0,0,0,0,0,0,0,0,0,0,0,0,0,0,0,0,0,0,0,0,0,0,0,0,0,0,0,0,0,0,0,0,0,0,0,0,0,0,null,null,null,null,null,null,null,null,null,null,null,null,null,null,null,null,null,null,null,null,null,null,null,null,null,null,null,null,null,null,null,null,null,null,null,null,null,null,null,null,null,null,null,null,null,null,null,null,null,null,null,null,null,null,null,"RA600","_Z",{"$f":"EH161","v":"_Z"},"HPATAWR","HP_EW","_Z","HPCAP","_Z","ENERGY","_Z","GW",null,"nrg_ind_hptctc","RA600","_Z","CAP_HEAT","ATH_RAW_EW","GW","Agg.=SUM(countries)"]
[null,null,"of which SPF is above the minimum threshold",null,null,null,"[GW]",0,0,0,0,0,0,0,0,0,0,0,0,0,0,0,0,0,0,0,0,0,0,0,0,0,0,0,0,0,0,0,0,0,0,0,0,0,0,0,0,0,0,0,0,0,0,0,0,0,0,0,0,0,0,0,0,0,0,0,0,0,null,null,null,null,null,null,null,null,null,null,null,null,null,null,null,null,null,null,null,null,null,null,null,null,null,null,null,null,null,null,null,null,null,null,null,null,null,null,null,null,null,null,null,null,null,null,null,null,null,null,null,null,null,null,null,"RA600","_Z",{"$f":"EH162","v":"_Z"},"HPATAWR","HP_EW","_Z","HPCAPABVTH","_Z","ENERGY","_Z","GW",null,"nrg_ind_hptctc","RA600","_Z","CAP_ABVTH","ATH_RAW_EW","GW","Agg.=SUM(countries)"]
[null,null,"Equivalent full load hours of operation",null,null,null,"[h]",120,120,120,120,120,120,120,120,120,120,120,120,120,120,120,120,120,120,120,120,120,120,120,120,120,120,120,120,120,120,120,120,120,120,120,120,120,120,120,120,120,120,120,120,120,120,120,120,120,120,120,120,120,120,120,120,120,120,120,120,120,null,null,null,null,null,null,null,null,null,null,null,null,null,null,null,null,null,null,null,null,null,null,null,null,null,null,null,null,null,null,null,null,null,null,null,null,null,null,null,null,null,null,null,null,null,null,null,null,null,null,null,null,null,null,null,"RA600","_Z",{"$f":"EH163","v":"_Z"},"HPATAWR","HP_EW","_Z","TUS","_Z","_Z","_Z","HR",null,"nrg_ind_hptctc","RA600","_Z","TIME_USE","ATH_RAW_EW","HR","COUNTRY AGGREGATE IS NOT CALCULATED"]
[null,null,"Estimated average SPF",null,null,null,null,2.7,2.7,2.7,2.7,2.7,2.7,2.7,2.7,2.7,2.7,2.7,2.7,2.7,2.7,2.7,2.7,2.7,2.7,2.7,2.7,2.7,2.7,2.7,2.7,2.7,2.7,2.7,2.7,2.7,2.7,2.7,2.7,2.7,2.7,2.7,2.7,2.7,2.7,2.7,2.7,2.7,2.7,2.7,2.7,2.7,2.7,2.7,2.7,2.7,2.7,2.7,2.7,2.7,2.7,2.7,2.7,2.7,2.7,2.7,2.7,2.7,null,null,null,null,null,null,null,null,null,null,null,null,null,null,null,null,null,null,null,null,null,null,null,null,null,null,null,null,null,null,null,null,null,null,null,null,null,null,null,null,null,null,null,null,null,null,null,null,null,null,null,null,null,null,null,"RA600","_Z",{"$f":"EH164","v":"_Z"},"HPATAWR","HP_EW","_Z","SPF","_Z","_Z","_Z","NR",null,"nrg_ind_hptctc","RA600","_Z","SPERF_FACT","ATH_RAW_EW","NR","COUNTRY AGGREGATE IS NOT CALCULATED"]
[null,null,"The amount of renewable energy supplied",null,null,null,"[GWh]",{"$f":"IF(H164>0,(H162*H163)*(1-1/H164),0)","v":0},0,0,0,0,0,0,0,0,0,0,0,0,0,0,0,0,0,0,0,0,0,0,0,0,0,0,0,0,0,0,{"$f":"IF(AM164>0,(AM162*AM163)*(1-1/AM164),0)","v":0},0,0,0,0,0,0,0,0,0,0,0,0,0,0,0,0,0,0,0,0,0,0,0,0,0,0,0,0,0,null,null,null,null,null,null,null,null,null,null,null,null,null,null,null,null,null,null,null,null,null,null,null,null,null,null,null,null,null,null,null,null,null,null,null,null,null,null,null,null,null,null,null,null,null,null,null,null,null,null,null,null,null,null,null,"RA600","PRODUCT",{"$f":"EH165","v":"PPRD_RED"},"HPATAWR","HP_EW","_Z","_Z","_Z","ENERGY","_Z","GWH",null,"nrg_ind_ahbtc","RA600","PPRD_RED","_Z","ATH_RAW_EW","GWH","Agg.=SUM(countries)"]
[null,"Exhaust Air-Air"]
[null,null,"Capacity of heat pump installed",null,null,null,"[GW]",0,0,0,0,0,0,0,0,0,0,0,0,0,0,0,0,0,0,0,0,0,0,0,0,0,0,0,0,0,0,0,0,0,0,0,0,0,0,0,0,0,0,0,0,0,0,0,0,0,0,0,0,0,0,0,0,0,0,0,0,0,null,null,null,null,null,null,null,null,null,null,null,null,null,null,null,null,null,null,null,null,null,null,null,null,null,null,null,null,null,null,null,null,null,null,null,null,null,null,null,null,null,null,null,null,null,null,null,null,null,null,null,null,null,null,null,"RA600","_Z",{"$f":"EH167","v":"_Z"},"HPATEAA","HP_EW","_Z","HPCAP","_Z","ENERGY","_Z","GW",null,"nrg_ind_hptctc","RA600","_Z","CAP_HEAT","ATH_EWA_EW","GW","Agg.=SUM(countries)"]
[null,null,"of which SPF is above the minimum threshold",null,null,null,"[GW]",0,0,0,0,0,0,0,0,0,0,0,0,0,0,0,0,0,0,0,0,0,0,0,0,0,0,0,0,0,0,0,0,0,0,0,0,0,0,0,0,0,0,0,0,0,0,0,0,0,0,0,0,0,0,0,0,0,0,0,0,0,null,null,null,null,null,null,null,null,null,null,null,null,null,null,null,null,null,null,null,null,null,null,null,null,null,null,null,null,null,null,null,null,null,null,null,null,null,null,null,null,null,null,null,null,null,null,null,null,null,null,null,null,null,null,null,"RA600","_Z",{"$f":"EH168","v":"_Z"},"HPATEAA","HP_EW","_Z","HPCAPABVTH","_Z","ENERGY","_Z","GW",null,"nrg_ind_hptctc","RA600","_Z","CAP_ABVTH","ATH_EWA_EW","GW","Agg.=SUM(countries)"]
[null,null,"Equivalent full load hours of operation",null,null,null,"[h]",760,760,760,760,760,760,760,760,760,760,760,760,760,760,760,760,760,760,760,760,760,760,760,760,760,760,760,760,760,760,760,760,760,760,760,760,760,760,760,760,760,760,760,760,760,760,760,760,760,760,760,760,760,760,760,760,760,760,760,760,760,null,null,null,null,null,null,null,null,null,null,null,null,null,null,null,null,null,null,null,null,null,null,null,null,null,null,null,null,null,null,null,null,null,null,null,null,null,null,null,null,null,null,null,null,null,null,null,null,null,null,null,null,null,null,null,"RA600","_Z",{"$f":"EH169","v":"_Z"},"HPATEAA","HP_EW","_Z","TUS","_Z","_Z","_Z","HR",null,"nrg_ind_hptctc","RA600","_Z","TIME_USE","ATH_EWA_EW","HR","COUNTRY AGGREGATE IS NOT CALCULATED"]
[null,null,"Estimated average SPF",null,null,null,null,2.7,2.7,2.7,2.7,2.7,2.7,2.7,2.7,2.7,2.7,2.7,2.7,2.7,2.7,2.7,2.7,2.7,2.7,2.7,2.7,2.7,2.7,2.7,2.7,2.7,2.7,2.7,2.7,2.7,2.7,2.7,2.7,2.7,2.7,2.7,2.7,2.7,2.7,2.7,2.7,2.7,2.7,2.7,2.7,2.7,2.7,2.7,2.7,2.7,2.7,2.7,2.7,2.7,2.7,2.7,2.7,2.7,2.7,2.7,2.7,2.7,null,null,null,null,null,null,null,null,null,null,null,null,null,null,null,null,null,null,null,null,null,null,null,null,null,null,null,null,null,null,null,null,null,null,null,null,null,null,null,null,null,null,null,null,null,null,null,null,null,null,null,null,null,null,null,"RA600","_Z",{"$f":"EH170","v":"_Z"},"HPATEAA","HP_EW","_Z","SPF","_Z","_Z","_Z","NR",null,"nrg_ind_hptctc","RA600","_Z","SPERF_FACT","ATH_EWA_EW","NR","COUNTRY AGGREGATE IS NOT CALCULATED"]
[null,null,"The amount of renewable energy supplied",null,null,null,"[GWh]",{"$f":"IF(H170>0,(H168*H169)*(1-1/H170),0)","v":0},0,0,0,0,0,0,0,0,0,0,0,0,0,0,0,0,0,0,0,0,0,0,0,0,0,0,0,0,0,0,{"$f":"IF(AM170>0,(AM168*AM169)*(1-1/AM170),0)","v":0},0,0,0,0,0,0,0,0,0,0,0,0,0,0,0,0,0,0,0,0,0,0,0,0,0,0,0,0,0,null,null,null,null,null,null,null,null,null,null,null,null,null,null,null,null,null,null,null,null,null,null,null,null,null,null,null,null,null,null,null,null,null,null,null,null,null,null,null,null,null,null,null,null,null,null,null,null,null,null,null,null,null,null,null,"RA600","PRODUCT",{"$f":"EH171","v":"PPRD_RED"},"HPATEAA","HP_EW","_Z","_Z","_Z","ENERGY","_Z","GWH",null,"nrg_ind_ahbtc","RA600","PPRD_RED","_Z","ATH_EWA_EW","GWH","Agg.=SUM(countries)"]
[null,"Exhaust Air-Water"]
[null,null,"Capacity of heat pump installed",null,null,null,"[GW]",0,0,0,0,0,0,0,0,0,0,0,0,0,0,0,0,0,0,0,0,0,0,0,0,0,0,0,0,0,0,0,0,0,0,0,0,0,0,0,0,0,0,0,0,0,0,0,0,0,0,0,0,0,0,0,0,0,0,0,0,0,null,null,null,null,null,null,null,null,null,null,null,null,null,null,null,null,null,null,null,null,null,null,null,null,null,null,null,null,null,null,null,null,null,null,null,null,null,null,null,null,null,null,null,null,null,null,null,null,null,null,null,null,null,null,null,"RA600","_Z",{"$f":"EH173","v":"_Z"},"HPATAEW","HP_EW","_Z","HPCAP","_Z","ENERGY","_Z","GW",null,"nrg_ind_hptctc","RA600","_Z","CAP_HEAT","ATH_EWW_EW","GW","Agg.=SUM(countries)"]
[null,null,"of which SPF is above the minimum threshold",null,null,null,"[GW]",0,0,0,0,0,0,0,0,0,0,0,0,0,0,0,0,0,0,0,0,0,0,0,0,0,0,0,0,0,0,0,0,0,0,0,0,0,0,0,0,0,0,0,0,0,0,0,0,0,0,0,0,0,0,0,0,0,0,0,0,0,null,null,null,null,null,null,null,null,null,null,null,null,null,null,null,null,null,null,null,null,null,null,null,null,null,null,null,null,null,null,null,null,null,null,null,null,null,null,null,null,null,null,null,null,null,null,null,null,null,null,null,null,null,null,null,"RA600","_Z","_Z","HPATAEW","HP_EW","_Z","HPCAPABVTH","_Z","ENERGY","_Z","GW",null,"nrg_ind_hptctc","RA600","_Z","CAP_ABVTH","ATH_EWW_EW","GW","Agg.=SUM(countries)"]
[null,null,"Equivalent full load hours of operation",null,null,null,"[h]",760,760,760,760,760,760,760,760,760,760,760,760,760,760,760,760,760,760,760,760,760,760,760,760,760,760,760,760,760,760,760,760,760,760,760,760,760,760,760,760,760,760,760,760,760,760,760,760,760,760,760,760,760,760,760,760,760,760,760,760,760,null,null,null,null,null,null,null,null,null,null,null,null,null,null,null,null,null,null,null,null,null,null,null,null,null,null,null,null,null,null,null,null,null,null,null,null,null,null,null,null,null,null,null,null,null,null,null,null,null,null,null,null,null,null,null,"RA600","_Z","_Z","HPATAEW","HP_EW","_Z","TUS","_Z","_Z","_Z","HR",null,"nrg_ind_hptctc","RA600","_Z","TIME_USE","ATH_EWW_EW","HR","COUNTRY AGGREGATE IS NOT CALCULATED"]
[null,null,"Estimated average SPF",null,null,null,null,2.7,2.7,2.7,2.7,2.7,2.7,2.7,2.7,2.7,2.7,2.7,2.7,2.7,2.7,2.7,2.7,2.7,2.7,2.7,2.7,2.7,2.7,2.7,2.7,2.7,2.7,2.7,2.7,2.7,2.7,2.7,2.7,2.7,2.7,2.7,2.7,2.7,2.7,2.7,2.7,2.7,2.7,2.7,2.7,2.7,2.7,2.7,2.7,2.7,2.7,2.7,2.7,2.7,2.7,2.7,2.7,2.7,2.7,2.7,2.7,2.7,null,null,null,null,null,null,null,null,null,null,null,null,null,null,null,null,null,null,null,null,null,null,null,null,null,null,null,null,null,null,null,null,null,null,null,null,null,null,null,null,null,null,null,null,null,null,null,null,null,null,null,null,null,null,null,"RA600","_Z","_Z","HPATAEW","HP_EW","_Z","SPF","_Z","_Z","_Z","NR",null,"nrg_ind_hptctc","RA600","_Z","SPERF_FACT","ATH_EWW_EW","NR","COUNTRY AGGREGATE IS NOT CALCULATED"]
[null,null,"The amount of renewable energy supplied",null,null,null,"[GWh]",{"$f":"IF(H176>0,(H174*H175)*(1-1/H176),0)","v":0},0,0,0,0,0,0,0,0,0,0,0,0,0,0,0,0,0,0,0,0,0,0,0,0,0,0,0,0,0,0,{"$f":"IF(AM176>0,(AM174*AM175)*(1-1/AM176),0)","v":0},0,0,0,0,0,0,0,0,0,0,0,0,0,0,0,0,0,0,0,0,0,0,0,0,0,0,0,0,0,null,null,null,null,null,null,null,null,null,null,null,null,null,null,null,null,null,null,null,null,null,null,null,null,null,null,null,null,null,null,null,null,null,null,null,null,null,null,null,null,null,null,null,null,null,null,null,null,null,null,null,null,null,null,null,"RA600","PRODUCT","PPRD_RED","HPATAEW","HP_EW","_Z","_Z","_Z","ENERGY","_Z","GWH",null,"nrg_ind_ahbtc","RA600","PPRD_RED","_Z","ATH_EWW_EW","GWH","Agg.=SUM(countries)"]
["Geothermal energy",null,null,null,null,null,null,{"$f":"SUM(H184,H190)","v":0},0,0,0,0,0,0,0,0,0,0,0,0,0,0,0,0,0,0,0,0,0,0,0,0,0,0,0,0,0,{"$f":"SUM(AL184,AL190)","v":0},{"$f":"SUM(AM184,AM190)","v":0},0,0,0,0,0,0,0,0,0,0,0,0,0,0,0,0,0,0,0,0,0,0,0,0,0,0,0,0,0,null,null,null,null,null,null,null,null,null,null,null,null,null,null,null,null,null,null,null,null,null,null,null,null,null,null,null,null,null,null,null,null,null,null,null,null,null,null,null,null,null,null,null,null,null,null,null,null,null,null,null,null,null,null,null,"RA600","PRODUCT","PPRD_RED","HPGT","HP_EW","_Z","_Z","_Z","ENERGY","_Z","GWH",null,"nrg_ind_ahbtc","RA600","PPRD_RED","_Z","GTH_EW","GWH","Agg.=SUM(countries)"]
[null,"Ground-Air"]
[null,null,"Capacity of heat pump installed",null,null,null,"[GW]",0,0,0,0,0,0,0,0,0,0,0,0,0,0,0,0,0,0,0,0,0,0,0,0,0,0,0,0,0,0,0,0,0,0,0,0,0,0,0,0,0,0,0,0,0,0,0,0,0,0,0,0,0,0,0,0,0,0,0,0,0,null,null,null,null,null,null,null,null,null,null,null,null,null,null,null,null,null,null,null,null,null,null,null,null,null,null,null,null,null,null,null,null,null,null,null,null,null,null,null,null,null,null,null,null,null,null,null,null,null,null,null,null,null,null,null,"RA600","_Z",{"$f":"EH180","v":"_Z"},"HPGTGA","HP_EW","_Z","HPCAP","_Z","ENERGY","_Z","GW",null,"nrg_ind_hptctc","RA600","_Z","CAP_HEAT","GTH_GA_EW","GW","Agg.=SUM(countries)"]
[null,null,"of which SPF is above the minimum threshold",null,null,null,"[GW]",0,0,0,0,0,0,0,0,0,0,0,0,0,0,0,0,0,0,0,0,0,0,0,0,0,0,0,0,0,0,0,0,0,0,0,0,0,0,0,0,0,0,0,0,0,0,0,0,0,0,0,0,0,0,0,0,0,0,0,0,0,null,null,null,null,null,null,null,null,null,null,null,null,null,null,null,null,null,null,null,null,null,null,null,null,null,null,null,null,null,null,null,null,null,null,null,null,null,null,null,null,null,null,null,null,null,null,null,null,null,null,null,null,null,null,null,"RA600","_Z",{"$f":"EH181","v":"_Z"},"HPGTGA","HP_EW","_Z","HPCAPABVTH","_Z","ENERGY","_Z","GW",null,"nrg_ind_hptctc","RA600","_Z","CAP_ABVTH","GTH_GA_EW","GW","Agg.=SUM(countries)"]
[null,null,"Equivalent full load hours of operation",null,null,null,"[h]",1340,1340,1340,1340,1340,1340,1340,1340,1340,1340,1340,1340,1340,1340,1340,1340,1340,1340,1340,1340,1340,1340,1340,1340,1340,1340,1340,1340,1340,1340,1340,1340,1340,1340,1340,1340,1340,1340,1340,1340,1340,1340,1340,1340,1340,1340,1340,1340,1340,1340,1340,1340,1340,1340,1340,1340,1340,1340,1340,1340,1340,null,null,null,null,null,null,null,null,null,null,null,null,null,null,null,null,null,null,null,null,null,null,null,null,null,null,null,null,null,null,null,null,null,null,null,null,null,null,null,null,null,null,null,null,null,null,null,null,null,null,null,null,null,null,null,"RA600","_Z",{"$f":"EH182","v":"_Z"},"HPGTGA","HP_EW","_Z","TUS","_Z","_Z","_Z","HR",null,"nrg_ind_hptctc","RA600","_Z","TIME_USE","GTH_GA_EW","HR","COUNTRY AGGREGATE IS NOT CALCULATED"]
[null,null,"Estimated average SPF",null,null,null,null,3.2,3.2,3.2,3.2,3.2,3.2,3.2,3.2,3.2,3.2,3.2,3.2,3.2,3.2,3.2,3.2,3.2,3.2,3.2,3.2,3.2,3.2,3.2,3.2,3.2,3.2,3.2,3.2,3.2,3.2,3.2,3.2,3.2,3.2,3.2,3.2,3.2,3.2,3.2,3.2,3.2,3.2,3.2,3.2,3.2,3.2,3.2,3.2,3.2,3.2,3.2,3.2,3.2,3.2,3.2,3.2,3.2,3.2,3.2,3.2,3.2,null,null,null,null,null,null,null,null,null,null,null,null,null,null,null,null,null,null,null,null,null,null,null,null,null,null,null,null,null,null,null,null,null,null,null,null,null,null,null,null,null,null,null,null,null,null,null,null,null,null,null,null,null,null,null,"RA600","_Z",{"$f":"EH183","v":"_Z"},"HPGTGA","HP_EW","_Z","SPF","_Z","_Z","_Z","NR",null,"nrg_ind_hptctc","RA600","_Z","SPERF_FACT","GTH_GA_EW","NR","COUNTRY AGGREGATE IS NOT CALCULATED"]
[null,null,"The amount of renewable energy supplied",null,null,null,"[GWh]",{"$f":"IF(H183>0,(H181*H182)*(1-1/H183),0)","v":0},0,0,0,0,0,0,0,0,0,0,0,0,0,0,0,0,0,0,0,0,0,0,0,0,0,0,0,0,0,0,{"$f":"IF(AM183>0,(AM181*AM182)*(1-1/AM183),0)","v":0},0,0,0,0,0,0,0,0,0,0,0,0,0,0,0,0,0,0,0,0,0,0,0,0,0,0,0,0,0,null,null,null,null,null,null,null,null,null,null,null,null,null,null,null,null,null,null,null,null,null,null,null,null,null,null,null,null,null,null,null,null,null,null,null,null,null,null,null,null,null,null,null,null,null,null,null,null,null,null,null,null,null,null,null,"RA600","PRODUCT",{"$f":"EH184","v":"PPRD_RED"},"HPGTGA","HP_EW","_Z","_Z","_Z","ENERGY","_Z","GWH",null,"nrg_ind_ahbtc","RA600","PPRD_RED","_Z","GTH_GA_EW","GWH","Agg.=SUM(countries)"]
[null,"Ground-Water"]
[null,null,"Capacity of heat pump installed",null,null,null,"[GW]",0,0,0,0,0,0,0,0,0,0,0,0,0,0,0,0,0,0,0,0,0,0,0,0,0,0,0,0,0,0,0,0,0,0,0,0,0,0,0,0,0,0,0,0,0,0,0,0,0,0,0,0,0,0,0,0,0,0,0,0,0,null,null,null,null,null,null,null,null,null,null,null,null,null,null,null,null,null,null,null,null,null,null,null,null,null,null,null,null,null,null,null,null,null,null,null,null,null,null,null,null,null,null,null,null,null,null,null,null,null,null,null,null,null,null,null,"RA600","_Z",{"$f":"EH186","v":"_Z"},"HPGTGW","HP_EW","_Z","HPCAP","_Z","ENERGY","_Z","GW",null,"nrg_ind_hptctc","RA600","_Z","CAP_HEAT","GTH_GW_EW","GW","Agg.=SUM(countries)"]
[null,null,"of which SPF is above the minimum threshold",null,null,null,"[GW]",0,0,0,0,0,0,0,0,0,0,0,0,0,0,0,0,0,0,0,0,0,0,0,0,0,0,0,0,0,0,0,0,0,0,0,0,0,0,0,0,0,0,0,0,0,0,0,0,0,0,0,0,0,0,0,0,0,0,0,0,0,null,null,null,null,null,null,null,null,null,null,null,null,null,null,null,null,null,null,null,null,null,null,null,null,null,null,null,null,null,null,null,null,null,null,null,null,null,null,null,null,null,null,null,null,null,null,null,null,null,null,null,null,null,null,null,"RA600","_Z","_Z","HPGTGW","HP_EW","_Z","HPCAPABVTH","_Z","ENERGY","_Z","GW",null,"nrg_ind_hptctc","RA600","_Z","CAP_ABVTH","GTH_GW_EW","GW","Agg.=SUM(countries)"]
[null,null,"Equivalent full load hours of operation",null,null,null,"[h]",1340,1340,1340,1340,1340,1340,1340,1340,1340,1340,1340,1340,1340,1340,1340,1340,1340,1340,1340,1340,1340,1340,1340,1340,1340,1340,1340,1340,1340,1340,1340,1340,1340,1340,1340,1340,1340,1340,1340,1340,1340,1340,1340,1340,1340,1340,1340,1340,1340,1340,1340,1340,1340,1340,1340,1340,1340,1340,1340,1340,1340,null,null,null,null,null,null,null,null,null,null,null,null,null,null,null,null,null,null,null,null,null,null,null,null,null,null,null,null,null,null,null,null,null,null,null,null,null,null,null,null,null,null,null,null,null,null,null,null,null,null,null,null,null,null,null,"RA600","_Z","_Z","HPGTGW","HP_EW","_Z","TUS","_Z","_Z","_Z","HR",null,"nrg_ind_hptctc","RA600","_Z","TIME_USE","GTH_GW_EW","HR","COUNTRY AGGREGATE IS NOT CALCULATED"]
[null,null,"Estimated average SPF",null,null,null,null,3.5,3.5,3.5,3.5,3.5,3.5,3.5,3.5,3.5,3.5,3.5,3.5,3.5,3.5,3.5,3.5,3.5,3.5,3.5,3.5,3.5,3.5,3.5,3.5,3.5,3.5,3.5,3.5,3.5,3.5,3.5,3.5,3.5,3.5,3.5,3.5,3.5,3.5,3.5,3.5,3.5,3.5,3.5,3.5,3.5,3.5,3.5,3.5,3.5,3.5,3.5,3.5,3.5,3.5,3.5,3.5,3.5,3.5,3.5,3.5,3.5,null,null,null,null,null,null,null,null,null,null,null,null,null,null,null,null,null,null,null,null,null,null,null,null,null,null,null,null,null,null,null,null,null,null,null,null,null,null,null,null,null,null,null,null,null,null,null,null,null,null,null,null,null,null,null,"RA600","_Z","_Z","HPGTGW","HP_EW","_Z","SPF","_Z","_Z","_Z","NR",null,"nrg_ind_hptctc","RA600","_Z","SPERF_FACT","GTH_GW_EW","NR","COUNTRY AGGREGATE IS NOT CALCULATED"]
[null,null,"The amount of renewable energy supplied",null,null,null,"[GWh]",{"$f":"IF(H189>0,(H187*H188)*(1-1/H189),0)","v":0},0,0,0,0,0,0,0,0,0,0,0,0,0,0,0,0,0,0,0,0,0,0,0,0,0,0,0,0,0,0,{"$f":"IF(AM189>0,(AM187*AM188)*(1-1/AM189),0)","v":0},0,0,0,0,0,0,0,0,0,0,0,0,0,0,0,0,0,0,0,0,0,0,0,0,0,0,0,0,0,null,null,null,null,null,null,null,null,null,null,null,null,null,null,null,null,null,null,null,null,null,null,null,null,null,null,null,null,null,null,null,null,null,null,null,null,null,null,null,null,null,null,null,null,null,null,null,null,null,null,null,null,null,null,null,"RA600","PRODUCT","PPRD_RED","HPGTGW","HP_EW","_Z","_Z","_Z","ENERGY","_Z","GWH",null,"nrg_ind_ahbtc","RA600","PPRD_RED","_Z","GTH_GW_EW","GWH","Agg.=SUM(countries)"]
["Hydrothermal heat",null,null,null,null,null,null,{"$f":"SUM(H197,H203)","v":0},0,0,0,0,0,0,0,0,0,0,0,0,0,0,0,0,0,0,0,0,0,0,0,0,0,0,0,0,0,{"$f":"SUM(AL197,AL203)","v":0},{"$f":"SUM(AM197,AM203)","v":0},0,0,0,0,0,0,0,0,0,0,0,0,0,0,0,0,0,0,0,0,0,0,0,0,0,0,0,0,0,null,null,null,null,null,null,null,null,null,null,null,null,null,null,null,null,null,null,null,null,null,null,null,null,null,null,null,null,null,null,null,null,null,null,null,null,null,null,null,null,null,null,null,null,null,null,null,null,null,null,null,null,null,null,null,"RA600","PRODUCT","PPRD_RED","HPHT","HP_EW","_Z","_Z","_Z","ENERGY","_Z","GWH",null,"nrg_ind_ahbtc","RA600","PPRD_RED","_Z","HTH_EW","GWH","Agg.=SUM(countries)"]
[null,"Water-Air"]
[null,null,"Capacity of heat pump installed",null,null,null,"[GW]",0,0,0,0,0,0,0,0,0,0,0,0,0,0,0,0,0,0,0,0,0,0,0,0,0,0,0,0,0,0,0,0,0,0,0,0,0,0,0,0,0,0,0,0,0,0,0,0,0,0,0,0,0,0,0,0,0,0,0,0,0,null,null,null,null,null,null,null,null,null,null,null,null,null,null,null,null,null,null,null,null,null,null,null,null,null,null,null,null,null,null,null,null,null,null,null,null,null,null,null,null,null,null,null,null,null,null,null,null,null,null,null,null,null,null,null,"RA600","_Z","_Z","HPHTWA","HP_EW","_Z","HPCAP","_Z","ENERGY","_Z","GW",null,"nrg_ind_hptctc","RA600","_Z","CAP_HEAT","HTH_WA_EW","GW","Agg.=SUM(countries)"]
[null,null,"of which SPF is above the minimum threshold",null,null,null,"[GW]",0,0,0,0,0,0,0,0,0,0,0,0,0,0,0,0,0,0,0,0,0,0,0,0,0,0,0,0,0,0,0,0,0,0,0,0,0,0,0,0,0,0,0,0,0,0,0,0,0,0,0,0,0,0,0,0,0,0,0,0,0,null,null,null,null,null,null,null,null,null,null,null,null,null,null,null,null,null,null,null,null,null,null,null,null,null,null,null,null,null,null,null,null,null,null,null,null,null,null,null,null,null,null,null,null,null,null,null,null,null,null,null,null,null,null,null,"RA600","_Z","_Z","HPHTWA","HP_EW","_Z","HPCAPABVTH","_Z","ENERGY","_Z","GW",null,"nrg_ind_hptctc","RA600","_Z","CAP_ABVTH","HTH_WA_EW","GW","Agg.=SUM(countries)"]
[null,null,"Equivalent full load hours of operation",null,null,null,"[h]",1340,1340,1340,1340,1340,1340,1340,1340,1340,1340,1340,1340,1340,1340,1340,1340,1340,1340,1340,1340,1340,1340,1340,1340,1340,1340,1340,1340,1340,1340,1340,1340,1340,1340,1340,1340,1340,1340,1340,1340,1340,1340,1340,1340,1340,1340,1340,1340,1340,1340,1340,1340,1340,1340,1340,1340,1340,1340,1340,1340,1340,null,null,null,null,null,null,null,null,null,null,null,null,null,null,null,null,null,null,null,null,null,null,null,null,null,null,null,null,null,null,null,null,null,null,null,null,null,null,null,null,null,null,null,null,null,null,null,null,null,null,null,null,null,null,null,"RA600","_Z","_Z","HPHTWA","HP_EW","_Z","TUS","_Z","_Z","_Z","HR",null,"nrg_ind_hptctc","RA600","_Z","TIME_USE","HTH_WA_EW","HR","COUNTRY AGGREGATE IS NOT CALCULATED"]
[null,null,"Estimated average SPF",null,null,null,null,3.2,3.2,3.2,3.2,3.2,3.2,3.2,3.2,3.2,3.2,3.2,3.2,3.2,3.2,3.2,3.2,3.2,3.2,3.2,3.2,3.2,3.2,3.2,3.2,3.2,3.2,3.2,3.2,3.2,3.2,3.2,3.2,3.2,3.2,3.2,3.2,3.2,3.2,3.2,3.2,3.2,3.2,3.2,3.2,3.2,3.2,3.2,3.2,3.2,3.2,3.2,3.2,3.2,3.2,3.2,3.2,3.2,3.2,3.2,3.2,3.2,null,null,null,null,null,null,null,null,null,null,null,null,null,null,null,null,null,null,null,null,null,null,null,null,null,null,null,null,null,null,null,null,null,null,null,null,null,null,null,null,null,null,null,null,null,null,null,null,null,null,null,null,null,null,null,"RA600","_Z","_Z","HPHTWA","HP_EW","_Z","SPF","_Z","_Z","_Z","NR",null,"nrg_ind_hptctc","RA600","_Z","SPERF_FACT","HTH_WA_EW","NR","COUNTRY AGGREGATE IS NOT CALCULATED"]
[null,null,"The amount of renewable energy supplied",null,null,null,"[GWh]",{"$f":"IF(H196>0,(H194*H195)*(1-1/H196),0)","v":0},0,0,0,0,0,0,0,0,0,0,0,0,0,0,0,0,0,0,0,0,0,0,0,0,0,0,0,0,0,0,{"$f":"IF(AM196>0,(AM194*AM195)*(1-1/AM196),0)","v":0},0,0,0,0,0,0,0,0,0,0,0,0,0,0,0,0,0,0,0,0,0,0,0,0,0,0,0,0,0,null,null,null,null,null,null,null,null,null,null,null,null,null,null,null,null,null,null,null,null,null,null,null,null,null,null,null,null,null,null,null,null,null,null,null,null,null,null,null,null,null,null,null,null,null,null,null,null,null,null,null,null,null,null,null,"RA600","PRODUCT","PPRD_RED","HPHTWA","HP_EW","_Z","_Z","_Z","ENERGY","_Z","GWH",null,"nrg_ind_ahbtc","RA600","PPRD_RED","_Z","HTH_WA_EW","GWH","Agg.=SUM(countries)"]
[null,"Water-Water"]
[null,null,"Capacity of heat pump installed",null,null,null,"[GW]",0,0,0,0,0,0,0,0,0,0,0,0,0,0,0,0,0,0,0,0,0,0,0,0,0,0,0,0,0,0,0,0,0,0,0,0,0,0,0,0,0,0,0,0,0,0,0,0,0,0,0,0,0,0,0,0,0,0,0,0,0,null,null,null,null,null,null,null,null,null,null,null,null,null,null,null,null,null,null,null,null,null,null,null,null,null,null,null,null,null,null,null,null,null,null,null,null,null,null,null,null,null,null,null,null,null,null,null,null,null,null,null,null,null,null,null,"RA600","_Z","_Z","HPHTWW","HP_EW","_Z","HPCAP","_Z","ENERGY","_Z","GW",null,"nrg_ind_hptctc","RA600","_Z","CAP_HEAT","HTH_WW_EW","GW","Agg.=SUM(countries)"]
[null,null,"of which SPF is above the minimum threshold",null,null,null,"[GW]",0,0,0,0,0,0,0,0,0,0,0,0,0,0,0,0,0,0,0,0,0,0,0,0,0,0,0,0,0,0,0,0,0,0,0,0,0,0,0,0,0,0,0,0,0,0,0,0,0,0,0,0,0,0,0,0,0,0,0,0,0,null,null,null,null,null,null,null,null,null,null,null,null,null,null,null,null,null,null,null,null,null,null,null,null,null,null,null,null,null,null,null,null,null,null,null,null,null,null,null,null,null,null,null,null,null,null,null,null,null,null,null,null,null,null,null,"RA600","_Z","_Z","HPHTWW","HP_EW","_Z","HPCAPABVTH","_Z","ENERGY","_Z","GW",null,"nrg_ind_hptctc","RA600","_Z","CAP_ABVTH","HTH_WW_EW","GW","Agg.=SUM(countries)"]
[null,null,"Equivalent full load hours of operation",null,null,null,"[h]",1340,1340,1340,1340,1340,1340,1340,1340,1340,1340,1340,1340,1340,1340,1340,1340,1340,1340,1340,1340,1340,1340,1340,1340,1340,1340,1340,1340,1340,1340,1340,1340,1340,1340,1340,1340,1340,1340,1340,1340,1340,1340,1340,1340,1340,1340,1340,1340,1340,1340,1340,1340,1340,1340,1340,1340,1340,1340,1340,1340,1340,null,null,null,null,null,null,null,null,null,null,null,null,null,null,null,null,null,null,null,null,null,null,null,null,null,null,null,null,null,null,null,null,null,null,null,null,null,null,null,null,null,null,null,null,null,null,null,null,null,null,null,null,null,null,null,"RA600","_Z","_Z","HPHTWW","HP_EW","_Z","TUS","_Z","_Z","_Z","HR",null,"nrg_ind_hptctc","RA600","_Z","TIME_USE","HTH_WW_EW","HR","COUNTRY AGGREGATE IS NOT CALCULATED"]
[null,null,"Estimated average SPF",null,null,null,null,3.5,3.5,3.5,3.5,3.5,3.5,3.5,3.5,3.5,3.5,3.5,3.5,3.5,3.5,3.5,3.5,3.5,3.5,3.5,3.5,3.5,3.5,3.5,3.5,3.5,3.5,3.5,3.5,3.5,3.5,3.5,3.5,3.5,3.5,3.5,3.5,3.5,3.5,3.5,3.5,3.5,3.5,3.5,3.5,3.5,3.5,3.5,3.5,3.5,3.5,3.5,3.5,3.5,3.5,3.5,3.5,3.5,3.5,3.5,3.5,3.5,null,null,null,null,null,null,null,null,null,null,null,null,null,null,null,null,null,null,null,null,null,null,null,null,null,null,null,null,null,null,null,null,null,null,null,null,null,null,null,null,null,null,null,null,null,null,null,null,null,null,null,null,null,null,null,"RA600","_Z","_Z","HPHTWW","HP_EW","_Z","SPF","_Z","_Z","_Z","NR",null,"nrg_ind_hptctc","RA600","_Z","SPERF_FACT","HTH_WW_EW","NR","COUNTRY AGGREGATE IS NOT CALCULATED"]
[null,null,"The amount of renewable energy supplied",null,null,null,"[GWh]",{"$f":"IF(H202>0,(H200*H201)*(1-1/H202),0)","v":0},0,0,0,0,0,0,0,0,0,0,0,0,0,0,0,0,0,0,0,0,0,0,0,0,0,0,0,0,0,0,{"$f":"IF(AM202>0,(AM200*AM201)*(1-1/AM202),0)","v":0},0,0,0,0,0,0,0,0,0,0,0,0,0,0,0,0,0,0,0,0,0,0,0,0,0,0,0,0,0,null,null,null,null,null,null,null,null,null,null,null,null,null,null,null,null,null,null,null,null,null,null,null,null,null,null,null,null,null,null,null,null,null,null,null,null,null,null,null,null,null,null,null,null,null,null,null,null,null,null,null,null,null,null,null,"RA600","PRODUCT","PPRD_RED","HPHTWW","HP_EW","_Z","_Z","_Z","ENERGY","_Z","GWH",null,"nrg_ind_ahbtc","RA600","PPRD_RED","_Z","HTH_WW_EW","GWH","Agg.=SUM(countries)"]
[]
["HEAT PUMPS DRIVEN BY THERMAL ENERGY in COLDER CLIMATE"]
["Aerothermal energy",null,null,null,null,null,null,{"$f":"SUM(H212,H218,H224,H230,H236,H242)","v":0},0,0,0,0,0,0,0,0,0,0,0,0,0,0,0,0,0,0,0,0,0,0,0,0,0,0,0,0,0,{"$f":"SUM(AL212,AL218,AL224,AL230,AL236,AL242)","v":0},{"$f":"SUM(AM212,AM218,AM224,AM230,AM236,AM242)","v":0},0,0,0,0,0,0,0,0,0,0,0,0,0,0,0,0,0,0,0,0,0,0,0,0,0,0,0,0,0,null,null,null,null,null,null,null,null,null,null,null,null,null,null,null,null,null,null,null,null,null,null,null,null,null,null,null,null,null,null,null,null,null,null,null,null,null,null,null,null,null,null,null,null,null,null,null,null,null,null,null,null,null,null,null,"RA600","PRODUCT",{"$f":"EH206","v":"PPRD_RED"},"HPAT","HP_TC","_Z","_Z","_Z","ENERGY","_Z","GWH",null,"nrg_ind_ahbtc","RA600","PPRD_RED","_Z","ATH_TC","GWH","Agg.=SUM(countries)"]
[null,"Air-Air"]
[null,null,"Capacity of heat pump installed",null,null,null,"[GW]",0,0,0,0,0,0,0,0,0,0,0,0,0,0,0,0,0,0,0,0,0,0,0,0,0,0,0,0,0,0,0,0,0,0,0,0,0,0,0,0,0,0,0,0,0,0,0,0,0,0,0,0,0,0,0,0,0,0,0,0,0,null,null,null,null,null,null,null,null,null,null,null,null,null,null,null,null,null,null,null,null,null,null,null,null,null,null,null,null,null,null,null,null,null,null,null,null,null,null,null,null,null,null,null,null,null,null,null,null,null,null,null,null,null,null,null,"RA600","_Z",{"$f":"EH208","v":"_Z"},"HPATAA","HP_TC","_Z","HPCAP","_Z","ENERGY","_Z","GW",null,"nrg_ind_hptctc","RA600","_Z","CAP_HEAT","ATH_AA_TC","GW","Agg.=SUM(countries)"]
[null,null,"of which SPF is above the minimum threshold",null,null,null,"[GW]",0,0,0,0,0,0,0,0,0,0,0,0,0,0,0,0,0,0,0,0,0,0,0,0,0,0,0,0,0,0,0,0,0,0,0,0,0,0,0,0,0,0,0,0,0,0,0,0,0,0,0,0,0,0,0,0,0,0,0,0,0,null,null,null,null,null,null,null,null,null,null,null,null,null,null,null,null,null,null,null,null,null,null,null,null,null,null,null,null,null,null,null,null,null,null,null,null,null,null,null,null,null,null,null,null,null,null,null,null,null,null,null,null,null,null,null,"RA600","_Z",{"$f":"EH209","v":"_Z"},"HPATAA","HP_TC","_Z","HPCAPABVTH","_Z","ENERGY","_Z","GW",null,"nrg_ind_hptctc","RA600","_Z","CAP_ABVTH","ATH_AA_TC","GW","Agg.=SUM(countries)"]
[null,null,"Equivalent full load hours of operation",null,null,null,"[h]",1970,1970,1970,1970,1970,1970,1970,1970,1970,1970,1970,1970,1970,1970,1970,1970,1970,1970,1970,1970,1970,1970,1970,1970,1970,1970,1970,1970,1970,1970,1970,1970,1970,1970,1970,1970,1970,1970,1970,1970,1970,1970,1970,1970,1970,1970,1970,1970,1970,1970,1970,1970,1970,1970,1970,1970,1970,1970,1970,1970,1970,null,null,null,null,null,null,null,null,null,null,null,null,null,null,null,null,null,null,null,null,null,null,null,null,null,null,null,null,null,null,null,null,null,null,null,null,null,null,null,null,null,null,null,null,null,null,null,null,null,null,null,null,null,null,null,"RA600","_Z",{"$f":"EH210","v":"_Z"},"HPATAA","HP_TC","_Z","TUS","_Z","_Z","_Z","HR",null,"nrg_ind_hptctc","RA600","_Z","TIME_USE","ATH_AA_TC","HR","COUNTRY AGGREGATE IS NOT CALCULATED"]
[null,null,"Estimated average SPF",null,null,null,null,1.1499999999999999,1.1499999999999999,1.1499999999999999,1.1499999999999999,1.1499999999999999,1.1499999999999999,1.1499999999999999,1.1499999999999999,1.1499999999999999,1.1499999999999999,1.1499999999999999,1.1499999999999999,1.1499999999999999,1.1499999999999999,1.1499999999999999,1.1499999999999999,1.1499999999999999,1.1499999999999999,1.1499999999999999,1.1499999999999999,1.1499999999999999,1.1499999999999999,1.1499999999999999,1.1499999999999999,1.1499999999999999,1.1499999999999999,1.1499999999999999,1.1499999999999999,1.1499999999999999,1.1499999999999999,1.1499999999999999,1.1499999999999999,1.1499999999999999,1.1499999999999999,1.1499999999999999,1.1499999999999999,1.1499999999999999,1.1499999999999999,1.1499999999999999,1.1499999999999999,1.1499999999999999,1.1499999999999999,1.1499999999999999,1.1499999999999999,1.1499999999999999,1.1499999999999999,1.1499999999999999,1.1499999999999999,1.1499999999999999,1.1499999999999999,1.1499999999999999,1.1499999999999999,1.1499999999999999,1.1499999999999999,1.1499999999999999,1.1499999999999999,1.1499999999999999,1.1499999999999999,1.1499999999999999,1.1499999999999999,1.1499999999999999,null,null,null,null,null,null,null,null,null,null,null,null,null,null,null,null,null,null,null,null,null,null,null,null,null,null,null,null,null,null,null,null,null,null,null,null,null,null,null,null,null,null,null,null,null,null,null,null,null,null,null,null,null,null,null,"RA600","_Z",{"$f":"EH211","v":"_Z"},"HPATAA","HP_TC","_Z","SPF","_Z","_Z","_Z","NR",null,"nrg_ind_hptctc","RA600","_Z","SPERF_FACT","ATH_AA_TC","NR","COUNTRY AGGREGATE IS NOT CALCULATED"]
[null,null,"The amount of renewable energy supplied",null,null,null,"[GWh]",{"$f":"IF(H211>0,(H209*H210)*(1-1/H211),0)","v":0},0,0,0,0,0,0,0,0,0,0,0,0,0,0,0,0,0,0,0,0,0,0,0,0,0,0,0,0,0,0,{"$f":"IF(AM211>0,(AM209*AM210)*(1-1/AM211),0)","v":0},0,0,0,0,0,0,0,0,0,0,0,0,0,0,0,0,0,0,0,0,0,0,0,0,0,0,0,0,0,null,null,null,null,null,null,null,null,null,null,null,null,null,null,null,null,null,null,null,null,null,null,null,null,null,null,null,null,null,null,null,null,null,null,null,null,null,null,null,null,null,null,null,null,null,null,null,null,null,null,null,null,null,null,null,"RA600","PRODUCT",{"$f":"EH212","v":"PPRD_RED"},"HPATAA","HP_TC","_Z","_Z","_Z","ENERGY","_Z","GWH",null,"nrg_ind_ahbtc","RA600","PPRD_RED","_Z","ATH_AA_TC","GWH","Agg.=SUM(countries)"]
[null,"Air-Water"]
[null,null,"Capacity of heat pump installed",null,null,null,"[GW]",0,0,0,0,0,0,0,0,0,0,0,0,0,0,0,0,0,0,0,0,0,0,0,0,0,0,0,0,0,0,0,0,0,0,0,0,0,0,0,0,0,0,0,0,0,0,0,0,0,0,0,0,0,0,0,0,0,0,0,0,0,null,null,null,null,null,null,null,null,null,null,null,null,null,null,null,null,null,null,null,null,null,null,null,null,null,null,null,null,null,null,null,null,null,null,null,null,null,null,null,null,null,null,null,null,null,null,null,null,null,null,null,null,null,null,null,"RA600","_Z",{"$f":"EH214","v":"_Z"},"HPATAW","HP_TC","_Z","HPCAP","_Z","ENERGY","_Z","GW",null,"nrg_ind_hptctc","RA600","_Z","CAP_HEAT","ATH_AW_TC","GW","Agg.=SUM(countries)"]
[null,null,"of which SPF is above the minimum threshold",null,null,null,"[GW]",0,0,0,0,0,0,0,0,0,0,0,0,0,0,0,0,0,0,0,0,0,0,0,0,0,0,0,0,0,0,0,0,0,0,0,0,0,0,0,0,0,0,0,0,0,0,0,0,0,0,0,0,0,0,0,0,0,0,0,0,0,null,null,null,null,null,null,null,null,null,null,null,null,null,null,null,null,null,null,null,null,null,null,null,null,null,null,null,null,null,null,null,null,null,null,null,null,null,null,null,null,null,null,null,null,null,null,null,null,null,null,null,null,null,null,null,"RA600","_Z",{"$f":"EH215","v":"_Z"},"HPATAW","HP_TC","_Z","HPCAPABVTH","_Z","ENERGY","_Z","GW",null,"nrg_ind_hptctc","RA600","_Z","CAP_ABVTH","ATH_AW_TC","GW","Agg.=SUM(countries)"]
[null,null,"Equivalent full load hours of operation",null,null,null,"[h]",1710,1710,1710,1710,1710,1710,1710,1710,1710,1710,1710,1710,1710,1710,1275,1577.96052631579,1720.5357142857099,1811.30136986301,1842.7595628415299,1620.4761904761899,1630.6659275704601,1681.46570581167,1706.0720195531101,1745.1906013764401,1766.039790991,1758.54592871355,1843.41346377851,1922.59698994878,1941.2592481521201,1965.23895106846,1710,1710,1710,1710,1710,1710,1710,1710,1710,1710,1710,1710,1710,1710,1710,1710,1710,1710,1710,1710,1710,1710,1710,1710,1710,1710,1710,1710,1710,1710,1710,null,null,null,null,null,null,null,null,null,null,null,null,null,null,null,null,null,null,null,null,null,null,null,null,null,null,null,null,null,null,null,null,null,null,null,null,null,null,null,null,null,null,null,null,null,null,null,null,null,null,null,null,null,null,null,"RA600","_Z",{"$f":"EH216","v":"_Z"},"HPATAW","HP_TC","_Z","TUS","_Z","_Z","_Z","HR",null,"nrg_ind_hptctc","RA600","_Z","TIME_USE","ATH_AW_TC","HR","COUNTRY AGGREGATE IS NOT CALCULATED"]
[null,null,"Estimated average SPF",null,null,null,null,1.1499999999999999,1.1499999999999999,1.1499999999999999,1.1499999999999999,1.1499999999999999,1.1499999999999999,1.1499999999999999,1.1499999999999999,1.1499999999999999,1.1499999999999999,1.1499999999999999,1.1499999999999999,1.1499999999999999,1.1499999999999999,1.5,1.5,1.5,1.5,1.5,1.4638227313837799,1.4193851675406799,1.3924598269508,1.37849019875717,1.37242787347578,1.3723603112360301,1.3754405859848,1.3803416246587401,1.3861532121323601,1.3918726099030601,1.3974129463528999,1.1499999999999999,1.1499999999999999,1.1499999999999999,1.1499999999999999,1.1499999999999999,1.1499999999999999,1.1499999999999999,1.1499999999999999,1.1499999999999999,1.1499999999999999,1.1499999999999999,1.1499999999999999,1.1499999999999999,1.1499999999999999,1.1499999999999999,1.1499999999999999,1.1499999999999999,1.1499999999999999,1.1499999999999999,1.1499999999999999,1.1499999999999999,1.1499999999999999,1.1499999999999999,1.1499999999999999,1.1499999999999999,1.1499999999999999,1.1499999999999999,1.1499999999999999,1.1499999999999999,1.1499999999999999,1.1499999999999999,null,null,null,null,null,null,null,null,null,null,null,null,null,null,null,null,null,null,null,null,null,null,null,null,null,null,null,null,null,null,null,null,null,null,null,null,null,null,null,null,null,null,null,null,null,null,null,null,null,null,null,null,null,null,null,"RA600","_Z",{"$f":"EH217","v":"_Z"},"HPATAW","HP_TC","_Z","SPF","_Z","_Z","_Z","NR",null,"nrg_ind_hptctc","RA600","_Z","SPERF_FACT","ATH_AW_TC","NR","COUNTRY AGGREGATE IS NOT CALCULATED"]
[null,null,"The amount of renewable energy supplied",null,null,null,"[GWh]",{"$f":"IF(H217>0,(H215*H216)*(1-1/H217),0)","v":0},0,0,0,0,0,0,0,0,0,0,0,0,0,0,0,0,0,0,0,0,0,0,0,0,0,0,0,0,0,0,{"$f":"IF(AM217>0,(AM215*AM216)*(1-1/AM217),0)","v":0},0,0,0,0,0,0,0,0,0,0,0,0,0,0,0,0,0,0,0,0,0,0,0,0,0,0,0,0,0,null,null,null,null,null,null,null,null,null,null,null,null,null,null,null,null,null,null,null,null,null,null,null,null,null,null,null,null,null,null,null,null,null,null,null,null,null,null,null,null,null,null,null,null,null,null,null,null,null,null,null,null,null,null,null,"RA600","PRODUCT",{"$f":"EH218","v":"PPRD_RED"},"HPATAW","HP_TC","_Z","_Z","_Z","ENERGY","_Z","GWH",null,"nrg_ind_ahbtc","RA600","PPRD_RED","_Z","ATH_AW_TC","GWH","Agg.=SUM(countries)"]
[null,"Air-Air (reversible)"]
[null,null,"Capacity of heat pump installed",null,null,null,"[GW]",0,0,0,0,0,0,0,0,0,0,0,0,0,0,0,0,0,0,0,0,0,0,0,0,0,0,0,0,0,0,0,0,0,0,0,0,0,0,0,0,0,0,0,0,0,0,0,0,0,0,0,0,0,0,0,0,0,0,0,0,0,null,null,null,null,null,null,null,null,null,null,null,null,null,null,null,null,null,null,null,null,null,null,null,null,null,null,null,null,null,null,null,null,null,null,null,null,null,null,null,null,null,null,null,null,null,null,null,null,null,null,null,null,null,null,null,"RA600","_Z",{"$f":"EH220","v":"_Z"},"HPATAAR","HP_TC","_Z","HPCAP","_Z","ENERGY","_Z","GW",null,"nrg_ind_hptctc","RA600","_Z","CAP_HEAT","ATH_RAA_TC","GW","Agg.=SUM(countries)"]
[null,null,"of which SPF is above the minimum threshold",null,null,null,"[GW]",0,0,0,0,0,0,0,0,0,0,0,0,0,0,0,0,0,0,0,0,0,0,0,0,0,0,0,0,0,0,0,0,0,0,0,0,0,0,0,0,0,0,0,0,0,0,0,0,0,0,0,0,0,0,0,0,0,0,0,0,0,null,null,null,null,null,null,null,null,null,null,null,null,null,null,null,null,null,null,null,null,null,null,null,null,null,null,null,null,null,null,null,null,null,null,null,null,null,null,null,null,null,null,null,null,null,null,null,null,null,null,null,null,null,null,null,"RA600","_Z",{"$f":"EH221","v":"_Z"},"HPATAAR","HP_TC","_Z","HPCAPABVTH","_Z","ENERGY","_Z","GW",null,"nrg_ind_hptctc","RA600","_Z","CAP_ABVTH","ATH_RAA_TC","GW","Agg.=SUM(countries)"]
[null,null,"Equivalent full load hours of operation",null,null,null,"[h]",1970,1970,1970,1970,1970,1970,1970,1970,1970,1970,1970,1970,1970,1970,1970,1970,1970,1970,1970,1970,1970,1970,1970,1970,1970,1970,1970,1970,1970,1970,1970,1970,1970,1970,1970,1970,1970,1970,1970,1970,1970,1970,1970,1970,1970,1970,1970,1970,1970,1970,1970,1970,1970,1970,1970,1970,1970,1970,1970,1970,1970,null,null,null,null,null,null,null,null,null,null,null,null,null,null,null,null,null,null,null,null,null,null,null,null,null,null,null,null,null,null,null,null,null,null,null,null,null,null,null,null,null,null,null,null,null,null,null,null,null,null,null,null,null,null,null,"RA600","_Z",{"$f":"EH222","v":"_Z"},"HPATAAR","HP_TC","_Z","TUS","_Z","_Z","_Z","HR",null,"nrg_ind_hptctc","RA600","_Z","TIME_USE","ATH_RAA_TC","HR","COUNTRY AGGREGATE IS NOT CALCULATED"]
[null,null,"Estimated average SPF",null,null,null,null,1.1499999999999999,1.1499999999999999,1.1499999999999999,1.1499999999999999,1.1499999999999999,1.1499999999999999,1.1499999999999999,1.1499999999999999,1.1499999999999999,1.1499999999999999,1.1499999999999999,1.1499999999999999,1.1499999999999999,1.1499999999999999,1.1499999999999999,1.1499999999999999,1.1499999999999999,1.1499999999999999,1.1499999999999999,1.1499999999999999,1.1499999999999999,1.1499999999999999,1.1499999999999999,1.1499999999999999,1.1499999999999999,1.1499999999999999,1.1499999999999999,1.1499999999999999,1.1499999999999999,1.1499999999999999,1.1499999999999999,1.1499999999999999,1.1499999999999999,1.1499999999999999,1.1499999999999999,1.1499999999999999,1.1499999999999999,1.1499999999999999,1.1499999999999999,1.1499999999999999,1.1499999999999999,1.1499999999999999,1.1499999999999999,1.1499999999999999,1.1499999999999999,1.1499999999999999,1.1499999999999999,1.1499999999999999,1.1499999999999999,1.1499999999999999,1.1499999999999999,1.1499999999999999,1.1499999999999999,1.1499999999999999,1.1499999999999999,1.1499999999999999,1.1499999999999999,1.1499999999999999,1.1499999999999999,1.1499999999999999,1.1499999999999999,null,null,null,null,null,null,null,null,null,null,null,null,null,null,null,null,null,null,null,null,null,null,null,null,null,null,null,null,null,null,null,null,null,null,null,null,null,null,null,null,null,null,null,null,null,null,null,null,null,null,null,null,null,null,null,"RA600","_Z",{"$f":"EH223","v":"_Z"},"HPATAAR","HP_TC","_Z","SPF","_Z","_Z","_Z","NR",null,"nrg_ind_hptctc","RA600","_Z","SPERF_FACT","ATH_RAA_TC","NR","COUNTRY AGGREGATE IS NOT CALCULATED"]
[null,null,"The amount of renewable energy supplied",null,null,null,"[GWh]",{"$f":"IF(H223>0,(H221*H222)*(1-1/H223),0)","v":0},0,0,0,0,0,0,0,0,0,0,0,0,0,0,0,0,0,0,0,0,0,0,0,0,0,0,0,0,0,0,{"$f":"IF(AM223>0,(AM221*AM222)*(1-1/AM223),0)","v":0},0,0,0,0,0,0,0,0,0,0,0,0,0,0,0,0,0,0,0,0,0,0,0,0,0,0,0,0,0,null,null,null,null,null,null,null,null,null,null,null,null,null,null,null,null,null,null,null,null,null,null,null,null,null,null,null,null,null,null,null,null,null,null,null,null,null,null,null,null,null,null,null,null,null,null,null,null,null,null,null,null,null,null,null,"RA600","PRODUCT",{"$f":"EH224","v":"PPRD_RED"},"HPATAAR","HP_TC","_Z","_Z","_Z","ENERGY","_Z","GWH",null,"nrg_ind_ahbtc","RA600","PPRD_RED","_Z","ATH_RAA_TC","GWH","Agg.=SUM(countries)"]
[null,"Air-Water (reversible)"]
[null,null,"Capacity of heat pump installed",null,null,null,"[GW]",0,0,0,0,0,0,0,0,0,0,0,0,0,0,0,0,0,0,0,0,0,0,0,0,0,0,0,0,0,0,0,0,0,0,0,0,0,0,0,0,0,0,0,0,0,0,0,0,0,0,0,0,0,0,0,0,0,0,0,0,0,null,null,null,null,null,null,null,null,null,null,null,null,null,null,null,null,null,null,null,null,null,null,null,null,null,null,null,null,null,null,null,null,null,null,null,null,null,null,null,null,null,null,null,null,null,null,null,null,null,null,null,null,null,null,null,"RA600","_Z",{"$f":"EH226","v":"_Z"},"HPATAWR","HP_TC","_Z","HPCAP","_Z","ENERGY","_Z","GW",null,"nrg_ind_hptctc","RA600","_Z","CAP_HEAT","ATH_RAW_TC","GW","Agg.=SUM(countries)"]
[null,null,"of which SPF is above the minimum threshold",null,null,null,"[GW]",0,0,0,0,0,0,0,0,0,0,0,0,0,0,0,0,0,0,0,0,0,0,0,0,0,0,0,0,0,0,0,0,0,0,0,0,0,0,0,0,0,0,0,0,0,0,0,0,0,0,0,0,0,0,0,0,0,0,0,0,0,null,null,null,null,null,null,null,null,null,null,null,null,null,null,null,null,null,null,null,null,null,null,null,null,null,null,null,null,null,null,null,null,null,null,null,null,null,null,null,null,null,null,null,null,null,null,null,null,null,null,null,null,null,null,null,"RA600","_Z",{"$f":"EH227","v":"_Z"},"HPATAWR","HP_TC","_Z","HPCAPABVTH","_Z","ENERGY","_Z","GW",null,"nrg_ind_hptctc","RA600","_Z","CAP_ABVTH","ATH_RAW_TC","GW","Agg.=SUM(countries)"]
[null,null,"Equivalent full load hours of operation",null,null,null,"[h]",1710,1710,1710,1710,1710,1710,1710,1710,1710,1710,1710,1710,1710,1710,1710,1710,1710,1710,1710,1710,1710,1710,1710,1710,1710,1710,1710,1710,1710,1710,1710,1710,1710,1710,1710,1710,1710,1710,1710,1710,1710,1710,1710,1710,1710,1710,1710,1710,1710,1710,1710,1710,1710,1710,1710,1710,1710,1710,1710,1710,1710,null,null,null,null,null,null,null,null,null,null,null,null,null,null,null,null,null,null,null,null,null,null,null,null,null,null,null,null,null,null,null,null,null,null,null,null,null,null,null,null,null,null,null,null,null,null,null,null,null,null,null,null,null,null,null,"RA600","_Z",{"$f":"EH228","v":"_Z"},"HPATAWR","HP_TC","_Z","TUS","_Z","_Z","_Z","HR",null,"nrg_ind_hptctc","RA600","_Z","TIME_USE","ATH_RAW_TC","HR","COUNTRY AGGREGATE IS NOT CALCULATED"]
[null,null,"Estimated average SPF",null,null,null,null,1.1499999999999999,1.1499999999999999,1.1499999999999999,1.1499999999999999,1.1499999999999999,1.1499999999999999,1.1499999999999999,1.1499999999999999,1.1499999999999999,1.1499999999999999,1.1499999999999999,1.1499999999999999,1.1499999999999999,1.1499999999999999,1.1499999999999999,1.1499999999999999,1.1499999999999999,1.1499999999999999,1.1499999999999999,1.1499999999999999,1.1499999999999999,1.1499999999999999,1.1499999999999999,1.1499999999999999,1.1499999999999999,1.1499999999999999,1.1499999999999999,1.1499999999999999,1.1499999999999999,1.1499999999999999,1.1499999999999999,1.1499999999999999,1.1499999999999999,1.1499999999999999,1.1499999999999999,1.1499999999999999,1.1499999999999999,1.1499999999999999,1.1499999999999999,1.1499999999999999,1.1499999999999999,1.1499999999999999,1.1499999999999999,1.1499999999999999,1.1499999999999999,1.1499999999999999,1.1499999999999999,1.1499999999999999,1.1499999999999999,1.1499999999999999,1.1499999999999999,1.1499999999999999,1.1499999999999999,1.1499999999999999,1.1499999999999999,1.1499999999999999,1.1499999999999999,1.1499999999999999,1.1499999999999999,1.1499999999999999,1.1499999999999999,null,null,null,null,null,null,null,null,null,null,null,null,null,null,null,null,null,null,null,null,null,null,null,null,null,null,null,null,null,null,null,null,null,null,null,null,null,null,null,null,null,null,null,null,null,null,null,null,null,null,null,null,null,null,null,"RA600","_Z",{"$f":"EH229","v":"_Z"},"HPATAWR","HP_TC","_Z","SPF","_Z","_Z","_Z","NR",null,"nrg_ind_hptctc","RA600","_Z","SPERF_FACT","ATH_RAW_TC","NR","COUNTRY AGGREGATE IS NOT CALCULATED"]
[null,null,"The amount of renewable energy supplied",null,null,null,"[GWh]",{"$f":"IF(H229>0,(H227*H228)*(1-1/H229),0)","v":0},0,0,0,0,0,0,0,0,0,0,0,0,0,0,0,0,0,0,0,0,0,0,0,0,0,0,0,0,0,0,{"$f":"IF(AM229>0,(AM227*AM228)*(1-1/AM229),0)","v":0},0,0,0,0,0,0,0,0,0,0,0,0,0,0,0,0,0,0,0,0,0,0,0,0,0,0,0,0,0,null,null,null,null,null,null,null,null,null,null,null,null,null,null,null,null,null,null,null,null,null,null,null,null,null,null,null,null,null,null,null,null,null,null,null,null,null,null,null,null,null,null,null,null,null,null,null,null,null,null,null,null,null,null,null,"RA600","PRODUCT",{"$f":"EH230","v":"PPRD_RED"},"HPATAWR","HP_TC","_Z","_Z","_Z","ENERGY","_Z","GWH",null,"nrg_ind_ahbtc","RA600","PPRD_RED","_Z","ATH_RAW_TC","GWH","Agg.=SUM(countries)"]
[null,"Exhaust Air-Air"]
[null,null,"Capacity of heat pump installed",null,null,null,"[GW]",0,0,0,0,0,0,0,0,0,0,0,0,0,0,0,0,0,0,0,0,0,0,0,0,0,0,0,0,0,0,0,0,0,0,0,0,0,0,0,0,0,0,0,0,0,0,0,0,0,0,0,0,0,0,0,0,0,0,0,0,0,null,null,null,null,null,null,null,null,null,null,null,null,null,null,null,null,null,null,null,null,null,null,null,null,null,null,null,null,null,null,null,null,null,null,null,null,null,null,null,null,null,null,null,null,null,null,null,null,null,null,null,null,null,null,null,"RA600","_Z",{"$f":"EH232","v":"_Z"},"HPATEAA","HP_TC","_Z","HPCAP","_Z","ENERGY","_Z","GW",null,"nrg_ind_hptctc","RA600","_Z","CAP_HEAT","ATH_EAA_TC","GW","Agg.=SUM(countries)"]
[null,null,"of which SPF is above the minimum threshold",null,null,null,"[GW]",0,0,0,0,0,0,0,0,0,0,0,0,0,0,0,0,0,0,0,0,0,0,0,0,0,0,0,0,0,0,0,0,0,0,0,0,0,0,0,0,0,0,0,0,0,0,0,0,0,0,0,0,0,0,0,0,0,0,0,0,0,null,null,null,null,null,null,null,null,null,null,null,null,null,null,null,null,null,null,null,null,null,null,null,null,null,null,null,null,null,null,null,null,null,null,null,null,null,null,null,null,null,null,null,null,null,null,null,null,null,null,null,null,null,null,null,"RA600","_Z",{"$f":"EH233","v":"_Z"},"HPATEAA","HP_TC","_Z","HPCAPABVTH","_Z","ENERGY","_Z","GW",null,"nrg_ind_hptctc","RA600","_Z","CAP_ABVTH","ATH_EAA_TC","GW","Agg.=SUM(countries)"]
[null,null,"Equivalent full load hours of operation",null,null,null,"[h]",600,600,600,600,600,600,600,600,600,600,600,600,600,600,600,600,600,600,600,600,600,600,600,600,600,600,600,600,600,600,600,600,600,600,600,600,600,600,600,600,600,600,600,600,600,600,600,600,600,600,600,600,600,600,600,600,600,600,600,600,600,null,null,null,null,null,null,null,null,null,null,null,null,null,null,null,null,null,null,null,null,null,null,null,null,null,null,null,null,null,null,null,null,null,null,null,null,null,null,null,null,null,null,null,null,null,null,null,null,null,null,null,null,null,null,null,"RA600","_Z",{"$f":"EH234","v":"_Z"},"HPATEAA","HP_TC","_Z","TUS","_Z","_Z","_Z","HR",null,"nrg_ind_hptctc","RA600","_Z","TIME_USE","ATH_EAA_TC","HR","COUNTRY AGGREGATE IS NOT CALCULATED"]
[null,null,"Estimated average SPF",null,null,null,null,1.1499999999999999,1.1499999999999999,1.1499999999999999,1.1499999999999999,1.1499999999999999,1.1499999999999999,1.1499999999999999,1.1499999999999999,1.1499999999999999,1.1499999999999999,1.1499999999999999,1.1499999999999999,1.1499999999999999,1.1499999999999999,1.1499999999999999,1.1499999999999999,1.1499999999999999,1.1499999999999999,1.1499999999999999,1.1499999999999999,1.1499999999999999,1.1499999999999999,1.1499999999999999,1.1499999999999999,1.1499999999999999,1.1499999999999999,1.1499999999999999,1.1499999999999999,1.1499999999999999,1.1499999999999999,1.1499999999999999,1.1499999999999999,1.1499999999999999,1.1499999999999999,1.1499999999999999,1.1499999999999999,1.1499999999999999,1.1499999999999999,1.1499999999999999,1.1499999999999999,1.1499999999999999,1.1499999999999999,1.1499999999999999,1.1499999999999999,1.1499999999999999,1.1499999999999999,1.1499999999999999,1.1499999999999999,1.1499999999999999,1.1499999999999999,1.1499999999999999,1.1499999999999999,1.1499999999999999,1.1499999999999999,1.1499999999999999,1.1499999999999999,1.1499999999999999,1.1499999999999999,1.1499999999999999,1.1499999999999999,1.1499999999999999,null,null,null,null,null,null,null,null,null,null,null,null,null,null,null,null,null,null,null,null,null,null,null,null,null,null,null,null,null,null,null,null,null,null,null,null,null,null,null,null,null,null,null,null,null,null,null,null,null,null,null,null,null,null,null,"RA600","_Z",{"$f":"EH235","v":"_Z"},"HPATEAA","HP_TC","_Z","SPF","_Z","_Z","_Z","NR",null,"nrg_ind_hptctc","RA600","_Z","SPERF_FACT","ATH_EAA_TC","NR","COUNTRY AGGREGATE IS NOT CALCULATED"]
[null,null,"The amount of renewable energy supplied",null,null,null,"[GWh]",{"$f":"IF(H235>0,(H233*H234)*(1-1/H235),0)","v":0},0,0,0,0,0,0,0,0,0,0,0,0,0,0,0,0,0,0,0,0,0,0,0,0,0,0,0,0,0,0,{"$f":"IF(AM235>0,(AM233*AM234)*(1-1/AM235),0)","v":0},0,0,0,0,0,0,0,0,0,0,0,0,0,0,0,0,0,0,0,0,0,0,0,0,0,0,0,0,0,null,null,null,null,null,null,null,null,null,null,null,null,null,null,null,null,null,null,null,null,null,null,null,null,null,null,null,null,null,null,null,null,null,null,null,null,null,null,null,null,null,null,null,null,null,null,null,null,null,null,null,null,null,null,null,"RA600","PRODUCT",{"$f":"EH236","v":"PPRD_RED"},"HPATEAA","HP_TC","_Z","_Z","_Z","ENERGY","_Z","GWH",null,"nrg_ind_ahbtc","RA600","PPRD_RED","_Z","ATH_EAA_TC","GWH","Agg.=SUM(countries)"]
[null,"Exhaust Air-Water"]
[null,null,"Capacity of heat pump installed",null,null,null,"[GW]",0,0,0,0,0,0,0,0,0,0,0,0,0,0,0,0,0,0,0,0,0,0,0,0,0,0,0,0,0,0,0,0,0,0,0,0,0,0,0,0,0,0,0,0,0,0,0,0,0,0,0,0,0,0,0,0,0,0,0,0,0,null,null,null,null,null,null,null,null,null,null,null,null,null,null,null,null,null,null,null,null,null,null,null,null,null,null,null,null,null,null,null,null,null,null,null,null,null,null,null,null,null,null,null,null,null,null,null,null,null,null,null,null,null,null,null,"RA600","_Z",{"$f":"EH238","v":"_Z"},"HPATAEW","HP_TC","_Z","HPCAP","_Z","ENERGY","_Z","GW",null,"nrg_ind_hptctc","RA600","_Z","CAP_HEAT","ATH_EAW_TC","GW","Agg.=SUM(countries)"]
[null,null,"of which SPF is above the minimum threshold",null,null,null,"[GW]",0,0,0,0,0,0,0,0,0,0,0,0,0,0,0,0,0,0,0,0,0,0,0,0,0,0,0,0,0,0,0,0,0,0,0,0,0,0,0,0,0,0,0,0,0,0,0,0,0,0,0,0,0,0,0,0,0,0,0,0,0,null,null,null,null,null,null,null,null,null,null,null,null,null,null,null,null,null,null,null,null,null,null,null,null,null,null,null,null,null,null,null,null,null,null,null,null,null,null,null,null,null,null,null,null,null,null,null,null,null,null,null,null,null,null,null,"RA600","_Z","_Z","HPATAEW","HP_TC","_Z","HPCAPABVTH","_Z","ENERGY","_Z","GW",null,"nrg_ind_hptctc","RA600","_Z","CAP_ABVTH","ATH_EAW_TC","GW","Agg.=SUM(countries)"]
[null,null,"Equivalent full load hours of operation",null,null,null,"[h]",600,600,600,600,600,600,600,600,600,600,600,600,600,600,600,600,600,600,600,600,600,600,600,600,600,600,600,600,600,600,600,600,600,600,600,600,600,600,600,600,600,600,600,600,600,600,600,600,600,600,600,600,600,600,600,600,600,600,600,600,600,null,null,null,null,null,null,null,null,null,null,null,null,null,null,null,null,null,null,null,null,null,null,null,null,null,null,null,null,null,null,null,null,null,null,null,null,null,null,null,null,null,null,null,null,null,null,null,null,null,null,null,null,null,null,null,"RA600","_Z","_Z","HPATAEW","HP_TC","_Z","TUS","_Z","_Z","_Z","HR",null,"nrg_ind_hptctc","RA600","_Z","TIME_USE","ATH_EAW_TC","HR","COUNTRY AGGREGATE IS NOT CALCULATED"]
[null,null,"Estimated average SPF",null,null,null,null,1.1499999999999999,1.1499999999999999,1.1499999999999999,1.1499999999999999,1.1499999999999999,1.1499999999999999,1.1499999999999999,1.1499999999999999,1.1499999999999999,1.1499999999999999,1.1499999999999999,1.1499999999999999,1.1499999999999999,1.1499999999999999,1.1499999999999999,1.1499999999999999,1.1499999999999999,1.1499999999999999,1.1499999999999999,1.1499999999999999,1.1499999999999999,1.1499999999999999,1.1499999999999999,1.1499999999999999,1.1499999999999999,1.1499999999999999,1.1499999999999999,1.1499999999999999,1.1499999999999999,1.1499999999999999,1.1499999999999999,1.1499999999999999,1.1499999999999999,1.1499999999999999,1.1499999999999999,1.1499999999999999,1.1499999999999999,1.1499999999999999,1.1499999999999999,1.1499999999999999,1.1499999999999999,1.1499999999999999,1.1499999999999999,1.1499999999999999,1.1499999999999999,1.1499999999999999,1.1499999999999999,1.1499999999999999,1.1499999999999999,1.1499999999999999,1.1499999999999999,1.1499999999999999,1.1499999999999999,1.1499999999999999,1.1499999999999999,1.1499999999999999,1.1499999999999999,1.1499999999999999,1.1499999999999999,1.1499999999999999,1.1499999999999999,null,null,null,null,null,null,null,null,null,null,null,null,null,null,null,null,null,null,null,null,null,null,null,null,null,null,null,null,null,null,null,null,null,null,null,null,null,null,null,null,null,null,null,null,null,null,null,null,null,null,null,null,null,null,null,"RA600","_Z","_Z","HPATAEW","HP_TC","_Z","SPF","_Z","_Z","_Z","NR",null,"nrg_ind_hptctc","RA600","_Z","SPERF_FACT","ATH_EAW_TC","NR","COUNTRY AGGREGATE IS NOT CALCULATED"]
[null,null,"The amount of renewable energy supplied",null,null,null,"[GWh]",{"$f":"IF(H241>0,(H239*H240)*(1-1/H241),0)","v":0},0,0,0,0,0,0,0,0,0,0,0,0,0,0,0,0,0,0,0,0,0,0,0,0,0,0,0,0,0,0,{"$f":"IF(AM241>0,(AM239*AM240)*(1-1/AM241),0)","v":0},0,0,0,0,0,0,0,0,0,0,0,0,0,0,0,0,0,0,0,0,0,0,0,0,0,0,0,0,0,null,null,null,null,null,null,null,null,null,null,null,null,null,null,null,null,null,null,null,null,null,null,null,null,null,null,null,null,null,null,null,null,null,null,null,null,null,null,null,null,null,null,null,null,null,null,null,null,null,null,null,null,null,null,null,"RA600","PRODUCT","PPRD_RED","HPATAEW","HP_TC","_Z","_Z","_Z","ENERGY","_Z","GWH",null,"nrg_ind_ahbtc","RA600","PPRD_RED","_Z","ATH_EAW_TC","GWH","Agg.=SUM(countries)"]
["Geothermal energy",null,null,null,null,null,null,{"$f":"SUM(H249,H255)","v":0},0,0,0,0,0,0,0,0,0,0,0,0,0,0,0,0,0,0,0,0,0,0,0,0,0,0,0,0,0,{"$f":"SUM(AL249,AL255)","v":0},{"$f":"SUM(AM249,AM255)","v":0},0,0,0,0,0,0,0,0,0,0,0,0,0,0,0,0,0,0,0,0,0,0,0,0,0,0,0,0,0,null,null,null,null,null,null,null,null,null,null,null,null,null,null,null,null,null,null,null,null,null,null,null,null,null,null,null,null,null,null,null,null,null,null,null,null,null,null,null,null,null,null,null,null,null,null,null,null,null,null,null,null,null,null,null,"RA600","PRODUCT","PPRD_RED","HPGT","HP_TC","_Z","_Z","_Z","ENERGY","_Z","GWH",null,"nrg_ind_ahbtc","RA600","PPRD_RED","_Z","GTH_TC","GWH","Agg.=SUM(countries)"]
[null,"Ground-Air"]
[null,null,"Capacity of heat pump installed",null,null,null,"[GW]",0,0,0,0,0,0,0,0,0,0,0,0,0,0,0,0,0,0,0,0,0,0,0,0,0,0,0,0,0,0,0,0,0,0,0,0,0,0,0,0,0,0,0,0,0,0,0,0,0,0,0,0,0,0,0,0,0,0,0,0,0,null,null,null,null,null,null,null,null,null,null,null,null,null,null,null,null,null,null,null,null,null,null,null,null,null,null,null,null,null,null,null,null,null,null,null,null,null,null,null,null,null,null,null,null,null,null,null,null,null,null,null,null,null,null,null,"RA600","_Z",{"$f":"EH245","v":"_Z"},"HPGTGA","HP_TC","_Z","HPCAP","_Z","ENERGY","_Z","GW",null,"nrg_ind_hptctc","RA600","_Z","CAP_HEAT","GTH_GA_TC","GW","Agg.=SUM(countries)"]
[null,null,"of which SPF is above the minimum threshold",null,null,null,"[GW]",0,0,0,0,0,0,0,0,0,0,0,0,0,0,0,0,0,0,0,0,0,0,0,0,0,0,0,0,0,0,0,0,0,0,0,0,0,0,0,0,0,0,0,0,0,0,0,0,0,0,0,0,0,0,0,0,0,0,0,0,0,null,null,null,null,null,null,null,null,null,null,null,null,null,null,null,null,null,null,null,null,null,null,null,null,null,null,null,null,null,null,null,null,null,null,null,null,null,null,null,null,null,null,null,null,null,null,null,null,null,null,null,null,null,null,null,"RA600","_Z","_Z","HPGTGA","HP_TC","_Z","HPCAPABVTH","_Z","ENERGY","_Z","GW",null,"nrg_ind_hptctc","RA600","_Z","CAP_ABVTH","GTH_GA_TC","GW","Agg.=SUM(countries)"]
[null,null,"Equivalent full load hours of operation",null,null,null,"[h]",2470,2470,2470,2470,2470,2470,2470,2470,2470,2470,2470,2470,2470,2470,2470,2470,2470,2470,2470,2470,2470,2470,2470,2470,2470,2470,2470,2470,2470,2470,2470,2470,2470,2470,2470,2470,2470,2470,2470,2470,2470,2470,2470,2470,2470,2470,2470,2470,2470,2470,2470,2470,2470,2470,2470,2470,2470,2470,2470,2470,2470,null,null,null,null,null,null,null,null,null,null,null,null,null,null,null,null,null,null,null,null,null,null,null,null,null,null,null,null,null,null,null,null,null,null,null,null,null,null,null,null,null,null,null,null,null,null,null,null,null,null,null,null,null,null,null,"RA600","_Z","_Z","HPGTGA","HP_TC","_Z","TUS","_Z","_Z","_Z","HR",null,"nrg_ind_hptctc","RA600","_Z","TIME_USE","GTH_GA_TC","HR","COUNTRY AGGREGATE IS NOT CALCULATED"]
[null,null,"Estimated average SPF",null,null,null,null,1.4,1.4,1.4,1.4,1.4,1.4,1.4,1.4,1.4,1.4,1.4,1.4,1.4,1.4,1.4,1.4,1.4,1.4,1.4,1.4,1.4,1.4,1.4,1.4,1.4,1.4,1.4,1.4,1.4,1.4,1.4,1.4,1.4,1.4,1.4,1.4,1.4,1.4,1.4,1.4,1.4,1.4,1.4,1.4,1.4,1.4,1.4,1.4,1.4,1.4,1.4,1.4,1.4,1.4,1.4,1.4,1.4,1.4,1.4,1.4,1.4,null,null,null,null,null,null,null,null,null,null,null,null,null,null,null,null,null,null,null,null,null,null,null,null,null,null,null,null,null,null,null,null,null,null,null,null,null,null,null,null,null,null,null,null,null,null,null,null,null,null,null,null,null,null,null,"RA600","_Z","_Z","HPGTGA","HP_TC","_Z","SPF","_Z","_Z","_Z","NR",null,"nrg_ind_hptctc","RA600","_Z","SPERF_FACT","GTH_GA_TC","NR","COUNTRY AGGREGATE IS NOT CALCULATED"]
[null,null,"The amount of renewable energy supplied",null,null,null,"[GWh]",{"$f":"IF(H248>0,(H246*H247)*(1-1/H248),0)","v":0},0,0,0,0,0,0,0,0,0,0,0,0,0,0,0,0,0,0,0,0,0,0,0,0,0,0,0,0,0,0,{"$f":"IF(AM248>0,(AM246*AM247)*(1-1/AM248),0)","v":0},0,0,0,0,0,0,0,0,0,0,0,0,0,0,0,0,0,0,0,0,0,0,0,0,0,0,0,0,0,null,null,null,null,null,null,null,null,null,null,null,null,null,null,null,null,null,null,null,null,null,null,null,null,null,null,null,null,null,null,null,null,null,null,null,null,null,null,null,null,null,null,null,null,null,null,null,null,null,null,null,null,null,null,null,"RA600","PRODUCT","PPRD_RED","HPGTGA","HP_TC","_Z","_Z","_Z","ENERGY","_Z","GWH",null,"nrg_ind_ahbtc","RA600","PPRD_RED","_Z","GTH_GA_TC","GWH","Agg.=SUM(countries)"]
[null,"Ground-Water"]
[null,null,"Capacity of heat pump installed",null,null,null,"[GW]",0,0,0,0,0,0,0,0,0,0,0,0,0,0,0,0,0,0,0,0,0,0,0,0,0,0,0,0,0,0,0,0,0,0,0,0,0,0,0,0,0,0,0,0,0,0,0,0,0,0,0,0,0,0,0,0,0,0,0,0,0,null,null,null,null,null,null,null,null,null,null,null,null,null,null,null,null,null,null,null,null,null,null,null,null,null,null,null,null,null,null,null,null,null,null,null,null,null,null,null,null,null,null,null,null,null,null,null,null,null,null,null,null,null,null,null,"RA600","_Z","_Z","HPGTGW","HP_TC","_Z","HPCAP","_Z","ENERGY","_Z","GW",null,"nrg_ind_hptctc","RA600","_Z","CAP_HEAT","GTH_GW_TC","GW","Agg.=SUM(countries)"]
[null,null,"of which SPF is above the minimum threshold",null,null,null,"[GW]",0,0,0,0,0,0,0,0,0,0,0,0,0,0,0,0,0,0,0,0,0,0,0,0,0,0,0,0,0,0,0,0,0,0,0,0,0,0,0,0,0,0,0,0,0,0,0,0,0,0,0,0,0,0,0,0,0,0,0,0,0,null,null,null,null,null,null,null,null,null,null,null,null,null,null,null,null,null,null,null,null,null,null,null,null,null,null,null,null,null,null,null,null,null,null,null,null,null,null,null,null,null,null,null,null,null,null,null,null,null,null,null,null,null,null,null,"RA600","_Z","_Z","HPGTGW","HP_TC","_Z","HPCAPABVTH","_Z","ENERGY","_Z","GW",null,"nrg_ind_hptctc","RA600","_Z","CAP_ABVTH","GTH_GW_TC","GW","Agg.=SUM(countries)"]
[null,null,"Equivalent full load hours of operation",null,null,null,"[h]",2470,2470,2470,2470,2470,2470,2470,2470,2470,2470,2470,2470,2470,2470,2470,2470,2470,2470,2470,2470,2470,2470,2470,2470,2470,2470,2470,2470,2470,2470,2470,2470,2470,2470,2470,2470,2470,2470,2470,2470,2470,2470,2470,2470,2470,2470,2470,2470,2470,2470,2470,2470,2470,2470,2470,2470,2470,2470,2470,2470,2470,null,null,null,null,null,null,null,null,null,null,null,null,null,null,null,null,null,null,null,null,null,null,null,null,null,null,null,null,null,null,null,null,null,null,null,null,null,null,null,null,null,null,null,null,null,null,null,null,null,null,null,null,null,null,null,"RA600","_Z","_Z","HPGTGW","HP_TC","_Z","TUS","_Z","_Z","_Z","HR",null,"nrg_ind_hptctc","RA600","_Z","TIME_USE","GTH_GW_TC","HR","COUNTRY AGGREGATE IS NOT CALCULATED"]
[null,null,"Estimated average SPF",null,null,null,null,1.6,1.6,1.6,1.6,1.6,1.6,1.6,1.6,1.6,1.6,1.6,1.6,1.6,1.6,1.6,1.6,1.6,1.6,1.6,1.6,1.6,1.6,1.6,1.6,1.6,1.6,1.6,1.6,1.6,1.6,1.6,1.6,1.6,1.6,1.6,1.6,1.6,1.6,1.6,1.6,1.6,1.6,1.6,1.6,1.6,1.6,1.6,1.6,1.6,1.6,1.6,1.6,1.6,1.6,1.6,1.6,1.6,1.6,1.6,1.6,1.6,null,null,null,null,null,null,null,null,null,null,null,null,null,null,null,null,null,null,null,null,null,null,null,null,null,null,null,null,null,null,null,null,null,null,null,null,null,null,null,null,null,null,null,null,null,null,null,null,null,null,null,null,null,null,null,"RA600","_Z","_Z","HPGTGW","HP_TC","_Z","SPF","_Z","_Z","_Z","NR",null,"nrg_ind_hptctc","RA600","_Z","SPERF_FACT","GTH_GW_TC","NR","COUNTRY AGGREGATE IS NOT CALCULATED"]
[null,null,"The amount of renewable energy supplied",null,null,null,"[GWh]",{"$f":"IF(H254>0,(H252*H253)*(1-1/H254),0)","v":0},0,0,0,0,0,0,0,0,0,0,0,0,0,0,0,0,0,0,0,0,0,0,0,0,0,0,0,0,0,0,{"$f":"IF(AM254>0,(AM252*AM253)*(1-1/AM254),0)","v":0},0,0,0,0,0,0,0,0,0,0,0,0,0,0,0,0,0,0,0,0,0,0,0,0,0,0,0,0,0,null,null,null,null,null,null,null,null,null,null,null,null,null,null,null,null,null,null,null,null,null,null,null,null,null,null,null,null,null,null,null,null,null,null,null,null,null,null,null,null,null,null,null,null,null,null,null,null,null,null,null,null,null,null,null,"RA600","PRODUCT","PPRD_RED","HPGTGW","HP_TC","_Z","_Z","_Z","ENERGY","_Z","GWH",null,"nrg_ind_ahbtc","RA600","PPRD_RED","_Z","GTH_GW_TC","GWH","Agg.=SUM(countries)"]
["Hydrothermal heat",null,null,null,null,null,null,{"$f":"SUM(H262,H268)","v":0},0,0,0,0,0,0,0,0,0,0,0,0,0,0,0,0,0,0,0,0,0,0,0,0,0,0,0,0,0,{"$f":"SUM(AL262,AL268)","v":0},{"$f":"SUM(AM262,AM268)","v":0},0,0,0,0,0,0,0,0,0,0,0,0,0,0,0,0,0,0,0,0,0,0,0,0,0,0,0,0,0,null,null,null,null,null,null,null,null,null,null,null,null,null,null,null,null,null,null,null,null,null,null,null,null,null,null,null,null,null,null,null,null,null,null,null,null,null,null,null,null,null,null,null,null,null,null,null,null,null,null,null,null,null,null,null,"RA600","PRODUCT","PPRD_RED","HPHT","HP_TC","_Z","_Z","_Z","ENERGY","_Z","GWH",null,"nrg_ind_ahbtc","RA600","PPRD_RED","_Z","HTH_TC","GWH","Agg.=SUM(countries)"]
[null,"Water-Air"]
[null,null,"Capacity of heat pump installed",null,null,null,"[GW]",0,0,0,0,0,0,0,0,0,0,0,0,0,0,0,0,0,0,0,0,0,0,0,0,0,0,0,0,0,0,0,0,0,0,0,0,0,0,0,0,0,0,0,0,0,0,0,0,0,0,0,0,0,0,0,0,0,0,0,0,0,null,null,null,null,null,null,null,null,null,null,null,null,null,null,null,null,null,null,null,null,null,null,null,null,null,null,null,null,null,null,null,null,null,null,null,null,null,null,null,null,null,null,null,null,null,null,null,null,null,null,null,null,null,null,null,"RA600","_Z","_Z","HPHTWA","HP_TC","_Z","HPCAP","_Z","ENERGY","_Z","GW",null,"nrg_ind_hptctc","RA600","_Z","CAP_HEAT","HTH_WA_TC","GW","Agg.=SUM(countries)"]
[null,null,"of which SPF is above the minimum threshold",null,null,null,"[GW]",0,0,0,0,0,0,0,0,0,0,0,0,0,0,0,0,0,0,0,0,0,0,0,0,0,0,0,0,0,0,0,0,0,0,0,0,0,0,0,0,0,0,0,0,0,0,0,0,0,0,0,0,0,0,0,0,0,0,0,0,0,null,null,null,null,null,null,null,null,null,null,null,null,null,null,null,null,null,null,null,null,null,null,null,null,null,null,null,null,null,null,null,null,null,null,null,null,null,null,null,null,null,null,null,null,null,null,null,null,null,null,null,null,null,null,null,"RA600","_Z","_Z","HPHTWA","HP_TC","_Z","HPCAPABVTH","_Z","ENERGY","_Z","GW",null,"nrg_ind_hptctc","RA600","_Z","CAP_ABVTH","HTH_WA_TC","GW","Agg.=SUM(countries)"]
[null,null,"Equivalent full load hours of operation",null,null,null,"[h]",2470,2470,2470,2470,2470,2470,2470,2470,2470,2470,2470,2470,2470,2470,2470,2470,2470,2470,2470,2470,2470,2470,2470,2470,2470,2470,2470,2470,2470,2470,2470,2470,2470,2470,2470,2470,2470,2470,2470,2470,2470,2470,2470,2470,2470,2470,2470,2470,2470,2470,2470,2470,2470,2470,2470,2470,2470,2470,2470,2470,2470,null,null,null,null,null,null,null,null,null,null,null,null,null,null,null,null,null,null,null,null,null,null,null,null,null,null,null,null,null,null,null,null,null,null,null,null,null,null,null,null,null,null,null,null,null,null,null,null,null,null,null,null,null,null,null,"RA600","_Z","_Z","HPHTWA","HP_TC","_Z","TUS","_Z","_Z","_Z","HR",null,"nrg_ind_hptctc","RA600","_Z","TIME_USE","HTH_WA_TC","HR","COUNTRY AGGREGATE IS NOT CALCULATED"]
[null,null,"Estimated average SPF",null,null,null,null,1.4,1.4,1.4,1.4,1.4,1.4,1.4,1.4,1.4,1.4,1.4,1.4,1.4,1.4,1.4,1.4,1.4,1.4,1.4,1.4,1.4,1.4,1.4,1.4,1.4,1.4,1.4,1.4,1.4,1.4,1.4,1.4,1.4,1.4,1.4,1.4,1.4,1.4,1.4,1.4,1.4,1.4,1.4,1.4,1.4,1.4,1.4,1.4,1.4,1.4,1.4,1.4,1.4,1.4,1.4,1.4,1.4,1.4,1.4,1.4,1.4,null,null,null,null,null,null,null,null,null,null,null,null,null,null,null,null,null,null,null,null,null,null,null,null,null,null,null,null,null,null,null,null,null,null,null,null,null,null,null,null,null,null,null,null,null,null,null,null,null,null,null,null,null,null,null,"RA600","_Z","_Z","HPHTWA","HP_TC","_Z","SPF","_Z","_Z","_Z","NR",null,"nrg_ind_hptctc","RA600","_Z","SPERF_FACT","HTH_WA_TC","NR","COUNTRY AGGREGATE IS NOT CALCULATED"]
[null,null,"The amount of renewable energy supplied",null,null,null,"[GWh]",{"$f":"IF(H261>0,(H259*H260)*(1-1/H261),0)","v":0},0,0,0,0,0,0,0,0,0,0,0,0,0,0,0,0,0,0,0,0,0,0,0,0,0,0,0,0,0,0,{"$f":"IF(AM261>0,(AM259*AM260)*(1-1/AM261),0)","v":0},0,0,0,0,0,0,0,0,0,0,0,0,0,0,0,0,0,0,0,0,0,0,0,0,0,0,0,0,0,null,null,null,null,null,null,null,null,null,null,null,null,null,null,null,null,null,null,null,null,null,null,null,null,null,null,null,null,null,null,null,null,null,null,null,null,null,null,null,null,null,null,null,null,null,null,null,null,null,null,null,null,null,null,null,"RA600","PRODUCT","PPRD_RED","HPHTWA","HP_TC","_Z","_Z","_Z","ENERGY","_Z","GWH",null,"nrg_ind_ahbtc","RA600","PPRD_RED","_Z","HTH_WA_TC","GWH","Agg.=SUM(countries)"]
[null,"Water-Water"]
[null,null,"Capacity of heat pump installed",null,null,null,"[GW]",0,0,0,0,0,0,0,0,0,0,0,0,0,0,0,0,0,0,0,0,0,0,0,0,0,0,0,0,0,0,0,0,0,0,0,0,0,0,0,0,0,0,0,0,0,0,0,0,0,0,0,0,0,0,0,0,0,0,0,0,0,null,null,null,null,null,null,null,null,null,null,null,null,null,null,null,null,null,null,null,null,null,null,null,null,null,null,null,null,null,null,null,null,null,null,null,null,null,null,null,null,null,null,null,null,null,null,null,null,null,null,null,null,null,null,null,"RA600","_Z","_Z","HPHTWW","HP_TC","_Z","HPCAP","_Z","ENERGY","_Z","GW",null,"nrg_ind_hptctc","RA600","_Z","CAP_HEAT","HTH_WW_TC","GW","Agg.=SUM(countries)"]
[null,null,"of which SPF is above the minimum threshold",null,null,null,"[GW]",0,0,0,0,0,0,0,0,0,0,0,0,0,0,0,0,0,0,0,0,0,0,0,0,0,0,0,0,0,0,0,0,0,0,0,0,0,0,0,0,0,0,0,0,0,0,0,0,0,0,0,0,0,0,0,0,0,0,0,0,0,null,null,null,null,null,null,null,null,null,null,null,null,null,null,null,null,null,null,null,null,null,null,null,null,null,null,null,null,null,null,null,null,null,null,null,null,null,null,null,null,null,null,null,null,null,null,null,null,null,null,null,null,null,null,null,"RA600","_Z","_Z","HPHTWW","HP_TC","_Z","HPCAPABVTH","_Z","ENERGY","_Z","GW",null,"nrg_ind_hptctc","RA600","_Z","CAP_ABVTH","HTH_WW_TC","GW","Agg.=SUM(countries)"]
[null,null,"Equivalent full load hours of operation",null,null,null,"[h]",2470,2470,2470,2470,2470,2470,2470,2470,2470,2470,2470,2470,2470,2470,2470,2470,2470,2470,2470,2470,2470,2470,2470,2470,2470,2470,2470,2470,2470,2470,2470,2470,2470,2470,2470,2470,2470,2470,2470,2470,2470,2470,2470,2470,2470,2470,2470,2470,2470,2470,2470,2470,2470,2470,2470,2470,2470,2470,2470,2470,2470,null,null,null,null,null,null,null,null,null,null,null,null,null,null,null,null,null,null,null,null,null,null,null,null,null,null,null,null,null,null,null,null,null,null,null,null,null,null,null,null,null,null,null,null,null,null,null,null,null,null,null,null,null,null,null,"RA600","_Z","_Z","HPHTWW","HP_TC","_Z","TUS","_Z","_Z","_Z","HR",null,"nrg_ind_hptctc","RA600","_Z","TIME_USE","HTH_WW_TC","HR","COUNTRY AGGREGATE IS NOT CALCULATED"]
[null,null,"Estimated average SPF",null,null,null,null,1.6,1.6,1.6,1.6,1.6,1.6,1.6,1.6,1.6,1.6,1.6,1.6,1.6,1.6,1.6,1.6,1.6,1.6,1.6,1.6,1.6,1.6,1.6,1.6,1.6,1.6,1.6,1.6,1.6,1.6,1.6,1.6,1.6,1.6,1.6,1.6,1.6,1.6,1.6,1.6,1.6,1.6,1.6,1.6,1.6,1.6,1.6,1.6,1.6,1.6,1.6,1.6,1.6,1.6,1.6,1.6,1.6,1.6,1.6,1.6,1.6,null,null,null,null,null,null,null,null,null,null,null,null,null,null,null,null,null,null,null,null,null,null,null,null,null,null,null,null,null,null,null,null,null,null,null,null,null,null,null,null,null,null,null,null,null,null,null,null,null,null,null,null,null,null,null,"RA600","_Z","_Z","HPHTWW","HP_TC","_Z","SPF","_Z","_Z","_Z","NR",null,"nrg_ind_hptctc","RA600","_Z","SPERF_FACT","HTH_WW_TC","NR","COUNTRY AGGREGATE IS NOT CALCULATED"]
[null,null,"The amount of renewable energy supplied",null,null,null,"[GWh]",{"$f":"IF(H267>0,(H265*H266)*(1-1/H267),0)","v":0},0,0,0,0,0,0,0,0,0,0,0,0,0,0,0,0,0,0,0,0,0,0,0,0,0,0,0,0,0,0,{"$f":"IF(AM267>0,(AM265*AM266)*(1-1/AM267),0)","v":0},0,0,0,0,0,0,0,0,0,0,0,0,0,0,0,0,0,0,0,0,0,0,0,0,0,0,0,0,0,null,null,null,null,null,null,null,null,null,null,null,null,null,null,null,null,null,null,null,null,null,null,null,null,null,null,null,null,null,null,null,null,null,null,null,null,null,null,null,null,null,null,null,null,null,null,null,null,null,null,null,null,null,null,null,"RA600","PRODUCT","PPRD_RED","HPHTWW","HP_TC","_Z","_Z","_Z","ENERGY","_Z","GWH",null,"nrg_ind_ahbtc","RA600","PPRD_RED","_Z","HTH_WW_TC","GWH","Agg.=SUM(countries)"]
[]
["HEAT PUMPS DRIVEN BY THERMAL ENERGY in AVERAGE CLIMATE"]
["Aerothermal energy",null,null,null,null,null,null,{"$f":"SUM(H277,H283,H289,H295,H301,H307)","v":0},0,0,0,0,0,0,0,0,0,0,0,0,0,0,0,0,0,0,0,0,0,0,0,0,0,0,0,0,0,{"$f":"SUM(AL277,AL283,AL289,AL295,AL301,AL307)","v":0},{"$f":"SUM(AM277,AM283,AM289,AM295,AM301,AM307)","v":0},0,0,0,0,0,0,0,0,0,0,0,0,0,0,0,0,0,0,0,0,0,0,0,0,0,0,0,0,0,null,null,null,null,null,null,null,null,null,null,null,null,null,null,null,null,null,null,null,null,null,null,null,null,null,null,null,null,null,null,null,null,null,null,null,null,null,null,null,null,null,null,null,null,null,null,null,null,null,null,null,null,null,null,null,"RA600","PRODUCT","PPRD_RED","HPAT","HP_TA","_Z","_Z","_Z","ENERGY","_Z","GWH",null,"nrg_ind_ahbtc","RA600","PPRD_RED","_Z","ATH_TA","GWH","Agg.=SUM(countries)"]
[null,"Air-Air"]
[null,null,"Capacity of heat pump installed",null,null,null,"[GW]",0,0,0,0,0,0,0,0,0,0,0,0,0,0,0,0,0,0,0,0,0,0,0,0,0,0,0,0,0,0,0,0,0,0,0,0,0,0,0,0,0,0,0,0,0,0,0,0,0,0,0,0,0,0,0,0,0,0,0,0,0,null,null,null,null,null,null,null,null,null,null,null,null,null,null,null,null,null,null,null,null,null,null,null,null,null,null,null,null,null,null,null,null,null,null,null,null,null,null,null,null,null,null,null,null,null,null,null,null,null,null,null,null,null,null,null,"RA600","_Z","_Z","HPATAA","HP_TA","_Z","HPCAP","_Z","ENERGY","_Z","GW",null,"nrg_ind_hptctc","RA600","_Z","CAP_HEAT","ATH_AA_TA","GW","Agg.=SUM(countries)"]
[null,null,"of which SPF is above the minimum threshold",null,null,null,"[GW]",0,0,0,0,0,0,0,0,0,0,0,0,0,0,0,0,0,0,0,0,0,0,0,0,0,0,0,0,0,0,0,0,0,0,0,0,0,0,0,0,0,0,0,0,0,0,0,0,0,0,0,0,0,0,0,0,0,0,0,0,0,null,null,null,null,null,null,null,null,null,null,null,null,null,null,null,null,null,null,null,null,null,null,null,null,null,null,null,null,null,null,null,null,null,null,null,null,null,null,null,null,null,null,null,null,null,null,null,null,null,null,null,null,null,null,null,"RA600","_Z","_Z","HPATAA","HP_TA","_Z","HPCAPABVTH","_Z","ENERGY","_Z","GW",null,"nrg_ind_hptctc","RA600","_Z","CAP_ABVTH","ATH_AA_TA","GW","Agg.=SUM(countries)"]
[null,null,"Equivalent full load hours of operation",null,null,null,"[h]",1770,1770,1770,1770,1770,1770,1770,1770,1770,1770,1770,1770,1770,1770,1770,1770,1770,1770,1770,1770,1770,1770,1770,1770,1770,1770,1770,1770,1770,1770,1770,1770,1770,1770,1770,1770,1770,1770,1770,1770,1770,1770,1770,1770,1770,1770,1770,1770,1770,1770,1770,1770,1770,1770,1770,1770,1770,1770,1770,1770,1770,null,null,null,null,null,null,null,null,null,null,null,null,null,null,null,null,null,null,null,null,null,null,null,null,null,null,null,null,null,null,null,null,null,null,null,null,null,null,null,null,null,null,null,null,null,null,null,null,null,null,null,null,null,null,null,"RA600","_Z","_Z","HPATAA","HP_TA","_Z","TUS","_Z","_Z","_Z","HR",null,"nrg_ind_hptctc","RA600","_Z","TIME_USE","ATH_AA_TA","HR","COUNTRY AGGREGATE IS NOT CALCULATED"]
[null,null,"Estimated average SPF",null,null,null,null,1.2,1.2,1.2,1.2,1.2,1.2,1.2,1.2,1.2,1.2,1.2,1.2,1.2,1.2,1.2,1.2,1.2,1.2,1.2,1.2,1.2,1.2,1.2,1.2,1.2,1.2,1.2,1.2,1.2,1.2,1.2,1.2,1.2,1.2,1.2,1.2,1.2,1.2,1.2,1.2,1.2,1.2,1.2,1.2,1.2,1.2,1.2,1.2,1.2,1.2,1.2,1.2,1.2,1.2,1.2,1.2,1.2,1.2,1.2,1.2,1.2,null,null,null,null,null,null,null,null,null,null,null,null,null,null,null,null,null,null,null,null,null,null,null,null,null,null,null,null,null,null,null,null,null,null,null,null,null,null,null,null,null,null,null,null,null,null,null,null,null,null,null,null,null,null,null,"RA600","_Z","_Z","HPATAA","HP_TA","_Z","SPF","_Z","_Z","_Z","NR",null,"nrg_ind_hptctc","RA600","_Z","SPERF_FACT","ATH_AA_TA","NR","COUNTRY AGGREGATE IS NOT CALCULATED"]
[null,null,"The amount of renewable energy supplied",null,null,null,"[GWh]",{"$f":"IF(H276>0,(H274*H275)*(1-1/H276),0)","v":0},0,0,0,0,0,0,0,0,0,0,0,0,0,0,0,0,0,0,0,0,0,0,0,0,0,0,0,0,0,0,{"$f":"IF(AM276>0,(AM274*AM275)*(1-1/AM276),0)","v":0},0,0,0,0,0,0,0,0,0,0,0,0,0,0,0,0,0,0,0,0,0,0,0,0,0,0,0,0,0,null,null,null,null,null,null,null,null,null,null,null,null,null,null,null,null,null,null,null,null,null,null,null,null,null,null,null,null,null,null,null,null,null,null,null,null,null,null,null,null,null,null,null,null,null,null,null,null,null,null,null,null,null,null,null,"RA600","PRODUCT","PPRD_RED","HPATAA","HP_TA","_Z","_Z","_Z","ENERGY","_Z","GWH",null,"nrg_ind_ahbtc","RA600","PPRD_RED","_Z","ATH_AA_TA","GWH","Agg.=SUM(countries)"]
[null,"Air-Water"]
[null,null,"Capacity of heat pump installed",null,null,null,"[GW]",0,0,0,0,0,0,0,0,0,0,0,0,0,0,0,0,0,0,0,0,0,0,0,0,0,0,0,0,0,0,0,0,0,0,0,0,0,0,0,0,0,0,0,0,0,0,0,0,0,0,0,0,0,0,0,0,0,0,0,0,0,null,null,null,null,null,null,null,null,null,null,null,null,null,null,null,null,null,null,null,null,null,null,null,null,null,null,null,null,null,null,null,null,null,null,null,null,null,null,null,null,null,null,null,null,null,null,null,null,null,null,null,null,null,null,null,"RA600","_Z","_Z","HPATAW","HP_TA","_Z","HPCAP","_Z","ENERGY","_Z","GW",null,"nrg_ind_hptctc","RA600","_Z","CAP_HEAT","ATH_AW_TA","GW","Agg.=SUM(countries)"]
[null,null,"of which SPF is above the minimum threshold",null,null,null,"[GW]",0,0,0,0,0,0,0,0,0,0,0,0,0,0,0,0,0,0,0,0,0,0,0,0,0,0,0,0,0,0,0,0,0,0,0,0,0,0,0,0,0,0,0,0,0,0,0,0,0,0,0,0,0,0,0,0,0,0,0,0,0,null,null,null,null,null,null,null,null,null,null,null,null,null,null,null,null,null,null,null,null,null,null,null,null,null,null,null,null,null,null,null,null,null,null,null,null,null,null,null,null,null,null,null,null,null,null,null,null,null,null,null,null,null,null,null,"RA600","_Z","_Z","HPATAW","HP_TA","_Z","HPCAPABVTH","_Z","ENERGY","_Z","GW",null,"nrg_ind_hptctc","RA600","_Z","CAP_ABVTH","ATH_AW_TA","GW","Agg.=SUM(countries)"]
[null,null,"Equivalent full load hours of operation",null,null,null,"[h]",1640,1640,1640,1640,1640,1640,1640,1640,1640,1640,1640,1640,1640,1640,1640,1640,1640,1640,1640,1640,1640,1640,1640,1640,1640,1640,1640,1640,1640,1640,1640,1640,1640,1640,1640,1640,1640,1640,1640,1640,1640,1640,1640,1640,1640,1640,1640,1640,1640,1640,1640,1640,1640,1640,1640,1640,1640,1640,1640,1640,1640,null,null,null,null,null,null,null,null,null,null,null,null,null,null,null,null,null,null,null,null,null,null,null,null,null,null,null,null,null,null,null,null,null,null,null,null,null,null,null,null,null,null,null,null,null,null,null,null,null,null,null,null,null,null,null,"RA600","_Z","_Z","HPATAW","HP_TA","_Z","TUS","_Z","_Z","_Z","HR",null,"nrg_ind_hptctc","RA600","_Z","TIME_USE","ATH_AW_TA","HR","COUNTRY AGGREGATE IS NOT CALCULATED"]
[null,null,"Estimated average SPF",null,null,null,null,1.2,1.2,1.2,1.2,1.2,1.2,1.2,1.2,1.2,1.2,1.2,1.2,1.2,1.2,1.2,1.2,1.2,1.2,1.2,1.2,1.2,1.2,1.2,1.2,1.2,1.2,1.2,1.2,1.2,1.2,1.2,1.2,1.2,1.2,1.2,1.2,1.2,1.2,1.2,1.2,1.2,1.2,1.2,1.2,1.2,1.2,1.2,1.2,1.2,1.2,1.2,1.2,1.2,1.2,1.2,1.2,1.2,1.2,1.2,1.2,1.2,null,null,null,null,null,null,null,null,null,null,null,null,null,null,null,null,null,null,null,null,null,null,null,null,null,null,null,null,null,null,null,null,null,null,null,null,null,null,null,null,null,null,null,null,null,null,null,null,null,null,null,null,null,null,null,"RA600","_Z","_Z","HPATAW","HP_TA","_Z","SPF","_Z","_Z","_Z","NR",null,"nrg_ind_hptctc","RA600","_Z","SPERF_FACT","ATH_AW_TA","NR","COUNTRY AGGREGATE IS NOT CALCULATED"]
[null,null,"The amount of renewable energy supplied",null,null,null,"[GWh]",{"$f":"IF(H282>0,(H280*H281)*(1-1/H282),0)","v":0},0,0,0,0,0,0,0,0,0,0,0,0,0,0,0,0,0,0,0,0,0,0,0,0,0,0,0,0,0,0,{"$f":"IF(AM282>0,(AM280*AM281)*(1-1/AM282),0)","v":0},0,0,0,0,0,0,0,0,0,0,0,0,0,0,0,0,0,0,0,0,0,0,0,0,0,0,0,0,0,null,null,null,null,null,null,null,null,null,null,null,null,null,null,null,null,null,null,null,null,null,null,null,null,null,null,null,null,null,null,null,null,null,null,null,null,null,null,null,null,null,null,null,null,null,null,null,null,null,null,null,null,null,null,null,"RA600","PRODUCT","PPRD_RED","HPATAW","HP_TA","_Z","_Z","_Z","ENERGY","_Z","GWH",null,"nrg_ind_ahbtc","RA600","PPRD_RED","_Z","ATH_AW_TA","GWH","Agg.=SUM(countries)"]
[null,"Air-Air (reversible)"]
[null,null,"Capacity of heat pump installed",null,null,null,"[GW]",0,0,0,0,0,0,0,0,0,0,0,0,0,0,0,0,0,0,0,0,0,0,0,0,0,0,0,0,0,0,0,0,0,0,0,0,0,0,0,0,0,0,0,0,0,0,0,0,0,0,0,0,0,0,0,0,0,0,0,0,0,null,null,null,null,null,null,null,null,null,null,null,null,null,null,null,null,null,null,null,null,null,null,null,null,null,null,null,null,null,null,null,null,null,null,null,null,null,null,null,null,null,null,null,null,null,null,null,null,null,null,null,null,null,null,null,"RA600","_Z","_Z","HPATAAR","HP_TA","_Z","HPCAP","_Z","ENERGY","_Z","GW",null,"nrg_ind_hptctc","RA600","_Z","CAP_HEAT","ATH_RAA_TA","GW","Agg.=SUM(countries)"]
[null,null,"of which SPF is above the minimum threshold",null,null,null,"[GW]",0,0,0,0,0,0,0,0,0,0,0,0,0,0,0,0,0,0,0,0,0,0,0,0,0,0,0,0,0,0,0,0,0,0,0,0,0,0,0,0,0,0,0,0,0,0,0,0,0,0,0,0,0,0,0,0,0,0,0,0,0,null,null,null,null,null,null,null,null,null,null,null,null,null,null,null,null,null,null,null,null,null,null,null,null,null,null,null,null,null,null,null,null,null,null,null,null,null,null,null,null,null,null,null,null,null,null,null,null,null,null,null,null,null,null,null,"RA600","_Z","_Z","HPATAAR","HP_TA","_Z","HPCAPABVTH","_Z","ENERGY","_Z","GW",null,"nrg_ind_hptctc","RA600","_Z","CAP_ABVTH","ATH_RAA_TA","GW","Agg.=SUM(countries)"]
[null,null,"Equivalent full load hours of operation",null,null,null,"[h]",710,710,710,710,710,710,710,710,710,710,710,710,710,710,710,710,710,710,710,710,710,710,710,710,710,710,710,710,710,710,710,710,710,710,710,710,710,710,710,710,710,710,710,710,710,710,710,710,710,710,710,710,710,710,710,710,710,710,710,710,710,null,null,null,null,null,null,null,null,null,null,null,null,null,null,null,null,null,null,null,null,null,null,null,null,null,null,null,null,null,null,null,null,null,null,null,null,null,null,null,null,null,null,null,null,null,null,null,null,null,null,null,null,null,null,null,"RA600","_Z","_Z","HPATAAR","HP_TA","_Z","TUS","_Z","_Z","_Z","HR",null,"nrg_ind_hptctc","RA600","_Z","TIME_USE","ATH_RAA_TA","HR","COUNTRY AGGREGATE IS NOT CALCULATED"]
[null,null,"Estimated average SPF",null,null,null,null,1.2,1.2,1.2,1.2,1.2,1.2,1.2,1.2,1.2,1.2,1.2,1.2,1.2,1.2,1.2,1.2,1.2,1.2,1.2,1.2,1.2,1.2,1.2,1.2,1.2,1.2,1.2,1.2,1.2,1.2,1.2,1.2,1.2,1.2,1.2,1.2,1.2,1.2,1.2,1.2,1.2,1.2,1.2,1.2,1.2,1.2,1.2,1.2,1.2,1.2,1.2,1.2,1.2,1.2,1.2,1.2,1.2,1.2,1.2,1.2,1.2,null,null,null,null,null,null,null,null,null,null,null,null,null,null,null,null,null,null,null,null,null,null,null,null,null,null,null,null,null,null,null,null,null,null,null,null,null,null,null,null,null,null,null,null,null,null,null,null,null,null,null,null,null,null,null,"RA600","_Z","_Z","HPATAAR","HP_TA","_Z","SPF","_Z","_Z","_Z","NR",null,"nrg_ind_hptctc","RA600","_Z","SPERF_FACT","ATH_RAA_TA","NR","COUNTRY AGGREGATE IS NOT CALCULATED"]
[null,null,"The amount of renewable energy supplied",null,null,null,"[GWh]",{"$f":"IF(H288>0,(H286*H287)*(1-1/H288),0)","v":0},0,0,0,0,0,0,0,0,0,0,0,0,0,0,0,0,0,0,0,0,0,0,0,0,0,0,0,0,0,0,{"$f":"IF(AM288>0,(AM286*AM287)*(1-1/AM288),0)","v":0},0,0,0,0,0,0,0,0,0,0,0,0,0,0,0,0,0,0,0,0,0,0,0,0,0,0,0,0,0,null,null,null,null,null,null,null,null,null,null,null,null,null,null,null,null,null,null,null,null,null,null,null,null,null,null,null,null,null,null,null,null,null,null,null,null,null,null,null,null,null,null,null,null,null,null,null,null,null,null,null,null,null,null,null,"RA600","PRODUCT","PPRD_RED","HPATAAR","HP_TA","_Z","_Z","_Z","ENERGY","_Z","GWH",null,"nrg_ind_ahbtc","RA600","PPRD_RED","_Z","ATH_RAA_TA","GWH","Agg.=SUM(countries)"]
[null,"Air-Water (reversible)"]
[null,null,"Capacity of heat pump installed",null,null,null,"[GW]",0,0,0,0,0,0,0,0,0,0,0,0,0,0,0,0,0,0,0,0,0,0,0,0,0,0,0,0,0,0,0,0,0,0,0,0,0,0,0,0,0,0,0,0,0,0,0,0,0,0,0,0,0,0,0,0,0,0,0,0,0,null,null,null,null,null,null,null,null,null,null,null,null,null,null,null,null,null,null,null,null,null,null,null,null,null,null,null,null,null,null,null,null,null,null,null,null,null,null,null,null,null,null,null,null,null,null,null,null,null,null,null,null,null,null,null,"RA600","_Z","_Z","HPATAWR","HP_TA","_Z","HPCAP","_Z","ENERGY","_Z","GW",null,"nrg_ind_hptctc","RA600","_Z","CAP_HEAT","ATH_RAW_TA","GW","Agg.=SUM(countries)"]
[null,null,"of which SPF is above the minimum threshold",null,null,null,"[GW]",0,0,0,0,0,0,0,0,0,0,0,0,0,0,0,0,0,0,0,0,0,0,0,0,0,0,0,0,0,0,0,0,0,0,0,0,0,0,0,0,0,0,0,0,0,0,0,0,0,0,0,0,0,0,0,0,0,0,0,0,0,null,null,null,null,null,null,null,null,null,null,null,null,null,null,null,null,null,null,null,null,null,null,null,null,null,null,null,null,null,null,null,null,null,null,null,null,null,null,null,null,null,null,null,null,null,null,null,null,null,null,null,null,null,null,null,"RA600","_Z","_Z","HPATAWR","HP_TA","_Z","HPCAPABVTH","_Z","ENERGY","_Z","GW",null,"nrg_ind_hptctc","RA600","_Z","CAP_ABVTH","ATH_RAW_TA","GW","Agg.=SUM(countries)"]
[null,null,"Equivalent full load hours of operation",null,null,null,"[h]",660,660,660,660,660,660,660,660,660,660,660,660,660,660,660,660,660,660,660,660,660,660,660,660,660,660,660,660,660,660,660,660,660,660,660,660,660,660,660,660,660,660,660,660,660,660,660,660,660,660,660,660,660,660,660,660,660,660,660,660,660,null,null,null,null,null,null,null,null,null,null,null,null,null,null,null,null,null,null,null,null,null,null,null,null,null,null,null,null,null,null,null,null,null,null,null,null,null,null,null,null,null,null,null,null,null,null,null,null,null,null,null,null,null,null,null,"RA600","_Z","_Z","HPATAWR","HP_TA","_Z","TUS","_Z","_Z","_Z","HR",null,"nrg_ind_hptctc","RA600","_Z","TIME_USE","ATH_RAW_TA","HR","COUNTRY AGGREGATE IS NOT CALCULATED"]
[null,null,"Estimated average SPF",null,null,null,null,1.2,1.2,1.2,1.2,1.2,1.2,1.2,1.2,1.2,1.2,1.2,1.2,1.2,1.2,1.2,1.2,1.2,1.2,1.2,1.2,1.2,1.2,1.2,1.2,1.2,1.2,1.2,1.2,1.2,1.2,1.2,1.2,1.2,1.2,1.2,1.2,1.2,1.2,1.2,1.2,1.2,1.2,1.2,1.2,1.2,1.2,1.2,1.2,1.2,1.2,1.2,1.2,1.2,1.2,1.2,1.2,1.2,1.2,1.2,1.2,1.2,null,null,null,null,null,null,null,null,null,null,null,null,null,null,null,null,null,null,null,null,null,null,null,null,null,null,null,null,null,null,null,null,null,null,null,null,null,null,null,null,null,null,null,null,null,null,null,null,null,null,null,null,null,null,null,"RA600","_Z","_Z","HPATAWR","HP_TA","_Z","SPF","_Z","_Z","_Z","NR",null,"nrg_ind_hptctc","RA600","_Z","SPERF_FACT","ATH_RAW_TA","NR","COUNTRY AGGREGATE IS NOT CALCULATED"]
[null,null,"The amount of renewable energy supplied",null,null,null,"[GWh]",{"$f":"IF(H294>0,(H292*H293)*(1-1/H294),0)","v":0},0,0,0,0,0,0,0,0,0,0,0,0,0,0,0,0,0,0,0,0,0,0,0,0,0,0,0,0,0,0,{"$f":"IF(AM294>0,(AM292*AM293)*(1-1/AM294),0)","v":0},0,0,0,0,0,0,0,0,0,0,0,0,0,0,0,0,0,0,0,0,0,0,0,0,0,0,0,0,0,null,null,null,null,null,null,null,null,null,null,null,null,null,null,null,null,null,null,null,null,null,null,null,null,null,null,null,null,null,null,null,null,null,null,null,null,null,null,null,null,null,null,null,null,null,null,null,null,null,null,null,null,null,null,null,"RA600","PRODUCT","PPRD_RED","HPATAWR","HP_TA","_Z","_Z","_Z","ENERGY","_Z","GWH",null,"nrg_ind_ahbtc","RA600","PPRD_RED","_Z","ATH_RAW_TA","GWH","Agg.=SUM(countries)"]
[null,"Exhaust Air-Air"]
[null,null,"Capacity of heat pump installed",null,null,null,"[GW]",0,0,0,0,0,0,0,0,0,0,0,0,0,0,0,0,0,0,0,0,0,0,0,0,0,0,0,0,0,0,0,0,0,0,0,0,0,0,0,0,0,0,0,0,0,0,0,0,0,0,0,0,0,0,0,0,0,0,0,0,0,null,null,null,null,null,null,null,null,null,null,null,null,null,null,null,null,null,null,null,null,null,null,null,null,null,null,null,null,null,null,null,null,null,null,null,null,null,null,null,null,null,null,null,null,null,null,null,null,null,null,null,null,null,null,null,"RA600","_Z","_Z","HPATEAA","HP_TA","_Z","HPCAP","_Z","ENERGY","_Z","GW",null,"nrg_ind_hptctc","RA600","_Z","CAP_HEAT","ATH_EAA_TA","GW","Agg.=SUM(countries)"]
[null,null,"of which SPF is above the minimum threshold",null,null,null,"[GW]",0,0,0,0,0,0,0,0,0,0,0,0,0,0,0,0,0,0,0,0,0,0,0,0,0,0,0,0,0,0,0,0,0,0,0,0,0,0,0,0,0,0,0,0,0,0,0,0,0,0,0,0,0,0,0,0,0,0,0,0,0,null,null,null,null,null,null,null,null,null,null,null,null,null,null,null,null,null,null,null,null,null,null,null,null,null,null,null,null,null,null,null,null,null,null,null,null,null,null,null,null,null,null,null,null,null,null,null,null,null,null,null,null,null,null,null,"RA600","_Z","_Z","HPATEAA","HP_TA","_Z","HPCAPABVTH","_Z","ENERGY","_Z","GW",null,"nrg_ind_hptctc","RA600","_Z","CAP_ABVTH","ATH_EAA_TA","GW","Agg.=SUM(countries)"]
[null,null,"Equivalent full load hours of operation",null,null,null,"[h]",660,660,660,660,660,660,660,660,660,660,660,660,660,660,660,660,660,660,660,660,660,660,660,660,660,660,660,660,660,660,660,660,660,660,660,660,660,660,660,660,660,660,660,660,660,660,660,660,660,660,660,660,660,660,660,660,660,660,660,660,660,null,null,null,null,null,null,null,null,null,null,null,null,null,null,null,null,null,null,null,null,null,null,null,null,null,null,null,null,null,null,null,null,null,null,null,null,null,null,null,null,null,null,null,null,null,null,null,null,null,null,null,null,null,null,null,"RA600","_Z","_Z","HPATEAA","HP_TA","_Z","TUS","_Z","_Z","_Z","HR",null,"nrg_ind_hptctc","RA600","_Z","TIME_USE","ATH_EAA_TA","HR","COUNTRY AGGREGATE IS NOT CALCULATED"]
[null,null,"Estimated average SPF",null,null,null,null,1.2,1.2,1.2,1.2,1.2,1.2,1.2,1.2,1.2,1.2,1.2,1.2,1.2,1.2,1.2,1.2,1.2,1.2,1.2,1.2,1.2,1.2,1.2,1.2,1.2,1.2,1.2,1.2,1.2,1.2,1.2,1.2,1.2,1.2,1.2,1.2,1.2,1.2,1.2,1.2,1.2,1.2,1.2,1.2,1.2,1.2,1.2,1.2,1.2,1.2,1.2,1.2,1.2,1.2,1.2,1.2,1.2,1.2,1.2,1.2,1.2,null,null,null,null,null,null,null,null,null,null,null,null,null,null,null,null,null,null,null,null,null,null,null,null,null,null,null,null,null,null,null,null,null,null,null,null,null,null,null,null,null,null,null,null,null,null,null,null,null,null,null,null,null,null,null,"RA600","_Z","_Z","HPATEAA","HP_TA","_Z","SPF","_Z","_Z","_Z","NR",null,"nrg_ind_hptctc","RA600","_Z","SPERF_FACT","ATH_EAA_TA","NR","COUNTRY AGGREGATE IS NOT CALCULATED"]
[null,null,"The amount of renewable energy supplied",null,null,null,"[GWh]",{"$f":"IF(H300>0,(H298*H299)*(1-1/H300),0)","v":0},0,0,0,0,0,0,0,0,0,0,0,0,0,0,0,0,0,0,0,0,0,0,0,0,0,0,0,0,0,0,{"$f":"IF(AM300>0,(AM298*AM299)*(1-1/AM300),0)","v":0},0,0,0,0,0,0,0,0,0,0,0,0,0,0,0,0,0,0,0,0,0,0,0,0,0,0,0,0,0,null,null,null,null,null,null,null,null,null,null,null,null,null,null,null,null,null,null,null,null,null,null,null,null,null,null,null,null,null,null,null,null,null,null,null,null,null,null,null,null,null,null,null,null,null,null,null,null,null,null,null,null,null,null,null,"RA600","PRODUCT","PPRD_RED","HPATEAA","HP_TA","_Z","_Z","_Z","ENERGY","_Z","GWH",null,"nrg_ind_ahbtc","RA600","PPRD_RED","_Z","ATH_EAA_TA","GWH","Agg.=SUM(countries)"]
[null,"Exhaust Air-Water"]
[null,null,"Capacity of heat pump installed",null,null,null,"[GW]",0,0,0,0,0,0,0,0,0,0,0,0,0,0,0,0,0,0,0,0,0,0,0,0,0,0,0,0,0,0,0,0,0,0,0,0,0,0,0,0,0,0,0,0,0,0,0,0,0,0,0,0,0,0,0,0,0,0,0,0,0,null,null,null,null,null,null,null,null,null,null,null,null,null,null,null,null,null,null,null,null,null,null,null,null,null,null,null,null,null,null,null,null,null,null,null,null,null,null,null,null,null,null,null,null,null,null,null,null,null,null,null,null,null,null,null,"RA600","_Z","_Z","HPATAEW","HP_TA","_Z","HPCAP","_Z","ENERGY","_Z","GW",null,"nrg_ind_hptctc","RA600","_Z","CAP_HEAT","ATH_EAW_TA","GW","Agg.=SUM(countries)"]
[null,null,"of which SPF is above the minimum threshold",null,null,null,"[GW]",0,0,0,0,0,0,0,0,0,0,0,0,0,0,0,0,0,0,0,0,0,0,0,0,0,0,0,0,0,0,0,0,0,0,0,0,0,0,0,0,0,0,0,0,0,0,0,0,0,0,0,0,0,0,0,0,0,0,0,0,0,null,null,null,null,null,null,null,null,null,null,null,null,null,null,null,null,null,null,null,null,null,null,null,null,null,null,null,null,null,null,null,null,null,null,null,null,null,null,null,null,null,null,null,null,null,null,null,null,null,null,null,null,null,null,null,"RA600","_Z","_Z","HPATAEW","HP_TA","_Z","HPCAPABVTH","_Z","ENERGY","_Z","GW",null,"nrg_ind_hptctc","RA600","_Z","CAP_ABVTH","ATH_EAW_TA","GW","Agg.=SUM(countries)"]
[null,null,"Equivalent full load hours of operation",null,null,null,"[h]",660,660,660,660,660,660,660,660,660,660,660,660,660,660,660,660,660,660,660,660,660,660,660,660,660,660,660,660,660,660,660,660,660,660,660,660,660,660,660,660,660,660,660,660,660,660,660,660,660,660,660,660,660,660,660,660,660,660,660,660,660,null,null,null,null,null,null,null,null,null,null,null,null,null,null,null,null,null,null,null,null,null,null,null,null,null,null,null,null,null,null,null,null,null,null,null,null,null,null,null,null,null,null,null,null,null,null,null,null,null,null,null,null,null,null,null,"RA600","_Z","_Z","HPATAEW","HP_TA","_Z","TUS","_Z","_Z","_Z","HR",null,"nrg_ind_hptctc","RA600","_Z","TIME_USE","ATH_EAW_TA","HR","COUNTRY AGGREGATE IS NOT CALCULATED"]
[null,null,"Estimated average SPF",null,null,null,null,1.2,1.2,1.2,1.2,1.2,1.2,1.2,1.2,1.2,1.2,1.2,1.2,1.2,1.2,1.2,1.2,1.2,1.2,1.2,1.2,1.2,1.2,1.2,1.2,1.2,1.2,1.2,1.2,1.2,1.2,1.2,1.2,1.2,1.2,1.2,1.2,1.2,1.2,1.2,1.2,1.2,1.2,1.2,1.2,1.2,1.2,1.2,1.2,1.2,1.2,1.2,1.2,1.2,1.2,1.2,1.2,1.2,1.2,1.2,1.2,1.2,null,null,null,null,null,null,null,null,null,null,null,null,null,null,null,null,null,null,null,null,null,null,null,null,null,null,null,null,null,null,null,null,null,null,null,null,null,null,null,null,null,null,null,null,null,null,null,null,null,null,null,null,null,null,null,"RA600","_Z","_Z","HPATAEW","HP_TA","_Z","SPF","_Z","_Z","_Z","NR",null,"nrg_ind_hptctc","RA600","_Z","SPERF_FACT","ATH_EAW_TA","NR","COUNTRY AGGREGATE IS NOT CALCULATED"]
[null,null,"The amount of renewable energy supplied",null,null,null,"[GWh]",{"$f":"IF(H306>0,(H304*H305)*(1-1/H306),0)","v":0},0,0,0,0,0,0,0,0,0,0,0,0,0,0,0,0,0,0,0,0,0,0,0,0,0,0,0,0,0,0,{"$f":"IF(AM306>0,(AM304*AM305)*(1-1/AM306),0)","v":0},0,0,0,0,0,0,0,0,0,0,0,0,0,0,0,0,0,0,0,0,0,0,0,0,0,0,0,0,0,null,null,null,null,null,null,null,null,null,null,null,null,null,null,null,null,null,null,null,null,null,null,null,null,null,null,null,null,null,null,null,null,null,null,null,null,null,null,null,null,null,null,null,null,null,null,null,null,null,null,null,null,null,null,null,"RA600","PRODUCT","PPRD_RED","HPATAEW","HP_TA","_Z","_Z","_Z","ENERGY","_Z","GWH",null,"nrg_ind_ahbtc","RA600","PPRD_RED","_Z","ATH_EAW_TA","GWH","Agg.=SUM(countries)"]
["Geothermal energy",null,null,null,null,null,null,{"$f":"SUM(H314,H320)","v":0},0,0,0,0,0,0,0,0,0,0,0,0,0,0,0,0,0,0,0,0,0,0,0,0,0,0,0,0,0,{"$f":"SUM(AL314,AL320)","v":0},{"$f":"SUM(AM314,AM320)","v":0},0,0,0,0,0,0,0,0,0,0,0,0,0,0,0,0,0,0,0,0,0,0,0,0,0,0,0,0,0,null,null,null,null,null,null,null,null,null,null,null,null,null,null,null,null,null,null,null,null,null,null,null,null,null,null,null,null,null,null,null,null,null,null,null,null,null,null,null,null,null,null,null,null,null,null,null,null,null,null,null,null,null,null,null,"RA600","PRODUCT","PPRD_RED","HPGT","HP_TA","_Z","_Z","_Z","ENERGY","_Z","GWH",null,"nrg_ind_ahbtc","RA600","PPRD_RED","_Z","GTH_TA","GWH","Agg.=SUM(countries)"]
[null,"Ground-Air"]
[null,null,"Capacity of heat pump installed",null,null,null,"[GW]",0,0,0,0,0,0,0,0,0,0,0,0,0,0,0,0,0,0,0,0,0,0,0,0,0,0,0,0,0,0,0,0,0,0,0,0,0,0,0,0,0,0,0,0,0,0,0,0,0,0,0,0,0,0,0,0,0,0,0,0,0,null,null,null,null,null,null,null,null,null,null,null,null,null,null,null,null,null,null,null,null,null,null,null,null,null,null,null,null,null,null,null,null,null,null,null,null,null,null,null,null,null,null,null,null,null,null,null,null,null,null,null,null,null,null,null,"RA600","_Z",{"$f":"EH310","v":"_Z"},"HPGTGA","HP_TA","_Z","HPCAP","_Z","ENERGY","_Z","GW",null,"nrg_ind_hptctc","RA600","_Z","CAP_HEAT","GTH_GA_TA","GW","Agg.=SUM(countries)"]
[null,null,"of which SPF is above the minimum threshold",null,null,null,"[GW]",0,0,0,0,0,0,0,0,0,0,0,0,0,0,0,0,0,0,0,0,0,0,0,0,0,0,0,0,0,0,0,0,0,0,0,0,0,0,0,0,0,0,0,0,0,0,0,0,0,0,0,0,0,0,0,0,0,0,0,0,0,null,null,null,null,null,null,null,null,null,null,null,null,null,null,null,null,null,null,null,null,null,null,null,null,null,null,null,null,null,null,null,null,null,null,null,null,null,null,null,null,null,null,null,null,null,null,null,null,null,null,null,null,null,null,null,"RA600","_Z","_Z","HPGTGA","HP_TA","_Z","HPCAPABVTH","_Z","ENERGY","_Z","GW",null,"nrg_ind_hptctc","RA600","_Z","CAP_ABVTH","GTH_GA_TA","GW","Agg.=SUM(countries)"]
[null,null,"Equivalent full load hours of operation",null,null,null,"[h]",2070,2070,2070,2070,2070,2070,2070,2070,2070,2070,2070,2070,2070,2070,2070,2070,2070,2070,2070,2070,2070,2070,2070,2070,2070,2070,2070,2070,2070,2070,2070,2070,2070,2070,2070,2070,2070,2070,2070,2070,2070,2070,2070,2070,2070,2070,2070,2070,2070,2070,2070,2070,2070,2070,2070,2070,2070,2070,2070,2070,2070,null,null,null,null,null,null,null,null,null,null,null,null,null,null,null,null,null,null,null,null,null,null,null,null,null,null,null,null,null,null,null,null,null,null,null,null,null,null,null,null,null,null,null,null,null,null,null,null,null,null,null,null,null,null,null,"RA600","_Z","_Z","HPGTGA","HP_TA","_Z","TUS","_Z","_Z","_Z","HR",null,"nrg_ind_hptctc","RA600","_Z","TIME_USE","GTH_GA_TA","HR","COUNTRY AGGREGATE IS NOT CALCULATED"]
[null,null,"Estimated average SPF",null,null,null,null,1.4,1.4,1.4,1.4,1.4,1.4,1.4,1.4,1.4,1.4,1.4,1.4,1.4,1.4,1.4,1.4,1.4,1.4,1.4,1.4,1.4,1.4,1.4,1.4,1.4,1.4,1.4,1.4,1.4,1.4,1.4,1.4,1.4,1.4,1.4,1.4,1.4,1.4,1.4,1.4,1.4,1.4,1.4,1.4,1.4,1.4,1.4,1.4,1.4,1.4,1.4,1.4,1.4,1.4,1.4,1.4,1.4,1.4,1.4,1.4,1.4,null,null,null,null,null,null,null,null,null,null,null,null,null,null,null,null,null,null,null,null,null,null,null,null,null,null,null,null,null,null,null,null,null,null,null,null,null,null,null,null,null,null,null,null,null,null,null,null,null,null,null,null,null,null,null,"RA600","_Z","_Z","HPGTGA","HP_TA","_Z","SPF","_Z","_Z","_Z","NR",null,"nrg_ind_hptctc","RA600","_Z","SPERF_FACT","GTH_GA_TA","NR","COUNTRY AGGREGATE IS NOT CALCULATED"]
[null,null,"The amount of renewable energy supplied",null,null,null,"[GWh]",{"$f":"IF(H313>0,(H311*H312)*(1-1/H313),0)","v":0},0,0,0,0,0,0,0,0,0,0,0,0,0,0,0,0,0,0,0,0,0,0,0,0,0,0,0,0,0,0,{"$f":"IF(AM313>0,(AM311*AM312)*(1-1/AM313),0)","v":0},0,0,0,0,0,0,0,0,0,0,0,0,0,0,0,0,0,0,0,0,0,0,0,0,0,0,0,0,0,null,null,null,null,null,null,null,null,null,null,null,null,null,null,null,null,null,null,null,null,null,null,null,null,null,null,null,null,null,null,null,null,null,null,null,null,null,null,null,null,null,null,null,null,null,null,null,null,null,null,null,null,null,null,null,"RA600","PRODUCT","PPRD_RED","HPGTGA","HP_TA","_Z","_Z","_Z","ENERGY","_Z","GWH",null,"nrg_ind_ahbtc","RA600","PPRD_RED","_Z","GTH_GA_TA","GWH","Agg.=SUM(countries)"]
[null,"Ground-Water"]
[null,null,"Capacity of heat pump installed",null,null,null,"[GW]",0,0,0,0,0,0,0,0,0,0,0,0,0,0,0,0,0,0,0,0,0,0,0,0,0,0,0,0,0,0,0,0,0,0,0,0,0,0,0,0,0,0,0,0,0,0,0,0,0,0,0,0,0,0,0,0,0,0,0,0,0,null,null,null,null,null,null,null,null,null,null,null,null,null,null,null,null,null,null,null,null,null,null,null,null,null,null,null,null,null,null,null,null,null,null,null,null,null,null,null,null,null,null,null,null,null,null,null,null,null,null,null,null,null,null,null,"RA600","_Z","_Z","HPGTGW","HP_TA","_Z","HPCAP","_Z","ENERGY","_Z","GW",null,"nrg_ind_hptctc","RA600","_Z","CAP_HEAT","GTH_GW_TA","GW","Agg.=SUM(countries)"]
[null,null,"of which SPF is above the minimum threshold",null,null,null,"[GW]",0,0,0,0,0,0,0,0,0,0,0,0,0,0,0,0,0,0,0,0,0,0,0,0,0,0,0,0,0,0,0,0,0,0,0,0,0,0,0,0,0,0,0,0,0,0,0,0,0,0,0,0,0,0,0,0,0,0,0,0,0,null,null,null,null,null,null,null,null,null,null,null,null,null,null,null,null,null,null,null,null,null,null,null,null,null,null,null,null,null,null,null,null,null,null,null,null,null,null,null,null,null,null,null,null,null,null,null,null,null,null,null,null,null,null,null,"RA600","_Z","_Z","HPGTGW","HP_TA","_Z","HPCAPABVTH","_Z","ENERGY","_Z","GW",null,"nrg_ind_hptctc","RA600","_Z","CAP_ABVTH","GTH_GW_TA","GW","Agg.=SUM(countries)"]
[null,null,"Equivalent full load hours of operation",null,null,null,"[h]",2070,2070,2070,2070,2070,2070,2070,2070,2070,2070,2070,2070,2070,2070,2070,2070,2070,2070,2070,2070,2070,2070,2070,2070,2070,2070,2070,2070,2070,2070,2070,2070,2070,2070,2070,2070,2070,2070,2070,2070,2070,2070,2070,2070,2070,2070,2070,2070,2070,2070,2070,2070,2070,2070,2070,2070,2070,2070,2070,2070,2070,null,null,null,null,null,null,null,null,null,null,null,null,null,null,null,null,null,null,null,null,null,null,null,null,null,null,null,null,null,null,null,null,null,null,null,null,null,null,null,null,null,null,null,null,null,null,null,null,null,null,null,null,null,null,null,"RA600","_Z","_Z","HPGTGW","HP_TA","_Z","TUS","_Z","_Z","_Z","HR",null,"nrg_ind_hptctc","RA600","_Z","TIME_USE","GTH_GW_TA","HR","COUNTRY AGGREGATE IS NOT CALCULATED"]
[null,null,"Estimated average SPF",null,null,null,null,1.6,1.6,1.6,1.6,1.6,1.6,1.6,1.6,1.6,1.6,1.6,1.6,1.6,1.6,1.6,1.6,1.6,1.6,1.6,1.6,1.6,1.6,1.6,1.6,1.6,1.6,1.6,1.6,1.6,1.6,1.6,1.6,1.6,1.6,1.6,1.6,1.6,1.6,1.6,1.6,1.6,1.6,1.6,1.6,1.6,1.6,1.6,1.6,1.6,1.6,1.6,1.6,1.6,1.6,1.6,1.6,1.6,1.6,1.6,1.6,1.6,null,null,null,null,null,null,null,null,null,null,null,null,null,null,null,null,null,null,null,null,null,null,null,null,null,null,null,null,null,null,null,null,null,null,null,null,null,null,null,null,null,null,null,null,null,null,null,null,null,null,null,null,null,null,null,"RA600","_Z","_Z","HPGTGW","HP_TA","_Z","SPF","_Z","_Z","_Z","NR",null,"nrg_ind_hptctc","RA600","_Z","SPERF_FACT","GTH_GW_TA","NR","COUNTRY AGGREGATE IS NOT CALCULATED"]
[null,null,"The amount of renewable energy supplied",null,null,null,"[GWh]",{"$f":"IF(H319>0,(H317*H318)*(1-1/H319),0)","v":0},0,0,0,0,0,0,0,0,0,0,0,0,0,0,0,0,0,0,0,0,0,0,0,0,0,0,0,0,0,0,{"$f":"IF(AM319>0,(AM317*AM318)*(1-1/AM319),0)","v":0},0,0,0,0,0,0,0,0,0,0,0,0,0,0,0,0,0,0,0,0,0,0,0,0,0,0,0,0,0,null,null,null,null,null,null,null,null,null,null,null,null,null,null,null,null,null,null,null,null,null,null,null,null,null,null,null,null,null,null,null,null,null,null,null,null,null,null,null,null,null,null,null,null,null,null,null,null,null,null,null,null,null,null,null,"RA600","PRODUCT","PPRD_RED","HPGTGW","HP_TA","_Z","_Z","_Z","ENERGY","_Z","GWH",null,"nrg_ind_ahbtc","RA600","PPRD_RED","_Z","GTH_GW_TA","GWH","Agg.=SUM(countries)"]
["Hydrothermal heat",null,null,null,null,null,null,{"$f":"SUM(H327,H333)","v":0},0,0,0,0,0,0,0,0,0,0,0,0,0,0,0,0,0,0,0,0,0,0,0,0,0,0,0,0,0,{"$f":"SUM(AL327,AL333)","v":0},{"$f":"SUM(AM327,AM333)","v":0},0,0,0,0,0,0,0,0,0,0,0,0,0,0,0,0,0,0,0,0,0,0,0,0,0,0,0,0,0,null,null,null,null,null,null,null,null,null,null,null,null,null,null,null,null,null,null,null,null,null,null,null,null,null,null,null,null,null,null,null,null,null,null,null,null,null,null,null,null,null,null,null,null,null,null,null,null,null,null,null,null,null,null,null,"RA600","PRODUCT","PPRD_RED","HPHT","HP_TA","_Z","_Z","_Z","ENERGY","_Z","GWH",null,"nrg_ind_ahbtc","RA600","PPRD_RED","_Z","HTH_TA","GWH","Agg.=SUM(countries)"]
[null,"Water-Air"]
[null,null,"Capacity of heat pump installed",null,null,null,"[GW]",0,0,0,0,0,0,0,0,0,0,0,0,0,0,0,0,0,0,0,0,0,0,0,0,0,0,0,0,0,0,0,0,0,0,0,0,0,0,0,0,0,0,0,0,0,0,0,0,0,0,0,0,0,0,0,0,0,0,0,0,0,null,null,null,null,null,null,null,null,null,null,null,null,null,null,null,null,null,null,null,null,null,null,null,null,null,null,null,null,null,null,null,null,null,null,null,null,null,null,null,null,null,null,null,null,null,null,null,null,null,null,null,null,null,null,null,"RA600","_Z","_Z","HPHTWA","HP_TA","_Z","HPCAP","_Z","ENERGY","_Z","GW",null,"nrg_ind_hptctc","RA600","_Z","CAP_HEAT","HTH_WA_TA","GW","Agg.=SUM(countries)"]
[null,null,"of which SPF is above the minimum threshold",null,null,null,"[GW]",0,0,0,0,0,0,0,0,0,0,0,0,0,0,0,0,0,0,0,0,0,0,0,0,0,0,0,0,0,0,0,0,0,0,0,0,0,0,0,0,0,0,0,0,0,0,0,0,0,0,0,0,0,0,0,0,0,0,0,0,0,null,null,null,null,null,null,null,null,null,null,null,null,null,null,null,null,null,null,null,null,null,null,null,null,null,null,null,null,null,null,null,null,null,null,null,null,null,null,null,null,null,null,null,null,null,null,null,null,null,null,null,null,null,null,null,"RA600","_Z","_Z","HPHTWA","HP_TA","_Z","HPCAPABVTH","_Z","ENERGY","_Z","GW",null,"nrg_ind_hptctc","RA600","_Z","CAP_ABVTH","HTH_WA_TA","GW","Agg.=SUM(countries)"]
[null,null,"Equivalent full load hours of operation",null,null,null,"[h]",2070,2070,2070,2070,2070,2070,2070,2070,2070,2070,2070,2070,2070,2070,2070,2070,2070,2070,2070,2070,2070,2070,2070,2070,2070,2070,2070,2070,2070,2070,2070,2070,2070,2070,2070,2070,2070,2070,2070,2070,2070,2070,2070,2070,2070,2070,2070,2070,2070,2070,2070,2070,2070,2070,2070,2070,2070,2070,2070,2070,2070,null,null,null,null,null,null,null,null,null,null,null,null,null,null,null,null,null,null,null,null,null,null,null,null,null,null,null,null,null,null,null,null,null,null,null,null,null,null,null,null,null,null,null,null,null,null,null,null,null,null,null,null,null,null,null,"RA600","_Z","_Z","HPHTWA","HP_TA","_Z","TUS","_Z","_Z","_Z","HR",null,"nrg_ind_hptctc","RA600","_Z","TIME_USE","HTH_WA_TA","HR","COUNTRY AGGREGATE IS NOT CALCULATED"]
[null,null,"Estimated average SPF",null,null,null,null,1.4,1.4,1.4,1.4,1.4,1.4,1.4,1.4,1.4,1.4,1.4,1.4,1.4,1.4,1.4,1.4,1.4,1.4,1.4,1.4,1.4,1.4,1.4,1.4,1.4,1.4,1.4,1.4,1.4,1.4,1.4,1.4,1.4,1.4,1.4,1.4,1.4,1.4,1.4,1.4,1.4,1.4,1.4,1.4,1.4,1.4,1.4,1.4,1.4,1.4,1.4,1.4,1.4,1.4,1.4,1.4,1.4,1.4,1.4,1.4,1.4,null,null,null,null,null,null,null,null,null,null,null,null,null,null,null,null,null,null,null,null,null,null,null,null,null,null,null,null,null,null,null,null,null,null,null,null,null,null,null,null,null,null,null,null,null,null,null,null,null,null,null,null,null,null,null,"RA600","_Z","_Z","HPHTWA","HP_TA","_Z","SPF","_Z","_Z","_Z","NR",null,"nrg_ind_hptctc","RA600","_Z","SPERF_FACT","HTH_WA_TA","NR","COUNTRY AGGREGATE IS NOT CALCULATED"]
[null,null,"The amount of renewable energy supplied",null,null,null,"[GWh]",{"$f":"IF(H326>0,(H324*H325)*(1-1/H326),0)","v":0},0,0,0,0,0,0,0,0,0,0,0,0,0,0,0,0,0,0,0,0,0,0,0,0,0,0,0,0,0,0,{"$f":"IF(AM326>0,(AM324*AM325)*(1-1/AM326),0)","v":0},0,0,0,0,0,0,0,0,0,0,0,0,0,0,0,0,0,0,0,0,0,0,0,0,0,0,0,0,0,null,null,null,null,null,null,null,null,null,null,null,null,null,null,null,null,null,null,null,null,null,null,null,null,null,null,null,null,null,null,null,null,null,null,null,null,null,null,null,null,null,null,null,null,null,null,null,null,null,null,null,null,null,null,null,"RA600","PRODUCT","PPRD_RED","HPHTWA","HP_TA","_Z","_Z","_Z","ENERGY","_Z","GWH",null,"nrg_ind_ahbtc","RA600","PPRD_RED","_Z","HTH_WA_TA","GWH","Agg.=SUM(countries)"]
[null,"Water-Water"]
[null,null,"Capacity of heat pump installed",null,null,null,"[GW]",0,0,0,0,0,0,0,0,0,0,0,0,0,0,0,0,0,0,0,0,0,0,0,0,0,0,0,0,0,0,0,0,0,0,0,0,0,0,0,0,0,0,0,0,0,0,0,0,0,0,0,0,0,0,0,0,0,0,0,0,0,null,null,null,null,null,null,null,null,null,null,null,null,null,null,null,null,null,null,null,null,null,null,null,null,null,null,null,null,null,null,null,null,null,null,null,null,null,null,null,null,null,null,null,null,null,null,null,null,null,null,null,null,null,null,null,"RA600","_Z","_Z","HPHTWW","HP_TA","_Z","HPCAP","_Z","ENERGY","_Z","GW",null,"nrg_ind_hptctc","RA600","_Z","CAP_HEAT","HTH_WW_TA","GW","Agg.=SUM(countries)"]
[null,null,"of which SPF is above the minimum threshold",null,null,null,"[GW]",0,0,0,0,0,0,0,0,0,0,0,0,0,0,0,0,0,0,0,0,0,0,0,0,0,0,0,0,0,0,0,0,0,0,0,0,0,0,0,0,0,0,0,0,0,0,0,0,0,0,0,0,0,0,0,0,0,0,0,0,0,null,null,null,null,null,null,null,null,null,null,null,null,null,null,null,null,null,null,null,null,null,null,null,null,null,null,null,null,null,null,null,null,null,null,null,null,null,null,null,null,null,null,null,null,null,null,null,null,null,null,null,null,null,null,null,"RA600","_Z","_Z","HPHTWW","HP_TA","_Z","HPCAPABVTH","_Z","ENERGY","_Z","GW",null,"nrg_ind_hptctc","RA600","_Z","CAP_ABVTH","HTH_WW_TA","GW","Agg.=SUM(countries)"]
[null,null,"Equivalent full load hours of operation",null,null,null,"[h]",2070,2070,2070,2070,2070,2070,2070,2070,2070,2070,2070,2070,2070,2070,2070,2070,2070,2070,2070,2070,2070,2070,2070,2070,2070,2070,2070,2070,2070,2070,2070,2070,2070,2070,2070,2070,2070,2070,2070,2070,2070,2070,2070,2070,2070,2070,2070,2070,2070,2070,2070,2070,2070,2070,2070,2070,2070,2070,2070,2070,2070,null,null,null,null,null,null,null,null,null,null,null,null,null,null,null,null,null,null,null,null,null,null,null,null,null,null,null,null,null,null,null,null,null,null,null,null,null,null,null,null,null,null,null,null,null,null,null,null,null,null,null,null,null,null,null,"RA600","_Z","_Z","HPHTWW","HP_TA","_Z","TUS","_Z","_Z","_Z","HR",null,"nrg_ind_hptctc","RA600","_Z","TIME_USE","HTH_WW_TA","HR","COUNTRY AGGREGATE IS NOT CALCULATED"]
[null,null,"Estimated average SPF",null,null,null,null,1.6,1.6,1.6,1.6,1.6,1.6,1.6,1.6,1.6,1.6,1.6,1.6,1.6,1.6,1.6,1.6,1.6,1.6,1.6,1.6,1.6,1.6,1.6,1.6,1.6,1.6,1.6,1.6,1.6,1.6,1.6,1.6,1.6,1.6,1.6,1.6,1.6,1.6,1.6,1.6,1.6,1.6,1.6,1.6,1.6,1.6,1.6,1.6,1.6,1.6,1.6,1.6,1.6,1.6,1.6,1.6,1.6,1.6,1.6,1.6,1.6,null,null,null,null,null,null,null,null,null,null,null,null,null,null,null,null,null,null,null,null,null,null,null,null,null,null,null,null,null,null,null,null,null,null,null,null,null,null,null,null,null,null,null,null,null,null,null,null,null,null,null,null,null,null,null,"RA600","_Z","_Z","HPHTWW","HP_TA","_Z","SPF","_Z","_Z","_Z","NR",null,"nrg_ind_hptctc","RA600","_Z","SPERF_FACT","HTH_WW_TA","NR","COUNTRY AGGREGATE IS NOT CALCULATED"]
[null,null,"The amount of renewable energy supplied",null,null,null,"[GWh]",{"$f":"IF(H332>0,(H330*H331)*(1-1/H332),0)","v":0},0,0,0,0,0,0,0,0,0,0,0,0,0,0,0,0,0,0,0,0,0,0,0,0,0,0,0,0,0,0,{"$f":"IF(AM332>0,(AM330*AM331)*(1-1/AM332),0)","v":0},0,0,0,0,0,0,0,0,0,0,0,0,0,0,0,0,0,0,0,0,0,0,0,0,0,0,0,0,0,null,null,null,null,null,null,null,null,null,null,null,null,null,null,null,null,null,null,null,null,null,null,null,null,null,null,null,null,null,null,null,null,null,null,null,null,null,null,null,null,null,null,null,null,null,null,null,null,null,null,null,null,null,null,null,"RA600","PRODUCT","PPRD_RED","HPHTWW","HP_TA","_Z","_Z","_Z","ENERGY","_Z","GWH",null,"nrg_ind_ahbtc","RA600","PPRD_RED","_Z","HTH_WW_TA","GWH","Agg.=SUM(countries)"]
[]
["HEAT PUMPS DRIVEN BY THERMAL ENERGY in WARMER CLIMATE"]
["Aerothermal energy",null,null,null,null,null,null,{"$f":"SUM(H342,H348,H354,H360,H366,H372)","v":0},0,0,0,0,0,0,0,0,0,0,0,0,0,0,0,0,0,0,0,0,0,0,0,0,0,0,0,0,0,{"$f":"SUM(AL342,AL348,AL354,AL360,AL366,AL372)","v":0},{"$f":"SUM(AM342,AM348,AM354,AM360,AM366,AM372)","v":0},0,0,0,0,0,0,0,0,0,0,0,0,0,0,0,0,0,0,0,0,0,0,0,0,0,0,0,0,0,null,null,null,null,null,null,null,null,null,null,null,null,null,null,null,null,null,null,null,null,null,null,null,null,null,null,null,null,null,null,null,null,null,null,null,null,null,null,null,null,null,null,null,null,null,null,null,null,null,null,null,null,null,null,null,"RA600","PRODUCT","PPRD_RED","HPAT","HP_TW","_Z","_Z","_Z","ENERGY","_Z","GWH",null,"nrg_ind_ahbtc","RA600","PPRD_RED","_Z","ATH_TW","GWH","Agg.=SUM(countries)"]
[null,"Air-Air"]
[null,null,"Capacity of heat pump installed",null,null,null,"[GW]",0,0,0,0,0,0,0,0,0,0,0,0,0,0,0,0,0,0,0,0,0,0,0,0,0,0,0,0,0,0,0,0,0,0,0,0,0,0,0,0,0,0,0,0,0,0,0,0,0,0,0,0,0,0,0,0,0,0,0,0,0,null,null,null,null,null,null,null,null,null,null,null,null,null,null,null,null,null,null,null,null,null,null,null,null,null,null,null,null,null,null,null,null,null,null,null,null,null,null,null,null,null,null,null,null,null,null,null,null,null,null,null,null,null,null,null,"RA600","_Z","_Z","HPATAA","HP_TW","_Z","HPCAP","_Z","ENERGY","_Z","GW",null,"nrg_ind_hptctc","RA600","_Z","CAP_HEAT","ATH_AA_TW","GW","Agg.=SUM(countries)"]
[null,null,"of which SPF is above the minimum threshold",null,null,null,"[GW]",0,0,0,0,0,0,0,0,0,0,0,0,0,0,0,0,0,0,0,0,0,0,0,0,0,0,0,0,0,0,0,0,0,0,0,0,0,0,0,0,0,0,0,0,0,0,0,0,0,0,0,0,0,0,0,0,0,0,0,0,0,null,null,null,null,null,null,null,null,null,null,null,null,null,null,null,null,null,null,null,null,null,null,null,null,null,null,null,null,null,null,null,null,null,null,null,null,null,null,null,null,null,null,null,null,null,null,null,null,null,null,null,null,null,null,null,"RA600","_Z","_Z","HPATAA","HP_TW","_Z","HPCAPABVTH","_Z","ENERGY","_Z","GW",null,"nrg_ind_hptctc","RA600","_Z","CAP_ABVTH","ATH_AA_TW","GW","Agg.=SUM(countries)"]
[null,null,"Equivalent full load hours of operation",null,null,null,"[h]",1200,1200,1200,1200,1200,1200,1200,1200,1200,1200,1200,1200,1200,1200,1200,1200,1200,1200,1200,1200,1200,1200,1200,1200,1200,1200,1200,1200,1200,1200,1200,1200,1200,1200,1200,1200,1200,1200,1200,1200,1200,1200,1200,1200,1200,1200,1200,1200,1200,1200,1200,1200,1200,1200,1200,1200,1200,1200,1200,1200,1200,null,null,null,null,null,null,null,null,null,null,null,null,null,null,null,null,null,null,null,null,null,null,null,null,null,null,null,null,null,null,null,null,null,null,null,null,null,null,null,null,null,null,null,null,null,null,null,null,null,null,null,null,null,null,null,"RA600","_Z","_Z","HPATAA","HP_TW","_Z","TUS","_Z","_Z","_Z","HR",null,"nrg_ind_hptctc","RA600","_Z","TIME_USE","ATH_AA_TW","HR","COUNTRY AGGREGATE IS NOT CALCULATED"]
[null,null,"Estimated average SPF",null,null,null,null,1.2,1.2,1.2,1.2,1.2,1.2,1.2,1.2,1.2,1.2,1.2,1.2,1.2,1.2,1.2,1.2,1.2,1.2,1.2,1.2,1.2,1.2,1.2,1.2,1.2,1.2,1.2,1.2,1.2,1.2,1.2,1.2,1.2,1.2,1.2,1.2,1.2,1.2,1.2,1.2,1.2,1.2,1.2,1.2,1.2,1.2,1.2,1.2,1.2,1.2,1.2,1.2,1.2,1.2,1.2,1.2,1.2,1.2,1.2,1.2,1.2,null,null,null,null,null,null,null,null,null,null,null,null,null,null,null,null,null,null,null,null,null,null,null,null,null,null,null,null,null,null,null,null,null,null,null,null,null,null,null,null,null,null,null,null,null,null,null,null,null,null,null,null,null,null,null,"RA600","_Z","_Z","HPATAA","HP_TW","_Z","SPF","_Z","_Z","_Z","NR",null,"nrg_ind_hptctc","RA600","_Z","SPERF_FACT","ATH_AA_TW","NR","COUNTRY AGGREGATE IS NOT CALCULATED"]
[null,null,"The amount of renewable energy supplied",null,null,null,"[GWh]",{"$f":"IF(H341>0,(H339*H340)*(1-1/H341),0)","v":0},0,0,0,0,0,0,0,0,0,0,0,0,0,0,0,0,0,0,0,0,0,0,0,0,0,0,0,0,0,0,{"$f":"IF(AM341>0,(AM339*AM340)*(1-1/AM341),0)","v":0},0,0,0,0,0,0,0,0,0,0,0,0,0,0,0,0,0,0,0,0,0,0,0,0,0,0,0,0,0,null,null,null,null,null,null,null,null,null,null,null,null,null,null,null,null,null,null,null,null,null,null,null,null,null,null,null,null,null,null,null,null,null,null,null,null,null,null,null,null,null,null,null,null,null,null,null,null,null,null,null,null,null,null,null,"RA600","PRODUCT","PPRD_RED","HPATAA","HP_TW","_Z","_Z","_Z","ENERGY","_Z","GWH",null,"nrg_ind_ahbtc","RA600","PPRD_RED","_Z","ATH_AA_TW","GWH","Agg.=SUM(countries)"]
[null,"Air-Water"]
[null,null,"Capacity of heat pump installed",null,null,null,"[GW]",0,0,0,0,0,0,0,0,0,0,0,0,0,0,0,0,0,0,0,0,0,0,0,0,0,0,0,0,0,0,0,0,0,0,0,0,0,0,0,0,0,0,0,0,0,0,0,0,0,0,0,0,0,0,0,0,0,0,0,0,0,null,null,null,null,null,null,null,null,null,null,null,null,null,null,null,null,null,null,null,null,null,null,null,null,null,null,null,null,null,null,null,null,null,null,null,null,null,null,null,null,null,null,null,null,null,null,null,null,null,null,null,null,null,null,null,"RA600","_Z","_Z","HPATAW","HP_TW","_Z","HPCAP","_Z","ENERGY","_Z","GW",null,"nrg_ind_hptctc","RA600","_Z","CAP_HEAT","ATH_AW_TW","GW","Agg.=SUM(countries)"]
[null,null,"of which SPF is above the minimum threshold",null,null,null,"[GW]",0,0,0,0,0,0,0,0,0,0,0,0,0,0,0,0,0,0,0,0,0,0,0,0,0,0,0,0,0,0,0,0,0,0,0,0,0,0,0,0,0,0,0,0,0,0,0,0,0,0,0,0,0,0,0,0,0,0,0,0,0,null,null,null,null,null,null,null,null,null,null,null,null,null,null,null,null,null,null,null,null,null,null,null,null,null,null,null,null,null,null,null,null,null,null,null,null,null,null,null,null,null,null,null,null,null,null,null,null,null,null,null,null,null,null,null,"RA600","_Z","_Z","HPATAW","HP_TW","_Z","HPCAPABVTH","_Z","ENERGY","_Z","GW",null,"nrg_ind_hptctc","RA600","_Z","CAP_ABVTH","ATH_AW_TW","GW","Agg.=SUM(countries)"]
[null,null,"Equivalent full load hours of operation",null,null,null,"[h]",1170,1170,1170,1170,1170,1170,1170,1170,1170,1170,1170,1170,1170,1170,1170,1170,1170,1170,1170,1170,1170,1170,1170,1170,1170,1170,1170,1170,1170,1170,1170,1170,1170,1170,1170,1170,1170,1170,1170,1170,1170,1170,1170,1170,1170,1170,1170,1170,1170,1170,1170,1170,1170,1170,1170,1170,1170,1170,1170,1170,1170,null,null,null,null,null,null,null,null,null,null,null,null,null,null,null,null,null,null,null,null,null,null,null,null,null,null,null,null,null,null,null,null,null,null,null,null,null,null,null,null,null,null,null,null,null,null,null,null,null,null,null,null,null,null,null,"RA600","_Z","_Z","HPATAW","HP_TW","_Z","TUS","_Z","_Z","_Z","HR",null,"nrg_ind_hptctc","RA600","_Z","TIME_USE","ATH_AW_TW","HR","COUNTRY AGGREGATE IS NOT CALCULATED"]
[null,null,"Estimated average SPF",null,null,null,null,1.2,1.2,1.2,1.2,1.2,1.2,1.2,1.2,1.2,1.2,1.2,1.2,1.2,1.2,1.2,1.2,1.2,1.2,1.2,1.2,1.2,1.2,1.2,1.2,1.2,1.2,1.2,1.2,1.2,1.2,1.2,1.2,1.2,1.2,1.2,1.2,1.2,1.2,1.2,1.2,1.2,1.2,1.2,1.2,1.2,1.2,1.2,1.2,1.2,1.2,1.2,1.2,1.2,1.2,1.2,1.2,1.2,1.2,1.2,1.2,1.2,null,null,null,null,null,null,null,null,null,null,null,null,null,null,null,null,null,null,null,null,null,null,null,null,null,null,null,null,null,null,null,null,null,null,null,null,null,null,null,null,null,null,null,null,null,null,null,null,null,null,null,null,null,null,null,"RA600","_Z","_Z","HPATAW","HP_TW","_Z","SPF","_Z","_Z","_Z","NR",null,"nrg_ind_hptctc","RA600","_Z","SPERF_FACT","ATH_AW_TW","NR","COUNTRY AGGREGATE IS NOT CALCULATED"]
[null,null,"The amount of renewable energy supplied",null,null,null,"[GWh]",{"$f":"IF(H347>0,(H345*H346)*(1-1/H347),0)","v":0},0,0,0,0,0,0,0,0,0,0,0,0,0,0,0,0,0,0,0,0,0,0,0,0,0,0,0,0,0,0,{"$f":"IF(AM347>0,(AM345*AM346)*(1-1/AM347),0)","v":0},0,0,0,0,0,0,0,0,0,0,0,0,0,0,0,0,0,0,0,0,0,0,0,0,0,0,0,0,0,null,null,null,null,null,null,null,null,null,null,null,null,null,null,null,null,null,null,null,null,null,null,null,null,null,null,null,null,null,null,null,null,null,null,null,null,null,null,null,null,null,null,null,null,null,null,null,null,null,null,null,null,null,null,null,"RA600","PRODUCT","PPRD_RED","HPATAW","HP_TW","_Z","_Z","_Z","ENERGY","_Z","GWH",null,"nrg_ind_ahbtc","RA600","PPRD_RED","_Z","ATH_AW_TW","GWH","Agg.=SUM(countries)"]
[null,"Air-Air (reversible)"]
[null,null,"Capacity of heat pump installed",null,null,null,"[GW]",0,0,0,0,0,0,0,0,0,0,0,0,0,0,0,0,0,0,0,0,0,0,0,0,0,0,0,0,0,0,0,0,0,0,0,0,0,0,0,0,0,0,0,0,0,0,0,0,0,0,0,0,0,0,0,0,0,0,0,0,0,null,null,null,null,null,null,null,null,null,null,null,null,null,null,null,null,null,null,null,null,null,null,null,null,null,null,null,null,null,null,null,null,null,null,null,null,null,null,null,null,null,null,null,null,null,null,null,null,null,null,null,null,null,null,null,"RA600","_Z","_Z","HPATAAR","HP_TW","_Z","HPCAP","_Z","ENERGY","_Z","GW",null,"nrg_ind_hptctc","RA600","_Z","CAP_HEAT","ATH_RAA_TW","GW","Agg.=SUM(countries)"]
[null,null,"of which SPF is above the minimum threshold",null,null,null,"[GW]",0,0,0,0,0,0,0,0,0,0,0,0,0,0,0,0,0,0,0,0,0,0,0,0,0,0,0,0,0,0,0,0,0,0,0,0,0,0,0,0,0,0,0,0,0,0,0,0,0,0,0,0,0,0,0,0,0,0,0,0,0,null,null,null,null,null,null,null,null,null,null,null,null,null,null,null,null,null,null,null,null,null,null,null,null,null,null,null,null,null,null,null,null,null,null,null,null,null,null,null,null,null,null,null,null,null,null,null,null,null,null,null,null,null,null,null,"RA600","_Z","_Z","HPATAAR","HP_TW","_Z","HPCAPABVTH","_Z","ENERGY","_Z","GW",null,"nrg_ind_hptctc","RA600","_Z","CAP_ABVTH","ATH_RAA_TW","GW","Agg.=SUM(countries)"]
[null,null,"Equivalent full load hours of operation",null,null,null,"[h]",120,120,120,120,120,120,120,120,120,120,120,120,120,120,120,120,120,120,120,120,120,120,120,120,120,120,120,120,120,120,120,120,120,120,120,120,120,120,120,120,120,120,120,120,120,120,120,120,120,120,120,120,120,120,120,120,120,120,120,120,120,null,null,null,null,null,null,null,null,null,null,null,null,null,null,null,null,null,null,null,null,null,null,null,null,null,null,null,null,null,null,null,null,null,null,null,null,null,null,null,null,null,null,null,null,null,null,null,null,null,null,null,null,null,null,null,"RA600","_Z","_Z","HPATAAR","HP_TW","_Z","TUS","_Z","_Z","_Z","HR",null,"nrg_ind_hptctc","RA600","_Z","TIME_USE","ATH_RAA_TW","HR","COUNTRY AGGREGATE IS NOT CALCULATED"]
[null,null,"Estimated average SPF",null,null,null,null,1.2,1.2,1.2,1.2,1.2,1.2,1.2,1.2,1.2,1.2,1.2,1.2,1.2,1.2,1.2,1.2,1.2,1.2,1.2,1.2,1.2,1.2,1.2,1.2,1.2,1.2,1.2,1.2,1.2,1.2,1.2,1.2,1.2,1.2,1.2,1.2,1.2,1.2,1.2,1.2,1.2,1.2,1.2,1.2,1.2,1.2,1.2,1.2,1.2,1.2,1.2,1.2,1.2,1.2,1.2,1.2,1.2,1.2,1.2,1.2,1.2,null,null,null,null,null,null,null,null,null,null,null,null,null,null,null,null,null,null,null,null,null,null,null,null,null,null,null,null,null,null,null,null,null,null,null,null,null,null,null,null,null,null,null,null,null,null,null,null,null,null,null,null,null,null,null,"RA600","_Z","_Z","HPATAAR","HP_TW","_Z","SPF","_Z","_Z","_Z","NR",null,"nrg_ind_hptctc","RA600","_Z","SPERF_FACT","ATH_RAA_TW","NR","COUNTRY AGGREGATE IS NOT CALCULATED"]
[null,null,"The amount of renewable energy supplied",null,null,null,"[GWh]",{"$f":"IF(H353>0,(H351*H352)*(1-1/H353),0)","v":0},0,0,0,0,0,0,0,0,0,0,0,0,0,0,0,0,0,0,0,0,0,0,0,0,0,0,0,0,0,0,{"$f":"IF(AM353>0,(AM351*AM352)*(1-1/AM353),0)","v":0},0,0,0,0,0,0,0,0,0,0,0,0,0,0,0,0,0,0,0,0,0,0,0,0,0,0,0,0,0,null,null,null,null,null,null,null,null,null,null,null,null,null,null,null,null,null,null,null,null,null,null,null,null,null,null,null,null,null,null,null,null,null,null,null,null,null,null,null,null,null,null,null,null,null,null,null,null,null,null,null,null,null,null,null,"RA600","PRODUCT","PPRD_RED","HPATAAR","HP_TW","_Z","_Z","_Z","ENERGY","_Z","GWH",null,"nrg_ind_ahbtc","RA600","PPRD_RED","_Z","ATH_RAA_TW","GWH","Agg.=SUM(countries)"]
[null,"Air-Water (reversible)"]
[null,null,"Capacity of heat pump installed",null,null,null,"[GW]",0,0,0,0,0,0,0,0,0,0,0,0,0,0,0,0,0,0,0,0,0,0,0,0,0,0,0,0,0,0,0,0,0,0,0,0,0,0,0,0,0,0,0,0,0,0,0,0,0,0,0,0,0,0,0,0,0,0,0,0,0,null,null,null,null,null,null,null,null,null,null,null,null,null,null,null,null,null,null,null,null,null,null,null,null,null,null,null,null,null,null,null,null,null,null,null,null,null,null,null,null,null,null,null,null,null,null,null,null,null,null,null,null,null,null,null,"RA600","_Z","_Z","HPATAWR","HP_TW","_Z","HPCAP","_Z","ENERGY","_Z","GW",null,"nrg_ind_hptctc","RA600","_Z","CAP_HEAT","ATH_RAW_TW","GW","Agg.=SUM(countries)"]
[null,null,"of which SPF is above the minimum threshold",null,null,null,"[GW]",0,0,0,0,0,0,0,0,0,0,0,0,0,0,0,0,0,0,0,0,0,0,0,0,0,0,0,0,0,0,0,0,0,0,0,0,0,0,0,0,0,0,0,0,0,0,0,0,0,0,0,0,0,0,0,0,0,0,0,0,0,null,null,null,null,null,null,null,null,null,null,null,null,null,null,null,null,null,null,null,null,null,null,null,null,null,null,null,null,null,null,null,null,null,null,null,null,null,null,null,null,null,null,null,null,null,null,null,null,null,null,null,null,null,null,null,"RA600","_Z","_Z","HPATAWR","HP_TW","_Z","HPCAPABVTH","_Z","ENERGY","_Z","GW",null,"nrg_ind_hptctc","RA600","_Z","CAP_ABVTH","ATH_RAW_TW","GW","Agg.=SUM(countries)"]
[null,null,"Equivalent full load hours of operation",null,null,null,"[h]",120,120,120,120,120,120,120,120,120,120,120,120,120,120,120,120,120,120,120,120,120,120,120,120,120,120,120,120,120,120,120,120,120,120,120,120,120,120,120,120,120,120,120,120,120,120,120,120,120,120,120,120,120,120,120,120,120,120,120,120,120,null,null,null,null,null,null,null,null,null,null,null,null,null,null,null,null,null,null,null,null,null,null,null,null,null,null,null,null,null,null,null,null,null,null,null,null,null,null,null,null,null,null,null,null,null,null,null,null,null,null,null,null,null,null,null,"RA600","_Z","_Z","HPATAWR","HP_TW","_Z","TUS","_Z","_Z","_Z","HR",null,"nrg_ind_hptctc","RA600","_Z","TIME_USE","ATH_RAW_TW","HR","COUNTRY AGGREGATE IS NOT CALCULATED"]
[null,null,"Estimated average SPF",null,null,null,null,1.2,1.2,1.2,1.2,1.2,1.2,1.2,1.2,1.2,1.2,1.2,1.2,1.2,1.2,1.2,1.2,1.2,1.2,1.2,1.2,1.2,1.2,1.2,1.2,1.2,1.2,1.2,1.2,1.2,1.2,1.2,1.2,1.2,1.2,1.2,1.2,1.2,1.2,1.2,1.2,1.2,1.2,1.2,1.2,1.2,1.2,1.2,1.2,1.2,1.2,1.2,1.2,1.2,1.2,1.2,1.2,1.2,1.2,1.2,1.2,1.2,null,null,null,null,null,null,null,null,null,null,null,null,null,null,null,null,null,null,null,null,null,null,null,null,null,null,null,null,null,null,null,null,null,null,null,null,null,null,null,null,null,null,null,null,null,null,null,null,null,null,null,null,null,null,null,"RA600","_Z","_Z","HPATAWR","HP_TW","_Z","SPF","_Z","_Z","_Z","NR",null,"nrg_ind_hptctc","RA600","_Z","SPERF_FACT","ATH_RAW_TW","NR","COUNTRY AGGREGATE IS NOT CALCULATED"]
[null,null,"The amount of renewable energy supplied",null,null,null,"[GWh]",{"$f":"IF(H359>0,(H357*H358)*(1-1/H359),0)","v":0},0,0,0,0,0,0,0,0,0,0,0,0,0,0,0,0,0,0,0,0,0,0,0,0,0,0,0,0,0,0,{"$f":"IF(AM359>0,(AM357*AM358)*(1-1/AM359),0)","v":0},0,0,0,0,0,0,0,0,0,0,0,0,0,0,0,0,0,0,0,0,0,0,0,0,0,0,0,0,0,null,null,null,null,null,null,null,null,null,null,null,null,null,null,null,null,null,null,null,null,null,null,null,null,null,null,null,null,null,null,null,null,null,null,null,null,null,null,null,null,null,null,null,null,null,null,null,null,null,null,null,null,null,null,null,"RA600","PRODUCT","PPRD_RED","HPATAWR","HP_TW","_Z","_Z","_Z","ENERGY","_Z","GWH",null,"nrg_ind_ahbtc","RA600","PPRD_RED","_Z","ATH_RAW_TW","GWH","Agg.=SUM(countries)"]
[null,"Exhaust Air-Air"]
[null,null,"Capacity of heat pump installed",null,null,null,"[GW]",0,0,0,0,0,0,0,0,0,0,0,0,0,0,0,0,0,0,0,0,0,0,0,0,0,0,0,0,0,0,0,0,0,0,0,0,0,0,0,0,0,0,0,0,0,0,0,0,0,0,0,0,0,0,0,0,0,0,0,0,0,null,null,null,null,null,null,null,null,null,null,null,null,null,null,null,null,null,null,null,null,null,null,null,null,null,null,null,null,null,null,null,null,null,null,null,null,null,null,null,null,null,null,null,null,null,null,null,null,null,null,null,null,null,null,null,"RA600","_Z","_Z","HPATEAA","HP_TW","_Z","HPCAP","_Z","ENERGY","_Z","GW",null,"nrg_ind_hptctc","RA600","_Z","CAP_HEAT","ATH_EWA_TW","GW","Agg.=SUM(countries)"]
[null,null,"of which SPF is above the minimum threshold",null,null,null,"[GW]",0,0,0,0,0,0,0,0,0,0,0,0,0,0,0,0,0,0,0,0,0,0,0,0,0,0,0,0,0,0,0,0,0,0,0,0,0,0,0,0,0,0,0,0,0,0,0,0,0,0,0,0,0,0,0,0,0,0,0,0,0,null,null,null,null,null,null,null,null,null,null,null,null,null,null,null,null,null,null,null,null,null,null,null,null,null,null,null,null,null,null,null,null,null,null,null,null,null,null,null,null,null,null,null,null,null,null,null,null,null,null,null,null,null,null,null,"RA600","_Z","_Z","HPATEAA","HP_TW","_Z","HPCAPABVTH","_Z","ENERGY","_Z","GW",null,"nrg_ind_hptctc","RA600","_Z","CAP_ABVTH","ATH_EWA_TW","GW","Agg.=SUM(countries)"]
[null,null,"Equivalent full load hours of operation",null,null,null,"[h]",760,760,760,760,760,760,760,760,760,760,760,760,760,760,760,760,760,760,760,760,760,760,760,760,760,760,760,760,760,760,760,760,760,760,760,760,760,760,760,760,760,760,760,760,760,760,760,760,760,760,760,760,760,760,760,760,760,760,760,760,760,null,null,null,null,null,null,null,null,null,null,null,null,null,null,null,null,null,null,null,null,null,null,null,null,null,null,null,null,null,null,null,null,null,null,null,null,null,null,null,null,null,null,null,null,null,null,null,null,null,null,null,null,null,null,null,"RA600","_Z","_Z","HPATEAA","HP_TW","_Z","TUS","_Z","_Z","_Z","HR",null,"nrg_ind_hptctc","RA600","_Z","TIME_USE","ATH_EWA_TW","HR","COUNTRY AGGREGATE IS NOT CALCULATED"]
[null,null,"Estimated average SPF",null,null,null,null,1.2,1.2,1.2,1.2,1.2,1.2,1.2,1.2,1.2,1.2,1.2,1.2,1.2,1.2,1.2,1.2,1.2,1.2,1.2,1.2,1.2,1.2,1.2,1.2,1.2,1.2,1.2,1.2,1.2,1.2,1.2,1.2,1.2,1.2,1.2,1.2,1.2,1.2,1.2,1.2,1.2,1.2,1.2,1.2,1.2,1.2,1.2,1.2,1.2,1.2,1.2,1.2,1.2,1.2,1.2,1.2,1.2,1.2,1.2,1.2,1.2,null,null,null,null,null,null,null,null,null,null,null,null,null,null,null,null,null,null,null,null,null,null,null,null,null,null,null,null,null,null,null,null,null,null,null,null,null,null,null,null,null,null,null,null,null,null,null,null,null,null,null,null,null,null,null,"RA600","_Z","_Z","HPATEAA","HP_TW","_Z","SPF","_Z","_Z","_Z","NR",null,"nrg_ind_hptctc","RA600","_Z","SPERF_FACT","ATH_EWA_TW","NR","COUNTRY AGGREGATE IS NOT CALCULATED"]
[null,null,"The amount of renewable energy supplied",null,null,null,"[GWh]",{"$f":"IF(H365>0,(H363*H364)*(1-1/H365),0)","v":0},0,0,0,0,0,0,0,0,0,0,0,0,0,0,0,0,0,0,0,0,0,0,0,0,0,0,0,0,0,0,{"$f":"IF(AM365>0,(AM363*AM364)*(1-1/AM365),0)","v":0},0,0,0,0,0,0,0,0,0,0,0,0,0,0,0,0,0,0,0,0,0,0,0,0,0,0,0,0,0,null,null,null,null,null,null,null,null,null,null,null,null,null,null,null,null,null,null,null,null,null,null,null,null,null,null,null,null,null,null,null,null,null,null,null,null,null,null,null,null,null,null,null,null,null,null,null,null,null,null,null,null,null,null,null,"RA600","PRODUCT","PPRD_RED","HPATEAA","HP_TW","_Z","_Z","_Z","ENERGY","_Z","GWH",null,"nrg_ind_ahbtc","RA600","PPRD_RED","_Z","ATH_EWA_TW","GWH","Agg.=SUM(countries)"]
[null,"Exhaust Air-Water"]
[null,null,"Capacity of heat pump installed",null,null,null,"[GW]",0,0,0,0,0,0,0,0,0,0,0,0,0,0,0,0,0,0,0,0,0,0,0,0,0,0,0,0,0,0,0,0,0,0,0,0,0,0,0,0,0,0,0,0,0,0,0,0,0,0,0,0,0,0,0,0,0,0,0,0,0,null,null,null,null,null,null,null,null,null,null,null,null,null,null,null,null,null,null,null,null,null,null,null,null,null,null,null,null,null,null,null,null,null,null,null,null,null,null,null,null,null,null,null,null,null,null,null,null,null,null,null,null,null,null,null,"RA600","_Z","_Z","HPATAEW","HP_TW","_Z","HPCAP","_Z","ENERGY","_Z","GW",null,"nrg_ind_hptctc","RA600","_Z","CAP_HEAT","ATH_EWW_TW","GW","Agg.=SUM(countries)"]
[null,null,"of which SPF is above the minimum threshold",null,null,null,"[GW]",0,0,0,0,0,0,0,0,0,0,0,0,0,0,0,0,0,0,0,0,0,0,0,0,0,0,0,0,0,0,0,0,0,0,0,0,0,0,0,0,0,0,0,0,0,0,0,0,0,0,0,0,0,0,0,0,0,0,0,0,0,null,null,null,null,null,null,null,null,null,null,null,null,null,null,null,null,null,null,null,null,null,null,null,null,null,null,null,null,null,null,null,null,null,null,null,null,null,null,null,null,null,null,null,null,null,null,null,null,null,null,null,null,null,null,null,"RA600","_Z","_Z","HPATAEW","HP_TW","_Z","HPCAPABVTH","_Z","ENERGY","_Z","GW",null,"nrg_ind_hptctc","RA600","_Z","CAP_ABVTH","ATH_EWW_TW","GW","Agg.=SUM(countries)"]
[null,null,"Equivalent full load hours of operation",null,null,null,"[h]",760,760,760,760,760,760,760,760,760,760,760,760,760,760,760,760,760,760,760,760,760,760,760,760,760,760,760,760,760,760,760,760,760,760,760,760,760,760,760,760,760,760,760,760,760,760,760,760,760,760,760,760,760,760,760,760,760,760,760,760,760,null,null,null,null,null,null,null,null,null,null,null,null,null,null,null,null,null,null,null,null,null,null,null,null,null,null,null,null,null,null,null,null,null,null,null,null,null,null,null,null,null,null,null,null,null,null,null,null,null,null,null,null,null,null,null,"RA600","_Z","_Z","HPATAEW","HP_TW","_Z","TUS","_Z","_Z","_Z","HR",null,"nrg_ind_hptctc","RA600","_Z","TIME_USE","ATH_EWW_TW","HR","COUNTRY AGGREGATE IS NOT CALCULATED"]
[null,null,"Estimated average SPF",null,null,null,null,1.2,1.2,1.2,1.2,1.2,1.2,1.2,1.2,1.2,1.2,1.2,1.2,1.2,1.2,1.2,1.2,1.2,1.2,1.2,1.2,1.2,1.2,1.2,1.2,1.2,1.2,1.2,1.2,1.2,1.2,1.2,1.2,1.2,1.2,1.2,1.2,1.2,1.2,1.2,1.2,1.2,1.2,1.2,1.2,1.2,1.2,1.2,1.2,1.2,1.2,1.2,1.2,1.2,1.2,1.2,1.2,1.2,1.2,1.2,1.2,1.2,null,null,null,null,null,null,null,null,null,null,null,null,null,null,null,null,null,null,null,null,null,null,null,null,null,null,null,null,null,null,null,null,null,null,null,null,null,null,null,null,null,null,null,null,null,null,null,null,null,null,null,null,null,null,null,"RA600","_Z","_Z","HPATAEW","HP_TW","_Z","SPF","_Z","_Z","_Z","NR",null,"nrg_ind_hptctc","RA600","_Z","SPERF_FACT","ATH_EWW_TW","NR","COUNTRY AGGREGATE IS NOT CALCULATED"]
[null,null,"The amount of renewable energy supplied",null,null,null,"[GWh]",{"$f":"IF(H371>0,(H369*H370)*(1-1/H371),0)","v":0},0,0,0,0,0,0,0,0,0,0,0,0,0,0,0,0,0,0,0,0,0,0,0,0,0,0,0,0,0,0,{"$f":"IF(AM371>0,(AM369*AM370)*(1-1/AM371),0)","v":0},0,0,0,0,0,0,0,0,0,0,0,0,0,0,0,0,0,0,0,0,0,0,0,0,0,0,0,0,0,null,null,null,null,null,null,null,null,null,null,null,null,null,null,null,null,null,null,null,null,null,null,null,null,null,null,null,null,null,null,null,null,null,null,null,null,null,null,null,null,null,null,null,null,null,null,null,null,null,null,null,null,null,null,null,"RA600","PRODUCT","PPRD_RED","HPATAEW","HP_TW","_Z","_Z","_Z","ENERGY","_Z","GWH",null,"nrg_ind_ahbtc","RA600","PPRD_RED","_Z","ATH_EWW_TW","GWH","Agg.=SUM(countries)"]
["Geothermal energy",null,null,null,null,null,null,{"$f":"SUM(H379,H385)","v":0},0,0,0,0,0,0,0,0,0,0,0,0,0,0,0,0,0,0,0,0,0,0,0,0,0,0,0,0,0,{"$f":"SUM(AL379,AL385)","v":0},{"$f":"SUM(AM379,AM385)","v":0},0,0,0,0,0,0,0,0,0,0,0,0,0,0,0,0,0,0,0,0,0,0,0,0,0,0,0,0,0,null,null,null,null,null,null,null,null,null,null,null,null,null,null,null,null,null,null,null,null,null,null,null,null,null,null,null,null,null,null,null,null,null,null,null,null,null,null,null,null,null,null,null,null,null,null,null,null,null,null,null,null,null,null,null,"RA600","PRODUCT","PPRD_RED","HPGT","HP_TW","_Z","_Z","_Z","ENERGY","_Z","GWH",null,"nrg_ind_ahbtc","RA600","PPRD_RED","_Z","GTH_TW","GWH","Agg.=SUM(countries)"]
[null,"Ground-Air"]
[null,null,"Capacity of heat pump installed",null,null,null,"[GW]",0,0,0,0,0,0,0,0,0,0,0,0,0,0,0,0,0,0,0,0,0,0,0,0,0,0,0,0,0,0,0,0,0,0,0,0,0,0,0,0,0,0,0,0,0,0,0,0,0,0,0,0,0,0,0,0,0,0,0,0,0,null,null,null,null,null,null,null,null,null,null,null,null,null,null,null,null,null,null,null,null,null,null,null,null,null,null,null,null,null,null,null,null,null,null,null,null,null,null,null,null,null,null,null,null,null,null,null,null,null,null,null,null,null,null,null,"RA600","_Z",{"$f":"EH375","v":"_Z"},"HPGTGA","HP_TW","_Z","HPCAP","_Z","ENERGY","_Z","GW",null,"nrg_ind_hptctc","RA600","_Z","CAP_HEAT","GTH_GA_TW","GW","Agg.=SUM(countries)"]
[null,null,"of which SPF is above the minimum threshold",null,null,null,"[GW]",0,0,0,0,0,0,0,0,0,0,0,0,0,0,0,0,0,0,0,0,0,0,0,0,0,0,0,0,0,0,0,0,0,0,0,0,0,0,0,0,0,0,0,0,0,0,0,0,0,0,0,0,0,0,0,0,0,0,0,0,0,null,null,null,null,null,null,null,null,null,null,null,null,null,null,null,null,null,null,null,null,null,null,null,null,null,null,null,null,null,null,null,null,null,null,null,null,null,null,null,null,null,null,null,null,null,null,null,null,null,null,null,null,null,null,null,"RA600","_Z","_Z","HPGTGA","HP_TW","_Z","HPCAPABVTH","_Z","ENERGY","_Z","GW",null,"nrg_ind_hptctc","RA600","_Z","CAP_ABVTH","GTH_GA_TW","GW","Agg.=SUM(countries)"]
[null,null,"Equivalent full load hours of operation",null,null,null,"[h]",1340,1340,1340,1340,1340,1340,1340,1340,1340,1340,1340,1340,1340,1340,1340,1340,1340,1340,1340,1340,1340,1340,1340,1340,1340,1340,1340,1340,1340,1340,1340,1340,1340,1340,1340,1340,1340,1340,1340,1340,1340,1340,1340,1340,1340,1340,1340,1340,1340,1340,1340,1340,1340,1340,1340,1340,1340,1340,1340,1340,1340,null,null,null,null,null,null,null,null,null,null,null,null,null,null,null,null,null,null,null,null,null,null,null,null,null,null,null,null,null,null,null,null,null,null,null,null,null,null,null,null,null,null,null,null,null,null,null,null,null,null,null,null,null,null,null,"RA600","_Z","_Z","HPGTGA","HP_TW","_Z","TUS","_Z","_Z","_Z","HR",null,"nrg_ind_hptctc","RA600","_Z","TIME_USE","GTH_GA_TW","HR","COUNTRY AGGREGATE IS NOT CALCULATED"]
[null,null,"Estimated average SPF",null,null,null,null,1.4,1.4,1.4,1.4,1.4,1.4,1.4,1.4,1.4,1.4,1.4,1.4,1.4,1.4,1.4,1.4,1.4,1.4,1.4,1.4,1.4,1.4,1.4,1.4,1.4,1.4,1.4,1.4,1.4,1.4,1.4,1.4,1.4,1.4,1.4,1.4,1.4,1.4,1.4,1.4,1.4,1.4,1.4,1.4,1.4,1.4,1.4,1.4,1.4,1.4,1.4,1.4,1.4,1.4,1.4,1.4,1.4,1.4,1.4,1.4,1.4,null,null,null,null,null,null,null,null,null,null,null,null,null,null,null,null,null,null,null,null,null,null,null,null,null,null,null,null,null,null,null,null,null,null,null,null,null,null,null,null,null,null,null,null,null,null,null,null,null,null,null,null,null,null,null,"RA600","_Z","_Z","HPGTGA","HP_TW","_Z","SPF","_Z","_Z","_Z","NR",null,"nrg_ind_hptctc","RA600","_Z","SPERF_FACT","GTH_GA_TW","NR","COUNTRY AGGREGATE IS NOT CALCULATED"]
[null,null,"The amount of renewable energy supplied",null,null,null,"[GWh]",{"$f":"IF(H378>0,(H376*H377)*(1-1/H378),0)","v":0},0,0,0,0,0,0,0,0,0,0,0,0,0,0,0,0,0,0,0,0,0,0,0,0,0,0,0,0,0,0,{"$f":"IF(AM378>0,(AM376*AM377)*(1-1/AM378),0)","v":0},0,0,0,0,0,0,0,0,0,0,0,0,0,0,0,0,0,0,0,0,0,0,0,0,0,0,0,0,0,null,null,null,null,null,null,null,null,null,null,null,null,null,null,null,null,null,null,null,null,null,null,null,null,null,null,null,null,null,null,null,null,null,null,null,null,null,null,null,null,null,null,null,null,null,null,null,null,null,null,null,null,null,null,null,"RA600","PRODUCT","PPRD_RED","HPGTGA","HP_TW","_Z","_Z","_Z","ENERGY","_Z","GWH",null,"nrg_ind_ahbtc","RA600","PPRD_RED","_Z","GTH_GA_TW","GWH","Agg.=SUM(countries)"]
[null,"Ground-Water"]
[null,null,"Capacity of heat pump installed",null,null,null,"[GW]",0,0,0,0,0,0,0,0,0,0,0,0,0,0,0,0,0,0,0,0,0,0,0,0,0,0,0,0,0,0,0,0,0,0,0,0,0,0,0,0,0,0,0,0,0,0,0,0,0,0,0,0,0,0,0,0,0,0,0,0,0,null,null,null,null,null,null,null,null,null,null,null,null,null,null,null,null,null,null,null,null,null,null,null,null,null,null,null,null,null,null,null,null,null,null,null,null,null,null,null,null,null,null,null,null,null,null,null,null,null,null,null,null,null,null,null,"RA600","_Z","_Z","HPGTGW","HP_TW","_Z","HPCAP","_Z","ENERGY","_Z","GW",null,"nrg_ind_hptctc","RA600","_Z","CAP_HEAT","GTH_GW_TW","GW","Agg.=SUM(countries)"]
[null,null,"of which SPF is above the minimum threshold",null,null,null,"[GW]",0,0,0,0,0,0,0,0,0,0,0,0,0,0,0,0,0,0,0,0,0,0,0,0,0,0,0,0,0,0,0,0,0,0,0,0,0,0,0,0,0,0,0,0,0,0,0,0,0,0,0,0,0,0,0,0,0,0,0,0,0,null,null,null,null,null,null,null,null,null,null,null,null,null,null,null,null,null,null,null,null,null,null,null,null,null,null,null,null,null,null,null,null,null,null,null,null,null,null,null,null,null,null,null,null,null,null,null,null,null,null,null,null,null,null,null,"RA600","_Z","_Z","HPGTGW","HP_TW","_Z","HPCAPABVTH","_Z","ENERGY","_Z","GW",null,"nrg_ind_hptctc","RA600","_Z","CAP_ABVTH","GTH_GW_TW","GW","Agg.=SUM(countries)"]
[null,null,"Equivalent full load hours of operation",null,null,null,"[h]",1340,1340,1340,1340,1340,1340,1340,1340,1340,1340,1340,1340,1340,1340,1340,1340,1340,1340,1340,1340,1340,1340,1340,1340,1340,1340,1340,1340,1340,1340,1340,1340,1340,1340,1340,1340,1340,1340,1340,1340,1340,1340,1340,1340,1340,1340,1340,1340,1340,1340,1340,1340,1340,1340,1340,1340,1340,1340,1340,1340,1340,null,null,null,null,null,null,null,null,null,null,null,null,null,null,null,null,null,null,null,null,null,null,null,null,null,null,null,null,null,null,null,null,null,null,null,null,null,null,null,null,null,null,null,null,null,null,null,null,null,null,null,null,null,null,null,"RA600","_Z","_Z","HPGTGW","HP_TW","_Z","TUS","_Z","_Z","_Z","HR",null,"nrg_ind_hptctc","RA600","_Z","TIME_USE","GTH_GW_TW","HR","COUNTRY AGGREGATE IS NOT CALCULATED"]
[null,null,"Estimated average SPF",null,null,null,null,1.6,1.6,1.6,1.6,1.6,1.6,1.6,1.6,1.6,1.6,1.6,1.6,1.6,1.6,1.6,1.6,1.6,1.6,1.6,1.6,1.6,1.6,1.6,1.6,1.6,1.6,1.6,1.6,1.6,1.6,1.6,1.6,1.6,1.6,1.6,1.6,1.6,1.6,1.6,1.6,1.6,1.6,1.6,1.6,1.6,1.6,1.6,1.6,1.6,1.6,1.6,1.6,1.6,1.6,1.6,1.6,1.6,1.6,1.6,1.6,1.6,null,null,null,null,null,null,null,null,null,null,null,null,null,null,null,null,null,null,null,null,null,null,null,null,null,null,null,null,null,null,null,null,null,null,null,null,null,null,null,null,null,null,null,null,null,null,null,null,null,null,null,null,null,null,null,"RA600","_Z","_Z","HPGTGW","HP_TW","_Z","SPF","_Z","_Z","_Z","NR",null,"nrg_ind_hptctc","RA600","_Z","SPERF_FACT","GTH_GW_TW","NR","COUNTRY AGGREGATE IS NOT CALCULATED"]
[null,null,"The amount of renewable energy supplied",null,null,null,"[GWh]",{"$f":"IF(H384>0,(H382*H383)*(1-1/H384),0)","v":0},0,0,0,0,0,0,0,0,0,0,0,0,0,0,0,0,0,0,0,0,0,0,0,0,0,0,0,0,0,0,{"$f":"IF(AM384>0,(AM382*AM383)*(1-1/AM384),0)","v":0},0,0,0,0,0,0,0,0,0,0,0,0,0,0,0,0,0,0,0,0,0,0,0,0,0,0,0,0,0,null,null,null,null,null,null,null,null,null,null,null,null,null,null,null,null,null,null,null,null,null,null,null,null,null,null,null,null,null,null,null,null,null,null,null,null,null,null,null,null,null,null,null,null,null,null,null,null,null,null,null,null,null,null,null,"RA600","PRODUCT","PPRD_RED","HPGTGW","HP_TW","_Z","_Z","_Z","ENERGY","_Z","GWH",null,"nrg_ind_ahbtc","RA600","PPRD_RED","_Z","GTH_GW_TW","GWH","Agg.=SUM(countries)"]
["Hydrothermal heat",null,null,null,null,null,null,{"$f":"SUM(H392,H398)","v":0},0,0,0,0,0,0,0,0,0,0,0,0,0,0,0,0,0,0,0,0,0,0,0,0,0,0,0,0,0,{"$f":"SUM(AL392,AL398)","v":0},{"$f":"SUM(AM392,AM398)","v":0},0,0,0,0,0,0,0,0,0,0,0,0,0,0,0,0,0,0,0,0,0,0,0,0,0,0,0,0,0,null,null,null,null,null,null,null,null,null,null,null,null,null,null,null,null,null,null,null,null,null,null,null,null,null,null,null,null,null,null,null,null,null,null,null,null,null,null,null,null,null,null,null,null,null,null,null,null,null,null,null,null,null,null,null,"RA600","PRODUCT","PPRD_RED","HPHT","HP_TW","_Z","_Z","_Z","ENERGY","_Z","GWH",null,"nrg_ind_ahbtc","RA600","PPRD_RED","_Z","HTH_TW","GWH","Agg.=SUM(countries)"]
[null,"Water-Air"]
[null,null,"Capacity of heat pump installed",null,null,null,"[GW]",0,0,0,0,0,0,0,0,0,0,0,0,0,0,0,0,0,0,0,0,0,0,0,0,0,0,0,0,0,0,0,0,0,0,0,0,0,0,0,0,0,0,0,0,0,0,0,0,0,0,0,0,0,0,0,0,0,0,0,0,0,null,null,null,null,null,null,null,null,null,null,null,null,null,null,null,null,null,null,null,null,null,null,null,null,null,null,null,null,null,null,null,null,null,null,null,null,null,null,null,null,null,null,null,null,null,null,null,null,null,null,null,null,null,null,null,"RA600","_Z","_Z","HPHTWA","HP_TW","_Z","HPCAP","_Z","ENERGY","_Z","GW",null,"nrg_ind_hptctc","RA600","_Z","CAP_HEAT","HTH_WA_TW","GW","Agg.=SUM(countries)"]
[null,null,"of which SPF is above the minimum threshold",null,null,null,"[GW]",0,0,0,0,0,0,0,0,0,0,0,0,0,0,0,0,0,0,0,0,0,0,0,0,0,0,0,0,0,0,0,0,0,0,0,0,0,0,0,0,0,0,0,0,0,0,0,0,0,0,0,0,0,0,0,0,0,0,0,0,0,null,null,null,null,null,null,null,null,null,null,null,null,null,null,null,null,null,null,null,null,null,null,null,null,null,null,null,null,null,null,null,null,null,null,null,null,null,null,null,null,null,null,null,null,null,null,null,null,null,null,null,null,null,null,null,"RA600","_Z","_Z","HPHTWA","HP_TW","_Z","HPCAPABVTH","_Z","ENERGY","_Z","GW",null,"nrg_ind_hptctc","RA600","_Z","CAP_ABVTH","HTH_WA_TW","GW","Agg.=SUM(countries)"]
[null,null,"Equivalent full load hours of operation",null,null,null,"[h]",1340,1340,1340,1340,1340,1340,1340,1340,1340,1340,1340,1340,1340,1340,1340,1340,1340,1340,1340,1340,1340,1340,1340,1340,1340,1340,1340,1340,1340,1340,1340,1340,1340,1340,1340,1340,1340,1340,1340,1340,1340,1340,1340,1340,1340,1340,1340,1340,1340,1340,1340,1340,1340,1340,1340,1340,1340,1340,1340,1340,1340,null,null,null,null,null,null,null,null,null,null,null,null,null,null,null,null,null,null,null,null,null,null,null,null,null,null,null,null,null,null,null,null,null,null,null,null,null,null,null,null,null,null,null,null,null,null,null,null,null,null,null,null,null,null,null,"RA600","_Z","_Z","HPHTWA","HP_TW","_Z","TUS","_Z","_Z","_Z","HR",null,"nrg_ind_hptctc","RA600","_Z","TIME_USE","HTH_WA_TW","HR","COUNTRY AGGREGATE IS NOT CALCULATED"]
[null,null,"Estimated average SPF",null,null,null,null,1.4,1.4,1.4,1.4,1.4,1.4,1.4,1.4,1.4,1.4,1.4,1.4,1.4,1.4,1.4,1.4,1.4,1.4,1.4,1.4,1.4,1.4,1.4,1.4,1.4,1.4,1.4,1.4,1.4,1.4,1.4,1.4,1.4,1.4,1.4,1.4,1.4,1.4,1.4,1.4,1.4,1.4,1.4,1.4,1.4,1.4,1.4,1.4,1.4,1.4,1.4,1.4,1.4,1.4,1.4,1.4,1.4,1.4,1.4,1.4,1.4,null,null,null,null,null,null,null,null,null,null,null,null,null,null,null,null,null,null,null,null,null,null,null,null,null,null,null,null,null,null,null,null,null,null,null,null,null,null,null,null,null,null,null,null,null,null,null,null,null,null,null,null,null,null,null,"RA600","_Z","_Z","HPHTWA","HP_TW","_Z","SPF","_Z","_Z","_Z","NR",null,"nrg_ind_hptctc","RA600","_Z","SPERF_FACT","HTH_WA_TW","NR","COUNTRY AGGREGATE IS NOT CALCULATED"]
[null,null,"The amount of renewable energy supplied",null,null,null,"[GWh]",{"$f":"IF(H391>0,(H389*H390)*(1-1/H391),0)","v":0},0,0,0,0,0,0,0,0,0,0,0,0,0,0,0,0,0,0,0,0,0,0,0,0,0,0,0,0,0,0,{"$f":"IF(AM391>0,(AM389*AM390)*(1-1/AM391),0)","v":0},0,0,0,0,0,0,0,0,0,0,0,0,0,0,0,0,0,0,0,0,0,0,0,0,0,0,0,0,0,null,null,null,null,null,null,null,null,null,null,null,null,null,null,null,null,null,null,null,null,null,null,null,null,null,null,null,null,null,null,null,null,null,null,null,null,null,null,null,null,null,null,null,null,null,null,null,null,null,null,null,null,null,null,null,"RA600","PRODUCT","PPRD_RED","HPHTWA","HP_TW","_Z","_Z","_Z","ENERGY","_Z","GWH",null,"nrg_ind_ahbtc","RA600","PPRD_RED","_Z","HTH_WA_TW","GWH","Agg.=SUM(countries)"]
[null,"Water-Water"]
[null,null,"Capacity of heat pump installed",null,null,null,"[GW]",0,0,0,0,0,0,0,0,0,0,0,0,0,0,0,0,0,0,0,0,0,0,0,0,0,0,0,0,0,0,0,0,0,0,0,0,0,0,0,0,0,0,0,0,0,0,0,0,0,0,0,0,0,0,0,0,0,0,0,0,0,null,null,null,null,null,null,null,null,null,null,null,null,null,null,null,null,null,null,null,null,null,null,null,null,null,null,null,null,null,null,null,null,null,null,null,null,null,null,null,null,null,null,null,null,null,null,null,null,null,null,null,null,null,null,null,"RA600","_Z","_Z","HPHTWW","HP_TW","_Z","HPCAP","_Z","ENERGY","_Z","GW",null,"nrg_ind_hptctc","RA600","_Z","CAP_HEAT","HTH_WW_TW","GW","Agg.=SUM(countries)"]
[null,null,"of which SPF is above the minimum threshold",null,null,null,"[GW]",0,0,0,0,0,0,0,0,0,0,0,0,0,0,0,0,0,0,0,0,0,0,0,0,0,0,0,0,0,0,0,0,0,0,0,0,0,0,0,0,0,0,0,0,0,0,0,0,0,0,0,0,0,0,0,0,0,0,0,0,0,null,null,null,null,null,null,null,null,null,null,null,null,null,null,null,null,null,null,null,null,null,null,null,null,null,null,null,null,null,null,null,null,null,null,null,null,null,null,null,null,null,null,null,null,null,null,null,null,null,null,null,null,null,null,null,"RA600","_Z","_Z","HPHTWW","HP_TW","_Z","HPCAPABVTH","_Z","ENERGY","_Z","GW",null,"nrg_ind_hptctc","RA600","_Z","CAP_ABVTH","HTH_WW_TW","GW","Agg.=SUM(countries)"]
[null,null,"Equivalent full load hours of operation",null,null,null,"[h]",1340,1340,1340,1340,1340,1340,1340,1340,1340,1340,1340,1340,1340,1340,1340,1340,1340,1340,1340,1340,1340,1340,1340,1340,1340,1340,1340,1340,1340,1340,1340,1340,1340,1340,1340,1340,1340,1340,1340,1340,1340,1340,1340,1340,1340,1340,1340,1340,1340,1340,1340,1340,1340,1340,1340,1340,1340,1340,1340,1340,1340,null,null,null,null,null,null,null,null,null,null,null,null,null,null,null,null,null,null,null,null,null,null,null,null,null,null,null,null,null,null,null,null,null,null,null,null,null,null,null,null,null,null,null,null,null,null,null,null,null,null,null,null,null,null,null,"RA600","_Z","_Z","HPHTWW","HP_TW","_Z","TUS","_Z","_Z","_Z","HR",null,"nrg_ind_hptctc","RA600","_Z","TIME_USE","HTH_WW_TW","HR","COUNTRY AGGREGATE IS NOT CALCULATED"]
[null,null,"Estimated average SPF",null,null,null,null,1.6,1.6,1.6,1.6,1.6,1.6,1.6,1.6,1.6,1.6,1.6,1.6,1.6,1.6,1.6,1.6,1.6,1.6,1.6,1.6,1.6,1.6,1.6,1.6,1.6,1.6,1.6,1.6,1.6,1.6,1.6,1.6,1.6,1.6,1.6,1.6,1.6,1.6,1.6,1.6,1.6,1.6,1.6,1.6,1.6,1.6,1.6,1.6,1.6,1.6,1.6,1.6,1.6,1.6,1.6,1.6,1.6,1.6,1.6,1.6,1.6,null,null,null,null,null,null,null,null,null,null,null,null,null,null,null,null,null,null,null,null,null,null,null,null,null,null,null,null,null,null,null,null,null,null,null,null,null,null,null,null,null,null,null,null,null,null,null,null,null,null,null,null,null,null,null,"RA600","_Z","_Z","HPHTWW","HP_TW","_Z","SPF","_Z","_Z","_Z","NR",null,"nrg_ind_hptctc","RA600","_Z","SPERF_FACT","HTH_WW_TW","NR","COUNTRY AGGREGATE IS NOT CALCULATED"]
[null,null,"The amount of renewable energy supplied",null,null,null,"[GWh]",{"$f":"IF(H397>0,(H395*H396)*(1-1/H397),0)","v":0},0,0,0,0,0,0,0,0,0,0,0,0,0,0,0,0,0,0,0,0,0,0,0,0,0,0,0,0,0,0,{"$f":"IF(AM397>0,(AM395*AM396)*(1-1/AM397),0)","v":0},0,0,0,0,0,0,0,0,0,0,0,0,0,0,0,0,0,0,0,0,0,0,0,0,0,0,0,0,0,null,null,null,null,null,null,null,null,null,null,null,null,null,null,null,null,null,null,null,null,null,null,null,null,null,null,null,null,null,null,null,null,null,null,null,null,null,null,null,null,null,null,null,null,null,null,null,null,null,null,null,null,null,null,null,"RA600","PRODUCT","PPRD_RED","HPHTWW","HP_TW","_Z","_Z","_Z","ENERGY","_Z","GWH",null,"nrg_ind_ahbtc","RA600","PPRD_RED","_Z","HTH_WW_TW","GWH","Agg.=SUM(countries)"]
[]
[]
[]
[]
[]
[]
[]
[]
[]
[]
[]
[]
[]
[]
[]
[]
[]
[]
[]
[]
[]
[]
[]
[]
[]
[]
[]
[]
[]
[]
[]
[]
[]
[]
[]
[]
[]
[]
[]
[]
[]
[]
[]
[]
[]
[]
[]
[]
[]
[]
[]
[]
[]
[]
[]
[]
[]
[]
[]
[]
[]
[]
[]
[]
[]
[]
[]
[]
[]
[]
[]
[]
[]
[]
[]
[]
[]
[]
[]
[]
[]
[]
[]
[]
[]
[]
[]
[]
[]
[]
[]
[]
[]
[]
[]
[]
[]
[]
[]
[]
[]
[]
[]
[]
[]
[]
[]
[]
[]
[]
[]
[]
[]
[]
[]
[]
[]
[]
[]
[]
[]
[]
[]
[]
[]
[]
[]
[]
[]
[]
[]
[]
[]
[]
[]
[]
[]
[]
[]
[]
[]
[]
[]
[]
[]
[]
[]
[]
[]
[]
[]
[]
[]
[]
[]
[]
[]
[]
[]
[]
[]
[]
[]
[]
[]
[]
[]
[]
[]
[]
[]
[]
[]
[]
[]
[]
[]
[]
[]
[]
[]
[]
[]
[]
[]
[]
[]
[]
[]
[]
[]
[]
[]
[]
[]
[]
[]
[]
[]
[]
[]
[]
[]
[]
[]
[]
[]
[]
[]
[]
[]
[]
[]
[]
[]
[]
[]
[]
[]
[]
[]
[]
[]
[]
[]
[]
[]
[]
[]
[]
[]
[]
[]
[]
[]
[]
[]
[]
[]
[]
[]
[]
[]
[]
[]
[]
[]
[]
[]
[]
[]
[]
[]
[]
[]
[]
[]
[]
[]
[]
[]
[]
[]
[]
[]
[]
[]
[]
[]
[]
[]
[]
[]
[]
[]
[]
[]
[]
[]
[]
[]
[]
[]
[]
[]
[]
[]
[]
[]
[]
[]
[]
[]
[]
[]
[]
[]
[]
[]
[]
[]
[]
[]
[]
[]
[]
[]
[]
[]
[]
[]
[]
[]
[]
[]
[]
[]
[]
[]
[]
[]
[]
[]
[]
[]
[]
[]
[]
[]
[]
[]
[]
[]
[]
[]
[]
[]
[]
[]
[]
[]
[]
[]
[]
[]
[]
[]
[]
[]
[]
[]
[]
[]
[]
[]
[]
[]
[]
[]
[]
[]
[]
[]
[]
[]
[]
[]
[]
[]
[]
[]
[]
[]
[]
[]
[]
[]
[]
[]
[]
[]
[]
[]
[]
[]
[]
[]
[]
[]
[]
[]
[]
[]
[]
[]
[]
[]
[]
[]
[]
[]
[]
[]
[]
[]
[]
[]
[]
[]
[]
[]
[]
[]
[]
[]
[]
[]
[]
[]
[]
[]
[]
[]
[]
[]
[]
[]
[]
[]
[]
[]
[]
[]
[]
[]
[]
[]
[]
[]
[]
[]
[]
[]
[]
[]
[]
[]
[]
[]
[]
[]
[]
[]
[]
[]
[]
[]
[]
[]
[]
[]
[]
[]
[]
[]
[]
[]
[]
[]
[]
[]
[]
[]
[]
[]
[]
[]
[]
[]
[]
[]
[]
[]
[]
[]
[]
[]
[]
[]
[]
[]
[]
[]
[]
[]
[]
[]
[]
[]
[]
[]
[]
[]
[]
[]
[]
[]
[]
[]
[]
[]
[]
[]
[]
[]
[]
[]
[]
[]
[]
[]
[]
[]
[]
[]
[]
[]
[]
[]
[]
[]
[]
[]
[]
[]
[]
[]
[]
[]
[]
[]
[]
[]
[]
[]
[]
[]
[]
[]
[]
[]
[]
[]
[]
[]
[]
[]
[]
[]
[]
[]
[]
[]
[]
[]
[]
[]
[]
[]
[]
[]
[]
[]
[]
[]
[]
[]
[]
[]
[]
[]
[]
[]
[]
[]
[]
[]
[]
[]
[]
[]
[]
[]
[]
[]
[]
[]
[]
[]
[]
[]
[null,null,null,null,null,null,null,null,null,null,null,null,null,null,null,null,null,null,null,null,null,null,null,null,null,null,null,null,null,null,null,null,null,null,null,null,null,null,{"$f":"IF(AM5<=$H1001, AM5, \"\")","v":2021},{"$f":"IF(AN5<=$H1001, AN5, \"\")","v":2022},2023,2024,"","","","","","","","","","","","","","","","","","","","","","","","","",""]
[null,null,null,null,null,null,null,{"$f":"IF(MONTH(NOW())<7, YEAR(NOW())-2, YEAR(NOW())-1)","v":2024}]

{"sheet":"RENEWABLE COOLING","index":6,"n_rows":1001,"n_cols":142,"rows_kept":1001,"cut":false,"hidden":false,"merged":[]}
["Accounting of renewable cooling",null,null,null,null,null,null,null,null,null,null,null,null,null,null,null,null,null,null,null,null,null,null,null,null,null,null,null,null,null,null,null,null,null,null,null,null,null,"Due to different legal basis, data prior to 2021 in this tool have no legal value and are only intended for data quality checks"]
["following Commission Delegated Regulation (EU) 2022/759 of 14 December 2021 (C/2021/9392 final)",null,null,null,null,null,null,null,null,null,null,null,null,null,null,null,null,null,null,null,null,null,null,null,null,null,null,null,null,null,null,null,null,null,null,null,null,null,"Please consult https://ec.europa.eu/eurostat/web/energy/data/shares for results up to 2020."]
["amending Annex VII of Directive (EU) 2018/2001 as regards a methodology for calculating the amount of renewable energy used for cooling, including district cooling"]
[null,null,null,null,null,null,null,null,null,null,null,null,null,null,null,null,null,null,null,null,null,null,null,null,null,null,null,null,null,null,null,null,null,null,null,null,null,null,null,null,null,null,null,null,null,null,null,null,null,null,null,null,null,null,null,null,null,null,null,null,null,null,null,null,null,null,null,null,null,null,null,null,null,null,null,null,null,null,null,null,null,null,null,null,null,null,null,null,null,null,null,null,null,null,null,null,null,null,null,null,null,null,null,null,null,null,null,null,null,null,null,null,null,null,null,null,null,null,null,null,null,null,"*** DSD codes ***"]
[null,null,null,null,null,null,null,1990,1991,1992,1993,1994,1995,1996,1997,1998,1999,2000,2001,2002,2003,2004,2005,2006,2007,2008,2009,2010,2011,2012,2013,2014,2015,2016,2017,2018,2019,2020,2021,2022,2023,2024,2025,2026,2027,2028,2029,2030,2031,2032,2033,2034,2035,2036,2037,2038,2039,2040,2041,2042,2043,2044,2045,2046,2047,2048,2049,2050,null,null,null,null,null,null,null,null,null,null,null,null,null,null,null,null,null,null,null,null,null,null,null,null,null,null,null,null,null,null,null,null,null,null,null,null,null,null,null,null,null,null,null,null,null,null,null,null,null,null,null,null,null,null,"REF_AREA","ENERGY_PRODUCT","MAIN_FLOW","FLOW_BREAKDOWN","PLANT_TECH","PLANT_TYPE","STOCKS","INFRASTRUCTURE_IND","VIS_A_VIS_AREA","MEASURE_VALUE_TYPE","FACILITY_ID","UNIT_MEASURE",null,"Eurobase dataset","MDT","MDT","MDT","MDT","MDT","Formula for country aggregates (Agg.)"]
["Renewable cooling [GWh]",null,null,null,null,null,null,{"$f":"SUM(H7,H15,H28,H40,H53,H61,H70)","v":0},0,0,0,0,0,0,0,0,0,0,0,0,0,0,0,0,0,0,0,0,0,0,0,0,0,0,0,0,0,0,0,{"$f":"SUM(AN7,AN15,AN28,AN40,AN53,AN61,AN70)","v":0},0,0,0,0,0,0,0,0,0,0,0,0,0,0,0,0,0,0,0,0,0,0,0,0,0,0,0,0,null,null,null,null,null,null,null,null,null,null,null,null,null,null,null,null,null,null,null,null,null,null,null,null,null,null,null,null,null,null,null,null,null,null,null,null,null,null,null,null,null,null,null,null,null,null,null,null,null,null,null,null,null,null,null,"RA700","PRODUCT","PPRD_RED","_T","_Z","_Z","_Z","_Z","ENERGY","_Z","GWH",null,"nrg_ind_rcaebt","TIMESERIES","RA700",{"$f":"DV6","v":"PPRD_RED"},"TOTAL","GWH","Agg.=SUM(countries)"]
["other renewable cooling [GWh]",null,null,null,null,null,null,0,0,0,0,0,0,0,0,0,0,0,0,0,0,0,0,0,0,0,0,0,0,0,0,0,0,0,0,0,0,0,0,0,0,0,0,0,0,0,0,0,0,0,0,0,0,0,0,0,0,0,0,0,0,0,0,0,0,0,0,0,null,null,null,null,null,null,null,null,null,null,null,null,null,null,null,null,null,null,null,null,null,null,null,null,null,null,null,null,null,null,null,null,null,null,null,null,null,null,null,null,null,null,null,null,null,null,null,null,null,null,null,null,null,null,null,"RA700","PRODUCT","PPRD_RED","OTHGEN","_Z","_Z","_Z","_Z","ENERGY","_Z","GWH",null,"nrg_ind_rcaebt","TIMESERIES","RA700","PPRD_RED","OTH","GWH","Agg.=SUM(countries)"]
[]
["Individual cooling systems above 1.5 MW capacity"]
[null,null,"Average SPFp (defined in terms of primary energy)",null,null,null,null,0,0,0,0,0,0,0,0,0,0,0,0,0,0,0,0,0,0,0,0,0,0,0,0,0,0,0,0,0,0,0,0,0,0,0,0,0,0,0,0,0,0,0,0,0,0,0,0,0,0,0,0,0,0,0,0,0,0,0,0,0,null,null,null,null,null,null,null,null,null,null,null,null,null,null,null,null,null,null,null,null,null,null,null,null,null,null,null,null,null,null,null,null,null,null,null,null,null,null,null,null,null,null,null,null,null,null,null,null,null,null,null,null,null,null,null,"RA700","_Z","_Z","ICL_ABVTH","_Z","_Z","SPFPE_AVG","_Z","_Z","_Z","NR",null,"nrg_ind_rctcbt","TIMESERIES","RA700","SPFPE_AVG","ICL_ABVTH","NR","COUNTRY AGGREGATE IS NOT CALCULATED"]
[null,null,"           Of which from systems with SPFp above 1.4",null,null,null,null,0,0,0,0,0,0,0,0,0,0,0,0,0,0,0,0,0,0,0,0,0,0,0,0,0,0,0,0,0,0,0,0,0,0,0,0,0,0,0,0,0,0,0,0,0,0,0,0,0,0,0,0,0,0,0,0,0,0,0,0,0,null,null,null,null,null,null,null,null,null,null,null,null,null,null,null,null,null,null,null,null,null,null,null,null,null,null,null,null,null,null,null,null,null,null,null,null,null,null,null,null,null,null,null,null,null,null,null,null,null,null,null,null,null,null,null,"RA700","_Z","_Z","ICL_ABVTH","_Z","_Z","SPFPE_AVG_ABVTH","_Z","_Z","_Z","NR",null,"nrg_ind_rctcbt","TIMESERIES","RA700","SPFPE_AVG_ABVTH","ICL_ABVTH","NR","COUNTRY AGGREGATE IS NOT CALCULATED"]
[null,null,"Cooling energy supplied (GWh)",null,null,null,null,0,0,0,0,0,0,0,0,0,0,0,0,0,0,0,0,0,0,0,0,0,0,0,0,0,0,0,0,0,0,0,0,0,0,0,0,0,0,0,0,0,0,0,0,0,0,0,0,0,0,0,0,0,0,0,0,0,0,0,0,0,null,null,null,null,null,null,null,null,null,null,null,null,null,null,null,null,null,null,null,null,null,null,null,null,null,null,null,null,null,null,null,null,null,null,null,null,null,null,null,null,null,null,null,null,null,null,null,null,null,null,null,null,null,null,null,"RA700","PRODUCT","CL_ES","ICL_ABVTH","_Z","_Z","_Z","_Z","ENERGY","_Z","GWH",null,"nrg_ind_rcaebt","TIMESERIES","RA700",{"$f":"DV12","v":"CL_ES"},"ICL_ABVTH","GWH","Agg.=SUM(countries)"]
[null,null,"           Of which from renewable heat driven cooling (absorption and adsorption)",null,null,null,null,0,0,0,0,0,0,0,0,0,0,0,0,0,0,0,0,0,0,0,0,0,0,0,0,0,0,0,0,0,0,0,0,0,0,0,0,0,0,0,0,0,0,0,0,0,0,0,0,0,0,0,0,0,0,0,0,0,0,0,0,0,null,null,null,null,null,null,null,null,null,null,null,null,null,null,null,null,null,null,null,null,null,null,null,null,null,null,null,null,null,null,null,null,null,null,null,null,null,null,null,null,null,null,null,null,null,null,null,null,null,null,null,null,null,null,null,"RA700","PRODUCT","CL_ES_RHD","ICL_ABVTH","_Z","_Z","_Z","_Z","ENERGY","_Z","GWH",null,"nrg_ind_rcaebt","TIMESERIES","RA700","CL_ES_RHD","ICL_ABVTH","GWH","Agg.=SUM(countries)"]
[null,null,"SSPFp - Share of cooling supply that can be counted as renewable",null,null,null,null,{"$f":"IF(H11<1.4,0,IF(H11>6,1,(H11-1.4)/4.6))","v":0},0,0,0,0,0,0,0,0,0,0,0,0,0,0,0,0,0,0,0,0,0,0,0,0,0,0,0,0,0,0,0,{"$f":"IF(AN11<1.4,0,IF(AN11>6,1,(AN11-1.4)/4.6))","v":0},0,0,0,0,0,0,0,0,0,0,0,0,0,0,0,0,0,0,0,0,0,0,0,0,0,0,0,0,null,null,null,null,null,null,null,null,null,null,null,null,null,null,null,null,null,null,null,null,null,null,null,null,null,null,null,null,null,null,null,null,null,null,null,null,null,null,null,null,null,null,null,null,null,null,null,null,null,null,null,null,null,null,null,"RA700","_Z","_Z","ICL_ABVTH","_Z","_Z","CLSUP_REN_SHR","_Z","_Z","_Z","NR",null,"nrg_ind_rctcbt","TIMESERIES","RA700","CLSUP_REN_SHR","ICL_ABVTH","NR","COUNTRY AGGREGATE IS NOT CALCULATED"]
[null,null,"Renewable energy quantity for cooling (GWh)",null,null,null,null,{"$f":"(H12-H13)*H14+H13","v":0},{"$f":"(I12-I13)*I14+I13","v":0},0,0,0,0,0,0,0,0,0,0,0,0,0,0,0,0,0,0,0,0,0,0,0,0,0,0,0,0,0,0,0,0,0,0,0,0,0,0,0,0,0,0,0,0,0,0,0,0,0,0,0,0,0,0,0,0,0,0,0,null,null,null,null,null,null,null,null,null,null,null,null,null,null,null,null,null,null,null,null,null,null,null,null,null,null,null,null,null,null,null,null,null,null,null,null,null,null,null,null,null,null,null,null,null,null,null,null,null,null,null,null,null,null,null,"RA700","PRODUCT","PPRD_RED","ICL_ABVTH","_Z","_Z","_Z","_Z","ENERGY","_Z","GWH",null,"nrg_ind_rcaebt","TIMESERIES","RA700","PPRD_RED","ICL_ABVTH","GWH","Agg.=SUM(countries)"]
[]
["Individual cooling systems below 1.5 MW capacity (using a simplified method)"]
[null,"Space cooling in residential sector (households)"]
[null,null,"Cooling Degree Days",null,null,null,null,0,0,0,0,0,0,0,0,0,0,0,0,0,0,0,0,0,0,0,0,0,0,0,0,0,0,0,0,0,0,0,0,0,0,0,0,0,0,0,0,0,0,0,0,0,0,0,0,0,0,0,0,0,0,0,0,0,0,0,0,0,null,null,null,null,null,null,null,null,null,null,null,null,null,null,null,null,null,null,null,null,null,null,null,null,null,null,null,null,null,null,null,null,null,null,null,null,null,null,null,null,null,null,null,null,null,null,null,null,null,null,null,null,null,null,null,"RA700","_Z","_Z","ICL_BLWTH_SC_HH","_Z","_Z","CLDD_RED","_Z","_Z","_Z","NR",null,"nrg_ind_rctcbt","TIMESERIES","RA700","CLDD_RED","ICL_BLWTH_SC_HH","NR","COUNTRY AGGREGATE IS NOT CALCULATED"]
[null,null,"Average nominal cooling capacity from systems with SPFp above 1.4",null,null,null,null,0,0,0,0,0,0,0,0,0,0,0,0,0,0,0,0,0,0,0,0,0,0,0,0,0,0,0,0,0,0,0,0,0,0,0,0,0,0,0,0,0,0,0,0,0,0,0,0,0,0,0,0,0,0,0,0,0,0,0,0,0,null,null,null,null,null,null,null,null,null,null,null,null,null,null,null,null,null,null,null,null,null,null,null,null,null,null,null,null,null,null,null,null,null,null,null,null,null,null,null,null,null,null,null,null,null,null,null,null,null,null,null,null,null,null,null,"RA700","_Z","_Z","ICL_BLWTH_SC_HH","_Z","_Z","CAP_CL_AVG_ABVTH","_Z","ENERGY","_Z","GW",null,"nrg_ind_rctcbt","TIMESERIES","RA700","CAP_CL_AVG_ABVTH","ICL_BLWTH_SC_HH","GW","Agg.=SUM(countries)"]
[null,null,"           Of which from renewable heat driven cooling (absorption and adsorption)",null,null,null,null,0,0,0,0,0,0,0,0,0,0,0,0,0,0,0,0,0,0,0,0,0,0,0,0,0,0,0,0,0,0,0,0,0,0,0,0,0,0,0,0,0,0,0,0,0,0,0,0,0,0,0,0,0,0,0,0,0,0,0,0,0,null,null,null,null,null,null,null,null,null,null,null,null,null,null,null,null,null,null,null,null,null,null,null,null,null,null,null,null,null,null,null,null,null,null,null,null,null,null,null,null,null,null,null,null,null,null,null,null,null,null,null,null,null,null,null,"RA700","_Z","_Z","ICL_BLWTH_SC_HH","_Z","_Z","CAP_CL_AVG_ABVTH_REN","_Z","ENERGY","_Z","GW",null,"nrg_ind_rctcbt","TIMESERIES","RA700","CAP_CL_AVG_ABVTH_REN","ICL_BLWTH_SC_HH","GW","Agg.=SUM(countries)"]
[null,null,"Equivalent full load hours",null,null,null,null,{"$f":"IF(H19>0,96+0.85*H19,0)","v":0},{"$f":"IF(I19>0,96+0.85*I19,0)","v":0},0,0,0,0,0,0,0,0,0,0,0,0,0,0,0,0,0,0,0,0,0,0,0,0,0,0,0,0,0,0,0,0,0,0,0,0,0,0,0,0,0,0,0,0,0,0,0,0,0,0,0,0,0,0,0,0,0,0,0,null,null,null,null,null,null,null,null,null,null,null,null,null,null,null,null,null,null,null,null,null,null,null,null,null,null,null,null,null,null,null,null,null,null,null,null,null,null,null,null,null,null,null,null,null,null,null,null,null,null,null,null,null,null,null,"RA700","_Z","_Z","ICL_BLWTH_SC_HH","_Z","_Z","TUS","_Z","_Z","_Z","HR",null,"nrg_ind_rctcbt","TIMESERIES","RA700","TIME_USE","ICL_BLWTH_SC_HH","HR","COUNTRY AGGREGATE IS NOT CALCULATED"]
[null,null,"Cooling energy supplied (GWh) from systems with SPFp above 1.4",null,null,null,null,{"$f":"H20*H22","v":0},0,0,0,0,0,0,0,0,0,0,0,0,0,0,0,0,0,0,0,0,0,0,0,0,0,0,0,0,0,0,0,{"$f":"AN20*AN22","v":0},0,0,0,0,0,0,0,0,0,0,0,0,0,0,0,0,0,0,0,0,0,0,0,0,0,0,0,0,null,null,null,null,null,null,null,null,null,null,null,null,null,null,null,null,null,null,null,null,null,null,null,null,null,null,null,null,null,null,null,null,null,null,null,null,null,null,null,null,null,null,null,null,null,null,null,null,null,null,null,null,null,null,null,"RA700","PRODUCT","CL_ES","ICL_BLWTH_SC_HH","_Z","_Z","_Z","_Z","ENERGY","_Z","GWH",null,"nrg_ind_rcaebt","TIMESERIES","RA700",{"$f":"DV23","v":"CL_ES"},"ICL_BLWTH_SC_HH","GWH","Agg.=SUM(countries)"]
[null,null,"           Of which from renewable heat driven cooling (absorption and adsorption)",null,null,null,null,{"$f":"H21*H22","v":0},{"$f":"I21*I22","v":0},0,0,0,0,0,0,0,0,0,0,0,0,0,0,0,0,0,0,0,0,0,0,0,0,0,0,0,0,0,0,0,0,0,0,0,0,0,0,0,0,0,0,0,0,0,0,0,0,0,0,0,0,0,0,0,0,0,0,0,null,null,null,null,null,null,null,null,null,null,null,null,null,null,null,null,null,null,null,null,null,null,null,null,null,null,null,null,null,null,null,null,null,null,null,null,null,null,null,null,null,null,null,null,null,null,null,null,null,null,null,null,null,null,null,"RA700","PRODUCT","CL_ES_RHD","ICL_BLWTH_SC_HH","_Z","_Z","_Z","_Z","ENERGY","_Z","GWH",null,"nrg_ind_rcaebt","TIMESERIES","RA700","CL_ES_RHD","ICL_BLWTH_SC_HH","GWH","Agg.=SUM(countries)"]
[null,null,"Average SPFp (defined in terms of primary energy)",null,null,null,null,0,0,0,0,0,0,0,0,0,0,0,0,0,0,0,0,0,0,0,0,0,0,0,0,0,0,0,0,0,0,0,0,0,0,0,0,0,0,0,0,0,0,0,0,0,0,0,0,0,0,0,0,0,0,0,0,0,0,0,0,0,null,null,null,null,null,null,null,null,null,null,null,null,null,null,null,null,null,null,null,null,null,null,null,null,null,null,null,null,null,null,null,null,null,null,null,null,null,null,null,null,null,null,null,null,null,null,null,null,null,null,null,null,null,null,null,"RA700","_Z","_Z","ICL_BLWTH_SC_HH","_Z","_Z","SPFPE_AVG","_Z","_Z","_Z","NR",null,"nrg_ind_rctcbt","TIMESERIES","RA700","SPFPE_AVG","ICL_BLWTH_SC_HH","NR","COUNTRY AGGREGATE IS NOT CALCULATED"]
[null,null,"           Of which from systems with SPFp above 1.4",null,null,null,null,0,0,0,0,0,0,0,0,0,0,0,0,0,0,0,0,0,0,0,0,0,0,0,0,0,0,0,0,0,0,0,0,0,0,0,0,0,0,0,0,0,0,0,0,0,0,0,0,0,0,0,0,0,0,0,0,0,0,0,0,0,null,null,null,null,null,null,null,null,null,null,null,null,null,null,null,null,null,null,null,null,null,null,null,null,null,null,null,null,null,null,null,null,null,null,null,null,null,null,null,null,null,null,null,null,null,null,null,null,null,null,null,null,null,null,null,"RA700","_Z","_Z","ICL_BLWTH_SC_HH","_Z","_Z","SPFPE_AVG_ABVTH","_Z","_Z","_Z","NR",null,"nrg_ind_rctcbt","TIMESERIES","RA700","SPFPE_AVG_ABVTH","ICL_BLWTH_SC_HH","NR","COUNTRY AGGREGATE IS NOT CALCULATED"]
[null,null,"SSPFp - Share of cooling supply that can be counted as renewable",null,null,null,null,{"$f":"IF(H26<1.4,0,IF(H26>6,1,(H26-1.4)/4.6))","v":0},{"$f":"IF(I26<1.4,0,IF(I26>6,1,(I26-1.4)/4.6))","v":0},0,0,0,0,0,0,0,0,0,0,0,0,0,0,0,0,0,0,0,0,0,0,0,0,0,0,0,0,0,{"$f":"IF(AM26<1.4,0,IF(AM26>6,1,(AM26-1.4)/4.6))","v":0},0,0,0,0,0,0,0,0,0,0,0,0,0,0,0,0,0,0,0,0,0,0,0,0,0,0,0,0,0,null,null,null,null,null,null,null,null,null,null,null,null,null,null,null,null,null,null,null,null,null,null,null,null,null,null,null,null,null,null,null,null,null,null,null,null,null,null,null,null,null,null,null,null,null,null,null,null,null,null,null,null,null,null,null,"RA700","_Z","_Z","ICL_BLWTH_SC_HH","_Z","_Z","CLSUP_REN_SHR","_Z","_Z","_Z","NR",null,"nrg_ind_rctcbt","TIMESERIES","RA700","CLSUP_REN_SHR","ICL_BLWTH_SC_HH","NR","COUNTRY AGGREGATE IS NOT CALCULATED"]
[null,null,"Renewable energy quantity for cooling (GWh)",null,null,null,null,{"$f":"(H23-H24)*H27+H24","v":0},{"$f":"(I23-I24)*I27+I24","v":0},0,0,0,0,0,0,0,0,0,0,0,0,0,0,0,0,0,0,0,0,0,0,0,0,0,0,0,0,0,0,0,0,0,0,0,0,0,0,0,0,0,0,0,0,0,0,0,0,0,0,0,0,0,0,0,0,0,0,0,null,null,null,null,null,null,null,null,null,null,null,null,null,null,null,null,null,null,null,null,null,null,null,null,null,null,null,null,null,null,null,null,null,null,null,null,null,null,null,null,null,null,null,null,null,null,null,null,null,null,null,null,null,null,null,"RA700","PRODUCT","PPRD_RED","ICL_BLWTH_SC_HH","_Z","_Z","_Z","_Z","ENERGY","_Z","GWH",null,"nrg_ind_rcaebt","TIMESERIES","RA700","PPRD_RED","ICL_BLWTH_SC_HH","GWH","Agg.=SUM(countries)"]
[]
[null,"Space cooling in the tertiary sector"]
[null,null,"Cooling Degree Days",null,null,null,null,0,0,0,0,0,0,0,0,0,0,0,0,0,0,0,0,0,0,0,0,0,0,0,0,0,0,0,0,0,0,0,0,0,0,0,0,0,0,0,0,0,0,0,0,0,0,0,0,0,0,0,0,0,0,0,0,0,0,0,0,0,null,null,null,null,null,null,null,null,null,null,null,null,null,null,null,null,null,null,null,null,null,null,null,null,null,null,null,null,null,null,null,null,null,null,null,null,null,null,null,null,null,null,null,null,null,null,null,null,null,null,null,null,null,null,null,"RA700","_Z","_Z","ICL_BLWTH_SC_CP","_Z","_Z","CLDD_RED","_Z","_Z","_Z","NR",null,"nrg_ind_rctcbt","TIMESERIES","RA700","CLDD_RED","ICL_BLWTH_SC_CP","NR","COUNTRY AGGREGATE IS NOT CALCULATED"]
[null,null,"Average nominal cooling capacity from systems with SPFp above 1.4",null,null,null,null,0,0,0,0,0,0,0,0,0,0,0,0,0,0,0,0,0,0,0,0,0,0,0,0,0,0,0,0,0,0,0,0,0,0,0,0,0,0,0,0,0,0,0,0,0,0,0,0,0,0,0,0,0,0,0,0,0,0,0,0,0,null,null,null,null,null,null,null,null,null,null,null,null,null,null,null,null,null,null,null,null,null,null,null,null,null,null,null,null,null,null,null,null,null,null,null,null,null,null,null,null,null,null,null,null,null,null,null,null,null,null,null,null,null,null,null,"RA700","_Z","_Z","ICL_BLWTH_SC_CP","_Z","_Z","CAP_CL_AVG_ABVTH","_Z","ENERGY","_Z","GW",null,"nrg_ind_rctcbt","TIMESERIES","RA700","CAP_CL_AVG_ABVTH","ICL_BLWTH_SC_CP","GW","Agg.=SUM(countries)"]
[null,null,"           Of which from renewable heat driven cooling (absorption and adsorption)",null,null,null,null,0,0,0,0,0,0,0,0,0,0,0,0,0,0,0,0,0,0,0,0,0,0,0,0,0,0,0,0,0,0,0,0,0,0,0,0,0,0,0,0,0,0,0,0,0,0,0,0,0,0,0,0,0,0,0,0,0,0,0,0,0,null,null,null,null,null,null,null,null,null,null,null,null,null,null,null,null,null,null,null,null,null,null,null,null,null,null,null,null,null,null,null,null,null,null,null,null,null,null,null,null,null,null,null,null,null,null,null,null,null,null,null,null,null,null,null,"RA700","_Z","_Z","ICL_BLWTH_SC_CP","_Z","_Z","CAP_CL_AVG_ABVTH_REN","_Z","ENERGY","_Z","GW",null,"nrg_ind_rctcbt","TIMESERIES","RA700","CAP_CL_AVG_ABVTH_REN","ICL_BLWTH_SC_CP","GW","Agg.=SUM(countries)"]
[null,null,"Equivalent full load hours",null,null,null,null,{"$f":"IF(H31>0,475+0.49*H31,0)","v":0},{"$f":"IF(I31>0,475+0.49*I31,0)","v":0},0,0,0,0,0,0,0,0,0,0,0,0,0,0,0,0,0,0,0,0,0,0,0,0,0,0,0,0,0,0,0,0,0,0,0,0,0,0,0,0,0,0,0,0,0,0,0,0,0,0,0,0,0,0,0,0,0,0,0,null,null,null,null,null,null,null,null,null,null,null,null,null,null,null,null,null,null,null,null,null,null,null,null,null,null,null,null,null,null,null,null,null,null,null,null,null,null,null,null,null,null,null,null,null,null,null,null,null,null,null,null,null,null,null,"RA700","_Z","_Z","ICL_BLWTH_SC_CP","_Z","_Z","TUS","_Z","_Z","_Z","HR",null,"nrg_ind_rctcbt","TIMESERIES","RA700","TIME_USE","ICL_BLWTH_SC_CP","HR","COUNTRY AGGREGATE IS NOT CALCULATED"]
[null,null,"Cooling energy supplied (GWh) from systems with SPFp above 1.4",null,null,null,null,{"$f":"H32*H34","v":0},{"$f":"I32*I34","v":0},{"$f":"J32*J34","v":0},{"$f":"K32*K34","v":0},{"$f":"L32*L34","v":0},{"$f":"M32*M34","v":0},{"$f":"N32*N34","v":0},{"$f":"O32*O34","v":0},{"$f":"P32*P34","v":0},{"$f":"Q32*Q34","v":0},{"$f":"R32*R34","v":0},{"$f":"S32*S34","v":0},{"$f":"T32*T34","v":0},{"$f":"U32*U34","v":0},{"$f":"V32*V34","v":0},{"$f":"W32*W34","v":0},{"$f":"X32*X34","v":0},{"$f":"Y32*Y34","v":0},{"$f":"Z32*Z34","v":0},{"$f":"AA32*AA34","v":0},{"$f":"AB32*AB34","v":0},{"$f":"AC32*AC34","v":0},{"$f":"AD32*AD34","v":0},{"$f":"AE32*AE34","v":0},{"$f":"AF32*AF34","v":0},{"$f":"AG32*AG34","v":0},{"$f":"AH32*AH34","v":0},{"$f":"AI32*AI34","v":0},{"$f":"AJ32*AJ34","v":0},{"$f":"AK32*AK34","v":0},{"$f":"AL32*AL34","v":0},{"$f":"AM32*AM34","v":0},{"$f":"AN32*AN34","v":0},{"$f":"AO32*AO34","v":0},{"$f":"AP32*AP34","v":0},{"$f":"AQ32*AQ34","v":0},{"$f":"AR32*AR34","v":0},{"$f":"AS32*AS34","v":0},{"$f":"AT32*AT34","v":0},{"$f":"AU32*AU34","v":0},{"$f":"AV32*AV34","v":0},{"$f":"AW32*AW34","v":0},{"$f":"AX32*AX34","v":0},{"$f":"AY32*AY34","v":0},{"$f":"AZ32*AZ34","v":0},{"$f":"BA32*BA34","v":0},{"$f":"BB32*BB34","v":0},{"$f":"BC32*BC34","v":0},{"$f":"BD32*BD34","v":0},{"$f":"BE32*BE34","v":0},{"$f":"BF32*BF34","v":0},{"$f":"BG32*BG34","v":0},{"$f":"BH32*BH34","v":0},{"$f":"BI32*BI34","v":0},{"$f":"BJ32*BJ34","v":0},{"$f":"BK32*BK34","v":0},{"$f":"BL32*BL34","v":0},{"$f":"BM32*BM34","v":0},{"$f":"BN32*BN34","v":0},{"$f":"BO32*BO34","v":0},{"$f":"BP32*BP34","v":0},null,null,null,null,null,null,null,null,null,null,null,null,null,null,null,null,null,null,null,null,null,null,null,null,null,null,null,null,null,null,null,null,null,null,null,null,null,null,null,null,null,null,null,null,null,null,null,null,null,null,null,null,null,null,null,"RA700","PRODUCT","CL_ES","ICL_BLWTH_SC_CP","_Z","_Z","_Z","_Z","ENERGY","_Z","GWH",null,"nrg_ind_rcaebt","TIMESERIES","RA700",{"$f":"DV35","v":"CL_ES"},"ICL_BLWTH_SC_CP","GWH","Agg.=SUM(countries)"]
[null,null,"           Of which from renewable heat driven cooling (absorption and adsorption)",null,null,null,null,{"$f":"H33*H34","v":0},{"$f":"I33*I34","v":0},0,0,0,0,0,0,0,0,0,0,0,0,0,0,0,0,0,0,0,0,0,0,0,0,0,0,0,0,0,0,0,0,0,0,0,0,0,0,0,0,0,0,0,0,0,0,0,0,0,0,0,0,0,0,0,0,0,0,0,null,null,null,null,null,null,null,null,null,null,null,null,null,null,null,null,null,null,null,null,null,null,null,null,null,null,null,null,null,null,null,null,null,null,null,null,null,null,null,null,null,null,null,null,null,null,null,null,null,null,null,null,null,null,null,"RA700","PRODUCT","CL_ES_RHD","ICL_BLWTH_SC_CP","_Z","_Z","_Z","_Z","ENERGY","_Z","GWH",null,"nrg_ind_rcaebt","TIMESERIES","RA700","CL_ES_RHD","ICL_BLWTH_SC_CP","GWH","Agg.=SUM(countries)"]
[null,null,"Average SPFp (defined in terms of primary energy)",null,null,null,null,0,0,0,0,0,0,0,0,0,0,0,0,0,0,0,0,0,0,0,0,0,0,0,0,0,0,0,0,0,0,0,0,0,0,0,0,0,0,0,0,0,0,0,0,0,0,0,0,0,0,0,0,0,0,0,0,0,0,0,0,0,null,null,null,null,null,null,null,null,null,null,null,null,null,null,null,null,null,null,null,null,null,null,null,null,null,null,null,null,null,null,null,null,null,null,null,null,null,null,null,null,null,null,null,null,null,null,null,null,null,null,null,null,null,null,null,"RA700","_Z","_Z","ICL_BLWTH_SC_CP","_Z","_Z","SPFPE_AVG","_Z","_Z","_Z","NR",null,"nrg_ind_rctcbt","TIMESERIES","RA700","SPFPE_AVG","ICL_BLWTH_SC_CP","NR","COUNTRY AGGREGATE IS NOT CALCULATED"]
[null,null,"           Of which from systems with SPFp above 1.4",null,null,null,null,0,0,0,0,0,0,0,0,0,0,0,0,0,0,0,0,0,0,0,0,0,0,0,0,0,0,0,0,0,0,0,0,0,0,0,0,0,0,0,0,0,0,0,0,0,0,0,0,0,0,0,0,0,0,0,0,0,0,0,0,0,null,null,null,null,null,null,null,null,null,null,null,null,null,null,null,null,null,null,null,null,null,null,null,null,null,null,null,null,null,null,null,null,null,null,null,null,null,null,null,null,null,null,null,null,null,null,null,null,null,null,null,null,null,null,null,"RA700","_Z","_Z","ICL_BLWTH_SC_CP","_Z","_Z","SPFPE_AVG_ABVTH","_Z","_Z","_Z","NR",null,"nrg_ind_rctcbt","TIMESERIES","RA700","SPFPE_AVG_ABVTH","ICL_BLWTH_SC_CP","NR","COUNTRY AGGREGATE IS NOT CALCULATED"]
[null,null,"SSPFp - Share of cooling supply that can be counted as renewable",null,null,null,null,{"$f":"IF(H38<1.4,0,IF(H38>6,1,(H38-1.4)/4.6))","v":0},{"$f":"IF(I38<1.4,0,IF(I38>6,1,(I38-1.4)/4.6))","v":0},0,0,0,0,0,0,0,0,0,0,0,0,0,0,0,0,0,0,0,0,0,0,0,0,0,0,0,0,0,{"$f":"IF(AM38<1.4,0,IF(AM38>6,1,(AM38-1.4)/4.6))","v":0},0,0,0,0,0,0,0,0,0,0,0,0,0,0,0,0,0,0,0,0,0,0,0,0,0,0,0,0,0,null,null,null,null,null,null,null,null,null,null,null,null,null,null,null,null,null,null,null,null,null,null,null,null,null,null,null,null,null,null,null,null,null,null,null,null,null,null,null,null,null,null,null,null,null,null,null,null,null,null,null,null,null,null,null,"RA700","_Z","_Z","ICL_BLWTH_SC_CP","_Z","_Z","CLSUP_REN_SHR","_Z","_Z","_Z","NR",null,"nrg_ind_rctcbt","TIMESERIES","RA700","CLSUP_REN_SHR","ICL_BLWTH_SC_CP","NR","COUNTRY AGGREGATE IS NOT CALCULATED"]
[null,null,"Renewable energy quantity for cooling (GWh)",null,null,null,null,{"$f":"(H35-H36)*H39+H36","v":0},{"$f":"(I35-I36)*I39+I36","v":0},0,0,0,0,0,0,0,0,0,0,0,0,0,0,0,0,0,0,0,0,0,0,0,0,0,0,0,0,0,0,0,0,0,0,0,0,0,0,0,0,0,0,0,0,0,0,0,0,0,0,0,0,0,0,0,0,0,0,0,null,null,null,null,null,null,null,null,null,null,null,null,null,null,null,null,null,null,null,null,null,null,null,null,null,null,null,null,null,null,null,null,null,null,null,null,null,null,null,null,null,null,null,null,null,null,null,null,null,null,null,null,null,null,null,"RA700","PRODUCT","PPRD_RED","ICL_BLWTH_SC_CP","_Z","_Z","_Z","_Z","ENERGY","_Z","GWH",null,"nrg_ind_rcaebt","TIMESERIES","RA700","PPRD_RED","ICL_BLWTH_SC_CP","GWH","Agg.=SUM(countries)"]
[]
[null,"Process cooling"]
[null,null,"Cooling Degree Days",null,null,null,null,0,0,0,0,0,0,0,0,0,0,0,0,0,0,0,0,0,0,0,0,0,0,0,0,0,0,0,0,0,0,0,0,0,0,0,0,0,0,0,0,0,0,0,0,0,0,0,0,0,0,0,0,0,0,0,0,0,0,0,0,0,null,null,null,null,null,null,null,null,null,null,null,null,null,null,null,null,null,null,null,null,null,null,null,null,null,null,null,null,null,null,null,null,null,null,null,null,null,null,null,null,null,null,null,null,null,null,null,null,null,null,null,null,null,null,null,"RA700","_Z","_Z","ICL_BLWTH_PC","_Z","_Z","CLDD_RED","_Z","_Z","_Z","NR",null,"nrg_ind_rctcbt","TIMESERIES","RA700","CLDD_RED","ICL_BLWTH_PC","NR","COUNTRY AGGREGATE IS NOT CALCULATED"]
[null,null,"Activity factor (τs)",null,null,null,null,0,0,0,0,0,0,0,0,0,0,0,0,0,0,0,0,0,0,0,0,0,0,0,0,0,0,0,0,0,0,0,0,0,0,0,0,0,0,0,0,0,0,0,0,0,0,0,0,0,0,0,0,0,0,0,0,0,0,0,0,0,null,null,null,null,null,null,null,null,null,null,null,null,null,null,null,null,null,null,null,null,null,null,null,null,null,null,null,null,null,null,null,null,null,null,null,null,null,null,null,null,null,null,null,null,null,null,null,null,null,null,null,null,null,null,null,"RA700","_Z","_Z","ICL_BLWTH_PC","_Z","_Z","ACT_FACT","_Z","_Z","_Z","NR",null,"nrg_ind_rctcbt","TIMESERIES","RA700","ACT_FACT","ICL_BLWTH_PC","NR","COUNTRY AGGREGATE IS NOT CALCULATED"]
[null,null,"Average nominal cooling capacity from systems with SPFp above 1.4",null,null,null,null,0,0,0,0,0,0,0,0,0,0,0,0,0,0,0,0,0,0,0,0,0,0,0,0,0,0,0,0,0,0,0,0,0,0,0,0,0,0,0,0,0,0,0,0,0,0,0,0,0,0,0,0,0,0,0,0,0,0,0,0,0,null,null,null,null,null,null,null,null,null,null,null,null,null,null,null,null,null,null,null,null,null,null,null,null,null,null,null,null,null,null,null,null,null,null,null,null,null,null,null,null,null,null,null,null,null,null,null,null,null,null,null,null,null,null,null,"RA700","_Z","_Z","ICL_BLWTH_PC","_Z","_Z","CAP_CL_AVG_ABVTH","_Z","ENERGY","_Z","GW",null,"nrg_ind_rctcbt","TIMESERIES","RA700","CAP_CL_AVG_ABVTH","ICL_BLWTH_PC","GW","Agg.=SUM(countries)"]
[null,null,"           Of which from renewable heat driven cooling (absorption and adsorption)",null,null,null,null,0,0,0,0,0,0,0,0,0,0,0,0,0,0,0,0,0,0,0,0,0,0,0,0,0,0,0,0,0,0,0,0,0,0,0,0,0,0,0,0,0,0,0,0,0,0,0,0,0,0,0,0,0,0,0,0,0,0,0,0,0,null,null,null,null,null,null,null,null,null,null,null,null,null,null,null,null,null,null,null,null,null,null,null,null,null,null,null,null,null,null,null,null,null,null,null,null,null,null,null,null,null,null,null,null,null,null,null,null,null,null,null,null,null,null,null,"RA700","_Z","_Z","ICL_BLWTH_PC","_Z","_Z","CAP_CL_AVG_ABVTH_REN","_Z","ENERGY","_Z","GW",null,"nrg_ind_rctcbt","TIMESERIES","RA700","CAP_CL_AVG_ABVTH_REN","ICL_BLWTH_PC","GW","Agg.=SUM(countries)"]
[null,null,"Equivalent full load hours",null,null,null,null,{"$f":"IF(H43>0,H44*(7300+0.32*H43),0)","v":0},{"$f":"IF(I43>0,I44*(7300+0.32*I43),0)","v":0},0,0,0,0,0,0,0,0,0,0,0,0,0,0,0,0,0,0,0,0,0,0,0,0,0,0,0,0,0,0,0,0,0,0,0,0,0,0,0,0,0,0,0,0,0,0,0,0,0,0,0,0,0,0,0,0,0,0,0,null,null,null,null,null,null,null,null,null,null,null,null,null,null,null,null,null,null,null,null,null,null,null,null,null,null,null,null,null,null,null,null,null,null,null,null,null,null,null,null,null,null,null,null,null,null,null,null,null,null,null,null,null,null,null,"RA700","_Z","_Z","ICL_BLWTH_PC","_Z","_Z","TUS","_Z","_Z","_Z","HR",null,"nrg_ind_rctcbt","TIMESERIES","RA700","TIME_USE","ICL_BLWTH_PC","HR","COUNTRY AGGREGATE IS NOT CALCULATED"]
[null,null,"Cooling energy supplied (GWh) from systems with SPFp above 1.4",null,null,null,null,{"$f":"H45*H47","v":0},{"$f":"I45*I47","v":0},{"$f":"J45*J47","v":0},{"$f":"K45*K47","v":0},{"$f":"L45*L47","v":0},{"$f":"M45*M47","v":0},{"$f":"N45*N47","v":0},{"$f":"O45*O47","v":0},{"$f":"P45*P47","v":0},{"$f":"Q45*Q47","v":0},{"$f":"R45*R47","v":0},{"$f":"S45*S47","v":0},{"$f":"T45*T47","v":0},{"$f":"U45*U47","v":0},{"$f":"V45*V47","v":0},{"$f":"W45*W47","v":0},{"$f":"X45*X47","v":0},{"$f":"Y45*Y47","v":0},{"$f":"Z45*Z47","v":0},{"$f":"AA45*AA47","v":0},{"$f":"AB45*AB47","v":0},{"$f":"AC45*AC47","v":0},{"$f":"AD45*AD47","v":0},{"$f":"AE45*AE47","v":0},{"$f":"AF45*AF47","v":0},{"$f":"AG45*AG47","v":0},{"$f":"AH45*AH47","v":0},{"$f":"AI45*AI47","v":0},{"$f":"AJ45*AJ47","v":0},{"$f":"AK45*AK47","v":0},{"$f":"AL45*AL47","v":0},{"$f":"AM45*AM47","v":0},{"$f":"AN45*AN47","v":0},{"$f":"AO45*AO47","v":0},{"$f":"AP45*AP47","v":0},{"$f":"AQ45*AQ47","v":0},{"$f":"AR45*AR47","v":0},{"$f":"AS45*AS47","v":0},{"$f":"AT45*AT47","v":0},{"$f":"AU45*AU47","v":0},{"$f":"AV45*AV47","v":0},{"$f":"AW45*AW47","v":0},{"$f":"AX45*AX47","v":0},{"$f":"AY45*AY47","v":0},{"$f":"AZ45*AZ47","v":0},{"$f":"BA45*BA47","v":0},{"$f":"BB45*BB47","v":0},{"$f":"BC45*BC47","v":0},{"$f":"BD45*BD47","v":0},{"$f":"BE45*BE47","v":0},{"$f":"BF45*BF47","v":0},{"$f":"BG45*BG47","v":0},{"$f":"BH45*BH47","v":0},{"$f":"BI45*BI47","v":0},{"$f":"BJ45*BJ47","v":0},{"$f":"BK45*BK47","v":0},{"$f":"BL45*BL47","v":0},{"$f":"BM45*BM47","v":0},{"$f":"BN45*BN47","v":0},{"$f":"BO45*BO47","v":0},{"$f":"BP45*BP47","v":0},null,null,null,null,null,null,null,null,null,null,null,null,null,null,null,null,null,null,null,null,null,null,null,null,null,null,null,null,null,null,null,null,null,null,null,null,null,null,null,null,null,null,null,null,null,null,null,null,null,null,null,null,null,null,null,"RA700","PRODUCT","CL_ES","ICL_BLWTH_PC","_Z","_Z","_Z","_Z","ENERGY","_Z","GWH",null,"nrg_ind_rcaebt","TIMESERIES","RA700",{"$f":"DV48","v":"CL_ES"},"ICL_BLWTH_PC","GWH","Agg.=SUM(countries)"]
[null,null,"           Of which from renewable heat driven cooling (absorption and adsorption)",null,null,null,null,0,0,0,0,0,0,0,0,0,0,0,0,0,0,0,0,0,0,0,0,0,0,0,0,0,0,0,0,0,0,0,0,0,0,0,0,0,0,0,0,0,0,0,0,0,0,0,0,0,0,0,0,0,0,0,0,0,0,0,0,0,null,null,null,null,null,null,null,null,null,null,null,null,null,null,null,null,null,null,null,null,null,null,null,null,null,null,null,null,null,null,null,null,null,null,null,null,null,null,null,null,null,null,null,null,null,null,null,null,null,null,null,null,null,null,null,"RA700","PRODUCT","CL_ES_RHD","ICL_BLWTH_PC","_Z","_Z","_Z","_Z","ENERGY","_Z","GWH",null,"nrg_ind_rcaebt","TIMESERIES","RA700","CL_ES_RHD","ICL_BLWTH_PC","GWH","Agg.=SUM(countries)"]
[null,null,"Average SPFp (defined in terms of primary energy)",null,null,null,null,0,0,0,0,0,0,0,0,0,0,0,0,0,0,0,0,0,0,0,0,0,0,0,0,0,0,0,0,0,0,0,0,0,0,0,0,0,0,0,0,0,0,0,0,0,0,0,0,0,0,0,0,0,0,0,0,0,0,0,0,0,null,null,null,null,null,null,null,null,null,null,null,null,null,null,null,null,null,null,null,null,null,null,null,null,null,null,null,null,null,null,null,null,null,null,null,null,null,null,null,null,null,null,null,null,null,null,null,null,null,null,null,null,null,null,null,"RA700","_Z","_Z","ICL_BLWTH_PC","_Z","_Z","SPFPE_AVG","_Z","_Z","_Z","NR",null,"nrg_ind_rctcbt","TIMESERIES","RA700","SPFPE_AVG","ICL_BLWTH_PC","NR","COUNTRY AGGREGATE IS NOT CALCULATED"]
[null,null,"           Of which from systems with SPFp above 1.4",null,null,null,null,0,0,0,0,0,0,0,0,0,0,0,0,0,0,0,0,0,0,0,0,0,0,0,0,0,0,0,0,0,0,0,0,0,0,0,0,0,0,0,0,0,0,0,0,0,0,0,0,0,0,0,0,0,0,0,0,0,0,0,0,0,null,null,null,null,null,null,null,null,null,null,null,null,null,null,null,null,null,null,null,null,null,null,null,null,null,null,null,null,null,null,null,null,null,null,null,null,null,null,null,null,null,null,null,null,null,null,null,null,null,null,null,null,null,null,null,"RA700","_Z","_Z","ICL_BLWTH_PC","_Z","_Z","SPFPE_AVG_ABVTH","_Z","_Z","_Z","NR",null,"nrg_ind_rctcbt","TIMESERIES","RA700","SPFPE_AVG_ABVTH","ICL_BLWTH_PC","NR","COUNTRY AGGREGATE IS NOT CALCULATED"]
[null,null,"SSPFp - Share of cooling supply that can be counted as renewable",null,null,null,null,{"$f":"IF(H50<1.4,0,IF(H50>6,1,(H50-1.4)/4.6))","v":0},0,0,0,0,0,0,0,0,0,0,0,0,0,0,0,0,0,0,0,0,0,0,0,0,0,0,0,0,0,0,{"$f":"IF(AM51<1.4,0,IF(AM51>6,1,(AM51-1.4)/4.6))","v":0},{"$f":"IF(AN50<1.4,0,IF(AN50>6,1,(AN50-1.4)/4.6))","v":0},0,0,0,0,0,0,0,0,0,0,0,0,0,0,0,0,0,0,0,0,0,0,0,0,0,0,0,0,null,null,null,null,null,null,null,null,null,null,null,null,null,null,null,null,null,null,null,null,null,null,null,null,null,null,null,null,null,null,null,null,null,null,null,null,null,null,null,null,null,null,null,null,null,null,null,null,null,null,null,null,null,null,null,"RA700","_Z","_Z","ICL_BLWTH_PC","_Z","_Z","CLSUP_REN_SHR","_Z","_Z","_Z","NR",null,"nrg_ind_rctcbt","TIMESERIES","RA700","CLSUP_REN_SHR","ICL_BLWTH_PC","NR","COUNTRY AGGREGATE IS NOT CALCULATED"]
[null,null,"Renewable energy quantity for cooling (GWh)",null,null,null,null,{"$f":"(H48-H49)*H52+H49","v":0},{"$f":"(I48-I49)*I52+I49","v":0},0,0,0,0,0,0,0,0,0,0,0,0,0,0,0,0,0,0,0,0,0,0,0,0,0,0,0,0,0,0,0,0,0,0,0,0,0,0,0,0,0,0,0,0,0,0,0,0,0,0,0,0,0,0,0,0,0,0,0,null,null,null,null,null,null,null,null,null,null,null,null,null,null,null,null,null,null,null,null,null,null,null,null,null,null,null,null,null,null,null,null,null,null,null,null,null,null,null,null,null,null,null,null,null,null,null,null,null,null,null,null,null,null,null,"RA700","PRODUCT","PPRD_RED","ICL_BLWTH_PC","_Z","_Z","_Z","_Z","ENERGY","_Z","GWH",null,"nrg_ind_rcaebt","TIMESERIES","RA700","PPRD_RED","ICL_BLWTH_PC","GWH","Agg.=SUM(countries)"]
[]
["Other individual cooling systems"]
[null,null,"Average SPFp (defined in terms of primary energy)",null,null,null,null,0,0,0,0,0,0,0,0,0,0,0,0,0,0,0,0,0,0,0,0,0,0,0,0,0,0,0,0,0,0,0,0,0,0,0,0,0,0,0,0,0,0,0,0,0,0,0,0,0,0,0,0,0,0,0,0,0,0,0,0,0,null,null,null,null,null,null,null,null,null,null,null,null,null,null,null,null,null,null,null,null,null,null,null,null,null,null,null,null,null,null,null,null,null,null,null,null,null,null,null,null,null,null,null,null,null,null,null,null,null,null,null,null,null,null,null,"RA700","_Z","_Z","ICL_OTH","_Z","_Z","SPFPE_AVG","_Z","_Z","_Z","NR",null,"nrg_ind_rctcbt","TIMESERIES","RA700","SPFPE_AVG","ICL_OTH","NR","COUNTRY AGGREGATE IS NOT CALCULATED"]
[null,null,"           Of which from systems with SPFp above 1.4",null,null,null,null,0,0,0,0,0,0,0,0,0,0,0,0,0,0,0,0,0,0,0,0,0,0,0,0,0,0,0,0,0,0,0,0,0,0,0,0,0,0,0,0,0,0,0,0,0,0,0,0,0,0,0,0,0,0,0,0,0,0,0,0,0,null,null,null,null,null,null,null,null,null,null,null,null,null,null,null,null,null,null,null,null,null,null,null,null,null,null,null,null,null,null,null,null,null,null,null,null,null,null,null,null,null,null,null,null,null,null,null,null,null,null,null,null,null,null,null,"RA700","_Z","_Z","ICL_OTH","_Z","_Z","SPFPE_AVG_ABVTH","_Z","_Z","_Z","NR",null,"nrg_ind_rctcbt","TIMESERIES","RA700","SPFPE_AVG_ABVTH","ICL_OTH","NR","COUNTRY AGGREGATE IS NOT CALCULATED"]
[null,null,"Cooling energy supplied (GWh) from systems with SPFp above 1.4",null,null,null,null,0,0,0,0,0,0,0,0,0,0,0,0,0,0,0,0,0,0,0,0,0,0,0,0,0,0,0,0,0,0,0,0,0,0,0,0,0,0,0,0,0,0,0,0,0,0,0,0,0,0,0,0,0,0,0,0,0,0,0,0,0,null,null,null,null,null,null,null,null,null,null,null,null,null,null,null,null,null,null,null,null,null,null,null,null,null,null,null,null,null,null,null,null,null,null,null,null,null,null,null,null,null,null,null,null,null,null,null,null,null,null,null,null,null,null,null,"RA700","PRODUCT","CL_ES","ICL_OTH","_Z","_Z","_Z","_Z","ENERGY","_Z","GWH",null,"nrg_ind_rcaebt","TIMESERIES","RA700",{"$f":"DV58","v":"CL_ES"},"ICL_OTH","GWH","Agg.=SUM(countries)"]
[null,null,"           Of which from renewable heat driven cooling (absorption and adsorption)",null,null,null,null,0,0,0,0,0,0,0,0,0,0,0,0,0,0,0,0,0,0,0,0,0,0,0,0,0,0,0,0,0,0,0,0,0,0,0,0,0,0,0,0,0,0,0,0,0,0,0,0,0,0,0,0,0,0,0,0,0,0,0,0,0,null,null,null,null,null,null,null,null,null,null,null,null,null,null,null,null,null,null,null,null,null,null,null,null,null,null,null,null,null,null,null,null,null,null,null,null,null,null,null,null,null,null,null,null,null,null,null,null,null,null,null,null,null,null,null,"RA700","PRODUCT","CL_ES_RHD","ICL_OTH","_Z","_Z","_Z","_Z","ENERGY","_Z","GWH",null,"nrg_ind_rcaebt","TIMESERIES","RA700","CL_ES_RHD","ICL_OTH","GWH","Agg.=SUM(countries)"]
[null,null,"SSPFp - Share of cooling supply that can be counted as renewable",null,null,null,null,{"$f":"IF(H57<1.4,0,IF(H57>6,1,(H57-1.4)/4.6))","v":0},0,0,0,0,0,0,0,0,0,0,0,0,0,0,0,0,0,0,0,0,0,0,0,0,0,0,0,0,0,0,{"$f":"IF(AM57<1.4,0,IF(AM57>6,1,(AM57-1.4)/4.6))","v":0},{"$f":"IF(AN57<1.4,0,IF(AN57>6,1,(AN57-1.4)/4.6))","v":0},0,0,0,0,0,0,0,0,0,0,0,0,0,0,0,0,0,0,0,0,0,0,0,0,0,0,0,0,null,null,null,null,null,null,null,null,null,null,null,null,null,null,null,null,null,null,null,null,null,null,null,null,null,null,null,null,null,null,null,null,null,null,null,null,null,null,null,null,null,null,null,null,null,null,null,null,null,null,null,null,null,null,null,"RA700","_Z","_Z","ICL_OTH","_Z","_Z","CLSUP_REN_SHR","_Z","_Z","_Z","NR",null,"nrg_ind_rctcbt","TIMESERIES","RA700","CLSUP_REN_SHR","ICL_OTH","NR","COUNTRY AGGREGATE IS NOT CALCULATED"]
[null,null,"Renewable energy quantity for cooling (GWh)",null,null,null,null,{"$f":"(H58-H59)*H60+H59","v":0},{"$f":"(I58-I59)*I60+I59","v":0},{"$f":"(J58-J59)*J60+J59","v":0},{"$f":"(K58-K59)*K60+K59","v":0},{"$f":"(L58-L59)*L60+L59","v":0},{"$f":"(M58-M59)*M60+M59","v":0},{"$f":"(N58-N59)*N60+N59","v":0},{"$f":"(O58-O59)*O60+O59","v":0},{"$f":"(P58-P59)*P60+P59","v":0},{"$f":"(Q58-Q59)*Q60+Q59","v":0},{"$f":"(R58-R59)*R60+R59","v":0},{"$f":"(S58-S59)*S60+S59","v":0},{"$f":"(T58-T59)*T60+T59","v":0},{"$f":"(U58-U59)*U60+U59","v":0},{"$f":"(V58-V59)*V60+V59","v":0},{"$f":"(W58-W59)*W60+W59","v":0},{"$f":"(X58-X59)*X60+X59","v":0},{"$f":"(Y58-Y59)*Y60+Y59","v":0},{"$f":"(Z58-Z59)*Z60+Z59","v":0},{"$f":"(AA58-AA59)*AA60+AA59","v":0},{"$f":"(AB58-AB59)*AB60+AB59","v":0},{"$f":"(AC58-AC59)*AC60+AC59","v":0},{"$f":"(AD58-AD59)*AD60+AD59","v":0},{"$f":"(AE58-AE59)*AE60+AE59","v":0},{"$f":"(AF58-AF59)*AF60+AF59","v":0},{"$f":"(AG58-AG59)*AG60+AG59","v":0},{"$f":"(AH58-AH59)*AH60+AH59","v":0},{"$f":"(AI58-AI59)*AI60+AI59","v":0},{"$f":"(AJ58-AJ59)*AJ60+AJ59","v":0},{"$f":"(AK58-AK59)*AK60+AK59","v":0},{"$f":"(AL58-AL59)*AL60+AL59","v":0},{"$f":"(AM58-AM59)*AM60+AM59","v":0},{"$f":"(AN58-AN59)*AN60+AN59","v":0},{"$f":"(AO58-AO59)*AO60+AO59","v":0},{"$f":"(AP58-AP59)*AP60+AP59","v":0},{"$f":"(AQ58-AQ59)*AQ60+AQ59","v":0},{"$f":"(AR58-AR59)*AR60+AR59","v":0},{"$f":"(AS58-AS59)*AS60+AS59","v":0},{"$f":"(AT58-AT59)*AT60+AT59","v":0},{"$f":"(AU58-AU59)*AU60+AU59","v":0},{"$f":"(AV58-AV59)*AV60+AV59","v":0},{"$f":"(AW58-AW59)*AW60+AW59","v":0},{"$f":"(AX58-AX59)*AX60+AX59","v":0},{"$f":"(AY58-AY59)*AY60+AY59","v":0},{"$f":"(AZ58-AZ59)*AZ60+AZ59","v":0},{"$f":"(BA58-BA59)*BA60+BA59","v":0},{"$f":"(BB58-BB59)*BB60+BB59","v":0},{"$f":"(BC58-BC59)*BC60+BC59","v":0},{"$f":"(BD58-BD59)*BD60+BD59","v":0},{"$f":"(BE58-BE59)*BE60+BE59","v":0},{"$f":"(BF58-BF59)*BF60+BF59","v":0},{"$f":"(BG58-BG59)*BG60+BG59","v":0},{"$f":"(BH58-BH59)*BH60+BH59","v":0},{"$f":"(BI58-BI59)*BI60+BI59","v":0},{"$f":"(BJ58-BJ59)*BJ60+BJ59","v":0},{"$f":"(BK58-BK59)*BK60+BK59","v":0},{"$f":"(BL58-BL59)*BL60+BL59","v":0},{"$f":"(BM58-BM59)*BM60+BM59","v":0},{"$f":"(BN58-BN59)*BN60+BN59","v":0},{"$f":"(BO58-BO59)*BO60+BO59","v":0},{"$f":"(BP58-BP59)*BP60+BP59","v":0},null,null,null,null,null,null,null,null,null,null,null,null,null,null,null,null,null,null,null,null,null,null,null,null,null,null,null,null,null,null,null,null,null,null,null,null,null,null,null,null,null,null,null,null,null,null,null,null,null,null,null,null,null,null,null,"RA700","PRODUCT","PPRD_RED","ICL_OTH","_Z","_Z","_Z","_Z","ENERGY","_Z","GWH",null,"nrg_ind_rcaebt","TIMESERIES","RA700","PPRD_RED","ICL_OTH","GWH","Agg.=SUM(countries)"]
[]
["District cooling"]
[null,null,"Average SPFp (defined in terms of primary energy)",null,null,null,null,0,0,0,0,0,0,0,0,0,0,0,0,0,0,0,0,0,0,0,0,0,0,0,0,0,0,0,0,0,0,0,0,0,0,0,0,0,0,0,0,0,0,0,0,0,0,0,0,0,0,0,0,0,0,0,0,0,0,0,0,0,null,null,null,null,null,null,null,null,null,null,null,null,null,null,null,null,null,null,null,null,null,null,null,null,null,null,null,null,null,null,null,null,null,null,null,null,null,null,null,null,null,null,null,null,null,null,null,null,null,null,null,null,null,null,null,"RA700","_Z","_Z","DCL","_Z","_Z","SPFPE_AVG","_Z","_Z","_Z","NR",null,"nrg_ind_rctcbt","TIMESERIES","RA700","SPFPE_AVG","DCL","NR","COUNTRY AGGREGATE IS NOT CALCULATED"]
[null,null,"           Of which from systems with SPFp above 1.4",null,null,null,null,0,0,0,0,0,0,0,0,0,0,0,0,0,0,0,0,0,0,0,0,0,0,0,0,0,0,0,0,0,0,0,0,0,0,0,0,0,0,0,0,0,0,0,0,0,0,0,0,0,0,0,0,0,0,0,0,0,0,0,0,0,null,null,null,null,null,null,null,null,null,null,null,null,null,null,null,null,null,null,null,null,null,null,null,null,null,null,null,null,null,null,null,null,null,null,null,null,null,null,null,null,null,null,null,null,null,null,null,null,null,null,null,null,null,null,null,"RA700","_Z","_Z","DCL","_Z","_Z","SPFPE_AVG_ABVTH","_Z","_Z","_Z","NR",null,"nrg_ind_rctcbt","TIMESERIES","RA700","SPFPE_AVG_ABVTH","DCL","NR","COUNTRY AGGREGATE IS NOT CALCULATED"]
[null,null,"Cooling energy supplied (GWh) from systems with SPFp above 1.4",null,null,null,null,0,0,0,0,0,0,0,0,0,0,0,0,0,0,0,0,0,0,0,0,0,0,0,0,0,0,0,0,0,0,0,0,0,0,0,0,0,0,0,0,0,0,0,0,0,0,0,0,0,0,0,0,0,0,0,0,0,0,0,0,0,null,null,null,null,null,null,null,null,null,null,null,null,null,null,null,null,null,null,null,null,null,null,null,null,null,null,null,null,null,null,null,null,null,null,null,null,null,null,null,null,null,null,null,null,null,null,null,null,null,null,null,null,null,null,null,"RA700","PRODUCT","CL_ES","DCL","_Z","_Z","_Z","_Z","ENERGY","_Z","GWH",null,"nrg_ind_rctcbt","TIMESERIES","RA700",{"$f":"DV66","v":"CL_ES"},"DCL","GWH","Agg.=SUM(countries)"]
[null,null,"Net cooling energy supplied at customer level (GWh)",null,null,null,null,0,0,0,0,0,0,0,0,0,0,0,0,0,0,0,0,0,0,0,0,0,0,0,0,0,0,0,0,0,0,0,0,0,0,0,0,0,0,0,0,0,0,0,0,0,0,0,0,0,0,0,0,0,0,0,0,0,0,0,0,0,null,null,null,null,null,null,null,null,null,null,null,null,null,null,null,null,null,null,null,null,null,null,null,null,null,null,null,null,null,null,null,null,null,null,null,null,null,null,null,null,null,null,null,null,null,null,null,null,null,null,null,null,null,null,null,"RA700","PRODUCT","CL_ES_NET","DCL","_Z","_Z","_Z","_Z","ENERGY","_Z","GWH",null,"nrg_ind_rcaebt","TIMESERIES","RA700","CL_ES_NET","DCL","GWH","Agg.=SUM(countries)"]
[null,null,"           Of which from renewable heat driven cooling (absorption and adsorption)",null,null,null,null,0,0,0,0,0,0,0,0,0,0,0,0,0,0,0,0,0,0,0,0,0,0,0,0,0,0,0,0,0,0,0,0,0,0,0,0,0,0,0,0,0,0,0,0,0,0,0,0,0,0,0,0,0,0,0,0,0,0,0,0,0,null,null,null,null,null,null,null,null,null,null,null,null,null,null,null,null,null,null,null,null,null,null,null,null,null,null,null,null,null,null,null,null,null,null,null,null,null,null,null,null,null,null,null,null,null,null,null,null,null,null,null,null,null,null,null,"RA700","PRODUCT","CL_ES_RHD","DCL","_Z","_Z","_Z","_Z","ENERGY","_Z","GWH",null,"nrg_ind_rcaebt","TIMESERIES","RA700","CL_ES_RHD","DCL","GWH","Agg.=SUM(countries)"]
[null,null,"SSPFp - Share of cooling supply that can be counted as renewable",null,null,null,null,{"$f":"IF(H65<1.4,0,IF(H65>6,1,(H65-1.4)/4.6))","v":0},0,0,0,0,0,0,0,0,0,0,0,0,0,0,0,0,0,0,0,0,0,0,0,0,0,0,0,0,0,0,{"$f":"IF(AM65<1.4,0,IF(AM65>6,1,(AM65-1.4)/4.6))","v":0},{"$f":"IF(AN65<1.4,0,IF(AN65>6,1,(AN65-1.4)/4.6))","v":0},0,0,0,0,0,0,0,0,0,0,0,0,0,0,0,0,0,0,0,0,0,0,0,0,0,0,0,0,null,null,null,null,null,null,null,null,null,null,null,null,null,null,null,null,null,null,null,null,null,null,null,null,null,null,null,null,null,null,null,null,null,null,null,null,null,null,null,null,null,null,null,null,null,null,null,null,null,null,null,null,null,null,null,"RA700","_Z","_Z","DCL","_Z","_Z","CLSUP_REN_SHR","_Z","_Z","_Z","NR",null,"nrg_ind_rctcbt","TIMESERIES","RA700","CLSUP_REN_SHR","DCL","NR","COUNTRY AGGREGATE IS NOT CALCULATED"]
[null,null,"Renewable energy quantity for cooling (GWh)",null,null,null,null,{"$f":"(H67-H68)*H69+H68","v":0},{"$f":"(I67-I68)*I69+I68","v":0},0,0,0,0,0,0,0,0,0,0,0,0,0,0,0,0,0,0,0,0,0,0,0,0,0,0,0,0,0,0,0,0,0,0,0,0,0,0,0,0,0,0,0,0,0,0,0,0,0,0,0,0,0,0,0,0,0,0,0,null,null,null,null,null,null,null,null,null,null,null,null,null,null,null,null,null,null,null,null,null,null,null,null,null,null,null,null,null,null,null,null,null,null,null,null,null,null,null,null,null,null,null,null,null,null,null,null,null,null,null,null,null,null,null,"RA700","PRODUCT","PPRD_RED","DCL","_Z","_Z","_Z","_Z","ENERGY","_Z","GWH",null,"nrg_ind_rcaebt","TIMESERIES","RA700","PPRD_RED","DCL","GWH","Agg.=SUM(countries)"]
[]
[]
[]
[]
[]
[]
[]
[]
[]
[]
[]
[]
[]
[]
[]
[]
[]
[]
[]
[]
[]
[]
[]
[]
[]
[]
[]
[]
[]
[]
[]
[]
[]
[]
[]
[]
[]
[]
[]
[]
[]
[]
[]
[]
[]
[]
[]
[]
[]
[]
[]
[]
[]
[]
[]
[]
[]
[]
[]
[]
[]
[]
[]
[]
[]
[]
[]
[]
[]
[]
[]
[]
[]
[]
[]
[]
[]
[]
[]
[]
[]
[]
[]
[]
[]
[]
[]
[]
[]
[]
[]
[]
[]
[]
[]
[]
[]
[]
[]
[]
[]
[]
[]
[]
[]
[]
[]
[]
[]
[]
[]
[]
[]
[]
[]
[]
[]
[]
[]
[]
[]
[]
[]
[]
[]
[]
[]
[]
[]
[]
[]
[]
[]
[]
[]
[]
[]
[]
[]
[]
[]
[]
[]
[]
[]
[]
[]
[]
[]
[]
[]
[]
[]
[]
[]
[]
[]
[]
[]
[]
[]
[]
[]
[]
[]
[]
[]
[]
[]
[]
[]
[]
[]
[]
[]
[]
[]
[]
[]
[]
[]
[]
[]
[]
[]
[]
[]
[]
[]
[]
[]
[]
[]
[]
[]
[]
[]
[]
[]
[]
[]
[]
[]
[]
[]
[]
[]
[]
[]
[]
[]
[]
[]
[]
[]
[]
[]
[]
[]
[]
[]
[]
[]
[]
[]
[]
[]
[]
[]
[]
[]
[]
[]
[]
[]
[]
[]
[]
[]
[]
[]
[]
[]
[]
[]
[]
[]
[]
[]
[]
[]
[]
[]
[]
[]
[]
[]
[]
[]
[]
[]
[]
[]
[]
[]
[]
[]
[]
[]
[]
[]
[]
[]
[]
[]
[]
[]
[]
[]
[]
[]
[]
[]
[]
[]
[]
[]
[]
[]
[]
[]
[]
[]
[]
[]
[]
[]
[]
[]
[]
[]
[]
[]
[]
[]
[]
[]
[]
[]
[]
[]
[]
[]
[]
[]
[]
[]
[]
[]
[]
[]
[]
[]
[]
[]
[]
[]
[]
[]
[]
[]
[]
[]
[]
[]
[]
[]
[]
[]
[]
[]
[]
[]
[]
[]
[]
[]
[]
[]
[]
[]
[]
[]
[]
[]
[]
[]
[]
[]
[]
[]
[]
[]
[]
[]
[]
[]
[]
[]
[]
[]
[]
[]
[]
[]
[]
[]
[]
[]
[]
[]
[]
[]
[]
[]
[]
[]
[]
[]
[]
[]
[]
[]
[]
[]
[]
[]
[]
[]
[]
[]
[]
[]
[]
[]
[]
[]
[]
[]
[]
[]
[]
[]
[]
[]
[]
[]
[]
[]
[]
[]
[]
[]
[]
[]
[]
[]
[]
[]
[]
[]
[]
[]
[]
[]
[]
[]
[]
[]
[]
[]
[]
[]
[]
[]
[]
[]
[]
[]
[]
[]
[]
[]
[]
[]
[]
[]
[]
[]
[]
[]
[]
[]
[]
[]
[]
[]
[]
[]
[]
[]
[]
[]
[]
[]
[]
[]
[]
[]
[]
[]
[]
[]
[]
[]
[]
[]
[]
[]
[]
[]
[]
[]
[]
[]
[]
[]
[]
[]
[]
[]
[]
[]
[]
[]
[]
[]
[]
[]
[]
[]
[]
[]
[]
[]
[]
[]
[]
[]
[]
[]
[]
[]
[]
[]
[]
[]
[]
[]
[]
[]
[]
[]
[]
[]
[]
[]
[]
[]
[]
[]
[]
[]
[]
[]
[]
[]
[]
[]
[]
[]
[]
[]
[]
[]
[]
[]
[]
[]
[]
[]
[]
[]
[]
[]
[]
[]
[]
[]
[]
[]
[]
[]
[]
[]
[]
[]
[]
[]
[]
[]
[]
[]
[]
[]
[]
[]
[]
[]
[]
[]
[]
[]
[]
[]
[]
[]
[]
[]
[]
[]
[]
[]
[]
[]
[]
[]
[]
[]
[]
[]
[]
[]
[]
[]
[]
[]
[]
[]
[]
[]
[]
[]
[]
[]
[]
[]
[]
[]
[]
[]
[]
[]
[]
[]
[]
[]
[]
[]
[]
[]
[]
[]
[]
[]
[]
[]
[]
[]
[]
[]
[]
[]
[]
[]
[]
[]
[]
[]
[]
[]
[]
[]
[]
[]
[]
[]
[]
[]
[]
[]
[]
[]
[]
[]
[]
[]
[]
[]
[]
[]
[]
[]
[]
[]
[]
[]
[]
[]
[]
[]
[]
[]
[]
[]
[]
[]
[]
[]
[]
[]
[]
[]
[]
[]
[]
[]
[]
[]
[]
[]
[]
[]
[]
[]
[]
[]
[]
[]
[]
[]
[]
[]
[]
[]
[]
[]
[]
[]
[]
[]
[]
[]
[]
[]
[]
[]
[]
[]
[]
[]
[]
[]
[]
[]
[]
[]
[]
[]
[]
[]
[]
[]
[]
[]
[]
[]
[]
[]
[]
[]
[]
[]
[]
[]
[]
[]
[]
[]
[]
[]
[]
[]
[]
[]
[]
[]
[]
[]
[]
[]
[]
[]
[]
[]
[]
[]
[]
[]
[]
[]
[]
[]
[]
[]
[]
[]
[]
[]
[]
[]
[]
[]
[]
[]
[]
[]
[]
[]
[]
[]
[]
[]
[]
[]
[]
[]
[]
[]
[]
[]
[]
[]
[]
[]
[]
[]
[]
[]
[]
[]
[]
[]
[]
[]
[]
[]
[]
[]
[]
[]
[]
[]
[]
[]
[]
[]
[]
[]
[]
[]
[]
[]
[]
[]
[]
[]
[]
[]
[]
[]
[]
[]
[]
[]
[]
[]
[]
[]
[]
[]
[]
[]
[]
[]
[]
[]
[]
[]
[]
[]
[]
[]
[]
[]
[]
[]
[]
[]
[]
[]
[]
[]
[]
[]
[]
[]
[]
[]
[]
[]
[]
[]
[]
[]
[]
[]
[]
[]
[]
[]
[]
[]
[]
[]
[]
[]
[]
[]
[]
[]
[]
[]
[]
[]
[]
[]
[]
[]
[null,null,null,null,null,null,null,null,null,null,null,null,null,null,null,null,null,null,null,null,null,null,null,null,null,null,null,null,null,null,null,null,null,null,null,null,null,null,{"$f":"IF(AM5<=$H1001, AM5, \"\")","v":2021},2022,2023,2024,"","","","","","","","","","","","","","","","","","","","","","","","","",""]
[null,null,null,null,null,null,null,{"$f":"IF(MONTH(NOW())<7, YEAR(NOW())-2, YEAR(NOW())-1)","v":2024}]

{"sheet":"STAT. TRANSFERS","index":7,"n_rows":1001,"n_cols":142,"rows_kept":1001,"cut":false,"hidden":false,"merged":[]}
[{"$f":"MAIN!$D$9","v":""},null,null,null,null,null,null,null,null,null,null,null,null,null,null,null,null,null,null,null,null,null,null,null,null,null,null,null,null,null,null,null,null,null,null,null,null,null,"Due to different legal basis, data prior to 2021 in this tool have no legal value and are only intended for data quality checks"]
["Cooperation Mechanisms - Statistical Transfers",null,null,null,null,null,null,null,null,null,null,null,null,null,null,null,null,null,null,null,null,null,null,null,null,null,null,null,null,null,null,null,null,null,null,null,null,null,"Please consult https://ec.europa.eu/eurostat/web/energy/data/shares for results up to 2020."]
["units: ktoe"]
[null,null,null,null,null,null,null,null,null,null,null,null,null,null,null,null,null,null,null,null,null,null,null,null,null,null,null,null,null,null,null,null,null,null,null,null,null,null,null,null,null,null,null,null,null,null,null,null,null,null,null,null,null,null,null,null,null,null,null,null,null,null,null,null,null,null,null,null,null,null,null,null,null,null,null,null,null,null,null,null,null,null,null,null,null,null,null,null,null,null,null,null,null,null,null,null,null,null,null,null,null,null,null,null,null,null,null,null,null,null,null,null,null,null,null,null,null,null,null,null,null,null,"*** DSD codes ***"]
[null,null,null,null,null,null,null,1990,1991,1992,1993,1994,1995,1996,1997,1998,1999,2000,2001,2002,2003,2004,2005,2006,2007,2008,2009,2010,2011,2012,2013,2014,2015,2016,2017,2018,2019,2020,2021,2022,2023,2024,2025,2026,2027,2028,2029,2030,2031,2032,2033,2034,2035,2036,2037,2038,2039,2040,2041,2042,2043,2044,2045,2046,2047,2048,2049,2050,null,null,null,null,null,null,null,null,null,null,null,null,null,null,null,null,null,null,null,null,null,null,null,null,null,null,null,null,null,null,null,null,null,null,null,null,null,null,null,null,null,null,null,null,null,null,null,null,null,null,null,null,null,null,"REF_AREA","ENERGY_PRODUCT","MAIN_FLOW","FLOW_BREAKDOWN","PLANT_TECH","PLANT_TYPE","STOCKS","INFRASTRUCTURE_IND","VIS_A_VIS_AREA","MEASURE_VALUE_TYPE","FACILITY_ID","UNIT_MEASURE",null,"Eurobase dataset","MDT","MDT","MDT","MDT","MDT","Formula for country aggregates (Agg.)"]
["Article 8 : Statistical transfers between Member States"]
["total renewable energy to be added:",null,null,null,null,null,null,0,0,0,0,0,0,0,0,0,0,0,0,0,0,0,0,0,0,0,0,0,0,0,0,0,0,0,0,0,0,0,0,0,0,0,0,0,0,0,0,0,0,0,0,0,0,0,0,0,0,0,0,0,0,0,0,0,0,0,0,0,null,null,null,null,null,null,null,null,null,null,null,null,null,null,null,null,null,null,null,null,null,null,null,null,null,null,null,null,null,null,null,null,null,null,null,null,null,null,null,null,null,null,null,null,null,null,null,null,null,null,null,null,null,null,null,"RA000","ST_JP_JSS","ST_MS_TAA","_Z","_Z","_Z","_Z","_Z","ENERGY","_Z","KTOE",null,"nrg_ind_stjpjss","TIMESERIES","RA000","ST_MS_TAA","_Z","KTOE","Agg.=SUM(countries)"]
["total renewable energy to be deducted:",null,null,null,null,null,null,0,0,0,0,0,0,0,0,0,0,0,0,0,0,0,0,0,0,0,0,0,0,0,0,0,0,0,0,0,0,0,0,0,0,0,0,0,0,0,0,0,0,0,0,0,0,0,0,0,0,0,0,0,0,0,0,0,0,0,0,0,null,null,null,null,null,null,null,null,null,null,null,null,null,null,null,null,null,null,null,null,null,null,null,null,null,null,null,null,null,null,null,null,null,null,null,null,null,null,null,null,null,null,null,null,null,null,null,null,null,null,null,null,null,null,null,"RA000","ST_JP_JSS","ST_MS_TAD","_Z","_Z","_Z","_Z","_Z","ENERGY","_Z","KTOE",null,"nrg_ind_stjpjss","TIMESERIES","RA000","ST_MS_TAD","_Z","KTOE","Agg.=SUM(countries)"]
[null,"of which transport"]
[null,null,"renewable energy to be added - transport:",null,null,null,null,null,null,null,null,null,null,null,null,null,null,null,null,null,null,0,0,0,0,0,0,0,0,0,0,0,0,0,0,0,0,0,0,0,0,0,0,0,0,0,0,0,0,0,0,0,0,0,0,0,0,0,0,0,0,0,0,0,0,0,0,0,null,null,null,null,null,null,null,null,null,null,null,null,null,null,null,null,null,null,null,null,null,null,null,null,null,null,null,null,null,null,null,null,null,null,null,null,null,null,null,null,null,null,null,null,null,null,null,null,null,null,null,null,null,null,null,"RA000","ST_JP_JSS","ST_MS_TRA_TAA","_Z","_Z","_Z","_Z","_Z","ENERGY","_Z","KTOE",null,"nrg_ind_stjpjss","TIMESERIES","RA000","ST_MS_TRA_TAA","_Z","KTOE","Agg.=SUM(countries)"]
[null,null,"renewable energy to be deducted - transport:",null,null,null,null,null,null,null,null,null,null,null,null,null,null,null,null,null,null,0,0,0,0,0,0,0,0,0,0,0,0,0,0,0,0,0,0,0,0,0,0,0,0,0,0,0,0,0,0,0,0,0,0,0,0,0,0,0,0,0,0,0,0,0,0,0,null,null,null,null,null,null,null,null,null,null,null,null,null,null,null,null,null,null,null,null,null,null,null,null,null,null,null,null,null,null,null,null,null,null,null,null,null,null,null,null,null,null,null,null,null,null,null,null,null,null,null,null,null,null,null,"RA000","ST_JP_JSS","ST_MS_TRA_TAD","_Z","_Z","_Z","_Z","_Z","ENERGY","_Z","KTOE",null,"nrg_ind_stjpjss","TIMESERIES","RA000","ST_MS_TRA_TAD","_Z","KTOE","Agg.=SUM(countries)"]
[null,null,"Total transport",null,null,null,null,null,null,null,null,null,null,null,null,null,null,null,null,null,null,{"$f":"V10-V11","v":0},0,0,0,0,0,0,0,{"$f":"AD10-AD11","v":0},{"$f":"AE10-AE11","v":0},0,0,0,0,0,0,0,0,0,0,0,0,0,0,0,0,0,0,0,0,0,0,0,0,0,0,0,0,0,0,0,0,0,0,0,0,0,null,null,null,null,null,null,null,null,null,null,null,null,null,null,null,null,null,null,null,null,null,null,null,null,null,null,null,null,null,null,null,null,null,null,null,null,null,null,null,null,null,null,null,null,null,null,null,null,null,null,null,null,null,null,null,"RA000","ST_JP_JSS","ST_MS_TRA","_Z","_Z","_Z","_Z","_Z","ENERGY","_Z","KTOE",null,"nrg_ind_stjpjss","TIMESERIES","RA000","ST_MS_TRA","_Z","KTOE","COUNTRY AGGREGATE IS NOT CALCULATED"]
["Total Article 8",null,null,null,null,null,null,0,0,0,0,0,0,0,0,0,0,0,0,0,0,0,0,0,0,0,0,0,0,{"$f":"AD7-AD8","v":0},0,0,0,0,0,0,0,0,{"$f":"AM7-AM8","v":0},0,0,0,0,0,0,0,0,0,0,0,0,0,0,0,0,0,0,0,0,0,0,0,0,0,0,0,0,0,null,null,null,null,null,null,null,null,null,null,null,null,null,null,null,null,null,null,null,null,null,null,null,null,null,null,null,null,null,null,null,null,null,null,null,null,null,null,null,null,null,null,null,null,null,null,null,null,null,null,null,null,null,null,null,"RA000","ST_JP_JSS","ST_MS","_Z","_Z","_Z","_Z","_Z","ENERGY","_Z","KTOE",null,"nrg_ind_stjpjss","TIMESERIES","RA000","ST_MS","_Z","KTOE","COUNTRY AGGREGATE IS NOT CALCULATED"]
[]
["Articles 9 & 10 : Joint projects between Member States"]
[null,"electricity",null,null,null,null,null,0,0,0,0,0,0,0,0,0,0,0,0,0,0,0,0,0,0,0,0,0,0,{"$f":"AD17-AD18","v":0},0,0,0,0,0,0,0,0,{"$f":"AM17-AM18","v":0},0,0,0,0,0,0,0,0,0,0,0,0,0,0,0,0,0,0,0,0,0,0,0,0,0,0,0,0,0,null,null,null,null,null,null,null,null,null,null,null,null,null,null,null,null,null,null,null,null,null,null,null,null,null,null,null,null,null,null,null,null,null,null,null,null,null,null,null,null,null,null,null,null,null,null,null,null,null,null,null,null,null,null,null,"RA000","ST_JP_JSS","JP_MS_ELC","_Z","_Z","_Z","_Z","_Z","ENERGY","_Z","KTOE",null,"nrg_ind_stjpjss","TIMESERIES","RA000","JP_MS_ELC","_Z","KTOE","COUNTRY AGGREGATE IS NOT CALCULATED"]
[null,null,"total renewable energy to be added:",null,null,null,null,0,0,0,0,0,0,0,0,0,0,0,0,0,0,0,0,0,0,0,0,0,0,0,0,0,0,0,0,0,0,0,0,0,0,0,0,0,0,0,0,0,0,0,0,0,0,0,0,0,0,0,0,0,0,0,0,0,0,0,0,0,null,null,null,null,null,null,null,null,null,null,null,null,null,null,null,null,null,null,null,null,null,null,null,null,null,null,null,null,null,null,null,null,null,null,null,null,null,null,null,null,null,null,null,null,null,null,null,null,null,null,null,null,null,null,null,"RA000","ST_JP_JSS","JP_MS_ELC_TAA","_Z","_Z","_Z","_Z","_Z","ENERGY","_Z","KTOE",null,"nrg_ind_stjpjss","TIMESERIES","RA000","JP_MS_ELC_TAA","_Z","KTOE","Agg.=SUM(countries)"]
[null,null,"total renewable energy to be deducted:",null,null,null,null,0,0,0,0,0,0,0,0,0,0,0,0,0,0,0,0,0,0,0,0,0,0,0,0,0,0,0,0,0,0,0,0,0,0,0,0,0,0,0,0,0,0,0,0,0,0,0,0,0,0,0,0,0,0,0,0,0,0,0,0,0,null,null,null,null,null,null,null,null,null,null,null,null,null,null,null,null,null,null,null,null,null,null,null,null,null,null,null,null,null,null,null,null,null,null,null,null,null,null,null,null,null,null,null,null,null,null,null,null,null,null,null,null,null,null,null,"RA000","ST_JP_JSS","JP_MS_ELC_TAD","_Z","_Z","_Z","_Z","_Z","ENERGY","_Z","KTOE",null,"nrg_ind_stjpjss","TIMESERIES","RA000","JP_MS_ELC_TAD","_Z","KTOE","Agg.=SUM(countries)"]
[null,"heating & cooling",null,null,null,null,null,0,0,0,0,0,0,0,0,0,0,0,0,0,0,0,0,0,0,0,0,0,0,{"$f":"AD20-AD21","v":0},0,0,0,0,0,0,0,0,{"$f":"AM20-AM21","v":0},0,0,0,0,0,0,0,0,0,0,0,0,0,0,0,0,0,0,0,0,0,0,0,0,0,0,0,0,0,null,null,null,null,null,null,null,null,null,null,null,null,null,null,null,null,null,null,null,null,null,null,null,null,null,null,null,null,null,null,null,null,null,null,null,null,null,null,null,null,null,null,null,null,null,null,null,null,null,null,null,null,null,null,null,"RA000","ST_JP_JSS","JP_MS_HEAT_CL","_Z","_Z","_Z","_Z","_Z","ENERGY","_Z","KTOE",null,"nrg_ind_stjpjss","TIMESERIES","RA000","JP_MS_HEAT_CL","_Z","KTOE","COUNTRY AGGREGATE IS NOT CALCULATED"]
[null,null,"total renewable energy to be added:",null,null,null,null,0,0,0,0,0,0,0,0,0,0,0,0,0,0,0,0,0,0,0,0,0,0,0,0,0,0,0,0,0,0,0,0,0,0,0,0,0,0,0,0,0,0,0,0,0,0,0,0,0,0,0,0,0,0,0,0,0,0,0,0,0,null,null,null,null,null,null,null,null,null,null,null,null,null,null,null,null,null,null,null,null,null,null,null,null,null,null,null,null,null,null,null,null,null,null,null,null,null,null,null,null,null,null,null,null,null,null,null,null,null,null,null,null,null,null,null,"RA000","ST_JP_JSS","JP_MS_HEAT_CL_TAA","_Z","_Z","_Z","_Z","_Z","ENERGY","_Z","KTOE",null,"nrg_ind_stjpjss","TIMESERIES","RA000","JP_MS_HEAT_CL_TAA","_Z","KTOE","Agg.=SUM(countries)"]
[null,null,"total renewable energy to be deducted:",null,null,null,null,0,0,0,0,0,0,0,0,0,0,0,0,0,0,0,0,0,0,0,0,0,0,0,0,0,0,0,0,0,0,0,0,0,0,0,0,0,0,0,0,0,0,0,0,0,0,0,0,0,0,0,0,0,0,0,0,0,0,0,0,0,null,null,null,null,null,null,null,null,null,null,null,null,null,null,null,null,null,null,null,null,null,null,null,null,null,null,null,null,null,null,null,null,null,null,null,null,null,null,null,null,null,null,null,null,null,null,null,null,null,null,null,null,null,null,null,"RA000","ST_JP_JSS","JP_MS_HEAT_CL_TAD","_Z","_Z","_Z","_Z","_Z","ENERGY","_Z","KTOE",null,"nrg_ind_stjpjss","TIMESERIES","RA000","JP_MS_HEAT_CL_TAD","_Z","KTOE","Agg.=SUM(countries)"]
[]
[]
["Articles 11 & 12 : Joint projects between Member States and third countries"]
[null,"electricity",null,null,null,null,null,0,0,0,0,0,0,0,0,0,0,0,0,0,0,0,0,0,0,0,0,0,0,{"$f":"AD26-AD27","v":0},0,0,0,0,0,0,0,0,{"$f":"AM26-AM27","v":0},0,0,0,0,0,0,0,0,0,0,0,0,0,0,0,0,0,0,0,0,0,0,0,0,0,0,0,0,0,null,null,null,null,null,null,null,null,null,null,null,null,null,null,null,null,null,null,null,null,null,null,null,null,null,null,null,null,null,null,null,null,null,null,null,null,null,null,null,null,null,null,null,null,null,null,null,null,null,null,null,null,null,null,null,"RA000","ST_JP_JSS","JP_MS_THRD_ELC","_Z","_Z","_Z","_Z","_Z","ENERGY","_Z","KTOE",null,"nrg_ind_stjpjss","TIMESERIES","RA000","JP_MS_THRD_ELC","_Z","KTOE","COUNTRY AGGREGATE IS NOT CALCULATED"]
[null,null,"total renewable energy to be added:",null,null,null,null,0,0,0,0,0,0,0,0,0,0,0,0,0,0,0,0,0,0,0,0,0,0,0,0,0,0,0,0,0,0,0,0,0,0,0,0,0,0,0,0,0,0,0,0,0,0,0,0,0,0,0,0,0,0,0,0,0,0,0,0,0,null,null,null,null,null,null,null,null,null,null,null,null,null,null,null,null,null,null,null,null,null,null,null,null,null,null,null,null,null,null,null,null,null,null,null,null,null,null,null,null,null,null,null,null,null,null,null,null,null,null,null,null,null,null,null,"RA000","ST_JP_JSS","JP_MS_THRD_ELC_TAA","_Z","_Z","_Z","_Z","_Z","ENERGY","_Z","KTOE",null,"nrg_ind_stjpjss","TIMESERIES","RA000","JP_MS_THRD_ELC_TAA","_Z","KTOE","Agg.=SUM(countries)"]
[null,null,"total renewable energy to be deducted:",null,null,null,null,0,0,0,0,0,0,0,0,0,0,0,0,0,0,0,0,0,0,0,0,0,0,0,0,0,0,0,0,0,0,0,0,0,0,0,0,0,0,0,0,0,0,0,0,0,0,0,0,0,0,0,0,0,0,0,0,0,0,0,0,0,null,null,null,null,null,null,null,null,null,null,null,null,null,null,null,null,null,null,null,null,null,null,null,null,null,null,null,null,null,null,null,null,null,null,null,null,null,null,null,null,null,null,null,null,null,null,null,null,null,null,null,null,null,null,null,"RA000","ST_JP_JSS","JP_MS_THRD_ELC_TAD","_Z","_Z","_Z","_Z","_Z","ENERGY","_Z","KTOE",null,"nrg_ind_stjpjss","TIMESERIES","RA000","JP_MS_THRD_ELC_TAD","_Z","KTOE","Agg.=SUM(countries)"]
[]
["Article 13: Joint support schemes"]
["only with respect to pragraph 1.(b) \"distribution rule\""]
[null,"electricity",null,null,null,null,null,0,0,0,0,0,0,0,0,0,0,0,0,0,0,0,0,0,0,0,0,0,0,{"$f":"AD32-AD33","v":0},0,0,0,0,0,0,0,0,{"$f":"AM32-AM33","v":0},0,0,0,0,0,0,0,0,0,0,0,0,0,0,0,0,0,0,0,0,0,0,0,0,0,0,0,0,0,null,null,null,null,null,null,null,null,null,null,null,null,null,null,null,null,null,null,null,null,null,null,null,null,null,null,null,null,null,null,null,null,null,null,null,null,null,null,null,null,null,null,null,null,null,null,null,null,null,null,null,null,null,null,null,"RA000","ST_JP_JSS","JSS_ELC","_Z","_Z","_Z","_Z","_Z","ENERGY","_Z","KTOE",null,"nrg_ind_stjpjss","TIMESERIES","RA000","JSS_ELC","_Z","KTOE","COUNTRY AGGREGATE IS NOT CALCULATED"]
[null,null,"total renewable energy to be added:",null,null,null,null,0,0,0,0,0,0,0,0,0,0,0,0,0,0,0,0,0,0,0,0,0,0,0,0,0,0,0,0,0,0,0,0,0,0,0,0,0,0,0,0,0,0,0,0,0,0,0,0,0,0,0,0,0,0,0,0,0,0,0,0,0,null,null,null,null,null,null,null,null,null,null,null,null,null,null,null,null,null,null,null,null,null,null,null,null,null,null,null,null,null,null,null,null,null,null,null,null,null,null,null,null,null,null,null,null,null,null,null,null,null,null,null,null,null,null,null,"RA000","ST_JP_JSS","JSS_ELC_TAA","_Z","_Z","_Z","_Z","_Z","ENERGY","_Z","KTOE",null,"nrg_ind_stjpjss","TIMESERIES","RA000","JSS_ELC_TAA","_Z","KTOE","Agg.=SUM(countries)"]
[null,null,"total renewable energy to be deducted:",null,null,null,null,0,0,0,0,0,0,0,0,0,0,0,0,0,0,0,0,0,0,0,0,0,0,0,0,0,0,0,0,0,0,0,0,0,0,0,0,0,0,0,0,0,0,0,0,0,0,0,0,0,0,0,0,0,0,0,0,0,0,0,0,0,null,null,null,null,null,null,null,null,null,null,null,null,null,null,null,null,null,null,null,null,null,null,null,null,null,null,null,null,null,null,null,null,null,null,null,null,null,null,null,null,null,null,null,null,null,null,null,null,null,null,null,null,null,null,null,"RA000","ST_JP_JSS","JSS_ELC_TAD","_Z","_Z","_Z","_Z","_Z","ENERGY","_Z","KTOE",null,"nrg_ind_stjpjss","TIMESERIES","RA000","JSS_ELC_TAD","_Z","KTOE","Agg.=SUM(countries)"]
[null,"heating & cooling",null,null,null,null,null,0,0,0,0,0,0,0,0,0,0,0,0,0,0,0,0,0,0,0,0,0,0,{"$f":"AD35-AD36","v":0},0,0,0,0,0,0,0,0,{"$f":"AM35-AM36","v":0},0,0,0,0,0,0,0,0,0,0,0,0,0,0,0,0,0,0,0,0,0,0,0,0,0,0,0,0,0,null,null,null,null,null,null,null,null,null,null,null,null,null,null,null,null,null,null,null,null,null,null,null,null,null,null,null,null,null,null,null,null,null,null,null,null,null,null,null,null,null,null,null,null,null,null,null,null,null,null,null,null,null,null,null,"RA000","ST_JP_JSS","JSS_HEAT_CL","_Z","_Z","_Z","_Z","_Z","ENERGY","_Z","KTOE",null,"nrg_ind_stjpjss","TIMESERIES","RA000","JSS_HEAT_CL","_Z","KTOE","COUNTRY AGGREGATE IS NOT CALCULATED"]
[null,null,"total renewable energy to be added:",null,null,null,null,0,0,0,0,0,0,0,0,0,0,0,0,0,0,0,0,0,0,0,0,0,0,0,0,0,0,0,0,0,0,0,0,0,0,0,0,0,0,0,0,0,0,0,0,0,0,0,0,0,0,0,0,0,0,0,0,0,0,0,0,0,null,null,null,null,null,null,null,null,null,null,null,null,null,null,null,null,null,null,null,null,null,null,null,null,null,null,null,null,null,null,null,null,null,null,null,null,null,null,null,null,null,null,null,null,null,null,null,null,null,null,null,null,null,null,null,"RA000","ST_JP_JSS","JSS_HEAT_CL_TAA","_Z","_Z","_Z","_Z","_Z","ENERGY","_Z","KTOE",null,"nrg_ind_stjpjss","TIMESERIES","RA000","JSS_HEAT_CL_TAA","_Z","KTOE","Agg.=SUM(countries)"]
[null,null,"total renewable energy to be deducted:",null,null,null,null,0,0,0,0,0,0,0,0,0,0,0,0,0,0,0,0,0,0,0,0,0,0,0,0,0,0,0,0,0,0,0,0,0,0,0,0,0,0,0,0,0,0,0,0,0,0,0,0,0,0,0,0,0,0,0,0,0,0,0,0,0,null,null,null,null,null,null,null,null,null,null,null,null,null,null,null,null,null,null,null,null,null,null,null,null,null,null,null,null,null,null,null,null,null,null,null,null,null,null,null,null,null,null,null,null,null,null,null,null,null,null,null,null,null,null,null,"RA000","ST_JP_JSS","JSS_HEAT_CL_TAD","_Z","_Z","_Z","_Z","_Z","ENERGY","_Z","KTOE",null,"nrg_ind_stjpjss","TIMESERIES","RA000","JSS_HEAT_CL_TAD","_Z","KTOE","Agg.=SUM(countries)"]
[]
[]
[]
[]
[]
[]
[]
[]
[]
[]
[]
[]
[]
[]
[]
[]
[]
[]
[]
[]
[]
[]
[]
[]
[]
[]
[]
[]
[]
[]
[]
[]
[]
[]
[]
[]
[]
[]
[]
[]
[]
[]
[]
[]
[]
[]
[]
[]
[]
[]
[]
[]
[]
[]
[]
[]
[]
[]
[]
[]
[]
[]
[]
[]
[]
[]
[]
[]
[]
[]
[]
[]
[]
[]
[]
[]
[]
[]
[]
[]
[]
[]
[]
[]
[]
[]
[]
[]
[]
[]
[]
[]
[]
[]
[]
[]
[]
[]
[]
[]
[]
[]
[]
[]
[]
[]
[]
[]
[]
[]
[]
[]
[]
[]
[]
[]
[]
[]
[]
[]
[]
[]
[]
[]
[]
[]
[]
[]
[]
[]
[]
[]
[]
[]
[]
[]
[]
[]
[]
[]
[]
[]
[]
[]
[]
[]
[]
[]
[]
[]
[]
[]
[]
[]
[]
[]
[]
[]
[]
[]
[]
[]
[]
[]
[]
[]
[]
[]
[]
[]
[]
[]
[]
[]
[]
[]
[]
[]
[]
[]
[]
[]
[]
[]
[]
[]
[]
[]
[]
[]
[]
[]
[]
[]
[]
[]
[]
[]
[]
[]
[]
[]
[]
[]
[]
[]
[]
[]
[]
[]
[]
[]
[]
[]
[]
[]
[]
[]
[]
[]
[]
[]
[]
[]
[]
[]
[]
[]
[]
[]
[]
[]
[]
[]
[]
[]
[]
[]
[]
[]
[]
[]
[]
[]
[]
[]
[]
[]
[]
[]
[]
[]
[]
[]
[]
[]
[]
[]
[]
[]
[]
[]
[]
[]
[]
[]
[]
[]
[]
[]
[]
[]
[]
[]
[]
[]
[]
[]
[]
[]
[]
[]
[]
[]
[]
[]
[]
[]
[]
[]
[]
[]
[]
[]
[]
[]
[]
[]
[]
[]
[]
[]
[]
[]
[]
[]
[]
[]
[]
[]
[]
[]
[]
[]
[]
[]
[]
[]
[]
[]
[]
[]
[]
[]
[]
[]
[]
[]
[]
[]
[]
[]
[]
[]
[]
[]
[]
[]
[]
[]
[]
[]
[]
[]
[]
[]
[]
[]
[]
[]
[]
[]
[]
[]
[]
[]
[]
[]
[]
[]
[]
[]
[]
[]
[]
[]
[]
[]
[]
[]
[]
[]
[]
[]
[]
[]
[]
[]
[]
[]
[]
[]
[]
[]
[]
[]
[]
[]
[]
[]
[]
[]
[]
[]
[]
[]
[]
[]
[]
[]
[]
[]
[]
[]
[]
[]
[]
[]
[]
[]
[]
[]
[]
[]
[]
[]
[]
[]
[]
[]
[]
[]
[]
[]
[]
[]
[]
[]
[]
[]
[]
[]
[]
[]
[]
[]
[]
[]
[]
[]
[]
[]
[]
[]
[]
[]
[]
[]
[]
[]
[]
[]
[]
[]
[]
[]
[]
[]
[]
[]
[]
[]
[]
[]
[]
[]
[]
[]
[]
[]
[]
[]
[]
[]
[]
[]
[]
[]
[]
[]
[]
[]
[]
[]
[]
[]
[]
[]
[]
[]
[]
[]
[]
[]
[]
[]
[]
[]
[]
[]
[]
[]
[]
[]
[]
[]
[]
[]
[]
[]
[]
[]
[]
[]
[]
[]
[]
[]
[]
[]
[]
[]
[]
[]
[]
[]
[]
[]
[]
[]
[]
[]
[]
[]
[]
[]
[]
[]
[]
[]
[]
[]
[]
[]
[]
[]
[]
[]
[]
[]
[]
[]
[]
[]
[]
[]
[]
[]
[]
[]
[]
[]
[]
[]
[]
[]
[]
[]
[]
[]
[]
[]
[]
[]
[]
[]
[]
[]
[]
[]
[]
[]
[]
[]
[]
[]
[]
[]
[]
[]
[]
[]
[]
[]
[]
[]
[]
[]
[]
[]
[]
[]
[]
[]
[]
[]
[]
[]
[]
[]
[]
[]
[]
[]
[]
[]
[]
[]
[]
[]
[]
[]
[]
[]
[]
[]
[]
[]
[]
[]
[]
[]
[]
[]
[]
[]
[]
[]
[]
[]
[]
[]
[]
[]
[]
[]
[]
[]
[]
[]
[]
[]
[]
[]
[]
[]
[]
[]
[]
[]
[]
[]
[]
[]
[]
[]
[]
[]
[]
[]
[]
[]
[]
[]
[]
[]
[]
[]
[]
[]
[]
[]
[]
[]
[]
[]
[]
[]
[]
[]
[]
[]
[]
[]
[]
[]
[]
[]
[]
[]
[]
[]
[]
[]
[]
[]
[]
[]
[]
[]
[]
[]
[]
[]
[]
[]
[]
[]
[]
[]
[]
[]
[]
[]
[]
[]
[]
[]
[]
[]
[]
[]
[]
[]
[]
[]
[]
[]
[]
[]
[]
[]
[]
[]
[]
[]
[]
[]
[]
[]
[]
[]
[]
[]
[]
[]
[]
[]
[]
[]
[]
[]
[]
[]
[]
[]
[]
[]
[]
[]
[]
[]
[]
[]
[]
[]
[]
[]
[]
[]
[]
[]
[]
[]
[]
[]
[]
[]
[]
[]
[]
[]
[]
[]
[]
[]
[]
[]
[]
[]
[]
[]
[]
[]
[]
[]
[]
[]
[]
[]
[]
[]
[]
[]
[]
[]
[]
[]
[]
[]
[]
[]
[]
[]
[]
[]
[]
[]
[]
[]
[]
[]
[]
[]
[]
[]
[]
[]
[]
[]
[]
[]
[]
[]
[]
[]
[]
[]
[]
[]
[]
[]
[]
[]
[]
[]
[]
[]
[]
[]
[]
[]
[]
[]
[]
[]
[]
[]
[]
[]
[]
[]
[]
[]
[]
[]
[]
[]
[]
[]
[]
[]
[]
[]
[]
[]
[]
[]
[]
[]
[]
[]
[]
[]
[]
[]
[]
[]
[]
[]
[]
[]
[]
[]
[]
[]
[]
[]
[]
[]
[]
[]
[]
[]
[]
[]
[]
[]
[]
[]
[]
[]
[]
[]
[]
[]
[]
[]
[]
[]
[]
[]
[]
[]
[]
[]
[]
[]
[]
[]
[]
[]
[]
[]
[]
[]
[]
[]
[]
[]
[]
[]
[]
[]
[]
[]
[]
[]
[]
[]
[]
[]
[]
[null,null,null,null,null,null,null,null,null,null,null,null,null,null,null,null,null,null,null,null,null,null,null,null,null,null,null,null,null,null,null,null,null,null,null,null,null,null,{"$f":"IF(AM5<=$H1001, AM5, \"\")","v":2021},2022,2023,2024,"","","","","","","","","","","","","","","","","","","","","","","","","",""]
[null,null,null,null,null,null,null,{"$f":"IF(MONTH(NOW())<7, YEAR(NOW())-2, YEAR(NOW())-1)","v":2024}]

{"sheet":"COAL","index":8,"n_rows":1001,"n_cols":141,"rows_kept":1001,"cut":false,"hidden":false,"merged":[]}
["IMPORT","QUEST","PRODUCT","DATATYPE","ITEM1","ITEM2",null,null,null,null,null,null,null,null,null,null,null,null,null,null,null,null,null,null,null,null,null,null,null,null,null,null,null,null,null,null,null,null,"Due to different legal basis, data prior to 2021 in this tool have no legal value and are only intended for data quality checks"]
[null,null,null,null,null,null,null,null,null,null,null,null,null,null,null,null,null,null,null,null,null,null,null,null,null,null,null,null,null,null,null,null,null,null,null,null,null,null,"Please consult https://ec.europa.eu/eurostat/web/energy/data/shares for results up to 2020."]
["TIME",null,null,null,null,null,null,1990,1991,1992,1993,1994,1995,1996,1997,1998,1999,2000,2001,2002,2003,2004,2005,2006,2007,2008,2009,2010,2011,2012,2013,2014,2015,2016,2017,2018,2019,2020,2021,2022,2023,2024,2025,2026,2027,2028,2029,2030,2031,2032,2033,2034,2035,2036,2037,2038,2039,2040,2041,2042,2043,2044,2045,2046,2047,2048,2049,2050]
[null,null,null,null,null,null,"TOTAL GFCoE [ktoe]",{"$f":"(SUMPRODUCT(H112:H128,H169:H185)+SUMPRODUCT(H131:H147,H188:H204)+SUMPRODUCT(H150:H166,H207:H223)-(H226+H227)*1000+SUMPRODUCT(H150:H166,H230:H246))/41868","v":0},0,0,0,0,0,0,0,0,0,0,0,0,0,0,0,{"$f":"(SUMPRODUCT(X112:X128,X169:X185)+SUMPRODUCT(X131:X147,X188:X204)+SUMPRODUCT(X150:X166,X207:X223)-(X226+X227)*1000+SUMPRODUCT(X150:X166,X230:X246))/41868","v":0},0,0,0,0,{"$f":"(SUMPRODUCT(AC112:AC128,AC169:AC185)+SUMPRODUCT(AC131:AC147,AC188:AC204)+SUMPRODUCT(AC150:AC166,AC207:AC223)-(AC226+AC227)*1000+SUMPRODUCT(AC150:AC166,AC230:AC246))/41868","v":0},0,0,0,0,0,0,0,0,{"$f":"(SUMPRODUCT(AL112:AL128,AL169:AL185)+SUMPRODUCT(AL131:AL147,AL188:AL204)+SUMPRODUCT(AL150:AL166,AL207:AL223)-(AL226+AL227)*1000+SUMPRODUCT(AL150:AL166,AL230:AL246))/41868","v":0},{"$f":"(SUMPRODUCT(AM112:AM128,AM169:AM185)+SUMPRODUCT(AM131:AM147,AM188:AM204)+SUMPRODUCT(AM150:AM166,AM207:AM223)-(AM226+AM227)*1000+SUMPRODUCT(AM150:AM166,AM230:AM246))/41868","v":0},0,0,0,0,0,0,0,0,0,0,0,0,0,0,0,0,0,0,0,0,0,0,0,0,0,0,0,0,0,null,null,null,null,null,null,null,null,null,null,null,null,null,null,null,null,null,null,null,null,null,null,null,null,null,null,null,null,null,null,null,null,null,null,null,null,null,null,null,null,null,null,null,null,null,null,null,null,null,null,null,null,null,null,"*** DSD codes ***"]
[null,null,null,null,null,null,null,null,null,null,null,null,null,null,null,null,null,null,null,null,null,null,null,null,null,null,null,null,null,null,null,null,null,null,null,null,null,null,null,null,null,null,null,null,null,null,null,null,null,null,null,null,null,null,null,null,null,null,null,null,null,null,null,null,null,null,null,null,null,null,null,null,null,null,null,null,null,null,null,null,null,null,null,null,null,null,null,null,null,null,null,null,null,null,null,null,null,null,null,null,null,null,null,null,null,null,null,null,null,null,null,null,null,null,null,null,null,null,null,null,null,null,"REF_AREA","ENERGY_PRODUCT","MAIN_FLOW","FLOW_BREAKDOWN","PLANT_TECH","PLANT_TYPE","STOCKS","INFRASTRUCTURE_IND","VIS_A_VIS_AREA","MEASURE_VALUE_TYPE","FACILITY_ID","UNIT_MEASURE",null,null,"Eurobase table name","Regio","Unit","Eurobase Dim1","Eurobase Dim2"]
[null,null,null,null,null,null,"Net calorific values - Used in blast furnaces"]
[null,"COAL","ANTCOAL","FLOW","NBLAST",null,"Anthracite",null,null,null,null,null,null,null,null,null,null,null,null,null,null,null,null,null,null,null,null,null,null,null,null,null,null,null,null,null,null,null,null,null,null,null,null,null,null,null,null,null,null,null,null,null,null,null,null,null,null,null,null,null,null,null,null,null,null,null,null,null,null,null,null,null,null,null,null,null,null,null,null,null,null,null,null,null,null,null,null,null,null,null,null,null,null,null,null,null,null,null,null,null,null,null,null,null,null,null,null,null,null,null,null,null,null,null,null,null,null,null,null,null,null,"FLOW-ANTCOAL-NBLAST-",null,"C0110","TRANSFOR","BLASTFUR","_Z","_Z","_Z","_Z","_Z","NCV","_Z","MJ_T"]
[null,"COAL","COKCOAL","FLOW","NBLAST",null,"Coking coal",null,null,null,null,null,null,null,null,null,null,null,null,null,null,null,null,null,null,null,null,null,null,null,null,null,null,null,null,null,null,null,null,null,null,null,null,null,null,null,null,null,null,null,null,null,null,null,null,null,null,null,null,null,null,null,null,null,null,null,null,null,null,null,null,null,null,null,null,null,null,null,null,null,null,null,null,null,null,null,null,null,null,null,null,null,null,null,null,null,null,null,null,null,null,null,null,null,null,null,null,null,null,null,null,null,null,null,null,null,null,null,null,null,null,"FLOW-COKCOAL-NBLAST-",null,"C0121","TRANSFOR","BLASTFUR","_Z","_Z","_Z","_Z","_Z","NCV","_Z","MJ_T"]
[null,"COAL","BITCOAL","FLOW","NBLAST",null,"Other bituminous coal",null,null,null,null,null,null,null,null,null,null,null,null,null,null,null,null,null,null,null,null,null,null,null,null,null,null,null,null,null,null,null,null,null,null,null,null,null,null,null,null,null,null,null,null,null,null,null,null,null,null,null,null,null,null,null,null,null,null,null,null,null,null,null,null,null,null,null,null,null,null,null,null,null,null,null,null,null,null,null,null,null,null,null,null,null,null,null,null,null,null,null,null,null,null,null,null,null,null,null,null,null,null,null,null,null,null,null,null,null,null,null,null,null,null,"FLOW-BITCOAL-NBLAST-",null,"C0129","TRANSFOR","BLASTFUR","_Z","_Z","_Z","_Z","_Z","NCV","_Z","MJ_T"]
[null,"COAL","SUBCOAL","FLOW","NBLAST",null,"Sub-bituminous coal",null,null,null,null,null,null,null,null,null,null,null,null,null,null,null,null,null,null,null,null,null,null,null,null,null,null,null,null,null,null,null,null,null,null,null,null,null,null,null,null,null,null,null,null,null,null,null,null,null,null,null,null,null,null,null,null,null,null,null,null,null,null,null,null,null,null,null,null,null,null,null,null,null,null,null,null,null,null,null,null,null,null,null,null,null,null,null,null,null,null,null,null,null,null,null,null,null,null,null,null,null,null,null,null,null,null,null,null,null,null,null,null,null,null,"FLOW-SUBCOAL-NBLAST-",null,"C0210","TRANSFOR","BLASTFUR","_Z","_Z","_Z","_Z","_Z","NCV","_Z","MJ_T"]
[null,"COAL","LIGNITE","FLOW","NBLAST",null,"Lignite",null,null,null,null,null,null,null,null,null,null,null,null,null,null,null,null,null,null,null,null,null,null,null,null,null,null,null,null,null,null,null,null,null,null,null,null,null,null,null,null,null,null,null,null,null,null,null,null,null,null,null,null,null,null,null,null,null,null,null,null,null,null,null,null,null,null,null,null,null,null,null,null,null,null,null,null,null,null,null,null,null,null,null,null,null,null,null,null,null,null,null,null,null,null,null,null,null,null,null,null,null,null,null,null,null,null,null,null,null,null,null,null,null,null,"FLOW-LIGNITE-NBLAST-",null,"C0220","TRANSFOR","BLASTFUR","_Z","_Z","_Z","_Z","_Z","NCV","_Z","MJ_T"]
[null,"COAL","PATFUEL","FLOW","NBLAST",null,"Patent fuel",null,null,null,null,null,null,null,null,null,null,null,null,null,null,null,null,null,null,null,null,null,null,null,null,null,null,null,null,null,null,null,null,null,null,null,null,null,null,null,null,null,null,null,null,null,null,null,null,null,null,null,null,null,null,null,null,null,null,null,null,null,null,null,null,null,null,null,null,null,null,null,null,null,null,null,null,null,null,null,null,null,null,null,null,null,null,null,null,null,null,null,null,null,null,null,null,null,null,null,null,null,null,null,null,null,null,null,null,null,null,null,null,null,null,"FLOW-PATFUEL-NBLAST-",null,"C0320","TRANSFOR","BLASTFUR","_Z","_Z","_Z","_Z","_Z","NCV","_Z","MJ_T"]
[null,"COAL","OVENCOKE","FLOW","NBLAST",null,"Coke Oven Coke",null,null,null,null,null,null,null,null,null,null,null,null,null,null,null,null,null,null,null,null,null,null,null,null,null,null,null,null,null,null,null,null,null,null,null,null,null,null,null,null,null,null,null,null,null,null,null,null,null,null,null,null,null,null,null,null,null,null,null,null,null,null,null,null,null,null,null,null,null,null,null,null,null,null,null,null,null,null,null,null,null,null,null,null,null,null,null,null,null,null,null,null,null,null,null,null,null,null,null,null,null,null,null,null,null,null,null,null,null,null,null,null,null,null,"FLOW-OVENCOKE-NBLAST-",null,"C0311","TRANSFOR","BLASTFUR","_Z","_Z","_Z","_Z","_Z","NCV","_Z","MJ_T"]
[null,"COAL","GASCOKE","FLOW","NBLAST",null,"Gas Coke",null,null,null,null,null,null,null,null,null,null,null,null,null,null,null,null,null,null,null,null,null,null,null,null,null,null,null,null,null,null,null,null,null,null,null,null,null,null,null,null,null,null,null,null,null,null,null,null,null,null,null,null,null,null,null,null,null,null,null,null,null,null,null,null,null,null,null,null,null,null,null,null,null,null,null,null,null,null,null,null,null,null,null,null,null,null,null,null,null,null,null,null,null,null,null,null,null,null,null,null,null,null,null,null,null,null,null,null,null,null,null,null,null,null,"FLOW-GASCOKE-NBLAST-",null,"C0312","TRANSFOR","BLASTFUR","_Z","_Z","_Z","_Z","_Z","NCV","_Z","MJ_T"]
[null,"COAL","COALTAR","FLOW","NBLAST",null,"Coal tar",null,null,null,null,null,null,null,null,null,null,null,null,null,null,null,null,null,null,null,null,null,null,null,null,null,null,null,null,null,null,null,null,null,null,null,null,null,null,null,null,null,null,null,null,null,null,null,null,null,null,null,null,null,null,null,null,null,null,null,null,null,null,null,null,null,null,null,null,null,null,null,null,null,null,null,null,null,null,null,null,null,null,null,null,null,null,null,null,null,null,null,null,null,null,null,null,null,null,null,null,null,null,null,null,null,null,null,null,null,null,null,null,null,null,"FLOW-COALTAR-NBLAST-",null,"C0340","TRANSFOR","BLASTFUR","_Z","_Z","_Z","_Z","_Z","NCV","_Z","MJ_T"]
[null,"COAL","BKB","FLOW","NBLAST",null,"BKB",null,null,null,null,null,null,null,null,null,null,null,null,null,null,null,null,null,null,null,null,null,null,null,null,null,null,null,null,null,null,null,null,null,null,null,null,null,null,null,null,null,null,null,null,null,null,null,null,null,null,null,null,null,null,null,null,null,null,null,null,null,null,null,null,null,null,null,null,null,null,null,null,null,null,null,null,null,null,null,null,null,null,null,null,null,null,null,null,null,null,null,null,null,null,null,null,null,null,null,null,null,null,null,null,null,null,null,null,null,null,null,null,null,null,"FLOW-BKB-NBLAST-",null,"C0330","TRANSFOR","BLASTFUR","_Z","_Z","_Z","_Z","_Z","NCV","_Z","MJ_T"]
[null,"COAL","PEAT","FLOW","NBLAST",null,"Peat",null,null,null,null,null,null,null,null,null,null,null,null,null,null,null,null,null,null,null,null,null,null,null,null,null,null,null,null,null,null,null,null,null,null,null,null,null,null,null,null,null,null,null,null,null,null,null,null,null,null,null,null,null,null,null,null,null,null,null,null,null,null,null,null,null,null,null,null,null,null,null,null,null,null,null,null,null,null,null,null,null,null,null,null,null,null,null,null,null,null,null,null,null,null,null,null,null,null,null,null,null,null,null,null,null,null,null,null,null,null,null,null,null,null,"FLOW-PEAT-NBLAST-",null,"P1100","TRANSFOR","BLASTFUR","_Z","_Z","_Z","_Z","_Z","NCV","_Z","MJ_T"]
[null,"COAL","PEATPROD","FLOW","NBLAST",null,"Peat products",null,null,null,null,null,null,null,null,null,null,null,null,null,null,null,null,null,null,null,null,null,null,null,null,null,null,null,null,null,null,null,null,null,null,null,null,null,null,null,null,null,null,null,null,null,null,null,null,null,null,null,null,null,null,null,null,null,null,null,null,null,null,null,null,null,null,null,null,null,null,null,null,null,null,null,null,null,null,null,null,null,null,null,null,null,null,null,null,null,null,null,null,null,null,null,null,null,null,null,null,null,null,null,null,null,null,null,null,null,null,null,null,null,null,"FLOW-PEATPROD-NBLAST-",null,"P1200","TRANSFOR","BLASTFUR","_Z","_Z","_Z","_Z","_Z","NCV","_Z","MJ_T"]
[null,"COAL","OILSHALE","FLOW","NBLAST",null,"Oil shale and oil sands",null,null,null,null,null,null,null,null,null,null,null,null,null,null,null,null,null,null,null,null,null,null,null,null,null,null,null,null,null,null,null,null,null,null,null,null,null,null,null,null,null,null,null,null,null,null,null,null,null,null,null,null,null,null,null,null,null,null,null,null,null,null,null,null,null,null,null,null,null,null,null,null,null,null,null,null,null,null,null,null,null,null,null,null,null,null,null,null,null,null,null,null,null,null,null,null,null,null,null,null,null,null,null,null,null,null,null,null,null,null,null,null,null,null,"FLOW-OILSHALE-NBLAST-",null,"S2000","TRANSFOR","BLASTFUR","_Z","_Z","_Z","_Z","_Z","NCV","_Z","MJ_T"]
[]
[null,null,null,null,null,null,"Gross calorific values - Used in blast furnaces"]
[null,"COAL","ANTCOAL","FLOW","GBLAST",null,"Anthracite",null,null,null,null,null,null,null,null,null,null,null,null,null,null,null,null,null,null,null,null,null,null,null,null,null,null,null,null,null,null,null,null,null,null,null,null,null,null,null,null,null,null,null,null,null,null,null,null,null,null,null,null,null,null,null,null,null,null,null,null,null,null,null,null,null,null,null,null,null,null,null,null,null,null,null,null,null,null,null,null,null,null,null,null,null,null,null,null,null,null,null,null,null,null,null,null,null,null,null,null,null,null,null,null,null,null,null,null,null,null,null,null,null,null,"FLOW-ANTCOAL-GBLAST-",null,"C0110","TRANSFOR","BLASTFUR","_Z","_Z","_Z","_Z","_Z","GCV","_Z","MJ_T"]
[null,"COAL","COKCOAL","FLOW","GBLAST",null,"Coking coal",null,null,null,null,null,null,null,null,null,null,null,null,null,null,null,null,null,null,null,null,null,null,null,null,null,null,null,null,null,null,null,null,null,null,null,null,null,null,null,null,null,null,null,null,null,null,null,null,null,null,null,null,null,null,null,null,null,null,null,null,null,null,null,null,null,null,null,null,null,null,null,null,null,null,null,null,null,null,null,null,null,null,null,null,null,null,null,null,null,null,null,null,null,null,null,null,null,null,null,null,null,null,null,null,null,null,null,null,null,null,null,null,null,null,"FLOW-COKCOAL-GBLAST-",null,"C0121","TRANSFOR","BLASTFUR","_Z","_Z","_Z","_Z","_Z","GCV","_Z","MJ_T"]
[null,"COAL","BITCOAL","FLOW","GBLAST",null,"Other bituminous coal",null,null,null,null,null,null,null,null,null,null,null,null,null,null,null,null,null,null,null,null,null,null,null,null,null,null,null,null,null,null,null,null,null,null,null,null,null,null,null,null,null,null,null,null,null,null,null,null,null,null,null,null,null,null,null,null,null,null,null,null,null,null,null,null,null,null,null,null,null,null,null,null,null,null,null,null,null,null,null,null,null,null,null,null,null,null,null,null,null,null,null,null,null,null,null,null,null,null,null,null,null,null,null,null,null,null,null,null,null,null,null,null,null,null,"FLOW-BITCOAL-GBLAST-",null,"C0129","TRANSFOR","BLASTFUR","_Z","_Z","_Z","_Z","_Z","GCV","_Z","MJ_T"]
[null,"COAL","SUBCOAL","FLOW","GBLAST",null,"Sub-bituminous coal",null,null,null,null,null,null,null,null,null,null,null,null,null,null,null,null,null,null,null,null,null,null,null,null,null,null,null,null,null,null,null,null,null,null,null,null,null,null,null,null,null,null,null,null,null,null,null,null,null,null,null,null,null,null,null,null,null,null,null,null,null,null,null,null,null,null,null,null,null,null,null,null,null,null,null,null,null,null,null,null,null,null,null,null,null,null,null,null,null,null,null,null,null,null,null,null,null,null,null,null,null,null,null,null,null,null,null,null,null,null,null,null,null,null,"FLOW-SUBCOAL-GBLAST-",null,"C0210","TRANSFOR","BLASTFUR","_Z","_Z","_Z","_Z","_Z","GCV","_Z","MJ_T"]
[null,"COAL","LIGNITE","FLOW","GBLAST",null,"Lignite",null,null,null,null,null,null,null,null,null,null,null,null,null,null,null,null,null,null,null,null,null,null,null,null,null,null,null,null,null,null,null,null,null,null,null,null,null,null,null,null,null,null,null,null,null,null,null,null,null,null,null,null,null,null,null,null,null,null,null,null,null,null,null,null,null,null,null,null,null,null,null,null,null,null,null,null,null,null,null,null,null,null,null,null,null,null,null,null,null,null,null,null,null,null,null,null,null,null,null,null,null,null,null,null,null,null,null,null,null,null,null,null,null,null,"FLOW-LIGNITE-GBLAST-",null,"C0220","TRANSFOR","BLASTFUR","_Z","_Z","_Z","_Z","_Z","GCV","_Z","MJ_T"]
[null,"COAL","PATFUEL","FLOW","GBLAST",null,"Patent fuel",null,null,null,null,null,null,null,null,null,null,null,null,null,null,null,null,null,null,null,null,null,null,null,null,null,null,null,null,null,null,null,null,null,null,null,null,null,null,null,null,null,null,null,null,null,null,null,null,null,null,null,null,null,null,null,null,null,null,null,null,null,null,null,null,null,null,null,null,null,null,null,null,null,null,null,null,null,null,null,null,null,null,null,null,null,null,null,null,null,null,null,null,null,null,null,null,null,null,null,null,null,null,null,null,null,null,null,null,null,null,null,null,null,null,"FLOW-PATFUEL-GBLAST-",null,"C0320","TRANSFOR","BLASTFUR","_Z","_Z","_Z","_Z","_Z","GCV","_Z","MJ_T"]
[null,"COAL","OVENCOKE","FLOW","GBLAST",null,"Coke Oven Coke",null,null,null,null,null,null,null,null,null,null,null,null,null,null,null,null,null,null,null,null,null,null,null,null,null,null,null,null,null,null,null,null,null,null,null,null,null,null,null,null,null,null,null,null,null,null,null,null,null,null,null,null,null,null,null,null,null,null,null,null,null,null,null,null,null,null,null,null,null,null,null,null,null,null,null,null,null,null,null,null,null,null,null,null,null,null,null,null,null,null,null,null,null,null,null,null,null,null,null,null,null,null,null,null,null,null,null,null,null,null,null,null,null,null,"FLOW-OVENCOKE-GBLAST-",null,"C0311","TRANSFOR","BLASTFUR","_Z","_Z","_Z","_Z","_Z","GCV","_Z","MJ_T"]
[null,"COAL","GASCOKE","FLOW","GBLAST",null,"Gas Coke",null,null,null,null,null,null,null,null,null,null,null,null,null,null,null,null,null,null,null,null,null,null,null,null,null,null,null,null,null,null,null,null,null,null,null,null,null,null,null,null,null,null,null,null,null,null,null,null,null,null,null,null,null,null,null,null,null,null,null,null,null,null,null,null,null,null,null,null,null,null,null,null,null,null,null,null,null,null,null,null,null,null,null,null,null,null,null,null,null,null,null,null,null,null,null,null,null,null,null,null,null,null,null,null,null,null,null,null,null,null,null,null,null,null,"FLOW-GASCOKE-GBLAST-",null,"C0312","TRANSFOR","BLASTFUR","_Z","_Z","_Z","_Z","_Z","GCV","_Z","MJ_T"]
[null,"COAL","COALTAR","FLOW","GBLAST",null,"Coal tar",null,null,null,null,null,null,null,null,null,null,null,null,null,null,null,null,null,null,null,null,null,null,null,null,null,null,null,null,null,null,null,null,null,null,null,null,null,null,null,null,null,null,null,null,null,null,null,null,null,null,null,null,null,null,null,null,null,null,null,null,null,null,null,null,null,null,null,null,null,null,null,null,null,null,null,null,null,null,null,null,null,null,null,null,null,null,null,null,null,null,null,null,null,null,null,null,null,null,null,null,null,null,null,null,null,null,null,null,null,null,null,null,null,null,"FLOW-COALTAR-GBLAST-",null,"C0340","TRANSFOR","BLASTFUR","_Z","_Z","_Z","_Z","_Z","GCV","_Z","MJ_T"]
[null,"COAL","BKB","FLOW","GBLAST",null,"BKB",null,null,null,null,null,null,null,null,null,null,null,null,null,null,null,null,null,null,null,null,null,null,null,null,null,null,null,null,null,null,null,null,null,null,null,null,null,null,null,null,null,null,null,null,null,null,null,null,null,null,null,null,null,null,null,null,null,null,null,null,null,null,null,null,null,null,null,null,null,null,null,null,null,null,null,null,null,null,null,null,null,null,null,null,null,null,null,null,null,null,null,null,null,null,null,null,null,null,null,null,null,null,null,null,null,null,null,null,null,null,null,null,null,null,"FLOW-BKB-GBLAST-",null,"C0330","TRANSFOR","BLASTFUR","_Z","_Z","_Z","_Z","_Z","GCV","_Z","MJ_T"]
[null,"COAL","PEAT","FLOW","GBLAST",null,"Peat",null,null,null,null,null,null,null,null,null,null,null,null,null,null,null,null,null,null,null,null,null,null,null,null,null,null,null,null,null,null,null,null,null,null,null,null,null,null,null,null,null,null,null,null,null,null,null,null,null,null,null,null,null,null,null,null,null,null,null,null,null,null,null,null,null,null,null,null,null,null,null,null,null,null,null,null,null,null,null,null,null,null,null,null,null,null,null,null,null,null,null,null,null,null,null,null,null,null,null,null,null,null,null,null,null,null,null,null,null,null,null,null,null,null,"FLOW-PEAT-GBLAST-",null,"P1100","TRANSFOR","BLASTFUR","_Z","_Z","_Z","_Z","_Z","GCV","_Z","MJ_T"]
[null,"COAL","PEATPROD","FLOW","GBLAST",null,"Peat products",null,null,null,null,null,null,null,null,null,null,null,null,null,null,null,null,null,null,null,null,null,null,null,null,null,null,null,null,null,null,null,null,null,null,null,null,null,null,null,null,null,null,null,null,null,null,null,null,null,null,null,null,null,null,null,null,null,null,null,null,null,null,null,null,null,null,null,null,null,null,null,null,null,null,null,null,null,null,null,null,null,null,null,null,null,null,null,null,null,null,null,null,null,null,null,null,null,null,null,null,null,null,null,null,null,null,null,null,null,null,null,null,null,null,"FLOW-PEATPROD-GBLAST-",null,"P1200","TRANSFOR","BLASTFUR","_Z","_Z","_Z","_Z","_Z","GCV","_Z","MJ_T"]
[null,"COAL","OILSHALE","FLOW","GBLAST",null,"Oil shale and oil sands",null,null,null,null,null,null,null,null,null,null,null,null,null,null,null,null,null,null,null,null,null,null,null,null,null,null,null,null,null,null,null,null,null,null,null,null,null,null,null,null,null,null,null,null,null,null,null,null,null,null,null,null,null,null,null,null,null,null,null,null,null,null,null,null,null,null,null,null,null,null,null,null,null,null,null,null,null,null,null,null,null,null,null,null,null,null,null,null,null,null,null,null,null,null,null,null,null,null,null,null,null,null,null,null,null,null,null,null,null,null,null,null,null,null,"FLOW-OILSHALE-GBLAST-",null,"S2000","TRANSFOR","BLASTFUR","_Z","_Z","_Z","_Z","_Z","GCV","_Z","MJ_T"]
[]
[null,null,null,null,null,null,"Net calorific values - Used in industry"]
[null,"COAL","ANTCOAL","FLOW","NIND",null,"Anthracite",null,null,null,null,null,null,null,null,null,null,null,null,null,null,null,null,null,null,null,null,null,null,null,null,null,null,null,null,null,null,null,null,null,null,null,null,null,null,null,null,null,null,null,null,null,null,null,null,null,null,null,null,null,null,null,null,null,null,null,null,null,null,null,null,null,null,null,null,null,null,null,null,null,null,null,null,null,null,null,null,null,null,null,null,null,null,null,null,null,null,null,null,null,null,null,null,null,null,null,null,null,null,null,null,null,null,null,null,null,null,null,null,null,null,"FLOW-ANTCOAL-NIND-",null,"C0110","_Z","INDUSTRY","_Z","_Z","_Z","_Z","_Z","NCV","_Z","MJ_T"]
[null,"COAL","COKCOAL","FLOW","NIND",null,"Coking coal",null,null,null,null,null,null,null,null,null,null,null,null,null,null,null,null,null,null,null,null,null,null,null,null,null,null,null,null,null,null,null,null,null,null,null,null,null,null,null,null,null,null,null,null,null,null,null,null,null,null,null,null,null,null,null,null,null,null,null,null,null,null,null,null,null,null,null,null,null,null,null,null,null,null,null,null,null,null,null,null,null,null,null,null,null,null,null,null,null,null,null,null,null,null,null,null,null,null,null,null,null,null,null,null,null,null,null,null,null,null,null,null,null,null,"FLOW-COKCOAL-NIND-",null,"C0121","_Z","INDUSTRY","_Z","_Z","_Z","_Z","_Z","NCV","_Z","MJ_T"]
[null,"COAL","BITCOAL","FLOW","NIND",null,"Other bituminous coal",null,null,null,null,null,null,null,null,null,null,null,null,null,null,null,null,null,null,null,null,null,null,null,null,null,null,null,null,null,null,null,null,null,null,null,null,null,null,null,null,null,null,null,null,null,null,null,null,null,null,null,null,null,null,null,null,null,null,null,null,null,null,null,null,null,null,null,null,null,null,null,null,null,null,null,null,null,null,null,null,null,null,null,null,null,null,null,null,null,null,null,null,null,null,null,null,null,null,null,null,null,null,null,null,null,null,null,null,null,null,null,null,null,null,"FLOW-BITCOAL-NIND-",null,"C0129","_Z","INDUSTRY","_Z","_Z","_Z","_Z","_Z","NCV","_Z","MJ_T"]
[null,"COAL","SUBCOAL","FLOW","NIND",null,"Sub-bituminous coal",null,null,null,null,null,null,null,null,null,null,null,null,null,null,null,null,null,null,null,null,null,null,null,null,null,null,null,null,null,null,null,null,null,null,null,null,null,null,null,null,null,null,null,null,null,null,null,null,null,null,null,null,null,null,null,null,null,null,null,null,null,null,null,null,null,null,null,null,null,null,null,null,null,null,null,null,null,null,null,null,null,null,null,null,null,null,null,null,null,null,null,null,null,null,null,null,null,null,null,null,null,null,null,null,null,null,null,null,null,null,null,null,null,null,"FLOW-SUBCOAL-NIND-",null,"C0210","_Z","INDUSTRY","_Z","_Z","_Z","_Z","_Z","NCV","_Z","MJ_T"]
[null,"COAL","LIGNITE","FLOW","NIND",null,"Lignite",null,null,null,null,null,null,null,null,null,null,null,null,null,null,null,null,null,null,null,null,null,null,null,null,null,null,null,null,null,null,null,null,null,null,null,null,null,null,null,null,null,null,null,null,null,null,null,null,null,null,null,null,null,null,null,null,null,null,null,null,null,null,null,null,null,null,null,null,null,null,null,null,null,null,null,null,null,null,null,null,null,null,null,null,null,null,null,null,null,null,null,null,null,null,null,null,null,null,null,null,null,null,null,null,null,null,null,null,null,null,null,null,null,null,"FLOW-LIGNITE-NIND-",null,"C0220","_Z","INDUSTRY","_Z","_Z","_Z","_Z","_Z","NCV","_Z","MJ_T"]
[null,"COAL","PATFUEL","FLOW","NIND",null,"Patent fuel",null,null,null,null,null,null,null,null,null,null,null,null,null,null,null,null,null,null,null,null,null,null,null,null,null,null,null,null,null,null,null,null,null,null,null,null,null,null,null,null,null,null,null,null,null,null,null,null,null,null,null,null,null,null,null,null,null,null,null,null,null,null,null,null,null,null,null,null,null,null,null,null,null,null,null,null,null,null,null,null,null,null,null,null,null,null,null,null,null,null,null,null,null,null,null,null,null,null,null,null,null,null,null,null,null,null,null,null,null,null,null,null,null,null,"FLOW-PATFUEL-NIND-",null,"C0320","_Z","INDUSTRY","_Z","_Z","_Z","_Z","_Z","NCV","_Z","MJ_T"]
[null,"COAL","OVENCOKE","FLOW","NIND",null,"Coke Oven Coke",null,null,null,null,null,null,null,null,null,null,null,null,null,null,null,null,null,null,null,null,null,null,null,null,null,null,null,null,null,null,null,null,null,null,null,null,null,null,null,null,null,null,null,null,null,null,null,null,null,null,null,null,null,null,null,null,null,null,null,null,null,null,null,null,null,null,null,null,null,null,null,null,null,null,null,null,null,null,null,null,null,null,null,null,null,null,null,null,null,null,null,null,null,null,null,null,null,null,null,null,null,null,null,null,null,null,null,null,null,null,null,null,null,null,"FLOW-OVENCOKE-NIND-",null,"C0311","_Z","INDUSTRY","_Z","_Z","_Z","_Z","_Z","NCV","_Z","MJ_T"]
[null,"COAL","GASCOKE","FLOW","NIND",null,"Gas Coke",null,null,null,null,null,null,null,null,null,null,null,null,null,null,null,null,null,null,null,null,null,null,null,null,null,null,null,null,null,null,null,null,null,null,null,null,null,null,null,null,null,null,null,null,null,null,null,null,null,null,null,null,null,null,null,null,null,null,null,null,null,null,null,null,null,null,null,null,null,null,null,null,null,null,null,null,null,null,null,null,null,null,null,null,null,null,null,null,null,null,null,null,null,null,null,null,null,null,null,null,null,null,null,null,null,null,null,null,null,null,null,null,null,null,"FLOW-GASCOKE-NIND-",null,"C0312","_Z","INDUSTRY","_Z","_Z","_Z","_Z","_Z","NCV","_Z","MJ_T"]
[null,"COAL","COALTAR","FLOW","NIND",null,"Coal tar",null,null,null,null,null,null,null,null,null,null,null,null,null,null,null,null,null,null,null,null,null,null,null,null,null,null,null,null,null,null,null,null,null,null,null,null,null,null,null,null,null,null,null,null,null,null,null,null,null,null,null,null,null,null,null,null,null,null,null,null,null,null,null,null,null,null,null,null,null,null,null,null,null,null,null,null,null,null,null,null,null,null,null,null,null,null,null,null,null,null,null,null,null,null,null,null,null,null,null,null,null,null,null,null,null,null,null,null,null,null,null,null,null,null,"FLOW-COALTAR-NIND-",null,"C0340","_Z","INDUSTRY","_Z","_Z","_Z","_Z","_Z","NCV","_Z","MJ_T"]
[null,"COAL","BKB","FLOW","NIND",null,"BKB",null,null,null,null,null,null,null,null,null,null,null,null,null,null,null,null,null,null,null,null,null,null,null,null,null,null,null,null,null,null,null,null,null,null,null,null,null,null,null,null,null,null,null,null,null,null,null,null,null,null,null,null,null,null,null,null,null,null,null,null,null,null,null,null,null,null,null,null,null,null,null,null,null,null,null,null,null,null,null,null,null,null,null,null,null,null,null,null,null,null,null,null,null,null,null,null,null,null,null,null,null,null,null,null,null,null,null,null,null,null,null,null,null,null,"FLOW-BKB-NIND-",null,"C0330","_Z","INDUSTRY","_Z","_Z","_Z","_Z","_Z","NCV","_Z","MJ_T"]
[null,"COAL","PEAT","FLOW","NIND",null,"Peat",null,null,null,null,null,null,null,null,null,null,null,null,null,null,null,null,null,null,null,null,null,null,null,null,null,null,null,null,null,null,null,null,null,null,null,null,null,null,null,null,null,null,null,null,null,null,null,null,null,null,null,null,null,null,null,null,null,null,null,null,null,null,null,null,null,null,null,null,null,null,null,null,null,null,null,null,null,null,null,null,null,null,null,null,null,null,null,null,null,null,null,null,null,null,null,null,null,null,null,null,null,null,null,null,null,null,null,null,null,null,null,null,null,null,"FLOW-PEAT-NIND-",null,"P1100","_Z","INDUSTRY","_Z","_Z","_Z","_Z","_Z","NCV","_Z","MJ_T"]
[null,"COAL","PEATPROD","FLOW","NIND",null,"Peat products",null,null,null,null,null,null,null,null,null,null,null,null,null,null,null,null,null,null,null,null,null,null,null,null,null,null,null,null,null,null,null,null,null,null,null,null,null,null,null,null,null,null,null,null,null,null,null,null,null,null,null,null,null,null,null,null,null,null,null,null,null,null,null,null,null,null,null,null,null,null,null,null,null,null,null,null,null,null,null,null,null,null,null,null,null,null,null,null,null,null,null,null,null,null,null,null,null,null,null,null,null,null,null,null,null,null,null,null,null,null,null,null,null,null,"FLOW-PEATPROD-NIND-",null,"P1200","_Z","INDUSTRY","_Z","_Z","_Z","_Z","_Z","NCV","_Z","MJ_T"]
[null,"COAL","OILSHALE","FLOW","NIND",null,"Oil shale and oil sands",null,null,null,null,null,null,null,null,null,null,null,null,null,null,null,null,null,null,null,null,null,null,null,null,null,null,null,null,null,null,null,null,null,null,null,null,null,null,null,null,null,null,null,null,null,null,null,null,null,null,null,null,null,null,null,null,null,null,null,null,null,null,null,null,null,null,null,null,null,null,null,null,null,null,null,null,null,null,null,null,null,null,null,null,null,null,null,null,null,null,null,null,null,null,null,null,null,null,null,null,null,null,null,null,null,null,null,null,null,null,null,null,null,null,"FLOW-OILSHALE-NIND-",null,"S2000","_Z","INDUSTRY","_Z","_Z","_Z","_Z","_Z","NCV","_Z","MJ_T"]
[]
[null,null,null,null,null,null,"Gross calorific values - Used in industry"]
[null,"COAL","ANTCOAL","FLOW","GIND",null,"Anthracite",null,null,null,null,null,null,null,null,null,null,null,null,null,null,null,null,null,null,null,null,null,null,null,null,null,null,null,null,null,null,null,null,null,null,null,null,null,null,null,null,null,null,null,null,null,null,null,null,null,null,null,null,null,null,null,null,null,null,null,null,null,null,null,null,null,null,null,null,null,null,null,null,null,null,null,null,null,null,null,null,null,null,null,null,null,null,null,null,null,null,null,null,null,null,null,null,null,null,null,null,null,null,null,null,null,null,null,null,null,null,null,null,null,null,"FLOW-ANTCOAL-GIND-",null,"C0110","_Z","INDUSTRY","_Z","_Z","_Z","_Z","_Z","GCV","_Z","MJ_T"]
[null,"COAL","COKCOAL","FLOW","GIND",null,"Coking coal",null,null,null,null,null,null,null,null,null,null,null,null,null,null,null,null,null,null,null,null,null,null,null,null,null,null,null,null,null,null,null,null,null,null,null,null,null,null,null,null,null,null,null,null,null,null,null,null,null,null,null,null,null,null,null,null,null,null,null,null,null,null,null,null,null,null,null,null,null,null,null,null,null,null,null,null,null,null,null,null,null,null,null,null,null,null,null,null,null,null,null,null,null,null,null,null,null,null,null,null,null,null,null,null,null,null,null,null,null,null,null,null,null,null,"FLOW-COKCOAL-GIND-",null,"C0121","_Z","INDUSTRY","_Z","_Z","_Z","_Z","_Z","GCV","_Z","MJ_T"]
[null,"COAL","BITCOAL","FLOW","GIND",null,"Other bituminous coal",null,null,null,null,null,null,null,null,null,null,null,null,null,null,null,null,null,null,null,null,null,null,null,null,null,null,null,null,null,null,null,null,null,null,null,null,null,null,null,null,null,null,null,null,null,null,null,null,null,null,null,null,null,null,null,null,null,null,null,null,null,null,null,null,null,null,null,null,null,null,null,null,null,null,null,null,null,null,null,null,null,null,null,null,null,null,null,null,null,null,null,null,null,null,null,null,null,null,null,null,null,null,null,null,null,null,null,null,null,null,null,null,null,null,"FLOW-BITCOAL-GIND-",null,"C0129","_Z","INDUSTRY","_Z","_Z","_Z","_Z","_Z","GCV","_Z","MJ_T"]
[null,"COAL","SUBCOAL","FLOW","GIND",null,"Sub-bituminous coal",null,null,null,null,null,null,null,null,null,null,null,null,null,null,null,null,null,null,null,null,null,null,null,null,null,null,null,null,null,null,null,null,null,null,null,null,null,null,null,null,null,null,null,null,null,null,null,null,null,null,null,null,null,null,null,null,null,null,null,null,null,null,null,null,null,null,null,null,null,null,null,null,null,null,null,null,null,null,null,null,null,null,null,null,null,null,null,null,null,null,null,null,null,null,null,null,null,null,null,null,null,null,null,null,null,null,null,null,null,null,null,null,null,null,"FLOW-SUBCOAL-GIND-",null,"C0210","_Z","INDUSTRY","_Z","_Z","_Z","_Z","_Z","GCV","_Z","MJ_T"]
[null,"COAL","LIGNITE","FLOW","GIND",null,"Lignite",null,null,null,null,null,null,null,null,null,null,null,null,null,null,null,null,null,null,null,null,null,null,null,null,null,null,null,null,null,null,null,null,null,null,null,null,null,null,null,null,null,null,null,null,null,null,null,null,null,null,null,null,null,null,null,null,null,null,null,null,null,null,null,null,null,null,null,null,null,null,null,null,null,null,null,null,null,null,null,null,null,null,null,null,null,null,null,null,null,null,null,null,null,null,null,null,null,null,null,null,null,null,null,null,null,null,null,null,null,null,null,null,null,null,"FLOW-LIGNITE-GIND-",null,"C0220","_Z","INDUSTRY","_Z","_Z","_Z","_Z","_Z","GCV","_Z","MJ_T"]
[null,"COAL","PATFUEL","FLOW","GIND",null,"Patent fuel",null,null,null,null,null,null,null,null,null,null,null,null,null,null,null,null,null,null,null,null,null,null,null,null,null,null,null,null,null,null,null,null,null,null,null,null,null,null,null,null,null,null,null,null,null,null,null,null,null,null,null,null,null,null,null,null,null,null,null,null,null,null,null,null,null,null,null,null,null,null,null,null,null,null,null,null,null,null,null,null,null,null,null,null,null,null,null,null,null,null,null,null,null,null,null,null,null,null,null,null,null,null,null,null,null,null,null,null,null,null,null,null,null,null,"FLOW-PATFUEL-GIND-",null,"C0320","_Z","INDUSTRY","_Z","_Z","_Z","_Z","_Z","GCV","_Z","MJ_T"]
[null,"COAL","OVENCOKE","FLOW","GIND",null,"Coke Oven Coke",null,null,null,null,null,null,null,null,null,null,null,null,null,null,null,null,null,null,null,null,null,null,null,null,null,null,null,null,null,null,null,null,null,null,null,null,null,null,null,null,null,null,null,null,null,null,null,null,null,null,null,null,null,null,null,null,null,null,null,null,null,null,null,null,null,null,null,null,null,null,null,null,null,null,null,null,null,null,null,null,null,null,null,null,null,null,null,null,null,null,null,null,null,null,null,null,null,null,null,null,null,null,null,null,null,null,null,null,null,null,null,null,null,null,"FLOW-OVENCOKE-GIND-",null,"C0311","_Z","INDUSTRY","_Z","_Z","_Z","_Z","_Z","GCV","_Z","MJ_T"]
[null,"COAL","GASCOKE","FLOW","GIND",null,"Gas Coke",null,null,null,null,null,null,null,null,null,null,null,null,null,null,null,null,null,null,null,null,null,null,null,null,null,null,null,null,null,null,null,null,null,null,null,null,null,null,null,null,null,null,null,null,null,null,null,null,null,null,null,null,null,null,null,null,null,null,null,null,null,null,null,null,null,null,null,null,null,null,null,null,null,null,null,null,null,null,null,null,null,null,null,null,null,null,null,null,null,null,null,null,null,null,null,null,null,null,null,null,null,null,null,null,null,null,null,null,null,null,null,null,null,null,"FLOW-GASCOKE-GIND-",null,"C0312","_Z","INDUSTRY","_Z","_Z","_Z","_Z","_Z","GCV","_Z","MJ_T"]
[null,"COAL","COALTAR","FLOW","GIND",null,"Coal tar",null,null,null,null,null,null,null,null,null,null,null,null,null,null,null,null,null,null,null,null,null,null,null,null,null,null,null,null,null,null,null,null,null,null,null,null,null,null,null,null,null,null,null,null,null,null,null,null,null,null,null,null,null,null,null,null,null,null,null,null,null,null,null,null,null,null,null,null,null,null,null,null,null,null,null,null,null,null,null,null,null,null,null,null,null,null,null,null,null,null,null,null,null,null,null,null,null,null,null,null,null,null,null,null,null,null,null,null,null,null,null,null,null,null,"FLOW-COALTAR-GIND-",null,"C0340","_Z","INDUSTRY","_Z","_Z","_Z","_Z","_Z","GCV","_Z","MJ_T"]
[null,"COAL","BKB","FLOW","GIND",null,"BKB",null,null,null,null,null,null,null,null,null,null,null,null,null,null,null,null,null,null,null,null,null,null,null,null,null,null,null,null,null,null,null,null,null,null,null,null,null,null,null,null,null,null,null,null,null,null,null,null,null,null,null,null,null,null,null,null,null,null,null,null,null,null,null,null,null,null,null,null,null,null,null,null,null,null,null,null,null,null,null,null,null,null,null,null,null,null,null,null,null,null,null,null,null,null,null,null,null,null,null,null,null,null,null,null,null,null,null,null,null,null,null,null,null,null,"FLOW-BKB-GIND-",null,"C0330","_Z","INDUSTRY","_Z","_Z","_Z","_Z","_Z","GCV","_Z","MJ_T"]
[null,"COAL","PEAT","FLOW","GIND",null,"Peat",null,null,null,null,null,null,null,null,null,null,null,null,null,null,null,null,null,null,null,null,null,null,null,null,null,null,null,null,null,null,null,null,null,null,null,null,null,null,null,null,null,null,null,null,null,null,null,null,null,null,null,null,null,null,null,null,null,null,null,null,null,null,null,null,null,null,null,null,null,null,null,null,null,null,null,null,null,null,null,null,null,null,null,null,null,null,null,null,null,null,null,null,null,null,null,null,null,null,null,null,null,null,null,null,null,null,null,null,null,null,null,null,null,null,"FLOW-PEAT-GIND-",null,"P1100","_Z","INDUSTRY","_Z","_Z","_Z","_Z","_Z","GCV","_Z","MJ_T"]
[null,"COAL","PEATPROD","FLOW","GIND",null,"Peat products",null,null,null,null,null,null,null,null,null,null,null,null,null,null,null,null,null,null,null,null,null,null,null,null,null,null,null,null,null,null,null,null,null,null,null,null,null,null,null,null,null,null,null,null,null,null,null,null,null,null,null,null,null,null,null,null,null,null,null,null,null,null,null,null,null,null,null,null,null,null,null,null,null,null,null,null,null,null,null,null,null,null,null,null,null,null,null,null,null,null,null,null,null,null,null,null,null,null,null,null,null,null,null,null,null,null,null,null,null,null,null,null,null,null,"FLOW-PEATPROD-GIND-",null,"P1200","_Z","INDUSTRY","_Z","_Z","_Z","_Z","_Z","GCV","_Z","MJ_T"]
[null,"COAL","OILSHALE","FLOW","GIND",null,"Oil shale and oil sands",null,null,null,null,null,null,null,null,null,null,null,null,null,null,null,null,null,null,null,null,null,null,null,null,null,null,null,null,null,null,null,null,null,null,null,null,null,null,null,null,null,null,null,null,null,null,null,null,null,null,null,null,null,null,null,null,null,null,null,null,null,null,null,null,null,null,null,null,null,null,null,null,null,null,null,null,null,null,null,null,null,null,null,null,null,null,null,null,null,null,null,null,null,null,null,null,null,null,null,null,null,null,null,null,null,null,null,null,null,null,null,null,null,null,"FLOW-OILSHALE-GIND-",null,"S2000","_Z","INDUSTRY","_Z","_Z","_Z","_Z","_Z","GCV","_Z","MJ_T"]
[]
[null,null,null,null,null,null,"Net calorific values - For other uses"]
[null,"COAL","ANTCOAL","FLOW","NOTHER",null,"Anthracite",null,null,null,null,null,null,null,null,null,null,null,null,null,null,null,null,null,null,null,null,null,null,null,null,null,null,null,null,null,null,null,null,null,null,null,null,null,null,null,null,null,null,null,null,null,null,null,null,null,null,null,null,null,null,null,null,null,null,null,null,null,null,null,null,null,null,null,null,null,null,null,null,null,null,null,null,null,null,null,null,null,null,null,null,null,null,null,null,null,null,null,null,null,null,null,null,null,null,null,null,null,null,null,null,null,null,null,null,null,null,null,null,null,null,"FLOW-ANTCOAL-NOTHER-",null,"C0110","_Z","OTHERUSE","_Z","_Z","_Z","_Z","_Z","NCV","_Z","MJ_T"]
[null,"COAL","COKCOAL","FLOW","NOTHER",null,"Coking coal",null,null,null,null,null,null,null,null,null,null,null,null,null,null,null,null,null,null,null,null,null,null,null,null,null,null,null,null,null,null,null,null,null,null,null,null,null,null,null,null,null,null,null,null,null,null,null,null,null,null,null,null,null,null,null,null,null,null,null,null,null,null,null,null,null,null,null,null,null,null,null,null,null,null,null,null,null,null,null,null,null,null,null,null,null,null,null,null,null,null,null,null,null,null,null,null,null,null,null,null,null,null,null,null,null,null,null,null,null,null,null,null,null,null,"FLOW-COKCOAL-NOTHER-",null,"C0121","_Z","OTHERUSE","_Z","_Z","_Z","_Z","_Z","NCV","_Z","MJ_T"]
[null,"COAL","BITCOAL","FLOW","NOTHER",null,"Other bituminous coal",null,null,null,null,null,null,null,null,null,null,null,null,null,null,null,null,null,null,null,null,null,null,null,null,null,null,null,null,null,null,null,null,null,null,null,null,null,null,null,null,null,null,null,null,null,null,null,null,null,null,null,null,null,null,null,null,null,null,null,null,null,null,null,null,null,null,null,null,null,null,null,null,null,null,null,null,null,null,null,null,null,null,null,null,null,null,null,null,null,null,null,null,null,null,null,null,null,null,null,null,null,null,null,null,null,null,null,null,null,null,null,null,null,null,"FLOW-BITCOAL-NOTHER-",null,"C0129","_Z","OTHERUSE","_Z","_Z","_Z","_Z","_Z","NCV","_Z","MJ_T"]
[null,"COAL","SUBCOAL","FLOW","NOTHER",null,"Sub-bituminous coal",null,null,null,null,null,null,null,null,null,null,null,null,null,null,null,null,null,null,null,null,null,null,null,null,null,null,null,null,null,null,null,null,null,null,null,null,null,null,null,null,null,null,null,null,null,null,null,null,null,null,null,null,null,null,null,null,null,null,null,null,null,null,null,null,null,null,null,null,null,null,null,null,null,null,null,null,null,null,null,null,null,null,null,null,null,null,null,null,null,null,null,null,null,null,null,null,null,null,null,null,null,null,null,null,null,null,null,null,null,null,null,null,null,null,"FLOW-SUBCOAL-NOTHER-",null,"C0210","_Z","OTHERUSE","_Z","_Z","_Z","_Z","_Z","NCV","_Z","MJ_T"]
[null,"COAL","LIGNITE","FLOW","NOTHER",null,"Lignite",null,null,null,null,null,null,null,null,null,null,null,null,null,null,null,null,null,null,null,null,null,null,null,null,null,null,null,null,null,null,null,null,null,null,null,null,null,null,null,null,null,null,null,null,null,null,null,null,null,null,null,null,null,null,null,null,null,null,null,null,null,null,null,null,null,null,null,null,null,null,null,null,null,null,null,null,null,null,null,null,null,null,null,null,null,null,null,null,null,null,null,null,null,null,null,null,null,null,null,null,null,null,null,null,null,null,null,null,null,null,null,null,null,null,"FLOW-LIGNITE-NOTHER-",null,"C0220","_Z","OTHERUSE","_Z","_Z","_Z","_Z","_Z","NCV","_Z","MJ_T"]
[null,"COAL","PATFUEL","FLOW","NOTHER",null,"Patent fuel",null,null,null,null,null,null,null,null,null,null,null,null,null,null,null,null,null,null,null,null,null,null,null,null,null,null,null,null,null,null,null,null,null,null,null,null,null,null,null,null,null,null,null,null,null,null,null,null,null,null,null,null,null,null,null,null,null,null,null,null,null,null,null,null,null,null,null,null,null,null,null,null,null,null,null,null,null,null,null,null,null,null,null,null,null,null,null,null,null,null,null,null,null,null,null,null,null,null,null,null,null,null,null,null,null,null,null,null,null,null,null,null,null,null,"FLOW-PATFUEL-NOTHER-",null,"C0320","_Z","OTHERUSE","_Z","_Z","_Z","_Z","_Z","NCV","_Z","MJ_T"]
[null,"COAL","OVENCOKE","FLOW","NOTHER",null,"Coke Oven Coke",null,null,null,null,null,null,null,null,null,null,null,null,null,null,null,null,null,null,null,null,null,null,null,null,null,null,null,null,null,null,null,null,null,null,null,null,null,null,null,null,null,null,null,null,null,null,null,null,null,null,null,null,null,null,null,null,null,null,null,null,null,null,null,null,null,null,null,null,null,null,null,null,null,null,null,null,null,null,null,null,null,null,null,null,null,null,null,null,null,null,null,null,null,null,null,null,null,null,null,null,null,null,null,null,null,null,null,null,null,null,null,null,null,null,"FLOW-OVENCOKE-NOTHER-",null,"C0311","_Z","OTHERUSE","_Z","_Z","_Z","_Z","_Z","NCV","_Z","MJ_T"]
[null,"COAL","GASCOKE","FLOW","NOTHER",null,"Gas Coke",null,null,null,null,null,null,null,null,null,null,null,null,null,null,null,null,null,null,null,null,null,null,null,null,null,null,null,null,null,null,null,null,null,null,null,null,null,null,null,null,null,null,null,null,null,null,null,null,null,null,null,null,null,null,null,null,null,null,null,null,null,null,null,null,null,null,null,null,null,null,null,null,null,null,null,null,null,null,null,null,null,null,null,null,null,null,null,null,null,null,null,null,null,null,null,null,null,null,null,null,null,null,null,null,null,null,null,null,null,null,null,null,null,null,"FLOW-GASCOKE-NOTHER-",null,"C0312","_Z","OTHERUSE","_Z","_Z","_Z","_Z","_Z","NCV","_Z","MJ_T"]
[null,"COAL","COALTAR","FLOW","NOTHER",null,"Coal tar",null,null,null,null,null,null,null,null,null,null,null,null,null,null,null,null,null,null,null,null,null,null,null,null,null,null,null,null,null,null,null,null,null,null,null,null,null,null,null,null,null,null,null,null,null,null,null,null,null,null,null,null,null,null,null,null,null,null,null,null,null,null,null,null,null,null,null,null,null,null,null,null,null,null,null,null,null,null,null,null,null,null,null,null,null,null,null,null,null,null,null,null,null,null,null,null,null,null,null,null,null,null,null,null,null,null,null,null,null,null,null,null,null,null,"FLOW-COALTAR-NOTHER-",null,"C0340","_Z","OTHERUSE","_Z","_Z","_Z","_Z","_Z","NCV","_Z","MJ_T"]
[null,"COAL","BKB","FLOW","NOTHER",null,"BKB",null,null,null,null,null,null,null,null,null,null,null,null,null,null,null,null,null,null,null,null,null,null,null,null,null,null,null,null,null,null,null,null,null,null,null,null,null,null,null,null,null,null,null,null,null,null,null,null,null,null,null,null,null,null,null,null,null,null,null,null,null,null,null,null,null,null,null,null,null,null,null,null,null,null,null,null,null,null,null,null,null,null,null,null,null,null,null,null,null,null,null,null,null,null,null,null,null,null,null,null,null,null,null,null,null,null,null,null,null,null,null,null,null,null,"FLOW-BKB-NOTHER-",null,"C0330","_Z","OTHERUSE","_Z","_Z","_Z","_Z","_Z","NCV","_Z","MJ_T"]
[null,"COAL","PEAT","FLOW","NOTHER",null,"Peat",null,null,null,null,null,null,null,null,null,null,null,null,null,null,null,null,null,null,null,null,null,null,null,null,null,null,null,null,null,null,null,null,null,null,null,null,null,null,null,null,null,null,null,null,null,null,null,null,null,null,null,null,null,null,null,null,null,null,null,null,null,null,null,null,null,null,null,null,null,null,null,null,null,null,null,null,null,null,null,null,null,null,null,null,null,null,null,null,null,null,null,null,null,null,null,null,null,null,null,null,null,null,null,null,null,null,null,null,null,null,null,null,null,null,"FLOW-PEAT-NOTHER-",null,"P1100","_Z","OTHERUSE","_Z","_Z","_Z","_Z","_Z","NCV","_Z","MJ_T"]
[null,"COAL","PEATPROD","FLOW","NOTHER",null,"Peat products",null,null,null,null,null,null,null,null,null,null,null,null,null,null,null,null,null,null,null,null,null,null,null,null,null,null,null,null,null,null,null,null,null,null,null,null,null,null,null,null,null,null,null,null,null,null,null,null,null,null,null,null,null,null,null,null,null,null,null,null,null,null,null,null,null,null,null,null,null,null,null,null,null,null,null,null,null,null,null,null,null,null,null,null,null,null,null,null,null,null,null,null,null,null,null,null,null,null,null,null,null,null,null,null,null,null,null,null,null,null,null,null,null,null,"FLOW-PEATPROD-NOTHER-",null,"P1200","_Z","OTHERUSE","_Z","_Z","_Z","_Z","_Z","NCV","_Z","MJ_T"]
[null,"COAL","OILSHALE","FLOW","NOTHER",null,"Oil shale and oil sands",null,null,null,null,null,null,null,null,null,null,null,null,null,null,null,null,null,null,null,null,null,null,null,null,null,null,null,null,null,null,null,null,null,null,null,null,null,null,null,null,null,null,null,null,null,null,null,null,null,null,null,null,null,null,null,null,null,null,null,null,null,null,null,null,null,null,null,null,null,null,null,null,null,null,null,null,null,null,null,null,null,null,null,null,null,null,null,null,null,null,null,null,null,null,null,null,null,null,null,null,null,null,null,null,null,null,null,null,null,null,null,null,null,null,"FLOW-OILSHALE-NOTHER-",null,"S2000","_Z","OTHERUSE","_Z","_Z","_Z","_Z","_Z","NCV","_Z","MJ_T"]
[]
[null,null,null,null,null,null,"Gross calorific values - For other uses"]
[null,"COAL","ANTCOAL","FLOW","GOTHER",null,"Anthracite",null,null,null,null,null,null,null,null,null,null,null,null,null,null,null,null,null,null,null,null,null,null,null,null,null,null,null,null,null,null,null,null,null,null,null,null,null,null,null,null,null,null,null,null,null,null,null,null,null,null,null,null,null,null,null,null,null,null,null,null,null,null,null,null,null,null,null,null,null,null,null,null,null,null,null,null,null,null,null,null,null,null,null,null,null,null,null,null,null,null,null,null,null,null,null,null,null,null,null,null,null,null,null,null,null,null,null,null,null,null,null,null,null,null,"FLOW-ANTCOAL-GOTHER-",null,"C0110","_Z","OTHERUSE","_Z","_Z","_Z","_Z","_Z","GCV","_Z","MJ_T"]
[null,"COAL","COKCOAL","FLOW","GOTHER",null,"Coking coal",null,null,null,null,null,null,null,null,null,null,null,null,null,null,null,null,null,null,null,null,null,null,null,null,null,null,null,null,null,null,null,null,null,null,null,null,null,null,null,null,null,null,null,null,null,null,null,null,null,null,null,null,null,null,null,null,null,null,null,null,null,null,null,null,null,null,null,null,null,null,null,null,null,null,null,null,null,null,null,null,null,null,null,null,null,null,null,null,null,null,null,null,null,null,null,null,null,null,null,null,null,null,null,null,null,null,null,null,null,null,null,null,null,null,"FLOW-COKCOAL-GOTHER-",null,"C0121","_Z","OTHERUSE","_Z","_Z","_Z","_Z","_Z","GCV","_Z","MJ_T"]
[null,"COAL","BITCOAL","FLOW","GOTHER",null,"Other bituminous coal",null,null,null,null,null,null,null,null,null,null,null,null,null,null,null,null,null,null,null,null,null,null,null,null,null,null,null,null,null,null,null,null,null,null,null,null,null,null,null,null,null,null,null,null,null,null,null,null,null,null,null,null,null,null,null,null,null,null,null,null,null,null,null,null,null,null,null,null,null,null,null,null,null,null,null,null,null,null,null,null,null,null,null,null,null,null,null,null,null,null,null,null,null,null,null,null,null,null,null,null,null,null,null,null,null,null,null,null,null,null,null,null,null,null,"FLOW-BITCOAL-GOTHER-",null,"C0129","_Z","OTHERUSE","_Z","_Z","_Z","_Z","_Z","GCV","_Z","MJ_T"]
[null,"COAL","SUBCOAL","FLOW","GOTHER",null,"Sub-bituminous coal",null,null,null,null,null,null,null,null,null,null,null,null,null,null,null,null,null,null,null,null,null,null,null,null,null,null,null,null,null,null,null,null,null,null,null,null,null,null,null,null,null,null,null,null,null,null,null,null,null,null,null,null,null,null,null,null,null,null,null,null,null,null,null,null,null,null,null,null,null,null,null,null,null,null,null,null,null,null,null,null,null,null,null,null,null,null,null,null,null,null,null,null,null,null,null,null,null,null,null,null,null,null,null,null,null,null,null,null,null,null,null,null,null,null,"FLOW-SUBCOAL-GOTHER-",null,"C0210","_Z","OTHERUSE","_Z","_Z","_Z","_Z","_Z","GCV","_Z","MJ_T"]
[null,"COAL","LIGNITE","FLOW","GOTHER",null,"Lignite",null,null,null,null,null,null,null,null,null,null,null,null,null,null,null,null,null,null,null,null,null,null,null,null,null,null,null,null,null,null,null,null,null,null,null,null,null,null,null,null,null,null,null,null,null,null,null,null,null,null,null,null,null,null,null,null,null,null,null,null,null,null,null,null,null,null,null,null,null,null,null,null,null,null,null,null,null,null,null,null,null,null,null,null,null,null,null,null,null,null,null,null,null,null,null,null,null,null,null,null,null,null,null,null,null,null,null,null,null,null,null,null,null,null,"FLOW-LIGNITE-GOTHER-",null,"C0220","_Z","OTHERUSE","_Z","_Z","_Z","_Z","_Z","GCV","_Z","MJ_T"]
[null,"COAL","PATFUEL","FLOW","GOTHER",null,"Patent fuel",null,null,null,null,null,null,null,null,null,null,null,null,null,null,null,null,null,null,null,null,null,null,null,null,null,null,null,null,null,null,null,null,null,null,null,null,null,null,null,null,null,null,null,null,null,null,null,null,null,null,null,null,null,null,null,null,null,null,null,null,null,null,null,null,null,null,null,null,null,null,null,null,null,null,null,null,null,null,null,null,null,null,null,null,null,null,null,null,null,null,null,null,null,null,null,null,null,null,null,null,null,null,null,null,null,null,null,null,null,null,null,null,null,null,"FLOW-PATFUEL-GOTHER-",null,"C0320","_Z","OTHERUSE","_Z","_Z","_Z","_Z","_Z","GCV","_Z","MJ_T"]
[null,"COAL","OVENCOKE","FLOW","GOTHER",null,"Coke Oven Coke",null,null,null,null,null,null,null,null,null,null,null,null,null,null,null,null,null,null,null,null,null,null,null,null,null,null,null,null,null,null,null,null,null,null,null,null,null,null,null,null,null,null,null,null,null,null,null,null,null,null,null,null,null,null,null,null,null,null,null,null,null,null,null,null,null,null,null,null,null,null,null,null,null,null,null,null,null,null,null,null,null,null,null,null,null,null,null,null,null,null,null,null,null,null,null,null,null,null,null,null,null,null,null,null,null,null,null,null,null,null,null,null,null,null,"FLOW-OVENCOKE-GOTHER-",null,"C0311","_Z","OTHERUSE","_Z","_Z","_Z","_Z","_Z","GCV","_Z","MJ_T"]
[null,"COAL","GASCOKE","FLOW","GOTHER",null,"Gas Coke",null,null,null,null,null,null,null,null,null,null,null,null,null,null,null,null,null,null,null,null,null,null,null,null,null,null,null,null,null,null,null,null,null,null,null,null,null,null,null,null,null,null,null,null,null,null,null,null,null,null,null,null,null,null,null,null,null,null,null,null,null,null,null,null,null,null,null,null,null,null,null,null,null,null,null,null,null,null,null,null,null,null,null,null,null,null,null,null,null,null,null,null,null,null,null,null,null,null,null,null,null,null,null,null,null,null,null,null,null,null,null,null,null,null,"FLOW-GASCOKE-GOTHER-",null,"C0312","_Z","OTHERUSE","_Z","_Z","_Z","_Z","_Z","GCV","_Z","MJ_T"]
[null,"COAL","COALTAR","FLOW","GOTHER",null,"Coal tar",null,null,null,null,null,null,null,null,null,null,null,null,null,null,null,null,null,null,null,null,null,null,null,null,null,null,null,null,null,null,null,null,null,null,null,null,null,null,null,null,null,null,null,null,null,null,null,null,null,null,null,null,null,null,null,null,null,null,null,null,null,null,null,null,null,null,null,null,null,null,null,null,null,null,null,null,null,null,null,null,null,null,null,null,null,null,null,null,null,null,null,null,null,null,null,null,null,null,null,null,null,null,null,null,null,null,null,null,null,null,null,null,null,null,"FLOW-COALTAR-GOTHER-",null,"C0340","_Z","OTHERUSE","_Z","_Z","_Z","_Z","_Z","GCV","_Z","MJ_T"]
[null,"COAL","BKB","FLOW","GOTHER",null,"BKB",null,null,null,null,null,null,null,null,null,null,null,null,null,null,null,null,null,null,null,null,null,null,null,null,null,null,null,null,null,null,null,null,null,null,null,null,null,null,null,null,null,null,null,null,null,null,null,null,null,null,null,null,null,null,null,null,null,null,null,null,null,null,null,null,null,null,null,null,null,null,null,null,null,null,null,null,null,null,null,null,null,null,null,null,null,null,null,null,null,null,null,null,null,null,null,null,null,null,null,null,null,null,null,null,null,null,null,null,null,null,null,null,null,null,"FLOW-BKB-GOTHER-",null,"C0330","_Z","OTHERUSE","_Z","_Z","_Z","_Z","_Z","GCV","_Z","MJ_T"]
[null,"COAL","PEAT","FLOW","GOTHER",null,"Peat",null,null,null,null,null,null,null,null,null,null,null,null,null,null,null,null,null,null,null,null,null,null,null,null,null,null,null,null,null,null,null,null,null,null,null,null,null,null,null,null,null,null,null,null,null,null,null,null,null,null,null,null,null,null,null,null,null,null,null,null,null,null,null,null,null,null,null,null,null,null,null,null,null,null,null,null,null,null,null,null,null,null,null,null,null,null,null,null,null,null,null,null,null,null,null,null,null,null,null,null,null,null,null,null,null,null,null,null,null,null,null,null,null,null,"FLOW-PEAT-GOTHER-",null,"P1100","_Z","OTHERUSE","_Z","_Z","_Z","_Z","_Z","GCV","_Z","MJ_T"]
[null,"COAL","PEATPROD","FLOW","GOTHER",null,"Peat products",null,null,null,null,null,null,null,null,null,null,null,null,null,null,null,null,null,null,null,null,null,null,null,null,null,null,null,null,null,null,null,null,null,null,null,null,null,null,null,null,null,null,null,null,null,null,null,null,null,null,null,null,null,null,null,null,null,null,null,null,null,null,null,null,null,null,null,null,null,null,null,null,null,null,null,null,null,null,null,null,null,null,null,null,null,null,null,null,null,null,null,null,null,null,null,null,null,null,null,null,null,null,null,null,null,null,null,null,null,null,null,null,null,null,"FLOW-PEATPROD-GOTHER-",null,"P1200","_Z","OTHERUSE","_Z","_Z","_Z","_Z","_Z","GCV","_Z","MJ_T"]
[null,"COAL","OILSHALE","FLOW","GOTHER",null,"Oil shale and oil sands",null,null,null,null,null,null,null,null,null,null,null,null,null,null,null,null,null,null,null,null,null,null,null,null,null,null,null,null,null,null,null,null,null,null,null,null,null,null,null,null,null,null,null,null,null,null,null,null,null,null,null,null,null,null,null,null,null,null,null,null,null,null,null,null,null,null,null,null,null,null,null,null,null,null,null,null,null,null,null,null,null,null,null,null,null,null,null,null,null,null,null,null,null,null,null,null,null,null,null,null,null,null,null,null,null,null,null,null,null,null,null,null,null,null,"FLOW-OILSHALE-GOTHER-",null,"S2000","_Z","OTHERUSE","_Z","_Z","_Z","_Z","_Z","GCV","_Z","MJ_T"]
[]
[null,null,null,null,null,null,"Default calorific values for gap filling"]
[null,null,null,null,null,null,"Anthracite",null,null,null,null,null,null,null,null,null,null,null,null,null,"ANTCOAL",26700,"ANTCOAL"]
[null,null,null,null,null,null,"Coking coal",null,null,null,null,null,null,null,null,null,null,null,null,null,"COKCOAL",28200,"COKCOAL"]
[null,null,null,null,null,null,"Other bituminous coal",null,null,null,null,null,null,null,null,null,null,null,null,null,"BITCOAL",25800,"BITCOAL"]
[null,null,null,null,null,null,"Sub-bituminous coal",null,null,null,null,null,null,null,null,null,null,null,null,null,"SUBCOAL",18900,"SUBCOAL"]
[null,null,null,null,null,null,"Lignite",null,null,null,null,null,null,null,null,null,null,null,null,null,"LIGNITE",11900,"LIGNITE"]
[null,null,null,null,null,null,"Patent fuel",null,null,null,null,null,null,null,null,null,null,null,null,null,"PATFUEL",20700,"PATFUEL"]
[null,null,null,null,null,null,"Coke Oven Coke",null,null,null,null,null,null,null,null,null,null,null,null,null,"OVENCOKE",28200,"OVENCOKE"]
[null,null,null,null,null,null,"Gas Coke",null,null,null,null,null,null,null,null,null,null,null,null,null,"GASCOKE",28200,"GASCOKE"]
[null,null,null,null,null,null,"Coal tar",null,null,null,null,null,null,null,null,null,null,null,null,null,"COALTAR",28000,"COALTAR"]
[null,null,null,null,null,null,"BKB",null,null,null,null,null,null,null,null,null,null,null,null,null,"BKB",19000,"BKB"]
[null,null,null,null,null,null,"Peat",null,null,null,null,null,null,null,null,null,null,null,null,null,"PEAT",9760,"PEAT"]
[null,null,null,null,null,null,"Peat products",null,null,null,null,null,null,null,null,null,null,null,null,null,"PEATPROD",16000,"PEATPROD"]
[null,null,null,null,null,null,"Oil shale and oil sands",null,null,null,null,null,null,null,null,null,null,null,null,null,"OILSHALE",8900,"OILSHALE"]
[]
[null,null,null,null,null,null,"Net calorific values - Used in blast furnaces (ALL GAPS FILLED) - [conversion to GJ]"]
[null,null,null,null,null,null,"Anthracite",{"$f":"IF(H7>0,H7,IF(H22>0,H22/1.05,$V97))","v":26700},26700,26700,26700,26700,26700,26700,26700,26700,26700,26700,26700,26700,26700,26700,26700,26700,26700,26700,26700,26700,26700,26700,26700,26700,26700,26700,26700,26700,26700,26700,{"$f":"IF(AM7>0,AM7,IF(AM22>0,AM22/1.05,$V97))","v":26700},26700,26700,26700,26700,26700,26700,26700,26700,26700,26700,26700,26700,26700,26700,26700,26700,26700,26700,26700,26700,26700,26700,26700,26700,26700,26700,26700,26700,26700]
[null,null,null,null,null,null,"Coking coal",28200,28200,28200,28200,28200,28200,28200,28200,28200,28200,28200,28200,28200,28200,28200,28200,28200,28200,28200,28200,28200,28200,28200,28200,28200,28200,28200,28200,28200,28200,28200,28200,28200,28200,28200,28200,28200,28200,28200,28200,28200,28200,28200,28200,28200,28200,28200,28200,28200,28200,28200,28200,28200,28200,28200,28200,28200,28200,28200,28200,28200]
[null,null,null,null,null,null,"Other bituminous coal",25800,25800,25800,25800,25800,25800,25800,25800,25800,25800,25800,25800,25800,25800,25800,25800,25800,25800,25800,25800,25800,25800,25800,25800,25800,25800,25800,25800,25800,25800,25800,25800,25800,25800,25800,25800,25800,25800,25800,25800,25800,25800,25800,25800,25800,25800,25800,25800,25800,25800,25800,25800,25800,25800,25800,25800,25800,25800,25800,25800,25800]
[null,null,null,null,null,null,"Sub-bituminous coal",18900,18900,18900,18900,18900,18900,18900,18900,18900,18900,18900,18900,18900,18900,18900,18900,18900,18900,18900,18900,18900,18900,18900,18900,18900,18900,18900,18900,18900,18900,18900,18900,18900,18900,18900,18900,18900,18900,18900,18900,18900,18900,18900,18900,18900,18900,18900,18900,18900,18900,18900,18900,18900,18900,18900,18900,18900,18900,18900,18900,18900]
[null,null,null,null,null,null,"Lignite",11900,11900,11900,11900,11900,11900,11900,11900,11900,11900,11900,11900,11900,11900,11900,11900,11900,11900,11900,11900,11900,11900,11900,11900,11900,11900,11900,11900,11900,11900,11900,11900,11900,11900,11900,11900,11900,11900,11900,11900,11900,11900,11900,11900,11900,11900,11900,11900,11900,11900,11900,11900,11900,11900,11900,11900,11900,11900,11900,11900,11900]
[null,null,null,null,null,null,"Patent fuel",20700,20700,20700,20700,20700,20700,20700,20700,20700,20700,20700,20700,20700,20700,20700,20700,20700,20700,20700,20700,20700,20700,20700,20700,20700,20700,20700,20700,20700,20700,20700,20700,20700,20700,20700,20700,20700,20700,20700,20700,20700,20700,20700,20700,20700,20700,20700,20700,20700,20700,20700,20700,20700,20700,20700,20700,20700,20700,20700,20700,20700]
[null,null,null,null,null,null,"Coke Oven Coke",28200,28200,28200,28200,28200,28200,28200,28200,28200,28200,28200,28200,28200,28200,28200,28200,28200,28200,28200,28200,28200,28200,28200,28200,28200,28200,28200,28200,28200,28200,28200,28200,28200,28200,28200,28200,28200,28200,28200,28200,28200,28200,28200,28200,28200,28200,28200,28200,28200,28200,28200,28200,28200,28200,28200,28200,28200,28200,28200,28200,28200]
[null,null,null,null,null,null,"Gas Coke",28200,28200,28200,28200,28200,28200,28200,28200,28200,28200,28200,28200,28200,28200,28200,28200,28200,28200,28200,28200,28200,28200,28200,28200,28200,28200,28200,28200,28200,28200,28200,28200,28200,28200,28200,28200,28200,28200,28200,28200,28200,28200,28200,28200,28200,28200,28200,28200,28200,28200,28200,28200,28200,28200,28200,28200,28200,28200,28200,28200,28200]
[null,null,null,null,null,null,"Coal tar",28000,28000,28000,28000,28000,28000,28000,{"$f":"IF(O15>0,O15,IF(O30>0,O30/1.05,$V105))","v":28000},28000,28000,28000,28000,28000,28000,28000,28000,28000,28000,28000,28000,28000,28000,28000,28000,28000,28000,28000,28000,28000,28000,28000,{"$f":"IF(AM15>0,AM15,IF(AM30>0,AM30/1.05,$V105))","v":28000},28000,28000,28000,28000,28000,28000,28000,28000,28000,28000,28000,28000,28000,28000,28000,28000,28000,28000,28000,28000,28000,28000,28000,28000,28000,28000,28000,28000,28000]
[null,null,null,null,null,null,"BKB",{"$f":"IF(H16>0,H16,IF(H31>0,H31/1.05,$V106))","v":19000},19000,19000,19000,19000,19000,19000,19000,19000,19000,19000,19000,19000,19000,19000,19000,19000,19000,19000,19000,19000,19000,19000,19000,19000,19000,19000,19000,19000,19000,19000,{"$f":"IF(AM16>0,AM16,IF(AM31>0,AM31/1.05,$V106))","v":19000},19000,19000,19000,19000,19000,19000,19000,19000,19000,19000,19000,19000,19000,19000,19000,19000,19000,19000,19000,19000,19000,19000,19000,19000,19000,19000,19000,19000,19000]
[null,null,null,null,null,null,"Peat",9760,9760,9760,9760,9760,9760,9760,9760,9760,9760,9760,9760,9760,9760,9760,9760,9760,9760,9760,9760,9760,9760,9760,9760,9760,9760,9760,9760,9760,9760,9760,{"$f":"IF(AM17>0,AM17,IF(AM32>0,AM32/1.05,$V107))","v":9760},9760,9760,9760,9760,9760,9760,9760,9760,9760,9760,9760,9760,9760,9760,9760,9760,9760,9760,9760,9760,9760,9760,9760,9760,9760,9760,9760,9760,9760]
[null,null,null,null,null,null,"Peat products",16000,16000,16000,16000,16000,16000,16000,16000,16000,16000,16000,16000,16000,16000,16000,16000,16000,16000,16000,16000,16000,16000,16000,16000,16000,16000,16000,16000,16000,16000,16000,{"$f":"IF(AM18>0,AM18,IF(AM33>0,AM33/1.05,$V108))","v":16000},16000,16000,16000,16000,16000,16000,16000,16000,16000,16000,16000,16000,16000,16000,16000,16000,16000,16000,16000,16000,16000,16000,16000,16000,16000,16000,16000,16000,16000]
[null,null,null,null,null,null,"Oil shale and oil sands",8900,8900,8900,8900,8900,8900,8900,8900,8900,8900,8900,8900,8900,8900,8900,8900,8900,8900,8900,8900,8900,8900,8900,8900,8900,8900,8900,8900,8900,8900,8900,{"$f":"IF(AM19>0,AM19,IF(AM34>0,AM34/1.05,$V109))","v":8900},8900,8900,8900,8900,8900,8900,8900,8900,8900,8900,8900,8900,8900,8900,8900,8900,8900,8900,8900,8900,8900,8900,8900,8900,8900,8900,8900,8900,8900]
[null,null,null,null,null,null,"Gas works gas",900,900,900,900,900,900,900,900,900,900,900,900,900,900,900,900,900,900,900,900,900,900,900,900,900,900,900,900,900,900,900,900,900,900,900,900,900,900,900,900,900,900,900,900,900,900,900,900,900,900,900,900,900,900,900,900,900,900,900,900,900]
[null,null,null,null,null,null,"Coke Oven gas",900,900,900,900,900,900,900,900,900,900,900,900,900,900,900,900,900,900,900,900,900,900,900,900,900,900,900,900,900,900,900,900,900,900,900,900,900,900,900,900,900,900,900,900,900,900,900,900,900,900,900,900,900,900,900,900,900,900,900,900,900]
[null,null,null,null,null,null,"Blast furnace gas",1000,1000,1000,1000,1000,1000,1000,1000,1000,1000,1000,1000,1000,1000,1000,1000,1000,1000,1000,1000,1000,1000,1000,1000,1000,1000,1000,1000,1000,1000,1000,1000,1000,1000,1000,1000,1000,1000,1000,1000,1000,1000,1000,1000,1000,1000,1000,1000,1000,1000,1000,1000,1000,1000,1000,1000,1000,1000,1000,1000,1000]
[null,null,null,null,null,null,"Other recovered gases",1000,1000,1000,1000,1000,1000,1000,1000,1000,1000,1000,1000,1000,1000,1000,1000,1000,1000,1000,1000,1000,1000,1000,1000,1000,1000,1000,1000,1000,1000,1000,1000,1000,1000,1000,1000,1000,1000,1000,1000,1000,1000,1000,1000,1000,1000,1000,1000,1000,1000,1000,1000,1000,1000,1000,1000,1000,1000,1000,1000,1000]
[]
[null,null,null,null,null,null,"Net calorific values - Used in industry (ALL GAPS FILLED)  - [conversion to GJ]"]
[null,null,null,null,null,null,"Anthracite",{"$f":"IF(H37>0,H37,IF(H52>0,H52/1.05,$V97))","v":26700},26700,26700,26700,26700,26700,26700,26700,26700,26700,26700,26700,26700,26700,26700,26700,26700,26700,26700,26700,26700,26700,26700,26700,26700,26700,26700,26700,26700,26700,26700,{"$f":"IF(AM37>0,AM37,IF(AM52>0,AM52/1.05,$V97))","v":26700},26700,26700,26700,26700,26700,26700,26700,26700,26700,26700,26700,26700,26700,26700,26700,26700,26700,26700,26700,26700,26700,26700,26700,26700,26700,26700,26700,26700,26700]
[null,null,null,null,null,null,"Coking coal",28200,28200,28200,28200,28200,28200,28200,28200,28200,28200,28200,28200,28200,28200,28200,28200,28200,28200,28200,28200,28200,28200,28200,28200,28200,28200,28200,28200,28200,28200,28200,28200,28200,28200,28200,28200,28200,28200,28200,28200,28200,28200,28200,28200,28200,28200,28200,28200,28200,28200,28200,28200,28200,28200,28200,28200,28200,28200,28200,28200,28200]
[null,null,null,null,null,null,"Other bituminous coal",25800,25800,25800,25800,25800,25800,25800,25800,25800,25800,25800,25800,25800,25800,25800,25800,25800,25800,25800,25800,25800,25800,25800,25800,25800,25800,25800,25800,25800,25800,25800,25800,25800,25800,25800,25800,25800,25800,25800,25800,25800,25800,25800,25800,25800,25800,25800,25800,25800,25800,25800,25800,25800,25800,25800,25800,25800,25800,25800,25800,25800]
[null,null,null,null,null,null,"Sub-bituminous coal",18900,18900,18900,18900,18900,18900,18900,18900,18900,18900,18900,18900,18900,18900,18900,18900,18900,18900,18900,18900,18900,18900,18900,18900,18900,18900,18900,18900,18900,18900,18900,18900,18900,18900,18900,18900,18900,18900,18900,18900,18900,18900,18900,18900,18900,18900,18900,18900,18900,18900,18900,18900,18900,18900,18900,18900,18900,18900,18900,18900,18900]
[null,null,null,null,null,null,"Lignite",11900,11900,11900,11900,11900,11900,11900,11900,11900,11900,11900,11900,11900,11900,11900,11900,11900,11900,11900,11900,11900,11900,11900,11900,11900,11900,11900,11900,11900,11900,11900,11900,11900,11900,11900,11900,11900,11900,11900,11900,11900,11900,11900,11900,11900,11900,11900,11900,11900,11900,11900,11900,11900,11900,11900,11900,11900,11900,11900,11900,11900]
[null,null,null,null,null,null,"Patent fuel",20700,20700,20700,20700,20700,20700,20700,20700,20700,20700,20700,20700,20700,20700,20700,20700,20700,20700,20700,20700,20700,20700,20700,20700,20700,20700,20700,20700,20700,20700,20700,20700,20700,20700,20700,20700,20700,20700,20700,20700,20700,20700,20700,20700,20700,20700,20700,20700,20700,20700,20700,20700,20700,20700,20700,20700,20700,20700,20700,20700,20700]
[null,null,null,null,null,null,"Coke Oven Coke",28200,28200,28200,28200,28200,28200,28200,28200,28200,28200,28200,28200,28200,28200,28200,28200,28200,28200,28200,28200,28200,28200,28200,28200,28200,28200,28200,28200,28200,28200,28200,28200,28200,28200,28200,28200,28200,28200,28200,28200,28200,28200,28200,28200,28200,28200,28200,28200,28200,28200,28200,28200,28200,28200,28200,28200,28200,28200,28200,28200,28200]
[null,null,null,null,null,null,"Gas Coke",28200,28200,28200,28200,28200,28200,28200,28200,28200,28200,28200,28200,28200,28200,28200,28200,28200,28200,28200,28200,28200,28200,28200,28200,28200,28200,28200,28200,28200,28200,28200,28200,28200,28200,28200,28200,28200,28200,28200,28200,28200,28200,28200,28200,28200,28200,28200,28200,28200,28200,28200,28200,28200,28200,28200,28200,28200,28200,28200,28200,28200]
[null,null,null,null,null,null,"Coal tar",28000,28000,28000,28000,28000,28000,28000,{"$f":"IF(O45>0,O45,IF(O60>0,O60/1.05,$V105))","v":28000},28000,28000,28000,28000,28000,28000,28000,28000,28000,28000,28000,28000,28000,28000,28000,28000,28000,28000,28000,28000,28000,28000,28000,{"$f":"IF(AM45>0,AM45,IF(AM60>0,AM60/1.05,$V105))","v":28000},28000,28000,28000,28000,28000,28000,28000,28000,28000,28000,28000,28000,28000,28000,28000,28000,28000,28000,28000,28000,28000,28000,28000,28000,28000,28000,28000,28000,28000]
[null,null,null,null,null,null,"BKB",{"$f":"IF(H46>0,H46,IF(H61>0,H61/1.05,$V106))","v":19000},19000,19000,19000,19000,19000,19000,19000,19000,19000,19000,19000,19000,19000,19000,19000,19000,19000,19000,19000,19000,19000,19000,19000,19000,19000,19000,19000,19000,19000,19000,{"$f":"IF(AM46>0,AM46,IF(AM61>0,AM61/1.05,$V106))","v":19000},19000,19000,19000,19000,19000,19000,19000,19000,19000,19000,19000,19000,19000,19000,19000,19000,19000,19000,19000,19000,19000,19000,19000,19000,19000,19000,19000,19000,19000]
[null,null,null,null,null,null,"Peat",9760,9760,9760,9760,9760,9760,9760,9760,9760,9760,9760,9760,9760,9760,9760,9760,9760,9760,9760,9760,9760,9760,9760,9760,9760,9760,9760,9760,9760,9760,9760,{"$f":"IF(AM47>0,AM47,IF(AM62>0,AM62/1.05,$V107))","v":9760},9760,9760,9760,9760,9760,9760,9760,9760,9760,9760,9760,9760,9760,9760,9760,9760,9760,9760,9760,9760,9760,9760,9760,9760,9760,9760,9760,9760,9760]
[null,null,null,null,null,null,"Peat products",16000,16000,16000,16000,16000,16000,16000,16000,16000,16000,16000,16000,16000,16000,16000,16000,16000,16000,16000,16000,16000,16000,16000,16000,16000,16000,16000,16000,16000,16000,16000,{"$f":"IF(AM48>0,AM48,IF(AM63>0,AM63/1.05,$V108))","v":16000},16000,16000,16000,16000,16000,16000,16000,16000,16000,16000,16000,16000,16000,16000,16000,16000,16000,16000,16000,16000,16000,16000,16000,16000,16000,16000,16000,16000,16000]
[null,null,null,null,null,null,"Oil shale and oil sands",8900,8900,8900,8900,8900,8900,8900,8900,8900,8900,8900,8900,8900,8900,8900,8900,8900,8900,8900,8900,8900,8900,8900,8900,8900,8900,8900,8900,8900,8900,8900,{"$f":"IF(AM49>0,AM49,IF(AM64>0,AM64/1.05,$V109))","v":8900},8900,8900,8900,8900,8900,8900,8900,8900,8900,8900,8900,8900,8900,8900,8900,8900,8900,8900,8900,8900,8900,8900,8900,8900,8900,8900,8900,8900,8900]
[null,null,null,null,null,null,"Gas works gas",900,900,900,900,900,900,900,900,900,900,900,900,900,900,900,900,900,900,900,900,900,900,900,900,900,900,900,900,900,900,900,900,900,900,900,900,900,900,900,900,900,900,900,900,900,900,900,900,900,900,900,900,900,900,900,900,900,900,900,900,900]
[null,null,null,null,null,null,"Coke Oven gas",900,900,900,900,900,900,900,900,900,900,900,900,900,900,900,900,900,900,900,900,900,900,900,900,900,900,900,900,900,900,900,900,900,900,900,900,900,900,900,900,900,900,900,900,900,900,900,900,900,900,900,900,900,900,900,900,900,900,900,900,900]
[null,null,null,null,null,null,"Blast furnace gas",1000,1000,1000,1000,1000,1000,1000,1000,1000,1000,1000,1000,1000,1000,1000,1000,1000,1000,1000,1000,1000,1000,1000,1000,1000,1000,1000,1000,1000,1000,1000,1000,1000,1000,1000,1000,1000,1000,1000,1000,1000,1000,1000,1000,1000,1000,1000,1000,1000,1000,1000,1000,1000,1000,1000,1000,1000,1000,1000,1000,1000]
[null,null,null,null,null,null,"Other recovered gases",1000,1000,1000,1000,1000,1000,1000,1000,1000,1000,1000,1000,1000,1000,1000,1000,1000,1000,1000,1000,1000,1000,1000,1000,1000,1000,1000,1000,1000,1000,1000,1000,1000,1000,1000,1000,1000,1000,1000,1000,1000,1000,1000,1000,1000,1000,1000,1000,1000,1000,1000,1000,1000,1000,1000,1000,1000,1000,1000,1000,1000]
[]
[null,null,null,null,null,null,"Net calorific values - For other uses (ALL GAPS FILLED) - [conversion to GJ]"]
[null,null,null,null,null,null,"Anthracite",{"$f":"IF(H67>0,H67,IF(H82>0,H82/1.05,$V97))","v":26700},26700,26700,26700,26700,26700,26700,26700,26700,26700,26700,26700,26700,26700,26700,26700,26700,26700,26700,26700,26700,26700,26700,26700,26700,26700,26700,26700,26700,26700,26700,{"$f":"IF(AM67>0,AM67,IF(AM82>0,AM82/1.05,$V97))","v":26700},26700,26700,26700,26700,26700,26700,26700,26700,26700,26700,26700,26700,26700,26700,26700,26700,26700,26700,26700,26700,26700,26700,26700,26700,26700,26700,26700,26700,26700]
[null,null,null,null,null,null,"Coking coal",28200,28200,28200,28200,28200,28200,28200,28200,28200,28200,28200,28200,28200,28200,28200,28200,28200,28200,28200,28200,28200,28200,28200,28200,28200,28200,28200,28200,28200,28200,28200,28200,28200,28200,28200,28200,28200,28200,28200,28200,28200,28200,28200,28200,28200,28200,28200,28200,28200,28200,28200,28200,28200,28200,28200,28200,28200,28200,28200,28200,28200]
[null,null,null,null,null,null,"Other bituminous coal",25800,25800,25800,25800,25800,25800,25800,25800,25800,25800,25800,25800,25800,25800,25800,25800,25800,25800,25800,25800,25800,25800,25800,25800,25800,25800,25800,25800,25800,25800,25800,25800,25800,25800,25800,25800,25800,25800,25800,25800,25800,25800,25800,25800,25800,25800,25800,25800,25800,25800,25800,25800,25800,25800,25800,25800,25800,25800,25800,25800,25800]
[null,null,null,null,null,null,"Sub-bituminous coal",18900,18900,18900,18900,18900,18900,18900,18900,18900,18900,18900,18900,18900,18900,18900,18900,18900,18900,18900,18900,18900,18900,18900,18900,18900,18900,18900,18900,18900,18900,18900,18900,18900,18900,18900,18900,18900,18900,18900,18900,18900,18900,18900,18900,18900,18900,18900,18900,18900,18900,18900,18900,18900,18900,18900,18900,18900,18900,18900,18900,18900]
[null,null,null,null,null,null,"Lignite",11900,11900,11900,11900,11900,11900,11900,11900,11900,11900,11900,11900,11900,11900,11900,11900,11900,11900,11900,11900,11900,11900,11900,11900,11900,11900,11900,11900,11900,11900,11900,11900,11900,11900,11900,11900,11900,11900,11900,11900,11900,11900,11900,11900,11900,11900,11900,11900,11900,11900,11900,11900,11900,11900,11900,11900,11900,11900,11900,11900,11900]
[null,null,null,null,null,null,"Patent fuel",20700,20700,20700,20700,20700,20700,20700,20700,20700,20700,20700,20700,20700,20700,20700,20700,20700,20700,20700,20700,20700,20700,20700,20700,20700,20700,20700,20700,20700,20700,20700,20700,20700,20700,20700,20700,20700,20700,20700,20700,20700,20700,20700,20700,20700,20700,20700,20700,20700,20700,20700,20700,20700,20700,20700,20700,20700,20700,20700,20700,20700]
[null,null,null,null,null,null,"Coke Oven Coke",28200,28200,28200,28200,28200,28200,28200,28200,28200,28200,28200,28200,28200,28200,28200,28200,28200,28200,28200,28200,28200,28200,28200,28200,28200,28200,28200,28200,28200,28200,28200,28200,28200,28200,28200,28200,28200,28200,28200,28200,28200,28200,28200,28200,28200,28200,28200,28200,28200,28200,28200,28200,28200,28200,28200,28200,28200,28200,28200,28200,28200]
[null,null,null,null,null,null,"Gas Coke",28200,28200,28200,28200,28200,28200,28200,28200,28200,28200,28200,28200,28200,28200,28200,28200,28200,28200,28200,28200,28200,28200,28200,28200,28200,28200,28200,28200,28200,28200,28200,28200,28200,28200,28200,28200,28200,28200,28200,28200,28200,28200,28200,28200,28200,28200,28200,28200,28200,28200,28200,28200,28200,28200,28200,28200,28200,28200,28200,28200,28200]
[null,null,null,null,null,null,"Coal tar",28000,28000,28000,28000,28000,28000,28000,{"$f":"IF(O75>0,O75,IF(O90>0,O90/1.05,$V105))","v":28000},28000,28000,28000,28000,28000,28000,28000,28000,28000,28000,28000,28000,28000,28000,28000,28000,28000,28000,28000,28000,28000,28000,28000,{"$f":"IF(AM75>0,AM75,IF(AM90>0,AM90/1.05,$V105))","v":28000},28000,28000,28000,28000,28000,28000,28000,28000,28000,28000,28000,28000,28000,28000,28000,28000,28000,28000,28000,28000,28000,28000,28000,28000,28000,28000,28000,28000,28000]
[null,null,null,null,null,null,"BKB",{"$f":"IF(H76>0,H76,IF(H91>0,H91/1.05,$V106))","v":19000},19000,19000,19000,19000,19000,19000,19000,19000,19000,19000,19000,19000,19000,19000,19000,19000,19000,19000,19000,19000,19000,19000,19000,19000,19000,19000,19000,19000,19000,19000,{"$f":"IF(AM76>0,AM76,IF(AM91>0,AM91/1.05,$V106))","v":19000},19000,19000,19000,19000,19000,19000,19000,19000,19000,19000,19000,19000,19000,19000,19000,19000,19000,19000,19000,19000,19000,19000,19000,19000,19000,19000,19000,19000,19000]
[null,null,null,null,null,null,"Peat",9760,9760,9760,9760,9760,9760,9760,9760,9760,9760,9760,9760,9760,9760,9760,9760,9760,9760,9760,9760,9760,9760,9760,9760,9760,9760,9760,9760,9760,9760,9760,{"$f":"IF(AM77>0,AM77,IF(AM92>0,AM92/1.05,$V107))","v":9760},9760,9760,9760,9760,9760,9760,9760,9760,9760,9760,9760,9760,9760,9760,9760,9760,9760,9760,9760,9760,9760,9760,9760,9760,9760,9760,9760,9760,9760]
[null,null,null,null,null,null,"Peat products",16000,16000,16000,16000,16000,16000,16000,16000,16000,16000,16000,16000,16000,16000,16000,16000,16000,16000,16000,16000,16000,16000,16000,16000,16000,16000,16000,16000,16000,16000,16000,{"$f":"IF(AM78>0,AM78,IF(AM93>0,AM93/1.05,$V108))","v":16000},16000,16000,16000,16000,16000,16000,16000,16000,16000,16000,16000,16000,16000,16000,16000,16000,16000,16000,16000,16000,16000,16000,16000,16000,16000,16000,16000,16000,16000]
[null,null,null,null,null,null,"Oil shale and oil sands",8900,8900,8900,8900,8900,8900,8900,8900,8900,8900,8900,8900,8900,8900,8900,8900,8900,8900,8900,8900,8900,8900,8900,8900,8900,8900,8900,8900,8900,8900,8900,{"$f":"IF(AM79>0,AM79,IF(AM94>0,AM94/1.05,$V109))","v":8900},8900,8900,8900,8900,8900,8900,8900,8900,8900,8900,8900,8900,8900,8900,8900,8900,8900,8900,8900,8900,8900,8900,8900,8900,8900,8900,8900,8900,8900]
[null,null,null,null,null,null,"Gas works gas",900,900,900,900,900,900,900,900,900,900,900,900,900,900,900,900,900,900,900,900,900,900,900,900,900,900,900,900,900,900,900,900,900,900,900,900,900,900,900,900,900,900,900,900,900,900,900,900,900,900,900,900,900,900,900,900,900,900,900,900,900]
[null,null,null,null,null,null,"Coke Oven gas",900,900,900,900,900,900,900,900,900,900,900,900,900,900,900,900,900,900,900,900,900,900,900,900,900,900,900,900,900,900,900,900,900,900,900,900,900,900,900,900,900,900,900,900,900,900,900,900,900,900,900,900,900,900,900,900,900,900,900,900,900]
[null,null,null,null,null,null,"Blast furnace gas",1000,1000,1000,1000,1000,1000,1000,1000,1000,1000,1000,1000,1000,1000,1000,1000,1000,1000,1000,1000,1000,1000,1000,1000,1000,1000,1000,1000,1000,1000,1000,1000,1000,1000,1000,1000,1000,1000,1000,1000,1000,1000,1000,1000,1000,1000,1000,1000,1000,1000,1000,1000,1000,1000,1000,1000,1000,1000,1000,1000,1000]
[null,null,null,null,null,null,"Other recovered gases",1000,1000,1000,1000,1000,1000,1000,1000,1000,1000,1000,1000,1000,1000,1000,1000,1000,1000,1000,1000,1000,1000,1000,1000,1000,1000,1000,1000,1000,1000,1000,1000,1000,1000,1000,1000,1000,1000,1000,1000,1000,1000,1000,1000,1000,1000,1000,1000,1000,1000,1000,1000,1000,1000,1000,1000,1000,1000,1000,1000,1000]
[]
[null,null,null,null,null,null,"Transformation Sector - Blast Furnaces"]
[null,"COAL","ANTCOAL","FLOW","TBLASTFUR",null,"Anthracite",null,null,null,null,null,null,null,null,null,null,null,null,null,null,null,null,null,null,null,null,null,null,null,null,null,null,null,null,null,null,null,null,null,null,null,null,null,null,null,null,null,null,null,null,null,null,null,null,null,null,null,null,null,null,null,null,null,null,null,null,null,null,null,null,null,null,null,null,null,null,null,null,null,null,null,null,null,null,null,null,null,null,null,null,null,null,null,null,null,null,null,null,null,null,null,null,null,null,null,null,null,null,null,null,null,null,null,null,null,null,null,null,null,null,"FLOW-ANTCOAL-TBLASTFUR-",null,"C0110","TRANSFOR","BLASTFUR","_Z","_Z","_Z","_Z","_Z","WEIGHT","_Z","KT"]
[null,"COAL","COKCOAL","FLOW","TBLASTFUR",null,"Coking coal",null,null,null,null,null,null,null,null,null,null,null,null,null,null,null,null,null,null,null,null,null,null,null,null,null,null,null,null,null,null,null,null,null,null,null,null,null,null,null,null,null,null,null,null,null,null,null,null,null,null,null,null,null,null,null,null,null,null,null,null,null,null,null,null,null,null,null,null,null,null,null,null,null,null,null,null,null,null,null,null,null,null,null,null,null,null,null,null,null,null,null,null,null,null,null,null,null,null,null,null,null,null,null,null,null,null,null,null,null,null,null,null,null,null,"FLOW-COKCOAL-TBLASTFUR-",null,"C0121","TRANSFOR","BLASTFUR","_Z","_Z","_Z","_Z","_Z","WEIGHT","_Z","KT"]
[null,"COAL","BITCOAL","FLOW","TBLASTFUR",null,"Other bituminous coal",null,null,null,null,null,null,null,null,null,null,null,null,null,null,null,null,null,null,null,null,null,null,null,null,null,null,null,null,null,null,null,null,null,null,null,null,null,null,null,null,null,null,null,null,null,null,null,null,null,null,null,null,null,null,null,null,null,null,null,null,null,null,null,null,null,null,null,null,null,null,null,null,null,null,null,null,null,null,null,null,null,null,null,null,null,null,null,null,null,null,null,null,null,null,null,null,null,null,null,null,null,null,null,null,null,null,null,null,null,null,null,null,null,null,"FLOW-BITCOAL-TBLASTFUR-",null,"C0129","TRANSFOR","BLASTFUR","_Z","_Z","_Z","_Z","_Z","WEIGHT","_Z","KT"]
[null,"COAL","SUBCOAL","FLOW","TBLASTFUR",null,"Sub-bituminous coal",null,null,null,null,null,null,null,null,null,null,null,null,null,null,null,null,null,null,null,null,null,null,null,null,null,null,null,null,null,null,null,null,null,null,null,null,null,null,null,null,null,null,null,null,null,null,null,null,null,null,null,null,null,null,null,null,null,null,null,null,null,null,null,null,null,null,null,null,null,null,null,null,null,null,null,null,null,null,null,null,null,null,null,null,null,null,null,null,null,null,null,null,null,null,null,null,null,null,null,null,null,null,null,null,null,null,null,null,null,null,null,null,null,null,"FLOW-SUBCOAL-TBLASTFUR-",null,"C0210","TRANSFOR","BLASTFUR","_Z","_Z","_Z","_Z","_Z","WEIGHT","_Z","KT"]
[null,"COAL","LIGNITE","FLOW","TBLASTFUR",null,"Lignite",null,null,null,null,null,null,null,null,null,null,null,null,null,null,null,null,null,null,null,null,null,null,null,null,null,null,null,null,null,null,null,null,null,null,null,null,null,null,null,null,null,null,null,null,null,null,null,null,null,null,null,null,null,null,null,null,null,null,null,null,null,null,null,null,null,null,null,null,null,null,null,null,null,null,null,null,null,null,null,null,null,null,null,null,null,null,null,null,null,null,null,null,null,null,null,null,null,null,null,null,null,null,null,null,null,null,null,null,null,null,null,null,null,null,"FLOW-LIGNITE-TBLASTFUR-",null,"C0220","TRANSFOR","BLASTFUR","_Z","_Z","_Z","_Z","_Z","WEIGHT","_Z","KT"]
[null,"COAL","PATFUEL","FLOW","TBLASTFUR",null,"Patent fuel",null,null,null,null,null,null,null,null,null,null,null,null,null,null,null,null,null,null,null,null,null,null,null,null,null,null,null,null,null,null,null,null,null,null,null,null,null,null,null,null,null,null,null,null,null,null,null,null,null,null,null,null,null,null,null,null,null,null,null,null,null,null,null,null,null,null,null,null,null,null,null,null,null,null,null,null,null,null,null,null,null,null,null,null,null,null,null,null,null,null,null,null,null,null,null,null,null,null,null,null,null,null,null,null,null,null,null,null,null,null,null,null,null,null,"FLOW-PATFUEL-TBLASTFUR-",null,"C0320","TRANSFOR","BLASTFUR","_Z","_Z","_Z","_Z","_Z","WEIGHT","_Z","KT"]
[null,"COAL","OVENCOKE","FLOW","TBLASTFUR",null,"Coke Oven Coke",null,null,null,null,null,null,null,null,null,null,null,null,null,null,null,null,null,null,null,null,null,null,null,null,null,null,null,null,null,null,null,null,null,null,null,null,null,null,null,null,null,null,null,null,null,null,null,null,null,null,null,null,null,null,null,null,null,null,null,null,null,null,null,null,null,null,null,null,null,null,null,null,null,null,null,null,null,null,null,null,null,null,null,null,null,null,null,null,null,null,null,null,null,null,null,null,null,null,null,null,null,null,null,null,null,null,null,null,null,null,null,null,null,null,"FLOW-OVENCOKE-TBLASTFUR-",null,"C0311","TRANSFOR","BLASTFUR","_Z","_Z","_Z","_Z","_Z","WEIGHT","_Z","KT"]
[null,"COAL","GASCOKE","FLOW","TBLASTFUR",null,"Gas Coke",null,null,null,null,null,null,null,null,null,null,null,null,null,null,null,null,null,null,null,null,null,null,null,null,null,null,null,null,null,null,null,null,null,null,null,null,null,null,null,null,null,null,null,null,null,null,null,null,null,null,null,null,null,null,null,null,null,null,null,null,null,null,null,null,null,null,null,null,null,null,null,null,null,null,null,null,null,null,null,null,null,null,null,null,null,null,null,null,null,null,null,null,null,null,null,null,null,null,null,null,null,null,null,null,null,null,null,null,null,null,null,null,null,null,"FLOW-GASCOKE-TBLASTFUR-",null,"C0312","TRANSFOR","BLASTFUR","_Z","_Z","_Z","_Z","_Z","WEIGHT","_Z","KT"]
[null,"COAL","COALTAR","FLOW","TBLASTFUR",null,"Coal tar",null,null,null,null,null,null,null,null,null,null,null,null,null,null,null,null,null,null,null,null,null,null,null,null,null,null,null,null,null,null,null,null,null,null,null,null,null,null,null,null,null,null,null,null,null,null,null,null,null,null,null,null,null,null,null,null,null,null,null,null,null,null,null,null,null,null,null,null,null,null,null,null,null,null,null,null,null,null,null,null,null,null,null,null,null,null,null,null,null,null,null,null,null,null,null,null,null,null,null,null,null,null,null,null,null,null,null,null,null,null,null,null,null,null,"FLOW-COALTAR-TBLASTFUR-",null,"C0340","TRANSFOR","BLASTFUR","_Z","_Z","_Z","_Z","_Z","WEIGHT","_Z","KT"]
[null,"COAL","BKB","FLOW","TBLASTFUR",null,"BKB",null,null,null,null,null,null,null,null,null,null,null,null,null,null,null,null,null,null,null,null,null,null,null,null,null,null,null,null,null,null,null,null,null,null,null,null,null,null,null,null,null,null,null,null,null,null,null,null,null,null,null,null,null,null,null,null,null,null,null,null,null,null,null,null,null,null,null,null,null,null,null,null,null,null,null,null,null,null,null,null,null,null,null,null,null,null,null,null,null,null,null,null,null,null,null,null,null,null,null,null,null,null,null,null,null,null,null,null,null,null,null,null,null,null,"FLOW-BKB-TBLASTFUR-",null,"C0330","TRANSFOR","BLASTFUR","_Z","_Z","_Z","_Z","_Z","WEIGHT","_Z","KT"]
[null,"COAL","PEAT","FLOW","TBLASTFUR",null,"Peat",null,null,null,null,null,null,null,null,null,null,null,null,null,null,null,null,null,null,null,null,null,null,null,null,null,null,null,null,null,null,null,null,null,null,null,null,null,null,null,null,null,null,null,null,null,null,null,null,null,null,null,null,null,null,null,null,null,null,null,null,null,null,null,null,null,null,null,null,null,null,null,null,null,null,null,null,null,null,null,null,null,null,null,null,null,null,null,null,null,null,null,null,null,null,null,null,null,null,null,null,null,null,null,null,null,null,null,null,null,null,null,null,null,null,"FLOW-PEAT-TBLASTFUR-",null,"P1100","TRANSFOR","BLASTFUR","_Z","_Z","_Z","_Z","_Z","WEIGHT","_Z","KT"]
[null,"COAL","PEATPROD","FLOW","TBLASTFUR",null,"Peat products",null,null,null,null,null,null,null,null,null,null,null,null,null,null,null,null,null,null,null,null,null,null,null,null,null,null,null,null,null,null,null,null,null,null,null,null,null,null,null,null,null,null,null,null,null,null,null,null,null,null,null,null,null,null,null,null,null,null,null,null,null,null,null,null,null,null,null,null,null,null,null,null,null,null,null,null,null,null,null,null,null,null,null,null,null,null,null,null,null,null,null,null,null,null,null,null,null,null,null,null,null,null,null,null,null,null,null,null,null,null,null,null,null,null,"FLOW-PEATPROD-TBLASTFUR-",null,"P1200","TRANSFOR","BLASTFUR","_Z","_Z","_Z","_Z","_Z","WEIGHT","_Z","KT"]
[null,"COAL","OILSHALE","FLOW","TBLASTFUR",null,"Oil shale and oil sands",null,null,null,null,null,null,null,null,null,null,null,null,null,null,null,null,null,null,null,null,null,null,null,null,null,null,null,null,null,null,null,null,null,null,null,null,null,null,null,null,null,null,null,null,null,null,null,null,null,null,null,null,null,null,null,null,null,null,null,null,null,null,null,null,null,null,null,null,null,null,null,null,null,null,null,null,null,null,null,null,null,null,null,null,null,null,null,null,null,null,null,null,null,null,null,null,null,null,null,null,null,null,null,null,null,null,null,null,null,null,null,null,null,null,"FLOW-OILSHALE-TBLASTFUR-",null,"S2000","TRANSFOR","BLASTFUR","_Z","_Z","_Z","_Z","_Z","WEIGHT","_Z","KT"]
[null,"COAL","GASWKSGS","FLOW","TBLASTFUR",null,"Gas works gas",null,null,null,null,null,null,null,null,null,null,null,null,null,null,null,null,null,null,null,null,null,null,null,null,null,null,null,null,null,null,null,null,null,null,null,null,null,null,null,null,null,null,null,null,null,null,null,null,null,null,null,null,null,null,null,null,null,null,null,null,null,null,null,null,null,null,null,null,null,null,null,null,null,null,null,null,null,null,null,null,null,null,null,null,null,null,null,null,null,null,null,null,null,null,null,null,null,null,null,null,null,null,null,null,null,null,null,null,null,null,null,null,null,null,"FLOW-GASWKSGS-TBLASTFUR-",null,"C0360","TRANSFOR","BLASTFUR","_Z","_Z","_Z","_Z","_Z","ENERGY","_Z","TJ_GCV"]
[null,"COAL","COKEOVGS","FLOW","TBLASTFUR",null,"Coke Oven gas",null,null,null,null,null,null,null,null,null,null,null,null,null,null,null,null,null,null,null,null,null,null,null,null,null,null,null,null,null,null,null,null,null,null,null,null,null,null,null,null,null,null,null,null,null,null,null,null,null,null,null,null,null,null,null,null,null,null,null,null,null,null,null,null,null,null,null,null,null,null,null,null,null,null,null,null,null,null,null,null,null,null,null,null,null,null,null,null,null,null,null,null,null,null,null,null,null,null,null,null,null,null,null,null,null,null,null,null,null,null,null,null,null,null,"FLOW-COKEOVGS-TBLASTFUR-",null,"C0350","TRANSFOR","BLASTFUR","_Z","_Z","_Z","_Z","_Z","ENERGY","_Z","TJ_GCV"]
[null,"COAL","BLFURGS","FLOW","TBLASTFUR",null,"Blast furnace gas",null,null,null,null,null,null,null,null,null,null,null,null,null,null,null,null,null,null,null,null,null,null,null,null,null,null,null,null,null,null,null,null,null,null,null,null,null,null,null,null,null,null,null,null,null,null,null,null,null,null,null,null,null,null,null,null,null,null,null,null,null,null,null,null,null,null,null,null,null,null,null,null,null,null,null,null,null,null,null,null,null,null,null,null,null,null,null,null,null,null,null,null,null,null,null,null,null,null,null,null,null,null,null,null,null,null,null,null,null,null,null,null,null,null,"FLOW-BLFURGS-TBLASTFUR-",null,"C0371","TRANSFOR","BLASTFUR","_Z","_Z","_Z","_Z","_Z","ENERGY","_Z","TJ_GCV"]
[null,"COAL","OGASES","FLOW","TBLASTFUR",null,"Other recovered gases",null,null,null,null,null,null,null,null,null,null,null,null,null,null,null,null,null,null,null,null,null,null,null,null,null,null,null,null,null,null,null,null,null,null,null,null,null,null,null,null,null,null,null,null,null,null,null,null,null,null,null,null,null,null,null,null,null,null,null,null,null,null,null,null,null,null,null,null,null,null,null,null,null,null,null,null,null,null,null,null,null,null,null,null,null,null,null,null,null,null,null,null,null,null,null,null,null,null,null,null,null,null,null,null,null,null,null,null,null,null,null,null,null,null,"FLOW-OGASES-TBLASTFUR-",null,"C0379","TRANSFOR","BLASTFUR","_Z","_Z","_Z","_Z","_Z","ENERGY","_Z","TJ_GCV"]
[]
[null,null,null,null,null,null,"Industry Sector - Total"]
[null,"COAL","ANTCOAL","FLOW","TOTIND",null,"Anthracite",null,null,null,null,null,null,null,null,null,null,null,null,null,null,null,null,null,null,null,null,null,null,null,null,null,null,null,null,null,null,null,null,null,null,null,null,null,null,null,null,null,null,null,null,null,null,null,null,null,null,null,null,null,null,null,null,null,null,null,null,null,null,null,null,null,null,null,null,null,null,null,null,null,null,null,null,null,null,null,null,null,null,null,null,null,null,null,null,null,null,null,null,null,null,null,null,null,null,null,null,null,null,null,null,null,null,null,null,null,null,null,null,null,null,"FLOW-ANTCOAL-TOTIND-",null,"C0110","ENERGUSE","INDUSTRY","_Z","_Z","_Z","_Z","_Z","WEIGHT","_Z","KT"]
[null,"COAL","COKCOAL","FLOW","TOTIND",null,"Coking coal",null,null,null,null,null,null,null,null,null,null,null,null,null,null,null,null,null,null,null,null,null,null,null,null,null,null,null,null,null,null,null,null,null,null,null,null,null,null,null,null,null,null,null,null,null,null,null,null,null,null,null,null,null,null,null,null,null,null,null,null,null,null,null,null,null,null,null,null,null,null,null,null,null,null,null,null,null,null,null,null,null,null,null,null,null,null,null,null,null,null,null,null,null,null,null,null,null,null,null,null,null,null,null,null,null,null,null,null,null,null,null,null,null,null,"FLOW-COKCOAL-TOTIND-",null,"C0121","ENERGUSE","INDUSTRY","_Z","_Z","_Z","_Z","_Z","WEIGHT","_Z","KT"]
[null,"COAL","BITCOAL","FLOW","TOTIND",null,"Other bituminous coal",null,null,null,null,null,null,null,null,null,null,null,null,null,null,null,null,null,null,null,null,null,null,null,null,null,null,null,null,null,null,null,null,null,null,null,null,null,null,null,null,null,null,null,null,null,null,null,null,null,null,null,null,null,null,null,null,null,null,null,null,null,null,null,null,null,null,null,null,null,null,null,null,null,null,null,null,null,null,null,null,null,null,null,null,null,null,null,null,null,null,null,null,null,null,null,null,null,null,null,null,null,null,null,null,null,null,null,null,null,null,null,null,null,null,"FLOW-BITCOAL-TOTIND-",null,"C0129","ENERGUSE","INDUSTRY","_Z","_Z","_Z","_Z","_Z","WEIGHT","_Z","KT"]
[null,"COAL","SUBCOAL","FLOW","TOTIND",null,"Sub-bituminous coal",null,null,null,null,null,null,null,null,null,null,null,null,null,null,null,null,null,null,null,null,null,null,null,null,null,null,null,null,null,null,null,null,null,null,null,null,null,null,null,null,null,null,null,null,null,null,null,null,null,null,null,null,null,null,null,null,null,null,null,null,null,null,null,null,null,null,null,null,null,null,null,null,null,null,null,null,null,null,null,null,null,null,null,null,null,null,null,null,null,null,null,null,null,null,null,null,null,null,null,null,null,null,null,null,null,null,null,null,null,null,null,null,null,null,"FLOW-SUBCOAL-TOTIND-",null,"C0210","ENERGUSE","INDUSTRY","_Z","_Z","_Z","_Z","_Z","WEIGHT","_Z","KT"]
[null,"COAL","LIGNITE","FLOW","TOTIND",null,"Lignite",null,null,null,null,null,null,null,null,null,null,null,null,null,null,null,null,null,null,null,null,null,null,null,null,null,null,null,null,null,null,null,null,null,null,null,null,null,null,null,null,null,null,null,null,null,null,null,null,null,null,null,null,null,null,null,null,null,null,null,null,null,null,null,null,null,null,null,null,null,null,null,null,null,null,null,null,null,null,null,null,null,null,null,null,null,null,null,null,null,null,null,null,null,null,null,null,null,null,null,null,null,null,null,null,null,null,null,null,null,null,null,null,null,null,"FLOW-LIGNITE-TOTIND-",null,"C0220","ENERGUSE","INDUSTRY","_Z","_Z","_Z","_Z","_Z","WEIGHT","_Z","KT"]
[null,"COAL","PATFUEL","FLOW","TOTIND",null,"Patent fuel",null,null,null,null,null,null,null,null,null,null,null,null,null,null,null,null,null,null,null,null,null,null,null,null,null,null,null,null,null,null,null,null,null,null,null,null,null,null,null,null,null,null,null,null,null,null,null,null,null,null,null,null,null,null,null,null,null,null,null,null,null,null,null,null,null,null,null,null,null,null,null,null,null,null,null,null,null,null,null,null,null,null,null,null,null,null,null,null,null,null,null,null,null,null,null,null,null,null,null,null,null,null,null,null,null,null,null,null,null,null,null,null,null,null,"FLOW-PATFUEL-TOTIND-",null,"C0320","ENERGUSE","INDUSTRY","_Z","_Z","_Z","_Z","_Z","WEIGHT","_Z","KT"]
[null,"COAL","OVENCOKE","FLOW","TOTIND",null,"Coke Oven Coke",null,null,null,null,null,null,null,null,null,null,null,null,null,null,null,null,null,null,null,null,null,null,null,null,null,null,null,null,null,null,null,null,null,null,null,null,null,null,null,null,null,null,null,null,null,null,null,null,null,null,null,null,null,null,null,null,null,null,null,null,null,null,null,null,null,null,null,null,null,null,null,null,null,null,null,null,null,null,null,null,null,null,null,null,null,null,null,null,null,null,null,null,null,null,null,null,null,null,null,null,null,null,null,null,null,null,null,null,null,null,null,null,null,null,"FLOW-OVENCOKE-TOTIND-",null,"C0311","ENERGUSE","INDUSTRY","_Z","_Z","_Z","_Z","_Z","WEIGHT","_Z","KT"]
[null,"COAL","GASCOKE","FLOW","TOTIND",null,"Gas Coke",null,null,null,null,null,null,null,null,null,null,null,null,null,null,null,null,null,null,null,null,null,null,null,null,null,null,null,null,null,null,null,null,null,null,null,null,null,null,null,null,null,null,null,null,null,null,null,null,null,null,null,null,null,null,null,null,null,null,null,null,null,null,null,null,null,null,null,null,null,null,null,null,null,null,null,null,null,null,null,null,null,null,null,null,null,null,null,null,null,null,null,null,null,null,null,null,null,null,null,null,null,null,null,null,null,null,null,null,null,null,null,null,null,null,"FLOW-GASCOKE-TOTIND-",null,"C0312","ENERGUSE","INDUSTRY","_Z","_Z","_Z","_Z","_Z","WEIGHT","_Z","KT"]
[null,"COAL","COALTAR","FLOW","TOTIND",null,"Coal tar",null,null,null,null,null,null,null,null,null,null,null,null,null,null,null,null,null,null,null,null,null,null,null,null,null,null,null,null,null,null,null,null,null,null,null,null,null,null,null,null,null,null,null,null,null,null,null,null,null,null,null,null,null,null,null,null,null,null,null,null,null,null,null,null,null,null,null,null,null,null,null,null,null,null,null,null,null,null,null,null,null,null,null,null,null,null,null,null,null,null,null,null,null,null,null,null,null,null,null,null,null,null,null,null,null,null,null,null,null,null,null,null,null,null,"FLOW-COALTAR-TOTIND-",null,"C0340","ENERGUSE","INDUSTRY","_Z","_Z","_Z","_Z","_Z","WEIGHT","_Z","KT"]
[null,"COAL","BKB","FLOW","TOTIND",null,"BKB",null,null,null,null,null,null,null,null,null,null,null,null,null,null,null,null,null,null,null,null,null,null,null,null,null,null,null,null,null,null,null,null,null,null,null,null,null,null,null,null,null,null,null,null,null,null,null,null,null,null,null,null,null,null,null,null,null,null,null,null,null,null,null,null,null,null,null,null,null,null,null,null,null,null,null,null,null,null,null,null,null,null,null,null,null,null,null,null,null,null,null,null,null,null,null,null,null,null,null,null,null,null,null,null,null,null,null,null,null,null,null,null,null,null,"FLOW-BKB-TOTIND-",null,"C0330","ENERGUSE","INDUSTRY","_Z","_Z","_Z","_Z","_Z","WEIGHT","_Z","KT"]
[null,"COAL","PEAT","FLOW","TOTIND",null,"Peat",null,null,null,null,null,null,null,null,null,null,null,null,null,null,null,null,null,null,null,null,null,null,null,null,null,null,null,null,null,null,null,null,null,null,null,null,null,null,null,null,null,null,null,null,null,null,null,null,null,null,null,null,null,null,null,null,null,null,null,null,null,null,null,null,null,null,null,null,null,null,null,null,null,null,null,null,null,null,null,null,null,null,null,null,null,null,null,null,null,null,null,null,null,null,null,null,null,null,null,null,null,null,null,null,null,null,null,null,null,null,null,null,null,null,"FLOW-PEAT-TOTIND-",null,"P1100","ENERGUSE","INDUSTRY","_Z","_Z","_Z","_Z","_Z","WEIGHT","_Z","KT"]
[null,"COAL","PEATPROD","FLOW","TOTIND",null,"Peat products",null,null,null,null,null,null,null,null,null,null,null,null,null,null,null,null,null,null,null,null,null,null,null,null,null,null,null,null,null,null,null,null,null,null,null,null,null,null,null,null,null,null,null,null,null,null,null,null,null,null,null,null,null,null,null,null,null,null,null,null,null,null,null,null,null,null,null,null,null,null,null,null,null,null,null,null,null,null,null,null,null,null,null,null,null,null,null,null,null,null,null,null,null,null,null,null,null,null,null,null,null,null,null,null,null,null,null,null,null,null,null,null,null,null,"FLOW-PEATPROD-TOTIND-",null,"P1200","ENERGUSE","INDUSTRY","_Z","_Z","_Z","_Z","_Z","WEIGHT","_Z","KT"]
[null,"COAL","OILSHALE","FLOW","TOTIND",null,"Oil shale and oil sands",null,null,null,null,null,null,null,null,null,null,null,null,null,null,null,null,null,null,null,null,null,null,null,null,null,null,null,null,null,null,null,null,null,null,null,null,null,null,null,null,null,null,null,null,null,null,null,null,null,null,null,null,null,null,null,null,null,null,null,null,null,null,null,null,null,null,null,null,null,null,null,null,null,null,null,null,null,null,null,null,null,null,null,null,null,null,null,null,null,null,null,null,null,null,null,null,null,null,null,null,null,null,null,null,null,null,null,null,null,null,null,null,null,null,"FLOW-OILSHALE-TOTIND-",null,"S2000","ENERGUSE","INDUSTRY","_Z","_Z","_Z","_Z","_Z","WEIGHT","_Z","KT"]
[null,"COAL","GASWKSGS","FLOW","TOTIND",null,"Gas works gas",null,null,null,null,null,null,null,null,null,null,null,null,null,null,null,null,null,null,null,null,null,null,null,null,null,null,null,null,null,null,null,null,null,null,null,null,null,null,null,null,null,null,null,null,null,null,null,null,null,null,null,null,null,null,null,null,null,null,null,null,null,null,null,null,null,null,null,null,null,null,null,null,null,null,null,null,null,null,null,null,null,null,null,null,null,null,null,null,null,null,null,null,null,null,null,null,null,null,null,null,null,null,null,null,null,null,null,null,null,null,null,null,null,null,"FLOW-GASWKSGS-TOTIND-",null,"C0360","ENERGUSE","INDUSTRY","_Z","_Z","_Z","_Z","_Z","ENERGY","_Z","TJ_GCV"]
[null,"COAL","COKEOVGS","FLOW","TOTIND",null,"Coke Oven gas",null,null,null,null,null,null,null,null,null,null,null,null,null,null,null,null,null,null,null,null,null,null,null,null,null,null,null,null,null,null,null,null,null,null,null,null,null,null,null,null,null,null,null,null,null,null,null,null,null,null,null,null,null,null,null,null,null,null,null,null,null,null,null,null,null,null,null,null,null,null,null,null,null,null,null,null,null,null,null,null,null,null,null,null,null,null,null,null,null,null,null,null,null,null,null,null,null,null,null,null,null,null,null,null,null,null,null,null,null,null,null,null,null,null,"FLOW-COKEOVGS-TOTIND-",null,"C0350","ENERGUSE","INDUSTRY","_Z","_Z","_Z","_Z","_Z","ENERGY","_Z","TJ_GCV"]
[null,"COAL","BLFURGS","FLOW","TOTIND",null,"Blast furnace gas",null,null,null,null,null,null,null,null,null,null,null,null,null,null,null,null,null,null,null,null,null,null,null,null,null,null,null,null,null,null,null,null,null,null,null,null,null,null,null,null,null,null,null,null,null,null,null,null,null,null,null,null,null,null,null,null,null,null,null,null,null,null,null,null,null,null,null,null,null,null,null,null,null,null,null,null,null,null,null,null,null,null,null,null,null,null,null,null,null,null,null,null,null,null,null,null,null,null,null,null,null,null,null,null,null,null,null,null,null,null,null,null,null,null,"FLOW-BLFURGS-TOTIND-",null,"C0371","ENERGUSE","INDUSTRY","_Z","_Z","_Z","_Z","_Z","ENERGY","_Z","TJ_GCV"]
[null,"COAL","OGASES","FLOW","TOTIND",null,"Other recovered gases",null,null,null,null,null,null,null,null,null,null,null,null,null,null,null,null,null,null,null,null,null,null,null,null,null,null,null,null,null,null,null,null,null,null,null,null,null,null,null,null,null,null,null,null,null,null,null,null,null,null,null,null,null,null,null,null,null,null,null,null,null,null,null,null,null,null,null,null,null,null,null,null,null,null,null,null,null,null,null,null,null,null,null,null,null,null,null,null,null,null,null,null,null,null,null,null,null,null,null,null,null,null,null,null,null,null,null,null,null,null,null,null,null,null,"FLOW-OGASES-TOTIND-",null,"C0379","ENERGUSE","INDUSTRY","_Z","_Z","_Z","_Z","_Z","ENERGY","_Z","TJ_GCV"]
[]
[null,null,null,null,null,null,"Other Sectors - Total"]
[null,"COAL","ANTCOAL","FLOW","TOTOTHER",null,"Anthracite",null,null,null,null,null,null,null,null,null,null,null,null,null,null,null,null,null,null,null,null,null,null,null,null,null,null,null,null,null,null,null,null,null,null,null,null,null,null,null,null,null,null,null,null,null,null,null,null,null,null,null,null,null,null,null,null,null,null,null,null,null,null,null,null,null,null,null,null,null,null,null,null,null,null,null,null,null,null,null,null,null,null,null,null,null,null,null,null,null,null,null,null,null,null,null,null,null,null,null,null,null,null,null,null,null,null,null,null,null,null,null,null,null,null,"FLOW-ANTCOAL-TOTOTHER-",null,"C0110","ENERGUSE","OTHSECT","_Z","_Z","_Z","_Z","_Z","WEIGHT","_Z","KT"]
[null,"COAL","COKCOAL","FLOW","TOTOTHER",null,"Coking coal",null,null,null,null,null,null,null,null,null,null,null,null,null,null,null,null,null,null,null,null,null,null,null,null,null,null,null,null,null,null,null,null,null,null,null,null,null,null,null,null,null,null,null,null,null,null,null,null,null,null,null,null,null,null,null,null,null,null,null,null,null,null,null,null,null,null,null,null,null,null,null,null,null,null,null,null,null,null,null,null,null,null,null,null,null,null,null,null,null,null,null,null,null,null,null,null,null,null,null,null,null,null,null,null,null,null,null,null,null,null,null,null,null,null,"FLOW-COKCOAL-TOTOTHER-",null,"C0121","ENERGUSE","OTHSECT","_Z","_Z","_Z","_Z","_Z","WEIGHT","_Z","KT"]
[null,"COAL","BITCOAL","FLOW","TOTOTHER",null,"Other bituminous coal",null,null,null,null,null,null,null,null,null,null,null,null,null,null,null,null,null,null,null,null,null,null,null,null,null,null,null,null,null,null,null,null,null,null,null,null,null,null,null,null,null,null,null,null,null,null,null,null,null,null,null,null,null,null,null,null,null,null,null,null,null,null,null,null,null,null,null,null,null,null,null,null,null,null,null,null,null,null,null,null,null,null,null,null,null,null,null,null,null,null,null,null,null,null,null,null,null,null,null,null,null,null,null,null,null,null,null,null,null,null,null,null,null,null,"FLOW-BITCOAL-TOTOTHER-",null,"C0129","ENERGUSE","OTHSECT","_Z","_Z","_Z","_Z","_Z","WEIGHT","_Z","KT"]
[null,"COAL","SUBCOAL","FLOW","TOTOTHER",null,"Sub-bituminous coal",null,null,null,null,null,null,null,null,null,null,null,null,null,null,null,null,null,null,null,null,null,null,null,null,null,null,null,null,null,null,null,null,null,null,null,null,null,null,null,null,null,null,null,null,null,null,null,null,null,null,null,null,null,null,null,null,null,null,null,null,null,null,null,null,null,null,null,null,null,null,null,null,null,null,null,null,null,null,null,null,null,null,null,null,null,null,null,null,null,null,null,null,null,null,null,null,null,null,null,null,null,null,null,null,null,null,null,null,null,null,null,null,null,null,"FLOW-SUBCOAL-TOTOTHER-",null,"C0210","ENERGUSE","OTHSECT","_Z","_Z","_Z","_Z","_Z","WEIGHT","_Z","KT"]
[null,"COAL","LIGNITE","FLOW","TOTOTHER",null,"Lignite",null,null,null,null,null,null,null,null,null,null,null,null,null,null,null,null,null,null,null,null,null,null,null,null,null,null,null,null,null,null,null,null,null,null,null,null,null,null,null,null,null,null,null,null,null,null,null,null,null,null,null,null,null,null,null,null,null,null,null,null,null,null,null,null,null,null,null,null,null,null,null,null,null,null,null,null,null,null,null,null,null,null,null,null,null,null,null,null,null,null,null,null,null,null,null,null,null,null,null,null,null,null,null,null,null,null,null,null,null,null,null,null,null,null,"FLOW-LIGNITE-TOTOTHER-",null,"C0220","ENERGUSE","OTHSECT","_Z","_Z","_Z","_Z","_Z","WEIGHT","_Z","KT"]
[null,"COAL","PATFUEL","FLOW","TOTOTHER",null,"Patent fuel",null,null,null,null,null,null,null,null,null,null,null,null,null,null,null,null,null,null,null,null,null,null,null,null,null,null,null,null,null,null,null,null,null,null,null,null,null,null,null,null,null,null,null,null,null,null,null,null,null,null,null,null,null,null,null,null,null,null,null,null,null,null,null,null,null,null,null,null,null,null,null,null,null,null,null,null,null,null,null,null,null,null,null,null,null,null,null,null,null,null,null,null,null,null,null,null,null,null,null,null,null,null,null,null,null,null,null,null,null,null,null,null,null,null,"FLOW-PATFUEL-TOTOTHER-",null,"C0320","ENERGUSE","OTHSECT","_Z","_Z","_Z","_Z","_Z","WEIGHT","_Z","KT"]
[null,"COAL","OVENCOKE","FLOW","TOTOTHER",null,"Coke Oven Coke",null,null,null,null,null,null,null,null,null,null,null,null,null,null,null,null,null,null,null,null,null,null,null,null,null,null,null,null,null,null,null,null,null,null,null,null,null,null,null,null,null,null,null,null,null,null,null,null,null,null,null,null,null,null,null,null,null,null,null,null,null,null,null,null,null,null,null,null,null,null,null,null,null,null,null,null,null,null,null,null,null,null,null,null,null,null,null,null,null,null,null,null,null,null,null,null,null,null,null,null,null,null,null,null,null,null,null,null,null,null,null,null,null,null,"FLOW-OVENCOKE-TOTOTHER-",null,"C0311","ENERGUSE","OTHSECT","_Z","_Z","_Z","_Z","_Z","WEIGHT","_Z","KT"]
[null,"COAL","GASCOKE","FLOW","TOTOTHER",null,"Gas Coke",null,null,null,null,null,null,null,null,null,null,null,null,null,null,null,null,null,null,null,null,null,null,null,null,null,null,null,null,null,null,null,null,null,null,null,null,null,null,null,null,null,null,null,null,null,null,null,null,null,null,null,null,null,null,null,null,null,null,null,null,null,null,null,null,null,null,null,null,null,null,null,null,null,null,null,null,null,null,null,null,null,null,null,null,null,null,null,null,null,null,null,null,null,null,null,null,null,null,null,null,null,null,null,null,null,null,null,null,null,null,null,null,null,null,"FLOW-GASCOKE-TOTOTHER-",null,"C0312","ENERGUSE","OTHSECT","_Z","_Z","_Z","_Z","_Z","WEIGHT","_Z","KT"]
[null,"COAL","COALTAR","FLOW","TOTOTHER",null,"Coal tar",null,null,null,null,null,null,null,null,null,null,null,null,null,null,null,null,null,null,null,null,null,null,null,null,null,null,null,null,null,null,null,null,null,null,null,null,null,null,null,null,null,null,null,null,null,null,null,null,null,null,null,null,null,null,null,null,null,null,null,null,null,null,null,null,null,null,null,null,null,null,null,null,null,null,null,null,null,null,null,null,null,null,null,null,null,null,null,null,null,null,null,null,null,null,null,null,null,null,null,null,null,null,null,null,null,null,null,null,null,null,null,null,null,null,"FLOW-COALTAR-TOTOTHER-",null,"C0340","ENERGUSE","OTHSECT","_Z","_Z","_Z","_Z","_Z","WEIGHT","_Z","KT"]
[null,"COAL","BKB","FLOW","TOTOTHER",null,"BKB",null,null,null,null,null,null,null,null,null,null,null,null,null,null,null,null,null,null,null,null,null,null,null,null,null,null,null,null,null,null,null,null,null,null,null,null,null,null,null,null,null,null,null,null,null,null,null,null,null,null,null,null,null,null,null,null,null,null,null,null,null,null,null,null,null,null,null,null,null,null,null,null,null,null,null,null,null,null,null,null,null,null,null,null,null,null,null,null,null,null,null,null,null,null,null,null,null,null,null,null,null,null,null,null,null,null,null,null,null,null,null,null,null,null,"FLOW-BKB-TOTOTHER-",null,"C0330","ENERGUSE","OTHSECT","_Z","_Z","_Z","_Z","_Z","WEIGHT","_Z","KT"]
[null,"COAL","PEAT","FLOW","TOTOTHER",null,"Peat",null,null,null,null,null,null,null,null,null,null,null,null,null,null,null,null,null,null,null,null,null,null,null,null,null,null,null,null,null,null,null,null,null,null,null,null,null,null,null,null,null,null,null,null,null,null,null,null,null,null,null,null,null,null,null,null,null,null,null,null,null,null,null,null,null,null,null,null,null,null,null,null,null,null,null,null,null,null,null,null,null,null,null,null,null,null,null,null,null,null,null,null,null,null,null,null,null,null,null,null,null,null,null,null,null,null,null,null,null,null,null,null,null,null,"FLOW-PEAT-TOTOTHER-",null,"P1100","ENERGUSE","OTHSECT","_Z","_Z","_Z","_Z","_Z","WEIGHT","_Z","KT"]
[null,"COAL","PEATPROD","FLOW","TOTOTHER",null,"Peat products",null,null,null,null,null,null,null,null,null,null,null,null,null,null,null,null,null,null,null,null,null,null,null,null,null,null,null,null,null,null,null,null,null,null,null,null,null,null,null,null,null,null,null,null,null,null,null,null,null,null,null,null,null,null,null,null,null,null,null,null,null,null,null,null,null,null,null,null,null,null,null,null,null,null,null,null,null,null,null,null,null,null,null,null,null,null,null,null,null,null,null,null,null,null,null,null,null,null,null,null,null,null,null,null,null,null,null,null,null,null,null,null,null,null,"FLOW-PEATPROD-TOTOTHER-",null,"P1200","ENERGUSE","OTHSECT","_Z","_Z","_Z","_Z","_Z","WEIGHT","_Z","KT"]
[null,"COAL","OILSHALE","FLOW","TOTOTHER",null,"Oil shale and oil sands",null,null,null,null,null,null,null,null,null,null,null,null,null,null,null,null,null,null,null,null,null,null,null,null,null,null,null,null,null,null,null,null,null,null,null,null,null,null,null,null,null,null,null,null,null,null,null,null,null,null,null,null,null,null,null,null,null,null,null,null,null,null,null,null,null,null,null,null,null,null,null,null,null,null,null,null,null,null,null,null,null,null,null,null,null,null,null,null,null,null,null,null,null,null,null,null,null,null,null,null,null,null,null,null,null,null,null,null,null,null,null,null,null,null,"FLOW-OILSHALE-TOTOTHER-",null,"S2000","ENERGUSE","OTHSECT","_Z","_Z","_Z","_Z","_Z","WEIGHT","_Z","KT"]
[null,"COAL","GASWKSGS","FLOW","TOTOTHER",null,"Gas works gas",null,null,null,null,null,null,null,null,null,null,null,null,null,null,null,null,null,null,null,null,null,null,null,null,null,null,null,null,null,null,null,null,null,null,null,null,null,null,null,null,null,null,null,null,null,null,null,null,null,null,null,null,null,null,null,null,null,null,null,null,null,null,null,null,null,null,null,null,null,null,null,null,null,null,null,null,null,null,null,null,null,null,null,null,null,null,null,null,null,null,null,null,null,null,null,null,null,null,null,null,null,null,null,null,null,null,null,null,null,null,null,null,null,null,"FLOW-GASWKSGS-TOTOTHER-",null,"C0360","ENERGUSE","OTHSECT","_Z","_Z","_Z","_Z","_Z","ENERGY","_Z","TJ_GCV"]
[null,"COAL","COKEOVGS","FLOW","TOTOTHER",null,"Coke Oven gas",null,null,null,null,null,null,null,null,null,null,null,null,null,null,null,null,null,null,null,null,null,null,null,null,null,null,null,null,null,null,null,null,null,null,null,null,null,null,null,null,null,null,null,null,null,null,null,null,null,null,null,null,null,null,null,null,null,null,null,null,null,null,null,null,null,null,null,null,null,null,null,null,null,null,null,null,null,null,null,null,null,null,null,null,null,null,null,null,null,null,null,null,null,null,null,null,null,null,null,null,null,null,null,null,null,null,null,null,null,null,null,null,null,null,"FLOW-COKEOVGS-TOTOTHER-",null,"C0350","ENERGUSE","OTHSECT","_Z","_Z","_Z","_Z","_Z","ENERGY","_Z","TJ_GCV"]
[null,"COAL","BLFURGS","FLOW","TOTOTHER",null,"Blast furnace gas",null,null,null,null,null,null,null,null,null,null,null,null,null,null,null,null,null,null,null,null,null,null,null,null,null,null,null,null,null,null,null,null,null,null,null,null,null,null,null,null,null,null,null,null,null,null,null,null,null,null,null,null,null,null,null,null,null,null,null,null,null,null,null,null,null,null,null,null,null,null,null,null,null,null,null,null,null,null,null,null,null,null,null,null,null,null,null,null,null,null,null,null,null,null,null,null,null,null,null,null,null,null,null,null,null,null,null,null,null,null,null,null,null,null,"FLOW-BLFURGS-TOTOTHER-",null,"C0371","ENERGUSE","OTHSECT","_Z","_Z","_Z","_Z","_Z","ENERGY","_Z","TJ_GCV"]
[null,"COAL","OGASES","FLOW","TOTOTHER",null,"Other recovered gases",null,null,null,null,null,null,null,null,null,null,null,null,null,null,null,null,null,null,null,null,null,null,null,null,null,null,null,null,null,null,null,null,null,null,null,null,null,null,null,null,null,null,null,null,null,null,null,null,null,null,null,null,null,null,null,null,null,null,null,null,null,null,null,null,null,null,null,null,null,null,null,null,null,null,null,null,null,null,null,null,null,null,null,null,null,null,null,null,null,null,null,null,null,null,null,null,null,null,null,null,null,null,null,null,null,null,null,null,null,null,null,null,null,null,"FLOW-OGASES-TOTOTHER-",null,"C0379","ENERGUSE","OTHSECT","_Z","_Z","_Z","_Z","_Z","ENERGY","_Z","TJ_GCV"]
[]
[null,null,null,null,null,null,"Manufactured gases (their energy content is already included in the input to Blast Furnaces)"]
[null,"COAL","BLFURGS","FLOW","INDPROD",null,"Blast furnace gas",null,null,null,null,null,null,null,null,null,null,null,null,null,null,null,null,null,null,null,null,null,null,null,null,null,null,null,null,null,null,null,null,null,null,null,null,null,null,null,null,null,null,null,null,null,null,null,null,null,null,null,null,null,null,null,null,null,null,null,null,null,null,null,null,null,null,null,null,null,null,null,null,null,null,null,null,null,null,null,null,null,null,null,null,null,null,null,null,null,null,null,null,null,null,null,null,null,null,null,null,null,null,null,null,null,null,null,null,null,null,null,null,null,null,"FLOW-BLFURGS-INDPROD-",null,"C0371","PRODUCT","INDPROD","_Z","_Z","_Z","_Z","_Z","ENERGY","_Z","TJ_GCV"]
[null,"COAL","OGASES","FLOW","INDPROD",null,"Other recovered gases",null,null,null,null,null,null,null,null,null,null,null,null,null,null,null,null,null,null,null,null,null,null,null,null,null,null,null,null,null,null,null,null,null,null,null,null,null,null,null,null,null,null,null,null,null,null,null,null,null,null,null,null,null,null,null,null,null,null,null,null,null,null,null,null,null,null,null,null,null,null,null,null,null,null,null,null,null,null,null,null,null,null,null,null,null,null,null,null,null,null,null,null,null,null,null,null,null,null,null,null,null,null,null,null,null,null,null,null,null,null,null,null,null,null,"FLOW-OGASES-INDPROD-",null,"C0379","PRODUCT","INDPROD","_Z","_Z","_Z","_Z","_Z","ENERGY","_Z","TJ_GCV"]
[]
[null,null,null,null,null,null,"Transport Sector - Total"]
[null,"COAL","ANTCOAL","FLOW","TOTTRANS",null,"Anthracite",null,null,null,null,null,null,null,null,null,null,null,null,null,null,null,null,null,null,null,null,null,null,null,null,null,null,null,null,null,null,null,null,null,null,null,null,null,null,null,null,null,null,null,null,null,null,null,null,null,null,null,null,null,null,null,null,null,null,null,null,null,null,null,null,null,null,null,null,null,null,null,null,null,null,null,null,null,null,null,null,null,null,null,null,null,null,null,null,null,null,null,null,null,null,null,null,null,null,null,null,null,null,null,null,null,null,null,null,null,null,null,null,null,null,"FLOW-ANTCOAL-TOTTRANS-",null,"C0110","ENERGUSE","TRANSPOR","_Z","_Z","_Z","_Z","_Z","WEIGHT","_Z","KT"]
[null,"COAL","COKCOAL","FLOW","TOTTRANS",null,"Coking coal",null,null,null,null,null,null,null,null,null,null,null,null,null,null,null,null,null,null,null,null,null,null,null,null,null,null,null,null,null,null,null,null,null,null,null,null,null,null,null,null,null,null,null,null,null,null,null,null,null,null,null,null,null,null,null,null,null,null,null,null,null,null,null,null,null,null,null,null,null,null,null,null,null,null,null,null,null,null,null,null,null,null,null,null,null,null,null,null,null,null,null,null,null,null,null,null,null,null,null,null,null,null,null,null,null,null,null,null,null,null,null,null,null,null,"FLOW-COKCOAL-TOTTRANS-",null,"C0121","ENERGUSE","TRANSPOR","_Z","_Z","_Z","_Z","_Z","WEIGHT","_Z","KT"]
[null,"COAL","BITCOAL","FLOW","TOTTRANS",null,"Other bituminous coal",null,null,null,null,null,null,null,null,null,null,null,null,null,null,null,null,null,null,null,null,null,null,null,null,null,null,null,null,null,null,null,null,null,null,null,null,null,null,null,null,null,null,null,null,null,null,null,null,null,null,null,null,null,null,null,null,null,null,null,null,null,null,null,null,null,null,null,null,null,null,null,null,null,null,null,null,null,null,null,null,null,null,null,null,null,null,null,null,null,null,null,null,null,null,null,null,null,null,null,null,null,null,null,null,null,null,null,null,null,null,null,null,null,null,"FLOW-BITCOAL-TOTTRANS-",null,"C0129","ENERGUSE","TRANSPOR","_Z","_Z","_Z","_Z","_Z","WEIGHT","_Z","KT"]
[null,"COAL","SUBCOAL","FLOW","TOTTRANS",null,"Sub-bituminous coal",null,null,null,null,null,null,null,null,null,null,null,null,null,null,null,null,null,null,null,null,null,null,null,null,null,null,null,null,null,null,null,null,null,null,null,null,null,null,null,null,null,null,null,null,null,null,null,null,null,null,null,null,null,null,null,null,null,null,null,null,null,null,null,null,null,null,null,null,null,null,null,null,null,null,null,null,null,null,null,null,null,null,null,null,null,null,null,null,null,null,null,null,null,null,null,null,null,null,null,null,null,null,null,null,null,null,null,null,null,null,null,null,null,null,"FLOW-SUBCOAL-TOTTRANS-",null,"C0210","ENERGUSE","TRANSPOR","_Z","_Z","_Z","_Z","_Z","WEIGHT","_Z","KT"]
[null,"COAL","LIGNITE","FLOW","TOTTRANS",null,"Lignite",null,null,null,null,null,null,null,null,null,null,null,null,null,null,null,null,null,null,null,null,null,null,null,null,null,null,null,null,null,null,null,null,null,null,null,null,null,null,null,null,null,null,null,null,null,null,null,null,null,null,null,null,null,null,null,null,null,null,null,null,null,null,null,null,null,null,null,null,null,null,null,null,null,null,null,null,null,null,null,null,null,null,null,null,null,null,null,null,null,null,null,null,null,null,null,null,null,null,null,null,null,null,null,null,null,null,null,null,null,null,null,null,null,null,"FLOW-LIGNITE-TOTTRANS-",null,"C0220","ENERGUSE","TRANSPOR","_Z","_Z","_Z","_Z","_Z","WEIGHT","_Z","KT"]
[null,"COAL","PATFUEL","FLOW","TOTTRANS",null,"Patent fuel",null,null,null,null,null,null,null,null,null,null,null,null,null,null,null,null,null,null,null,null,null,null,null,null,null,null,null,null,null,null,null,null,null,null,null,null,null,null,null,null,null,null,null,null,null,null,null,null,null,null,null,null,null,null,null,null,null,null,null,null,null,null,null,null,null,null,null,null,null,null,null,null,null,null,null,null,null,null,null,null,null,null,null,null,null,null,null,null,null,null,null,null,null,null,null,null,null,null,null,null,null,null,null,null,null,null,null,null,null,null,null,null,null,null,"FLOW-PATFUEL-TOTTRANS-",null,"C0320","ENERGUSE","TRANSPOR","_Z","_Z","_Z","_Z","_Z","WEIGHT","_Z","KT"]
[null,"COAL","OVENCOKE","FLOW","TOTTRANS",null,"Coke Oven Coke",null,null,null,null,null,null,null,null,null,null,null,null,null,null,null,null,null,null,null,null,null,null,null,null,null,null,null,null,null,null,null,null,null,null,null,null,null,null,null,null,null,null,null,null,null,null,null,null,null,null,null,null,null,null,null,null,null,null,null,null,null,null,null,null,null,null,null,null,null,null,null,null,null,null,null,null,null,null,null,null,null,null,null,null,null,null,null,null,null,null,null,null,null,null,null,null,null,null,null,null,null,null,null,null,null,null,null,null,null,null,null,null,null,null,"FLOW-OVENCOKE-TOTTRANS-",null,"C0311","ENERGUSE","TRANSPOR","_Z","_Z","_Z","_Z","_Z","WEIGHT","_Z","KT"]
[null,"COAL","GASCOKE","FLOW","TOTTRANS",null,"Gas Coke",null,null,null,null,null,null,null,null,null,null,null,null,null,null,null,null,null,null,null,null,null,null,null,null,null,null,null,null,null,null,null,null,null,null,null,null,null,null,null,null,null,null,null,null,null,null,null,null,null,null,null,null,null,null,null,null,null,null,null,null,null,null,null,null,null,null,null,null,null,null,null,null,null,null,null,null,null,null,null,null,null,null,null,null,null,null,null,null,null,null,null,null,null,null,null,null,null,null,null,null,null,null,null,null,null,null,null,null,null,null,null,null,null,null,"FLOW-GASCOKE-TOTTRANS-",null,"C0312","ENERGUSE","TRANSPOR","_Z","_Z","_Z","_Z","_Z","WEIGHT","_Z","KT"]
[null,"COAL","COALTAR","FLOW","TOTTRANS",null,"Coal tar",null,null,null,null,null,null,null,null,null,null,null,null,null,null,null,null,null,null,null,null,null,null,null,null,null,null,null,null,null,null,null,null,null,null,null,null,null,null,null,null,null,null,null,null,null,null,null,null,null,null,null,null,null,null,null,null,null,null,null,null,null,null,null,null,null,null,null,null,null,null,null,null,null,null,null,null,null,null,null,null,null,null,null,null,null,null,null,null,null,null,null,null,null,null,null,null,null,null,null,null,null,null,null,null,null,null,null,null,null,null,null,null,null,null,"FLOW-COALTAR-TOTTRANS-",null,"C0340","ENERGUSE","TRANSPOR","_Z","_Z","_Z","_Z","_Z","WEIGHT","_Z","KT"]
[null,"COAL","BKB","FLOW","TOTTRANS",null,"BKB",null,null,null,null,null,null,null,null,null,null,null,null,null,null,null,null,null,null,null,null,null,null,null,null,null,null,null,null,null,null,null,null,null,null,null,null,null,null,null,null,null,null,null,null,null,null,null,null,null,null,null,null,null,null,null,null,null,null,null,null,null,null,null,null,null,null,null,null,null,null,null,null,null,null,null,null,null,null,null,null,null,null,null,null,null,null,null,null,null,null,null,null,null,null,null,null,null,null,null,null,null,null,null,null,null,null,null,null,null,null,null,null,null,null,"FLOW-BKB-TOTTRANS-",null,"C0330","ENERGUSE","TRANSPOR","_Z","_Z","_Z","_Z","_Z","WEIGHT","_Z","KT"]
[null,"COAL","PEAT","FLOW","TOTTRANS",null,"Peat",null,null,null,null,null,null,null,null,null,null,null,null,null,null,null,null,null,null,null,null,null,null,null,null,null,null,null,null,null,null,null,null,null,null,null,null,null,null,null,null,null,null,null,null,null,null,null,null,null,null,null,null,null,null,null,null,null,null,null,null,null,null,null,null,null,null,null,null,null,null,null,null,null,null,null,null,null,null,null,null,null,null,null,null,null,null,null,null,null,null,null,null,null,null,null,null,null,null,null,null,null,null,null,null,null,null,null,null,null,null,null,null,null,null,"FLOW-PEAT-TOTTRANS-",null,"P1100","ENERGUSE","TRANSPOR","_Z","_Z","_Z","_Z","_Z","WEIGHT","_Z","KT"]
[null,"COAL","PEATPROD","FLOW","TOTTRANS",null,"Peat products",null,null,null,null,null,null,null,null,null,null,null,null,null,null,null,null,null,null,null,null,null,null,null,null,null,null,null,null,null,null,null,null,null,null,null,null,null,null,null,null,null,null,null,null,null,null,null,null,null,null,null,null,null,null,null,null,null,null,null,null,null,null,null,null,null,null,null,null,null,null,null,null,null,null,null,null,null,null,null,null,null,null,null,null,null,null,null,null,null,null,null,null,null,null,null,null,null,null,null,null,null,null,null,null,null,null,null,null,null,null,null,null,null,null,"FLOW-PEATPROD-TOTTRANS-",null,"P1200","ENERGUSE","TRANSPOR","_Z","_Z","_Z","_Z","_Z","WEIGHT","_Z","KT"]
[null,"COAL","OILSHALE","FLOW","TOTTRANS",null,"Oil shale and oil sands",null,null,null,null,null,null,null,null,null,null,null,null,null,null,null,null,null,null,null,null,null,null,null,null,null,null,null,null,null,null,null,null,null,null,null,null,null,null,null,null,null,null,null,null,null,null,null,null,null,null,null,null,null,null,null,null,null,null,null,null,null,null,null,null,null,null,null,null,null,null,null,null,null,null,null,null,null,null,null,null,null,null,null,null,null,null,null,null,null,null,null,null,null,null,null,null,null,null,null,null,null,null,null,null,null,null,null,null,null,null,null,null,null,null,"FLOW-OILSHALE-TOTTRANS-",null,"S2000","ENERGUSE","TRANSPOR","_Z","_Z","_Z","_Z","_Z","WEIGHT","_Z","KT"]
[null,"COAL","GASWKSGS","FLOW","TOTTRANS",null,"Gas works gas",null,null,null,null,null,null,null,null,null,null,null,null,null,null,null,null,null,null,null,null,null,null,null,null,null,null,null,null,null,null,null,null,null,null,null,null,null,null,null,null,null,null,null,null,null,null,null,null,null,null,null,null,null,null,null,null,null,null,null,null,null,null,null,null,null,null,null,null,null,null,null,null,null,null,null,null,null,null,null,null,null,null,null,null,null,null,null,null,null,null,null,null,null,null,null,null,null,null,null,null,null,null,null,null,null,null,null,null,null,null,null,null,null,null,"FLOW-GASWKSGS-TOTTRANS-",null,"C0360","ENERGUSE","TRANSPOR","_Z","_Z","_Z","_Z","_Z","ENERGY","_Z","TJ_GCV"]
[null,"COAL","COKEOVGS","FLOW","TOTTRANS",null,"Coke Oven gas",null,null,null,null,null,null,null,null,null,null,null,null,null,null,null,null,null,null,null,null,null,null,null,null,null,null,null,null,null,null,null,null,null,null,null,null,null,null,null,null,null,null,null,null,null,null,null,null,null,null,null,null,null,null,null,null,null,null,null,null,null,null,null,null,null,null,null,null,null,null,null,null,null,null,null,null,null,null,null,null,null,null,null,null,null,null,null,null,null,null,null,null,null,null,null,null,null,null,null,null,null,null,null,null,null,null,null,null,null,null,null,null,null,null,"FLOW-COKEOVGS-TOTTRANS-",null,"C0350","ENERGUSE","TRANSPOR","_Z","_Z","_Z","_Z","_Z","ENERGY","_Z","TJ_GCV"]
[null,"COAL","BLFURGS","FLOW","TOTTRANS",null,"Blast furnace gas",null,null,null,null,null,null,null,null,null,null,null,null,null,null,null,null,null,null,null,null,null,null,null,null,null,null,null,null,null,null,null,null,null,null,null,null,null,null,null,null,null,null,null,null,null,null,null,null,null,null,null,null,null,null,null,null,null,null,null,null,null,null,null,null,null,null,null,null,null,null,null,null,null,null,null,null,null,null,null,null,null,null,null,null,null,null,null,null,null,null,null,null,null,null,null,null,null,null,null,null,null,null,null,null,null,null,null,null,null,null,null,null,null,null,"FLOW-BLFURGS-TOTTRANS-",null,"C0371","ENERGUSE","TRANSPOR","_Z","_Z","_Z","_Z","_Z","ENERGY","_Z","TJ_GCV"]
[null,"COAL","OGASES","FLOW","TOTTRANS",null,"Other recovered gases",null,null,null,null,null,null,null,null,null,null,null,null,null,null,null,null,null,null,null,null,null,null,null,null,null,null,null,null,null,null,null,null,null,null,null,null,null,null,null,null,null,null,null,null,null,null,null,null,null,null,null,null,null,null,null,null,null,null,null,null,null,null,null,null,null,null,null,null,null,null,null,null,null,null,null,null,null,null,null,null,null,null,null,null,null,null,null,null,null,null,null,null,null,null,null,null,null,null,null,null,null,null,null,null,null,null,null,null,null,null,null,null,null,null,"FLOW-OGASES-TOTTRANS-",null,"C0379","ENERGUSE","TRANSPOR","_Z","_Z","_Z","_Z","_Z","ENERGY","_Z","TJ_GCV"]
[]
[null,null,null,null,null,null,"Transport Sector - Rail"]
[null,"COAL","ANTCOAL","FLOW","RAIL",null,"Anthracite",null,null,null,null,null,null,null,null,null,null,null,null,null,null,null,null,null,null,null,null,null,null,null,null,null,null,null,null,null,null,null,null,null,null,null,null,null,null,null,null,null,null,null,null,null,null,null,null,null,null,null,null,null,null,null,null,null,null,null,null,null,null,null,null,null,null,null,null,null,null,null,null,null,null,null,null,null,null,null,null,null,null,null,null,null,null,null,null,null,null,null,null,null,null,null,null,null,null,null,null,null,null,null,null,null,null,null,null,null,null,null,null,null,null,"FLOW-ANTCOAL-TOTTRANS-",null,"C0110","ENERGUSE","RAIL","_Z","_Z","_Z","_Z","_Z","WEIGHT","_Z","KT"]
[null,"COAL","COKCOAL","FLOW","RAIL",null,"Coking coal",null,null,null,null,null,null,null,null,null,null,null,null,null,null,null,null,null,null,null,null,null,null,null,null,null,null,null,null,null,null,null,null,null,null,null,null,null,null,null,null,null,null,null,null,null,null,null,null,null,null,null,null,null,null,null,null,null,null,null,null,null,null,null,null,null,null,null,null,null,null,null,null,null,null,null,null,null,null,null,null,null,null,null,null,null,null,null,null,null,null,null,null,null,null,null,null,null,null,null,null,null,null,null,null,null,null,null,null,null,null,null,null,null,null,"FLOW-COKCOAL-TOTTRANS-",null,"C0121","ENERGUSE","RAIL","_Z","_Z","_Z","_Z","_Z","WEIGHT","_Z","KT"]
[null,"COAL","BITCOAL","FLOW","RAIL",null,"Other bituminous coal",null,null,null,null,null,null,null,null,null,null,null,null,null,null,null,null,null,null,null,null,null,null,null,null,null,null,null,null,null,null,null,null,null,null,null,null,null,null,null,null,null,null,null,null,null,null,null,null,null,null,null,null,null,null,null,null,null,null,null,null,null,null,null,null,null,null,null,null,null,null,null,null,null,null,null,null,null,null,null,null,null,null,null,null,null,null,null,null,null,null,null,null,null,null,null,null,null,null,null,null,null,null,null,null,null,null,null,null,null,null,null,null,null,null,"FLOW-BITCOAL-TOTTRANS-",null,"C0129","ENERGUSE","RAIL","_Z","_Z","_Z","_Z","_Z","WEIGHT","_Z","KT"]
[null,"COAL","SUBCOAL","FLOW","RAIL",null,"Sub-bituminous coal",null,null,null,null,null,null,null,null,null,null,null,null,null,null,null,null,null,null,null,null,null,null,null,null,null,null,null,null,null,null,null,null,null,null,null,null,null,null,null,null,null,null,null,null,null,null,null,null,null,null,null,null,null,null,null,null,null,null,null,null,null,null,null,null,null,null,null,null,null,null,null,null,null,null,null,null,null,null,null,null,null,null,null,null,null,null,null,null,null,null,null,null,null,null,null,null,null,null,null,null,null,null,null,null,null,null,null,null,null,null,null,null,null,null,"FLOW-SUBCOAL-TOTTRANS-",null,"C0210","ENERGUSE","RAIL","_Z","_Z","_Z","_Z","_Z","WEIGHT","_Z","KT"]
[null,"COAL","LIGNITE","FLOW","RAIL",null,"Lignite",null,null,null,null,null,null,null,null,null,null,null,null,null,null,null,null,null,null,null,null,null,null,null,null,null,null,null,null,null,null,null,null,null,null,null,null,null,null,null,null,null,null,null,null,null,null,null,null,null,null,null,null,null,null,null,null,null,null,null,null,null,null,null,null,null,null,null,null,null,null,null,null,null,null,null,null,null,null,null,null,null,null,null,null,null,null,null,null,null,null,null,null,null,null,null,null,null,null,null,null,null,null,null,null,null,null,null,null,null,null,null,null,null,null,"FLOW-LIGNITE-TOTTRANS-",null,"C0220","ENERGUSE","RAIL","_Z","_Z","_Z","_Z","_Z","WEIGHT","_Z","KT"]
[null,"COAL","PATFUEL","FLOW","RAIL",null,"Patent fuel",null,null,null,null,null,null,null,null,null,null,null,null,null,null,null,null,null,null,null,null,null,null,null,null,null,null,null,null,null,null,null,null,null,null,null,null,null,null,null,null,null,null,null,null,null,null,null,null,null,null,null,null,null,null,null,null,null,null,null,null,null,null,null,null,null,null,null,null,null,null,null,null,null,null,null,null,null,null,null,null,null,null,null,null,null,null,null,null,null,null,null,null,null,null,null,null,null,null,null,null,null,null,null,null,null,null,null,null,null,null,null,null,null,null,"FLOW-PATFUEL-TOTTRANS-",null,"C0320","ENERGUSE","RAIL","_Z","_Z","_Z","_Z","_Z","WEIGHT","_Z","KT"]
[null,"COAL","OVENCOKE","FLOW","RAIL",null,"Coke Oven Coke",null,null,null,null,null,null,null,null,null,null,null,null,null,null,null,null,null,null,null,null,null,null,null,null,null,null,null,null,null,null,null,null,null,null,null,null,null,null,null,null,null,null,null,null,null,null,null,null,null,null,null,null,null,null,null,null,null,null,null,null,null,null,null,null,null,null,null,null,null,null,null,null,null,null,null,null,null,null,null,null,null,null,null,null,null,null,null,null,null,null,null,null,null,null,null,null,null,null,null,null,null,null,null,null,null,null,null,null,null,null,null,null,null,null,"FLOW-OVENCOKE-TOTTRANS-",null,"C0311","ENERGUSE","RAIL","_Z","_Z","_Z","_Z","_Z","WEIGHT","_Z","KT"]
[null,"COAL","GASCOKE","FLOW","RAIL",null,"Gas Coke",null,null,null,null,null,null,null,null,null,null,null,null,null,null,null,null,null,null,null,null,null,null,null,null,null,null,null,null,null,null,null,null,null,null,null,null,null,null,null,null,null,null,null,null,null,null,null,null,null,null,null,null,null,null,null,null,null,null,null,null,null,null,null,null,null,null,null,null,null,null,null,null,null,null,null,null,null,null,null,null,null,null,null,null,null,null,null,null,null,null,null,null,null,null,null,null,null,null,null,null,null,null,null,null,null,null,null,null,null,null,null,null,null,null,"FLOW-GASCOKE-TOTTRANS-",null,"C0312","ENERGUSE","RAIL","_Z","_Z","_Z","_Z","_Z","WEIGHT","_Z","KT"]
[null,"COAL","COALTAR","FLOW","RAIL",null,"Coal tar",null,null,null,null,null,null,null,null,null,null,null,null,null,null,null,null,null,null,null,null,null,null,null,null,null,null,null,null,null,null,null,null,null,null,null,null,null,null,null,null,null,null,null,null,null,null,null,null,null,null,null,null,null,null,null,null,null,null,null,null,null,null,null,null,null,null,null,null,null,null,null,null,null,null,null,null,null,null,null,null,null,null,null,null,null,null,null,null,null,null,null,null,null,null,null,null,null,null,null,null,null,null,null,null,null,null,null,null,null,null,null,null,null,null,"FLOW-COALTAR-TOTTRANS-",null,"C0340","ENERGUSE","RAIL","_Z","_Z","_Z","_Z","_Z","WEIGHT","_Z","KT"]
[null,"COAL","BKB","FLOW","RAIL",null,"BKB",null,null,null,null,null,null,null,null,null,null,null,null,null,null,null,null,null,null,null,null,null,null,null,null,null,null,null,null,null,null,null,null,null,null,null,null,null,null,null,null,null,null,null,null,null,null,null,null,null,null,null,null,null,null,null,null,null,null,null,null,null,null,null,null,null,null,null,null,null,null,null,null,null,null,null,null,null,null,null,null,null,null,null,null,null,null,null,null,null,null,null,null,null,null,null,null,null,null,null,null,null,null,null,null,null,null,null,null,null,null,null,null,null,null,"FLOW-BKB-TOTTRANS-",null,"C0330","ENERGUSE","RAIL","_Z","_Z","_Z","_Z","_Z","WEIGHT","_Z","KT"]
[null,"COAL","PEAT","FLOW","RAIL"," ","Peat",null,null,null,null,null,null,null,null,null,null,null,null,null,null,null,null,null,null,null,null,null,null,null,null,null,null,null,null,null,null,null,null,null,null,null,null,null,null,null,null,null,null,null,null,null,null,null,null,null,null,null,null,null,null,null,null,null,null,null,null,null,null,null,null,null,null,null,null,null,null,null,null,null,null,null,null,null,null,null,null,null,null,null,null,null,null,null,null,null,null,null,null,null,null,null,null,null,null,null,null,null,null,null,null,null,null,null,null,null,null,null,null,null,null,"FLOW-PEAT-TOTTRANS-",null,"P1100","ENERGUSE","RAIL","_Z","_Z","_Z","_Z","_Z","WEIGHT","_Z","KT"]
[null,"COAL","PEATPROD","FLOW","RAIL",null,"Peat products",null,null,null,null,null,null,null,null,null,null,null,null,null,null,null,null,null,null,null,null,null,null,null,null,null,null,null,null,null,null,null,null,null,null,null,null,null,null,null,null,null,null,null,null,null,null,null,null,null,null,null,null,null,null,null,null,null,null,null,null,null,null,null,null,null,null,null,null,null,null,null,null,null,null,null,null,null,null,null,null,null,null,null,null,null,null,null,null,null,null,null,null,null,null,null,null,null,null,null,null,null,null,null,null,null,null,null,null,null,null,null,null,null,null,"FLOW-PEATPROD-TOTTRANS-",null,"P1200","ENERGUSE","RAIL","_Z","_Z","_Z","_Z","_Z","WEIGHT","_Z","KT"]
[null,"COAL","OILSHALE","FLOW","RAIL",null,"Oil shale and oil sands",null,null,null,null,null,null,null,null,null,null,null,null,null,null,null,null,null,null,null,null,null,null,null,null,null,null,null,null,null,null,null,null,null,null,null,null,null,null,null,null,null,null,null,null,null,null,null,null,null,null,null,null,null,null,null,null,null,null,null,null,null,null,null,null,null,null,null,null,null,null,null,null,null,null,null,null,null,null,null,null,null,null,null,null,null,null,null,null,null,null,null,null,null,null,null,null,null,null,null,null,null,null,null,null,null,null,null,null,null,null,null,null,null,null,"FLOW-OILSHALE-TOTTRANS-",null,"S2000","ENERGUSE","RAIL","_Z","_Z","_Z","_Z","_Z","WEIGHT","_Z","KT"]
[null,"COAL","GASWKSGS","FLOW","RAIL",null,"Gas works gas",null,null,null,null,null,null,null,null,null,null,null,null,null,null,null,null,null,null,null,null,null,null,null,null,null,null,null,null,null,null,null,null,null,null,null,null,null,null,null,null,null,null,null,null,null,null,null,null,null,null,null,null,null,null,null,null,null,null,null,null,null,null,null,null,null,null,null,null,null,null,null,null,null,null,null,null,null,null,null,null,null,null,null,null,null,null,null,null,null,null,null,null,null,null,null,null,null,null,null,null,null,null,null,null,null,null,null,null,null,null,null,null,null,null,"FLOW-GASWKSGS-TOTTRANS-",null,"C0360","ENERGUSE","RAIL","_Z","_Z","_Z","_Z","_Z","ENERGY","_Z","TJ_GCV"]
[null,"COAL","COKEOVGS","FLOW","RAIL",null,"Coke Oven gas",null,null,null,null,null,null,null,null,null,null,null,null,null,null,null,null,null,null,null,null,null,null,null,null,null,null,null,null,null,null,null,null,null,null,null,null,null,null,null,null,null,null,null,null,null,null,null,null,null,null,null,null,null,null,null,null,null,null,null,null,null,null,null,null,null,null,null,null,null,null,null,null,null,null,null,null,null,null,null,null,null,null,null,null,null,null,null,null,null,null,null,null,null,null,null,null,null,null,null,null,null,null,null,null,null,null,null,null,null,null,null,null,null,null,"FLOW-COKEOVGS-TOTTRANS-",null,"C0350","ENERGUSE","RAIL","_Z","_Z","_Z","_Z","_Z","ENERGY","_Z","TJ_GCV"]
[null,"COAL","BLFURGS","FLOW","RAIL",null,"Blast furnace gas",null,null,null,null,null,null,null,null,null,null,null,null,null,null,null,null,null,null,null,null,null,null,null,null,null,null,null,null,null,null,null,null,null,null,null,null,null,null,null,null,null,null,null,null,null,null,null,null,null,null,null,null,null,null,null,null,null,null,null,null,null,null,null,null,null,null,null,null,null,null,null,null,null,null,null,null,null,null,null,null,null,null,null,null,null,null,null,null,null,null,null,null,null,null,null,null,null,null,null,null,null,null,null,null,null,null,null,null,null,null,null,null,null,null,"FLOW-BLFURGS-TOTTRANS-",null,"C0371","ENERGUSE","RAIL","_Z","_Z","_Z","_Z","_Z","ENERGY","_Z","TJ_GCV"]
[null,"COAL","OGASES","FLOW","RAIL",null,"Other recovered gases",null,null,null,null,null,null,null,null,null,null,null,null,null,null,null,null,null,null,null,null,null,null,null,null,null,null,null,null,null,null,null,null,null,null,null,null,null,null,null,null,null,null,null,null,null,null,null,null,null,null,null,null,null,null,null,null,null,null,null,null,null,null,null,null,null,null,null,null,null,null,null,null,null,null,null,null,null,null,null,null,null,null,null,null,null,null,null,null,null,null,null,null,null,null,null,null,null,null,null,null,null,null,null,null,null,null,null,null,null,null,null,null,null,null,"FLOW-OGASES-TOTTRANS-",null,"C0379","ENERGUSE","RAIL","_Z","_Z","_Z","_Z","_Z","ENERGY","_Z","TJ_GCV"]
[]
[null,null,null,null,null,null,"Transport Sector - Road"]
[null,"COAL","ANTCOAL","FLOW","ROAD",null,"Anthracite",null,null,null,null,null,null,null,null,null,null,null,null,null,null,null,null,null,null,null,null,null,null,null,null,null,null,null,null,null,null,null,null,null,null,null,null,null,null,null,null,null,null,null,null,null,null,null,null,null,null,null,null,null,null,null,null,null,null,null,null,null,null,null,null,null,null,null,null,null,null,null,null,null,null,null,null,null,null,null,null,null,null,null,null,null,null,null,null,null,null,null,null,null,null,null,null,null,null,null,null,null,null,null,null,null,null,null,null,null,null,null,null,null,null,"FLOW-ANTCOAL-TOTTRANS-",null,"C0110","ENERGUSE","ROAD","_Z","_Z","_Z","_Z","_Z","WEIGHT","_Z","KT"]
[null,"COAL","COKCOAL","FLOW","ROAD",null,"Coking coal",null,null,null,null,null,null,null,null,null,null,null,null,null,null,null,null,null,null,null,null,null,null,null,null,null,null,null,null,null,null,null,null,null,null,null,null,null,null,null,null,null,null,null,null,null,null,null,null,null,null,null,null,null,null,null,null,null,null,null,null,null,null,null,null,null,null,null,null,null,null,null,null,null,null,null,null,null,null,null,null,null,null,null,null,null,null,null,null,null,null,null,null,null,null,null,null,null,null,null,null,null,null,null,null,null,null,null,null,null,null,null,null,null,null,"FLOW-COKCOAL-TOTTRANS-",null,"C0121","ENERGUSE","ROAD","_Z","_Z","_Z","_Z","_Z","WEIGHT","_Z","KT"]
[null,"COAL","BITCOAL","FLOW","ROAD",null,"Other bituminous coal",null,null,null,null,null,null,null,null,null,null,null,null,null,null,null,null,null,null,null,null,null,null,null,null,null,null,null,null,null,null,null,null,null,null,null,null,null,null,null,null,null,null,null,null,null,null,null,null,null,null,null,null,null,null,null,null,null,null,null,null,null,null,null,null,null,null,null,null,null,null,null,null,null,null,null,null,null,null,null,null,null,null,null,null,null,null,null,null,null,null,null,null,null,null,null,null,null,null,null,null,null,null,null,null,null,null,null,null,null,null,null,null,null,null,"FLOW-BITCOAL-TOTTRANS-",null,"C0129","ENERGUSE","ROAD","_Z","_Z","_Z","_Z","_Z","WEIGHT","_Z","KT"]
[null,"COAL","SUBCOAL","FLOW","ROAD",null,"Sub-bituminous coal",null,null,null,null,null,null,null,null,null,null,null,null,null,null,null,null,null,null,null,null,null,null,null,null,null,null,null,null,null,null,null,null,null,null,null,null,null,null,null,null,null,null,null,null,null,null,null,null,null,null,null,null,null,null,null,null,null,null,null,null,null,null,null,null,null,null,null,null,null,null,null,null,null,null,null,null,null,null,null,null,null,null,null,null,null,null,null,null,null,null,null,null,null,null,null,null,null,null,null,null,null,null,null,null,null,null,null,null,null,null,null,null,null,null,"FLOW-SUBCOAL-TOTTRANS-",null,"C0210","ENERGUSE","ROAD","_Z","_Z","_Z","_Z","_Z","WEIGHT","_Z","KT"]
[null,"COAL","LIGNITE","FLOW","ROAD",null,"Lignite",null,null,null,null,null,null,null,null,null,null,null,null,null,null,null,null,null,null,null,null,null,null,null,null,null,null,null,null,null,null,null,null,null,null,null,null,null,null,null,null,null,null,null,null,null,null,null,null,null,null,null,null,null,null,null,null,null,null,null,null,null,null,null,null,null,null,null,null,null,null,null,null,null,null,null,null,null,null,null,null,null,null,null,null,null,null,null,null,null,null,null,null,null,null,null,null,null,null,null,null,null,null,null,null,null,null,null,null,null,null,null,null,null,null,"FLOW-LIGNITE-TOTTRANS-",null,"C0220","ENERGUSE","ROAD","_Z","_Z","_Z","_Z","_Z","WEIGHT","_Z","KT"]
[null,"COAL","PATFUEL","FLOW","ROAD",null,"Patent fuel",null,null,null,null,null,null,null,null,null,null,null,null,null,null,null,null,null,null,null,null,null,null,null,null,null,null,null,null,null,null,null,null,null,null,null,null,null,null,null,null,null,null,null,null,null,null,null,null,null,null,null,null,null,null,null,null,null,null,null,null,null,null,null,null,null,null,null,null,null,null,null,null,null,null,null,null,null,null,null,null,null,null,null,null,null,null,null,null,null,null,null,null,null,null,null,null,null,null,null,null,null,null,null,null,null,null,null,null,null,null,null,null,null,null,"FLOW-PATFUEL-TOTTRANS-",null,"C0320","ENERGUSE","ROAD","_Z","_Z","_Z","_Z","_Z","WEIGHT","_Z","KT"]
[null,"COAL","OVENCOKE","FLOW","ROAD",null,"Coke Oven Coke",null,null,null,null,null,null,null,null,null,null,null,null,null,null,null,null,null,null,null,null,null,null,null,null,null,null,null,null,null,null,null,null,null,null,null,null,null,null,null,null,null,null,null,null,null,null,null,null,null,null,null,null,null,null,null,null,null,null,null,null,null,null,null,null,null,null,null,null,null,null,null,null,null,null,null,null,null,null,null,null,null,null,null,null,null,null,null,null,null,null,null,null,null,null,null,null,null,null,null,null,null,null,null,null,null,null,null,null,null,null,null,null,null,null,"FLOW-OVENCOKE-TOTTRANS-",null,"C0311","ENERGUSE","ROAD","_Z","_Z","_Z","_Z","_Z","WEIGHT","_Z","KT"]
[null,"COAL","GASCOKE","FLOW","ROAD",null,"Gas Coke",null,null,null,null,null,null,null,null,null,null,null,null,null,null,null,null,null,null,null,null,null,null,null,null,null,null,null,null,null,null,null,null,null,null,null,null,null,null,null,null,null,null,null,null,null,null,null,null,null,null,null,null,null,null,null,null,null,null,null,null,null,null,null,null,null,null,null,null,null,null,null,null,null,null,null,null,null,null,null,null,null,null,null,null,null,null,null,null,null,null,null,null,null,null,null,null,null,null,null,null,null,null,null,null,null,null,null,null,null,null,null,null,null,null,"FLOW-GASCOKE-TOTTRANS-",null,"C0312","ENERGUSE","ROAD","_Z","_Z","_Z","_Z","_Z","WEIGHT","_Z","KT"]
[null,"COAL","COALTAR","FLOW","ROAD",null,"Coal tar",null,null,null,null,null,null,null,null,null,null,null,null,null,null,null,null,null,null,null,null,null,null,null,null,null,null,null,null,null,null,null,null,null,null,null,null,null,null,null,null,null,null,null,null,null,null,null,null,null,null,null,null,null,null,null,null,null,null,null,null,null,null,null,null,null,null,null,null,null,null,null,null,null,null,null,null,null,null,null,null,null,null,null,null,null,null,null,null,null,null,null,null,null,null,null,null,null,null,null,null,null,null,null,null,null,null,null,null,null,null,null,null,null,null,"FLOW-COALTAR-TOTTRANS-",null,"C0340","ENERGUSE","ROAD","_Z","_Z","_Z","_Z","_Z","WEIGHT","_Z","KT"]
[null,"COAL","BKB","FLOW","ROAD",null,"BKB",null,null,null,null,null,null,null,null,null,null,null,null,null,null,null,null,null,null,null,null,null,null,null,null,null,null,null,null,null,null,null,null,null,null,null,null,null,null,null,null,null,null,null,null,null,null,null,null,null,null,null,null,null,null,null,null,null,null,null,null,null,null,null,null,null,null,null,null,null,null,null,null,null,null,null,null,null,null,null,null,null,null,null,null,null,null,null,null,null,null,null,null,null,null,null,null,null,null,null,null,null,null,null,null,null,null,null,null,null,null,null,null,null,null,"FLOW-BKB-TOTTRANS-",null,"C0330","ENERGUSE","ROAD","_Z","_Z","_Z","_Z","_Z","WEIGHT","_Z","KT"]
[null,"COAL","PEAT","FLOW","ROAD",null,"Peat",null,null,null,null,null,null,null,null,null,null,null,null,null,null,null,null,null,null,null,null,null,null,null,null,null,null,null,null,null,null,null,null,null,null,null,null,null,null,null,null,null,null,null,null,null,null,null,null,null,null,null,null,null,null,null,null,null,null,null,null,null,null,null,null,null,null,null,null,null,null,null,null,null,null,null,null,null,null,null,null,null,null,null,null,null,null,null,null,null,null,null,null,null,null,null,null,null,null,null,null,null,null,null,null,null,null,null,null,null,null,null,null,null,null,"FLOW-PEAT-TOTTRANS-",null,"P1100","ENERGUSE","ROAD","_Z","_Z","_Z","_Z","_Z","WEIGHT","_Z","KT"]
[null,"COAL","PEATPROD","FLOW","ROAD",null,"Peat products",null,null,null,null,null,null,null,null,null,null,null,null,null,null,null,null,null,null,null,null,null,null,null,null,null,null,null,null,null,null,null,null,null,null,null,null,null,null,null,null,null,null,null,null,null,null,null,null,null,null,null,null,null,null,null,null,null,null,null,null,null,null,null,null,null,null,null,null,null,null,null,null,null,null,null,null,null,null,null,null,null,null,null,null,null,null,null,null,null,null,null,null,null,null,null,null,null,null,null,null,null,null,null,null,null,null,null,null,null,null,null,null,null,null,"FLOW-PEATPROD-TOTTRANS-",null,"P1200","ENERGUSE","ROAD","_Z","_Z","_Z","_Z","_Z","WEIGHT","_Z","KT"]
[null,"COAL","OILSHALE","FLOW","ROAD",null,"Oil shale and oil sands",null,null,null,null,null,null,null,null,null,null,null,null,null,null,null,null,null,null,null,null,null,null,null,null,null,null,null,null,null,null,null,null,null,null,null,null,null,null,null,null,null,null,null,null,null,null,null,null,null,null,null,null,null,null,null,null,null,null,null,null,null,null,null,null,null,null,null,null,null,null,null,null,null,null,null,null,null,null,null,null,null,null,null,null,null,null,null,null,null,null,null,null,null,null,null,null,null,null,null,null,null,null,null,null,null,null,null,null,null,null,null,null,null,null,"FLOW-OILSHALE-TOTTRANS-",null,"S2000","ENERGUSE","ROAD","_Z","_Z","_Z","_Z","_Z","WEIGHT","_Z","KT"]
[null,"COAL","GASWKSGS","FLOW","ROAD",null,"Gas works gas",null,null,null,null,null,null,null,null,null,null,null,null,null,null,null,null,null,null,null,null,null,null,null,null,null,null,null,null,null,null,null,null,null,null,null,null,null,null,null,null,null,null,null,null,null,null,null,null,null,null,null,null,null,null,null,null,null,null,null,null,null,null,null,null,null,null,null,null,null,null,null,null,null,null,null,null,null,null,null,null,null,null,null,null,null,null,null,null,null,null,null,null,null,null,null,null,null,null,null,null,null,null,null,null,null,null,null,null,null,null,null,null,null,null,"FLOW-GASWKSGS-TOTTRANS-",null,"C0360","ENERGUSE","ROAD","_Z","_Z","_Z","_Z","_Z","ENERGY","_Z","TJ_GCV"]
[null,"COAL","COKEOVGS","FLOW","ROAD",null,"Coke Oven gas",null,null,null,null,null,null,null,null,null,null,null,null,null,null,null,null,null,null,null,null,null,null,null,null,null,null,null,null,null,null,null,null,null,null,null,null,null,null,null,null,null,null,null,null,null,null,null,null,null,null,null,null,null,null,null,null,null,null,null,null,null,null,null,null,null,null,null,null,null,null,null,null,null,null,null,null,null,null,null,null,null,null,null,null,null,null,null,null,null,null,null,null,null,null,null,null,null,null,null,null,null,null,null,null,null,null,null,null,null,null,null,null,null,null,"FLOW-COKEOVGS-TOTTRANS-",null,"C0350","ENERGUSE","ROAD","_Z","_Z","_Z","_Z","_Z","ENERGY","_Z","TJ_GCV"]
[null,"COAL","BLFURGS","FLOW","ROAD",null,"Blast furnace gas",null,null,null,null,null,null,null,null,null,null,null,null,null,null,null,null,null,null,null,null,null,null,null,null,null,null,null,null,null,null,null,null,null,null,null,null,null,null,null,null,null,null,null,null,null,null,null,null,null,null,null,null,null,null,null,null,null,null,null,null,null,null,null,null,null,null,null,null,null,null,null,null,null,null,null,null,null,null,null,null,null,null,null,null,null,null,null,null,null,null,null,null,null,null,null,null,null,null,null,null,null,null,null,null,null,null,null,null,null,null,null,null,null,null,"FLOW-BLFURGS-TOTTRANS-",null,"C0371","ENERGUSE","ROAD","_Z","_Z","_Z","_Z","_Z","ENERGY","_Z","TJ_GCV"]
[null,"COAL","OGASES","FLOW","ROAD",null,"Other recovered gases",null,null,null,null,null,null,null,null,null,null,null,null,null,null,null,null,null,null,null,null,null,null,null,null,null,null,null,null,null,null,null,null,null,null,null,null,null,null,null,null,null,null,null,null,null,null,null,null,null,null,null,null,null,null,null,null,null,null,null,null,null,null,null,null,null,null,null,null,null,null,null,null,null,null,null,null,null,null,null,null,null,null,null,null,null,null,null,null,null,null,null,null,null,null,null,null,null,null,null,null,null,null,null,null,null,null,null,null,null,null,null,null,null,null,"FLOW-OGASES-TOTTRANS-",null,"C0379","ENERGUSE","ROAD","_Z","_Z","_Z","_Z","_Z","ENERGY","_Z","TJ_GCV"]
[]
[]
[]
[]
[]
[]
[]
[]
[]
[]
[]
[]
[]
[]
[]
[]
[]
[]
[]
[]
[]
[]
[]
[]
[]
[]
[]
[]
[]
[]
[]
[]
[]
[]
[]
[]
[]
[]
[]
[]
[]
[]
[]
[]
[]
[]
[]
[]
[]
[]
[]
[]
[]
[]
[]
[]
[]
[]
[]
[]
[]
[]
[]
[]
[]
[]
[]
[]
[]
[]
[]
[]
[]
[]
[]
[]
[]
[]
[]
[]
[]
[]
[]
[]
[]
[]
[]
[]
[]
[]
[]
[]
[]
[]
[]
[]
[]
[]
[]
[]
[]
[]
[]
[]
[]
[]
[]
[]
[]
[]
[]
[]
[]
[]
[]
[]
[]
[]
[]
[]
[]
[]
[]
[]
[]
[]
[]
[]
[]
[]
[]
[]
[]
[]
[]
[]
[]
[]
[]
[]
[]
[]
[]
[]
[]
[]
[]
[]
[]
[]
[]
[]
[]
[]
[]
[]
[]
[]
[]
[]
[]
[]
[]
[]
[]
[]
[]
[]
[]
[]
[]
[]
[]
[]
[]
[]
[]
[]
[]
[]
[]
[]
[]
[]
[]
[]
[]
[]
[]
[]
[]
[]
[]
[]
[]
[]
[]
[]
[]
[]
[]
[]
[]
[]
[]
[]
[]
[]
[]
[]
[]
[]
[]
[]
[]
[]
[]
[]
[]
[]
[]
[]
[]
[]
[]
[]
[]
[]
[]
[]
[]
[]
[]
[]
[]
[]
[]
[]
[]
[]
[]
[]
[]
[]
[]
[]
[]
[]
[]
[]
[]
[]
[]
[]
[]
[]
[]
[]
[]
[]
[]
[]
[]
[]
[]
[]
[]
[]
[]
[]
[]
[]
[]
[]
[]
[]
[]
[]
[]
[]
[]
[]
[]
[]
[]
[]
[]
[]
[]
[]
[]
[]
[]
[]
[]
[]
[]
[]
[]
[]
[]
[]
[]
[]
[]
[]
[]
[]
[]
[]
[]
[]
[]
[]
[]
[]
[]
[]
[]
[]
[]
[]
[]
[]
[]
[]
[]
[]
[]
[]
[]
[]
[]
[]
[]
[]
[]
[]
[]
[]
[]
[]
[]
[]
[]
[]
[]
[]
[]
[]
[]
[]
[]
[]
[]
[]
[]
[]
[]
[]
[]
[]
[]
[]
[]
[]
[]
[]
[]
[]
[]
[]
[]
[]
[]
[]
[]
[]
[]
[]
[]
[]
[]
[]
[]
[]
[]
[]
[]
[]
[]
[]
[]
[]
[]
[]
[]
[]
[]
[]
[]
[]
[]
[]
[]
[]
[]
[]
[]
[]
[]
[]
[]
[]
[]
[]
[]
[]
[]
[]
[]
[]
[]
[]
[]
[]
[]
[]
[]
[]
[]
[]
[]
[]
[]
[]
[]
[]
[]
[]
[]
[]
[]
[]
[]
[]
[]
[]
[]
[]
[]
[]
[]
[]
[]
[]
[]
[]
[]
[]
[]
[]
[]
[]
[]
[]
[]
[]
[]
[]
[]
[]
[]
[]
[]
[]
[]
[]
[]
[]
[]
[]
[]
[]
[]
[]
[]
[]
[]
[]
[]
[]
[]
[]
[]
[]
[]
[]
[]
[]
[]
[]
[]
[]
[]
[]
[]
[]
[]
[]
[]
[]
[]
[]
[]
[]
[]
[]
[]
[]
[]
[]
[]
[]
[]
[]
[]
[]
[]
[]
[]
[]
[]
[]
[]
[]
[]
[]
[]
[]
[]
[]
[]
[]
[]
[]
[]
[]
[]
[]
[]
[]
[]
[]
[]
[]
[]
[]
[]
[]
[]
[]
[]
[]
[]
[]
[]
[]
[]
[]
[]
[]
[]
[]
[]
[]
[]
[]
[]
[]
[]
[]
[]
[]
[]
[]
[]
[]
[]
[]
[]
[]
[]
[]
[]
[]
[]
[]
[]
[]
[]
[]
[]
[]
[]
[]
[]
[]
[]
[]
[]
[]
[]
[]
[]
[]
[]
[]
[]
[]
[]
[]
[]
[]
[]
[]
[]
[]
[]
[]
[]
[]
[]
[]
[]
[]
[]
[]
[]
[]
[]
[]
[]
[]
[]
[]
[]
[]
[]
[]
[]
[]
[]
[]
[]
[]
[]
[]
[]
[]
[]
[]
[]
[]
[]
[]
[]
[]
[]
[]
[]
[]
[]
[]
[]
[]
[]
[]
[]
[]
[]
[]
[]
[]
[]
[]
[]
[]
[]
[]
[]
[]
[]
[]
[]
[]
[]
[]
[]
[]
[]
[]
[]
[]
[]
[]
[]
[]
[]
[]
[]
[]
[]
[]
[]
[null,null,null,null,null,null,null,null,null,null,null,null,null,null,null,null,null,null,null,null,null,null,null,null,null,null,null,null,null,null,null,null,null,null,null,null,null,null,{"$f":"IF(AM3<=$H1001, AM3, \"\")","v":2021},{"$f":"IF(AN3<=$H1001, AN3, \"\")","v":2022},2023,2024,"","","","","","","","","","","","","","","","","","","","","","","","","",""]
[null,null,null,null,null,null,null,{"$f":"IF(MONTH(NOW())<7, YEAR(NOW())-2, YEAR(NOW())-1)","v":2024}]

{"sheet":"OIL","index":9,"n_rows":1104,"n_cols":134,"rows_kept":1104,"cut":false,"hidden":false,"merged":[]}
["IMPORT","QUEST","PRODUCT","DATATYPE","ITEM1","ITEM2",null,null,null,null,null,null,null,null,null,null,null,null,null,null,null,null,null,null,null,null,null,null,null,null,null,null,null,null,null,null,null,null,"Due to different legal basis, data prior to 2021 in this tool have no legal value and are only intended for data quality checks"]
[null,null,null,null,null,null,null,null,null,null,null,null,null,null,null,null,null,null,null,null,null,null,null,null,null,null,null,null,null,null,null,null,null,null,null,null,null,null,"Please consult https://ec.europa.eu/eurostat/web/energy/data/shares for results up to 2020."]
["TIME",null,null,null,null,null,null,1990,1991,1992,1993,1994,1995,1996,1997,1998,1999,2000,2001,2002,2003,2004,2005,2006,2007,2008,2009,2010,2011,2012,2013,2014,2015,2016,2017,2018,2019,2020,2021,2022,2023,2024,2025,2026,2027,2028,2029,2030,2031,2032,2033,2034,2035,2036,2037,2038,2039,2040,2041,2042,2043,2044,2045,2046,2047,2048,2049,2050]
[null,null,null,null,null,null,"TOTAL GFCoE [ktoe]",{"$f":"H5+H6","v":0},{"$f":"I5+I6","v":0},0,0,0,0,0,0,0,0,0,0,0,0,0,0,0,0,0,0,0,0,0,0,0,0,0,0,0,0,0,{"$f":"AM5+AM6","v":0},0,0,0,0,0,0,0,0,0,0,0,0,0,0,0,0,0,0,0,0,0,0,0,0,0,0,0,0,0,null,null,null,null,null,null,null,null,null,null,null,null,null,null,null,null,null,null,null,null,null,null,null,null,null,null,null,null,null,null,null,null,null,null,null,null,null,null,null,null,null,null,null,null,null,null,null,null,null,null,null,null,null,null,"*** DSD codes ***"]
[null,null,null,null,null,null,"- non-transport [ktoe]",{"$f":"(SUMPRODUCT(H58:H79,H82:H103)+SUMPRODUCT(H58:H79,H106:H127)+SUMPRODUCT(H58:H79,H130:H151))/41868","v":0},{"$f":"(SUMPRODUCT(I58:I79,I82:I103)+SUMPRODUCT(I58:I79,I106:I127)+SUMPRODUCT(I58:I79,I130:I151))/41868","v":0},0,0,0,0,0,0,0,0,0,0,0,0,0,0,0,0,0,0,0,0,0,0,0,0,0,0,0,0,0,{"$f":"(SUMPRODUCT(AM58:AM79,AM82:AM103)+SUMPRODUCT(AM58:AM79,AM106:AM127)+SUMPRODUCT(AM58:AM79,AM130:AM151))/41868","v":0},0,0,0,0,0,0,0,0,0,0,0,0,0,0,0,0,0,0,0,0,0,0,0,0,0,0,0,0,0,null,null,null,null,null,null,null,null,null,null,null,null,null,null,null,null,null,null,null,null,null,null,null,null,null,null,null,null,null,null,null,null,null,null,null,null,null,null,null,null,null,null,null,null,null,null,null,null,null,null,null,null,null,null,"REF_AREA","ENERGY_PRODUCT","MAIN_FLOW","FLOW_BREAKDOWN","PLANT_TECH","PLANT_TYPE","STOCKS","INFRASTRUCTURE_IND","VIS_A_VIS_AREA","MEASURE_VALUE_TYPE","FACILITY_ID","UNIT_MEASURE"]
[null,null,null,null,null,null,"- transport [ktoe]",{"$f":"(H58*H154+H59*H155+H60*H156+H61*H157+H62*H158+H63*H159+H67*H163+H69*H165+H70*H166+H73*H169+H74*H170+H75*H171+H76*H172+H77*H173+H78*H174+H79*H175)/41868+SUM(TRANSPORT!H24,TRANSPORT!H26,TRANSPORT!H35:H37,TRANSPORT!H39:H41,TRANSPORT!H43,TRANSPORT!H49)","v":0},{"$f":"(I58*I154+I59*I155+I60*I156+I61*I157+I62*I158+I63*I159+I67*I163+I69*I165+I70*I166+I73*I169+I74*I170+I75*I171+I76*I172+I77*I173+I78*I174+I79*I175)/41868+SUM(TRANSPORT!I24,TRANSPORT!I26,TRANSPORT!I35:I37,TRANSPORT!I39:I41,TRANSPORT!I43,TRANSPORT!I49)","v":0},{"$f":"(J58*J154+J59*J155+J60*J156+J61*J157+J62*J158+J63*J159+J67*J163+J69*J165+J70*J166+J73*J169+J74*J170+J75*J171+J76*J172+J77*J173+J78*J174+J79*J175)/41868+SUM(TRANSPORT!J24,TRANSPORT!J26,TRANSPORT!J35:J37,TRANSPORT!J39:J41,TRANSPORT!J43,TRANSPORT!J49)","v":0},{"$f":"(K58*K154+K59*K155+K60*K156+K61*K157+K62*K158+K63*K159+K67*K163+K69*K165+K70*K166+K73*K169+K74*K170+K75*K171+K76*K172+K77*K173+K78*K174+K79*K175)/41868+SUM(TRANSPORT!K24,TRANSPORT!K26,TRANSPORT!K35:K37,TRANSPORT!K39:K41,TRANSPORT!K43,TRANSPORT!K49)","v":0},{"$f":"(L58*L154+L59*L155+L60*L156+L61*L157+L62*L158+L63*L159+L67*L163+L69*L165+L70*L166+L73*L169+L74*L170+L75*L171+L76*L172+L77*L173+L78*L174+L79*L175)/41868+SUM(TRANSPORT!L24,TRANSPORT!L26,TRANSPORT!L35:L37,TRANSPORT!L39:L41,TRANSPORT!L43,TRANSPORT!L49)","v":0},{"$f":"(M58*M154+M59*M155+M60*M156+M61*M157+M62*M158+M63*M159+M67*M163+M69*M165+M70*M166+M73*M169+M74*M170+M75*M171+M76*M172+M77*M173+M78*M174+M79*M175)/41868+SUM(TRANSPORT!M24,TRANSPORT!M26,TRANSPORT!M35:M37,TRANSPORT!M39:M41,TRANSPORT!M43,TRANSPORT!M49)","v":0},{"$f":"(N58*N154+N59*N155+N60*N156+N61*N157+N62*N158+N63*N159+N67*N163+N69*N165+N70*N166+N73*N169+N74*N170+N75*N171+N76*N172+N77*N173+N78*N174+N79*N175)/41868+SUM(TRANSPORT!N24,TRANSPORT!N26,TRANSPORT!N35:N37,TRANSPORT!N39:N41,TRANSPORT!N43,TRANSPORT!N49)","v":0},{"$f":"(O58*O154+O59*O155+O60*O156+O61*O157+O62*O158+O63*O159+O67*O163+O69*O165+O70*O166+O73*O169+O74*O170+O75*O171+O76*O172+O77*O173+O78*O174+O79*O175)/41868+SUM(TRANSPORT!O24,TRANSPORT!O26,TRANSPORT!O35:O37,TRANSPORT!O39:O41,TRANSPORT!O43,TRANSPORT!O49)","v":0},{"$f":"(P58*P154+P59*P155+P60*P156+P61*P157+P62*P158+P63*P159+P67*P163+P69*P165+P70*P166+P73*P169+P74*P170+P75*P171+P76*P172+P77*P173+P78*P174+P79*P175)/41868+SUM(TRANSPORT!P24,TRANSPORT!P26,TRANSPORT!P35:P37,TRANSPORT!P39:P41,TRANSPORT!P43,TRANSPORT!P49)","v":0},{"$f":"(Q58*Q154+Q59*Q155+Q60*Q156+Q61*Q157+Q62*Q158+Q63*Q159+Q67*Q163+Q69*Q165+Q70*Q166+Q73*Q169+Q74*Q170+Q75*Q171+Q76*Q172+Q77*Q173+Q78*Q174+Q79*Q175)/41868+SUM(TRANSPORT!Q24,TRANSPORT!Q26,TRANSPORT!Q35:Q37,TRANSPORT!Q39:Q41,TRANSPORT!Q43,TRANSPORT!Q49)","v":0},{"$f":"(R58*R154+R59*R155+R60*R156+R61*R157+R62*R158+R63*R159+R67*R163+R69*R165+R70*R166+R73*R169+R74*R170+R75*R171+R76*R172+R77*R173+R78*R174+R79*R175)/41868+SUM(TRANSPORT!R24,TRANSPORT!R26,TRANSPORT!R35:R37,TRANSPORT!R39:R41,TRANSPORT!R43,TRANSPORT!R49)","v":0},{"$f":"(S58*S154+S59*S155+S60*S156+S61*S157+S62*S158+S63*S159+S67*S163+S69*S165+S70*S166+S73*S169+S74*S170+S75*S171+S76*S172+S77*S173+S78*S174+S79*S175)/41868+SUM(TRANSPORT!S24,TRANSPORT!S26,TRANSPORT!S35:S37,TRANSPORT!S39:S41,TRANSPORT!S43,TRANSPORT!S49)","v":0},{"$f":"(T58*T154+T59*T155+T60*T156+T61*T157+T62*T158+T63*T159+T67*T163+T69*T165+T70*T166+T73*T169+T74*T170+T75*T171+T76*T172+T77*T173+T78*T174+T79*T175)/41868+SUM(TRANSPORT!T24,TRANSPORT!T26,TRANSPORT!T35:T37,TRANSPORT!T39:T41,TRANSPORT!T43,TRANSPORT!T49)","v":0},{"$f":"(U58*U154+U59*U155+U60*U156+U61*U157+U62*U158+U63*U159+U67*U163+U69*U165+U70*U166+U73*U169+U74*U170+U75*U171+U76*U172+U77*U173+U78*U174+U79*U175)/41868+SUM(TRANSPORT!U24,TRANSPORT!U26,TRANSPORT!U35:U37,TRANSPORT!U39:U41,TRANSPORT!U43,TRANSPORT!U49)","v":0},{"$f":"(V58*V154+V59*V155+V60*V156+V61*V157+V62*V158+V63*V159+V67*V163+V69*V165+V70*V166+V73*V169+V74*V170+V75*V171+V76*V172+V77*V173+V78*V174+V79*V175)/41868+SUM(TRANSPORT!V24,TRANSPORT!V26,TRANSPORT!V35:V37,TRANSPORT!V39:V41,TRANSPORT!V43,TRANSPORT!V49)","v":0},{"$f":"(W58*W154+W59*W155+W60*W156+W61*W157+W62*W158+W63*W159+W67*W163+W69*W165+W70*W166+W73*W169+W74*W170+W75*W171+W76*W172+W77*W173+W78*W174+W79*W175)/41868+SUM(TRANSPORT!W24,TRANSPORT!W26,TRANSPORT!W35:W37,TRANSPORT!W39:W41,TRANSPORT!W43,TRANSPORT!W49)","v":0},{"$f":"(X58*X154+X59*X155+X60*X156+X61*X157+X62*X158+X63*X159+X67*X163+X69*X165+X70*X166+X73*X169+X74*X170+X75*X171+X76*X172+X77*X173+X78*X174+X79*X175)/41868+SUM(TRANSPORT!X24,TRANSPORT!X26,TRANSPORT!X35:X37,TRANSPORT!X39:X41,TRANSPORT!X43,TRANSPORT!X49)","v":0},{"$f":"(Y58*Y154+Y59*Y155+Y60*Y156+Y61*Y157+Y62*Y158+Y63*Y159+Y67*Y163+Y69*Y165+Y70*Y166+Y73*Y169+Y74*Y170+Y75*Y171+Y76*Y172+Y77*Y173+Y78*Y174+Y79*Y175)/41868+SUM(TRANSPORT!Y24,TRANSPORT!Y26,TRANSPORT!Y35:Y37,TRANSPORT!Y39:Y41,TRANSPORT!Y43,TRANSPORT!Y49)","v":0},{"$f":"(Z58*Z154+Z59*Z155+Z60*Z156+Z61*Z157+Z62*Z158+Z63*Z159+Z67*Z163+Z69*Z165+Z70*Z166+Z73*Z169+Z74*Z170+Z75*Z171+Z76*Z172+Z77*Z173+Z78*Z174+Z79*Z175)/41868+SUM(TRANSPORT!Z24,TRANSPORT!Z26,TRANSPORT!Z35:Z37,TRANSPORT!Z39:Z41,TRANSPORT!Z43,TRANSPORT!Z49)","v":0},{"$f":"(AA58*AA154+AA59*AA155+AA60*AA156+AA61*AA157+AA62*AA158+AA63*AA159+AA67*AA163+AA69*AA165+AA70*AA166+AA73*AA169+AA74*AA170+AA75*AA171+AA76*AA172+AA77*AA173+AA78*AA174+AA79*AA175)/41868+SUM(TRANSPORT!AA24,TRANSPORT!AA26,TRANSPORT!AA35:AA37,TRANSPORT!AA39:AA41,TRANSPORT!AA43,TRANSPORT!AA49)","v":0},{"$f":"(AB58*AB154+AB59*AB155+AB60*AB156+AB61*AB157+AB62*AB158+AB63*AB159+AB67*AB163+AB69*AB165+AB70*AB166+AB73*AB169+AB74*AB170+AB75*AB171+AB76*AB172+AB77*AB173+AB78*AB174+AB79*AB175)/41868+SUM(TRANSPORT!AB24,TRANSPORT!AB26,TRANSPORT!AB35:AB37,TRANSPORT!AB39:AB41,TRANSPORT!AB43,TRANSPORT!AB49)","v":0},{"$f":"(AC58*AC154+AC59*AC155+AC60*AC156+AC61*AC157+AC62*AC158+AC63*AC159+AC67*AC163+AC69*AC165+AC70*AC166+AC73*AC169+AC74*AC170+AC75*AC171+AC76*AC172+AC77*AC173+AC78*AC174+AC79*AC175)/41868+SUM(TRANSPORT!AC24,TRANSPORT!AC26,TRANSPORT!AC35:AC37,TRANSPORT!AC39:AC41,TRANSPORT!AC43,TRANSPORT!AC49)","v":0},{"$f":"(AD58*AD154+AD59*AD155+AD60*AD156+AD61*AD157+AD62*AD158+AD63*AD159+AD67*AD163+AD69*AD165+AD70*AD166+AD73*AD169+AD74*AD170+AD75*AD171+AD76*AD172+AD77*AD173+AD78*AD174+AD79*AD175)/41868+SUM(TRANSPORT!AD24,TRANSPORT!AD26,TRANSPORT!AD35:AD37,TRANSPORT!AD39:AD41,TRANSPORT!AD43,TRANSPORT!AD49)","v":0},{"$f":"(AE58*AE154+AE59*AE155+AE60*AE156+AE61*AE157+AE62*AE158+AE63*AE159+AE67*AE163+AE69*AE165+AE70*AE166+AE73*AE169+AE74*AE170+AE75*AE171+AE76*AE172+AE77*AE173+AE78*AE174+AE79*AE175)/41868+SUM(TRANSPORT!AE24,TRANSPORT!AE26,TRANSPORT!AE35:AE37,TRANSPORT!AE39:AE41,TRANSPORT!AE43,TRANSPORT!AE49)","v":0},{"$f":"(AF58*AF154+AF59*AF155+AF60*AF156+AF61*AF157+AF62*AF158+AF63*AF159+AF67*AF163+AF69*AF165+AF70*AF166+AF73*AF169+AF74*AF170+AF75*AF171+AF76*AF172+AF77*AF173+AF78*AF174+AF79*AF175)/41868+SUM(TRANSPORT!AF24,TRANSPORT!AF26,TRANSPORT!AF35:AF37,TRANSPORT!AF39:AF41,TRANSPORT!AF43,TRANSPORT!AF49)","v":0},{"$f":"(AG58*AG154+AG59*AG155+AG60*AG156+AG61*AG157+AG62*AG158+AG63*AG159+AG67*AG163+AG69*AG165+AG70*AG166+AG73*AG169+AG74*AG170+AG75*AG171+AG76*AG172+AG77*AG173+AG78*AG174+AG79*AG175)/41868+SUM(TRANSPORT!AG24,TRANSPORT!AG26,TRANSPORT!AG35:AG37,TRANSPORT!AG39:AG41,TRANSPORT!AG43,TRANSPORT!AG49)","v":0},{"$f":"(AH58*AH154+AH59*AH155+AH60*AH156+AH61*AH157+AH62*AH158+AH63*AH159+AH67*AH163+AH69*AH165+AH70*AH166+AH73*AH169+AH74*AH170+AH75*AH171+AH76*AH172+AH77*AH173+AH78*AH174+AH79*AH175)/41868+SUM(TRANSPORT!AH24,TRANSPORT!AH26,TRANSPORT!AH35:AH37,TRANSPORT!AH39:AH41,TRANSPORT!AH43,TRANSPORT!AH49)","v":0},{"$f":"(AI58*AI154+AI59*AI155+AI60*AI156+AI61*AI157+AI62*AI158+AI63*AI159+AI67*AI163+AI69*AI165+AI70*AI166+AI73*AI169+AI74*AI170+AI75*AI171+AI76*AI172+AI77*AI173+AI78*AI174+AI79*AI175)/41868+SUM(TRANSPORT!AI24,TRANSPORT!AI26,TRANSPORT!AI35:AI37,TRANSPORT!AI39:AI41,TRANSPORT!AI43,TRANSPORT!AI49)","v":0},{"$f":"(AJ58*AJ154+AJ59*AJ155+AJ60*AJ156+AJ61*AJ157+AJ62*AJ158+AJ63*AJ159+AJ67*AJ163+AJ69*AJ165+AJ70*AJ166+AJ73*AJ169+AJ74*AJ170+AJ75*AJ171+AJ76*AJ172+AJ77*AJ173+AJ78*AJ174+AJ79*AJ175)/41868+SUM(TRANSPORT!AJ24,TRANSPORT!AJ26,TRANSPORT!AJ35:AJ37,TRANSPORT!AJ39:AJ41,TRANSPORT!AJ43,TRANSPORT!AJ49)","v":0},{"$f":"(AK58*AK154+AK59*AK155+AK60*AK156+AK61*AK157+AK62*AK158+AK63*AK159+AK67*AK163+AK69*AK165+AK70*AK166+AK73*AK169+AK74*AK170+AK75*AK171+AK76*AK172+AK77*AK173+AK78*AK174+AK79*AK175)/41868+SUM(TRANSPORT!AK24,TRANSPORT!AK26,TRANSPORT!AK35:AK37,TRANSPORT!AK39:AK41,TRANSPORT!AK43,TRANSPORT!AK49)","v":0},{"$f":"(AL58*AL154+AL59*AL155+AL60*AL156+AL61*AL157+AL62*AL158+AL63*AL159+AL67*AL163+AL69*AL165+AL70*AL166+AL73*AL169+AL74*AL170+AL75*AL171+AL76*AL172+AL77*AL173+AL78*AL174+AL79*AL175)/41868+SUM(TRANSPORT!AL24,TRANSPORT!AL26,TRANSPORT!AL35:AL37,TRANSPORT!AL39:AL41,TRANSPORT!AL43,TRANSPORT!AL49)","v":0},{"$f":"(AM58*AM154+AM59*AM155+AM60*AM156+AM61*AM157+AM62*AM158+AM63*AM159+AM67*AM163+AM69*AM165+AM70*AM166+AM73*AM169+AM74*AM170+AM75*AM171+AM76*AM172+AM77*AM173+AM78*AM174+AM79*AM175)/41868+SUM(TRANSPORT!AM24,TRANSPORT!AM26,TRANSPORT!AM35:AM37,TRANSPORT!AM39:AM41,TRANSPORT!AM43,TRANSPORT!AM49)","v":0},{"$f":"(AN58*AN154+AN59*AN155+AN60*AN156+AN61*AN157+AN62*AN158+AN63*AN159+AN67*AN163+AN69*AN165+AN70*AN166+AN73*AN169+AN74*AN170+AN75*AN171+AN76*AN172+AN77*AN173+AN78*AN174+AN79*AN175)/41868+SUM(TRANSPORT!AN24,TRANSPORT!AN26,TRANSPORT!AN35:AN37,TRANSPORT!AN39:AN41,TRANSPORT!AN43,TRANSPORT!AN49)","v":0},{"$f":"(AO58*AO154+AO59*AO155+AO60*AO156+AO61*AO157+AO62*AO158+AO63*AO159+AO67*AO163+AO69*AO165+AO70*AO166+AO73*AO169+AO74*AO170+AO75*AO171+AO76*AO172+AO77*AO173+AO78*AO174+AO79*AO175)/41868+SUM(TRANSPORT!AO24,TRANSPORT!AO26,TRANSPORT!AO35:AO37,TRANSPORT!AO39:AO41,TRANSPORT!AO43,TRANSPORT!AO49)","v":0},{"$f":"(AP58*AP154+AP59*AP155+AP60*AP156+AP61*AP157+AP62*AP158+AP63*AP159+AP67*AP163+AP69*AP165+AP70*AP166+AP73*AP169+AP74*AP170+AP75*AP171+AP76*AP172+AP77*AP173+AP78*AP174+AP79*AP175)/41868+SUM(TRANSPORT!AP24,TRANSPORT!AP26,TRANSPORT!AP35:AP37,TRANSPORT!AP39:AP41,TRANSPORT!AP43,TRANSPORT!AP49)","v":0},{"$f":"(AQ58*AQ154+AQ59*AQ155+AQ60*AQ156+AQ61*AQ157+AQ62*AQ158+AQ63*AQ159+AQ67*AQ163+AQ69*AQ165+AQ70*AQ166+AQ73*AQ169+AQ74*AQ170+AQ75*AQ171+AQ76*AQ172+AQ77*AQ173+AQ78*AQ174+AQ79*AQ175)/41868+SUM(TRANSPORT!AQ24,TRANSPORT!AQ26,TRANSPORT!AQ35:AQ37,TRANSPORT!AQ39:AQ41,TRANSPORT!AQ43,TRANSPORT!AQ49)","v":0},{"$f":"(AR58*AR154+AR59*AR155+AR60*AR156+AR61*AR157+AR62*AR158+AR63*AR159+AR67*AR163+AR69*AR165+AR70*AR166+AR73*AR169+AR74*AR170+AR75*AR171+AR76*AR172+AR77*AR173+AR78*AR174+AR79*AR175)/41868+SUM(TRANSPORT!AR24,TRANSPORT!AR26,TRANSPORT!AR35:AR37,TRANSPORT!AR39:AR41,TRANSPORT!AR43,TRANSPORT!AR49)","v":0},{"$f":"(AS58*AS154+AS59*AS155+AS60*AS156+AS61*AS157+AS62*AS158+AS63*AS159+AS67*AS163+AS69*AS165+AS70*AS166+AS73*AS169+AS74*AS170+AS75*AS171+AS76*AS172+AS77*AS173+AS78*AS174+AS79*AS175)/41868+SUM(TRANSPORT!AS24,TRANSPORT!AS26,TRANSPORT!AS35:AS37,TRANSPORT!AS39:AS41,TRANSPORT!AS43,TRANSPORT!AS49)","v":0},{"$f":"(AT58*AT154+AT59*AT155+AT60*AT156+AT61*AT157+AT62*AT158+AT63*AT159+AT67*AT163+AT69*AT165+AT70*AT166+AT73*AT169+AT74*AT170+AT75*AT171+AT76*AT172+AT77*AT173+AT78*AT174+AT79*AT175)/41868+SUM(TRANSPORT!AT24,TRANSPORT!AT26,TRANSPORT!AT35:AT37,TRANSPORT!AT39:AT41,TRANSPORT!AT43,TRANSPORT!AT49)","v":0},{"$f":"(AU58*AU154+AU59*AU155+AU60*AU156+AU61*AU157+AU62*AU158+AU63*AU159+AU67*AU163+AU69*AU165+AU70*AU166+AU73*AU169+AU74*AU170+AU75*AU171+AU76*AU172+AU77*AU173+AU78*AU174+AU79*AU175)/41868+SUM(TRANSPORT!AU24,TRANSPORT!AU26,TRANSPORT!AU35:AU37,TRANSPORT!AU39:AU41,TRANSPORT!AU43,TRANSPORT!AU49)","v":0},{"$f":"(AV58*AV154+AV59*AV155+AV60*AV156+AV61*AV157+AV62*AV158+AV63*AV159+AV67*AV163+AV69*AV165+AV70*AV166+AV73*AV169+AV74*AV170+AV75*AV171+AV76*AV172+AV77*AV173+AV78*AV174+AV79*AV175)/41868+SUM(TRANSPORT!AV24,TRANSPORT!AV26,TRANSPORT!AV35:AV37,TRANSPORT!AV39:AV41,TRANSPORT!AV43,TRANSPORT!AV49)","v":0},{"$f":"(AW58*AW154+AW59*AW155+AW60*AW156+AW61*AW157+AW62*AW158+AW63*AW159+AW67*AW163+AW69*AW165+AW70*AW166+AW73*AW169+AW74*AW170+AW75*AW171+AW76*AW172+AW77*AW173+AW78*AW174+AW79*AW175)/41868+SUM(TRANSPORT!AW24,TRANSPORT!AW26,TRANSPORT!AW35:AW37,TRANSPORT!AW39:AW41,TRANSPORT!AW43,TRANSPORT!AW49)","v":0},{"$f":"(AX58*AX154+AX59*AX155+AX60*AX156+AX61*AX157+AX62*AX158+AX63*AX159+AX67*AX163+AX69*AX165+AX70*AX166+AX73*AX169+AX74*AX170+AX75*AX171+AX76*AX172+AX77*AX173+AX78*AX174+AX79*AX175)/41868+SUM(TRANSPORT!AX24,TRANSPORT!AX26,TRANSPORT!AX35:AX37,TRANSPORT!AX39:AX41,TRANSPORT!AX43,TRANSPORT!AX49)","v":0},{"$f":"(AY58*AY154+AY59*AY155+AY60*AY156+AY61*AY157+AY62*AY158+AY63*AY159+AY67*AY163+AY69*AY165+AY70*AY166+AY73*AY169+AY74*AY170+AY75*AY171+AY76*AY172+AY77*AY173+AY78*AY174+AY79*AY175)/41868+SUM(TRANSPORT!AY24,TRANSPORT!AY26,TRANSPORT!AY35:AY37,TRANSPORT!AY39:AY41,TRANSPORT!AY43,TRANSPORT!AY49)","v":0},{"$f":"(AZ58*AZ154+AZ59*AZ155+AZ60*AZ156+AZ61*AZ157+AZ62*AZ158+AZ63*AZ159+AZ67*AZ163+AZ69*AZ165+AZ70*AZ166+AZ73*AZ169+AZ74*AZ170+AZ75*AZ171+AZ76*AZ172+AZ77*AZ173+AZ78*AZ174+AZ79*AZ175)/41868+SUM(TRANSPORT!AZ24,TRANSPORT!AZ26,TRANSPORT!AZ35:AZ37,TRANSPORT!AZ39:AZ41,TRANSPORT!AZ43,TRANSPORT!AZ49)","v":0},{"$f":"(BA58*BA154+BA59*BA155+BA60*BA156+BA61*BA157+BA62*BA158+BA63*BA159+BA67*BA163+BA69*BA165+BA70*BA166+BA73*BA169+BA74*BA170+BA75*BA171+BA76*BA172+BA77*BA173+BA78*BA174+BA79*BA175)/41868+SUM(TRANSPORT!BA24,TRANSPORT!BA26,TRANSPORT!BA35:BA37,TRANSPORT!BA39:BA41,TRANSPORT!BA43,TRANSPORT!BA49)","v":0},{"$f":"(BB58*BB154+BB59*BB155+BB60*BB156+BB61*BB157+BB62*BB158+BB63*BB159+BB67*BB163+BB69*BB165+BB70*BB166+BB73*BB169+BB74*BB170+BB75*BB171+BB76*BB172+BB77*BB173+BB78*BB174+BB79*BB175)/41868+SUM(TRANSPORT!BB24,TRANSPORT!BB26,TRANSPORT!BB35:BB37,TRANSPORT!BB39:BB41,TRANSPORT!BB43,TRANSPORT!BB49)","v":0},{"$f":"(BC58*BC154+BC59*BC155+BC60*BC156+BC61*BC157+BC62*BC158+BC63*BC159+BC67*BC163+BC69*BC165+BC70*BC166+BC73*BC169+BC74*BC170+BC75*BC171+BC76*BC172+BC77*BC173+BC78*BC174+BC79*BC175)/41868+SUM(TRANSPORT!BC24,TRANSPORT!BC26,TRANSPORT!BC35:BC37,TRANSPORT!BC39:BC41,TRANSPORT!BC43,TRANSPORT!BC49)","v":0},{"$f":"(BD58*BD154+BD59*BD155+BD60*BD156+BD61*BD157+BD62*BD158+BD63*BD159+BD67*BD163+BD69*BD165+BD70*BD166+BD73*BD169+BD74*BD170+BD75*BD171+BD76*BD172+BD77*BD173+BD78*BD174+BD79*BD175)/41868+SUM(TRANSPORT!BD24,TRANSPORT!BD26,TRANSPORT!BD35:BD37,TRANSPORT!BD39:BD41,TRANSPORT!BD43,TRANSPORT!BD49)","v":0},{"$f":"(BE58*BE154+BE59*BE155+BE60*BE156+BE61*BE157+BE62*BE158+BE63*BE159+BE67*BE163+BE69*BE165+BE70*BE166+BE73*BE169+BE74*BE170+BE75*BE171+BE76*BE172+BE77*BE173+BE78*BE174+BE79*BE175)/41868+SUM(TRANSPORT!BE24,TRANSPORT!BE26,TRANSPORT!BE35:BE37,TRANSPORT!BE39:BE41,TRANSPORT!BE43,TRANSPORT!BE49)","v":0},{"$f":"(BF58*BF154+BF59*BF155+BF60*BF156+BF61*BF157+BF62*BF158+BF63*BF159+BF67*BF163+BF69*BF165+BF70*BF166+BF73*BF169+BF74*BF170+BF75*BF171+BF76*BF172+BF77*BF173+BF78*BF174+BF79*BF175)/41868+SUM(TRANSPORT!BF24,TRANSPORT!BF26,TRANSPORT!BF35:BF37,TRANSPORT!BF39:BF41,TRANSPORT!BF43,TRANSPORT!BF49)","v":0},{"$f":"(BG58*BG154+BG59*BG155+BG60*BG156+BG61*BG157+BG62*BG158+BG63*BG159+BG67*BG163+BG69*BG165+BG70*BG166+BG73*BG169+BG74*BG170+BG75*BG171+BG76*BG172+BG77*BG173+BG78*BG174+BG79*BG175)/41868+SUM(TRANSPORT!BG24,TRANSPORT!BG26,TRANSPORT!BG35:BG37,TRANSPORT!BG39:BG41,TRANSPORT!BG43,TRANSPORT!BG49)","v":0},{"$f":"(BH58*BH154+BH59*BH155+BH60*BH156+BH61*BH157+BH62*BH158+BH63*BH159+BH67*BH163+BH69*BH165+BH70*BH166+BH73*BH169+BH74*BH170+BH75*BH171+BH76*BH172+BH77*BH173+BH78*BH174+BH79*BH175)/41868+SUM(TRANSPORT!BH24,TRANSPORT!BH26,TRANSPORT!BH35:BH37,TRANSPORT!BH39:BH41,TRANSPORT!BH43,TRANSPORT!BH49)","v":0},{"$f":"(BI58*BI154+BI59*BI155+BI60*BI156+BI61*BI157+BI62*BI158+BI63*BI159+BI67*BI163+BI69*BI165+BI70*BI166+BI73*BI169+BI74*BI170+BI75*BI171+BI76*BI172+BI77*BI173+BI78*BI174+BI79*BI175)/41868+SUM(TRANSPORT!BI24,TRANSPORT!BI26,TRANSPORT!BI35:BI37,TRANSPORT!BI39:BI41,TRANSPORT!BI43,TRANSPORT!BI49)","v":0},{"$f":"(BJ58*BJ154+BJ59*BJ155+BJ60*BJ156+BJ61*BJ157+BJ62*BJ158+BJ63*BJ159+BJ67*BJ163+BJ69*BJ165+BJ70*BJ166+BJ73*BJ169+BJ74*BJ170+BJ75*BJ171+BJ76*BJ172+BJ77*BJ173+BJ78*BJ174+BJ79*BJ175)/41868+SUM(TRANSPORT!BJ24,TRANSPORT!BJ26,TRANSPORT!BJ35:BJ37,TRANSPORT!BJ39:BJ41,TRANSPORT!BJ43,TRANSPORT!BJ49)","v":0},{"$f":"(BK58*BK154+BK59*BK155+BK60*BK156+BK61*BK157+BK62*BK158+BK63*BK159+BK67*BK163+BK69*BK165+BK70*BK166+BK73*BK169+BK74*BK170+BK75*BK171+BK76*BK172+BK77*BK173+BK78*BK174+BK79*BK175)/41868+SUM(TRANSPORT!BK24,TRANSPORT!BK26,TRANSPORT!BK35:BK37,TRANSPORT!BK39:BK41,TRANSPORT!BK43,TRANSPORT!BK49)","v":0},{"$f":"(BL58*BL154+BL59*BL155+BL60*BL156+BL61*BL157+BL62*BL158+BL63*BL159+BL67*BL163+BL69*BL165+BL70*BL166+BL73*BL169+BL74*BL170+BL75*BL171+BL76*BL172+BL77*BL173+BL78*BL174+BL79*BL175)/41868+SUM(TRANSPORT!BL24,TRANSPORT!BL26,TRANSPORT!BL35:BL37,TRANSPORT!BL39:BL41,TRANSPORT!BL43,TRANSPORT!BL49)","v":0},{"$f":"(BM58*BM154+BM59*BM155+BM60*BM156+BM61*BM157+BM62*BM158+BM63*BM159+BM67*BM163+BM69*BM165+BM70*BM166+BM73*BM169+BM74*BM170+BM75*BM171+BM76*BM172+BM77*BM173+BM78*BM174+BM79*BM175)/41868+SUM(TRANSPORT!BM24,TRANSPORT!BM26,TRANSPORT!BM35:BM37,TRANSPORT!BM39:BM41,TRANSPORT!BM43,TRANSPORT!BM49)","v":0},{"$f":"(BN58*BN154+BN59*BN155+BN60*BN156+BN61*BN157+BN62*BN158+BN63*BN159+BN67*BN163+BN69*BN165+BN70*BN166+BN73*BN169+BN74*BN170+BN75*BN171+BN76*BN172+BN77*BN173+BN78*BN174+BN79*BN175)/41868+SUM(TRANSPORT!BN24,TRANSPORT!BN26,TRANSPORT!BN35:BN37,TRANSPORT!BN39:BN41,TRANSPORT!BN43,TRANSPORT!BN49)","v":0},{"$f":"(BO58*BO154+BO59*BO155+BO60*BO156+BO61*BO157+BO62*BO158+BO63*BO159+BO67*BO163+BO69*BO165+BO70*BO166+BO73*BO169+BO74*BO170+BO75*BO171+BO76*BO172+BO77*BO173+BO78*BO174+BO79*BO175)/41868+SUM(TRANSPORT!BO24,TRANSPORT!BO26,TRANSPORT!BO35:BO37,TRANSPORT!BO39:BO41,TRANSPORT!BO43,TRANSPORT!BO49)","v":0},{"$f":"(BP58*BP154+BP59*BP155+BP60*BP156+BP61*BP157+BP62*BP158+BP63*BP159+BP67*BP163+BP69*BP165+BP70*BP166+BP73*BP169+BP74*BP170+BP75*BP171+BP76*BP172+BP77*BP173+BP78*BP174+BP79*BP175)/41868+SUM(TRANSPORT!BP24,TRANSPORT!BP26,TRANSPORT!BP35:BP37,TRANSPORT!BP39:BP41,TRANSPORT!BP43,TRANSPORT!BP49)","v":0}]
[null,null,null,null,null,null,"transport above includes all transport fuels from renewables and oil questionnaires and calculation considers calorific values in Annex III"]
[]
[null,null,null,null,null,null,"Net calorific values"]
[null,"OIL","CRUDEOIL","BALANCE","NCVAVG",null,"Crude oil",null,null,null,null,null,null,null,null,null,null,null,null,null,null,null,null,null,null,null,null,null,null,null,null,null,null,null,null,null,null,null,null,null,null,null,null,null,null,null,null,null,null,null,null,null,null,null,null,null,null,null,null,null,null,null,null,null,null,null,null,null,null,null,null,null,null,null,null,null,null,null,null,null,null,null,null,null,null,null,null,null,null,null,null,null,null,null,null,null,null,null,null,null,null,null,null,null,null,null,null,null,null,null,null,null,null,null,null,null,null,null,null,null,null,"BALANCE-CRUDEOIL-NCVAVG-",null,"O4100","_Z","AVGFLOW","_Z","_Z","_Z","_Z","_Z","NCV","_Z","KJ_KG"]
[null,"OIL","NGL","BALANCE","NCVAVG",null,"Natural gas liquids",null,null,null,null,null,null,null,null,null,null,null,null,null,null,null,null,null,null,null,null,null,null,null,null,null,null,null,null,null,null,null,null,null,null,null,null,null,null,null,null,null,null,null,null,null,null,null,null,null,null,null,null,null,null,null,null,null,null,null,null,null,null,null,null,null,null,null,null,null,null,null,null,null,null,null,null,null,null,null,null,null,null,null,null,null,null,null,null,null,null,null,null,null,null,null,null,null,null,null,null,null,null,null,null,null,null,null,null,null,null,null,null,null,null,"BALANCE-NGL-NCVAVG-",null,"O4200","_Z","AVGFLOW","_Z","_Z","_Z","_Z","_Z","NCV","_Z","KJ_KG"]
[null,"OIL","REFINGAS","BALANCE","NCVAVG",null,"Refinery gas",null,null,null,null,null,null,null,null,null,null,null,null,null,null,null,null,null,null,null,null,null,null,null,null,null,null,null,null,null,null,null,null,null,null,null,null,null,null,null,null,null,null,null,null,null,null,null,null,null,null,null,null,null,null,null,null,null,null,null,null,null,null,null,null,null,null,null,null,null,null,null,null,null,null,null,null,null,null,null,null,null,null,null,null,null,null,null,null,null,null,null,null,null,null,null,null,null,null,null,null,null,null,null,null,null,null,null,null,null,null,null,null,null,null,"BALANCE-REFINGAS-NCVAVG-",null,"O4610","_Z","AVGFLOW","_Z","_Z","_Z","_Z","_Z","NCV","_Z","KJ_KG"]
[null,"OIL","ETHANE","BALANCE","NCVAVG",null,"Ethane",null,null,null,null,null,null,null,null,null,null,null,null,null,null,null,null,null,null,null,null,null,null,null,null,null,null,null,null,null,null,null,null,null,null,null,null,null,null,null,null,null,null,null,null,null,null,null,null,null,null,null,null,null,null,null,null,null,null,null,null,null,null,null,null,null,null,null,null,null,null,null,null,null,null,null,null,null,null,null,null,null,null,null,null,null,null,null,null,null,null,null,null,null,null,null,null,null,null,null,null,null,null,null,null,null,null,null,null,null,null,null,null,null,null,"BALANCE-ETHANE-NCVAVG-",null,"O4620","_Z","AVGFLOW","_Z","_Z","_Z","_Z","_Z","NCV","_Z","KJ_KG"]
[null,"OIL","LPG","BALANCE","NCVAVG",null,"LPG",null,null,null,null,null,null,null,null,null,null,null,null,null,null,null,null,null,null,null,null,null,null,null,null,null,null,null,null,null,null,null,null,null,null,null,null,null,null,null,null,null,null,null,null,null,null,null,null,null,null,null,null,null,null,null,null,null,null,null,null,null,null,null,null,null,null,null,null,null,null,null,null,null,null,null,null,null,null,null,null,null,null,null,null,null,null,null,null,null,null,null,null,null,null,null,null,null,null,null,null,null,null,null,null,null,null,null,null,null,null,null,null,null,null,"BALANCE-LPG-NCVAVG-",null,"O4630","_Z","AVGFLOW","_Z","_Z","_Z","_Z","_Z","NCV","_Z","KJ_KG"]
[null,"OIL","NAPHTHA","BALANCE","NCVAVG",null,"Naphtha",null,null,null,null,null,null,null,null,null,null,null,null,null,null,null,null,null,null,null,null,null,null,null,null,null,null,null,null,null,null,null,null,null,null,null,null,null,null,null,null,null,null,null,null,null,null,null,null,null,null,null,null,null,null,null,null,null,null,null,null,null,null,null,null,null,null,null,null,null,null,null,null,null,null,null,null,null,null,null,null,null,null,null,null,null,null,null,null,null,null,null,null,null,null,null,null,null,null,null,null,null,null,null,null,null,null,null,null,null,null,null,null,null,null,"BALANCE-NAPHTHA-NCVAVG-",null,"O4640","_Z","AVGFLOW","_Z","_Z","_Z","_Z","_Z","NCV","_Z","KJ_KG"]
[null,"OIL","BIOGASOL","BALANCE","NCVAVG",null,"- Biogasoline",null,null,null,null,null,null,null,null,null,null,null,null,null,null,null,null,null,null,null,null,null,null,null,null,null,null,null,null,null,null,null,null,null,null,null,null,null,null,null,null,null,null,null,null,null,null,null,null,null,null,null,null,null,null,null,null,null,null,null,null,null,null,null,null,null,null,null,null,null,null,null,null,null,null,null,null,null,null,null,null,null,null,null,null,null,null,null,null,null,null,null,null,null,null,null,null,null,null,null,null,null,null,null,null,null,null,null,null,null,null,null,null,null,null,"BALANCE-BIOGASOL-NCVAVG-",null,"R5212","_Z","AVGFLOW","_Z","_Z","_Z","_Z","_Z","NCV","_Z","KJ_KG"]
[null,"OIL","NONBIOGASO","BALANCE","NCVAVG",null,"- Non-biogasoline",null,null,null,null,null,null,null,null,null,null,null,null,null,null,null,null,null,null,null,null,null,null,null,null,null,null,null,null,null,null,null,null,null,null,null,null,null,null,null,null,null,null,null,null,null,null,null,null,null,null,null,null,null,null,null,null,null,null,null,null,null,null,null,null,null,null,null,null,null,null,null,null,null,null,null,null,null,null,null,null,null,null,null,null,null,null,null,null,null,null,null,null,null,null,null,null,null,null,null,null,null,null,null,null,null,null,null,null,null,null,null,null,null,null,"BALANCE-NONBIOGASO-NCVAVG-",null,"O4657","_Z","AVGFLOW","_Z","_Z","_Z","_Z","_Z","NCV","_Z","KJ_KG"]
[null,"OIL","AVGAS","BALANCE","NCVAVG",null,"Aviation gasoline",null,null,null,null,null,null,null,null,null,null,null,null,null,null,null,null,null,null,null,null,null,null,null,null,null,null,null,null,null,null,null,null,null,null,null,null,null,null,null,null,null,null,null,null,null,null,null,null,null,null,null,null,null,null,null,null,null,null,null,null,null,null,null,null,null,null,null,null,null,null,null,null,null,null,null,null,null,null,null,null,null,null,null,null,null,null,null,null,null,null,null,null,null,null,null,null,null,null,null,null,null,null,null,null,null,null,null,null,null,null,null,null,null,null,"BALANCE-AVGAS-NCVAVG-",null,"O4651","_Z","AVGFLOW","_Z","_Z","_Z","_Z","_Z","NCV","_Z","KJ_KG"]
[null,"OIL","JETGAS","BALANCE","NCVAVG",null,"Gasoline type jet fuel",null,null,null,null,null,null,null,null,null,null,null,null,null,null,null,null,null,null,null,null,null,null,null,null,null,null,null,null,null,null,null,null,null,null,null,null,null,null,null,null,null,null,null,null,null,null,null,null,null,null,null,null,null,null,null,null,null,null,null,null,null,null,null,null,null,null,null,null,null,null,null,null,null,null,null,null,null,null,null,null,null,null,null,null,null,null,null,null,null,null,null,null,null,null,null,null,null,null,null,null,null,null,null,null,null,null,null,null,null,null,null,null,null,null,"BALANCE-JETGAS-NCVAVG-",null,"O4653","_Z","AVGFLOW","_Z","_Z","_Z","_Z","_Z","NCV","_Z","KJ_KG"]
[null,"OIL","BIOJETKERO","BALANCE","NCVAVG",null,"- Bio jet kerosene",null,null,null,null,null,null,null,null,null,null,null,null,null,null,null,null,null,null,null,null,null,null,null,null,null,null,null,null,null,null,null,null,null,null,null,null,null,null,null,null,null,null,null,null,null,null,null,null,null,null,null,null,null,null,null,null,null,null,null,null,null,null,null,null,null,null,null,null,null,null,null,null,null,null,null,null,null,null,null,null,null,null,null,null,null,null,null,null,null,null,null,null,null,null,null,null,null,null,null,null,null,null,null,null,null,null,null,null,null,null,null,null,null,null,"BALANCE-BIOJETKERO-NCVAVG-",null,"R5232","_Z","AVGFLOW","_Z","_Z","_Z","_Z","_Z","NCV","_Z","KJ_KG"]
[null,"OIL","NONBIOJETK","BALANCE","NCVAVG",null,"- Non-bio jet kerosene",null,null,null,null,null,null,null,null,null,null,null,null,null,null,null,null,null,null,null,null,null,null,null,null,null,null,null,null,null,null,null,null,null,null,null,null,null,null,null,null,null,null,null,null,null,null,null,null,null,null,null,null,null,null,null,null,null,null,null,null,null,null,null,null,null,null,null,null,null,null,null,null,null,null,null,null,null,null,null,null,null,null,null,null,null,null,null,null,null,null,null,null,null,null,null,null,null,null,null,null,null,null,null,null,null,null,null,null,null,null,null,null,null,null,"BALANCE-NONBIOJETK-NCVAVG-",null,"O4667","_Z","AVGFLOW","_Z","_Z","_Z","_Z","_Z","NCV","_Z","KJ_KG"]
[null,"OIL","OTHKERO","BALANCE","NCVAVG",null,"Other kerosene",null,null,null,null,null,null,null,null,null,null,null,null,null,null,null,null,null,null,null,null,null,null,null,null,null,null,null,null,null,null,null,null,null,null,null,null,null,null,null,null,null,null,null,null,null,null,null,null,null,null,null,null,null,null,null,null,null,null,null,null,null,null,null,null,null,null,null,null,null,null,null,null,null,null,null,null,null,null,null,null,null,null,null,null,null,null,null,null,null,null,null,null,null,null,null,null,null,null,null,null,null,null,null,null,null,null,null,null,null,null,null,null,null,null,"BALANCE-OTHKERO-NCVAVG-",null,"O4669","_Z","AVGFLOW","_Z","_Z","_Z","_Z","_Z","NCV","_Z","KJ_KG"]
[null,"OIL","BIODIESEL","BALANCE","NCVAVG",null,"- Biodiesels ",null,null,null,null,null,null,null,null,null,null,null,null,null,null,null,null,null,null,null,null,null,null,null,null,null,null,null,null,null,null,null,null,null,null,null,null,null,null,null,null,null,null,null,null,null,null,null,null,null,null,null,null,null,null,null,null,null,null,null,null,null,null,null,null,null,null,null,null,null,null,null,null,null,null,null,null,null,null,null,null,null,null,null,null,null,null,null,null,null,null,null,null,null,null,null,null,null,null,null,null,null,null,null,null,null,null,null,null,null,null,null,null,null,null,"BALANCE-BIODIESEL-NCVAVG-",null,"R5222","_Z","AVGFLOW","_Z","_Z","_Z","_Z","_Z","NCV","_Z","KJ_KG"]
[null,"OIL","NONBIODIES","BALANCE","NCVAVG",null,"- Non-bio gas/diesel oil",null,null,null,null,null,null,null,null,null,null,null,null,null,null,null,null,null,null,null,null,null,null,null,null,null,null,null,null,null,null,null,null,null,null,null,null,null,null,null,null,null,null,null,null,null,null,null,null,null,null,null,null,null,null,null,null,null,null,null,null,null,null,null,null,null,null,null,null,null,null,null,null,null,null,null,null,null,null,null,null,null,null,null,null,null,null,null,null,null,null,null,null,null,null,null,null,null,null,null,null,null,null,null,null,null,null,null,null,null,null,null,null,null,null,"BALANCE-NONBIODIES-NCVAVG-",null,"O4677","_Z","AVGFLOW","_Z","_Z","_Z","_Z","_Z","NCV","_Z","KJ_KG"]
[null,"OIL","RESFUEL","BALANCE","NCVAVG",null,"Fuel oil",null,null,null,null,null,null,null,null,null,null,null,null,null,null,null,null,null,null,null,null,null,null,null,null,null,null,null,null,null,null,null,null,null,null,null,null,null,null,null,null,null,null,null,null,null,null,null,null,null,null,null,null,null,null,null,null,null,null,null,null,null,null,null,null,null,null,null,null,null,null,null,null,null,null,null,null,null,null,null,null,null,null,null,null,null,null,null,null,null,null,null,null,null,null,null,null,null,null,null,null,null,null,null,null,null,null,null,null,null,null,null,null,null,null,"BALANCE-RESFUEL-NCVAVG-",null,"O4680","_Z","AVGFLOW","_Z","_Z","_Z","_Z","_Z","NCV","_Z","KJ_KG"]
[null,"OIL","WHITESP","BALANCE","NCVAVG",null,"White spirit & SBP",null,null,null,null,null,null,null,null,null,null,null,null,null,null,null,null,null,null,null,null,null,null,null,null,null,null,null,null,null,null,null,null,null,null,null,null,null,null,null,null,null,null,null,null,null,null,null,null,null,null,null,null,null,null,null,null,null,null,null,null,null,null,null,null,null,null,null,null,null,null,null,null,null,null,null,null,null,null,null,null,null,null,null,null,null,null,null,null,null,null,null,null,null,null,null,null,null,null,null,null,null,null,null,null,null,null,null,null,null,null,null,null,null,null,"BALANCE-WHITESP-NCVAVG-",null,"O4691","_Z","AVGFLOW","_Z","_Z","_Z","_Z","_Z","NCV","_Z","KJ_KG"]
[null,"OIL","LUBRIC","BALANCE","NCVAVG",null,"Lubricants",null,null,null,null,null,null,null,null,null,null,null,null,null,null,null,null,null,null,null,null,null,null,null,null,null,null,null,null,null,null,null,null,null,null,null,null,null,null,null,null,null,null,null,null,null,null,null,null,null,null,null,null,null,null,null,null,null,null,null,null,null,null,null,null,null,null,null,null,null,null,null,null,null,null,null,null,null,null,null,null,null,null,null,null,null,null,null,null,null,null,null,null,null,null,null,null,null,null,null,null,null,null,null,null,null,null,null,null,null,null,null,null,null,null,"BALANCE-LUBRIC-NCVAVG-",null,"O4692","_Z","AVGFLOW","_Z","_Z","_Z","_Z","_Z","NCV","_Z","KJ_KG"]
[null,"OIL","BITUMEN","BALANCE","NCVAVG",null,"Bitumen",null,null,null,null,null,null,null,null,null,null,null,null,null,null,null,null,null,null,null,null,null,null,null,null,null,null,null,null,null,null,null,null,null,null,null,null,null,null,null,null,null,null,null,null,null,null,null,null,null,null,null,null,null,null,null,null,null,null,null,null,null,null,null,null,null,null,null,null,null,null,null,null,null,null,null,null,null,null,null,null,null,null,null,null,null,null,null,null,null,null,null,null,null,null,null,null,null,null,null,null,null,null,null,null,null,null,null,null,null,null,null,null,null,null,"BALANCE-BITUMEN-NCVAVG-",null,"O4695","_Z","AVGFLOW","_Z","_Z","_Z","_Z","_Z","NCV","_Z","KJ_KG"]
[null,"OIL","PARWAX","BALANCE","NCVAVG",null,"Paraffin waxes",null,null,null,null,null,null,null,null,null,null,null,null,null,null,null,null,null,null,null,null,null,null,null,null,null,null,null,null,null,null,null,null,null,null,null,null,null,null,null,null,null,null,null,null,null,null,null,null,null,null,null,null,null,null,null,null,null,null,null,null,null,null,null,null,null,null,null,null,null,null,null,null,null,null,null,null,null,null,null,null,null,null,null,null,null,null,null,null,null,null,null,null,null,null,null,null,null,null,null,null,null,null,null,null,null,null,null,null,null,null,null,null,null,null,"BALANCE-PARWAX-NCVAVG-",null,"O4693","_Z","AVGFLOW","_Z","_Z","_Z","_Z","_Z","NCV","_Z","KJ_KG"]
[null,"OIL","PETCOKE","BALANCE","NCVAVG",null,"Petroleum coke",null,null,null,null,null,null,null,null,null,null,null,null,null,null,null,null,null,null,null,null,null,null,null,null,null,null,null,null,null,null,null,null,null,null,null,null,null,null,null,null,null,null,null,null,null,null,null,null,null,null,null,null,null,null,null,null,null,null,null,null,null,null,null,null,null,null,null,null,null,null,null,null,null,null,null,null,null,null,null,null,null,null,null,null,null,null,null,null,null,null,null,null,null,null,null,null,null,null,null,null,null,null,null,null,null,null,null,null,null,null,null,null,null,null,"BALANCE-PETCOKE-NCVAVG-",null,"O4694","_Z","AVGFLOW","_Z","_Z","_Z","_Z","_Z","NCV","_Z","KJ_KG"]
[null,"OIL","OPRODS","BALANCE","NCVAVG",null,"Other oil products",null,null,null,null,null,null,null,null,null,null,null,null,null,null,null,null,null,null,null,null,null,null,null,null,null,null,null,null,null,null,null,null,null,null,null,null,null,null,null,null,null,null,null,null,null,null,null,null,null,null,null,null,null,null,null,null,null,null,null,null,null,null,null,null,null,null,null,null,null,null,null,null,null,null,null,null,null,null,null,null,null,null,null,null,null,null,null,null,null,null,null,null,null,null,null,null,null,null,null,null,null,null,null,null,null,null,null,null,null,null,null,null,null,null,"BALANCE-OPRODS-NCVAVG-",null,"O4699","_Z","AVGFLOW","_Z","_Z","_Z","_Z","_Z","NCV","_Z","KJ_KG"]
[]
[null,null,null,null,null,null,"Default calorific values for gap filling"]
[null,null,null,null,null,null,"Crude oil",null,null,null,null,null,null,null,null,null,null,null,null,null,"CRUDEOIL",42300,"CRUDEOIL"]
[null,null,null,null,null,null,"Natural gas liquids",null,null,null,null,null,null,null,null,null,null,null,null,null,"NGL",44200,"NGL"]
[null,null,null,null,null,null,"Refinery gas",null,null,null,null,null,null,null,null,null,null,null,null,null,"REFINGAS",49500,"REFINGAS"]
[null,null,null,null,null,null,"Ethane",null,null,null,null,null,null,null,null,null,null,null,null,null,"ETHANE",46400,"ETHANE"]
[null,null,null,null,null,null,"LPG",null,null,null,null,null,null,null,null,null,null,null,null,null,"LPG",47300,"LPG"]
[null,null,null,null,null,null,"Naphtha",null,null,null,null,null,null,null,null,null,null,null,null,null,"NAPHTHA",44500,"NAPHTHA"]
[null,null,null,null,null,null,"- Biogasoline",null,null,null,null,null,null,null,null,null,null,null,null,null,"BIOGASOL",27000,"BIOGASOL"]
[null,null,null,null,null,null,"- Non-biogasoline",null,null,null,null,null,null,null,null,null,null,null,null,null,"NONBIOGASO",44300,"NONBIOGASO"]
[null,null,null,null,null,null,"Aviation gasoline",null,null,null,null,null,null,null,null,null,null,null,null,null,"AVGAS",44300,"AVGAS"]
[null,null,null,null,null,null,"Gasoline type jet fuel",null,null,null,null,null,null,null,null,null,null,null,null,null,"JETGAS",44300,"JETGAS"]
[null,null,null,null,null,null,"- Bio jet kerosene",null,null,null,null,null,null,null,null,null,null,null,null,null,"BIOJETKERO",44000,"BIOJETKERO"]
[null,null,null,null,null,null,"- Non-bio jet kerosene",null,null,null,null,null,null,null,null,null,null,null,null,null,"NONBIOJETK",44100,"NONBIOJETK"]
[null,null,null,null,null,null,"Other kerosene",null,null,null,null,null,null,null,null,null,null,null,null,null,"OTHKERO",43800,"OTHKERO"]
[null,null,null,null,null,null,"- Biodiesels ",null,null,null,null,null,null,null,null,null,null,null,null,null,"BIODIESEL",37000,"BIODIESEL"]
[null,null,null,null,null,null,"- Non-bio gas/diesel oil",null,null,null,null,null,null,null,null,null,null,null,null,null,"NONBIODIES",43000,"NONBIODIES"]
[null,null,null,null,null,null,"Fuel oil",null,null,null,null,null,null,null,null,null,null,null,null,null,"RESFUEL",40400,"RESFUEL"]
[null,null,null,null,null,null,"White spirit & SBP",null,null,null,null,null,null,null,null,null,null,null,null,null,"WHITESP",40200,"WHITESP"]
[null,null,null,null,null,null,"Lubricants",null,null,null,null,null,null,null,null,null,null,null,null,null,"LUBRIC",40200,"LUBRIC"]
[null,null,null,null,null,null,"Bitumen",null,null,null,null,null,null,null,null,null,null,null,null,null,"BITUMEN",40200,"BITUMEN"]
[null,null,null,null,null,null,"Paraffin waxes",null,null,null,null,null,null,null,null,null,null,null,null,null,"PARWAX",40200,"PARWAX"]
[null,null,null,null,null,null,"Petroleum coke",null,null,null,null,null,null,null,null,null,null,null,null,null,"PETCOKE",32500,"PETCOKE"]
[null,null,null,null,null,null,"Other oil products",null,null,null,null,null,null,null,null,null,null,null,null,null,"OPRODS",40200,"OPRODS"]
[]
[null,null,null,null,null,null,"Net calorific values - (ALL GAPS FILLED) - [conversion to GJ]"]
[null,null,null,null,null,null,"Crude oil",{"$f":"IF(H10>0,H10,$V34)","v":42300},{"$f":"IF(I10>0,I10,$V34)","v":42300},42300,42300,42300,42300,42300,42300,42300,42300,42300,42300,42300,42300,42300,42300,42300,42300,42300,42300,42300,42300,42300,42300,42300,42300,42300,42300,42300,42300,42300,{"$f":"IF(AM10>0,AM10,$V34)","v":42300},42300,42300,42300,42300,42300,42300,42300,42300,42300,42300,42300,42300,42300,42300,42300,42300,42300,42300,42300,42300,42300,42300,42300,42300,42300,42300,42300,42300,42300]
[null,null,null,null,null,null,"Natural gas liquids",44200,{"$f":"IF(I11>0,I11,$V35)","v":44200},44200,44200,44200,44200,44200,44200,44200,44200,44200,44200,44200,44200,44200,44200,44200,44200,44200,44200,44200,44200,44200,44200,44200,44200,44200,44200,44200,44200,44200,{"$f":"IF(AM11>0,AM11,$V35)","v":44200},44200,44200,44200,44200,44200,44200,44200,44200,44200,44200,44200,44200,44200,44200,44200,44200,44200,44200,44200,44200,44200,44200,44200,44200,44200,44200,44200,44200,44200]
[null,null,null,null,null,null,"Refinery gas",49500,{"$f":"IF(I12>0,I12,$V36)","v":49500},49500,49500,49500,49500,49500,49500,49500,49500,49500,49500,49500,49500,49500,49500,49500,49500,49500,49500,49500,49500,49500,49500,49500,49500,49500,49500,49500,49500,49500,{"$f":"IF(AM12>0,AM12,$V36)","v":49500},49500,49500,49500,49500,49500,49500,49500,49500,49500,49500,49500,49500,49500,49500,49500,49500,49500,49500,49500,49500,49500,49500,49500,49500,49500,49500,49500,49500,49500]
[null,null,null,null,null,null,"Ethane",46400,{"$f":"IF(I13>0,I13,$V37)","v":46400},46400,46400,46400,46400,46400,46400,46400,46400,46400,46400,46400,46400,46400,46400,46400,46400,46400,46400,46400,46400,46400,46400,46400,46400,46400,46400,46400,46400,46400,{"$f":"IF(AM13>0,AM13,$V37)","v":46400},46400,46400,46400,46400,46400,46400,46400,46400,46400,46400,46400,46400,46400,46400,46400,46400,46400,46400,46400,46400,46400,46400,46400,46400,46400,46400,46400,46400,46400]
[null,null,null,null,null,null,"LPG",47300,{"$f":"IF(I14>0,I14,$V38)","v":47300},47300,47300,47300,47300,47300,47300,47300,47300,47300,47300,47300,47300,47300,47300,47300,47300,47300,47300,47300,47300,47300,47300,47300,47300,47300,47300,47300,47300,47300,{"$f":"IF(AM14>0,AM14,$V38)","v":47300},47300,47300,47300,47300,47300,47300,47300,47300,47300,47300,47300,47300,47300,47300,47300,47300,47300,47300,47300,47300,47300,47300,47300,47300,47300,47300,47300,47300,47300]
[null,null,null,null,null,null,"Naphtha",44500,{"$f":"IF(I15>0,I15,$V39)","v":44500},44500,44500,44500,44500,44500,44500,44500,44500,44500,44500,44500,44500,44500,44500,44500,44500,44500,44500,44500,44500,44500,44500,44500,44500,44500,44500,44500,44500,44500,{"$f":"IF(AM15>0,AM15,$V39)","v":44500},44500,44500,44500,44500,44500,44500,44500,44500,44500,44500,44500,44500,44500,44500,44500,44500,44500,44500,44500,44500,44500,44500,44500,44500,44500,44500,44500,44500,44500]
[null,null,null,null,null,null,"- Biogasoline",27000,{"$f":"IF(I16>0,I16,$V40)","v":27000},27000,27000,27000,27000,27000,27000,27000,27000,27000,27000,27000,27000,27000,27000,27000,27000,27000,27000,27000,27000,27000,27000,27000,27000,27000,27000,27000,27000,27000,{"$f":"IF(AM16>0,AM16,$V40)","v":27000},27000,27000,27000,27000,27000,27000,27000,27000,27000,27000,27000,27000,27000,27000,27000,27000,27000,27000,27000,27000,27000,27000,27000,27000,27000,27000,27000,27000,27000]
[null,null,null,null,null,null,"- Non-biogasoline",{"$f":"IF(H17>0,H17,$V41)","v":44300},44300,44300,44300,44300,44300,44300,44300,44300,44300,44300,44300,44300,44300,44300,44300,44300,44300,44300,44300,44300,44300,44300,44300,44300,44300,44300,44300,44300,44300,44300,{"$f":"IF(AM17>0,AM17,$V41)","v":44300},44300,44300,44300,44300,44300,44300,44300,44300,44300,44300,44300,44300,44300,44300,44300,44300,44300,44300,44300,44300,44300,44300,44300,44300,44300,44300,44300,44300,44300]
[null,null,null,null,null,null,"Aviation gasoline",{"$f":"IF(H18>0,H18,$V42)","v":44300},44300,44300,44300,44300,44300,44300,44300,44300,44300,44300,44300,44300,44300,44300,44300,44300,44300,44300,44300,44300,44300,44300,44300,44300,44300,44300,44300,44300,44300,44300,{"$f":"IF(AM18>0,AM18,$V42)","v":44300},44300,44300,44300,44300,44300,44300,44300,44300,44300,44300,44300,44300,44300,44300,44300,44300,44300,44300,44300,44300,44300,44300,44300,44300,44300,44300,44300,44300,44300]
[null,null,null,null,null,null,"Gasoline type jet fuel",{"$f":"IF(H19>0,H19,$V43)","v":44300},44300,44300,44300,44300,44300,44300,44300,44300,44300,44300,44300,44300,44300,44300,44300,44300,44300,44300,44300,44300,44300,44300,44300,44300,44300,44300,44300,44300,44300,44300,{"$f":"IF(AM19>0,AM19,$V43)","v":44300},44300,44300,44300,44300,44300,44300,44300,44300,44300,44300,44300,44300,44300,44300,44300,44300,44300,44300,44300,44300,44300,44300,44300,44300,44300,44300,44300,44300,44300]
[null,null,null,null,null,null,"- Bio jet kerosene",{"$f":"IF(H20>0,H20,$V44)","v":44000},44000,44000,44000,44000,44000,44000,44000,44000,44000,44000,44000,44000,44000,44000,44000,44000,44000,44000,44000,44000,44000,44000,44000,44000,44000,44000,44000,44000,44000,44000,{"$f":"IF(AM20>0,AM20,$V44)","v":44000},44000,44000,44000,44000,44000,44000,44000,44000,44000,44000,44000,44000,44000,44000,44000,44000,44000,44000,44000,44000,44000,44000,44000,44000,44000,44000,44000,44000,44000]
[null,null,null,null,null,null,"- Non-bio jet kerosene",{"$f":"IF(H21>0,H21,$V45)","v":44100},44100,44100,44100,44100,44100,44100,44100,44100,44100,44100,44100,44100,44100,44100,44100,44100,44100,44100,44100,44100,44100,44100,44100,44100,44100,44100,44100,44100,44100,44100,{"$f":"IF(AM21>0,AM21,$V45)","v":44100},44100,44100,44100,44100,44100,44100,44100,44100,44100,44100,44100,44100,44100,44100,44100,44100,44100,44100,44100,44100,44100,44100,44100,44100,44100,44100,44100,44100,44100]
[null,null,null,null,null,null,"Other kerosene",{"$f":"IF(H22>0,H22,$V46)","v":43800},43800,43800,43800,43800,43800,43800,43800,43800,43800,43800,43800,43800,43800,43800,43800,43800,43800,43800,43800,43800,43800,43800,43800,43800,43800,43800,43800,43800,43800,43800,{"$f":"IF(AM22>0,AM22,$V46)","v":43800},43800,43800,43800,43800,43800,43800,43800,43800,43800,43800,43800,43800,43800,43800,43800,43800,43800,43800,43800,43800,43800,43800,43800,43800,43800,43800,43800,43800,43800]
[null,null,null,null,null,null,"- Biodiesels ",{"$f":"IF(H23>0,H23,$V47)","v":37000},37000,37000,37000,37000,37000,37000,37000,37000,37000,37000,37000,37000,37000,37000,37000,37000,37000,37000,37000,37000,37000,37000,37000,37000,37000,37000,37000,37000,37000,37000,{"$f":"IF(AM23>0,AM23,$V47)","v":37000},37000,37000,37000,37000,37000,37000,37000,37000,37000,37000,37000,37000,37000,37000,37000,37000,37000,37000,37000,37000,37000,37000,37000,37000,37000,37000,37000,37000,37000]
[null,null,null,null,null,null,"- Non-bio gas/diesel oil",{"$f":"IF(H24>0,H24,$V48)","v":43000},43000,43000,43000,43000,43000,43000,43000,43000,43000,43000,43000,43000,43000,43000,43000,43000,43000,43000,43000,43000,43000,43000,43000,43000,43000,43000,43000,43000,43000,43000,{"$f":"IF(AM24>0,AM24,$V48)","v":43000},43000,43000,43000,43000,43000,43000,43000,43000,43000,43000,43000,43000,43000,43000,43000,43000,43000,43000,43000,43000,43000,43000,43000,43000,43000,43000,43000,43000,43000]
[null,null,null,null,null,null,"Fuel oil",{"$f":"IF(H25>0,H25,$V49)","v":40400},40400,40400,40400,40400,40400,40400,40400,40400,40400,40400,40400,40400,40400,40400,40400,40400,40400,40400,40400,40400,40400,40400,40400,40400,40400,40400,40400,40400,40400,40400,{"$f":"IF(AM25>0,AM25,$V49)","v":40400},40400,40400,40400,40400,40400,40400,40400,40400,40400,40400,40400,40400,40400,40400,40400,40400,40400,40400,40400,40400,40400,40400,40400,40400,40400,40400,40400,40400,40400]
[null,null,null,null,null,null,"White spirit & SBP",{"$f":"IF(H26>0,H26,$V50)","v":40200},40200,40200,40200,40200,40200,40200,40200,40200,40200,40200,40200,40200,40200,40200,40200,40200,40200,40200,40200,40200,40200,40200,40200,40200,40200,40200,40200,40200,40200,40200,{"$f":"IF(AM26>0,AM26,$V50)","v":40200},40200,40200,40200,40200,40200,40200,40200,40200,40200,40200,40200,40200,40200,40200,40200,40200,40200,40200,40200,40200,40200,40200,40200,40200,40200,40200,40200,40200,40200]
[null,null,null,null,null,null,"Lubricants",{"$f":"IF(H27>0,H27,$V51)","v":40200},40200,40200,40200,40200,40200,40200,40200,40200,40200,40200,40200,40200,40200,40200,40200,40200,40200,40200,40200,40200,40200,40200,40200,40200,40200,40200,40200,40200,40200,40200,{"$f":"IF(AM27>0,AM27,$V51)","v":40200},40200,40200,40200,40200,40200,40200,40200,40200,40200,40200,40200,40200,40200,40200,40200,40200,40200,40200,40200,40200,40200,40200,40200,40200,40200,40200,40200,40200,40200]
[null,null,null,null,null,null,"Bitumen",{"$f":"IF(H28>0,H28,$V52)","v":40200},40200,40200,40200,40200,40200,40200,40200,40200,40200,40200,40200,40200,40200,40200,40200,40200,40200,40200,40200,40200,40200,40200,40200,40200,40200,40200,40200,40200,40200,40200,{"$f":"IF(AM28>0,AM28,$V52)","v":40200},40200,40200,40200,40200,40200,40200,40200,40200,40200,40200,40200,40200,40200,40200,40200,40200,40200,40200,40200,40200,40200,40200,40200,40200,40200,40200,40200,40200,40200]
[null,null,null,null,null,null,"Paraffin waxes",{"$f":"IF(H29>0,H29,$V53)","v":40200},40200,40200,40200,40200,40200,40200,40200,40200,40200,40200,40200,40200,40200,40200,40200,40200,40200,40200,40200,40200,40200,40200,40200,40200,40200,40200,40200,40200,40200,40200,{"$f":"IF(AM29>0,AM29,$V53)","v":40200},40200,40200,40200,40200,40200,40200,40200,40200,40200,40200,40200,40200,40200,40200,40200,40200,40200,40200,40200,40200,40200,40200,40200,40200,40200,40200,40200,40200,40200]
[null,null,null,null,null,null,"Petroleum coke",{"$f":"IF(H30>0,H30,$V54)","v":32500},32500,32500,32500,32500,32500,32500,32500,32500,32500,32500,32500,32500,32500,32500,32500,32500,32500,32500,32500,32500,32500,32500,32500,32500,32500,32500,32500,32500,32500,32500,{"$f":"IF(AM30>0,AM30,$V54)","v":32500},32500,32500,32500,32500,32500,32500,32500,32500,32500,32500,32500,32500,32500,32500,32500,32500,32500,32500,32500,32500,32500,32500,32500,32500,32500,32500,32500,32500,32500]
[null,null,null,null,null,null,"Other oil products",{"$f":"IF(H31>0,H31,$V55)","v":40200},40200,40200,40200,40200,40200,40200,40200,40200,40200,40200,40200,40200,40200,40200,40200,40200,40200,40200,40200,40200,40200,40200,40200,40200,40200,40200,40200,40200,40200,40200,{"$f":"IF(AM31>0,AM31,$V55)","v":40200},40200,40200,40200,40200,40200,40200,40200,40200,40200,40200,40200,40200,40200,40200,40200,40200,40200,40200,40200,40200,40200,40200,40200,40200,40200,40200,40200,40200,40200]
[]
[null,null,null,null,null,null,"Transformation Sector - Blast Furnaces"]
[null,"OIL","CRUDEOIL","CONSUMPTION","ETBLASTFR",null,"Crude oil",null,null,null,null,null,null,null,null,null,null,null,null,null,null,null,null,null,null,null,null,null,null,null,null,null,null,null,null,null,null,null,null,null,null,null,null,null,null,null,null,null,null,null,null,null,null,null,null,null,null,null,null,null,null,null,null,null,null,null,null,null,null,null,null,null,null,null,null,null,null,null,null,null,null,null,null,null,null,null,null,null,null,null,null,null,null,null,null,null,null,null,null,null,null,null,null,null,null,null,null,null,null,null,null,null,null,null,null,null,null,null,null,null,null,"CONSUMPTION-CRUDEOIL-ETBLASTFR-",null,"O4100","TRANSFOR","BLASTFUR","_Z","_Z","_Z","_Z","_Z","WEIGHT","_Z","KT"]
[null,"OIL","NGL","CONSUMPTION","ETBLASTFR",null,"Natural gas liquids",null,null,null,null,null,null,null,null,null,null,null,null,null,null,null,null,null,null,null,null,null,null,null,null,null,null,null,null,null,null,null,null,null,null,null,null,null,null,null,null,null,null,null,null,null,null,null,null,null,null,null,null,null,null,null,null,null,null,null,null,null,null,null,null,null,null,null,null,null,null,null,null,null,null,null,null,null,null,null,null,null,null,null,null,null,null,null,null,null,null,null,null,null,null,null,null,null,null,null,null,null,null,null,null,null,null,null,null,null,null,null,null,null,null,"CONSUMPTION-NGL-ETBLASTFR-",null,"O4200","TRANSFOR","BLASTFUR","_Z","_Z","_Z","_Z","_Z","WEIGHT","_Z","KT"]
[null,"OIL","REFINGAS","CONSUMPTION","ETBLASTFR",null,"Refinery gas",null,null,null,null,null,null,null,null,null,null,null,null,null,null,null,null,null,null,null,null,null,null,null,null,null,null,null,null,null,null,null,null,null,null,null,null,null,null,null,null,null,null,null,null,null,null,null,null,null,null,null,null,null,null,null,null,null,null,null,null,null,null,null,null,null,null,null,null,null,null,null,null,null,null,null,null,null,null,null,null,null,null,null,null,null,null,null,null,null,null,null,null,null,null,null,null,null,null,null,null,null,null,null,null,null,null,null,null,null,null,null,null,null,null,"CONSUMPTION-REFINGAS-ETBLASTFR-",null,"O4610","TRANSFOR","BLASTFUR","_Z","_Z","_Z","_Z","_Z","WEIGHT","_Z","KT"]
[null,"OIL","ETHANE","CONSUMPTION","ETBLASTFR",null,"Ethane",null,null,null,null,null,null,null,null,null,null,null,null,null,null,null,null,null,null,null,null,null,null,null,null,null,null,null,null,null,null,null,null,null,null,null,null,null,null,null,null,null,null,null,null,null,null,null,null,null,null,null,null,null,null,null,null,null,null,null,null,null,null,null,null,null,null,null,null,null,null,null,null,null,null,null,null,null,null,null,null,null,null,null,null,null,null,null,null,null,null,null,null,null,null,null,null,null,null,null,null,null,null,null,null,null,null,null,null,null,null,null,null,null,null,"CONSUMPTION-ETHANE-ETBLASTFR-",null,"O4620","TRANSFOR","BLASTFUR","_Z","_Z","_Z","_Z","_Z","WEIGHT","_Z","KT"]
[null,"OIL","LPG","CONSUMPTION","ETBLASTFR",null,"LPG",null,null,null,null,null,null,null,null,null,null,null,null,null,null,null,null,null,null,null,null,null,null,null,null,null,null,null,null,null,null,null,null,null,null,null,null,null,null,null,null,null,null,null,null,null,null,null,null,null,null,null,null,null,null,null,null,null,null,null,null,null,null,null,null,null,null,null,null,null,null,null,null,null,null,null,null,null,null,null,null,null,null,null,null,null,null,null,null,null,null,null,null,null,null,null,null,null,null,null,null,null,null,null,null,null,null,null,null,null,null,null,null,null,null,"CONSUMPTION-LPG-ETBLASTFR-",null,"O4630","TRANSFOR","BLASTFUR","_Z","_Z","_Z","_Z","_Z","WEIGHT","_Z","KT"]
[null,"OIL","NAPHTHA","CONSUMPTION","ETBLASTFR",null,"Naphtha",null,null,null,null,null,null,null,null,null,null,null,null,null,null,null,null,null,null,null,null,null,null,null,null,null,null,null,null,null,null,null,null,null,null,null,null,null,null,null,null,null,null,null,null,null,null,null,null,null,null,null,null,null,null,null,null,null,null,null,null,null,null,null,null,null,null,null,null,null,null,null,null,null,null,null,null,null,null,null,null,null,null,null,null,null,null,null,null,null,null,null,null,null,null,null,null,null,null,null,null,null,null,null,null,null,null,null,null,null,null,null,null,null,null,"CONSUMPTION-NAPHTHA-ETBLASTFR-",null,"O4640","TRANSFOR","BLASTFUR","_Z","_Z","_Z","_Z","_Z","WEIGHT","_Z","KT"]
[null,"OIL","BIOGASOL","CONSUMPTION","ETBLASTFR",null,"- Biogasoline",null,null,null,null,null,null,null,null,null,null,null,null,null,null,null,null,null,null,null,null,null,null,null,null,null,null,null,null,null,null,null,null,null,null,null,null,null,null,null,null,null,null,null,null,null,null,null,null,null,null,null,null,null,null,null,null,null,null,null,null,null,null,null,null,null,null,null,null,null,null,null,null,null,null,null,null,null,null,null,null,null,null,null,null,null,null,null,null,null,null,null,null,null,null,null,null,null,null,null,null,null,null,null,null,null,null,null,null,null,null,null,null,null,null,"CONSUMPTION-BIOGASOL-ETBLASTFR-",null,"R5212","TRANSFOR","BLASTFUR","_Z","_Z","_Z","_Z","_Z","WEIGHT","_Z","KT"]
[null,"OIL","NONBIOGASO","CONSUMPTION","ETBLASTFR",null,"- Non-biogasoline",null,null,null,null,null,null,null,null,null,null,null,null,null,null,null,null,null,null,null,null,null,null,null,null,null,null,null,null,null,null,null,null,null,null,null,null,null,null,null,null,null,null,null,null,null,null,null,null,null,null,null,null,null,null,null,null,null,null,null,null,null,null,null,null,null,null,null,null,null,null,null,null,null,null,null,null,null,null,null,null,null,null,null,null,null,null,null,null,null,null,null,null,null,null,null,null,null,null,null,null,null,null,null,null,null,null,null,null,null,null,null,null,null,null,"CONSUMPTION-NONBIOGASO-ETBLASTFR-",null,"O4657","TRANSFOR","BLASTFUR","_Z","_Z","_Z","_Z","_Z","WEIGHT","_Z","KT"]
[null,"OIL","AVGAS","CONSUMPTION","ETBLASTFR",null,"Aviation gasoline",null,null,null,null,null,null,null,null,null,null,null,null,null,null,null,null,null,null,null,null,null,null,null,null,null,null,null,null,null,null,null,null,null,null,null,null,null,null,null,null,null,null,null,null,null,null,null,null,null,null,null,null,null,null,null,null,null,null,null,null,null,null,null,null,null,null,null,null,null,null,null,null,null,null,null,null,null,null,null,null,null,null,null,null,null,null,null,null,null,null,null,null,null,null,null,null,null,null,null,null,null,null,null,null,null,null,null,null,null,null,null,null,null,null,"CONSUMPTION-AVGAS-ETBLASTFR-",null,"O4651","TRANSFOR","BLASTFUR","_Z","_Z","_Z","_Z","_Z","WEIGHT","_Z","KT"]
[null,"OIL","JETGAS","CONSUMPTION","ETBLASTFR",null,"Gasoline type jet fuel",null,null,null,null,null,null,null,null,null,null,null,null,null,null,null,null,null,null,null,null,null,null,null,null,null,null,null,null,null,null,null,null,null,null,null,null,null,null,null,null,null,null,null,null,null,null,null,null,null,null,null,null,null,null,null,null,null,null,null,null,null,null,null,null,null,null,null,null,null,null,null,null,null,null,null,null,null,null,null,null,null,null,null,null,null,null,null,null,null,null,null,null,null,null,null,null,null,null,null,null,null,null,null,null,null,null,null,null,null,null,null,null,null,null,"CONSUMPTION-JETGAS-ETBLASTFR-",null,"O4653","TRANSFOR","BLASTFUR","_Z","_Z","_Z","_Z","_Z","WEIGHT","_Z","KT"]
[null,"OIL","BIOJETKERO","CONSUMPTION","ETBLASTFR",null,"- Bio jet kerosene",null,null,null,null,null,null,null,null,null,null,null,null,null,null,null,null,null,null,null,null,null,null,null,null,null,null,null,null,null,null,null,null,null,null,null,null,null,null,null,null,null,null,null,null,null,null,null,null,null,null,null,null,null,null,null,null,null,null,null,null,null,null,null,null,null,null,null,null,null,null,null,null,null,null,null,null,null,null,null,null,null,null,null,null,null,null,null,null,null,null,null,null,null,null,null,null,null,null,null,null,null,null,null,null,null,null,null,null,null,null,null,null,null,null,"CONSUMPTION-BIOJETKERO-ETBLASTFR-",null,"R5232","TRANSFOR","BLASTFUR","_Z","_Z","_Z","_Z","_Z","WEIGHT","_Z","KT"]
[null,"OIL","NONBIOJETK","CONSUMPTION","ETBLASTFR",null,"- Non-bio jet kerosene",null,null,null,null,null,null,null,null,null,null,null,null,null,null,null,null,null,null,null,null,null,null,null,null,null,null,null,null,null,null,null,null,null,null,null,null,null,null,null,null,null,null,null,null,null,null,null,null,null,null,null,null,null,null,null,null,null,null,null,null,null,null,null,null,null,null,null,null,null,null,null,null,null,null,null,null,null,null,null,null,null,null,null,null,null,null,null,null,null,null,null,null,null,null,null,null,null,null,null,null,null,null,null,null,null,null,null,null,null,null,null,null,null,null,"CONSUMPTION-NONBIOJETK-ETBLASTFR-",null,"O4667","TRANSFOR","BLASTFUR","_Z","_Z","_Z","_Z","_Z","WEIGHT","_Z","KT"]
[null,"OIL","OTHKERO","CONSUMPTION","ETBLASTFR",null,"Other kerosene",null,null,null,null,null,null,null,null,null,null,null,null,null,null,null,null,null,null,null,null,null,null,null,null,null,null,null,null,null,null,null,null,null,null,null,null,null,null,null,null,null,null,null,null,null,null,null,null,null,null,null,null,null,null,null,null,null,null,null,null,null,null,null,null,null,null,null,null,null,null,null,null,null,null,null,null,null,null,null,null,null,null,null,null,null,null,null,null,null,null,null,null,null,null,null,null,null,null,null,null,null,null,null,null,null,null,null,null,null,null,null,null,null,null,"CONSUMPTION-OTHKERO-ETBLASTFR-",null,"O4669","TRANSFOR","BLASTFUR","_Z","_Z","_Z","_Z","_Z","WEIGHT","_Z","KT"]
[null,"OIL","BIODIESEL","CONSUMPTION","ETBLASTFR",null,"- Biodiesels ",null,null,null,null,null,null,null,null,null,null,null,null,null,null,null,null,null,null,null,null,null,null,null,null,null,null,null,null,null,null,null,null,null,null,null,null,null,null,null,null,null,null,null,null,null,null,null,null,null,null,null,null,null,null,null,null,null,null,null,null,null,null,null,null,null,null,null,null,null,null,null,null,null,null,null,null,null,null,null,null,null,null,null,null,null,null,null,null,null,null,null,null,null,null,null,null,null,null,null,null,null,null,null,null,null,null,null,null,null,null,null,null,null,null,"CONSUMPTION-BIODIESEL-ETBLASTFR-",null,"R5222","TRANSFOR","BLASTFUR","_Z","_Z","_Z","_Z","_Z","WEIGHT","_Z","KT"]
[null,"OIL","NONBIODIES","CONSUMPTION","ETBLASTFR",null,"- Non-bio gas/diesel oil",null,null,null,null,null,null,null,null,null,null,null,null,null,null,null,null,null,null,null,null,null,null,null,null,null,null,null,null,null,null,null,null,null,null,null,null,null,null,null,null,null,null,null,null,null,null,null,null,null,null,null,null,null,null,null,null,null,null,null,null,null,null,null,null,null,null,null,null,null,null,null,null,null,null,null,null,null,null,null,null,null,null,null,null,null,null,null,null,null,null,null,null,null,null,null,null,null,null,null,null,null,null,null,null,null,null,null,null,null,null,null,null,null,null,"CONSUMPTION-NONBIODIES-ETBLASTFR-",null,"O4677","TRANSFOR","BLASTFUR","_Z","_Z","_Z","_Z","_Z","WEIGHT","_Z","KT"]
[null,"OIL","RESFUEL","CONSUMPTION","ETBLASTFR",null,"Fuel oil",null,null,null,null,null,null,null,null,null,null,null,null,null,null,null,null,null,null,null,null,null,null,null,null,null,null,null,null,null,null,null,null,null,null,null,null,null,null,null,null,null,null,null,null,null,null,null,null,null,null,null,null,null,null,null,null,null,null,null,null,null,null,null,null,null,null,null,null,null,null,null,null,null,null,null,null,null,null,null,null,null,null,null,null,null,null,null,null,null,null,null,null,null,null,null,null,null,null,null,null,null,null,null,null,null,null,null,null,null,null,null,null,null,null,"CONSUMPTION-RESFUEL-ETBLASTFR-",null,"O4680","TRANSFOR","BLASTFUR","_Z","_Z","_Z","_Z","_Z","WEIGHT","_Z","KT"]
[null,"OIL","WHITESP","CONSUMPTION","ETBLASTFR",null,"White spirit & SBP",null,null,null,null,null,null,null,null,null,null,null,null,null,null,null,null,null,null,null,null,null,null,null,null,null,null,null,null,null,null,null,null,null,null,null,null,null,null,null,null,null,null,null,null,null,null,null,null,null,null,null,null,null,null,null,null,null,null,null,null,null,null,null,null,null,null,null,null,null,null,null,null,null,null,null,null,null,null,null,null,null,null,null,null,null,null,null,null,null,null,null,null,null,null,null,null,null,null,null,null,null,null,null,null,null,null,null,null,null,null,null,null,null,null,"CONSUMPTION-WHITESP-ETBLASTFR-",null,"O4691","TRANSFOR","BLASTFUR","_Z","_Z","_Z","_Z","_Z","WEIGHT","_Z","KT"]
[null,"OIL","LUBRIC","CONSUMPTION","ETBLASTFR",null,"Lubricants",null,null,null,null,null,null,null,null,null,null,null,null,null,null,null,null,null,null,null,null,null,null,null,null,null,null,null,null,null,null,null,null,null,null,null,null,null,null,null,null,null,null,null,null,null,null,null,null,null,null,null,null,null,null,null,null,null,null,null,null,null,null,null,null,null,null,null,null,null,null,null,null,null,null,null,null,null,null,null,null,null,null,null,null,null,null,null,null,null,null,null,null,null,null,null,null,null,null,null,null,null,null,null,null,null,null,null,null,null,null,null,null,null,null,"CONSUMPTION-LUBRIC-ETBLASTFR-",null,"O4692","TRANSFOR","BLASTFUR","_Z","_Z","_Z","_Z","_Z","WEIGHT","_Z","KT"]
[null,"OIL","BITUMEN","CONSUMPTION","ETBLASTFR",null,"Bitumen",null,null,null,null,null,null,null,null,null,null,null,null,null,null,null,null,null,null,null,null,null,null,null,null,null,null,null,null,null,null,null,null,null,null,null,null,null,null,null,null,null,null,null,null,null,null,null,null,null,null,null,null,null,null,null,null,null,null,null,null,null,null,null,null,null,null,null,null,null,null,null,null,null,null,null,null,null,null,null,null,null,null,null,null,null,null,null,null,null,null,null,null,null,null,null,null,null,null,null,null,null,null,null,null,null,null,null,null,null,null,null,null,null,null,"CONSUMPTION-BITUMEN-ETBLASTFR-",null,"O4695","TRANSFOR","BLASTFUR","_Z","_Z","_Z","_Z","_Z","WEIGHT","_Z","KT"]
[null,"OIL","PARWAX","CONSUMPTION","ETBLASTFR",null,"Paraffin waxes",null,null,null,null,null,null,null,null,null,null,null,null,null,null,null,null,null,null,null,null,null,null,null,null,null,null,null,null,null,null,null,null,null,null,null,null,null,null,null,null,null,null,null,null,null,null,null,null,null,null,null,null,null,null,null,null,null,null,null,null,null,null,null,null,null,null,null,null,null,null,null,null,null,null,null,null,null,null,null,null,null,null,null,null,null,null,null,null,null,null,null,null,null,null,null,null,null,null,null,null,null,null,null,null,null,null,null,null,null,null,null,null,null,null,"CONSUMPTION-PARWAX-ETBLASTFR-",null,"O4693","TRANSFOR","BLASTFUR","_Z","_Z","_Z","_Z","_Z","WEIGHT","_Z","KT"]
[null,"OIL","PETCOKE","CONSUMPTION","ETBLASTFR",null,"Petroleum coke",null,null,null,null,null,null,null,null,null,null,null,null,null,null,null,null,null,null,null,null,null,null,null,null,null,null,null,null,null,null,null,null,null,null,null,null,null,null,null,null,null,null,null,null,null,null,null,null,null,null,null,null,null,null,null,null,null,null,null,null,null,null,null,null,null,null,null,null,null,null,null,null,null,null,null,null,null,null,null,null,null,null,null,null,null,null,null,null,null,null,null,null,null,null,null,null,null,null,null,null,null,null,null,null,null,null,null,null,null,null,null,null,null,null,"CONSUMPTION-PETCOKE-ETBLASTFR-",null,"O4694","TRANSFOR","BLASTFUR","_Z","_Z","_Z","_Z","_Z","WEIGHT","_Z","KT"]
[null,"OIL","OPRODS","CONSUMPTION","ETBLASTFR",null,"Other oil products",null,null,null,null,null,null,null,null,null,null,null,null,null,null,null,null,null,null,null,null,null,null,null,null,null,null,null,null,null,null,null,null,null,null,null,null,null,null,null,null,null,null,null,null,null,null,null,null,null,null,null,null,null,null,null,null,null,null,null,null,null,null,null,null,null,null,null,null,null,null,null,null,null,null,null,null,null,null,null,null,null,null,null,null,null,null,null,null,null,null,null,null,null,null,null,null,null,null,null,null,null,null,null,null,null,null,null,null,null,null,null,null,null,null,"CONSUMPTION-OPRODS-ETBLASTFR-",null,"O4699","TRANSFOR","BLASTFUR","_Z","_Z","_Z","_Z","_Z","WEIGHT","_Z","KT"]
[]
[null,null,null,null,null,null,"Industry Sector - Total"]
[null,"OIL","CRUDEOIL","CONSUMPTION","EIND",null,"Crude oil",null,null,null,null,null,null,null,null,null,null,null,null,null,null,null,null,null,null,null,null,null,null,null,null,null,null,null,null,null,null,null,null,null,null,null,null,null,null,null,null,null,null,null,null,null,null,null,null,null,null,null,null,null,null,null,null,null,null,null,null,null,null,null,null,null,null,null,null,null,null,null,null,null,null,null,null,null,null,null,null,null,null,null,null,null,null,null,null,null,null,null,null,null,null,null,null,null,null,null,null,null,null,null,null,null,null,null,null,null,null,null,null,null,null,"CONSUMPTION-CRUDEOIL-EIND-",null,"O4100","ENERGUSE","INDUSTRY","_Z","_Z","_Z","_Z","_Z","WEIGHT","_Z","KT"]
[null,"OIL","NGL","CONSUMPTION","EIND",null,"Natural gas liquids",null,null,null,null,null,null,null,null,null,null,null,null,null,null,null,null,null,null,null,null,null,null,null,null,null,null,null,null,null,null,null,null,null,null,null,null,null,null,null,null,null,null,null,null,null,null,null,null,null,null,null,null,null,null,null,null,null,null,null,null,null,null,null,null,null,null,null,null,null,null,null,null,null,null,null,null,null,null,null,null,null,null,null,null,null,null,null,null,null,null,null,null,null,null,null,null,null,null,null,null,null,null,null,null,null,null,null,null,null,null,null,null,null,null,"CONSUMPTION-NGL-EIND-",null,"O4200","ENERGUSE","INDUSTRY","_Z","_Z","_Z","_Z","_Z","WEIGHT","_Z","KT"]
[null,"OIL","REFINGAS","CONSUMPTION","EIND",null,"Refinery gas",null,null,null,null,null,null,null,null,null,null,null,null,null,null,null,null,null,null,null,null,null,null,null,null,null,null,null,null,null,null,null,null,null,null,null,null,null,null,null,null,null,null,null,null,null,null,null,null,null,null,null,null,null,null,null,null,null,null,null,null,null,null,null,null,null,null,null,null,null,null,null,null,null,null,null,null,null,null,null,null,null,null,null,null,null,null,null,null,null,null,null,null,null,null,null,null,null,null,null,null,null,null,null,null,null,null,null,null,null,null,null,null,null,null,"CONSUMPTION-REFINGAS-EIND-",null,"O4610","ENERGUSE","INDUSTRY","_Z","_Z","_Z","_Z","_Z","WEIGHT","_Z","KT"]
[null,"OIL","ETHANE","CONSUMPTION","EIND",null,"Ethane",null,null,null,null,null,null,null,null,null,null,null,null,null,null,null,null,null,null,null,null,null,null,null,null,null,null,null,null,null,null,null,null,null,null,null,null,null,null,null,null,null,null,null,null,null,null,null,null,null,null,null,null,null,null,null,null,null,null,null,null,null,null,null,null,null,null,null,null,null,null,null,null,null,null,null,null,null,null,null,null,null,null,null,null,null,null,null,null,null,null,null,null,null,null,null,null,null,null,null,null,null,null,null,null,null,null,null,null,null,null,null,null,null,null,"CONSUMPTION-ETHANE-EIND-",null,"O4620","ENERGUSE","INDUSTRY","_Z","_Z","_Z","_Z","_Z","WEIGHT","_Z","KT"]
[null,"OIL","LPG","CONSUMPTION","EIND",null,"LPG",null,null,null,null,null,null,null,null,null,null,null,null,null,null,null,null,null,null,null,null,null,null,null,null,null,null,null,null,null,null,null,null,null,null,null,null,null,null,null,null,null,null,null,null,null,null,null,null,null,null,null,null,null,null,null,null,null,null,null,null,null,null,null,null,null,null,null,null,null,null,null,null,null,null,null,null,null,null,null,null,null,null,null,null,null,null,null,null,null,null,null,null,null,null,null,null,null,null,null,null,null,null,null,null,null,null,null,null,null,null,null,null,null,null,"CONSUMPTION-LPG-EIND-",null,"O4630","ENERGUSE","INDUSTRY","_Z","_Z","_Z","_Z","_Z","WEIGHT","_Z","KT"]
[null,"OIL","NAPHTHA","CONSUMPTION","EIND",null,"Naphtha",null,null,null,null,null,null,null,null,null,null,null,null,null,null,null,null,null,null,null,null,null,null,null,null,null,null,null,null,null,null,null,null,null,null,null,null,null,null,null,null,null,null,null,null,null,null,null,null,null,null,null,null,null,null,null,null,null,null,null,null,null,null,null,null,null,null,null,null,null,null,null,null,null,null,null,null,null,null,null,null,null,null,null,null,null,null,null,null,null,null,null,null,null,null,null,null,null,null,null,null,null,null,null,null,null,null,null,null,null,null,null,null,null,null,"CONSUMPTION-NAPHTHA-EIND-",null,"O4640","ENERGUSE","INDUSTRY","_Z","_Z","_Z","_Z","_Z","WEIGHT","_Z","KT"]
[null,"OIL","BIOGASOL","CONSUMPTION","EIND",null,"- Biogasoline",null,null,null,null,null,null,null,null,null,null,null,null,null,null,null,null,null,null,null,null,null,null,null,null,null,null,null,null,null,null,null,null,null,null,null,null,null,null,null,null,null,null,null,null,null,null,null,null,null,null,null,null,null,null,null,null,null,null,null,null,null,null,null,null,null,null,null,null,null,null,null,null,null,null,null,null,null,null,null,null,null,null,null,null,null,null,null,null,null,null,null,null,null,null,null,null,null,null,null,null,null,null,null,null,null,null,null,null,null,null,null,null,null,null,"CONSUMPTION-BIOGASOL-EIND-",null,"R5212","ENERGUSE","INDUSTRY","_Z","_Z","_Z","_Z","_Z","WEIGHT","_Z","KT"]
[null,"OIL","NONBIOGASO","CONSUMPTION","EIND",null,"- Non-biogasoline",null,null,null,null,null,null,null,null,null,null,null,null,null,null,null,null,null,null,null,null,null,null,null,null,null,null,null,null,null,null,null,null,null,null,null,null,null,null,null,null,null,null,null,null,null,null,null,null,null,null,null,null,null,null,null,null,null,null,null,null,null,null,null,null,null,null,null,null,null,null,null,null,null,null,null,null,null,null,null,null,null,null,null,null,null,null,null,null,null,null,null,null,null,null,null,null,null,null,null,null,null,null,null,null,null,null,null,null,null,null,null,null,null,null,"CONSUMPTION-NONBIOGASO-EIND-",null,"O4657","ENERGUSE","INDUSTRY","_Z","_Z","_Z","_Z","_Z","WEIGHT","_Z","KT"]
[null,"OIL","AVGAS","CONSUMPTION","EIND",null,"Aviation gasoline",null,null,null,null,null,null,null,null,null,null,null,null,null,null,null,null,null,null,null,null,null,null,null,null,null,null,null,null,null,null,null,null,null,null,null,null,null,null,null,null,null,null,null,null,null,null,null,null,null,null,null,null,null,null,null,null,null,null,null,null,null,null,null,null,null,null,null,null,null,null,null,null,null,null,null,null,null,null,null,null,null,null,null,null,null,null,null,null,null,null,null,null,null,null,null,null,null,null,null,null,null,null,null,null,null,null,null,null,null,null,null,null,null,null,"CONSUMPTION-AVGAS-EIND-",null,"O4651","ENERGUSE","INDUSTRY","_Z","_Z","_Z","_Z","_Z","WEIGHT","_Z","KT"]
[null,"OIL","JETGAS","CONSUMPTION","EIND",null,"Gasoline type jet fuel",null,null,null,null,null,null,null,null,null,null,null,null,null,null,null,null,null,null,null,null,null,null,null,null,null,null,null,null,null,null,null,null,null,null,null,null,null,null,null,null,null,null,null,null,null,null,null,null,null,null,null,null,null,null,null,null,null,null,null,null,null,null,null,null,null,null,null,null,null,null,null,null,null,null,null,null,null,null,null,null,null,null,null,null,null,null,null,null,null,null,null,null,null,null,null,null,null,null,null,null,null,null,null,null,null,null,null,null,null,null,null,null,null,null,"CONSUMPTION-JETGAS-EIND-",null,"O4653","ENERGUSE","INDUSTRY","_Z","_Z","_Z","_Z","_Z","WEIGHT","_Z","KT"]
[null,"OIL","BIOJETKERO","CONSUMPTION","EIND",null,"- Bio jet kerosene",null,null,null,null,null,null,null,null,null,null,null,null,null,null,null,null,null,null,null,null,null,null,null,null,null,null,null,null,null,null,null,null,null,null,null,null,null,null,null,null,null,null,null,null,null,null,null,null,null,null,null,null,null,null,null,null,null,null,null,null,null,null,null,null,null,null,null,null,null,null,null,null,null,null,null,null,null,null,null,null,null,null,null,null,null,null,null,null,null,null,null,null,null,null,null,null,null,null,null,null,null,null,null,null,null,null,null,null,null,null,null,null,null,null,"CONSUMPTION-BIOJETKERO-EIND-",null,"R5232","ENERGUSE","INDUSTRY","_Z","_Z","_Z","_Z","_Z","WEIGHT","_Z","KT"]
[null,"OIL","NONBIOJETK","CONSUMPTION","EIND",null,"- Non-bio jet kerosene",null,null,null,null,null,null,null,null,null,null,null,null,null,null,null,null,null,null,null,null,null,null,null,null,null,null,null,null,null,null,null,null,null,null,null,null,null,null,null,null,null,null,null,null,null,null,null,null,null,null,null,null,null,null,null,null,null,null,null,null,null,null,null,null,null,null,null,null,null,null,null,null,null,null,null,null,null,null,null,null,null,null,null,null,null,null,null,null,null,null,null,null,null,null,null,null,null,null,null,null,null,null,null,null,null,null,null,null,null,null,null,null,null,null,"CONSUMPTION-NONBIOJETK-EIND-",null,"O4667","ENERGUSE","INDUSTRY","_Z","_Z","_Z","_Z","_Z","WEIGHT","_Z","KT"]
[null,"OIL","OTHKERO","CONSUMPTION","EIND",null,"Other kerosene",null,null,null,null,null,null,null,null,null,null,null,null,null,null,null,null,null,null,null,null,null,null,null,null,null,null,null,null,null,null,null,null,null,null,null,null,null,null,null,null,null,null,null,null,null,null,null,null,null,null,null,null,null,null,null,null,null,null,null,null,null,null,null,null,null,null,null,null,null,null,null,null,null,null,null,null,null,null,null,null,null,null,null,null,null,null,null,null,null,null,null,null,null,null,null,null,null,null,null,null,null,null,null,null,null,null,null,null,null,null,null,null,null,null,"CONSUMPTION-OTHKERO-EIND-",null,"O4669","ENERGUSE","INDUSTRY","_Z","_Z","_Z","_Z","_Z","WEIGHT","_Z","KT"]
[null,"OIL","BIODIESEL","CONSUMPTION","EIND",null,"- Biodiesels ",null,null,null,null,null,null,null,null,null,null,null,null,null,null,null,null,null,null,null,null,null,null,null,null,null,null,null,null,null,null,null,null,null,null,null,null,null,null,null,null,null,null,null,null,null,null,null,null,null,null,null,null,null,null,null,null,null,null,null,null,null,null,null,null,null,null,null,null,null,null,null,null,null,null,null,null,null,null,null,null,null,null,null,null,null,null,null,null,null,null,null,null,null,null,null,null,null,null,null,null,null,null,null,null,null,null,null,null,null,null,null,null,null,null,"CONSUMPTION-BIODIESEL-EIND-",null,"R5222","ENERGUSE","INDUSTRY","_Z","_Z","_Z","_Z","_Z","WEIGHT","_Z","KT"]
[null,"OIL","NONBIODIES","CONSUMPTION","EIND",null,"- Non-bio gas/diesel oil",null,null,null,null,null,null,null,null,null,null,null,null,null,null,null,null,null,null,null,null,null,null,null,null,null,null,null,null,null,null,null,null,null,null,null,null,null,null,null,null,null,null,null,null,null,null,null,null,null,null,null,null,null,null,null,null,null,null,null,null,null,null,null,null,null,null,null,null,null,null,null,null,null,null,null,null,null,null,null,null,null,null,null,null,null,null,null,null,null,null,null,null,null,null,null,null,null,null,null,null,null,null,null,null,null,null,null,null,null,null,null,null,null,null,"CONSUMPTION-NONBIODIES-EIND-",null,"O4677","ENERGUSE","INDUSTRY","_Z","_Z","_Z","_Z","_Z","WEIGHT","_Z","KT"]
[null,"OIL","RESFUEL","CONSUMPTION","EIND",null,"Fuel oil",null,null,null,null,null,null,null,null,null,null,null,null,null,null,null,null,null,null,null,null,null,null,null,null,null,null,null,null,null,null,null,null,null,null,null,null,null,null,null,null,null,null,null,null,null,null,null,null,null,null,null,null,null,null,null,null,null,null,null,null,null,null,null,null,null,null,null,null,null,null,null,null,null,null,null,null,null,null,null,null,null,null,null,null,null,null,null,null,null,null,null,null,null,null,null,null,null,null,null,null,null,null,null,null,null,null,null,null,null,null,null,null,null,null,"CONSUMPTION-RESFUEL-EIND-",null,"O4680","ENERGUSE","INDUSTRY","_Z","_Z","_Z","_Z","_Z","WEIGHT","_Z","KT"]
[null,"OIL","WHITESP","CONSUMPTION","EIND",null,"White spirit & SBP",null,null,null,null,null,null,null,null,null,null,null,null,null,null,null,null,null,null,null,null,null,null,null,null,null,null,null,null,null,null,null,null,null,null,null,null,null,null,null,null,null,null,null,null,null,null,null,null,null,null,null,null,null,null,null,null,null,null,null,null,null,null,null,null,null,null,null,null,null,null,null,null,null,null,null,null,null,null,null,null,null,null,null,null,null,null,null,null,null,null,null,null,null,null,null,null,null,null,null,null,null,null,null,null,null,null,null,null,null,null,null,null,null,null,"CONSUMPTION-WHITESP-EIND-",null,"O4691","ENERGUSE","INDUSTRY","_Z","_Z","_Z","_Z","_Z","WEIGHT","_Z","KT"]
[null,"OIL","LUBRIC","CONSUMPTION","EIND",null,"Lubricants",null,null,null,null,null,null,null,null,null,null,null,null,null,null,null,null,null,null,null,null,null,null,null,null,null,null,null,null,null,null,null,null,null,null,null,null,null,null,null,null,null,null,null,null,null,null,null,null,null,null,null,null,null,null,null,null,null,null,null,null,null,null,null,null,null,null,null,null,null,null,null,null,null,null,null,null,null,null,null,null,null,null,null,null,null,null,null,null,null,null,null,null,null,null,null,null,null,null,null,null,null,null,null,null,null,null,null,null,null,null,null,null,null,null,"CONSUMPTION-LUBRIC-EIND-",null,"O4692","ENERGUSE","INDUSTRY","_Z","_Z","_Z","_Z","_Z","WEIGHT","_Z","KT"]
[null,"OIL","BITUMEN","CONSUMPTION","EIND",null,"Bitumen",null,null,null,null,null,null,null,null,null,null,null,null,null,null,null,null,null,null,null,null,null,null,null,null,null,null,null,null,null,null,null,null,null,null,null,null,null,null,null,null,null,null,null,null,null,null,null,null,null,null,null,null,null,null,null,null,null,null,null,null,null,null,null,null,null,null,null,null,null,null,null,null,null,null,null,null,null,null,null,null,null,null,null,null,null,null,null,null,null,null,null,null,null,null,null,null,null,null,null,null,null,null,null,null,null,null,null,null,null,null,null,null,null,null,"CONSUMPTION-BITUMEN-EIND-",null,"O4695","ENERGUSE","INDUSTRY","_Z","_Z","_Z","_Z","_Z","WEIGHT","_Z","KT"]
[null,"OIL","PARWAX","CONSUMPTION","EIND",null,"Paraffin waxes",null,null,null,null,null,null,null,null,null,null,null,null,null,null,null,null,null,null,null,null,null,null,null,null,null,null,null,null,null,null,null,null,null,null,null,null,null,null,null,null,null,null,null,null,null,null,null,null,null,null,null,null,null,null,null,null,null,null,null,null,null,null,null,null,null,null,null,null,null,null,null,null,null,null,null,null,null,null,null,null,null,null,null,null,null,null,null,null,null,null,null,null,null,null,null,null,null,null,null,null,null,null,null,null,null,null,null,null,null,null,null,null,null,null,"CONSUMPTION-PARWAX-EIND-",null,"O4693","ENERGUSE","INDUSTRY","_Z","_Z","_Z","_Z","_Z","WEIGHT","_Z","KT"]
[null,"OIL","PETCOKE","CONSUMPTION","EIND",null,"Petroleum coke",null,null,null,null,null,null,null,null,null,null,null,null,null,null,null,null,null,null,null,null,null,null,null,null,null,null,null,null,null,null,null,null,null,null,null,null,null,null,null,null,null,null,null,null,null,null,null,null,null,null,null,null,null,null,null,null,null,null,null,null,null,null,null,null,null,null,null,null,null,null,null,null,null,null,null,null,null,null,null,null,null,null,null,null,null,null,null,null,null,null,null,null,null,null,null,null,null,null,null,null,null,null,null,null,null,null,null,null,null,null,null,null,null,null,"CONSUMPTION-PETCOKE-EIND-",null,"O4694","ENERGUSE","INDUSTRY","_Z","_Z","_Z","_Z","_Z","WEIGHT","_Z","KT"]
[null,"OIL","OPRODS","CONSUMPTION","EIND",null,"Other oil products",null,null,null,null,null,null,null,null,null,null,null,null,null,null,null,null,null,null,null,null,null,null,null,null,null,null,null,null,null,null,null,null,null,null,null,null,null,null,null,null,null,null,null,null,null,null,null,null,null,null,null,null,null,null,null,null,null,null,null,null,null,null,null,null,null,null,null,null,null,null,null,null,null,null,null,null,null,null,null,null,null,null,null,null,null,null,null,null,null,null,null,null,null,null,null,null,null,null,null,null,null,null,null,null,null,null,null,null,null,null,null,null,null,null,"CONSUMPTION-OPRODS-EIND-",null,"O4699","ENERGUSE","INDUSTRY","_Z","_Z","_Z","_Z","_Z","WEIGHT","_Z","KT"]
[]
[null,null,null,null,null,null,"Other Sectors - Total"]
[null,"OIL","CRUDEOIL","CONSUMPTION","EOTHER",null,"Crude oil",null,null,null,null,null,null,null,null,null,null,null,null,null,null,null,null,null,null,null,null,null,null,null,null,null,null,null,null,null,null,null,null,null,null,null,null,null,null,null,null,null,null,null,null,null,null,null,null,null,null,null,null,null,null,null,null,null,null,null,null,null,null,null,null,null,null,null,null,null,null,null,null,null,null,null,null,null,null,null,null,null,null,null,null,null,null,null,null,null,null,null,null,null,null,null,null,null,null,null,null,null,null,null,null,null,null,null,null,null,null,null,null,null,null,"CONSUMPTION-CRUDEOIL-EOTHER-",null,"O4100","ENERGUSE","OTHSECT","_Z","_Z","_Z","_Z","_Z","WEIGHT","_Z","KT"]
[null,"OIL","NGL","CONSUMPTION","EOTHER",null,"Natural gas liquids",null,null,null,null,null,null,null,null,null,null,null,null,null,null,null,null,null,null,null,null,null,null,null,null,null,null,null,null,null,null,null,null,null,null,null,null,null,null,null,null,null,null,null,null,null,null,null,null,null,null,null,null,null,null,null,null,null,null,null,null,null,null,null,null,null,null,null,null,null,null,null,null,null,null,null,null,null,null,null,null,null,null,null,null,null,null,null,null,null,null,null,null,null,null,null,null,null,null,null,null,null,null,null,null,null,null,null,null,null,null,null,null,null,null,"CONSUMPTION-NGL-EOTHER-",null,"O4200","ENERGUSE","OTHSECT","_Z","_Z","_Z","_Z","_Z","WEIGHT","_Z","KT"]
[null,"OIL","REFINGAS","CONSUMPTION","EOTHER",null,"Refinery gas",null,null,null,null,null,null,null,null,null,null,null,null,null,null,null,null,null,null,null,null,null,null,null,null,null,null,null,null,null,null,null,null,null,null,null,null,null,null,null,null,null,null,null,null,null,null,null,null,null,null,null,null,null,null,null,null,null,null,null,null,null,null,null,null,null,null,null,null,null,null,null,null,null,null,null,null,null,null,null,null,null,null,null,null,null,null,null,null,null,null,null,null,null,null,null,null,null,null,null,null,null,null,null,null,null,null,null,null,null,null,null,null,null,null,"CONSUMPTION-REFINGAS-EOTHER-",null,"O4610","ENERGUSE","OTHSECT","_Z","_Z","_Z","_Z","_Z","WEIGHT","_Z","KT"]
[null,"OIL","ETHANE","CONSUMPTION","EOTHER",null,"Ethane",null,null,null,null,null,null,null,null,null,null,null,null,null,null,null,null,null,null,null,null,null,null,null,null,null,null,null,null,null,null,null,null,null,null,null,null,null,null,null,null,null,null,null,null,null,null,null,null,null,null,null,null,null,null,null,null,null,null,null,null,null,null,null,null,null,null,null,null,null,null,null,null,null,null,null,null,null,null,null,null,null,null,null,null,null,null,null,null,null,null,null,null,null,null,null,null,null,null,null,null,null,null,null,null,null,null,null,null,null,null,null,null,null,null,"CONSUMPTION-ETHANE-EOTHER-",null,"O4620","ENERGUSE","OTHSECT","_Z","_Z","_Z","_Z","_Z","WEIGHT","_Z","KT"]
[null,"OIL","LPG","CONSUMPTION","EOTHER",null,"LPG",null,null,null,null,null,null,null,null,null,null,null,null,null,null,null,null,null,null,null,null,null,null,null,null,null,null,null,null,null,null,null,null,null,null,null,null,null,null,null,null,null,null,null,null,null,null,null,null,null,null,null,null,null,null,null,null,null,null,null,null,null,null,null,null,null,null,null,null,null,null,null,null,null,null,null,null,null,null,null,null,null,null,null,null,null,null,null,null,null,null,null,null,null,null,null,null,null,null,null,null,null,null,null,null,null,null,null,null,null,null,null,null,null,null,"CONSUMPTION-LPG-EOTHER-",null,"O4630","ENERGUSE","OTHSECT","_Z","_Z","_Z","_Z","_Z","WEIGHT","_Z","KT"]
[null,"OIL","NAPHTHA","CONSUMPTION","EOTHER",null,"Naphtha",null,null,null,null,null,null,null,null,null,null,null,null,null,null,null,null,null,null,null,null,null,null,null,null,null,null,null,null,null,null,null,null,null,null,null,null,null,null,null,null,null,null,null,null,null,null,null,null,null,null,null,null,null,null,null,null,null,null,null,null,null,null,null,null,null,null,null,null,null,null,null,null,null,null,null,null,null,null,null,null,null,null,null,null,null,null,null,null,null,null,null,null,null,null,null,null,null,null,null,null,null,null,null,null,null,null,null,null,null,null,null,null,null,null,"CONSUMPTION-NAPHTHA-EOTHER-",null,"O4640","ENERGUSE","OTHSECT","_Z","_Z","_Z","_Z","_Z","WEIGHT","_Z","KT"]
[null,"OIL","BIOGASOL","CONSUMPTION","EOTHER",null,"- Biogasoline",null,null,null,null,null,null,null,null,null,null,null,null,null,null,null,null,null,null,null,null,null,null,null,null,null,null,null,null,null,null,null,null,null,null,null,null,null,null,null,null,null,null,null,null,null,null,null,null,null,null,null,null,null,null,null,null,null,null,null,null,null,null,null,null,null,null,null,null,null,null,null,null,null,null,null,null,null,null,null,null,null,null,null,null,null,null,null,null,null,null,null,null,null,null,null,null,null,null,null,null,null,null,null,null,null,null,null,null,null,null,null,null,null,null,"CONSUMPTION-BIOGASOL-EOTHER-",null,"R5212","ENERGUSE","OTHSECT","_Z","_Z","_Z","_Z","_Z","WEIGHT","_Z","KT"]
[null,"OIL","NONBIOGASO","CONSUMPTION","EOTHER",null,"- Non-biogasoline",null,null,null,null,null,null,null,null,null,null,null,null,null,null,null,null,null,null,null,null,null,null,null,null,null,null,null,null,null,null,null,null,null,null,null,null,null,null,null,null,null,null,null,null,null,null,null,null,null,null,null,null,null,null,null,null,null,null,null,null,null,null,null,null,null,null,null,null,null,null,null,null,null,null,null,null,null,null,null,null,null,null,null,null,null,null,null,null,null,null,null,null,null,null,null,null,null,null,null,null,null,null,null,null,null,null,null,null,null,null,null,null,null,null,"CONSUMPTION-NONBIOGASO-EOTHER-",null,"O4657","ENERGUSE","OTHSECT","_Z","_Z","_Z","_Z","_Z","WEIGHT","_Z","KT"]
[null,"OIL","AVGAS","CONSUMPTION","EOTHER",null,"Aviation gasoline",null,null,null,null,null,null,null,null,null,null,null,null,null,null,null,null,null,null,null,null,null,null,null,null,null,null,null,null,null,null,null,null,null,null,null,null,null,null,null,null,null,null,null,null,null,null,null,null,null,null,null,null,null,null,null,null,null,null,null,null,null,null,null,null,null,null,null,null,null,null,null,null,null,null,null,null,null,null,null,null,null,null,null,null,null,null,null,null,null,null,null,null,null,null,null,null,null,null,null,null,null,null,null,null,null,null,null,null,null,null,null,null,null,null,"CONSUMPTION-AVGAS-EOTHER-",null,"O4651","ENERGUSE","OTHSECT","_Z","_Z","_Z","_Z","_Z","WEIGHT","_Z","KT"]
[null,"OIL","JETGAS","CONSUMPTION","EOTHER",null,"Gasoline type jet fuel",null,null,null,null,null,null,null,null,null,null,null,null,null,null,null,null,null,null,null,null,null,null,null,null,null,null,null,null,null,null,null,null,null,null,null,null,null,null,null,null,null,null,null,null,null,null,null,null,null,null,null,null,null,null,null,null,null,null,null,null,null,null,null,null,null,null,null,null,null,null,null,null,null,null,null,null,null,null,null,null,null,null,null,null,null,null,null,null,null,null,null,null,null,null,null,null,null,null,null,null,null,null,null,null,null,null,null,null,null,null,null,null,null,null,"CONSUMPTION-JETGAS-EOTHER-",null,"O4653","ENERGUSE","OTHSECT","_Z","_Z","_Z","_Z","_Z","WEIGHT","_Z","KT"]
[null,"OIL","BIOJETKERO","CONSUMPTION","EOTHER",null,"- Bio jet kerosene",null,null,null,null,null,null,null,null,null,null,null,null,null,null,null,null,null,null,null,null,null,null,null,null,null,null,null,null,null,null,null,null,null,null,null,null,null,null,null,null,null,null,null,null,null,null,null,null,null,null,null,null,null,null,null,null,null,null,null,null,null,null,null,null,null,null,null,null,null,null,null,null,null,null,null,null,null,null,null,null,null,null,null,null,null,null,null,null,null,null,null,null,null,null,null,null,null,null,null,null,null,null,null,null,null,null,null,null,null,null,null,null,null,null,"CONSUMPTION-BIOJETKERO-EOTHER-",null,"R5232","ENERGUSE","OTHSECT","_Z","_Z","_Z","_Z","_Z","WEIGHT","_Z","KT"]
[null,"OIL","NONBIOJETK","CONSUMPTION","EOTHER",null,"- Non-bio jet kerosene",null,null,null,null,null,null,null,null,null,null,null,null,null,null,null,null,null,null,null,null,null,null,null,null,null,null,null,null,null,null,null,null,null,null,null,null,null,null,null,null,null,null,null,null,null,null,null,null,null,null,null,null,null,null,null,null,null,null,null,null,null,null,null,null,null,null,null,null,null,null,null,null,null,null,null,null,null,null,null,null,null,null,null,null,null,null,null,null,null,null,null,null,null,null,null,null,null,null,null,null,null,null,null,null,null,null,null,null,null,null,null,null,null,null,"CONSUMPTION-NONBIOJETK-EOTHER-",null,"O4667","ENERGUSE","OTHSECT","_Z","_Z","_Z","_Z","_Z","WEIGHT","_Z","KT"]
[null,"OIL","OTHKERO","CONSUMPTION","EOTHER",null,"Other kerosene",null,null,null,null,null,null,null,null,null,null,null,null,null,null,null,null,null,null,null,null,null,null,null,null,null,null,null,null,null,null,null,null,null,null,null,null,null,null,null,null,null,null,null,null,null,null,null,null,null,null,null,null,null,null,null,null,null,null,null,null,null,null,null,null,null,null,null,null,null,null,null,null,null,null,null,null,null,null,null,null,null,null,null,null,null,null,null,null,null,null,null,null,null,null,null,null,null,null,null,null,null,null,null,null,null,null,null,null,null,null,null,null,null,null,"CONSUMPTION-OTHKERO-EOTHER-",null,"O4669","ENERGUSE","OTHSECT","_Z","_Z","_Z","_Z","_Z","WEIGHT","_Z","KT"]
[null,"OIL","BIODIESEL","CONSUMPTION","EOTHER",null,"- Biodiesels ",null,null,null,null,null,null,null,null,null,null,null,null,null,null,null,null,null,null,null,null,null,null,null,null,null,null,null,null,null,null,null,null,null,null,null,null,null,null,null,null,null,null,null,null,null,null,null,null,null,null,null,null,null,null,null,null,null,null,null,null,null,null,null,null,null,null,null,null,null,null,null,null,null,null,null,null,null,null,null,null,null,null,null,null,null,null,null,null,null,null,null,null,null,null,null,null,null,null,null,null,null,null,null,null,null,null,null,null,null,null,null,null,null,null,"CONSUMPTION-BIODIESEL-EOTHER-",null,"R5222","ENERGUSE","OTHSECT","_Z","_Z","_Z","_Z","_Z","WEIGHT","_Z","KT"]
[null,"OIL","NONBIODIES","CONSUMPTION","EOTHER",null,"- Non-bio gas/diesel oil",null,null,null,null,null,null,null,null,null,null,null,null,null,null,null,null,null,null,null,null,null,null,null,null,null,null,null,null,null,null,null,null,null,null,null,null,null,null,null,null,null,null,null,null,null,null,null,null,null,null,null,null,null,null,null,null,null,null,null,null,null,null,null,null,null,null,null,null,null,null,null,null,null,null,null,null,null,null,null,null,null,null,null,null,null,null,null,null,null,null,null,null,null,null,null,null,null,null,null,null,null,null,null,null,null,null,null,null,null,null,null,null,null,null,"CONSUMPTION-NONBIODIES-EOTHER-",null,"O4677","ENERGUSE","OTHSECT","_Z","_Z","_Z","_Z","_Z","WEIGHT","_Z","KT"]
[null,"OIL","RESFUEL","CONSUMPTION","EOTHER",null,"Fuel oil",null,null,null,null,null,null,null,null,null,null,null,null,null,null,null,null,null,null,null,null,null,null,null,null,null,null,null,null,null,null,null,null,null,null,null,null,null,null,null,null,null,null,null,null,null,null,null,null,null,null,null,null,null,null,null,null,null,null,null,null,null,null,null,null,null,null,null,null,null,null,null,null,null,null,null,null,null,null,null,null,null,null,null,null,null,null,null,null,null,null,null,null,null,null,null,null,null,null,null,null,null,null,null,null,null,null,null,null,null,null,null,null,null,null,"CONSUMPTION-RESFUEL-EOTHER-",null,"O4680","ENERGUSE","OTHSECT","_Z","_Z","_Z","_Z","_Z","WEIGHT","_Z","KT"]
[null,"OIL","WHITESP","CONSUMPTION","EOTHER",null,"White spirit & SBP",null,null,null,null,null,null,null,null,null,null,null,null,null,null,null,null,null,null,null,null,null,null,null,null,null,null,null,null,null,null,null,null,null,null,null,null,null,null,null,null,null,null,null,null,null,null,null,null,null,null,null,null,null,null,null,null,null,null,null,null,null,null,null,null,null,null,null,null,null,null,null,null,null,null,null,null,null,null,null,null,null,null,null,null,null,null,null,null,null,null,null,null,null,null,null,null,null,null,null,null,null,null,null,null,null,null,null,null,null,null,null,null,null,null,"CONSUMPTION-WHITESP-EOTHER-",null,"O4691","ENERGUSE","OTHSECT","_Z","_Z","_Z","_Z","_Z","WEIGHT","_Z","KT"]
[null,"OIL","LUBRIC","CONSUMPTION","EOTHER",null,"Lubricants",null,null,null,null,null,null,null,null,null,null,null,null,null,null,null,null,null,null,null,null,null,null,null,null,null,null,null,null,null,null,null,null,null,null,null,null,null,null,null,null,null,null,null,null,null,null,null,null,null,null,null,null,null,null,null,null,null,null,null,null,null,null,null,null,null,null,null,null,null,null,null,null,null,null,null,null,null,null,null,null,null,null,null,null,null,null,null,null,null,null,null,null,null,null,null,null,null,null,null,null,null,null,null,null,null,null,null,null,null,null,null,null,null,null,"CONSUMPTION-LUBRIC-EOTHER-",null,"O4692","ENERGUSE","OTHSECT","_Z","_Z","_Z","_Z","_Z","WEIGHT","_Z","KT"]
[null,"OIL","BITUMEN","CONSUMPTION","EOTHER",null,"Bitumen",null,null,null,null,null,null,null,null,null,null,null,null,null,null,null,null,null,null,null,null,null,null,null,null,null,null,null,null,null,null,null,null,null,null,null,null,null,null,null,null,null,null,null,null,null,null,null,null,null,null,null,null,null,null,null,null,null,null,null,null,null,null,null,null,null,null,null,null,null,null,null,null,null,null,null,null,null,null,null,null,null,null,null,null,null,null,null,null,null,null,null,null,null,null,null,null,null,null,null,null,null,null,null,null,null,null,null,null,null,null,null,null,null,null,"CONSUMPTION-BITUMEN-EOTHER-",null,"O4695","ENERGUSE","OTHSECT","_Z","_Z","_Z","_Z","_Z","WEIGHT","_Z","KT"]
[null,"OIL","PARWAX","CONSUMPTION","EOTHER",null,"Paraffin waxes",null,null,null,null,null,null,null,null,null,null,null,null,null,null,null,null,null,null,null,null,null,null,null,null,null,null,null,null,null,null,null,null,null,null,null,null,null,null,null,null,null,null,null,null,null,null,null,null,null,null,null,null,null,null,null,null,null,null,null,null,null,null,null,null,null,null,null,null,null,null,null,null,null,null,null,null,null,null,null,null,null,null,null,null,null,null,null,null,null,null,null,null,null,null,null,null,null,null,null,null,null,null,null,null,null,null,null,null,null,null,null,null,null,null,"CONSUMPTION-PARWAX-EOTHER-",null,"O4693","ENERGUSE","OTHSECT","_Z","_Z","_Z","_Z","_Z","WEIGHT","_Z","KT"]
[null,"OIL","PETCOKE","CONSUMPTION","EOTHER",null,"Petroleum coke",null,null,null,null,null,null,null,null,null,null,null,null,null,null,null,null,null,null,null,null,null,null,null,null,null,null,null,null,null,null,null,null,null,null,null,null,null,null,null,null,null,null,null,null,null,null,null,null,null,null,null,null,null,null,null,null,null,null,null,null,null,null,null,null,null,null,null,null,null,null,null,null,null,null,null,null,null,null,null,null,null,null,null,null,null,null,null,null,null,null,null,null,null,null,null,null,null,null,null,null,null,null,null,null,null,null,null,null,null,null,null,null,null,null,"CONSUMPTION-PETCOKE-EOTHER-",null,"O4694","ENERGUSE","OTHSECT","_Z","_Z","_Z","_Z","_Z","WEIGHT","_Z","KT"]
[null,"OIL","OPRODS","CONSUMPTION","EOTHER",null,"Other oil products",null,null,null,null,null,null,null,null,null,null,null,null,null,null,null,null,null,null,null,null,null,null,null,null,null,null,null,null,null,null,null,null,null,null,null,null,null,null,null,null,null,null,null,null,null,null,null,null,null,null,null,null,null,null,null,null,null,null,null,null,null,null,null,null,null,null,null,null,null,null,null,null,null,null,null,null,null,null,null,null,null,null,null,null,null,null,null,null,null,null,null,null,null,null,null,null,null,null,null,null,null,null,null,null,null,null,null,null,null,null,null,null,null,null,"CONSUMPTION-OPRODS-EOTHER-",null,"O4699","ENERGUSE","OTHSECT","_Z","_Z","_Z","_Z","_Z","WEIGHT","_Z","KT"]
[]
[null,null,null,null,null,null,"Transport Sector - Total"]
[null,"OIL","CRUDEOIL","CONSUMPTION","ETRANS",null,"Crude oil",null,null,null,null,null,null,null,null,null,null,null,null,null,null,null,null,null,null,null,null,null,null,null,null,null,null,null,null,null,null,null,null,null,null,null,null,null,null,null,null,null,null,null,null,null,null,null,null,null,null,null,null,null,null,null,null,null,null,null,null,null,null,null,null,null,null,null,null,null,null,null,null,null,null,null,null,null,null,null,null,null,null,null,null,null,null,null,null,null,null,null,null,null,null,null,null,null,null,null,null,null,null,null,null,null,null,null,null,null,null,null,null,null,null,"CONSUMPTION-CRUDEOIL-ETRANS-",null,"O4100","ENERGUSE","TRANSPOR","_Z","_Z","_Z","_Z","_Z","WEIGHT","_Z","KT"]
[null,"OIL","NGL","CONSUMPTION","ETRANS",null,"Natural gas liquids",null,null,null,null,null,null,null,null,null,null,null,null,null,null,null,null,null,null,null,null,null,null,null,null,null,null,null,null,null,null,null,null,null,null,null,null,null,null,null,null,null,null,null,null,null,null,null,null,null,null,null,null,null,null,null,null,null,null,null,null,null,null,null,null,null,null,null,null,null,null,null,null,null,null,null,null,null,null,null,null,null,null,null,null,null,null,null,null,null,null,null,null,null,null,null,null,null,null,null,null,null,null,null,null,null,null,null,null,null,null,null,null,null,null,"CONSUMPTION-NGL-ETRANS-",null,"O4200","ENERGUSE","TRANSPOR","_Z","_Z","_Z","_Z","_Z","WEIGHT","_Z","KT"]
[null,"OIL","REFINGAS","CONSUMPTION","ETRANS",null,"Refinery gas",null,null,null,null,null,null,null,null,null,null,null,null,null,null,null,null,null,null,null,null,null,null,null,null,null,null,null,null,null,null,null,null,null,null,null,null,null,null,null,null,null,null,null,null,null,null,null,null,null,null,null,null,null,null,null,null,null,null,null,null,null,null,null,null,null,null,null,null,null,null,null,null,null,null,null,null,null,null,null,null,null,null,null,null,null,null,null,null,null,null,null,null,null,null,null,null,null,null,null,null,null,null,null,null,null,null,null,null,null,null,null,null,null,null,"CONSUMPTION-REFINGAS-ETRANS-",null,"O4610","ENERGUSE","TRANSPOR","_Z","_Z","_Z","_Z","_Z","WEIGHT","_Z","KT"]
[null,"OIL","ETHANE","CONSUMPTION","ETRANS",null,"Ethane",null,null,null,null,null,null,null,null,null,null,null,null,null,null,null,null,null,null,null,null,null,null,null,null,null,null,null,null,null,null,null,null,null,null,null,null,null,null,null,null,null,null,null,null,null,null,null,null,null,null,null,null,null,null,null,null,null,null,null,null,null,null,null,null,null,null,null,null,null,null,null,null,null,null,null,null,null,null,null,null,null,null,null,null,null,null,null,null,null,null,null,null,null,null,null,null,null,null,null,null,null,null,null,null,null,null,null,null,null,null,null,null,null,null,"CONSUMPTION-ETHANE-ETRANS-",null,"O4620","ENERGUSE","TRANSPOR","_Z","_Z","_Z","_Z","_Z","WEIGHT","_Z","KT"]
[null,"OIL","LPG","CONSUMPTION","ETRANS",null,"LPG",null,null,null,null,null,null,null,null,null,null,null,null,null,null,null,null,null,null,null,null,null,null,null,null,null,null,null,null,null,null,null,null,null,null,null,null,null,null,null,null,null,null,null,null,null,null,null,null,null,null,null,null,null,null,null,null,null,null,null,null,null,null,null,null,null,null,null,null,null,null,null,null,null,null,null,null,null,null,null,null,null,null,null,null,null,null,null,null,null,null,null,null,null,null,null,null,null,null,null,null,null,null,null,null,null,null,null,null,null,null,null,null,null,null,"CONSUMPTION-LPG-ETRANS-",null,"O4630","ENERGUSE","TRANSPOR","_Z","_Z","_Z","_Z","_Z","WEIGHT","_Z","KT"]
[null,"OIL","NAPHTHA","CONSUMPTION","ETRANS",null,"Naphtha",null,null,null,null,null,null,null,null,null,null,null,null,null,null,null,null,null,null,null,null,null,null,null,null,null,null,null,null,null,null,null,null,null,null,null,null,null,null,null,null,null,null,null,null,null,null,null,null,null,null,null,null,null,null,null,null,null,null,null,null,null,null,null,null,null,null,null,null,null,null,null,null,null,null,null,null,null,null,null,null,null,null,null,null,null,null,null,null,null,null,null,null,null,null,null,null,null,null,null,null,null,null,null,null,null,null,null,null,null,null,null,null,null,null,"CONSUMPTION-NAPHTHA-ETRANS-",null,"O4640","ENERGUSE","TRANSPOR","_Z","_Z","_Z","_Z","_Z","WEIGHT","_Z","KT"]
[null,"OIL","BIOGASOL","CONSUMPTION","ETRANS",null,"- Biogasoline",null,null,null,null,null,null,null,null,null,null,null,null,null,null,null,null,null,null,null,null,null,null,null,null,null,null,null,null,null,null,null,null,null,null,null,null,null,null,null,null,null,null,null,null,null,null,null,null,null,null,null,null,null,null,null,null,null,null,null,null,null,null,null,null,null,null,null,null,null,null,null,null,null,null,null,null,null,null,null,null,null,null,null,null,null,null,null,null,null,null,null,null,null,null,null,null,null,null,null,null,null,null,null,null,null,null,null,null,null,null,null,null,null,null,"CONSUMPTION-BIOGASOL-ETRANS-",null,"R5212","ENERGUSE","TRANSPOR","_Z","_Z","_Z","_Z","_Z","WEIGHT","_Z","KT"]
[null,"OIL","NONBIOGASO","CONSUMPTION","ETRANS",null,"- Non-biogasoline",null,null,null,null,null,null,null,null,null,null,null,null,null,null,null,null,null,null,null,null,null,null,null,null,null,null,null,null,null,null,null,null,null,null,null,null,null,null,null,null,null,null,null,null,null,null,null,null,null,null,null,null,null,null,null,null,null,null,null,null,null,null,null,null,null,null,null,null,null,null,null,null,null,null,null,null,null,null,null,null,null,null,null,null,null,null,null,null,null,null,null,null,null,null,null,null,null,null,null,null,null,null,null,null,null,null,null,null,null,null,null,null,null,null,"CONSUMPTION-NONBIOGASO-ETRANS-",null,"O4657","ENERGUSE","TRANSPOR","_Z","_Z","_Z","_Z","_Z","WEIGHT","_Z","KT"]
[null,"OIL","AVGAS","CONSUMPTION","ETRANS",null,"Aviation gasoline",null,null,null,null,null,null,null,null,null,null,null,null,null,null,null,null,null,null,null,null,null,null,null,null,null,null,null,null,null,null,null,null,null,null,null,null,null,null,null,null,null,null,null,null,null,null,null,null,null,null,null,null,null,null,null,null,null,null,null,null,null,null,null,null,null,null,null,null,null,null,null,null,null,null,null,null,null,null,null,null,null,null,null,null,null,null,null,null,null,null,null,null,null,null,null,null,null,null,null,null,null,null,null,null,null,null,null,null,null,null,null,null,null,null,"CONSUMPTION-AVGAS-ETRANS-",null,"O4651","ENERGUSE","TRANSPOR","_Z","_Z","_Z","_Z","_Z","WEIGHT","_Z","KT"]
[null,"OIL","JETGAS","CONSUMPTION","ETRANS",null,"Gasoline type jet fuel",null,null,null,null,null,null,null,null,null,null,null,null,null,null,null,null,null,null,null,null,null,null,null,null,null,null,null,null,null,null,null,null,null,null,null,null,null,null,null,null,null,null,null,null,null,null,null,null,null,null,null,null,null,null,null,null,null,null,null,null,null,null,null,null,null,null,null,null,null,null,null,null,null,null,null,null,null,null,null,null,null,null,null,null,null,null,null,null,null,null,null,null,null,null,null,null,null,null,null,null,null,null,null,null,null,null,null,null,null,null,null,null,null,null,"CONSUMPTION-JETGAS-ETRANS-",null,"O4653","ENERGUSE","TRANSPOR","_Z","_Z","_Z","_Z","_Z","WEIGHT","_Z","KT"]
[null,"OIL","BIOJETKERO","CONSUMPTION","ETRANS",null,"- Bio jet kerosene",null,null,null,null,null,null,null,null,null,null,null,null,null,null,null,null,null,null,null,null,null,null,null,null,null,null,null,null,null,null,null,null,null,null,null,null,null,null,null,null,null,null,null,null,null,null,null,null,null,null,null,null,null,null,null,null,null,null,null,null,null,null,null,null,null,null,null,null,null,null,null,null,null,null,null,null,null,null,null,null,null,null,null,null,null,null,null,null,null,null,null,null,null,null,null,null,null,null,null,null,null,null,null,null,null,null,null,null,null,null,null,null,null,null,"CONSUMPTION-BIOJETKERO-ETRANS-",null,"R5232","ENERGUSE","TRANSPOR","_Z","_Z","_Z","_Z","_Z","WEIGHT","_Z","KT"]
[null,"OIL","NONBIOJETK","CONSUMPTION","ETRANS",null,"- Non-bio jet kerosene",null,null,null,null,null,null,null,null,null,null,null,null,null,null,null,null,null,null,null,null,null,null,null,null,null,null,null,null,null,null,null,null,null,null,null,null,null,null,null,null,null,null,null,null,null,null,null,null,null,null,null,null,null,null,null,null,null,null,null,null,null,null,null,null,null,null,null,null,null,null,null,null,null,null,null,null,null,null,null,null,null,null,null,null,null,null,null,null,null,null,null,null,null,null,null,null,null,null,null,null,null,null,null,null,null,null,null,null,null,null,null,null,null,null,"CONSUMPTION-NONBIOJETK-ETRANS-",null,"O4667","ENERGUSE","TRANSPOR","_Z","_Z","_Z","_Z","_Z","WEIGHT","_Z","KT"]
[null,"OIL","OTHKERO","CONSUMPTION","ETRANS",null,"Other kerosene",null,null,null,null,null,null,null,null,null,null,null,null,null,null,null,null,null,null,null,null,null,null,null,null,null,null,null,null,null,null,null,null,null,null,null,null,null,null,null,null,null,null,null,null,null,null,null,null,null,null,null,null,null,null,null,null,null,null,null,null,null,null,null,null,null,null,null,null,null,null,null,null,null,null,null,null,null,null,null,null,null,null,null,null,null,null,null,null,null,null,null,null,null,null,null,null,null,null,null,null,null,null,null,null,null,null,null,null,null,null,null,null,null,null,"CONSUMPTION-OTHKERO-ETRANS-",null,"O4669","ENERGUSE","TRANSPOR","_Z","_Z","_Z","_Z","_Z","WEIGHT","_Z","KT"]
[null,"OIL","BIODIESEL","CONSUMPTION","ETRANS",null,"- Biodiesels ",null,null,null,null,null,null,null,null,null,null,null,null,null,null,null,null,null,null,null,null,null,null,null,null,null,null,null,null,null,null,null,null,null,null,null,null,null,null,null,null,null,null,null,null,null,null,null,null,null,null,null,null,null,null,null,null,null,null,null,null,null,null,null,null,null,null,null,null,null,null,null,null,null,null,null,null,null,null,null,null,null,null,null,null,null,null,null,null,null,null,null,null,null,null,null,null,null,null,null,null,null,null,null,null,null,null,null,null,null,null,null,null,null,null,"CONSUMPTION-BIODIESEL-ETRANS-",null,"R5222","ENERGUSE","TRANSPOR","_Z","_Z","_Z","_Z","_Z","WEIGHT","_Z","KT"]
[null,"OIL","NONBIODIES","CONSUMPTION","ETRANS",null,"- Non-bio gas/diesel oil",null,null,null,null,null,null,null,null,null,null,null,null,null,null,null,null,null,null,null,null,null,null,null,null,null,null,null,null,null,null,null,null,null,null,null,null,null,null,null,null,null,null,null,null,null,null,null,null,null,null,null,null,null,null,null,null,null,null,null,null,null,null,null,null,null,null,null,null,null,null,null,null,null,null,null,null,null,null,null,null,null,null,null,null,null,null,null,null,null,null,null,null,null,null,null,null,null,null,null,null,null,null,null,null,null,null,null,null,null,null,null,null,null,null,"CONSUMPTION-NONBIODIES-ETRANS-",null,"O4677","ENERGUSE","TRANSPOR","_Z","_Z","_Z","_Z","_Z","WEIGHT","_Z","KT"]
[null,"OIL","RESFUEL","CONSUMPTION","ETRANS",null,"Fuel oil",null,null,null,null,null,null,null,null,null,null,null,null,null,null,null,null,null,null,null,null,null,null,null,null,null,null,null,null,null,null,null,null,null,null,null,null,null,null,null,null,null,null,null,null,null,null,null,null,null,null,null,null,null,null,null,null,null,null,null,null,null,null,null,null,null,null,null,null,null,null,null,null,null,null,null,null,null,null,null,null,null,null,null,null,null,null,null,null,null,null,null,null,null,null,null,null,null,null,null,null,null,null,null,null,null,null,null,null,null,null,null,null,null,null,"CONSUMPTION-RESFUEL-ETRANS-",null,"O4680","ENERGUSE","TRANSPOR","_Z","_Z","_Z","_Z","_Z","WEIGHT","_Z","KT"]
[null,"OIL","WHITESP","CONSUMPTION","ETRANS",null,"White spirit & SBP",null,null,null,null,null,null,null,null,null,null,null,null,null,null,null,null,null,null,null,null,null,null,null,null,null,null,null,null,null,null,null,null,null,null,null,null,null,null,null,null,null,null,null,null,null,null,null,null,null,null,null,null,null,null,null,null,null,null,null,null,null,null,null,null,null,null,null,null,null,null,null,null,null,null,null,null,null,null,null,null,null,null,null,null,null,null,null,null,null,null,null,null,null,null,null,null,null,null,null,null,null,null,null,null,null,null,null,null,null,null,null,null,null,null,"CONSUMPTION-WHITESP-ETRANS-",null,"O4691","ENERGUSE","TRANSPOR","_Z","_Z","_Z","_Z","_Z","WEIGHT","_Z","KT"]
[null,"OIL","LUBRIC","CONSUMPTION","ETRANS",null,"Lubricants",null,null,null,null,null,null,null,null,null,null,null,null,null,null,null,null,null,null,null,null,null,null,null,null,null,null,null,null,null,null,null,null,null,null,null,null,null,null,null,null,null,null,null,null,null,null,null,null,null,null,null,null,null,null,null,null,null,null,null,null,null,null,null,null,null,null,null,null,null,null,null,null,null,null,null,null,null,null,null,null,null,null,null,null,null,null,null,null,null,null,null,null,null,null,null,null,null,null,null,null,null,null,null,null,null,null,null,null,null,null,null,null,null,null,"CONSUMPTION-LUBRIC-ETRANS-",null,"O4692","ENERGUSE","TRANSPOR","_Z","_Z","_Z","_Z","_Z","WEIGHT","_Z","KT"]
[null,"OIL","BITUMEN","CONSUMPTION","ETRANS",null,"Bitumen",null,null,null,null,null,null,null,null,null,null,null,null,null,null,null,null,null,null,null,null,null,null,null,null,null,null,null,null,null,null,null,null,null,null,null,null,null,null,null,null,null,null,null,null,null,null,null,null,null,null,null,null,null,null,null,null,null,null,null,null,null,null,null,null,null,null,null,null,null,null,null,null,null,null,null,null,null,null,null,null,null,null,null,null,null,null,null,null,null,null,null,null,null,null,null,null,null,null,null,null,null,null,null,null,null,null,null,null,null,null,null,null,null,null,"CONSUMPTION-BITUMEN-ETRANS-",null,"O4695","ENERGUSE","TRANSPOR","_Z","_Z","_Z","_Z","_Z","WEIGHT","_Z","KT"]
[null,"OIL","PARWAX","CONSUMPTION","ETRANS",null,"Paraffin waxes",null,null,null,null,null,null,null,null,null,null,null,null,null,null,null,null,null,null,null,null,null,null,null,null,null,null,null,null,null,null,null,null,null,null,null,null,null,null,null,null,null,null,null,null,null,null,null,null,null,null,null,null,null,null,null,null,null,null,null,null,null,null,null,null,null,null,null,null,null,null,null,null,null,null,null,null,null,null,null,null,null,null,null,null,null,null,null,null,null,null,null,null,null,null,null,null,null,null,null,null,null,null,null,null,null,null,null,null,null,null,null,null,null,null,"CONSUMPTION-PARWAX-ETRANS-",null,"O4693","ENERGUSE","TRANSPOR","_Z","_Z","_Z","_Z","_Z","WEIGHT","_Z","KT"]
[null,"OIL","PETCOKE","CONSUMPTION","ETRANS",null,"Petroleum coke",null,null,null,null,null,null,null,null,null,null,null,null,null,null,null,null,null,null,null,null,null,null,null,null,null,null,null,null,null,null,null,null,null,null,null,null,null,null,null,null,null,null,null,null,null,null,null,null,null,null,null,null,null,null,null,null,null,null,null,null,null,null,null,null,null,null,null,null,null,null,null,null,null,null,null,null,null,null,null,null,null,null,null,null,null,null,null,null,null,null,null,null,null,null,null,null,null,null,null,null,null,null,null,null,null,null,null,null,null,null,null,null,null,null,"CONSUMPTION-PETCOKE-ETRANS-",null,"O4694","ENERGUSE","TRANSPOR","_Z","_Z","_Z","_Z","_Z","WEIGHT","_Z","KT"]
[null,"OIL","OPRODS","CONSUMPTION","ETRANS",null,"Other oil products",null,null,null,null,null,null,null,null,null,null,null,null,null,null,null,null,null,null,null,null,null,null,null,null,null,null,null,null,null,null,null,null,null,null,null,null,null,null,null,null,null,null,null,null,null,null,null,null,null,null,null,null,null,null,null,null,null,null,null,null,null,null,null,null,null,null,null,null,null,null,null,null,null,null,null,null,null,null,null,null,null,null,null,null,null,null,null,null,null,null,null,null,null,null,null,null,null,null,null,null,null,null,null,null,null,null,null,null,null,null,null,null,null,null,"CONSUMPTION-OPRODS-ETRANS-",null,"O4699","ENERGUSE","TRANSPOR","_Z","_Z","_Z","_Z","_Z","WEIGHT","_Z","KT"]
[]
[null,null,null,null,null,null,"Transport Sector - Rail"]
[null,"OIL","CRUDEOIL","CONSUMPTION","RAIL",null,"Crude oil",null,null,null,null,null,null,null,null,null,null,null,null,null,null,null,null,null,null,null,null,null,null,null,null,null,null,null,null,null,null,null,null,null,null,null,null,null,null,null,null,null,null,null,null,null,null,null,null,null,null,null,null,null,null,null,null,null,null,null,null,null,null,null,null,null,null,null,null,null,null,null,null,null,null,null,null,null,null,null,null,null,null,null,null,null,null,null,null,null,null,null,null,null,null,null,null,null,null,null,null,null,null,null,null,null,null,null,null,null,null,null,null,null,null,"CONSUMPTION-CRUDEOIL-ETRANS-",null,"O4100","ENERGUSE","RAIL","_Z","_Z","_Z","_Z","_Z","WEIGHT","_Z","KT"]
[null,"OIL","NGL","CONSUMPTION","RAIL",null,"Natural gas liquids",null,null,null,null,null,null,null,null,null,null,null,null,null,null,null,null,null,null,null,null,null,null,null,null,null,null,null,null,null,null,null,null,null,null,null,null,null,null,null,null,null,null,null,null,null,null,null,null,null,null,null,null,null,null,null,null,null,null,null,null,null,null,null,null,null,null,null,null,null,null,null,null,null,null,null,null,null,null,null,null,null,null,null,null,null,null,null,null,null,null,null,null,null,null,null,null,null,null,null,null,null,null,null,null,null,null,null,null,null,null,null,null,null,null,"CONSUMPTION-NGL-ETRANS-",null,"O4200","ENERGUSE","RAIL","_Z","_Z","_Z","_Z","_Z","WEIGHT","_Z","KT"]
[null,"OIL","REFINGAS","CONSUMPTION","RAIL",null,"Refinery gas",null,null,null,null,null,null,null,null,null,null,null,null,null,null,null,null,null,null,null,null,null,null,null,null,null,null,null,null,null,null,null,null,null,null,null,null,null,null,null,null,null,null,null,null,null,null,null,null,null,null,null,null,null,null,null,null,null,null,null,null,null,null,null,null,null,null,null,null,null,null,null,null,null,null,null,null,null,null,null,null,null,null,null,null,null,null,null,null,null,null,null,null,null,null,null,null,null,null,null,null,null,null,null,null,null,null,null,null,null,null,null,null,null,null,"CONSUMPTION-REFINGAS-ETRANS-",null,"O4610","ENERGUSE","RAIL","_Z","_Z","_Z","_Z","_Z","WEIGHT","_Z","KT"]
[null,"OIL","ETHANE","CONSUMPTION","RAIL",null,"Ethane",null,null,null,null,null,null,null,null,null,null,null,null,null,null,null,null,null,null,null,null,null,null,null,null,null,null,null,null,null,null,null,null,null,null,null,null,null,null,null,null,null,null,null,null,null,null,null,null,null,null,null,null,null,null,null,null,null,null,null,null,null,null,null,null,null,null,null,null,null,null,null,null,null,null,null,null,null,null,null,null,null,null,null,null,null,null,null,null,null,null,null,null,null,null,null,null,null,null,null,null,null,null,null,null,null,null,null,null,null,null,null,null,null,null,"CONSUMPTION-ETHANE-ETRANS-",null,"O4620","ENERGUSE","RAIL","_Z","_Z","_Z","_Z","_Z","WEIGHT","_Z","KT"]
[null,"OIL","LPG","CONSUMPTION","RAIL",null,"LPG",null,null,null,null,null,null,null,null,null,null,null,null,null,null,null,null,null,null,null,null,null,null,null,null,null,null,null,null,null,null,null,null,null,null,null,null,null,null,null,null,null,null,null,null,null,null,null,null,null,null,null,null,null,null,null,null,null,null,null,null,null,null,null,null,null,null,null,null,null,null,null,null,null,null,null,null,null,null,null,null,null,null,null,null,null,null,null,null,null,null,null,null,null,null,null,null,null,null,null,null,null,null,null,null,null,null,null,null,null,null,null,null,null,null,"CONSUMPTION-LPG-ETRANS-",null,"O4630","ENERGUSE","RAIL","_Z","_Z","_Z","_Z","_Z","WEIGHT","_Z","KT"]
[null,"OIL","NAPHTHA","CONSUMPTION","RAIL",null,"Naphtha",null,null,null,null,null,null,null,null,null,null,null,null,null,null,null,null,null,null,null,null,null,null,null,null,null,null,null,null,null,null,null,null,null,null,null,null,null,null,null,null,null,null,null,null,null,null,null,null,null,null,null,null,null,null,null,null,null,null,null,null,null,null,null,null,null,null,null,null,null,null,null,null,null,null,null,null,null,null,null,null,null,null,null,null,null,null,null,null,null,null,null,null,null,null,null,null,null,null,null,null,null,null,null,null,null,null,null,null,null,null,null,null,null,null,"CONSUMPTION-NAPHTHA-ETRANS-",null,"O4640","ENERGUSE","RAIL","_Z","_Z","_Z","_Z","_Z","WEIGHT","_Z","KT"]
[null,"OIL","BIOGASOL","CONSUMPTION","RAIL",null,"- Biogasoline",null,null,null,null,null,null,null,null,null,null,null,null,null,null,null,null,null,null,null,null,null,null,null,null,null,null,null,null,null,null,null,null,null,null,null,null,null,null,null,null,null,null,null,null,null,null,null,null,null,null,null,null,null,null,null,null,null,null,null,null,null,null,null,null,null,null,null,null,null,null,null,null,null,null,null,null,null,null,null,null,null,null,null,null,null,null,null,null,null,null,null,null,null,null,null,null,null,null,null,null,null,null,null,null,null,null,null,null,null,null,null,null,null,null,"CONSUMPTION-BIOGASOL-ETRANS-",null,"R5212","ENERGUSE","RAIL","_Z","_Z","_Z","_Z","_Z","WEIGHT","_Z","KT"]
[null,"OIL","NONBIOGASO","CONSUMPTION","RAIL",null,"- Non-biogasoline",null,null,null,null,null,null,null,null,null,null,null,null,null,null,null,null,null,null,null,null,null,null,null,null,null,null,null,null,null,null,null,null,null,null,null,null,null,null,null,null,null,null,null,null,null,null,null,null,null,null,null,null,null,null,null,null,null,null,null,null,null,null,null,null,null,null,null,null,null,null,null,null,null,null,null,null,null,null,null,null,null,null,null,null,null,null,null,null,null,null,null,null,null,null,null,null,null,null,null,null,null,null,null,null,null,null,null,null,null,null,null,null,null,null,"CONSUMPTION-NONBIOGASO-ETRANS-",null,"O4657","ENERGUSE","RAIL","_Z","_Z","_Z","_Z","_Z","WEIGHT","_Z","KT"]
[null,"OIL","AVGAS","CONSUMPTION","RAIL",null,"Aviation gasoline",null,null,null,null,null,null,null,null,null,null,null,null,null,null,null,null,null,null,null,null,null,null,null,null,null,null,null,null,null,null,null,null,null,null,null,null,null,null,null,null,null,null,null,null,null,null,null,null,null,null,null,null,null,null,null,null,null,null,null,null,null,null,null,null,null,null,null,null,null,null,null,null,null,null,null,null,null,null,null,null,null,null,null,null,null,null,null,null,null,null,null,null,null,null,null,null,null,null,null,null,null,null,null,null,null,null,null,null,null,null,null,null,null,null,"CONSUMPTION-AVGAS-ETRANS-",null,"O4651","ENERGUSE","RAIL","_Z","_Z","_Z","_Z","_Z","WEIGHT","_Z","KT"]
[null,"OIL","JETGAS","CONSUMPTION","RAIL",null,"Gasoline type jet fuel",null,null,null,null,null,null,null,null,null,null,null,null,null,null,null,null,null,null,null,null,null,null,null,null,null,null,null,null,null,null,null,null,null,null,null,null,null,null,null,null,null,null,null,null,null,null,null,null,null,null,null,null,null,null,null,null,null,null,null,null,null,null,null,null,null,null,null,null,null,null,null,null,null,null,null,null,null,null,null,null,null,null,null,null,null,null,null,null,null,null,null,null,null,null,null,null,null,null,null,null,null,null,null,null,null,null,null,null,null,null,null,null,null,null,"CONSUMPTION-JETGAS-ETRANS-",null,"O4653","ENERGUSE","RAIL","_Z","_Z","_Z","_Z","_Z","WEIGHT","_Z","KT"]
[null,"OIL","BIOJETKERO","CONSUMPTION","RAIL",null,"- Bio jet kerosene",null,null,null,null,null,null,null,null,null,null,null,null,null,null,null,null,null,null,null,null,null,null,null,null,null,null,null,null,null,null,null,null,null,null,null,null,null,null,null,null,null,null,null,null,null,null,null,null,null,null,null,null,null,null,null,null,null,null,null,null,null,null,null,null,null,null,null,null,null,null,null,null,null,null,null,null,null,null,null,null,null,null,null,null,null,null,null,null,null,null,null,null,null,null,null,null,null,null,null,null,null,null,null,null,null,null,null,null,null,null,null,null,null,null,"CONSUMPTION-BIOJETKERO-ETRANS-",null,"R5232","ENERGUSE","RAIL","_Z","_Z","_Z","_Z","_Z","WEIGHT","_Z","KT"]
[null,"OIL","NONBIOJETK","CONSUMPTION","RAIL",null,"- Non-bio jet kerosene",null,null,null,null,null,null,null,null,null,null,null,null,null,null,null,null,null,null,null,null,null,null,null,null,null,null,null,null,null,null,null,null,null,null,null,null,null,null,null,null,null,null,null,null,null,null,null,null,null,null,null,null,null,null,null,null,null,null,null,null,null,null,null,null,null,null,null,null,null,null,null,null,null,null,null,null,null,null,null,null,null,null,null,null,null,null,null,null,null,null,null,null,null,null,null,null,null,null,null,null,null,null,null,null,null,null,null,null,null,null,null,null,null,null,"CONSUMPTION-NONBIOJETK-ETRANS-",null,"O4667","ENERGUSE","RAIL","_Z","_Z","_Z","_Z","_Z","WEIGHT","_Z","KT"]
[null,"OIL","OTHKERO","CONSUMPTION","RAIL",null,"Other kerosene",null,null,null,null,null,null,null,null,null,null,null,null,null,null,null,null,null,null,null,null,null,null,null,null,null,null,null,null,null,null,null,null,null,null,null,null,null,null,null,null,null,null,null,null,null,null,null,null,null,null,null,null,null,null,null,null,null,null,null,null,null,null,null,null,null,null,null,null,null,null,null,null,null,null,null,null,null,null,null,null,null,null,null,null,null,null,null,null,null,null,null,null,null,null,null,null,null,null,null,null,null,null,null,null,null,null,null,null,null,null,null,null,null,null,"CONSUMPTION-OTHKERO-ETRANS-",null,"O4669","ENERGUSE","RAIL","_Z","_Z","_Z","_Z","_Z","WEIGHT","_Z","KT"]
[null,"OIL","BIODIESEL","CONSUMPTION","RAIL",null,"- Biodiesels ",null,null,null,null,null,null,null,null,null,null,null,null,null,null,null,null,null,null,null,null,null,null,null,null,null,null,null,null,null,null,null,null,null,null,null,null,null,null,null,null,null,null,null,null,null,null,null,null,null,null,null,null,null,null,null,null,null,null,null,null,null,null,null,null,null,null,null,null,null,null,null,null,null,null,null,null,null,null,null,null,null,null,null,null,null,null,null,null,null,null,null,null,null,null,null,null,null,null,null,null,null,null,null,null,null,null,null,null,null,null,null,null,null,null,"CONSUMPTION-BIODIESEL-ETRANS-",null,"R5222","ENERGUSE","RAIL","_Z","_Z","_Z","_Z","_Z","WEIGHT","_Z","KT"]
[null,"OIL","NONBIODIES","CONSUMPTION","RAIL",null,"- Non-bio gas/diesel oil",null,null,null,null,null,null,null,null,null,null,null,null,null,null,null,null,null,null,null,null,null,null,null,null,null,null,null,null,null,null,null,null,null,null,null,null,null,null,null,null,null,null,null,null,null,null,null,null,null,null,null,null,null,null,null,null,null,null,null,null,null,null,null,null,null,null,null,null,null,null,null,null,null,null,null,null,null,null,null,null,null,null,null,null,null,null,null,null,null,null,null,null,null,null,null,null,null,null,null,null,null,null,null,null,null,null,null,null,null,null,null,null,null,null,"CONSUMPTION-NONBIODIES-ETRANS-",null,"O4677","ENERGUSE","RAIL","_Z","_Z","_Z","_Z","_Z","WEIGHT","_Z","KT"]
[null,"OIL","RESFUEL","CONSUMPTION","RAIL",null,"Fuel oil",null,null,null,null,null,null,null,null,null,null,null,null,null,null,null,null,null,null,null,null,null,null,null,null,null,null,null,null,null,null,null,null,null,null,null,null,null,null,null,null,null,null,null,null,null,null,null,null,null,null,null,null,null,null,null,null,null,null,null,null,null,null,null,null,null,null,null,null,null,null,null,null,null,null,null,null,null,null,null,null,null,null,null,null,null,null,null,null,null,null,null,null,null,null,null,null,null,null,null,null,null,null,null,null,null,null,null,null,null,null,null,null,null,null,"CONSUMPTION-RESFUEL-ETRANS-",null,"O4680","ENERGUSE","RAIL","_Z","_Z","_Z","_Z","_Z","WEIGHT","_Z","KT"]
[null,"OIL","WHITESP","CONSUMPTION","RAIL",null,"White spirit & SBP",null,null,null,null,null,null,null,null,null,null,null,null,null,null,null,null,null,null,null,null,null,null,null,null,null,null,null,null,null,null,null,null,null,null,null,null,null,null,null,null,null,null,null,null,null,null,null,null,null,null,null,null,null,null,null,null,null,null,null,null,null,null,null,null,null,null,null,null,null,null,null,null,null,null,null,null,null,null,null,null,null,null,null,null,null,null,null,null,null,null,null,null,null,null,null,null,null,null,null,null,null,null,null,null,null,null,null,null,null,null,null,null,null,null,"CONSUMPTION-WHITESP-ETRANS-",null,"O4691","ENERGUSE","RAIL","_Z","_Z","_Z","_Z","_Z","WEIGHT","_Z","KT"]
[null,"OIL","LUBRIC","CONSUMPTION","RAIL",null,"Lubricants",null,null,null,null,null,null,null,null,null,null,null,null,null,null,null,null,null,null,null,null,null,null,null,null,null,null,null,null,null,null,null,null,null,null,null,null,null,null,null,null,null,null,null,null,null,null,null,null,null,null,null,null,null,null,null,null,null,null,null,null,null,null,null,null,null,null,null,null,null,null,null,null,null,null,null,null,null,null,null,null,null,null,null,null,null,null,null,null,null,null,null,null,null,null,null,null,null,null,null,null,null,null,null,null,null,null,null,null,null,null,null,null,null,null,"CONSUMPTION-LUBRIC-ETRANS-",null,"O4692","ENERGUSE","RAIL","_Z","_Z","_Z","_Z","_Z","WEIGHT","_Z","KT"]
[null,"OIL","BITUMEN","CONSUMPTION","RAIL",null,"Bitumen",null,null,null,null,null,null,null,null,null,null,null,null,null,null,null,null,null,null,null,null,null,null,null,null,null,null,null,null,null,null,null,null,null,null,null,null,null,null,null,null,null,null,null,null,null,null,null,null,null,null,null,null,null,null,null,null,null,null,null,null,null,null,null,null,null,null,null,null,null,null,null,null,null,null,null,null,null,null,null,null,null,null,null,null,null,null,null,null,null,null,null,null,null,null,null,null,null,null,null,null,null,null,null,null,null,null,null,null,null,null,null,null,null,null,"CONSUMPTION-BITUMEN-ETRANS-",null,"O4695","ENERGUSE","RAIL","_Z","_Z","_Z","_Z","_Z","WEIGHT","_Z","KT"]
[null,"OIL","PARWAX","CONSUMPTION","RAIL",null,"Paraffin waxes",null,null,null,null,null,null,null,null,null,null,null,null,null,null,null,null,null,null,null,null,null,null,null,null,null,null,null,null,null,null,null,null,null,null,null,null,null,null,null,null,null,null,null,null,null,null,null,null,null,null,null,null,null,null,null,null,null,null,null,null,null,null,null,null,null,null,null,null,null,null,null,null,null,null,null,null,null,null,null,null,null,null,null,null,null,null,null,null,null,null,null,null,null,null,null,null,null,null,null,null,null,null,null,null,null,null,null,null,null,null,null,null,null,null,"CONSUMPTION-PARWAX-ETRANS-",null,"O4693","ENERGUSE","RAIL","_Z","_Z","_Z","_Z","_Z","WEIGHT","_Z","KT"]
[null,"OIL","PETCOKE","CONSUMPTION","RAIL",null,"Petroleum coke",null,null,null,null,null,null,null,null,null,null,null,null,null,null,null,null,null,null,null,null,null,null,null,null,null,null,null,null,null,null,null,null,null,null,null,null,null,null,null,null,null,null,null,null,null,null,null,null,null,null,null,null,null,null,null,null,null,null,null,null,null,null,null,null,null,null,null,null,null,null,null,null,null,null,null,null,null,null,null,null,null,null,null,null,null,null,null,null,null,null,null,null,null,null,null,null,null,null,null,null,null,null,null,null,null,null,null,null,null,null,null,null,null,null,"CONSUMPTION-PETCOKE-ETRANS-",null,"O4694","ENERGUSE","RAIL","_Z","_Z","_Z","_Z","_Z","WEIGHT","_Z","KT"]
[null,"OIL","OPRODS","CONSUMPTION","RAIL",null,"Other oil products",null,null,null,null,null,null,null,null,null,null,null,null,null,null,null,null,null,null,null,null,null,null,null,null,null,null,null,null,null,null,null,null,null,null,null,null,null,null,null,null,null,null,null,null,null,null,null,null,null,null,null,null,null,null,null,null,null,null,null,null,null,null,null,null,null,null,null,null,null,null,null,null,null,null,null,null,null,null,null,null,null,null,null,null,null,null,null,null,null,null,null,null,null,null,null,null,null,null,null,null,null,null,null,null,null,null,null,null,null,null,null,null,null,null,"CONSUMPTION-OPRODS-ETRANS-",null,"O4699","ENERGUSE","RAIL","_Z","_Z","_Z","_Z","_Z","WEIGHT","_Z","KT"]
[]
[null,null,null,null,null,null,"Transport Sector - Road"]
[null,"OIL","CRUDEOIL","CONSUMPTION","ROAD",null,"Crude oil",null,null,null,null,null,null,null,null,null,null,null,null,null,null,null,null,null,null,null,null,null,null,null,null,null,null,null,null,null,null,null,null,null,null,null,null,null,null,null,null,null,null,null,null,null,null,null,null,null,null,null,null,null,null,null,null,null,null,null,null,null,null,null,null,null,null,null,null,null,null,null,null,null,null,null,null,null,null,null,null,null,null,null,null,null,null,null,null,null,null,null,null,null,null,null,null,null,null,null,null,null,null,null,null,null,null,null,null,null,null,null,null,null,null,"CONSUMPTION-CRUDEOIL-ETRANS-",null,"O4100","ENERGUSE","ROAD","_Z","_Z","_Z","_Z","_Z","WEIGHT","_Z","KT"]
[null,"OIL","NGL","CONSUMPTION","ROAD",null,"Natural gas liquids",null,null,null,null,null,null,null,null,null,null,null,null,null,null,null,null,null,null,null,null,null,null,null,null,null,null,null,null,null,null,null,null,null,null,null,null,null,null,null,null,null,null,null,null,null,null,null,null,null,null,null,null,null,null,null,null,null,null,null,null,null,null,null,null,null,null,null,null,null,null,null,null,null,null,null,null,null,null,null,null,null,null,null,null,null,null,null,null,null,null,null,null,null,null,null,null,null,null,null,null,null,null,null,null,null,null,null,null,null,null,null,null,null,null,"CONSUMPTION-NGL-ETRANS-",null,"O4200","ENERGUSE","ROAD","_Z","_Z","_Z","_Z","_Z","WEIGHT","_Z","KT"]
[null,"OIL","REFINGAS","CONSUMPTION","ROAD",null,"Refinery gas",null,null,null,null,null,null,null,null,null,null,null,null,null,null,null,null,null,null,null,null,null,null,null,null,null,null,null,null,null,null,null,null,null,null,null,null,null,null,null,null,null,null,null,null,null,null,null,null,null,null,null,null,null,null,null,null,null,null,null,null,null,null,null,null,null,null,null,null,null,null,null,null,null,null,null,null,null,null,null,null,null,null,null,null,null,null,null,null,null,null,null,null,null,null,null,null,null,null,null,null,null,null,null,null,null,null,null,null,null,null,null,null,null,null,"CONSUMPTION-REFINGAS-ETRANS-",null,"O4610","ENERGUSE","ROAD","_Z","_Z","_Z","_Z","_Z","WEIGHT","_Z","KT"]
[null,"OIL","ETHANE","CONSUMPTION","ROAD",null,"Ethane",null,null,null,null,null,null,null,null,null,null,null,null,null,null,null,null,null,null,null,null,null,null,null,null,null,null,null,null,null,null,null,null,null,null,null,null,null,null,null,null,null,null,null,null,null,null,null,null,null,null,null,null,null,null,null,null,null,null,null,null,null,null,null,null,null,null,null,null,null,null,null,null,null,null,null,null,null,null,null,null,null,null,null,null,null,null,null,null,null,null,null,null,null,null,null,null,null,null,null,null,null,null,null,null,null,null,null,null,null,null,null,null,null,null,"CONSUMPTION-ETHANE-ETRANS-",null,"O4620","ENERGUSE","ROAD","_Z","_Z","_Z","_Z","_Z","WEIGHT","_Z","KT"]
[null,"OIL","LPG","CONSUMPTION","ROAD",null,"LPG",null,null,null,null,null,null,null,null,null,null,null,null,null,null,null,null,null,null,null,null,null,null,null,null,null,null,null,null,null,null,null,null,null,null,null,null,null,null,null,null,null,null,null,null,null,null,null,null,null,null,null,null,null,null,null,null,null,null,null,null,null,null,null,null,null,null,null,null,null,null,null,null,null,null,null,null,null,null,null,null,null,null,null,null,null,null,null,null,null,null,null,null,null,null,null,null,null,null,null,null,null,null,null,null,null,null,null,null,null,null,null,null,null,null,"CONSUMPTION-LPG-ETRANS-",null,"O4630","ENERGUSE","ROAD","_Z","_Z","_Z","_Z","_Z","WEIGHT","_Z","KT"]
[null,"OIL","NAPHTHA","CONSUMPTION","ROAD",null,"Naphtha",null,null,null,null,null,null,null,null,null,null,null,null,null,null,null,null,null,null,null,null,null,null,null,null,null,null,null,null,null,null,null,null,null,null,null,null,null,null,null,null,null,null,null,null,null,null,null,null,null,null,null,null,null,null,null,null,null,null,null,null,null,null,null,null,null,null,null,null,null,null,null,null,null,null,null,null,null,null,null,null,null,null,null,null,null,null,null,null,null,null,null,null,null,null,null,null,null,null,null,null,null,null,null,null,null,null,null,null,null,null,null,null,null,null,"CONSUMPTION-NAPHTHA-ETRANS-",null,"O4640","ENERGUSE","ROAD","_Z","_Z","_Z","_Z","_Z","WEIGHT","_Z","KT"]
[null,"OIL","BIOGASOL","CONSUMPTION","ROAD",null,"- Biogasoline",null,null,null,null,null,null,null,null,null,null,null,null,null,null,null,null,null,null,null,null,null,null,null,null,null,null,null,null,null,null,null,null,null,null,null,null,null,null,null,null,null,null,null,null,null,null,null,null,null,null,null,null,null,null,null,null,null,null,null,null,null,null,null,null,null,null,null,null,null,null,null,null,null,null,null,null,null,null,null,null,null,null,null,null,null,null,null,null,null,null,null,null,null,null,null,null,null,null,null,null,null,null,null,null,null,null,null,null,null,null,null,null,null,null,"CONSUMPTION-BIOGASOL-ETRANS-",null,"R5212","ENERGUSE","ROAD","_Z","_Z","_Z","_Z","_Z","WEIGHT","_Z","KT"]
[null,"OIL","NONBIOGASO","CONSUMPTION","ROAD",null,"- Non-biogasoline",null,null,null,null,null,null,null,null,null,null,null,null,null,null,null,null,null,null,null,null,null,null,null,null,null,null,null,null,null,null,null,null,null,null,null,null,null,null,null,null,null,null,null,null,null,null,null,null,null,null,null,null,null,null,null,null,null,null,null,null,null,null,null,null,null,null,null,null,null,null,null,null,null,null,null,null,null,null,null,null,null,null,null,null,null,null,null,null,null,null,null,null,null,null,null,null,null,null,null,null,null,null,null,null,null,null,null,null,null,null,null,null,null,null,"CONSUMPTION-NONBIOGASO-ETRANS-",null,"O4657","ENERGUSE","ROAD","_Z","_Z","_Z","_Z","_Z","WEIGHT","_Z","KT"]
[null,"OIL","AVGAS","CONSUMPTION","ROAD",null,"Aviation gasoline",null,null,null,null,null,null,null,null,null,null,null,null,null,null,null,null,null,null,null,null,null,null,null,null,null,null,null,null,null,null,null,null,null,null,null,null,null,null,null,null,null,null,null,null,null,null,null,null,null,null,null,null,null,null,null,null,null,null,null,null,null,null,null,null,null,null,null,null,null,null,null,null,null,null,null,null,null,null,null,null,null,null,null,null,null,null,null,null,null,null,null,null,null,null,null,null,null,null,null,null,null,null,null,null,null,null,null,null,null,null,null,null,null,null,"CONSUMPTION-AVGAS-ETRANS-",null,"O4651","ENERGUSE","ROAD","_Z","_Z","_Z","_Z","_Z","WEIGHT","_Z","KT"]
[null,"OIL","JETGAS","CONSUMPTION","ROAD",null,"Gasoline type jet fuel",null,null,null,null,null,null,null,null,null,null,null,null,null,null,null,null,null,null,null,null,null,null,null,null,null,null,null,null,null,null,null,null,null,null,null,null,null,null,null,null,null,null,null,null,null,null,null,null,null,null,null,null,null,null,null,null,null,null,null,null,null,null,null,null,null,null,null,null,null,null,null,null,null,null,null,null,null,null,null,null,null,null,null,null,null,null,null,null,null,null,null,null,null,null,null,null,null,null,null,null,null,null,null,null,null,null,null,null,null,null,null,null,null,null,"CONSUMPTION-JETGAS-ETRANS-",null,"O4653","ENERGUSE","ROAD","_Z","_Z","_Z","_Z","_Z","WEIGHT","_Z","KT"]
[null,"OIL","BIOJETKERO","CONSUMPTION","ROAD",null,"- Bio jet kerosene",null,null,null,null,null,null,null,null,null,null,null,null,null,null,null,null,null,null,null,null,null,null,null,null,null,null,null,null,null,null,null,null,null,null,null,null,null,null,null,null,null,null,null,null,null,null,null,null,null,null,null,null,null,null,null,null,null,null,null,null,null,null,null,null,null,null,null,null,null,null,null,null,null,null,null,null,null,null,null,null,null,null,null,null,null,null,null,null,null,null,null,null,null,null,null,null,null,null,null,null,null,null,null,null,null,null,null,null,null,null,null,null,null,null,"CONSUMPTION-BIOJETKERO-ETRANS-",null,"R5232","ENERGUSE","ROAD","_Z","_Z","_Z","_Z","_Z","WEIGHT","_Z","KT"]
[null,"OIL","NONBIOJETK","CONSUMPTION","ROAD",null,"- Non-bio jet kerosene",null,null,null,null,null,null,null,null,null,null,null,null,null,null,null,null,null,null,null,null,null,null,null,null,null,null,null,null,null,null,null,null,null,null,null,null,null,null,null,null,null,null,null,null,null,null,null,null,null,null,null,null,null,null,null,null,null,null,null,null,null,null,null,null,null,null,null,null,null,null,null,null,null,null,null,null,null,null,null,null,null,null,null,null,null,null,null,null,null,null,null,null,null,null,null,null,null,null,null,null,null,null,null,null,null,null,null,null,null,null,null,null,null,null,"CONSUMPTION-NONBIOJETK-ETRANS-",null,"O4667","ENERGUSE","ROAD","_Z","_Z","_Z","_Z","_Z","WEIGHT","_Z","KT"]
[null,"OIL","OTHKERO","CONSUMPTION","ROAD",null,"Other kerosene",null,null,null,null,null,null,null,null,null,null,null,null,null,null,null,null,null,null,null,null,null,null,null,null,null,null,null,null,null,null,null,null,null,null,null,null,null,null,null,null,null,null,null,null,null,null,null,null,null,null,null,null,null,null,null,null,null,null,null,null,null,null,null,null,null,null,null,null,null,null,null,null,null,null,null,null,null,null,null,null,null,null,null,null,null,null,null,null,null,null,null,null,null,null,null,null,null,null,null,null,null,null,null,null,null,null,null,null,null,null,null,null,null,null,"CONSUMPTION-OTHKERO-ETRANS-",null,"O4669","ENERGUSE","ROAD","_Z","_Z","_Z","_Z","_Z","WEIGHT","_Z","KT"]
[null,"OIL","BIODIESEL","CONSUMPTION","ROAD",null,"- Biodiesels ",null,null,null,null,null,null,null,null,null,null,null,null,null,null,null,null,null,null,null,null,null,null,null,null,null,null,null,null,null,null,null,null,null,null,null,null,null,null,null,null,null,null,null,null,null,null,null,null,null,null,null,null,null,null,null,null,null,null,null,null,null,null,null,null,null,null,null,null,null,null,null,null,null,null,null,null,null,null,null,null,null,null,null,null,null,null,null,null,null,null,null,null,null,null,null,null,null,null,null,null,null,null,null,null,null,null,null,null,null,null,null,null,null,null,"CONSUMPTION-BIODIESEL-ETRANS-",null,"R5222","ENERGUSE","ROAD","_Z","_Z","_Z","_Z","_Z","WEIGHT","_Z","KT"]
[null,"OIL","NONBIODIES","CONSUMPTION","ROAD",null,"- Non-bio gas/diesel oil",null,null,null,null,null,null,null,null,null,null,null,null,null,null,null,null,null,null,null,null,null,null,null,null,null,null,null,null,null,null,null,null,null,null,null,null,null,null,null,null,null,null,null,null,null,null,null,null,null,null,null,null,null,null,null,null,null,null,null,null,null,null,null,null,null,null,null,null,null,null,null,null,null,null,null,null,null,null,null,null,null,null,null,null,null,null,null,null,null,null,null,null,null,null,null,null,null,null,null,null,null,null,null,null,null,null,null,null,null,null,null,null,null,null,"CONSUMPTION-NONBIODIES-ETRANS-",null,"O4677","ENERGUSE","ROAD","_Z","_Z","_Z","_Z","_Z","WEIGHT","_Z","KT"]
[null,"OIL","RESFUEL","CONSUMPTION","ROAD",null,"Fuel oil",null,null,null,null,null,null,null,null,null,null,null,null,null,null,null,null,null,null,null,null,null,null,null,null,null,null,null,null,null,null,null,null,null,null,null,null,null,null,null,null,null,null,null,null,null,null,null,null,null,null,null,null,null,null,null,null,null,null,null,null,null,null,null,null,null,null,null,null,null,null,null,null,null,null,null,null,null,null,null,null,null,null,null,null,null,null,null,null,null,null,null,null,null,null,null,null,null,null,null,null,null,null,null,null,null,null,null,null,null,null,null,null,null,null,"CONSUMPTION-RESFUEL-ETRANS-",null,"O4680","ENERGUSE","ROAD","_Z","_Z","_Z","_Z","_Z","WEIGHT","_Z","KT"]
[null,"OIL","WHITESP","CONSUMPTION","ROAD",null,"White spirit & SBP",null,null,null,null,null,null,null,null,null,null,null,null,null,null,null,null,null,null,null,null,null,null,null,null,null,null,null,null,null,null,null,null,null,null,null,null,null,null,null,null,null,null,null,null,null,null,null,null,null,null,null,null,null,null,null,null,null,null,null,null,null,null,null,null,null,null,null,null,null,null,null,null,null,null,null,null,null,null,null,null,null,null,null,null,null,null,null,null,null,null,null,null,null,null,null,null,null,null,null,null,null,null,null,null,null,null,null,null,null,null,null,null,null,null,"CONSUMPTION-WHITESP-ETRANS-",null,"O4691","ENERGUSE","ROAD","_Z","_Z","_Z","_Z","_Z","WEIGHT","_Z","KT"]
[null,"OIL","LUBRIC","CONSUMPTION","ROAD",null,"Lubricants",null,null,null,null,null,null,null,null,null,null,null,null,null,null,null,null,null,null,null,null,null,null,null,null,null,null,null,null,null,null,null,null,null,null,null,null,null,null,null,null,null,null,null,null,null,null,null,null,null,null,null,null,null,null,null,null,null,null,null,null,null,null,null,null,null,null,null,null,null,null,null,null,null,null,null,null,null,null,null,null,null,null,null,null,null,null,null,null,null,null,null,null,null,null,null,null,null,null,null,null,null,null,null,null,null,null,null,null,null,null,null,null,null,null,"CONSUMPTION-LUBRIC-ETRANS-",null,"O4692","ENERGUSE","ROAD","_Z","_Z","_Z","_Z","_Z","WEIGHT","_Z","KT"]
[null,"OIL","BITUMEN","CONSUMPTION","ROAD",null,"Bitumen",null,null,null,null,null,null,null,null,null,null,null,null,null,null,null,null,null,null,null,null,null,null,null,null,null,null,null,null,null,null,null,null,null,null,null,null,null,null,null,null,null,null,null,null,null,null,null,null,null,null,null,null,null,null,null,null,null,null,null,null,null,null,null,null,null,null,null,null,null,null,null,null,null,null,null,null,null,null,null,null,null,null,null,null,null,null,null,null,null,null,null,null,null,null,null,null,null,null,null,null,null,null,null,null,null,null,null,null,null,null,null,null,null,null,"CONSUMPTION-BITUMEN-ETRANS-",null,"O4695","ENERGUSE","ROAD","_Z","_Z","_Z","_Z","_Z","WEIGHT","_Z","KT"]
[null,"OIL","PARWAX","CONSUMPTION","ROAD",null,"Paraffin waxes",null,null,null,null,null,null,null,null,null,null,null,null,null,null,null,null,null,null,null,null,null,null,null,null,null,null,null,null,null,null,null,null,null,null,null,null,null,null,null,null,null,null,null,null,null,null,null,null,null,null,null,null,null,null,null,null,null,null,null,null,null,null,null,null,null,null,null,null,null,null,null,null,null,null,null,null,null,null,null,null,null,null,null,null,null,null,null,null,null,null,null,null,null,null,null,null,null,null,null,null,null,null,null,null,null,null,null,null,null,null,null,null,null,null,"CONSUMPTION-PARWAX-ETRANS-",null,"O4693","ENERGUSE","ROAD","_Z","_Z","_Z","_Z","_Z","WEIGHT","_Z","KT"]
[null,"OIL","PETCOKE","CONSUMPTION","ROAD",null,"Petroleum coke",null,null,null,null,null,null,null,null,null,null,null,null,null,null,null,null,null,null,null,null,null,null,null,null,null,null,null,null,null,null,null,null,null,null,null,null,null,null,null,null,null,null,null,null,null,null,null,null,null,null,null,null,null,null,null,null,null,null,null,null,null,null,null,null,null,null,null,null,null,null,null,null,null,null,null,null,null,null,null,null,null,null,null,null,null,null,null,null,null,null,null,null,null,null,null,null,null,null,null,null,null,null,null,null,null,null,null,null,null,null,null,null,null,null,"CONSUMPTION-PETCOKE-ETRANS-",null,"O4694","ENERGUSE","ROAD","_Z","_Z","_Z","_Z","_Z","WEIGHT","_Z","KT"]
[null,"OIL","OPRODS","CONSUMPTION","ROAD",null,"Other oil products",null,null,null,null,null,null,null,null,null,null,null,null,null,null,null,null,null,null,null,null,null,null,null,null,null,null,null,null,null,null,null,null,null,null,null,null,null,null,null,null,null,null,null,null,null,null,null,null,null,null,null,null,null,null,null,null,null,null,null,null,null,null,null,null,null,null,null,null,null,null,null,null,null,null,null,null,null,null,null,null,null,null,null,null,null,null,null,null,null,null,null,null,null,null,null,null,null,null,null,null,null,null,null,null,null,null,null,null,null,null,null,null,null,null,"CONSUMPTION-OPRODS-ETRANS-",null,"O4699","ENERGUSE","ROAD","_Z","_Z","_Z","_Z","_Z","WEIGHT","_Z","KT"]
[]
[null,null,null,null,null,null,"International Aviation"]
[null,"OIL","CRUDEOIL","CONSUMPTION","EINTLAIR",null,"Crude oil",null,null,null,null,null,null,null,null,null,null,null,null,null,null,null,null,null,null,null,null,null,null,null,null,null,null,null,null,null,null,null,null,null,null,null,null,null,null,null,null,null,null,null,null,null,null,null,null,null,null,null,null,null,null,null,null,null,null,null,null,null,null,null,null,null,null,null,null,null,null,null,null,null,null,null,null,null,null,null,null,null,null,null,null,null,null,null,null,null,null,null,null,null,null,null,null,null,null,null,null,null,null,null,null,null,null,null,null,null,null,null,null,null,null,"CONSUMPTION-CRUDEOIL-EINTLAIR-",null,"O4100","ENERGUSE","INTLAIR","_Z","_Z","_Z","_Z","_Z","WEIGHT","_Z","KT"]
[null,"OIL","NGL","CONSUMPTION","EINTLAIR",null,"Natural gas liquids",null,null,null,null,null,null,null,null,null,null,null,null,null,null,null,null,null,null,null,null,null,null,null,null,null,null,null,null,null,null,null,null,null,null,null,null,null,null,null,null,null,null,null,null,null,null,null,null,null,null,null,null,null,null,null,null,null,null,null,null,null,null,null,null,null,null,null,null,null,null,null,null,null,null,null,null,null,null,null,null,null,null,null,null,null,null,null,null,null,null,null,null,null,null,null,null,null,null,null,null,null,null,null,null,null,null,null,null,null,null,null,null,null,null,"CONSUMPTION-NGL-EINTLAIR-",null,"O4200","ENERGUSE","INTLAIR","_Z","_Z","_Z","_Z","_Z","WEIGHT","_Z","KT"]
[null,"OIL","REFINGAS","CONSUMPTION","EINTLAIR",null,"Refinery gas",null,null,null,null,null,null,null,null,null,null,null,null,null,null,null,null,null,null,null,null,null,null,null,null,null,null,null,null,null,null,null,null,null,null,null,null,null,null,null,null,null,null,null,null,null,null,null,null,null,null,null,null,null,null,null,null,null,null,null,null,null,null,null,null,null,null,null,null,null,null,null,null,null,null,null,null,null,null,null,null,null,null,null,null,null,null,null,null,null,null,null,null,null,null,null,null,null,null,null,null,null,null,null,null,null,null,null,null,null,null,null,null,null,null,"CONSUMPTION-REFINGAS-EINTLAIR-",null,"O4610","ENERGUSE","INTLAIR","_Z","_Z","_Z","_Z","_Z","WEIGHT","_Z","KT"]
[null,"OIL","ETHANE","CONSUMPTION","EINTLAIR",null,"Ethane",null,null,null,null,null,null,null,null,null,null,null,null,null,null,null,null,null,null,null,null,null,null,null,null,null,null,null,null,null,null,null,null,null,null,null,null,null,null,null,null,null,null,null,null,null,null,null,null,null,null,null,null,null,null,null,null,null,null,null,null,null,null,null,null,null,null,null,null,null,null,null,null,null,null,null,null,null,null,null,null,null,null,null,null,null,null,null,null,null,null,null,null,null,null,null,null,null,null,null,null,null,null,null,null,null,null,null,null,null,null,null,null,null,null,"CONSUMPTION-ETHANE-EINTLAIR-",null,"O4620","ENERGUSE","INTLAIR","_Z","_Z","_Z","_Z","_Z","WEIGHT","_Z","KT"]
[null,"OIL","LPG","CONSUMPTION","EINTLAIR",null,"LPG",null,null,null,null,null,null,null,null,null,null,null,null,null,null,null,null,null,null,null,null,null,null,null,null,null,null,null,null,null,null,null,null,null,null,null,null,null,null,null,null,null,null,null,null,null,null,null,null,null,null,null,null,null,null,null,null,null,null,null,null,null,null,null,null,null,null,null,null,null,null,null,null,null,null,null,null,null,null,null,null,null,null,null,null,null,null,null,null,null,null,null,null,null,null,null,null,null,null,null,null,null,null,null,null,null,null,null,null,null,null,null,null,null,null,"CONSUMPTION-LPG-EINTLAIR-",null,"O4630","ENERGUSE","INTLAIR","_Z","_Z","_Z","_Z","_Z","WEIGHT","_Z","KT"]
[null,"OIL","NAPHTHA","CONSUMPTION","EINTLAIR",null,"Naphtha",null,null,null,null,null,null,null,null,null,null,null,null,null,null,null,null,null,null,null,null,null,null,null,null,null,null,null,null,null,null,null,null,null,null,null,null,null,null,null,null,null,null,null,null,null,null,null,null,null,null,null,null,null,null,null,null,null,null,null,null,null,null,null,null,null,null,null,null,null,null,null,null,null,null,null,null,null,null,null,null,null,null,null,null,null,null,null,null,null,null,null,null,null,null,null,null,null,null,null,null,null,null,null,null,null,null,null,null,null,null,null,null,null,null,"CONSUMPTION-NAPHTHA-EINTLAIR-",null,"O4640","ENERGUSE","INTLAIR","_Z","_Z","_Z","_Z","_Z","WEIGHT","_Z","KT"]
[null,"OIL","BIOGASOL","CONSUMPTION","EINTLAIR",null,"- Biogasoline",null,null,null,null,null,null,null,null,null,null,null,null,null,null,null,null,null,null,null,null,null,null,null,null,null,null,null,null,null,null,null,null,null,null,null,null,null,null,null,null,null,null,null,null,null,null,null,null,null,null,null,null,null,null,null,null,null,null,null,null,null,null,null,null,null,null,null,null,null,null,null,null,null,null,null,null,null,null,null,null,null,null,null,null,null,null,null,null,null,null,null,null,null,null,null,null,null,null,null,null,null,null,null,null,null,null,null,null,null,null,null,null,null,null,"CONSUMPTION-BIOGASOL-EINTLAIR-",null,"R5212","ENERGUSE","INTLAIR","_Z","_Z","_Z","_Z","_Z","WEIGHT","_Z","KT"]
[null,"OIL","NONBIOGASO","CONSUMPTION","EINTLAIR",null,"- Non-biogasoline",null,null,null,null,null,null,null,null,null,null,null,null,null,null,null,null,null,null,null,null,null,null,null,null,null,null,null,null,null,null,null,null,null,null,null,null,null,null,null,null,null,null,null,null,null,null,null,null,null,null,null,null,null,null,null,null,null,null,null,null,null,null,null,null,null,null,null,null,null,null,null,null,null,null,null,null,null,null,null,null,null,null,null,null,null,null,null,null,null,null,null,null,null,null,null,null,null,null,null,null,null,null,null,null,null,null,null,null,null,null,null,null,null,null,"CONSUMPTION-NONBIOGASO-EINTLAIR-",null,"O4657","ENERGUSE","INTLAIR","_Z","_Z","_Z","_Z","_Z","WEIGHT","_Z","KT"]
[null,"OIL","AVGAS","CONSUMPTION","EINTLAIR",null,"Aviation gasoline",null,null,null,null,null,null,null,null,null,null,null,null,null,null,null,null,null,null,null,null,null,null,null,null,null,null,null,null,null,null,null,null,null,null,null,null,null,null,null,null,null,null,null,null,null,null,null,null,null,null,null,null,null,null,null,null,null,null,null,null,null,null,null,null,null,null,null,null,null,null,null,null,null,null,null,null,null,null,null,null,null,null,null,null,null,null,null,null,null,null,null,null,null,null,null,null,null,null,null,null,null,null,null,null,null,null,null,null,null,null,null,null,null,null,"CONSUMPTION-AVGAS-EINTLAIR-",null,"O4651","ENERGUSE","INTLAIR","_Z","_Z","_Z","_Z","_Z","WEIGHT","_Z","KT"]
[null,"OIL","JETGAS","CONSUMPTION","EINTLAIR",null,"Gasoline type jet fuel",null,null,null,null,null,null,null,null,null,null,null,null,null,null,null,null,null,null,null,null,null,null,null,null,null,null,null,null,null,null,null,null,null,null,null,null,null,null,null,null,null,null,null,null,null,null,null,null,null,null,null,null,null,null,null,null,null,null,null,null,null,null,null,null,null,null,null,null,null,null,null,null,null,null,null,null,null,null,null,null,null,null,null,null,null,null,null,null,null,null,null,null,null,null,null,null,null,null,null,null,null,null,null,null,null,null,null,null,null,null,null,null,null,null,"CONSUMPTION-JETGAS-EINTLAIR-",null,"O4653","ENERGUSE","INTLAIR","_Z","_Z","_Z","_Z","_Z","WEIGHT","_Z","KT"]
[null,"OIL","BIOJETKERO","CONSUMPTION","EINTLAIR",null,"- Bio jet kerosene",null,null,null,null,null,null,null,null,null,null,null,null,null,null,null,null,null,null,null,null,null,null,null,null,null,null,null,null,null,null,null,null,null,null,null,null,null,null,null,null,null,null,null,null,null,null,null,null,null,null,null,null,null,null,null,null,null,null,null,null,null,null,null,null,null,null,null,null,null,null,null,null,null,null,null,null,null,null,null,null,null,null,null,null,null,null,null,null,null,null,null,null,null,null,null,null,null,null,null,null,null,null,null,null,null,null,null,null,null,null,null,null,null,null,"CONSUMPTION-BIOJETKERO-EINTLAIR-",null,"R5232","ENERGUSE","INTLAIR","_Z","_Z","_Z","_Z","_Z","WEIGHT","_Z","KT"]
[null,"OIL","NONBIOJETK","CONSUMPTION","EINTLAIR",null,"- Non-bio jet kerosene",null,null,null,null,null,null,null,null,null,null,null,null,null,null,null,null,null,null,null,null,null,null,null,null,null,null,null,null,null,null,null,null,null,null,null,null,null,null,null,null,null,null,null,null,null,null,null,null,null,null,null,null,null,null,null,null,null,null,null,null,null,null,null,null,null,null,null,null,null,null,null,null,null,null,null,null,null,null,null,null,null,null,null,null,null,null,null,null,null,null,null,null,null,null,null,null,null,null,null,null,null,null,null,null,null,null,null,null,null,null,null,null,null,null,"CONSUMPTION-NONBIOJETK-EINTLAIR-",null,"O4667","ENERGUSE","INTLAIR","_Z","_Z","_Z","_Z","_Z","WEIGHT","_Z","KT"]
[null,"OIL","OTHKERO","CONSUMPTION","EINTLAIR",null,"Other kerosene",null,null,null,null,null,null,null,null,null,null,null,null,null,null,null,null,null,null,null,null,null,null,null,null,null,null,null,null,null,null,null,null,null,null,null,null,null,null,null,null,null,null,null,null,null,null,null,null,null,null,null,null,null,null,null,null,null,null,null,null,null,null,null,null,null,null,null,null,null,null,null,null,null,null,null,null,null,null,null,null,null,null,null,null,null,null,null,null,null,null,null,null,null,null,null,null,null,null,null,null,null,null,null,null,null,null,null,null,null,null,null,null,null,null,"CONSUMPTION-OTHKERO-EINTLAIR-",null,"O4669","ENERGUSE","INTLAIR","_Z","_Z","_Z","_Z","_Z","WEIGHT","_Z","KT"]
[null,"OIL","BIODIESEL","CONSUMPTION","EINTLAIR",null,"- Biodiesels ",null,null,null,null,null,null,null,null,null,null,null,null,null,null,null,null,null,null,null,null,null,null,null,null,null,null,null,null,null,null,null,null,null,null,null,null,null,null,null,null,null,null,null,null,null,null,null,null,null,null,null,null,null,null,null,null,null,null,null,null,null,null,null,null,null,null,null,null,null,null,null,null,null,null,null,null,null,null,null,null,null,null,null,null,null,null,null,null,null,null,null,null,null,null,null,null,null,null,null,null,null,null,null,null,null,null,null,null,null,null,null,null,null,null,"CONSUMPTION-BIODIESEL-EINTLAIR-",null,"R5222","ENERGUSE","INTLAIR","_Z","_Z","_Z","_Z","_Z","WEIGHT","_Z","KT"]
[null,"OIL","NONBIODIES","CONSUMPTION","EINTLAIR",null,"- Non-bio gas/diesel oil",null,null,null,null,null,null,null,null,null,null,null,null,null,null,null,null,null,null,null,null,null,null,null,null,null,null,null,null,null,null,null,null,null,null,null,null,null,null,null,null,null,null,null,null,null,null,null,null,null,null,null,null,null,null,null,null,null,null,null,null,null,null,null,null,null,null,null,null,null,null,null,null,null,null,null,null,null,null,null,null,null,null,null,null,null,null,null,null,null,null,null,null,null,null,null,null,null,null,null,null,null,null,null,null,null,null,null,null,null,null,null,null,null,null,"CONSUMPTION-NONBIODIES-EINTLAIR-",null,"O4677","ENERGUSE","INTLAIR","_Z","_Z","_Z","_Z","_Z","WEIGHT","_Z","KT"]
[null,"OIL","RESFUEL","CONSUMPTION","EINTLAIR",null,"Fuel oil",null,null,null,null,null,null,null,null,null,null,null,null,null,null,null,null,null,null,null,null,null,null,null,null,null,null,null,null,null,null,null,null,null,null,null,null,null,null,null,null,null,null,null,null,null,null,null,null,null,null,null,null,null,null,null,null,null,null,null,null,null,null,null,null,null,null,null,null,null,null,null,null,null,null,null,null,null,null,null,null,null,null,null,null,null,null,null,null,null,null,null,null,null,null,null,null,null,null,null,null,null,null,null,null,null,null,null,null,null,null,null,null,null,null,"CONSUMPTION-RESFUEL-EINTLAIR-",null,"O4680","ENERGUSE","INTLAIR","_Z","_Z","_Z","_Z","_Z","WEIGHT","_Z","KT"]
[null,"OIL","WHITESP","CONSUMPTION","EINTLAIR",null,"White spirit & SBP",null,null,null,null,null,null,null,null,null,null,null,null,null,null,null,null,null,null,null,null,null,null,null,null,null,null,null,null,null,null,null,null,null,null,null,null,null,null,null,null,null,null,null,null,null,null,null,null,null,null,null,null,null,null,null,null,null,null,null,null,null,null,null,null,null,null,null,null,null,null,null,null,null,null,null,null,null,null,null,null,null,null,null,null,null,null,null,null,null,null,null,null,null,null,null,null,null,null,null,null,null,null,null,null,null,null,null,null,null,null,null,null,null,null,"CONSUMPTION-WHITESP-EINTLAIR-",null,"O4691","ENERGUSE","INTLAIR","_Z","_Z","_Z","_Z","_Z","WEIGHT","_Z","KT"]
[null,"OIL","LUBRIC","CONSUMPTION","EINTLAIR",null,"Lubricants",null,null,null,null,null,null,null,null,null,null,null,null,null,null,null,null,null,null,null,null,null,null,null,null,null,null,null,null,null,null,null,null,null,null,null,null,null,null,null,null,null,null,null,null,null,null,null,null,null,null,null,null,null,null,null,null,null,null,null,null,null,null,null,null,null,null,null,null,null,null,null,null,null,null,null,null,null,null,null,null,null,null,null,null,null,null,null,null,null,null,null,null,null,null,null,null,null,null,null,null,null,null,null,null,null,null,null,null,null,null,null,null,null,null,"CONSUMPTION-LUBRIC-EINTLAIR-",null,"O4692","ENERGUSE","INTLAIR","_Z","_Z","_Z","_Z","_Z","WEIGHT","_Z","KT"]
[null,"OIL","BITUMEN","CONSUMPTION","EINTLAIR",null,"Bitumen",null,null,null,null,null,null,null,null,null,null,null,null,null,null,null,null,null,null,null,null,null,null,null,null,null,null,null,null,null,null,null,null,null,null,null,null,null,null,null,null,null,null,null,null,null,null,null,null,null,null,null,null,null,null,null,null,null,null,null,null,null,null,null,null,null,null,null,null,null,null,null,null,null,null,null,null,null,null,null,null,null,null,null,null,null,null,null,null,null,null,null,null,null,null,null,null,null,null,null,null,null,null,null,null,null,null,null,null,null,null,null,null,null,null,"CONSUMPTION-BITUMEN-EINTLAIR-",null,"O4695","ENERGUSE","INTLAIR","_Z","_Z","_Z","_Z","_Z","WEIGHT","_Z","KT"]
[null,"OIL","PARWAX","CONSUMPTION","EINTLAIR",null,"Paraffin waxes",null,null,null,null,null,null,null,null,null,null,null,null,null,null,null,null,null,null,null,null,null,null,null,null,null,null,null,null,null,null,null,null,null,null,null,null,null,null,null,null,null,null,null,null,null,null,null,null,null,null,null,null,null,null,null,null,null,null,null,null,null,null,null,null,null,null,null,null,null,null,null,null,null,null,null,null,null,null,null,null,null,null,null,null,null,null,null,null,null,null,null,null,null,null,null,null,null,null,null,null,null,null,null,null,null,null,null,null,null,null,null,null,null,null,"CONSUMPTION-PARWAX-EINTLAIR-",null,"O4693","ENERGUSE","INTLAIR","_Z","_Z","_Z","_Z","_Z","WEIGHT","_Z","KT"]
[null,"OIL","PETCOKE","CONSUMPTION","EINTLAIR",null,"Petroleum coke",null,null,null,null,null,null,null,null,null,null,null,null,null,null,null,null,null,null,null,null,null,null,null,null,null,null,null,null,null,null,null,null,null,null,null,null,null,null,null,null,null,null,null,null,null,null,null,null,null,null,null,null,null,null,null,null,null,null,null,null,null,null,null,null,null,null,null,null,null,null,null,null,null,null,null,null,null,null,null,null,null,null,null,null,null,null,null,null,null,null,null,null,null,null,null,null,null,null,null,null,null,null,null,null,null,null,null,null,null,null,null,null,null,null,"CONSUMPTION-PETCOKE-EINTLAIR-",null,"O4694","ENERGUSE","INTLAIR","_Z","_Z","_Z","_Z","_Z","WEIGHT","_Z","KT"]
[null,"OIL","OPRODS","CONSUMPTION","EINTLAIR",null,"Other oil products",null,null,null,null,null,null,null,null,null,null,null,null,null,null,null,null,null,null,null,null,null,null,null,null,null,null,null,null,null,null,null,null,null,null,null,null,null,null,null,null,null,null,null,null,null,null,null,null,null,null,null,null,null,null,null,null,null,null,null,null,null,null,null,null,null,null,null,null,null,null,null,null,null,null,null,null,null,null,null,null,null,null,null,null,null,null,null,null,null,null,null,null,null,null,null,null,null,null,null,null,null,null,null,null,null,null,null,null,null,null,null,null,null,null,"CONSUMPTION-OPRODS-EINTLAIR-",null,"O4699","ENERGUSE","INTLAIR","_Z","_Z","_Z","_Z","_Z","WEIGHT","_Z","KT"]
[]
[null,null,null,null,null,null,"Domestic Aviation"]
[null,"OIL","CRUDEOIL","CONSUMPTION","EDOMESAIR",null,"Crude oil",null,null,null,null,null,null,null,null,null,null,null,null,null,null,null,null,null,null,null,null,null,null,null,null,null,null,null,null,null,null,null,null,null,null,null,null,null,null,null,null,null,null,null,null,null,null,null,null,null,null,null,null,null,null,null,null,null,null,null,null,null,null,null,null,null,null,null,null,null,null,null,null,null,null,null,null,null,null,null,null,null,null,null,null,null,null,null,null,null,null,null,null,null,null,null,null,null,null,null,null,null,null,null,null,null,null,null,null,null,null,null,null,null,null,"CONSUMPTION-CRUDEOIL-EDOMESAIR-",null,"O4100","ENERGUSE","DOMESAIR","_Z","_Z","_Z","_Z","_Z","WEIGHT","_Z","KT"]
[null,"OIL","NGL","CONSUMPTION","EDOMESAIR",null,"Natural gas liquids",null,null,null,null,null,null,null,null,null,null,null,null,null,null,null,null,null,null,null,null,null,null,null,null,null,null,null,null,null,null,null,null,null,null,null,null,null,null,null,null,null,null,null,null,null,null,null,null,null,null,null,null,null,null,null,null,null,null,null,null,null,null,null,null,null,null,null,null,null,null,null,null,null,null,null,null,null,null,null,null,null,null,null,null,null,null,null,null,null,null,null,null,null,null,null,null,null,null,null,null,null,null,null,null,null,null,null,null,null,null,null,null,null,null,"CONSUMPTION-NGL-EDOMESAIR-",null,"O4200","ENERGUSE","DOMESAIR","_Z","_Z","_Z","_Z","_Z","WEIGHT","_Z","KT"]
[null,"OIL","REFINGAS","CONSUMPTION","EDOMESAIR",null,"Refinery gas",null,null,null,null,null,null,null,null,null,null,null,null,null,null,null,null,null,null,null,null,null,null,null,null,null,null,null,null,null,null,null,null,null,null,null,null,null,null,null,null,null,null,null,null,null,null,null,null,null,null,null,null,null,null,null,null,null,null,null,null,null,null,null,null,null,null,null,null,null,null,null,null,null,null,null,null,null,null,null,null,null,null,null,null,null,null,null,null,null,null,null,null,null,null,null,null,null,null,null,null,null,null,null,null,null,null,null,null,null,null,null,null,null,null,"CONSUMPTION-REFINGAS-EDOMESAIR-",null,"O4610","ENERGUSE","DOMESAIR","_Z","_Z","_Z","_Z","_Z","WEIGHT","_Z","KT"]
[null,"OIL","ETHANE","CONSUMPTION","EDOMESAIR",null,"Ethane",null,null,null,null,null,null,null,null,null,null,null,null,null,null,null,null,null,null,null,null,null,null,null,null,null,null,null,null,null,null,null,null,null,null,null,null,null,null,null,null,null,null,null,null,null,null,null,null,null,null,null,null,null,null,null,null,null,null,null,null,null,null,null,null,null,null,null,null,null,null,null,null,null,null,null,null,null,null,null,null,null,null,null,null,null,null,null,null,null,null,null,null,null,null,null,null,null,null,null,null,null,null,null,null,null,null,null,null,null,null,null,null,null,null,"CONSUMPTION-ETHANE-EDOMESAIR-",null,"O4620","ENERGUSE","DOMESAIR","_Z","_Z","_Z","_Z","_Z","WEIGHT","_Z","KT"]
[null,"OIL","LPG","CONSUMPTION","EDOMESAIR",null,"LPG",null,null,null,null,null,null,null,null,null,null,null,null,null,null,null,null,null,null,null,null,null,null,null,null,null,null,null,null,null,null,null,null,null,null,null,null,null,null,null,null,null,null,null,null,null,null,null,null,null,null,null,null,null,null,null,null,null,null,null,null,null,null,null,null,null,null,null,null,null,null,null,null,null,null,null,null,null,null,null,null,null,null,null,null,null,null,null,null,null,null,null,null,null,null,null,null,null,null,null,null,null,null,null,null,null,null,null,null,null,null,null,null,null,null,"CONSUMPTION-LPG-EDOMESAIR-",null,"O4630","ENERGUSE","DOMESAIR","_Z","_Z","_Z","_Z","_Z","WEIGHT","_Z","KT"]
[null,"OIL","NAPHTHA","CONSUMPTION","EDOMESAIR",null,"Naphtha",null,null,null,null,null,null,null,null,null,null,null,null,null,null,null,null,null,null,null,null,null,null,null,null,null,null,null,null,null,null,null,null,null,null,null,null,null,null,null,null,null,null,null,null,null,null,null,null,null,null,null,null,null,null,null,null,null,null,null,null,null,null,null,null,null,null,null,null,null,null,null,null,null,null,null,null,null,null,null,null,null,null,null,null,null,null,null,null,null,null,null,null,null,null,null,null,null,null,null,null,null,null,null,null,null,null,null,null,null,null,null,null,null,null,"CONSUMPTION-NAPHTHA-EDOMESAIR-",null,"O4640","ENERGUSE","DOMESAIR","_Z","_Z","_Z","_Z","_Z","WEIGHT","_Z","KT"]
[null,"OIL","BIOGASOL","CONSUMPTION","EDOMESAIR",null,"- Biogasoline",null,null,null,null,null,null,null,null,null,null,null,null,null,null,null,null,null,null,null,null,null,null,null,null,null,null,null,null,null,null,null,null,null,null,null,null,null,null,null,null,null,null,null,null,null,null,null,null,null,null,null,null,null,null,null,null,null,null,null,null,null,null,null,null,null,null,null,null,null,null,null,null,null,null,null,null,null,null,null,null,null,null,null,null,null,null,null,null,null,null,null,null,null,null,null,null,null,null,null,null,null,null,null,null,null,null,null,null,null,null,null,null,null,null,"CONSUMPTION-BIOGASOL-EDOMESAIR-",null,"R5212","ENERGUSE","DOMESAIR","_Z","_Z","_Z","_Z","_Z","WEIGHT","_Z","KT"]
[null,"OIL","NONBIOGASO","CONSUMPTION","EDOMESAIR",null,"- Non-biogasoline",null,null,null,null,null,null,null,null,null,null,null,null,null,null,null,null,null,null,null,null,null,null,null,null,null,null,null,null,null,null,null,null,null,null,null,null,null,null,null,null,null,null,null,null,null,null,null,null,null,null,null,null,null,null,null,null,null,null,null,null,null,null,null,null,null,null,null,null,null,null,null,null,null,null,null,null,null,null,null,null,null,null,null,null,null,null,null,null,null,null,null,null,null,null,null,null,null,null,null,null,null,null,null,null,null,null,null,null,null,null,null,null,null,null,"CONSUMPTION-NONBIOGASO-EDOMESAIR-",null,"O4657","ENERGUSE","DOMESAIR","_Z","_Z","_Z","_Z","_Z","WEIGHT","_Z","KT"]
[null,"OIL","AVGAS","CONSUMPTION","EDOMESAIR",null,"Aviation gasoline",null,null,null,null,null,null,null,null,null,null,null,null,null,null,null,null,null,null,null,null,null,null,null,null,null,null,null,null,null,null,null,null,null,null,null,null,null,null,null,null,null,null,null,null,null,null,null,null,null,null,null,null,null,null,null,null,null,null,null,null,null,null,null,null,null,null,null,null,null,null,null,null,null,null,null,null,null,null,null,null,null,null,null,null,null,null,null,null,null,null,null,null,null,null,null,null,null,null,null,null,null,null,null,null,null,null,null,null,null,null,null,null,null,null,"CONSUMPTION-AVGAS-EDOMESAIR-",null,"O4651","ENERGUSE","DOMESAIR","_Z","_Z","_Z","_Z","_Z","WEIGHT","_Z","KT"]
[null,"OIL","JETGAS","CONSUMPTION","EDOMESAIR",null,"Gasoline type jet fuel",null,null,null,null,null,null,null,null,null,null,null,null,null,null,null,null,null,null,null,null,null,null,null,null,null,null,null,null,null,null,null,null,null,null,null,null,null,null,null,null,null,null,null,null,null,null,null,null,null,null,null,null,null,null,null,null,null,null,null,null,null,null,null,null,null,null,null,null,null,null,null,null,null,null,null,null,null,null,null,null,null,null,null,null,null,null,null,null,null,null,null,null,null,null,null,null,null,null,null,null,null,null,null,null,null,null,null,null,null,null,null,null,null,null,"CONSUMPTION-JETGAS-EDOMESAIR-",null,"O4653","ENERGUSE","DOMESAIR","_Z","_Z","_Z","_Z","_Z","WEIGHT","_Z","KT"]
[null,"OIL","BIOJETKERO","CONSUMPTION","EDOMESAIR",null,"- Bio jet kerosene",null,null,null,null,null,null,null,null,null,null,null,null,null,null,null,null,null,null,null,null,null,null,null,null,null,null,null,null,null,null,null,null,null,null,null,null,null,null,null,null,null,null,null,null,null,null,null,null,null,null,null,null,null,null,null,null,null,null,null,null,null,null,null,null,null,null,null,null,null,null,null,null,null,null,null,null,null,null,null,null,null,null,null,null,null,null,null,null,null,null,null,null,null,null,null,null,null,null,null,null,null,null,null,null,null,null,null,null,null,null,null,null,null,null,"CONSUMPTION-BIOJETKERO-EDOMESAIR-",null,"R5232","ENERGUSE","DOMESAIR","_Z","_Z","_Z","_Z","_Z","WEIGHT","_Z","KT"]
[null,"OIL","NONBIOJETK","CONSUMPTION","EDOMESAIR",null,"- Non-bio jet kerosene",null,null,null,null,null,null,null,null,null,null,null,null,null,null,null,null,null,null,null,null,null,null,null,null,null,null,null,null,null,null,null,null,null,null,null,null,null,null,null,null,null,null,null,null,null,null,null,null,null,null,null,null,null,null,null,null,null,null,null,null,null,null,null,null,null,null,null,null,null,null,null,null,null,null,null,null,null,null,null,null,null,null,null,null,null,null,null,null,null,null,null,null,null,null,null,null,null,null,null,null,null,null,null,null,null,null,null,null,null,null,null,null,null,null,"CONSUMPTION-NONBIOJETK-EDOMESAIR-",null,"O4667","ENERGUSE","DOMESAIR","_Z","_Z","_Z","_Z","_Z","WEIGHT","_Z","KT"]
[null,"OIL","OTHKERO","CONSUMPTION","EDOMESAIR",null,"Other kerosene",null,null,null,null,null,null,null,null,null,null,null,null,null,null,null,null,null,null,null,null,null,null,null,null,null,null,null,null,null,null,null,null,null,null,null,null,null,null,null,null,null,null,null,null,null,null,null,null,null,null,null,null,null,null,null,null,null,null,null,null,null,null,null,null,null,null,null,null,null,null,null,null,null,null,null,null,null,null,null,null,null,null,null,null,null,null,null,null,null,null,null,null,null,null,null,null,null,null,null,null,null,null,null,null,null,null,null,null,null,null,null,null,null,null,"CONSUMPTION-OTHKERO-EDOMESAIR-",null,"O4669","ENERGUSE","DOMESAIR","_Z","_Z","_Z","_Z","_Z","WEIGHT","_Z","KT"]
[null,"OIL","BIODIESEL","CONSUMPTION","EDOMESAIR",null,"- Biodiesels ",null,null,null,null,null,null,null,null,null,null,null,null,null,null,null,null,null,null,null,null,null,null,null,null,null,null,null,null,null,null,null,null,null,null,null,null,null,null,null,null,null,null,null,null,null,null,null,null,null,null,null,null,null,null,null,null,null,null,null,null,null,null,null,null,null,null,null,null,null,null,null,null,null,null,null,null,null,null,null,null,null,null,null,null,null,null,null,null,null,null,null,null,null,null,null,null,null,null,null,null,null,null,null,null,null,null,null,null,null,null,null,null,null,null,"CONSUMPTION-BIODIESEL-EDOMESAIR-",null,"R5222","ENERGUSE","DOMESAIR","_Z","_Z","_Z","_Z","_Z","WEIGHT","_Z","KT"]
[null,"OIL","NONBIODIES","CONSUMPTION","EDOMESAIR",null,"- Non-bio gas/diesel oil",null,null,null,null,null,null,null,null,null,null,null,null,null,null,null,null,null,null,null,null,null,null,null,null,null,null,null,null,null,null,null,null,null,null,null,null,null,null,null,null,null,null,null,null,null,null,null,null,null,null,null,null,null,null,null,null,null,null,null,null,null,null,null,null,null,null,null,null,null,null,null,null,null,null,null,null,null,null,null,null,null,null,null,null,null,null,null,null,null,null,null,null,null,null,null,null,null,null,null,null,null,null,null,null,null,null,null,null,null,null,null,null,null,null,"CONSUMPTION-NONBIODIES-EDOMESAIR-",null,"O4677","ENERGUSE","DOMESAIR","_Z","_Z","_Z","_Z","_Z","WEIGHT","_Z","KT"]
[null,"OIL","RESFUEL","CONSUMPTION","EDOMESAIR",null,"Fuel oil",null,null,null,null,null,null,null,null,null,null,null,null,null,null,null,null,null,null,null,null,null,null,null,null,null,null,null,null,null,null,null,null,null,null,null,null,null,null,null,null,null,null,null,null,null,null,null,null,null,null,null,null,null,null,null,null,null,null,null,null,null,null,null,null,null,null,null,null,null,null,null,null,null,null,null,null,null,null,null,null,null,null,null,null,null,null,null,null,null,null,null,null,null,null,null,null,null,null,null,null,null,null,null,null,null,null,null,null,null,null,null,null,null,null,"CONSUMPTION-RESFUEL-EDOMESAIR-",null,"O4680","ENERGUSE","DOMESAIR","_Z","_Z","_Z","_Z","_Z","WEIGHT","_Z","KT"]
[null,"OIL","WHITESP","CONSUMPTION","EDOMESAIR",null,"White spirit & SBP",null,null,null,null,null,null,null,null,null,null,null,null,null,null,null,null,null,null,null,null,null,null,null,null,null,null,null,null,null,null,null,null,null,null,null,null,null,null,null,null,null,null,null,null,null,null,null,null,null,null,null,null,null,null,null,null,null,null,null,null,null,null,null,null,null,null,null,null,null,null,null,null,null,null,null,null,null,null,null,null,null,null,null,null,null,null,null,null,null,null,null,null,null,null,null,null,null,null,null,null,null,null,null,null,null,null,null,null,null,null,null,null,null,null,"CONSUMPTION-WHITESP-EDOMESAIR-",null,"O4691","ENERGUSE","DOMESAIR","_Z","_Z","_Z","_Z","_Z","WEIGHT","_Z","KT"]
[null,"OIL","LUBRIC","CONSUMPTION","EDOMESAIR",null,"Lubricants",null,null,null,null,null,null,null,null,null,null,null,null,null,null,null,null,null,null,null,null,null,null,null,null,null,null,null,null,null,null,null,null,null,null,null,null,null,null,null,null,null,null,null,null,null,null,null,null,null,null,null,null,null,null,null,null,null,null,null,null,null,null,null,null,null,null,null,null,null,null,null,null,null,null,null,null,null,null,null,null,null,null,null,null,null,null,null,null,null,null,null,null,null,null,null,null,null,null,null,null,null,null,null,null,null,null,null,null,null,null,null,null,null,null,"CONSUMPTION-LUBRIC-EDOMESAIR-",null,"O4692","ENERGUSE","DOMESAIR","_Z","_Z","_Z","_Z","_Z","WEIGHT","_Z","KT"]
[null,"OIL","BITUMEN","CONSUMPTION","EDOMESAIR",null,"Bitumen",null,null,null,null,null,null,null,null,null,null,null,null,null,null,null,null,null,null,null,null,null,null,null,null,null,null,null,null,null,null,null,null,null,null,null,null,null,null,null,null,null,null,null,null,null,null,null,null,null,null,null,null,null,null,null,null,null,null,null,null,null,null,null,null,null,null,null,null,null,null,null,null,null,null,null,null,null,null,null,null,null,null,null,null,null,null,null,null,null,null,null,null,null,null,null,null,null,null,null,null,null,null,null,null,null,null,null,null,null,null,null,null,null,null,"CONSUMPTION-BITUMEN-EDOMESAIR-",null,"O4695","ENERGUSE","DOMESAIR","_Z","_Z","_Z","_Z","_Z","WEIGHT","_Z","KT"]
[null,"OIL","PARWAX","CONSUMPTION","EDOMESAIR",null,"Paraffin waxes",null,null,null,null,null,null,null,null,null,null,null,null,null,null,null,null,null,null,null,null,null,null,null,null,null,null,null,null,null,null,null,null,null,null,null,null,null,null,null,null,null,null,null,null,null,null,null,null,null,null,null,null,null,null,null,null,null,null,null,null,null,null,null,null,null,null,null,null,null,null,null,null,null,null,null,null,null,null,null,null,null,null,null,null,null,null,null,null,null,null,null,null,null,null,null,null,null,null,null,null,null,null,null,null,null,null,null,null,null,null,null,null,null,null,"CONSUMPTION-PARWAX-EDOMESAIR-",null,"O4693","ENERGUSE","DOMESAIR","_Z","_Z","_Z","_Z","_Z","WEIGHT","_Z","KT"]
[null,"OIL","PETCOKE","CONSUMPTION","EDOMESAIR",null,"Petroleum coke",null,null,null,null,null,null,null,null,null,null,null,null,null,null,null,null,null,null,null,null,null,null,null,null,null,null,null,null,null,null,null,null,null,null,null,null,null,null,null,null,null,null,null,null,null,null,null,null,null,null,null,null,null,null,null,null,null,null,null,null,null,null,null,null,null,null,null,null,null,null,null,null,null,null,null,null,null,null,null,null,null,null,null,null,null,null,null,null,null,null,null,null,null,null,null,null,null,null,null,null,null,null,null,null,null,null,null,null,null,null,null,null,null,null,"CONSUMPTION-PETCOKE-EDOMESAIR-",null,"O4694","ENERGUSE","DOMESAIR","_Z","_Z","_Z","_Z","_Z","WEIGHT","_Z","KT"]
[null,"OIL","OPRODS","CONSUMPTION","EDOMESAIR",null,"Other oil products",null,null,null,null,null,null,null,null,null,null,null,null,null,null,null,null,null,null,null,null,null,null,null,null,null,null,null,null,null,null,null,null,null,null,null,null,null,null,null,null,null,null,null,null,null,null,null,null,null,null,null,null,null,null,null,null,null,null,null,null,null,null,null,null,null,null,null,null,null,null,null,null,null,null,null,null,null,null,null,null,null,null,null,null,null,null,null,null,null,null,null,null,null,null,null,null,null,null,null,null,null,null,null,null,null,null,null,null,null,null,null,null,null,null,"CONSUMPTION-OPRODS-EDOMESAIR-",null,"O4699","ENERGUSE","DOMESAIR","_Z","_Z","_Z","_Z","_Z","WEIGHT","_Z","KT"]
[]
[null,null,null,null,null,null,"International Marine Bunkers"]
[null,"OIL","CRUDEOIL","BALANCE","BUNKERS",null,"Crude oil",null,null,null,null,null,null,null,null,null,null,null,null,null,null,null,null,null,null,null,null,null,null,null,null,null,null,null,null,null,null,null,null,null,null,null,null,null,null,null,null,null,null,null,null,null,null,null,null,null,null,null,null,null,null,null,null,null,null,null,null,null,null,null,null,null,null,null,null,null,null,null,null,null,null,null,null,null,null,null,null,null,null,null,null,null,null,null,null,null,null,null,null,null,null,null,null,null,null,null,null,null,null,null,null,null,null,null,null,null,null,null,null,null,null,"CONSUMPTION-CRUDEOIL-EINTLAIR-",null,"O4100","MARBUNK","_Z","_Z","_Z","_Z","_Z","_Z","WEIGHT","_Z","KT"]
[null,"OIL","NGL","BALANCE","BUNKERS",null,"Natural gas liquids",null,null,null,null,null,null,null,null,null,null,null,null,null,null,null,null,null,null,null,null,null,null,null,null,null,null,null,null,null,null,null,null,null,null,null,null,null,null,null,null,null,null,null,null,null,null,null,null,null,null,null,null,null,null,null,null,null,null,null,null,null,null,null,null,null,null,null,null,null,null,null,null,null,null,null,null,null,null,null,null,null,null,null,null,null,null,null,null,null,null,null,null,null,null,null,null,null,null,null,null,null,null,null,null,null,null,null,null,null,null,null,null,null,null,"CONSUMPTION-NGL-EINTLAIR-",null,"O4200","MARBUNK","_Z","_Z","_Z","_Z","_Z","_Z","WEIGHT","_Z","KT"]
[null,"OIL","REFINGAS","BALANCE","BUNKERS",null,"Refinery gas",null,null,null,null,null,null,null,null,null,null,null,null,null,null,null,null,null,null,null,null,null,null,null,null,null,null,null,null,null,null,null,null,null,null,null,null,null,null,null,null,null,null,null,null,null,null,null,null,null,null,null,null,null,null,null,null,null,null,null,null,null,null,null,null,null,null,null,null,null,null,null,null,null,null,null,null,null,null,null,null,null,null,null,null,null,null,null,null,null,null,null,null,null,null,null,null,null,null,null,null,null,null,null,null,null,null,null,null,null,null,null,null,null,null,"CONSUMPTION-REFINGAS-EINTLAIR-",null,"O4610","MARBUNK","_Z","_Z","_Z","_Z","_Z","_Z","WEIGHT","_Z","KT"]
[null,"OIL","ETHANE","BALANCE","BUNKERS",null,"Ethane",null,null,null,null,null,null,null,null,null,null,null,null,null,null,null,null,null,null,null,null,null,null,null,null,null,null,null,null,null,null,null,null,null,null,null,null,null,null,null,null,null,null,null,null,null,null,null,null,null,null,null,null,null,null,null,null,null,null,null,null,null,null,null,null,null,null,null,null,null,null,null,null,null,null,null,null,null,null,null,null,null,null,null,null,null,null,null,null,null,null,null,null,null,null,null,null,null,null,null,null,null,null,null,null,null,null,null,null,null,null,null,null,null,null,"CONSUMPTION-ETHANE-EINTLAIR-",null,"O4620","MARBUNK","_Z","_Z","_Z","_Z","_Z","_Z","WEIGHT","_Z","KT"]
[null,"OIL","LPG","BALANCE","BUNKERS",null,"LPG",null,null,null,null,null,null,null,null,null,null,null,null,null,null,null,null,null,null,null,null,null,null,null,null,null,null,null,null,null,null,null,null,null,null,null,null,null,null,null,null,null,null,null,null,null,null,null,null,null,null,null,null,null,null,null,null,null,null,null,null,null,null,null,null,null,null,null,null,null,null,null,null,null,null,null,null,null,null,null,null,null,null,null,null,null,null,null,null,null,null,null,null,null,null,null,null,null,null,null,null,null,null,null,null,null,null,null,null,null,null,null,null,null,null,"CONSUMPTION-LPG-EINTLAIR-",null,"O4630","MARBUNK","_Z","_Z","_Z","_Z","_Z","_Z","WEIGHT","_Z","KT"]
[null,"OIL","NAPHTHA","BALANCE","BUNKERS",null,"Naphtha",null,null,null,null,null,null,null,null,null,null,null,null,null,null,null,null,null,null,null,null,null,null,null,null,null,null,null,null,null,null,null,null,null,null,null,null,null,null,null,null,null,null,null,null,null,null,null,null,null,null,null,null,null,null,null,null,null,null,null,null,null,null,null,null,null,null,null,null,null,null,null,null,null,null,null,null,null,null,null,null,null,null,null,null,null,null,null,null,null,null,null,null,null,null,null,null,null,null,null,null,null,null,null,null,null,null,null,null,null,null,null,null,null,null,"CONSUMPTION-NAPHTHA-EINTLAIR-",null,"O4640","MARBUNK","_Z","_Z","_Z","_Z","_Z","_Z","WEIGHT","_Z","KT"]
[null,"OIL","BIOGASOL","BALANCE","BUNKERS",null,"- Biogasoline",null,null,null,null,null,null,null,null,null,null,null,null,null,null,null,null,null,null,null,null,null,null,null,null,null,null,null,null,null,null,null,null,null,null,null,null,null,null,null,null,null,null,null,null,null,null,null,null,null,null,null,null,null,null,null,null,null,null,null,null,null,null,null,null,null,null,null,null,null,null,null,null,null,null,null,null,null,null,null,null,null,null,null,null,null,null,null,null,null,null,null,null,null,null,null,null,null,null,null,null,null,null,null,null,null,null,null,null,null,null,null,null,null,null,"CONSUMPTION-BIOGASOL-EINTLAIR-",null,"R5212","MARBUNK","_Z","_Z","_Z","_Z","_Z","_Z","WEIGHT","_Z","KT"]
[null,"OIL","NONBIOGASO","BALANCE","BUNKERS",null,"- Non-biogasoline",null,null,null,null,null,null,null,null,null,null,null,null,null,null,null,null,null,null,null,null,null,null,null,null,null,null,null,null,null,null,null,null,null,null,null,null,null,null,null,null,null,null,null,null,null,null,null,null,null,null,null,null,null,null,null,null,null,null,null,null,null,null,null,null,null,null,null,null,null,null,null,null,null,null,null,null,null,null,null,null,null,null,null,null,null,null,null,null,null,null,null,null,null,null,null,null,null,null,null,null,null,null,null,null,null,null,null,null,null,null,null,null,null,null,"CONSUMPTION-NONBIOGASO-EINTLAIR-",null,"O4657","MARBUNK","_Z","_Z","_Z","_Z","_Z","_Z","WEIGHT","_Z","KT"]
[null,"OIL","AVGAS","BALANCE","BUNKERS",null,"Aviation gasoline",null,null,null,null,null,null,null,null,null,null,null,null,null,null,null,null,null,null,null,null,null,null,null,null,null,null,null,null,null,null,null,null,null,null,null,null,null,null,null,null,null,null,null,null,null,null,null,null,null,null,null,null,null,null,null,null,null,null,null,null,null,null,null,null,null,null,null,null,null,null,null,null,null,null,null,null,null,null,null,null,null,null,null,null,null,null,null,null,null,null,null,null,null,null,null,null,null,null,null,null,null,null,null,null,null,null,null,null,null,null,null,null,null,null,"CONSUMPTION-AVGAS-EINTLAIR-",null,"O4651","MARBUNK","_Z","_Z","_Z","_Z","_Z","_Z","WEIGHT","_Z","KT"]
[null,"OIL","JETGAS","BALANCE","BUNKERS",null,"Gasoline type jet fuel",null,null,null,null,null,null,null,null,null,null,null,null,null,null,null,null,null,null,null,null,null,null,null,null,null,null,null,null,null,null,null,null,null,null,null,null,null,null,null,null,null,null,null,null,null,null,null,null,null,null,null,null,null,null,null,null,null,null,null,null,null,null,null,null,null,null,null,null,null,null,null,null,null,null,null,null,null,null,null,null,null,null,null,null,null,null,null,null,null,null,null,null,null,null,null,null,null,null,null,null,null,null,null,null,null,null,null,null,null,null,null,null,null,null,"CONSUMPTION-JETGAS-EINTLAIR-",null,"O4653","MARBUNK","_Z","_Z","_Z","_Z","_Z","_Z","WEIGHT","_Z","KT"]
[null,"OIL","BIOJETKERO","BALANCE","BUNKERS",null,"- Bio jet kerosene",null,null,null,null,null,null,null,null,null,null,null,null,null,null,null,null,null,null,null,null,null,null,null,null,null,null,null,null,null,null,null,null,null,null,null,null,null,null,null,null,null,null,null,null,null,null,null,null,null,null,null,null,null,null,null,null,null,null,null,null,null,null,null,null,null,null,null,null,null,null,null,null,null,null,null,null,null,null,null,null,null,null,null,null,null,null,null,null,null,null,null,null,null,null,null,null,null,null,null,null,null,null,null,null,null,null,null,null,null,null,null,null,null,null,"CONSUMPTION-BIOJETKERO-EINTLAIR-",null,"R5232","MARBUNK","_Z","_Z","_Z","_Z","_Z","_Z","WEIGHT","_Z","KT"]
[null,"OIL","NONBIOJETK","BALANCE","BUNKERS",null,"- Non-bio jet kerosene",null,null,null,null,null,null,null,null,null,null,null,null,null,null,null,null,null,null,null,null,null,null,null,null,null,null,null,null,null,null,null,null,null,null,null,null,null,null,null,null,null,null,null,null,null,null,null,null,null,null,null,null,null,null,null,null,null,null,null,null,null,null,null,null,null,null,null,null,null,null,null,null,null,null,null,null,null,null,null,null,null,null,null,null,null,null,null,null,null,null,null,null,null,null,null,null,null,null,null,null,null,null,null,null,null,null,null,null,null,null,null,null,null,null,"CONSUMPTION-NONBIOJETK-EINTLAIR-",null,"O4667","MARBUNK","_Z","_Z","_Z","_Z","_Z","_Z","WEIGHT","_Z","KT"]
[null,"OIL","OTHKERO","BALANCE","BUNKERS",null,"Other kerosene",null,null,null,null,null,null,null,null,null,null,null,null,null,null,null,null,null,null,null,null,null,null,null,null,null,null,null,null,null,null,null,null,null,null,null,null,null,null,null,null,null,null,null,null,null,null,null,null,null,null,null,null,null,null,null,null,null,null,null,null,null,null,null,null,null,null,null,null,null,null,null,null,null,null,null,null,null,null,null,null,null,null,null,null,null,null,null,null,null,null,null,null,null,null,null,null,null,null,null,null,null,null,null,null,null,null,null,null,null,null,null,null,null,null,"CONSUMPTION-OTHKERO-EINTLAIR-",null,"O4669","MARBUNK","_Z","_Z","_Z","_Z","_Z","_Z","WEIGHT","_Z","KT"]
[null,"OIL","BIODIESEL","BALANCE","BUNKERS",null,"- Biodiesels ",null,null,null,null,null,null,null,null,null,null,null,null,null,null,null,null,null,null,null,null,null,null,null,null,null,null,null,null,null,null,null,null,null,null,null,null,null,null,null,null,null,null,null,null,null,null,null,null,null,null,null,null,null,null,null,null,null,null,null,null,null,null,null,null,null,null,null,null,null,null,null,null,null,null,null,null,null,null,null,null,null,null,null,null,null,null,null,null,null,null,null,null,null,null,null,null,null,null,null,null,null,null,null,null,null,null,null,null,null,null,null,null,null,null,"CONSUMPTION-BIODIESEL-EINTLAIR-",null,"R5222","MARBUNK","_Z","_Z","_Z","_Z","_Z","_Z","WEIGHT","_Z","KT"]
[null,"OIL","NONBIODIES","BALANCE","BUNKERS",null,"- Non-bio gas/diesel oil",null,null,null,null,null,null,null,null,null,null,null,null,null,null,null,null,null,null,null,null,null,null,null,null,null,null,null,null,null,null,null,null,null,null,null,null,null,null,null,null,null,null,null,null,null,null,null,null,null,null,null,null,null,null,null,null,null,null,null,null,null,null,null,null,null,null,null,null,null,null,null,null,null,null,null,null,null,null,null,null,null,null,null,null,null,null,null,null,null,null,null,null,null,null,null,null,null,null,null,null,null,null,null,null,null,null,null,null,null,null,null,null,null,null,"CONSUMPTION-NONBIODIES-EINTLAIR-",null,"O4677","MARBUNK","_Z","_Z","_Z","_Z","_Z","_Z","WEIGHT","_Z","KT"]
[null,"OIL","RESFUEL","BALANCE","BUNKERS",null,"Fuel oil",null,null,null,null,null,null,null,null,null,null,null,null,null,null,null,null,null,null,null,null,null,null,null,null,null,null,null,null,null,null,null,null,null,null,null,null,null,null,null,null,null,null,null,null,null,null,null,null,null,null,null,null,null,null,null,null,null,null,null,null,null,null,null,null,null,null,null,null,null,null,null,null,null,null,null,null,null,null,null,null,null,null,null,null,null,null,null,null,null,null,null,null,null,null,null,null,null,null,null,null,null,null,null,null,null,null,null,null,null,null,null,null,null,null,"CONSUMPTION-RESFUEL-EINTLAIR-",null,"O4680","MARBUNK","_Z","_Z","_Z","_Z","_Z","_Z","WEIGHT","_Z","KT"]
[null,"OIL","WHITESP","BALANCE","BUNKERS",null,"White spirit & SBP",null,null,null,null,null,null,null,null,null,null,null,null,null,null,null,null,null,null,null,null,null,null,null,null,null,null,null,null,null,null,null,null,null,null,null,null,null,null,null,null,null,null,null,null,null,null,null,null,null,null,null,null,null,null,null,null,null,null,null,null,null,null,null,null,null,null,null,null,null,null,null,null,null,null,null,null,null,null,null,null,null,null,null,null,null,null,null,null,null,null,null,null,null,null,null,null,null,null,null,null,null,null,null,null,null,null,null,null,null,null,null,null,null,null,"CONSUMPTION-WHITESP-EINTLAIR-",null,"O4691","MARBUNK","_Z","_Z","_Z","_Z","_Z","_Z","WEIGHT","_Z","KT"]
[null,"OIL","LUBRIC","BALANCE","BUNKERS",null,"Lubricants",null,null,null,null,null,null,null,null,null,null,null,null,null,null,null,null,null,null,null,null,null,null,null,null,null,null,null,null,null,null,null,null,null,null,null,null,null,null,null,null,null,null,null,null,null,null,null,null,null,null,null,null,null,null,null,null,null,null,null,null,null,null,null,null,null,null,null,null,null,null,null,null,null,null,null,null,null,null,null,null,null,null,null,null,null,null,null,null,null,null,null,null,null,null,null,null,null,null,null,null,null,null,null,null,null,null,null,null,null,null,null,null,null,null,"CONSUMPTION-LUBRIC-EINTLAIR-",null,"O4692","MARBUNK","_Z","_Z","_Z","_Z","_Z","_Z","WEIGHT","_Z","KT"]
[null,"OIL","BITUMEN","BALANCE","BUNKERS",null,"Bitumen",null,null,null,null,null,null,null,null,null,null,null,null,null,null,null,null,null,null,null,null,null,null,null,null,null,null,null,null,null,null,null,null,null,null,null,null,null,null,null,null,null,null,null,null,null,null,null,null,null,null,null,null,null,null,null,null,null,null,null,null,null,null,null,null,null,null,null,null,null,null,null,null,null,null,null,null,null,null,null,null,null,null,null,null,null,null,null,null,null,null,null,null,null,null,null,null,null,null,null,null,null,null,null,null,null,null,null,null,null,null,null,null,null,null,"CONSUMPTION-BITUMEN-EINTLAIR-",null,"O4695","MARBUNK","_Z","_Z","_Z","_Z","_Z","_Z","WEIGHT","_Z","KT"]
[null,"OIL","PARWAX","BALANCE","BUNKERS",null,"Paraffin waxes",null,null,null,null,null,null,null,null,null,null,null,null,null,null,null,null,null,null,null,null,null,null,null,null,null,null,null,null,null,null,null,null,null,null,null,null,null,null,null,null,null,null,null,null,null,null,null,null,null,null,null,null,null,null,null,null,null,null,null,null,null,null,null,null,null,null,null,null,null,null,null,null,null,null,null,null,null,null,null,null,null,null,null,null,null,null,null,null,null,null,null,null,null,null,null,null,null,null,null,null,null,null,null,null,null,null,null,null,null,null,null,null,null,null,"CONSUMPTION-PARWAX-EINTLAIR-",null,"O4693","MARBUNK","_Z","_Z","_Z","_Z","_Z","_Z","WEIGHT","_Z","KT"]
[null,"OIL","PETCOKE","BALANCE","BUNKERS",null,"Petroleum coke",null,null,null,null,null,null,null,null,null,null,null,null,null,null,null,null,null,null,null,null,null,null,null,null,null,null,null,null,null,null,null,null,null,null,null,null,null,null,null,null,null,null,null,null,null,null,null,null,null,null,null,null,null,null,null,null,null,null,null,null,null,null,null,null,null,null,null,null,null,null,null,null,null,null,null,null,null,null,null,null,null,null,null,null,null,null,null,null,null,null,null,null,null,null,null,null,null,null,null,null,null,null,null,null,null,null,null,null,null,null,null,null,null,null,"CONSUMPTION-PETCOKE-EINTLAIR-",null,"O4694","MARBUNK","_Z","_Z","_Z","_Z","_Z","_Z","WEIGHT","_Z","KT"]
[null,"OIL","OPRODS","BALANCE","BUNKERS",null,"Other oil products",null,null,null,null,null,null,null,null,null,null,null,null,null,null,null,null,null,null,null,null,null,null,null,null,null,null,null,null,null,null,null,null,null,null,null,null,null,null,null,null,null,null,null,null,null,null,null,null,null,null,null,null,null,null,null,null,null,null,null,null,null,null,null,null,null,null,null,null,null,null,null,null,null,null,null,null,null,null,null,null,null,null,null,null,null,null,null,null,null,null,null,null,null,null,null,null,null,null,null,null,null,null,null,null,null,null,null,null,null,null,null,null,null,null,"CONSUMPTION-OPRODS-EINTLAIR-",null,"O4699","MARBUNK","_Z","_Z","_Z","_Z","_Z","_Z","WEIGHT","_Z","KT"]
[]
[null,null,null,null,null,null,"Domestic navigation"]
[null,"OIL","CRUDEOIL","CONSUMPTION","EDOMESNAV",null,"Crude oil",null,null,null,null,null,null,null,null,null,null,null,null,null,null,null,null,null,null,null,null,null,null,null,null,null,null,null,null,null,null,null,null,null,null,null,null,null,null,null,null,null,null,null,null,null,null,null,null,null,null,null,null,null,null,null,null,null,null,null,null,null,null,null,null,null,null,null,null,null,null,null,null,null,null,null,null,null,null,null,null,null,null,null,null,null,null,null,null,null,null,null,null,null,null,null,null,null,null,null,null,null,null,null,null,null,null,null,null,null,null,null,null,null,null,"CONSUMPTION-CRUDEOIL-EDOMESAIR-",null,"O4100","ENERGUSE","DOMESNAV","_Z","_Z","_Z","_Z","_Z","WEIGHT","_Z","KT"]
[null,"OIL","NGL","CONSUMPTION","EDOMESNAV",null,"Natural gas liquids",null,null,null,null,null,null,null,null,null,null,null,null,null,null,null,null,null,null,null,null,null,null,null,null,null,null,null,null,null,null,null,null,null,null,null,null,null,null,null,null,null,null,null,null,null,null,null,null,null,null,null,null,null,null,null,null,null,null,null,null,null,null,null,null,null,null,null,null,null,null,null,null,null,null,null,null,null,null,null,null,null,null,null,null,null,null,null,null,null,null,null,null,null,null,null,null,null,null,null,null,null,null,null,null,null,null,null,null,null,null,null,null,null,null,"CONSUMPTION-NGL-EDOMESAIR-",null,"O4200","ENERGUSE","DOMESNAV","_Z","_Z","_Z","_Z","_Z","WEIGHT","_Z","KT"]
[null,"OIL","REFINGAS","CONSUMPTION","EDOMESNAV",null,"Refinery gas",null,null,null,null,null,null,null,null,null,null,null,null,null,null,null,null,null,null,null,null,null,null,null,null,null,null,null,null,null,null,null,null,null,null,null,null,null,null,null,null,null,null,null,null,null,null,null,null,null,null,null,null,null,null,null,null,null,null,null,null,null,null,null,null,null,null,null,null,null,null,null,null,null,null,null,null,null,null,null,null,null,null,null,null,null,null,null,null,null,null,null,null,null,null,null,null,null,null,null,null,null,null,null,null,null,null,null,null,null,null,null,null,null,null,"CONSUMPTION-REFINGAS-EDOMESAIR-",null,"O4610","ENERGUSE","DOMESNAV","_Z","_Z","_Z","_Z","_Z","WEIGHT","_Z","KT"]
[null,"OIL","ETHANE","CONSUMPTION","EDOMESNAV",null,"Ethane",null,null,null,null,null,null,null,null,null,null,null,null,null,null,null,null,null,null,null,null,null,null,null,null,null,null,null,null,null,null,null,null,null,null,null,null,null,null,null,null,null,null,null,null,null,null,null,null,null,null,null,null,null,null,null,null,null,null,null,null,null,null,null,null,null,null,null,null,null,null,null,null,null,null,null,null,null,null,null,null,null,null,null,null,null,null,null,null,null,null,null,null,null,null,null,null,null,null,null,null,null,null,null,null,null,null,null,null,null,null,null,null,null,null,"CONSUMPTION-ETHANE-EDOMESAIR-",null,"O4620","ENERGUSE","DOMESNAV","_Z","_Z","_Z","_Z","_Z","WEIGHT","_Z","KT"]
[null,"OIL","LPG","CONSUMPTION","EDOMESNAV",null,"LPG",null,null,null,null,null,null,null,null,null,null,null,null,null,null,null,null,null,null,null,null,null,null,null,null,null,null,null,null,null,null,null,null,null,null,null,null,null,null,null,null,null,null,null,null,null,null,null,null,null,null,null,null,null,null,null,null,null,null,null,null,null,null,null,null,null,null,null,null,null,null,null,null,null,null,null,null,null,null,null,null,null,null,null,null,null,null,null,null,null,null,null,null,null,null,null,null,null,null,null,null,null,null,null,null,null,null,null,null,null,null,null,null,null,null,"CONSUMPTION-LPG-EDOMESAIR-",null,"O4630","ENERGUSE","DOMESNAV","_Z","_Z","_Z","_Z","_Z","WEIGHT","_Z","KT"]
[null,"OIL","NAPHTHA","CONSUMPTION","EDOMESNAV",null,"Naphtha",null,null,null,null,null,null,null,null,null,null,null,null,null,null,null,null,null,null,null,null,null,null,null,null,null,null,null,null,null,null,null,null,null,null,null,null,null,null,null,null,null,null,null,null,null,null,null,null,null,null,null,null,null,null,null,null,null,null,null,null,null,null,null,null,null,null,null,null,null,null,null,null,null,null,null,null,null,null,null,null,null,null,null,null,null,null,null,null,null,null,null,null,null,null,null,null,null,null,null,null,null,null,null,null,null,null,null,null,null,null,null,null,null,null,"CONSUMPTION-NAPHTHA-EDOMESAIR-",null,"O4640","ENERGUSE","DOMESNAV","_Z","_Z","_Z","_Z","_Z","WEIGHT","_Z","KT"]
[null,"OIL","BIOGASOL","CONSUMPTION","EDOMESNAV",null,"- Biogasoline",null,null,null,null,null,null,null,null,null,null,null,null,null,null,null,null,null,null,null,null,null,null,null,null,null,null,null,null,null,null,null,null,null,null,null,null,null,null,null,null,null,null,null,null,null,null,null,null,null,null,null,null,null,null,null,null,null,null,null,null,null,null,null,null,null,null,null,null,null,null,null,null,null,null,null,null,null,null,null,null,null,null,null,null,null,null,null,null,null,null,null,null,null,null,null,null,null,null,null,null,null,null,null,null,null,null,null,null,null,null,null,null,null,null,"CONSUMPTION-BIOGASOL-EDOMESAIR-",null,"R5212","ENERGUSE","DOMESNAV","_Z","_Z","_Z","_Z","_Z","WEIGHT","_Z","KT"]
[null,"OIL","NONBIOGASO","CONSUMPTION","EDOMESNAV",null,"- Non-biogasoline",null,null,null,null,null,null,null,null,null,null,null,null,null,null,null,null,null,null,null,null,null,null,null,null,null,null,null,null,null,null,null,null,null,null,null,null,null,null,null,null,null,null,null,null,null,null,null,null,null,null,null,null,null,null,null,null,null,null,null,null,null,null,null,null,null,null,null,null,null,null,null,null,null,null,null,null,null,null,null,null,null,null,null,null,null,null,null,null,null,null,null,null,null,null,null,null,null,null,null,null,null,null,null,null,null,null,null,null,null,null,null,null,null,null,"CONSUMPTION-NONBIOGASO-EDOMESAIR-",null,"O4657","ENERGUSE","DOMESNAV","_Z","_Z","_Z","_Z","_Z","WEIGHT","_Z","KT"]
[null,"OIL","AVGAS","CONSUMPTION","EDOMESNAV",null,"Aviation gasoline",null,null,null,null,null,null,null,null,null,null,null,null,null,null,null,null,null,null,null,null,null,null,null,null,null,null,null,null,null,null,null,null,null,null,null,null,null,null,null,null,null,null,null,null,null,null,null,null,null,null,null,null,null,null,null,null,null,null,null,null,null,null,null,null,null,null,null,null,null,null,null,null,null,null,null,null,null,null,null,null,null,null,null,null,null,null,null,null,null,null,null,null,null,null,null,null,null,null,null,null,null,null,null,null,null,null,null,null,null,null,null,null,null,null,"CONSUMPTION-AVGAS-EDOMESAIR-",null,"O4651","ENERGUSE","DOMESNAV","_Z","_Z","_Z","_Z","_Z","WEIGHT","_Z","KT"]
[null,"OIL","JETGAS","CONSUMPTION","EDOMESNAV",null,"Gasoline type jet fuel",null,null,null,null,null,null,null,null,null,null,null,null,null,null,null,null,null,null,null,null,null,null,null,null,null,null,null,null,null,null,null,null,null,null,null,null,null,null,null,null,null,null,null,null,null,null,null,null,null,null,null,null,null,null,null,null,null,null,null,null,null,null,null,null,null,null,null,null,null,null,null,null,null,null,null,null,null,null,null,null,null,null,null,null,null,null,null,null,null,null,null,null,null,null,null,null,null,null,null,null,null,null,null,null,null,null,null,null,null,null,null,null,null,null,"CONSUMPTION-JETGAS-EDOMESAIR-",null,"O4653","ENERGUSE","DOMESNAV","_Z","_Z","_Z","_Z","_Z","WEIGHT","_Z","KT"]
[null,"OIL","BIOJETKERO","CONSUMPTION","EDOMESNAV",null,"- Bio jet kerosene",null,null,null,null,null,null,null,null,null,null,null,null,null,null,null,null,null,null,null,null,null,null,null,null,null,null,null,null,null,null,null,null,null,null,null,null,null,null,null,null,null,null,null,null,null,null,null,null,null,null,null,null,null,null,null,null,null,null,null,null,null,null,null,null,null,null,null,null,null,null,null,null,null,null,null,null,null,null,null,null,null,null,null,null,null,null,null,null,null,null,null,null,null,null,null,null,null,null,null,null,null,null,null,null,null,null,null,null,null,null,null,null,null,null,"CONSUMPTION-BIOJETKERO-EDOMESAIR-",null,"R5232","ENERGUSE","DOMESNAV","_Z","_Z","_Z","_Z","_Z","WEIGHT","_Z","KT"]
[null,"OIL","NONBIOJETK","CONSUMPTION","EDOMESNAV",null,"- Non-bio jet kerosene",null,null,null,null,null,null,null,null,null,null,null,null,null,null,null,null,null,null,null,null,null,null,null,null,null,null,null,null,null,null,null,null,null,null,null,null,null,null,null,null,null,null,null,null,null,null,null,null,null,null,null,null,null,null,null,null,null,null,null,null,null,null,null,null,null,null,null,null,null,null,null,null,null,null,null,null,null,null,null,null,null,null,null,null,null,null,null,null,null,null,null,null,null,null,null,null,null,null,null,null,null,null,null,null,null,null,null,null,null,null,null,null,null,null,"CONSUMPTION-NONBIOJETK-EDOMESAIR-",null,"O4667","ENERGUSE","DOMESNAV","_Z","_Z","_Z","_Z","_Z","WEIGHT","_Z","KT"]
[null,"OIL","OTHKERO","CONSUMPTION","EDOMESNAV",null,"Other kerosene",null,null,null,null,null,null,null,null,null,null,null,null,null,null,null,null,null,null,null,null,null,null,null,null,null,null,null,null,null,null,null,null,null,null,null,null,null,null,null,null,null,null,null,null,null,null,null,null,null,null,null,null,null,null,null,null,null,null,null,null,null,null,null,null,null,null,null,null,null,null,null,null,null,null,null,null,null,null,null,null,null,null,null,null,null,null,null,null,null,null,null,null,null,null,null,null,null,null,null,null,null,null,null,null,null,null,null,null,null,null,null,null,null,null,"CONSUMPTION-OTHKERO-EDOMESAIR-",null,"O4669","ENERGUSE","DOMESNAV","_Z","_Z","_Z","_Z","_Z","WEIGHT","_Z","KT"]
[null,"OIL","BIODIESEL","CONSUMPTION","EDOMESNAV",null,"- Biodiesels ",null,null,null,null,null,null,null,null,null,null,null,null,null,null,null,null,null,null,null,null,null,null,null,null,null,null,null,null,null,null,null,null,null,null,null,null,null,null,null,null,null,null,null,null,null,null,null,null,null,null,null,null,null,null,null,null,null,null,null,null,null,null,null,null,null,null,null,null,null,null,null,null,null,null,null,null,null,null,null,null,null,null,null,null,null,null,null,null,null,null,null,null,null,null,null,null,null,null,null,null,null,null,null,null,null,null,null,null,null,null,null,null,null,null,"CONSUMPTION-BIODIESEL-EDOMESAIR-",null,"R5222","ENERGUSE","DOMESNAV","_Z","_Z","_Z","_Z","_Z","WEIGHT","_Z","KT"]
[null,"OIL","NONBIODIES","CONSUMPTION","EDOMESNAV",null,"- Non-bio gas/diesel oil",null,null,null,null,null,null,null,null,null,null,null,null,null,null,null,null,null,null,null,null,null,null,null,null,null,null,null,null,null,null,null,null,null,null,null,null,null,null,null,null,null,null,null,null,null,null,null,null,null,null,null,null,null,null,null,null,null,null,null,null,null,null,null,null,null,null,null,null,null,null,null,null,null,null,null,null,null,null,null,null,null,null,null,null,null,null,null,null,null,null,null,null,null,null,null,null,null,null,null,null,null,null,null,null,null,null,null,null,null,null,null,null,null,null,"CONSUMPTION-NONBIODIES-EDOMESAIR-",null,"O4677","ENERGUSE","DOMESNAV","_Z","_Z","_Z","_Z","_Z","WEIGHT","_Z","KT"]
[null,"OIL","RESFUEL","CONSUMPTION","EDOMESNAV",null,"Fuel oil",null,null,null,null,null,null,null,null,null,null,null,null,null,null,null,null,null,null,null,null,null,null,null,null,null,null,null,null,null,null,null,null,null,null,null,null,null,null,null,null,null,null,null,null,null,null,null,null,null,null,null,null,null,null,null,null,null,null,null,null,null,null,null,null,null,null,null,null,null,null,null,null,null,null,null,null,null,null,null,null,null,null,null,null,null,null,null,null,null,null,null,null,null,null,null,null,null,null,null,null,null,null,null,null,null,null,null,null,null,null,null,null,null,null,"CONSUMPTION-RESFUEL-EDOMESAIR-",null,"O4680","ENERGUSE","DOMESNAV","_Z","_Z","_Z","_Z","_Z","WEIGHT","_Z","KT"]
[null,"OIL","WHITESP","CONSUMPTION","EDOMESNAV",null,"White spirit & SBP",null,null,null,null,null,null,null,null,null,null,null,null,null,null,null,null,null,null,null,null,null,null,null,null,null,null,null,null,null,null,null,null,null,null,null,null,null,null,null,null,null,null,null,null,null,null,null,null,null,null,null,null,null,null,null,null,null,null,null,null,null,null,null,null,null,null,null,null,null,null,null,null,null,null,null,null,null,null,null,null,null,null,null,null,null,null,null,null,null,null,null,null,null,null,null,null,null,null,null,null,null,null,null,null,null,null,null,null,null,null,null,null,null,null,"CONSUMPTION-WHITESP-EDOMESAIR-",null,"O4691","ENERGUSE","DOMESNAV","_Z","_Z","_Z","_Z","_Z","WEIGHT","_Z","KT"]
[null,"OIL","LUBRIC","CONSUMPTION","EDOMESNAV",null,"Lubricants",null,null,null,null,null,null,null,null,null,null,null,null,null,null,null,null,null,null,null,null,null,null,null,null,null,null,null,null,null,null,null,null,null,null,null,null,null,null,null,null,null,null,null,null,null,null,null,null,null,null,null,null,null,null,null,null,null,null,null,null,null,null,null,null,null,null,null,null,null,null,null,null,null,null,null,null,null,null,null,null,null,null,null,null,null,null,null,null,null,null,null,null,null,null,null,null,null,null,null,null,null,null,null,null,null,null,null,null,null,null,null,null,null,null,"CONSUMPTION-LUBRIC-EDOMESAIR-",null,"O4692","ENERGUSE","DOMESNAV","_Z","_Z","_Z","_Z","_Z","WEIGHT","_Z","KT"]
[null,"OIL","BITUMEN","CONSUMPTION","EDOMESNAV",null,"Bitumen",null,null,null,null,null,null,null,null,null,null,null,null,null,null,null,null,null,null,null,null,null,null,null,null,null,null,null,null,null,null,null,null,null,null,null,null,null,null,null,null,null,null,null,null,null,null,null,null,null,null,null,null,null,null,null,null,null,null,null,null,null,null,null,null,null,null,null,null,null,null,null,null,null,null,null,null,null,null,null,null,null,null,null,null,null,null,null,null,null,null,null,null,null,null,null,null,null,null,null,null,null,null,null,null,null,null,null,null,null,null,null,null,null,null,"CONSUMPTION-BITUMEN-EDOMESAIR-",null,"O4695","ENERGUSE","DOMESNAV","_Z","_Z","_Z","_Z","_Z","WEIGHT","_Z","KT"]
[null,"OIL","PARWAX","CONSUMPTION","EDOMESNAV",null,"Paraffin waxes",null,null,null,null,null,null,null,null,null,null,null,null,null,null,null,null,null,null,null,null,null,null,null,null,null,null,null,null,null,null,null,null,null,null,null,null,null,null,null,null,null,null,null,null,null,null,null,null,null,null,null,null,null,null,null,null,null,null,null,null,null,null,null,null,null,null,null,null,null,null,null,null,null,null,null,null,null,null,null,null,null,null,null,null,null,null,null,null,null,null,null,null,null,null,null,null,null,null,null,null,null,null,null,null,null,null,null,null,null,null,null,null,null,null,"CONSUMPTION-PARWAX-EDOMESAIR-",null,"O4693","ENERGUSE","DOMESNAV","_Z","_Z","_Z","_Z","_Z","WEIGHT","_Z","KT"]
[null,"OIL","PETCOKE","CONSUMPTION","EDOMESNAV",null,"Petroleum coke",null,null,null,null,null,null,null,null,null,null,null,null,null,null,null,null,null,null,null,null,null,null,null,null,null,null,null,null,null,null,null,null,null,null,null,null,null,null,null,null,null,null,null,null,null,null,null,null,null,null,null,null,null,null,null,null,null,null,null,null,null,null,null,null,null,null,null,null,null,null,null,null,null,null,null,null,null,null,null,null,null,null,null,null,null,null,null,null,null,null,null,null,null,null,null,null,null,null,null,null,null,null,null,null,null,null,null,null,null,null,null,null,null,null,"CONSUMPTION-PETCOKE-EDOMESAIR-",null,"O4694","ENERGUSE","DOMESNAV","_Z","_Z","_Z","_Z","_Z","WEIGHT","_Z","KT"]
[null,"OIL","OPRODS","CONSUMPTION","EDOMESNAV",null,"Other oil products",null,null,null,null,null,null,null,null,null,null,null,null,null,null,null,null,null,null,null,null,null,null,null,null,null,null,null,null,null,null,null,null,null,null,null,null,null,null,null,null,null,null,null,null,null,null,null,null,null,null,null,null,null,null,null,null,null,null,null,null,null,null,null,null,null,null,null,null,null,null,null,null,null,null,null,null,null,null,null,null,null,null,null,null,null,null,null,null,null,null,null,null,null,null,null,null,null,null,null,null,null,null,null,null,null,null,null,null,null,null,null,null,null,null,"CONSUMPTION-OPRODS-EDOMESAIR-",null,"O4699","ENERGUSE","DOMESNAV","_Z","_Z","_Z","_Z","_Z","WEIGHT","_Z","KT"]
[]
[]
[]
[]
[]
[]
[]
[]
[]
[]
[]
[]
[]
[]
[]
[null,null,null,null,null,null,"Input of blended bioliquids for electricity and heat production"]
[null,"OIL","BIODIESEL","CONSUMPTION","EMAINELEC",null,"Biodiesel - Main activity producer electricity plants",null,null,null,null,null,null,null,null,null,null,null,null,null,null,null,null,null,null,null,null,null,null,null,null,null,null,null,null,null,null,null,null,null,null,null,null,null,null,null,null,null,null,null,null,null,null,null,null,null,null,null,null,null,null,null,null,null,null,null,null,null,null,null,null,null,null,null,null,null,null,null,null,null,null,null,null,null,null,null,null,null,null,null,null,null,null,null,null,null,null,null,null,null,null,null,null,null,null,null,null,null,null,null,null,null,null,null,null,null,null,null,null,null,null,"CONSUMPTION-BIODIESEL-EMAINELEC-",null,"R5222","TRANSFOR","_Z","_Z","MAINELEC","_Z","_Z","_Z","WEIGHT","_Z","KT"]
[null,"OIL","BIODIESEL","CONSUMPTION","EAUTOELEC",null,"Biodiesel - Main activity producer CHP plants",null,null,null,null,null,null,null,null,null,null,null,null,null,null,null,null,null,null,null,null,null,null,null,null,null,null,null,null,null,null,null,null,null,null,null,null,null,null,null,null,null,null,null,null,null,null,null,null,null,null,null,null,null,null,null,null,null,null,null,null,null,null,null,null,null,null,null,null,null,null,null,null,null,null,null,null,null,null,null,null,null,null,null,null,null,null,null,null,null,null,null,null,null,null,null,null,null,null,null,null,null,null,null,null,null,null,null,null,null,null,null,null,null,null,"CONSUMPTION-BIODIESEL-EAUTOELEC-",null,"R5222","TRANSFOR","_Z","_Z","AUTOELEC","_Z","_Z","_Z","WEIGHT","_Z","KT"]
[null,"OIL","BIODIESEL","CONSUMPTION","EMAINCHP",null,"Biodiesel - Main activity producer heat plants",null,null,null,null,null,null,null,null,null,null,null,null,null,null,null,null,null,null,null,null,null,null,null,null,null,null,null,null,null,null,null,null,null,null,null,null,null,null,null,null,null,null,null,null,null,null,null,null,null,null,null,null,null,null,null,null,null,null,null,null,null,null,null,null,null,null,null,null,null,null,null,null,null,null,null,null,null,null,null,null,null,null,null,null,null,null,null,null,null,null,null,null,null,null,null,null,null,null,null,null,null,null,null,null,null,null,null,null,null,null,null,null,null,null,"CONSUMPTION-BIODIESEL-EMAINCHP-",null,"R5222","TRANSFOR","_Z","_Z","MAINCHP","_Z","_Z","_Z","WEIGHT","_Z","KT"]
[null,"OIL","BIODIESEL","CONSUMPTION","EAUTOCHP",null,"Biodiesel - Autoproducer electricity plants",null,null,null,null,null,null,null,null,null,null,null,null,null,null,null,null,null,null,null,null,null,null,null,null,null,null,null,null,null,null,null,null,null,null,null,null,null,null,null,null,null,null,null,null,null,null,null,null,null,null,null,null,null,null,null,null,null,null,null,null,null,null,null,null,null,null,null,null,null,null,null,null,null,null,null,null,null,null,null,null,null,null,null,null,null,null,null,null,null,null,null,null,null,null,null,null,null,null,null,null,null,null,null,null,null,null,null,null,null,null,null,null,null,null,"CONSUMPTION-BIODIESEL-EAUTOCHP-",null,"R5222","TRANSFOR","_Z","_Z","AUTOCHP","_Z","_Z","_Z","WEIGHT","_Z","KT"]
[null,"OIL","BIODIESEL","CONSUMPTION","EMAINHEAT",null,"Biodiesel - Autoproducer CHP plants",null,null,null,null,null,null,null,null,null,null,null,null,null,null,null,null,null,null,null,null,null,null,null,null,null,null,null,null,null,null,null,null,null,null,null,null,null,null,null,null,null,null,null,null,null,null,null,null,null,null,null,null,null,null,null,null,null,null,null,null,null,null,null,null,null,null,null,null,null,null,null,null,null,null,null,null,null,null,null,null,null,null,null,null,null,null,null,null,null,null,null,null,null,null,null,null,null,null,null,null,null,null,null,null,null,null,null,null,null,null,null,null,null,null,"CONSUMPTION-BIODIESEL-EMAINHEAT-",null,"R5222","TRANSFOR","_Z","_Z","MAINHEAT","_Z","_Z","_Z","WEIGHT","_Z","KT"]
[null,"OIL","BIODIESEL","CONSUMPTION","EAUTOHEAT",null,"Biodiesel - Autoproducer heat plants",null,null,null,null,null,null,null,null,null,null,null,null,null,null,null,null,null,null,null,null,null,null,null,null,null,null,null,null,null,null,null,null,null,null,null,null,null,null,null,null,null,null,null,null,null,null,null,null,null,null,null,null,null,null,null,null,null,null,null,null,null,null,null,null,null,null,null,null,null,null,null,null,null,null,null,null,null,null,null,null,null,null,null,null,null,null,null,null,null,null,null,null,null,null,null,null,null,null,null,null,null,null,null,null,null,null,null,null,null,null,null,null,null,null,"CONSUMPTION-BIODIESEL-EAUTOHEAT-",null,"R5222","TRANSFOR","_Z","_Z","AUTOHEAT","_Z","_Z","_Z","WEIGHT","_Z","KT"]
[]
[null,"OIL","BIOGASOL","CONSUMPTION","EMAINELEC",null,"Biogasoline - Main activity producer electricity plants",null,null,null,null,null,null,null,null,null,null,null,null,null,null,null,null,null,null,null,null,null,null,null,null,null,null,null,null,null,null,null,null,null,null,null,null,null,null,null,null,null,null,null,null,null,null,null,null,null,null,null,null,null,null,null,null,null,null,null,null,null,null,null,null,null,null,null,null,null,null,null,null,null,null,null,null,null,null,null,null,null,null,null,null,null,null,null,null,null,null,null,null,null,null,null,null,null,null,null,null,null,null,null,null,null,null,null,null,null,null,null,null,null,null,"CONSUMPTION-BIOGASOL-EMAINELEC-",null,"R5212","TRANSFOR","_Z","_Z","MAINELEC","_Z","_Z","_Z","WEIGHT","_Z","KT"]
[null,"OIL","BIOGASOL","CONSUMPTION","EAUTOELEC",null,"Biogasoline - Main activity producer CHP plants",null,null,null,null,null,null,null,null,null,null,null,null,null,null,null,null,null,null,null,null,null,null,null,null,null,null,null,null,null,null,null,null,null,null,null,null,null,null,null,null,null,null,null,null,null,null,null,null,null,null,null,null,null,null,null,null,null,null,null,null,null,null,null,null,null,null,null,null,null,null,null,null,null,null,null,null,null,null,null,null,null,null,null,null,null,null,null,null,null,null,null,null,null,null,null,null,null,null,null,null,null,null,null,null,null,null,null,null,null,null,null,null,null,null,"CONSUMPTION-BIOGASOL-EAUTOELEC-",null,"R5212","TRANSFOR","_Z","_Z","AUTOELEC","_Z","_Z","_Z","WEIGHT","_Z","KT"]
[null,"OIL","BIOGASOL","CONSUMPTION","EMAINCHP",null,"Biogasoline - Main activity producer heat plants",null,null,null,null,null,null,null,null,null,null,null,null,null,null,null,null,null,null,null,null,null,null,null,null,null,null,null,null,null,null,null,null,null,null,null,null,null,null,null,null,null,null,null,null,null,null,null,null,null,null,null,null,null,null,null,null,null,null,null,null,null,null,null,null,null,null,null,null,null,null,null,null,null,null,null,null,null,null,null,null,null,null,null,null,null,null,null,null,null,null,null,null,null,null,null,null,null,null,null,null,null,null,null,null,null,null,null,null,null,null,null,null,null,null,"CONSUMPTION-BIOGASOL-EMAINCHP-",null,"R5212","TRANSFOR","_Z","_Z","MAINCHP","_Z","_Z","_Z","WEIGHT","_Z","KT"]
[null,"OIL","BIOGASOL","CONSUMPTION","EAUTOCHP",null,"Biogasoline - Autoproducer electricity plants",null,null,null,null,null,null,null,null,null,null,null,null,null,null,null,null,null,null,null,null,null,null,null,null,null,null,null,null,null,null,null,null,null,null,null,null,null,null,null,null,null,null,null,null,null,null,null,null,null,null,null,null,null,null,null,null,null,null,null,null,null,null,null,null,null,null,null,null,null,null,null,null,null,null,null,null,null,null,null,null,null,null,null,null,null,null,null,null,null,null,null,null,null,null,null,null,null,null,null,null,null,null,null,null,null,null,null,null,null,null,null,null,null,null,"CONSUMPTION-BIOGASOL-EAUTOCHP-",null,"R5212","TRANSFOR","_Z","_Z","AUTOCHP","_Z","_Z","_Z","WEIGHT","_Z","KT"]
[null,"OIL","BIOGASOL","CONSUMPTION","EMAINHEAT",null,"Biogasoline - Autoproducer CHP plants",null,null,null,null,null,null,null,null,null,null,null,null,null,null,null,null,null,null,null,null,null,null,null,null,null,null,null,null,null,null,null,null,null,null,null,null,null,null,null,null,null,null,null,null,null,null,null,null,null,null,null,null,null,null,null,null,null,null,null,null,null,null,null,null,null,null,null,null,null,null,null,null,null,null,null,null,null,null,null,null,null,null,null,null,null,null,null,null,null,null,null,null,null,null,null,null,null,null,null,null,null,null,null,null,null,null,null,null,null,null,null,null,null,null,"CONSUMPTION-BIOGASOL-EMAINHEAT-",null,"R5212","TRANSFOR","_Z","_Z","MAINHEAT","_Z","_Z","_Z","WEIGHT","_Z","KT"]
[null,"OIL","BIOGASOL","CONSUMPTION","EAUTOHEAT",null,"Biogasoline - Autoproducer heat plants",null,null,null,null,null,null,null,null,null,null,null,null,null,null,null,null,null,null,null,null,null,null,null,null,null,null,null,null,null,null,null,null,null,null,null,null,null,null,null,null,null,null,null,null,null,null,null,null,null,null,null,null,null,null,null,null,null,null,null,null,null,null,null,null,null,null,null,null,null,null,null,null,null,null,null,null,null,null,null,null,null,null,null,null,null,null,null,null,null,null,null,null,null,null,null,null,null,null,null,null,null,null,null,null,null,null,null,null,null,null,null,null,null,null,"CONSUMPTION-BIOGASOL-EAUTOHEAT-",null,"R5212","TRANSFOR","_Z","_Z","AUTOHEAT","_Z","_Z","_Z","WEIGHT","_Z","KT"]
[]
[null,"OIL","BIOJETKERO","CONSUMPTION","EMAINELEC",null,"Bio jet kerosene - Main activity producer electricity plants",null,null,null,null,null,null,null,null,null,null,null,null,null,null,null,null,null,null,null,null,null,null,null,null,null,null,null,null,null,null,null,null,null,null,null,null,null,null,null,null,null,null,null,null,null,null,null,null,null,null,null,null,null,null,null,null,null,null,null,null,null,null,null,null,null,null,null,null,null,null,null,null,null,null,null,null,null,null,null,null,null,null,null,null,null,null,null,null,null,null,null,null,null,null,null,null,null,null,null,null,null,null,null,null,null,null,null,null,null,null,null,null,null,null,"CONSUMPTION-BIOJETKERO-EMAINELEC-",null,"R5232","TRANSFOR","_Z","_Z","MAINELEC","_Z","_Z","_Z","WEIGHT","_Z","KT"]
[null,"OIL","BIOJETKERO","CONSUMPTION","EAUTOELEC",null,"Bio jet kerosene - Main activity producer CHP plants",null,null,null,null,null,null,null,null,null,null,null,null,null,null,null,null,null,null,null,null,null,null,null,null,null,null,null,null,null,null,null,null,null,null,null,null,null,null,null,null,null,null,null,null,null,null,null,null,null,null,null,null,null,null,null,null,null,null,null,null,null,null,null,null,null,null,null,null,null,null,null,null,null,null,null,null,null,null,null,null,null,null,null,null,null,null,null,null,null,null,null,null,null,null,null,null,null,null,null,null,null,null,null,null,null,null,null,null,null,null,null,null,null,null,"CONSUMPTION-BIOJETKERO-EAUTOELEC-",null,"R5232","TRANSFOR","_Z","_Z","AUTOELEC","_Z","_Z","_Z","WEIGHT","_Z","KT"]
[null,"OIL","BIOJETKERO","CONSUMPTION","EMAINCHP",null,"Bio jet kerosene - Main activity producer heat plants",null,null,null,null,null,null,null,null,null,null,null,null,null,null,null,null,null,null,null,null,null,null,null,null,null,null,null,null,null,null,null,null,null,null,null,null,null,null,null,null,null,null,null,null,null,null,null,null,null,null,null,null,null,null,null,null,null,null,null,null,null,null,null,null,null,null,null,null,null,null,null,null,null,null,null,null,null,null,null,null,null,null,null,null,null,null,null,null,null,null,null,null,null,null,null,null,null,null,null,null,null,null,null,null,null,null,null,null,null,null,null,null,null,null,"CONSUMPTION-BIOJETKERO-EMAINCHP-",null,"R5232","TRANSFOR","_Z","_Z","MAINCHP","_Z","_Z","_Z","WEIGHT","_Z","KT"]
[null,"OIL","BIOJETKERO","CONSUMPTION","EAUTOCHP",null,"Bio jet kerosene - Autoproducer electricity plants",null,null,null,null,null,null,null,null,null,null,null,null,null,null,null,null,null,null,null,null,null,null,null,null,null,null,null,null,null,null,null,null,null,null,null,null,null,null,null,null,null,null,null,null,null,null,null,null,null,null,null,null,null,null,null,null,null,null,null,null,null,null,null,null,null,null,null,null,null,null,null,null,null,null,null,null,null,null,null,null,null,null,null,null,null,null,null,null,null,null,null,null,null,null,null,null,null,null,null,null,null,null,null,null,null,null,null,null,null,null,null,null,null,null,"CONSUMPTION-BIOJETKERO-EAUTOCHP-",null,"R5232","TRANSFOR","_Z","_Z","AUTOCHP","_Z","_Z","_Z","WEIGHT","_Z","KT"]
[null,"OIL","BIOJETKERO","CONSUMPTION","EMAINHEAT",null,"Bio jet kerosene - Autoproducer CHP plants",null,null,null,null,null,null,null,null,null,null,null,null,null,null,null,null,null,null,null,null,null,null,null,null,null,null,null,null,null,null,null,null,null,null,null,null,null,null,null,null,null,null,null,null,null,null,null,null,null,null,null,null,null,null,null,null,null,null,null,null,null,null,null,null,null,null,null,null,null,null,null,null,null,null,null,null,null,null,null,null,null,null,null,null,null,null,null,null,null,null,null,null,null,null,null,null,null,null,null,null,null,null,null,null,null,null,null,null,null,null,null,null,null,null,"CONSUMPTION-BIOJETKERO-EMAINHEAT-",null,"R5232","TRANSFOR","_Z","_Z","MAINHEAT","_Z","_Z","_Z","WEIGHT","_Z","KT"]
[null,"OIL","BIOJETKERO","CONSUMPTION","EAUTOHEAT",null,"Bio jet kerosene - Autoproducer heat plants",null,null,null,null,null,null,null,null,null,null,null,null,null,null,null,null,null,null,null,null,null,null,null,null,null,null,null,null,null,null,null,null,null,null,null,null,null,null,null,null,null,null,null,null,null,null,null,null,null,null,null,null,null,null,null,null,null,null,null,null,null,null,null,null,null,null,null,null,null,null,null,null,null,null,null,null,null,null,null,null,null,null,null,null,null,null,null,null,null,null,null,null,null,null,null,null,null,null,null,null,null,null,null,null,null,null,null,null,null,null,null,null,null,null,"CONSUMPTION-BIOJETKERO-EAUTOHEAT-",null,"R5232","TRANSFOR","_Z","_Z","AUTOHEAT","_Z","_Z","_Z","WEIGHT","_Z","KT"]
[]
[]
[]
[]
[]
[]
[]
[]
[]
[]
[]
[]
[]
[]
[]
[]
[]
[]
[]
[]
[]
[]
[]
[]
[]
[]
[]
[]
[]
[]
[]
[]
[]
[]
[]
[]
[]
[]
[]
[]
[]
[]
[]
[]
[]
[]
[]
[]
[]
[]
[]
[]
[]
[]
[]
[]
[]
[]
[]
[]
[]
[]
[]
[]
[]
[]
[]
[]
[]
[]
[]
[]
[]
[]
[]
[]
[]
[]
[]
[]
[]
[]
[]
[]
[]
[]
[]
[]
[]
[]
[]
[]
[]
[]
[]
[]
[]
[]
[]
[]
[]
[]
[]
[]
[]
[]
[]
[]
[]
[]
[]
[]
[]
[]
[]
[]
[]
[]
[]
[]
[]
[]
[]
[]
[]
[]
[]
[]
[]
[]
[]
[]
[]
[]
[]
[]
[]
[]
[]
[]
[]
[]
[]
[]
[]
[]
[]
[]
[]
[]
[]
[]
[]
[]
[]
[]
[]
[]
[]
[]
[]
[]
[]
[]
[]
[]
[]
[]
[]
[]
[]
[]
[]
[]
[]
[]
[]
[]
[]
[]
[]
[]
[]
[]
[]
[]
[]
[]
[]
[]
[]
[]
[]
[]
[]
[]
[]
[]
[]
[]
[]
[]
[]
[]
[]
[]
[]
[]
[]
[]
[]
[]
[]
[]
[]
[]
[]
[]
[]
[]
[]
[]
[]
[]
[]
[]
[]
[]
[]
[]
[]
[]
[]
[]
[]
[]
[]
[]
[]
[]
[]
[]
[]
[]
[]
[]
[]
[]
[]
[]
[]
[]
[]
[]
[]
[]
[]
[]
[]
[]
[]
[]
[]
[]
[]
[]
[]
[]
[]
[]
[]
[]
[]
[]
[]
[]
[]
[]
[]
[]
[]
[]
[]
[]
[]
[]
[]
[]
[]
[]
[]
[]
[]
[]
[]
[]
[]
[]
[]
[]
[]
[]
[]
[]
[]
[]
[]
[]
[]
[]
[]
[]
[]
[]
[]
[]
[]
[]
[]
[]
[]
[]
[]
[]
[]
[]
[]
[]
[]
[]
[]
[]
[]
[]
[]
[]
[]
[]
[]
[]
[]
[]
[]
[]
[]
[]
[]
[]
[]
[]
[]
[]
[]
[]
[]
[]
[]
[]
[]
[]
[]
[]
[]
[]
[]
[]
[]
[]
[]
[]
[]
[]
[]
[]
[]
[]
[]
[]
[]
[]
[]
[]
[]
[]
[]
[]
[]
[]
[]
[]
[]
[]
[]
[]
[]
[]
[]
[]
[]
[]
[]
[]
[]
[]
[]
[]
[]
[]
[]
[]
[]
[]
[]
[]
[]
[]
[]
[]
[]
[]
[]
[]
[]
[]
[]
[]
[]
[]
[]
[]
[]
[]
[]
[]
[]
[]
[]
[]
[]
[]
[]
[]
[]
[]
[]
[]
[]
[]
[]
[]
[]
[]
[]
[]
[]
[]
[]
[]
[]
[]
[]
[]
[]
[]
[]
[]
[]
[]
[]
[]
[]
[]
[]
[]
[]
[]
[]
[]
[]
[]
[]
[]
[]
[]
[]
[]
[]
[]
[]
[]
[]
[]
[]
[]
[]
[]
[]
[]
[]
[]
[]
[]
[]
[]
[]
[]
[]
[]
[]
[]
[]
[]
[]
[]
[]
[]
[]
[]
[]
[]
[]
[]
[]
[]
[]
[]
[]
[]
[]
[]
[]
[]
[]
[]
[]
[]
[]
[]
[]
[]
[]
[]
[]
[]
[]
[]
[]
[]
[]
[]
[]
[]
[]
[]
[]
[]
[]
[]
[]
[]
[]
[]
[]
[]
[]
[]
[]
[]
[]
[]
[]
[]
[]
[]
[]
[]
[]
[]
[]
[]
[]
[]
[]
[]
[]
[]
[]
[]
[]
[]
[]
[]
[]
[]
[]
[]
[]
[]
[]
[]
[]
[]
[]
[]
[]
[]
[]
[]
[]
[]
[]
[]
[]
[]
[]
[]
[]
[]
[]
[]
[]
[]
[]
[]
[]
[]
[]
[]
[]
[]
[]
[]
[]
[]
[]
[]
[]
[]
[]
[]
[]
[]
[]
[]
[null,null,null,null,null,null,null,null,null,null,null,null,null,null,null,null,null,null,null,null,null,null,null,null,null,null,null,null,null,null,null,null,null,null,null,null,null,null,{"$f":"IF(AM3<=$H1001, AM3, \"\")","v":2021},{"$f":"IF(AN3<=$H1001, AN3, \"\")","v":2022},2023,2024,"","","","","","","","","","","","","","","","","","","","","","","","","",""]
[null,null,null,null,null,null,null,{"$f":"IF(MONTH(NOW())<7, YEAR(NOW())-2, YEAR(NOW())-1)","v":2024}]
[]
[]
[]
[]
[]
[]
[]
[]
[]
[]
[]
[]
[]
[]
[]
[]
[]
[]
[]
[]
[]
[]
[]
[]
[]
[]
[]
[]
[]
[]
[]
[]
[]
[]
[]
[]
[]
[]
[]
[]
[]
[]
[]
[]
[]
[]
[]
[]
[]
[]
[]
[]
[]
[]
[]
[]
[]
[]
[]
[]
[]
[]
[]
[]
[]
[]
[]
[]
[]
[]
[]
[]
[]
[]
[]
[]
[]
[]
[]
[]
[]
[]
[]
[]
[]
[]
[]
[]
[]
[]
[]
[]
[]
[]
[]
[]
[]
[]
[]
[]
[]
[]
[null,null,null,null,null,null,null,null,null,null,null,null,null,null,null,null,null,null,null,null,null,null,null,null,null,null,null,null,null,null,null,null,null,null,null,null,null,null,{"$f":"IF(AM3<=$H1105, AM3, \"\")","v":""},"","","","","","","","","","","","","","","","","","","","","","","","","","","","",""]

{"sheet":"GAS","index":10,"n_rows":1001,"n_cols":142,"rows_kept":1001,"cut":false,"hidden":false,"merged":[]}
["IMPORT","QUEST","PRODUCT","DATATYPE","ITEM1","ITEM2",null,null,null,null,null,null,null,null,null,null,null,null,null,null,null,null,null,null,null,null,null,null,null,null,null,null,null,null,null,null,null,null,"Due to different legal basis, data prior to 2021 in this tool have no legal value and are only intended for data quality checks"]
[null,null,null,null,null,null,null,null,null,null,null,null,null,null,null,null,null,null,null,null,null,null,null,null,null,null,null,null,null,null,null,null,null,null,null,null,null,null,"Please consult https://ec.europa.eu/eurostat/web/energy/data/shares for results up to 2020."]
["TIME",null,null,null,null,null,null,1990,1991,1992,1993,1994,1995,1996,1997,1998,1999,2000,2001,2002,2003,2004,2005,2006,2007,2008,2009,2010,2011,2012,2013,2014,2015,2016,2017,2018,2019,2020,2021,2022,2023,2024,2025,2026,2027,2028,2029,2030,2031,2032,2033,2034,2035,2036,2037,2038,2039,2040,2041,2042,2043,2044,2045,2046,2047,2048,2049,2050,null,null,null,null,null,null,null,null,null,null,null,null,null,null,null,null,null,null,null,null,null,null,null,null,null,null,null,null,null,null,null,null,null,null,null,null,null,null,null,null,null,null,null,null,null,null,null,null,null,null,null,null,null,null,null,null,null,null,null,null,null,null,null,null,null,null,null,null,null,"MDT and EUROBASE codes"]
[null,null,null,null,null,null,"TOTAL GFCoE [ktoe]",{"$f":"H5+H6","v":0},{"$f":"I5+I6","v":0},0,0,0,0,0,0,0,0,0,0,0,0,0,0,0,0,0,0,0,0,0,0,0,0,0,0,0,0,0,{"$f":"AM5+AM6","v":0},0,0,0,0,0,0,0,0,0,0,0,0,0,0,0,0,0,0,0,0,0,0,0,0,0,0,0,0,0,null,null,null,null,null,null,null,null,null,null,null,null,null,null,null,null,null,null,null,null,null,null,null,null,null,null,null,null,null,null,null,null,null,null,null,null,null,null,null,null,null,null,null,null,null,null,null,null,null,null,null,null,null,null,"*** DSD codes ***"]
[null,null,null,null,null,null,"- non-transport [ktoe]",{"$f":"SUM(H9:H11)*900/41868","v":0},{"$f":"SUM(I9:I11)*900/41868","v":0},0,0,0,0,0,0,0,0,0,0,0,0,0,0,0,0,0,0,{"$f":"SUM(AB9:AB11)*900/41868","v":0},0,0,0,0,0,0,0,0,0,0,{"$f":"SUM(AM9:AM11)*900/41868","v":0},0,0,0,0,0,0,0,0,0,0,0,0,0,0,0,0,0,0,0,0,0,0,0,0,0,0,0,0,0,null,null,null,null,null,null,null,null,null,null,null,null,null,null,null,null,null,null,null,null,null,null,null,null,null,null,null,null,null,null,null,null,null,null,null,null,null,null,null,null,null,null,null,null,null,null,null,null,null,null,null,null,null,null,"REF_AREA","ENERGY_PRODUCT","MAIN_FLOW","FLOW_BREAKDOWN","PLANT_TECH","PLANT_TYPE","STOCKS","INFRASTRUCTURE_IND","VIS_A_VIS_AREA","MEASURE_VALUE_TYPE","FACILITY_ID","UNIT_MEASURE",null,"Eurobase dataset","MDT","MDT","MDT","MDT","MDT","Formula for country aggregates (Agg.)"]
[null,null,null,null,null,null,"- transport [ktoe]",{"$f":"H13*900/41868","v":0},{"$f":"I13*900/41868","v":0},0,0,0,0,0,0,0,0,0,0,0,0,{"$f":"(V13*(1-V27)-V24)*900/41868","v":0},{"$f":"(W13*(1-W27)-W24)*900/41868","v":0},0,0,0,0,0,0,0,0,0,0,0,0,0,0,0,0,0,0,0,0,0,0,0,0,0,0,0,0,0,0,0,0,0,0,0,0,0,0,0,0,0,0,0,0,0]
[]
[null,null,null,null,null,null,"Natural gas consumption [TJ gross calorific value]"]
[null,"GAS","NATGASTJ","CONSUMPTION","TBLASTFUR",null,"Blast furnaces (Transformation)",null,null,null,null,null,null,null,null,null,null,null,null,null,null,null,null,null,null,null,null,null,null,null,null,null,null,null,null,null,null,null,null,null,null,null,null,null,null,null,null,null,null,null,null,null,null,null,null,null,null,null,null,null,null,null,null,null,null,null,null,null,null,null,null,null,null,null,null,null,null,null,null,null,null,null,null,null,null,null,null,null,null,null,null,null,null,null,null,null,null,null,null,null,null,null,null,null,null,null,null,null,null,null,null,null,null,null,null,null,null,null,null,null,null,"CONSUMPTION-NATGASTJ-TBLASTFUR-",null,"G3000","TRANSFOR","BLASTFUR","_Z","_Z","_Z",null,"_Z","ENERGY","_Z","TJ_GCV"]
[null,"GAS","ENERGUSETJ","CONSUMPTION","TOTIND",null,"Industry sector",null,null,null,null,null,null,null,null,null,null,null,null,null,null,null,null,null,null,null,null,null,null,null,null,null,null,null,null,null,null,null,null,null,null,null,null,null,null,null,null,null,null,null,null,null,null,null,null,null,null,null,null,null,null,null,null,null,null,null,null,null,null,null,null,null,null,null,null,null,null,null,null,null,null,null,null,null,null,null,null,null,null,null,null,null,null,null,null,null,null,null,null,null,null,null,null,null,null,null,null,null,null,null,null,null,null,null,null,null,null,null,null,null,null,"CONSUMPTION-ENERGUSETJ-TOTIND-",null,"G3000","ENERGUSE","INDUSTRY","_Z","_Z","_Z",null,"_Z","ENERGY","_Z","TJ_GCV"]
[null,"GAS","ENERGUSETJ","CONSUMPTION","TOTOTHER",null,"Other sectors",null,null,null,null,null,null,null,null,null,null,null,null,null,null,null,null,null,null,null,null,null,null,null,null,null,null,null,null,null,null,null,null,null,null,null,null,null,null,null,null,null,null,null,null,null,null,null,null,null,null,null,null,null,null,null,null,null,null,null,null,null,null,null,null,null,null,null,null,null,null,null,null,null,null,null,null,null,null,null,null,null,null,null,null,null,null,null,null,null,null,null,null,null,null,null,null,null,null,null,null,null,null,null,null,null,null,null,null,null,null,null,null,null,null,"CONSUMPTION-ENERGUSETJ-TOTOTHER-",null,"G3000","ENERGUSE","OTHSECT","_Z","_Z","_Z",null,"_Z","ENERGY","_Z","TJ_GCV"]
[]
[null,"GAS","ENERGUSETJ","CONSUMPTION","TOTTRANS",null,"Transport sector",null,null,null,null,null,null,null,null,null,null,null,null,null,null,null,null,null,null,null,null,null,null,null,null,null,null,null,null,null,null,null,null,null,null,null,null,null,null,null,null,null,null,null,null,null,null,null,null,null,null,null,null,null,null,null,null,null,null,null,null,null,null,null,null,null,null,null,null,null,null,null,null,null,null,null,null,null,null,null,null,null,null,null,null,null,null,null,null,null,null,null,null,null,null,null,null,null,null,null,null,null,null,null,null,null,null,null,null,null,null,null,null,null,null,"CONSUMPTION-ENERGUSETJ-TOTTRANS-",null,"G3000","ENERGUSE","TRANSPOR","_Z","_Z","_Z",null,"_Z","ENERGY","_Z","TJ_GCV"]
[null,"GAS","ENERGUSETJ","CONSUMPTION","RAIL",null,"Rail",null,null,null,null,null,null,null,null,null,null,null,null,null,null,null,null,null,null,null,null,null,null,null,null,null,null,null,null,null,null,null,null,null,null,null,null,null,null,null,null,null,null,null,null,null,null,null,null,null,null,null,null,null,null,null,null,null,null,null,null,null,null,null,null,null,null,null,null,null,null,null,null,null,null,null,null,null,null,null,null,null,null,null,null,null,null,null,null,null,null,null,null,null,null,null,null,null,null,null,null,null,null,null,null,null,null,null,null,null,null,null,null,null,null,"CONSUMPTION-ENERGUSETJ-ROAD-",null,"G3000","ENERGUSE","RAIL","_Z","_Z","_Z",null,"_Z","ENERGY","_Z","TJ_GCV"]
[null,"GAS","ENERGUSETJ","CONSUMPTION","ROAD",null,"Road",null,null,null,null,null,null,null,null,null,null,null,null,null,null,null,null,null,null,null,null,null,null,null,null,null,null,null,null,null,null,null,null,null,null,null,null,null,null,null,null,null,null,null,null,null,null,null,null,null,null,null,null,null,null,null,null,null,null,null,null,null,null,null,null,null,null,null,null,null,null,null,null,null,null,null,null,null,null,null,null,null,null,null,null,null,null,null,null,null,null,null,null,null,null,null,null,null,null,null,null,null,null,null,null,null,null,null,null,null,null,null,null,null,null,"CONSUMPTION-ENERGUSETJ-ROAD-",null,"G3000","ENERGUSE","ROAD","_Z","_Z","_Z",null,"_Z","ENERGY","_Z","TJ_GCV"]
[null,"GAS","ENERGUSETJ","CONSUMPTION","ROADBIOGAS",null," - of which biogas",null,null,null,null,null,null,null,null,null,null,null,null,null,null,null,null,null,null,null,null,null,null,null,null,null,null,null,null,null,null,null,null,null,null,null,null,null,null,null,null,null,null,null,null,null,null,null,null,null,null,null,null,null,null,null,null,null,null,null,null,null,null,null,null,null,null,null,null,null,null,null,null,null,null,null,null,null,null,null,null,null,null,null,null,null,null,null,null,null,null,null,null,null,null,null,null,null,null,null,null,null,null,null,null,null,null,null,null,null,null,null,null,null,null,"CONSUMPTION-ENERGUSETJ-ROADBIOGAS-",null,"R5300B","ENERGUSE","ROAD","_Z","_Z","_Z",null,"_Z","ENERGY","_Z","TJ_GCV"]
[]
[null,null,null,null,null,null,"Natural gas [TJ gross calorific value]"]
[null,"GAS","NATGASTJ","BALANCE","OSRENEW",null,"Receipts from other sources: Renewables",null,null,null,null,null,null,null,null,null,null,null,null,null,null,null,null,null,null,null,null,null,null,null,null,null,null,null,null,null,null,null,null,null,null,null,null,null,null,null,null,null,null,null,null,null,null,null,null,null,null,null,null,null,null,null,null,null,null,null,null,null,null,null,null,null,null,null,null,null,null,null,null,null,null,null,null,null,null,null,null,null,null,null,null,null,null,null,null,null,null,null,null,null,null,null,null,null,null,null,null,null,null,null,null,null,null,null,null,null,null,null,null,null,null,"BALANCE-NATGASTJ-OSRENEW-",null,"G3000","SUPPLY","OSRENEW","_Z","_Z","_Z",null,"_Z","ENERGY","_Z","TJ_GCV"]
[null,null,null,null,null,null,"Imports of biomethane in the grid: mass-balance and sustainability criteria",null,null,null,null,null,null,null,null,null,null,null,null,null,null,{"$f":"V196","v":0},{"$f":"W196","v":0},0,0,0,0,0,0,0,0,0,0,0,0,0,0,0,0,0,0,0,0,0,0,0,0,0,0,0,0,0,0,0,0,0,0,0,0,0,0,0,0,0,0,0,0,0]
[null,null,null,null,null,null,"Exports of biomethane in the grid: mass-balance and sustainability criteria",null,null,null,null,null,null,null,null,null,null,null,null,null,null,{"$f":"V367","v":0},0,0,0,0,0,0,0,0,0,0,0,0,0,0,0,0,0,0,0,0,0,0,0,0,0,0,0,0,0,0,0,0,0,0,0,0,0,0,0,0,0,0,0,0,0,{"$f":"BP367","v":0}]
[null,"GAS","NATGASTJ","BALANCE","INDCONO",null,"Inland consumption (Observed)",null,null,null,null,null,null,null,null,null,null,null,null,null,null,null,null,null,null,null,null,null,null,null,null,null,null,null,null,null,null,null,null,null,null,null,null,null,null,null,null,null,null,null,null,null,null,null,null,null,null,null,null,null,null,null,null,null,null,null,null,null,null,null,null,null,null,null,null,null,null,null,null,null,null,null,null,null,null,null,null,null,null,null,null,null,null,null,null,null,null,null,null,null,null,null,null,null,null,null,null,null,null,null,null,null,null,null,null,null,null,null,null,null,null,"BALANCE-NATGASTJ-INDCONO-",null,"G3000","DEMAND","INLDEMO","_Z","_Z","_Z",null,"_Z","ENERGY","_Z","TJ_GCV"]
[null,null,null,null,null,null,"Share of biogas in natural gas grid (%)",{"$f":"IF(H22>0,(H19+H20-H21)/H22,0)","v":0},{"$f":"IF(I22>0,(I19+I20-I21)/I22,0)","v":0},0,0,0,0,0,0,0,0,{"$f":"IF(R22>0,(R19+R20-R21)/R22,0)","v":0},{"$f":"IF(S22>0,(S19+S20-S21)/S22,0)","v":0},{"$f":"IF(T22>0,(T19+T20-T21)/T22,0)","v":0},{"$f":"IF(U22>0,(U19+U20-U21)/U22,0)","v":0},{"$f":"IF(V22>0,(V19+V20-V21)/V22,0)","v":0},{"$f":"IF(W22>0,(W19+W20-W21)/W22,0)","v":0},0,0,0,0,0,0,0,0,0,0,{"$f":"IF(AH22>0,(AH19+AH20-AH21)/AH22,0)","v":0},0,0,0,0,0,0,0,0,0,0,0,0,0,0,0,0,0,0,0,0,0,0,0,0,0,0,0,0,0,0,0,0,0,{"$f":"IF(BP22>0,(BP19+BP20-BP21)/BP22,0)","v":0},null,null,null,null,null,null,null,null,null,null,null,null,null,null,null,null,null,null,null,null,null,null,null,null,null,null,null,null,null,null,null,null,null,null,null,null,null,null,null,null,null,null,null,null,null,null,null,null,null,null,null,null,null,null,null,"R5300B","ENERGUSE",{"$f":"EI23","v":"BIOG_G_SHR"},"_Z","_Z","_Z","_Z","_Z","NUMBER","_Z","PC",null,"nrg_ind_cotd","TIMESERIES","R5300B","BIOG_G_SHR","_Z","PC","Agg.=100*[SUM(countries row 19+20-21)/SUM(countries row 22)]"]
[null,null,null,null,null,null,"Biomethane injected in the grid to be accounted towards transport",null,null,null,null,null,null,null,null,null,null,null,null,null,null,0,0,0,0,0,0,0,0,0,0,0,0,0,0,0,0,0,0,0,0,0,0,0,0,0,0,0,0,0,0,0,0,0,0,0,0,0,0,0,0,0,0,0,0,0,0,0,null,null,null,null,null,null,null,null,null,null,null,null,null,null,null,null,null,null,null,null,null,null,null,null,null,null,null,null,null,null,null,null,null,null,null,null,null,null,null,null,null,null,null,null,null,null,null,null,null,null,null,null,null,null,null,"R5301SB","ENERGUSE",{"$f":"EI24","v":"BIOG_G_TRA"},"_Z","_Z","_Z","_Z","_Z","ENERGY","_Z","TJ_GCV",null,"nrg_ind_cotd","TIMESERIES","R5301SB","BIOG_G_TRA","_Z","TJ_GCV","Agg.=SUM(countries)"]
[null,null,null,null,null,null,"Biomethane injected in the grid to be accounted towards electricity",null,null,null,null,null,null,null,null,null,null,null,null,null,null,0,0,0,0,0,0,0,0,0,0,0,0,0,0,0,0,0,0,0,0,0,0,0,0,0,0,0,0,0,0,0,0,0,0,0,0,0,0,0,0,0,0,0,0,0,0,0,null,null,null,null,null,null,null,null,null,null,null,null,null,null,null,null,null,null,null,null,null,null,null,null,null,null,null,null,null,null,null,null,null,null,null,null,null,null,null,null,null,null,null,null,null,null,null,null,null,null,null,null,null,null,null,"R5301SB","ENERGUSE",{"$f":"EI25","v":"BIOG_G_ELC"},"_Z","_Z","_Z","_Z","_Z","ENERGY","_Z","TJ_GCV",null,"nrg_ind_cotd","TIMESERIES","R5301SB","BIOG_G_ELC","_Z","TJ_GCV","Agg.=SUM(countries)"]
[null,null,null,null,null,null,"Biomethane injected in the grid to be accounted towards heating and cooling",null,null,null,null,null,null,null,null,null,null,null,null,null,null,0,0,0,0,0,0,0,0,0,0,0,0,0,0,0,0,0,0,0,0,0,0,0,0,0,0,0,0,0,0,0,0,0,0,0,0,0,0,0,0,0,0,0,0,0,0,0,null,null,null,null,null,null,null,null,null,null,null,null,null,null,null,null,null,null,null,null,null,null,null,null,null,null,null,null,null,null,null,null,null,null,null,null,null,null,null,null,null,null,null,null,null,null,null,null,null,null,null,null,null,null,null,"R5301SB","ENERGUSE","BIOG_G_HEAT_CL","_Z","_Z","_Z","_Z","_Z","ENERGY","_Z","TJ_GCV",null,"nrg_ind_cotd","TIMESERIES","R5301SB","BIOG_G_HEAT_CL","_Z","TJ_GCV","Agg.=SUM(countries)"]
[null,null,null,null,null,null,"Adjusted share of biogas in the grid (%)",null,null,null,null,null,null,null,null,null,null,null,null,null,null,{"$f":"IF(V22>0,(V19+V20-V21-V24-V25-V26)/V22,0)","v":0},{"$f":"IF(W22>0,(W19+W20-W21-W24-W25-W26)/W22,0)","v":0},0,0,0,0,0,0,0,0,0,0,0,0,0,0,0,0,0,0,0,0,0,0,0,0,0,0,0,0,0,0,0,0,0,0,0,0,0,0,0,0,{"$f":"IF(BL22>0,(BL19+BL20-BL21-BL24-BL25-BL26)/BL22,0)","v":0},0,0,0,0,null,null,null,null,null,null,null,null,null,null,null,null,null,null,null,null,null,null,null,null,null,null,null,null,null,null,null,null,null,null,null,null,null,null,null,null,null,null,null,null,null,null,null,null,null,null,null,null,null,null,null,null,null,null,null,"R5300B","ENERGUSE",{"$f":"EI27","v":"BIOG_G_ADJSHR"},"_Z","_Z","_Z","_Z","_Z","NUMBER","_Z","PC",null,"nrg_ind_cotd","TIMESERIES","R5300B","BIOG_G_ADJSHR","_Z","PC","Agg.=100*[(SUM(countries row 19+20)-SUM(countries row 21,24,25,26))/SUM(countries row 22)]"]
[null,null,null,null,null,null,"Share of biomethane in road tranport (%)",null,null,null,null,null,null,null,null,null,null,null,null,null,null,{"$f":"IFERROR((REN!V115+GAS!V24+V27*(V15))/(GAS!V15+REN!V115),0)","v":0},{"$f":"IFERROR((REN!W115+GAS!W24+W27*(W15))/(GAS!W15+REN!W115),0)","v":0},{"$f":"IFERROR((REN!X115+GAS!X24+X27*(X15))/(GAS!X15+REN!X115),0)","v":0},{"$f":"IFERROR((REN!Y115+GAS!Y24+Y27*(Y15))/(GAS!Y15+REN!Y115),0)","v":0},{"$f":"IFERROR((REN!Z115+GAS!Z24+Z27*(Z15))/(GAS!Z15+REN!Z115),0)","v":0},{"$f":"IFERROR((REN!AA115+GAS!AA24+AA27*(AA15))/(GAS!AA15+REN!AA115),0)","v":0},{"$f":"IFERROR((REN!AB115+GAS!AB24+AB27*(AB15))/(GAS!AB15+REN!AB115),0)","v":0},{"$f":"IFERROR((REN!AC115+GAS!AC24+AC27*(AC15))/(GAS!AC15+REN!AC115),0)","v":0},{"$f":"IFERROR((REN!AD115+GAS!AD24+AD27*(AD15))/(GAS!AD15+REN!AD115),0)","v":0},{"$f":"IFERROR((REN!AE115+GAS!AE24+AE27*(AE15))/(GAS!AE15+REN!AE115),0)","v":0},{"$f":"IFERROR((REN!AF115+GAS!AF24+AF27*(AF15))/(GAS!AF15+REN!AF115),0)","v":0},{"$f":"IFERROR((REN!AG115+GAS!AG24+AG27*(AG15))/(GAS!AG15+REN!AG115),0)","v":0},{"$f":"IFERROR((REN!AH115+GAS!AH24+AH27*(AH15))/(GAS!AH15+REN!AH115),0)","v":0},{"$f":"IFERROR((REN!AI115+GAS!AI24+AI27*(AI15))/(GAS!AI15+REN!AI115),0)","v":0},{"$f":"IFERROR((REN!AJ115+GAS!AJ24+AJ27*(AJ15))/(GAS!AJ15+REN!AJ115),0)","v":0},{"$f":"IFERROR((REN!AK115+GAS!AK24+AK27*(AK15))/(GAS!AK15+REN!AK115),0)","v":0},{"$f":"IFERROR((REN!AL115+GAS!AL24+AL27*(AL15))/(GAS!AL15+REN!AL115),0)","v":0},{"$f":"IFERROR((REN!AM115+GAS!AM24+AM27*(AM15))/(GAS!AM15+REN!AM115),0)","v":0},{"$f":"IFERROR((REN!AN115+GAS!AN24+AN27*(AN15))/(GAS!AN15+REN!AN115),0)","v":0},{"$f":"IFERROR((REN!AO115+GAS!AO24+AO27*(AO15))/(GAS!AO15+REN!AO115),0)","v":0},{"$f":"IFERROR((REN!AP115+GAS!AP24+AP27*(AP15))/(GAS!AP15+REN!AP115),0)","v":0},{"$f":"IFERROR((REN!AQ115+GAS!AQ24+AQ27*(AQ15))/(GAS!AQ15+REN!AQ115),0)","v":0},{"$f":"IFERROR((REN!AR115+GAS!AR24+AR27*(AR15))/(GAS!AR15+REN!AR115),0)","v":0},{"$f":"IFERROR((REN!AS115+GAS!AS24+AS27*(AS15))/(GAS!AS15+REN!AS115),0)","v":0},{"$f":"IFERROR((REN!AT115+GAS!AT24+AT27*(AT15))/(GAS!AT15+REN!AT115),0)","v":0},{"$f":"IFERROR((REN!AU115+GAS!AU24+AU27*(AU15))/(GAS!AU15+REN!AU115),0)","v":0},{"$f":"IFERROR((REN!AV115+GAS!AV24+AV27*(AV15))/(GAS!AV15+REN!AV115),0)","v":0},{"$f":"IFERROR((REN!AW115+GAS!AW24+AW27*(AW15))/(GAS!AW15+REN!AW115),0)","v":0},{"$f":"IFERROR((REN!AX115+GAS!AX24+AX27*(AX15))/(GAS!AX15+REN!AX115),0)","v":0},{"$f":"IFERROR((REN!AY115+GAS!AY24+AY27*(AY15))/(GAS!AY15+REN!AY115),0)","v":0},{"$f":"IFERROR((REN!AZ115+GAS!AZ24+AZ27*(AZ15))/(GAS!AZ15+REN!AZ115),0)","v":0},{"$f":"IFERROR((REN!BA115+GAS!BA24+BA27*(BA15))/(GAS!BA15+REN!BA115),0)","v":0},{"$f":"IFERROR((REN!BB115+GAS!BB24+BB27*(BB15))/(GAS!BB15+REN!BB115),0)","v":0},{"$f":"IFERROR((REN!BC115+GAS!BC24+BC27*(BC15))/(GAS!BC15+REN!BC115),0)","v":0},{"$f":"IFERROR((REN!BD115+GAS!BD24+BD27*(BD15))/(GAS!BD15+REN!BD115),0)","v":0},{"$f":"IFERROR((REN!BE115+GAS!BE24+BE27*(BE15))/(GAS!BE15+REN!BE115),0)","v":0},{"$f":"IFERROR((REN!BF115+GAS!BF24+BF27*(BF15))/(GAS!BF15+REN!BF115),0)","v":0},{"$f":"IFERROR((REN!BG115+GAS!BG24+BG27*(BG15))/(GAS!BG15+REN!BG115),0)","v":0},{"$f":"IFERROR((REN!BH115+GAS!BH24+BH27*(BH15))/(GAS!BH15+REN!BH115),0)","v":0},{"$f":"IFERROR((REN!BI115+GAS!BI24+BI27*(BI15))/(GAS!BI15+REN!BI115),0)","v":0},{"$f":"IFERROR((REN!BJ115+GAS!BJ24+BJ27*(BJ15))/(GAS!BJ15+REN!BJ115),0)","v":0},{"$f":"IFERROR((REN!BK115+GAS!BK24+BK27*(BK15))/(GAS!BK15+REN!BK115),0)","v":0},{"$f":"IFERROR((REN!BL115+GAS!BL24+BL27*(BL15))/(GAS!BL15+REN!BL115),0)","v":0},{"$f":"IFERROR((REN!BM115+GAS!BM24+BM27*(BM15))/(GAS!BM15+REN!BM115),0)","v":0},{"$f":"IFERROR((REN!BN115+GAS!BN24+BN27*(BN15))/(GAS!BN15+REN!BN115),0)","v":0},{"$f":"IFERROR((REN!BO115+GAS!BO24+BO27*(BO15))/(GAS!BO15+REN!BO115),0)","v":0},{"$f":"IFERROR((REN!BP115+GAS!BP24+BP27*(BP15))/(GAS!BP15+REN!BP115),0)","v":0}]
[null,null,null,null,null,null,null,null,null,null,null,null,null,null,null,null,null,null,null,null,null,{"$f":"IF(OR(V24>V19,V24>V15),\"too much\",\"\")","v":""},"","","","","","","","","","","","","","","","","","","","","","","","","","","","","","","","","","","","","","","","","","","","","",""]
[null,null,null,null,null,null,"Imports of biomethane in the grid by country (TJ gross calorific value)"]
[null,null,null,null,null,null,"Mass-balance and sustainability criteria"]
[null,null,null,null,null,null,"Albania",null,null,null,null,null,null,null,null,null,null,null,null,null,null,0,0,0,0,0,0,0,0,0,0,0,0,0,0,0,0,0,0,0,0,0,0,0,0,0,0,0,0,0,0,0,0,0,0,0,0,0,0,0,0,0,0,0,0,0,0,0,null,null,null,null,null,null,null,null,null,null,null,null,null,null,null,null,null,null,null,null,null,null,null,null,null,null,null,null,null,null,null,null,null,null,null,null,null,null,null,null,null,null,null,null,null,null,null,null,null,null,null,null,null,null,null,"R5300SB","IMPORTS","_Z","_Z","_Z","_Z","_Z","AL","ENERGY","_Z","TJ_GCV",null,"nrg_ind_ibmg","TRADE","R5300SB","IMP","AL","TJ_GCV","Agg.=SUM(countries)"]
[null,null,null,null,null,null,"Algeria",null,null,null,null,null,null,null,null,null,null,null,null,null,null,0,0,0,0,0,0,0,0,0,0,0,0,0,0,0,0,0,0,0,0,0,0,0,0,0,0,0,0,0,0,0,0,0,0,0,0,0,0,0,0,0,0,0,0,0,0,0,null,null,null,null,null,null,null,null,null,null,null,null,null,null,null,null,null,null,null,null,null,null,null,null,null,null,null,null,null,null,null,null,null,null,null,null,null,null,null,null,null,null,null,null,null,null,null,null,null,null,null,null,null,null,null,"R5300SB","IMPORTS","_Z","_Z","_Z","_Z","_Z","DZ","ENERGY","_Z","TJ_GCV",null,"nrg_ind_ibmg","TRADE","R5300SB","IMP","DZ","TJ_GCV","Agg.=SUM(countries)"]
[null,null,null,null,null,null,"Andorra",null,null,null,null,null,null,null,null,null,null,null,null,null,null,0,0,0,0,0,0,0,0,0,0,0,0,0,0,0,0,0,0,0,0,0,0,0,0,0,0,0,0,0,0,0,0,0,0,0,0,0,0,0,0,0,0,0,0,0,0,0,null,null,null,null,null,null,null,null,null,null,null,null,null,null,null,null,null,null,null,null,null,null,null,null,null,null,null,null,null,null,null,null,null,null,null,null,null,null,null,null,null,null,null,null,null,null,null,null,null,null,null,null,null,null,null,"R5300SB","IMPORTS","_Z","_Z","_Z","_Z","_Z","AD","ENERGY","_Z","TJ_GCV",null,"nrg_ind_ibmg","TRADE","R5300SB","IMP","AD","TJ_GCV","Agg.=SUM(countries)"]
[null,null,null,null,null,null,"Angola",null,null,null,null,null,null,null,null,null,null,null,null,null,null,0,0,0,0,0,0,0,0,0,0,0,0,0,0,0,0,0,0,0,0,0,0,0,0,0,0,0,0,0,0,0,0,0,0,0,0,0,0,0,0,0,0,0,0,0,0,0,null,null,null,null,null,null,null,null,null,null,null,null,null,null,null,null,null,null,null,null,null,null,null,null,null,null,null,null,null,null,null,null,null,null,null,null,null,null,null,null,null,null,null,null,null,null,null,null,null,null,null,null,null,null,null,"R5300SB","IMPORTS","_Z","_Z","_Z","_Z","_Z","AO","ENERGY","_Z","TJ_GCV",null,"nrg_ind_ibmg","TRADE","R5300SB","IMP","AO","TJ_GCV","Agg.=SUM(countries)"]
[null,null,null,null,null,null,"Argentina",null,null,null,null,null,null,null,null,null,null,null,null,null,null,0,0,0,0,0,0,0,0,0,0,0,0,0,0,0,0,0,0,0,0,0,0,0,0,0,0,0,0,0,0,0,0,0,0,0,0,0,0,0,0,0,0,0,0,0,0,0,null,null,null,null,null,null,null,null,null,null,null,null,null,null,null,null,null,null,null,null,null,null,null,null,null,null,null,null,null,null,null,null,null,null,null,null,null,null,null,null,null,null,null,null,null,null,null,null,null,null,null,null,null,null,null,"R5300SB","IMPORTS","_Z","_Z","_Z","_Z","_Z","AR","ENERGY","_Z","TJ_GCV",null,"nrg_ind_ibmg","TRADE","R5300SB","IMP","AR","TJ_GCV","Agg.=SUM(countries)"]
[null,null,null,null,null,null,"Armenia",null,null,null,null,null,null,null,null,null,null,null,null,null,null,0,0,0,0,0,0,0,0,0,0,0,0,0,0,0,0,0,0,0,0,0,0,0,0,0,0,0,0,0,0,0,0,0,0,0,0,0,0,0,0,0,0,0,0,0,0,0,null,null,null,null,null,null,null,null,null,null,null,null,null,null,null,null,null,null,null,null,null,null,null,null,null,null,null,null,null,null,null,null,null,null,null,null,null,null,null,null,null,null,null,null,null,null,null,null,null,null,null,null,null,null,null,"R5300SB","IMPORTS","_Z","_Z","_Z","_Z","_Z","AM","ENERGY","_Z","TJ_GCV",null,"nrg_ind_ibmg","TRADE","R5300SB","IMP","AM","TJ_GCV","Agg.=SUM(countries)"]
[null,null,null,null,null,null,"Aruba",null,null,null,null,null,null,null,null,null,null,null,null,null,null,0,0,0,0,0,0,0,0,0,0,0,0,0,0,0,0,0,0,0,0,0,0,0,0,0,0,0,0,0,0,0,0,0,0,0,0,0,0,0,0,0,0,0,0,0,0,0,null,null,null,null,null,null,null,null,null,null,null,null,null,null,null,null,null,null,null,null,null,null,null,null,null,null,null,null,null,null,null,null,null,null,null,null,null,null,null,null,null,null,null,null,null,null,null,null,null,null,null,null,null,null,null,"R5300SB","IMPORTS","_Z","_Z","_Z","_Z","_Z","AW","ENERGY","_Z","TJ_GCV",null,"nrg_ind_ibmg","TRADE","R5300SB","IMP","AW","TJ_GCV","Agg.=SUM(countries)"]
[null,null,null,null,null,null,"Australia",null,null,null,null,null,null,null,null,null,null,null,null,null,null,0,0,0,0,0,0,0,0,0,0,0,0,0,0,0,0,0,0,0,0,0,0,0,0,0,0,0,0,0,0,0,0,0,0,0,0,0,0,0,0,0,0,0,0,0,0,0,null,null,null,null,null,null,null,null,null,null,null,null,null,null,null,null,null,null,null,null,null,null,null,null,null,null,null,null,null,null,null,null,null,null,null,null,null,null,null,null,null,null,null,null,null,null,null,null,null,null,null,null,null,null,null,"R5300SB","IMPORTS","_Z","_Z","_Z","_Z","_Z","AU","ENERGY","_Z","TJ_GCV",null,"nrg_ind_ibmg","TRADE","R5300SB","IMP","AU","TJ_GCV","Agg.=SUM(countries)"]
[null,null,null,null,null,null,"Austria",null,null,null,null,null,null,null,null,null,null,null,null,null,null,0,0,0,0,0,0,0,0,0,0,0,0,0,0,0,0,0,0,0,0,0,0,0,0,0,0,0,0,0,0,0,0,0,0,0,0,0,0,0,0,0,0,0,0,0,0,0,null,null,null,null,null,null,null,null,null,null,null,null,null,null,null,null,null,null,null,null,null,null,null,null,null,null,null,null,null,null,null,null,null,null,null,null,null,null,null,null,null,null,null,null,null,null,null,null,null,null,null,null,null,null,null,"R5300SB","IMPORTS","_Z","_Z","_Z","_Z","_Z","AT","ENERGY","_Z","TJ_GCV",null,"nrg_ind_ibmg","TRADE","R5300SB","IMP","AT","TJ_GCV","Agg.=SUM(countries)"]
[null,null,null,null,null,null,"Azerbaijan",null,null,null,null,null,null,null,null,null,null,null,null,null,null,0,0,0,0,0,0,0,0,0,0,0,0,0,0,0,0,0,0,0,0,0,0,0,0,0,0,0,0,0,0,0,0,0,0,0,0,0,0,0,0,0,0,0,0,0,0,0,null,null,null,null,null,null,null,null,null,null,null,null,null,null,null,null,null,null,null,null,null,null,null,null,null,null,null,null,null,null,null,null,null,null,null,null,null,null,null,null,null,null,null,null,null,null,null,null,null,null,null,null,null,null,null,"R5300SB","IMPORTS","_Z","_Z","_Z","_Z","_Z","AZ","ENERGY","_Z","TJ_GCV",null,"nrg_ind_ibmg","TRADE","R5300SB","IMP","AZ","TJ_GCV","Agg.=SUM(countries)"]
[null,null,null,null,null,null,"Bahamas",null,null,null,null,null,null,null,null,null,null,null,null,null,null,0,0,0,0,0,0,0,0,0,0,0,0,0,0,0,0,0,0,0,0,0,0,0,0,0,0,0,0,0,0,0,0,0,0,0,0,0,0,0,0,0,0,0,0,0,0,0,null,null,null,null,null,null,null,null,null,null,null,null,null,null,null,null,null,null,null,null,null,null,null,null,null,null,null,null,null,null,null,null,null,null,null,null,null,null,null,null,null,null,null,null,null,null,null,null,null,null,null,null,null,null,null,"R5300SB","IMPORTS","_Z","_Z","_Z","_Z","_Z","BS","ENERGY","_Z","TJ_GCV",null,"nrg_ind_ibmg","TRADE","R5300SB","IMP","BS","TJ_GCV","Agg.=SUM(countries)"]
[null,null,null,null,null,null,"Bahrain",null,null,null,null,null,null,null,null,null,null,null,null,null,null,0,0,0,0,0,0,0,0,0,0,0,0,0,0,0,0,0,0,0,0,0,0,0,0,0,0,0,0,0,0,0,0,0,0,0,0,0,0,0,0,0,0,0,0,0,0,0,null,null,null,null,null,null,null,null,null,null,null,null,null,null,null,null,null,null,null,null,null,null,null,null,null,null,null,null,null,null,null,null,null,null,null,null,null,null,null,null,null,null,null,null,null,null,null,null,null,null,null,null,null,null,null,"R5300SB","IMPORTS","_Z","_Z","_Z","_Z","_Z","BH","ENERGY","_Z","TJ_GCV",null,"nrg_ind_ibmg","TRADE","R5300SB","IMP","BH","TJ_GCV","Agg.=SUM(countries)"]
[null,null,null,null,null,null,"Bangladesh",null,null,null,null,null,null,null,null,null,null,null,null,null,null,0,0,0,0,0,0,0,0,0,0,0,0,0,0,0,0,0,0,0,0,0,0,0,0,0,0,0,0,0,0,0,0,0,0,0,0,0,0,0,0,0,0,0,0,0,0,0,null,null,null,null,null,null,null,null,null,null,null,null,null,null,null,null,null,null,null,null,null,null,null,null,null,null,null,null,null,null,null,null,null,null,null,null,null,null,null,null,null,null,null,null,null,null,null,null,null,null,null,null,null,null,null,"R5300SB","IMPORTS","_Z","_Z","_Z","_Z","_Z","BD","ENERGY","_Z","TJ_GCV",null,"nrg_ind_ibmg","TRADE","R5300SB","IMP","BD","TJ_GCV","Agg.=SUM(countries)"]
[null,null,null,null,null,null,"Barbados",null,null,null,null,null,null,null,null,null,null,null,null,null,null,0,0,0,0,0,0,0,0,0,0,0,0,0,0,0,0,0,0,0,0,0,0,0,0,0,0,0,0,0,0,0,0,0,0,0,0,0,0,0,0,0,0,0,0,0,0,0,null,null,null,null,null,null,null,null,null,null,null,null,null,null,null,null,null,null,null,null,null,null,null,null,null,null,null,null,null,null,null,null,null,null,null,null,null,null,null,null,null,null,null,null,null,null,null,null,null,null,null,null,null,null,null,"R5300SB","IMPORTS","_Z","_Z","_Z","_Z","_Z","BB","ENERGY","_Z","TJ_GCV",null,"nrg_ind_ibmg","TRADE","R5300SB","IMP","BB","TJ_GCV","Agg.=SUM(countries)"]
[null,null,null,null,null,null,"Belarus",null,null,null,null,null,null,null,null,null,null,null,null,null,null,0,0,0,0,0,0,0,0,0,0,0,0,0,0,0,0,0,0,0,0,0,0,0,0,0,0,0,0,0,0,0,0,0,0,0,0,0,0,0,0,0,0,0,0,0,0,0,null,null,null,null,null,null,null,null,null,null,null,null,null,null,null,null,null,null,null,null,null,null,null,null,null,null,null,null,null,null,null,null,null,null,null,null,null,null,null,null,null,null,null,null,null,null,null,null,null,null,null,null,null,null,null,"R5300SB","IMPORTS","_Z","_Z","_Z","_Z","_Z","BY","ENERGY","_Z","TJ_GCV",null,"nrg_ind_ibmg","TRADE","R5300SB","IMP","BY","TJ_GCV","Agg.=SUM(countries)"]
[null,null,null,null,null,null,"Belgium",null,null,null,null,null,null,null,null,null,null,null,null,null,null,0,0,0,0,0,0,0,0,0,0,0,0,0,0,0,0,0,0,0,0,0,0,0,0,0,0,0,0,0,0,0,0,0,0,0,0,0,0,0,0,0,0,0,0,0,0,0,null,null,null,null,null,null,null,null,null,null,null,null,null,null,null,null,null,null,null,null,null,null,null,null,null,null,null,null,null,null,null,null,null,null,null,null,null,null,null,null,null,null,null,null,null,null,null,null,null,null,null,null,null,null,null,"R5300SB","IMPORTS","_Z","_Z","_Z","_Z","_Z","BE","ENERGY","_Z","TJ_GCV",null,"nrg_ind_ibmg","TRADE","R5300SB","IMP","BE","TJ_GCV","Agg.=SUM(countries)"]
[null,null,null,null,null,null,"Belize",null,null,null,null,null,null,null,null,null,null,null,null,null,null,0,0,0,0,0,0,0,0,0,0,0,0,0,0,0,0,0,0,0,0,0,0,0,0,0,0,0,0,0,0,0,0,0,0,0,0,0,0,0,0,0,0,0,0,0,0,0,null,null,null,null,null,null,null,null,null,null,null,null,null,null,null,null,null,null,null,null,null,null,null,null,null,null,null,null,null,null,null,null,null,null,null,null,null,null,null,null,null,null,null,null,null,null,null,null,null,null,null,null,null,null,null,"R5300SB","IMPORTS","_Z","_Z","_Z","_Z","_Z","BZ","ENERGY","_Z","TJ_GCV",null,"nrg_ind_ibmg","TRADE","R5300SB","IMP","BZ","TJ_GCV","Agg.=SUM(countries)"]
[null,null,null,null,null,null,"Benin",null,null,null,null,null,null,null,null,null,null,null,null,null,null,0,0,0,0,0,0,0,0,0,0,0,0,0,0,0,0,0,0,0,0,0,0,0,0,0,0,0,0,0,0,0,0,0,0,0,0,0,0,0,0,0,0,0,0,0,0,0,null,null,null,null,null,null,null,null,null,null,null,null,null,null,null,null,null,null,null,null,null,null,null,null,null,null,null,null,null,null,null,null,null,null,null,null,null,null,null,null,null,null,null,null,null,null,null,null,null,null,null,null,null,null,null,"R5300SB","IMPORTS","_Z","_Z","_Z","_Z","_Z","BJ","ENERGY","_Z","TJ_GCV",null,"nrg_ind_ibmg","TRADE","R5300SB","IMP","BJ","TJ_GCV","Agg.=SUM(countries)"]
[null,null,null,null,null,null,"Bolivia",null,null,null,null,null,null,null,null,null,null,null,null,null,null,0,0,0,0,0,0,0,0,0,0,0,0,0,0,0,0,0,0,0,0,0,0,0,0,0,0,0,0,0,0,0,0,0,0,0,0,0,0,0,0,0,0,0,0,0,0,0,null,null,null,null,null,null,null,null,null,null,null,null,null,null,null,null,null,null,null,null,null,null,null,null,null,null,null,null,null,null,null,null,null,null,null,null,null,null,null,null,null,null,null,null,null,null,null,null,null,null,null,null,null,null,null,"R5300SB","IMPORTS","_Z","_Z","_Z","_Z","_Z","BO","ENERGY","_Z","TJ_GCV",null,"nrg_ind_ibmg","TRADE","R5300SB","IMP","BO","TJ_GCV","Agg.=SUM(countries)"]
[null,null,null,null,null,null,"Bosnia and Herzegovina",null,null,null,null,null,null,null,null,null,null,null,null,null,null,0,0,0,0,0,0,0,0,0,0,0,0,0,0,0,0,0,0,0,0,0,0,0,0,0,0,0,0,0,0,0,0,0,0,0,0,0,0,0,0,0,0,0,0,0,0,0,null,null,null,null,null,null,null,null,null,null,null,null,null,null,null,null,null,null,null,null,null,null,null,null,null,null,null,null,null,null,null,null,null,null,null,null,null,null,null,null,null,null,null,null,null,null,null,null,null,null,null,null,null,null,null,"R5300SB","IMPORTS","_Z","_Z","_Z","_Z","_Z","BA","ENERGY","_Z","TJ_GCV",null,"nrg_ind_ibmg","TRADE","R5300SB","IMP","BA","TJ_GCV","Agg.=SUM(countries)"]
[null,null,null,null,null,null,"Brazil",null,null,null,null,null,null,null,null,null,null,null,null,null,null,0,0,0,0,0,0,0,0,0,0,0,0,0,0,0,0,0,0,0,0,0,0,0,0,0,0,0,0,0,0,0,0,0,0,0,0,0,0,0,0,0,0,0,0,0,0,0,null,null,null,null,null,null,null,null,null,null,null,null,null,null,null,null,null,null,null,null,null,null,null,null,null,null,null,null,null,null,null,null,null,null,null,null,null,null,null,null,null,null,null,null,null,null,null,null,null,null,null,null,null,null,null,"R5300SB","IMPORTS","_Z","_Z","_Z","_Z","_Z","BR","ENERGY","_Z","TJ_GCV",null,"nrg_ind_ibmg","TRADE","R5300SB","IMP","BR","TJ_GCV","Agg.=SUM(countries)"]
[null,null,null,null,null,null,"British Virgin Islands",null,null,null,null,null,null,null,null,null,null,null,null,null,null,0,0,0,0,0,0,0,0,0,0,0,0,0,0,0,0,0,0,0,0,0,0,0,0,0,0,0,0,0,0,0,0,0,0,0,0,0,0,0,0,0,0,0,0,0,0,0,null,null,null,null,null,null,null,null,null,null,null,null,null,null,null,null,null,null,null,null,null,null,null,null,null,null,null,null,null,null,null,null,null,null,null,null,null,null,null,null,null,null,null,null,null,null,null,null,null,null,null,null,null,null,null,"R5300SB","IMPORTS","_Z","_Z","_Z","_Z","_Z","VG","ENERGY","_Z","TJ_GCV",null,"nrg_ind_ibmg","TRADE","R5300SB","IMP","VG","TJ_GCV","Agg.=SUM(countries)"]
[null,null,null,null,null,null,"Brunei Darussalam",null,null,null,null,null,null,null,null,null,null,null,null,null,null,0,0,0,0,0,0,0,0,0,0,0,0,0,0,0,0,0,0,0,0,0,0,0,0,0,0,0,0,0,0,0,0,0,0,0,0,0,0,0,0,0,0,0,0,0,0,0,null,null,null,null,null,null,null,null,null,null,null,null,null,null,null,null,null,null,null,null,null,null,null,null,null,null,null,null,null,null,null,null,null,null,null,null,null,null,null,null,null,null,null,null,null,null,null,null,null,null,null,null,null,null,null,"R5300SB","IMPORTS","_Z","_Z","_Z","_Z","_Z","BN","ENERGY","_Z","TJ_GCV",null,"nrg_ind_ibmg","TRADE","R5300SB","IMP","BN","TJ_GCV","Agg.=SUM(countries)"]
[null,null,null,null,null,null,"Bulgaria",null,null,null,null,null,null,null,null,null,null,null,null,null,null,0,0,0,0,0,0,0,0,0,0,0,0,0,0,0,0,0,0,0,0,0,0,0,0,0,0,0,0,0,0,0,0,0,0,0,0,0,0,0,0,0,0,0,0,0,0,0,null,null,null,null,null,null,null,null,null,null,null,null,null,null,null,null,null,null,null,null,null,null,null,null,null,null,null,null,null,null,null,null,null,null,null,null,null,null,null,null,null,null,null,null,null,null,null,null,null,null,null,null,null,null,null,"R5300SB","IMPORTS","_Z","_Z","_Z","_Z","_Z","BG","ENERGY","_Z","TJ_GCV",null,"nrg_ind_ibmg","TRADE","R5300SB","IMP","BG","TJ_GCV","Agg.=SUM(countries)"]
[null,null,null,null,null,null,"Cambodia",null,null,null,null,null,null,null,null,null,null,null,null,null,null,0,0,0,0,0,0,0,0,0,0,0,0,0,0,0,0,0,0,0,0,0,0,0,0,0,0,0,0,0,0,0,0,0,0,0,0,0,0,0,0,0,0,0,0,0,0,0,null,null,null,null,null,null,null,null,null,null,null,null,null,null,null,null,null,null,null,null,null,null,null,null,null,null,null,null,null,null,null,null,null,null,null,null,null,null,null,null,null,null,null,null,null,null,null,null,null,null,null,null,null,null,null,"R5300SB","IMPORTS","_Z","_Z","_Z","_Z","_Z","KH","ENERGY","_Z","TJ_GCV",null,"nrg_ind_ibmg","TRADE","R5300SB","IMP","KH","TJ_GCV","Agg.=SUM(countries)"]
[null,null,null,null,null,null,"Cameroon",null,null,null,null,null,null,null,null,null,null,null,null,null,null,0,0,0,0,0,0,0,0,0,0,0,0,0,0,0,0,0,0,0,0,0,0,0,0,0,0,0,0,0,0,0,0,0,0,0,0,0,0,0,0,0,0,0,0,0,0,0,null,null,null,null,null,null,null,null,null,null,null,null,null,null,null,null,null,null,null,null,null,null,null,null,null,null,null,null,null,null,null,null,null,null,null,null,null,null,null,null,null,null,null,null,null,null,null,null,null,null,null,null,null,null,null,"R5300SB","IMPORTS","_Z","_Z","_Z","_Z","_Z","CM","ENERGY","_Z","TJ_GCV",null,"nrg_ind_ibmg","TRADE","R5300SB","IMP","CM","TJ_GCV","Agg.=SUM(countries)"]
[null,null,null,null,null,null,"Canada",null,null,null,null,null,null,null,null,null,null,null,null,null,null,0,0,0,0,0,0,0,0,0,0,0,0,0,0,0,0,0,0,0,0,0,0,0,0,0,0,0,0,0,0,0,0,0,0,0,0,0,0,0,0,0,0,0,0,0,0,0,null,null,null,null,null,null,null,null,null,null,null,null,null,null,null,null,null,null,null,null,null,null,null,null,null,null,null,null,null,null,null,null,null,null,null,null,null,null,null,null,null,null,null,null,null,null,null,null,null,null,null,null,null,null,null,"R5300SB","IMPORTS","_Z","_Z","_Z","_Z","_Z","CA","ENERGY","_Z","TJ_GCV",null,"nrg_ind_ibmg","TRADE","R5300SB","IMP","CA","TJ_GCV","Agg.=SUM(countries)"]
[null,null,null,null,null,null,"Cape Verde / Cabo Verde",null,null,null,null,null,null,null,null,null,null,null,null,null,null,0,0,0,0,0,0,0,0,0,0,0,0,0,0,0,0,0,0,0,0,0,0,0,0,0,0,0,0,0,0,0,0,0,0,0,0,0,0,0,0,0,0,0,0,0,0,0,null,null,null,null,null,null,null,null,null,null,null,null,null,null,null,null,null,null,null,null,null,null,null,null,null,null,null,null,null,null,null,null,null,null,null,null,null,null,null,null,null,null,null,null,null,null,null,null,null,null,null,null,null,null,null,"R5300SB","IMPORTS","_Z","_Z","_Z","_Z","_Z","CV","ENERGY","_Z","TJ_GCV",null,"nrg_ind_ibmg","TRADE","R5300SB","IMP","CV","TJ_GCV","Agg.=SUM(countries)"]
[null,null,null,null,null,null,"Chile",null,null,null,null,null,null,null,null,null,null,null,null,null,null,0,0,0,0,0,0,0,0,0,0,0,0,0,0,0,0,0,0,0,0,0,0,0,0,0,0,0,0,0,0,0,0,0,0,0,0,0,0,0,0,0,0,0,0,0,0,0,null,null,null,null,null,null,null,null,null,null,null,null,null,null,null,null,null,null,null,null,null,null,null,null,null,null,null,null,null,null,null,null,null,null,null,null,null,null,null,null,null,null,null,null,null,null,null,null,null,null,null,null,null,null,null,"R5300SB","IMPORTS","_Z","_Z","_Z","_Z","_Z","CL","ENERGY","_Z","TJ_GCV",null,"nrg_ind_ibmg","TRADE","R5300SB","IMP","CL","TJ_GCV","Agg.=SUM(countries)"]
[null,null,null,null,null,null,"China, People's Republic of",null,null,null,null,null,null,null,null,null,null,null,null,null,null,0,0,0,0,0,0,0,0,0,0,0,0,0,0,0,0,0,0,0,0,0,0,0,0,0,0,0,0,0,0,0,0,0,0,0,0,0,0,0,0,0,0,0,0,0,0,0,null,null,null,null,null,null,null,null,null,null,null,null,null,null,null,null,null,null,null,null,null,null,null,null,null,null,null,null,null,null,null,null,null,null,null,null,null,null,null,null,null,null,null,null,null,null,null,null,null,null,null,null,null,null,null,"R5300SB","IMPORTS","_Z","_Z","_Z","_Z","_Z","CN","ENERGY","_Z","TJ_GCV",null,"nrg_ind_ibmg","TRADE","R5300SB","IMP","CN","TJ_GCV","Agg.=SUM(countries)"]
[null,null,null,null,null,null,"Colombia",null,null,null,null,null,null,null,null,null,null,null,null,null,null,0,0,0,0,0,0,0,0,0,0,0,0,0,0,0,0,0,0,0,0,0,0,0,0,0,0,0,0,0,0,0,0,0,0,0,0,0,0,0,0,0,0,0,0,0,0,0,null,null,null,null,null,null,null,null,null,null,null,null,null,null,null,null,null,null,null,null,null,null,null,null,null,null,null,null,null,null,null,null,null,null,null,null,null,null,null,null,null,null,null,null,null,null,null,null,null,null,null,null,null,null,null,"R5300SB","IMPORTS","_Z","_Z","_Z","_Z","_Z","CO","ENERGY","_Z","TJ_GCV",null,"nrg_ind_ibmg","TRADE","R5300SB","IMP","CO","TJ_GCV","Agg.=SUM(countries)"]
[null,null,null,null,null,null,"Congo",null,null,null,null,null,null,null,null,null,null,null,null,null,null,0,0,0,0,0,0,0,0,0,0,0,0,0,0,0,0,0,0,0,0,0,0,0,0,0,0,0,0,0,0,0,0,0,0,0,0,0,0,0,0,0,0,0,0,0,0,0,null,null,null,null,null,null,null,null,null,null,null,null,null,null,null,null,null,null,null,null,null,null,null,null,null,null,null,null,null,null,null,null,null,null,null,null,null,null,null,null,null,null,null,null,null,null,null,null,null,null,null,null,null,null,null,"R5300SB","IMPORTS","_Z","_Z","_Z","_Z","_Z","CG","ENERGY","_Z","TJ_GCV",null,"nrg_ind_ibmg","TRADE","R5300SB","IMP","CG","TJ_GCV","Agg.=SUM(countries)"]
[null,null,null,null,null,null,"Costa Rica",null,null,null,null,null,null,null,null,null,null,null,null,null,null,0,0,0,0,0,0,0,0,0,0,0,0,0,0,0,0,0,0,0,0,0,0,0,0,0,0,0,0,0,0,0,0,0,0,0,0,0,0,0,0,0,0,0,0,0,0,0,null,null,null,null,null,null,null,null,null,null,null,null,null,null,null,null,null,null,null,null,null,null,null,null,null,null,null,null,null,null,null,null,null,null,null,null,null,null,null,null,null,null,null,null,null,null,null,null,null,null,null,null,null,null,null,"R5300SB","IMPORTS","_Z","_Z","_Z","_Z","_Z","CR","ENERGY","_Z","TJ_GCV",null,"nrg_ind_ibmg","TRADE","R5300SB","IMP","CR","TJ_GCV","Agg.=SUM(countries)"]
[null,null,null,null,null,null,"Côte d’Ivoire",null,null,null,null,null,null,null,null,null,null,null,null,null,null,0,0,0,0,0,0,0,0,0,0,0,0,0,0,0,0,0,0,0,0,0,0,0,0,0,0,0,0,0,0,0,0,0,0,0,0,0,0,0,0,0,0,0,0,0,0,0,null,null,null,null,null,null,null,null,null,null,null,null,null,null,null,null,null,null,null,null,null,null,null,null,null,null,null,null,null,null,null,null,null,null,null,null,null,null,null,null,null,null,null,null,null,null,null,null,null,null,null,null,null,null,null,"R5300SB","IMPORTS","_Z","_Z","_Z","_Z","_Z","CI","ENERGY","_Z","TJ_GCV",null,"nrg_ind_ibmg","TRADE","R5300SB","IMP","CI","TJ_GCV","Agg.=SUM(countries)"]
[null,null,null,null,null,null,"Croatia",null,null,null,null,null,null,null,null,null,null,null,null,null,null,0,0,0,0,0,0,0,0,0,0,0,0,0,0,0,0,0,0,0,0,0,0,0,0,0,0,0,0,0,0,0,0,0,0,0,0,0,0,0,0,0,0,0,0,0,0,0,null,null,null,null,null,null,null,null,null,null,null,null,null,null,null,null,null,null,null,null,null,null,null,null,null,null,null,null,null,null,null,null,null,null,null,null,null,null,null,null,null,null,null,null,null,null,null,null,null,null,null,null,null,null,null,"R5300SB","IMPORTS","_Z","_Z","_Z","_Z","_Z","HR","ENERGY","_Z","TJ_GCV",null,"nrg_ind_ibmg","TRADE","R5300SB","IMP","HR","TJ_GCV","Agg.=SUM(countries)"]
[null,null,null,null,null,null,"Cuba",null,null,null,null,null,null,null,null,null,null,null,null,null,null,0,0,0,0,0,0,0,0,0,0,0,0,0,0,0,0,0,0,0,0,0,0,0,0,0,0,0,0,0,0,0,0,0,0,0,0,0,0,0,0,0,0,0,0,0,0,0,null,null,null,null,null,null,null,null,null,null,null,null,null,null,null,null,null,null,null,null,null,null,null,null,null,null,null,null,null,null,null,null,null,null,null,null,null,null,null,null,null,null,null,null,null,null,null,null,null,null,null,null,null,null,null,"R5300SB","IMPORTS","_Z","_Z","_Z","_Z","_Z","CU","ENERGY","_Z","TJ_GCV",null,"nrg_ind_ibmg","TRADE","R5300SB","IMP","CU","TJ_GCV","Agg.=SUM(countries)"]
[null,null,null,null,null,null,"Curaçao",null,null,null,null,null,null,null,null,null,null,null,null,null,null,0,0,0,0,0,0,0,0,0,0,0,0,0,0,0,0,0,0,0,0,0,0,0,0,0,0,0,0,0,0,0,0,0,0,0,0,0,0,0,0,0,0,0,0,0,0,0,null,null,null,null,null,null,null,null,null,null,null,null,null,null,null,null,null,null,null,null,null,null,null,null,null,null,null,null,null,null,null,null,null,null,null,null,null,null,null,null,null,null,null,null,null,null,null,null,null,null,null,null,null,null,null,"R5300SB","IMPORTS","_Z","_Z","_Z","_Z","_Z","CW","ENERGY","_Z","TJ_GCV",null,"nrg_ind_ibmg","TRADE","R5300SB","IMP","CW","TJ_GCV","Agg.=SUM(countries)"]
[null,null,null,null,null,null,"Cyprus",null,null,null,null,null,null,null,null,null,null,null,null,null,null,0,0,0,0,0,0,0,0,0,0,0,0,0,0,0,0,0,0,0,0,0,0,0,0,0,0,0,0,0,0,0,0,0,0,0,0,0,0,0,0,0,0,0,0,0,0,0,null,null,null,null,null,null,null,null,null,null,null,null,null,null,null,null,null,null,null,null,null,null,null,null,null,null,null,null,null,null,null,null,null,null,null,null,null,null,null,null,null,null,null,null,null,null,null,null,null,null,null,null,null,null,null,"R5300SB","IMPORTS","_Z","_Z","_Z","_Z","_Z","CY","ENERGY","_Z","TJ_GCV",null,"nrg_ind_ibmg","TRADE","R5300SB","IMP","CY","TJ_GCV","Agg.=SUM(countries)"]
[null,null,null,null,null,null,"Czech Republic",null,null,null,null,null,null,null,null,null,null,null,null,null,null,0,0,0,0,0,0,0,0,0,0,0,0,0,0,0,0,0,0,0,0,0,0,0,0,0,0,0,0,0,0,0,0,0,0,0,0,0,0,0,0,0,0,0,0,0,0,0,null,null,null,null,null,null,null,null,null,null,null,null,null,null,null,null,null,null,null,null,null,null,null,null,null,null,null,null,null,null,null,null,null,null,null,null,null,null,null,null,null,null,null,null,null,null,null,null,null,null,null,null,null,null,null,"R5300SB","IMPORTS","_Z","_Z","_Z","_Z","_Z","CZ","ENERGY","_Z","TJ_GCV",null,"nrg_ind_ibmg","TRADE","R5300SB","IMP","CZ","TJ_GCV","Agg.=SUM(countries)"]
[null,null,null,null,null,null,"Korea, Democratic People's Republic of",null,null,null,null,null,null,null,null,null,null,null,null,null,null,0,0,0,0,0,0,0,0,0,0,0,0,0,0,0,0,0,0,0,0,0,0,0,0,0,0,0,0,0,0,0,0,0,0,0,0,0,0,0,0,0,0,0,0,0,0,0,null,null,null,null,null,null,null,null,null,null,null,null,null,null,null,null,null,null,null,null,null,null,null,null,null,null,null,null,null,null,null,null,null,null,null,null,null,null,null,null,null,null,null,null,null,null,null,null,null,null,null,null,null,null,null,"R5300SB","IMPORTS","_Z","_Z","_Z","_Z","_Z","KP","ENERGY","_Z","TJ_GCV",null,"nrg_ind_ibmg","TRADE","R5300SB","IMP","KP","TJ_GCV","Agg.=SUM(countries)"]
[null,null,null,null,null,null,"Congo, Democratic Republic of the",null,null,null,null,null,null,null,null,null,null,null,null,null,null,0,0,0,0,0,0,0,0,0,0,0,0,0,0,0,0,0,0,0,0,0,0,0,0,0,0,0,0,0,0,0,0,0,0,0,0,0,0,0,0,0,0,0,0,0,0,0,null,null,null,null,null,null,null,null,null,null,null,null,null,null,null,null,null,null,null,null,null,null,null,null,null,null,null,null,null,null,null,null,null,null,null,null,null,null,null,null,null,null,null,null,null,null,null,null,null,null,null,null,null,null,null,"R5300SB","IMPORTS","_Z","_Z","_Z","_Z","_Z","CD","ENERGY","_Z","TJ_GCV",null,"nrg_ind_ibmg","TRADE","R5300SB","IMP","CD","TJ_GCV","Agg.=SUM(countries)"]
[null,null,null,null,null,null,"Denmark",null,null,null,null,null,null,null,null,null,null,null,null,null,null,0,0,0,0,0,0,0,0,0,0,0,0,0,0,0,0,0,0,0,0,0,0,0,0,0,0,0,0,0,0,0,0,0,0,0,0,0,0,0,0,0,0,0,0,0,0,0,null,null,null,null,null,null,null,null,null,null,null,null,null,null,null,null,null,null,null,null,null,null,null,null,null,null,null,null,null,null,null,null,null,null,null,null,null,null,null,null,null,null,null,null,null,null,null,null,null,null,null,null,null,null,null,"R5300SB","IMPORTS","_Z","_Z","_Z","_Z","_Z","DK","ENERGY","_Z","TJ_GCV",null,"nrg_ind_ibmg","TRADE","R5300SB","IMP","DK","TJ_GCV","Agg.=SUM(countries)"]
[null,null,null,null,null,null,"Djibouti",null,null,null,null,null,null,null,null,null,null,null,null,null,null,0,0,0,0,0,0,0,0,0,0,0,0,0,0,0,0,0,0,0,0,0,0,0,0,0,0,0,0,0,0,0,0,0,0,0,0,0,0,0,0,0,0,0,0,0,0,0,null,null,null,null,null,null,null,null,null,null,null,null,null,null,null,null,null,null,null,null,null,null,null,null,null,null,null,null,null,null,null,null,null,null,null,null,null,null,null,null,null,null,null,null,null,null,null,null,null,null,null,null,null,null,null,"R5300SB","IMPORTS","_Z","_Z","_Z","_Z","_Z","DJ","ENERGY","_Z","TJ_GCV",null,"nrg_ind_ibmg","TRADE","R5300SB","IMP","DJ","TJ_GCV","Agg.=SUM(countries)"]
[null,null,null,null,null,null,"Dominican Republic",null,null,null,null,null,null,null,null,null,null,null,null,null,null,0,0,0,0,0,0,0,0,0,0,0,0,0,0,0,0,0,0,0,0,0,0,0,0,0,0,0,0,0,0,0,0,0,0,0,0,0,0,0,0,0,0,0,0,0,0,0,null,null,null,null,null,null,null,null,null,null,null,null,null,null,null,null,null,null,null,null,null,null,null,null,null,null,null,null,null,null,null,null,null,null,null,null,null,null,null,null,null,null,null,null,null,null,null,null,null,null,null,null,null,null,null,"R5300SB","IMPORTS","_Z","_Z","_Z","_Z","_Z","DO","ENERGY","_Z","TJ_GCV",null,"nrg_ind_ibmg","TRADE","R5300SB","IMP","DO","TJ_GCV","Agg.=SUM(countries)"]
[null,null,null,null,null,null,"Ecuador",null,null,null,null,null,null,null,null,null,null,null,null,null,null,0,0,0,0,0,0,0,0,0,0,0,0,0,0,0,0,0,0,0,0,0,0,0,0,0,0,0,0,0,0,0,0,0,0,0,0,0,0,0,0,0,0,0,0,0,0,0,null,null,null,null,null,null,null,null,null,null,null,null,null,null,null,null,null,null,null,null,null,null,null,null,null,null,null,null,null,null,null,null,null,null,null,null,null,null,null,null,null,null,null,null,null,null,null,null,null,null,null,null,null,null,null,"R5300SB","IMPORTS","_Z","_Z","_Z","_Z","_Z","EC","ENERGY","_Z","TJ_GCV",null,"nrg_ind_ibmg","TRADE","R5300SB","IMP","EC","TJ_GCV","Agg.=SUM(countries)"]
[null,null,null,null,null,null,"Egypt",null,null,null,null,null,null,null,null,null,null,null,null,null,null,0,0,0,0,0,0,0,0,0,0,0,0,0,0,0,0,0,0,0,0,0,0,0,0,0,0,0,0,0,0,0,0,0,0,0,0,0,0,0,0,0,0,0,0,0,0,0,null,null,null,null,null,null,null,null,null,null,null,null,null,null,null,null,null,null,null,null,null,null,null,null,null,null,null,null,null,null,null,null,null,null,null,null,null,null,null,null,null,null,null,null,null,null,null,null,null,null,null,null,null,null,null,"R5300SB","IMPORTS","_Z","_Z","_Z","_Z","_Z","EG","ENERGY","_Z","TJ_GCV",null,"nrg_ind_ibmg","TRADE","R5300SB","IMP","EG","TJ_GCV","Agg.=SUM(countries)"]
[null,null,null,null,null,null,"Equatorial Guinea",null,null,null,null,null,null,null,null,null,null,null,null,null,null,0,0,0,0,0,0,0,0,0,0,0,0,0,0,0,0,0,0,0,0,0,0,0,0,0,0,0,0,0,0,0,0,0,0,0,0,0,0,0,0,0,0,0,0,0,0,0,null,null,null,null,null,null,null,null,null,null,null,null,null,null,null,null,null,null,null,null,null,null,null,null,null,null,null,null,null,null,null,null,null,null,null,null,null,null,null,null,null,null,null,null,null,null,null,null,null,null,null,null,null,null,null,"R5300SB","IMPORTS","_Z","_Z","_Z","_Z","_Z","GQ","ENERGY","_Z","TJ_GCV",null,"nrg_ind_ibmg","TRADE","R5300SB","IMP","GQ","TJ_GCV","Agg.=SUM(countries)"]
[null,null,null,null,null,null,"Eritrea",null,null,null,null,null,null,null,null,null,null,null,null,null,null,0,0,0,0,0,0,0,0,0,0,0,0,0,0,0,0,0,0,0,0,0,0,0,0,0,0,0,0,0,0,0,0,0,0,0,0,0,0,0,0,0,0,0,0,0,0,0,null,null,null,null,null,null,null,null,null,null,null,null,null,null,null,null,null,null,null,null,null,null,null,null,null,null,null,null,null,null,null,null,null,null,null,null,null,null,null,null,null,null,null,null,null,null,null,null,null,null,null,null,null,null,null,"R5300SB","IMPORTS","_Z","_Z","_Z","_Z","_Z","ER","ENERGY","_Z","TJ_GCV",null,"nrg_ind_ibmg","TRADE","R5300SB","IMP","ER","TJ_GCV","Agg.=SUM(countries)"]
[null,null,null,null,null,null,"Estonia",null,null,null,null,null,null,null,null,null,null,null,null,null,null,0,0,0,0,0,0,0,0,0,0,0,0,0,0,0,0,0,0,0,0,0,0,0,0,0,0,0,0,0,0,0,0,0,0,0,0,0,0,0,0,0,0,0,0,0,0,0,null,null,null,null,null,null,null,null,null,null,null,null,null,null,null,null,null,null,null,null,null,null,null,null,null,null,null,null,null,null,null,null,null,null,null,null,null,null,null,null,null,null,null,null,null,null,null,null,null,null,null,null,null,null,null,"R5300SB","IMPORTS","_Z","_Z","_Z","_Z","_Z","EE","ENERGY","_Z","TJ_GCV",null,"nrg_ind_ibmg","TRADE","R5300SB","IMP","EE","TJ_GCV","Agg.=SUM(countries)"]
[null,null,null,null,null,null,"Ethiopia",null,null,null,null,null,null,null,null,null,null,null,null,null,null,0,0,0,0,0,0,0,0,0,0,0,0,0,0,0,0,0,0,0,0,0,0,0,0,0,0,0,0,0,0,0,0,0,0,0,0,0,0,0,0,0,0,0,0,0,0,0,null,null,null,null,null,null,null,null,null,null,null,null,null,null,null,null,null,null,null,null,null,null,null,null,null,null,null,null,null,null,null,null,null,null,null,null,null,null,null,null,null,null,null,null,null,null,null,null,null,null,null,null,null,null,null,"R5300SB","IMPORTS","_Z","_Z","_Z","_Z","_Z","ET","ENERGY","_Z","TJ_GCV",null,"nrg_ind_ibmg","TRADE","R5300SB","IMP","ET","TJ_GCV","Agg.=SUM(countries)"]
[null,null,null,null,null,null,"Finland",null,null,null,null,null,null,null,null,null,null,null,null,null,null,0,0,0,0,0,0,0,0,0,0,0,0,0,0,0,0,0,0,0,0,0,0,0,0,0,0,0,0,0,0,0,0,0,0,0,0,0,0,0,0,0,0,0,0,0,0,0,null,null,null,null,null,null,null,null,null,null,null,null,null,null,null,null,null,null,null,null,null,null,null,null,null,null,null,null,null,null,null,null,null,null,null,null,null,null,null,null,null,null,null,null,null,null,null,null,null,null,null,null,null,null,null,"R5300SB","IMPORTS","_Z","_Z","_Z","_Z","_Z","FI","ENERGY","_Z","TJ_GCV",null,"nrg_ind_ibmg","TRADE","R5300SB","IMP","FI","TJ_GCV","Agg.=SUM(countries)"]
[null,null,null,null,null,null,"France",null,null,null,null,null,null,null,null,null,null,null,null,null,null,0,0,0,0,0,0,0,0,0,0,0,0,0,0,0,0,0,0,0,0,0,0,0,0,0,0,0,0,0,0,0,0,0,0,0,0,0,0,0,0,0,0,0,0,0,0,0,null,null,null,null,null,null,null,null,null,null,null,null,null,null,null,null,null,null,null,null,null,null,null,null,null,null,null,null,null,null,null,null,null,null,null,null,null,null,null,null,null,null,null,null,null,null,null,null,null,null,null,null,null,null,null,"R5300SB","IMPORTS","_Z","_Z","_Z","_Z","_Z","FR","ENERGY","_Z","TJ_GCV",null,"nrg_ind_ibmg","TRADE","R5300SB","IMP","FR","TJ_GCV","Agg.=SUM(countries)"]
[null,null,null,null,null,null,"Gabon",null,null,null,null,null,null,null,null,null,null,null,null,null,null,0,0,0,0,0,0,0,0,0,0,0,0,0,0,0,0,0,0,0,0,0,0,0,0,0,0,0,0,0,0,0,0,0,0,0,0,0,0,0,0,0,0,0,0,0,0,0,null,null,null,null,null,null,null,null,null,null,null,null,null,null,null,null,null,null,null,null,null,null,null,null,null,null,null,null,null,null,null,null,null,null,null,null,null,null,null,null,null,null,null,null,null,null,null,null,null,null,null,null,null,null,null,"R5300SB","IMPORTS","_Z","_Z","_Z","_Z","_Z","GA","ENERGY","_Z","TJ_GCV",null,"nrg_ind_ibmg","TRADE","R5300SB","IMP","GA","TJ_GCV","Agg.=SUM(countries)"]
[null,null,null,null,null,null,"Georgia",null,null,null,null,null,null,null,null,null,null,null,null,null,null,0,0,0,0,0,0,0,0,0,0,0,0,0,0,0,0,0,0,0,0,0,0,0,0,0,0,0,0,0,0,0,0,0,0,0,0,0,0,0,0,0,0,0,0,0,0,0,null,null,null,null,null,null,null,null,null,null,null,null,null,null,null,null,null,null,null,null,null,null,null,null,null,null,null,null,null,null,null,null,null,null,null,null,null,null,null,null,null,null,null,null,null,null,null,null,null,null,null,null,null,null,null,"R5300SB","IMPORTS","_Z","_Z","_Z","_Z","_Z","GE","ENERGY","_Z","TJ_GCV",null,"nrg_ind_ibmg","TRADE","R5300SB","IMP","GE","TJ_GCV","Agg.=SUM(countries)"]
[null,null,null,null,null,null,"Germany",null,null,null,null,null,null,null,null,null,null,null,null,null,null,0,0,0,0,0,0,0,0,0,0,0,0,0,0,0,0,0,0,0,0,0,0,0,0,0,0,0,0,0,0,0,0,0,0,0,0,0,0,0,0,0,0,0,0,0,0,0,null,null,null,null,null,null,null,null,null,null,null,null,null,null,null,null,null,null,null,null,null,null,null,null,null,null,null,null,null,null,null,null,null,null,null,null,null,null,null,null,null,null,null,null,null,null,null,null,null,null,null,null,null,null,null,"R5300SB","IMPORTS","_Z","_Z","_Z","_Z","_Z","DE","ENERGY","_Z","TJ_GCV",null,"nrg_ind_ibmg","TRADE","R5300SB","IMP","DE","TJ_GCV","Agg.=SUM(countries)"]
[null,null,null,null,null,null,"Ghana",null,null,null,null,null,null,null,null,null,null,null,null,null,null,0,0,0,0,0,0,0,0,0,0,0,0,0,0,0,0,0,0,0,0,0,0,0,0,0,0,0,0,0,0,0,0,0,0,0,0,0,0,0,0,0,0,0,0,0,0,0,null,null,null,null,null,null,null,null,null,null,null,null,null,null,null,null,null,null,null,null,null,null,null,null,null,null,null,null,null,null,null,null,null,null,null,null,null,null,null,null,null,null,null,null,null,null,null,null,null,null,null,null,null,null,null,"R5300SB","IMPORTS","_Z","_Z","_Z","_Z","_Z","GH","ENERGY","_Z","TJ_GCV",null,"nrg_ind_ibmg","TRADE","R5300SB","IMP","GH","TJ_GCV","Agg.=SUM(countries)"]
[null,null,null,null,null,null,"Gibraltar",null,null,null,null,null,null,null,null,null,null,null,null,null,null,0,0,0,0,0,0,0,0,0,0,0,0,0,0,0,0,0,0,0,0,0,0,0,0,0,0,0,0,0,0,0,0,0,0,0,0,0,0,0,0,0,0,0,0,0,0,0,null,null,null,null,null,null,null,null,null,null,null,null,null,null,null,null,null,null,null,null,null,null,null,null,null,null,null,null,null,null,null,null,null,null,null,null,null,null,null,null,null,null,null,null,null,null,null,null,null,null,null,null,null,null,null,"R5300SB","IMPORTS","_Z","_Z","_Z","_Z","_Z","GI","ENERGY","_Z","TJ_GCV",null,"nrg_ind_ibmg","TRADE","R5300SB","IMP","GI","TJ_GCV","Agg.=SUM(countries)"]
[null,null,null,null,null,null,"Greece",null,null,null,null,null,null,null,null,null,null,null,null,null,null,0,0,0,0,0,0,0,0,0,0,0,0,0,0,0,0,0,0,0,0,0,0,0,0,0,0,0,0,0,0,0,0,0,0,0,0,0,0,0,0,0,0,0,0,0,0,0,null,null,null,null,null,null,null,null,null,null,null,null,null,null,null,null,null,null,null,null,null,null,null,null,null,null,null,null,null,null,null,null,null,null,null,null,null,null,null,null,null,null,null,null,null,null,null,null,null,null,null,null,null,null,null,"R5300SB","IMPORTS","_Z","_Z","_Z","_Z","_Z","GR","ENERGY","_Z","TJ_GCV",null,"nrg_ind_ibmg","TRADE","R5300SB","IMP","GR","TJ_GCV","Agg.=SUM(countries)"]
[null,null,null,null,null,null,"Guatemala",null,null,null,null,null,null,null,null,null,null,null,null,null,null,0,0,0,0,0,0,0,0,0,0,0,0,0,0,0,0,0,0,0,0,0,0,0,0,0,0,0,0,0,0,0,0,0,0,0,0,0,0,0,0,0,0,0,0,0,0,0,null,null,null,null,null,null,null,null,null,null,null,null,null,null,null,null,null,null,null,null,null,null,null,null,null,null,null,null,null,null,null,null,null,null,null,null,null,null,null,null,null,null,null,null,null,null,null,null,null,null,null,null,null,null,null,"R5300SB","IMPORTS","_Z","_Z","_Z","_Z","_Z","GT","ENERGY","_Z","TJ_GCV",null,"nrg_ind_ibmg","TRADE","R5300SB","IMP","GT","TJ_GCV","Agg.=SUM(countries)"]
[null,null,null,null,null,null,"Guinea-Bissau",null,null,null,null,null,null,null,null,null,null,null,null,null,null,0,0,0,0,0,0,0,0,0,0,0,0,0,0,0,0,0,0,0,0,0,0,0,0,0,0,0,0,0,0,0,0,0,0,0,0,0,0,0,0,0,0,0,0,0,0,0,null,null,null,null,null,null,null,null,null,null,null,null,null,null,null,null,null,null,null,null,null,null,null,null,null,null,null,null,null,null,null,null,null,null,null,null,null,null,null,null,null,null,null,null,null,null,null,null,null,null,null,null,null,null,null,"R5300SB","IMPORTS","_Z","_Z","_Z","_Z","_Z","GW","ENERGY","_Z","TJ_GCV",null,"nrg_ind_ibmg","TRADE","R5300SB","IMP","GW","TJ_GCV","Agg.=SUM(countries)"]
[null,null,null,null,null,null,"Honduras",null,null,null,null,null,null,null,null,null,null,null,null,null,null,0,0,0,0,0,0,0,0,0,0,0,0,0,0,0,0,0,0,0,0,0,0,0,0,0,0,0,0,0,0,0,0,0,0,0,0,0,0,0,0,0,0,0,0,0,0,0,null,null,null,null,null,null,null,null,null,null,null,null,null,null,null,null,null,null,null,null,null,null,null,null,null,null,null,null,null,null,null,null,null,null,null,null,null,null,null,null,null,null,null,null,null,null,null,null,null,null,null,null,null,null,null,"R5300SB","IMPORTS","_Z","_Z","_Z","_Z","_Z","HN","ENERGY","_Z","TJ_GCV",null,"nrg_ind_ibmg","TRADE","R5300SB","IMP","HN","TJ_GCV","Agg.=SUM(countries)"]
[null,null,null,null,null,null,"Hong Kong, China",null,null,null,null,null,null,null,null,null,null,null,null,null,null,0,0,0,0,0,0,0,0,0,0,0,0,0,0,0,0,0,0,0,0,0,0,0,0,0,0,0,0,0,0,0,0,0,0,0,0,0,0,0,0,0,0,0,0,0,0,0,null,null,null,null,null,null,null,null,null,null,null,null,null,null,null,null,null,null,null,null,null,null,null,null,null,null,null,null,null,null,null,null,null,null,null,null,null,null,null,null,null,null,null,null,null,null,null,null,null,null,null,null,null,null,null,"R5300SB","IMPORTS","_Z","_Z","_Z","_Z","_Z","HK","ENERGY","_Z","TJ_GCV",null,"nrg_ind_ibmg","TRADE","R5300SB","IMP","HK","TJ_GCV","Agg.=SUM(countries)"]
[null,null,null,null,null,null,"Hungary",null,null,null,null,null,null,null,null,null,null,null,null,null,null,0,0,0,0,0,0,0,0,0,0,0,0,0,0,0,0,0,0,0,0,0,0,0,0,0,0,0,0,0,0,0,0,0,0,0,0,0,0,0,0,0,0,0,0,0,0,0,null,null,null,null,null,null,null,null,null,null,null,null,null,null,null,null,null,null,null,null,null,null,null,null,null,null,null,null,null,null,null,null,null,null,null,null,null,null,null,null,null,null,null,null,null,null,null,null,null,null,null,null,null,null,null,"R5300SB","IMPORTS","_Z","_Z","_Z","_Z","_Z","HU","ENERGY","_Z","TJ_GCV",null,"nrg_ind_ibmg","TRADE","R5300SB","IMP","HU","TJ_GCV","Agg.=SUM(countries)"]
[null,null,null,null,null,null,"Iceland",null,null,null,null,null,null,null,null,null,null,null,null,null,null,0,0,0,0,0,0,0,0,0,0,0,0,0,0,0,0,0,0,0,0,0,0,0,0,0,0,0,0,0,0,0,0,0,0,0,0,0,0,0,0,0,0,0,0,0,0,0,null,null,null,null,null,null,null,null,null,null,null,null,null,null,null,null,null,null,null,null,null,null,null,null,null,null,null,null,null,null,null,null,null,null,null,null,null,null,null,null,null,null,null,null,null,null,null,null,null,null,null,null,null,null,null,"R5300SB","IMPORTS","_Z","_Z","_Z","_Z","_Z","IS","ENERGY","_Z","TJ_GCV",null,"nrg_ind_ibmg","TRADE","R5300SB","IMP","IS","TJ_GCV","Agg.=SUM(countries)"]
[null,null,null,null,null,null,"India",null,null,null,null,null,null,null,null,null,null,null,null,null,null,0,0,0,0,0,0,0,0,0,0,0,0,0,0,0,0,0,0,0,0,0,0,0,0,0,0,0,0,0,0,0,0,0,0,0,0,0,0,0,0,0,0,0,0,0,0,0,null,null,null,null,null,null,null,null,null,null,null,null,null,null,null,null,null,null,null,null,null,null,null,null,null,null,null,null,null,null,null,null,null,null,null,null,null,null,null,null,null,null,null,null,null,null,null,null,null,null,null,null,null,null,null,"R5300SB","IMPORTS","_Z","_Z","_Z","_Z","_Z","IN","ENERGY","_Z","TJ_GCV",null,"nrg_ind_ibmg","TRADE","R5300SB","IMP","IN","TJ_GCV","Agg.=SUM(countries)"]
[null,null,null,null,null,null,"Indonesia",null,null,null,null,null,null,null,null,null,null,null,null,null,null,0,0,0,0,0,0,0,0,0,0,0,0,0,0,0,0,0,0,0,0,0,0,0,0,0,0,0,0,0,0,0,0,0,0,0,0,0,0,0,0,0,0,0,0,0,0,0,null,null,null,null,null,null,null,null,null,null,null,null,null,null,null,null,null,null,null,null,null,null,null,null,null,null,null,null,null,null,null,null,null,null,null,null,null,null,null,null,null,null,null,null,null,null,null,null,null,null,null,null,null,null,null,"R5300SB","IMPORTS","_Z","_Z","_Z","_Z","_Z","ID","ENERGY","_Z","TJ_GCV",null,"nrg_ind_ibmg","TRADE","R5300SB","IMP","ID","TJ_GCV","Agg.=SUM(countries)"]
[null,null,null,null,null,null,"Iran, Islamic Republic of",null,null,null,null,null,null,null,null,null,null,null,null,null,null,0,0,0,0,0,0,0,0,0,0,0,0,0,0,0,0,0,0,0,0,0,0,0,0,0,0,0,0,0,0,0,0,0,0,0,0,0,0,0,0,0,0,0,0,0,0,0,null,null,null,null,null,null,null,null,null,null,null,null,null,null,null,null,null,null,null,null,null,null,null,null,null,null,null,null,null,null,null,null,null,null,null,null,null,null,null,null,null,null,null,null,null,null,null,null,null,null,null,null,null,null,null,"R5300SB","IMPORTS","_Z","_Z","_Z","_Z","_Z","IR","ENERGY","_Z","TJ_GCV",null,"nrg_ind_ibmg","TRADE","R5300SB","IMP","IR","TJ_GCV","Agg.=SUM(countries)"]
[null,null,null,null,null,null,"Iraq",null,null,null,null,null,null,null,null,null,null,null,null,null,null,0,0,0,0,0,0,0,0,0,0,0,0,0,0,0,0,0,0,0,0,0,0,0,0,0,0,0,0,0,0,0,0,0,0,0,0,0,0,0,0,0,0,0,0,0,0,0,null,null,null,null,null,null,null,null,null,null,null,null,null,null,null,null,null,null,null,null,null,null,null,null,null,null,null,null,null,null,null,null,null,null,null,null,null,null,null,null,null,null,null,null,null,null,null,null,null,null,null,null,null,null,null,"R5300SB","IMPORTS","_Z","_Z","_Z","_Z","_Z","IQ","ENERGY","_Z","TJ_GCV",null,"nrg_ind_ibmg","TRADE","R5300SB","IMP","IQ","TJ_GCV","Agg.=SUM(countries)"]
[null,null,null,null,null,null,"Ireland",null,null,null,null,null,null,null,null,null,null,null,null,null,null,0,0,0,0,0,0,0,0,0,0,0,0,0,0,0,0,0,0,0,0,0,0,0,0,0,0,0,0,0,0,0,0,0,0,0,0,0,0,0,0,0,0,0,0,0,0,0,null,null,null,null,null,null,null,null,null,null,null,null,null,null,null,null,null,null,null,null,null,null,null,null,null,null,null,null,null,null,null,null,null,null,null,null,null,null,null,null,null,null,null,null,null,null,null,null,null,null,null,null,null,null,null,"R5300SB","IMPORTS","_Z","_Z","_Z","_Z","_Z","IE","ENERGY","_Z","TJ_GCV",null,"nrg_ind_ibmg","TRADE","R5300SB","IMP","IE","TJ_GCV","Agg.=SUM(countries)"]
[null,null,null,null,null,null,"Israel",null,null,null,null,null,null,null,null,null,null,null,null,null,null,0,0,0,0,0,0,0,0,0,0,0,0,0,0,0,0,0,0,0,0,0,0,0,0,0,0,0,0,0,0,0,0,0,0,0,0,0,0,0,0,0,0,0,0,0,0,0,null,null,null,null,null,null,null,null,null,null,null,null,null,null,null,null,null,null,null,null,null,null,null,null,null,null,null,null,null,null,null,null,null,null,null,null,null,null,null,null,null,null,null,null,null,null,null,null,null,null,null,null,null,null,null,"R5300SB","IMPORTS","_Z","_Z","_Z","_Z","_Z","IL","ENERGY","_Z","TJ_GCV",null,"nrg_ind_ibmg","TRADE","R5300SB","IMP","IL","TJ_GCV","Agg.=SUM(countries)"]
[null,null,null,null,null,null,"Italy",null,null,null,null,null,null,null,null,null,null,null,null,null,null,0,0,0,0,0,0,0,0,0,0,0,0,0,0,0,0,0,0,0,0,0,0,0,0,0,0,0,0,0,0,0,0,0,0,0,0,0,0,0,0,0,0,0,0,0,0,0,null,null,null,null,null,null,null,null,null,null,null,null,null,null,null,null,null,null,null,null,null,null,null,null,null,null,null,null,null,null,null,null,null,null,null,null,null,null,null,null,null,null,null,null,null,null,null,null,null,null,null,null,null,null,null,"R5300SB","IMPORTS","_Z","_Z","_Z","_Z","_Z","IT","ENERGY","_Z","TJ_GCV",null,"nrg_ind_ibmg","TRADE","R5300SB","IMP","IT","TJ_GCV","Agg.=SUM(countries)"]
[null,null,null,null,null,null,"Jamaica",null,null,null,null,null,null,null,null,null,null,null,null,null,null,0,0,0,0,0,0,0,0,0,0,0,0,0,0,0,0,0,0,0,0,0,0,0,0,0,0,0,0,0,0,0,0,0,0,0,0,0,0,0,0,0,0,0,0,0,0,0,null,null,null,null,null,null,null,null,null,null,null,null,null,null,null,null,null,null,null,null,null,null,null,null,null,null,null,null,null,null,null,null,null,null,null,null,null,null,null,null,null,null,null,null,null,null,null,null,null,null,null,null,null,null,null,"R5300SB","IMPORTS","_Z","_Z","_Z","_Z","_Z","JM","ENERGY","_Z","TJ_GCV",null,"nrg_ind_ibmg","TRADE","R5300SB","IMP","JM","TJ_GCV","Agg.=SUM(countries)"]
[null,null,null,null,null,null,"Japan",null,null,null,null,null,null,null,null,null,null,null,null,null,null,0,0,0,0,0,0,0,0,0,0,0,0,0,0,0,0,0,0,0,0,0,0,0,0,0,0,0,0,0,0,0,0,0,0,0,0,0,0,0,0,0,0,0,0,0,0,0,null,null,null,null,null,null,null,null,null,null,null,null,null,null,null,null,null,null,null,null,null,null,null,null,null,null,null,null,null,null,null,null,null,null,null,null,null,null,null,null,null,null,null,null,null,null,null,null,null,null,null,null,null,null,null,"R5300SB","IMPORTS","_Z","_Z","_Z","_Z","_Z","JP","ENERGY","_Z","TJ_GCV",null,"nrg_ind_ibmg","TRADE","R5300SB","IMP","JP","TJ_GCV","Agg.=SUM(countries)"]
[null,null,null,null,null,null,"Jordan",null,null,null,null,null,null,null,null,null,null,null,null,null,null,0,0,0,0,0,0,0,0,0,0,0,0,0,0,0,0,0,0,0,0,0,0,0,0,0,0,0,0,0,0,0,0,0,0,0,0,0,0,0,0,0,0,0,0,0,0,0,null,null,null,null,null,null,null,null,null,null,null,null,null,null,null,null,null,null,null,null,null,null,null,null,null,null,null,null,null,null,null,null,null,null,null,null,null,null,null,null,null,null,null,null,null,null,null,null,null,null,null,null,null,null,null,"R5300SB","IMPORTS","_Z","_Z","_Z","_Z","_Z","JO","ENERGY","_Z","TJ_GCV",null,"nrg_ind_ibmg","TRADE","R5300SB","IMP","JO","TJ_GCV","Agg.=SUM(countries)"]
[null,null,null,null,null,null,"Kazakhstan",null,null,null,null,null,null,null,null,null,null,null,null,null,null,0,0,0,0,0,0,0,0,0,0,0,0,0,0,0,0,0,0,0,0,0,0,0,0,0,0,0,0,0,0,0,0,0,0,0,0,0,0,0,0,0,0,0,0,0,0,0,null,null,null,null,null,null,null,null,null,null,null,null,null,null,null,null,null,null,null,null,null,null,null,null,null,null,null,null,null,null,null,null,null,null,null,null,null,null,null,null,null,null,null,null,null,null,null,null,null,null,null,null,null,null,null,"R5300SB","IMPORTS","_Z","_Z","_Z","_Z","_Z","KZ","ENERGY","_Z","TJ_GCV",null,"nrg_ind_ibmg","TRADE","R5300SB","IMP","KZ","TJ_GCV","Agg.=SUM(countries)"]
[null,null,null,null,null,null,"Kenya",null,null,null,null,null,null,null,null,null,null,null,null,null,null,0,0,0,0,0,0,0,0,0,0,0,0,0,0,0,0,0,0,0,0,0,0,0,0,0,0,0,0,0,0,0,0,0,0,0,0,0,0,0,0,0,0,0,0,0,0,0,null,null,null,null,null,null,null,null,null,null,null,null,null,null,null,null,null,null,null,null,null,null,null,null,null,null,null,null,null,null,null,null,null,null,null,null,null,null,null,null,null,null,null,null,null,null,null,null,null,null,null,null,null,null,null,"R5300SB","IMPORTS","_Z","_Z","_Z","_Z","_Z","KE","ENERGY","_Z","TJ_GCV",null,"nrg_ind_ibmg","TRADE","R5300SB","IMP","KE","TJ_GCV","Agg.=SUM(countries)"]
[null,null,null,null,null,null,"Korea",null,null,null,null,null,null,null,null,null,null,null,null,null,null,0,0,0,0,0,0,0,0,0,0,0,0,0,0,0,0,0,0,0,0,0,0,0,0,0,0,0,0,0,0,0,0,0,0,0,0,0,0,0,0,0,0,0,0,0,0,0,null,null,null,null,null,null,null,null,null,null,null,null,null,null,null,null,null,null,null,null,null,null,null,null,null,null,null,null,null,null,null,null,null,null,null,null,null,null,null,null,null,null,null,null,null,null,null,null,null,null,null,null,null,null,null,"R5300SB","IMPORTS","_Z","_Z","_Z","_Z","_Z","KR","ENERGY","_Z","TJ_GCV",null,"nrg_ind_ibmg","TRADE","R5300SB","IMP","KR","TJ_GCV","Agg.=SUM(countries)"]
[null,null,null,null,null,null,"Kosovo*",null,null,null,null,null,null,null,null,null,null,null,null,null,null,0,0,0,0,0,0,0,0,0,0,0,0,0,0,0,0,0,0,0,0,0,0,0,0,0,0,0,0,0,0,0,0,0,0,0,0,0,0,0,0,0,0,0,0,0,0,0,null,null,null,null,null,null,null,null,null,null,null,null,null,null,null,null,null,null,null,null,null,null,null,null,null,null,null,null,null,null,null,null,null,null,null,null,null,null,null,null,null,null,null,null,null,null,null,null,null,null,null,null,null,null,null,"R5300SB","IMPORTS","_Z","_Z","_Z","_Z","_Z","XK","ENERGY","_Z","TJ_GCV",null,"nrg_ind_ibmg","TRADE","R5300SB","IMP","XK","TJ_GCV","Agg.=SUM(countries)"]
[null,null,null,null,null,null,"Kuwait",null,null,null,null,null,null,null,null,null,null,null,null,null,null,0,0,0,0,0,0,0,0,0,0,0,0,0,0,0,0,0,0,0,0,0,0,0,0,0,0,0,0,0,0,0,0,0,0,0,0,0,0,0,0,0,0,0,0,0,0,0,null,null,null,null,null,null,null,null,null,null,null,null,null,null,null,null,null,null,null,null,null,null,null,null,null,null,null,null,null,null,null,null,null,null,null,null,null,null,null,null,null,null,null,null,null,null,null,null,null,null,null,null,null,null,null,"R5300SB","IMPORTS","_Z","_Z","_Z","_Z","_Z","KW","ENERGY","_Z","TJ_GCV",null,"nrg_ind_ibmg","TRADE","R5300SB","IMP","KW","TJ_GCV","Agg.=SUM(countries)"]
[null,null,null,null,null,null,"Kyrgyzstan",null,null,null,null,null,null,null,null,null,null,null,null,null,null,0,0,0,0,0,0,0,0,0,0,0,0,0,0,0,0,0,0,0,0,0,0,0,0,0,0,0,0,0,0,0,0,0,0,0,0,0,0,0,0,0,0,0,0,0,0,0,null,null,null,null,null,null,null,null,null,null,null,null,null,null,null,null,null,null,null,null,null,null,null,null,null,null,null,null,null,null,null,null,null,null,null,null,null,null,null,null,null,null,null,null,null,null,null,null,null,null,null,null,null,null,null,"R5300SB","IMPORTS","_Z","_Z","_Z","_Z","_Z","KG","ENERGY","_Z","TJ_GCV",null,"nrg_ind_ibmg","TRADE","R5300SB","IMP","KG","TJ_GCV","Agg.=SUM(countries)"]
[null,null,null,null,null,null,"Lao People's Democratic Republic",null,null,null,null,null,null,null,null,null,null,null,null,null,null,0,0,0,0,0,0,0,0,0,0,0,0,0,0,0,0,0,0,0,0,0,0,0,0,0,0,0,0,0,0,0,0,0,0,0,0,0,0,0,0,0,0,0,0,0,0,0,null,null,null,null,null,null,null,null,null,null,null,null,null,null,null,null,null,null,null,null,null,null,null,null,null,null,null,null,null,null,null,null,null,null,null,null,null,null,null,null,null,null,null,null,null,null,null,null,null,null,null,null,null,null,null,"R5300SB","IMPORTS","_Z","_Z","_Z","_Z","_Z","LA","ENERGY","_Z","TJ_GCV",null,"nrg_ind_ibmg","TRADE","R5300SB","IMP","LA","TJ_GCV","Agg.=SUM(countries)"]
[null,null,null,null,null,null,"Latvia",null,null,null,null,null,null,null,null,null,null,null,null,null,null,0,0,0,0,0,0,0,0,0,0,0,0,0,0,0,0,0,0,0,0,0,0,0,0,0,0,0,0,0,0,0,0,0,0,0,0,0,0,0,0,0,0,0,0,0,0,0,null,null,null,null,null,null,null,null,null,null,null,null,null,null,null,null,null,null,null,null,null,null,null,null,null,null,null,null,null,null,null,null,null,null,null,null,null,null,null,null,null,null,null,null,null,null,null,null,null,null,null,null,null,null,null,"R5300SB","IMPORTS","_Z","_Z","_Z","_Z","_Z","LV","ENERGY","_Z","TJ_GCV",null,"nrg_ind_ibmg","TRADE","R5300SB","IMP","LV","TJ_GCV","Agg.=SUM(countries)"]
[null,null,null,null,null,null,"Lebanon",null,null,null,null,null,null,null,null,null,null,null,null,null,null,0,0,0,0,0,0,0,0,0,0,0,0,0,0,0,0,0,0,0,0,0,0,0,0,0,0,0,0,0,0,0,0,0,0,0,0,0,0,0,0,0,0,0,0,0,0,0,null,null,null,null,null,null,null,null,null,null,null,null,null,null,null,null,null,null,null,null,null,null,null,null,null,null,null,null,null,null,null,null,null,null,null,null,null,null,null,null,null,null,null,null,null,null,null,null,null,null,null,null,null,null,null,"R5300SB","IMPORTS","_Z","_Z","_Z","_Z","_Z","LB","ENERGY","_Z","TJ_GCV",null,"nrg_ind_ibmg","TRADE","R5300SB","IMP","LB","TJ_GCV","Agg.=SUM(countries)"]
[null,null,null,null,null,null,"Liberia",null,null,null,null,null,null,null,null,null,null,null,null,null,null,0,0,0,0,0,0,0,0,0,0,0,0,0,0,0,0,0,0,0,0,0,0,0,0,0,0,0,0,0,0,0,0,0,0,0,0,0,0,0,0,0,0,0,0,0,0,0,null,null,null,null,null,null,null,null,null,null,null,null,null,null,null,null,null,null,null,null,null,null,null,null,null,null,null,null,null,null,null,null,null,null,null,null,null,null,null,null,null,null,null,null,null,null,null,null,null,null,null,null,null,null,null,"R5300SB","IMPORTS","_Z","_Z","_Z","_Z","_Z","LR","ENERGY","_Z","TJ_GCV",null,"nrg_ind_ibmg","TRADE","R5300SB","IMP","LR","TJ_GCV","Agg.=SUM(countries)"]
[null,null,null,null,null,null,"Libya",null,null,null,null,null,null,null,null,null,null,null,null,null,null,0,0,0,0,0,0,0,0,0,0,0,0,0,0,0,0,0,0,0,0,0,0,0,0,0,0,0,0,0,0,0,0,0,0,0,0,0,0,0,0,0,0,0,0,0,0,0,null,null,null,null,null,null,null,null,null,null,null,null,null,null,null,null,null,null,null,null,null,null,null,null,null,null,null,null,null,null,null,null,null,null,null,null,null,null,null,null,null,null,null,null,null,null,null,null,null,null,null,null,null,null,null,"R5300SB","IMPORTS","_Z","_Z","_Z","_Z","_Z","LY","ENERGY","_Z","TJ_GCV",null,"nrg_ind_ibmg","TRADE","R5300SB","IMP","LY","TJ_GCV","Agg.=SUM(countries)"]
[null,null,null,null,null,null,"Liechtenstein",null,null,null,null,null,null,null,null,null,null,null,null,null,null,0,0,0,0,0,0,0,0,0,0,0,0,0,0,0,0,0,0,0,0,0,0,0,0,0,0,0,0,0,0,0,0,0,0,0,0,0,0,0,0,0,0,0,0,0,0,0,null,null,null,null,null,null,null,null,null,null,null,null,null,null,null,null,null,null,null,null,null,null,null,null,null,null,null,null,null,null,null,null,null,null,null,null,null,null,null,null,null,null,null,null,null,null,null,null,null,null,null,null,null,null,null,"R5300SB","IMPORTS","_Z","_Z","_Z","_Z","_Z","LI","ENERGY","_Z","TJ_GCV",null,"nrg_ind_ibmg","TRADE","R5300SB","IMP","LI","TJ_GCV","Agg.=SUM(countries)"]
[null,null,null,null,null,null,"Lithuania",null,null,null,null,null,null,null,null,null,null,null,null,null,null,0,0,0,0,0,0,0,0,0,0,0,0,0,0,0,0,0,0,0,0,0,0,0,0,0,0,0,0,0,0,0,0,0,0,0,0,0,0,0,0,0,0,0,0,0,0,0,null,null,null,null,null,null,null,null,null,null,null,null,null,null,null,null,null,null,null,null,null,null,null,null,null,null,null,null,null,null,null,null,null,null,null,null,null,null,null,null,null,null,null,null,null,null,null,null,null,null,null,null,null,null,null,"R5300SB","IMPORTS","_Z","_Z","_Z","_Z","_Z","LT","ENERGY","_Z","TJ_GCV",null,"nrg_ind_ibmg","TRADE","R5300SB","IMP","LT","TJ_GCV","Agg.=SUM(countries)"]
[null,null,null,null,null,null,"Luxembourg",null,null,null,null,null,null,null,null,null,null,null,null,null,null,0,0,0,0,0,0,0,0,0,0,0,0,0,0,0,0,0,0,0,0,0,0,0,0,0,0,0,0,0,0,0,0,0,0,0,0,0,0,0,0,0,0,0,0,0,0,0,null,null,null,null,null,null,null,null,null,null,null,null,null,null,null,null,null,null,null,null,null,null,null,null,null,null,null,null,null,null,null,null,null,null,null,null,null,null,null,null,null,null,null,null,null,null,null,null,null,null,null,null,null,null,null,"R5300SB","IMPORTS","_Z","_Z","_Z","_Z","_Z","LU","ENERGY","_Z","TJ_GCV",null,"nrg_ind_ibmg","TRADE","R5300SB","IMP","LU","TJ_GCV","Agg.=SUM(countries)"]
[null,null,null,null,null,null,"Madagascar",null,null,null,null,null,null,null,null,null,null,null,null,null,null,0,0,0,0,0,0,0,0,0,0,0,0,0,0,0,0,0,0,0,0,0,0,0,0,0,0,0,0,0,0,0,0,0,0,0,0,0,0,0,0,0,0,0,0,0,0,0,null,null,null,null,null,null,null,null,null,null,null,null,null,null,null,null,null,null,null,null,null,null,null,null,null,null,null,null,null,null,null,null,null,null,null,null,null,null,null,null,null,null,null,null,null,null,null,null,null,null,null,null,null,null,null,"R5300SB","IMPORTS","_Z","_Z","_Z","_Z","_Z","MG","ENERGY","_Z","TJ_GCV",null,"nrg_ind_ibmg","TRADE","R5300SB","IMP","MG","TJ_GCV","Agg.=SUM(countries)"]
[null,null,null,null,null,null,"Malaysia",null,null,null,null,null,null,null,null,null,null,null,null,null,null,0,0,0,0,0,0,0,0,0,0,0,0,0,0,0,0,0,0,0,0,0,0,0,0,0,0,0,0,0,0,0,0,0,0,0,0,0,0,0,0,0,0,0,0,0,0,0,null,null,null,null,null,null,null,null,null,null,null,null,null,null,null,null,null,null,null,null,null,null,null,null,null,null,null,null,null,null,null,null,null,null,null,null,null,null,null,null,null,null,null,null,null,null,null,null,null,null,null,null,null,null,null,"R5300SB","IMPORTS","_Z","_Z","_Z","_Z","_Z","MY","ENERGY","_Z","TJ_GCV",null,"nrg_ind_ibmg","TRADE","R5300SB","IMP","MY","TJ_GCV","Agg.=SUM(countries)"]
[null,null,null,null,null,null,"Malta",null,null,null,null,null,null,null,null,null,null,null,null,null,null,0,0,0,0,0,0,0,0,0,0,0,0,0,0,0,0,0,0,0,0,0,0,0,0,0,0,0,0,0,0,0,0,0,0,0,0,0,0,0,0,0,0,0,0,0,0,0,null,null,null,null,null,null,null,null,null,null,null,null,null,null,null,null,null,null,null,null,null,null,null,null,null,null,null,null,null,null,null,null,null,null,null,null,null,null,null,null,null,null,null,null,null,null,null,null,null,null,null,null,null,null,null,"R5300SB","IMPORTS","_Z","_Z","_Z","_Z","_Z","MT","ENERGY","_Z","TJ_GCV",null,"nrg_ind_ibmg","TRADE","R5300SB","IMP","MT","TJ_GCV","Agg.=SUM(countries)"]
[null,null,null,null,null,null,"Marshall Islands",null,null,null,null,null,null,null,null,null,null,null,null,null,null,0,0,0,0,0,0,0,0,0,0,0,0,0,0,0,0,0,0,0,0,0,0,0,0,0,0,0,0,0,0,0,0,0,0,0,0,0,0,0,0,0,0,0,0,0,0,0,null,null,null,null,null,null,null,null,null,null,null,null,null,null,null,null,null,null,null,null,null,null,null,null,null,null,null,null,null,null,null,null,null,null,null,null,null,null,null,null,null,null,null,null,null,null,null,null,null,null,null,null,null,null,null,"R5300SB","IMPORTS","_Z","_Z","_Z","_Z","_Z","MH","ENERGY","_Z","TJ_GCV",null,"nrg_ind_ibmg","TRADE","R5300SB","IMP","MH","TJ_GCV","Agg.=SUM(countries)"]
[null,null,null,null,null,null,"Mauritania",null,null,null,null,null,null,null,null,null,null,null,null,null,null,0,0,0,0,0,0,0,0,0,0,0,0,0,0,0,0,0,0,0,0,0,0,0,0,0,0,0,0,0,0,0,0,0,0,0,0,0,0,0,0,0,0,0,0,0,0,0,null,null,null,null,null,null,null,null,null,null,null,null,null,null,null,null,null,null,null,null,null,null,null,null,null,null,null,null,null,null,null,null,null,null,null,null,null,null,null,null,null,null,null,null,null,null,null,null,null,null,null,null,null,null,null,"R5300SB","IMPORTS","_Z","_Z","_Z","_Z","_Z","MR","ENERGY","_Z","TJ_GCV",null,"nrg_ind_ibmg","TRADE","R5300SB","IMP","MR","TJ_GCV","Agg.=SUM(countries)"]
[null,null,null,null,null,null,"Mauritius",null,null,null,null,null,null,null,null,null,null,null,null,null,null,0,0,0,0,0,0,0,0,0,0,0,0,0,0,0,0,0,0,0,0,0,0,0,0,0,0,0,0,0,0,0,0,0,0,0,0,0,0,0,0,0,0,0,0,0,0,0,null,null,null,null,null,null,null,null,null,null,null,null,null,null,null,null,null,null,null,null,null,null,null,null,null,null,null,null,null,null,null,null,null,null,null,null,null,null,null,null,null,null,null,null,null,null,null,null,null,null,null,null,null,null,null,"R5300SB","IMPORTS","_Z","_Z","_Z","_Z","_Z","MU","ENERGY","_Z","TJ_GCV",null,"nrg_ind_ibmg","TRADE","R5300SB","IMP","MU","TJ_GCV","Agg.=SUM(countries)"]
[null,null,null,null,null,null,"Mexico",null,null,null,null,null,null,null,null,null,null,null,null,null,null,0,0,0,0,0,0,0,0,0,0,0,0,0,0,0,0,0,0,0,0,0,0,0,0,0,0,0,0,0,0,0,0,0,0,0,0,0,0,0,0,0,0,0,0,0,0,0,null,null,null,null,null,null,null,null,null,null,null,null,null,null,null,null,null,null,null,null,null,null,null,null,null,null,null,null,null,null,null,null,null,null,null,null,null,null,null,null,null,null,null,null,null,null,null,null,null,null,null,null,null,null,null,"R5300SB","IMPORTS","_Z","_Z","_Z","_Z","_Z","MX","ENERGY","_Z","TJ_GCV",null,"nrg_ind_ibmg","TRADE","R5300SB","IMP","MX","TJ_GCV","Agg.=SUM(countries)"]
[null,null,null,null,null,null,"Moldova, Republic of",null,null,null,null,null,null,null,null,null,null,null,null,null,null,0,0,0,0,0,0,0,0,0,0,0,0,0,0,0,0,0,0,0,0,0,0,0,0,0,0,0,0,0,0,0,0,0,0,0,0,0,0,0,0,0,0,0,0,0,0,0,null,null,null,null,null,null,null,null,null,null,null,null,null,null,null,null,null,null,null,null,null,null,null,null,null,null,null,null,null,null,null,null,null,null,null,null,null,null,null,null,null,null,null,null,null,null,null,null,null,null,null,null,null,null,null,"R5300SB","IMPORTS","_Z","_Z","_Z","_Z","_Z","MD","ENERGY","_Z","TJ_GCV",null,"nrg_ind_ibmg","TRADE","R5300SB","IMP","MD","TJ_GCV","Agg.=SUM(countries)"]
[null,null,null,null,null,null,"Mongolia",null,null,null,null,null,null,null,null,null,null,null,null,null,null,0,0,0,0,0,0,0,0,0,0,0,0,0,0,0,0,0,0,0,0,0,0,0,0,0,0,0,0,0,0,0,0,0,0,0,0,0,0,0,0,0,0,0,0,0,0,0,null,null,null,null,null,null,null,null,null,null,null,null,null,null,null,null,null,null,null,null,null,null,null,null,null,null,null,null,null,null,null,null,null,null,null,null,null,null,null,null,null,null,null,null,null,null,null,null,null,null,null,null,null,null,null,"R5300SB","IMPORTS","_Z","_Z","_Z","_Z","_Z","MN","ENERGY","_Z","TJ_GCV",null,"nrg_ind_ibmg","TRADE","R5300SB","IMP","MN","TJ_GCV","Agg.=SUM(countries)"]
[null,null,null,null,null,null,"Montenegro",null,null,null,null,null,null,null,null,null,null,null,null,null,null,0,0,0,0,0,0,0,0,0,0,0,0,0,0,0,0,0,0,0,0,0,0,0,0,0,0,0,0,0,0,0,0,0,0,0,0,0,0,0,0,0,0,0,0,0,0,0,null,null,null,null,null,null,null,null,null,null,null,null,null,null,null,null,null,null,null,null,null,null,null,null,null,null,null,null,null,null,null,null,null,null,null,null,null,null,null,null,null,null,null,null,null,null,null,null,null,null,null,null,null,null,null,"R5300SB","IMPORTS","_Z","_Z","_Z","_Z","_Z","ME","ENERGY","_Z","TJ_GCV",null,"nrg_ind_ibmg","TRADE","R5300SB","IMP","ME","TJ_GCV","Agg.=SUM(countries)"]
[null,null,null,null,null,null,"Morocco",null,null,null,null,null,null,null,null,null,null,null,null,null,null,0,0,0,0,0,0,0,0,0,0,0,0,0,0,0,0,0,0,0,0,0,0,0,0,0,0,0,0,0,0,0,0,0,0,0,0,0,0,0,0,0,0,0,0,0,0,0,null,null,null,null,null,null,null,null,null,null,null,null,null,null,null,null,null,null,null,null,null,null,null,null,null,null,null,null,null,null,null,null,null,null,null,null,null,null,null,null,null,null,null,null,null,null,null,null,null,null,null,null,null,null,null,"R5300SB","IMPORTS","_Z","_Z","_Z","_Z","_Z","MA","ENERGY","_Z","TJ_GCV",null,"nrg_ind_ibmg","TRADE","R5300SB","IMP","MA","TJ_GCV","Agg.=SUM(countries)"]
[null,null,null,null,null,null,"Mozambique",null,null,null,null,null,null,null,null,null,null,null,null,null,null,0,0,0,0,0,0,0,0,0,0,0,0,0,0,0,0,0,0,0,0,0,0,0,0,0,0,0,0,0,0,0,0,0,0,0,0,0,0,0,0,0,0,0,0,0,0,0,null,null,null,null,null,null,null,null,null,null,null,null,null,null,null,null,null,null,null,null,null,null,null,null,null,null,null,null,null,null,null,null,null,null,null,null,null,null,null,null,null,null,null,null,null,null,null,null,null,null,null,null,null,null,null,"R5300SB","IMPORTS","_Z","_Z","_Z","_Z","_Z","MZ","ENERGY","_Z","TJ_GCV",null,"nrg_ind_ibmg","TRADE","R5300SB","IMP","MZ","TJ_GCV","Agg.=SUM(countries)"]
[null,null,null,null,null,null,"Myanmar",null,null,null,null,null,null,null,null,null,null,null,null,null,null,0,0,0,0,0,0,0,0,0,0,0,0,0,0,0,0,0,0,0,0,0,0,0,0,0,0,0,0,0,0,0,0,0,0,0,0,0,0,0,0,0,0,0,0,0,0,0,null,null,null,null,null,null,null,null,null,null,null,null,null,null,null,null,null,null,null,null,null,null,null,null,null,null,null,null,null,null,null,null,null,null,null,null,null,null,null,null,null,null,null,null,null,null,null,null,null,null,null,null,null,null,null,"R5300SB","IMPORTS","_Z","_Z","_Z","_Z","_Z","MM","ENERGY","_Z","TJ_GCV",null,"nrg_ind_ibmg","TRADE","R5300SB","IMP","MM","TJ_GCV","Agg.=SUM(countries)"]
[null,null,null,null,null,null,"Namibia",null,null,null,null,null,null,null,null,null,null,null,null,null,null,0,0,0,0,0,0,0,0,0,0,0,0,0,0,0,0,0,0,0,0,0,0,0,0,0,0,0,0,0,0,0,0,0,0,0,0,0,0,0,0,0,0,0,0,0,0,0,null,null,null,null,null,null,null,null,null,null,null,null,null,null,null,null,null,null,null,null,null,null,null,null,null,null,null,null,null,null,null,null,null,null,null,null,null,null,null,null,null,null,null,null,null,null,null,null,null,null,null,null,null,null,null,"R5300SB","IMPORTS","_Z","_Z","_Z","_Z","_Z","NA","ENERGY","_Z","TJ_GCV",null,"nrg_ind_ibmg","TRADE","R5300SB","IMP","NA","TJ_GCV","Agg.=SUM(countries)"]
[null,null,null,null,null,null,"Nepal",null,null,null,null,null,null,null,null,null,null,null,null,null,null,0,0,0,0,0,0,0,0,0,0,0,0,0,0,0,0,0,0,0,0,0,0,0,0,0,0,0,0,0,0,0,0,0,0,0,0,0,0,0,0,0,0,0,0,0,0,0,null,null,null,null,null,null,null,null,null,null,null,null,null,null,null,null,null,null,null,null,null,null,null,null,null,null,null,null,null,null,null,null,null,null,null,null,null,null,null,null,null,null,null,null,null,null,null,null,null,null,null,null,null,null,null,"R5300SB","IMPORTS","_Z","_Z","_Z","_Z","_Z","NP","ENERGY","_Z","TJ_GCV",null,"nrg_ind_ibmg","TRADE","R5300SB","IMP","NP","TJ_GCV","Agg.=SUM(countries)"]
[null,null,null,null,null,null,"Netherlands",null,null,null,null,null,null,null,null,null,null,null,null,null,null,0,0,0,0,0,0,0,0,0,0,0,0,0,0,0,0,0,0,0,0,0,0,0,0,0,0,0,0,0,0,0,0,0,0,0,0,0,0,0,0,0,0,0,0,0,0,0,null,null,null,null,null,null,null,null,null,null,null,null,null,null,null,null,null,null,null,null,null,null,null,null,null,null,null,null,null,null,null,null,null,null,null,null,null,null,null,null,null,null,null,null,null,null,null,null,null,null,null,null,null,null,null,"R5300SB","IMPORTS","_Z","_Z","_Z","_Z","_Z","NL","ENERGY","_Z","TJ_GCV",null,"nrg_ind_ibmg","TRADE","R5300SB","IMP","NL","TJ_GCV","Agg.=SUM(countries)"]
[null,null,null,null,null,null,"New Caledonia",null,null,null,null,null,null,null,null,null,null,null,null,null,null,0,0,0,0,0,0,0,0,0,0,0,0,0,0,0,0,0,0,0,0,0,0,0,0,0,0,0,0,0,0,0,0,0,0,0,0,0,0,0,0,0,0,0,0,0,0,0,null,null,null,null,null,null,null,null,null,null,null,null,null,null,null,null,null,null,null,null,null,null,null,null,null,null,null,null,null,null,null,null,null,null,null,null,null,null,null,null,null,null,null,null,null,null,null,null,null,null,null,null,null,null,null,"R5300SB","IMPORTS","_Z","_Z","_Z","_Z","_Z","NC","ENERGY","_Z","TJ_GCV",null,"nrg_ind_ibmg","TRADE","R5300SB","IMP","NC","TJ_GCV","Agg.=SUM(countries)"]
[null,null,null,null,null,null,"New Zealand",null,null,null,null,null,null,null,null,null,null,null,null,null,null,0,0,0,0,0,0,0,0,0,0,0,0,0,0,0,0,0,0,0,0,0,0,0,0,0,0,0,0,0,0,0,0,0,0,0,0,0,0,0,0,0,0,0,0,0,0,0,null,null,null,null,null,null,null,null,null,null,null,null,null,null,null,null,null,null,null,null,null,null,null,null,null,null,null,null,null,null,null,null,null,null,null,null,null,null,null,null,null,null,null,null,null,null,null,null,null,null,null,null,null,null,null,"R5300SB","IMPORTS","_Z","_Z","_Z","_Z","_Z","NZ","ENERGY","_Z","TJ_GCV",null,"nrg_ind_ibmg","TRADE","R5300SB","IMP","NZ","TJ_GCV","Agg.=SUM(countries)"]
[null,null,null,null,null,null,"Niger",null,null,null,null,null,null,null,null,null,null,null,null,null,null,0,0,0,0,0,0,0,0,0,0,0,0,0,0,0,0,0,0,0,0,0,0,0,0,0,0,0,0,0,0,0,0,0,0,0,0,0,0,0,0,0,0,0,0,0,0,0,null,null,null,null,null,null,null,null,null,null,null,null,null,null,null,null,null,null,null,null,null,null,null,null,null,null,null,null,null,null,null,null,null,null,null,null,null,null,null,null,null,null,null,null,null,null,null,null,null,null,null,null,null,null,null,"R5300SB","IMPORTS","_Z","_Z","_Z","_Z","_Z","NE","ENERGY","_Z","TJ_GCV",null,"nrg_ind_ibmg","TRADE","R5300SB","IMP","NE","TJ_GCV","Agg.=SUM(countries)"]
[null,null,null,null,null,null,"Nigeria",null,null,null,null,null,null,null,null,null,null,null,null,null,null,0,0,0,0,0,0,0,0,0,0,0,0,0,0,0,0,0,0,0,0,0,0,0,0,0,0,0,0,0,0,0,0,0,0,0,0,0,0,0,0,0,0,0,0,0,0,0,null,null,null,null,null,null,null,null,null,null,null,null,null,null,null,null,null,null,null,null,null,null,null,null,null,null,null,null,null,null,null,null,null,null,null,null,null,null,null,null,null,null,null,null,null,null,null,null,null,null,null,null,null,null,null,"R5300SB","IMPORTS","_Z","_Z","_Z","_Z","_Z","NG","ENERGY","_Z","TJ_GCV",null,"nrg_ind_ibmg","TRADE","R5300SB","IMP","NG","TJ_GCV","Agg.=SUM(countries)"]
[null,null,null,null,null,null,"North Macedonia",null,null,null,null,null,null,null,null,null,null,null,null,null,null,0,0,0,0,0,0,0,0,0,0,0,0,0,0,0,0,0,0,0,0,0,0,0,0,0,0,0,0,0,0,0,0,0,0,0,0,0,0,0,0,0,0,0,0,0,0,0,null,null,null,null,null,null,null,null,null,null,null,null,null,null,null,null,null,null,null,null,null,null,null,null,null,null,null,null,null,null,null,null,null,null,null,null,null,null,null,null,null,null,null,null,null,null,null,null,null,null,null,null,null,null,null,"R5300SB","IMPORTS","_Z","_Z","_Z","_Z","_Z","MK","ENERGY","_Z","TJ_GCV",null,"nrg_ind_ibmg","TRADE","R5300SB","IMP","MK","TJ_GCV","Agg.=SUM(countries)"]
[null,null,null,null,null,null,"Norway",null,null,null,null,null,null,null,null,null,null,null,null,null,null,0,0,0,0,0,0,0,0,0,0,0,0,0,0,0,0,0,0,0,0,0,0,0,0,0,0,0,0,0,0,0,0,0,0,0,0,0,0,0,0,0,0,0,0,0,0,0,null,null,null,null,null,null,null,null,null,null,null,null,null,null,null,null,null,null,null,null,null,null,null,null,null,null,null,null,null,null,null,null,null,null,null,null,null,null,null,null,null,null,null,null,null,null,null,null,null,null,null,null,null,null,null,"R5300SB","IMPORTS","_Z","_Z","_Z","_Z","_Z","NO","ENERGY","_Z","TJ_GCV",null,"nrg_ind_ibmg","TRADE","R5300SB","IMP","NO","TJ_GCV","Agg.=SUM(countries)"]
[null,null,null,null,null,null,"Oman",null,null,null,null,null,null,null,null,null,null,null,null,null,null,0,0,0,0,0,0,0,0,0,0,0,0,0,0,0,0,0,0,0,0,0,0,0,0,0,0,0,0,0,0,0,0,0,0,0,0,0,0,0,0,0,0,0,0,0,0,0,null,null,null,null,null,null,null,null,null,null,null,null,null,null,null,null,null,null,null,null,null,null,null,null,null,null,null,null,null,null,null,null,null,null,null,null,null,null,null,null,null,null,null,null,null,null,null,null,null,null,null,null,null,null,null,"R5300SB","IMPORTS","_Z","_Z","_Z","_Z","_Z","OM","ENERGY","_Z","TJ_GCV",null,"nrg_ind_ibmg","TRADE","R5300SB","IMP","OM","TJ_GCV","Agg.=SUM(countries)"]
[null,null,null,null,null,null,"Other Africa",null,null,null,null,null,null,null,null,null,null,null,null,null,null,0,0,0,0,0,0,0,0,0,0,0,0,0,0,0,0,0,0,0,0,0,0,0,0,0,0,0,0,0,0,0,0,0,0,0,0,0,0,0,0,0,0,0,0,0,0,0,null,null,null,null,null,null,null,null,null,null,null,null,null,null,null,null,null,null,null,null,null,null,null,null,null,null,null,null,null,null,null,null,null,null,null,null,null,null,null,null,null,null,null,null,null,null,null,null,null,null,null,null,null,null,null,"R5300SB","IMPORTS","_Z","_Z","_Z","_Z","_Z","OX1","ENERGY","_Z","TJ_GCV",null,"nrg_ind_ibmg","TRADE","R5300SB","IMP","OX1","TJ_GCV","Agg.=SUM(countries)"]
[null,null,null,null,null,null,"Other Asia Oceania",null,null,null,null,null,null,null,null,null,null,null,null,null,null,0,0,0,0,0,0,0,0,0,0,0,0,0,0,0,0,0,0,0,0,0,0,0,0,0,0,0,0,0,0,0,0,0,0,0,0,0,0,0,0,0,0,0,0,0,0,0,null,null,null,null,null,null,null,null,null,null,null,null,null,null,null,null,null,null,null,null,null,null,null,null,null,null,null,null,null,null,null,null,null,null,null,null,null,null,null,null,null,null,null,null,null,null,null,null,null,null,null,null,null,null,null,"R5300SB","IMPORTS","_Z","_Z","_Z","_Z","_Z","OX2","ENERGY","_Z","TJ_GCV",null,"nrg_ind_ibmg","TRADE","R5300SB","IMP","OX2","TJ_GCV","Agg.=SUM(countries)"]
[null,null,null,null,null,null,"Other Europe",null,null,null,null,null,null,null,null,null,null,null,null,null,null,0,0,0,0,0,0,0,0,0,0,0,0,0,0,0,0,0,0,0,0,0,0,0,0,0,0,0,0,0,0,0,0,0,0,0,0,0,0,0,0,0,0,0,0,0,0,0,null,null,null,null,null,null,null,null,null,null,null,null,null,null,null,null,null,null,null,null,null,null,null,null,null,null,null,null,null,null,null,null,null,null,null,null,null,null,null,null,null,null,null,null,null,null,null,null,null,null,null,null,null,null,null,"R5300SB","IMPORTS","_Z","_Z","_Z","_Z","_Z","OX3","ENERGY","_Z","TJ_GCV",null,"nrg_ind_ibmg","TRADE","R5300SB","IMP","OX3","TJ_GCV","Agg.=SUM(countries)"]
[null,null,null,null,null,null,"Other Former Soviet Union",null,null,null,null,null,null,null,null,null,null,null,null,null,null,0,0,0,0,0,0,0,0,0,0,0,0,0,0,0,0,0,0,0,0,0,0,0,0,0,0,0,0,0,0,0,0,0,0,0,0,0,0,0,0,0,0,0,0,0,0,0,null,null,null,null,null,null,null,null,null,null,null,null,null,null,null,null,null,null,null,null,null,null,null,null,null,null,null,null,null,null,null,null,null,null,null,null,null,null,null,null,null,null,null,null,null,null,null,null,null,null,null,null,null,null,null,"R5300SB","IMPORTS","_Z","_Z","_Z","_Z","_Z","OX4","ENERGY","_Z","TJ_GCV",null,"nrg_ind_ibmg","TRADE","R5300SB","IMP","OX4","TJ_GCV","Agg.=SUM(countries)"]
[null,null,null,null,null,null,"Other Near and Middle East",null,null,null,null,null,null,null,null,null,null,null,null,null,null,0,0,0,0,0,0,0,0,0,0,0,0,0,0,0,0,0,0,0,0,0,0,0,0,0,0,0,0,0,0,0,0,0,0,0,0,0,0,0,0,0,0,0,0,0,0,0,null,null,null,null,null,null,null,null,null,null,null,null,null,null,null,null,null,null,null,null,null,null,null,null,null,null,null,null,null,null,null,null,null,null,null,null,null,null,null,null,null,null,null,null,null,null,null,null,null,null,null,null,null,null,null,"R5300SB","IMPORTS","_Z","_Z","_Z","_Z","_Z","OX5","ENERGY","_Z","TJ_GCV",null,"nrg_ind_ibmg","TRADE","R5300SB","IMP","OX5","TJ_GCV","Agg.=SUM(countries)"]
[null,null,null,null,null,null,"Other Non-OECD Americas",null,null,null,null,null,null,null,null,null,null,null,null,null,null,0,0,0,0,0,0,0,0,0,0,0,0,0,0,0,0,0,0,0,0,0,0,0,0,0,0,0,0,0,0,0,0,0,0,0,0,0,0,0,0,0,0,0,0,0,0,0,null,null,null,null,null,null,null,null,null,null,null,null,null,null,null,null,null,null,null,null,null,null,null,null,null,null,null,null,null,null,null,null,null,null,null,null,null,null,null,null,null,null,null,null,null,null,null,null,null,null,null,null,null,null,null,"R5300SB","IMPORTS","_Z","_Z","_Z","_Z","_Z","OX6","ENERGY","_Z","TJ_GCV",null,"nrg_ind_ibmg","TRADE","R5300SB","IMP","OX6","TJ_GCV","Agg.=SUM(countries)"]
[null,null,null,null,null,null,"Pakistan",null,null,null,null,null,null,null,null,null,null,null,null,null,null,0,0,0,0,0,0,0,0,0,0,0,0,0,0,0,0,0,0,0,0,0,0,0,0,0,0,0,0,0,0,0,0,0,0,0,0,0,0,0,0,0,0,0,0,0,0,0,null,null,null,null,null,null,null,null,null,null,null,null,null,null,null,null,null,null,null,null,null,null,null,null,null,null,null,null,null,null,null,null,null,null,null,null,null,null,null,null,null,null,null,null,null,null,null,null,null,null,null,null,null,null,null,"R5300SB","IMPORTS","_Z","_Z","_Z","_Z","_Z","PK","ENERGY","_Z","TJ_GCV",null,"nrg_ind_ibmg","TRADE","R5300SB","IMP","PK","TJ_GCV","Agg.=SUM(countries)"]
[null,null,null,null,null,null,"Panama",null,null,null,null,null,null,null,null,null,null,null,null,null,null,0,0,0,0,0,0,0,0,0,0,0,0,0,0,0,0,0,0,0,0,0,0,0,0,0,0,0,0,0,0,0,0,0,0,0,0,0,0,0,0,0,0,0,0,0,0,0,null,null,null,null,null,null,null,null,null,null,null,null,null,null,null,null,null,null,null,null,null,null,null,null,null,null,null,null,null,null,null,null,null,null,null,null,null,null,null,null,null,null,null,null,null,null,null,null,null,null,null,null,null,null,null,"R5300SB","IMPORTS","_Z","_Z","_Z","_Z","_Z","PA","ENERGY","_Z","TJ_GCV",null,"nrg_ind_ibmg","TRADE","R5300SB","IMP","PA","TJ_GCV","Agg.=SUM(countries)"]
[null,null,null,null,null,null,"Papua New Guinea",null,null,null,null,null,null,null,null,null,null,null,null,null,null,0,0,0,0,0,0,0,0,0,0,0,0,0,0,0,0,0,0,0,0,0,0,0,0,0,0,0,0,0,0,0,0,0,0,0,0,0,0,0,0,0,0,0,0,0,0,0,null,null,null,null,null,null,null,null,null,null,null,null,null,null,null,null,null,null,null,null,null,null,null,null,null,null,null,null,null,null,null,null,null,null,null,null,null,null,null,null,null,null,null,null,null,null,null,null,null,null,null,null,null,null,null,"R5300SB","IMPORTS","_Z","_Z","_Z","_Z","_Z","PG","ENERGY","_Z","TJ_GCV",null,"nrg_ind_ibmg","TRADE","R5300SB","IMP","PG","TJ_GCV","Agg.=SUM(countries)"]
[null,null,null,null,null,null,"Peru",null,null,null,null,null,null,null,null,null,null,null,null,null,null,0,0,0,0,0,0,0,0,0,0,0,0,0,0,0,0,0,0,0,0,0,0,0,0,0,0,0,0,0,0,0,0,0,0,0,0,0,0,0,0,0,0,0,0,0,0,0,null,null,null,null,null,null,null,null,null,null,null,null,null,null,null,null,null,null,null,null,null,null,null,null,null,null,null,null,null,null,null,null,null,null,null,null,null,null,null,null,null,null,null,null,null,null,null,null,null,null,null,null,null,null,null,"R5300SB","IMPORTS","_Z","_Z","_Z","_Z","_Z","PE","ENERGY","_Z","TJ_GCV",null,"nrg_ind_ibmg","TRADE","R5300SB","IMP","PE","TJ_GCV","Agg.=SUM(countries)"]
[null,null,null,null,null,null,"Philippines",null,null,null,null,null,null,null,null,null,null,null,null,null,null,0,0,0,0,0,0,0,0,0,0,0,0,0,0,0,0,0,0,0,0,0,0,0,0,0,0,0,0,0,0,0,0,0,0,0,0,0,0,0,0,0,0,0,0,0,0,0,null,null,null,null,null,null,null,null,null,null,null,null,null,null,null,null,null,null,null,null,null,null,null,null,null,null,null,null,null,null,null,null,null,null,null,null,null,null,null,null,null,null,null,null,null,null,null,null,null,null,null,null,null,null,null,"R5300SB","IMPORTS","_Z","_Z","_Z","_Z","_Z","PH","ENERGY","_Z","TJ_GCV",null,"nrg_ind_ibmg","TRADE","R5300SB","IMP","PH","TJ_GCV","Agg.=SUM(countries)"]
[null,null,null,null,null,null,"Poland",null,null,null,null,null,null,null,null,null,null,null,null,null,null,0,0,0,0,0,0,0,0,0,0,0,0,0,0,0,0,0,0,0,0,0,0,0,0,0,0,0,0,0,0,0,0,0,0,0,0,0,0,0,0,0,0,0,0,0,0,0,null,null,null,null,null,null,null,null,null,null,null,null,null,null,null,null,null,null,null,null,null,null,null,null,null,null,null,null,null,null,null,null,null,null,null,null,null,null,null,null,null,null,null,null,null,null,null,null,null,null,null,null,null,null,null,"R5300SB","IMPORTS","_Z","_Z","_Z","_Z","_Z","PL","ENERGY","_Z","TJ_GCV",null,"nrg_ind_ibmg","TRADE","R5300SB","IMP","PL","TJ_GCV","Agg.=SUM(countries)"]
[null,null,null,null,null,null,"Portugal",null,null,null,null,null,null,null,null,null,null,null,null,null,null,0,0,0,0,0,0,0,0,0,0,0,0,0,0,0,0,0,0,0,0,0,0,0,0,0,0,0,0,0,0,0,0,0,0,0,0,0,0,0,0,0,0,0,0,0,0,0,null,null,null,null,null,null,null,null,null,null,null,null,null,null,null,null,null,null,null,null,null,null,null,null,null,null,null,null,null,null,null,null,null,null,null,null,null,null,null,null,null,null,null,null,null,null,null,null,null,null,null,null,null,null,null,"R5300SB","IMPORTS","_Z","_Z","_Z","_Z","_Z","PT","ENERGY","_Z","TJ_GCV",null,"nrg_ind_ibmg","TRADE","R5300SB","IMP","PT","TJ_GCV","Agg.=SUM(countries)"]
[null,null,null,null,null,null,"Qatar",null,null,null,null,null,null,null,null,null,null,null,null,null,null,0,0,0,0,0,0,0,0,0,0,0,0,0,0,0,0,0,0,0,0,0,0,0,0,0,0,0,0,0,0,0,0,0,0,0,0,0,0,0,0,0,0,0,0,0,0,0,null,null,null,null,null,null,null,null,null,null,null,null,null,null,null,null,null,null,null,null,null,null,null,null,null,null,null,null,null,null,null,null,null,null,null,null,null,null,null,null,null,null,null,null,null,null,null,null,null,null,null,null,null,null,null,"R5300SB","IMPORTS","_Z","_Z","_Z","_Z","_Z","QA","ENERGY","_Z","TJ_GCV",null,"nrg_ind_ibmg","TRADE","R5300SB","IMP","QA","TJ_GCV","Agg.=SUM(countries)"]
[null,null,null,null,null,null,"Romania",null,null,null,null,null,null,null,null,null,null,null,null,null,null,0,0,0,0,0,0,0,0,0,0,0,0,0,0,0,0,0,0,0,0,0,0,0,0,0,0,0,0,0,0,0,0,0,0,0,0,0,0,0,0,0,0,0,0,0,0,0,null,null,null,null,null,null,null,null,null,null,null,null,null,null,null,null,null,null,null,null,null,null,null,null,null,null,null,null,null,null,null,null,null,null,null,null,null,null,null,null,null,null,null,null,null,null,null,null,null,null,null,null,null,null,null,"R5300SB","IMPORTS","_Z","_Z","_Z","_Z","_Z","RO","ENERGY","_Z","TJ_GCV",null,"nrg_ind_ibmg","TRADE","R5300SB","IMP","RO","TJ_GCV","Agg.=SUM(countries)"]
[null,null,null,null,null,null,"Russian Federation",null,null,null,null,null,null,null,null,null,null,null,null,null,null,0,0,0,0,0,0,0,0,0,0,0,0,0,0,0,0,0,0,0,0,0,0,0,0,0,0,0,0,0,0,0,0,0,0,0,0,0,0,0,0,0,0,0,0,0,0,0,null,null,null,null,null,null,null,null,null,null,null,null,null,null,null,null,null,null,null,null,null,null,null,null,null,null,null,null,null,null,null,null,null,null,null,null,null,null,null,null,null,null,null,null,null,null,null,null,null,null,null,null,null,null,null,"R5300SB","IMPORTS","_Z","_Z","_Z","_Z","_Z","RU","ENERGY","_Z","TJ_GCV",null,"nrg_ind_ibmg","TRADE","R5300SB","IMP","RU","TJ_GCV","Agg.=SUM(countries)"]
[null,null,null,null,null,null,"Sao Tome and Principe",null,null,null,null,null,null,null,null,null,null,null,null,null,null,0,0,0,0,0,0,0,0,0,0,0,0,0,0,0,0,0,0,0,0,0,0,0,0,0,0,0,0,0,0,0,0,0,0,0,0,0,0,0,0,0,0,0,0,0,0,0,null,null,null,null,null,null,null,null,null,null,null,null,null,null,null,null,null,null,null,null,null,null,null,null,null,null,null,null,null,null,null,null,null,null,null,null,null,null,null,null,null,null,null,null,null,null,null,null,null,null,null,null,null,null,null,"R5300SB","IMPORTS","_Z","_Z","_Z","_Z","_Z","ST","ENERGY","_Z","TJ_GCV",null,"nrg_ind_ibmg","TRADE","R5300SB","IMP","ST","TJ_GCV","Agg.=SUM(countries)"]
[null,null,null,null,null,null,"Saudi Arabia",null,null,null,null,null,null,null,null,null,null,null,null,null,null,0,0,0,0,0,0,0,0,0,0,0,0,0,0,0,0,0,0,0,0,0,0,0,0,0,0,0,0,0,0,0,0,0,0,0,0,0,0,0,0,0,0,0,0,0,0,0,null,null,null,null,null,null,null,null,null,null,null,null,null,null,null,null,null,null,null,null,null,null,null,null,null,null,null,null,null,null,null,null,null,null,null,null,null,null,null,null,null,null,null,null,null,null,null,null,null,null,null,null,null,null,null,"R5300SB","IMPORTS","_Z","_Z","_Z","_Z","_Z","SA","ENERGY","_Z","TJ_GCV",null,"nrg_ind_ibmg","TRADE","R5300SB","IMP","SA","TJ_GCV","Agg.=SUM(countries)"]
[null,null,null,null,null,null,"Senegal",null,null,null,null,null,null,null,null,null,null,null,null,null,null,0,0,0,0,0,0,0,0,0,0,0,0,0,0,0,0,0,0,0,0,0,0,0,0,0,0,0,0,0,0,0,0,0,0,0,0,0,0,0,0,0,0,0,0,0,0,0,null,null,null,null,null,null,null,null,null,null,null,null,null,null,null,null,null,null,null,null,null,null,null,null,null,null,null,null,null,null,null,null,null,null,null,null,null,null,null,null,null,null,null,null,null,null,null,null,null,null,null,null,null,null,null,"R5300SB","IMPORTS","_Z","_Z","_Z","_Z","_Z","SN","ENERGY","_Z","TJ_GCV",null,"nrg_ind_ibmg","TRADE","R5300SB","IMP","SN","TJ_GCV","Agg.=SUM(countries)"]
[null,null,null,null,null,null,"Serbia",null,null,null,null,null,null,null,null,null,null,null,null,null,null,0,0,0,0,0,0,0,0,0,0,0,0,0,0,0,0,0,0,0,0,0,0,0,0,0,0,0,0,0,0,0,0,0,0,0,0,0,0,0,0,0,0,0,0,0,0,0,null,null,null,null,null,null,null,null,null,null,null,null,null,null,null,null,null,null,null,null,null,null,null,null,null,null,null,null,null,null,null,null,null,null,null,null,null,null,null,null,null,null,null,null,null,null,null,null,null,null,null,null,null,null,null,"R5300SB","IMPORTS","_Z","_Z","_Z","_Z","_Z","RS","ENERGY","_Z","TJ_GCV",null,"nrg_ind_ibmg","TRADE","R5300SB","IMP","RS","TJ_GCV","Agg.=SUM(countries)"]
[null,null,null,null,null,null,"Sierra Leone",null,null,null,null,null,null,null,null,null,null,null,null,null,null,0,0,0,0,0,0,0,0,0,0,0,0,0,0,0,0,0,0,0,0,0,0,0,0,0,0,0,0,0,0,0,0,0,0,0,0,0,0,0,0,0,0,0,0,0,0,0,null,null,null,null,null,null,null,null,null,null,null,null,null,null,null,null,null,null,null,null,null,null,null,null,null,null,null,null,null,null,null,null,null,null,null,null,null,null,null,null,null,null,null,null,null,null,null,null,null,null,null,null,null,null,null,"R5300SB","IMPORTS","_Z","_Z","_Z","_Z","_Z","SL","ENERGY","_Z","TJ_GCV",null,"nrg_ind_ibmg","TRADE","R5300SB","IMP","SL","TJ_GCV","Agg.=SUM(countries)"]
[null,null,null,null,null,null,"Singapore",null,null,null,null,null,null,null,null,null,null,null,null,null,null,0,0,0,0,0,0,0,0,0,0,0,0,0,0,0,0,0,0,0,0,0,0,0,0,0,0,0,0,0,0,0,0,0,0,0,0,0,0,0,0,0,0,0,0,0,0,0,null,null,null,null,null,null,null,null,null,null,null,null,null,null,null,null,null,null,null,null,null,null,null,null,null,null,null,null,null,null,null,null,null,null,null,null,null,null,null,null,null,null,null,null,null,null,null,null,null,null,null,null,null,null,null,"R5300SB","IMPORTS","_Z","_Z","_Z","_Z","_Z","SG","ENERGY","_Z","TJ_GCV",null,"nrg_ind_ibmg","TRADE","R5300SB","IMP","SG","TJ_GCV","Agg.=SUM(countries)"]
[null,null,null,null,null,null,"Slovak Republic",null,null,null,null,null,null,null,null,null,null,null,null,null,null,0,0,0,0,0,0,0,0,0,0,0,0,0,0,0,0,0,0,0,0,0,0,0,0,0,0,0,0,0,0,0,0,0,0,0,0,0,0,0,0,0,0,0,0,0,0,0,null,null,null,null,null,null,null,null,null,null,null,null,null,null,null,null,null,null,null,null,null,null,null,null,null,null,null,null,null,null,null,null,null,null,null,null,null,null,null,null,null,null,null,null,null,null,null,null,null,null,null,null,null,null,null,"R5300SB","IMPORTS","_Z","_Z","_Z","_Z","_Z","SK","ENERGY","_Z","TJ_GCV",null,"nrg_ind_ibmg","TRADE","R5300SB","IMP","SK","TJ_GCV","Agg.=SUM(countries)"]
[null,null,null,null,null,null,"Slovenia",null,null,null,null,null,null,null,null,null,null,null,null,null,null,0,0,0,0,0,0,0,0,0,0,0,0,0,0,0,0,0,0,0,0,0,0,0,0,0,0,0,0,0,0,0,0,0,0,0,0,0,0,0,0,0,0,0,0,0,0,0,null,null,null,null,null,null,null,null,null,null,null,null,null,null,null,null,null,null,null,null,null,null,null,null,null,null,null,null,null,null,null,null,null,null,null,null,null,null,null,null,null,null,null,null,null,null,null,null,null,null,null,null,null,null,null,"R5300SB","IMPORTS","_Z","_Z","_Z","_Z","_Z","SI","ENERGY","_Z","TJ_GCV",null,"nrg_ind_ibmg","TRADE","R5300SB","IMP","SI","TJ_GCV","Agg.=SUM(countries)"]
[null,null,null,null,null,null,"South Africa",null,null,null,null,null,null,null,null,null,null,null,null,null,null,0,0,0,0,0,0,0,0,0,0,0,0,0,0,0,0,0,0,0,0,0,0,0,0,0,0,0,0,0,0,0,0,0,0,0,0,0,0,0,0,0,0,0,0,0,0,0,null,null,null,null,null,null,null,null,null,null,null,null,null,null,null,null,null,null,null,null,null,null,null,null,null,null,null,null,null,null,null,null,null,null,null,null,null,null,null,null,null,null,null,null,null,null,null,null,null,null,null,null,null,null,null,"R5300SB","IMPORTS","_Z","_Z","_Z","_Z","_Z","ZA","ENERGY","_Z","TJ_GCV",null,"nrg_ind_ibmg","TRADE","R5300SB","IMP","ZA","TJ_GCV","Agg.=SUM(countries)"]
[null,null,null,null,null,null,"South Sudan",null,null,null,null,null,null,null,null,null,null,null,null,null,null,0,0,0,0,0,0,0,0,0,0,0,0,0,0,0,0,0,0,0,0,0,0,0,0,0,0,0,0,0,0,0,0,0,0,0,0,0,0,0,0,0,0,0,0,0,0,0,null,null,null,null,null,null,null,null,null,null,null,null,null,null,null,null,null,null,null,null,null,null,null,null,null,null,null,null,null,null,null,null,null,null,null,null,null,null,null,null,null,null,null,null,null,null,null,null,null,null,null,null,null,null,null,"R5300SB","IMPORTS","_Z","_Z","_Z","_Z","_Z","SS","ENERGY","_Z","TJ_GCV",null,"nrg_ind_ibmg","TRADE","R5300SB","IMP","SS","TJ_GCV","Agg.=SUM(countries)"]
[null,null,null,null,null,null,"Spain",null,null,null,null,null,null,null,null,null,null,null,null,null,null,0,0,0,0,0,0,0,0,0,0,0,0,0,0,0,0,0,0,0,0,0,0,0,0,0,0,0,0,0,0,0,0,0,0,0,0,0,0,0,0,0,0,0,0,0,0,0,null,null,null,null,null,null,null,null,null,null,null,null,null,null,null,null,null,null,null,null,null,null,null,null,null,null,null,null,null,null,null,null,null,null,null,null,null,null,null,null,null,null,null,null,null,null,null,null,null,null,null,null,null,null,null,"R5300SB","IMPORTS","_Z","_Z","_Z","_Z","_Z","ES","ENERGY","_Z","TJ_GCV",null,"nrg_ind_ibmg","TRADE","R5300SB","IMP","ES","TJ_GCV","Agg.=SUM(countries)"]
[null,null,null,null,null,null,"Sri Lanka",null,null,null,null,null,null,null,null,null,null,null,null,null,null,0,0,0,0,0,0,0,0,0,0,0,0,0,0,0,0,0,0,0,0,0,0,0,0,0,0,0,0,0,0,0,0,0,0,0,0,0,0,0,0,0,0,0,0,0,0,0,null,null,null,null,null,null,null,null,null,null,null,null,null,null,null,null,null,null,null,null,null,null,null,null,null,null,null,null,null,null,null,null,null,null,null,null,null,null,null,null,null,null,null,null,null,null,null,null,null,null,null,null,null,null,null,"R5300SB","IMPORTS","_Z","_Z","_Z","_Z","_Z","LK","ENERGY","_Z","TJ_GCV",null,"nrg_ind_ibmg","TRADE","R5300SB","IMP","LK","TJ_GCV","Agg.=SUM(countries)"]
[null,null,null,null,null,null,"Sudan",null,null,null,null,null,null,null,null,null,null,null,null,null,null,0,0,0,0,0,0,0,0,0,0,0,0,0,0,0,0,0,0,0,0,0,0,0,0,0,0,0,0,0,0,0,0,0,0,0,0,0,0,0,0,0,0,0,0,0,0,0,null,null,null,null,null,null,null,null,null,null,null,null,null,null,null,null,null,null,null,null,null,null,null,null,null,null,null,null,null,null,null,null,null,null,null,null,null,null,null,null,null,null,null,null,null,null,null,null,null,null,null,null,null,null,null,"R5300SB","IMPORTS","_Z","_Z","_Z","_Z","_Z","SD","ENERGY","_Z","TJ_GCV",null,"nrg_ind_ibmg","TRADE","R5300SB","IMP","SD","TJ_GCV","Agg.=SUM(countries)"]
[null,null,null,null,null,null,"Sweden",null,null,null,null,null,null,null,null,null,null,null,null,null,null,0,0,0,0,0,0,0,0,0,0,0,0,0,0,0,0,0,0,0,0,0,0,0,0,0,0,0,0,0,0,0,0,0,0,0,0,0,0,0,0,0,0,0,0,0,0,0,null,null,null,null,null,null,null,null,null,null,null,null,null,null,null,null,null,null,null,null,null,null,null,null,null,null,null,null,null,null,null,null,null,null,null,null,null,null,null,null,null,null,null,null,null,null,null,null,null,null,null,null,null,null,null,"R5300SB","IMPORTS","_Z","_Z","_Z","_Z","_Z","SE","ENERGY","_Z","TJ_GCV",null,"nrg_ind_ibmg","TRADE","R5300SB","IMP","SE","TJ_GCV","Agg.=SUM(countries)"]
[null,null,null,null,null,null,"Switzerland",null,null,null,null,null,null,null,null,null,null,null,null,null,null,0,0,0,0,0,0,0,0,0,0,0,0,0,0,0,0,0,0,0,0,0,0,0,0,0,0,0,0,0,0,0,0,0,0,0,0,0,0,0,0,0,0,0,0,0,0,0,null,null,null,null,null,null,null,null,null,null,null,null,null,null,null,null,null,null,null,null,null,null,null,null,null,null,null,null,null,null,null,null,null,null,null,null,null,null,null,null,null,null,null,null,null,null,null,null,null,null,null,null,null,null,null,"R5300SB","IMPORTS","_Z","_Z","_Z","_Z","_Z","CH","ENERGY","_Z","TJ_GCV",null,"nrg_ind_ibmg","TRADE","R5300SB","IMP","CH","TJ_GCV","Agg.=SUM(countries)"]
[null,null,null,null,null,null,"Syrian Arab Republic",null,null,null,null,null,null,null,null,null,null,null,null,null,null,0,0,0,0,0,0,0,0,0,0,0,0,0,0,0,0,0,0,0,0,0,0,0,0,0,0,0,0,0,0,0,0,0,0,0,0,0,0,0,0,0,0,0,0,0,0,0,null,null,null,null,null,null,null,null,null,null,null,null,null,null,null,null,null,null,null,null,null,null,null,null,null,null,null,null,null,null,null,null,null,null,null,null,null,null,null,null,null,null,null,null,null,null,null,null,null,null,null,null,null,null,null,"R5300SB","IMPORTS","_Z","_Z","_Z","_Z","_Z","SY","ENERGY","_Z","TJ_GCV",null,"nrg_ind_ibmg","TRADE","R5300SB","IMP","SY","TJ_GCV","Agg.=SUM(countries)"]
[null,null,null,null,null,null,"Taiwan / Chinese Taipei",null,null,null,null,null,null,null,null,null,null,null,null,null,null,0,0,0,0,0,0,0,0,0,0,0,0,0,0,0,0,0,0,0,0,0,0,0,0,0,0,0,0,0,0,0,0,0,0,0,0,0,0,0,0,0,0,0,0,0,0,0,null,null,null,null,null,null,null,null,null,null,null,null,null,null,null,null,null,null,null,null,null,null,null,null,null,null,null,null,null,null,null,null,null,null,null,null,null,null,null,null,null,null,null,null,null,null,null,null,null,null,null,null,null,null,null,"R5300SB","IMPORTS","_Z","_Z","_Z","_Z","_Z","TW","ENERGY","_Z","TJ_GCV",null,"nrg_ind_ibmg","TRADE","R5300SB","IMP","TW","TJ_GCV","Agg.=SUM(countries)"]
[null,null,null,null,null,null,"Tajikistan",null,null,null,null,null,null,null,null,null,null,null,null,null,null,0,0,0,0,0,0,0,0,0,0,0,0,0,0,0,0,0,0,0,0,0,0,0,0,0,0,0,0,0,0,0,0,0,0,0,0,0,0,0,0,0,0,0,0,0,0,0,null,null,null,null,null,null,null,null,null,null,null,null,null,null,null,null,null,null,null,null,null,null,null,null,null,null,null,null,null,null,null,null,null,null,null,null,null,null,null,null,null,null,null,null,null,null,null,null,null,null,null,null,null,null,null,"R5300SB","IMPORTS","_Z","_Z","_Z","_Z","_Z","TJ","ENERGY","_Z","TJ_GCV",null,"nrg_ind_ibmg","TRADE","R5300SB","IMP","TJ","TJ_GCV","Agg.=SUM(countries)"]
[null,null,null,null,null,null,"Tanzania, United Republic of",null,null,null,null,null,null,null,null,null,null,null,null,null,null,0,0,0,0,0,0,0,0,0,0,0,0,0,0,0,0,0,0,0,0,0,0,0,0,0,0,0,0,0,0,0,0,0,0,0,0,0,0,0,0,0,0,0,0,0,0,0,null,null,null,null,null,null,null,null,null,null,null,null,null,null,null,null,null,null,null,null,null,null,null,null,null,null,null,null,null,null,null,null,null,null,null,null,null,null,null,null,null,null,null,null,null,null,null,null,null,null,null,null,null,null,null,"R5300SB","IMPORTS","_Z","_Z","_Z","_Z","_Z","TZ","ENERGY","_Z","TJ_GCV",null,"nrg_ind_ibmg","TRADE","R5300SB","IMP","TZ","TJ_GCV","Agg.=SUM(countries)"]
[null,null,null,null,null,null,"Thailand",null,null,null,null,null,null,null,null,null,null,null,null,null,null,0,0,0,0,0,0,0,0,0,0,0,0,0,0,0,0,0,0,0,0,0,0,0,0,0,0,0,0,0,0,0,0,0,0,0,0,0,0,0,0,0,0,0,0,0,0,0,null,null,null,null,null,null,null,null,null,null,null,null,null,null,null,null,null,null,null,null,null,null,null,null,null,null,null,null,null,null,null,null,null,null,null,null,null,null,null,null,null,null,null,null,null,null,null,null,null,null,null,null,null,null,null,"R5300SB","IMPORTS","_Z","_Z","_Z","_Z","_Z","TH","ENERGY","_Z","TJ_GCV",null,"nrg_ind_ibmg","TRADE","R5300SB","IMP","TH","TJ_GCV","Agg.=SUM(countries)"]
[null,null,null,null,null,null,"Timor-Leste",null,null,null,null,null,null,null,null,null,null,null,null,null,null,0,0,0,0,0,0,0,0,0,0,0,0,0,0,0,0,0,0,0,0,0,0,0,0,0,0,0,0,0,0,0,0,0,0,0,0,0,0,0,0,0,0,0,0,0,0,0,null,null,null,null,null,null,null,null,null,null,null,null,null,null,null,null,null,null,null,null,null,null,null,null,null,null,null,null,null,null,null,null,null,null,null,null,null,null,null,null,null,null,null,null,null,null,null,null,null,null,null,null,null,null,null,"R5300SB","IMPORTS","_Z","_Z","_Z","_Z","_Z","TL","ENERGY","_Z","TJ_GCV",null,"nrg_ind_ibmg","TRADE","R5300SB","IMP","TL","TJ_GCV","Agg.=SUM(countries)"]
[null,null,null,null,null,null,"Togo",null,null,null,null,null,null,null,null,null,null,null,null,null,null,0,0,0,0,0,0,0,0,0,0,0,0,0,0,0,0,0,0,0,0,0,0,0,0,0,0,0,0,0,0,0,0,0,0,0,0,0,0,0,0,0,0,0,0,0,0,0,null,null,null,null,null,null,null,null,null,null,null,null,null,null,null,null,null,null,null,null,null,null,null,null,null,null,null,null,null,null,null,null,null,null,null,null,null,null,null,null,null,null,null,null,null,null,null,null,null,null,null,null,null,null,null,"R5300SB","IMPORTS","_Z","_Z","_Z","_Z","_Z","TG","ENERGY","_Z","TJ_GCV",null,"nrg_ind_ibmg","TRADE","R5300SB","IMP","TG","TJ_GCV","Agg.=SUM(countries)"]
[null,null,null,null,null,null,"Trinidad and Tobago",null,null,null,null,null,null,null,null,null,null,null,null,null,null,0,0,0,0,0,0,0,0,0,0,0,0,0,0,0,0,0,0,0,0,0,0,0,0,0,0,0,0,0,0,0,0,0,0,0,0,0,0,0,0,0,0,0,0,0,0,0,null,null,null,null,null,null,null,null,null,null,null,null,null,null,null,null,null,null,null,null,null,null,null,null,null,null,null,null,null,null,null,null,null,null,null,null,null,null,null,null,null,null,null,null,null,null,null,null,null,null,null,null,null,null,null,"R5300SB","IMPORTS","_Z","_Z","_Z","_Z","_Z","TT","ENERGY","_Z","TJ_GCV",null,"nrg_ind_ibmg","TRADE","R5300SB","IMP","TT","TJ_GCV","Agg.=SUM(countries)"]
[null,null,null,null,null,null,"Tunisia",null,null,null,null,null,null,null,null,null,null,null,null,null,null,0,0,0,0,0,0,0,0,0,0,0,0,0,0,0,0,0,0,0,0,0,0,0,0,0,0,0,0,0,0,0,0,0,0,0,0,0,0,0,0,0,0,0,0,0,0,0,null,null,null,null,null,null,null,null,null,null,null,null,null,null,null,null,null,null,null,null,null,null,null,null,null,null,null,null,null,null,null,null,null,null,null,null,null,null,null,null,null,null,null,null,null,null,null,null,null,null,null,null,null,null,null,"R5300SB","IMPORTS","_Z","_Z","_Z","_Z","_Z","TN","ENERGY","_Z","TJ_GCV",null,"nrg_ind_ibmg","TRADE","R5300SB","IMP","TN","TJ_GCV","Agg.=SUM(countries)"]
[null,null,null,null,null,null,"Turkey",null,null,null,null,null,null,null,null,null,null,null,null,null,null,0,0,0,0,0,0,0,0,0,0,0,0,0,0,0,0,0,0,0,0,0,0,0,0,0,0,0,0,0,0,0,0,0,0,0,0,0,0,0,0,0,0,0,0,0,0,0,null,null,null,null,null,null,null,null,null,null,null,null,null,null,null,null,null,null,null,null,null,null,null,null,null,null,null,null,null,null,null,null,null,null,null,null,null,null,null,null,null,null,null,null,null,null,null,null,null,null,null,null,null,null,null,"R5300SB","IMPORTS","_Z","_Z","_Z","_Z","_Z","TR","ENERGY","_Z","TJ_GCV",null,"nrg_ind_ibmg","TRADE","R5300SB","IMP","TR","TJ_GCV","Agg.=SUM(countries)"]
[null,null,null,null,null,null,"Turkmenistan",null,null,null,null,null,null,null,null,null,null,null,null,null,null,0,0,0,0,0,0,0,0,0,0,0,0,0,0,0,0,0,0,0,0,0,0,0,0,0,0,0,0,0,0,0,0,0,0,0,0,0,0,0,0,0,0,0,0,0,0,0,null,null,null,null,null,null,null,null,null,null,null,null,null,null,null,null,null,null,null,null,null,null,null,null,null,null,null,null,null,null,null,null,null,null,null,null,null,null,null,null,null,null,null,null,null,null,null,null,null,null,null,null,null,null,null,"R5300SB","IMPORTS","_Z","_Z","_Z","_Z","_Z","TM","ENERGY","_Z","TJ_GCV",null,"nrg_ind_ibmg","TRADE","R5300SB","IMP","TM","TJ_GCV","Agg.=SUM(countries)"]
[null,null,null,null,null,null,"Uganda",null,null,null,null,null,null,null,null,null,null,null,null,null,null,0,0,0,0,0,0,0,0,0,0,0,0,0,0,0,0,0,0,0,0,0,0,0,0,0,0,0,0,0,0,0,0,0,0,0,0,0,0,0,0,0,0,0,0,0,0,0,null,null,null,null,null,null,null,null,null,null,null,null,null,null,null,null,null,null,null,null,null,null,null,null,null,null,null,null,null,null,null,null,null,null,null,null,null,null,null,null,null,null,null,null,null,null,null,null,null,null,null,null,null,null,null,"R5300SB","IMPORTS","_Z","_Z","_Z","_Z","_Z","UG","ENERGY","_Z","TJ_GCV",null,"nrg_ind_ibmg","TRADE","R5300SB","IMP","UG","TJ_GCV","Agg.=SUM(countries)"]
[null,null,null,null,null,null,"Ukraine",null,null,null,null,null,null,null,null,null,null,null,null,null,null,0,0,0,0,0,0,0,0,0,0,0,0,0,0,0,0,0,0,0,0,0,0,0,0,0,0,0,0,0,0,0,0,0,0,0,0,0,0,0,0,0,0,0,0,0,0,0,null,null,null,null,null,null,null,null,null,null,null,null,null,null,null,null,null,null,null,null,null,null,null,null,null,null,null,null,null,null,null,null,null,null,null,null,null,null,null,null,null,null,null,null,null,null,null,null,null,null,null,null,null,null,null,"R5300SB","IMPORTS","_Z","_Z","_Z","_Z","_Z","UA","ENERGY","_Z","TJ_GCV",null,"nrg_ind_ibmg","TRADE","R5300SB","IMP","UA","TJ_GCV","Agg.=SUM(countries)"]
[null,null,null,null,null,null,"United Arab Emirates",null,null,null,null,null,null,null,null,null,null,null,null,null,null,0,0,0,0,0,0,0,0,0,0,0,0,0,0,0,0,0,0,0,0,0,0,0,0,0,0,0,0,0,0,0,0,0,0,0,0,0,0,0,0,0,0,0,0,0,0,0,null,null,null,null,null,null,null,null,null,null,null,null,null,null,null,null,null,null,null,null,null,null,null,null,null,null,null,null,null,null,null,null,null,null,null,null,null,null,null,null,null,null,null,null,null,null,null,null,null,null,null,null,null,null,null,"R5300SB","IMPORTS","_Z","_Z","_Z","_Z","_Z","AE","ENERGY","_Z","TJ_GCV",null,"nrg_ind_ibmg","TRADE","R5300SB","IMP","AE","TJ_GCV","Agg.=SUM(countries)"]
[null,null,null,null,null,null,"United Kingdom",null,null,null,null,null,null,null,null,null,null,null,null,null,null,0,0,0,0,0,0,0,0,0,0,0,0,0,0,0,0,0,0,0,0,0,0,0,0,0,0,0,0,0,0,0,0,0,0,0,0,0,0,0,0,0,0,0,0,0,0,0,null,null,null,null,null,null,null,null,null,null,null,null,null,null,null,null,null,null,null,null,null,null,null,null,null,null,null,null,null,null,null,null,null,null,null,null,null,null,null,null,null,null,null,null,null,null,null,null,null,null,null,null,null,null,null,"R5300SB","IMPORTS","_Z","_Z","_Z","_Z","_Z","GB","ENERGY","_Z","TJ_GCV",null,"nrg_ind_ibmg","TRADE","R5300SB","IMP","GB","TJ_GCV","Agg.=SUM(countries)"]
[null,null,null,null,null,null,"United States",null,null,null,null,null,null,null,null,null,null,null,null,null,null,0,0,0,0,0,0,0,0,0,0,0,0,0,0,0,0,0,0,0,0,0,0,0,0,0,0,0,0,0,0,0,0,0,0,0,0,0,0,0,0,0,0,0,0,0,0,0,null,null,null,null,null,null,null,null,null,null,null,null,null,null,null,null,null,null,null,null,null,null,null,null,null,null,null,null,null,null,null,null,null,null,null,null,null,null,null,null,null,null,null,null,null,null,null,null,null,null,null,null,null,null,null,"R5300SB","IMPORTS","_Z","_Z","_Z","_Z","_Z","US","ENERGY","_Z","TJ_GCV",null,"nrg_ind_ibmg","TRADE","R5300SB","IMP","US","TJ_GCV","Agg.=SUM(countries)"]
[null,null,null,null,null,null,"Uruguay",null,null,null,null,null,null,null,null,null,null,null,null,null,null,0,0,0,0,0,0,0,0,0,0,0,0,0,0,0,0,0,0,0,0,0,0,0,0,0,0,0,0,0,0,0,0,0,0,0,0,0,0,0,0,0,0,0,0,0,0,0,null,null,null,null,null,null,null,null,null,null,null,null,null,null,null,null,null,null,null,null,null,null,null,null,null,null,null,null,null,null,null,null,null,null,null,null,null,null,null,null,null,null,null,null,null,null,null,null,null,null,null,null,null,null,null,"R5300SB","IMPORTS","_Z","_Z","_Z","_Z","_Z","UY","ENERGY","_Z","TJ_GCV",null,"nrg_ind_ibmg","TRADE","R5300SB","IMP","UY","TJ_GCV","Agg.=SUM(countries)"]
[null,null,null,null,null,null,"Uzbekistan",null,null,null,null,null,null,null,null,null,null,null,null,null,null,0,0,0,0,0,0,0,0,0,0,0,0,0,0,0,0,0,0,0,0,0,0,0,0,0,0,0,0,0,0,0,0,0,0,0,0,0,0,0,0,0,0,0,0,0,0,0,null,null,null,null,null,null,null,null,null,null,null,null,null,null,null,null,null,null,null,null,null,null,null,null,null,null,null,null,null,null,null,null,null,null,null,null,null,null,null,null,null,null,null,null,null,null,null,null,null,null,null,null,null,null,null,"R5300SB","IMPORTS","_Z","_Z","_Z","_Z","_Z","UZ","ENERGY","_Z","TJ_GCV",null,"nrg_ind_ibmg","TRADE","R5300SB","IMP","UZ","TJ_GCV","Agg.=SUM(countries)"]
[null,null,null,null,null,null,"Venezuela, Bolivarian Republic",null,null,null,null,null,null,null,null,null,null,null,null,null,null,0,0,0,0,0,0,0,0,0,0,0,0,0,0,0,0,0,0,0,0,0,0,0,0,0,0,0,0,0,0,0,0,0,0,0,0,0,0,0,0,0,0,0,0,0,0,0,null,null,null,null,null,null,null,null,null,null,null,null,null,null,null,null,null,null,null,null,null,null,null,null,null,null,null,null,null,null,null,null,null,null,null,null,null,null,null,null,null,null,null,null,null,null,null,null,null,null,null,null,null,null,null,"R5300SB","IMPORTS","_Z","_Z","_Z","_Z","_Z","VE","ENERGY","_Z","TJ_GCV",null,"nrg_ind_ibmg","TRADE","R5300SB","IMP","VE","TJ_GCV","Agg.=SUM(countries)"]
[null,null,null,null,null,null,"Viet Nam",null,null,null,null,null,null,null,null,null,null,null,null,null,null,0,0,0,0,0,0,0,0,0,0,0,0,0,0,0,0,0,0,0,0,0,0,0,0,0,0,0,0,0,0,0,0,0,0,0,0,0,0,0,0,0,0,0,0,0,0,0,null,null,null,null,null,null,null,null,null,null,null,null,null,null,null,null,null,null,null,null,null,null,null,null,null,null,null,null,null,null,null,null,null,null,null,null,null,null,null,null,null,null,null,null,null,null,null,null,null,null,null,null,null,null,null,"R5300SB","IMPORTS","_Z","_Z","_Z","_Z","_Z","VN","ENERGY","_Z","TJ_GCV",null,"nrg_ind_ibmg","TRADE","R5300SB","IMP","VN","TJ_GCV","Agg.=SUM(countries)"]
[null,null,null,null,null,null,"Yemen",null,null,null,null,null,null,null,null,null,null,null,null,null,null,0,0,0,0,0,0,0,0,0,0,0,0,0,0,0,0,0,0,0,0,0,0,0,0,0,0,0,0,0,0,0,0,0,0,0,0,0,0,0,0,0,0,0,0,0,0,0,null,null,null,null,null,null,null,null,null,null,null,null,null,null,null,null,null,null,null,null,null,null,null,null,null,null,null,null,null,null,null,null,null,null,null,null,null,null,null,null,null,null,null,null,null,null,null,null,null,null,null,null,null,null,null,"R5300SB","IMPORTS","_Z","_Z","_Z","_Z","_Z","YE","ENERGY","_Z","TJ_GCV",null,"nrg_ind_ibmg","TRADE","R5300SB","IMP","YE","TJ_GCV","Agg.=SUM(countries)"]
[null,null,null,null,null,null,"Not elsewhere specified",null,null,null,null,null,null,null,null,null,null,null,null,null,null,0,0,0,0,0,0,0,0,0,0,0,0,0,0,0,0,0,0,0,0,0,0,0,0,0,0,0,0,0,0,0,0,0,0,0,0,0,0,0,0,0,0,0,0,0,0,0,null,null,null,null,null,null,null,null,null,null,null,null,null,null,null,null,null,null,null,null,null,null,null,null,null,null,null,null,null,null,null,null,null,null,null,null,null,null,null,null,null,null,null,null,null,null,null,null,null,null,null,null,null,null,null,"R5300SB","IMPORTS","_Z","_Z","_Z","_Z","_Z","_X","ENERGY","_Z","TJ_GCV",null,"nrg_ind_ibmg","TRADE","R5300SB","IMP","_X","TJ_GCV","Agg.=SUM(countries)"]
[null,null,null,null,null,null,"Total Imports",null,null,null,null,null,null,null,null,null,null,null,null,null,null,{"$f":"SUM(V32:V195)","v":0},{"$f":"SUM(W32:W195)","v":0},0,0,0,0,0,0,0,0,0,0,0,0,0,0,0,0,0,0,0,0,0,0,0,0,0,0,0,0,0,0,0,0,0,0,0,0,0,0,0,0,0,0,0,0,{"$f":"SUM(BP32:BP195)","v":0},null,null,null,null,null,null,null,null,null,null,null,null,null,null,null,null,null,null,null,null,null,null,null,null,null,null,null,null,null,null,null,null,null,null,null,null,null,null,null,null,null,null,null,null,null,null,null,null,null,null,null,null,null,null,null,"R5300SB","IMPORTS","_Z","_Z","_Z","_Z","_Z","_T","ENERGY","_Z","TJ_GCV",null,"nrg_ind_ibmg","TRADE","R5300SB","IMP","TOTAL","TJ_GCV","Agg.=SUM(countries)"]
[null,null,null,null,null,null,"\"Not elsewhere specified\": Please specify on the ** Remarks page."]
[null,null,null,null,null,null,"* This designation is without prejudice to positions on status, and is line with UNSCR 1244 and the ICJ Opinion on the Kosovo declaration of independence."]
[]
[]
[null,null,null,null,null,null,"Exports of biomethane in the grid by country (TJ gross calorific value)"]
[null,null,null,null,null,null,"Mass-balance and sustainability criteria"]
[null,null,null,null,null,null,"Albania",null,null,null,null,null,null,null,null,null,null,null,null,null,null,0,0,0,0,0,0,0,0,0,0,0,0,0,0,0,0,0,0,0,0,0,0,0,0,0,0,0,0,0,0,0,0,0,0,0,0,0,0,0,0,0,0,0,0,0,0,0,null,null,null,null,null,null,null,null,null,null,null,null,null,null,null,null,null,null,null,null,null,null,null,null,null,null,null,null,null,null,null,null,null,null,null,null,null,null,null,null,null,null,null,null,null,null,null,null,null,null,null,null,null,null,null,"R5300SB","EXPORTS","_Z","_Z","_Z","_Z","_Z","AL","ENERGY","_Z","TJ_GCV",null,"nrg_ind_ebmg","TRADE","R5300SB","EXP","AL","TJ_GCV","Agg.=SUM(countries)"]
[null,null,null,null,null,null,"Algeria",null,null,null,null,null,null,null,null,null,null,null,null,null,null,0,0,0,0,0,0,0,0,0,0,0,0,0,0,0,0,0,0,0,0,0,0,0,0,0,0,0,0,0,0,0,0,0,0,0,0,0,0,0,0,0,0,0,0,0,0,0,null,null,null,null,null,null,null,null,null,null,null,null,null,null,null,null,null,null,null,null,null,null,null,null,null,null,null,null,null,null,null,null,null,null,null,null,null,null,null,null,null,null,null,null,null,null,null,null,null,null,null,null,null,null,null,"R5300SB","EXPORTS","_Z","_Z","_Z","_Z","_Z","DZ","ENERGY","_Z","TJ_GCV",null,"nrg_ind_ebmg","TRADE","R5300SB","EXP","DZ","TJ_GCV","Agg.=SUM(countries)"]
[null,null,null,null,null,null,"Andorra",null,null,null,null,null,null,null,null,null,null,null,null,null,null,0,0,0,0,0,0,0,0,0,0,0,0,0,0,0,0,0,0,0,0,0,0,0,0,0,0,0,0,0,0,0,0,0,0,0,0,0,0,0,0,0,0,0,0,0,0,0,null,null,null,null,null,null,null,null,null,null,null,null,null,null,null,null,null,null,null,null,null,null,null,null,null,null,null,null,null,null,null,null,null,null,null,null,null,null,null,null,null,null,null,null,null,null,null,null,null,null,null,null,null,null,null,"R5300SB","EXPORTS","_Z","_Z","_Z","_Z","_Z","AD","ENERGY","_Z","TJ_GCV",null,"nrg_ind_ebmg","TRADE","R5300SB","EXP","AD","TJ_GCV","Agg.=SUM(countries)"]
[null,null,null,null,null,null,"Angola",null,null,null,null,null,null,null,null,null,null,null,null,null,null,0,0,0,0,0,0,0,0,0,0,0,0,0,0,0,0,0,0,0,0,0,0,0,0,0,0,0,0,0,0,0,0,0,0,0,0,0,0,0,0,0,0,0,0,0,0,0,null,null,null,null,null,null,null,null,null,null,null,null,null,null,null,null,null,null,null,null,null,null,null,null,null,null,null,null,null,null,null,null,null,null,null,null,null,null,null,null,null,null,null,null,null,null,null,null,null,null,null,null,null,null,null,"R5300SB","EXPORTS","_Z","_Z","_Z","_Z","_Z","AO","ENERGY","_Z","TJ_GCV",null,"nrg_ind_ebmg","TRADE","R5300SB","EXP","AO","TJ_GCV","Agg.=SUM(countries)"]
[null,null,null,null,null,null,"Argentina",null,null,null,null,null,null,null,null,null,null,null,null,null,null,0,0,0,0,0,0,0,0,0,0,0,0,0,0,0,0,0,0,0,0,0,0,0,0,0,0,0,0,0,0,0,0,0,0,0,0,0,0,0,0,0,0,0,0,0,0,0,null,null,null,null,null,null,null,null,null,null,null,null,null,null,null,null,null,null,null,null,null,null,null,null,null,null,null,null,null,null,null,null,null,null,null,null,null,null,null,null,null,null,null,null,null,null,null,null,null,null,null,null,null,null,null,"R5300SB","EXPORTS","_Z","_Z","_Z","_Z","_Z","AR","ENERGY","_Z","TJ_GCV",null,"nrg_ind_ebmg","TRADE","R5300SB","EXP","AR","TJ_GCV","Agg.=SUM(countries)"]
[null,null,null,null,null,null,"Armenia",null,null,null,null,null,null,null,null,null,null,null,null,null,null,0,0,0,0,0,0,0,0,0,0,0,0,0,0,0,0,0,0,0,0,0,0,0,0,0,0,0,0,0,0,0,0,0,0,0,0,0,0,0,0,0,0,0,0,0,0,0,null,null,null,null,null,null,null,null,null,null,null,null,null,null,null,null,null,null,null,null,null,null,null,null,null,null,null,null,null,null,null,null,null,null,null,null,null,null,null,null,null,null,null,null,null,null,null,null,null,null,null,null,null,null,null,"R5300SB","EXPORTS","_Z","_Z","_Z","_Z","_Z","AM","ENERGY","_Z","TJ_GCV",null,"nrg_ind_ebmg","TRADE","R5300SB","EXP","AM","TJ_GCV","Agg.=SUM(countries)"]
[null,null,null,null,null,null,"Aruba",null,null,null,null,null,null,null,null,null,null,null,null,null,null,0,0,0,0,0,0,0,0,0,0,0,0,0,0,0,0,0,0,0,0,0,0,0,0,0,0,0,0,0,0,0,0,0,0,0,0,0,0,0,0,0,0,0,0,0,0,0,null,null,null,null,null,null,null,null,null,null,null,null,null,null,null,null,null,null,null,null,null,null,null,null,null,null,null,null,null,null,null,null,null,null,null,null,null,null,null,null,null,null,null,null,null,null,null,null,null,null,null,null,null,null,null,"R5300SB","EXPORTS","_Z","_Z","_Z","_Z","_Z","AW","ENERGY","_Z","TJ_GCV",null,"nrg_ind_ebmg","TRADE","R5300SB","EXP","AW","TJ_GCV","Agg.=SUM(countries)"]
[null,null,null,null,null,null,"Australia",null,null,null,null,null,null,null,null,null,null,null,null,null,null,0,0,0,0,0,0,0,0,0,0,0,0,0,0,0,0,0,0,0,0,0,0,0,0,0,0,0,0,0,0,0,0,0,0,0,0,0,0,0,0,0,0,0,0,0,0,0,null,null,null,null,null,null,null,null,null,null,null,null,null,null,null,null,null,null,null,null,null,null,null,null,null,null,null,null,null,null,null,null,null,null,null,null,null,null,null,null,null,null,null,null,null,null,null,null,null,null,null,null,null,null,null,"R5300SB","EXPORTS","_Z","_Z","_Z","_Z","_Z","AU","ENERGY","_Z","TJ_GCV",null,"nrg_ind_ebmg","TRADE","R5300SB","EXP","AU","TJ_GCV","Agg.=SUM(countries)"]
[null,null,null,null,null,null,"Austria",null,null,null,null,null,null,null,null,null,null,null,null,null,null,0,0,0,0,0,0,0,0,0,0,0,0,0,0,0,0,0,0,0,0,0,0,0,0,0,0,0,0,0,0,0,0,0,0,0,0,0,0,0,0,0,0,0,0,0,0,0,null,null,null,null,null,null,null,null,null,null,null,null,null,null,null,null,null,null,null,null,null,null,null,null,null,null,null,null,null,null,null,null,null,null,null,null,null,null,null,null,null,null,null,null,null,null,null,null,null,null,null,null,null,null,null,"R5300SB","EXPORTS","_Z","_Z","_Z","_Z","_Z","AT","ENERGY","_Z","TJ_GCV",null,"nrg_ind_ebmg","TRADE","R5300SB","EXP","AT","TJ_GCV","Agg.=SUM(countries)"]
[null,null,null,null,null,null,"Azerbaijan",null,null,null,null,null,null,null,null,null,null,null,null,null,null,0,0,0,0,0,0,0,0,0,0,0,0,0,0,0,0,0,0,0,0,0,0,0,0,0,0,0,0,0,0,0,0,0,0,0,0,0,0,0,0,0,0,0,0,0,0,0,null,null,null,null,null,null,null,null,null,null,null,null,null,null,null,null,null,null,null,null,null,null,null,null,null,null,null,null,null,null,null,null,null,null,null,null,null,null,null,null,null,null,null,null,null,null,null,null,null,null,null,null,null,null,null,"R5300SB","EXPORTS","_Z","_Z","_Z","_Z","_Z","AZ","ENERGY","_Z","TJ_GCV",null,"nrg_ind_ebmg","TRADE","R5300SB","EXP","AZ","TJ_GCV","Agg.=SUM(countries)"]
[null,null,null,null,null,null,"Bahamas",null,null,null,null,null,null,null,null,null,null,null,null,null,null,0,0,0,0,0,0,0,0,0,0,0,0,0,0,0,0,0,0,0,0,0,0,0,0,0,0,0,0,0,0,0,0,0,0,0,0,0,0,0,0,0,0,0,0,0,0,0,null,null,null,null,null,null,null,null,null,null,null,null,null,null,null,null,null,null,null,null,null,null,null,null,null,null,null,null,null,null,null,null,null,null,null,null,null,null,null,null,null,null,null,null,null,null,null,null,null,null,null,null,null,null,null,"R5300SB","EXPORTS","_Z","_Z","_Z","_Z","_Z","BS","ENERGY","_Z","TJ_GCV",null,"nrg_ind_ebmg","TRADE","R5300SB","EXP","BS","TJ_GCV","Agg.=SUM(countries)"]
[null,null,null,null,null,null,"Bahrain",null,null,null,null,null,null,null,null,null,null,null,null,null,null,0,0,0,0,0,0,0,0,0,0,0,0,0,0,0,0,0,0,0,0,0,0,0,0,0,0,0,0,0,0,0,0,0,0,0,0,0,0,0,0,0,0,0,0,0,0,0,null,null,null,null,null,null,null,null,null,null,null,null,null,null,null,null,null,null,null,null,null,null,null,null,null,null,null,null,null,null,null,null,null,null,null,null,null,null,null,null,null,null,null,null,null,null,null,null,null,null,null,null,null,null,null,"R5300SB","EXPORTS","_Z","_Z","_Z","_Z","_Z","BH","ENERGY","_Z","TJ_GCV",null,"nrg_ind_ebmg","TRADE","R5300SB","EXP","BH","TJ_GCV","Agg.=SUM(countries)"]
[null,null,null,null,null,null,"Bangladesh",null,null,null,null,null,null,null,null,null,null,null,null,null,null,0,0,0,0,0,0,0,0,0,0,0,0,0,0,0,0,0,0,0,0,0,0,0,0,0,0,0,0,0,0,0,0,0,0,0,0,0,0,0,0,0,0,0,0,0,0,0,null,null,null,null,null,null,null,null,null,null,null,null,null,null,null,null,null,null,null,null,null,null,null,null,null,null,null,null,null,null,null,null,null,null,null,null,null,null,null,null,null,null,null,null,null,null,null,null,null,null,null,null,null,null,null,"R5300SB","EXPORTS","_Z","_Z","_Z","_Z","_Z","BD","ENERGY","_Z","TJ_GCV",null,"nrg_ind_ebmg","TRADE","R5300SB","EXP","BD","TJ_GCV","Agg.=SUM(countries)"]
[null,null,null,null,null,null,"Barbados",null,null,null,null,null,null,null,null,null,null,null,null,null,null,0,0,0,0,0,0,0,0,0,0,0,0,0,0,0,0,0,0,0,0,0,0,0,0,0,0,0,0,0,0,0,0,0,0,0,0,0,0,0,0,0,0,0,0,0,0,0,null,null,null,null,null,null,null,null,null,null,null,null,null,null,null,null,null,null,null,null,null,null,null,null,null,null,null,null,null,null,null,null,null,null,null,null,null,null,null,null,null,null,null,null,null,null,null,null,null,null,null,null,null,null,null,"R5300SB","EXPORTS","_Z","_Z","_Z","_Z","_Z","BB","ENERGY","_Z","TJ_GCV",null,"nrg_ind_ebmg","TRADE","R5300SB","EXP","BB","TJ_GCV","Agg.=SUM(countries)"]
[null,null,null,null,null,null,"Belarus",null,null,null,null,null,null,null,null,null,null,null,null,null,null,0,0,0,0,0,0,0,0,0,0,0,0,0,0,0,0,0,0,0,0,0,0,0,0,0,0,0,0,0,0,0,0,0,0,0,0,0,0,0,0,0,0,0,0,0,0,0,null,null,null,null,null,null,null,null,null,null,null,null,null,null,null,null,null,null,null,null,null,null,null,null,null,null,null,null,null,null,null,null,null,null,null,null,null,null,null,null,null,null,null,null,null,null,null,null,null,null,null,null,null,null,null,"R5300SB","EXPORTS","_Z","_Z","_Z","_Z","_Z","BY","ENERGY","_Z","TJ_GCV",null,"nrg_ind_ebmg","TRADE","R5300SB","EXP","BY","TJ_GCV","Agg.=SUM(countries)"]
[null,null,null,null,null,null,"Belgium",null,null,null,null,null,null,null,null,null,null,null,null,null,null,0,0,0,0,0,0,0,0,0,0,0,0,0,0,0,0,0,0,0,0,0,0,0,0,0,0,0,0,0,0,0,0,0,0,0,0,0,0,0,0,0,0,0,0,0,0,0,null,null,null,null,null,null,null,null,null,null,null,null,null,null,null,null,null,null,null,null,null,null,null,null,null,null,null,null,null,null,null,null,null,null,null,null,null,null,null,null,null,null,null,null,null,null,null,null,null,null,null,null,null,null,null,"R5300SB","EXPORTS","_Z","_Z","_Z","_Z","_Z","BE","ENERGY","_Z","TJ_GCV",null,"nrg_ind_ebmg","TRADE","R5300SB","EXP","BE","TJ_GCV","Agg.=SUM(countries)"]
[null,null,null,null,null,null,"Belize",null,null,null,null,null,null,null,null,null,null,null,null,null,null,0,0,0,0,0,0,0,0,0,0,0,0,0,0,0,0,0,0,0,0,0,0,0,0,0,0,0,0,0,0,0,0,0,0,0,0,0,0,0,0,0,0,0,0,0,0,0,null,null,null,null,null,null,null,null,null,null,null,null,null,null,null,null,null,null,null,null,null,null,null,null,null,null,null,null,null,null,null,null,null,null,null,null,null,null,null,null,null,null,null,null,null,null,null,null,null,null,null,null,null,null,null,"R5300SB","EXPORTS","_Z","_Z","_Z","_Z","_Z","BZ","ENERGY","_Z","TJ_GCV",null,"nrg_ind_ebmg","TRADE","R5300SB","EXP","BZ","TJ_GCV","Agg.=SUM(countries)"]
[null,null,null,null,null,null,"Benin",null,null,null,null,null,null,null,null,null,null,null,null,null,null,0,0,0,0,0,0,0,0,0,0,0,0,0,0,0,0,0,0,0,0,0,0,0,0,0,0,0,0,0,0,0,0,0,0,0,0,0,0,0,0,0,0,0,0,0,0,0,null,null,null,null,null,null,null,null,null,null,null,null,null,null,null,null,null,null,null,null,null,null,null,null,null,null,null,null,null,null,null,null,null,null,null,null,null,null,null,null,null,null,null,null,null,null,null,null,null,null,null,null,null,null,null,"R5300SB","EXPORTS","_Z","_Z","_Z","_Z","_Z","BJ","ENERGY","_Z","TJ_GCV",null,"nrg_ind_ebmg","TRADE","R5300SB","EXP","BJ","TJ_GCV","Agg.=SUM(countries)"]
[null,null,null,null,null,null,"Bolivia",null,null,null,null,null,null,null,null,null,null,null,null,null,null,0,0,0,0,0,0,0,0,0,0,0,0,0,0,0,0,0,0,0,0,0,0,0,0,0,0,0,0,0,0,0,0,0,0,0,0,0,0,0,0,0,0,0,0,0,0,0,null,null,null,null,null,null,null,null,null,null,null,null,null,null,null,null,null,null,null,null,null,null,null,null,null,null,null,null,null,null,null,null,null,null,null,null,null,null,null,null,null,null,null,null,null,null,null,null,null,null,null,null,null,null,null,"R5300SB","EXPORTS","_Z","_Z","_Z","_Z","_Z","BO","ENERGY","_Z","TJ_GCV",null,"nrg_ind_ebmg","TRADE","R5300SB","EXP","BO","TJ_GCV","Agg.=SUM(countries)"]
[null,null,null,null,null,null,"Bosnia and Herzegovina",null,null,null,null,null,null,null,null,null,null,null,null,null,null,0,0,0,0,0,0,0,0,0,0,0,0,0,0,0,0,0,0,0,0,0,0,0,0,0,0,0,0,0,0,0,0,0,0,0,0,0,0,0,0,0,0,0,0,0,0,0,null,null,null,null,null,null,null,null,null,null,null,null,null,null,null,null,null,null,null,null,null,null,null,null,null,null,null,null,null,null,null,null,null,null,null,null,null,null,null,null,null,null,null,null,null,null,null,null,null,null,null,null,null,null,null,"R5300SB","EXPORTS","_Z","_Z","_Z","_Z","_Z","BA","ENERGY","_Z","TJ_GCV",null,"nrg_ind_ebmg","TRADE","R5300SB","EXP","BA","TJ_GCV","Agg.=SUM(countries)"]
[null,null,null,null,null,null,"Brazil",null,null,null,null,null,null,null,null,null,null,null,null,null,null,0,0,0,0,0,0,0,0,0,0,0,0,0,0,0,0,0,0,0,0,0,0,0,0,0,0,0,0,0,0,0,0,0,0,0,0,0,0,0,0,0,0,0,0,0,0,0,null,null,null,null,null,null,null,null,null,null,null,null,null,null,null,null,null,null,null,null,null,null,null,null,null,null,null,null,null,null,null,null,null,null,null,null,null,null,null,null,null,null,null,null,null,null,null,null,null,null,null,null,null,null,null,"R5300SB","EXPORTS","_Z","_Z","_Z","_Z","_Z","BR","ENERGY","_Z","TJ_GCV",null,"nrg_ind_ebmg","TRADE","R5300SB","EXP","BR","TJ_GCV","Agg.=SUM(countries)"]
[null,null,null,null,null,null,"British Virgin Islands",null,null,null,null,null,null,null,null,null,null,null,null,null,null,0,0,0,0,0,0,0,0,0,0,0,0,0,0,0,0,0,0,0,0,0,0,0,0,0,0,0,0,0,0,0,0,0,0,0,0,0,0,0,0,0,0,0,0,0,0,0,null,null,null,null,null,null,null,null,null,null,null,null,null,null,null,null,null,null,null,null,null,null,null,null,null,null,null,null,null,null,null,null,null,null,null,null,null,null,null,null,null,null,null,null,null,null,null,null,null,null,null,null,null,null,null,"R5300SB","EXPORTS","_Z","_Z","_Z","_Z","_Z","VG","ENERGY","_Z","TJ_GCV",null,"nrg_ind_ebmg","TRADE","R5300SB","EXP","VG","TJ_GCV","Agg.=SUM(countries)"]
[null,null,null,null,null,null,"Brunei Darussalam",null,null,null,null,null,null,null,null,null,null,null,null,null,null,0,0,0,0,0,0,0,0,0,0,0,0,0,0,0,0,0,0,0,0,0,0,0,0,0,0,0,0,0,0,0,0,0,0,0,0,0,0,0,0,0,0,0,0,0,0,0,null,null,null,null,null,null,null,null,null,null,null,null,null,null,null,null,null,null,null,null,null,null,null,null,null,null,null,null,null,null,null,null,null,null,null,null,null,null,null,null,null,null,null,null,null,null,null,null,null,null,null,null,null,null,null,"R5300SB","EXPORTS","_Z","_Z","_Z","_Z","_Z","BN","ENERGY","_Z","TJ_GCV",null,"nrg_ind_ebmg","TRADE","R5300SB","EXP","BN","TJ_GCV","Agg.=SUM(countries)"]
[null,null,null,null,null,null,"Bulgaria",null,null,null,null,null,null,null,null,null,null,null,null,null,null,0,0,0,0,0,0,0,0,0,0,0,0,0,0,0,0,0,0,0,0,0,0,0,0,0,0,0,0,0,0,0,0,0,0,0,0,0,0,0,0,0,0,0,0,0,0,0,null,null,null,null,null,null,null,null,null,null,null,null,null,null,null,null,null,null,null,null,null,null,null,null,null,null,null,null,null,null,null,null,null,null,null,null,null,null,null,null,null,null,null,null,null,null,null,null,null,null,null,null,null,null,null,"R5300SB","EXPORTS","_Z","_Z","_Z","_Z","_Z","BG","ENERGY","_Z","TJ_GCV",null,"nrg_ind_ebmg","TRADE","R5300SB","EXP","BG","TJ_GCV","Agg.=SUM(countries)"]
[null,null,null,null,null,null,"Cambodia",null,null,null,null,null,null,null,null,null,null,null,null,null,null,0,0,0,0,0,0,0,0,0,0,0,0,0,0,0,0,0,0,0,0,0,0,0,0,0,0,0,0,0,0,0,0,0,0,0,0,0,0,0,0,0,0,0,0,0,0,0,null,null,null,null,null,null,null,null,null,null,null,null,null,null,null,null,null,null,null,null,null,null,null,null,null,null,null,null,null,null,null,null,null,null,null,null,null,null,null,null,null,null,null,null,null,null,null,null,null,null,null,null,null,null,null,"R5300SB","EXPORTS","_Z","_Z","_Z","_Z","_Z","KH","ENERGY","_Z","TJ_GCV",null,"nrg_ind_ebmg","TRADE","R5300SB","EXP","KH","TJ_GCV","Agg.=SUM(countries)"]
[null,null,null,null,null,null,"Cameroon",null,null,null,null,null,null,null,null,null,null,null,null,null,null,0,0,0,0,0,0,0,0,0,0,0,0,0,0,0,0,0,0,0,0,0,0,0,0,0,0,0,0,0,0,0,0,0,0,0,0,0,0,0,0,0,0,0,0,0,0,0,null,null,null,null,null,null,null,null,null,null,null,null,null,null,null,null,null,null,null,null,null,null,null,null,null,null,null,null,null,null,null,null,null,null,null,null,null,null,null,null,null,null,null,null,null,null,null,null,null,null,null,null,null,null,null,"R5300SB","EXPORTS","_Z","_Z","_Z","_Z","_Z","CM","ENERGY","_Z","TJ_GCV",null,"nrg_ind_ebmg","TRADE","R5300SB","EXP","CM","TJ_GCV","Agg.=SUM(countries)"]
[null,null,null,null,null,null,"Canada",null,null,null,null,null,null,null,null,null,null,null,null,null,null,0,0,0,0,0,0,0,0,0,0,0,0,0,0,0,0,0,0,0,0,0,0,0,0,0,0,0,0,0,0,0,0,0,0,0,0,0,0,0,0,0,0,0,0,0,0,0,null,null,null,null,null,null,null,null,null,null,null,null,null,null,null,null,null,null,null,null,null,null,null,null,null,null,null,null,null,null,null,null,null,null,null,null,null,null,null,null,null,null,null,null,null,null,null,null,null,null,null,null,null,null,null,"R5300SB","EXPORTS","_Z","_Z","_Z","_Z","_Z","CA","ENERGY","_Z","TJ_GCV",null,"nrg_ind_ebmg","TRADE","R5300SB","EXP","CA","TJ_GCV","Agg.=SUM(countries)"]
[null,null,null,null,null,null,"Cape Verde / Cabo Verde",null,null,null,null,null,null,null,null,null,null,null,null,null,null,0,0,0,0,0,0,0,0,0,0,0,0,0,0,0,0,0,0,0,0,0,0,0,0,0,0,0,0,0,0,0,0,0,0,0,0,0,0,0,0,0,0,0,0,0,0,0,null,null,null,null,null,null,null,null,null,null,null,null,null,null,null,null,null,null,null,null,null,null,null,null,null,null,null,null,null,null,null,null,null,null,null,null,null,null,null,null,null,null,null,null,null,null,null,null,null,null,null,null,null,null,null,"R5300SB","EXPORTS","_Z","_Z","_Z","_Z","_Z","CV","ENERGY","_Z","TJ_GCV",null,"nrg_ind_ebmg","TRADE","R5300SB","EXP","CV","TJ_GCV","Agg.=SUM(countries)"]
[null,null,null,null,null,null,"Chile",null,null,null,null,null,null,null,null,null,null,null,null,null,null,0,0,0,0,0,0,0,0,0,0,0,0,0,0,0,0,0,0,0,0,0,0,0,0,0,0,0,0,0,0,0,0,0,0,0,0,0,0,0,0,0,0,0,0,0,0,0,null,null,null,null,null,null,null,null,null,null,null,null,null,null,null,null,null,null,null,null,null,null,null,null,null,null,null,null,null,null,null,null,null,null,null,null,null,null,null,null,null,null,null,null,null,null,null,null,null,null,null,null,null,null,null,"R5300SB","EXPORTS","_Z","_Z","_Z","_Z","_Z","CL","ENERGY","_Z","TJ_GCV",null,"nrg_ind_ebmg","TRADE","R5300SB","EXP","CL","TJ_GCV","Agg.=SUM(countries)"]
[null,null,null,null,null,null,"China, People's Republic of",null,null,null,null,null,null,null,null,null,null,null,null,null,null,0,0,0,0,0,0,0,0,0,0,0,0,0,0,0,0,0,0,0,0,0,0,0,0,0,0,0,0,0,0,0,0,0,0,0,0,0,0,0,0,0,0,0,0,0,0,0,null,null,null,null,null,null,null,null,null,null,null,null,null,null,null,null,null,null,null,null,null,null,null,null,null,null,null,null,null,null,null,null,null,null,null,null,null,null,null,null,null,null,null,null,null,null,null,null,null,null,null,null,null,null,null,"R5300SB","EXPORTS","_Z","_Z","_Z","_Z","_Z","CN","ENERGY","_Z","TJ_GCV",null,"nrg_ind_ebmg","TRADE","R5300SB","EXP","CN","TJ_GCV","Agg.=SUM(countries)"]
[null,null,null,null,null,null,"Colombia",null,null,null,null,null,null,null,null,null,null,null,null,null,null,0,0,0,0,0,0,0,0,0,0,0,0,0,0,0,0,0,0,0,0,0,0,0,0,0,0,0,0,0,0,0,0,0,0,0,0,0,0,0,0,0,0,0,0,0,0,0,null,null,null,null,null,null,null,null,null,null,null,null,null,null,null,null,null,null,null,null,null,null,null,null,null,null,null,null,null,null,null,null,null,null,null,null,null,null,null,null,null,null,null,null,null,null,null,null,null,null,null,null,null,null,null,"R5300SB","EXPORTS","_Z","_Z","_Z","_Z","_Z","CO","ENERGY","_Z","TJ_GCV",null,"nrg_ind_ebmg","TRADE","R5300SB","EXP","CO","TJ_GCV","Agg.=SUM(countries)"]
[null,null,null,null,null,null,"Congo",null,null,null,null,null,null,null,null,null,null,null,null,null,null,0,0,0,0,0,0,0,0,0,0,0,0,0,0,0,0,0,0,0,0,0,0,0,0,0,0,0,0,0,0,0,0,0,0,0,0,0,0,0,0,0,0,0,0,0,0,0,null,null,null,null,null,null,null,null,null,null,null,null,null,null,null,null,null,null,null,null,null,null,null,null,null,null,null,null,null,null,null,null,null,null,null,null,null,null,null,null,null,null,null,null,null,null,null,null,null,null,null,null,null,null,null,"R5300SB","EXPORTS","_Z","_Z","_Z","_Z","_Z","CG","ENERGY","_Z","TJ_GCV",null,"nrg_ind_ebmg","TRADE","R5300SB","EXP","CG","TJ_GCV","Agg.=SUM(countries)"]
[null,null,null,null,null,null,"Costa Rica",null,null,null,null,null,null,null,null,null,null,null,null,null,null,0,0,0,0,0,0,0,0,0,0,0,0,0,0,0,0,0,0,0,0,0,0,0,0,0,0,0,0,0,0,0,0,0,0,0,0,0,0,0,0,0,0,0,0,0,0,0,null,null,null,null,null,null,null,null,null,null,null,null,null,null,null,null,null,null,null,null,null,null,null,null,null,null,null,null,null,null,null,null,null,null,null,null,null,null,null,null,null,null,null,null,null,null,null,null,null,null,null,null,null,null,null,"R5300SB","EXPORTS","_Z","_Z","_Z","_Z","_Z","CR","ENERGY","_Z","TJ_GCV",null,"nrg_ind_ebmg","TRADE","R5300SB","EXP","CR","TJ_GCV","Agg.=SUM(countries)"]
[null,null,null,null,null,null,"Côte d’Ivoire",null,null,null,null,null,null,null,null,null,null,null,null,null,null,0,0,0,0,0,0,0,0,0,0,0,0,0,0,0,0,0,0,0,0,0,0,0,0,0,0,0,0,0,0,0,0,0,0,0,0,0,0,0,0,0,0,0,0,0,0,0,null,null,null,null,null,null,null,null,null,null,null,null,null,null,null,null,null,null,null,null,null,null,null,null,null,null,null,null,null,null,null,null,null,null,null,null,null,null,null,null,null,null,null,null,null,null,null,null,null,null,null,null,null,null,null,"R5300SB","EXPORTS","_Z","_Z","_Z","_Z","_Z","CI","ENERGY","_Z","TJ_GCV",null,"nrg_ind_ebmg","TRADE","R5300SB","EXP","CI","TJ_GCV","Agg.=SUM(countries)"]
[null,null,null,null,null,null,"Croatia",null,null,null,null,null,null,null,null,null,null,null,null,null,null,0,0,0,0,0,0,0,0,0,0,0,0,0,0,0,0,0,0,0,0,0,0,0,0,0,0,0,0,0,0,0,0,0,0,0,0,0,0,0,0,0,0,0,0,0,0,0,null,null,null,null,null,null,null,null,null,null,null,null,null,null,null,null,null,null,null,null,null,null,null,null,null,null,null,null,null,null,null,null,null,null,null,null,null,null,null,null,null,null,null,null,null,null,null,null,null,null,null,null,null,null,null,"R5300SB","EXPORTS","_Z","_Z","_Z","_Z","_Z","HR","ENERGY","_Z","TJ_GCV",null,"nrg_ind_ebmg","TRADE","R5300SB","EXP","HR","TJ_GCV","Agg.=SUM(countries)"]
[null,null,null,null,null,null,"Cuba",null,null,null,null,null,null,null,null,null,null,null,null,null,null,0,0,0,0,0,0,0,0,0,0,0,0,0,0,0,0,0,0,0,0,0,0,0,0,0,0,0,0,0,0,0,0,0,0,0,0,0,0,0,0,0,0,0,0,0,0,0,null,null,null,null,null,null,null,null,null,null,null,null,null,null,null,null,null,null,null,null,null,null,null,null,null,null,null,null,null,null,null,null,null,null,null,null,null,null,null,null,null,null,null,null,null,null,null,null,null,null,null,null,null,null,null,"R5300SB","EXPORTS","_Z","_Z","_Z","_Z","_Z","CU","ENERGY","_Z","TJ_GCV",null,"nrg_ind_ebmg","TRADE","R5300SB","EXP","CU","TJ_GCV","Agg.=SUM(countries)"]
[null,null,null,null,null,null,"Curaçao",null,null,null,null,null,null,null,null,null,null,null,null,null,null,0,0,0,0,0,0,0,0,0,0,0,0,0,0,0,0,0,0,0,0,0,0,0,0,0,0,0,0,0,0,0,0,0,0,0,0,0,0,0,0,0,0,0,0,0,0,0,null,null,null,null,null,null,null,null,null,null,null,null,null,null,null,null,null,null,null,null,null,null,null,null,null,null,null,null,null,null,null,null,null,null,null,null,null,null,null,null,null,null,null,null,null,null,null,null,null,null,null,null,null,null,null,"R5300SB","EXPORTS","_Z","_Z","_Z","_Z","_Z","CW","ENERGY","_Z","TJ_GCV",null,"nrg_ind_ebmg","TRADE","R5300SB","EXP","CW","TJ_GCV","Agg.=SUM(countries)"]
[null,null,null,null,null,null,"Cyprus",null,null,null,null,null,null,null,null,null,null,null,null,null,null,0,0,0,0,0,0,0,0,0,0,0,0,0,0,0,0,0,0,0,0,0,0,0,0,0,0,0,0,0,0,0,0,0,0,0,0,0,0,0,0,0,0,0,0,0,0,0,null,null,null,null,null,null,null,null,null,null,null,null,null,null,null,null,null,null,null,null,null,null,null,null,null,null,null,null,null,null,null,null,null,null,null,null,null,null,null,null,null,null,null,null,null,null,null,null,null,null,null,null,null,null,null,"R5300SB","EXPORTS","_Z","_Z","_Z","_Z","_Z","CY","ENERGY","_Z","TJ_GCV",null,"nrg_ind_ebmg","TRADE","R5300SB","EXP","CY","TJ_GCV","Agg.=SUM(countries)"]
[null,null,null,null,null,null,"Czech Republic",null,null,null,null,null,null,null,null,null,null,null,null,null,null,0,0,0,0,0,0,0,0,0,0,0,0,0,0,0,0,0,0,0,0,0,0,0,0,0,0,0,0,0,0,0,0,0,0,0,0,0,0,0,0,0,0,0,0,0,0,0,null,null,null,null,null,null,null,null,null,null,null,null,null,null,null,null,null,null,null,null,null,null,null,null,null,null,null,null,null,null,null,null,null,null,null,null,null,null,null,null,null,null,null,null,null,null,null,null,null,null,null,null,null,null,null,"R5300SB","EXPORTS","_Z","_Z","_Z","_Z","_Z","CZ","ENERGY","_Z","TJ_GCV",null,"nrg_ind_ebmg","TRADE","R5300SB","EXP","CZ","TJ_GCV","Agg.=SUM(countries)"]
[null,null,null,null,null,null,"Korea, Democratic People's Republic of",null,null,null,null,null,null,null,null,null,null,null,null,null,null,0,0,0,0,0,0,0,0,0,0,0,0,0,0,0,0,0,0,0,0,0,0,0,0,0,0,0,0,0,0,0,0,0,0,0,0,0,0,0,0,0,0,0,0,0,0,0,null,null,null,null,null,null,null,null,null,null,null,null,null,null,null,null,null,null,null,null,null,null,null,null,null,null,null,null,null,null,null,null,null,null,null,null,null,null,null,null,null,null,null,null,null,null,null,null,null,null,null,null,null,null,null,"R5300SB","EXPORTS","_Z","_Z","_Z","_Z","_Z","KP","ENERGY","_Z","TJ_GCV",null,"nrg_ind_ebmg","TRADE","R5300SB","EXP","KP","TJ_GCV","Agg.=SUM(countries)"]
[null,null,null,null,null,null,"Congo, Democratic Republic of the",null,null,null,null,null,null,null,null,null,null,null,null,null,null,0,0,0,0,0,0,0,0,0,0,0,0,0,0,0,0,0,0,0,0,0,0,0,0,0,0,0,0,0,0,0,0,0,0,0,0,0,0,0,0,0,0,0,0,0,0,0,null,null,null,null,null,null,null,null,null,null,null,null,null,null,null,null,null,null,null,null,null,null,null,null,null,null,null,null,null,null,null,null,null,null,null,null,null,null,null,null,null,null,null,null,null,null,null,null,null,null,null,null,null,null,null,"R5300SB","EXPORTS","_Z","_Z","_Z","_Z","_Z","CD","ENERGY","_Z","TJ_GCV",null,"nrg_ind_ebmg","TRADE","R5300SB","EXP","CD","TJ_GCV","Agg.=SUM(countries)"]
[null,null,null,null,null,null,"Denmark",null,null,null,null,null,null,null,null,null,null,null,null,null,null,0,0,0,0,0,0,0,0,0,0,0,0,0,0,0,0,0,0,0,0,0,0,0,0,0,0,0,0,0,0,0,0,0,0,0,0,0,0,0,0,0,0,0,0,0,0,0,null,null,null,null,null,null,null,null,null,null,null,null,null,null,null,null,null,null,null,null,null,null,null,null,null,null,null,null,null,null,null,null,null,null,null,null,null,null,null,null,null,null,null,null,null,null,null,null,null,null,null,null,null,null,null,"R5300SB","EXPORTS","_Z","_Z","_Z","_Z","_Z","DK","ENERGY","_Z","TJ_GCV",null,"nrg_ind_ebmg","TRADE","R5300SB","EXP","DK","TJ_GCV","Agg.=SUM(countries)"]
[null,null,null,null,null,null,"Djibouti",null,null,null,null,null,null,null,null,null,null,null,null,null,null,0,0,0,0,0,0,0,0,0,0,0,0,0,0,0,0,0,0,0,0,0,0,0,0,0,0,0,0,0,0,0,0,0,0,0,0,0,0,0,0,0,0,0,0,0,0,0,null,null,null,null,null,null,null,null,null,null,null,null,null,null,null,null,null,null,null,null,null,null,null,null,null,null,null,null,null,null,null,null,null,null,null,null,null,null,null,null,null,null,null,null,null,null,null,null,null,null,null,null,null,null,null,"R5300SB","EXPORTS","_Z","_Z","_Z","_Z","_Z","DJ","ENERGY","_Z","TJ_GCV",null,"nrg_ind_ebmg","TRADE","R5300SB","EXP","DJ","TJ_GCV","Agg.=SUM(countries)"]
[null,null,null,null,null,null,"Dominican Republic",null,null,null,null,null,null,null,null,null,null,null,null,null,null,0,0,0,0,0,0,0,0,0,0,0,0,0,0,0,0,0,0,0,0,0,0,0,0,0,0,0,0,0,0,0,0,0,0,0,0,0,0,0,0,0,0,0,0,0,0,0,null,null,null,null,null,null,null,null,null,null,null,null,null,null,null,null,null,null,null,null,null,null,null,null,null,null,null,null,null,null,null,null,null,null,null,null,null,null,null,null,null,null,null,null,null,null,null,null,null,null,null,null,null,null,null,"R5300SB","EXPORTS","_Z","_Z","_Z","_Z","_Z","DO","ENERGY","_Z","TJ_GCV",null,"nrg_ind_ebmg","TRADE","R5300SB","EXP","DO","TJ_GCV","Agg.=SUM(countries)"]
[null,null,null,null,null,null,"Ecuador",null,null,null,null,null,null,null,null,null,null,null,null,null,null,0,0,0,0,0,0,0,0,0,0,0,0,0,0,0,0,0,0,0,0,0,0,0,0,0,0,0,0,0,0,0,0,0,0,0,0,0,0,0,0,0,0,0,0,0,0,0,null,null,null,null,null,null,null,null,null,null,null,null,null,null,null,null,null,null,null,null,null,null,null,null,null,null,null,null,null,null,null,null,null,null,null,null,null,null,null,null,null,null,null,null,null,null,null,null,null,null,null,null,null,null,null,"R5300SB","EXPORTS","_Z","_Z","_Z","_Z","_Z","EC","ENERGY","_Z","TJ_GCV",null,"nrg_ind_ebmg","TRADE","R5300SB","EXP","EC","TJ_GCV","Agg.=SUM(countries)"]
[null,null,null,null,null,null,"Egypt",null,null,null,null,null,null,null,null,null,null,null,null,null,null,0,0,0,0,0,0,0,0,0,0,0,0,0,0,0,0,0,0,0,0,0,0,0,0,0,0,0,0,0,0,0,0,0,0,0,0,0,0,0,0,0,0,0,0,0,0,0,null,null,null,null,null,null,null,null,null,null,null,null,null,null,null,null,null,null,null,null,null,null,null,null,null,null,null,null,null,null,null,null,null,null,null,null,null,null,null,null,null,null,null,null,null,null,null,null,null,null,null,null,null,null,null,"R5300SB","EXPORTS","_Z","_Z","_Z","_Z","_Z","EG","ENERGY","_Z","TJ_GCV",null,"nrg_ind_ebmg","TRADE","R5300SB","EXP","EG","TJ_GCV","Agg.=SUM(countries)"]
[null,null,null,null,null,null,"Equatorial Guinea",null,null,null,null,null,null,null,null,null,null,null,null,null,null,0,0,0,0,0,0,0,0,0,0,0,0,0,0,0,0,0,0,0,0,0,0,0,0,0,0,0,0,0,0,0,0,0,0,0,0,0,0,0,0,0,0,0,0,0,0,0,null,null,null,null,null,null,null,null,null,null,null,null,null,null,null,null,null,null,null,null,null,null,null,null,null,null,null,null,null,null,null,null,null,null,null,null,null,null,null,null,null,null,null,null,null,null,null,null,null,null,null,null,null,null,null,"R5300SB","EXPORTS","_Z","_Z","_Z","_Z","_Z","GQ","ENERGY","_Z","TJ_GCV",null,"nrg_ind_ebmg","TRADE","R5300SB","EXP","GQ","TJ_GCV","Agg.=SUM(countries)"]
[null,null,null,null,null,null,"Eritrea",null,null,null,null,null,null,null,null,null,null,null,null,null,null,0,0,0,0,0,0,0,0,0,0,0,0,0,0,0,0,0,0,0,0,0,0,0,0,0,0,0,0,0,0,0,0,0,0,0,0,0,0,0,0,0,0,0,0,0,0,0,null,null,null,null,null,null,null,null,null,null,null,null,null,null,null,null,null,null,null,null,null,null,null,null,null,null,null,null,null,null,null,null,null,null,null,null,null,null,null,null,null,null,null,null,null,null,null,null,null,null,null,null,null,null,null,"R5300SB","EXPORTS","_Z","_Z","_Z","_Z","_Z","ER","ENERGY","_Z","TJ_GCV",null,"nrg_ind_ebmg","TRADE","R5300SB","EXP","ER","TJ_GCV","Agg.=SUM(countries)"]
[null,null,null,null,null,null,"Estonia",null,null,null,null,null,null,null,null,null,null,null,null,null,null,0,0,0,0,0,0,0,0,0,0,0,0,0,0,0,0,0,0,0,0,0,0,0,0,0,0,0,0,0,0,0,0,0,0,0,0,0,0,0,0,0,0,0,0,0,0,0,null,null,null,null,null,null,null,null,null,null,null,null,null,null,null,null,null,null,null,null,null,null,null,null,null,null,null,null,null,null,null,null,null,null,null,null,null,null,null,null,null,null,null,null,null,null,null,null,null,null,null,null,null,null,null,"R5300SB","EXPORTS","_Z","_Z","_Z","_Z","_Z","EE","ENERGY","_Z","TJ_GCV",null,"nrg_ind_ebmg","TRADE","R5300SB","EXP","EE","TJ_GCV","Agg.=SUM(countries)"]
[null,null,null,null,null,null,"Ethiopia",null,null,null,null,null,null,null,null,null,null,null,null,null,null,0,0,0,0,0,0,0,0,0,0,0,0,0,0,0,0,0,0,0,0,0,0,0,0,0,0,0,0,0,0,0,0,0,0,0,0,0,0,0,0,0,0,0,0,0,0,0,null,null,null,null,null,null,null,null,null,null,null,null,null,null,null,null,null,null,null,null,null,null,null,null,null,null,null,null,null,null,null,null,null,null,null,null,null,null,null,null,null,null,null,null,null,null,null,null,null,null,null,null,null,null,null,"R5300SB","EXPORTS","_Z","_Z","_Z","_Z","_Z","ET","ENERGY","_Z","TJ_GCV",null,"nrg_ind_ebmg","TRADE","R5300SB","EXP","ET","TJ_GCV","Agg.=SUM(countries)"]
[null,null,null,null,null,null,"Finland",null,null,null,null,null,null,null,null,null,null,null,null,null,null,0,0,0,0,0,0,0,0,0,0,0,0,0,0,0,0,0,0,0,0,0,0,0,0,0,0,0,0,0,0,0,0,0,0,0,0,0,0,0,0,0,0,0,0,0,0,0,null,null,null,null,null,null,null,null,null,null,null,null,null,null,null,null,null,null,null,null,null,null,null,null,null,null,null,null,null,null,null,null,null,null,null,null,null,null,null,null,null,null,null,null,null,null,null,null,null,null,null,null,null,null,null,"R5300SB","EXPORTS","_Z","_Z","_Z","_Z","_Z","FI","ENERGY","_Z","TJ_GCV",null,"nrg_ind_ebmg","TRADE","R5300SB","EXP","FI","TJ_GCV","Agg.=SUM(countries)"]
[null,null,null,null,null,null,"France",null,null,null,null,null,null,null,null,null,null,null,null,null,null,0,0,0,0,0,0,0,0,0,0,0,0,0,0,0,0,0,0,0,0,0,0,0,0,0,0,0,0,0,0,0,0,0,0,0,0,0,0,0,0,0,0,0,0,0,0,0,null,null,null,null,null,null,null,null,null,null,null,null,null,null,null,null,null,null,null,null,null,null,null,null,null,null,null,null,null,null,null,null,null,null,null,null,null,null,null,null,null,null,null,null,null,null,null,null,null,null,null,null,null,null,null,"R5300SB","EXPORTS","_Z","_Z","_Z","_Z","_Z","FR","ENERGY","_Z","TJ_GCV",null,"nrg_ind_ebmg","TRADE","R5300SB","EXP","FR","TJ_GCV","Agg.=SUM(countries)"]
[null,null,null,null,null,null,"Gabon",null,null,null,null,null,null,null,null,null,null,null,null,null,null,0,0,0,0,0,0,0,0,0,0,0,0,0,0,0,0,0,0,0,0,0,0,0,0,0,0,0,0,0,0,0,0,0,0,0,0,0,0,0,0,0,0,0,0,0,0,0,null,null,null,null,null,null,null,null,null,null,null,null,null,null,null,null,null,null,null,null,null,null,null,null,null,null,null,null,null,null,null,null,null,null,null,null,null,null,null,null,null,null,null,null,null,null,null,null,null,null,null,null,null,null,null,"R5300SB","EXPORTS","_Z","_Z","_Z","_Z","_Z","GA","ENERGY","_Z","TJ_GCV",null,"nrg_ind_ebmg","TRADE","R5300SB","EXP","GA","TJ_GCV","Agg.=SUM(countries)"]
[null,null,null,null,null,null,"Georgia",null,null,null,null,null,null,null,null,null,null,null,null,null,null,0,0,0,0,0,0,0,0,0,0,0,0,0,0,0,0,0,0,0,0,0,0,0,0,0,0,0,0,0,0,0,0,0,0,0,0,0,0,0,0,0,0,0,0,0,0,0,null,null,null,null,null,null,null,null,null,null,null,null,null,null,null,null,null,null,null,null,null,null,null,null,null,null,null,null,null,null,null,null,null,null,null,null,null,null,null,null,null,null,null,null,null,null,null,null,null,null,null,null,null,null,null,"R5300SB","EXPORTS","_Z","_Z","_Z","_Z","_Z","GE","ENERGY","_Z","TJ_GCV",null,"nrg_ind_ebmg","TRADE","R5300SB","EXP","GE","TJ_GCV","Agg.=SUM(countries)"]
[null,null,null,null,null,null,"Germany",null,null,null,null,null,null,null,null,null,null,null,null,null,null,0,0,0,0,0,0,0,0,0,0,0,0,0,0,0,0,0,0,0,0,0,0,0,0,0,0,0,0,0,0,0,0,0,0,0,0,0,0,0,0,0,0,0,0,0,0,0,null,null,null,null,null,null,null,null,null,null,null,null,null,null,null,null,null,null,null,null,null,null,null,null,null,null,null,null,null,null,null,null,null,null,null,null,null,null,null,null,null,null,null,null,null,null,null,null,null,null,null,null,null,null,null,"R5300SB","EXPORTS","_Z","_Z","_Z","_Z","_Z","DE","ENERGY","_Z","TJ_GCV",null,"nrg_ind_ebmg","TRADE","R5300SB","EXP","DE","TJ_GCV","Agg.=SUM(countries)"]
[null,null,null,null,null,null,"Ghana",null,null,null,null,null,null,null,null,null,null,null,null,null,null,0,0,0,0,0,0,0,0,0,0,0,0,0,0,0,0,0,0,0,0,0,0,0,0,0,0,0,0,0,0,0,0,0,0,0,0,0,0,0,0,0,0,0,0,0,0,0,null,null,null,null,null,null,null,null,null,null,null,null,null,null,null,null,null,null,null,null,null,null,null,null,null,null,null,null,null,null,null,null,null,null,null,null,null,null,null,null,null,null,null,null,null,null,null,null,null,null,null,null,null,null,null,"R5300SB","EXPORTS","_Z","_Z","_Z","_Z","_Z","GH","ENERGY","_Z","TJ_GCV",null,"nrg_ind_ebmg","TRADE","R5300SB","EXP","GH","TJ_GCV","Agg.=SUM(countries)"]
[null,null,null,null,null,null,"Gibraltar",null,null,null,null,null,null,null,null,null,null,null,null,null,null,0,0,0,0,0,0,0,0,0,0,0,0,0,0,0,0,0,0,0,0,0,0,0,0,0,0,0,0,0,0,0,0,0,0,0,0,0,0,0,0,0,0,0,0,0,0,0,null,null,null,null,null,null,null,null,null,null,null,null,null,null,null,null,null,null,null,null,null,null,null,null,null,null,null,null,null,null,null,null,null,null,null,null,null,null,null,null,null,null,null,null,null,null,null,null,null,null,null,null,null,null,null,"R5300SB","EXPORTS","_Z","_Z","_Z","_Z","_Z","GI","ENERGY","_Z","TJ_GCV",null,"nrg_ind_ebmg","TRADE","R5300SB","EXP","GI","TJ_GCV","Agg.=SUM(countries)"]
[null,null,null,null,null,null,"Greece",null,null,null,null,null,null,null,null,null,null,null,null,null,null,0,0,0,0,0,0,0,0,0,0,0,0,0,0,0,0,0,0,0,0,0,0,0,0,0,0,0,0,0,0,0,0,0,0,0,0,0,0,0,0,0,0,0,0,0,0,0,null,null,null,null,null,null,null,null,null,null,null,null,null,null,null,null,null,null,null,null,null,null,null,null,null,null,null,null,null,null,null,null,null,null,null,null,null,null,null,null,null,null,null,null,null,null,null,null,null,null,null,null,null,null,null,"R5300SB","EXPORTS","_Z","_Z","_Z","_Z","_Z","GR","ENERGY","_Z","TJ_GCV",null,"nrg_ind_ebmg","TRADE","R5300SB","EXP","GR","TJ_GCV","Agg.=SUM(countries)"]
[null,null,null,null,null,null,"Guatemala",null,null,null,null,null,null,null,null,null,null,null,null,null,null,0,0,0,0,0,0,0,0,0,0,0,0,0,0,0,0,0,0,0,0,0,0,0,0,0,0,0,0,0,0,0,0,0,0,0,0,0,0,0,0,0,0,0,0,0,0,0,null,null,null,null,null,null,null,null,null,null,null,null,null,null,null,null,null,null,null,null,null,null,null,null,null,null,null,null,null,null,null,null,null,null,null,null,null,null,null,null,null,null,null,null,null,null,null,null,null,null,null,null,null,null,null,"R5300SB","EXPORTS","_Z","_Z","_Z","_Z","_Z","GT","ENERGY","_Z","TJ_GCV",null,"nrg_ind_ebmg","TRADE","R5300SB","EXP","GT","TJ_GCV","Agg.=SUM(countries)"]
[null,null,null,null,null,null,"Guinea-Bissau",null,null,null,null,null,null,null,null,null,null,null,null,null,null,0,0,0,0,0,0,0,0,0,0,0,0,0,0,0,0,0,0,0,0,0,0,0,0,0,0,0,0,0,0,0,0,0,0,0,0,0,0,0,0,0,0,0,0,0,0,0,null,null,null,null,null,null,null,null,null,null,null,null,null,null,null,null,null,null,null,null,null,null,null,null,null,null,null,null,null,null,null,null,null,null,null,null,null,null,null,null,null,null,null,null,null,null,null,null,null,null,null,null,null,null,null,"R5300SB","EXPORTS","_Z","_Z","_Z","_Z","_Z","GW","ENERGY","_Z","TJ_GCV",null,"nrg_ind_ebmg","TRADE","R5300SB","EXP","GW","TJ_GCV","Agg.=SUM(countries)"]
[null,null,null,null,null,null,"Honduras",null,null,null,null,null,null,null,null,null,null,null,null,null,null,0,0,0,0,0,0,0,0,0,0,0,0,0,0,0,0,0,0,0,0,0,0,0,0,0,0,0,0,0,0,0,0,0,0,0,0,0,0,0,0,0,0,0,0,0,0,0,null,null,null,null,null,null,null,null,null,null,null,null,null,null,null,null,null,null,null,null,null,null,null,null,null,null,null,null,null,null,null,null,null,null,null,null,null,null,null,null,null,null,null,null,null,null,null,null,null,null,null,null,null,null,null,"R5300SB","EXPORTS","_Z","_Z","_Z","_Z","_Z","HN","ENERGY","_Z","TJ_GCV",null,"nrg_ind_ebmg","TRADE","R5300SB","EXP","HN","TJ_GCV","Agg.=SUM(countries)"]
[null,null,null,null,null,null,"Hong Kong, China",null,null,null,null,null,null,null,null,null,null,null,null,null,null,0,0,0,0,0,0,0,0,0,0,0,0,0,0,0,0,0,0,0,0,0,0,0,0,0,0,0,0,0,0,0,0,0,0,0,0,0,0,0,0,0,0,0,0,0,0,0,null,null,null,null,null,null,null,null,null,null,null,null,null,null,null,null,null,null,null,null,null,null,null,null,null,null,null,null,null,null,null,null,null,null,null,null,null,null,null,null,null,null,null,null,null,null,null,null,null,null,null,null,null,null,null,"R5300SB","EXPORTS","_Z","_Z","_Z","_Z","_Z","HK","ENERGY","_Z","TJ_GCV",null,"nrg_ind_ebmg","TRADE","R5300SB","EXP","HK","TJ_GCV","Agg.=SUM(countries)"]
[null,null,null,null,null,null,"Hungary",null,null,null,null,null,null,null,null,null,null,null,null,null,null,0,0,0,0,0,0,0,0,0,0,0,0,0,0,0,0,0,0,0,0,0,0,0,0,0,0,0,0,0,0,0,0,0,0,0,0,0,0,0,0,0,0,0,0,0,0,0,null,null,null,null,null,null,null,null,null,null,null,null,null,null,null,null,null,null,null,null,null,null,null,null,null,null,null,null,null,null,null,null,null,null,null,null,null,null,null,null,null,null,null,null,null,null,null,null,null,null,null,null,null,null,null,"R5300SB","EXPORTS","_Z","_Z","_Z","_Z","_Z","HU","ENERGY","_Z","TJ_GCV",null,"nrg_ind_ebmg","TRADE","R5300SB","EXP","HU","TJ_GCV","Agg.=SUM(countries)"]
[null,null,null,null,null,null,"Iceland",null,null,null,null,null,null,null,null,null,null,null,null,null,null,0,0,0,0,0,0,0,0,0,0,0,0,0,0,0,0,0,0,0,0,0,0,0,0,0,0,0,0,0,0,0,0,0,0,0,0,0,0,0,0,0,0,0,0,0,0,0,null,null,null,null,null,null,null,null,null,null,null,null,null,null,null,null,null,null,null,null,null,null,null,null,null,null,null,null,null,null,null,null,null,null,null,null,null,null,null,null,null,null,null,null,null,null,null,null,null,null,null,null,null,null,null,"R5300SB","EXPORTS","_Z","_Z","_Z","_Z","_Z","IS","ENERGY","_Z","TJ_GCV",null,"nrg_ind_ebmg","TRADE","R5300SB","EXP","IS","TJ_GCV","Agg.=SUM(countries)"]
[null,null,null,null,null,null,"India",null,null,null,null,null,null,null,null,null,null,null,null,null,null,0,0,0,0,0,0,0,0,0,0,0,0,0,0,0,0,0,0,0,0,0,0,0,0,0,0,0,0,0,0,0,0,0,0,0,0,0,0,0,0,0,0,0,0,0,0,0,null,null,null,null,null,null,null,null,null,null,null,null,null,null,null,null,null,null,null,null,null,null,null,null,null,null,null,null,null,null,null,null,null,null,null,null,null,null,null,null,null,null,null,null,null,null,null,null,null,null,null,null,null,null,null,"R5300SB","EXPORTS","_Z","_Z","_Z","_Z","_Z","IN","ENERGY","_Z","TJ_GCV",null,"nrg_ind_ebmg","TRADE","R5300SB","EXP","IN","TJ_GCV","Agg.=SUM(countries)"]
[null,null,null,null,null,null,"Indonesia",null,null,null,null,null,null,null,null,null,null,null,null,null,null,0,0,0,0,0,0,0,0,0,0,0,0,0,0,0,0,0,0,0,0,0,0,0,0,0,0,0,0,0,0,0,0,0,0,0,0,0,0,0,0,0,0,0,0,0,0,0,null,null,null,null,null,null,null,null,null,null,null,null,null,null,null,null,null,null,null,null,null,null,null,null,null,null,null,null,null,null,null,null,null,null,null,null,null,null,null,null,null,null,null,null,null,null,null,null,null,null,null,null,null,null,null,"R5300SB","EXPORTS","_Z","_Z","_Z","_Z","_Z","ID","ENERGY","_Z","TJ_GCV",null,"nrg_ind_ebmg","TRADE","R5300SB","EXP","ID","TJ_GCV","Agg.=SUM(countries)"]
[null,null,null,null,null,null,"Iran, Islamic Republic of",null,null,null,null,null,null,null,null,null,null,null,null,null,null,0,0,0,0,0,0,0,0,0,0,0,0,0,0,0,0,0,0,0,0,0,0,0,0,0,0,0,0,0,0,0,0,0,0,0,0,0,0,0,0,0,0,0,0,0,0,0,null,null,null,null,null,null,null,null,null,null,null,null,null,null,null,null,null,null,null,null,null,null,null,null,null,null,null,null,null,null,null,null,null,null,null,null,null,null,null,null,null,null,null,null,null,null,null,null,null,null,null,null,null,null,null,"R5300SB","EXPORTS","_Z","_Z","_Z","_Z","_Z","IR","ENERGY","_Z","TJ_GCV",null,"nrg_ind_ebmg","TRADE","R5300SB","EXP","IR","TJ_GCV","Agg.=SUM(countries)"]
[null,null,null,null,null,null,"Iraq",null,null,null,null,null,null,null,null,null,null,null,null,null,null,0,0,0,0,0,0,0,0,0,0,0,0,0,0,0,0,0,0,0,0,0,0,0,0,0,0,0,0,0,0,0,0,0,0,0,0,0,0,0,0,0,0,0,0,0,0,0,null,null,null,null,null,null,null,null,null,null,null,null,null,null,null,null,null,null,null,null,null,null,null,null,null,null,null,null,null,null,null,null,null,null,null,null,null,null,null,null,null,null,null,null,null,null,null,null,null,null,null,null,null,null,null,"R5300SB","EXPORTS","_Z","_Z","_Z","_Z","_Z","IQ","ENERGY","_Z","TJ_GCV",null,"nrg_ind_ebmg","TRADE","R5300SB","EXP","IQ","TJ_GCV","Agg.=SUM(countries)"]
[null,null,null,null,null,null,"Ireland",null,null,null,null,null,null,null,null,null,null,null,null,null,null,0,0,0,0,0,0,0,0,0,0,0,0,0,0,0,0,0,0,0,0,0,0,0,0,0,0,0,0,0,0,0,0,0,0,0,0,0,0,0,0,0,0,0,0,0,0,0,null,null,null,null,null,null,null,null,null,null,null,null,null,null,null,null,null,null,null,null,null,null,null,null,null,null,null,null,null,null,null,null,null,null,null,null,null,null,null,null,null,null,null,null,null,null,null,null,null,null,null,null,null,null,null,"R5300SB","EXPORTS","_Z","_Z","_Z","_Z","_Z","IE","ENERGY","_Z","TJ_GCV",null,"nrg_ind_ebmg","TRADE","R5300SB","EXP","IE","TJ_GCV","Agg.=SUM(countries)"]
[null,null,null,null,null,null,"Israel",null,null,null,null,null,null,null,null,null,null,null,null,null,null,0,0,0,0,0,0,0,0,0,0,0,0,0,0,0,0,0,0,0,0,0,0,0,0,0,0,0,0,0,0,0,0,0,0,0,0,0,0,0,0,0,0,0,0,0,0,0,null,null,null,null,null,null,null,null,null,null,null,null,null,null,null,null,null,null,null,null,null,null,null,null,null,null,null,null,null,null,null,null,null,null,null,null,null,null,null,null,null,null,null,null,null,null,null,null,null,null,null,null,null,null,null,"R5300SB","EXPORTS","_Z","_Z","_Z","_Z","_Z","IL","ENERGY","_Z","TJ_GCV",null,"nrg_ind_ebmg","TRADE","R5300SB","EXP","IL","TJ_GCV","Agg.=SUM(countries)"]
[null,null,null,null,null,null,"Italy",null,null,null,null,null,null,null,null,null,null,null,null,null,null,0,0,0,0,0,0,0,0,0,0,0,0,0,0,0,0,0,0,0,0,0,0,0,0,0,0,0,0,0,0,0,0,0,0,0,0,0,0,0,0,0,0,0,0,0,0,0,null,null,null,null,null,null,null,null,null,null,null,null,null,null,null,null,null,null,null,null,null,null,null,null,null,null,null,null,null,null,null,null,null,null,null,null,null,null,null,null,null,null,null,null,null,null,null,null,null,null,null,null,null,null,null,"R5300SB","EXPORTS","_Z","_Z","_Z","_Z","_Z","IT","ENERGY","_Z","TJ_GCV",null,"nrg_ind_ebmg","TRADE","R5300SB","EXP","IT","TJ_GCV","Agg.=SUM(countries)"]
[null,null,null,null,null,null,"Jamaica",null,null,null,null,null,null,null,null,null,null,null,null,null,null,0,0,0,0,0,0,0,0,0,0,0,0,0,0,0,0,0,0,0,0,0,0,0,0,0,0,0,0,0,0,0,0,0,0,0,0,0,0,0,0,0,0,0,0,0,0,0,null,null,null,null,null,null,null,null,null,null,null,null,null,null,null,null,null,null,null,null,null,null,null,null,null,null,null,null,null,null,null,null,null,null,null,null,null,null,null,null,null,null,null,null,null,null,null,null,null,null,null,null,null,null,null,"R5300SB","EXPORTS","_Z","_Z","_Z","_Z","_Z","JM","ENERGY","_Z","TJ_GCV",null,"nrg_ind_ebmg","TRADE","R5300SB","EXP","JM","TJ_GCV","Agg.=SUM(countries)"]
[null,null,null,null,null,null,"Japan",null,null,null,null,null,null,null,null,null,null,null,null,null,null,0,0,0,0,0,0,0,0,0,0,0,0,0,0,0,0,0,0,0,0,0,0,0,0,0,0,0,0,0,0,0,0,0,0,0,0,0,0,0,0,0,0,0,0,0,0,0,null,null,null,null,null,null,null,null,null,null,null,null,null,null,null,null,null,null,null,null,null,null,null,null,null,null,null,null,null,null,null,null,null,null,null,null,null,null,null,null,null,null,null,null,null,null,null,null,null,null,null,null,null,null,null,"R5300SB","EXPORTS","_Z","_Z","_Z","_Z","_Z","JP","ENERGY","_Z","TJ_GCV",null,"nrg_ind_ebmg","TRADE","R5300SB","EXP","JP","TJ_GCV","Agg.=SUM(countries)"]
[null,null,null,null,null,null,"Jordan",null,null,null,null,null,null,null,null,null,null,null,null,null,null,0,0,0,0,0,0,0,0,0,0,0,0,0,0,0,0,0,0,0,0,0,0,0,0,0,0,0,0,0,0,0,0,0,0,0,0,0,0,0,0,0,0,0,0,0,0,0,null,null,null,null,null,null,null,null,null,null,null,null,null,null,null,null,null,null,null,null,null,null,null,null,null,null,null,null,null,null,null,null,null,null,null,null,null,null,null,null,null,null,null,null,null,null,null,null,null,null,null,null,null,null,null,"R5300SB","EXPORTS","_Z","_Z","_Z","_Z","_Z","JO","ENERGY","_Z","TJ_GCV",null,"nrg_ind_ebmg","TRADE","R5300SB","EXP","JO","TJ_GCV","Agg.=SUM(countries)"]
[null,null,null,null,null,null,"Kazakhstan",null,null,null,null,null,null,null,null,null,null,null,null,null,null,0,0,0,0,0,0,0,0,0,0,0,0,0,0,0,0,0,0,0,0,0,0,0,0,0,0,0,0,0,0,0,0,0,0,0,0,0,0,0,0,0,0,0,0,0,0,0,null,null,null,null,null,null,null,null,null,null,null,null,null,null,null,null,null,null,null,null,null,null,null,null,null,null,null,null,null,null,null,null,null,null,null,null,null,null,null,null,null,null,null,null,null,null,null,null,null,null,null,null,null,null,null,"R5300SB","EXPORTS","_Z","_Z","_Z","_Z","_Z","KZ","ENERGY","_Z","TJ_GCV",null,"nrg_ind_ebmg","TRADE","R5300SB","EXP","KZ","TJ_GCV","Agg.=SUM(countries)"]
[null,null,null,null,null,null,"Kenya",null,null,null,null,null,null,null,null,null,null,null,null,null,null,0,0,0,0,0,0,0,0,0,0,0,0,0,0,0,0,0,0,0,0,0,0,0,0,0,0,0,0,0,0,0,0,0,0,0,0,0,0,0,0,0,0,0,0,0,0,0,null,null,null,null,null,null,null,null,null,null,null,null,null,null,null,null,null,null,null,null,null,null,null,null,null,null,null,null,null,null,null,null,null,null,null,null,null,null,null,null,null,null,null,null,null,null,null,null,null,null,null,null,null,null,null,"R5300SB","EXPORTS","_Z","_Z","_Z","_Z","_Z","KE","ENERGY","_Z","TJ_GCV",null,"nrg_ind_ebmg","TRADE","R5300SB","EXP","KE","TJ_GCV","Agg.=SUM(countries)"]
[null,null,null,null,null,null,"Korea",null,null,null,null,null,null,null,null,null,null,null,null,null,null,0,0,0,0,0,0,0,0,0,0,0,0,0,0,0,0,0,0,0,0,0,0,0,0,0,0,0,0,0,0,0,0,0,0,0,0,0,0,0,0,0,0,0,0,0,0,0,null,null,null,null,null,null,null,null,null,null,null,null,null,null,null,null,null,null,null,null,null,null,null,null,null,null,null,null,null,null,null,null,null,null,null,null,null,null,null,null,null,null,null,null,null,null,null,null,null,null,null,null,null,null,null,"R5300SB","EXPORTS","_Z","_Z","_Z","_Z","_Z","KR","ENERGY","_Z","TJ_GCV",null,"nrg_ind_ebmg","TRADE","R5300SB","EXP","KR","TJ_GCV","Agg.=SUM(countries)"]
[null,null,null,null,null,null,"Kosovo*",null,null,null,null,null,null,null,null,null,null,null,null,null,null,0,0,0,0,0,0,0,0,0,0,0,0,0,0,0,0,0,0,0,0,0,0,0,0,0,0,0,0,0,0,0,0,0,0,0,0,0,0,0,0,0,0,0,0,0,0,0,null,null,null,null,null,null,null,null,null,null,null,null,null,null,null,null,null,null,null,null,null,null,null,null,null,null,null,null,null,null,null,null,null,null,null,null,null,null,null,null,null,null,null,null,null,null,null,null,null,null,null,null,null,null,null,"R5300SB","EXPORTS","_Z","_Z","_Z","_Z","_Z","XK","ENERGY","_Z","TJ_GCV",null,"nrg_ind_ebmg","TRADE","R5300SB","EXP","XK","TJ_GCV","Agg.=SUM(countries)"]
[null,null,null,null,null,null,"Kuwait",null,null,null,null,null,null,null,null,null,null,null,null,null,null,0,0,0,0,0,0,0,0,0,0,0,0,0,0,0,0,0,0,0,0,0,0,0,0,0,0,0,0,0,0,0,0,0,0,0,0,0,0,0,0,0,0,0,0,0,0,0,null,null,null,null,null,null,null,null,null,null,null,null,null,null,null,null,null,null,null,null,null,null,null,null,null,null,null,null,null,null,null,null,null,null,null,null,null,null,null,null,null,null,null,null,null,null,null,null,null,null,null,null,null,null,null,"R5300SB","EXPORTS","_Z","_Z","_Z","_Z","_Z","KW","ENERGY","_Z","TJ_GCV",null,"nrg_ind_ebmg","TRADE","R5300SB","EXP","KW","TJ_GCV","Agg.=SUM(countries)"]
[null,null,null,null,null,null,"Kyrgyzstan",null,null,null,null,null,null,null,null,null,null,null,null,null,null,0,0,0,0,0,0,0,0,0,0,0,0,0,0,0,0,0,0,0,0,0,0,0,0,0,0,0,0,0,0,0,0,0,0,0,0,0,0,0,0,0,0,0,0,0,0,0,null,null,null,null,null,null,null,null,null,null,null,null,null,null,null,null,null,null,null,null,null,null,null,null,null,null,null,null,null,null,null,null,null,null,null,null,null,null,null,null,null,null,null,null,null,null,null,null,null,null,null,null,null,null,null,"R5300SB","EXPORTS","_Z","_Z","_Z","_Z","_Z","KG","ENERGY","_Z","TJ_GCV",null,"nrg_ind_ebmg","TRADE","R5300SB","EXP","KG","TJ_GCV","Agg.=SUM(countries)"]
[null,null,null,null,null,null,"Lao People's Democratic Republic",null,null,null,null,null,null,null,null,null,null,null,null,null,null,0,0,0,0,0,0,0,0,0,0,0,0,0,0,0,0,0,0,0,0,0,0,0,0,0,0,0,0,0,0,0,0,0,0,0,0,0,0,0,0,0,0,0,0,0,0,0,null,null,null,null,null,null,null,null,null,null,null,null,null,null,null,null,null,null,null,null,null,null,null,null,null,null,null,null,null,null,null,null,null,null,null,null,null,null,null,null,null,null,null,null,null,null,null,null,null,null,null,null,null,null,null,"R5300SB","EXPORTS","_Z","_Z","_Z","_Z","_Z","LA","ENERGY","_Z","TJ_GCV",null,"nrg_ind_ebmg","TRADE","R5300SB","EXP","LA","TJ_GCV","Agg.=SUM(countries)"]
[null,null,null,null,null,null,"Latvia",null,null,null,null,null,null,null,null,null,null,null,null,null,null,0,0,0,0,0,0,0,0,0,0,0,0,0,0,0,0,0,0,0,0,0,0,0,0,0,0,0,0,0,0,0,0,0,0,0,0,0,0,0,0,0,0,0,0,0,0,0,null,null,null,null,null,null,null,null,null,null,null,null,null,null,null,null,null,null,null,null,null,null,null,null,null,null,null,null,null,null,null,null,null,null,null,null,null,null,null,null,null,null,null,null,null,null,null,null,null,null,null,null,null,null,null,"R5300SB","EXPORTS","_Z","_Z","_Z","_Z","_Z","LV","ENERGY","_Z","TJ_GCV",null,"nrg_ind_ebmg","TRADE","R5300SB","EXP","LV","TJ_GCV","Agg.=SUM(countries)"]
[null,null,null,null,null,null,"Lebanon",null,null,null,null,null,null,null,null,null,null,null,null,null,null,0,0,0,0,0,0,0,0,0,0,0,0,0,0,0,0,0,0,0,0,0,0,0,0,0,0,0,0,0,0,0,0,0,0,0,0,0,0,0,0,0,0,0,0,0,0,0,null,null,null,null,null,null,null,null,null,null,null,null,null,null,null,null,null,null,null,null,null,null,null,null,null,null,null,null,null,null,null,null,null,null,null,null,null,null,null,null,null,null,null,null,null,null,null,null,null,null,null,null,null,null,null,"R5300SB","EXPORTS","_Z","_Z","_Z","_Z","_Z","LB","ENERGY","_Z","TJ_GCV",null,"nrg_ind_ebmg","TRADE","R5300SB","EXP","LB","TJ_GCV","Agg.=SUM(countries)"]
[null,null,null,null,null,null,"Liberia",null,null,null,null,null,null,null,null,null,null,null,null,null,null,0,0,0,0,0,0,0,0,0,0,0,0,0,0,0,0,0,0,0,0,0,0,0,0,0,0,0,0,0,0,0,0,0,0,0,0,0,0,0,0,0,0,0,0,0,0,0,null,null,null,null,null,null,null,null,null,null,null,null,null,null,null,null,null,null,null,null,null,null,null,null,null,null,null,null,null,null,null,null,null,null,null,null,null,null,null,null,null,null,null,null,null,null,null,null,null,null,null,null,null,null,null,"R5300SB","EXPORTS","_Z","_Z","_Z","_Z","_Z","LR","ENERGY","_Z","TJ_GCV",null,"nrg_ind_ebmg","TRADE","R5300SB","EXP","LR","TJ_GCV","Agg.=SUM(countries)"]
[null,null,null,null,null,null,"Libya",null,null,null,null,null,null,null,null,null,null,null,null,null,null,0,0,0,0,0,0,0,0,0,0,0,0,0,0,0,0,0,0,0,0,0,0,0,0,0,0,0,0,0,0,0,0,0,0,0,0,0,0,0,0,0,0,0,0,0,0,0,null,null,null,null,null,null,null,null,null,null,null,null,null,null,null,null,null,null,null,null,null,null,null,null,null,null,null,null,null,null,null,null,null,null,null,null,null,null,null,null,null,null,null,null,null,null,null,null,null,null,null,null,null,null,null,"R5300SB","EXPORTS","_Z","_Z","_Z","_Z","_Z","LY","ENERGY","_Z","TJ_GCV",null,"nrg_ind_ebmg","TRADE","R5300SB","EXP","LY","TJ_GCV","Agg.=SUM(countries)"]
[null,null,null,null,null,null,"Liechtenstein",null,null,null,null,null,null,null,null,null,null,null,null,null,null,0,0,0,0,0,0,0,0,0,0,0,0,0,0,0,0,0,0,0,0,0,0,0,0,0,0,0,0,0,0,0,0,0,0,0,0,0,0,0,0,0,0,0,0,0,0,0,null,null,null,null,null,null,null,null,null,null,null,null,null,null,null,null,null,null,null,null,null,null,null,null,null,null,null,null,null,null,null,null,null,null,null,null,null,null,null,null,null,null,null,null,null,null,null,null,null,null,null,null,null,null,null,"R5300SB","EXPORTS","_Z","_Z","_Z","_Z","_Z","LI","ENERGY","_Z","TJ_GCV",null,"nrg_ind_ebmg","TRADE","R5300SB","EXP","LI","TJ_GCV","Agg.=SUM(countries)"]
[null,null,null,null,null,null,"Lithuania",null,null,null,null,null,null,null,null,null,null,null,null,null,null,0,0,0,0,0,0,0,0,0,0,0,0,0,0,0,0,0,0,0,0,0,0,0,0,0,0,0,0,0,0,0,0,0,0,0,0,0,0,0,0,0,0,0,0,0,0,0,null,null,null,null,null,null,null,null,null,null,null,null,null,null,null,null,null,null,null,null,null,null,null,null,null,null,null,null,null,null,null,null,null,null,null,null,null,null,null,null,null,null,null,null,null,null,null,null,null,null,null,null,null,null,null,"R5300SB","EXPORTS","_Z","_Z","_Z","_Z","_Z","LT","ENERGY","_Z","TJ_GCV",null,"nrg_ind_ebmg","TRADE","R5300SB","EXP","LT","TJ_GCV","Agg.=SUM(countries)"]
[null,null,null,null,null,null,"Luxembourg",null,null,null,null,null,null,null,null,null,null,null,null,null,null,0,0,0,0,0,0,0,0,0,0,0,0,0,0,0,0,0,0,0,0,0,0,0,0,0,0,0,0,0,0,0,0,0,0,0,0,0,0,0,0,0,0,0,0,0,0,0,null,null,null,null,null,null,null,null,null,null,null,null,null,null,null,null,null,null,null,null,null,null,null,null,null,null,null,null,null,null,null,null,null,null,null,null,null,null,null,null,null,null,null,null,null,null,null,null,null,null,null,null,null,null,null,"R5300SB","EXPORTS","_Z","_Z","_Z","_Z","_Z","LU","ENERGY","_Z","TJ_GCV",null,"nrg_ind_ebmg","TRADE","R5300SB","EXP","LU","TJ_GCV","Agg.=SUM(countries)"]
[null,null,null,null,null,null,"Madagascar",null,null,null,null,null,null,null,null,null,null,null,null,null,null,0,0,0,0,0,0,0,0,0,0,0,0,0,0,0,0,0,0,0,0,0,0,0,0,0,0,0,0,0,0,0,0,0,0,0,0,0,0,0,0,0,0,0,0,0,0,0,null,null,null,null,null,null,null,null,null,null,null,null,null,null,null,null,null,null,null,null,null,null,null,null,null,null,null,null,null,null,null,null,null,null,null,null,null,null,null,null,null,null,null,null,null,null,null,null,null,null,null,null,null,null,null,"R5300SB","EXPORTS","_Z","_Z","_Z","_Z","_Z","MG","ENERGY","_Z","TJ_GCV",null,"nrg_ind_ebmg","TRADE","R5300SB","EXP","MG","TJ_GCV","Agg.=SUM(countries)"]
[null,null,null,null,null,null,"Malaysia",null,null,null,null,null,null,null,null,null,null,null,null,null,null,0,0,0,0,0,0,0,0,0,0,0,0,0,0,0,0,0,0,0,0,0,0,0,0,0,0,0,0,0,0,0,0,0,0,0,0,0,0,0,0,0,0,0,0,0,0,0,null,null,null,null,null,null,null,null,null,null,null,null,null,null,null,null,null,null,null,null,null,null,null,null,null,null,null,null,null,null,null,null,null,null,null,null,null,null,null,null,null,null,null,null,null,null,null,null,null,null,null,null,null,null,null,"R5300SB","EXPORTS","_Z","_Z","_Z","_Z","_Z","MY","ENERGY","_Z","TJ_GCV",null,"nrg_ind_ebmg","TRADE","R5300SB","EXP","MY","TJ_GCV","Agg.=SUM(countries)"]
[null,null,null,null,null,null,"Malta",null,null,null,null,null,null,null,null,null,null,null,null,null,null,0,0,0,0,0,0,0,0,0,0,0,0,0,0,0,0,0,0,0,0,0,0,0,0,0,0,0,0,0,0,0,0,0,0,0,0,0,0,0,0,0,0,0,0,0,0,0,null,null,null,null,null,null,null,null,null,null,null,null,null,null,null,null,null,null,null,null,null,null,null,null,null,null,null,null,null,null,null,null,null,null,null,null,null,null,null,null,null,null,null,null,null,null,null,null,null,null,null,null,null,null,null,"R5300SB","EXPORTS","_Z","_Z","_Z","_Z","_Z","MT","ENERGY","_Z","TJ_GCV",null,"nrg_ind_ebmg","TRADE","R5300SB","EXP","MT","TJ_GCV","Agg.=SUM(countries)"]
[null,null,null,null,null,null,"Marshall Islands",null,null,null,null,null,null,null,null,null,null,null,null,null,null,0,0,0,0,0,0,0,0,0,0,0,0,0,0,0,0,0,0,0,0,0,0,0,0,0,0,0,0,0,0,0,0,0,0,0,0,0,0,0,0,0,0,0,0,0,0,0,null,null,null,null,null,null,null,null,null,null,null,null,null,null,null,null,null,null,null,null,null,null,null,null,null,null,null,null,null,null,null,null,null,null,null,null,null,null,null,null,null,null,null,null,null,null,null,null,null,null,null,null,null,null,null,"R5300SB","EXPORTS","_Z","_Z","_Z","_Z","_Z","MH","ENERGY","_Z","TJ_GCV",null,"nrg_ind_ebmg","TRADE","R5300SB","EXP","MH","TJ_GCV","Agg.=SUM(countries)"]
[null,null,null,null,null,null,"Mauritania",null,null,null,null,null,null,null,null,null,null,null,null,null,null,0,0,0,0,0,0,0,0,0,0,0,0,0,0,0,0,0,0,0,0,0,0,0,0,0,0,0,0,0,0,0,0,0,0,0,0,0,0,0,0,0,0,0,0,0,0,0,null,null,null,null,null,null,null,null,null,null,null,null,null,null,null,null,null,null,null,null,null,null,null,null,null,null,null,null,null,null,null,null,null,null,null,null,null,null,null,null,null,null,null,null,null,null,null,null,null,null,null,null,null,null,null,"R5300SB","EXPORTS","_Z","_Z","_Z","_Z","_Z","MR","ENERGY","_Z","TJ_GCV",null,"nrg_ind_ebmg","TRADE","R5300SB","EXP","MR","TJ_GCV","Agg.=SUM(countries)"]
[null,null,null,null,null,null,"Mauritius",null,null,null,null,null,null,null,null,null,null,null,null,null,null,0,0,0,0,0,0,0,0,0,0,0,0,0,0,0,0,0,0,0,0,0,0,0,0,0,0,0,0,0,0,0,0,0,0,0,0,0,0,0,0,0,0,0,0,0,0,0,null,null,null,null,null,null,null,null,null,null,null,null,null,null,null,null,null,null,null,null,null,null,null,null,null,null,null,null,null,null,null,null,null,null,null,null,null,null,null,null,null,null,null,null,null,null,null,null,null,null,null,null,null,null,null,"R5300SB","EXPORTS","_Z","_Z","_Z","_Z","_Z","MU","ENERGY","_Z","TJ_GCV",null,"nrg_ind_ebmg","TRADE","R5300SB","EXP","MU","TJ_GCV","Agg.=SUM(countries)"]
[null,null,null,null,null,null,"Mexico",null,null,null,null,null,null,null,null,null,null,null,null,null,null,0,0,0,0,0,0,0,0,0,0,0,0,0,0,0,0,0,0,0,0,0,0,0,0,0,0,0,0,0,0,0,0,0,0,0,0,0,0,0,0,0,0,0,0,0,0,0,null,null,null,null,null,null,null,null,null,null,null,null,null,null,null,null,null,null,null,null,null,null,null,null,null,null,null,null,null,null,null,null,null,null,null,null,null,null,null,null,null,null,null,null,null,null,null,null,null,null,null,null,null,null,null,"R5300SB","EXPORTS","_Z","_Z","_Z","_Z","_Z","MX","ENERGY","_Z","TJ_GCV",null,"nrg_ind_ebmg","TRADE","R5300SB","EXP","MX","TJ_GCV","Agg.=SUM(countries)"]
[null,null,null,null,null,null,"Moldova, Republic of",null,null,null,null,null,null,null,null,null,null,null,null,null,null,0,0,0,0,0,0,0,0,0,0,0,0,0,0,0,0,0,0,0,0,0,0,0,0,0,0,0,0,0,0,0,0,0,0,0,0,0,0,0,0,0,0,0,0,0,0,0,null,null,null,null,null,null,null,null,null,null,null,null,null,null,null,null,null,null,null,null,null,null,null,null,null,null,null,null,null,null,null,null,null,null,null,null,null,null,null,null,null,null,null,null,null,null,null,null,null,null,null,null,null,null,null,"R5300SB","EXPORTS","_Z","_Z","_Z","_Z","_Z","MD","ENERGY","_Z","TJ_GCV",null,"nrg_ind_ebmg","TRADE","R5300SB","EXP","MD","TJ_GCV","Agg.=SUM(countries)"]
[null,null,null,null,null,null,"Mongolia",null,null,null,null,null,null,null,null,null,null,null,null,null,null,0,0,0,0,0,0,0,0,0,0,0,0,0,0,0,0,0,0,0,0,0,0,0,0,0,0,0,0,0,0,0,0,0,0,0,0,0,0,0,0,0,0,0,0,0,0,0,null,null,null,null,null,null,null,null,null,null,null,null,null,null,null,null,null,null,null,null,null,null,null,null,null,null,null,null,null,null,null,null,null,null,null,null,null,null,null,null,null,null,null,null,null,null,null,null,null,null,null,null,null,null,null,"R5300SB","EXPORTS","_Z","_Z","_Z","_Z","_Z","MN","ENERGY","_Z","TJ_GCV",null,"nrg_ind_ebmg","TRADE","R5300SB","EXP","MN","TJ_GCV","Agg.=SUM(countries)"]
[null,null,null,null,null,null,"Montenegro",null,null,null,null,null,null,null,null,null,null,null,null,null,null,0,0,0,0,0,0,0,0,0,0,0,0,0,0,0,0,0,0,0,0,0,0,0,0,0,0,0,0,0,0,0,0,0,0,0,0,0,0,0,0,0,0,0,0,0,0,0,null,null,null,null,null,null,null,null,null,null,null,null,null,null,null,null,null,null,null,null,null,null,null,null,null,null,null,null,null,null,null,null,null,null,null,null,null,null,null,null,null,null,null,null,null,null,null,null,null,null,null,null,null,null,null,"R5300SB","EXPORTS","_Z","_Z","_Z","_Z","_Z","ME","ENERGY","_Z","TJ_GCV",null,"nrg_ind_ebmg","TRADE","R5300SB","EXP","ME","TJ_GCV","Agg.=SUM(countries)"]
[null,null,null,null,null,null,"Morocco",null,null,null,null,null,null,null,null,null,null,null,null,null,null,0,0,0,0,0,0,0,0,0,0,0,0,0,0,0,0,0,0,0,0,0,0,0,0,0,0,0,0,0,0,0,0,0,0,0,0,0,0,0,0,0,0,0,0,0,0,0,null,null,null,null,null,null,null,null,null,null,null,null,null,null,null,null,null,null,null,null,null,null,null,null,null,null,null,null,null,null,null,null,null,null,null,null,null,null,null,null,null,null,null,null,null,null,null,null,null,null,null,null,null,null,null,"R5300SB","EXPORTS","_Z","_Z","_Z","_Z","_Z","MA","ENERGY","_Z","TJ_GCV",null,"nrg_ind_ebmg","TRADE","R5300SB","EXP","MA","TJ_GCV","Agg.=SUM(countries)"]
[null,null,null,null,null,null,"Mozambique",null,null,null,null,null,null,null,null,null,null,null,null,null,null,0,0,0,0,0,0,0,0,0,0,0,0,0,0,0,0,0,0,0,0,0,0,0,0,0,0,0,0,0,0,0,0,0,0,0,0,0,0,0,0,0,0,0,0,0,0,0,null,null,null,null,null,null,null,null,null,null,null,null,null,null,null,null,null,null,null,null,null,null,null,null,null,null,null,null,null,null,null,null,null,null,null,null,null,null,null,null,null,null,null,null,null,null,null,null,null,null,null,null,null,null,null,"R5300SB","EXPORTS","_Z","_Z","_Z","_Z","_Z","MZ","ENERGY","_Z","TJ_GCV",null,"nrg_ind_ebmg","TRADE","R5300SB","EXP","MZ","TJ_GCV","Agg.=SUM(countries)"]
[null,null,null,null,null,null,"Myanmar",null,null,null,null,null,null,null,null,null,null,null,null,null,null,0,0,0,0,0,0,0,0,0,0,0,0,0,0,0,0,0,0,0,0,0,0,0,0,0,0,0,0,0,0,0,0,0,0,0,0,0,0,0,0,0,0,0,0,0,0,0,null,null,null,null,null,null,null,null,null,null,null,null,null,null,null,null,null,null,null,null,null,null,null,null,null,null,null,null,null,null,null,null,null,null,null,null,null,null,null,null,null,null,null,null,null,null,null,null,null,null,null,null,null,null,null,"R5300SB","EXPORTS","_Z","_Z","_Z","_Z","_Z","MM","ENERGY","_Z","TJ_GCV",null,"nrg_ind_ebmg","TRADE","R5300SB","EXP","MM","TJ_GCV","Agg.=SUM(countries)"]
[null,null,null,null,null,null,"Namibia",null,null,null,null,null,null,null,null,null,null,null,null,null,null,0,0,0,0,0,0,0,0,0,0,0,0,0,0,0,0,0,0,0,0,0,0,0,0,0,0,0,0,0,0,0,0,0,0,0,0,0,0,0,0,0,0,0,0,0,0,0,null,null,null,null,null,null,null,null,null,null,null,null,null,null,null,null,null,null,null,null,null,null,null,null,null,null,null,null,null,null,null,null,null,null,null,null,null,null,null,null,null,null,null,null,null,null,null,null,null,null,null,null,null,null,null,"R5300SB","EXPORTS","_Z","_Z","_Z","_Z","_Z","NA","ENERGY","_Z","TJ_GCV",null,"nrg_ind_ebmg","TRADE","R5300SB","EXP","NA","TJ_GCV","Agg.=SUM(countries)"]
[null,null,null,null,null,null,"Nepal",null,null,null,null,null,null,null,null,null,null,null,null,null,null,0,0,0,0,0,0,0,0,0,0,0,0,0,0,0,0,0,0,0,0,0,0,0,0,0,0,0,0,0,0,0,0,0,0,0,0,0,0,0,0,0,0,0,0,0,0,0,null,null,null,null,null,null,null,null,null,null,null,null,null,null,null,null,null,null,null,null,null,null,null,null,null,null,null,null,null,null,null,null,null,null,null,null,null,null,null,null,null,null,null,null,null,null,null,null,null,null,null,null,null,null,null,"R5300SB","EXPORTS","_Z","_Z","_Z","_Z","_Z","NP","ENERGY","_Z","TJ_GCV",null,"nrg_ind_ebmg","TRADE","R5300SB","EXP","NP","TJ_GCV","Agg.=SUM(countries)"]
[null,null,null,null,null,null,"Netherlands",null,null,null,null,null,null,null,null,null,null,null,null,null,null,0,0,0,0,0,0,0,0,0,0,0,0,0,0,0,0,0,0,0,0,0,0,0,0,0,0,0,0,0,0,0,0,0,0,0,0,0,0,0,0,0,0,0,0,0,0,0,null,null,null,null,null,null,null,null,null,null,null,null,null,null,null,null,null,null,null,null,null,null,null,null,null,null,null,null,null,null,null,null,null,null,null,null,null,null,null,null,null,null,null,null,null,null,null,null,null,null,null,null,null,null,null,"R5300SB","EXPORTS","_Z","_Z","_Z","_Z","_Z","NL","ENERGY","_Z","TJ_GCV",null,"nrg_ind_ebmg","TRADE","R5300SB","EXP","NL","TJ_GCV","Agg.=SUM(countries)"]
[null,null,null,null,null,null,"New Caledonia",null,null,null,null,null,null,null,null,null,null,null,null,null,null,0,0,0,0,0,0,0,0,0,0,0,0,0,0,0,0,0,0,0,0,0,0,0,0,0,0,0,0,0,0,0,0,0,0,0,0,0,0,0,0,0,0,0,0,0,0,0,null,null,null,null,null,null,null,null,null,null,null,null,null,null,null,null,null,null,null,null,null,null,null,null,null,null,null,null,null,null,null,null,null,null,null,null,null,null,null,null,null,null,null,null,null,null,null,null,null,null,null,null,null,null,null,"R5300SB","EXPORTS","_Z","_Z","_Z","_Z","_Z","NC","ENERGY","_Z","TJ_GCV",null,"nrg_ind_ebmg","TRADE","R5300SB","EXP","NC","TJ_GCV","Agg.=SUM(countries)"]
[null,null,null,null,null,null,"New Zealand",null,null,null,null,null,null,null,null,null,null,null,null,null,null,0,0,0,0,0,0,0,0,0,0,0,0,0,0,0,0,0,0,0,0,0,0,0,0,0,0,0,0,0,0,0,0,0,0,0,0,0,0,0,0,0,0,0,0,0,0,0,null,null,null,null,null,null,null,null,null,null,null,null,null,null,null,null,null,null,null,null,null,null,null,null,null,null,null,null,null,null,null,null,null,null,null,null,null,null,null,null,null,null,null,null,null,null,null,null,null,null,null,null,null,null,null,"R5300SB","EXPORTS","_Z","_Z","_Z","_Z","_Z","NZ","ENERGY","_Z","TJ_GCV",null,"nrg_ind_ebmg","TRADE","R5300SB","EXP","NZ","TJ_GCV","Agg.=SUM(countries)"]
[null,null,null,null,null,null,"Niger",null,null,null,null,null,null,null,null,null,null,null,null,null,null,0,0,0,0,0,0,0,0,0,0,0,0,0,0,0,0,0,0,0,0,0,0,0,0,0,0,0,0,0,0,0,0,0,0,0,0,0,0,0,0,0,0,0,0,0,0,0,null,null,null,null,null,null,null,null,null,null,null,null,null,null,null,null,null,null,null,null,null,null,null,null,null,null,null,null,null,null,null,null,null,null,null,null,null,null,null,null,null,null,null,null,null,null,null,null,null,null,null,null,null,null,null,"R5300SB","EXPORTS","_Z","_Z","_Z","_Z","_Z","NE","ENERGY","_Z","TJ_GCV",null,"nrg_ind_ebmg","TRADE","R5300SB","EXP","NE","TJ_GCV","Agg.=SUM(countries)"]
[null,null,null,null,null,null,"Nigeria",null,null,null,null,null,null,null,null,null,null,null,null,null,null,0,0,0,0,0,0,0,0,0,0,0,0,0,0,0,0,0,0,0,0,0,0,0,0,0,0,0,0,0,0,0,0,0,0,0,0,0,0,0,0,0,0,0,0,0,0,0,null,null,null,null,null,null,null,null,null,null,null,null,null,null,null,null,null,null,null,null,null,null,null,null,null,null,null,null,null,null,null,null,null,null,null,null,null,null,null,null,null,null,null,null,null,null,null,null,null,null,null,null,null,null,null,"R5300SB","EXPORTS","_Z","_Z","_Z","_Z","_Z","NG","ENERGY","_Z","TJ_GCV",null,"nrg_ind_ebmg","TRADE","R5300SB","EXP","NG","TJ_GCV","Agg.=SUM(countries)"]
[null,null,null,null,null,null,"North Macedonia",null,null,null,null,null,null,null,null,null,null,null,null,null,null,0,0,0,0,0,0,0,0,0,0,0,0,0,0,0,0,0,0,0,0,0,0,0,0,0,0,0,0,0,0,0,0,0,0,0,0,0,0,0,0,0,0,0,0,0,0,0,null,null,null,null,null,null,null,null,null,null,null,null,null,null,null,null,null,null,null,null,null,null,null,null,null,null,null,null,null,null,null,null,null,null,null,null,null,null,null,null,null,null,null,null,null,null,null,null,null,null,null,null,null,null,null,"R5300SB","EXPORTS","_Z","_Z","_Z","_Z","_Z","MK","ENERGY","_Z","TJ_GCV",null,"nrg_ind_ebmg","TRADE","R5300SB","EXP","MK","TJ_GCV","Agg.=SUM(countries)"]
[null,null,null,null,null,null,"Norway",null,null,null,null,null,null,null,null,null,null,null,null,null,null,0,0,0,0,0,0,0,0,0,0,0,0,0,0,0,0,0,0,0,0,0,0,0,0,0,0,0,0,0,0,0,0,0,0,0,0,0,0,0,0,0,0,0,0,0,0,0,null,null,null,null,null,null,null,null,null,null,null,null,null,null,null,null,null,null,null,null,null,null,null,null,null,null,null,null,null,null,null,null,null,null,null,null,null,null,null,null,null,null,null,null,null,null,null,null,null,null,null,null,null,null,null,"R5300SB","EXPORTS","_Z","_Z","_Z","_Z","_Z","NO","ENERGY","_Z","TJ_GCV",null,"nrg_ind_ebmg","TRADE","R5300SB","EXP","NO","TJ_GCV","Agg.=SUM(countries)"]
[null,null,null,null,null,null,"Oman",null,null,null,null,null,null,null,null,null,null,null,null,null,null,0,0,0,0,0,0,0,0,0,0,0,0,0,0,0,0,0,0,0,0,0,0,0,0,0,0,0,0,0,0,0,0,0,0,0,0,0,0,0,0,0,0,0,0,0,0,0,null,null,null,null,null,null,null,null,null,null,null,null,null,null,null,null,null,null,null,null,null,null,null,null,null,null,null,null,null,null,null,null,null,null,null,null,null,null,null,null,null,null,null,null,null,null,null,null,null,null,null,null,null,null,null,"R5300SB","EXPORTS","_Z","_Z","_Z","_Z","_Z","OM","ENERGY","_Z","TJ_GCV",null,"nrg_ind_ebmg","TRADE","R5300SB","EXP","OM","TJ_GCV","Agg.=SUM(countries)"]
[null,null,null,null,null,null,"Other Africa",null,null,null,null,null,null,null,null,null,null,null,null,null,null,0,0,0,0,0,0,0,0,0,0,0,0,0,0,0,0,0,0,0,0,0,0,0,0,0,0,0,0,0,0,0,0,0,0,0,0,0,0,0,0,0,0,0,0,0,0,0,null,null,null,null,null,null,null,null,null,null,null,null,null,null,null,null,null,null,null,null,null,null,null,null,null,null,null,null,null,null,null,null,null,null,null,null,null,null,null,null,null,null,null,null,null,null,null,null,null,null,null,null,null,null,null,"R5300SB","EXPORTS","_Z","_Z","_Z","_Z","_Z","OX1","ENERGY","_Z","TJ_GCV",null,"nrg_ind_ebmg","TRADE","R5300SB","EXP","AFR_OTH","TJ_GCV","Agg.=SUM(countries)"]
[null,null,null,null,null,null,"Other Asia Oceania",null,null,null,null,null,null,null,null,null,null,null,null,null,null,0,0,0,0,0,0,0,0,0,0,0,0,0,0,0,0,0,0,0,0,0,0,0,0,0,0,0,0,0,0,0,0,0,0,0,0,0,0,0,0,0,0,0,0,0,0,0,null,null,null,null,null,null,null,null,null,null,null,null,null,null,null,null,null,null,null,null,null,null,null,null,null,null,null,null,null,null,null,null,null,null,null,null,null,null,null,null,null,null,null,null,null,null,null,null,null,null,null,null,null,null,null,"R5300SB","EXPORTS","_Z","_Z","_Z","_Z","_Z","OX2","ENERGY","_Z","TJ_GCV",null,"nrg_ind_ebmg","TRADE","R5300SB","EXP","ASI_OTH","TJ_GCV","Agg.=SUM(countries)"]
[null,null,null,null,null,null,"Other Europe",null,null,null,null,null,null,null,null,null,null,null,null,null,null,0,0,0,0,0,0,0,0,0,0,0,0,0,0,0,0,0,0,0,0,0,0,0,0,0,0,0,0,0,0,0,0,0,0,0,0,0,0,0,0,0,0,0,0,0,0,0,null,null,null,null,null,null,null,null,null,null,null,null,null,null,null,null,null,null,null,null,null,null,null,null,null,null,null,null,null,null,null,null,null,null,null,null,null,null,null,null,null,null,null,null,null,null,null,null,null,null,null,null,null,null,null,"R5300SB","EXPORTS","_Z","_Z","_Z","_Z","_Z","OX3","ENERGY","_Z","TJ_GCV",null,"nrg_ind_ebmg","TRADE","R5300SB","EXP","EUR_OTH","TJ_GCV","Agg.=SUM(countries)"]
[null,null,null,null,null,null,"Other Former Soviet Union",null,null,null,null,null,null,null,null,null,null,null,null,null,null,0,0,0,0,0,0,0,0,0,0,0,0,0,0,0,0,0,0,0,0,0,0,0,0,0,0,0,0,0,0,0,0,0,0,0,0,0,0,0,0,0,0,0,0,0,0,0,null,null,null,null,null,null,null,null,null,null,null,null,null,null,null,null,null,null,null,null,null,null,null,null,null,null,null,null,null,null,null,null,null,null,null,null,null,null,null,null,null,null,null,null,null,null,null,null,null,null,null,null,null,null,null,"R5300SB","EXPORTS","_Z","_Z","_Z","_Z","_Z","OX4","ENERGY","_Z","TJ_GCV",null,"nrg_ind_ebmg","TRADE","R5300SB","EXP","EX_SU_OTH","TJ_GCV","Agg.=SUM(countries)"]
[null,null,null,null,null,null,"Other Near and Middle East",null,null,null,null,null,null,null,null,null,null,null,null,null,null,0,0,0,0,0,0,0,0,0,0,0,0,0,0,0,0,0,0,0,0,0,0,0,0,0,0,0,0,0,0,0,0,0,0,0,0,0,0,0,0,0,0,0,0,0,0,0,null,null,null,null,null,null,null,null,null,null,null,null,null,null,null,null,null,null,null,null,null,null,null,null,null,null,null,null,null,null,null,null,null,null,null,null,null,null,null,null,null,null,null,null,null,null,null,null,null,null,null,null,null,null,null,"R5300SB","EXPORTS","_Z","_Z","_Z","_Z","_Z","OX5","ENERGY","_Z","TJ_GCV",null,"nrg_ind_ebmg","TRADE","R5300SB","EXP","ASI_NME_OTH","TJ_GCV","Agg.=SUM(countries)"]
[null,null,null,null,null,null,"Other Non-OECD Americas",null,null,null,null,null,null,null,null,null,null,null,null,null,null,0,0,0,0,0,0,0,0,0,0,0,0,0,0,0,0,0,0,0,0,0,0,0,0,0,0,0,0,0,0,0,0,0,0,0,0,0,0,0,0,0,0,0,0,0,0,0,null,null,null,null,null,null,null,null,null,null,null,null,null,null,null,null,null,null,null,null,null,null,null,null,null,null,null,null,null,null,null,null,null,null,null,null,null,null,null,null,null,null,null,null,null,null,null,null,null,null,null,null,null,null,null,"R5300SB","EXPORTS","_Z","_Z","_Z","_Z","_Z","OX6","ENERGY","_Z","TJ_GCV",null,"nrg_ind_ebmg","TRADE","R5300SB","EXP","AME_OTH","TJ_GCV","Agg.=SUM(countries)"]
[null,null,null,null,null,null,"Pakistan",null,null,null,null,null,null,null,null,null,null,null,null,null,null,0,0,0,0,0,0,0,0,0,0,0,0,0,0,0,0,0,0,0,0,0,0,0,0,0,0,0,0,0,0,0,0,0,0,0,0,0,0,0,0,0,0,0,0,0,0,0,null,null,null,null,null,null,null,null,null,null,null,null,null,null,null,null,null,null,null,null,null,null,null,null,null,null,null,null,null,null,null,null,null,null,null,null,null,null,null,null,null,null,null,null,null,null,null,null,null,null,null,null,null,null,null,"R5300SB","EXPORTS","_Z","_Z","_Z","_Z","_Z","PK","ENERGY","_Z","TJ_GCV",null,"nrg_ind_ebmg","TRADE","R5300SB","EXP","PK","TJ_GCV","Agg.=SUM(countries)"]
[null,null,null,null,null,null,"Panama",null,null,null,null,null,null,null,null,null,null,null,null,null,null,0,0,0,0,0,0,0,0,0,0,0,0,0,0,0,0,0,0,0,0,0,0,0,0,0,0,0,0,0,0,0,0,0,0,0,0,0,0,0,0,0,0,0,0,0,0,0,null,null,null,null,null,null,null,null,null,null,null,null,null,null,null,null,null,null,null,null,null,null,null,null,null,null,null,null,null,null,null,null,null,null,null,null,null,null,null,null,null,null,null,null,null,null,null,null,null,null,null,null,null,null,null,"R5300SB","EXPORTS","_Z","_Z","_Z","_Z","_Z","PA","ENERGY","_Z","TJ_GCV",null,"nrg_ind_ebmg","TRADE","R5300SB","EXP","PA","TJ_GCV","Agg.=SUM(countries)"]
[null,null,null,null,null,null,"Papua New Guinea",null,null,null,null,null,null,null,null,null,null,null,null,null,null,0,0,0,0,0,0,0,0,0,0,0,0,0,0,0,0,0,0,0,0,0,0,0,0,0,0,0,0,0,0,0,0,0,0,0,0,0,0,0,0,0,0,0,0,0,0,0,null,null,null,null,null,null,null,null,null,null,null,null,null,null,null,null,null,null,null,null,null,null,null,null,null,null,null,null,null,null,null,null,null,null,null,null,null,null,null,null,null,null,null,null,null,null,null,null,null,null,null,null,null,null,null,"R5300SB","EXPORTS","_Z","_Z","_Z","_Z","_Z","PG","ENERGY","_Z","TJ_GCV",null,"nrg_ind_ebmg","TRADE","R5300SB","EXP","PG","TJ_GCV","Agg.=SUM(countries)"]
[null,null,null,null,null,null,"Peru",null,null,null,null,null,null,null,null,null,null,null,null,null,null,0,0,0,0,0,0,0,0,0,0,0,0,0,0,0,0,0,0,0,0,0,0,0,0,0,0,0,0,0,0,0,0,0,0,0,0,0,0,0,0,0,0,0,0,0,0,0,null,null,null,null,null,null,null,null,null,null,null,null,null,null,null,null,null,null,null,null,null,null,null,null,null,null,null,null,null,null,null,null,null,null,null,null,null,null,null,null,null,null,null,null,null,null,null,null,null,null,null,null,null,null,null,"R5300SB","EXPORTS","_Z","_Z","_Z","_Z","_Z","PE","ENERGY","_Z","TJ_GCV",null,"nrg_ind_ebmg","TRADE","R5300SB","EXP","PE","TJ_GCV","Agg.=SUM(countries)"]
[null,null,null,null,null,null,"Philippines",null,null,null,null,null,null,null,null,null,null,null,null,null,null,0,0,0,0,0,0,0,0,0,0,0,0,0,0,0,0,0,0,0,0,0,0,0,0,0,0,0,0,0,0,0,0,0,0,0,0,0,0,0,0,0,0,0,0,0,0,0,null,null,null,null,null,null,null,null,null,null,null,null,null,null,null,null,null,null,null,null,null,null,null,null,null,null,null,null,null,null,null,null,null,null,null,null,null,null,null,null,null,null,null,null,null,null,null,null,null,null,null,null,null,null,null,"R5300SB","EXPORTS","_Z","_Z","_Z","_Z","_Z","PH","ENERGY","_Z","TJ_GCV",null,"nrg_ind_ebmg","TRADE","R5300SB","EXP","PH","TJ_GCV","Agg.=SUM(countries)"]
[null,null,null,null,null,null,"Poland",null,null,null,null,null,null,null,null,null,null,null,null,null,null,0,0,0,0,0,0,0,0,0,0,0,0,0,0,0,0,0,0,0,0,0,0,0,0,0,0,0,0,0,0,0,0,0,0,0,0,0,0,0,0,0,0,0,0,0,0,0,null,null,null,null,null,null,null,null,null,null,null,null,null,null,null,null,null,null,null,null,null,null,null,null,null,null,null,null,null,null,null,null,null,null,null,null,null,null,null,null,null,null,null,null,null,null,null,null,null,null,null,null,null,null,null,"R5300SB","EXPORTS","_Z","_Z","_Z","_Z","_Z","PL","ENERGY","_Z","TJ_GCV",null,"nrg_ind_ebmg","TRADE","R5300SB","EXP","PL","TJ_GCV","Agg.=SUM(countries)"]
[null,null,null,null,null,null,"Portugal",null,null,null,null,null,null,null,null,null,null,null,null,null,null,0,0,0,0,0,0,0,0,0,0,0,0,0,0,0,0,0,0,0,0,0,0,0,0,0,0,0,0,0,0,0,0,0,0,0,0,0,0,0,0,0,0,0,0,0,0,0,null,null,null,null,null,null,null,null,null,null,null,null,null,null,null,null,null,null,null,null,null,null,null,null,null,null,null,null,null,null,null,null,null,null,null,null,null,null,null,null,null,null,null,null,null,null,null,null,null,null,null,null,null,null,null,"R5300SB","EXPORTS","_Z","_Z","_Z","_Z","_Z","PT","ENERGY","_Z","TJ_GCV",null,"nrg_ind_ebmg","TRADE","R5300SB","EXP","PT","TJ_GCV","Agg.=SUM(countries)"]
[null,null,null,null,null,null,"Qatar",null,null,null,null,null,null,null,null,null,null,null,null,null,null,0,0,0,0,0,0,0,0,0,0,0,0,0,0,0,0,0,0,0,0,0,0,0,0,0,0,0,0,0,0,0,0,0,0,0,0,0,0,0,0,0,0,0,0,0,0,0,null,null,null,null,null,null,null,null,null,null,null,null,null,null,null,null,null,null,null,null,null,null,null,null,null,null,null,null,null,null,null,null,null,null,null,null,null,null,null,null,null,null,null,null,null,null,null,null,null,null,null,null,null,null,null,"R5300SB","EXPORTS","_Z","_Z","_Z","_Z","_Z","QA","ENERGY","_Z","TJ_GCV",null,"nrg_ind_ebmg","TRADE","R5300SB","EXP","QA","TJ_GCV","Agg.=SUM(countries)"]
[null,null,null,null,null,null,"Romania",null,null,null,null,null,null,null,null,null,null,null,null,null,null,0,0,0,0,0,0,0,0,0,0,0,0,0,0,0,0,0,0,0,0,0,0,0,0,0,0,0,0,0,0,0,0,0,0,0,0,0,0,0,0,0,0,0,0,0,0,0,null,null,null,null,null,null,null,null,null,null,null,null,null,null,null,null,null,null,null,null,null,null,null,null,null,null,null,null,null,null,null,null,null,null,null,null,null,null,null,null,null,null,null,null,null,null,null,null,null,null,null,null,null,null,null,"R5300SB","EXPORTS","_Z","_Z","_Z","_Z","_Z","RO","ENERGY","_Z","TJ_GCV",null,"nrg_ind_ebmg","TRADE","R5300SB","EXP","RO","TJ_GCV","Agg.=SUM(countries)"]
[null,null,null,null,null,null,"Russian Federation",null,null,null,null,null,null,null,null,null,null,null,null,null,null,0,0,0,0,0,0,0,0,0,0,0,0,0,0,0,0,0,0,0,0,0,0,0,0,0,0,0,0,0,0,0,0,0,0,0,0,0,0,0,0,0,0,0,0,0,0,0,null,null,null,null,null,null,null,null,null,null,null,null,null,null,null,null,null,null,null,null,null,null,null,null,null,null,null,null,null,null,null,null,null,null,null,null,null,null,null,null,null,null,null,null,null,null,null,null,null,null,null,null,null,null,null,"R5300SB","EXPORTS","_Z","_Z","_Z","_Z","_Z","RU","ENERGY","_Z","TJ_GCV",null,"nrg_ind_ebmg","TRADE","R5300SB","EXP","RU","TJ_GCV","Agg.=SUM(countries)"]
[null,null,null,null,null,null,"Sao Tome and Principe",null,null,null,null,null,null,null,null,null,null,null,null,null,null,0,0,0,0,0,0,0,0,0,0,0,0,0,0,0,0,0,0,0,0,0,0,0,0,0,0,0,0,0,0,0,0,0,0,0,0,0,0,0,0,0,0,0,0,0,0,0,null,null,null,null,null,null,null,null,null,null,null,null,null,null,null,null,null,null,null,null,null,null,null,null,null,null,null,null,null,null,null,null,null,null,null,null,null,null,null,null,null,null,null,null,null,null,null,null,null,null,null,null,null,null,null,"R5300SB","EXPORTS","_Z","_Z","_Z","_Z","_Z","ST","ENERGY","_Z","TJ_GCV",null,"nrg_ind_ebmg","TRADE","R5300SB","EXP","ST","TJ_GCV","Agg.=SUM(countries)"]
[null,null,null,null,null,null,"Saudi Arabia",null,null,null,null,null,null,null,null,null,null,null,null,null,null,0,0,0,0,0,0,0,0,0,0,0,0,0,0,0,0,0,0,0,0,0,0,0,0,0,0,0,0,0,0,0,0,0,0,0,0,0,0,0,0,0,0,0,0,0,0,0,null,null,null,null,null,null,null,null,null,null,null,null,null,null,null,null,null,null,null,null,null,null,null,null,null,null,null,null,null,null,null,null,null,null,null,null,null,null,null,null,null,null,null,null,null,null,null,null,null,null,null,null,null,null,null,"R5300SB","EXPORTS","_Z","_Z","_Z","_Z","_Z","SA","ENERGY","_Z","TJ_GCV",null,"nrg_ind_ebmg","TRADE","R5300SB","EXP","SA","TJ_GCV","Agg.=SUM(countries)"]
[null,null,null,null,null,null,"Senegal",null,null,null,null,null,null,null,null,null,null,null,null,null,null,0,0,0,0,0,0,0,0,0,0,0,0,0,0,0,0,0,0,0,0,0,0,0,0,0,0,0,0,0,0,0,0,0,0,0,0,0,0,0,0,0,0,0,0,0,0,0,null,null,null,null,null,null,null,null,null,null,null,null,null,null,null,null,null,null,null,null,null,null,null,null,null,null,null,null,null,null,null,null,null,null,null,null,null,null,null,null,null,null,null,null,null,null,null,null,null,null,null,null,null,null,null,"R5300SB","EXPORTS","_Z","_Z","_Z","_Z","_Z","SN","ENERGY","_Z","TJ_GCV",null,"nrg_ind_ebmg","TRADE","R5300SB","EXP","SN","TJ_GCV","Agg.=SUM(countries)"]
[null,null,null,null,null,null,"Serbia",null,null,null,null,null,null,null,null,null,null,null,null,null,null,0,0,0,0,0,0,0,0,0,0,0,0,0,0,0,0,0,0,0,0,0,0,0,0,0,0,0,0,0,0,0,0,0,0,0,0,0,0,0,0,0,0,0,0,0,0,0,null,null,null,null,null,null,null,null,null,null,null,null,null,null,null,null,null,null,null,null,null,null,null,null,null,null,null,null,null,null,null,null,null,null,null,null,null,null,null,null,null,null,null,null,null,null,null,null,null,null,null,null,null,null,null,"R5300SB","EXPORTS","_Z","_Z","_Z","_Z","_Z","RS","ENERGY","_Z","TJ_GCV",null,"nrg_ind_ebmg","TRADE","R5300SB","EXP","RS","TJ_GCV","Agg.=SUM(countries)"]
[null,null,null,null,null,null,"Sierra Leone",null,null,null,null,null,null,null,null,null,null,null,null,null,null,0,0,0,0,0,0,0,0,0,0,0,0,0,0,0,0,0,0,0,0,0,0,0,0,0,0,0,0,0,0,0,0,0,0,0,0,0,0,0,0,0,0,0,0,0,0,0,null,null,null,null,null,null,null,null,null,null,null,null,null,null,null,null,null,null,null,null,null,null,null,null,null,null,null,null,null,null,null,null,null,null,null,null,null,null,null,null,null,null,null,null,null,null,null,null,null,null,null,null,null,null,null,"R5300SB","EXPORTS","_Z","_Z","_Z","_Z","_Z","SL","ENERGY","_Z","TJ_GCV",null,"nrg_ind_ebmg","TRADE","R5300SB","EXP","SL","TJ_GCV","Agg.=SUM(countries)"]
[null,null,null,null,null,null,"Singapore",null,null,null,null,null,null,null,null,null,null,null,null,null,null,0,0,0,0,0,0,0,0,0,0,0,0,0,0,0,0,0,0,0,0,0,0,0,0,0,0,0,0,0,0,0,0,0,0,0,0,0,0,0,0,0,0,0,0,0,0,0,null,null,null,null,null,null,null,null,null,null,null,null,null,null,null,null,null,null,null,null,null,null,null,null,null,null,null,null,null,null,null,null,null,null,null,null,null,null,null,null,null,null,null,null,null,null,null,null,null,null,null,null,null,null,null,"R5300SB","EXPORTS","_Z","_Z","_Z","_Z","_Z","SG","ENERGY","_Z","TJ_GCV",null,"nrg_ind_ebmg","TRADE","R5300SB","EXP","SG","TJ_GCV","Agg.=SUM(countries)"]
[null,null,null,null,null,null,"Slovak Republic",null,null,null,null,null,null,null,null,null,null,null,null,null,null,0,0,0,0,0,0,0,0,0,0,0,0,0,0,0,0,0,0,0,0,0,0,0,0,0,0,0,0,0,0,0,0,0,0,0,0,0,0,0,0,0,0,0,0,0,0,0,null,null,null,null,null,null,null,null,null,null,null,null,null,null,null,null,null,null,null,null,null,null,null,null,null,null,null,null,null,null,null,null,null,null,null,null,null,null,null,null,null,null,null,null,null,null,null,null,null,null,null,null,null,null,null,"R5300SB","EXPORTS","_Z","_Z","_Z","_Z","_Z","SK","ENERGY","_Z","TJ_GCV",null,"nrg_ind_ebmg","TRADE","R5300SB","EXP","SK","TJ_GCV","Agg.=SUM(countries)"]
[null,null,null,null,null,null,"Slovenia",null,null,null,null,null,null,null,null,null,null,null,null,null,null,0,0,0,0,0,0,0,0,0,0,0,0,0,0,0,0,0,0,0,0,0,0,0,0,0,0,0,0,0,0,0,0,0,0,0,0,0,0,0,0,0,0,0,0,0,0,0,null,null,null,null,null,null,null,null,null,null,null,null,null,null,null,null,null,null,null,null,null,null,null,null,null,null,null,null,null,null,null,null,null,null,null,null,null,null,null,null,null,null,null,null,null,null,null,null,null,null,null,null,null,null,null,"R5300SB","EXPORTS","_Z","_Z","_Z","_Z","_Z","SI","ENERGY","_Z","TJ_GCV",null,"nrg_ind_ebmg","TRADE","R5300SB","EXP","SI","TJ_GCV","Agg.=SUM(countries)"]
[null,null,null,null,null,null,"South Africa",null,null,null,null,null,null,null,null,null,null,null,null,null,null,0,0,0,0,0,0,0,0,0,0,0,0,0,0,0,0,0,0,0,0,0,0,0,0,0,0,0,0,0,0,0,0,0,0,0,0,0,0,0,0,0,0,0,0,0,0,0,null,null,null,null,null,null,null,null,null,null,null,null,null,null,null,null,null,null,null,null,null,null,null,null,null,null,null,null,null,null,null,null,null,null,null,null,null,null,null,null,null,null,null,null,null,null,null,null,null,null,null,null,null,null,null,"R5300SB","EXPORTS","_Z","_Z","_Z","_Z","_Z","ZA","ENERGY","_Z","TJ_GCV",null,"nrg_ind_ebmg","TRADE","R5300SB","EXP","ZA","TJ_GCV","Agg.=SUM(countries)"]
[null,null,null,null,null,null,"South Sudan",null,null,null,null,null,null,null,null,null,null,null,null,null,null,0,0,0,0,0,0,0,0,0,0,0,0,0,0,0,0,0,0,0,0,0,0,0,0,0,0,0,0,0,0,0,0,0,0,0,0,0,0,0,0,0,0,0,0,0,0,0,null,null,null,null,null,null,null,null,null,null,null,null,null,null,null,null,null,null,null,null,null,null,null,null,null,null,null,null,null,null,null,null,null,null,null,null,null,null,null,null,null,null,null,null,null,null,null,null,null,null,null,null,null,null,null,"R5300SB","EXPORTS","_Z","_Z","_Z","_Z","_Z","SS","ENERGY","_Z","TJ_GCV",null,"nrg_ind_ebmg","TRADE","R5300SB","EXP","SS","TJ_GCV","Agg.=SUM(countries)"]
[null,null,null,null,null,null,"Spain",null,null,null,null,null,null,null,null,null,null,null,null,null,null,0,0,0,0,0,0,0,0,0,0,0,0,0,0,0,0,0,0,0,0,0,0,0,0,0,0,0,0,0,0,0,0,0,0,0,0,0,0,0,0,0,0,0,0,0,0,0,null,null,null,null,null,null,null,null,null,null,null,null,null,null,null,null,null,null,null,null,null,null,null,null,null,null,null,null,null,null,null,null,null,null,null,null,null,null,null,null,null,null,null,null,null,null,null,null,null,null,null,null,null,null,null,"R5300SB","EXPORTS","_Z","_Z","_Z","_Z","_Z","ES","ENERGY","_Z","TJ_GCV",null,"nrg_ind_ebmg","TRADE","R5300SB","EXP","ES","TJ_GCV","Agg.=SUM(countries)"]
[null,null,null,null,null,null,"Sri Lanka",null,null,null,null,null,null,null,null,null,null,null,null,null,null,0,0,0,0,0,0,0,0,0,0,0,0,0,0,0,0,0,0,0,0,0,0,0,0,0,0,0,0,0,0,0,0,0,0,0,0,0,0,0,0,0,0,0,0,0,0,0,null,null,null,null,null,null,null,null,null,null,null,null,null,null,null,null,null,null,null,null,null,null,null,null,null,null,null,null,null,null,null,null,null,null,null,null,null,null,null,null,null,null,null,null,null,null,null,null,null,null,null,null,null,null,null,"R5300SB","EXPORTS","_Z","_Z","_Z","_Z","_Z","LK","ENERGY","_Z","TJ_GCV",null,"nrg_ind_ebmg","TRADE","R5300SB","EXP","LK","TJ_GCV","Agg.=SUM(countries)"]
[null,null,null,null,null,null,"Sudan",null,null,null,null,null,null,null,null,null,null,null,null,null,null,0,0,0,0,0,0,0,0,0,0,0,0,0,0,0,0,0,0,0,0,0,0,0,0,0,0,0,0,0,0,0,0,0,0,0,0,0,0,0,0,0,0,0,0,0,0,0,null,null,null,null,null,null,null,null,null,null,null,null,null,null,null,null,null,null,null,null,null,null,null,null,null,null,null,null,null,null,null,null,null,null,null,null,null,null,null,null,null,null,null,null,null,null,null,null,null,null,null,null,null,null,null,"R5300SB","EXPORTS","_Z","_Z","_Z","_Z","_Z","SD","ENERGY","_Z","TJ_GCV",null,"nrg_ind_ebmg","TRADE","R5300SB","EXP","SD","TJ_GCV","Agg.=SUM(countries)"]
[null,null,null,null,null,null,"Sweden",null,null,null,null,null,null,null,null,null,null,null,null,null,null,0,0,0,0,0,0,0,0,0,0,0,0,0,0,0,0,0,0,0,0,0,0,0,0,0,0,0,0,0,0,0,0,0,0,0,0,0,0,0,0,0,0,0,0,0,0,0,null,null,null,null,null,null,null,null,null,null,null,null,null,null,null,null,null,null,null,null,null,null,null,null,null,null,null,null,null,null,null,null,null,null,null,null,null,null,null,null,null,null,null,null,null,null,null,null,null,null,null,null,null,null,null,"R5300SB","EXPORTS","_Z","_Z","_Z","_Z","_Z","SE","ENERGY","_Z","TJ_GCV",null,"nrg_ind_ebmg","TRADE","R5300SB","EXP","SE","TJ_GCV","Agg.=SUM(countries)"]
[null,null,null,null,null,null,"Switzerland",null,null,null,null,null,null,null,null,null,null,null,null,null,null,0,0,0,0,0,0,0,0,0,0,0,0,0,0,0,0,0,0,0,0,0,0,0,0,0,0,0,0,0,0,0,0,0,0,0,0,0,0,0,0,0,0,0,0,0,0,0,null,null,null,null,null,null,null,null,null,null,null,null,null,null,null,null,null,null,null,null,null,null,null,null,null,null,null,null,null,null,null,null,null,null,null,null,null,null,null,null,null,null,null,null,null,null,null,null,null,null,null,null,null,null,null,"R5300SB","EXPORTS","_Z","_Z","_Z","_Z","_Z","CH","ENERGY","_Z","TJ_GCV",null,"nrg_ind_ebmg","TRADE","R5300SB","EXP","CH","TJ_GCV","Agg.=SUM(countries)"]
[null,null,null,null,null,null,"Syrian Arab Republic",null,null,null,null,null,null,null,null,null,null,null,null,null,null,0,0,0,0,0,0,0,0,0,0,0,0,0,0,0,0,0,0,0,0,0,0,0,0,0,0,0,0,0,0,0,0,0,0,0,0,0,0,0,0,0,0,0,0,0,0,0,null,null,null,null,null,null,null,null,null,null,null,null,null,null,null,null,null,null,null,null,null,null,null,null,null,null,null,null,null,null,null,null,null,null,null,null,null,null,null,null,null,null,null,null,null,null,null,null,null,null,null,null,null,null,null,"R5300SB","EXPORTS","_Z","_Z","_Z","_Z","_Z","SY","ENERGY","_Z","TJ_GCV",null,"nrg_ind_ebmg","TRADE","R5300SB","EXP","SY","TJ_GCV","Agg.=SUM(countries)"]
[null,null,null,null,null,null,"Taiwan / Chinese Taipei",null,null,null,null,null,null,null,null,null,null,null,null,null,null,0,0,0,0,0,0,0,0,0,0,0,0,0,0,0,0,0,0,0,0,0,0,0,0,0,0,0,0,0,0,0,0,0,0,0,0,0,0,0,0,0,0,0,0,0,0,0,null,null,null,null,null,null,null,null,null,null,null,null,null,null,null,null,null,null,null,null,null,null,null,null,null,null,null,null,null,null,null,null,null,null,null,null,null,null,null,null,null,null,null,null,null,null,null,null,null,null,null,null,null,null,null,"R5300SB","EXPORTS","_Z","_Z","_Z","_Z","_Z","TW","ENERGY","_Z","TJ_GCV",null,"nrg_ind_ebmg","TRADE","R5300SB","EXP","TW","TJ_GCV","Agg.=SUM(countries)"]
[null,null,null,null,null,null,"Tajikistan",null,null,null,null,null,null,null,null,null,null,null,null,null,null,0,0,0,0,0,0,0,0,0,0,0,0,0,0,0,0,0,0,0,0,0,0,0,0,0,0,0,0,0,0,0,0,0,0,0,0,0,0,0,0,0,0,0,0,0,0,0,null,null,null,null,null,null,null,null,null,null,null,null,null,null,null,null,null,null,null,null,null,null,null,null,null,null,null,null,null,null,null,null,null,null,null,null,null,null,null,null,null,null,null,null,null,null,null,null,null,null,null,null,null,null,null,"R5300SB","EXPORTS","_Z","_Z","_Z","_Z","_Z","TJ","ENERGY","_Z","TJ_GCV",null,"nrg_ind_ebmg","TRADE","R5300SB","EXP","TJ","TJ_GCV","Agg.=SUM(countries)"]
[null,null,null,null,null,null,"Tanzania, United Republic of",null,null,null,null,null,null,null,null,null,null,null,null,null,null,0,0,0,0,0,0,0,0,0,0,0,0,0,0,0,0,0,0,0,0,0,0,0,0,0,0,0,0,0,0,0,0,0,0,0,0,0,0,0,0,0,0,0,0,0,0,0,null,null,null,null,null,null,null,null,null,null,null,null,null,null,null,null,null,null,null,null,null,null,null,null,null,null,null,null,null,null,null,null,null,null,null,null,null,null,null,null,null,null,null,null,null,null,null,null,null,null,null,null,null,null,null,"R5300SB","EXPORTS","_Z","_Z","_Z","_Z","_Z","TZ","ENERGY","_Z","TJ_GCV",null,"nrg_ind_ebmg","TRADE","R5300SB","EXP","TZ","TJ_GCV","Agg.=SUM(countries)"]
[null,null,null,null,null,null,"Thailand",null,null,null,null,null,null,null,null,null,null,null,null,null,null,0,0,0,0,0,0,0,0,0,0,0,0,0,0,0,0,0,0,0,0,0,0,0,0,0,0,0,0,0,0,0,0,0,0,0,0,0,0,0,0,0,0,0,0,0,0,0,null,null,null,null,null,null,null,null,null,null,null,null,null,null,null,null,null,null,null,null,null,null,null,null,null,null,null,null,null,null,null,null,null,null,null,null,null,null,null,null,null,null,null,null,null,null,null,null,null,null,null,null,null,null,null,"R5300SB","EXPORTS","_Z","_Z","_Z","_Z","_Z","TH","ENERGY","_Z","TJ_GCV",null,"nrg_ind_ebmg","TRADE","R5300SB","EXP","TH","TJ_GCV","Agg.=SUM(countries)"]
[null,null,null,null,null,null,"Timor-Leste",null,null,null,null,null,null,null,null,null,null,null,null,null,null,0,0,0,0,0,0,0,0,0,0,0,0,0,0,0,0,0,0,0,0,0,0,0,0,0,0,0,0,0,0,0,0,0,0,0,0,0,0,0,0,0,0,0,0,0,0,0,null,null,null,null,null,null,null,null,null,null,null,null,null,null,null,null,null,null,null,null,null,null,null,null,null,null,null,null,null,null,null,null,null,null,null,null,null,null,null,null,null,null,null,null,null,null,null,null,null,null,null,null,null,null,null,"R5300SB","EXPORTS","_Z","_Z","_Z","_Z","_Z","TL","ENERGY","_Z","TJ_GCV",null,"nrg_ind_ebmg","TRADE","R5300SB","EXP","TL","TJ_GCV","Agg.=SUM(countries)"]
[null,null,null,null,null,null,"Togo",null,null,null,null,null,null,null,null,null,null,null,null,null,null,0,0,0,0,0,0,0,0,0,0,0,0,0,0,0,0,0,0,0,0,0,0,0,0,0,0,0,0,0,0,0,0,0,0,0,0,0,0,0,0,0,0,0,0,0,0,0,null,null,null,null,null,null,null,null,null,null,null,null,null,null,null,null,null,null,null,null,null,null,null,null,null,null,null,null,null,null,null,null,null,null,null,null,null,null,null,null,null,null,null,null,null,null,null,null,null,null,null,null,null,null,null,"R5300SB","EXPORTS","_Z","_Z","_Z","_Z","_Z","TG","ENERGY","_Z","TJ_GCV",null,"nrg_ind_ebmg","TRADE","R5300SB","EXP","TG","TJ_GCV","Agg.=SUM(countries)"]
[null,null,null,null,null,null,"Trinidad and Tobago",null,null,null,null,null,null,null,null,null,null,null,null,null,null,0,0,0,0,0,0,0,0,0,0,0,0,0,0,0,0,0,0,0,0,0,0,0,0,0,0,0,0,0,0,0,0,0,0,0,0,0,0,0,0,0,0,0,0,0,0,0,null,null,null,null,null,null,null,null,null,null,null,null,null,null,null,null,null,null,null,null,null,null,null,null,null,null,null,null,null,null,null,null,null,null,null,null,null,null,null,null,null,null,null,null,null,null,null,null,null,null,null,null,null,null,null,"R5300SB","EXPORTS","_Z","_Z","_Z","_Z","_Z","TT","ENERGY","_Z","TJ_GCV",null,"nrg_ind_ebmg","TRADE","R5300SB","EXP","TT","TJ_GCV","Agg.=SUM(countries)"]
[null,null,null,null,null,null,"Tunisia",null,null,null,null,null,null,null,null,null,null,null,null,null,null,0,0,0,0,0,0,0,0,0,0,0,0,0,0,0,0,0,0,0,0,0,0,0,0,0,0,0,0,0,0,0,0,0,0,0,0,0,0,0,0,0,0,0,0,0,0,0,null,null,null,null,null,null,null,null,null,null,null,null,null,null,null,null,null,null,null,null,null,null,null,null,null,null,null,null,null,null,null,null,null,null,null,null,null,null,null,null,null,null,null,null,null,null,null,null,null,null,null,null,null,null,null,"R5300SB","EXPORTS","_Z","_Z","_Z","_Z","_Z","TN","ENERGY","_Z","TJ_GCV",null,"nrg_ind_ebmg","TRADE","R5300SB","EXP","TN","TJ_GCV","Agg.=SUM(countries)"]
[null,null,null,null,null,null,"Turkey",null,null,null,null,null,null,null,null,null,null,null,null,null,null,0,0,0,0,0,0,0,0,0,0,0,0,0,0,0,0,0,0,0,0,0,0,0,0,0,0,0,0,0,0,0,0,0,0,0,0,0,0,0,0,0,0,0,0,0,0,0,null,null,null,null,null,null,null,null,null,null,null,null,null,null,null,null,null,null,null,null,null,null,null,null,null,null,null,null,null,null,null,null,null,null,null,null,null,null,null,null,null,null,null,null,null,null,null,null,null,null,null,null,null,null,null,"R5300SB","EXPORTS","_Z","_Z","_Z","_Z","_Z","TR","ENERGY","_Z","TJ_GCV",null,"nrg_ind_ebmg","TRADE","R5300SB","EXP","TR","TJ_GCV","Agg.=SUM(countries)"]
[null,null,null,null,null,null,"Turkmenistan",null,null,null,null,null,null,null,null,null,null,null,null,null,null,0,0,0,0,0,0,0,0,0,0,0,0,0,0,0,0,0,0,0,0,0,0,0,0,0,0,0,0,0,0,0,0,0,0,0,0,0,0,0,0,0,0,0,0,0,0,0,null,null,null,null,null,null,null,null,null,null,null,null,null,null,null,null,null,null,null,null,null,null,null,null,null,null,null,null,null,null,null,null,null,null,null,null,null,null,null,null,null,null,null,null,null,null,null,null,null,null,null,null,null,null,null,"R5300SB","EXPORTS","_Z","_Z","_Z","_Z","_Z","TM","ENERGY","_Z","TJ_GCV",null,"nrg_ind_ebmg","TRADE","R5300SB","EXP","TM","TJ_GCV","Agg.=SUM(countries)"]
[null,null,null,null,null,null,"Uganda",null,null,null,null,null,null,null,null,null,null,null,null,null,null,0,0,0,0,0,0,0,0,0,0,0,0,0,0,0,0,0,0,0,0,0,0,0,0,0,0,0,0,0,0,0,0,0,0,0,0,0,0,0,0,0,0,0,0,0,0,0,null,null,null,null,null,null,null,null,null,null,null,null,null,null,null,null,null,null,null,null,null,null,null,null,null,null,null,null,null,null,null,null,null,null,null,null,null,null,null,null,null,null,null,null,null,null,null,null,null,null,null,null,null,null,null,"R5300SB","EXPORTS","_Z","_Z","_Z","_Z","_Z","UG","ENERGY","_Z","TJ_GCV",null,"nrg_ind_ebmg","TRADE","R5300SB","EXP","UG","TJ_GCV","Agg.=SUM(countries)"]
[null,null,null,null,null,null,"Ukraine",null,null,null,null,null,null,null,null,null,null,null,null,null,null,0,0,0,0,0,0,0,0,0,0,0,0,0,0,0,0,0,0,0,0,0,0,0,0,0,0,0,0,0,0,0,0,0,0,0,0,0,0,0,0,0,0,0,0,0,0,0,null,null,null,null,null,null,null,null,null,null,null,null,null,null,null,null,null,null,null,null,null,null,null,null,null,null,null,null,null,null,null,null,null,null,null,null,null,null,null,null,null,null,null,null,null,null,null,null,null,null,null,null,null,null,null,"R5300SB","EXPORTS","_Z","_Z","_Z","_Z","_Z","UA","ENERGY","_Z","TJ_GCV",null,"nrg_ind_ebmg","TRADE","R5300SB","EXP","UA","TJ_GCV","Agg.=SUM(countries)"]
[null,null,null,null,null,null,"United Arab Emirates",null,null,null,null,null,null,null,null,null,null,null,null,null,null,0,0,0,0,0,0,0,0,0,0,0,0,0,0,0,0,0,0,0,0,0,0,0,0,0,0,0,0,0,0,0,0,0,0,0,0,0,0,0,0,0,0,0,0,0,0,0,null,null,null,null,null,null,null,null,null,null,null,null,null,null,null,null,null,null,null,null,null,null,null,null,null,null,null,null,null,null,null,null,null,null,null,null,null,null,null,null,null,null,null,null,null,null,null,null,null,null,null,null,null,null,null,"R5300SB","EXPORTS","_Z","_Z","_Z","_Z","_Z","AE","ENERGY","_Z","TJ_GCV",null,"nrg_ind_ebmg","TRADE","R5300SB","EXP","AE","TJ_GCV","Agg.=SUM(countries)"]
[null,null,null,null,null,null,"United Kingdom",null,null,null,null,null,null,null,null,null,null,null,null,null,null,0,0,0,0,0,0,0,0,0,0,0,0,0,0,0,0,0,0,0,0,0,0,0,0,0,0,0,0,0,0,0,0,0,0,0,0,0,0,0,0,0,0,0,0,0,0,0,null,null,null,null,null,null,null,null,null,null,null,null,null,null,null,null,null,null,null,null,null,null,null,null,null,null,null,null,null,null,null,null,null,null,null,null,null,null,null,null,null,null,null,null,null,null,null,null,null,null,null,null,null,null,null,"R5300SB","EXPORTS","_Z","_Z","_Z","_Z","_Z","GB","ENERGY","_Z","TJ_GCV",null,"nrg_ind_ebmg","TRADE","R5300SB","EXP","GB","TJ_GCV","Agg.=SUM(countries)"]
[null,null,null,null,null,null,"United States",null,null,null,null,null,null,null,null,null,null,null,null,null,null,0,0,0,0,0,0,0,0,0,0,0,0,0,0,0,0,0,0,0,0,0,0,0,0,0,0,0,0,0,0,0,0,0,0,0,0,0,0,0,0,0,0,0,0,0,0,0,null,null,null,null,null,null,null,null,null,null,null,null,null,null,null,null,null,null,null,null,null,null,null,null,null,null,null,null,null,null,null,null,null,null,null,null,null,null,null,null,null,null,null,null,null,null,null,null,null,null,null,null,null,null,null,"R5300SB","EXPORTS","_Z","_Z","_Z","_Z","_Z","US","ENERGY","_Z","TJ_GCV",null,"nrg_ind_ebmg","TRADE","R5300SB","EXP","US","TJ_GCV","Agg.=SUM(countries)"]
[null,null,null,null,null,null,"Uruguay",null,null,null,null,null,null,null,null,null,null,null,null,null,null,0,0,0,0,0,0,0,0,0,0,0,0,0,0,0,0,0,0,0,0,0,0,0,0,0,0,0,0,0,0,0,0,0,0,0,0,0,0,0,0,0,0,0,0,0,0,0,null,null,null,null,null,null,null,null,null,null,null,null,null,null,null,null,null,null,null,null,null,null,null,null,null,null,null,null,null,null,null,null,null,null,null,null,null,null,null,null,null,null,null,null,null,null,null,null,null,null,null,null,null,null,null,"R5300SB","EXPORTS","_Z","_Z","_Z","_Z","_Z","UY","ENERGY","_Z","TJ_GCV",null,"nrg_ind_ebmg","TRADE","R5300SB","EXP","UY","TJ_GCV","Agg.=SUM(countries)"]
[null,null,null,null,null,null,"Uzbekistan",null,null,null,null,null,null,null,null,null,null,null,null,null,null,0,0,0,0,0,0,0,0,0,0,0,0,0,0,0,0,0,0,0,0,0,0,0,0,0,0,0,0,0,0,0,0,0,0,0,0,0,0,0,0,0,0,0,0,0,0,0,null,null,null,null,null,null,null,null,null,null,null,null,null,null,null,null,null,null,null,null,null,null,null,null,null,null,null,null,null,null,null,null,null,null,null,null,null,null,null,null,null,null,null,null,null,null,null,null,null,null,null,null,null,null,null,"R5300SB","EXPORTS","_Z","_Z","_Z","_Z","_Z","UZ","ENERGY","_Z","TJ_GCV",null,"nrg_ind_ebmg","TRADE","R5300SB","EXP","UZ","TJ_GCV","Agg.=SUM(countries)"]
[null,null,null,null,null,null,"Venezuela, Bolivarian Republic",null,null,null,null,null,null,null,null,null,null,null,null,null,null,0,0,0,0,0,0,0,0,0,0,0,0,0,0,0,0,0,0,0,0,0,0,0,0,0,0,0,0,0,0,0,0,0,0,0,0,0,0,0,0,0,0,0,0,0,0,0,null,null,null,null,null,null,null,null,null,null,null,null,null,null,null,null,null,null,null,null,null,null,null,null,null,null,null,null,null,null,null,null,null,null,null,null,null,null,null,null,null,null,null,null,null,null,null,null,null,null,null,null,null,null,null,"R5300SB","EXPORTS","_Z","_Z","_Z","_Z","_Z","VE","ENERGY","_Z","TJ_GCV",null,"nrg_ind_ebmg","TRADE","R5300SB","EXP","VE","TJ_GCV","Agg.=SUM(countries)"]
[null,null,null,null,null,null,"Viet Nam",null,null,null,null,null,null,null,null,null,null,null,null,null,null,0,0,0,0,0,0,0,0,0,0,0,0,0,0,0,0,0,0,0,0,0,0,0,0,0,0,0,0,0,0,0,0,0,0,0,0,0,0,0,0,0,0,0,0,0,0,0,null,null,null,null,null,null,null,null,null,null,null,null,null,null,null,null,null,null,null,null,null,null,null,null,null,null,null,null,null,null,null,null,null,null,null,null,null,null,null,null,null,null,null,null,null,null,null,null,null,null,null,null,null,null,null,"R5300SB","EXPORTS","_Z","_Z","_Z","_Z","_Z","VN","ENERGY","_Z","TJ_GCV",null,"nrg_ind_ebmg","TRADE","R5300SB","EXP","VN","TJ_GCV","Agg.=SUM(countries)"]
[null,null,null,null,null,null,"Yemen",null,null,null,null,null,null,null,null,null,null,null,null,null,null,0,0,0,0,0,0,0,0,0,0,0,0,0,0,0,0,0,0,0,0,0,0,0,0,0,0,0,0,0,0,0,0,0,0,0,0,0,0,0,0,0,0,0,0,0,0,0,null,null,null,null,null,null,null,null,null,null,null,null,null,null,null,null,null,null,null,null,null,null,null,null,null,null,null,null,null,null,null,null,null,null,null,null,null,null,null,null,null,null,null,null,null,null,null,null,null,null,null,null,null,null,null,"R5300SB","EXPORTS","_Z","_Z","_Z","_Z","_Z","YE","ENERGY","_Z","TJ_GCV",null,"nrg_ind_ebmg","TRADE","R5300SB","EXP","YE","TJ_GCV","Agg.=SUM(countries)"]
[null,null,null,null,null,null,"Not elsewhere specified",null,null,null,null,null,null,null,null,null,null,null,null,null,null,0,0,0,0,0,0,0,0,0,0,0,0,0,0,0,0,0,0,0,0,0,0,0,0,0,0,0,0,0,0,0,0,0,0,0,0,0,0,0,0,0,0,0,0,0,0,0,null,null,null,null,null,null,null,null,null,null,null,null,null,null,null,null,null,null,null,null,null,null,null,null,null,null,null,null,null,null,null,null,null,null,null,null,null,null,null,null,null,null,null,null,null,null,null,null,null,null,null,null,null,null,null,"R5300SB","EXPORTS","_Z","_Z","_Z","_Z","_Z","_X","ENERGY","_Z","TJ_GCV",null,"nrg_ind_ebmg","TRADE","R5300SB","EXP","NSP","TJ_GCV","Agg.=SUM(countries)"]
[null,null,null,null,null,null,"Total Exports",null,null,null,null,null,null,null,null,null,null,null,null,null,null,{"$f":"SUM(V203:V366)","v":0},{"$f":"SUM(W203:W366)","v":0},{"$f":"SUM(X203:X366)","v":0},{"$f":"SUM(Y203:Y366)","v":0},{"$f":"SUM(Z203:Z366)","v":0},{"$f":"SUM(AA203:AA366)","v":0},{"$f":"SUM(AB203:AB366)","v":0},{"$f":"SUM(AC203:AC366)","v":0},{"$f":"SUM(AD203:AD366)","v":0},{"$f":"SUM(AE203:AE366)","v":0},{"$f":"SUM(AF203:AF366)","v":0},{"$f":"SUM(AG203:AG366)","v":0},{"$f":"SUM(AH203:AH366)","v":0},{"$f":"SUM(AI203:AI366)","v":0},{"$f":"SUM(AJ203:AJ366)","v":0},{"$f":"SUM(AK203:AK366)","v":0},{"$f":"SUM(AL203:AL366)","v":0},{"$f":"SUM(AM203:AM366)","v":0},{"$f":"SUM(AN203:AN366)","v":0},{"$f":"SUM(AO203:AO366)","v":0},{"$f":"SUM(AP203:AP366)","v":0},{"$f":"SUM(AQ203:AQ366)","v":0},{"$f":"SUM(AR203:AR366)","v":0},{"$f":"SUM(AS203:AS366)","v":0},{"$f":"SUM(AT203:AT366)","v":0},{"$f":"SUM(AU203:AU366)","v":0},{"$f":"SUM(AV203:AV366)","v":0},{"$f":"SUM(AW203:AW366)","v":0},{"$f":"SUM(AX203:AX366)","v":0},{"$f":"SUM(AY203:AY366)","v":0},{"$f":"SUM(AZ203:AZ366)","v":0},{"$f":"SUM(BA203:BA366)","v":0},{"$f":"SUM(BB203:BB366)","v":0},{"$f":"SUM(BC203:BC366)","v":0},{"$f":"SUM(BD203:BD366)","v":0},{"$f":"SUM(BE203:BE366)","v":0},{"$f":"SUM(BF203:BF366)","v":0},{"$f":"SUM(BG203:BG366)","v":0},{"$f":"SUM(BH203:BH366)","v":0},{"$f":"SUM(BI203:BI366)","v":0},{"$f":"SUM(BJ203:BJ366)","v":0},{"$f":"SUM(BK203:BK366)","v":0},{"$f":"SUM(BL203:BL366)","v":0},{"$f":"SUM(BM203:BM366)","v":0},{"$f":"SUM(BN203:BN366)","v":0},{"$f":"SUM(BO203:BO366)","v":0},{"$f":"SUM(BP203:BP366)","v":0},null,null,null,null,null,null,null,null,null,null,null,null,null,null,null,null,null,null,null,null,null,null,null,null,null,null,null,null,null,null,null,null,null,null,null,null,null,null,null,null,null,null,null,null,null,null,null,null,null,null,null,null,null,null,null,"R5300SB","EXPORTS","_Z","_Z","_Z","_Z","_Z","_T","ENERGY","_Z","TJ_GCV",null,"nrg_ind_ebmg","TRADE","R5300SB","EXP","TOTAL","TJ_GCV","Agg.=SUM(countries)"]
[null,null,null,null,null,null,"\"Not elsewhere specified\": Please specify on the ** Remarks page."]
[null,null,null,null,null,null,"* This designation is without prejudice to positions on status, and is line with UNSCR 1244 and the ICJ Opinion on the Kosovo declaration of independence."]
[]
[]
[]
[]
[]
[]
[]
[]
[]
[]
[]
[]
[]
[]
[]
[]
[]
[]
[]
[]
[]
[]
[]
[]
[]
[]
[]
[]
[]
[]
[]
[]
[]
[]
[]
[]
[]
[]
[]
[]
[]
[]
[]
[]
[]
[]
[]
[]
[]
[]
[]
[]
[]
[]
[]
[]
[]
[]
[]
[]
[]
[]
[]
[]
[]
[]
[]
[]
[]
[]
[]
[]
[]
[]
[]
[]
[]
[]
[]
[]
[]
[]
[]
[]
[]
[]
[]
[]
[]
[]
[]
[]
[]
[]
[]
[]
[]
[]
[]
[]
[]
[]
[]
[]
[]
[]
[]
[]
[]
[]
[]
[]
[]
[]
[]
[]
[]
[]
[]
[]
[]
[]
[]
[]
[]
[]
[]
[]
[]
[]
[]
[]
[]
[]
[]
[]
[]
[]
[]
[]
[]
[]
[]
[]
[]
[]
[]
[]
[]
[]
[]
[]
[]
[]
[]
[]
[]
[]
[]
[]
[]
[]
[]
[]
[]
[]
[]
[]
[]
[]
[]
[]
[]
[]
[]
[]
[]
[]
[]
[]
[]
[]
[]
[]
[]
[]
[]
[]
[]
[]
[]
[]
[]
[]
[]
[]
[]
[]
[]
[]
[]
[]
[]
[]
[]
[]
[]
[]
[]
[]
[]
[]
[]
[]
[]
[]
[]
[]
[]
[]
[]
[]
[]
[]
[]
[]
[]
[]
[]
[]
[]
[]
[]
[]
[]
[]
[]
[]
[]
[]
[]
[]
[]
[]
[]
[]
[]
[]
[]
[]
[]
[]
[]
[]
[]
[]
[]
[]
[]
[]
[]
[]
[]
[]
[]
[]
[]
[]
[]
[]
[]
[]
[]
[]
[]
[]
[]
[]
[]
[]
[]
[]
[]
[]
[]
[]
[]
[]
[]
[]
[]
[]
[]
[]
[]
[]
[]
[]
[]
[]
[]
[]
[]
[]
[]
[]
[]
[]
[]
[]
[]
[]
[]
[]
[]
[]
[]
[]
[]
[]
[]
[]
[]
[]
[]
[]
[]
[]
[]
[]
[]
[]
[]
[]
[]
[]
[]
[]
[]
[]
[]
[]
[]
[]
[]
[]
[]
[]
[]
[]
[]
[]
[]
[]
[]
[]
[]
[]
[]
[]
[]
[]
[]
[]
[]
[]
[]
[]
[]
[]
[]
[]
[]
[]
[]
[]
[]
[]
[]
[]
[]
[]
[]
[]
[]
[]
[]
[]
[]
[]
[]
[]
[]
[]
[]
[]
[]
[]
[]
[]
[]
[]
[]
[]
[]
[]
[]
[]
[]
[]
[]
[]
[]
[]
[]
[]
[]
[]
[]
[]
[]
[]
[]
[]
[]
[]
[]
[]
[]
[]
[]
[]
[]
[]
[]
[]
[]
[]
[]
[]
[]
[]
[]
[]
[]
[]
[]
[]
[]
[]
[]
[]
[]
[]
[]
[]
[]
[]
[]
[]
[]
[]
[]
[]
[]
[]
[]
[]
[]
[]
[]
[]
[]
[]
[]
[]
[]
[]
[]
[]
[]
[]
[]
[]
[]
[]
[]
[]
[]
[]
[]
[]
[]
[]
[]
[]
[]
[]
[]
[]
[]
[]
[]
[]
[]
[]
[]
[]
[]
[]
[]
[]
[]
[]
[]
[]
[]
[]
[]
[]
[]
[]
[]
[]
[]
[]
[]
[]
[]
[]
[]
[]
[]
[]
[]
[]
[]
[]
[]
[]
[]
[]
[]
[]
[]
[]
[]
[]
[]
[]
[]
[]
[]
[]
[]
[]
[]
[]
[]
[]
[]
[]
[]
[]
[]
[]
[]
[]
[]
[]
[]
[]
[]
[]
[]
[]
[]
[]
[]
[]
[]
[]
[]
[]
[]
[]
[]
[]
[]
[]
[]
[]
[]
[]
[]
[]
[]
[]
[]
[]
[]
[]
[]
[]
[]
[]
[]
[]
[]
[]
[]
[]
[]
[]
[]
[]
[]
[]
[]
[]
[]
[]
[]
[]
[]
[]
[]
[]
[]
[]
[null,null,null,null,null,null,null,null,null,null,null,null,null,null,null,null,null,null,null,null,null,null,null,null,null,null,null,null,null,null,null,null,null,null,null,null,null,null,{"$f":"IF(AM3<=$H1001, AM3, \"\")","v":2021},{"$f":"IF(AN3<=$H1001, AN3, \"\")","v":2022},2023,2024,"","","","","","","","","","","","","","","","","","","","","","","","","",""]
[null,null,null,null,null,null,null,{"$f":"IF(MONTH(NOW())<7, YEAR(NOW())-2, YEAR(NOW())-1)","v":2024}]

{"sheet":"REN","index":11,"n_rows":1001,"n_cols":142,"rows_kept":1001,"cut":false,"hidden":false,"merged":[]}
["IMPORT","QUEST","PRODUCT","DATATYPE","ITEM1","ITEM2",null,null,null,null,null,null,null,null,null,null,null,null,null,null,null,null,null,null,null,null,null,null,null,null,null,null,null,null,null,null,null,null,"Due to different legal basis, data prior to 2021 in this tool have no legal value and are only intended for data quality checks"]
[null,null,null,null,null,null,null,null,null,null,null,null,null,null,null,null,null,null,null,null,null,null,null,null,null,null,null,null,null,null,null,null,null,null,null,null,null,null,"Please consult https://ec.europa.eu/eurostat/web/energy/data/shares for results up to 2020."]
["TIME",null,null,null,null,null,null,1990,1991,1992,1993,1994,1995,1996,1997,1998,1999,2000,2001,2002,2003,2004,2005,2006,2007,2008,2009,2010,2011,2012,2013,2014,2015,2016,2017,2018,2019,2020,2021,2022,2023,2024,2025,2026,2027,2028,2029,2030,2031,2032,2033,2034,2035,2036,2037,2038,2039,2040,2041,2042,2043,2044,2045,2046,2047,2048,2049,2050]
[null,null,null,null,null,null,"TOTAL GFCoE [ktoe]",{"$f":"(SUMPRODUCT(H32:H37,H40:H45)+SUMPRODUCT(H26:H37,H48:H59)+SUMPRODUCT(H26:H37,H62:H73))/41868","v":0},{"$f":"(SUMPRODUCT(I32:I37,I40:I45)+SUMPRODUCT(I26:I37,I48:I59)+SUMPRODUCT(I26:I37,I62:I73))/41868","v":0},0,0,0,0,0,0,0,0,0,0,0,0,0,0,0,0,0,0,0,0,0,0,0,{"$f":"(SUMPRODUCT(AG32:AG37,AG40:AG45)+SUMPRODUCT(AG26:AG37,AG48:AG59)+SUMPRODUCT(AG26:AG37,AG62:AG73))/41868","v":0},0,0,0,0,0,{"$f":"(SUMPRODUCT(AM32:AM37,AM40:AM45)+SUMPRODUCT(AM26:AM37,AM48:AM59)+SUMPRODUCT(AM26:AM37,AM62:AM73))/41868","v":0},0,0,0,0,0,0,0,0,0,0,0,0,0,0,0,0,0,0,0,0,0,0,0,0,0,0,0,0,0,null,null,null,null,null,null,null,null,null,null,null,null,null,null,null,null,null,null,null,null,null,null,null,null,null,null,null,null,null,null,null,null,null,null,null,null,null,null,null,null,null,null,null,null,null,null,null,null,null,null,null,null,null,null,"*** DSD codes ***"]
[null,null,null,null,null,null,"value above excludes transport fuels - for GFCoE those are included in the sheet OIL, for RES-T indicators those are on sheet TRANSPORT",null,null,null,null,null,null,null,null,null,null,null,null,null,null,null,null,null,null,null,null,null,null,null,null,null,null,null,null,null,null,null,null,null,null,null,null,null,null,null,null,null,null,null,null,null,null,null,null,null,null,null,null,null,null,null,null,null,null,null,null,null,null,null,null,null,null,null,null,null,null,null,null,null,null,null,null,null,null,null,null,null,null,null,null,null,null,null,null,null,null,null,null,null,null,null,null,null,null,null,null,null,null,null,null,null,null,null,null,null,null,null,null,null,null,null,"REF_AREA","ENERGY_PRODUCT","MAIN_FLOW","FLOW_BREAKDOWN","PLANT_TECH","PLANT_TYPE","STOCKS","INFRASTRUCTURE_IND","VIS_A_VIS_AREA","MEASURE_VALUE_TYPE","FACILITY_ID","UNIT_MEASURE",null,"Eurobase dataset","MDT","MDT","MDT","MDT","MDT","Formula for country aggregates (Agg.)"]
[]
[]
[]
[]
[]
[null,null,null,null,null,null,"Net calorific values [kJ/kg]"]
[null,"REN","CHARCOAL","CAPACITY","NAVERAGE",null,"Charcoal",null,null,null,null,null,null,null,null,null,null,null,null,null,null,null,null,null,null,null,null,null,null,null,null,null,null,null,null,null,null,null,null,null,null,null,null,null,null,null,null,null,null,null,null,null,null,null,null,null,null,null,null,null,null,null,null,null,null,null,null,null,null,null,null,null,null,null,null,null,null,null,null,null,null,null,null,null,null,null,null,null,null,null,null,null,null,null,null,null,null,null,null,null,null,null,null,null,null,null,null,null,null,null,null,null,null,null,null,null,null,null,null,null,null,"CAPACITY-CHARCOAL-NAVERAGE-",null,"R5160","_Z","_Z","_Z","_Z","_Z","_Z",null,"NCV","_Z","KJ_KG"]
[null,"REN","BIOGASOL","CAPACITY","NAVERAGE",null,"Biogasoline",null,null,null,null,null,null,null,null,null,null,null,null,null,null,null,null,null,null,null,null,null,null,null,null,null,null,null,null,null,null,null,null,null,null,null,null,null,null,null,null,null,null,null,null,null,null,null,null,null,null,null,null,null,null,null,null,null,null,null,null,null,null,null,null,null,null,null,null,null,null,null,null,null,null,null,null,null,null,null,null,null,null,null,null,null,null,null,null,null,null,null,null,null,null,null,null,null,null,null,null,null,null,null,null,null,null,null,null,null,null,null,null,null,null,"CAPACITY-BIOGASOL-NAVERAGE-",null,"R5211","_Z","_Z","_Z","_Z","_Z","_Z",null,"NCV","_Z","KJ_KG"]
[null,"REN","BIOJETKERO","CAPACITY","NAVERAGE",null,"Bio jet kerosenes",null,null,null,null,null,null,null,null,null,null,null,null,null,null,null,null,null,null,null,null,null,null,null,null,null,null,null,null,null,null,null,null,null,null,null,null,null,null,null,null,null,null,null,null,null,null,null,null,null,null,null,null,null,null,null,null,null,null,null,null,null,null,null,null,null,null,null,null,null,null,null,null,null,null,null,null,null,null,null,null,null,null,null,null,null,null,null,null,null,null,null,null,null,null,null,null,null,null,null,null,null,null,null,null,null,null,null,null,null,null,null,null,null,null,"CAPACITY-BIOJETKERO-NAVERAGE-",null,"R5231","_Z","_Z","_Z","_Z","_Z","_Z",null,"NCV","_Z","KJ_KG"]
[null,"REN","BIODIESEL","CAPACITY","NAVERAGE",null,"Biodiesels",null,null,null,null,null,null,null,null,null,null,null,null,null,null,null,null,null,null,null,null,null,null,null,null,null,null,null,null,null,null,null,null,null,null,null,null,null,null,null,null,null,null,null,null,null,null,null,null,null,null,null,null,null,null,null,null,null,null,null,null,null,null,null,null,null,null,null,null,null,null,null,null,null,null,null,null,null,null,null,null,null,null,null,null,null,null,null,null,null,null,null,null,null,null,null,null,null,null,null,null,null,null,null,null,null,null,null,null,null,null,null,null,null,null,"CAPACITY-BIODIESEL-NAVERAGE-",null,"R5221","_Z","_Z","_Z","_Z","_Z","_Z",null,"NCV","_Z","KJ_KG"]
[null,"REN","OBIOLIQ","CAPACITY","NAVERAGE",null,"Other liquid biofuels",null,null,null,null,null,null,null,null,null,null,null,null,null,null,null,null,null,null,null,null,null,null,null,null,null,null,null,null,null,null,null,null,null,null,null,null,null,null,null,null,null,null,null,null,null,null,null,null,null,null,null,null,null,null,null,null,null,null,null,null,null,null,null,null,null,null,null,null,null,null,null,null,null,null,null,null,null,null,null,null,null,null,null,null,null,null,null,null,null,null,null,null,null,null,null,null,null,null,null,null,null,null,null,null,null,null,null,null,null,null,null,null,null,null,"CAPACITY-OBIOLIQ-NAVERAGE-",null,"R5290","_Z","_Z","_Z","_Z","_Z","_Z",null,"NCV","_Z","KJ_KG"]
[]
[null,null,null,null,null,null,"Default calorific values for gap filling"]
[null,null,null,null,null,null,"Charcoal",null,null,null,null,null,null,null,null,null,null,null,null,null,"CHARCOAL",29500,"CHARCOAL"]
[null,null,null,null,null,null,"Biogasoline",null,null,null,null,null,null,null,null,null,null,null,null,null,"BIOGASOL",27000,"BIOGASOL"]
[null,null,null,null,null,null,"Bio jet kerosenes",null,null,null,null,null,null,null,null,null,null,null,null,null,"BIOJETKERO",44000,"BIOJETKERO"]
[null,null,null,null,null,null,"Biodiesels",null,null,null,null,null,null,null,null,null,null,null,null,null,"BIODIESEL",37000,"BIODIESEL"]
[null,null,null,null,null,null,"Other liquid biofuels",null,null,null,null,null,null,null,null,null,null,null,null,null,"OBIOLIQ",27400,"OBIOLIQ"]
[]
[null,null,null,null,null,null,"Net calorific values (ALL GAPS FILLED) - [conversion to GJ]"]
[null,null,null,null,null,null,"Geothermal energy",1000,1000,1000,1000,1000,1000,1000,1000,1000,1000,1000,1000,1000,1000,1000,1000,1000,1000,1000,1000,1000,1000,1000,1000,1000,1000,1000,1000,1000,1000,1000,1000,1000,1000,1000,1000,1000,1000,1000,1000,1000,1000,1000,1000,1000,1000,1000,1000,1000,1000,1000,1000,1000,1000,1000,1000,1000,1000,1000,1000,1000]
[null,null,null,null,null,null,"Solar thermal",1000,1000,1000,1000,1000,1000,1000,1000,1000,1000,1000,1000,1000,1000,1000,1000,1000,1000,1000,1000,1000,1000,1000,1000,1000,1000,1000,1000,1000,1000,1000,1000,1000,1000,1000,1000,1000,1000,1000,1000,1000,1000,1000,1000,1000,1000,1000,1000,1000,1000,1000,1000,1000,1000,1000,1000,1000,1000,1000,1000,1000]
[null,null,null,null,null,null,"Industrial waste (non-renewable)",1000,1000,1000,1000,1000,1000,1000,1000,1000,1000,1000,1000,1000,1000,1000,1000,1000,1000,1000,1000,1000,1000,1000,1000,1000,1000,1000,1000,1000,1000,1000,1000,1000,1000,1000,1000,1000,1000,1000,1000,1000,1000,1000,1000,1000,1000,1000,1000,1000,1000,1000,1000,1000,1000,1000,1000,1000,1000,1000,1000,1000]
[null,null,null,null,null,null,"Municipal Waste - Renewable",1000,1000,1000,1000,1000,1000,1000,1000,1000,1000,1000,1000,1000,1000,1000,1000,1000,1000,1000,1000,1000,1000,1000,1000,1000,1000,1000,1000,1000,1000,1000,1000,1000,1000,1000,1000,1000,1000,1000,1000,1000,1000,1000,1000,1000,1000,1000,1000,1000,1000,1000,1000,1000,1000,1000,1000,1000,1000,1000,1000,1000]
[null,null,null,null,null,null,"Municipal Waste Non-renewable",1000,1000,1000,1000,1000,1000,1000,1000,1000,1000,1000,1000,1000,1000,1000,1000,1000,1000,1000,1000,1000,1000,1000,1000,1000,1000,1000,1000,1000,1000,1000,1000,1000,1000,1000,1000,1000,1000,1000,1000,1000,1000,1000,1000,1000,1000,1000,1000,1000,1000,1000,1000,1000,1000,1000,1000,1000,1000,1000,1000,1000]
[null,null,null,null,null,null,"Solid biofuels excluding charcoal",1000,1000,1000,1000,1000,1000,1000,1000,1000,1000,1000,1000,1000,1000,1000,1000,1000,1000,1000,1000,1000,1000,1000,1000,1000,1000,1000,1000,1000,1000,1000,1000,1000,1000,1000,1000,1000,1000,1000,1000,1000,1000,1000,1000,1000,1000,1000,1000,1000,1000,1000,1000,1000,1000,1000,1000,1000,1000,1000,1000,1000]
[null,null,null,null,null,null,"Charcoal",{"$f":"IF(H12>0,H12,$V$19)","v":29500},{"$f":"IF(I12>0,I12,$V$19)","v":29500},29500,29500,29500,29500,29500,29500,29500,29500,29500,29500,29500,29500,29500,29500,29500,29500,29500,29500,29500,29500,29500,29500,29500,29500,29500,29500,29500,29500,29500,{"$f":"IF(AM12>0,AM12,$V$19)","v":29500},29500,29500,29500,29500,29500,29500,29500,29500,29500,29500,29500,29500,29500,29500,29500,29500,29500,29500,29500,29500,29500,29500,29500,29500,29500,29500,29500,29500,29500]
[null,null,null,null,null,null,"Biogases",1000,1000,1000,1000,1000,1000,1000,1000,1000,1000,1000,1000,1000,1000,1000,1000,1000,1000,1000,1000,1000,1000,1000,1000,1000,1000,1000,1000,1000,1000,1000,1000,1000,1000,1000,1000,1000,1000,1000,1000,1000,1000,1000,1000,1000,1000,1000,1000,1000,1000,1000,1000,1000,1000,1000,1000,1000,1000,1000,1000,1000]
[null,null,null,null,null,null,"Biogasoline",{"$f":"IF(H13>0,H13,$V20)","v":27000},27000,27000,27000,27000,27000,27000,27000,27000,27000,27000,27000,27000,27000,{"$f":"IF(V13>0,V13,$V20)","v":27000},{"$f":"IF(W13>0,W13,$V20)","v":27000},27000,27000,27000,27000,27000,27000,27000,27000,27000,27000,27000,27000,27000,27000,27000,27000,27000,27000,27000,27000,27000,27000,27000,27000,27000,27000,27000,27000,27000,27000,27000,27000,27000,27000,27000,27000,27000,27000,27000,27000,27000,27000,27000,27000,27000]
[null,null,null,null,null,null,"Bio jet kerosenes",44000,44000,44000,44000,44000,44000,44000,44000,44000,44000,44000,44000,44000,44000,{"$f":"IF(V14>0,V14,$V21)","v":44000},{"$f":"IF(W14>0,W14,$V21)","v":44000},44000,44000,44000,44000,44000,44000,44000,44000,44000,44000,44000,44000,44000,44000,44000,44000,44000,44000,44000,44000,44000,44000,44000,44000,44000,44000,44000,44000,44000,44000,44000,44000,44000,44000,44000,44000,44000,44000,44000,44000,44000,44000,44000,44000,44000]
[null,null,null,null,null,null,"Biodiesels",37000,37000,37000,37000,37000,37000,37000,37000,37000,37000,37000,37000,37000,37000,{"$f":"IF(V15>0,V15,$V22)","v":37000},37000,37000,37000,37000,37000,37000,37000,37000,37000,37000,37000,37000,37000,37000,37000,37000,37000,37000,37000,37000,37000,37000,37000,37000,37000,37000,37000,37000,37000,37000,37000,37000,37000,37000,37000,37000,37000,37000,37000,37000,37000,37000,37000,37000,37000,37000]
[null,null,null,null,null,null,"Other liquid biofuels",27400,27400,27400,27400,27400,27400,27400,27400,27400,27400,27400,27400,27400,27400,{"$f":"IF(V16>0,V16,$V23)","v":27400},27400,27400,27400,27400,27400,27400,27400,27400,27400,27400,27400,27400,27400,27400,27400,27400,27400,27400,27400,27400,27400,27400,27400,27400,27400,27400,27400,27400,27400,27400,27400,27400,27400,27400,27400,27400,27400,27400,27400,27400,27400,27400,27400,27400,27400,27400]
[]
[null,null,null,null,null,null,"Transformation Sector - Blast Furnaces"]
[null,"REN","CHARCOAL","BALANCE","TBLASTFUR",null,"Charcoal",null,null,null,null,null,null,null,null,null,null,null,null,null,null,null,null,null,null,null,null,null,null,null,null,null,null,null,null,null,null,null,null,null,null,null,null,null,null,null,null,null,null,null,null,null,null,null,null,null,null,null,null,null,null,null,null,null,null,null,null,null,null,null,null,null,null,null,null,null,null,null,null,null,null,null,null,null,null,null,null,null,null,null,null,null,null,null,null,null,null,null,null,null,null,null,null,null,null,null,null,null,null,null,null,null,null,null,null,null,null,null,null,null,null,"BALANCE-CHARCOAL-TBLASTFUR-",null,"R5160","TRANSFOR","BLASTFUR","_Z","_Z","_Z","_Z",null,"WEIGHT","_Z","KT"]
[null,"REN","BIOGASES","BALANCE","TBLASTFUR",null,"Biogases",null,null,null,null,null,null,null,null,null,null,null,null,null,null,null,null,null,null,null,null,null,null,null,null,null,null,null,null,null,null,null,null,null,null,null,null,null,null,null,null,null,null,null,null,null,null,null,null,null,null,null,null,null,null,null,null,null,null,null,null,null,null,null,null,null,null,null,null,null,null,null,null,null,null,null,null,null,null,null,null,null,null,null,null,null,null,null,null,null,null,null,null,null,null,null,null,null,null,null,null,null,null,null,null,null,null,null,null,null,null,null,null,null,null,"BALANCE-BIOGASES-TBLASTFUR-",null,"R5300","TRANSFOR","BLASTFUR","_Z","_Z","_Z","_Z",null,"ENERGY","_Z","TJ_NCV"]
[null,"REN","BIOGASOL","BALANCE","TBLASTFUR",null,"Biogasoline",null,null,null,null,null,null,null,null,null,null,null,null,null,null,null,null,null,null,null,null,null,null,null,null,null,null,null,null,null,null,null,null,null,null,null,null,null,null,null,null,null,null,null,null,null,null,null,null,null,null,null,null,null,null,null,null,null,null,null,null,null,null,null,null,null,null,null,null,null,null,null,null,null,null,null,null,null,null,null,null,null,null,null,null,null,null,null,null,null,null,null,null,null,null,null,null,null,null,null,null,null,null,null,null,null,null,null,null,null,null,null,null,null,null,"BALANCE-BIOGASOL-TBLASTFUR-",null,"R5211","TRANSFOR","BLASTFUR","_Z","_Z","_Z","_Z",null,"WEIGHT","_Z","KT"]
[null,"REN","BIOJETKERO","BALANCE","TBLASTFUR",null,"Bio jet kerosenes",null,null,null,null,null,null,null,null,null,null,null,null,null,null,null,null,null,null,null,null,null,null,null,null,null,null,null,null,null,null,null,null,null,null,null,null,null,null,null,null,null,null,null,null,null,null,null,null,null,null,null,null,null,null,null,null,null,null,null,null,null,null,null,null,null,null,null,null,null,null,null,null,null,null,null,null,null,null,null,null,null,null,null,null,null,null,null,null,null,null,null,null,null,null,null,null,null,null,null,null,null,null,null,null,null,null,null,null,null,null,null,null,null,null,"BALANCE-BIOJETKERO-TBLASTFUR-",null,"R5231","TRANSFOR","BLASTFUR","_Z","_Z","_Z","_Z",null,"WEIGHT","_Z","KT"]
[null,"REN","BIODIESEL","BALANCE","TBLASTFUR",null,"Biodiesels",null,null,null,null,null,null,null,null,null,null,null,null,null,null,null,null,null,null,null,null,null,null,null,null,null,null,null,null,null,null,null,null,null,null,null,null,null,null,null,null,null,null,null,null,null,null,null,null,null,null,null,null,null,null,null,null,null,null,null,null,null,null,null,null,null,null,null,null,null,null,null,null,null,null,null,null,null,null,null,null,null,null,null,null,null,null,null,null,null,null,null,null,null,null,null,null,null,null,null,null,null,null,null,null,null,null,null,null,null,null,null,null,null,null,"BALANCE-BIODIESEL-TBLASTFUR-",null,"R5221","TRANSFOR","BLASTFUR","_Z","_Z","_Z","_Z",null,"WEIGHT","_Z","KT"]
[null,"REN","OBIOLIQ","BALANCE","TBLASTFUR",null,"Other liquid biofuels",null,null,null,null,null,null,null,null,null,null,null,null,null,null,null,null,null,null,null,null,null,null,null,null,null,null,null,null,null,null,null,null,null,null,null,null,null,null,null,null,null,null,null,null,null,null,null,null,null,null,null,null,null,null,null,null,null,null,null,null,null,null,null,null,null,null,null,null,null,null,null,null,null,null,null,null,null,null,null,null,null,null,null,null,null,null,null,null,null,null,null,null,null,null,null,null,null,null,null,null,null,null,null,null,null,null,null,null,null,null,null,null,null,null,"BALANCE-OBIOLIQ-TBLASTFUR-",null,"R5290","TRANSFOR","BLASTFUR","_Z","_Z","_Z","_Z",null,"WEIGHT","_Z","KT"]
[]
[null,null,null,null,null,null,"Industry Sector - Total"]
[null,"REN","GEOTHERM","BALANCE","TOTIND",null,"Geothermal energy",null,null,null,null,null,null,null,null,null,null,null,null,null,null,null,null,null,null,null,null,null,null,null,null,null,null,null,null,null,null,null,null,null,null,null,null,null,null,null,null,null,null,null,null,null,null,null,null,null,null,null,null,null,null,null,null,null,null,null,null,null,null,null,null,null,null,null,null,null,null,null,null,null,null,null,null,null,null,null,null,null,null,null,null,null,null,null,null,null,null,null,null,null,null,null,null,null,null,null,null,null,null,null,null,null,null,null,null,null,null,null,null,null,null,"BALANCE-GEOTHERM-TOTIND-",null,"RA200","ENERGUSE","INDUSTRY","_Z","_Z","_Z","_Z",null,"ENERGY","_Z","TJ_NCV"]
[null,"REN","SOLARTH","BALANCE","TOTIND",null,"Solar thermal",null,null,null,null,null,null,null,null,null,null,null,null,null,null,null,null,null,null,null,null,null,null,null,null,null,null,null,null,null,null,null,null,null,null,null,null,null,null,null,null,null,null,null,null,null,null,null,null,null,null,null,null,null,null,null,null,null,null,null,null,null,null,null,null,null,null,null,null,null,null,null,null,null,null,null,null,null,null,null,null,null,null,null,null,null,null,null,null,null,null,null,null,null,null,null,null,null,null,null,null,null,null,null,null,null,null,null,null,null,null,null,null,null,null,"BALANCE-SOLARTH-TOTIND-",null,"RA410","ENERGUSE","INDUSTRY","_Z","_Z","_Z","_Z",null,"ENERGY","_Z","TJ_NCV"]
[null,"REN","INDWASTE","BALANCE","TOTIND",null,"Industrial waste (non-renewable)",null,null,null,null,null,null,null,null,null,null,null,null,null,null,null,null,null,null,null,null,null,null,null,null,null,null,null,null,null,null,null,null,null,null,null,null,null,null,null,null,null,null,null,null,null,null,null,null,null,null,null,null,null,null,null,null,null,null,null,null,null,null,null,null,null,null,null,null,null,null,null,null,null,null,null,null,null,null,null,null,null,null,null,null,null,null,null,null,null,null,null,null,null,null,null,null,null,null,null,null,null,null,null,null,null,null,null,null,null,null,null,null,null,null,"BALANCE-INDWASTE-TOTIND-",null,"W6100","ENERGUSE","INDUSTRY","_Z","_Z","_Z","_Z",null,"ENERGY","_Z","TJ_NCV"]
[null,"REN","MUNWASTER","BALANCE","TOTIND",null,"Municipal Waste - Renewable",null,null,null,null,null,null,null,null,null,null,null,null,null,null,null,null,null,null,null,null,null,null,null,null,null,null,null,null,null,null,null,null,null,null,null,null,null,null,null,null,null,null,null,null,null,null,null,null,null,null,null,null,null,null,null,null,null,null,null,null,null,null,null,null,null,null,null,null,null,null,null,null,null,null,null,null,null,null,null,null,null,null,null,null,null,null,null,null,null,null,null,null,null,null,null,null,null,null,null,null,null,null,null,null,null,null,null,null,null,null,null,null,null,null,"BALANCE-MUNWASTER-TOTIND-",null,"W6210","ENERGUSE","INDUSTRY","_Z","_Z","_Z","_Z",null,"ENERGY","_Z","TJ_NCV"]
[null,"REN","MUNWASTEN","BALANCE","TOTIND",null,"Municipal Waste Non-renewable",null,null,null,null,null,null,null,null,null,null,null,null,null,null,null,null,null,null,null,null,null,null,null,null,null,null,null,null,null,null,null,null,null,null,null,null,null,null,null,null,null,null,null,null,null,null,null,null,null,null,null,null,null,null,null,null,null,null,null,null,null,null,null,null,null,null,null,null,null,null,null,null,null,null,null,null,null,null,null,null,null,null,null,null,null,null,null,null,null,null,null,null,null,null,null,null,null,null,null,null,null,null,null,null,null,null,null,null,null,null,null,null,null,null,"BALANCE-MUNWASTEN-TOTIND-",null,"W6220","ENERGUSE","INDUSTRY","_Z","_Z","_Z","_Z",null,"ENERGY","_Z","TJ_NCV"]
[null,"REN","PRIMSBIO","BALANCE","TOTIND",null,"Solid biofuels excluding charcoal",null,null,null,null,null,null,null,null,null,null,null,null,null,null,null,null,null,null,null,null,null,null,null,null,null,null,null,null,null,null,null,null,null,null,null,null,null,null,null,null,null,null,null,null,null,null,null,null,null,null,null,null,null,null,null,null,null,null,null,null,null,null,null,null,null,null,null,null,null,null,null,null,null,null,null,null,null,null,null,null,null,null,null,null,null,null,null,null,null,null,null,null,null,null,null,null,null,null,null,null,null,null,null,null,null,null,null,null,null,null,null,null,null,null,"BALANCE-PRIMSBIO-TOTIND-",null,"R510C","ENERGUSE","INDUSTRY","_Z","_Z","_Z","_Z",null,"ENERGY","_Z","TJ_NCV"]
[null,"REN","CHARCOAL","BALANCE","TOTIND",null,"Charcoal",null,null,null,null,null,null,null,null,null,null,null,null,null,null,null,null,null,null,null,null,null,null,null,null,null,null,null,null,null,null,null,null,null,null,null,null,null,null,null,null,null,null,null,null,null,null,null,null,null,null,null,null,null,null,null,null,null,null,null,null,null,null,null,null,null,null,null,null,null,null,null,null,null,null,null,null,null,null,null,null,null,null,null,null,null,null,null,null,null,null,null,null,null,null,null,null,null,null,null,null,null,null,null,null,null,null,null,null,null,null,null,null,null,null,"BALANCE-CHARCOAL-TOTIND-",null,"R5160","ENERGUSE","INDUSTRY","_Z","_Z","_Z","_Z",null,"WEIGHT","_Z","KT"]
[null,"REN","BIOGASES","BALANCE","TOTIND",null,"Biogases",null,null,null,null,null,null,null,null,null,null,null,null,null,null,null,null,null,null,null,null,null,null,null,null,null,null,null,null,null,null,null,null,null,null,null,null,null,null,null,null,null,null,null,null,null,null,null,null,null,null,null,null,null,null,null,null,null,null,null,null,null,null,null,null,null,null,null,null,null,null,null,null,null,null,null,null,null,null,null,null,null,null,null,null,null,null,null,null,null,null,null,null,null,null,null,null,null,null,null,null,null,null,null,null,null,null,null,null,null,null,null,null,null,null,"BALANCE-BIOGASES-TOTIND-",null,"R5300","ENERGUSE","INDUSTRY","_Z","_Z","_Z","_Z",null,"ENERGY","_Z","TJ_NCV"]
[null,"REN","BIOGASOL","BALANCE","TOTIND",null,"Biogasoline",null,null,null,null,null,null,null,null,null,null,null,null,null,null,null,null,null,null,null,null,null,null,null,null,null,null,null,null,null,null,null,null,null,null,null,null,null,null,null,null,null,null,null,null,null,null,null,null,null,null,null,null,null,null,null,null,null,null,null,null,null,null,null,null,null,null,null,null,null,null,null,null,null,null,null,null,null,null,null,null,null,null,null,null,null,null,null,null,null,null,null,null,null,null,null,null,null,null,null,null,null,null,null,null,null,null,null,null,null,null,null,null,null,null,"BALANCE-BIOGASOL-TOTIND-",null,"R5211","ENERGUSE","INDUSTRY","_Z","_Z","_Z","_Z",null,"WEIGHT","_Z","KT"]
[null,"REN","BIOJETKERO","BALANCE","TOTIND",null,"Bio jet kerosenes",null,null,null,null,null,null,null,null,null,null,null,null,null,null,null,null,null,null,null,null,null,null,null,null,null,null,null,null,null,null,null,null,null,null,null,null,null,null,null,null,null,null,null,null,null,null,null,null,null,null,null,null,null,null,null,null,null,null,null,null,null,null,null,null,null,null,null,null,null,null,null,null,null,null,null,null,null,null,null,null,null,null,null,null,null,null,null,null,null,null,null,null,null,null,null,null,null,null,null,null,null,null,null,null,null,null,null,null,null,null,null,null,null,null,"BALANCE-BIOJETKERO-TOTIND-",null,"R5231","ENERGUSE","INDUSTRY","_Z","_Z","_Z","_Z",null,"WEIGHT","_Z","KT"]
[null,"REN","BIODIESEL","BALANCE","TOTIND",null,"Biodiesels",null,null,null,null,null,null,null,null,null,null,null,null,null,null,null,null,null,null,null,null,null,null,null,null,null,null,null,null,null,null,null,null,null,null,null,null,null,null,null,null,null,null,null,null,null,null,null,null,null,null,null,null,null,null,null,null,null,null,null,null,null,null,null,null,null,null,null,null,null,null,null,null,null,null,null,null,null,null,null,null,null,null,null,null,null,null,null,null,null,null,null,null,null,null,null,null,null,null,null,null,null,null,null,null,null,null,null,null,null,null,null,null,null,null,"BALANCE-BIODIESEL-TOTIND-",null,"R5221","ENERGUSE","INDUSTRY","_Z","_Z","_Z","_Z",null,"WEIGHT","_Z","KT"]
[null,"REN","OBIOLIQ","BALANCE","TOTIND",null,"Other liquid biofuels",null,null,null,null,null,null,null,null,null,null,null,null,null,null,null,null,null,null,null,null,null,null,null,null,null,null,null,null,null,null,null,null,null,null,null,null,null,null,null,null,null,null,null,null,null,null,null,null,null,null,null,null,null,null,null,null,null,null,null,null,null,null,null,null,null,null,null,null,null,null,null,null,null,null,null,null,null,null,null,null,null,null,null,null,null,null,null,null,null,null,null,null,null,null,null,null,null,null,null,null,null,null,null,null,null,null,null,null,null,null,null,null,null,null,"BALANCE-OBIOLIQ-TOTIND-",null,"R5290","ENERGUSE","INDUSTRY","_Z","_Z","_Z","_Z",null,"WEIGHT","_Z","KT"]
[]
[null,null,null,null,null,null,"Other Sectors - Total"]
[null,"REN","GEOTHERM","BALANCE","TOTOTHER",null,"Geothermal energy",null,null,null,null,null,null,null,null,null,null,null,null,null,null,null,null,null,null,null,null,null,null,null,null,null,null,null,null,null,null,null,null,null,null,null,null,null,null,null,null,null,null,null,null,null,null,null,null,null,null,null,null,null,null,null,null,null,null,null,null,null,null,null,null,null,null,null,null,null,null,null,null,null,null,null,null,null,null,null,null,null,null,null,null,null,null,null,null,null,null,null,null,null,null,null,null,null,null,null,null,null,null,null,null,null,null,null,null,null,null,null,null,null,null,"BALANCE-GEOTHERM-TOTOTHER-",null,"RA200","ENERGUSE","OTHSECT","_Z","_Z","_Z","_Z",null,"ENERGY","_Z","TJ_NCV"]
[null,"REN","SOLARTH","BALANCE","TOTOTHER",null,"Solar thermal",null,null,null,null,null,null,null,null,null,null,null,null,null,null,null,null,null,null,null,null,null,null,null,null,null,null,null,null,null,null,null,null,null,null,null,null,null,null,null,null,null,null,null,null,null,null,null,null,null,null,null,null,null,null,null,null,null,null,null,null,null,null,null,null,null,null,null,null,null,null,null,null,null,null,null,null,null,null,null,null,null,null,null,null,null,null,null,null,null,null,null,null,null,null,null,null,null,null,null,null,null,null,null,null,null,null,null,null,null,null,null,null,null,null,"BALANCE-SOLARTH-TOTOTHER-",null,"RA410","ENERGUSE","OTHSECT","_Z","_Z","_Z","_Z",null,"ENERGY","_Z","TJ_NCV"]
[null,"REN","INDWASTE","BALANCE","TOTOTHER",null,"Industrial waste (non-renewable)",null,null,null,null,null,null,null,null,null,null,null,null,null,null,null,null,null,null,null,null,null,null,null,null,null,null,null,null,null,null,null,null,null,null,null,null,null,null,null,null,null,null,null,null,null,null,null,null,null,null,null,null,null,null,null,null,null,null,null,null,null,null,null,null,null,null,null,null,null,null,null,null,null,null,null,null,null,null,null,null,null,null,null,null,null,null,null,null,null,null,null,null,null,null,null,null,null,null,null,null,null,null,null,null,null,null,null,null,null,null,null,null,null,null,"BALANCE-INDWASTE-TOTOTHER-",null,"W6100","ENERGUSE","OTHSECT","_Z","_Z","_Z","_Z",null,"ENERGY","_Z","TJ_NCV"]
[null,"REN","MUNWASTER","BALANCE","TOTOTHER",null,"Municipal Waste - Renewable",null,null,null,null,null,null,null,null,null,null,null,null,null,null,null,null,null,null,null,null,null,null,null,null,null,null,null,null,null,null,null,null,null,null,null,null,null,null,null,null,null,null,null,null,null,null,null,null,null,null,null,null,null,null,null,null,null,null,null,null,null,null,null,null,null,null,null,null,null,null,null,null,null,null,null,null,null,null,null,null,null,null,null,null,null,null,null,null,null,null,null,null,null,null,null,null,null,null,null,null,null,null,null,null,null,null,null,null,null,null,null,null,null,null,"BALANCE-MUNWASTER-TOTOTHER-",null,"W6210","ENERGUSE","OTHSECT","_Z","_Z","_Z","_Z",null,"ENERGY","_Z","TJ_NCV"]
[null,"REN","MUNWASTEN","BALANCE","TOTOTHER",null,"Municipal Waste Non-renewable",null,null,null,null,null,null,null,null,null,null,null,null,null,null,null,null,null,null,null,null,null,null,null,null,null,null,null,null,null,null,null,null,null,null,null,null,null,null,null,null,null,null,null,null,null,null,null,null,null,null,null,null,null,null,null,null,null,null,null,null,null,null,null,null,null,null,null,null,null,null,null,null,null,null,null,null,null,null,null,null,null,null,null,null,null,null,null,null,null,null,null,null,null,null,null,null,null,null,null,null,null,null,null,null,null,null,null,null,null,null,null,null,null,null,"BALANCE-MUNWASTEN-TOTOTHER-",null,"W6220","ENERGUSE","OTHSECT","_Z","_Z","_Z","_Z",null,"ENERGY","_Z","TJ_NCV"]
[null,"REN","PRIMSBIO","BALANCE","TOTOTHER",null,"Solid biofuels excluding charcoal",null,null,null,null,null,null,null,null,null,null,null,null,null,null,null,null,null,null,null,null,null,null,null,null,null,null,null,null,null,null,null,null,null,null,null,null,null,null,null,null,null,null,null,null,null,null,null,null,null,null,null,null,null,null,null,null,null,null,null,null,null,null,null,null,null,null,null,null,null,null,null,null,null,null,null,null,null,null,null,null,null,null,null,null,null,null,null,null,null,null,null,null,null,null,null,null,null,null,null,null,null,null,null,null,null,null,null,null,null,null,null,null,null,null,"BALANCE-PRIMSBIO-TOTOTHER-",null,"R510C","ENERGUSE","OTHSECT","_Z","_Z","_Z","_Z",null,"ENERGY","_Z","TJ_NCV"]
[null,"REN","CHARCOAL","BALANCE","TOTOTHER",null,"Charcoal",null,null,null,null,null,null,null,null,null,null,null,null,null,null,null,null,null,null,null,null,null,null,null,null,null,null,null,null,null,null,null,null,null,null,null,null,null,null,null,null,null,null,null,null,null,null,null,null,null,null,null,null,null,null,null,null,null,null,null,null,null,null,null,null,null,null,null,null,null,null,null,null,null,null,null,null,null,null,null,null,null,null,null,null,null,null,null,null,null,null,null,null,null,null,null,null,null,null,null,null,null,null,null,null,null,null,null,null,null,null,null,null,null,null,"BALANCE-CHARCOAL-TOTOTHER-",null,"R5160","ENERGUSE","OTHSECT","_Z","_Z","_Z","_Z",null,"WEIGHT","_Z","KT"]
[null,"REN","BIOGASES","BALANCE","TOTOTHER",null,"Biogases",null,null,null,null,null,null,null,null,null,null,null,null,null,null,null,null,null,null,null,null,null,null,null,null,null,null,null,null,null,null,null,null,null,null,null,null,null,null,null,null,null,null,null,null,null,null,null,null,null,null,null,null,null,null,null,null,null,null,null,null,null,null,null,null,null,null,null,null,null,null,null,null,null,null,null,null,null,null,null,null,null,null,null,null,null,null,null,null,null,null,null,null,null,null,null,null,null,null,null,null,null,null,null,null,null,null,null,null,null,null,null,null,null,null,"BALANCE-BIOGASES-TOTOTHER-",null,"R5300","ENERGUSE","OTHSECT","_Z","_Z","_Z","_Z",null,"ENERGY","_Z","TJ_NCV"]
[null,"REN","BIOGASOL","BALANCE","TOTOTHER",null,"Biogasoline",null,null,null,null,null,null,null,null,null,null,null,null,null,null,null,null,null,null,null,null,null,null,null,null,null,null,null,null,null,null,null,null,null,null,null,null,null,null,null,null,null,null,null,null,null,null,null,null,null,null,null,null,null,null,null,null,null,null,null,null,null,null,null,null,null,null,null,null,null,null,null,null,null,null,null,null,null,null,null,null,null,null,null,null,null,null,null,null,null,null,null,null,null,null,null,null,null,null,null,null,null,null,null,null,null,null,null,null,null,null,null,null,null,null,"BALANCE-BIOGASOL-TOTOTHER-",null,"R5211","ENERGUSE","OTHSECT","_Z","_Z","_Z","_Z",null,"WEIGHT","_Z","KT"]
[null,"REN","BIOJETKERO","BALANCE","TOTOTHER",null,"Bio jet kerosenes",null,null,null,null,null,null,null,null,null,null,null,null,null,null,null,null,null,null,null,null,null,null,null,null,null,null,null,null,null,null,null,null,null,null,null,null,null,null,null,null,null,null,null,null,null,null,null,null,null,null,null,null,null,null,null,null,null,null,null,null,null,null,null,null,null,null,null,null,null,null,null,null,null,null,null,null,null,null,null,null,null,null,null,null,null,null,null,null,null,null,null,null,null,null,null,null,null,null,null,null,null,null,null,null,null,null,null,null,null,null,null,null,null,null,"BALANCE-BIOJETKERO-TOTOTHER-",null,"R5231","ENERGUSE","OTHSECT","_Z","_Z","_Z","_Z",null,"WEIGHT","_Z","KT"]
[null,"REN","BIODIESEL","BALANCE","TOTOTHER",null,"Biodiesels",null,null,null,null,null,null,null,null,null,null,null,null,null,null,null,null,null,null,null,null,null,null,null,null,null,null,null,null,null,null,null,null,null,null,null,null,null,null,null,null,null,null,null,null,null,null,null,null,null,null,null,null,null,null,null,null,null,null,null,null,null,null,null,null,null,null,null,null,null,null,null,null,null,null,null,null,null,null,null,null,null,null,null,null,null,null,null,null,null,null,null,null,null,null,null,null,null,null,null,null,null,null,null,null,null,null,null,null,null,null,null,null,null,null,"BALANCE-BIODIESEL-TOTOTHER-",null,"R5221","ENERGUSE","OTHSECT","_Z","_Z","_Z","_Z",null,"WEIGHT","_Z","KT"]
[null,"REN","OBIOLIQ","BALANCE","TOTOTHER",null,"Other liquid biofuels",null,null,null,null,null,null,null,null,null,null,null,null,null,null,null,null,null,null,null,null,null,null,null,null,null,null,null,null,null,null,null,null,null,null,null,null,null,null,null,null,null,null,null,null,null,null,null,null,null,null,null,null,null,null,null,null,null,null,null,null,null,null,null,null,null,null,null,null,null,null,null,null,null,null,null,null,null,null,null,null,null,null,null,null,null,null,null,null,null,null,null,null,null,null,null,null,null,null,null,null,null,null,null,null,null,null,null,null,null,null,null,null,null,null,"BALANCE-OBIOLIQ-TOTOTHER-",null,"R5290","ENERGUSE","OTHSECT","_Z","_Z","_Z","_Z",null,"WEIGHT","_Z","KT"]
[]
[null,null,null,null,null,null,"Residential"]
[null,"REN","PRIMSBIO","BALANCE","RESIDENT",null,"Solid biofuels excluding charcoal",null,null,null,null,null,null,null,null,null,null,null,null,null,null,null,null,null,null,null,null,null,null,null,null,null,null,null,null,null,null,null,null,null,null,null,null,null,null,null,null,null,null,null,null,null,null,null,null,null,null,null,null,null,null,null,null,null,null,null,null,null,null,null,null,null,null,null,null,null,null,null,null,null,null,null,null,null,null,null,null,null,null,null,null,null,null,null,null,null,null,null,null,null,null,null,null,null,null,null,null,null,null,null,null,null,null,null,null,null,null,null,null,null,null,"BALANCE-PRIMSBIO-RESIDENT-",null,"R510C","ENERGUSE","RESIDENT","_Z","_Z","_Z","_Z",null,"ENERGY","_Z","TJ_NCV"]
[null,"REN","CHARCOAL","BALANCE","RESIDENT",null,"Charcoal",null,null,null,null,null,null,null,null,null,null,null,null,null,null,null,null,null,null,null,null,null,null,null,null,null,null,null,null,null,null,null,null,null,null,null,null,null,null,null,null,null,null,null,null,null,null,null,null,null,null,null,null,null,null,null,null,null,null,null,null,null,null,null,null,null,null,null,null,null,null,null,null,null,null,null,null,null,null,null,null,null,null,null,null,null,null,null,null,null,null,null,null,null,null,null,null,null,null,null,null,null,null,null,null,null,null,null,null,null,null,null,null,null,null,"BALANCE-CHARCOAL-RESIDENT-",null,"R5160","ENERGUSE","RESIDENT","_Z","_Z","_Z","_Z",null,"WEIGHT","_Z","KT"]
[]
[null,null,null,null,null,null,"Transport Sector - Total"]
[null,"REN","GEOTHERM","BALANCE","TOTTRANS",null,"Geothermal energy",null,null,null,null,null,null,null,null,null,null,null,null,null,null,null,null,null,null,null,null,null,null,null,null,null,null,null,null,null,null,null,null,null,null,null,null,null,null,null,null,null,null,null,null,null,null,null,null,null,null,null,null,null,null,null,null,null,null,null,null,null,null,null,null,null,null,null,null,null,null,null,null,null,null,null,null,null,null,null,null,null,null,null,null,null,null,null,null,null,null,null,null,null,null,null,null,null,null,null,null,null,null,null,null,null,null,null,null,null,null,null,null,null,null,"BALANCE-GEOTHERM-TOTTRANS-",null,"RA200","ENERGUSE","TRANSPOR","_Z","_Z","_Z","_Z",null,"ENERGY","_Z","TJ_NCV"]
[null,"REN","SOLARTH","BALANCE","TOTTRANS",null,"Solar thermal",null,null,null,null,null,null,null,null,null,null,null,null,null,null,null,null,null,null,null,null,null,null,null,null,null,null,null,null,null,null,null,null,null,null,null,null,null,null,null,null,null,null,null,null,null,null,null,null,null,null,null,null,null,null,null,null,null,null,null,null,null,null,null,null,null,null,null,null,null,null,null,null,null,null,null,null,null,null,null,null,null,null,null,null,null,null,null,null,null,null,null,null,null,null,null,null,null,null,null,null,null,null,null,null,null,null,null,null,null,null,null,null,null,null,"BALANCE-SOLARTH-TOTTRANS-",null,"RA410","ENERGUSE","TRANSPOR","_Z","_Z","_Z","_Z",null,"ENERGY","_Z","TJ_NCV"]
[null,"REN","INDWASTE","BALANCE","TOTTRANS",null,"Industrial waste (non-renewable)",null,null,null,null,null,null,null,null,null,null,null,null,null,null,null,null,null,null,null,null,null,null,null,null,null,null,null,null,null,null,null,null,null,null,null,null,null,null,null,null,null,null,null,null,null,null,null,null,null,null,null,null,null,null,null,null,null,null,null,null,null,null,null,null,null,null,null,null,null,null,null,null,null,null,null,null,null,null,null,null,null,null,null,null,null,null,null,null,null,null,null,null,null,null,null,null,null,null,null,null,null,null,null,null,null,null,null,null,null,null,null,null,null,null,"BALANCE-INDWASTE-TOTTRANS-",null,"W6100","ENERGUSE","TRANSPOR","_Z","_Z","_Z","_Z",null,"ENERGY","_Z","TJ_NCV"]
[null,"REN","MUNWASTER","BALANCE","TOTTRANS",null,"Municipal Waste - Renewable",null,null,null,null,null,null,null,null,null,null,null,null,null,null,null,null,null,null,null,null,null,null,null,null,null,null,null,null,null,null,null,null,null,null,null,null,null,null,null,null,null,null,null,null,null,null,null,null,null,null,null,null,null,null,null,null,null,null,null,null,null,null,null,null,null,null,null,null,null,null,null,null,null,null,null,null,null,null,null,null,null,null,null,null,null,null,null,null,null,null,null,null,null,null,null,null,null,null,null,null,null,null,null,null,null,null,null,null,null,null,null,null,null,null,"BALANCE-MUNWASTER-TOTTRANS-",null,"W6210","ENERGUSE","TRANSPOR","_Z","_Z","_Z","_Z",null,"ENERGY","_Z","TJ_NCV"]
[null,"REN","MUNWASTEN","BALANCE","TOTTRANS",null,"Municipal Waste Non-renewable",null,null,null,null,null,null,null,null,null,null,null,null,null,null,null,null,null,null,null,null,null,null,null,null,null,null,null,null,null,null,null,null,null,null,null,null,null,null,null,null,null,null,null,null,null,null,null,null,null,null,null,null,null,null,null,null,null,null,null,null,null,null,null,null,null,null,null,null,null,null,null,null,null,null,null,null,null,null,null,null,null,null,null,null,null,null,null,null,null,null,null,null,null,null,null,null,null,null,null,null,null,null,null,null,null,null,null,null,null,null,null,null,null,null,"BALANCE-MUNWASTEN-TOTTRANS-",null,"W6220","ENERGUSE","TRANSPOR","_Z","_Z","_Z","_Z",null,"ENERGY","_Z","TJ_NCV"]
[null,"REN","PRIMSBIO","BALANCE","TOTTRANS",null,"Solid biofuels excluding charcoal",null,null,null,null,null,null,null,null,null,null,null,null,null,null,null,null,null,null,null,null,null,null,null,null,null,null,null,null,null,null,null,null,null,null,null,null,null,null,null,null,null,null,null,null,null,null,null,null,null,null,null,null,null,null,null,null,null,null,null,null,null,null,null,null,null,null,null,null,null,null,null,null,null,null,null,null,null,null,null,null,null,null,null,null,null,null,null,null,null,null,null,null,null,null,null,null,null,null,null,null,null,null,null,null,null,null,null,null,null,null,null,null,null,null,"BALANCE-PRIMSBIO-TOTTRANS-",null,"R510C","ENERGUSE","TRANSPOR","_Z","_Z","_Z","_Z",null,"ENERGY","_Z","TJ_NCV"]
[null,"REN","CHARCOAL","BALANCE","TOTTRANS",null,"Charcoal",null,null,null,null,null,null,null,null,null,null,null,null,null,null,null,null,null,null,null,null,null,null,null,null,null,null,null,null,null,null,null,null,null,null,null,null,null,null,null,null,null,null,null,null,null,null,null,null,null,null,null,null,null,null,null,null,null,null,null,null,null,null,null,null,null,null,null,null,null,null,null,null,null,null,null,null,null,null,null,null,null,null,null,null,null,null,null,null,null,null,null,null,null,null,null,null,null,null,null,null,null,null,null,null,null,null,null,null,null,null,null,null,null,null,"BALANCE-CHARCOAL-TOTTRANS-",null,"R5160","ENERGUSE","TRANSPOR","_Z","_Z","_Z","_Z",null,"WEIGHT","_Z","KT"]
[null,"REN","BIOGASES","BALANCE","TOTTRANS",null,"Biogases",null,null,null,null,null,null,null,null,null,null,null,null,null,null,null,null,null,null,null,null,null,null,null,null,null,null,null,null,null,null,null,null,null,null,null,null,null,null,null,null,null,null,null,null,null,null,null,null,null,null,null,null,null,null,null,null,null,null,null,null,null,null,null,null,null,null,null,null,null,null,null,null,null,null,null,null,null,null,null,null,null,null,null,null,null,null,null,null,null,null,null,null,null,null,null,null,null,null,null,null,null,null,null,null,null,null,null,null,null,null,null,null,null,null,"BALANCE-BIOGASES-TOTTRANS-",null,"R5300","ENERGUSE","TRANSPOR","_Z","_Z","_Z","_Z",null,"ENERGY","_Z","TJ_NCV"]
[null,"REN","BIOGASOL","BALANCE","TOTTRANS",null,"Biogasoline",null,null,null,null,null,null,null,null,null,null,null,null,null,null,null,null,null,null,null,null,null,null,null,null,null,null,null,null,null,null,null,null,null,null,null,null,null,null,null,null,null,null,null,null,null,null,null,null,null,null,null,null,null,null,null,null,null,null,null,null,null,null,null,null,null,null,null,null,null,null,null,null,null,null,null,null,null,null,null,null,null,null,null,null,null,null,null,null,null,null,null,null,null,null,null,null,null,null,null,null,null,null,null,null,null,null,null,null,null,null,null,null,null,null,"BALANCE-BIOGASOL-TOTTRANS-",null,"R5211","ENERGUSE","TRANSPOR","_Z","_Z","_Z","_Z",null,"WEIGHT","_Z","KT"]
[null,"REN","BIOJETKERO","BALANCE","TOTTRANS",null,"Bio jet kerosenes",null,null,null,null,null,null,null,null,null,null,null,null,null,null,null,null,null,null,null,null,null,null,null,null,null,null,null,null,null,null,null,null,null,null,null,null,null,null,null,null,null,null,null,null,null,null,null,null,null,null,null,null,null,null,null,null,null,null,null,null,null,null,null,null,null,null,null,null,null,null,null,null,null,null,null,null,null,null,null,null,null,null,null,null,null,null,null,null,null,null,null,null,null,null,null,null,null,null,null,null,null,null,null,null,null,null,null,null,null,null,null,null,null,null,"BALANCE-BIOJETKERO-TOTTRANS-",null,"R5231","ENERGUSE","TRANSPOR","_Z","_Z","_Z","_Z",null,"WEIGHT","_Z","KT"]
[null,"REN","BIODIESEL","BALANCE","TOTTRANS",null,"Biodiesels",null,null,null,null,null,null,null,null,null,null,null,null,null,null,null,null,null,null,null,null,null,null,null,null,null,null,null,null,null,null,null,null,null,null,null,null,null,null,null,null,null,null,null,null,null,null,null,null,null,null,null,null,null,null,null,null,null,null,null,null,null,null,null,null,null,null,null,null,null,null,null,null,null,null,null,null,null,null,null,null,null,null,null,null,null,null,null,null,null,null,null,null,null,null,null,null,null,null,null,null,null,null,null,null,null,null,null,null,null,null,null,null,null,null,"BALANCE-BIODIESEL-TOTTRANS-",null,"R5221","ENERGUSE","TRANSPOR","_Z","_Z","_Z","_Z",null,"WEIGHT","_Z","KT"]
[null,"REN","OBIOLIQ","BALANCE","TOTTRANS",null,"Other liquid biofuels",null,null,null,null,null,null,null,null,null,null,null,null,null,null,null,null,null,null,null,null,null,null,null,null,null,null,null,null,null,null,null,null,null,null,null,null,null,null,null,null,null,null,null,null,null,null,null,null,null,null,null,null,null,null,null,null,null,null,null,null,null,null,null,null,null,null,null,null,null,null,null,null,null,null,null,null,null,null,null,null,null,null,null,null,null,null,null,null,null,null,null,null,null,null,null,null,null,null,null,null,null,null,null,null,null,null,null,null,null,null,null,null,null,null,"BALANCE-OBIOLIQ-TOTTRANS-",null,"R5290","ENERGUSE","TRANSPOR","_Z","_Z","_Z","_Z",null,"WEIGHT","_Z","KT"]
[]
[null,null,null,null,null,null,"Transport Sector - Rail"]
[null,"REN","GEOTHERM","BALANCE","RAIL",null,"Geothermal energy",null,null,null,null,null,null,null,null,null,null,null,null,null,null,null,null,null,null,null,null,null,null,null,null,null,null,null,null,null,null,null,null,null,null,null,null,null,null,null,null,null,null,null,null,null,null,null,null,null,null,null,null,null,null,null,null,null,null,null,null,null,null,null,null,null,null,null,null,null,null,null,null,null,null,null,null,null,null,null,null,null,null,null,null,null,null,null,null,null,null,null,null,null,null,null,null,null,null,null,null,null,null,null,null,null,null,null,null,null,null,null,null,null,null,"BALANCE-GEOTHERM-TOTTRANS-",null,"RA200","ENERGUSE","RAIL","_Z","_Z","_Z","_Z",null,"ENERGY","_Z","TJ_NCV"]
[null,"REN","SOLARTH","BALANCE","RAIL",null,"Solar thermal",null,null,null,null,null,null,null,null,null,null,null,null,null,null,null,null,null,null,null,null,null,null,null,null,null,null,null,null,null,null,null,null,null,null,null,null,null,null,null,null,null,null,null,null,null,null,null,null,null,null,null,null,null,null,null,null,null,null,null,null,null,null,null,null,null,null,null,null,null,null,null,null,null,null,null,null,null,null,null,null,null,null,null,null,null,null,null,null,null,null,null,null,null,null,null,null,null,null,null,null,null,null,null,null,null,null,null,null,null,null,null,null,null,null,"BALANCE-SOLARTH-TOTTRANS-",null,"RA410","ENERGUSE","RAIL","_Z","_Z","_Z","_Z",null,"ENERGY","_Z","TJ_NCV"]
[null,"REN","INDWASTE","BALANCE","RAIL",null,"Industrial waste (non-renewable)",null,null,null,null,null,null,null,null,null,null,null,null,null,null,null,null,null,null,null,null,null,null,null,null,null,null,null,null,null,null,null,null,null,null,null,null,null,null,null,null,null,null,null,null,null,null,null,null,null,null,null,null,null,null,null,null,null,null,null,null,null,null,null,null,null,null,null,null,null,null,null,null,null,null,null,null,null,null,null,null,null,null,null,null,null,null,null,null,null,null,null,null,null,null,null,null,null,null,null,null,null,null,null,null,null,null,null,null,null,null,null,null,null,null,"BALANCE-INDWASTE-TOTTRANS-",null,"W6100","ENERGUSE","RAIL","_Z","_Z","_Z","_Z",null,"ENERGY","_Z","TJ_NCV"]
[null,"REN","MUNWASTER","BALANCE","RAIL",null,"Municipal Waste - Renewable",null,null,null,null,null,null,null,null,null,null,null,null,null,null,null,null,null,null,null,null,null,null,null,null,null,null,null,null,null,null,null,null,null,null,null,null,null,null,null,null,null,null,null,null,null,null,null,null,null,null,null,null,null,null,null,null,null,null,null,null,null,null,null,null,null,null,null,null,null,null,null,null,null,null,null,null,null,null,null,null,null,null,null,null,null,null,null,null,null,null,null,null,null,null,null,null,null,null,null,null,null,null,null,null,null,null,null,null,null,null,null,null,null,null,"BALANCE-MUNWASTER-TOTTRANS-",null,"W6210","ENERGUSE","RAIL","_Z","_Z","_Z","_Z",null,"ENERGY","_Z","TJ_NCV"]
[null,"REN","MUNWASTEN","BALANCE","RAIL",null,"Municipal Waste Non-renewable",null,null,null,null,null,null,null,null,null,null,null,null,null,null,null,null,null,null,null,null,null,null,null,null,null,null,null,null,null,null,null,null,null,null,null,null,null,null,null,null,null,null,null,null,null,null,null,null,null,null,null,null,null,null,null,null,null,null,null,null,null,null,null,null,null,null,null,null,null,null,null,null,null,null,null,null,null,null,null,null,null,null,null,null,null,null,null,null,null,null,null,null,null,null,null,null,null,null,null,null,null,null,null,null,null,null,null,null,null,null,null,null,null,null,"BALANCE-MUNWASTEN-TOTTRANS-",null,"W6220","ENERGUSE","RAIL","_Z","_Z","_Z","_Z",null,"ENERGY","_Z","TJ_NCV"]
[null,"REN","PRIMSBIO","BALANCE","RAIL",null,"Solid biofuels excluding charcoal",null,null,null,null,null,null,null,null,null,null,null,null,null,null,null,null,null,null,null,null,null,null,null,null,null,null,null,null,null,null,null,null,null,null,null,null,null,null,null,null,null,null,null,null,null,null,null,null,null,null,null,null,null,null,null,null,null,null,null,null,null,null,null,null,null,null,null,null,null,null,null,null,null,null,null,null,null,null,null,null,null,null,null,null,null,null,null,null,null,null,null,null,null,null,null,null,null,null,null,null,null,null,null,null,null,null,null,null,null,null,null,null,null,null,"BALANCE-PRIMSBIO-TOTTRANS-",null,"R510C","ENERGUSE","RAIL","_Z","_Z","_Z","_Z",null,"ENERGY","_Z","TJ_NCV"]
[null,"REN","CHARCOAL","BALANCE","RAIL",null,"Charcoal",null,null,null,null,null,null,null,null,null,null,null,null,null,null,null,null,null,null,null,null,null,null,null,null,null,null,null,null,null,null,null,null,null,null,null,null,null,null,null,null,null,null,null,null,null,null,null,null,null,null,null,null,null,null,null,null,null,null,null,null,null,null,null,null,null,null,null,null,null,null,null,null,null,null,null,null,null,null,null,null,null,null,null,null,null,null,null,null,null,null,null,null,null,null,null,null,null,null,null,null,null,null,null,null,null,null,null,null,null,null,null,null,null,null,"BALANCE-CHARCOAL-TOTTRANS-",null,"R5160","ENERGUSE","RAIL","_Z","_Z","_Z","_Z",null,"WEIGHT","_Z","KT"]
[null,"REN","BIOGASES","BALANCE","RAIL",null,"Biogases",null,null,null,null,null,null,null,null,null,null,null,null,null,null,null,null,null,null,null,null,null,null,null,null,null,null,null,null,null,null,null,null,null,null,null,null,null,null,null,null,null,null,null,null,null,null,null,null,null,null,null,null,null,null,null,null,null,null,null,null,null,null,null,null,null,null,null,null,null,null,null,null,null,null,null,null,null,null,null,null,null,null,null,null,null,null,null,null,null,null,null,null,null,null,null,null,null,null,null,null,null,null,null,null,null,null,null,null,null,null,null,null,null,null,"BALANCE-BIOGASES-TOTTRANS-",null,"R5300","ENERGUSE","RAIL","_Z","_Z","_Z","_Z",null,"ENERGY","_Z","TJ_NCV"]
[null,"REN","BIOGASOL","BALANCE","RAIL",null,"Biogasoline",null,null,null,null,null,null,null,null,null,null,null,null,null,null,null,null,null,null,null,null,null,null,null,null,null,null,null,null,null,null,null,null,null,null,null,null,null,null,null,null,null,null,null,null,null,null,null,null,null,null,null,null,null,null,null,null,null,null,null,null,null,null,null,null,null,null,null,null,null,null,null,null,null,null,null,null,null,null,null,null,null,null,null,null,null,null,null,null,null,null,null,null,null,null,null,null,null,null,null,null,null,null,null,null,null,null,null,null,null,null,null,null,null,null,"BALANCE-BIOGASOL-TOTTRANS-",null,"R5211","ENERGUSE","RAIL","_Z","_Z","_Z","_Z",null,"WEIGHT","_Z","KT"]
[null,"REN","BIOJETKERO","BALANCE","RAIL",null,"Bio jet kerosenes",null,null,null,null,null,null,null,null,null,null,null,null,null,null,null,null,null,null,null,null,null,null,null,null,null,null,null,null,null,null,null,null,null,null,null,null,null,null,null,null,null,null,null,null,null,null,null,null,null,null,null,null,null,null,null,null,null,null,null,null,null,null,null,null,null,null,null,null,null,null,null,null,null,null,null,null,null,null,null,null,null,null,null,null,null,null,null,null,null,null,null,null,null,null,null,null,null,null,null,null,null,null,null,null,null,null,null,null,null,null,null,null,null,null,"BALANCE-BIOJETKERO-TOTTRANS-",null,"R5231","ENERGUSE","RAIL","_Z","_Z","_Z","_Z",null,"WEIGHT","_Z","KT"]
[null,"REN","BIODIESEL","BALANCE","RAIL",null,"Biodiesels",null,null,null,null,null,null,null,null,null,null,null,null,null,null,null,null,null,null,null,null,null,null,null,null,null,null,null,null,null,null,null,null,null,null,null,null,null,null,null,null,null,null,null,null,null,null,null,null,null,null,null,null,null,null,null,null,null,null,null,null,null,null,null,null,null,null,null,null,null,null,null,null,null,null,null,null,null,null,null,null,null,null,null,null,null,null,null,null,null,null,null,null,null,null,null,null,null,null,null,null,null,null,null,null,null,null,null,null,null,null,null,null,null,null,"BALANCE-BIODIESEL-TOTTRANS-",null,"R5221","ENERGUSE","RAIL","_Z","_Z","_Z","_Z",null,"WEIGHT","_Z","KT"]
[null,"REN","OBIOLIQ","BALANCE","RAIL",null,"Other liquid biofuels",null,null,null,null,null,null,null,null,null,null,null,null,null,null,null,null,null,null,null,null,null,null,null,null,null,null,null,null,null,null,null,null,null,null,null,null,null,null,null,null,null,null,null,null,null,null,null,null,null,null,null,null,null,null,null,null,null,null,null,null,null,null,null,null,null,null,null,null,null,null,null,null,null,null,null,null,null,null,null,null,null,null,null,null,null,null,null,null,null,null,null,null,null,null,null,null,null,null,null,null,null,null,null,null,null,null,null,null,null,null,null,null,null,null,"BALANCE-OBIOLIQ-TOTTRANS-",null,"R5290","ENERGUSE","RAIL","_Z","_Z","_Z","_Z",null,"WEIGHT","_Z","KT"]
[]
[null,null,null,null,null,null,"Transport Sector - Road"]
[null,"REN","GEOTHERM","BALANCE","ROAD",null,"Geothermal energy",null,null,null,null,null,null,null,null,null,null,null,null,null,null,null,null,null,null,null,null,null,null,null,null,null,null,null,null,null,null,null,null,null,null,null,null,null,null,null,null,null,null,null,null,null,null,null,null,null,null,null,null,null,null,null,null,null,null,null,null,null,null,null,null,null,null,null,null,null,null,null,null,null,null,null,null,null,null,null,null,null,null,null,null,null,null,null,null,null,null,null,null,null,null,null,null,null,null,null,null,null,null,null,null,null,null,null,null,null,null,null,null,null,null,"BALANCE-GEOTHERM-TOTTRANS-",null,"RA200","ENERGUSE","ROAD","_Z","_Z","_Z","_Z",null,"ENERGY","_Z","TJ_NCV"]
[null,"REN","SOLARTH","BALANCE","ROAD",null,"Solar thermal",null,null,null,null,null,null,null,null,null,null,null,null,null,null,null,null,null,null,null,null,null,null,null,null,null,null,null,null,null,null,null,null,null,null,null,null,null,null,null,null,null,null,null,null,null,null,null,null,null,null,null,null,null,null,null,null,null,null,null,null,null,null,null,null,null,null,null,null,null,null,null,null,null,null,null,null,null,null,null,null,null,null,null,null,null,null,null,null,null,null,null,null,null,null,null,null,null,null,null,null,null,null,null,null,null,null,null,null,null,null,null,null,null,null,"BALANCE-SOLARTH-TOTTRANS-",null,"RA410","ENERGUSE","ROAD","_Z","_Z","_Z","_Z",null,"ENERGY","_Z","TJ_NCV"]
[null,"REN","INDWASTE","BALANCE","ROAD",null,"Industrial waste (non-renewable)",null,null,null,null,null,null,null,null,null,null,null,null,null,null,null,null,null,null,null,null,null,null,null,null,null,null,null,null,null,null,null,null,null,null,null,null,null,null,null,null,null,null,null,null,null,null,null,null,null,null,null,null,null,null,null,null,null,null,null,null,null,null,null,null,null,null,null,null,null,null,null,null,null,null,null,null,null,null,null,null,null,null,null,null,null,null,null,null,null,null,null,null,null,null,null,null,null,null,null,null,null,null,null,null,null,null,null,null,null,null,null,null,null,null,"BALANCE-INDWASTE-TOTTRANS-",null,"W6100","ENERGUSE","ROAD","_Z","_Z","_Z","_Z",null,"ENERGY","_Z","TJ_NCV"]
[null,"REN","MUNWASTER","BALANCE","ROAD",null,"Municipal Waste - Renewable",null,null,null,null,null,null,null,null,null,null,null,null,null,null,null,null,null,null,null,null,null,null,null,null,null,null,null,null,null,null,null,null,null,null,null,null,null,null,null,null,null,null,null,null,null,null,null,null,null,null,null,null,null,null,null,null,null,null,null,null,null,null,null,null,null,null,null,null,null,null,null,null,null,null,null,null,null,null,null,null,null,null,null,null,null,null,null,null,null,null,null,null,null,null,null,null,null,null,null,null,null,null,null,null,null,null,null,null,null,null,null,null,null,null,"BALANCE-MUNWASTER-TOTTRANS-",null,"W6210","ENERGUSE","ROAD","_Z","_Z","_Z","_Z",null,"ENERGY","_Z","TJ_NCV"]
[null,"REN","MUNWASTEN","BALANCE","ROAD",null,"Municipal Waste Non-renewable",null,null,null,null,null,null,null,null,null,null,null,null,null,null,null,null,null,null,null,null,null,null,null,null,null,null,null,null,null,null,null,null,null,null,null,null,null,null,null,null,null,null,null,null,null,null,null,null,null,null,null,null,null,null,null,null,null,null,null,null,null,null,null,null,null,null,null,null,null,null,null,null,null,null,null,null,null,null,null,null,null,null,null,null,null,null,null,null,null,null,null,null,null,null,null,null,null,null,null,null,null,null,null,null,null,null,null,null,null,null,null,null,null,null,"BALANCE-MUNWASTEN-TOTTRANS-",null,"W6220","ENERGUSE","ROAD","_Z","_Z","_Z","_Z",null,"ENERGY","_Z","TJ_NCV"]
[null,"REN","PRIMSBIO","BALANCE","ROAD",null,"Solid biofuels excluding charcoal",null,null,null,null,null,null,null,null,null,null,null,null,null,null,null,null,null,null,null,null,null,null,null,null,null,null,null,null,null,null,null,null,null,null,null,null,null,null,null,null,null,null,null,null,null,null,null,null,null,null,null,null,null,null,null,null,null,null,null,null,null,null,null,null,null,null,null,null,null,null,null,null,null,null,null,null,null,null,null,null,null,null,null,null,null,null,null,null,null,null,null,null,null,null,null,null,null,null,null,null,null,null,null,null,null,null,null,null,null,null,null,null,null,null,"BALANCE-PRIMSBIO-TOTTRANS-",null,"R510C","ENERGUSE","ROAD","_Z","_Z","_Z","_Z",null,"ENERGY","_Z","TJ_NCV"]
[null,"REN","CHARCOAL","BALANCE","ROAD",null,"Charcoal",null,null,null,null,null,null,null,null,null,null,null,null,null,null,null,null,null,null,null,null,null,null,null,null,null,null,null,null,null,null,null,null,null,null,null,null,null,null,null,null,null,null,null,null,null,null,null,null,null,null,null,null,null,null,null,null,null,null,null,null,null,null,null,null,null,null,null,null,null,null,null,null,null,null,null,null,null,null,null,null,null,null,null,null,null,null,null,null,null,null,null,null,null,null,null,null,null,null,null,null,null,null,null,null,null,null,null,null,null,null,null,null,null,null,"BALANCE-CHARCOAL-TOTTRANS-",null,"R5160","ENERGUSE","ROAD","_Z","_Z","_Z","_Z",null,"WEIGHT","_Z","KT"]
[null,"REN","BIOGASES","BALANCE","ROAD",null,"Biogases",null,null,null,null,null,null,null,null,null,null,null,null,null,null,null,null,null,null,null,null,null,null,null,null,null,null,null,null,null,null,null,null,null,null,null,null,null,null,null,null,null,null,null,null,null,null,null,null,null,null,null,null,null,null,null,null,null,null,null,null,null,null,null,null,null,null,null,null,null,null,null,null,null,null,null,null,null,null,null,null,null,null,null,null,null,null,null,null,null,null,null,null,null,null,null,null,null,null,null,null,null,null,null,null,null,null,null,null,null,null,null,null,null,null,"BALANCE-BIOGASES-TOTTRANS-",null,"R5300","ENERGUSE","ROAD","_Z","_Z","_Z","_Z",null,"ENERGY","_Z","TJ_NCV"]
[null,"REN","BIOGASOL","BALANCE","ROAD",null,"Biogasoline",null,null,null,null,null,null,null,null,null,null,null,null,null,null,null,null,null,null,null,null,null,null,null,null,null,null,null,null,null,null,null,null,null,null,null,null,null,null,null,null,null,null,null,null,null,null,null,null,null,null,null,null,null,null,null,null,null,null,null,null,null,null,null,null,null,null,null,null,null,null,null,null,null,null,null,null,null,null,null,null,null,null,null,null,null,null,null,null,null,null,null,null,null,null,null,null,null,null,null,null,null,null,null,null,null,null,null,null,null,null,null,null,null,null,"BALANCE-BIOGASOL-TOTTRANS-",null,"R5211","ENERGUSE","ROAD","_Z","_Z","_Z","_Z",null,"WEIGHT","_Z","KT"]
[null,"REN","BIOJETKERO","BALANCE","ROAD",null,"Bio jet kerosenes",null,null,null,null,null,null,null,null,null,null,null,null,null,null,null,null,null,null,null,null,null,null,null,null,null,null,null,null,null,null,null,null,null,null,null,null,null,null,null,null,null,null,null,null,null,null,null,null,null,null,null,null,null,null,null,null,null,null,null,null,null,null,null,null,null,null,null,null,null,null,null,null,null,null,null,null,null,null,null,null,null,null,null,null,null,null,null,null,null,null,null,null,null,null,null,null,null,null,null,null,null,null,null,null,null,null,null,null,null,null,null,null,null,null,"BALANCE-BIOJETKERO-TOTTRANS-",null,"R5231","ENERGUSE","ROAD","_Z","_Z","_Z","_Z",null,"WEIGHT","_Z","KT"]
[null,"REN","BIODIESEL","BALANCE","ROAD",null,"Biodiesels",null,null,null,null,null,null,null,null,null,null,null,null,null,null,null,null,null,null,null,null,null,null,null,null,null,null,null,null,null,null,null,null,null,null,null,null,null,null,null,null,null,null,null,null,null,null,null,null,null,null,null,null,null,null,null,null,null,null,null,null,null,null,null,null,null,null,null,null,null,null,null,null,null,null,null,null,null,null,null,null,null,null,null,null,null,null,null,null,null,null,null,null,null,null,null,null,null,null,null,null,null,null,null,null,null,null,null,null,null,null,null,null,null,null,"BALANCE-BIODIESEL-TOTTRANS-",null,"R5221","ENERGUSE","ROAD","_Z","_Z","_Z","_Z",null,"WEIGHT","_Z","KT"]
[null,"REN","OBIOLIQ","BALANCE","ROAD",null,"Other liquid biofuels",null,null,null,null,null,null,null,null,null,null,null,null,null,null,null,null,null,null,null,null,null,null,null,null,null,null,null,null,null,null,null,null,null,null,null,null,null,null,null,null,null,null,null,null,null,null,null,null,null,null,null,null,null,null,null,null,null,null,null,null,null,null,null,null,null,null,null,null,null,null,null,null,null,null,null,null,null,null,null,null,null,null,null,null,null,null,null,null,null,null,null,null,null,null,null,null,null,null,null,null,null,null,null,null,null,null,null,null,null,null,null,null,null,null,"BALANCE-OBIOLIQ-TOTTRANS-",null,"R5290","ENERGUSE","ROAD","_Z","_Z","_Z","_Z",null,"WEIGHT","_Z","KT"]
[]
[null,null,null,null,null,null,"Transport Sector - Domestic navigation"]
[null,"REN","GEOTHERM","BALANCE","DOMESNAV",null,"Geothermal energy",null,null,null,null,null,null,null,null,null,null,null,null,null,null,null,null,null,null,null,null,null,null,null,null,null,null,null,null,null,null,null,null,null,null,null,null,null,null,null,null,null,null,null,null,null,null,null,null,null,null,null,null,null,null,null,null,null,null,null,null,null,null,null,null,null,null,null,null,null,null,null,null,null,null,null,null,null,null,null,null,null,null,null,null,null,null,null,null,null,null,null,null,null,null,null,null,null,null,null,null,null,null,null,null,null,null,null,null,null,null,null,null,null,null,"BALANCE-GEOTHERM-TOTTRANS-",null,"RA200","ENERGUSE","DOMESNAV","_Z","_Z","_Z","_Z",null,"ENERGY","_Z","TJ_NCV"]
[null,"REN","SOLARTH","BALANCE","DOMESNAV",null,"Solar thermal",null,null,null,null,null,null,null,null,null,null,null,null,null,null,null,null,null,null,null,null,null,null,null,null,null,null,null,null,null,null,null,null,null,null,null,null,null,null,null,null,null,null,null,null,null,null,null,null,null,null,null,null,null,null,null,null,null,null,null,null,null,null,null,null,null,null,null,null,null,null,null,null,null,null,null,null,null,null,null,null,null,null,null,null,null,null,null,null,null,null,null,null,null,null,null,null,null,null,null,null,null,null,null,null,null,null,null,null,null,null,null,null,null,null,"BALANCE-SOLARTH-TOTTRANS-",null,"RA410","ENERGUSE","DOMESNAV","_Z","_Z","_Z","_Z",null,"ENERGY","_Z","TJ_NCV"]
[null,"REN","INDWASTE","BALANCE","DOMESNAV",null,"Industrial waste (non-renewable)",null,null,null,null,null,null,null,null,null,null,null,null,null,null,null,null,null,null,null,null,null,null,null,null,null,null,null,null,null,null,null,null,null,null,null,null,null,null,null,null,null,null,null,null,null,null,null,null,null,null,null,null,null,null,null,null,null,null,null,null,null,null,null,null,null,null,null,null,null,null,null,null,null,null,null,null,null,null,null,null,null,null,null,null,null,null,null,null,null,null,null,null,null,null,null,null,null,null,null,null,null,null,null,null,null,null,null,null,null,null,null,null,null,null,"BALANCE-INDWASTE-TOTTRANS-",null,"W6100","ENERGUSE","DOMESNAV","_Z","_Z","_Z","_Z",null,"ENERGY","_Z","TJ_NCV"]
[null,"REN","MUNWASTER","BALANCE","DOMESNAV",null,"Municipal Waste - Renewable",null,null,null,null,null,null,null,null,null,null,null,null,null,null,null,null,null,null,null,null,null,null,null,null,null,null,null,null,null,null,null,null,null,null,null,null,null,null,null,null,null,null,null,null,null,null,null,null,null,null,null,null,null,null,null,null,null,null,null,null,null,null,null,null,null,null,null,null,null,null,null,null,null,null,null,null,null,null,null,null,null,null,null,null,null,null,null,null,null,null,null,null,null,null,null,null,null,null,null,null,null,null,null,null,null,null,null,null,null,null,null,null,null,null,"BALANCE-MUNWASTER-TOTTRANS-",null,"W6210","ENERGUSE","DOMESNAV","_Z","_Z","_Z","_Z",null,"ENERGY","_Z","TJ_NCV"]
[null,"REN","MUNWASTEN","BALANCE","DOMESNAV",null,"Municipal Waste Non-renewable",null,null,null,null,null,null,null,null,null,null,null,null,null,null,null,null,null,null,null,null,null,null,null,null,null,null,null,null,null,null,null,null,null,null,null,null,null,null,null,null,null,null,null,null,null,null,null,null,null,null,null,null,null,null,null,null,null,null,null,null,null,null,null,null,null,null,null,null,null,null,null,null,null,null,null,null,null,null,null,null,null,null,null,null,null,null,null,null,null,null,null,null,null,null,null,null,null,null,null,null,null,null,null,null,null,null,null,null,null,null,null,null,null,null,"BALANCE-MUNWASTEN-TOTTRANS-",null,"W6220","ENERGUSE","DOMESNAV","_Z","_Z","_Z","_Z",null,"ENERGY","_Z","TJ_NCV"]
[null,"REN","PRIMSBIO","BALANCE","DOMESNAV",null,"Solid biofuels excluding charcoal",null,null,null,null,null,null,null,null,null,null,null,null,null,null,null,null,null,null,null,null,null,null,null,null,null,null,null,null,null,null,null,null,null,null,null,null,null,null,null,null,null,null,null,null,null,null,null,null,null,null,null,null,null,null,null,null,null,null,null,null,null,null,null,null,null,null,null,null,null,null,null,null,null,null,null,null,null,null,null,null,null,null,null,null,null,null,null,null,null,null,null,null,null,null,null,null,null,null,null,null,null,null,null,null,null,null,null,null,null,null,null,null,null,null,"BALANCE-PRIMSBIO-TOTTRANS-",null,"R510C","ENERGUSE","DOMESNAV","_Z","_Z","_Z","_Z",null,"ENERGY","_Z","TJ_NCV"]
[null,"REN","CHARCOAL","BALANCE","DOMESNAV",null,"Charcoal",null,null,null,null,null,null,null,null,null,null,null,null,null,null,null,null,null,null,null,null,null,null,null,null,null,null,null,null,null,null,null,null,null,null,null,null,null,null,null,null,null,null,null,null,null,null,null,null,null,null,null,null,null,null,null,null,null,null,null,null,null,null,null,null,null,null,null,null,null,null,null,null,null,null,null,null,null,null,null,null,null,null,null,null,null,null,null,null,null,null,null,null,null,null,null,null,null,null,null,null,null,null,null,null,null,null,null,null,null,null,null,null,null,null,"BALANCE-CHARCOAL-TOTTRANS-",null,"R5160","ENERGUSE","DOMESNAV","_Z","_Z","_Z","_Z",null,"WEIGHT","_Z","KT"]
[null,"REN","BIOGASES","BALANCE","DOMESNAV",null,"Biogases",null,null,null,null,null,null,null,null,null,null,null,null,null,null,null,null,null,null,null,null,null,null,null,null,null,null,null,null,null,null,null,null,null,null,null,null,null,null,null,null,null,null,null,null,null,null,null,null,null,null,null,null,null,null,null,null,null,null,null,null,null,null,null,null,null,null,null,null,null,null,null,null,null,null,null,null,null,null,null,null,null,null,null,null,null,null,null,null,null,null,null,null,null,null,null,null,null,null,null,null,null,null,null,null,null,null,null,null,null,null,null,null,null,null,"BALANCE-BIOGASES-TOTTRANS-",null,"R5300","ENERGUSE","DOMESNAV","_Z","_Z","_Z","_Z",null,"ENERGY","_Z","TJ_NCV"]
[null,"REN","BIOGASOL","BALANCE","DOMESNAV",null,"Biogasoline",null,null,null,null,null,null,null,null,null,null,null,null,null,null,null,null,null,null,null,null,null,null,null,null,null,null,null,null,null,null,null,null,null,null,null,null,null,null,null,null,null,null,null,null,null,null,null,null,null,null,null,null,null,null,null,null,null,null,null,null,null,null,null,null,null,null,null,null,null,null,null,null,null,null,null,null,null,null,null,null,null,null,null,null,null,null,null,null,null,null,null,null,null,null,null,null,null,null,null,null,null,null,null,null,null,null,null,null,null,null,null,null,null,null,"BALANCE-BIOGASOL-TOTTRANS-",null,"R5211","ENERGUSE","DOMESNAV","_Z","_Z","_Z","_Z",null,"WEIGHT","_Z","KT"]
[null,"REN","BIOJETKERO","BALANCE","DOMESNAV",null,"Bio jet kerosenes",null,null,null,null,null,null,null,null,null,null,null,null,null,null,null,null,null,null,null,null,null,null,null,null,null,null,null,null,null,null,null,null,null,null,null,null,null,null,null,null,null,null,null,null,null,null,null,null,null,null,null,null,null,null,null,null,null,null,null,null,null,null,null,null,null,null,null,null,null,null,null,null,null,null,null,null,null,null,null,null,null,null,null,null,null,null,null,null,null,null,null,null,null,null,null,null,null,null,null,null,null,null,null,null,null,null,null,null,null,null,null,null,null,null,"BALANCE-BIOJETKERO-TOTTRANS-",null,"R5231","ENERGUSE","DOMESNAV","_Z","_Z","_Z","_Z",null,"WEIGHT","_Z","KT"]
[null,"REN","BIODIESEL","BALANCE","DOMESNAV",null,"Biodiesels",null,null,null,null,null,null,null,null,null,null,null,null,null,null,null,null,null,null,null,null,null,null,null,null,null,null,null,null,null,null,null,null,null,null,null,null,null,null,null,null,null,null,null,null,null,null,null,null,null,null,null,null,null,null,null,null,null,null,null,null,null,null,null,null,null,null,null,null,null,null,null,null,null,null,null,null,null,null,null,null,null,null,null,null,null,null,null,null,null,null,null,null,null,null,null,null,null,null,null,null,null,null,null,null,null,null,null,null,null,null,null,null,null,null,"BALANCE-BIODIESEL-TOTTRANS-",null,"R5221","ENERGUSE","DOMESNAV","_Z","_Z","_Z","_Z",null,"WEIGHT","_Z","KT"]
[null,"REN","OBIOLIQ","BALANCE","DOMESNAV",null,"Other liquid biofuels",null,null,null,null,null,null,null,null,null,null,null,null,null,null,null,null,null,null,null,null,null,null,null,null,null,null,null,null,null,null,null,null,null,null,null,null,null,null,null,null,null,null,null,null,null,null,null,null,null,null,null,null,null,null,null,null,null,null,null,null,null,null,null,null,null,null,null,null,null,null,null,null,null,null,null,null,null,null,null,null,null,null,null,null,null,null,null,null,null,null,null,null,null,null,null,null,null,null,null,null,null,null,null,null,null,null,null,null,null,null,null,null,null,null,"BALANCE-OBIOLIQ-TOTTRANS-",null,"R5290","ENERGUSE","DOMESNAV","_Z","_Z","_Z","_Z",null,"WEIGHT","_Z","KT"]
[]
[]
[null,null,null,null,null,null,"Installed capacity for electricity generation [MW]"]
[null,"REN","HYDRO","CAPACITY","TOTCAP",null,"Hydro",null,null,null,null,null,null,null,null,null,null,null,null,null,null,null,null,null,null,null,null,null,null,null,null,null,null,null,null,null,null,null,null,null,null,null,null,null,null,null,null,null,null,null,null,null,null,null,null,null,null,null,null,null,null,null,null,null,null,null,null,null,null,null,null,null,null,null,null,null,null,null,null,null,null,null,null,null,null,null,null,null,null,null,null,null,null,null,null,null,null,null,null,null,null,null,null,null,null,null,null,null,null,null,null,null,null,null,null,null,null,null,null,null,null,"CAPACITY-HYDRO-TOTCAP-",null,"E7000","_Z","_Z","HYDRO","_Z","_Z","NETCAP",null,"POWER","_Z","MW"]
[null,"REN","HYDPURE","CAPACITY","TOTCAP",null,"   Pure hydro with no pumping"]
[null,"REN","MIXEDHYDRO","CAPACITY","TOTCAP",null,"   Mixed plants"]
[null,"REN","HYDPUMP","CAPACITY","TOTCAP",null,"   Pure pumped storage",null,null,null,null,null,null,null,null,null,null,null,null,null,null,null,null,null,null,null,null,null,null,null,null,null,null,null,null,null,null,null,null,null,null,null,null,null,null,null,null,null,null,null,null,null,null,null,null,null,null,null,null,null,null,null,null,null,null,null,null,null,null,null,null,null,null,null,null,null,null,null,null,null,null,null,null,null,null,null,null,null,null,null,null,null,null,null,null,null,null,null,null,null,null,null,null,null,null,null,null,null,null,null,null,null,null,null,null,null,null,null,null,null,null,"CAPACITY-HYDPUMP-TOTCAP-",null,"E7000","_Z","_Z","HYDPPS","_Z","_Z","NETCAP",null,"POWER","_Z","MW"]
[null,"REN","GEOTHERM","CAPACITY","TOTCAP",null,"Geothermal",null,null,null,null,null,null,null,null,null,null,null,null,null,null,null,null,null,null,null,null,null,null,null,null,null,null,null,null,null,null,null,null,null,null,null,null,null,null,null,null,null,null,null,null,null,null,null,null,null,null,null,null,null,null,null,null,null,null,null,null,null,null,null,null,null,null,null,null,null,null,null,null,null,null,null,null,null,null,null,null,null,null,null,null,null,null,null,null,null,null,null,null,null,null,null,null,null,null,null,null,null,null,null,null,null,null,null,null,null,null,null,null,null,null,"CAPACITY-GEOTHERM-TOTCAP-",null,"E7000","_Z","_Z","GEOTHERM","_Z","_Z","NETCAP",null,"POWER","_Z","MW"]
[null,"REN","SOLARPV","CAPACITY","TOTCAP",null,"Solar photovoltaic",null,null,null,null,null,null,null,null,null,null,null,null,null,null,null,null,null,null,null,null,null,null,null,null,null,null,null,null,null,null,null,null,null,null,null,null,null,null,null,null,null,null,null,null,null,null,null,null,null,null,null,null,null,null,null,null,null,null,null,null,null,null,null,null,null,null,null,null,null,null,null,null,null,null,null,null,null,null,null,null,null,null,null,null,null,null,null,null,null,null,null,null,null,null,null,null,null,null,null,null,null,null,null,null,null,null,null,null,null,null,null,null,null,null,"CAPACITY-SOLARPV-TOTCAP-",null,"E7000","_Z","_Z","SOLARPV","_Z","_Z","NETCAP",null,"POWER","_Z","MW"]
[null,"REN","SOLARTH","CAPACITY","TOTCAP",null,"Solar thermal",null,null,null,null,null,null,null,null,null,null,null,null,null,null,null,null,null,null,null,null,null,null,null,null,null,null,null,null,null,null,null,null,null,null,null,null,null,null,null,null,null,null,null,null,null,null,null,null,null,null,null,null,null,null,null,null,null,null,null,null,null,null,null,null,null,null,null,null,null,null,null,null,null,null,null,null,null,null,null,null,null,null,null,null,null,null,null,null,null,null,null,null,null,null,null,null,null,null,null,null,null,null,null,null,null,null,null,null,null,null,null,null,null,null,"CAPACITY-SOLARTH-TOTCAP-",null,"E7000","_Z","_Z","SOLARTH","_Z","_Z","NETCAP",null,"POWER","_Z","MW"]
[null,"REN","TIDE","CAPACITY","TOTCAP",null,"Tide, wave and ocean",null,null,null,null,null,null,null,null,null,null,null,null,null,null,null,null,null,null,null,null,null,null,null,null,null,null,null,null,null,null,null,null,null,null,null,null,null,null,null,null,null,null,null,null,null,null,null,null,null,null,null,null,null,null,null,null,null,null,null,null,null,null,null,null,null,null,null,null,null,null,null,null,null,null,null,null,null,null,null,null,null,null,null,null,null,null,null,null,null,null,null,null,null,null,null,null,null,null,null,null,null,null,null,null,null,null,null,null,null,null,null,null,null,null,"CAPACITY-TIDE-TOTCAP-",null,"E7000","_Z","_Z","TIDE","_Z","_Z","NETCAP",null,"POWER","_Z","MW"]
[null,"REN","WIND","CAPACITY","TOTCAP",null,"Wind",null,null,null,null,null,null,null,null,null,null,null,null,null,null,null,null,null,null,null,null,null,null,null,null,null,null,null,null,null,null,null,null,null,null,null,null,null,null,null,null,null,null,null,null,null,null,null,null,null,null,null,null,null,null,null,null,null,null,null,null,null,null,null,null,null,null,null,null,null,null,null,null,null,null,null,null,null,null,null,null,null,null,null,null,null,null,null,null,null,null,null,null,null,null,null,null,null,null,null,null,null,null,null,null,null,null,null,null,null,null,null,null,null,null,"CAPACITY-WIND-TOTCAP-",null,"E7000","_Z","_Z","WIND","_Z","_Z","NETCAP",null,"POWER","_Z","MW"]
[null,"REN","ONWIND","CAPACITY","TOTCAP",null,"   On-shore",null,null,null,null,null,null,null,null,null,null,null,null,null,null,null,null,null,null,null,null,null,null,null,null,null,null,null,null,null,null,null,null,null,null,null,null,null,null,null,null,null,null,null,null,null,null,null,null,null,null,null,null,null,null,null,null,null,null,null,null,null,null,null,null,null,null,null,null,null,null,null,null,null,null,null,null,null,null,null,null,null,null,null,null,null,null,null,null,null,null,null,null,null,null,null,null,null,null,null,null,null,null,null,null,null,null,null,null,null,null,null,null,null,null,"CAPACITY-ONWIND-TOTCAP-",null,"E7000","_Z","_Z","WINDON","_Z","_Z","NETCAP",null,"POWER","_Z","MW"]
[null,"REN","OFFWIND","CAPACITY","TOTCAP",null,"   Off-shore",null,null,null,null,null,null,null,null,null,null,null,null,null,null,null,null,null,null,null,null,null,null,null,null,null,null,null,null,null,null,null,null,null,null,null,null,null,null,null,null,null,null,null,null,null,null,null,null,null,null,null,null,null,null,null,null,null,null,null,null,null,null,null,null,null,null,null,null,null,null,null,null,null,null,null,null,null,null,null,null,null,null,null,null,null,null,null,null,null,null,null,null,null,null,null,null,null,null,null,null,null,null,null,null,null,null,null,null,null,null,null,null,null,null,"CAPACITY-OFFWIND-TOTCAP-",null,"E7000","_Z","_Z","WINDOFF","_Z","_Z","NETCAP",null,"POWER","_Z","MW"]
[null,"REN","SBIOFUELS","CAPACITY","TOTCAP",null,"Solid biofuels",null,null,null,null,null,null,null,null,null,null,null,null,null,null,null,null,null,null,null,null,null,null,null,null,null,null,null,null,null,null,null,null,null,null,null,null,null,null,null,null,null,null,null,null,null,null,null,null,null,null,null,null,null,null,null,null,null,null,null,null,null,null,null,null,null,null,null,null,null,null,null,null,null,null,null,null,null,null,null,null,null,null,null,null,null,null,null,null,null,null,null,null,null,null,null,null,null,null,null,null,null,null,null,null,null,null,null,null,null,null,null,null,null,null,"CAPACITY-SBIOFUELS-TOTCAP-",null,"E7000","_Z","_Z","COMBSOBI","_Z","_Z","NETCAP",null,"POWER","_Z","MW"]
[null,"REN","BIOGASES","CAPACITY","TOTCAP",null,"Biogases",null,null,null,null,null,null,null,null,null,null,null,null,null,null,null,null,null,null,null,null,null,null,null,null,null,null,null,null,null,null,null,null,null,null,null,null,null,null,null,null,null,null,null,null,null,null,null,null,null,null,null,null,null,null,null,null,null,null,null,null,null,null,null,null,null,null,null,null,null,null,null,null,null,null,null,null,null,null,null,null,null,null,null,null,null,null,null,null,null,null,null,null,null,null,null,null,null,null,null,null,null,null,null,null,null,null,null,null,null,null,null,null,null,null,"CAPACITY-BIOGASES-TOTCAP-",null,"E7000","_Z","_Z","COMBBIGA","_Z","_Z","NETCAP",null,"POWER","_Z","MW"]
[null,"REN","BIODIESEL","CAPACITY","TOTCAP",null,"Biodiesels",null,null,null,null,null,null,null,null,null,null,null,null,null,null,null,null,null,null,null,null,null,null,null,null,null,null,null,null,null,null,null,null,null,null,null,null,null,null,null,null,null,null,null,null,null,null,null,null,null,null,null,null,null,null,null,null,null,null,null,null,null,null,null,null,null,null,null,null,null,null,null,null,null,null,null,null,null,null,null,null,null,null,null,null,null,null,null,null,null,null,null,null,null,null,null,null,null,null,null,null,null,null,null,null,null,null,null,null,null,null,null,null,null,null,"CAPACITY-BIODIESEL-TOTCAP-",null,"E7000","_Z","_Z","COMBBIDI","_Z","_Z","NETCAP",null,"POWER","_Z","MW"]
[null,"REN","OBIOLIQ","CAPACITY","TOTCAP",null,"Other liquid biofuels",null,null,null,null,null,null,null,null,null,null,null,null,null,null,null,null,null,null,null,null,null,null,null,null,null,null,null,null,null,null,null,null,null,null,null,null,null,null,null,null,null,null,null,null,null,null,null,null,null,null,null,null,null,null,null,null,null,null,null,null,null,null,null,null,null,null,null,null,null,null,null,null,null,null,null,null,null,null,null,null,null,null,null,null,null,null,null,null,null,null,null,null,null,null,null,null,null,null,null,null,null,null,null,null,null,null,null,null,null,null,null,null,null,null,"CAPACITY-OBIOLIQ-TOTCAP-",null,"E7000","_Z","_Z","COMBBIOT","_Z","_Z","NETCAP",null,"POWER","_Z","MW"]
[]
[null,null,null,null,null,null,"Electricity generation from hydro - main activity producer plants [GWh]"]
[null,"REN","HYDRO","BALANCE","GELEPROD","MAINTOT","Hydro",null,null,null,null,null,null,null,null,null,null,null,null,null,null,null,null,null,null,null,null,null,null,null,null,null,null,null,null,null,null,null,null,null,null,null,null,null,null,null,null,null,null,null,null,null,null,null,null,null,null,null,null,null,null,null,null,null,null,null,null,null,null,null,null,null,null,null,null,null,null,null,null,null,null,null,null,null,null,null,null,null,null,null,null,null,null,null,null,null,null,null,null,null,null,null,null,null,null,null,null,null,null,null,null,null,null,null,null,null,null,null,null,null,null,"BALANCE-HYDRO-GELEPROD-MAINTOT",null,"E7000","GROSPROD","_Z","HYDRO","MAINTOT","_Z","_Z",null,"ENERGY","_Z","GWH"]
[null,"REN","HYDPURE","BALANCE","GELEPROD","MAINTOT","   Pure hydro with no pumping",null,null,null,null,null,null,null,null,null,null,null,null,null,null,null,null,null,null,null,null,null,null,null,null,null,null,null,null,null,null,null,null,null,null,null,null,null,null,null,null,null,null,null,null,null,null,null,null,null,null,null,null,null,null,null,null,null,null,null,null,null,null,null,null,null,null,null,null,null,null,null,null,null,null,null,null,null,null,null,null,null,null,null,null,null,null,null,null,null,null,null,null,null,null,null,null,null,null,null,null,null,null,null,null,null,null,null,null,null,null,null,null,null,null,"BALANCE-HYDPURE-GELEPROD-MAINTOT",null,"E7000","GROSPROD","_Z","HYDPUR","MAINTOT","_Z","_Z",null,"ENERGY","_Z","GWH"]
[null,"REN","MIXEDHYDRO","BALANCE","GELEPROD","MAINTOT","   Mixed hydro",null,null,null,null,null,null,null,null,null,null,null,null,null,null,null,null,null,null,null,null,null,null,null,null,null,null,null,null,null,null,null,null,null,null,null,null,null,null,null,null,null,null,null,null,null,null,null,null,null,null,null,null,null,null,null,null,null,null,null,null,null,null,null,null,null,null,null,null,null,null,null,null,null,null,null,null,null,null,null,null,null,null,null,null,null,null,null,null,null,null,null,null,null,null,null,null,null,null,null,null,null,null,null,null,null,null,null,null,null,null,null,null,null,null,"BALANCE-MIXEDHYDRO-GELEPROD-MAINTOT",null,"E7000","GROSPROD","_Z","HYDMIX","MAINTOT","_Z","_Z",null,"ENERGY","_Z","GWH"]
[null,"REN","HYDPUMP","BALANCE","GELEPROD","MAINTOT","   Pure pumped storage hydro",null,null,null,null,null,null,null,null,null,null,null,null,null,null,null,null,null,null,null,null,null,null,null,null,null,null,null,null,null,null,null,null,null,null,null,null,null,null,null,null,null,null,null,null,null,null,null,null,null,null,null,null,null,null,null,null,null,null,null,null,null,null,null,null,null,null,null,null,null,null,null,null,null,null,null,null,null,null,null,null,null,null,null,null,null,null,null,null,null,null,null,null,null,null,null,null,null,null,null,null,null,null,null,null,null,null,null,null,null,null,null,null,null,null,"BALANCE-HYDPUMP-GELEPROD-MAINTOT",null,"E7000","GROSPROD","_Z","HYDPPS","MAINTOT","_Z","_Z",null,"ENERGY","_Z","GWH"]
[null,null,null,null,null,null,"Electricity generation from hydro - autoproducer plants [GWh]"]
[null,"REN","HYDRO","BALANCE","GELEPROD","AUTOTOT","Hydro",null,null,null,null,null,null,null,null,null,null,null,null,null,null,null,null,null,null,null,null,null,null,null,null,null,null,null,null,null,null,null,null,null,null,null,null,null,null,null,null,null,null,null,null,null,null,null,null,null,null,null,null,null,null,null,null,null,null,null,null,null,null,null,null,null,null,null,null,null,null,null,null,null,null,null,null,null,null,null,null,null,null,null,null,null,null,null,null,null,null,null,null,null,null,null,null,null,null,null,null,null,null,null,null,null,null,null,null,null,null,null,null,null,null,"BALANCE-HYDRO-GELEPROD-AUTOTOT",null,"E7000","GROSPROD","_Z","HYDRO","AUTOTOT","_Z","_Z",null,"ENERGY","_Z","GWH"]
[null,"REN","HYDPURE","BALANCE","GELEPROD","AUTOTOT","   Pure hydro with no pumping",null,null,null,null,null,null,null,null,null,null,null,null,null,null,null,null,null,null,null,null,null,null,null,null,null,null,null,null,null,null,null,null,null,null,null,null,null,null,null,null,null,null,null,null,null,null,null,null,null,null,null,null,null,null,null,null,null,null,null,null,null,null,null,null,null,null,null,null,null,null,null,null,null,null,null,null,null,null,null,null,null,null,null,null,null,null,null,null,null,null,null,null,null,null,null,null,null,null,null,null,null,null,null,null,null,null,null,null,null,null,null,null,null,null,"BALANCE-HYDPURE-GELEPROD-AUTOTOT",null,"E7000","GROSPROD","_Z","HYDPUR","AUTOTOT","_Z","_Z",null,"ENERGY","_Z","GWH"]
[null,"REN","MIXEDHYDRO","BALANCE","GELEPROD","AUTOTOT","   Mixed hydro",null,null,null,null,null,null,null,null,null,null,null,null,null,null,null,null,null,null,null,null,null,null,null,null,null,null,null,null,null,null,null,null,null,null,null,null,null,null,null,null,null,null,null,null,null,null,null,null,null,null,null,null,null,null,null,null,null,null,null,null,null,null,null,null,null,null,null,null,null,null,null,null,null,null,null,null,null,null,null,null,null,null,null,null,null,null,null,null,null,null,null,null,null,null,null,null,null,null,null,null,null,null,null,null,null,null,null,null,null,null,null,null,null,null,"BALANCE-MIXEDHYDRO-GELEPROD-AUTOTOT",null,"E7000","GROSPROD","_Z","HYDMIX","AUTOTOT","_Z","_Z",null,"ENERGY","_Z","GWH"]
[null,"REN","HYDPUMP","BALANCE","GELEPROD","AUTOTOT","   Pure pumped storage hydro",null,null,null,null,null,null,null,null,null,null,null,null,null,null,null,null,null,null,null,null,null,null,null,null,null,null,null,null,null,null,null,null,null,null,null,null,null,null,null,null,null,null,null,null,null,null,null,null,null,null,null,null,null,null,null,null,null,null,null,null,null,null,null,null,null,null,null,null,null,null,null,null,null,null,null,null,null,null,null,null,null,null,null,null,null,null,null,null,null,null,null,null,null,null,null,null,null,null,null,null,null,null,null,null,null,null,null,null,null,null,null,null,null,null,"BALANCE-HYDPUMP-GELEPROD-AUTOTOT",null,"E7000","GROSPROD","_Z","HYDPPS","AUTOTOT","_Z","_Z",null,"ENERGY","_Z","GWH"]
[]
[null,null,null,null,null,null,"Electricity generation from wind [GWh]"]
[null,"REN","ONWIND","BALANCE","GELEPROD","AUTOTOT","On-shore wind - Autoproducers",null,null,null,null,null,null,null,null,null,null,null,null,null,null,null,null,null,null,null,null,null,null,null,null,null,null,null,null,null,null,null,null,null,null,null,null,null,null,null,null,null,null,null,null,null,null,null,null,null,null,null,null,null,null,null,null,null,null,null,null,null,null,null,null,null,null,null,null,null,null,null,null,null,null,null,null,null,null,null,null,null,null,null,null,null,null,null,null,null,null,null,null,null,null,null,null,null,null,null,null,null,null,null,null,null,null,null,null,null,null,null,null,null,null,"BALANCE-ONWIND-GELEPROD-AUTOTOT",null,"E7000","GROSPROD","_Z","WINDON","AUTOTOT","_Z","_Z",null,"ENERGY","_Z","GWH"]
[null,"REN","ONWIND","BALANCE","GELEPROD","MAINTOT","On-shore wind - Main Activity Producers",null,null,null,null,null,null,null,null,null,null,null,null,null,null,null,null,null,null,null,null,null,null,null,null,null,null,null,null,null,null,null,null,null,null,null,null,null,null,null,null,null,null,null,null,null,null,null,null,null,null,null,null,null,null,null,null,null,null,null,null,null,null,null,null,null,null,null,null,null,null,null,null,null,null,null,null,null,null,null,null,null,null,null,null,null,null,null,null,null,null,null,null,null,null,null,null,null,null,null,null,null,null,null,null,null,null,null,null,null,null,null,null,null,null,"BALANCE-ONWIND-GELEPROD-MAINTOT",null,"E7000","GROSPROD","_Z","WINDON","MAINTOT","_Z","_Z",null,"ENERGY","_Z","GWH"]
[null,"REN","OFFWIND","BALANCE","GELEPROD","AUTOTOT","Off-shore wind - Autoproducers",null,null,null,null,null,null,null,null,null,null,null,null,null,null,null,null,null,null,null,null,null,null,null,null,null,null,null,null,null,null,null,null,null,null,null,null,null,null,null,null,null,null,null,null,null,null,null,null,null,null,null,null,null,null,null,null,null,null,null,null,null,null,null,null,null,null,null,null,null,null,null,null,null,null,null,null,null,null,null,null,null,null,null,null,null,null,null,null,null,null,null,null,null,null,null,null,null,null,null,null,null,null,null,null,null,null,null,null,null,null,null,null,null,null,"BALANCE-OFFWIND-GELEPROD-AUTOTOT",null,"E7000","GROSPROD","_Z","WINDOFF","AUTOTOT","_Z","_Z",null,"ENERGY","_Z","GWH"]
[null,"REN","OFFWIND","BALANCE","GELEPROD","MAINTOT","Off-shore wind  - Main Activity Producers",null,null,null,null,null,null,null,null,null,null,null,null,null,null,null,null,null,null,null,null,null,null,null,null,null,null,null,null,null,null,null,null,null,null,null,null,null,null,null,null,null,null,null,null,null,null,null,null,null,null,null,null,null,null,null,null,null,null,null,null,null,null,null,null,null,null,null,null,null,null,null,null,null,null,null,null,null,null,null,null,null,null,null,null,null,null,null,null,null,null,null,null,null,null,null,null,null,null,null,null,null,null,null,null,null,null,null,null,null,null,null,null,null,null,"BALANCE-OFFWIND-GELEPROD-MAINTOT",null,"E7000","GROSPROD","_Z","WINDOFF","MAINTOT","_Z","_Z",null,"ENERGY","_Z","GWH"]
[]
[null,null,null,null,null,null,"Electricity generation from bioliquids [GWh]"]
[null,"REN","BIODIESEL","BALANCE","GELEPROD","AUTOTOT","Biodiesels - Autoproducers",null,null,null,null,null,null,null,null,null,null,null,null,null,null,null,null,null,null,null,null,null,null,null,null,null,null,null,null,null,null,null,null,null,null,null,null,null,null,null,null,null,null,null,null,null,null,null,null,null,null,null,null,null,null,null,null,null,null,null,null,null,null,null,null,null,null,null,null,null,null,null,null,null,null,null,null,null,null,null,null,null,null,null,null,null,null,null,null,null,null,null,null,null,null,null,null,null,null,null,null,null,null,null,null,null,null,null,null,null,null,null,null,null,null,"BALANCE-BIODIESEL-GELEPROD-AUTOTOT",null,"E7000","GROSPROD","_Z","COMBBIDI","AUTOTOT","_Z","_Z",null,"ENERGY","_Z","GWH"]
[null,"REN","BIODIESEL","BALANCE","GELEPROD","MAINTOT","Biodiesels - Main Activity Producers",null,null,null,null,null,null,null,null,null,null,null,null,null,null,null,null,null,null,null,null,null,null,null,null,null,null,null,null,null,null,null,null,null,null,null,null,null,null,null,null,null,null,null,null,null,null,null,null,null,null,null,null,null,null,null,null,null,null,null,null,null,null,null,null,null,null,null,null,null,null,null,null,null,null,null,null,null,null,null,null,null,null,null,null,null,null,null,null,null,null,null,null,null,null,null,null,null,null,null,null,null,null,null,null,null,null,null,null,null,null,null,null,null,null,"BALANCE-BIODIESEL-GELEPROD-MAINTOT",null,"E7000","GROSPROD","_Z","COMBBIDI","MAINTOT","_Z","_Z",null,"ENERGY","_Z","GWH"]
[null,"REN","OBIOLIQ","BALANCE","GELEPROD","AUTOTOT","Other liquid biofuels - Autoproducers",null,null,null,null,null,null,null,null,null,null,null,null,null,null,null,null,null,null,null,null,null,null,null,null,null,null,null,null,null,null,null,null,null,null,null,null,null,null,null,null,null,null,null,null,null,null,null,null,null,null,null,null,null,null,null,null,null,null,null,null,null,null,null,null,null,null,null,null,null,null,null,null,null,null,null,null,null,null,null,null,null,null,null,null,null,null,null,null,null,null,null,null,null,null,null,null,null,null,null,null,null,null,null,null,null,null,null,null,null,null,null,null,null,null,"BALANCE-OBIOLIQ-GELEPROD-AUTOTOT",null,"E7000","GROSPROD","_Z","COMBBIOT","AUTOTOT","_Z","_Z",null,"ENERGY","_Z","GWH"]
[null,"REN","OBIOLIQ","BALANCE","GELEPROD","MAINTOT","Other liquid biofuels  - Main Activity Producers",null,null,null,null,null,null,null,null,null,null,null,null,null,null,null,null,null,null,null,null,null,null,null,null,null,null,null,null,null,null,null,null,null,null,null,null,null,null,null,null,null,null,null,null,null,null,null,null,null,null,null,null,null,null,null,null,null,null,null,null,null,null,null,null,null,null,null,null,null,null,null,null,null,null,null,null,null,null,null,null,null,null,null,null,null,null,null,null,null,null,null,null,null,null,null,null,null,null,null,null,null,null,null,null,null,null,null,null,null,null,null,null,null,null,"BALANCE-OBIOLIQ-GELEPROD-MAINTOT",null,"E7000","GROSPROD","_Z","COMBBIOT","MAINTOT","_Z","_Z",null,"ENERGY","_Z","GWH"]
[]
[null,null,null,null,null,null,"Electricity generation from renewables other than hydro, wind and bioliquids"]
[null,null,null,null,null,null,"Autoproducers [GWh]"]
[null,"REN","GEOTHERM","BALANCE","GELEPROD","AUTOTOT","Geothermal",null,null,null,null,null,null,null,null,null,null,null,null,null,null,null,null,null,null,null,null,null,null,null,null,null,null,null,null,null,null,null,null,null,null,null,null,null,null,null,null,null,null,null,null,null,null,null,null,null,null,null,null,null,null,null,null,null,null,null,null,null,null,null,null,null,null,null,null,null,null,null,null,null,null,null,null,null,null,null,null,null,null,null,null,null,null,null,null,null,null,null,null,null,null,null,null,null,null,null,null,null,null,null,null,null,null,null,null,null,null,null,null,null,null,"BALANCE-GEOTHERM-GELEPROD-AUTOTOT",null,"E7000","GROSPROD","_Z","GEOTHERM","AUTOTOT","_Z","_Z",null,"ENERGY","_Z","GWH"]
[null,"REN","SOLARPV","BALANCE","GELEPROD","AUTOTOT","Solar photovoltaic",null,null,null,null,null,null,null,null,null,null,null,null,null,null,null,null,null,null,null,null,null,null,null,null,null,null,null,null,null,null,null,null,null,null,null,null,null,null,null,null,null,null,null,null,null,null,null,null,null,null,null,null,null,null,null,null,null,null,null,null,null,null,null,null,null,null,null,null,null,null,null,null,null,null,null,null,null,null,null,null,null,null,null,null,null,null,null,null,null,null,null,null,null,null,null,null,null,null,null,null,null,null,null,null,null,null,null,null,null,null,null,null,null,null,"BALANCE-SOLARPV-GELEPROD-AUTOTOT",null,"E7000","GROSPROD","_Z","SOLARPV","AUTOTOT","_Z","_Z",null,"ENERGY","_Z","GWH"]
[null,"REN","SOLARTH","BALANCE","GELEPROD","AUTOTOT","Solar thermal",null,null,null,null,null,null,null,null,null,null,null,null,null,null,null,null,null,null,null,null,null,null,null,null,null,null,null,null,null,null,null,null,null,null,null,null,null,null,null,null,null,null,null,null,null,null,null,null,null,null,null,null,null,null,null,null,null,null,null,null,null,null,null,null,null,null,null,null,null,null,null,null,null,null,null,null,null,null,null,null,null,null,null,null,null,null,null,null,null,null,null,null,null,null,null,null,null,null,null,null,null,null,null,null,null,null,null,null,null,null,null,null,null,null,"BALANCE-SOLARTH-GELEPROD-AUTOTOT",null,"E7000","GROSPROD","_Z","SOLARTH","AUTOTOT","_Z","_Z",null,"ENERGY","_Z","GWH"]
[null,"REN","TIDE","BALANCE","GELEPROD","AUTOTOT","Tide, wave and ocean",null,null,null,null,null,null,null,null,null,null,null,null,null,null,null,null,null,null,null,null,null,null,null,null,null,null,null,null,null,null,null,null,null,null,null,null,null,null,null,null,null,null,null,null,null,null,null,null,null,null,null,null,null,null,null,null,null,null,null,null,null,null,null,null,null,null,null,null,null,null,null,null,null,null,null,null,null,null,null,null,null,null,null,null,null,null,null,null,null,null,null,null,null,null,null,null,null,null,null,null,null,null,null,null,null,null,null,null,null,null,null,null,null,null,"BALANCE-TIDE-GELEPROD-AUTOTOT",null,"E7000","GROSPROD","_Z","TIDE","AUTOTOT","_Z","_Z",null,"ENERGY","_Z","GWH"]
[null,"REN","MUNWASTER","BALANCE","GELEPROD","AUTOTOT","Municipal waste (renewable)",null,null,null,null,null,null,null,null,null,null,null,null,null,null,null,null,null,null,null,null,null,null,null,null,null,null,null,null,null,null,null,null,null,null,null,null,null,null,null,null,null,null,null,null,null,null,null,null,null,null,null,null,null,null,null,null,null,null,null,null,null,null,null,null,null,null,null,null,null,null,null,null,null,null,null,null,null,null,null,null,null,null,null,null,null,null,null,null,null,null,null,null,null,null,null,null,null,null,null,null,null,null,null,null,null,null,null,null,null,null,null,null,null,null,"BALANCE-MUNWASTER-GELEPROD-AUTOTOT",null,"E7000","GROSPROD","_Z","COMBMURW","AUTOTOT","_Z","_Z",null,"ENERGY","_Z","GWH"]
[null,"REN","SBIOFUELS","BALANCE","GELEPROD","AUTOTOT","Solid biofuels",null,null,null,null,null,null,null,null,null,null,null,null,null,null,null,null,null,null,null,null,null,null,null,null,null,null,null,null,null,null,null,null,null,null,null,null,null,null,null,null,null,null,null,null,null,null,null,null,null,null,null,null,null,null,null,null,null,null,null,null,null,null,null,null,null,null,null,null,null,null,null,null,null,null,null,null,null,null,null,null,null,null,null,null,null,null,null,null,null,null,null,null,null,null,null,null,null,null,null,null,null,null,null,null,null,null,null,null,null,null,null,null,null,null,"BALANCE-SBIOFUELS-GELEPROD-AUTOTOT",null,"E7000","GROSPROD","_Z","COMBSOBI","AUTOTOT","_Z","_Z",null,"ENERGY","_Z","GWH"]
[null,"REN","BIOGASES","BALANCE","GELEPROD","AUTOTOT","Biogases",null,null,null,null,null,null,null,null,null,null,null,null,null,null,null,null,null,null,null,null,null,null,null,null,null,null,null,null,null,null,null,null,null,null,null,null,null,null,null,null,null,null,null,null,null,null,null,null,null,null,null,null,null,null,null,null,null,null,null,null,null,null,null,null,null,null,null,null,null,null,null,null,null,null,null,null,null,null,null,null,null,null,null,null,null,null,null,null,null,null,null,null,null,null,null,null,null,null,null,null,null,null,null,null,null,null,null,null,null,null,null,null,null,null,"BALANCE-BIOGASES-GELEPROD-AUTOTOT",null,"E7000","GROSPROD","_Z","COMBBIGA","AUTOTOT","_Z","_Z",null,"ENERGY","_Z","GWH"]
[null,null,null,null,null,null,"Main Activity Producres [GWh]"]
[null,"REN","GEOTHERM","BALANCE","GELEPROD","MAINTOT","Geothermal",null,null,null,null,null,null,null,null,null,null,null,null,null,null,null,null,null,null,null,null,null,null,null,null,null,null,null,null,null,null,null,null,null,null,null,null,null,null,null,null,null,null,null,null,null,null,null,null,null,null,null,null,null,null,null,null,null,null,null,null,null,null,null,null,null,null,null,null,null,null,null,null,null,null,null,null,null,null,null,null,null,null,null,null,null,null,null,null,null,null,null,null,null,null,null,null,null,null,null,null,null,null,null,null,null,null,null,null,null,null,null,null,null,null,"BALANCE-GEOTHERM-GELEPROD-MAINTOT",null,"E7000","GROSPROD","_Z","GEOTHERM","MAINTOT","_Z","_Z",null,"ENERGY","_Z","GWH"]
[null,"REN","SOLARPV","BALANCE","GELEPROD","MAINTOT","Solar photovoltaic",null,null,null,null,null,null,null,null,null,null,null,null,null,null,null,null,null,null,null,null,null,null,null,null,null,null,null,null,null,null,null,null,null,null,null,null,null,null,null,null,null,null,null,null,null,null,null,null,null,null,null,null,null,null,null,null,null,null,null,null,null,null,null,null,null,null,null,null,null,null,null,null,null,null,null,null,null,null,null,null,null,null,null,null,null,null,null,null,null,null,null,null,null,null,null,null,null,null,null,null,null,null,null,null,null,null,null,null,null,null,null,null,null,null,"BALANCE-SOLARPV-GELEPROD-MAINTOT",null,"E7000","GROSPROD","_Z","SOLARPV","MAINTOT","_Z","_Z",null,"ENERGY","_Z","GWH"]
[null,"REN","SOLARTH","BALANCE","GELEPROD","MAINTOT","Solar thermal",null,null,null,null,null,null,null,null,null,null,null,null,null,null,null,null,null,null,null,null,null,null,null,null,null,null,null,null,null,null,null,null,null,null,null,null,null,null,null,null,null,null,null,null,null,null,null,null,null,null,null,null,null,null,null,null,null,null,null,null,null,null,null,null,null,null,null,null,null,null,null,null,null,null,null,null,null,null,null,null,null,null,null,null,null,null,null,null,null,null,null,null,null,null,null,null,null,null,null,null,null,null,null,null,null,null,null,null,null,null,null,null,null,null,"BALANCE-SOLARTH-GELEPROD-MAINTOT",null,"E7000","GROSPROD","_Z","SOLARTH","MAINTOT","_Z","_Z",null,"ENERGY","_Z","GWH"]
[null,"REN","TIDE","BALANCE","GELEPROD","MAINTOT","Tide, wave and ocean",null,null,null,null,null,null,null,null,null,null,null,null,null,null,null,null,null,null,null,null,null,null,null,null,null,null,null,null,null,null,null,null,null,null,null,null,null,null,null,null,null,null,null,null,null,null,null,null,null,null,null,null,null,null,null,null,null,null,null,null,null,null,null,null,null,null,null,null,null,null,null,null,null,null,null,null,null,null,null,null,null,null,null,null,null,null,null,null,null,null,null,null,null,null,null,null,null,null,null,null,null,null,null,null,null,null,null,null,null,null,null,null,null,null,"BALANCE-TIDE-GELEPROD-MAINTOT",null,"E7000","GROSPROD","_Z","TIDE","MAINTOT","_Z","_Z",null,"ENERGY","_Z","GWH"]
[null,"REN","MUNWASTER","BALANCE","GELEPROD","MAINTOT","Municipal waste (renewable)",null,null,null,null,null,null,null,null,null,null,null,null,null,null,null,null,null,null,null,null,null,null,null,null,null,null,null,null,null,null,null,null,null,null,null,null,null,null,null,null,null,null,null,null,null,null,null,null,null,null,null,null,null,null,null,null,null,null,null,null,null,null,null,null,null,null,null,null,null,null,null,null,null,null,null,null,null,null,null,null,null,null,null,null,null,null,null,null,null,null,null,null,null,null,null,null,null,null,null,null,null,null,null,null,null,null,null,null,null,null,null,null,null,null,"BALANCE-MUNWASTER-GELEPROD-MAINTOT",null,"E7000","GROSPROD","_Z","COMBMURW","MAINTOT","_Z","_Z",null,"ENERGY","_Z","GWH"]
[null,"REN","SBIOFUELS","BALANCE","GELEPROD","MAINTOT","Solid biofuels",null,null,null,null,null,null,null,null,null,null,null,null,null,null,null,null,null,null,null,null,null,null,null,null,null,null,null,null,null,null,null,null,null,null,null,null,null,null,null,null,null,null,null,null,null,null,null,null,null,null,null,null,null,null,null,null,null,null,null,null,null,null,null,null,null,null,null,null,null,null,null,null,null,null,null,null,null,null,null,null,null,null,null,null,null,null,null,null,null,null,null,null,null,null,null,null,null,null,null,null,null,null,null,null,null,null,null,null,null,null,null,null,null,null,"BALANCE-SBIOFUELS-GELEPROD-MAINTOT",null,"E7000","GROSPROD","_Z","COMBSOBI","MAINTOT","_Z","_Z",null,"ENERGY","_Z","GWH"]
[null,"REN","BIOGASES","BALANCE","GELEPROD","MAINTOT","Biogases",null,null,null,null,null,null,null,null,null,null,null,null,null,null,null,null,null,null,null,null,null,null,null,null,null,null,null,null,null,null,null,null,null,null,null,null,null,null,null,null,null,null,null,null,null,null,null,null,null,null,null,null,null,null,null,null,null,null,null,null,null,null,null,null,null,null,null,null,null,null,null,null,null,null,null,null,null,null,null,null,null,null,null,null,null,null,null,null,null,null,null,null,null,null,null,null,null,null,null,null,null,null,null,null,null,null,null,null,null,null,null,null,null,null,"BALANCE-BIOGASES-GELEPROD-MAINTOT",null,"E7000","GROSPROD","_Z","COMBBIGA","MAINTOT","_Z","_Z",null,"ENERGY","_Z","GWH"]
[]
[null,null,null,null,null,null,"Electricity generation from CHP plants [GWh]"]
[null,null,null,null,null,null,"Autoproducer CHP plants"]
[null,"REN","GEOTHERM","BALANCE","GELEPROD","AUTOCHP","Geothermal",null,null,null,null,null,null,null,null,null,null,null,null,null,null,null,null,null,null,null,null,null,null,null,null,null,null,null,null,null,null,null,null,null,null,null,null,null,null,null,null,null,null,null,null,null,null,null,null,null,null,null,null,null,null,null,null,null,null,null,null,null,null,null,null,null,null,null,null,null,null,null,null,null,null,null,null,null,null,null,null,null,null,null,null,null,null,null,null,null,null,null,null,null,null,null,null,null,null,null,null,null,null,null,null,null,null,null,null,null,null,null,null,null,null,"BALANCE-GEOTHERM-GELEPROD-AUTOCHP",null,"E7000","GROSPROD","_Z","GEOTHERM","AUTOCHP","_Z","_Z",null,"ENERGY","_Z","GWH"]
[null,"REN","SOLARTH","BALANCE","GELEPROD","AUTOCHP","Solar thermal",null,null,null,null,null,null,null,null,null,null,null,null,null,null,null,null,null,null,null,null,null,null,null,null,null,null,null,null,null,null,null,null,null,null,null,null,null,null,null,null,null,null,null,null,null,null,null,null,null,null,null,null,null,null,null,null,null,null,null,null,null,null,null,null,null,null,null,null,null,null,null,null,null,null,null,null,null,null,null,null,null,null,null,null,null,null,null,null,null,null,null,null,null,null,null,null,null,null,null,null,null,null,null,null,null,null,null,null,null,null,null,null,null,null,"BALANCE-SOLARTH-GELEPROD-AUTOCHP",null,"E7000","GROSPROD","_Z","SOLARTH","AUTOCHP","_Z","_Z",null,"ENERGY","_Z","GWH"]
[null,"REN","MUNWASTER","BALANCE","GELEPROD","AUTOCHP","Municipal waste (renew)",null,null,null,null,null,null,null,null,null,null,null,null,null,null,null,null,null,null,null,null,null,null,null,null,null,null,null,null,null,null,null,null,null,null,null,null,null,null,null,null,null,null,null,null,null,null,null,null,null,null,null,null,null,null,null,null,null,null,null,null,null,null,null,null,null,null,null,null,null,null,null,null,null,null,null,null,null,null,null,null,null,null,null,null,null,null,null,null,null,null,null,null,null,null,null,null,null,null,null,null,null,null,null,null,null,null,null,null,null,null,null,null,null,null,"BALANCE-MUNWASTER-GELEPROD-AUTOCHP",null,"E7000","GROSPROD","_Z","COMBMURW","AUTOCHP","_Z","_Z",null,"ENERGY","_Z","GWH"]
[null,"REN","SBIOFUELS","BALANCE","GELEPROD","AUTOCHP","Solid biofuels",null,null,null,null,null,null,null,null,null,null,null,null,null,null,null,null,null,null,null,null,null,null,null,null,null,null,null,null,null,null,null,null,null,null,null,null,null,null,null,null,null,null,null,null,null,null,null,null,null,null,null,null,null,null,null,null,null,null,null,null,null,null,null,null,null,null,null,null,null,null,null,null,null,null,null,null,null,null,null,null,null,null,null,null,null,null,null,null,null,null,null,null,null,null,null,null,null,null,null,null,null,null,null,null,null,null,null,null,null,null,null,null,null,null,"BALANCE-SBIOFUELS-GELEPROD-AUTOCHP",null,"E7000","GROSPROD","_Z","COMBSOBI","AUTOCHP","_Z","_Z",null,"ENERGY","_Z","GWH"]
[null,"REN","BIOGASES","BALANCE","GELEPROD","AUTOCHP","Biogases",null,null,null,null,null,null,null,null,null,null,null,null,null,null,null,null,null,null,null,null,null,null,null,null,null,null,null,null,null,null,null,null,null,null,null,null,null,null,null,null,null,null,null,null,null,null,null,null,null,null,null,null,null,null,null,null,null,null,null,null,null,null,null,null,null,null,null,null,null,null,null,null,null,null,null,null,null,null,null,null,null,null,null,null,null,null,null,null,null,null,null,null,null,null,null,null,null,null,null,null,null,null,null,null,null,null,null,null,null,null,null,null,null,null,"BALANCE-BIOGASES-GELEPROD-AUTOCHP",null,"E7000","GROSPROD","_Z","COMBBIGA","AUTOCHP","_Z","_Z",null,"ENERGY","_Z","GWH"]
[null,"REN","BIODIESEL","BALANCE","GELEPROD","AUTOCHP","Biodiesels",null,null,null,null,null,null,null,null,null,null,null,null,null,null,null,null,null,null,null,null,null,null,null,null,null,null,null,null,null,null,null,null,null,null,null,null,null,null,null,null,null,null,null,null,null,null,null,null,null,null,null,null,null,null,null,null,null,null,null,null,null,null,null,null,null,null,null,null,null,null,null,null,null,null,null,null,null,null,null,null,null,null,null,null,null,null,null,null,null,null,null,null,null,null,null,null,null,null,null,null,null,null,null,null,null,null,null,null,null,null,null,null,null,null,"BALANCE-BIODIESEL-GELEPROD-AUTOCHP",null,"E7000","GROSPROD","_Z","COMBBIDI","AUTOCHP","_Z","_Z",null,"ENERGY","_Z","GWH"]
[null,"REN","OBIOLIQ","BALANCE","GELEPROD","AUTOCHP","Other liquid biofuels",null,null,null,null,null,null,null,null,null,null,null,null,null,null,null,null,null,null,null,null,null,null,null,null,null,null,null,null,null,null,null,null,null,null,null,null,null,null,null,null,null,null,null,null,null,null,null,null,null,null,null,null,null,null,null,null,null,null,null,null,null,null,null,null,null,null,null,null,null,null,null,null,null,null,null,null,null,null,null,null,null,null,null,null,null,null,null,null,null,null,null,null,null,null,null,null,null,null,null,null,null,null,null,null,null,null,null,null,null,null,null,null,null,null,"BALANCE-OBIOLIQ-GELEPROD-AUTOCHP",null,"E7000","GROSPROD","_Z","COMBBIOT","AUTOCHP","_Z","_Z",null,"ENERGY","_Z","GWH"]
[null,null,null,null,null,null,"Main activity producer CHP plants"]
[null,"REN","GEOTHERM","BALANCE","GELEPROD","MAINCHP","Geothermal",null,null,null,null,null,null,null,null,null,null,null,null,null,null,null,null,null,null,null,null,null,null,null,null,null,null,null,null,null,null,null,null,null,null,null,null,null,null,null,null,null,null,null,null,null,null,null,null,null,null,null,null,null,null,null,null,null,null,null,null,null,null,null,null,null,null,null,null,null,null,null,null,null,null,null,null,null,null,null,null,null,null,null,null,null,null,null,null,null,null,null,null,null,null,null,null,null,null,null,null,null,null,null,null,null,null,null,null,null,null,null,null,null,null,"BALANCE-GEOTHERM-GELEPROD-MAINCHP",null,"E7000","GROSPROD","_Z","GEOTHERM","MAINCHP","_Z","_Z",null,"ENERGY","_Z","GWH"]
[null,"REN","SOLARTH","BALANCE","GELEPROD","MAINCHP","Solar thermal",null,null,null,null,null,null,null,null,null,null,null,null,null,null,null,null,null,null,null,null,null,null,null,null,null,null,null,null,null,null,null,null,null,null,null,null,null,null,null,null,null,null,null,null,null,null,null,null,null,null,null,null,null,null,null,null,null,null,null,null,null,null,null,null,null,null,null,null,null,null,null,null,null,null,null,null,null,null,null,null,null,null,null,null,null,null,null,null,null,null,null,null,null,null,null,null,null,null,null,null,null,null,null,null,null,null,null,null,null,null,null,null,null,null,"BALANCE-SOLARTH-GELEPROD-MAINCHP",null,"E7000","GROSPROD","_Z","SOLARTH","MAINCHP","_Z","_Z",null,"ENERGY","_Z","GWH"]
[null,"REN","MUNWASTER","BALANCE","GELEPROD","MAINCHP","Municipal waste (renew)",null,null,null,null,null,null,null,null,null,null,null,null,null,null,null,null,null,null,null,null,null,null,null,null,null,null,null,null,null,null,null,null,null,null,null,null,null,null,null,null,null,null,null,null,null,null,null,null,null,null,null,null,null,null,null,null,null,null,null,null,null,null,null,null,null,null,null,null,null,null,null,null,null,null,null,null,null,null,null,null,null,null,null,null,null,null,null,null,null,null,null,null,null,null,null,null,null,null,null,null,null,null,null,null,null,null,null,null,null,null,null,null,null,null,"BALANCE-MUNWASTER-GELEPROD-MAINCHP",null,"E7000","GROSPROD","_Z","COMBMURW","MAINCHP","_Z","_Z",null,"ENERGY","_Z","GWH"]
[null,"REN","SBIOFUELS","BALANCE","GELEPROD","MAINCHP","Solid biofuels",null,null,null,null,null,null,null,null,null,null,null,null,null,null,null,null,null,null,null,null,null,null,null,null,null,null,null,null,null,null,null,null,null,null,null,null,null,null,null,null,null,null,null,null,null,null,null,null,null,null,null,null,null,null,null,null,null,null,null,null,null,null,null,null,null,null,null,null,null,null,null,null,null,null,null,null,null,null,null,null,null,null,null,null,null,null,null,null,null,null,null,null,null,null,null,null,null,null,null,null,null,null,null,null,null,null,null,null,null,null,null,null,null,null,"BALANCE-SBIOFUELS-GELEPROD-MAINCHP",null,"E7000","GROSPROD","_Z","COMBSOBI","MAINCHP","_Z","_Z",null,"ENERGY","_Z","GWH"]
[null,"REN","BIOGASES","BALANCE","GELEPROD","MAINCHP","Biogases",null,null,null,null,null,null,null,null,null,null,null,null,null,null,null,null,null,null,null,null,null,null,null,null,null,null,null,null,null,null,null,null,null,null,null,null,null,null,null,null,null,null,null,null,null,null,null,null,null,null,null,null,null,null,null,null,null,null,null,null,null,null,null,null,null,null,null,null,null,null,null,null,null,null,null,null,null,null,null,null,null,null,null,null,null,null,null,null,null,null,null,null,null,null,null,null,null,null,null,null,null,null,null,null,null,null,null,null,null,null,null,null,null,null,"BALANCE-BIOGASES-GELEPROD-MAINCHP",null,"E7000","GROSPROD","_Z","COMBBIGA","MAINCHP","_Z","_Z",null,"ENERGY","_Z","GWH"]
[null,"REN","BIODIESEL","BALANCE","GELEPROD","MAINCHP","Biodiesels",null,null,null,null,null,null,null,null,null,null,null,null,null,null,null,null,null,null,null,null,null,null,null,null,null,null,null,null,null,null,null,null,null,null,null,null,null,null,null,null,null,null,null,null,null,null,null,null,null,null,null,null,null,null,null,null,null,null,null,null,null,null,null,null,null,null,null,null,null,null,null,null,null,null,null,null,null,null,null,null,null,null,null,null,null,null,null,null,null,null,null,null,null,null,null,null,null,null,null,null,null,null,null,null,null,null,null,null,null,null,null,null,null,null,"BALANCE-BIODIESEL-GELEPROD-MAINCHP",null,"E7000","GROSPROD","_Z","COMBBIDI","MAINCHP","_Z","_Z",null,"ENERGY","_Z","GWH"]
[null,"REN","OBIOLIQ","BALANCE","GELEPROD","MAINCHP","Other liquid biofuels",null,null,null,null,null,null,null,null,null,null,null,null,null,null,null,null,null,null,null,null,null,null,null,null,null,null,null,null,null,null,null,null,null,null,null,null,null,null,null,null,null,null,null,null,null,null,null,null,null,null,null,null,null,null,null,null,null,null,null,null,null,null,null,null,null,null,null,null,null,null,null,null,null,null,null,null,null,null,null,null,null,null,null,null,null,null,null,null,null,null,null,null,null,null,null,null,null,null,null,null,null,null,null,null,null,null,null,null,null,null,null,null,null,null,"BALANCE-OBIOLIQ-GELEPROD-MAINCHP",null,"E7000","GROSPROD","_Z","COMBBIOT","MAINCHP","_Z","_Z",null,"ENERGY","_Z","GWH"]
[]
[null,null,null,null,null,null,"Gross Heat Production"]
[null,null,null,null,null,null,"Total Autoproducer Plants [TJ]"]
[null,"REN","GEOTHERM","BALANCE","GHEATPRO","AUTOTOT","Geothermal energy",null,null,null,null,null,null,null,null,null,null,null,null,null,null,null,null,null,null,null,null,null,null,null,null,null,null,null,null,null,null,null,null,null,null,null,null,null,null,null,null,null,null,null,null,null,null,null,null,null,null,null,null,null,null,null,null,null,null,null,null,null,null,null,null,null,null,null,null,null,null,null,null,null,null,null,null,null,null,null,null,null,null,null,null,null,null,null,null,null,null,null,null,null,null,null,null,null,null,null,null,null,null,null,null,null,null,null,null,null,null,null,null,null,null,"BALANCE-GEOTHERM-GHEATPRO-AUTOTOT",null,"H8000","GROSPROD","_Z","GEOTHERM","AUTOTOT","_Z","_Z",null,"ENERGY","_Z","TJ"]
[null,"REN","SOLARTH","BALANCE","GHEATPRO","AUTOTOT","Solar thermal",null,null,null,null,null,null,null,null,null,null,null,null,null,null,null,null,null,null,null,null,null,null,null,null,null,null,null,null,null,null,null,null,null,null,null,null,null,null,null,null,null,null,null,null,null,null,null,null,null,null,null,null,null,null,null,null,null,null,null,null,null,null,null,null,null,null,null,null,null,null,null,null,null,null,null,null,null,null,null,null,null,null,null,null,null,null,null,null,null,null,null,null,null,null,null,null,null,null,null,null,null,null,null,null,null,null,null,null,null,null,null,null,null,null,"BALANCE-SOLARTH-GHEATPRO-AUTOTOT",null,"H8000","GROSPROD","_Z","SOLARTH","AUTOTOT","_Z","_Z",null,"ENERGY","_Z","TJ"]
[null,"REN","MUNWASTER","BALANCE","GHEATPRO","AUTOTOT","Municipal Waste - Renewable",null,null,null,null,null,null,null,null,null,null,null,null,null,null,null,null,null,null,null,null,null,null,null,null,null,null,null,null,null,null,null,null,null,null,null,null,null,null,null,null,null,null,null,null,null,null,null,null,null,null,null,null,null,null,null,null,null,null,null,null,null,null,null,null,null,null,null,null,null,null,null,null,null,null,null,null,null,null,null,null,null,null,null,null,null,null,null,null,null,null,null,null,null,null,null,null,null,null,null,null,null,null,null,null,null,null,null,null,null,null,null,null,null,null,"BALANCE-MUNWASTER-GHEATPRO-AUTOTOT",null,"H8000","GROSPROD","_Z","COMBMURW","AUTOTOT","_Z","_Z",null,"ENERGY","_Z","TJ"]
[null,"REN","SBIOFUELS","BALANCE","GHEATPRO","AUTOTOT","Solid biofuels",null,null,null,null,null,null,null,null,null,null,null,null,null,null,null,null,null,null,null,null,null,null,null,null,null,null,null,null,null,null,null,null,null,null,null,null,null,null,null,null,null,null,null,null,null,null,null,null,null,null,null,null,null,null,null,null,null,null,null,null,null,null,null,null,null,null,null,null,null,null,null,null,null,null,null,null,null,null,null,null,null,null,null,null,null,null,null,null,null,null,null,null,null,null,null,null,null,null,null,null,null,null,null,null,null,null,null,null,null,null,null,null,null,null,"BALANCE-SBIOFUELS-GHEATPRO-AUTOTOT",null,"H8000","GROSPROD","_Z","COMBSOBI","AUTOTOT","_Z","_Z",null,"ENERGY","_Z","TJ"]
[null,"REN","BIOGASES","BALANCE","GHEATPRO","AUTOTOT","Biogases",null,null,null,null,null,null,null,null,null,null,null,null,null,null,null,null,null,null,null,null,null,null,null,null,null,null,null,null,null,null,null,null,null,null,null,null,null,null,null,null,null,null,null,null,null,null,null,null,null,null,null,null,null,null,null,null,null,null,null,null,null,null,null,null,null,null,null,null,null,null,null,null,null,null,null,null,null,null,null,null,null,null,null,null,null,null,null,null,null,null,null,null,null,null,null,null,null,null,null,null,null,null,null,null,null,null,null,null,null,null,null,null,null,null,"BALANCE-BIOGASES-GHEATPRO-AUTOTOT",null,"H8000","GROSPROD","_Z","COMBBIGA","AUTOTOT","_Z","_Z",null,"ENERGY","_Z","TJ"]
[null,"REN","BIODIESEL","BALANCE","GHEATPRO","AUTOTOT","Biodiesels",null,null,null,null,null,null,null,null,null,null,null,null,null,null,null,null,null,null,null,null,null,null,null,null,null,null,null,null,null,null,null,null,null,null,null,null,null,null,null,null,null,null,null,null,null,null,null,null,null,null,null,null,null,null,null,null,null,null,null,null,null,null,null,null,null,null,null,null,null,null,null,null,null,null,null,null,null,null,null,null,null,null,null,null,null,null,null,null,null,null,null,null,null,null,null,null,null,null,null,null,null,null,null,null,null,null,null,null,null,null,null,null,null,null,"BALANCE-BIODIESEL-GHEATPRO-AUTOTOT",null,"H8000","GROSPROD","_Z","COMBBIDI","AUTOTOT","_Z","_Z",null,"ENERGY","_Z","TJ"]
[null,"REN","OBIOLIQ","BALANCE","GHEATPRO","AUTOTOT","Other liquid biofuels",null,null,null,null,null,null,null,null,null,null,null,null,null,null,null,null,null,null,null,null,null,null,null,null,null,null,null,null,null,null,null,null,null,null,null,null,null,null,null,null,null,null,null,null,null,null,null,null,null,null,null,null,null,null,null,null,null,null,null,null,null,null,null,null,null,null,null,null,null,null,null,null,null,null,null,null,null,null,null,null,null,null,null,null,null,null,null,null,null,null,null,null,null,null,null,null,null,null,null,null,null,null,null,null,null,null,null,null,null,null,null,null,null,null,"BALANCE-OBIOLIQ-GHEATPRO-AUTOTOT",null,"H8000","GROSPROD","_Z","COMBBIOT","AUTOTOT","_Z","_Z",null,"ENERGY","_Z","TJ"]
[null,null,null,null,null,null,"Total Main Activity Producer Plants [TJ]"]
[null,"REN","GEOTHERM","BALANCE","GHEATPRO","MAINTOT","Geothermal energy",null,null,null,null,null,null,null,null,null,null,null,null,null,null,null,null,null,null,null,null,null,null,null,null,null,null,null,null,null,null,null,null,null,null,null,null,null,null,null,null,null,null,null,null,null,null,null,null,null,null,null,null,null,null,null,null,null,null,null,null,null,null,null,null,null,null,null,null,null,null,null,null,null,null,null,null,null,null,null,null,null,null,null,null,null,null,null,null,null,null,null,null,null,null,null,null,null,null,null,null,null,null,null,null,null,null,null,null,null,null,null,null,null,null,"BALANCE-GEOTHERM-GHEATPRO-MAINTOT",null,"H8000","GROSPROD","_Z","GEOTHERM","MAINTOT","_Z","_Z",null,"ENERGY","_Z","TJ"]
[null,"REN","SOLARTH","BALANCE","GHEATPRO","MAINTOT","Solar thermal",null,null,null,null,null,null,null,null,null,null,null,null,null,null,null,null,null,null,null,null,null,null,null,null,null,null,null,null,null,null,null,null,null,null,null,null,null,null,null,null,null,null,null,null,null,null,null,null,null,null,null,null,null,null,null,null,null,null,null,null,null,null,null,null,null,null,null,null,null,null,null,null,null,null,null,null,null,null,null,null,null,null,null,null,null,null,null,null,null,null,null,null,null,null,null,null,null,null,null,null,null,null,null,null,null,null,null,null,null,null,null,null,null,null,"BALANCE-SOLARTH-GHEATPRO-MAINTOT",null,"H8000","GROSPROD","_Z","SOLARTH","MAINTOT","_Z","_Z",null,"ENERGY","_Z","TJ"]
[null,"REN","MUNWASTER","BALANCE","GHEATPRO","MAINTOT","Municipal Waste - Renewable",null,null,null,null,null,null,null,null,null,null,null,null,null,null,null,null,null,null,null,null,null,null,null,null,null,null,null,null,null,null,null,null,null,null,null,null,null,null,null,null,null,null,null,null,null,null,null,null,null,null,null,null,null,null,null,null,null,null,null,null,null,null,null,null,null,null,null,null,null,null,null,null,null,null,null,null,null,null,null,null,null,null,null,null,null,null,null,null,null,null,null,null,null,null,null,null,null,null,null,null,null,null,null,null,null,null,null,null,null,null,null,null,null,null,"BALANCE-MUNWASTER-GHEATPRO-MAINTOT",null,"H8000","GROSPROD","_Z","COMBMURW","MAINTOT","_Z","_Z",null,"ENERGY","_Z","TJ"]
[null,"REN","SBIOFUELS","BALANCE","GHEATPRO","MAINTOT","Solid biofuels",null,null,null,null,null,null,null,null,null,null,null,null,null,null,null,null,null,null,null,null,null,null,null,null,null,null,null,null,null,null,null,null,null,null,null,null,null,null,null,null,null,null,null,null,null,null,null,null,null,null,null,null,null,null,null,null,null,null,null,null,null,null,null,null,null,null,null,null,null,null,null,null,null,null,null,null,null,null,null,null,null,null,null,null,null,null,null,null,null,null,null,null,null,null,null,null,null,null,null,null,null,null,null,null,null,null,null,null,null,null,null,null,null,null,"BALANCE-SBIOFUELS-GHEATPRO-MAINTOT",null,"H8000","GROSPROD","_Z","COMBSOBI","MAINTOT","_Z","_Z",null,"ENERGY","_Z","TJ"]
[null,"REN","BIOGASES","BALANCE","GHEATPRO","MAINTOT","Biogases",null,null,null,null,null,null,null,null,null,null,null,null,null,null,null,null,null,null,null,null,null,null,null,null,null,null,null,null,null,null,null,null,null,null,null,null,null,null,null,null,null,null,null,null,null,null,null,null,null,null,null,null,null,null,null,null,null,null,null,null,null,null,null,null,null,null,null,null,null,null,null,null,null,null,null,null,null,null,null,null,null,null,null,null,null,null,null,null,null,null,null,null,null,null,null,null,null,null,null,null,null,null,null,null,null,null,null,null,null,null,null,null,null,null,"BALANCE-BIOGASES-GHEATPRO-MAINTOT",null,"H8000","GROSPROD","_Z","COMBBIGA","MAINTOT","_Z","_Z",null,"ENERGY","_Z","TJ"]
[null,"REN","BIODIESEL","BALANCE","GHEATPRO","MAINTOT","Biodiesels",null,null,null,null,null,null,null,null,null,null,null,null,null,null,null,null,null,null,null,null,null,null,null,null,null,null,null,null,null,null,null,null,null,null,null,null,null,null,null,null,null,null,null,null,null,null,null,null,null,null,null,null,null,null,null,null,null,null,null,null,null,null,null,null,null,null,null,null,null,null,null,null,null,null,null,null,null,null,null,null,null,null,null,null,null,null,null,null,null,null,null,null,null,null,null,null,null,null,null,null,null,null,null,null,null,null,null,null,null,null,null,null,null,null,"BALANCE-BIODIESEL-GHEATPRO-MAINTOT",null,"H8000","GROSPROD","_Z","COMBBIDI","MAINTOT","_Z","_Z",null,"ENERGY","_Z","TJ"]
[null,"REN","OBIOLIQ","BALANCE","GHEATPRO","MAINTOT","Other liquid biofuels",null,null,null,null,null,null,null,null,null,null,null,null,null,null,null,null,null,null,null,null,null,null,null,null,null,null,null,null,null,null,null,null,null,null,null,null,null,null,null,null,null,null,null,null,null,null,null,null,null,null,null,null,null,null,null,null,null,null,null,null,null,null,null,null,null,null,null,null,null,null,null,null,null,null,null,null,null,null,null,null,null,null,null,null,null,null,null,null,null,null,null,null,null,null,null,null,null,null,null,null,null,null,null,null,null,null,null,null,null,null,null,null,null,null,"BALANCE-OBIOLIQ-GHEATPRO-MAINTOT",null,"H8000","GROSPROD","_Z","COMBBIOT","MAINTOT","_Z","_Z",null,"ENERGY","_Z","TJ"]
[]
[null,null,null,null,null,null,"Hydro normalization"]
[null,null,null,null,null,null,"- pure hydro plants (hydro plants with no pumped storage)"]
[null,null,null,null,null,null,"Actual generation [GWh]",{"$f":"H155+H160","v":0},{"$f":"I155+I160","v":0},0,0,0,0,0,0,0,0,0,0,0,0,{"$f":"V155+V160","v":0},{"$f":"W155+W160","v":0},0,0,0,0,0,0,0,0,0,0,0,0,0,0,0,0,0,0,0,0,0,0,0,0,0,0,0,0,0,0,0,0,0,0,0,0,0,0,0,0,0,0,0,0,0,null,null,null,null,null,null,null,null,null,null,null,null,null,null,null,null,null,null,null,null,null,null,null,null,null,null,null,null,null,null,null,null,null,null,null,null,null,null,null,null,null,null,null,null,null,null,null,null,null,null,null,null,null,null,null,"E7000","GROSPROD","_Z","HYDPUR","_T","_Z","_Z",null,"ENERGY","_Z","GWH"]
[null,null,null,null,null,null,"Actual capacity [MW]",{"$f":"H137-(H139+H140)","v":0},0,0,0,0,0,0,0,0,0,0,0,0,0,0,0,0,0,0,0,0,0,0,0,0,0,0,0,0,0,0,0,{"$f":"AN137-(AN139+AN140)","v":0},0,0,0,0,0,0,0,0,0,0,0,0,0,0,0,0,0,0,0,0,0,0,0,0,0,0,0,0,null,null,null,null,null,null,null,null,null,null,null,null,null,null,null,null,null,null,null,null,null,null,null,null,null,null,null,null,null,null,null,null,null,null,null,null,null,null,null,null,null,null,null,null,null,null,null,null,null,null,null,null,null,null,null,"E7000","_Z","_Z","HYDPUR","_Z","_Z","NETCAP",null,"POWER","_Z","MW"]
[null,null,null,null,null,null,"Annual load factor ( Qi / Ci )",{"$f":"IF(H233>0,H232/H233,0)","v":0},{"$f":"IF(I233>0,I232/I233,0)","v":0},0,0,0,0,0,0,0,0,0,0,0,0,0,0,0,0,0,0,0,0,0,0,0,0,0,0,0,0,0,{"$f":"IF(AM233>0,AM232/AM233,0)","v":0},0,0,0,0,0,0,0,0,0,0,0,0,0,0,0,0,0,0,0,0,0,0,0,0,0,0,0,0,{"$f":"IF(BP233>0,BP232/BP233,0)","v":0},null,null,null,null,null,null,null,null,null,null,null,null,null,null,null,null,null,null,null,null,null,null,null,null,null,null,null,null,null,null,null,null,null,null,null,null,null,null,null,null,null,null,null,null,null,null,null,null,null,null,null,null,null,null,null,"E7000","_Z","_Z","HYDPUR","_Z","_Z","ALF","_Z","NUMBER","_Z","NR",null,"nrg_ind_ured","TIMESERIES","E7000","ALF_PURE","_Z","NR","Agg.=[SUM(countries row 232)/SUM(countries row 233)]"]
[null,null,null,null,null,null,"15 year average load factor",null,null,null,null,null,null,null,null,null,null,null,null,null,null,{"$f":"SUM(H234:V234)/15","v":0},{"$f":"SUM(I234:W234)/15","v":0},0,0,0,0,0,0,0,0,0,0,0,0,0,0,0,{"$f":"SUM(Y234:AM234)/15","v":0},0,0,0,0,0,0,0,0,0,0,0,0,0,0,0,0,0,0,0,0,0,0,0,0,0,0,0,0,0,null,null,null,null,null,null,null,null,null,null,null,null,null,null,null,null,null,null,null,null,null,null,null,null,null,null,null,null,null,null,null,null,null,null,null,null,null,null,null,null,null,null,null,null,null,null,null,null,null,null,null,null,null,null,null,"E7000","_Z","_Z","HYDPUR","_Z","_Z","AVGLF","_Z","NUMBER","_Z","NR",null,"nrg_ind_ured","TIMESERIES","E7000","AVGLF_PURE","_Z","NR","Agg.=[SUM(countries row 232 for current year + for previous 14 years)/SUM(countries row 233 for current year + previous 14 years)]"]
[null,null,null,null,null,null,"Normalized generation [GWh]",null,null,null,null,null,null,null,null,null,null,null,null,null,null,{"$f":"V233*V235","v":0},{"$f":"W233*W235","v":0},0,0,0,0,0,0,0,0,0,0,0,0,0,0,0,{"$f":"AM233*AM235","v":0},0,0,0,0,0,0,0,0,0,0,0,0,0,0,0,0,0,0,0,0,0,0,0,0,0,0,0,0,0,null,null,null,null,null,null,null,null,null,null,null,null,null,null,null,null,null,null,null,null,null,null,null,null,null,null,null,null,null,null,null,null,null,null,null,null,null,null,null,null,null,null,null,null,null,null,null,null,null,null,null,null,null,null,null,"E7000","NMLPRD","_Z","HYDPUR","_Z","_Z","_Z","_Z","ENERGY","_Z","GWH",null,"nrg_ind_ured","TIMESERIES","E7000","NMLPRD_PURE","_Z","GWH","Agg.=SUM(countries)"]
[]
[]
[null,"ELE","ELECTR","BALANCE","EPUMPSTMIX","TOTAL","- mixed pumped storage plants (hydro plants with pumped storage capability but excluding pure pumped storage plants) "]
[null,null,null,null,null,null,"Generation without pumping [GWh]",0,0,0,0,0,0,0,0,0,0,0,0,0,0,0,0,0,0,0,0,0,0,0,0,0,0,0,0,0,0,0,0,0,0,0,0,0,0,0,0,0,0,0,0,0,0,0,0,0,0,0,0,0,0,0,0,0,0,0,0,0,null,null,null,null,null,null,null,null,null,null,null,null,null,null,null,null,null,null,null,null,null,null,null,null,null,null,null,null,null,null,null,null,null,null,null,null,null,null,null,null,null,null,null,null,null,null,null,null,null,null,null,null,null,null,null,"E7000","GROSPROD","NPUMP","HYDMIX","_Z","_Z","_Z","_Z","ENERGY","_Z","GWH",null,"nrg_ind_ured","TIMESERIES","E7000","GEP_NPUMP_MIX","_Z","GWH","Agg.=SUM(countries)"]
[null,null,null,null,null,null,"Actual capacity [MW]",{"$f":"H139","v":0},0,0,0,0,0,0,0,0,0,0,0,0,0,0,0,0,0,0,0,0,0,0,0,0,0,0,0,0,0,0,0,{"$f":"AN139","v":0},0,0,0,0,0,0,0,0,0,0,0,0,0,0,0,0,0,0,0,0,0,0,0,0,0,0,0,0,null,null,null,null,null,null,null,null,null,null,null,null,null,null,null,null,null,null,null,null,null,null,null,null,null,null,null,null,null,null,null,null,null,null,null,null,null,null,null,null,null,null,null,null,null,null,null,null,null,null,null,null,null,null,null,"E7000","_Z","_Z","HYDMIX","_Z","_Z","NETCAP",null,"POWER","_Z","MW"]
[null,null,null,null,null,null,"Annual load factor ( Qi / Ci )",{"$f":"IF(H241>0,H240/H241,\"\")","v":""},"","","","","","","","","","","","","","","","","","","","","","","","","","","","","","",{"$f":"IF(AM241>0,AM240/AM241,\"\")","v":""},"","","","","","","","","","","","","","","","","","","","","","","","","","","","","",null,null,null,null,null,null,null,null,null,null,null,null,null,null,null,null,null,null,null,null,null,null,null,null,null,null,null,null,null,null,null,null,null,null,null,null,null,null,null,null,null,null,null,null,null,null,null,null,null,null,null,null,null,null,null,"E7000","_Z","_Z","HYDMIX","_Z","_Z","ALF","_Z","NUMBER","_Z","NR",null,"nrg_ind_ured","TIMESERIES","E7000","ALF_MIX","_Z","NR","Agg.=[SUM(countries row 240)/SUM(countries row 241)]"]
[null,null,null,null,null,null,"15 year average load factor",null,null,null,null,null,null,null,null,null,null,null,null,null,null,{"$f":"SUM(H242:V242)/15","v":0},0,0,0,0,0,0,0,0,0,0,0,0,0,0,0,0,{"$f":"SUM(Y242:AM242)/15","v":0},0,0,0,0,0,0,0,0,0,0,0,0,0,0,0,0,0,0,0,0,0,0,0,0,0,0,0,0,0,null,null,null,null,null,null,null,null,null,null,null,null,null,null,null,null,null,null,null,null,null,null,null,null,null,null,null,null,null,null,null,null,null,null,null,null,null,null,null,null,null,null,null,null,null,null,null,null,null,null,null,null,null,null,null,"E7000","_Z","_Z","HYDMIX","_Z","_Z","AVGLF","_Z","NUMBER","_Z","NR",null,"nrg_ind_ured","TIMESERIES","E7000","AVGLF_MIX","_Z","NR","Agg.=[SUM(countries row 240 for current year + for previous 14 years)/SUM(countries row 241 for current year + previous 14 years)]"]
[null,null,null,null,null,null,"Normalized generation [GWh]",null,null,null,null,null,null,null,null,null,null,null,null,null,null,{"$f":"V241*V243","v":0},0,0,0,0,0,0,0,0,0,0,0,0,0,0,0,0,{"$f":"AM241*AM243","v":0},0,0,0,0,0,0,0,0,0,0,0,0,0,0,0,0,0,0,0,0,0,0,0,0,0,0,0,0,0,null,null,null,null,null,null,null,null,null,null,null,null,null,null,null,null,null,null,null,null,null,null,null,null,null,null,null,null,null,null,null,null,null,null,null,null,null,null,null,null,null,null,null,null,null,null,null,null,null,null,null,null,null,null,null,"E7000","NMLPRD","_Z","HYDMIX","_Z","_Z","_Z","_Z","ENERGY","_Z","GWH",null,"nrg_ind_ured","TIMESERIES","E7000","NMLPRD_MIX","_Z","GWH","Agg.=SUM(countries)"]
[]
[null,null,null,null,null,null,"- Check for reported hydro data"]
[null,null,null,null,null,null,"Check value (zero means perfectly OK)",{"$f":"MAX(((ELE!H40-ELE!H41)-(REN!H232+REN!H240))/1000,IF(H232<0,186186186,0),IF(H240<0,193193193,0))","v":0},{"$f":"MAX(((ELE!I40-ELE!I41)-(REN!I232+REN!I240))/1000,IF(I232<0,186186186,0),IF(I240<0,193193193,0))","v":0},{"$f":"MAX(((ELE!J40-ELE!J41)-(REN!J232+REN!J240))/1000,IF(J232<0,186186186,0),IF(J240<0,193193193,0))","v":0},{"$f":"MAX(((ELE!K40-ELE!K41)-(REN!K232+REN!K240))/1000,IF(K232<0,186186186,0),IF(K240<0,193193193,0))","v":0},{"$f":"MAX(((ELE!L40-ELE!L41)-(REN!L232+REN!L240))/1000,IF(L232<0,186186186,0),IF(L240<0,193193193,0))","v":0},{"$f":"MAX(((ELE!M40-ELE!M41)-(REN!M232+REN!M240))/1000,IF(M232<0,186186186,0),IF(M240<0,193193193,0))","v":0},{"$f":"MAX(((ELE!N40-ELE!N41)-(REN!N232+REN!N240))/1000,IF(N232<0,186186186,0),IF(N240<0,193193193,0))","v":0},{"$f":"MAX(((ELE!O40-ELE!O41)-(REN!O232+REN!O240))/1000,IF(O232<0,186186186,0),IF(O240<0,193193193,0))","v":0},{"$f":"MAX(((ELE!P40-ELE!P41)-(REN!P232+REN!P240))/1000,IF(P232<0,186186186,0),IF(P240<0,193193193,0))","v":0},{"$f":"MAX(((ELE!Q40-ELE!Q41)-(REN!Q232+REN!Q240))/1000,IF(Q232<0,186186186,0),IF(Q240<0,193193193,0))","v":0},{"$f":"MAX(((ELE!R40-ELE!R41)-(REN!R232+REN!R240))/1000,IF(R232<0,186186186,0),IF(R240<0,193193193,0))","v":0},{"$f":"MAX(((ELE!S40-ELE!S41)-(REN!S232+REN!S240))/1000,IF(S232<0,186186186,0),IF(S240<0,193193193,0))","v":0},{"$f":"MAX(((ELE!T40-ELE!T41)-(REN!T232+REN!T240))/1000,IF(T232<0,186186186,0),IF(T240<0,193193193,0))","v":0},{"$f":"MAX(((ELE!U40-ELE!U41)-(REN!U232+REN!U240))/1000,IF(U232<0,186186186,0),IF(U240<0,193193193,0))","v":0},{"$f":"MAX(((ELE!V40-ELE!V41)-(REN!V232+REN!V240))/1000,IF(V232<0,186186186,0),IF(V240<0,193193193,0))","v":0},{"$f":"MAX(((ELE!W40-ELE!W41)-(REN!W232+REN!W240))/1000,IF(W232<0,186186186,0),IF(W240<0,193193193,0))","v":0},{"$f":"MAX(((ELE!X40-ELE!X41)-(REN!X232+REN!X240))/1000,IF(X232<0,186186186,0),IF(X240<0,193193193,0))","v":0},{"$f":"MAX(((ELE!Y40-ELE!Y41)-(REN!Y232+REN!Y240))/1000,IF(Y232<0,186186186,0),IF(Y240<0,193193193,0))","v":0},{"$f":"MAX(((ELE!Z40-ELE!Z41)-(REN!Z232+REN!Z240))/1000,IF(Z232<0,186186186,0),IF(Z240<0,193193193,0))","v":0},{"$f":"MAX(((ELE!AA40-ELE!AA41)-(REN!AA232+REN!AA240))/1000,IF(AA232<0,186186186,0),IF(AA240<0,193193193,0))","v":0},{"$f":"MAX(((ELE!AB40-ELE!AB41)-(REN!AB232+REN!AB240))/1000,IF(AB232<0,186186186,0),IF(AB240<0,193193193,0))","v":0},{"$f":"MAX(((ELE!AC40-ELE!AC41)-(REN!AC232+REN!AC240))/1000,IF(AC232<0,186186186,0),IF(AC240<0,193193193,0))","v":0},{"$f":"MAX(((ELE!AD40-ELE!AD41)-(REN!AD232+REN!AD240))/1000,IF(AD232<0,186186186,0),IF(AD240<0,193193193,0))","v":0},{"$f":"MAX(((ELE!AE40-ELE!AE41)-(REN!AE232+REN!AE240))/1000,IF(AE232<0,186186186,0),IF(AE240<0,193193193,0))","v":0},{"$f":"MAX(((ELE!AF40-ELE!AF41)-(REN!AF232+REN!AF240))/1000,IF(AF232<0,186186186,0),IF(AF240<0,193193193,0))","v":0},{"$f":"MAX(((ELE!AG40-ELE!AG41)-(REN!AG232+REN!AG240))/1000,IF(AG232<0,186186186,0),IF(AG240<0,193193193,0))","v":0},{"$f":"MAX(((ELE!AH40-ELE!AH41)-(REN!AH232+REN!AH240))/1000,IF(AH232<0,186186186,0),IF(AH240<0,193193193,0))","v":0},{"$f":"MAX(((ELE!AI40-ELE!AI41)-(REN!AI232+REN!AI240))/1000,IF(AI232<0,186186186,0),IF(AI240<0,193193193,0))","v":0},{"$f":"MAX(((ELE!AJ40-ELE!AJ41)-(REN!AJ232+REN!AJ240))/1000,IF(AJ232<0,186186186,0),IF(AJ240<0,193193193,0))","v":0},{"$f":"MAX(((ELE!AK40-ELE!AK41)-(REN!AK232+REN!AK240))/1000,IF(AK232<0,186186186,0),IF(AK240<0,193193193,0))","v":0},{"$f":"MAX(((ELE!AL40-ELE!AL41)-(REN!AL232+REN!AL240))/1000,IF(AL232<0,186186186,0),IF(AL240<0,193193193,0))","v":0},{"$f":"MAX(((ELE!AM40-ELE!AM41)-(REN!AM232+REN!AM240))/1000,IF(AM232<0,186186186,0),IF(AM240<0,193193193,0))","v":0},{"$f":"MAX(((ELE!AN40-ELE!AN41)-(REN!AN232+REN!AN240))/1000,IF(AN232<0,186186186,0),IF(AN240<0,193193193,0))","v":0},{"$f":"MAX(((ELE!AO40-ELE!AO41)-(REN!AO232+REN!AO240))/1000,IF(AO232<0,186186186,0),IF(AO240<0,193193193,0))","v":0},{"$f":"MAX(((ELE!AP40-ELE!AP41)-(REN!AP232+REN!AP240))/1000,IF(AP232<0,186186186,0),IF(AP240<0,193193193,0))","v":0},{"$f":"MAX(((ELE!AQ40-ELE!AQ41)-(REN!AQ232+REN!AQ240))/1000,IF(AQ232<0,186186186,0),IF(AQ240<0,193193193,0))","v":0},{"$f":"MAX(((ELE!AR40-ELE!AR41)-(REN!AR232+REN!AR240))/1000,IF(AR232<0,186186186,0),IF(AR240<0,193193193,0))","v":0},{"$f":"MAX(((ELE!AS40-ELE!AS41)-(REN!AS232+REN!AS240))/1000,IF(AS232<0,186186186,0),IF(AS240<0,193193193,0))","v":0},{"$f":"MAX(((ELE!AT40-ELE!AT41)-(REN!AT232+REN!AT240))/1000,IF(AT232<0,186186186,0),IF(AT240<0,193193193,0))","v":0},{"$f":"MAX(((ELE!AU40-ELE!AU41)-(REN!AU232+REN!AU240))/1000,IF(AU232<0,186186186,0),IF(AU240<0,193193193,0))","v":0},{"$f":"MAX(((ELE!AV40-ELE!AV41)-(REN!AV232+REN!AV240))/1000,IF(AV232<0,186186186,0),IF(AV240<0,193193193,0))","v":0},{"$f":"MAX(((ELE!AW40-ELE!AW41)-(REN!AW232+REN!AW240))/1000,IF(AW232<0,186186186,0),IF(AW240<0,193193193,0))","v":0},{"$f":"MAX(((ELE!AX40-ELE!AX41)-(REN!AX232+REN!AX240))/1000,IF(AX232<0,186186186,0),IF(AX240<0,193193193,0))","v":0},{"$f":"MAX(((ELE!AY40-ELE!AY41)-(REN!AY232+REN!AY240))/1000,IF(AY232<0,186186186,0),IF(AY240<0,193193193,0))","v":0},{"$f":"MAX(((ELE!AZ40-ELE!AZ41)-(REN!AZ232+REN!AZ240))/1000,IF(AZ232<0,186186186,0),IF(AZ240<0,193193193,0))","v":0},{"$f":"MAX(((ELE!BA40-ELE!BA41)-(REN!BA232+REN!BA240))/1000,IF(BA232<0,186186186,0),IF(BA240<0,193193193,0))","v":0},{"$f":"MAX(((ELE!BB40-ELE!BB41)-(REN!BB232+REN!BB240))/1000,IF(BB232<0,186186186,0),IF(BB240<0,193193193,0))","v":0},{"$f":"MAX(((ELE!BC40-ELE!BC41)-(REN!BC232+REN!BC240))/1000,IF(BC232<0,186186186,0),IF(BC240<0,193193193,0))","v":0},{"$f":"MAX(((ELE!BD40-ELE!BD41)-(REN!BD232+REN!BD240))/1000,IF(BD232<0,186186186,0),IF(BD240<0,193193193,0))","v":0},{"$f":"MAX(((ELE!BE40-ELE!BE41)-(REN!BE232+REN!BE240))/1000,IF(BE232<0,186186186,0),IF(BE240<0,193193193,0))","v":0},{"$f":"MAX(((ELE!BF40-ELE!BF41)-(REN!BF232+REN!BF240))/1000,IF(BF232<0,186186186,0),IF(BF240<0,193193193,0))","v":0},{"$f":"MAX(((ELE!BG40-ELE!BG41)-(REN!BG232+REN!BG240))/1000,IF(BG232<0,186186186,0),IF(BG240<0,193193193,0))","v":0},{"$f":"MAX(((ELE!BH40-ELE!BH41)-(REN!BH232+REN!BH240))/1000,IF(BH232<0,186186186,0),IF(BH240<0,193193193,0))","v":0},{"$f":"MAX(((ELE!BI40-ELE!BI41)-(REN!BI232+REN!BI240))/1000,IF(BI232<0,186186186,0),IF(BI240<0,193193193,0))","v":0},{"$f":"MAX(((ELE!BJ40-ELE!BJ41)-(REN!BJ232+REN!BJ240))/1000,IF(BJ232<0,186186186,0),IF(BJ240<0,193193193,0))","v":0},{"$f":"MAX(((ELE!BK40-ELE!BK41)-(REN!BK232+REN!BK240))/1000,IF(BK232<0,186186186,0),IF(BK240<0,193193193,0))","v":0},{"$f":"MAX(((ELE!BL40-ELE!BL41)-(REN!BL232+REN!BL240))/1000,IF(BL232<0,186186186,0),IF(BL240<0,193193193,0))","v":0},{"$f":"MAX(((ELE!BM40-ELE!BM41)-(REN!BM232+REN!BM240))/1000,IF(BM232<0,186186186,0),IF(BM240<0,193193193,0))","v":0},{"$f":"MAX(((ELE!BN40-ELE!BN41)-(REN!BN232+REN!BN240))/1000,IF(BN232<0,186186186,0),IF(BN240<0,193193193,0))","v":0},{"$f":"MAX(((ELE!BO40-ELE!BO41)-(REN!BO232+REN!BO240))/1000,IF(BO232<0,186186186,0),IF(BO240<0,193193193,0))","v":0},{"$f":"MAX(((ELE!BP40-ELE!BP41)-(REN!BP232+REN!BP240))/1000,IF(BP232<0,186186186,0),IF(BP240<0,193193193,0))","v":0}]
[]
[]
[]
[]
[null,null,null,null,null,null,"Input of pure bioliquids for electricity and heat production"]
[null,"REN","BIODIESEL","BALANCE","MAINELEC",null,"Biodiesel - Main activity producer electricity plants",null,null,null,null,null,null,null,null,null,null,null,null,null,null,null,null,null,null,null,null,null,null,null,null,null,null,null,null,null,null,null,null,null,null,null,null,null,null,null,null,null,null,null,null,null,null,null,null,null,null,null,null,null,null,null,null,null,null,null,null,null,null,null,null,null,null,null,null,null,null,null,null,null,null,null,null,null,null,null,null,null,null,null,null,null,null,null,null,null,null,null,null,null,null,null,null,null,null,null,null,null,null,null,null,null,null,null,null,null,null,null,null,null,null,"BALANCE-BIODIESEL-MAINELEC-",null,"R5221","TRANSFOR","_Z","_Z","MAINELEC","_Z","_Z",null,"WEIGHT","_Z","KT"]
[null,"REN","BIODIESEL","BALANCE","MAINCHP",null,"Biodiesel - Main activity producer CHP plants",null,null,null,null,null,null,null,null,null,null,null,null,null,null,null,null,null,null,null,null,null,null,null,null,null,null,null,null,null,null,null,null,null,null,null,null,null,null,null,null,null,null,null,null,null,null,null,null,null,null,null,null,null,null,null,null,null,null,null,null,null,null,null,null,null,null,null,null,null,null,null,null,null,null,null,null,null,null,null,null,null,null,null,null,null,null,null,null,null,null,null,null,null,null,null,null,null,null,null,null,null,null,null,null,null,null,null,null,null,null,null,null,null,null,"BALANCE-BIODIESEL-MAINCHP-",null,"R5221","TRANSFOR","_Z","_Z","MAINCHP","_Z","_Z",null,"WEIGHT","_Z","KT"]
[null,"REN","BIODIESEL","BALANCE","MAINHEAT",null,"Biodiesel - Main activity producer heat plants",null,null,null,null,null,null,null,null,null,null,null,null,null,null,null,null,null,null,null,null,null,null,null,null,null,null,null,null,null,null,null,null,null,null,null,null,null,null,null,null,null,null,null,null,null,null,null,null,null,null,null,null,null,null,null,null,null,null,null,null,null,null,null,null,null,null,null,null,null,null,null,null,null,null,null,null,null,null,null,null,null,null,null,null,null,null,null,null,null,null,null,null,null,null,null,null,null,null,null,null,null,null,null,null,null,null,null,null,null,null,null,null,null,null,"BALANCE-BIODIESEL-MAINHEAT-",null,"R5221","TRANSFOR","_Z","_Z","MAINHEAT","_Z","_Z",null,"WEIGHT","_Z","KT"]
[null,"REN","BIODIESEL","BALANCE","AUTOELEC",null,"Biodiesel - Autoproducer electricity plants",null,null,null,null,null,null,null,null,null,null,null,null,null,null,null,null,null,null,null,null,null,null,null,null,null,null,null,null,null,null,null,null,null,null,null,null,null,null,null,null,null,null,null,null,null,null,null,null,null,null,null,null,null,null,null,null,null,null,null,null,null,null,null,null,null,null,null,null,null,null,null,null,null,null,null,null,null,null,null,null,null,null,null,null,null,null,null,null,null,null,null,null,null,null,null,null,null,null,null,null,null,null,null,null,null,null,null,null,null,null,null,null,null,null,"BALANCE-BIODIESEL-AUTOELEC-",null,"R5221","TRANSFOR","_Z","_Z","AUTOELEC","_Z","_Z",null,"WEIGHT","_Z","KT"]
[null,"REN","BIODIESEL","BALANCE","AUTOCHP",null,"Biodiesel - Autoproducer CHP plants",null,null,null,null,null,null,null,null,null,null,null,null,null,null,null,null,null,null,null,null,null,null,null,null,null,null,null,null,null,null,null,null,null,null,null,null,null,null,null,null,null,null,null,null,null,null,null,null,null,null,null,null,null,null,null,null,null,null,null,null,null,null,null,null,null,null,null,null,null,null,null,null,null,null,null,null,null,null,null,null,null,null,null,null,null,null,null,null,null,null,null,null,null,null,null,null,null,null,null,null,null,null,null,null,null,null,null,null,null,null,null,null,null,null,"BALANCE-BIODIESEL-AUTOCHP-",null,"R5221","TRANSFOR","_Z","_Z","AUTOCHP","_Z","_Z",null,"WEIGHT","_Z","KT"]
[null,"REN","BIODIESEL","BALANCE","AUTOHEAT",null,"Biodiesel - Autoproducer heat plants",null,null,null,null,null,null,null,null,null,null,null,null,null,null,null,null,null,null,null,null,null,null,null,null,null,null,null,null,null,null,null,null,null,null,null,null,null,null,null,null,null,null,null,null,null,null,null,null,null,null,null,null,null,null,null,null,null,null,null,null,null,null,null,null,null,null,null,null,null,null,null,null,null,null,null,null,null,null,null,null,null,null,null,null,null,null,null,null,null,null,null,null,null,null,null,null,null,null,null,null,null,null,null,null,null,null,null,null,null,null,null,null,null,null,"BALANCE-BIODIESEL-AUTOHEAT-",null,"R5221","TRANSFOR","_Z","_Z","AUTOHEAT","_Z","_Z",null,"WEIGHT","_Z","KT"]
[]
[null,"REN","BIOGASOL","BALANCE","MAINELEC",null,"Biogasoline - Main activity producer electricity plants",null,null,null,null,null,null,null,null,null,null,null,null,null,null,null,null,null,null,null,null,null,null,null,null,null,null,null,null,null,null,null,null,null,null,null,null,null,null,null,null,null,null,null,null,null,null,null,null,null,null,null,null,null,null,null,null,null,null,null,null,null,null,null,null,null,null,null,null,null,null,null,null,null,null,null,null,null,null,null,null,null,null,null,null,null,null,null,null,null,null,null,null,null,null,null,null,null,null,null,null,null,null,null,null,null,null,null,null,null,null,null,null,null,null,"BALANCE-BIOGASOL-MAINELEC-",null,"R5211","TRANSFOR","_Z","_Z","MAINELEC","_Z","_Z",null,"WEIGHT","_Z","KT"]
[null,"REN","BIOGASOL","BALANCE","MAINCHP",null,"Biogasoline - Main activity producer CHP plants",null,null,null,null,null,null,null,null,null,null,null,null,null,null,null,null,null,null,null,null,null,null,null,null,null,null,null,null,null,null,null,null,null,null,null,null,null,null,null,null,null,null,null,null,null,null,null,null,null,null,null,null,null,null,null,null,null,null,null,null,null,null,null,null,null,null,null,null,null,null,null,null,null,null,null,null,null,null,null,null,null,null,null,null,null,null,null,null,null,null,null,null,null,null,null,null,null,null,null,null,null,null,null,null,null,null,null,null,null,null,null,null,null,null,"BALANCE-BIOGASOL-MAINCHP-",null,"R5211","TRANSFOR","_Z","_Z","MAINCHP","_Z","_Z",null,"WEIGHT","_Z","KT"]
[null,"REN","BIOGASOL","BALANCE","MAINHEAT",null,"Biogasoline - Main activity producer heat plants",null,null,null,null,null,null,null,null,null,null,null,null,null,null,null,null,null,null,null,null,null,null,null,null,null,null,null,null,null,null,null,null,null,null,null,null,null,null,null,null,null,null,null,null,null,null,null,null,null,null,null,null,null,null,null,null,null,null,null,null,null,null,null,null,null,null,null,null,null,null,null,null,null,null,null,null,null,null,null,null,null,null,null,null,null,null,null,null,null,null,null,null,null,null,null,null,null,null,null,null,null,null,null,null,null,null,null,null,null,null,null,null,null,null,"BALANCE-BIOGASOL-MAINHEAT-",null,"R5211","TRANSFOR","_Z","_Z","MAINHEAT","_Z","_Z",null,"WEIGHT","_Z","KT"]
[null,"REN","BIOGASOL","BALANCE","AUTOELEC",null,"Biogasoline - Autoproducer electricity plants",null,null,null,null,null,null,null,null,null,null,null,null,null,null,null,null,null,null,null,null,null,null,null,null,null,null,null,null,null,null,null,null,null,null,null,null,null,null,null,null,null,null,null,null,null,null,null,null,null,null,null,null,null,null,null,null,null,null,null,null,null,null,null,null,null,null,null,null,null,null,null,null,null,null,null,null,null,null,null,null,null,null,null,null,null,null,null,null,null,null,null,null,null,null,null,null,null,null,null,null,null,null,null,null,null,null,null,null,null,null,null,null,null,null,"BALANCE-BIOGASOL-AUTOELEC-",null,"R5211","TRANSFOR","_Z","_Z","AUTOELEC","_Z","_Z",null,"WEIGHT","_Z","KT"]
[null,"REN","BIOGASOL","BALANCE","AUTOCHP",null,"Biogasoline - Autoproducer CHP plants",null,null,null,null,null,null,null,null,null,null,null,null,null,null,null,null,null,null,null,null,null,null,null,null,null,null,null,null,null,null,null,null,null,null,null,null,null,null,null,null,null,null,null,null,null,null,null,null,null,null,null,null,null,null,null,null,null,null,null,null,null,null,null,null,null,null,null,null,null,null,null,null,null,null,null,null,null,null,null,null,null,null,null,null,null,null,null,null,null,null,null,null,null,null,null,null,null,null,null,null,null,null,null,null,null,null,null,null,null,null,null,null,null,null,"BALANCE-BIOGASOL-AUTOCHP-",null,"R5211","TRANSFOR","_Z","_Z","AUTOCHP","_Z","_Z",null,"WEIGHT","_Z","KT"]
[null,"REN","BIOGASOL","BALANCE","AUTOHEAT",null,"Biogasoline - Autoproducer heat plants",null,null,null,null,null,null,null,null,null,null,null,null,null,null,null,null,null,null,null,null,null,null,null,null,null,null,null,null,null,null,null,null,null,null,null,null,null,null,null,null,null,null,null,null,null,null,null,null,null,null,null,null,null,null,null,null,null,null,null,null,null,null,null,null,null,null,null,null,null,null,null,null,null,null,null,null,null,null,null,null,null,null,null,null,null,null,null,null,null,null,null,null,null,null,null,null,null,null,null,null,null,null,null,null,null,null,null,null,null,null,null,null,null,null,"BALANCE-BIOGASOL-AUTOHEAT-",null,"R5211","TRANSFOR","_Z","_Z","AUTOHEAT","_Z","_Z",null,"WEIGHT","_Z","KT"]
[]
[null,"REN","BIOJETKERO","BALANCE","MAINELEC",null,"Bio jet kerosene - Main activity producer electricity plants",null,null,null,null,null,null,null,null,null,null,null,null,null,null,null,null,null,null,null,null,null,null,null,null,null,null,null,null,null,null,null,null,null,null,null,null,null,null,null,null,null,null,null,null,null,null,null,null,null,null,null,null,null,null,null,null,null,null,null,null,null,null,null,null,null,null,null,null,null,null,null,null,null,null,null,null,null,null,null,null,null,null,null,null,null,null,null,null,null,null,null,null,null,null,null,null,null,null,null,null,null,null,null,null,null,null,null,null,null,null,null,null,null,null,"BALANCE-BIOJETKERO-MAINELEC-",null,"R5231","TRANSFOR","_Z","_Z","MAINELEC","_Z","_Z",null,"WEIGHT","_Z","KT"]
[null,"REN","BIOJETKERO","BALANCE","MAINCHP",null,"Bio jet kerosene - Main activity producer CHP plants",null,null,null,null,null,null,null,null,null,null,null,null,null,null,null,null,null,null,null,null,null,null,null,null,null,null,null,null,null,null,null,null,null,null,null,null,null,null,null,null,null,null,null,null,null,null,null,null,null,null,null,null,null,null,null,null,null,null,null,null,null,null,null,null,null,null,null,null,null,null,null,null,null,null,null,null,null,null,null,null,null,null,null,null,null,null,null,null,null,null,null,null,null,null,null,null,null,null,null,null,null,null,null,null,null,null,null,null,null,null,null,null,null,null,"BALANCE-BIOJETKERO-MAINCHP-",null,"R5231","TRANSFOR","_Z","_Z","MAINCHP","_Z","_Z",null,"WEIGHT","_Z","KT"]
[null,"REN","BIOJETKERO","BALANCE","MAINHEAT",null,"Bio jet kerosene - Main activity producer heat plants",null,null,null,null,null,null,null,null,null,null,null,null,null,null,null,null,null,null,null,null,null,null,null,null,null,null,null,null,null,null,null,null,null,null,null,null,null,null,null,null,null,null,null,null,null,null,null,null,null,null,null,null,null,null,null,null,null,null,null,null,null,null,null,null,null,null,null,null,null,null,null,null,null,null,null,null,null,null,null,null,null,null,null,null,null,null,null,null,null,null,null,null,null,null,null,null,null,null,null,null,null,null,null,null,null,null,null,null,null,null,null,null,null,null,"BALANCE-BIOJETKERO-MAINHEAT-",null,"R5231","TRANSFOR","_Z","_Z","MAINHEAT","_Z","_Z",null,"WEIGHT","_Z","KT"]
[null,"REN","BIOJETKERO","BALANCE","AUTOELEC",null,"Bio jet kerosene - Autoproducer electricity plants",null,null,null,null,null,null,null,null,null,null,null,null,null,null,null,null,null,null,null,null,null,null,null,null,null,null,null,null,null,null,null,null,null,null,null,null,null,null,null,null,null,null,null,null,null,null,null,null,null,null,null,null,null,null,null,null,null,null,null,null,null,null,null,null,null,null,null,null,null,null,null,null,null,null,null,null,null,null,null,null,null,null,null,null,null,null,null,null,null,null,null,null,null,null,null,null,null,null,null,null,null,null,null,null,null,null,null,null,null,null,null,null,null,null,"BALANCE-BIOJETKERO-AUTOELEC-",null,"R5231","TRANSFOR","_Z","_Z","AUTOELEC","_Z","_Z",null,"WEIGHT","_Z","KT"]
[null,"REN","BIOJETKERO","BALANCE","AUTOCHP",null,"Bio jet kerosene - Autoproducer CHP plants",null,null,null,null,null,null,null,null,null,null,null,null,null,null,null,null,null,null,null,null,null,null,null,null,null,null,null,null,null,null,null,null,null,null,null,null,null,null,null,null,null,null,null,null,null,null,null,null,null,null,null,null,null,null,null,null,null,null,null,null,null,null,null,null,null,null,null,null,null,null,null,null,null,null,null,null,null,null,null,null,null,null,null,null,null,null,null,null,null,null,null,null,null,null,null,null,null,null,null,null,null,null,null,null,null,null,null,null,null,null,null,null,null,null,"BALANCE-BIOJETKERO-AUTOCHP-",null,"R5231","TRANSFOR","_Z","_Z","AUTOCHP","_Z","_Z",null,"WEIGHT","_Z","KT"]
[null,"REN","BIOJETKERO","BALANCE","AUTOHEAT",null,"Bio jet kerosene - Autoproducer heat plants",null,null,null,null,null,null,null,null,null,null,null,null,null,null,null,null,null,null,null,null,null,null,null,null,null,null,null,null,null,null,null,null,null,null,null,null,null,null,null,null,null,null,null,null,null,null,null,null,null,null,null,null,null,null,null,null,null,null,null,null,null,null,null,null,null,null,null,null,null,null,null,null,null,null,null,null,null,null,null,null,null,null,null,null,null,null,null,null,null,null,null,null,null,null,null,null,null,null,null,null,null,null,null,null,null,null,null,null,null,null,null,null,null,null,"BALANCE-BIOJETKERO-AUTOHEAT-",null,"R5231","TRANSFOR","_Z","_Z","AUTOHEAT","_Z","_Z",null,"WEIGHT","_Z","KT"]
[]
[null,"REN","OBIOLIQ","BALANCE","MAINELEC",null,"Other liquid biofuels - Main activity producer electricity plants",null,null,null,null,null,null,null,null,null,null,null,null,null,null,null,null,null,null,null,null,null,null,null,null,null,null,null,null,null,null,null,null,null,null,null,null,null,null,null,null,null,null,null,null,null,null,null,null,null,null,null,null,null,null,null,null,null,null,null,null,null,null,null,null,null,null,null,null,null,null,null,null,null,null,null,null,null,null,null,null,null,null,null,null,null,null,null,null,null,null,null,null,null,null,null,null,null,null,null,null,null,null,null,null,null,null,null,null,null,null,null,null,null,null,"BALANCE-OBIOLIQ-MAINELEC-",null,"R5290","TRANSFOR","_Z","_Z","MAINELEC","_Z","_Z",null,"WEIGHT","_Z","KT"]
[null,"REN","OBIOLIQ","BALANCE","MAINCHP",null,"Other liquid biofuels - Main activity producer CHP plants",null,null,null,null,null,null,null,null,null,null,null,null,null,null,null,null,null,null,null,null,null,null,null,null,null,null,null,null,null,null,null,null,null,null,null,null,null,null,null,null,null,null,null,null,null,null,null,null,null,null,null,null,null,null,null,null,null,null,null,null,null,null,null,null,null,null,null,null,null,null,null,null,null,null,null,null,null,null,null,null,null,null,null,null,null,null,null,null,null,null,null,null,null,null,null,null,null,null,null,null,null,null,null,null,null,null,null,null,null,null,null,null,null,null,"BALANCE-OBIOLIQ-MAINCHP-",null,"R5290","TRANSFOR","_Z","_Z","MAINCHP","_Z","_Z",null,"WEIGHT","_Z","KT"]
[null,"REN","OBIOLIQ","BALANCE","MAINHEAT",null,"Other liquid biofuels - Main activity producer heat plants",null,null,null,null,null,null,null,null,null,null,null,null,null,null,null,null,null,null,null,null,null,null,null,null,null,null,null,null,null,null,null,null,null,null,null,null,null,null,null,null,null,null,null,null,null,null,null,null,null,null,null,null,null,null,null,null,null,null,null,null,null,null,null,null,null,null,null,null,null,null,null,null,null,null,null,null,null,null,null,null,null,null,null,null,null,null,null,null,null,null,null,null,null,null,null,null,null,null,null,null,null,null,null,null,null,null,null,null,null,null,null,null,null,null,"BALANCE-OBIOLIQ-MAINHEAT-",null,"R5290","TRANSFOR","_Z","_Z","MAINHEAT","_Z","_Z",null,"WEIGHT","_Z","KT"]
[null,"REN","OBIOLIQ","BALANCE","AUTOELEC",null,"Other liquid biofuels - Autoproducer electricity plants",null,null,null,null,null,null,null,null,null,null,null,null,null,null,null,null,null,null,null,null,null,null,null,null,null,null,null,null,null,null,null,null,null,null,null,null,null,null,null,null,null,null,null,null,null,null,null,null,null,null,null,null,null,null,null,null,null,null,null,null,null,null,null,null,null,null,null,null,null,null,null,null,null,null,null,null,null,null,null,null,null,null,null,null,null,null,null,null,null,null,null,null,null,null,null,null,null,null,null,null,null,null,null,null,null,null,null,null,null,null,null,null,null,null,"BALANCE-OBIOLIQ-AUTOELEC-",null,"R5290","TRANSFOR","_Z","_Z","AUTOELEC","_Z","_Z",null,"WEIGHT","_Z","KT"]
[null,"REN","OBIOLIQ","BALANCE","AUTOCHP",null,"Other liquid biofuels - Autoproducer CHP plants",null,null,null,null,null,null,null,null,null,null,null,null,null,null,null,null,null,null,null,null,null,null,null,null,null,null,null,null,null,null,null,null,null,null,null,null,null,null,null,null,null,null,null,null,null,null,null,null,null,null,null,null,null,null,null,null,null,null,null,null,null,null,null,null,null,null,null,null,null,null,null,null,null,null,null,null,null,null,null,null,null,null,null,null,null,null,null,null,null,null,null,null,null,null,null,null,null,null,null,null,null,null,null,null,null,null,null,null,null,null,null,null,null,null,"BALANCE-OBIOLIQ-AUTOCHP-",null,"R5290","TRANSFOR","_Z","_Z","AUTOCHP","_Z","_Z",null,"WEIGHT","_Z","KT"]
[null,"REN","OBIOLIQ","BALANCE","AUTOHEAT",null,"Other liquid biofuels - Autoproducer heat plants",null,null,null,null,null,null,null,null,null,null,null,null,null,null,null,null,null,null,null,null,null,null,null,null,null,null,null,null,null,null,null,null,null,null,null,null,null,null,null,null,null,null,null,null,null,null,null,null,null,null,null,null,null,null,null,null,null,null,null,null,null,null,null,null,null,null,null,null,null,null,null,null,null,null,null,null,null,null,null,null,null,null,null,null,null,null,null,null,null,null,null,null,null,null,null,null,null,null,null,null,null,null,null,null,null,null,null,null,null,null,null,null,null,null,"BALANCE-OBIOLIQ-AUTOHEAT-",null,"R5290","TRANSFOR","_Z","_Z","AUTOHEAT","_Z","_Z",null,"WEIGHT","_Z","KT"]
[]
[]
[]
[]
[]
[]
[]
[]
[]
[]
[]
[]
[]
[]
[]
[]
[]
[]
[]
[]
[]
[]
[]
[]
[]
[]
[]
[]
[]
[]
[]
[]
[]
[]
[]
[]
[]
[]
[]
[]
[]
[]
[]
[]
[]
[]
[]
[]
[]
[]
[]
[]
[]
[]
[]
[]
[]
[]
[]
[]
[]
[]
[]
[]
[]
[]
[]
[]
[]
[]
[]
[]
[]
[]
[]
[]
[]
[]
[]
[]
[]
[]
[]
[]
[]
[]
[]
[]
[]
[]
[]
[]
[]
[]
[]
[]
[]
[]
[]
[]
[]
[]
[]
[]
[]
[]
[]
[]
[]
[]
[]
[]
[]
[]
[]
[]
[]
[]
[]
[]
[]
[]
[]
[]
[]
[]
[]
[]
[]
[]
[]
[]
[]
[]
[]
[]
[]
[]
[]
[]
[]
[]
[]
[]
[]
[]
[]
[]
[]
[]
[]
[]
[]
[]
[]
[]
[]
[]
[]
[]
[]
[]
[]
[]
[]
[]
[]
[]
[]
[]
[]
[]
[]
[]
[]
[]
[]
[]
[]
[]
[]
[]
[]
[]
[]
[]
[]
[]
[]
[]
[]
[]
[]
[]
[]
[]
[]
[]
[]
[]
[]
[]
[]
[]
[]
[]
[]
[]
[]
[]
[]
[]
[]
[]
[]
[]
[]
[]
[]
[]
[]
[]
[]
[]
[]
[]
[]
[]
[]
[]
[]
[]
[]
[]
[]
[]
[]
[]
[]
[]
[]
[]
[]
[]
[]
[]
[]
[]
[]
[]
[]
[]
[]
[]
[]
[]
[]
[]
[]
[]
[]
[]
[]
[]
[]
[]
[]
[]
[]
[]
[]
[]
[]
[]
[]
[]
[]
[]
[]
[]
[]
[]
[]
[]
[]
[]
[]
[]
[]
[]
[]
[]
[]
[]
[]
[]
[]
[]
[]
[]
[]
[]
[]
[]
[]
[]
[]
[]
[]
[]
[]
[]
[]
[]
[]
[]
[]
[]
[]
[]
[]
[]
[]
[]
[]
[]
[]
[]
[]
[]
[]
[]
[]
[]
[]
[]
[]
[]
[]
[]
[]
[]
[]
[]
[]
[]
[]
[]
[]
[]
[]
[]
[]
[]
[]
[]
[]
[]
[]
[]
[]
[]
[]
[]
[]
[]
[]
[]
[]
[]
[]
[]
[]
[]
[]
[]
[]
[]
[]
[]
[]
[]
[]
[]
[]
[]
[]
[]
[]
[]
[]
[]
[]
[]
[]
[]
[]
[]
[]
[]
[]
[]
[]
[]
[]
[]
[]
[]
[]
[]
[]
[]
[]
[]
[]
[]
[]
[]
[]
[]
[]
[]
[]
[]
[]
[]
[]
[]
[]
[]
[]
[]
[]
[]
[]
[]
[]
[]
[]
[]
[]
[]
[]
[]
[]
[]
[]
[]
[]
[]
[]
[]
[]
[]
[]
[]
[]
[]
[]
[]
[]
[]
[]
[]
[]
[]
[]
[]
[]
[]
[]
[]
[]
[]
[]
[]
[]
[]
[]
[]
[]
[]
[]
[]
[]
[]
[]
[]
[]
[]
[]
[]
[]
[]
[]
[]
[]
[]
[]
[]
[]
[]
[]
[]
[]
[]
[]
[]
[]
[]
[]
[]
[]
[]
[]
[]
[]
[]
[]
[]
[]
[]
[]
[]
[]
[]
[]
[]
[]
[]
[]
[]
[]
[]
[]
[]
[]
[]
[]
[]
[]
[]
[]
[]
[]
[]
[]
[]
[]
[]
[]
[]
[]
[]
[]
[]
[]
[]
[]
[]
[]
[]
[]
[]
[]
[]
[]
[]
[]
[]
[]
[]
[]
[]
[]
[]
[]
[]
[]
[]
[]
[]
[]
[]
[]
[]
[]
[]
[]
[]
[]
[]
[]
[]
[]
[]
[]
[]
[]
[]
[]
[]
[]
[]
[]
[]
[]
[]
[]
[]
[]
[]
[]
[]
[]
[]
[]
[]
[]
[]
[]
[]
[]
[]
[]
[]
[]
[]
[]
[]
[]
[]
[]
[]
[]
[]
[]
[]
[]
[]
[]
[]
[]
[]
[]
[]
[]
[]
[]
[]
[]
[]
[]
[]
[]
[]
[]
[]
[]
[]
[]
[]
[]
[]
[]
[]
[]
[]
[]
[]
[]
[]
[]
[]
[]
[]
[]
[]
[]
[]
[]
[]
[]
[]
[]
[]
[]
[]
[]
[]
[]
[]
[]
[]
[]
[]
[]
[]
[]
[]
[]
[]
[]
[]
[]
[]
[]
[]
[]
[]
[]
[]
[]
[]
[]
[]
[]
[]
[]
[]
[null,null,null,null,null,null,null,null,null,null,null,null,null,null,null,null,null,null,null,null,null,null,null,null,null,null,null,null,null,null,null,null,null,null,null,null,null,null,{"$f":"IF(AM3<=$H1001, AM3, \"\")","v":2021},{"$f":"IF(AN3<=$H1001, AN3, \"\")","v":2022},2023,2024,"","","","","","","","","","","","","","","","","","","","","","","","","",""]
[null,null,null,null,null,null,null,{"$f":"IF(MONTH(NOW())<7, YEAR(NOW())-2, YEAR(NOW())-1)","v":2024}]

{"sheet":"ELE","index":12,"n_rows":1001,"n_cols":142,"rows_kept":1001,"cut":false,"hidden":false,"merged":[]}
["IMPORT","QUEST","PRODUCT","DATATYPE","ITEM1","ITEM2",null,null,null,null,null,null,null,null,null,null,null,null,null,null,null,null,null,null,null,null,null,null,null,null,null,null,null,null,null,null,null,null,"Due to different legal basis, data prior to 2021 in this tool have no legal value and are only intended for data quality checks"]
[null,null,null,null,null,null,null,null,null,null,null,null,null,null,null,null,null,null,null,null,null,null,null,null,null,null,null,null,null,null,null,null,null,null,null,null,null,null,"Please consult https://ec.europa.eu/eurostat/web/energy/data/shares for results up to 2020."]
["TIME",null,null,null,null,null,null,1990,1991,1992,1993,1994,1995,1996,1997,1998,1999,2000,2001,2002,2003,2004,2005,2006,2007,2008,2009,2010,2011,2012,2013,2014,2015,2016,2017,2018,2019,2020,2021,2022,2023,2024,2025,2026,2027,2028,2029,2030,2031,2032,2033,2034,2035,2036,2037,2038,2039,2040,2041,2042,2043,2044,2045,2046,2047,2048,2049,2050]
[null,null,null,null,null,null,"TOTAL GFCoE [ktoe]",{"$f":"H5+H6","v":0},{"$f":"I5+I6","v":0},0,0,0,0,0,0,0,0,0,0,0,0,0,0,{"$f":"X5+X6","v":0},0,0,0,0,0,{"$f":"AD5+AD6","v":0},0,0,0,0,0,0,0,0,{"$f":"AM5+AM6","v":0},0,0,0,0,0,0,0,0,0,0,0,0,0,0,0,0,0,0,0,0,0,0,0,0,0,0,0,0,0,null,null,null,null,null,null,null,null,null,null,null,null,null,null,null,null,null,null,null,null,null,null,null,null,null,null,null,null,null,null,null,null,null,null,null,null,null,null,null,null,null,null,null,null,null,null,null,null,null,null,null,null,null,null,"*** DSD codes ***"]
[null,null,null,null,null,null,"Electricity [ktoe]",{"$f":"SUM(H9:H18)*3.6/41.868","v":0},0,0,0,0,0,0,0,0,0,0,0,0,0,0,0,0,0,0,0,{"$f":"SUM(AB9:AB18)*3.6/41.868","v":0},0,0,0,0,0,0,0,0,0,0,0,{"$f":"SUM(AN9:AN18)*3.6/41.868","v":0},0,0,0,0,0,0,0,0,0,0,0,0,0,0,0,0,0,0,0,0,0,0,0,0,0,0,0,0,null,null,null,null,null,null,null,null,null,null,null,null,null,null,null,null,null,null,null,null,null,null,null,null,null,null,null,null,null,null,null,null,null,null,null,null,null,null,null,null,null,null,null,null,null,null,null,null,null,null,null,null,null,null,"REF_AREA","ENERGY_PRODUCT","MAIN_FLOW","FLOW_BREAKDOWN","PLANT_TECH","PLANT_TYPE","STOCKS","INFRASTRUCTURE_IND","VIS_A_VIS_AREA","MEASURE_VALUE_TYPE","FACILITY_ID","UNIT_MEASURE",null,"Eurobase dataset","MDT","MDT","MDT","MDT","MDT","Formula for country aggregates (Agg.)"]
[null,null,null,null,null,null,"Heat [ktoe]",{"$f":"SUM(H24:H33)/41.868","v":0},0,0,0,0,0,0,0,0,0,0,0,0,0,0,0,0,0,0,0,0,0,0,0,0,0,0,0,0,0,0,0,{"$f":"SUM(AN24:AN33)/41.868","v":0},0,0,0,0,0,0,0,0,0,0,0,0,0,0,0,0,0,0,0,0,0,0,0,0,0,0,0,0]
[]
[null,null,null,null,null,null,"Electricity [GWh] - Consumption"]
[null,"ELE","ELECTR","BALANCE","TOTIND","TOTAL","Industry Sector",null,null,null,null,null,null,null,null,null,null,null,null,null,null,null,null,null,null,null,null,null,null,null,null,null,null,null,null,null,null,null,null,null,null,null,null,null,null,null,null,null,null,null,null,null,null,null,null,null,null,null,null,null,null,null,null,null,null,null,null,null,null,null,null,null,null,null,null,null,null,null,null,null,null,null,null,null,null,null,null,null,null,null,null,null,null,null,null,null,null,null,null,null,null,null,null,null,null,null,null,null,null,null,null,null,null,null,null,null,null,null,null,null,null,"BALANCE-TOTIND-TOTAL-ELECTR",null,"E7000","ENERGUSE","INDUSTRY","_Z","_Z","_Z","_Z",null,"ENERGY","_Z","GWH"]
[null,"ELE","ELECTR","BALANCE","TOTTRANS","TOTAL","Transport Sector",null,null,null,null,null,null,null,null,null,null,null,null,null,null,null,null,null,null,null,null,null,null,null,null,null,null,null,null,null,null,null,null,null,null,null,null,null,null,null,null,null,null,null,null,null,null,null,null,null,null,null,null,null,null,null,null,null,null,null,null,null,null,null,null,null,null,null,null,null,null,null,null,null,null,null,null,null,null,null,null,null,null,null,null,null,null,null,null,null,null,null,null,null,null,null,null,null,null,null,null,null,null,null,null,null,null,null,null,null,null,null,null,null,null,"BALANCE-TOTTRANS-TOTAL-ELECTR",null,"E7000","ENERGUSE","TRANSPOR","_Z","_Z","_Z","_Z",null,"ENERGY","_Z","GWH"]
[null,"ELE","ELECTR","BALANCE","RESIDENT","TOTAL","Residential",null,null,null,null,null,null,null,null,null,null,null,null,null,null,null,null,null,null,null,null,null,null,null,null,null,null,null,null,null,null,null,null,null,null,null,null,null,null,null,null,null,null,null,null,null,null,null,null,null,null,null,null,null,null,null,null,null,null,null,null,null,null,null,null,null,null,null,null,null,null,null,null,null,null,null,null,null,null,null,null,null,null,null,null,null,null,null,null,null,null,null,null,null,null,null,null,null,null,null,null,null,null,null,null,null,null,null,null,null,null,null,null,null,null,"BALANCE-RESIDENT-TOTAL-ELECTR",null,"E7000","ENERGUSE","RESIDENT","_Z","_Z","_Z","_Z",null,"ENERGY","_Z","GWH"]
[null,"ELE","ELECTR","BALANCE","COMMPUB","TOTAL","Commercial and Public Services",null,null,null,null,null,null,null,null,null,null,null,null,null,null,null,null,null,null,null,null,null,null,null,null,null,null,null,null,null,null,null,null,null,null,null,null,null,null,null,null,null,null,null,null,null,null,null,null,null,null,null,null,null,null,null,null,null,null,null,null,null,null,null,null,null,null,null,null,null,null,null,null,null,null,null,null,null,null,null,null,null,null,null,null,null,null,null,null,null,null,null,null,null,null,null,null,null,null,null,null,null,null,null,null,null,null,null,null,null,null,null,null,null,null,"BALANCE-COMMPUB-TOTAL-ELECTR",null,"E7000","ENERGUSE","COMMPUB","_Z","_Z","_Z","_Z",null,"ENERGY","_Z","GWH"]
[null,"ELE","ELECTR","BALANCE","AGRICULT","TOTAL","Agriculture/Forestry",null,null,null,null,null,null,null,null,null,null,null,null,null,null,null,null,null,null,null,null,null,null,null,null,null,null,null,null,null,null,null,null,null,null,null,null,null,null,null,null,null,null,null,null,null,null,null,null,null,null,null,null,null,null,null,null,null,null,null,null,null,null,null,null,null,null,null,null,null,null,null,null,null,null,null,null,null,null,null,null,null,null,null,null,null,null,null,null,null,null,null,null,null,null,null,null,null,null,null,null,null,null,null,null,null,null,null,null,null,null,null,null,null,null,"BALANCE-AGRICULT-TOTAL-ELECTR",null,"E7000","ENERGUSE","AGRICULT","_Z","_Z","_Z","_Z",null,"ENERGY","_Z","GWH"]
[null,"ELE","ELECTR","BALANCE","FISHING","TOTAL","Fishing",null,null,null,null,null,null,null,null,null,null,null,null,null,null,null,null,null,null,null,null,null,null,null,null,null,null,null,null,null,null,null,null,null,null,null,null,null,null,null,null,null,null,null,null,null,null,null,null,null,null,null,null,null,null,null,null,null,null,null,null,null,null,null,null,null,null,null,null,null,null,null,null,null,null,null,null,null,null,null,null,null,null,null,null,null,null,null,null,null,null,null,null,null,null,null,null,null,null,null,null,null,null,null,null,null,null,null,null,null,null,null,null,null,null,"BALANCE-FISHING-TOTAL-ELECTR",null,"E7000","ENERGUSE","FISHING","_Z","_Z","_Z","_Z",null,"ENERGY","_Z","GWH"]
[null,"ELE","ELECTR","BALANCE","ONONSPEC","TOTAL","Non-specified (Other)",null,null,null,null,null,null,null,null,null,null,null,null,null,null,null,null,null,null,null,null,null,null,null,null,null,null,null,null,null,null,null,null,null,null,null,null,null,null,null,null,null,null,null,null,null,null,null,null,null,null,null,null,null,null,null,null,null,null,null,null,null,null,null,null,null,null,null,null,null,null,null,null,null,null,null,null,null,null,null,null,null,null,null,null,null,null,null,null,null,null,null,null,null,null,null,null,null,null,null,null,null,null,null,null,null,null,null,null,null,null,null,null,null,null,"BALANCE-ONONSPEC-TOTAL-ELECTR",null,"E7000","ENERGUSE","ONONSPEC","_Z","_Z","_Z","_Z",null,"ENERGY","_Z","GWH"]
[null,"ELE","ELECTR","BALANCE","DISTLOSS","TOTAL","Transmission and distribution losses",null,null,null,null,null,null,null,null,null,null,null,null,null,null,null,null,null,null,null,null,null,null,null,null,null,null,null,null,null,null,null,null,null,null,null,null,null,null,null,null,null,null,null,null,null,null,null,null,null,null,null,null,null,null,null,null,null,null,null,null,null,null,null,null,null,null,null,null,null,null,null,null,null,null,null,null,null,null,null,null,null,null,null,null,null,null,null,null,null,null,null,null,null,null,null,null,null,null,null,null,null,null,null,null,null,null,null,null,null,null,null,null,null,null,"BALANCE-DISTLOSS-TOTAL-ELECTR",null,"E7000","LOSSES","DISTLOSS","_Z","_Z","_Z","_Z",null,"ENERGY","_Z","GWH"]
[null,null,null,null,null,null,"Consumption by the energy branch for transport fuel production",null,null,null,null,null,null,null,null,null,null,null,null,null,null,null,null,null,null,null,null,null,null,null,null,null,null,null,null,null,null,null,0,0,0,0,0,0,0,0,0,0,0,0,0,0,0,0,0,0,0,0,0,0,0,0,0,0,0,0,0,0,null,null,null,null,null,null,null,null,null,null,null,null,null,null,null,null,null,null,null,null,null,null,null,null,null,null,null,null,null,null,null,null,null,null,null,null,null,null,null,null,null,null,null,null,null,null,null,null,null,null,null,null,null,null,null,"E7000","ENERGUSE","NRG_MFT_E","_Z","_Z","_Z","_Z","_Z","ENERGY","_Z","GWH",null,"nrg_ind_urtd","TIMESERIES","E7000","NRG_MFT_E","_Z","GWH","Agg.=SUM(countries)"]
[null,"ELE","ELECTR","BALANCE","OWNUSE","TOTAL","Consumption by the energy branch for electricity and heat production",null,null,null,null,null,null,null,null,null,null,null,null,null,null,null,null,null,null,null,null,null,null,null,null,null,null,null,null,null,null,null,null,null,null,null,null,null,null,null,null,null,null,null,null,null,null,null,null,null,null,null,null,null,null,null,null,null,null,null,null,null,null,null,null,null,null,null,null,null,null,null,null,null,null,null,null,null,null,null,null,null,null,null,null,null,null,null,null,null,null,null,null,null,null,null,null,null,null,null,null,null,null,null,null,null,null,null,null,null,null,null,null,null,null,"BALANCE-OWNUSE-TOTAL-ELECTR",null,"E7000","ENERGUSE","POWERPL","_Z","_Z","_Z","_Z",null,"ENERGY","_Z","GWH"]
[]
[null,"ELE","ELECTR","BALANCE","ROAD","TOTAL","Road transport",null,null,null,null,null,null,null,null,null,null,null,null,null,null,null,null,null,null,null,null,null,null,null,null,null,null,null,null,null,null,null,null,null,null,null,null,null,null,null,null,null,null,null,null,null,null,null,null,null,null,null,null,null,null,null,null,null,null,null,null,null,null,null,null,null,null,null,null,null,null,null,null,null,null,null,null,null,null,null,null,null,null,null,null,null,null,null,null,null,null,null,null,null,null,null,null,null,null,null,null,null,null,null,null,null,null,null,null,null,null,null,null,null,null,"BALANCE-ROAD-TOTAL-ELECTR",null,"E7000","ENERGUSE","ROAD","_Z","_Z","_Z","_Z",null,"ENERGY","_Z","GWH"]
[null,"ELE","ELECTR","BALANCE","RAIL","TOTAL","Rail transport",null,null,null,null,null,null,null,null,null,null,null,null,null,null,null,null,null,null,null,null,null,null,null,null,null,null,null,null,null,null,null,null,null,null,null,null,null,null,null,null,null,null,null,null,null,null,null,null,null,null,null,null,null,null,null,null,null,null,null,null,null,null,null,null,null,null,null,null,null,null,null,null,null,null,null,null,null,null,null,null,null,null,null,null,null,null,null,null,null,null,null,null,null,null,null,null,null,null,null,null,null,null,null,null,null,null,null,null,null,null,null,null,null,null,"BALANCE-RAIL-TOTAL-ELECTR",null,"E7000","ENERGUSE","RAIL","_Z","_Z","_Z","_Z",null,"ENERGY","_Z","GWH"]
[]
[null,null,null,null,null,null,"Heat (derived heat) [TJ] - Consumption"]
[null,"ELE","HEAT","BALANCE","TOTIND","TOTAL","Industry Sector",null,null,null,null,null,null,null,null,null,null,null,null,null,null,null,null,null,null,null,null,null,null,null,null,null,null,null,null,null,null,null,null,null,null,null,null,null,null,null,null,null,null,null,null,null,null,null,null,null,null,null,null,null,null,null,null,null,null,null,null,null,null,null,null,null,null,null,null,null,null,null,null,null,null,null,null,null,null,null,null,null,null,null,null,null,null,null,null,null,null,null,null,null,null,null,null,null,null,null,null,null,null,null,null,null,null,null,null,null,null,null,null,null,null,"BALANCE-TOTIND-TOTAL-HEAT",null,"H8000","ENERGUSE","INDUSTRY","_Z","_Z","_Z","_Z",null,"ENERGY","_Z","TJ"]
[null,"ELE","HEAT","BALANCE","TOTTRANS","TOTAL","Transport Sector",null,null,null,null,null,null,null,null,null,null,null,null,null,null,null,null,null,null,null,null,null,null,null,null,null,null,null,null,null,null,null,null,null,null,null,null,null,null,null,null,null,null,null,null,null,null,null,null,null,null,null,null,null,null,null,null,null,null,null,null,null,null,null,null,null,null,null,null,null,null,null,null,null,null,null,null,null,null,null,null,null,null,null,null,null,null,null,null,null,null,null,null,null,null,null,null,null,null,null,null,null,null,null,null,null,null,null,null,null,null,null,null,null,null,"BALANCE-TOTTRANS-TOTAL-HEAT",null,"H8000","ENERGUSE","TRANSPOR","_Z","_Z","_Z","_Z",null,"ENERGY","_Z","TJ"]
[null,"ELE","HEAT","BALANCE","RESIDENT","TOTAL","Residential",null,null,null,null,null,null,null,null,null,null,null,null,null,null,null,null,null,null,null,null,null,null,null,null,null,null,null,null,null,null,null,null,null,null,null,null,null,null,null,null,null,null,null,null,null,null,null,null,null,null,null,null,null,null,null,null,null,null,null,null,null,null,null,null,null,null,null,null,null,null,null,null,null,null,null,null,null,null,null,null,null,null,null,null,null,null,null,null,null,null,null,null,null,null,null,null,null,null,null,null,null,null,null,null,null,null,null,null,null,null,null,null,null,null,"BALANCE-RESIDENT-TOTAL-HEAT",null,"H8000","ENERGUSE","RESIDENT","_Z","_Z","_Z","_Z",null,"ENERGY","_Z","TJ"]
[null,"ELE","HEAT","BALANCE","COMMPUB","TOTAL","Commercial and Public Services",null,null,null,null,null,null,null,null,null,null,null,null,null,null,null,null,null,null,null,null,null,null,null,null,null,null,null,null,null,null,null,null,null,null,null,null,null,null,null,null,null,null,null,null,null,null,null,null,null,null,null,null,null,null,null,null,null,null,null,null,null,null,null,null,null,null,null,null,null,null,null,null,null,null,null,null,null,null,null,null,null,null,null,null,null,null,null,null,null,null,null,null,null,null,null,null,null,null,null,null,null,null,null,null,null,null,null,null,null,null,null,null,null,null,"BALANCE-COMMPUB-TOTAL-HEAT",null,"H8000","ENERGUSE","COMMPUB","_Z","_Z","_Z","_Z",null,"ENERGY","_Z","TJ"]
[null,"ELE","HEAT","BALANCE","AGRICULT","TOTAL","Agriculture/Forestry",null,null,null,null,null,null,null,null,null,null,null,null,null,null,null,null,null,null,null,null,null,null,null,null,null,null,null,null,null,null,null,null,null,null,null,null,null,null,null,null,null,null,null,null,null,null,null,null,null,null,null,null,null,null,null,null,null,null,null,null,null,null,null,null,null,null,null,null,null,null,null,null,null,null,null,null,null,null,null,null,null,null,null,null,null,null,null,null,null,null,null,null,null,null,null,null,null,null,null,null,null,null,null,null,null,null,null,null,null,null,null,null,null,null,"BALANCE-AGRICULT-TOTAL-HEAT",null,"H8000","ENERGUSE","AGRICULT","_Z","_Z","_Z","_Z",null,"ENERGY","_Z","TJ"]
[null,"ELE","HEAT","BALANCE","FISHING","TOTAL","Fishing",null,null,null,null,null,null,null,null,null,null,null,null,null,null,null,null,null,null,null,null,null,null,null,null,null,null,null,null,null,null,null,null,null,null,null,null,null,null,null,null,null,null,null,null,null,null,null,null,null,null,null,null,null,null,null,null,null,null,null,null,null,null,null,null,null,null,null,null,null,null,null,null,null,null,null,null,null,null,null,null,null,null,null,null,null,null,null,null,null,null,null,null,null,null,null,null,null,null,null,null,null,null,null,null,null,null,null,null,null,null,null,null,null,null,"BALANCE-FISHING-TOTAL-HEAT",null,"H8000","ENERGUSE","FISHING","_Z","_Z","_Z","_Z",null,"ENERGY","_Z","TJ"]
[null,"ELE","HEAT","BALANCE","ONONSPEC","TOTAL","Non-specified (Other)",null,null,null,null,null,null,null,null,null,null,null,null,null,null,null,null,null,null,null,null,null,null,null,null,null,null,null,null,null,null,null,null,null,null,null,null,null,null,null,null,null,null,null,null,null,null,null,null,null,null,null,null,null,null,null,null,null,null,null,null,null,null,null,null,null,null,null,null,null,null,null,null,null,null,null,null,null,null,null,null,null,null,null,null,null,null,null,null,null,null,null,null,null,null,null,null,null,null,null,null,null,null,null,null,null,null,null,null,null,null,null,null,null,null,"BALANCE-ONONSPEC-TOTAL-HEAT",null,"H8000","ENERGUSE","ONONSPEC","_Z","_Z","_Z","_Z",null,"ENERGY","_Z","TJ"]
[null,"ELE","HEAT","BALANCE","DISTLOSS","TOTAL","Transmission and distribution losses",null,null,null,null,null,null,null,null,null,null,null,null,null,null,null,null,null,null,null,null,null,null,null,null,null,null,null,null,null,null,null,null,null,null,null,null,null,null,null,null,null,null,null,null,null,null,null,null,null,null,null,null,null,null,null,null,null,null,null,null,null,null,null,null,null,null,null,null,null,null,null,null,null,null,null,null,null,null,null,null,null,null,null,null,null,null,null,null,null,null,null,null,null,null,null,null,null,null,null,null,null,null,null,null,null,null,null,null,null,null,null,null,null,null,"BALANCE-DISTLOSS-TOTAL-HEAT",null,"H8000","LOSSES","DISTLOSS","_Z","_Z","_Z","_Z",null,"ENERGY","_Z","TJ"]
[null,null,null,null,null,null,"Consumption by the energy branch for transport fuel production",null,null,null,null,null,null,null,null,null,null,null,null,null,null,null,null,null,null,null,null,null,null,null,null,null,null,null,null,null,null,null,0,0,0,0,0,0,0,0,0,0,0,0,0,0,0,0,0,0,0,0,0,0,0,0,0,0,0,0,0,0,null,null,null,null,null,null,null,null,null,null,null,null,null,null,null,null,null,null,null,null,null,null,null,null,null,null,null,null,null,null,null,null,null,null,null,null,null,null,null,null,null,null,null,null,null,null,null,null,null,null,null,null,null,null,null,"H8000","ENERGUSE","NRG_MFT_E","_Z","_Z","_Z","_Z","_Z","ENERGY","_Z","TJ",null,"nrg_ind_urtd","TIMESERIES","H8000","NRG_MFT_E","_Z","TJ","Agg.=SUM(countries)"]
[null,"ELE","HEAT","BALANCE","OWNUSE","TOTAL","Consumption by the energy branch for electricity and heat production",null,null,null,null,null,null,null,null,null,null,null,null,null,null,null,null,null,null,null,null,null,null,null,null,null,null,null,null,null,null,null,null,null,null,null,null,null,null,null,null,null,null,null,null,null,null,null,null,null,null,null,null,null,null,null,null,null,null,null,null,null,null,null,null,null,null,null,null,null,null,null,null,null,null,null,null,null,null,null,null,null,null,null,null,null,null,null,null,null,null,null,null,null,null,null,null,null,null,null,null,null,null,null,null,null,null,null,null,null,null,null,null,null,null,"BALANCE-OWNUSE-TOTAL-HEAT",null,"H8000","ENERGUSE","POWERPL","_Z","_Z","_Z","_Z",null,"ENERGY","_Z","TJ"]
[]
[]
[]
[null,null,null,null,null,null,"Electricity [GWh]"]
[null,"ELE","ELECTR","BALANCE","GROSPROD","TOTAL","Total Gross Production",null,null,null,null,null,null,null,null,null,null,null,null,null,null,null,null,null,null,null,null,null,null,null,null,null,null,null,null,null,null,null,null,null,null,null,null,null,null,null,null,null,null,null,null,null,null,null,null,null,null,null,null,null,null,null,null,null,null,null,null,null,null,null,null,null,null,null,null,null,null,null,null,null,null,null,null,null,null,null,null,null,null,null,null,null,null,null,null,null,null,null,null,null,null,null,null,null,null,null,null,null,null,null,null,null,null,null,null,null,null,null,null,null,null,"BALANCE-GROSPROD-TOTAL-ELECTR",null,"E7000","GROSPROD","_Z","_Z","_Z","_Z","_Z",null,"ENERGY","_Z","GWH"]
[null,"ELE","WIND","BALANCE","GELEPROD","TOTAL","- Wind",null,null,null,null,null,null,null,null,null,null,null,null,null,null,null,null,null,null,null,null,null,null,null,null,null,null,null,null,null,null,null,null,null,null,null,null,null,null,null,null,null,null,null,null,null,null,null,null,null,null,null,null,null,null,null,null,null,null,null,null,null,null,null,null,null,null,null,null,null,null,null,null,null,null,null,null,null,null,null,null,null,null,null,null,null,null,null,null,null,null,null,null,null,null,null,null,null,null,null,null,null,null,null,null,null,null,null,null,null,null,null,null,null,null,"BALANCE-GELEPROD-TOTAL-WIND",null,"E7000","GROSPROD","_Z","WIND","_T","_Z","_Z",null,"ENERGY","_Z","GWH"]
[null,"ELE","HYDRO","BALANCE","GELEPROD","TOTAL","- Hydro",null,null,null,null,null,null,null,null,null,null,null,null,null,null,null,null,null,null,null,null,null,null,null,null,null,null,null,null,null,null,null,null,null,null,null,null,null,null,null,null,null,null,null,null,null,null,null,null,null,null,null,null,null,null,null,null,null,null,null,null,null,null,null,null,null,null,null,null,null,null,null,null,null,null,null,null,null,null,null,null,null,null,null,null,null,null,null,null,null,null,null,null,null,null,null,null,null,null,null,null,null,null,null,null,null,null,null,null,null,null,null,null,null,null,"BALANCE-GELEPROD-TOTAL-HYDRO",null,"E7000","GROSPROD","_Z","HYDRO","_T","_Z","_Z",null,"ENERGY","_Z","GWH"]
[null,null,null,null,null,null,"   Of which: pumped hydro",{"$f":"IF((REN!H156+REN!H161)>=REN!H240,REN!H157+REN!H162+REN!H156+REN!H161-REN!H240,(REN!H157+REN!H162))","v":0},{"$f":"IF((REN!I156+REN!I161)>=REN!I240,REN!I157+REN!I162+REN!I156+REN!I161-REN!I240,(REN!I157+REN!I162))","v":0},{"$f":"IF((REN!J156+REN!J161)>=REN!J240,REN!J157+REN!J162+REN!J156+REN!J161-REN!J240,(REN!J157+REN!J162))","v":0},{"$f":"IF((REN!K156+REN!K161)>=REN!K240,REN!K157+REN!K162+REN!K156+REN!K161-REN!K240,(REN!K157+REN!K162))","v":0},{"$f":"IF((REN!L156+REN!L161)>=REN!L240,REN!L157+REN!L162+REN!L156+REN!L161-REN!L240,(REN!L157+REN!L162))","v":0},{"$f":"IF((REN!M156+REN!M161)>=REN!M240,REN!M157+REN!M162+REN!M156+REN!M161-REN!M240,(REN!M157+REN!M162))","v":0},{"$f":"IF((REN!N156+REN!N161)>=REN!N240,REN!N157+REN!N162+REN!N156+REN!N161-REN!N240,(REN!N157+REN!N162))","v":0},{"$f":"IF((REN!O156+REN!O161)>=REN!O240,REN!O157+REN!O162+REN!O156+REN!O161-REN!O240,(REN!O157+REN!O162))","v":0},{"$f":"IF((REN!P156+REN!P161)>=REN!P240,REN!P157+REN!P162+REN!P156+REN!P161-REN!P240,(REN!P157+REN!P162))","v":0},{"$f":"IF((REN!Q156+REN!Q161)>=REN!Q240,REN!Q157+REN!Q162+REN!Q156+REN!Q161-REN!Q240,(REN!Q157+REN!Q162))","v":0},{"$f":"IF((REN!R156+REN!R161)>=REN!R240,REN!R157+REN!R162+REN!R156+REN!R161-REN!R240,(REN!R157+REN!R162))","v":0},{"$f":"IF((REN!S156+REN!S161)>=REN!S240,REN!S157+REN!S162+REN!S156+REN!S161-REN!S240,(REN!S157+REN!S162))","v":0},{"$f":"IF((REN!T156+REN!T161)>=REN!T240,REN!T157+REN!T162+REN!T156+REN!T161-REN!T240,(REN!T157+REN!T162))","v":0},{"$f":"IF((REN!U156+REN!U161)>=REN!U240,REN!U157+REN!U162+REN!U156+REN!U161-REN!U240,(REN!U157+REN!U162))","v":0},{"$f":"IF((REN!V156+REN!V161)>=REN!V240,REN!V157+REN!V162+REN!V156+REN!V161-REN!V240,(REN!V157+REN!V162))","v":0},{"$f":"IF((REN!W156+REN!W161)>=REN!W240,REN!W157+REN!W162+REN!W156+REN!W161-REN!W240,(REN!W157+REN!W162))","v":0},{"$f":"IF((REN!X156+REN!X161)>=REN!X240,REN!X157+REN!X162+REN!X156+REN!X161-REN!X240,(REN!X157+REN!X162))","v":0},{"$f":"IF((REN!Y156+REN!Y161)>=REN!Y240,REN!Y157+REN!Y162+REN!Y156+REN!Y161-REN!Y240,(REN!Y157+REN!Y162))","v":0},{"$f":"IF((REN!Z156+REN!Z161)>=REN!Z240,REN!Z157+REN!Z162+REN!Z156+REN!Z161-REN!Z240,(REN!Z157+REN!Z162))","v":0},{"$f":"IF((REN!AA156+REN!AA161)>=REN!AA240,REN!AA157+REN!AA162+REN!AA156+REN!AA161-REN!AA240,(REN!AA157+REN!AA162))","v":0},{"$f":"IF((REN!AB156+REN!AB161)>=REN!AB240,REN!AB157+REN!AB162+REN!AB156+REN!AB161-REN!AB240,(REN!AB157+REN!AB162))","v":0},{"$f":"IF((REN!AC156+REN!AC161)>=REN!AC240,REN!AC157+REN!AC162+REN!AC156+REN!AC161-REN!AC240,(REN!AC157+REN!AC162))","v":0},{"$f":"IF((REN!AD156+REN!AD161)>=REN!AD240,REN!AD157+REN!AD162+REN!AD156+REN!AD161-REN!AD240,(REN!AD157+REN!AD162))","v":0},{"$f":"IF((REN!AE156+REN!AE161)>=REN!AE240,REN!AE157+REN!AE162+REN!AE156+REN!AE161-REN!AE240,(REN!AE157+REN!AE162))","v":0},{"$f":"IF((REN!AF156+REN!AF161)>=REN!AF240,REN!AF157+REN!AF162+REN!AF156+REN!AF161-REN!AF240,(REN!AF157+REN!AF162))","v":0},{"$f":"IF((REN!AG156+REN!AG161)>=REN!AG240,REN!AG157+REN!AG162+REN!AG156+REN!AG161-REN!AG240,(REN!AG157+REN!AG162))","v":0},{"$f":"IF((REN!AH156+REN!AH161)>=REN!AH240,REN!AH157+REN!AH162+REN!AH156+REN!AH161-REN!AH240,(REN!AH157+REN!AH162))","v":0},{"$f":"IF((REN!AI156+REN!AI161)>=REN!AI240,REN!AI157+REN!AI162+REN!AI156+REN!AI161-REN!AI240,(REN!AI157+REN!AI162))","v":0},{"$f":"IF((REN!AJ156+REN!AJ161)>=REN!AJ240,REN!AJ157+REN!AJ162+REN!AJ156+REN!AJ161-REN!AJ240,(REN!AJ157+REN!AJ162))","v":0},{"$f":"IF((REN!AK156+REN!AK161)>=REN!AK240,REN!AK157+REN!AK162+REN!AK156+REN!AK161-REN!AK240,(REN!AK157+REN!AK162))","v":0},{"$f":"IF((REN!AL156+REN!AL161)>=REN!AL240,REN!AL157+REN!AL162+REN!AL156+REN!AL161-REN!AL240,(REN!AL157+REN!AL162))","v":0},{"$f":"IF((REN!AM156+REN!AM161)>=REN!AM240,REN!AM157+REN!AM162+REN!AM156+REN!AM161-REN!AM240,(REN!AM157+REN!AM162))","v":0},{"$f":"IF((REN!AN156+REN!AN161)>=REN!AN240,REN!AN157+REN!AN162+REN!AN156+REN!AN161-REN!AN240,(REN!AN157+REN!AN162))","v":0},{"$f":"IF((REN!AO156+REN!AO161)>=REN!AO240,REN!AO157+REN!AO162+REN!AO156+REN!AO161-REN!AO240,(REN!AO157+REN!AO162))","v":0},{"$f":"IF((REN!AP156+REN!AP161)>=REN!AP240,REN!AP157+REN!AP162+REN!AP156+REN!AP161-REN!AP240,(REN!AP157+REN!AP162))","v":0},{"$f":"IF((REN!AQ156+REN!AQ161)>=REN!AQ240,REN!AQ157+REN!AQ162+REN!AQ156+REN!AQ161-REN!AQ240,(REN!AQ157+REN!AQ162))","v":0},{"$f":"IF((REN!AR156+REN!AR161)>=REN!AR240,REN!AR157+REN!AR162+REN!AR156+REN!AR161-REN!AR240,(REN!AR157+REN!AR162))","v":0},{"$f":"IF((REN!AS156+REN!AS161)>=REN!AS240,REN!AS157+REN!AS162+REN!AS156+REN!AS161-REN!AS240,(REN!AS157+REN!AS162))","v":0},{"$f":"IF((REN!AT156+REN!AT161)>=REN!AT240,REN!AT157+REN!AT162+REN!AT156+REN!AT161-REN!AT240,(REN!AT157+REN!AT162))","v":0},{"$f":"IF((REN!AU156+REN!AU161)>=REN!AU240,REN!AU157+REN!AU162+REN!AU156+REN!AU161-REN!AU240,(REN!AU157+REN!AU162))","v":0},{"$f":"IF((REN!AV156+REN!AV161)>=REN!AV240,REN!AV157+REN!AV162+REN!AV156+REN!AV161-REN!AV240,(REN!AV157+REN!AV162))","v":0},{"$f":"IF((REN!AW156+REN!AW161)>=REN!AW240,REN!AW157+REN!AW162+REN!AW156+REN!AW161-REN!AW240,(REN!AW157+REN!AW162))","v":0},{"$f":"IF((REN!AX156+REN!AX161)>=REN!AX240,REN!AX157+REN!AX162+REN!AX156+REN!AX161-REN!AX240,(REN!AX157+REN!AX162))","v":0},{"$f":"IF((REN!AY156+REN!AY161)>=REN!AY240,REN!AY157+REN!AY162+REN!AY156+REN!AY161-REN!AY240,(REN!AY157+REN!AY162))","v":0},{"$f":"IF((REN!AZ156+REN!AZ161)>=REN!AZ240,REN!AZ157+REN!AZ162+REN!AZ156+REN!AZ161-REN!AZ240,(REN!AZ157+REN!AZ162))","v":0},{"$f":"IF((REN!BA156+REN!BA161)>=REN!BA240,REN!BA157+REN!BA162+REN!BA156+REN!BA161-REN!BA240,(REN!BA157+REN!BA162))","v":0},{"$f":"IF((REN!BB156+REN!BB161)>=REN!BB240,REN!BB157+REN!BB162+REN!BB156+REN!BB161-REN!BB240,(REN!BB157+REN!BB162))","v":0},{"$f":"IF((REN!BC156+REN!BC161)>=REN!BC240,REN!BC157+REN!BC162+REN!BC156+REN!BC161-REN!BC240,(REN!BC157+REN!BC162))","v":0},{"$f":"IF((REN!BD156+REN!BD161)>=REN!BD240,REN!BD157+REN!BD162+REN!BD156+REN!BD161-REN!BD240,(REN!BD157+REN!BD162))","v":0},{"$f":"IF((REN!BE156+REN!BE161)>=REN!BE240,REN!BE157+REN!BE162+REN!BE156+REN!BE161-REN!BE240,(REN!BE157+REN!BE162))","v":0},{"$f":"IF((REN!BF156+REN!BF161)>=REN!BF240,REN!BF157+REN!BF162+REN!BF156+REN!BF161-REN!BF240,(REN!BF157+REN!BF162))","v":0},{"$f":"IF((REN!BG156+REN!BG161)>=REN!BG240,REN!BG157+REN!BG162+REN!BG156+REN!BG161-REN!BG240,(REN!BG157+REN!BG162))","v":0},{"$f":"IF((REN!BH156+REN!BH161)>=REN!BH240,REN!BH157+REN!BH162+REN!BH156+REN!BH161-REN!BH240,(REN!BH157+REN!BH162))","v":0},{"$f":"IF((REN!BI156+REN!BI161)>=REN!BI240,REN!BI157+REN!BI162+REN!BI156+REN!BI161-REN!BI240,(REN!BI157+REN!BI162))","v":0},{"$f":"IF((REN!BJ156+REN!BJ161)>=REN!BJ240,REN!BJ157+REN!BJ162+REN!BJ156+REN!BJ161-REN!BJ240,(REN!BJ157+REN!BJ162))","v":0},{"$f":"IF((REN!BK156+REN!BK161)>=REN!BK240,REN!BK157+REN!BK162+REN!BK156+REN!BK161-REN!BK240,(REN!BK157+REN!BK162))","v":0},{"$f":"IF((REN!BL156+REN!BL161)>=REN!BL240,REN!BL157+REN!BL162+REN!BL156+REN!BL161-REN!BL240,(REN!BL157+REN!BL162))","v":0},{"$f":"IF((REN!BM156+REN!BM161)>=REN!BM240,REN!BM157+REN!BM162+REN!BM156+REN!BM161-REN!BM240,(REN!BM157+REN!BM162))","v":0},{"$f":"IF((REN!BN156+REN!BN161)>=REN!BN240,REN!BN157+REN!BN162+REN!BN156+REN!BN161-REN!BN240,(REN!BN157+REN!BN162))","v":0},{"$f":"IF((REN!BO156+REN!BO161)>=REN!BO240,REN!BO157+REN!BO162+REN!BO156+REN!BO161-REN!BO240,(REN!BO157+REN!BO162))","v":0},{"$f":"IF((REN!BP156+REN!BP161)>=REN!BP240,REN!BP157+REN!BP162+REN!BP156+REN!BP161-REN!BP240,(REN!BP157+REN!BP162))","v":0}]
[null,"ELE","ELECTR","BALANCE","TOTIMPSB","TOTAL","Total Imports",null,null,null,null,null,null,null,null,null,null,null,null,null,null,null,null,null,null,null,null,null,null,null,null,null,null,null,null,null,null,null,null,null,null,null,null,null,null,null,null,null,null,null,null,null,null,null,null,null,null,null,null,null,null,null,null,null,null,null,null,null,null,null,null,null,null,null,null,null,null,null,null,null,null,null,null,null,null,null,null,null,null,null,null,null,null,null,null,null,null,null,null,null,null,null,null,null,null,null,null,null,null,null,null,null,null,null,null,null,null,null,null,null,null,"BALANCE-TOTIMPSB-TOTAL-ELECTR",null,"E7000","IMPORTS","TOTIMPSB","_Z","_Z","_Z","_Z",null,"ENERGY","_Z","GWH"]
[null,"ELE","ELECTR","BALANCE","TOTEXPSB","TOTAL","Total Exports",null,null,null,null,null,null,null,null,null,null,null,null,null,null,null,null,null,null,null,null,null,null,null,null,null,null,null,null,null,null,null,null,null,null,null,null,null,null,null,null,null,null,null,null,null,null,null,null,null,null,null,null,null,null,null,null,null,null,null,null,null,null,null,null,null,null,null,null,null,null,null,null,null,null,null,null,null,null,null,null,null,null,null,null,null,null,null,null,null,null,null,null,null,null,null,null,null,null,null,null,null,null,null,null,null,null,null,null,null,null,null,null,null,null,"BALANCE-TOTEXPSB-TOTAL-ELECTR",null,"E7000","EXPORTS","TOTEXPSB","_Z","_Z","_Z","_Z",null,"ENERGY","_Z","GWH"]
[null,null,null,null,null,null,"Total Gross Consumption [GWh]",{"$f":"H38+H42-H43-H41","v":0},0,0,0,0,0,0,0,0,0,0,0,0,0,0,0,0,0,0,0,0,0,0,0,0,0,0,0,0,0,0,0,{"$f":"AN38+AN42-AN43-AN41","v":0},0,0,0,0,0,0,0,0,0,0,0,0,0,0,0,0,0,0,0,0,0,0,0,0,0,0,0,0]
[null,null,null,null,null,null,"Pumped Hydro includes Pure Pumped hydro plants production and the  production from water pumped uphill in Mixed hydro plants."]
[]
[null,null,null,null,null,null,"Production from natural gas (including biogas blended in the grid)"]
[null,"ELE","NATGAS","BALANCE","GELEPROD","TOTAL","Electricity [GWh]",null,null,null,null,null,null,null,null,null,null,null,null,null,null,null,null,null,null,null,null,null,null,null,null,null,null,null,null,null,null,null,null,null,null,null,null,null,null,null,null,null,null,null,null,null,null,null,null,null,null,null,null,null,null,null,null,null,null,null,null,null,null,null,null,null,null,null,null,null,null,null,null,null,null,null,null,null,null,null,null,null,null,null,null,null,null,null,null,null,null,null,null,null,null,null,null,null,null,null,null,null,null,null,null,null,null,null,null,null,null,null,null,null,null,"BALANCE-GELEPROD-TOTAL-NATGAS",null,"E7000","GROSPROD","_Z","COMBGAS","_T","_Z","_Z",null,"ENERGY","_Z","GWH"]
[null,"ELE","NATGAS","BALANCE","GHEATPRO","TOTAL","Heat [TJ]",null,null,null,null,null,null,null,null,null,null,null,null,null,null,null,null,null,null,null,null,null,null,null,null,null,null,null,null,null,null,null,null,null,null,null,null,null,null,null,null,null,null,null,null,null,null,null,null,null,null,null,null,null,null,null,null,null,null,null,null,null,null,null,null,null,null,null,null,null,null,null,null,null,null,null,null,null,null,null,null,null,null,null,null,null,null,null,null,null,null,null,null,null,null,null,null,null,null,null,null,null,null,null,null,null,null,null,null,null,null,null,null,null,null,"BALANCE-GHEATPRO-TOTAL-NATGAS",null,"H8000","GROSPROD","_Z","COMBGAS","_T","_Z","_Z",null,"ENERGY","_Z","TJ"]
[]
[]
[]
[]
[]
[]
[]
[]
[]
[]
[]
[]
[]
[]
[]
[]
[]
[]
[]
[]
[]
[]
[]
[]
[]
[]
[]
[]
[]
[]
[]
[]
[]
[]
[]
[]
[]
[]
[]
[]
[]
[]
[]
[]
[]
[]
[]
[]
[]
[]
[]
[]
[]
[]
[]
[]
[]
[]
[]
[]
[]
[]
[]
[]
[]
[]
[]
[]
[]
[]
[]
[]
[]
[]
[]
[]
[]
[]
[]
[]
[]
[]
[]
[]
[]
[]
[]
[]
[]
[]
[]
[]
[]
[]
[]
[]
[]
[]
[]
[]
[]
[]
[]
[]
[]
[]
[]
[]
[]
[]
[]
[]
[]
[]
[]
[]
[]
[]
[]
[]
[]
[]
[]
[]
[]
[]
[]
[]
[]
[]
[]
[]
[]
[]
[]
[]
[]
[]
[]
[]
[]
[]
[]
[]
[]
[]
[]
[]
[]
[]
[]
[]
[]
[]
[]
[]
[]
[]
[]
[]
[]
[]
[]
[]
[]
[]
[]
[]
[]
[]
[]
[]
[]
[]
[]
[]
[]
[]
[]
[]
[]
[]
[]
[]
[]
[]
[]
[]
[]
[]
[]
[]
[]
[]
[]
[]
[]
[]
[]
[]
[]
[]
[]
[]
[]
[]
[]
[]
[]
[]
[]
[]
[]
[]
[]
[]
[]
[]
[]
[]
[]
[]
[]
[]
[]
[]
[]
[]
[]
[]
[]
[]
[]
[]
[]
[]
[]
[]
[]
[]
[]
[]
[]
[]
[]
[]
[]
[]
[]
[]
[]
[]
[]
[]
[]
[]
[]
[]
[]
[]
[]
[]
[]
[]
[]
[]
[]
[]
[]
[]
[]
[]
[]
[]
[]
[]
[]
[]
[]
[]
[]
[]
[]
[]
[]
[]
[]
[]
[]
[]
[]
[]
[]
[]
[]
[]
[]
[]
[]
[]
[]
[]
[]
[]
[]
[]
[]
[]
[]
[]
[]
[]
[]
[]
[]
[]
[]
[]
[]
[]
[]
[]
[]
[]
[]
[]
[]
[]
[]
[]
[]
[]
[]
[]
[]
[]
[]
[]
[]
[]
[]
[]
[]
[]
[]
[]
[]
[]
[]
[]
[]
[]
[]
[]
[]
[]
[]
[]
[]
[]
[]
[]
[]
[]
[]
[]
[]
[]
[]
[]
[]
[]
[]
[]
[]
[]
[]
[]
[]
[]
[]
[]
[]
[]
[]
[]
[]
[]
[]
[]
[]
[]
[]
[]
[]
[]
[]
[]
[]
[]
[]
[]
[]
[]
[]
[]
[]
[]
[]
[]
[]
[]
[]
[]
[]
[]
[]
[]
[]
[]
[]
[]
[]
[]
[]
[]
[]
[]
[]
[]
[]
[]
[]
[]
[]
[]
[]
[]
[]
[]
[]
[]
[]
[]
[]
[]
[]
[]
[]
[]
[]
[]
[]
[]
[]
[]
[]
[]
[]
[]
[]
[]
[]
[]
[]
[]
[]
[]
[]
[]
[]
[]
[]
[]
[]
[]
[]
[]
[]
[]
[]
[]
[]
[]
[]
[]
[]
[]
[]
[]
[]
[]
[]
[]
[]
[]
[]
[]
[]
[]
[]
[]
[]
[]
[]
[]
[]
[]
[]
[]
[]
[]
[]
[]
[]
[]
[]
[]
[]
[]
[]
[]
[]
[]
[]
[]
[]
[]
[]
[]
[]
[]
[]
[]
[]
[]
[]
[]
[]
[]
[]
[]
[]
[]
[]
[]
[]
[]
[]
[]
[]
[]
[]
[]
[]
[]
[]
[]
[]
[]
[]
[]
[]
[]
[]
[]
[]
[]
[]
[]
[]
[]
[]
[]
[]
[]
[]
[]
[]
[]
[]
[]
[]
[]
[]
[]
[]
[]
[]
[]
[]
[]
[]
[]
[]
[]
[]
[]
[]
[]
[]
[]
[]
[]
[]
[]
[]
[]
[]
[]
[]
[]
[]
[]
[]
[]
[]
[]
[]
[]
[]
[]
[]
[]
[]
[]
[]
[]
[]
[]
[]
[]
[]
[]
[]
[]
[]
[]
[]
[]
[]
[]
[]
[]
[]
[]
[]
[]
[]
[]
[]
[]
[]
[]
[]
[]
[]
[]
[]
[]
[]
[]
[]
[]
[]
[]
[]
[]
[]
[]
[]
[]
[]
[]
[]
[]
[]
[]
[]
[]
[]
[]
[]
[]
[]
[]
[]
[]
[]
[]
[]
[]
[]
[]
[]
[]
[]
[]
[]
[]
[]
[]
[]
[]
[]
[]
[]
[]
[]
[]
[]
[]
[]
[]
[]
[]
[]
[]
[]
[]
[]
[]
[]
[]
[]
[]
[]
[]
[]
[]
[]
[]
[]
[]
[]
[]
[]
[]
[]
[]
[]
[]
[]
[]
[]
[]
[]
[]
[]
[]
[]
[]
[]
[]
[]
[]
[]
[]
[]
[]
[]
[]
[]
[]
[]
[]
[]
[]
[]
[]
[]
[]
[]
[]
[]
[]
[]
[]
[]
[]
[]
[]
[]
[]
[]
[]
[]
[]
[]
[]
[]
[]
[]
[]
[]
[]
[]
[]
[]
[]
[]
[]
[]
[]
[]
[]
[]
[]
[]
[]
[]
[]
[]
[]
[]
[]
[]
[]
[]
[]
[]
[]
[]
[]
[]
[]
[]
[]
[]
[]
[]
[]
[]
[]
[]
[]
[]
[]
[]
[]
[]
[]
[]
[]
[]
[]
[]
[]
[]
[]
[]
[]
[]
[]
[]
[]
[]
[]
[]
[]
[]
[]
[]
[]
[]
[]
[]
[]
[]
[]
[]
[]
[]
[]
[]
[]
[]
[]
[]
[]
[]
[]
[]
[]
[]
[]
[]
[]
[]
[]
[]
[]
[]
[]
[]
[]
[]
[]
[]
[]
[]
[]
[]
[]
[]
[]
[]
[]
[]
[]
[]
[]
[]
[]
[]
[]
[]
[]
[]
[]
[]
[]
[]
[]
[]
[]
[]
[]
[]
[]
[]
[]
[]
[]
[]
[]
[]
[]
[]
[]
[]
[]
[]
[]
[]
[]
[]
[]
[]
[]
[null,null,null,null,null,null,null,null,null,null,null,null,null,null,null,null,null,null,null,null,null,null,null,null,null,null,null,null,null,null,null,null,null,null,null,null,null,null,{"$f":"IF(AM3<=$H1001, AM3, \"\")","v":2021},{"$f":"IF(AN3<=$H1001, AN3, \"\")","v":2022},2023,2024,"","","","","","","","","","","","","","","","","","","","","","","","","",""]
[null,null,null,null,null,null,null,{"$f":"IF(MONTH(NOW())<7, YEAR(NOW())-2, YEAR(NOW())-1)","v":2024}]

{"sheet":"Fuels_GFCoE","index":13,"n_rows":1001,"n_cols":142,"rows_kept":1001,"cut":false,"hidden":false,"merged":[]}
[null,null,null,null,null,null,null,null,null,null,null,null,null,null,null,null,null,null,null,null,null,null,null,null,null,null,null,null,null,null,null,null,null,null,null,null,null,null,"Due to different legal basis, data prior to 2021 in this tool have no legal value and are only intended for data quality checks",null,null,null,null,null,null,null,null,null,null,null,null,null,null,null,null,null,null,null,null,null,null,null,null,null,null,null,null,null,null,null,null,null,null,null,null,null,null,null,null,null,null,null,null,null,null,null,null,null,null,null,null,null,null,null,null,null,null,null,null,null,null,null,null,null,null,null,null,null,null,null,null,null,null,null,null,null,null,null,null,null,null,null,null,null,null,null,null,null,null,null,null,null,null,null,null,"Contribution of renewable fuels to gross final consumption of energy (nrg_ind_rfce)"]
[null,null,null,null,null,null,null,null,null,null,null,null,null,null,null,null,null,null,null,null,null,null,null,null,null,null,null,null,null,null,null,null,null,null,null,null,null,null,"Please consult https://ec.europa.eu/eurostat/web/energy/data/shares for results up to 2020.",null,null,null,null,null,null,null,null,null,null,null,null,null,null,null,null,null,null,null,null,null,null,null,null,null,null,null,null,null,null,null,null,null,null,null,null,null,null,null,null,null,null,null,null,null,null,null,null,null,null,null,null,null,null,null,null,null,null,null,null,null,null,null,null,null,null,null,null,null,null,null,null,null,null,null,null,null,null,null,null,null,null,null,null,null,null,null,null,null,null,null,null,null,null,null,null,"Share of renewable fuels in gross final consumption of energy from renewables (nrg_ind_rfcer)"]
[null,null,null,null,null,null,null,null,null,null,null,null,null,null,null,null,null,null,null,null,null,null,null,null,null,null,null,null,null,null,null,null,null,null,null,null,null,null,null,null,null,null,null,null,null,null,null,null,null,null,null,null,null,null,null,null,null,null,null,null,null,null,null,null,null,null,null,null,null,null,null,null,null,null,null,null,null,null,null,null,null,null,null,null,null,null,null,null,null,null,null,null,null,null,null,null,null,null,null,null,null,null,null,null,null,null,null,null,null,null,null,null,null,null,null,null,null,null,null,null,null,null,null,null,null,null,null,null,null,null,null,null,null,null,null,"Share of renewable fuels in total gross final consumption of energy (nrg_ind_rftce)"]
[null,null,null,null,null,null,null,null,null,null,null,null,null,null,null,null,null,null,null,null,null,null,null,null,null,null,null,null,null,null,null,null,null,null,null,null,null,null,null,null,null,null,null,null,null,null,null,null,null,null,null,null,null,null,null,null,null,null,null,null,null,null,null,null,null,null,null,null,null,null,null,null,null,null,null,null,null,null,null,null,null,null,null,null,null,null,null,null,null,null,null,null,null,null,null,null,null,null,null,null,null,null,null,null,null,null,null,null,null,null,null,null,null,null,null,null,null,null,null,null,null,null,"*** DSD codes ***",null,null,null,null,null,null,null,null,null,null,null,null,"MDT Dim",null,"PRODUCT","MDT_FLOW",null,"UNIT"]
[{"$f":"MAIN!$D$9","v":""},null,null,null,null,null,null,1990,1991,1992,1993,1994,1995,1996,1997,1998,1999,2000,2001,2002,2003,2004,2005,2006,2007,2008,2009,2010,2011,2012,2013,2014,2015,2016,2017,2018,2019,2020,2021,2022,2023,2024,2025,2026,2027,2028,2029,2030,2031,2032,2033,2034,2035,2036,2037,2038,2039,2040,2041,2042,2043,2044,2045,2046,2047,2048,2049,2050,null,null,null,null,null,null,null,null,null,null,null,null,null,null,null,null,null,null,null,null,null,null,null,null,null,null,null,null,null,null,null,null,null,null,null,null,null,null,null,null,null,null,null,null,null,null,null,null,null,null,null,null,null,null,"REF_AREA","ENERGY_PRODUCT","MAIN_FLOW","FLOW_BREAKDOWN","PLANT_TECH","PLANT_TYPE","STOCKS","INFRASTRUCTURE_IND","VIS_A_VIS_AREA","MEASURE_VALUE_TYPE","FACILITY_ID","UNIT_MEASURE",null,"Eurobase Dim","MDT","MDT","MDT","MDT","MDT","Formula for country aggregates (Agg.)"]
["Contribution of renewable sources to gross final consumption of energy from renewables [ktoe]",null,null,null,null,null,null,null,null,null,null,null,null,null,null,null,null,null,null,null,null,{"$f":"'OVERALL TARGET'!V119","v":0},{"$f":"'OVERALL TARGET'!W119","v":0},{"$f":"'OVERALL TARGET'!X119","v":0},{"$f":"'OVERALL TARGET'!Y119","v":0},{"$f":"'OVERALL TARGET'!Z119","v":0},{"$f":"'OVERALL TARGET'!AA119","v":0},{"$f":"'OVERALL TARGET'!AB119","v":0},{"$f":"'OVERALL TARGET'!AC119","v":0},{"$f":"'OVERALL TARGET'!AD119","v":0},{"$f":"'OVERALL TARGET'!AE119","v":0},{"$f":"'OVERALL TARGET'!AF119","v":0},{"$f":"'OVERALL TARGET'!AG119","v":0},{"$f":"'OVERALL TARGET'!AH119","v":0},{"$f":"'OVERALL TARGET'!AI119","v":0},{"$f":"'OVERALL TARGET'!AJ119","v":0},{"$f":"'OVERALL TARGET'!AK119","v":0},{"$f":"'OVERALL TARGET'!AL119","v":0},{"$f":"'OVERALL TARGET'!AM119","v":0},{"$f":"'OVERALL TARGET'!AN119","v":0},{"$f":"'OVERALL TARGET'!AO119","v":0},{"$f":"'OVERALL TARGET'!AP119","v":0},{"$f":"'OVERALL TARGET'!AQ119","v":0},{"$f":"'OVERALL TARGET'!AR119","v":0},{"$f":"'OVERALL TARGET'!AS119","v":0},{"$f":"'OVERALL TARGET'!AT119","v":0},{"$f":"'OVERALL TARGET'!AU119","v":0},{"$f":"'OVERALL TARGET'!AV119","v":0},{"$f":"'OVERALL TARGET'!AW119","v":0},{"$f":"'OVERALL TARGET'!AX119","v":0},{"$f":"'OVERALL TARGET'!AY119","v":0},{"$f":"'OVERALL TARGET'!AZ119","v":0},{"$f":"'OVERALL TARGET'!BA119","v":0},{"$f":"'OVERALL TARGET'!BB119","v":0},{"$f":"'OVERALL TARGET'!BC119","v":0},{"$f":"'OVERALL TARGET'!BD119","v":0},{"$f":"'OVERALL TARGET'!BE119","v":0},{"$f":"'OVERALL TARGET'!BF119","v":0},{"$f":"'OVERALL TARGET'!BG119","v":0},{"$f":"'OVERALL TARGET'!BH119","v":0},{"$f":"'OVERALL TARGET'!BI119","v":0},{"$f":"'OVERALL TARGET'!BJ119","v":0},{"$f":"'OVERALL TARGET'!BK119","v":0},{"$f":"'OVERALL TARGET'!BL119","v":0},{"$f":"'OVERALL TARGET'!BM119","v":0},{"$f":"'OVERALL TARGET'!BN119","v":0},{"$f":"'OVERALL TARGET'!BO119","v":0},{"$f":"'OVERALL TARGET'!BP119","v":0},null,null,null,null,null,null,null,null,null,null,null,null,null,null,null,null,null,null,null,null,null,null,null,null,null,null,null,null,null,null,null,null,null,null,null,null,null,null,null,null,null,null,null,null,null,null,null,null,null,null,null,null,null,null,null,null,null,null,null,null,null,null,null,null,null,null,null,null,null,"RA000","GFC_E_OT_NAVICAPA",null,"KTOE","Agg.=SUM(countries)"]
["Hydro",null,null,null,null,null,null,null,null,null,null,null,null,null,null,null,null,null,null,null,null,{"$f":"'OVERALL TARGET'!V7*3.6/41.868","v":0},{"$f":"'OVERALL TARGET'!W7*3.6/41.868","v":0},{"$f":"'OVERALL TARGET'!X7*3.6/41.868","v":0},{"$f":"'OVERALL TARGET'!Y7*3.6/41.868","v":0},{"$f":"'OVERALL TARGET'!Z7*3.6/41.868","v":0},{"$f":"'OVERALL TARGET'!AA7*3.6/41.868","v":0},{"$f":"'OVERALL TARGET'!AB7*3.6/41.868","v":0},{"$f":"'OVERALL TARGET'!AC7*3.6/41.868","v":0},{"$f":"'OVERALL TARGET'!AD7*3.6/41.868","v":0},{"$f":"'OVERALL TARGET'!AE7*3.6/41.868","v":0},{"$f":"'OVERALL TARGET'!AF7*3.6/41.868","v":0},{"$f":"'OVERALL TARGET'!AG7*3.6/41.868","v":0},{"$f":"'OVERALL TARGET'!AH7*3.6/41.868","v":0},{"$f":"'OVERALL TARGET'!AI7*3.6/41.868","v":0},{"$f":"'OVERALL TARGET'!AJ7*3.6/41.868","v":0},{"$f":"'OVERALL TARGET'!AK7*3.6/41.868","v":0},{"$f":"'OVERALL TARGET'!AL7*3.6/41.868","v":0},{"$f":"'OVERALL TARGET'!AM7*3.6/41.868","v":0},{"$f":"'OVERALL TARGET'!AN7*3.6/41.868","v":0},{"$f":"'OVERALL TARGET'!AO7*3.6/41.868","v":0},{"$f":"'OVERALL TARGET'!AP7*3.6/41.868","v":0},{"$f":"'OVERALL TARGET'!AQ7*3.6/41.868","v":0},{"$f":"'OVERALL TARGET'!AR7*3.6/41.868","v":0},{"$f":"'OVERALL TARGET'!AS7*3.6/41.868","v":0},{"$f":"'OVERALL TARGET'!AT7*3.6/41.868","v":0},{"$f":"'OVERALL TARGET'!AU7*3.6/41.868","v":0},{"$f":"'OVERALL TARGET'!AV7*3.6/41.868","v":0},{"$f":"'OVERALL TARGET'!AW7*3.6/41.868","v":0},{"$f":"'OVERALL TARGET'!AX7*3.6/41.868","v":0},{"$f":"'OVERALL TARGET'!AY7*3.6/41.868","v":0},{"$f":"'OVERALL TARGET'!AZ7*3.6/41.868","v":0},{"$f":"'OVERALL TARGET'!BA7*3.6/41.868","v":0},{"$f":"'OVERALL TARGET'!BB7*3.6/41.868","v":0},{"$f":"'OVERALL TARGET'!BC7*3.6/41.868","v":0},{"$f":"'OVERALL TARGET'!BD7*3.6/41.868","v":0},{"$f":"'OVERALL TARGET'!BE7*3.6/41.868","v":0},{"$f":"'OVERALL TARGET'!BF7*3.6/41.868","v":0},{"$f":"'OVERALL TARGET'!BG7*3.6/41.868","v":0},{"$f":"'OVERALL TARGET'!BH7*3.6/41.868","v":0},{"$f":"'OVERALL TARGET'!BI7*3.6/41.868","v":0},{"$f":"'OVERALL TARGET'!BJ7*3.6/41.868","v":0},{"$f":"'OVERALL TARGET'!BK7*3.6/41.868","v":0},{"$f":"'OVERALL TARGET'!BL7*3.6/41.868","v":0},{"$f":"'OVERALL TARGET'!BM7*3.6/41.868","v":0},{"$f":"'OVERALL TARGET'!BN7*3.6/41.868","v":0},{"$f":"'OVERALL TARGET'!BO7*3.6/41.868","v":0},{"$f":"'OVERALL TARGET'!BP7*3.6/41.868","v":0},null,null,null,null,null,null,null,null,null,null,null,null,null,null,null,null,null,null,null,null,null,null,null,null,null,null,null,null,null,null,null,null,null,null,null,null,null,null,null,null,null,null,null,null,null,null,null,null,null,null,null,null,null,null,null,"RA100","ENERGUSE","GFC_E_OT_NAVICAPA","_Z","_Z","_Z","_Z","_Z","ENERGY","_Z","KTOE",null,"nrg_ind_rfce","TIMESERIES","RA100","GFC_E_OT_NAVICAPA","_Z","KTOE","Agg.=SUM(countries)"]
["Wind",null,null,null,null,null,null,null,null,null,null,null,null,null,null,null,null,null,null,null,null,{"$f":"'OVERALL TARGET'!V10*3.6/41.868","v":0},{"$f":"'OVERALL TARGET'!W10*3.6/41.868","v":0},{"$f":"'OVERALL TARGET'!X10*3.6/41.868","v":0},{"$f":"'OVERALL TARGET'!Y10*3.6/41.868","v":0},{"$f":"'OVERALL TARGET'!Z10*3.6/41.868","v":0},{"$f":"'OVERALL TARGET'!AA10*3.6/41.868","v":0},{"$f":"'OVERALL TARGET'!AB10*3.6/41.868","v":0},{"$f":"'OVERALL TARGET'!AC10*3.6/41.868","v":0},{"$f":"'OVERALL TARGET'!AD10*3.6/41.868","v":0},{"$f":"'OVERALL TARGET'!AE10*3.6/41.868","v":0},{"$f":"'OVERALL TARGET'!AF10*3.6/41.868","v":0},{"$f":"'OVERALL TARGET'!AG10*3.6/41.868","v":0},{"$f":"'OVERALL TARGET'!AH10*3.6/41.868","v":0},{"$f":"'OVERALL TARGET'!AI10*3.6/41.868","v":0},{"$f":"'OVERALL TARGET'!AJ10*3.6/41.868","v":0},{"$f":"'OVERALL TARGET'!AK10*3.6/41.868","v":0},{"$f":"'OVERALL TARGET'!AL10*3.6/41.868","v":0},{"$f":"'OVERALL TARGET'!AM10*3.6/41.868","v":0},{"$f":"'OVERALL TARGET'!AN10*3.6/41.868","v":0},{"$f":"'OVERALL TARGET'!AO10*3.6/41.868","v":0},{"$f":"'OVERALL TARGET'!AP10*3.6/41.868","v":0},{"$f":"'OVERALL TARGET'!AQ10*3.6/41.868","v":0},{"$f":"'OVERALL TARGET'!AR10*3.6/41.868","v":0},{"$f":"'OVERALL TARGET'!AS10*3.6/41.868","v":0},{"$f":"'OVERALL TARGET'!AT10*3.6/41.868","v":0},{"$f":"'OVERALL TARGET'!AU10*3.6/41.868","v":0},{"$f":"'OVERALL TARGET'!AV10*3.6/41.868","v":0},{"$f":"'OVERALL TARGET'!AW10*3.6/41.868","v":0},{"$f":"'OVERALL TARGET'!AX10*3.6/41.868","v":0},{"$f":"'OVERALL TARGET'!AY10*3.6/41.868","v":0},{"$f":"'OVERALL TARGET'!AZ10*3.6/41.868","v":0},{"$f":"'OVERALL TARGET'!BA10*3.6/41.868","v":0},{"$f":"'OVERALL TARGET'!BB10*3.6/41.868","v":0},{"$f":"'OVERALL TARGET'!BC10*3.6/41.868","v":0},{"$f":"'OVERALL TARGET'!BD10*3.6/41.868","v":0},{"$f":"'OVERALL TARGET'!BE10*3.6/41.868","v":0},{"$f":"'OVERALL TARGET'!BF10*3.6/41.868","v":0},{"$f":"'OVERALL TARGET'!BG10*3.6/41.868","v":0},{"$f":"'OVERALL TARGET'!BH10*3.6/41.868","v":0},{"$f":"'OVERALL TARGET'!BI10*3.6/41.868","v":0},{"$f":"'OVERALL TARGET'!BJ10*3.6/41.868","v":0},{"$f":"'OVERALL TARGET'!BK10*3.6/41.868","v":0},{"$f":"'OVERALL TARGET'!BL10*3.6/41.868","v":0},{"$f":"'OVERALL TARGET'!BM10*3.6/41.868","v":0},{"$f":"'OVERALL TARGET'!BN10*3.6/41.868","v":0},{"$f":"'OVERALL TARGET'!BO10*3.6/41.868","v":0},{"$f":"'OVERALL TARGET'!BP10*3.6/41.868","v":0},null,null,null,null,null,null,null,null,null,null,null,null,null,null,null,null,null,null,null,null,null,null,null,null,null,null,null,null,null,null,null,null,null,null,null,null,null,null,null,null,null,null,null,null,null,null,null,null,null,null,null,null,null,null,null,"RA300","ENERGUSE","GFC_E_OT_NAVICAPA","_Z","_Z","_Z","_Z","_Z","ENERGY","_Z","KTOE",null,"nrg_ind_rfce","TIMESERIES","RA300","GFC_E_OT_NAVICAPA","_Z","KTOE","Agg.=SUM(countries)"]
[null,"On-shore wind",null,null,null,null,null,null,null,null,null,null,null,null,null,null,null,null,null,null,null,{"$f":"'OVERALL TARGET'!V11*3.6/41.868","v":0},{"$f":"'OVERALL TARGET'!W11*3.6/41.868","v":0},{"$f":"'OVERALL TARGET'!X11*3.6/41.868","v":0},{"$f":"'OVERALL TARGET'!Y11*3.6/41.868","v":0},{"$f":"'OVERALL TARGET'!Z11*3.6/41.868","v":0},{"$f":"'OVERALL TARGET'!AA11*3.6/41.868","v":0},{"$f":"'OVERALL TARGET'!AB11*3.6/41.868","v":0},{"$f":"'OVERALL TARGET'!AC11*3.6/41.868","v":0},{"$f":"'OVERALL TARGET'!AD11*3.6/41.868","v":0},{"$f":"'OVERALL TARGET'!AE11*3.6/41.868","v":0},{"$f":"'OVERALL TARGET'!AF11*3.6/41.868","v":0},{"$f":"'OVERALL TARGET'!AG11*3.6/41.868","v":0},{"$f":"'OVERALL TARGET'!AH11*3.6/41.868","v":0},{"$f":"'OVERALL TARGET'!AI11*3.6/41.868","v":0},{"$f":"'OVERALL TARGET'!AJ11*3.6/41.868","v":0},{"$f":"'OVERALL TARGET'!AK11*3.6/41.868","v":0},{"$f":"'OVERALL TARGET'!AL11*3.6/41.868","v":0},{"$f":"'OVERALL TARGET'!AM11*3.6/41.868","v":0},{"$f":"'OVERALL TARGET'!AN11*3.6/41.868","v":0},{"$f":"'OVERALL TARGET'!AO11*3.6/41.868","v":0},{"$f":"'OVERALL TARGET'!AP11*3.6/41.868","v":0},{"$f":"'OVERALL TARGET'!AQ11*3.6/41.868","v":0},{"$f":"'OVERALL TARGET'!AR11*3.6/41.868","v":0},{"$f":"'OVERALL TARGET'!AS11*3.6/41.868","v":0},{"$f":"'OVERALL TARGET'!AT11*3.6/41.868","v":0},{"$f":"'OVERALL TARGET'!AU11*3.6/41.868","v":0},{"$f":"'OVERALL TARGET'!AV11*3.6/41.868","v":0},{"$f":"'OVERALL TARGET'!AW11*3.6/41.868","v":0},{"$f":"'OVERALL TARGET'!AX11*3.6/41.868","v":0},{"$f":"'OVERALL TARGET'!AY11*3.6/41.868","v":0},{"$f":"'OVERALL TARGET'!AZ11*3.6/41.868","v":0},{"$f":"'OVERALL TARGET'!BA11*3.6/41.868","v":0},{"$f":"'OVERALL TARGET'!BB11*3.6/41.868","v":0},{"$f":"'OVERALL TARGET'!BC11*3.6/41.868","v":0},{"$f":"'OVERALL TARGET'!BD11*3.6/41.868","v":0},{"$f":"'OVERALL TARGET'!BE11*3.6/41.868","v":0},{"$f":"'OVERALL TARGET'!BF11*3.6/41.868","v":0},{"$f":"'OVERALL TARGET'!BG11*3.6/41.868","v":0},{"$f":"'OVERALL TARGET'!BH11*3.6/41.868","v":0},{"$f":"'OVERALL TARGET'!BI11*3.6/41.868","v":0},{"$f":"'OVERALL TARGET'!BJ11*3.6/41.868","v":0},{"$f":"'OVERALL TARGET'!BK11*3.6/41.868","v":0},{"$f":"'OVERALL TARGET'!BL11*3.6/41.868","v":0},{"$f":"'OVERALL TARGET'!BM11*3.6/41.868","v":0},{"$f":"'OVERALL TARGET'!BN11*3.6/41.868","v":0},{"$f":"'OVERALL TARGET'!BO11*3.6/41.868","v":0},{"$f":"'OVERALL TARGET'!BP11*3.6/41.868","v":0},null,null,null,null,null,null,null,null,null,null,null,null,null,null,null,null,null,null,null,null,null,null,null,null,null,null,null,null,null,null,null,null,null,null,null,null,null,null,null,null,null,null,null,null,null,null,null,null,null,null,null,null,null,null,null,"RA310","ENERGUSE","GFC_E_OT_NAVICAPA","_Z","_Z","_Z","_Z","_Z","ENERGY","_Z","KTOE",null,"nrg_ind_rfce","TIMESERIES","RA310","GFC_E_OT_NAVICAPA","_Z","KTOE","Agg.=SUM(countries)"]
[null,"Off-shore wind",null,null,null,null,null,null,null,null,null,null,null,null,null,null,null,null,null,null,null,{"$f":"'OVERALL TARGET'!V12*3.6/41.868","v":0},{"$f":"'OVERALL TARGET'!W12*3.6/41.868","v":0},{"$f":"'OVERALL TARGET'!X12*3.6/41.868","v":0},{"$f":"'OVERALL TARGET'!Y12*3.6/41.868","v":0},{"$f":"'OVERALL TARGET'!Z12*3.6/41.868","v":0},{"$f":"'OVERALL TARGET'!AA12*3.6/41.868","v":0},{"$f":"'OVERALL TARGET'!AB12*3.6/41.868","v":0},{"$f":"'OVERALL TARGET'!AC12*3.6/41.868","v":0},{"$f":"'OVERALL TARGET'!AD12*3.6/41.868","v":0},{"$f":"'OVERALL TARGET'!AE12*3.6/41.868","v":0},{"$f":"'OVERALL TARGET'!AF12*3.6/41.868","v":0},{"$f":"'OVERALL TARGET'!AG12*3.6/41.868","v":0},{"$f":"'OVERALL TARGET'!AH12*3.6/41.868","v":0},{"$f":"'OVERALL TARGET'!AI12*3.6/41.868","v":0},{"$f":"'OVERALL TARGET'!AJ12*3.6/41.868","v":0},{"$f":"'OVERALL TARGET'!AK12*3.6/41.868","v":0},{"$f":"'OVERALL TARGET'!AL12*3.6/41.868","v":0},{"$f":"'OVERALL TARGET'!AM12*3.6/41.868","v":0},{"$f":"'OVERALL TARGET'!AN12*3.6/41.868","v":0},{"$f":"'OVERALL TARGET'!AO12*3.6/41.868","v":0},{"$f":"'OVERALL TARGET'!AP12*3.6/41.868","v":0},{"$f":"'OVERALL TARGET'!AQ12*3.6/41.868","v":0},{"$f":"'OVERALL TARGET'!AR12*3.6/41.868","v":0},{"$f":"'OVERALL TARGET'!AS12*3.6/41.868","v":0},{"$f":"'OVERALL TARGET'!AT12*3.6/41.868","v":0},{"$f":"'OVERALL TARGET'!AU12*3.6/41.868","v":0},{"$f":"'OVERALL TARGET'!AV12*3.6/41.868","v":0},{"$f":"'OVERALL TARGET'!AW12*3.6/41.868","v":0},{"$f":"'OVERALL TARGET'!AX12*3.6/41.868","v":0},{"$f":"'OVERALL TARGET'!AY12*3.6/41.868","v":0},{"$f":"'OVERALL TARGET'!AZ12*3.6/41.868","v":0},{"$f":"'OVERALL TARGET'!BA12*3.6/41.868","v":0},{"$f":"'OVERALL TARGET'!BB12*3.6/41.868","v":0},{"$f":"'OVERALL TARGET'!BC12*3.6/41.868","v":0},{"$f":"'OVERALL TARGET'!BD12*3.6/41.868","v":0},{"$f":"'OVERALL TARGET'!BE12*3.6/41.868","v":0},{"$f":"'OVERALL TARGET'!BF12*3.6/41.868","v":0},{"$f":"'OVERALL TARGET'!BG12*3.6/41.868","v":0},{"$f":"'OVERALL TARGET'!BH12*3.6/41.868","v":0},{"$f":"'OVERALL TARGET'!BI12*3.6/41.868","v":0},{"$f":"'OVERALL TARGET'!BJ12*3.6/41.868","v":0},{"$f":"'OVERALL TARGET'!BK12*3.6/41.868","v":0},{"$f":"'OVERALL TARGET'!BL12*3.6/41.868","v":0},{"$f":"'OVERALL TARGET'!BM12*3.6/41.868","v":0},{"$f":"'OVERALL TARGET'!BN12*3.6/41.868","v":0},{"$f":"'OVERALL TARGET'!BO12*3.6/41.868","v":0},{"$f":"'OVERALL TARGET'!BP12*3.6/41.868","v":0},null,null,null,null,null,null,null,null,null,null,null,null,null,null,null,null,null,null,null,null,null,null,null,null,null,null,null,null,null,null,null,null,null,null,null,null,null,null,null,null,null,null,null,null,null,null,null,null,null,null,null,null,null,null,null,"RA320","ENERGUSE","GFC_E_OT_NAVICAPA","_Z","_Z","_Z","_Z","_Z","ENERGY","_Z","KTOE",null,"nrg_ind_rfce","TIMESERIES","RA320","GFC_E_OT_NAVICAPA","_Z","KTOE","Agg.=SUM(countries)"]
["Sustainable bioliquids",null,null,null,null,null,null,null,null,null,null,null,null,null,null,null,null,null,null,null,null,{"$f":"('OVERALL TARGET'!V14+'OVERALL TARGET'!V18)*3.6/41.868+'OVERALL TARGET'!V51+('OVERALL TARGET'!V67+'OVERALL TARGET'!V71)","v":0},{"$f":"('OVERALL TARGET'!W14+'OVERALL TARGET'!W18)*3.6/41.868+'OVERALL TARGET'!W51+('OVERALL TARGET'!W67+'OVERALL TARGET'!W71)","v":0},{"$f":"('OVERALL TARGET'!X14+'OVERALL TARGET'!X18)*3.6/41.868+'OVERALL TARGET'!X51+('OVERALL TARGET'!X67+'OVERALL TARGET'!X71)","v":0},{"$f":"('OVERALL TARGET'!Y14+'OVERALL TARGET'!Y18)*3.6/41.868+'OVERALL TARGET'!Y51+('OVERALL TARGET'!Y67+'OVERALL TARGET'!Y71)","v":0},{"$f":"('OVERALL TARGET'!Z14+'OVERALL TARGET'!Z18)*3.6/41.868+'OVERALL TARGET'!Z51+('OVERALL TARGET'!Z67+'OVERALL TARGET'!Z71)","v":0},{"$f":"('OVERALL TARGET'!AA14+'OVERALL TARGET'!AA18)*3.6/41.868+'OVERALL TARGET'!AA51+('OVERALL TARGET'!AA67+'OVERALL TARGET'!AA71)","v":0},{"$f":"('OVERALL TARGET'!AB14+'OVERALL TARGET'!AB18)*3.6/41.868+'OVERALL TARGET'!AB51+('OVERALL TARGET'!AB67+'OVERALL TARGET'!AB71)","v":0},{"$f":"('OVERALL TARGET'!AC14+'OVERALL TARGET'!AC18)*3.6/41.868+'OVERALL TARGET'!AC51+('OVERALL TARGET'!AC67+'OVERALL TARGET'!AC71)","v":0},{"$f":"('OVERALL TARGET'!AD14+'OVERALL TARGET'!AD18)*3.6/41.868+'OVERALL TARGET'!AD51+('OVERALL TARGET'!AD67+'OVERALL TARGET'!AD71)","v":0},{"$f":"('OVERALL TARGET'!AE14+'OVERALL TARGET'!AE18)*3.6/41.868+'OVERALL TARGET'!AE51+('OVERALL TARGET'!AE67+'OVERALL TARGET'!AE71)","v":0},{"$f":"('OVERALL TARGET'!AF14+'OVERALL TARGET'!AF18)*3.6/41.868+'OVERALL TARGET'!AF51+('OVERALL TARGET'!AF67+'OVERALL TARGET'!AF71)","v":0},{"$f":"('OVERALL TARGET'!AG14+'OVERALL TARGET'!AG18)*3.6/41.868+'OVERALL TARGET'!AG51+('OVERALL TARGET'!AG67+'OVERALL TARGET'!AG71)","v":0},{"$f":"('OVERALL TARGET'!AH14+'OVERALL TARGET'!AH18)*3.6/41.868+'OVERALL TARGET'!AH51+('OVERALL TARGET'!AH67+'OVERALL TARGET'!AH71)","v":0},{"$f":"('OVERALL TARGET'!AI14+'OVERALL TARGET'!AI18)*3.6/41.868+'OVERALL TARGET'!AI51+('OVERALL TARGET'!AI67+'OVERALL TARGET'!AI71)","v":0},{"$f":"('OVERALL TARGET'!AJ14+'OVERALL TARGET'!AJ18)*3.6/41.868+'OVERALL TARGET'!AJ51+('OVERALL TARGET'!AJ67+'OVERALL TARGET'!AJ71)","v":0},{"$f":"('OVERALL TARGET'!AK14+'OVERALL TARGET'!AK18)*3.6/41.868+'OVERALL TARGET'!AK51+('OVERALL TARGET'!AK67+'OVERALL TARGET'!AK71)","v":0},{"$f":"('OVERALL TARGET'!AL14+'OVERALL TARGET'!AL18)*3.6/41.868+'OVERALL TARGET'!AL51+('OVERALL TARGET'!AL67+'OVERALL TARGET'!AL71)","v":0},{"$f":"('OVERALL TARGET'!AM14+'OVERALL TARGET'!AM18)*3.6/41.868+'OVERALL TARGET'!AM51+('OVERALL TARGET'!AM67+'OVERALL TARGET'!AM71)","v":0},{"$f":"('OVERALL TARGET'!AN14+'OVERALL TARGET'!AN18)*3.6/41.868+'OVERALL TARGET'!AN51+('OVERALL TARGET'!AN67+'OVERALL TARGET'!AN71)","v":0},{"$f":"('OVERALL TARGET'!AO14+'OVERALL TARGET'!AO18)*3.6/41.868+'OVERALL TARGET'!AO51+('OVERALL TARGET'!AO67+'OVERALL TARGET'!AO71)","v":0},{"$f":"('OVERALL TARGET'!AP14+'OVERALL TARGET'!AP18)*3.6/41.868+'OVERALL TARGET'!AP51+('OVERALL TARGET'!AP67+'OVERALL TARGET'!AP71)","v":0},{"$f":"('OVERALL TARGET'!AQ14+'OVERALL TARGET'!AQ18)*3.6/41.868+'OVERALL TARGET'!AQ51+('OVERALL TARGET'!AQ67+'OVERALL TARGET'!AQ71)","v":0},{"$f":"('OVERALL TARGET'!AR14+'OVERALL TARGET'!AR18)*3.6/41.868+'OVERALL TARGET'!AR51+('OVERALL TARGET'!AR67+'OVERALL TARGET'!AR71)","v":0},{"$f":"('OVERALL TARGET'!AS14+'OVERALL TARGET'!AS18)*3.6/41.868+'OVERALL TARGET'!AS51+('OVERALL TARGET'!AS67+'OVERALL TARGET'!AS71)","v":0},{"$f":"('OVERALL TARGET'!AT14+'OVERALL TARGET'!AT18)*3.6/41.868+'OVERALL TARGET'!AT51+('OVERALL TARGET'!AT67+'OVERALL TARGET'!AT71)","v":0},{"$f":"('OVERALL TARGET'!AU14+'OVERALL TARGET'!AU18)*3.6/41.868+'OVERALL TARGET'!AU51+('OVERALL TARGET'!AU67+'OVERALL TARGET'!AU71)","v":0},{"$f":"('OVERALL TARGET'!AV14+'OVERALL TARGET'!AV18)*3.6/41.868+'OVERALL TARGET'!AV51+('OVERALL TARGET'!AV67+'OVERALL TARGET'!AV71)","v":0},{"$f":"('OVERALL TARGET'!AW14+'OVERALL TARGET'!AW18)*3.6/41.868+'OVERALL TARGET'!AW51+('OVERALL TARGET'!AW67+'OVERALL TARGET'!AW71)","v":0},{"$f":"('OVERALL TARGET'!AX14+'OVERALL TARGET'!AX18)*3.6/41.868+'OVERALL TARGET'!AX51+('OVERALL TARGET'!AX67+'OVERALL TARGET'!AX71)","v":0},{"$f":"('OVERALL TARGET'!AY14+'OVERALL TARGET'!AY18)*3.6/41.868+'OVERALL TARGET'!AY51+('OVERALL TARGET'!AY67+'OVERALL TARGET'!AY71)","v":0},{"$f":"('OVERALL TARGET'!AZ14+'OVERALL TARGET'!AZ18)*3.6/41.868+'OVERALL TARGET'!AZ51+('OVERALL TARGET'!AZ67+'OVERALL TARGET'!AZ71)","v":0},{"$f":"('OVERALL TARGET'!BA14+'OVERALL TARGET'!BA18)*3.6/41.868+'OVERALL TARGET'!BA51+('OVERALL TARGET'!BA67+'OVERALL TARGET'!BA71)","v":0},{"$f":"('OVERALL TARGET'!BB14+'OVERALL TARGET'!BB18)*3.6/41.868+'OVERALL TARGET'!BB51+('OVERALL TARGET'!BB67+'OVERALL TARGET'!BB71)","v":0},{"$f":"('OVERALL TARGET'!BC14+'OVERALL TARGET'!BC18)*3.6/41.868+'OVERALL TARGET'!BC51+('OVERALL TARGET'!BC67+'OVERALL TARGET'!BC71)","v":0},{"$f":"('OVERALL TARGET'!BD14+'OVERALL TARGET'!BD18)*3.6/41.868+'OVERALL TARGET'!BD51+('OVERALL TARGET'!BD67+'OVERALL TARGET'!BD71)","v":0},{"$f":"('OVERALL TARGET'!BE14+'OVERALL TARGET'!BE18)*3.6/41.868+'OVERALL TARGET'!BE51+('OVERALL TARGET'!BE67+'OVERALL TARGET'!BE71)","v":0},{"$f":"('OVERALL TARGET'!BF14+'OVERALL TARGET'!BF18)*3.6/41.868+'OVERALL TARGET'!BF51+('OVERALL TARGET'!BF67+'OVERALL TARGET'!BF71)","v":0},{"$f":"('OVERALL TARGET'!BG14+'OVERALL TARGET'!BG18)*3.6/41.868+'OVERALL TARGET'!BG51+('OVERALL TARGET'!BG67+'OVERALL TARGET'!BG71)","v":0},{"$f":"('OVERALL TARGET'!BH14+'OVERALL TARGET'!BH18)*3.6/41.868+'OVERALL TARGET'!BH51+('OVERALL TARGET'!BH67+'OVERALL TARGET'!BH71)","v":0},{"$f":"('OVERALL TARGET'!BI14+'OVERALL TARGET'!BI18)*3.6/41.868+'OVERALL TARGET'!BI51+('OVERALL TARGET'!BI67+'OVERALL TARGET'!BI71)","v":0},{"$f":"('OVERALL TARGET'!BJ14+'OVERALL TARGET'!BJ18)*3.6/41.868+'OVERALL TARGET'!BJ51+('OVERALL TARGET'!BJ67+'OVERALL TARGET'!BJ71)","v":0},{"$f":"('OVERALL TARGET'!BK14+'OVERALL TARGET'!BK18)*3.6/41.868+'OVERALL TARGET'!BK51+('OVERALL TARGET'!BK67+'OVERALL TARGET'!BK71)","v":0},{"$f":"('OVERALL TARGET'!BL14+'OVERALL TARGET'!BL18)*3.6/41.868+'OVERALL TARGET'!BL51+('OVERALL TARGET'!BL67+'OVERALL TARGET'!BL71)","v":0},{"$f":"('OVERALL TARGET'!BM14+'OVERALL TARGET'!BM18)*3.6/41.868+'OVERALL TARGET'!BM51+('OVERALL TARGET'!BM67+'OVERALL TARGET'!BM71)","v":0},{"$f":"('OVERALL TARGET'!BN14+'OVERALL TARGET'!BN18)*3.6/41.868+'OVERALL TARGET'!BN51+('OVERALL TARGET'!BN67+'OVERALL TARGET'!BN71)","v":0},{"$f":"('OVERALL TARGET'!BO14+'OVERALL TARGET'!BO18)*3.6/41.868+'OVERALL TARGET'!BO51+('OVERALL TARGET'!BO67+'OVERALL TARGET'!BO71)","v":0},{"$f":"('OVERALL TARGET'!BP14+'OVERALL TARGET'!BP18)*3.6/41.868+'OVERALL TARGET'!BP51+('OVERALL TARGET'!BP67+'OVERALL TARGET'!BP71)","v":0},null,null,null,null,null,null,null,null,null,null,null,null,null,null,null,null,null,null,null,null,null,null,null,null,null,null,null,null,null,null,null,null,null,null,null,null,null,null,null,null,null,null,null,null,null,null,null,null,null,null,null,null,null,null,null,"R5292S","ENERGUSE","GFC_E_OT_NAVICAPA","_Z","_Z","_Z","_Z","_Z","ENERGY","_Z","KTOE",null,"nrg_ind_rfce","TIMESERIES","R5292S","GFC_E_OT_NAVICAPA","_Z","KTOE","Agg.=SUM(countries)"]
["Sustainable biofuels",null,null,null,null,null,null,null,null,null,null,null,null,null,null,null,null,null,null,null,null,{"$f":"TRANSPORT!V58","v":0},{"$f":"TRANSPORT!W58","v":0},{"$f":"TRANSPORT!X58","v":0},{"$f":"TRANSPORT!Y58","v":0},{"$f":"TRANSPORT!Z58","v":0},{"$f":"TRANSPORT!AA58","v":0},{"$f":"TRANSPORT!AB58","v":0},{"$f":"TRANSPORT!AC58","v":0},{"$f":"TRANSPORT!AD58","v":0},{"$f":"TRANSPORT!AE58","v":0},{"$f":"TRANSPORT!AF58","v":0},{"$f":"TRANSPORT!AG58","v":0},{"$f":"TRANSPORT!AH58","v":0},{"$f":"TRANSPORT!AI58","v":0},{"$f":"TRANSPORT!AJ58","v":0},{"$f":"TRANSPORT!AK58","v":0},{"$f":"TRANSPORT!AL58","v":0},{"$f":"TRANSPORT!AM58","v":0},{"$f":"TRANSPORT!AN58","v":0},{"$f":"TRANSPORT!AO58","v":0},{"$f":"TRANSPORT!AP58","v":0},{"$f":"TRANSPORT!AQ58","v":0},{"$f":"TRANSPORT!AR58","v":0},{"$f":"TRANSPORT!AS58","v":0},{"$f":"TRANSPORT!AT58","v":0},{"$f":"TRANSPORT!AU58","v":0},{"$f":"TRANSPORT!AV58","v":0},{"$f":"TRANSPORT!AW58","v":0},{"$f":"TRANSPORT!AX58","v":0},{"$f":"TRANSPORT!AY58","v":0},{"$f":"TRANSPORT!AZ58","v":0},{"$f":"TRANSPORT!BA58","v":0},{"$f":"TRANSPORT!BB58","v":0},{"$f":"TRANSPORT!BC58","v":0},{"$f":"TRANSPORT!BD58","v":0},{"$f":"TRANSPORT!BE58","v":0},{"$f":"TRANSPORT!BF58","v":0},{"$f":"TRANSPORT!BG58","v":0},{"$f":"TRANSPORT!BH58","v":0},{"$f":"TRANSPORT!BI58","v":0},{"$f":"TRANSPORT!BJ58","v":0},{"$f":"TRANSPORT!BK58","v":0},{"$f":"TRANSPORT!BL58","v":0},{"$f":"TRANSPORT!BM58","v":0},{"$f":"TRANSPORT!BN58","v":0},{"$f":"TRANSPORT!BO58","v":0},{"$f":"TRANSPORT!BP58","v":0},null,null,null,null,null,null,null,null,null,null,null,null,null,null,null,null,null,null,null,null,null,null,null,null,null,null,null,null,null,null,null,null,null,null,null,null,null,null,null,null,null,null,null,null,null,null,null,null,null,null,null,null,null,null,null,"R5250S","ENERGUSE","GFC_E_OT_NAVICAPA","_Z","_Z","_Z","_Z","_Z","ENERGY","_Z","KTOE",null,"nrg_ind_rfce","TIMESERIES","R5250S","GFC_E_OT_NAVICAPA","_Z","KTOE","Agg.=SUM(countries)"]
["Sustainable biogases",null,null,null,null,null,null,null,null,null,null,null,null,null,null,null,null,null,null,null,null,{"$f":"('OVERALL TARGET'!V23+'OVERALL TARGET'!V24+'OVERALL TARGET'!V33)*3.6/41.868+'OVERALL TARGET'!V41+'OVERALL TARGET'!V43+'OVERALL TARGET'!V44+'OVERALL TARGET'!V62+'OVERALL TARGET'!V64+'OVERALL TARGET'!V65","v":0},{"$f":"('OVERALL TARGET'!W23+'OVERALL TARGET'!W24+'OVERALL TARGET'!W33)*3.6/41.868+'OVERALL TARGET'!W41+'OVERALL TARGET'!W43+'OVERALL TARGET'!W44+'OVERALL TARGET'!W62+'OVERALL TARGET'!W64+'OVERALL TARGET'!W65","v":0},{"$f":"('OVERALL TARGET'!X23+'OVERALL TARGET'!X24+'OVERALL TARGET'!X33)*3.6/41.868+'OVERALL TARGET'!X41+'OVERALL TARGET'!X43+'OVERALL TARGET'!X44+'OVERALL TARGET'!X62+'OVERALL TARGET'!X64+'OVERALL TARGET'!X65","v":0},{"$f":"('OVERALL TARGET'!Y23+'OVERALL TARGET'!Y24+'OVERALL TARGET'!Y33)*3.6/41.868+'OVERALL TARGET'!Y41+'OVERALL TARGET'!Y43+'OVERALL TARGET'!Y44+'OVERALL TARGET'!Y62+'OVERALL TARGET'!Y64+'OVERALL TARGET'!Y65","v":0},{"$f":"('OVERALL TARGET'!Z23+'OVERALL TARGET'!Z24+'OVERALL TARGET'!Z33)*3.6/41.868+'OVERALL TARGET'!Z41+'OVERALL TARGET'!Z43+'OVERALL TARGET'!Z44+'OVERALL TARGET'!Z62+'OVERALL TARGET'!Z64+'OVERALL TARGET'!Z65","v":0},{"$f":"('OVERALL TARGET'!AA23+'OVERALL TARGET'!AA24+'OVERALL TARGET'!AA33)*3.6/41.868+'OVERALL TARGET'!AA41+'OVERALL TARGET'!AA43+'OVERALL TARGET'!AA44+'OVERALL TARGET'!AA62+'OVERALL TARGET'!AA64+'OVERALL TARGET'!AA65","v":0},{"$f":"('OVERALL TARGET'!AB23+'OVERALL TARGET'!AB24+'OVERALL TARGET'!AB33)*3.6/41.868+'OVERALL TARGET'!AB41+'OVERALL TARGET'!AB43+'OVERALL TARGET'!AB44+'OVERALL TARGET'!AB62+'OVERALL TARGET'!AB64+'OVERALL TARGET'!AB65","v":0},{"$f":"('OVERALL TARGET'!AC23+'OVERALL TARGET'!AC24+'OVERALL TARGET'!AC33)*3.6/41.868+'OVERALL TARGET'!AC41+'OVERALL TARGET'!AC43+'OVERALL TARGET'!AC44+'OVERALL TARGET'!AC62+'OVERALL TARGET'!AC64+'OVERALL TARGET'!AC65","v":0},{"$f":"('OVERALL TARGET'!AD23+'OVERALL TARGET'!AD24+'OVERALL TARGET'!AD33)*3.6/41.868+'OVERALL TARGET'!AD41+'OVERALL TARGET'!AD43+'OVERALL TARGET'!AD44+'OVERALL TARGET'!AD62+'OVERALL TARGET'!AD64+'OVERALL TARGET'!AD65","v":0},{"$f":"('OVERALL TARGET'!AE23+'OVERALL TARGET'!AE24+'OVERALL TARGET'!AE33)*3.6/41.868+'OVERALL TARGET'!AE41+'OVERALL TARGET'!AE43+'OVERALL TARGET'!AE44+'OVERALL TARGET'!AE62+'OVERALL TARGET'!AE64+'OVERALL TARGET'!AE65","v":0},{"$f":"('OVERALL TARGET'!AF23+'OVERALL TARGET'!AF24+'OVERALL TARGET'!AF33)*3.6/41.868+'OVERALL TARGET'!AF41+'OVERALL TARGET'!AF43+'OVERALL TARGET'!AF44+'OVERALL TARGET'!AF62+'OVERALL TARGET'!AF64+'OVERALL TARGET'!AF65","v":0},{"$f":"('OVERALL TARGET'!AG23+'OVERALL TARGET'!AG24+'OVERALL TARGET'!AG33)*3.6/41.868+'OVERALL TARGET'!AG41+'OVERALL TARGET'!AG43+'OVERALL TARGET'!AG44+'OVERALL TARGET'!AG62+'OVERALL TARGET'!AG64+'OVERALL TARGET'!AG65","v":0},{"$f":"('OVERALL TARGET'!AH23+'OVERALL TARGET'!AH24+'OVERALL TARGET'!AH33)*3.6/41.868+'OVERALL TARGET'!AH41+'OVERALL TARGET'!AH43+'OVERALL TARGET'!AH44+'OVERALL TARGET'!AH62+'OVERALL TARGET'!AH64+'OVERALL TARGET'!AH65","v":0},{"$f":"('OVERALL TARGET'!AI23+'OVERALL TARGET'!AI24+'OVERALL TARGET'!AI33)*3.6/41.868+'OVERALL TARGET'!AI41+'OVERALL TARGET'!AI43+'OVERALL TARGET'!AI44+'OVERALL TARGET'!AI62+'OVERALL TARGET'!AI64+'OVERALL TARGET'!AI65","v":0},{"$f":"('OVERALL TARGET'!AJ23+'OVERALL TARGET'!AJ24+'OVERALL TARGET'!AJ33)*3.6/41.868+'OVERALL TARGET'!AJ41+'OVERALL TARGET'!AJ43+'OVERALL TARGET'!AJ44+'OVERALL TARGET'!AJ62+'OVERALL TARGET'!AJ64+'OVERALL TARGET'!AJ65","v":0},{"$f":"('OVERALL TARGET'!AK23+'OVERALL TARGET'!AK24+'OVERALL TARGET'!AK33)*3.6/41.868+'OVERALL TARGET'!AK41+'OVERALL TARGET'!AK43+'OVERALL TARGET'!AK44+'OVERALL TARGET'!AK62+'OVERALL TARGET'!AK64+'OVERALL TARGET'!AK65","v":0},{"$f":"('OVERALL TARGET'!AL23+'OVERALL TARGET'!AL24+'OVERALL TARGET'!AL33)*3.6/41.868+'OVERALL TARGET'!AL41+'OVERALL TARGET'!AL43+'OVERALL TARGET'!AL44+'OVERALL TARGET'!AL62+'OVERALL TARGET'!AL64+'OVERALL TARGET'!AL65","v":0},{"$f":"('OVERALL TARGET'!AM23+'OVERALL TARGET'!AM24+'OVERALL TARGET'!AM33)*3.6/41.868+'OVERALL TARGET'!AM41+'OVERALL TARGET'!AM43+'OVERALL TARGET'!AM44+'OVERALL TARGET'!AM62+'OVERALL TARGET'!AM64+'OVERALL TARGET'!AM65","v":0},{"$f":"('OVERALL TARGET'!AN23+'OVERALL TARGET'!AN24+'OVERALL TARGET'!AN33)*3.6/41.868+'OVERALL TARGET'!AN41+'OVERALL TARGET'!AN43+'OVERALL TARGET'!AN44+'OVERALL TARGET'!AN62+'OVERALL TARGET'!AN64+'OVERALL TARGET'!AN65","v":0},{"$f":"('OVERALL TARGET'!AO23+'OVERALL TARGET'!AO24+'OVERALL TARGET'!AO33)*3.6/41.868+'OVERALL TARGET'!AO41+'OVERALL TARGET'!AO43+'OVERALL TARGET'!AO44+'OVERALL TARGET'!AO62+'OVERALL TARGET'!AO64+'OVERALL TARGET'!AO65","v":0},{"$f":"('OVERALL TARGET'!AP23+'OVERALL TARGET'!AP24+'OVERALL TARGET'!AP33)*3.6/41.868+'OVERALL TARGET'!AP41+'OVERALL TARGET'!AP43+'OVERALL TARGET'!AP44+'OVERALL TARGET'!AP62+'OVERALL TARGET'!AP64+'OVERALL TARGET'!AP65","v":0},{"$f":"('OVERALL TARGET'!AQ23+'OVERALL TARGET'!AQ24+'OVERALL TARGET'!AQ33)*3.6/41.868+'OVERALL TARGET'!AQ41+'OVERALL TARGET'!AQ43+'OVERALL TARGET'!AQ44+'OVERALL TARGET'!AQ62+'OVERALL TARGET'!AQ64+'OVERALL TARGET'!AQ65","v":0},{"$f":"('OVERALL TARGET'!AR23+'OVERALL TARGET'!AR24+'OVERALL TARGET'!AR33)*3.6/41.868+'OVERALL TARGET'!AR41+'OVERALL TARGET'!AR43+'OVERALL TARGET'!AR44+'OVERALL TARGET'!AR62+'OVERALL TARGET'!AR64+'OVERALL TARGET'!AR65","v":0},{"$f":"('OVERALL TARGET'!AS23+'OVERALL TARGET'!AS24+'OVERALL TARGET'!AS33)*3.6/41.868+'OVERALL TARGET'!AS41+'OVERALL TARGET'!AS43+'OVERALL TARGET'!AS44+'OVERALL TARGET'!AS62+'OVERALL TARGET'!AS64+'OVERALL TARGET'!AS65","v":0},{"$f":"('OVERALL TARGET'!AT23+'OVERALL TARGET'!AT24+'OVERALL TARGET'!AT33)*3.6/41.868+'OVERALL TARGET'!AT41+'OVERALL TARGET'!AT43+'OVERALL TARGET'!AT44+'OVERALL TARGET'!AT62+'OVERALL TARGET'!AT64+'OVERALL TARGET'!AT65","v":0},{"$f":"('OVERALL TARGET'!AU23+'OVERALL TARGET'!AU24+'OVERALL TARGET'!AU33)*3.6/41.868+'OVERALL TARGET'!AU41+'OVERALL TARGET'!AU43+'OVERALL TARGET'!AU44+'OVERALL TARGET'!AU62+'OVERALL TARGET'!AU64+'OVERALL TARGET'!AU65","v":0},{"$f":"('OVERALL TARGET'!AV23+'OVERALL TARGET'!AV24+'OVERALL TARGET'!AV33)*3.6/41.868+'OVERALL TARGET'!AV41+'OVERALL TARGET'!AV43+'OVERALL TARGET'!AV44+'OVERALL TARGET'!AV62+'OVERALL TARGET'!AV64+'OVERALL TARGET'!AV65","v":0},{"$f":"('OVERALL TARGET'!AW23+'OVERALL TARGET'!AW24+'OVERALL TARGET'!AW33)*3.6/41.868+'OVERALL TARGET'!AW41+'OVERALL TARGET'!AW43+'OVERALL TARGET'!AW44+'OVERALL TARGET'!AW62+'OVERALL TARGET'!AW64+'OVERALL TARGET'!AW65","v":0},{"$f":"('OVERALL TARGET'!AX23+'OVERALL TARGET'!AX24+'OVERALL TARGET'!AX33)*3.6/41.868+'OVERALL TARGET'!AX41+'OVERALL TARGET'!AX43+'OVERALL TARGET'!AX44+'OVERALL TARGET'!AX62+'OVERALL TARGET'!AX64+'OVERALL TARGET'!AX65","v":0},{"$f":"('OVERALL TARGET'!AY23+'OVERALL TARGET'!AY24+'OVERALL TARGET'!AY33)*3.6/41.868+'OVERALL TARGET'!AY41+'OVERALL TARGET'!AY43+'OVERALL TARGET'!AY44+'OVERALL TARGET'!AY62+'OVERALL TARGET'!AY64+'OVERALL TARGET'!AY65","v":0},{"$f":"('OVERALL TARGET'!AZ23+'OVERALL TARGET'!AZ24+'OVERALL TARGET'!AZ33)*3.6/41.868+'OVERALL TARGET'!AZ41+'OVERALL TARGET'!AZ43+'OVERALL TARGET'!AZ44+'OVERALL TARGET'!AZ62+'OVERALL TARGET'!AZ64+'OVERALL TARGET'!AZ65","v":0},{"$f":"('OVERALL TARGET'!BA23+'OVERALL TARGET'!BA24+'OVERALL TARGET'!BA33)*3.6/41.868+'OVERALL TARGET'!BA41+'OVERALL TARGET'!BA43+'OVERALL TARGET'!BA44+'OVERALL TARGET'!BA62+'OVERALL TARGET'!BA64+'OVERALL TARGET'!BA65","v":0},{"$f":"('OVERALL TARGET'!BB23+'OVERALL TARGET'!BB24+'OVERALL TARGET'!BB33)*3.6/41.868+'OVERALL TARGET'!BB41+'OVERALL TARGET'!BB43+'OVERALL TARGET'!BB44+'OVERALL TARGET'!BB62+'OVERALL TARGET'!BB64+'OVERALL TARGET'!BB65","v":0},{"$f":"('OVERALL TARGET'!BC23+'OVERALL TARGET'!BC24+'OVERALL TARGET'!BC33)*3.6/41.868+'OVERALL TARGET'!BC41+'OVERALL TARGET'!BC43+'OVERALL TARGET'!BC44+'OVERALL TARGET'!BC62+'OVERALL TARGET'!BC64+'OVERALL TARGET'!BC65","v":0},{"$f":"('OVERALL TARGET'!BD23+'OVERALL TARGET'!BD24+'OVERALL TARGET'!BD33)*3.6/41.868+'OVERALL TARGET'!BD41+'OVERALL TARGET'!BD43+'OVERALL TARGET'!BD44+'OVERALL TARGET'!BD62+'OVERALL TARGET'!BD64+'OVERALL TARGET'!BD65","v":0},{"$f":"('OVERALL TARGET'!BE23+'OVERALL TARGET'!BE24+'OVERALL TARGET'!BE33)*3.6/41.868+'OVERALL TARGET'!BE41+'OVERALL TARGET'!BE43+'OVERALL TARGET'!BE44+'OVERALL TARGET'!BE62+'OVERALL TARGET'!BE64+'OVERALL TARGET'!BE65","v":0},{"$f":"('OVERALL TARGET'!BF23+'OVERALL TARGET'!BF24+'OVERALL TARGET'!BF33)*3.6/41.868+'OVERALL TARGET'!BF41+'OVERALL TARGET'!BF43+'OVERALL TARGET'!BF44+'OVERALL TARGET'!BF62+'OVERALL TARGET'!BF64+'OVERALL TARGET'!BF65","v":0},{"$f":"('OVERALL TARGET'!BG23+'OVERALL TARGET'!BG24+'OVERALL TARGET'!BG33)*3.6/41.868+'OVERALL TARGET'!BG41+'OVERALL TARGET'!BG43+'OVERALL TARGET'!BG44+'OVERALL TARGET'!BG62+'OVERALL TARGET'!BG64+'OVERALL TARGET'!BG65","v":0},{"$f":"('OVERALL TARGET'!BH23+'OVERALL TARGET'!BH24+'OVERALL TARGET'!BH33)*3.6/41.868+'OVERALL TARGET'!BH41+'OVERALL TARGET'!BH43+'OVERALL TARGET'!BH44+'OVERALL TARGET'!BH62+'OVERALL TARGET'!BH64+'OVERALL TARGET'!BH65","v":0},{"$f":"('OVERALL TARGET'!BI23+'OVERALL TARGET'!BI24+'OVERALL TARGET'!BI33)*3.6/41.868+'OVERALL TARGET'!BI41+'OVERALL TARGET'!BI43+'OVERALL TARGET'!BI44+'OVERALL TARGET'!BI62+'OVERALL TARGET'!BI64+'OVERALL TARGET'!BI65","v":0},{"$f":"('OVERALL TARGET'!BJ23+'OVERALL TARGET'!BJ24+'OVERALL TARGET'!BJ33)*3.6/41.868+'OVERALL TARGET'!BJ41+'OVERALL TARGET'!BJ43+'OVERALL TARGET'!BJ44+'OVERALL TARGET'!BJ62+'OVERALL TARGET'!BJ64+'OVERALL TARGET'!BJ65","v":0},{"$f":"('OVERALL TARGET'!BK23+'OVERALL TARGET'!BK24+'OVERALL TARGET'!BK33)*3.6/41.868+'OVERALL TARGET'!BK41+'OVERALL TARGET'!BK43+'OVERALL TARGET'!BK44+'OVERALL TARGET'!BK62+'OVERALL TARGET'!BK64+'OVERALL TARGET'!BK65","v":0},{"$f":"('OVERALL TARGET'!BL23+'OVERALL TARGET'!BL24+'OVERALL TARGET'!BL33)*3.6/41.868+'OVERALL TARGET'!BL41+'OVERALL TARGET'!BL43+'OVERALL TARGET'!BL44+'OVERALL TARGET'!BL62+'OVERALL TARGET'!BL64+'OVERALL TARGET'!BL65","v":0},{"$f":"('OVERALL TARGET'!BM23+'OVERALL TARGET'!BM24+'OVERALL TARGET'!BM33)*3.6/41.868+'OVERALL TARGET'!BM41+'OVERALL TARGET'!BM43+'OVERALL TARGET'!BM44+'OVERALL TARGET'!BM62+'OVERALL TARGET'!BM64+'OVERALL TARGET'!BM65","v":0},{"$f":"('OVERALL TARGET'!BN23+'OVERALL TARGET'!BN24+'OVERALL TARGET'!BN33)*3.6/41.868+'OVERALL TARGET'!BN41+'OVERALL TARGET'!BN43+'OVERALL TARGET'!BN44+'OVERALL TARGET'!BN62+'OVERALL TARGET'!BN64+'OVERALL TARGET'!BN65","v":0},{"$f":"('OVERALL TARGET'!BO23+'OVERALL TARGET'!BO24+'OVERALL TARGET'!BO33)*3.6/41.868+'OVERALL TARGET'!BO41+'OVERALL TARGET'!BO43+'OVERALL TARGET'!BO44+'OVERALL TARGET'!BO62+'OVERALL TARGET'!BO64+'OVERALL TARGET'!BO65","v":0},{"$f":"('OVERALL TARGET'!BP23+'OVERALL TARGET'!BP24+'OVERALL TARGET'!BP33)*3.6/41.868+'OVERALL TARGET'!BP41+'OVERALL TARGET'!BP43+'OVERALL TARGET'!BP44+'OVERALL TARGET'!BP62+'OVERALL TARGET'!BP64+'OVERALL TARGET'!BP65","v":0},null,null,null,null,null,null,null,null,null,null,null,null,null,null,null,null,null,null,null,null,null,null,null,null,null,null,null,null,null,null,null,null,null,null,null,null,null,null,null,null,null,null,null,null,null,null,null,null,null,null,null,null,null,null,null,"R5300S","ENERGUSE","GFC_E_OT_NAVICAPA","_Z","_Z","_Z","_Z","_Z","ENERGY","_Z","KTOE",null,"nrg_ind_rfce","TIMESERIES","R5300S","GFC_E_OT_NAVICAPA","_Z","KTOE","Agg.=SUM(countries)"]
[null,"Of which blended in the grid",null,null,null,null,null,null,null,null,null,null,null,null,null,null,null,null,null,null,null,{"$f":"('OVERALL TARGET'!V23+'OVERALL TARGET'!V24)*3.6/41.868+'OVERALL TARGET'!V43+'OVERALL TARGET'!V44+'OVERALL TARGET'!V64+'OVERALL TARGET'!V65","v":0},{"$f":"('OVERALL TARGET'!W23+'OVERALL TARGET'!W24)*3.6/41.868+'OVERALL TARGET'!W43+'OVERALL TARGET'!W44+'OVERALL TARGET'!W64+'OVERALL TARGET'!W65","v":0},{"$f":"('OVERALL TARGET'!X23+'OVERALL TARGET'!X24)*3.6/41.868+'OVERALL TARGET'!X43+'OVERALL TARGET'!X44+'OVERALL TARGET'!X64+'OVERALL TARGET'!X65","v":0},{"$f":"('OVERALL TARGET'!Y23+'OVERALL TARGET'!Y24)*3.6/41.868+'OVERALL TARGET'!Y43+'OVERALL TARGET'!Y44+'OVERALL TARGET'!Y64+'OVERALL TARGET'!Y65","v":0},{"$f":"('OVERALL TARGET'!Z23+'OVERALL TARGET'!Z24)*3.6/41.868+'OVERALL TARGET'!Z43+'OVERALL TARGET'!Z44+'OVERALL TARGET'!Z64+'OVERALL TARGET'!Z65","v":0},{"$f":"('OVERALL TARGET'!AA23+'OVERALL TARGET'!AA24)*3.6/41.868+'OVERALL TARGET'!AA43+'OVERALL TARGET'!AA44+'OVERALL TARGET'!AA64+'OVERALL TARGET'!AA65","v":0},{"$f":"('OVERALL TARGET'!AB23+'OVERALL TARGET'!AB24)*3.6/41.868+'OVERALL TARGET'!AB43+'OVERALL TARGET'!AB44+'OVERALL TARGET'!AB64+'OVERALL TARGET'!AB65","v":0},{"$f":"('OVERALL TARGET'!AC23+'OVERALL TARGET'!AC24)*3.6/41.868+'OVERALL TARGET'!AC43+'OVERALL TARGET'!AC44+'OVERALL TARGET'!AC64+'OVERALL TARGET'!AC65","v":0},{"$f":"('OVERALL TARGET'!AD23+'OVERALL TARGET'!AD24)*3.6/41.868+'OVERALL TARGET'!AD43+'OVERALL TARGET'!AD44+'OVERALL TARGET'!AD64+'OVERALL TARGET'!AD65","v":0},{"$f":"('OVERALL TARGET'!AE23+'OVERALL TARGET'!AE24)*3.6/41.868+'OVERALL TARGET'!AE43+'OVERALL TARGET'!AE44+'OVERALL TARGET'!AE64+'OVERALL TARGET'!AE65","v":0},{"$f":"('OVERALL TARGET'!AF23+'OVERALL TARGET'!AF24)*3.6/41.868+'OVERALL TARGET'!AF43+'OVERALL TARGET'!AF44+'OVERALL TARGET'!AF64+'OVERALL TARGET'!AF65","v":0},{"$f":"('OVERALL TARGET'!AG23+'OVERALL TARGET'!AG24)*3.6/41.868+'OVERALL TARGET'!AG43+'OVERALL TARGET'!AG44+'OVERALL TARGET'!AG64+'OVERALL TARGET'!AG65","v":0},{"$f":"('OVERALL TARGET'!AH23+'OVERALL TARGET'!AH24)*3.6/41.868+'OVERALL TARGET'!AH43+'OVERALL TARGET'!AH44+'OVERALL TARGET'!AH64+'OVERALL TARGET'!AH65","v":0},{"$f":"('OVERALL TARGET'!AI23+'OVERALL TARGET'!AI24)*3.6/41.868+'OVERALL TARGET'!AI43+'OVERALL TARGET'!AI44+'OVERALL TARGET'!AI64+'OVERALL TARGET'!AI65","v":0},{"$f":"('OVERALL TARGET'!AJ23+'OVERALL TARGET'!AJ24)*3.6/41.868+'OVERALL TARGET'!AJ43+'OVERALL TARGET'!AJ44+'OVERALL TARGET'!AJ64+'OVERALL TARGET'!AJ65","v":0},{"$f":"('OVERALL TARGET'!AK23+'OVERALL TARGET'!AK24)*3.6/41.868+'OVERALL TARGET'!AK43+'OVERALL TARGET'!AK44+'OVERALL TARGET'!AK64+'OVERALL TARGET'!AK65","v":0},{"$f":"('OVERALL TARGET'!AL23+'OVERALL TARGET'!AL24)*3.6/41.868+'OVERALL TARGET'!AL43+'OVERALL TARGET'!AL44+'OVERALL TARGET'!AL64+'OVERALL TARGET'!AL65","v":0},{"$f":"('OVERALL TARGET'!AM23+'OVERALL TARGET'!AM24)*3.6/41.868+'OVERALL TARGET'!AM43+'OVERALL TARGET'!AM44+'OVERALL TARGET'!AM64+'OVERALL TARGET'!AM65","v":0},{"$f":"('OVERALL TARGET'!AN23+'OVERALL TARGET'!AN24)*3.6/41.868+'OVERALL TARGET'!AN43+'OVERALL TARGET'!AN44+'OVERALL TARGET'!AN64+'OVERALL TARGET'!AN65","v":0},{"$f":"('OVERALL TARGET'!AO23+'OVERALL TARGET'!AO24)*3.6/41.868+'OVERALL TARGET'!AO43+'OVERALL TARGET'!AO44+'OVERALL TARGET'!AO64+'OVERALL TARGET'!AO65","v":0},{"$f":"('OVERALL TARGET'!AP23+'OVERALL TARGET'!AP24)*3.6/41.868+'OVERALL TARGET'!AP43+'OVERALL TARGET'!AP44+'OVERALL TARGET'!AP64+'OVERALL TARGET'!AP65","v":0},{"$f":"('OVERALL TARGET'!AQ23+'OVERALL TARGET'!AQ24)*3.6/41.868+'OVERALL TARGET'!AQ43+'OVERALL TARGET'!AQ44+'OVERALL TARGET'!AQ64+'OVERALL TARGET'!AQ65","v":0},{"$f":"('OVERALL TARGET'!AR23+'OVERALL TARGET'!AR24)*3.6/41.868+'OVERALL TARGET'!AR43+'OVERALL TARGET'!AR44+'OVERALL TARGET'!AR64+'OVERALL TARGET'!AR65","v":0},{"$f":"('OVERALL TARGET'!AS23+'OVERALL TARGET'!AS24)*3.6/41.868+'OVERALL TARGET'!AS43+'OVERALL TARGET'!AS44+'OVERALL TARGET'!AS64+'OVERALL TARGET'!AS65","v":0},{"$f":"('OVERALL TARGET'!AT23+'OVERALL TARGET'!AT24)*3.6/41.868+'OVERALL TARGET'!AT43+'OVERALL TARGET'!AT44+'OVERALL TARGET'!AT64+'OVERALL TARGET'!AT65","v":0},{"$f":"('OVERALL TARGET'!AU23+'OVERALL TARGET'!AU24)*3.6/41.868+'OVERALL TARGET'!AU43+'OVERALL TARGET'!AU44+'OVERALL TARGET'!AU64+'OVERALL TARGET'!AU65","v":0},{"$f":"('OVERALL TARGET'!AV23+'OVERALL TARGET'!AV24)*3.6/41.868+'OVERALL TARGET'!AV43+'OVERALL TARGET'!AV44+'OVERALL TARGET'!AV64+'OVERALL TARGET'!AV65","v":0},{"$f":"('OVERALL TARGET'!AW23+'OVERALL TARGET'!AW24)*3.6/41.868+'OVERALL TARGET'!AW43+'OVERALL TARGET'!AW44+'OVERALL TARGET'!AW64+'OVERALL TARGET'!AW65","v":0},{"$f":"('OVERALL TARGET'!AX23+'OVERALL TARGET'!AX24)*3.6/41.868+'OVERALL TARGET'!AX43+'OVERALL TARGET'!AX44+'OVERALL TARGET'!AX64+'OVERALL TARGET'!AX65","v":0},{"$f":"('OVERALL TARGET'!AY23+'OVERALL TARGET'!AY24)*3.6/41.868+'OVERALL TARGET'!AY43+'OVERALL TARGET'!AY44+'OVERALL TARGET'!AY64+'OVERALL TARGET'!AY65","v":0},{"$f":"('OVERALL TARGET'!AZ23+'OVERALL TARGET'!AZ24)*3.6/41.868+'OVERALL TARGET'!AZ43+'OVERALL TARGET'!AZ44+'OVERALL TARGET'!AZ64+'OVERALL TARGET'!AZ65","v":0},{"$f":"('OVERALL TARGET'!BA23+'OVERALL TARGET'!BA24)*3.6/41.868+'OVERALL TARGET'!BA43+'OVERALL TARGET'!BA44+'OVERALL TARGET'!BA64+'OVERALL TARGET'!BA65","v":0},{"$f":"('OVERALL TARGET'!BB23+'OVERALL TARGET'!BB24)*3.6/41.868+'OVERALL TARGET'!BB43+'OVERALL TARGET'!BB44+'OVERALL TARGET'!BB64+'OVERALL TARGET'!BB65","v":0},{"$f":"('OVERALL TARGET'!BC23+'OVERALL TARGET'!BC24)*3.6/41.868+'OVERALL TARGET'!BC43+'OVERALL TARGET'!BC44+'OVERALL TARGET'!BC64+'OVERALL TARGET'!BC65","v":0},{"$f":"('OVERALL TARGET'!BD23+'OVERALL TARGET'!BD24)*3.6/41.868+'OVERALL TARGET'!BD43+'OVERALL TARGET'!BD44+'OVERALL TARGET'!BD64+'OVERALL TARGET'!BD65","v":0},{"$f":"('OVERALL TARGET'!BE23+'OVERALL TARGET'!BE24)*3.6/41.868+'OVERALL TARGET'!BE43+'OVERALL TARGET'!BE44+'OVERALL TARGET'!BE64+'OVERALL TARGET'!BE65","v":0},{"$f":"('OVERALL TARGET'!BF23+'OVERALL TARGET'!BF24)*3.6/41.868+'OVERALL TARGET'!BF43+'OVERALL TARGET'!BF44+'OVERALL TARGET'!BF64+'OVERALL TARGET'!BF65","v":0},{"$f":"('OVERALL TARGET'!BG23+'OVERALL TARGET'!BG24)*3.6/41.868+'OVERALL TARGET'!BG43+'OVERALL TARGET'!BG44+'OVERALL TARGET'!BG64+'OVERALL TARGET'!BG65","v":0},{"$f":"('OVERALL TARGET'!BH23+'OVERALL TARGET'!BH24)*3.6/41.868+'OVERALL TARGET'!BH43+'OVERALL TARGET'!BH44+'OVERALL TARGET'!BH64+'OVERALL TARGET'!BH65","v":0},{"$f":"('OVERALL TARGET'!BI23+'OVERALL TARGET'!BI24)*3.6/41.868+'OVERALL TARGET'!BI43+'OVERALL TARGET'!BI44+'OVERALL TARGET'!BI64+'OVERALL TARGET'!BI65","v":0},{"$f":"('OVERALL TARGET'!BJ23+'OVERALL TARGET'!BJ24)*3.6/41.868+'OVERALL TARGET'!BJ43+'OVERALL TARGET'!BJ44+'OVERALL TARGET'!BJ64+'OVERALL TARGET'!BJ65","v":0},{"$f":"('OVERALL TARGET'!BK23+'OVERALL TARGET'!BK24)*3.6/41.868+'OVERALL TARGET'!BK43+'OVERALL TARGET'!BK44+'OVERALL TARGET'!BK64+'OVERALL TARGET'!BK65","v":0},{"$f":"('OVERALL TARGET'!BL23+'OVERALL TARGET'!BL24)*3.6/41.868+'OVERALL TARGET'!BL43+'OVERALL TARGET'!BL44+'OVERALL TARGET'!BL64+'OVERALL TARGET'!BL65","v":0},{"$f":"('OVERALL TARGET'!BM23+'OVERALL TARGET'!BM24)*3.6/41.868+'OVERALL TARGET'!BM43+'OVERALL TARGET'!BM44+'OVERALL TARGET'!BM64+'OVERALL TARGET'!BM65","v":0},{"$f":"('OVERALL TARGET'!BN23+'OVERALL TARGET'!BN24)*3.6/41.868+'OVERALL TARGET'!BN43+'OVERALL TARGET'!BN44+'OVERALL TARGET'!BN64+'OVERALL TARGET'!BN65","v":0},{"$f":"('OVERALL TARGET'!BO23+'OVERALL TARGET'!BO24)*3.6/41.868+'OVERALL TARGET'!BO43+'OVERALL TARGET'!BO44+'OVERALL TARGET'!BO64+'OVERALL TARGET'!BO65","v":0},{"$f":"('OVERALL TARGET'!BP23+'OVERALL TARGET'!BP24)*3.6/41.868+'OVERALL TARGET'!BP43+'OVERALL TARGET'!BP44+'OVERALL TARGET'!BP64+'OVERALL TARGET'!BP65","v":0},null,null,null,null,null,null,null,null,null,null,null,null,null,null,null,null,null,null,null,null,null,null,null,null,null,null,null,null,null,null,null,null,null,null,null,null,null,null,null,null,null,null,null,null,null,null,null,null,null,null,null,null,null,null,null,"R5300SB","ENERGUSE","GFC_E_OT_NAVICAPA","_Z","_Z","_Z","_Z","_Z","ENERGY","_Z","KTOE",null,"nrg_ind_rfce","TIMESERIES","R5300SB","GFC_E_OT_NAVICAPA","_Z","KTOE","Agg.=SUM(countries)"]
["Geothermal",null,null,null,null,null,null,null,null,null,null,null,null,null,null,null,null,null,null,null,null,{"$f":"'OVERALL TARGET'!V25*3.6/41.868+'OVERALL TARGET'!V45+'OVERALL TARGET'!V56","v":0},{"$f":"'OVERALL TARGET'!W25*3.6/41.868+'OVERALL TARGET'!W45+'OVERALL TARGET'!W56","v":0},{"$f":"'OVERALL TARGET'!X25*3.6/41.868+'OVERALL TARGET'!X45+'OVERALL TARGET'!X56","v":0},{"$f":"'OVERALL TARGET'!Y25*3.6/41.868+'OVERALL TARGET'!Y45+'OVERALL TARGET'!Y56","v":0},{"$f":"'OVERALL TARGET'!Z25*3.6/41.868+'OVERALL TARGET'!Z45+'OVERALL TARGET'!Z56","v":0},{"$f":"'OVERALL TARGET'!AA25*3.6/41.868+'OVERALL TARGET'!AA45+'OVERALL TARGET'!AA56","v":0},{"$f":"'OVERALL TARGET'!AB25*3.6/41.868+'OVERALL TARGET'!AB45+'OVERALL TARGET'!AB56","v":0},{"$f":"'OVERALL TARGET'!AC25*3.6/41.868+'OVERALL TARGET'!AC45+'OVERALL TARGET'!AC56","v":0},{"$f":"'OVERALL TARGET'!AD25*3.6/41.868+'OVERALL TARGET'!AD45+'OVERALL TARGET'!AD56","v":0},{"$f":"'OVERALL TARGET'!AE25*3.6/41.868+'OVERALL TARGET'!AE45+'OVERALL TARGET'!AE56","v":0},{"$f":"'OVERALL TARGET'!AF25*3.6/41.868+'OVERALL TARGET'!AF45+'OVERALL TARGET'!AF56","v":0},{"$f":"'OVERALL TARGET'!AG25*3.6/41.868+'OVERALL TARGET'!AG45+'OVERALL TARGET'!AG56","v":0},{"$f":"'OVERALL TARGET'!AH25*3.6/41.868+'OVERALL TARGET'!AH45+'OVERALL TARGET'!AH56","v":0},{"$f":"'OVERALL TARGET'!AI25*3.6/41.868+'OVERALL TARGET'!AI45+'OVERALL TARGET'!AI56","v":0},{"$f":"'OVERALL TARGET'!AJ25*3.6/41.868+'OVERALL TARGET'!AJ45+'OVERALL TARGET'!AJ56","v":0},{"$f":"'OVERALL TARGET'!AK25*3.6/41.868+'OVERALL TARGET'!AK45+'OVERALL TARGET'!AK56","v":0},{"$f":"'OVERALL TARGET'!AL25*3.6/41.868+'OVERALL TARGET'!AL45+'OVERALL TARGET'!AL56","v":0},{"$f":"'OVERALL TARGET'!AM25*3.6/41.868+'OVERALL TARGET'!AM45+'OVERALL TARGET'!AM56","v":0},{"$f":"'OVERALL TARGET'!AN25*3.6/41.868+'OVERALL TARGET'!AN45+'OVERALL TARGET'!AN56","v":0},{"$f":"'OVERALL TARGET'!AO25*3.6/41.868+'OVERALL TARGET'!AO45+'OVERALL TARGET'!AO56","v":0},{"$f":"'OVERALL TARGET'!AP25*3.6/41.868+'OVERALL TARGET'!AP45+'OVERALL TARGET'!AP56","v":0},{"$f":"'OVERALL TARGET'!AQ25*3.6/41.868+'OVERALL TARGET'!AQ45+'OVERALL TARGET'!AQ56","v":0},{"$f":"'OVERALL TARGET'!AR25*3.6/41.868+'OVERALL TARGET'!AR45+'OVERALL TARGET'!AR56","v":0},{"$f":"'OVERALL TARGET'!AS25*3.6/41.868+'OVERALL TARGET'!AS45+'OVERALL TARGET'!AS56","v":0},{"$f":"'OVERALL TARGET'!AT25*3.6/41.868+'OVERALL TARGET'!AT45+'OVERALL TARGET'!AT56","v":0},{"$f":"'OVERALL TARGET'!AU25*3.6/41.868+'OVERALL TARGET'!AU45+'OVERALL TARGET'!AU56","v":0},{"$f":"'OVERALL TARGET'!AV25*3.6/41.868+'OVERALL TARGET'!AV45+'OVERALL TARGET'!AV56","v":0},{"$f":"'OVERALL TARGET'!AW25*3.6/41.868+'OVERALL TARGET'!AW45+'OVERALL TARGET'!AW56","v":0},{"$f":"'OVERALL TARGET'!AX25*3.6/41.868+'OVERALL TARGET'!AX45+'OVERALL TARGET'!AX56","v":0},{"$f":"'OVERALL TARGET'!AY25*3.6/41.868+'OVERALL TARGET'!AY45+'OVERALL TARGET'!AY56","v":0},{"$f":"'OVERALL TARGET'!AZ25*3.6/41.868+'OVERALL TARGET'!AZ45+'OVERALL TARGET'!AZ56","v":0},{"$f":"'OVERALL TARGET'!BA25*3.6/41.868+'OVERALL TARGET'!BA45+'OVERALL TARGET'!BA56","v":0},{"$f":"'OVERALL TARGET'!BB25*3.6/41.868+'OVERALL TARGET'!BB45+'OVERALL TARGET'!BB56","v":0},{"$f":"'OVERALL TARGET'!BC25*3.6/41.868+'OVERALL TARGET'!BC45+'OVERALL TARGET'!BC56","v":0},{"$f":"'OVERALL TARGET'!BD25*3.6/41.868+'OVERALL TARGET'!BD45+'OVERALL TARGET'!BD56","v":0},{"$f":"'OVERALL TARGET'!BE25*3.6/41.868+'OVERALL TARGET'!BE45+'OVERALL TARGET'!BE56","v":0},{"$f":"'OVERALL TARGET'!BF25*3.6/41.868+'OVERALL TARGET'!BF45+'OVERALL TARGET'!BF56","v":0},{"$f":"'OVERALL TARGET'!BG25*3.6/41.868+'OVERALL TARGET'!BG45+'OVERALL TARGET'!BG56","v":0},{"$f":"'OVERALL TARGET'!BH25*3.6/41.868+'OVERALL TARGET'!BH45+'OVERALL TARGET'!BH56","v":0},{"$f":"'OVERALL TARGET'!BI25*3.6/41.868+'OVERALL TARGET'!BI45+'OVERALL TARGET'!BI56","v":0},{"$f":"'OVERALL TARGET'!BJ25*3.6/41.868+'OVERALL TARGET'!BJ45+'OVERALL TARGET'!BJ56","v":0},{"$f":"'OVERALL TARGET'!BK25*3.6/41.868+'OVERALL TARGET'!BK45+'OVERALL TARGET'!BK56","v":0},{"$f":"'OVERALL TARGET'!BL25*3.6/41.868+'OVERALL TARGET'!BL45+'OVERALL TARGET'!BL56","v":0},{"$f":"'OVERALL TARGET'!BM25*3.6/41.868+'OVERALL TARGET'!BM45+'OVERALL TARGET'!BM56","v":0},{"$f":"'OVERALL TARGET'!BN25*3.6/41.868+'OVERALL TARGET'!BN45+'OVERALL TARGET'!BN56","v":0},{"$f":"'OVERALL TARGET'!BO25*3.6/41.868+'OVERALL TARGET'!BO45+'OVERALL TARGET'!BO56","v":0},{"$f":"'OVERALL TARGET'!BP25*3.6/41.868+'OVERALL TARGET'!BP45+'OVERALL TARGET'!BP56","v":0},null,null,null,null,null,null,null,null,null,null,null,null,null,null,null,null,null,null,null,null,null,null,null,null,null,null,null,null,null,null,null,null,null,null,null,null,null,null,null,null,null,null,null,null,null,null,null,null,null,null,null,null,null,null,null,"RA200","ENERGUSE","GFC_E_OT_NAVICAPA","_Z","_Z","_Z","_Z","_Z","ENERGY","_Z","KTOE",null,"nrg_ind_rfce","TIMESERIES","RA200","GFC_E_OT_NAVICAPA","_Z","KTOE","Agg.=SUM(countries)"]
["Solar photovoltaic",null,null,null,null,null,null,null,null,null,null,null,null,null,null,null,null,null,null,null,null,{"$f":"'OVERALL TARGET'!V26*3.6/41.868","v":0},{"$f":"'OVERALL TARGET'!W26*3.6/41.868","v":0},{"$f":"'OVERALL TARGET'!X26*3.6/41.868","v":0},{"$f":"'OVERALL TARGET'!Y26*3.6/41.868","v":0},{"$f":"'OVERALL TARGET'!Z26*3.6/41.868","v":0},{"$f":"'OVERALL TARGET'!AA26*3.6/41.868","v":0},{"$f":"'OVERALL TARGET'!AB26*3.6/41.868","v":0},{"$f":"'OVERALL TARGET'!AC26*3.6/41.868","v":0},{"$f":"'OVERALL TARGET'!AD26*3.6/41.868","v":0},{"$f":"'OVERALL TARGET'!AE26*3.6/41.868","v":0},{"$f":"'OVERALL TARGET'!AF26*3.6/41.868","v":0},{"$f":"'OVERALL TARGET'!AG26*3.6/41.868","v":0},{"$f":"'OVERALL TARGET'!AH26*3.6/41.868","v":0},{"$f":"'OVERALL TARGET'!AI26*3.6/41.868","v":0},{"$f":"'OVERALL TARGET'!AJ26*3.6/41.868","v":0},{"$f":"'OVERALL TARGET'!AK26*3.6/41.868","v":0},{"$f":"'OVERALL TARGET'!AL26*3.6/41.868","v":0},{"$f":"'OVERALL TARGET'!AM26*3.6/41.868","v":0},{"$f":"'OVERALL TARGET'!AN26*3.6/41.868","v":0},{"$f":"'OVERALL TARGET'!AO26*3.6/41.868","v":0},{"$f":"'OVERALL TARGET'!AP26*3.6/41.868","v":0},{"$f":"'OVERALL TARGET'!AQ26*3.6/41.868","v":0},{"$f":"'OVERALL TARGET'!AR26*3.6/41.868","v":0},{"$f":"'OVERALL TARGET'!AS26*3.6/41.868","v":0},{"$f":"'OVERALL TARGET'!AT26*3.6/41.868","v":0},{"$f":"'OVERALL TARGET'!AU26*3.6/41.868","v":0},{"$f":"'OVERALL TARGET'!AV26*3.6/41.868","v":0},{"$f":"'OVERALL TARGET'!AW26*3.6/41.868","v":0},{"$f":"'OVERALL TARGET'!AX26*3.6/41.868","v":0},{"$f":"'OVERALL TARGET'!AY26*3.6/41.868","v":0},{"$f":"'OVERALL TARGET'!AZ26*3.6/41.868","v":0},{"$f":"'OVERALL TARGET'!BA26*3.6/41.868","v":0},{"$f":"'OVERALL TARGET'!BB26*3.6/41.868","v":0},{"$f":"'OVERALL TARGET'!BC26*3.6/41.868","v":0},{"$f":"'OVERALL TARGET'!BD26*3.6/41.868","v":0},{"$f":"'OVERALL TARGET'!BE26*3.6/41.868","v":0},{"$f":"'OVERALL TARGET'!BF26*3.6/41.868","v":0},{"$f":"'OVERALL TARGET'!BG26*3.6/41.868","v":0},{"$f":"'OVERALL TARGET'!BH26*3.6/41.868","v":0},{"$f":"'OVERALL TARGET'!BI26*3.6/41.868","v":0},{"$f":"'OVERALL TARGET'!BJ26*3.6/41.868","v":0},{"$f":"'OVERALL TARGET'!BK26*3.6/41.868","v":0},{"$f":"'OVERALL TARGET'!BL26*3.6/41.868","v":0},{"$f":"'OVERALL TARGET'!BM26*3.6/41.868","v":0},{"$f":"'OVERALL TARGET'!BN26*3.6/41.868","v":0},{"$f":"'OVERALL TARGET'!BO26*3.6/41.868","v":0},{"$f":"'OVERALL TARGET'!BP26*3.6/41.868","v":0},null,null,null,null,null,null,null,null,null,null,null,null,null,null,null,null,null,null,null,null,null,null,null,null,null,null,null,null,null,null,null,null,null,null,null,null,null,null,null,null,null,null,null,null,null,null,null,null,null,null,null,null,null,null,null,"RA420","ENERGUSE","GFC_E_OT_NAVICAPA","_Z","_Z","_Z","_Z","_Z","ENERGY","_Z","KTOE",null,"nrg_ind_rfce","TIMESERIES","RA420","GFC_E_OT_NAVICAPA","_Z","KTOE","Agg.=SUM(countries)"]
["Solar thermal",null,null,null,null,null,null,null,null,null,null,null,null,null,null,null,null,null,null,null,null,{"$f":"'OVERALL TARGET'!V27*3.6/41.868+'OVERALL TARGET'!V46+'OVERALL TARGET'!V57","v":0},{"$f":"'OVERALL TARGET'!W27*3.6/41.868+'OVERALL TARGET'!W46+'OVERALL TARGET'!W57","v":0},{"$f":"'OVERALL TARGET'!X27*3.6/41.868+'OVERALL TARGET'!X46+'OVERALL TARGET'!X57","v":0},{"$f":"'OVERALL TARGET'!Y27*3.6/41.868+'OVERALL TARGET'!Y46+'OVERALL TARGET'!Y57","v":0},{"$f":"'OVERALL TARGET'!Z27*3.6/41.868+'OVERALL TARGET'!Z46+'OVERALL TARGET'!Z57","v":0},{"$f":"'OVERALL TARGET'!AA27*3.6/41.868+'OVERALL TARGET'!AA46+'OVERALL TARGET'!AA57","v":0},{"$f":"'OVERALL TARGET'!AB27*3.6/41.868+'OVERALL TARGET'!AB46+'OVERALL TARGET'!AB57","v":0},{"$f":"'OVERALL TARGET'!AC27*3.6/41.868+'OVERALL TARGET'!AC46+'OVERALL TARGET'!AC57","v":0},{"$f":"'OVERALL TARGET'!AD27*3.6/41.868+'OVERALL TARGET'!AD46+'OVERALL TARGET'!AD57","v":0},{"$f":"'OVERALL TARGET'!AE27*3.6/41.868+'OVERALL TARGET'!AE46+'OVERALL TARGET'!AE57","v":0},{"$f":"'OVERALL TARGET'!AF27*3.6/41.868+'OVERALL TARGET'!AF46+'OVERALL TARGET'!AF57","v":0},{"$f":"'OVERALL TARGET'!AG27*3.6/41.868+'OVERALL TARGET'!AG46+'OVERALL TARGET'!AG57","v":0},{"$f":"'OVERALL TARGET'!AH27*3.6/41.868+'OVERALL TARGET'!AH46+'OVERALL TARGET'!AH57","v":0},{"$f":"'OVERALL TARGET'!AI27*3.6/41.868+'OVERALL TARGET'!AI46+'OVERALL TARGET'!AI57","v":0},{"$f":"'OVERALL TARGET'!AJ27*3.6/41.868+'OVERALL TARGET'!AJ46+'OVERALL TARGET'!AJ57","v":0},{"$f":"'OVERALL TARGET'!AK27*3.6/41.868+'OVERALL TARGET'!AK46+'OVERALL TARGET'!AK57","v":0},{"$f":"'OVERALL TARGET'!AL27*3.6/41.868+'OVERALL TARGET'!AL46+'OVERALL TARGET'!AL57","v":0},{"$f":"'OVERALL TARGET'!AM27*3.6/41.868+'OVERALL TARGET'!AM46+'OVERALL TARGET'!AM57","v":0},{"$f":"'OVERALL TARGET'!AN27*3.6/41.868+'OVERALL TARGET'!AN46+'OVERALL TARGET'!AN57","v":0},{"$f":"'OVERALL TARGET'!AO27*3.6/41.868+'OVERALL TARGET'!AO46+'OVERALL TARGET'!AO57","v":0},{"$f":"'OVERALL TARGET'!AP27*3.6/41.868+'OVERALL TARGET'!AP46+'OVERALL TARGET'!AP57","v":0},{"$f":"'OVERALL TARGET'!AQ27*3.6/41.868+'OVERALL TARGET'!AQ46+'OVERALL TARGET'!AQ57","v":0},{"$f":"'OVERALL TARGET'!AR27*3.6/41.868+'OVERALL TARGET'!AR46+'OVERALL TARGET'!AR57","v":0},{"$f":"'OVERALL TARGET'!AS27*3.6/41.868+'OVERALL TARGET'!AS46+'OVERALL TARGET'!AS57","v":0},{"$f":"'OVERALL TARGET'!AT27*3.6/41.868+'OVERALL TARGET'!AT46+'OVERALL TARGET'!AT57","v":0},{"$f":"'OVERALL TARGET'!AU27*3.6/41.868+'OVERALL TARGET'!AU46+'OVERALL TARGET'!AU57","v":0},{"$f":"'OVERALL TARGET'!AV27*3.6/41.868+'OVERALL TARGET'!AV46+'OVERALL TARGET'!AV57","v":0},{"$f":"'OVERALL TARGET'!AW27*3.6/41.868+'OVERALL TARGET'!AW46+'OVERALL TARGET'!AW57","v":0},{"$f":"'OVERALL TARGET'!AX27*3.6/41.868+'OVERALL TARGET'!AX46+'OVERALL TARGET'!AX57","v":0},{"$f":"'OVERALL TARGET'!AY27*3.6/41.868+'OVERALL TARGET'!AY46+'OVERALL TARGET'!AY57","v":0},{"$f":"'OVERALL TARGET'!AZ27*3.6/41.868+'OVERALL TARGET'!AZ46+'OVERALL TARGET'!AZ57","v":0},{"$f":"'OVERALL TARGET'!BA27*3.6/41.868+'OVERALL TARGET'!BA46+'OVERALL TARGET'!BA57","v":0},{"$f":"'OVERALL TARGET'!BB27*3.6/41.868+'OVERALL TARGET'!BB46+'OVERALL TARGET'!BB57","v":0},{"$f":"'OVERALL TARGET'!BC27*3.6/41.868+'OVERALL TARGET'!BC46+'OVERALL TARGET'!BC57","v":0},{"$f":"'OVERALL TARGET'!BD27*3.6/41.868+'OVERALL TARGET'!BD46+'OVERALL TARGET'!BD57","v":0},{"$f":"'OVERALL TARGET'!BE27*3.6/41.868+'OVERALL TARGET'!BE46+'OVERALL TARGET'!BE57","v":0},{"$f":"'OVERALL TARGET'!BF27*3.6/41.868+'OVERALL TARGET'!BF46+'OVERALL TARGET'!BF57","v":0},{"$f":"'OVERALL TARGET'!BG27*3.6/41.868+'OVERALL TARGET'!BG46+'OVERALL TARGET'!BG57","v":0},{"$f":"'OVERALL TARGET'!BH27*3.6/41.868+'OVERALL TARGET'!BH46+'OVERALL TARGET'!BH57","v":0},{"$f":"'OVERALL TARGET'!BI27*3.6/41.868+'OVERALL TARGET'!BI46+'OVERALL TARGET'!BI57","v":0},{"$f":"'OVERALL TARGET'!BJ27*3.6/41.868+'OVERALL TARGET'!BJ46+'OVERALL TARGET'!BJ57","v":0},{"$f":"'OVERALL TARGET'!BK27*3.6/41.868+'OVERALL TARGET'!BK46+'OVERALL TARGET'!BK57","v":0},{"$f":"'OVERALL TARGET'!BL27*3.6/41.868+'OVERALL TARGET'!BL46+'OVERALL TARGET'!BL57","v":0},{"$f":"'OVERALL TARGET'!BM27*3.6/41.868+'OVERALL TARGET'!BM46+'OVERALL TARGET'!BM57","v":0},{"$f":"'OVERALL TARGET'!BN27*3.6/41.868+'OVERALL TARGET'!BN46+'OVERALL TARGET'!BN57","v":0},{"$f":"'OVERALL TARGET'!BO27*3.6/41.868+'OVERALL TARGET'!BO46+'OVERALL TARGET'!BO57","v":0},{"$f":"'OVERALL TARGET'!BP27*3.6/41.868+'OVERALL TARGET'!BP46+'OVERALL TARGET'!BP57","v":0},null,null,null,null,null,null,null,null,null,null,null,null,null,null,null,null,null,null,null,null,null,null,null,null,null,null,null,null,null,null,null,null,null,null,null,null,null,null,null,null,null,null,null,null,null,null,null,null,null,null,null,null,null,null,null,"RA410","ENERGUSE","GFC_E_OT_NAVICAPA","_Z","_Z","_Z","_Z","_Z","ENERGY","_Z","KTOE",null,"nrg_ind_rfce","TIMESERIES","RA410","GFC_E_OT_NAVICAPA","_Z","KTOE","Agg.=SUM(countries)"]
["Tide, wave and ocean",null,null,null,null,null,null,null,null,null,null,null,null,null,null,null,null,null,null,null,null,{"$f":"'OVERALL TARGET'!V28*3.6/41.868","v":0},{"$f":"'OVERALL TARGET'!W28*3.6/41.868","v":0},{"$f":"'OVERALL TARGET'!X28*3.6/41.868","v":0},{"$f":"'OVERALL TARGET'!Y28*3.6/41.868","v":0},{"$f":"'OVERALL TARGET'!Z28*3.6/41.868","v":0},{"$f":"'OVERALL TARGET'!AA28*3.6/41.868","v":0},{"$f":"'OVERALL TARGET'!AB28*3.6/41.868","v":0},{"$f":"'OVERALL TARGET'!AC28*3.6/41.868","v":0},{"$f":"'OVERALL TARGET'!AD28*3.6/41.868","v":0},{"$f":"'OVERALL TARGET'!AE28*3.6/41.868","v":0},{"$f":"'OVERALL TARGET'!AF28*3.6/41.868","v":0},{"$f":"'OVERALL TARGET'!AG28*3.6/41.868","v":0},{"$f":"'OVERALL TARGET'!AH28*3.6/41.868","v":0},{"$f":"'OVERALL TARGET'!AI28*3.6/41.868","v":0},{"$f":"'OVERALL TARGET'!AJ28*3.6/41.868","v":0},{"$f":"'OVERALL TARGET'!AK28*3.6/41.868","v":0},{"$f":"'OVERALL TARGET'!AL28*3.6/41.868","v":0},{"$f":"'OVERALL TARGET'!AM28*3.6/41.868","v":0},{"$f":"'OVERALL TARGET'!AN28*3.6/41.868","v":0},{"$f":"'OVERALL TARGET'!AO28*3.6/41.868","v":0},{"$f":"'OVERALL TARGET'!AP28*3.6/41.868","v":0},{"$f":"'OVERALL TARGET'!AQ28*3.6/41.868","v":0},{"$f":"'OVERALL TARGET'!AR28*3.6/41.868","v":0},{"$f":"'OVERALL TARGET'!AS28*3.6/41.868","v":0},{"$f":"'OVERALL TARGET'!AT28*3.6/41.868","v":0},{"$f":"'OVERALL TARGET'!AU28*3.6/41.868","v":0},{"$f":"'OVERALL TARGET'!AV28*3.6/41.868","v":0},{"$f":"'OVERALL TARGET'!AW28*3.6/41.868","v":0},{"$f":"'OVERALL TARGET'!AX28*3.6/41.868","v":0},{"$f":"'OVERALL TARGET'!AY28*3.6/41.868","v":0},{"$f":"'OVERALL TARGET'!AZ28*3.6/41.868","v":0},{"$f":"'OVERALL TARGET'!BA28*3.6/41.868","v":0},{"$f":"'OVERALL TARGET'!BB28*3.6/41.868","v":0},{"$f":"'OVERALL TARGET'!BC28*3.6/41.868","v":0},{"$f":"'OVERALL TARGET'!BD28*3.6/41.868","v":0},{"$f":"'OVERALL TARGET'!BE28*3.6/41.868","v":0},{"$f":"'OVERALL TARGET'!BF28*3.6/41.868","v":0},{"$f":"'OVERALL TARGET'!BG28*3.6/41.868","v":0},{"$f":"'OVERALL TARGET'!BH28*3.6/41.868","v":0},{"$f":"'OVERALL TARGET'!BI28*3.6/41.868","v":0},{"$f":"'OVERALL TARGET'!BJ28*3.6/41.868","v":0},{"$f":"'OVERALL TARGET'!BK28*3.6/41.868","v":0},{"$f":"'OVERALL TARGET'!BL28*3.6/41.868","v":0},{"$f":"'OVERALL TARGET'!BM28*3.6/41.868","v":0},{"$f":"'OVERALL TARGET'!BN28*3.6/41.868","v":0},{"$f":"'OVERALL TARGET'!BO28*3.6/41.868","v":0},{"$f":"'OVERALL TARGET'!BP28*3.6/41.868","v":0},null,null,null,null,null,null,null,null,null,null,null,null,null,null,null,null,null,null,null,null,null,null,null,null,null,null,null,null,null,null,null,null,null,null,null,null,null,null,null,null,null,null,null,null,null,null,null,null,null,null,null,null,null,null,null,"RA500","ENERGUSE","GFC_E_OT_NAVICAPA","_Z","_Z","_Z","_Z","_Z","ENERGY","_Z","KTOE",null,"nrg_ind_rfce","TIMESERIES","RA500","GFC_E_OT_NAVICAPA","_Z","KTOE","Agg.=SUM(countries)"]
["Municipal waste (renewable)",null,null,null,null,null,null,null,null,null,null,null,null,null,null,null,null,null,null,null,null,{"$f":"'OVERALL TARGET'!V29*3.6/41.868+'OVERALL TARGET'!V47+'OVERALL TARGET'!V58","v":0},{"$f":"'OVERALL TARGET'!W29*3.6/41.868+'OVERALL TARGET'!W47+'OVERALL TARGET'!W58","v":0},{"$f":"'OVERALL TARGET'!X29*3.6/41.868+'OVERALL TARGET'!X47+'OVERALL TARGET'!X58","v":0},{"$f":"'OVERALL TARGET'!Y29*3.6/41.868+'OVERALL TARGET'!Y47+'OVERALL TARGET'!Y58","v":0},{"$f":"'OVERALL TARGET'!Z29*3.6/41.868+'OVERALL TARGET'!Z47+'OVERALL TARGET'!Z58","v":0},{"$f":"'OVERALL TARGET'!AA29*3.6/41.868+'OVERALL TARGET'!AA47+'OVERALL TARGET'!AA58","v":0},{"$f":"'OVERALL TARGET'!AB29*3.6/41.868+'OVERALL TARGET'!AB47+'OVERALL TARGET'!AB58","v":0},{"$f":"'OVERALL TARGET'!AC29*3.6/41.868+'OVERALL TARGET'!AC47+'OVERALL TARGET'!AC58","v":0},{"$f":"'OVERALL TARGET'!AD29*3.6/41.868+'OVERALL TARGET'!AD47+'OVERALL TARGET'!AD58","v":0},{"$f":"'OVERALL TARGET'!AE29*3.6/41.868+'OVERALL TARGET'!AE47+'OVERALL TARGET'!AE58","v":0},{"$f":"'OVERALL TARGET'!AF29*3.6/41.868+'OVERALL TARGET'!AF47+'OVERALL TARGET'!AF58","v":0},{"$f":"'OVERALL TARGET'!AG29*3.6/41.868+'OVERALL TARGET'!AG47+'OVERALL TARGET'!AG58","v":0},{"$f":"'OVERALL TARGET'!AH29*3.6/41.868+'OVERALL TARGET'!AH47+'OVERALL TARGET'!AH58","v":0},{"$f":"'OVERALL TARGET'!AI29*3.6/41.868+'OVERALL TARGET'!AI47+'OVERALL TARGET'!AI58","v":0},{"$f":"'OVERALL TARGET'!AJ29*3.6/41.868+'OVERALL TARGET'!AJ47+'OVERALL TARGET'!AJ58","v":0},{"$f":"'OVERALL TARGET'!AK29*3.6/41.868+'OVERALL TARGET'!AK47+'OVERALL TARGET'!AK58","v":0},{"$f":"'OVERALL TARGET'!AL29*3.6/41.868+'OVERALL TARGET'!AL47+'OVERALL TARGET'!AL58","v":0},{"$f":"'OVERALL TARGET'!AM29*3.6/41.868+'OVERALL TARGET'!AM47+'OVERALL TARGET'!AM58","v":0},{"$f":"'OVERALL TARGET'!AN29*3.6/41.868+'OVERALL TARGET'!AN47+'OVERALL TARGET'!AN58","v":0},{"$f":"'OVERALL TARGET'!AO29*3.6/41.868+'OVERALL TARGET'!AO47+'OVERALL TARGET'!AO58","v":0},{"$f":"'OVERALL TARGET'!AP29*3.6/41.868+'OVERALL TARGET'!AP47+'OVERALL TARGET'!AP58","v":0},{"$f":"'OVERALL TARGET'!AQ29*3.6/41.868+'OVERALL TARGET'!AQ47+'OVERALL TARGET'!AQ58","v":0},{"$f":"'OVERALL TARGET'!AR29*3.6/41.868+'OVERALL TARGET'!AR47+'OVERALL TARGET'!AR58","v":0},{"$f":"'OVERALL TARGET'!AS29*3.6/41.868+'OVERALL TARGET'!AS47+'OVERALL TARGET'!AS58","v":0},{"$f":"'OVERALL TARGET'!AT29*3.6/41.868+'OVERALL TARGET'!AT47+'OVERALL TARGET'!AT58","v":0},{"$f":"'OVERALL TARGET'!AU29*3.6/41.868+'OVERALL TARGET'!AU47+'OVERALL TARGET'!AU58","v":0},{"$f":"'OVERALL TARGET'!AV29*3.6/41.868+'OVERALL TARGET'!AV47+'OVERALL TARGET'!AV58","v":0},{"$f":"'OVERALL TARGET'!AW29*3.6/41.868+'OVERALL TARGET'!AW47+'OVERALL TARGET'!AW58","v":0},{"$f":"'OVERALL TARGET'!AX29*3.6/41.868+'OVERALL TARGET'!AX47+'OVERALL TARGET'!AX58","v":0},{"$f":"'OVERALL TARGET'!AY29*3.6/41.868+'OVERALL TARGET'!AY47+'OVERALL TARGET'!AY58","v":0},{"$f":"'OVERALL TARGET'!AZ29*3.6/41.868+'OVERALL TARGET'!AZ47+'OVERALL TARGET'!AZ58","v":0},{"$f":"'OVERALL TARGET'!BA29*3.6/41.868+'OVERALL TARGET'!BA47+'OVERALL TARGET'!BA58","v":0},{"$f":"'OVERALL TARGET'!BB29*3.6/41.868+'OVERALL TARGET'!BB47+'OVERALL TARGET'!BB58","v":0},{"$f":"'OVERALL TARGET'!BC29*3.6/41.868+'OVERALL TARGET'!BC47+'OVERALL TARGET'!BC58","v":0},{"$f":"'OVERALL TARGET'!BD29*3.6/41.868+'OVERALL TARGET'!BD47+'OVERALL TARGET'!BD58","v":0},{"$f":"'OVERALL TARGET'!BE29*3.6/41.868+'OVERALL TARGET'!BE47+'OVERALL TARGET'!BE58","v":0},{"$f":"'OVERALL TARGET'!BF29*3.6/41.868+'OVERALL TARGET'!BF47+'OVERALL TARGET'!BF58","v":0},{"$f":"'OVERALL TARGET'!BG29*3.6/41.868+'OVERALL TARGET'!BG47+'OVERALL TARGET'!BG58","v":0},{"$f":"'OVERALL TARGET'!BH29*3.6/41.868+'OVERALL TARGET'!BH47+'OVERALL TARGET'!BH58","v":0},{"$f":"'OVERALL TARGET'!BI29*3.6/41.868+'OVERALL TARGET'!BI47+'OVERALL TARGET'!BI58","v":0},{"$f":"'OVERALL TARGET'!BJ29*3.6/41.868+'OVERALL TARGET'!BJ47+'OVERALL TARGET'!BJ58","v":0},{"$f":"'OVERALL TARGET'!BK29*3.6/41.868+'OVERALL TARGET'!BK47+'OVERALL TARGET'!BK58","v":0},{"$f":"'OVERALL TARGET'!BL29*3.6/41.868+'OVERALL TARGET'!BL47+'OVERALL TARGET'!BL58","v":0},{"$f":"'OVERALL TARGET'!BM29*3.6/41.868+'OVERALL TARGET'!BM47+'OVERALL TARGET'!BM58","v":0},{"$f":"'OVERALL TARGET'!BN29*3.6/41.868+'OVERALL TARGET'!BN47+'OVERALL TARGET'!BN58","v":0},{"$f":"'OVERALL TARGET'!BO29*3.6/41.868+'OVERALL TARGET'!BO47+'OVERALL TARGET'!BO58","v":0},{"$f":"'OVERALL TARGET'!BP29*3.6/41.868+'OVERALL TARGET'!BP47+'OVERALL TARGET'!BP58","v":0},null,null,null,null,null,null,null,null,null,null,null,null,null,null,null,null,null,null,null,null,null,null,null,null,null,null,null,null,null,null,null,null,null,null,null,null,null,null,null,null,null,null,null,null,null,null,null,null,null,null,null,null,null,null,null,"W6210","ENERGUSE","GFC_E_OT_NAVICAPA","_Z","_Z","_Z","_Z","_Z","ENERGY","_Z","KTOE",null,"nrg_ind_rfce","TIMESERIES","W6210","GFC_E_OT_NAVICAPA","_Z","KTOE","Agg.=SUM(countries)"]
["Sustainable primary solid biofuels",null,null,null,null,null,null,null,null,null,null,null,null,null,null,null,null,null,null,null,null,{"$f":"'OVERALL TARGET'!V31*3.6/41.868+'OVERALL TARGET'!V49+'OVERALL TARGET'!V60","v":0},{"$f":"'OVERALL TARGET'!W31*3.6/41.868+'OVERALL TARGET'!W49+'OVERALL TARGET'!W60","v":0},{"$f":"'OVERALL TARGET'!X31*3.6/41.868+'OVERALL TARGET'!X49+'OVERALL TARGET'!X60","v":0},{"$f":"'OVERALL TARGET'!Y31*3.6/41.868+'OVERALL TARGET'!Y49+'OVERALL TARGET'!Y60","v":0},{"$f":"'OVERALL TARGET'!Z31*3.6/41.868+'OVERALL TARGET'!Z49+'OVERALL TARGET'!Z60","v":0},{"$f":"'OVERALL TARGET'!AA31*3.6/41.868+'OVERALL TARGET'!AA49+'OVERALL TARGET'!AA60","v":0},{"$f":"'OVERALL TARGET'!AB31*3.6/41.868+'OVERALL TARGET'!AB49+'OVERALL TARGET'!AB60","v":0},{"$f":"'OVERALL TARGET'!AC31*3.6/41.868+'OVERALL TARGET'!AC49+'OVERALL TARGET'!AC60","v":0},{"$f":"'OVERALL TARGET'!AD31*3.6/41.868+'OVERALL TARGET'!AD49+'OVERALL TARGET'!AD60","v":0},{"$f":"'OVERALL TARGET'!AE31*3.6/41.868+'OVERALL TARGET'!AE49+'OVERALL TARGET'!AE60","v":0},{"$f":"'OVERALL TARGET'!AF31*3.6/41.868+'OVERALL TARGET'!AF49+'OVERALL TARGET'!AF60","v":0},{"$f":"'OVERALL TARGET'!AG31*3.6/41.868+'OVERALL TARGET'!AG49+'OVERALL TARGET'!AG60","v":0},{"$f":"'OVERALL TARGET'!AH31*3.6/41.868+'OVERALL TARGET'!AH49+'OVERALL TARGET'!AH60","v":0},{"$f":"'OVERALL TARGET'!AI31*3.6/41.868+'OVERALL TARGET'!AI49+'OVERALL TARGET'!AI60","v":0},{"$f":"'OVERALL TARGET'!AJ31*3.6/41.868+'OVERALL TARGET'!AJ49+'OVERALL TARGET'!AJ60","v":0},{"$f":"'OVERALL TARGET'!AK31*3.6/41.868+'OVERALL TARGET'!AK49+'OVERALL TARGET'!AK60","v":0},{"$f":"'OVERALL TARGET'!AL31*3.6/41.868+'OVERALL TARGET'!AL49+'OVERALL TARGET'!AL60","v":0},{"$f":"'OVERALL TARGET'!AM31*3.6/41.868+'OVERALL TARGET'!AM49+'OVERALL TARGET'!AM60","v":0},{"$f":"'OVERALL TARGET'!AN31*3.6/41.868+'OVERALL TARGET'!AN49+'OVERALL TARGET'!AN60","v":0},{"$f":"'OVERALL TARGET'!AO31*3.6/41.868+'OVERALL TARGET'!AO49+'OVERALL TARGET'!AO60","v":0},{"$f":"'OVERALL TARGET'!AP31*3.6/41.868+'OVERALL TARGET'!AP49+'OVERALL TARGET'!AP60","v":0},{"$f":"'OVERALL TARGET'!AQ31*3.6/41.868+'OVERALL TARGET'!AQ49+'OVERALL TARGET'!AQ60","v":0},{"$f":"'OVERALL TARGET'!AR31*3.6/41.868+'OVERALL TARGET'!AR49+'OVERALL TARGET'!AR60","v":0},{"$f":"'OVERALL TARGET'!AS31*3.6/41.868+'OVERALL TARGET'!AS49+'OVERALL TARGET'!AS60","v":0},{"$f":"'OVERALL TARGET'!AT31*3.6/41.868+'OVERALL TARGET'!AT49+'OVERALL TARGET'!AT60","v":0},{"$f":"'OVERALL TARGET'!AU31*3.6/41.868+'OVERALL TARGET'!AU49+'OVERALL TARGET'!AU60","v":0},{"$f":"'OVERALL TARGET'!AV31*3.6/41.868+'OVERALL TARGET'!AV49+'OVERALL TARGET'!AV60","v":0},{"$f":"'OVERALL TARGET'!AW31*3.6/41.868+'OVERALL TARGET'!AW49+'OVERALL TARGET'!AW60","v":0},{"$f":"'OVERALL TARGET'!AX31*3.6/41.868+'OVERALL TARGET'!AX49+'OVERALL TARGET'!AX60","v":0},{"$f":"'OVERALL TARGET'!AY31*3.6/41.868+'OVERALL TARGET'!AY49+'OVERALL TARGET'!AY60","v":0},{"$f":"'OVERALL TARGET'!AZ31*3.6/41.868+'OVERALL TARGET'!AZ49+'OVERALL TARGET'!AZ60","v":0},{"$f":"'OVERALL TARGET'!BA31*3.6/41.868+'OVERALL TARGET'!BA49+'OVERALL TARGET'!BA60","v":0},{"$f":"'OVERALL TARGET'!BB31*3.6/41.868+'OVERALL TARGET'!BB49+'OVERALL TARGET'!BB60","v":0},{"$f":"'OVERALL TARGET'!BC31*3.6/41.868+'OVERALL TARGET'!BC49+'OVERALL TARGET'!BC60","v":0},{"$f":"'OVERALL TARGET'!BD31*3.6/41.868+'OVERALL TARGET'!BD49+'OVERALL TARGET'!BD60","v":0},{"$f":"'OVERALL TARGET'!BE31*3.6/41.868+'OVERALL TARGET'!BE49+'OVERALL TARGET'!BE60","v":0},{"$f":"'OVERALL TARGET'!BF31*3.6/41.868+'OVERALL TARGET'!BF49+'OVERALL TARGET'!BF60","v":0},{"$f":"'OVERALL TARGET'!BG31*3.6/41.868+'OVERALL TARGET'!BG49+'OVERALL TARGET'!BG60","v":0},{"$f":"'OVERALL TARGET'!BH31*3.6/41.868+'OVERALL TARGET'!BH49+'OVERALL TARGET'!BH60","v":0},{"$f":"'OVERALL TARGET'!BI31*3.6/41.868+'OVERALL TARGET'!BI49+'OVERALL TARGET'!BI60","v":0},{"$f":"'OVERALL TARGET'!BJ31*3.6/41.868+'OVERALL TARGET'!BJ49+'OVERALL TARGET'!BJ60","v":0},{"$f":"'OVERALL TARGET'!BK31*3.6/41.868+'OVERALL TARGET'!BK49+'OVERALL TARGET'!BK60","v":0},{"$f":"'OVERALL TARGET'!BL31*3.6/41.868+'OVERALL TARGET'!BL49+'OVERALL TARGET'!BL60","v":0},{"$f":"'OVERALL TARGET'!BM31*3.6/41.868+'OVERALL TARGET'!BM49+'OVERALL TARGET'!BM60","v":0},{"$f":"'OVERALL TARGET'!BN31*3.6/41.868+'OVERALL TARGET'!BN49+'OVERALL TARGET'!BN60","v":0},{"$f":"'OVERALL TARGET'!BO31*3.6/41.868+'OVERALL TARGET'!BO49+'OVERALL TARGET'!BO60","v":0},{"$f":"'OVERALL TARGET'!BP31*3.6/41.868+'OVERALL TARGET'!BP49+'OVERALL TARGET'!BP60","v":0},null,null,null,null,null,null,null,null,null,null,null,null,null,null,null,null,null,null,null,null,null,null,null,null,null,null,null,null,null,null,null,null,null,null,null,null,null,null,null,null,null,null,null,null,null,null,null,null,null,null,null,null,null,null,null,"R5110-5150_W6000RIS","ENERGUSE","GFC_E_OT_NAVICAPA","_Z","_Z","_Z","_Z","_Z","ENERGY","_Z","KTOE",null,"nrg_ind_rfce","TIMESERIES","R5110-5150_W6000RIS","GFC_E_OT_NAVICAPA","_Z","KTOE","Agg.=SUM(countries)"]
["Charcoal",null,null,null,null,null,null,null,null,null,null,null,null,null,null,null,null,null,null,null,null,{"$f":"'OVERALL TARGET'!V39","v":0},{"$f":"'OVERALL TARGET'!W39","v":0},{"$f":"'OVERALL TARGET'!X39","v":0},{"$f":"'OVERALL TARGET'!Y39","v":0},{"$f":"'OVERALL TARGET'!Z39","v":0},{"$f":"'OVERALL TARGET'!AA39","v":0},{"$f":"'OVERALL TARGET'!AB39","v":0},{"$f":"'OVERALL TARGET'!AC39","v":0},{"$f":"'OVERALL TARGET'!AD39","v":0},{"$f":"'OVERALL TARGET'!AE39","v":0},{"$f":"'OVERALL TARGET'!AF39","v":0},{"$f":"'OVERALL TARGET'!AG39","v":0},{"$f":"'OVERALL TARGET'!AH39","v":0},{"$f":"'OVERALL TARGET'!AI39","v":0},{"$f":"'OVERALL TARGET'!AJ39","v":0},{"$f":"'OVERALL TARGET'!AK39","v":0},{"$f":"'OVERALL TARGET'!AL39","v":0},{"$f":"'OVERALL TARGET'!AM39","v":0},{"$f":"'OVERALL TARGET'!AN39","v":0},{"$f":"'OVERALL TARGET'!AO39","v":0},{"$f":"'OVERALL TARGET'!AP39","v":0},{"$f":"'OVERALL TARGET'!AQ39","v":0},{"$f":"'OVERALL TARGET'!AR39","v":0},{"$f":"'OVERALL TARGET'!AS39","v":0},{"$f":"'OVERALL TARGET'!AT39","v":0},{"$f":"'OVERALL TARGET'!AU39","v":0},{"$f":"'OVERALL TARGET'!AV39","v":0},{"$f":"'OVERALL TARGET'!AW39","v":0},{"$f":"'OVERALL TARGET'!AX39","v":0},{"$f":"'OVERALL TARGET'!AY39","v":0},{"$f":"'OVERALL TARGET'!AZ39","v":0},{"$f":"'OVERALL TARGET'!BA39","v":0},{"$f":"'OVERALL TARGET'!BB39","v":0},{"$f":"'OVERALL TARGET'!BC39","v":0},{"$f":"'OVERALL TARGET'!BD39","v":0},{"$f":"'OVERALL TARGET'!BE39","v":0},{"$f":"'OVERALL TARGET'!BF39","v":0},{"$f":"'OVERALL TARGET'!BG39","v":0},{"$f":"'OVERALL TARGET'!BH39","v":0},{"$f":"'OVERALL TARGET'!BI39","v":0},{"$f":"'OVERALL TARGET'!BJ39","v":0},{"$f":"'OVERALL TARGET'!BK39","v":0},{"$f":"'OVERALL TARGET'!BL39","v":0},{"$f":"'OVERALL TARGET'!BM39","v":0},{"$f":"'OVERALL TARGET'!BN39","v":0},{"$f":"'OVERALL TARGET'!BO39","v":0},{"$f":"'OVERALL TARGET'!BP39","v":0},null,null,null,null,null,null,null,null,null,null,null,null,null,null,null,null,null,null,null,null,null,null,null,null,null,null,null,null,null,null,null,null,null,null,null,null,null,null,null,null,null,null,null,null,null,null,null,null,null,null,null,null,null,null,null,"R5160","ENERGUSE","GFC_E_OT_NAVICAPA","_Z","_Z","_Z","_Z","_Z","ENERGY","_Z","KTOE",null,"nrg_ind_rfce","TIMESERIES","R5160","GFC_E_OT_NAVICAPA","_Z","KTOE","Agg.=SUM(countries)"]
["Heat pumps for heating",null,null,null,null,null,null,null,null,null,null,null,null,null,null,null,null,null,null,null,null,{"$f":"'OVERALL TARGET'!V78","v":0},{"$f":"'OVERALL TARGET'!W78","v":0},{"$f":"'OVERALL TARGET'!X78","v":0},{"$f":"'OVERALL TARGET'!Y78","v":0},{"$f":"'OVERALL TARGET'!Z78","v":0},{"$f":"'OVERALL TARGET'!AA78","v":0},{"$f":"'OVERALL TARGET'!AB78","v":0},{"$f":"'OVERALL TARGET'!AC78","v":0},{"$f":"'OVERALL TARGET'!AD78","v":0},{"$f":"'OVERALL TARGET'!AE78","v":0},{"$f":"'OVERALL TARGET'!AF78","v":0},{"$f":"'OVERALL TARGET'!AG78","v":0},{"$f":"'OVERALL TARGET'!AH78","v":0},{"$f":"'OVERALL TARGET'!AI78","v":0},{"$f":"'OVERALL TARGET'!AJ78","v":0},{"$f":"'OVERALL TARGET'!AK78","v":0},{"$f":"'OVERALL TARGET'!AL78","v":0},{"$f":"'OVERALL TARGET'!AM78","v":0},{"$f":"'OVERALL TARGET'!AN78","v":0},{"$f":"'OVERALL TARGET'!AO78","v":0},{"$f":"'OVERALL TARGET'!AP78","v":0},{"$f":"'OVERALL TARGET'!AQ78","v":0},{"$f":"'OVERALL TARGET'!AR78","v":0},{"$f":"'OVERALL TARGET'!AS78","v":0},{"$f":"'OVERALL TARGET'!AT78","v":0},{"$f":"'OVERALL TARGET'!AU78","v":0},{"$f":"'OVERALL TARGET'!AV78","v":0},{"$f":"'OVERALL TARGET'!AW78","v":0},{"$f":"'OVERALL TARGET'!AX78","v":0},{"$f":"'OVERALL TARGET'!AY78","v":0},{"$f":"'OVERALL TARGET'!AZ78","v":0},{"$f":"'OVERALL TARGET'!BA78","v":0},{"$f":"'OVERALL TARGET'!BB78","v":0},{"$f":"'OVERALL TARGET'!BC78","v":0},{"$f":"'OVERALL TARGET'!BD78","v":0},{"$f":"'OVERALL TARGET'!BE78","v":0},{"$f":"'OVERALL TARGET'!BF78","v":0},{"$f":"'OVERALL TARGET'!BG78","v":0},{"$f":"'OVERALL TARGET'!BH78","v":0},{"$f":"'OVERALL TARGET'!BI78","v":0},{"$f":"'OVERALL TARGET'!BJ78","v":0},{"$f":"'OVERALL TARGET'!BK78","v":0},{"$f":"'OVERALL TARGET'!BL78","v":0},{"$f":"'OVERALL TARGET'!BM78","v":0},{"$f":"'OVERALL TARGET'!BN78","v":0},{"$f":"'OVERALL TARGET'!BO78","v":0},{"$f":"'OVERALL TARGET'!BP78","v":0},null,null,null,null,null,null,null,null,null,null,null,null,null,null,null,null,null,null,null,null,null,null,null,null,null,null,null,null,null,null,null,null,null,null,null,null,null,null,null,null,null,null,null,null,null,null,null,null,null,null,null,null,null,null,null,"RA600","ENERGUSE","GFC_E_OT_NAVICAPA","_Z","_Z","_Z","_Z","_Z","ENERGY","_Z","KTOE",null,"nrg_ind_rfce","TIMESERIES","RA600","GFC_E_OT_NAVICAPA","_Z","KTOE","Agg.=SUM(countries)"]
[null,"Of which from aerothermal and hydrothermal heat pumps (excluding geothermal heat pumps)",null,null,null,null,null,null,null,null,null,null,null,null,null,null,null,null,null,null,null,{"$f":"'OVERALL TARGET'!V79","v":0},{"$f":"'OVERALL TARGET'!W79","v":0},{"$f":"'OVERALL TARGET'!X79","v":0},{"$f":"'OVERALL TARGET'!Y79","v":0},{"$f":"'OVERALL TARGET'!Z79","v":0},{"$f":"'OVERALL TARGET'!AA79","v":0},{"$f":"'OVERALL TARGET'!AB79","v":0},{"$f":"'OVERALL TARGET'!AC79","v":0},{"$f":"'OVERALL TARGET'!AD79","v":0},{"$f":"'OVERALL TARGET'!AE79","v":0},{"$f":"'OVERALL TARGET'!AF79","v":0},{"$f":"'OVERALL TARGET'!AG79","v":0},{"$f":"'OVERALL TARGET'!AH79","v":0},{"$f":"'OVERALL TARGET'!AI79","v":0},{"$f":"'OVERALL TARGET'!AJ79","v":0},{"$f":"'OVERALL TARGET'!AK79","v":0},{"$f":"'OVERALL TARGET'!AL79","v":0},{"$f":"'OVERALL TARGET'!AM79","v":0},{"$f":"'OVERALL TARGET'!AN79","v":0},{"$f":"'OVERALL TARGET'!AO79","v":0},{"$f":"'OVERALL TARGET'!AP79","v":0},{"$f":"'OVERALL TARGET'!AQ79","v":0},{"$f":"'OVERALL TARGET'!AR79","v":0},{"$f":"'OVERALL TARGET'!AS79","v":0},{"$f":"'OVERALL TARGET'!AT79","v":0},{"$f":"'OVERALL TARGET'!AU79","v":0},{"$f":"'OVERALL TARGET'!AV79","v":0},{"$f":"'OVERALL TARGET'!AW79","v":0},{"$f":"'OVERALL TARGET'!AX79","v":0},{"$f":"'OVERALL TARGET'!AY79","v":0},{"$f":"'OVERALL TARGET'!AZ79","v":0},{"$f":"'OVERALL TARGET'!BA79","v":0},{"$f":"'OVERALL TARGET'!BB79","v":0},{"$f":"'OVERALL TARGET'!BC79","v":0},{"$f":"'OVERALL TARGET'!BD79","v":0},{"$f":"'OVERALL TARGET'!BE79","v":0},{"$f":"'OVERALL TARGET'!BF79","v":0},{"$f":"'OVERALL TARGET'!BG79","v":0},{"$f":"'OVERALL TARGET'!BH79","v":0},{"$f":"'OVERALL TARGET'!BI79","v":0},{"$f":"'OVERALL TARGET'!BJ79","v":0},{"$f":"'OVERALL TARGET'!BK79","v":0},{"$f":"'OVERALL TARGET'!BL79","v":0},{"$f":"'OVERALL TARGET'!BM79","v":0},{"$f":"'OVERALL TARGET'!BN79","v":0},{"$f":"'OVERALL TARGET'!BO79","v":0},{"$f":"'OVERALL TARGET'!BP79","v":0},null,null,null,null,null,null,null,null,null,null,null,null,null,null,null,null,null,null,null,null,null,null,null,null,null,null,null,null,null,null,null,null,null,null,null,null,null,null,null,null,null,null,null,null,null,null,null,null,null,null,null,null,null,null,null,"RA620","ENERGUSE","GFC_E_OT_NAVICAPA","_Z","_Z","_Z","_Z","_Z","ENERGY","_Z","KTOE",null,"nrg_ind_rfce","TIMESERIES","RA620","GFC_E_OT_NAVICAPA","_Z","KTOE","Agg.=SUM(countries)"]
[null,"Of which from geothermal energy using heat pumps",null,null,null,null,null,null,null,null,null,null,null,null,null,null,null,null,null,null,null,{"$f":"'OVERALL TARGET'!V80","v":0},{"$f":"'OVERALL TARGET'!W80","v":0},{"$f":"'OVERALL TARGET'!X80","v":0},{"$f":"'OVERALL TARGET'!Y80","v":0},{"$f":"'OVERALL TARGET'!Z80","v":0},{"$f":"'OVERALL TARGET'!AA80","v":0},{"$f":"'OVERALL TARGET'!AB80","v":0},{"$f":"'OVERALL TARGET'!AC80","v":0},{"$f":"'OVERALL TARGET'!AD80","v":0},{"$f":"'OVERALL TARGET'!AE80","v":0},{"$f":"'OVERALL TARGET'!AF80","v":0},{"$f":"'OVERALL TARGET'!AG80","v":0},{"$f":"'OVERALL TARGET'!AH80","v":0},{"$f":"'OVERALL TARGET'!AI80","v":0},{"$f":"'OVERALL TARGET'!AJ80","v":0},{"$f":"'OVERALL TARGET'!AK80","v":0},{"$f":"'OVERALL TARGET'!AL80","v":0},{"$f":"'OVERALL TARGET'!AM80","v":0},{"$f":"'OVERALL TARGET'!AN80","v":0},{"$f":"'OVERALL TARGET'!AO80","v":0},{"$f":"'OVERALL TARGET'!AP80","v":0},{"$f":"'OVERALL TARGET'!AQ80","v":0},{"$f":"'OVERALL TARGET'!AR80","v":0},{"$f":"'OVERALL TARGET'!AS80","v":0},{"$f":"'OVERALL TARGET'!AT80","v":0},{"$f":"'OVERALL TARGET'!AU80","v":0},{"$f":"'OVERALL TARGET'!AV80","v":0},{"$f":"'OVERALL TARGET'!AW80","v":0},{"$f":"'OVERALL TARGET'!AX80","v":0},{"$f":"'OVERALL TARGET'!AY80","v":0},{"$f":"'OVERALL TARGET'!AZ80","v":0},{"$f":"'OVERALL TARGET'!BA80","v":0},{"$f":"'OVERALL TARGET'!BB80","v":0},{"$f":"'OVERALL TARGET'!BC80","v":0},{"$f":"'OVERALL TARGET'!BD80","v":0},{"$f":"'OVERALL TARGET'!BE80","v":0},{"$f":"'OVERALL TARGET'!BF80","v":0},{"$f":"'OVERALL TARGET'!BG80","v":0},{"$f":"'OVERALL TARGET'!BH80","v":0},{"$f":"'OVERALL TARGET'!BI80","v":0},{"$f":"'OVERALL TARGET'!BJ80","v":0},{"$f":"'OVERALL TARGET'!BK80","v":0},{"$f":"'OVERALL TARGET'!BL80","v":0},{"$f":"'OVERALL TARGET'!BM80","v":0},{"$f":"'OVERALL TARGET'!BN80","v":0},{"$f":"'OVERALL TARGET'!BO80","v":0},{"$f":"'OVERALL TARGET'!BP80","v":0},null,null,null,null,null,null,null,null,null,null,null,null,null,null,null,null,null,null,null,null,null,null,null,null,null,null,null,null,null,null,null,null,null,null,null,null,null,null,null,null,null,null,null,null,null,null,null,null,null,null,null,null,null,null,null,"RA610","ENERGUSE","GFC_E_OT_NAVICAPA","_Z","_Z","_Z","_Z","_Z","ENERGY","_Z","KTOE",null,"nrg_ind_rfce","TIMESERIES","RA610","GFC_E_OT_NAVICAPA","_Z","KTOE","Agg.=SUM(countries)"]
["Renewable cooling",null,null,null,null,null,null,null,null,null,null,null,null,null,null,null,null,null,null,null,null,{"$f":"'OVERALL TARGET'!V81","v":0},{"$f":"'OVERALL TARGET'!W81","v":0},{"$f":"'OVERALL TARGET'!X81","v":0},{"$f":"'OVERALL TARGET'!Y81","v":0},{"$f":"'OVERALL TARGET'!Z81","v":0},{"$f":"'OVERALL TARGET'!AA81","v":0},{"$f":"'OVERALL TARGET'!AB81","v":0},{"$f":"'OVERALL TARGET'!AC81","v":0},{"$f":"'OVERALL TARGET'!AD81","v":0},{"$f":"'OVERALL TARGET'!AE81","v":0},{"$f":"'OVERALL TARGET'!AF81","v":0},{"$f":"'OVERALL TARGET'!AG81","v":0},{"$f":"'OVERALL TARGET'!AH81","v":0},{"$f":"'OVERALL TARGET'!AI81","v":0},{"$f":"'OVERALL TARGET'!AJ81","v":0},{"$f":"'OVERALL TARGET'!AK81","v":0},{"$f":"'OVERALL TARGET'!AL81","v":0},{"$f":"'OVERALL TARGET'!AM81","v":0},{"$f":"'OVERALL TARGET'!AN81","v":0},{"$f":"'OVERALL TARGET'!AO81","v":0},{"$f":"'OVERALL TARGET'!AP81","v":0},{"$f":"'OVERALL TARGET'!AQ81","v":0},{"$f":"'OVERALL TARGET'!AR81","v":0},{"$f":"'OVERALL TARGET'!AS81","v":0},{"$f":"'OVERALL TARGET'!AT81","v":0},{"$f":"'OVERALL TARGET'!AU81","v":0},{"$f":"'OVERALL TARGET'!AV81","v":0},{"$f":"'OVERALL TARGET'!AW81","v":0},{"$f":"'OVERALL TARGET'!AX81","v":0},{"$f":"'OVERALL TARGET'!AY81","v":0},{"$f":"'OVERALL TARGET'!AZ81","v":0},{"$f":"'OVERALL TARGET'!BA81","v":0},{"$f":"'OVERALL TARGET'!BB81","v":0},{"$f":"'OVERALL TARGET'!BC81","v":0},{"$f":"'OVERALL TARGET'!BD81","v":0},{"$f":"'OVERALL TARGET'!BE81","v":0},{"$f":"'OVERALL TARGET'!BF81","v":0},{"$f":"'OVERALL TARGET'!BG81","v":0},{"$f":"'OVERALL TARGET'!BH81","v":0},{"$f":"'OVERALL TARGET'!BI81","v":0},{"$f":"'OVERALL TARGET'!BJ81","v":0},{"$f":"'OVERALL TARGET'!BK81","v":0},{"$f":"'OVERALL TARGET'!BL81","v":0},{"$f":"'OVERALL TARGET'!BM81","v":0},{"$f":"'OVERALL TARGET'!BN81","v":0},{"$f":"'OVERALL TARGET'!BO81","v":0},{"$f":"'OVERALL TARGET'!BP81","v":0},null,null,null,null,null,null,null,null,null,null,null,null,null,null,null,null,null,null,null,null,null,null,null,null,null,null,null,null,null,null,null,null,null,null,null,null,null,null,null,null,null,null,null,null,null,null,null,null,null,null,null,null,null,null,null,"RA700","ENERGUSE","GFC_E_OT_NAVICAPA","_Z","_Z","_Z","_Z","_Z","ENERGY","_Z","KTOE",null,"nrg_ind_rfce","TIMESERIES","RA700","GFC_E_OT_NAVICAPA","_Z","KTOE","Agg.=SUM(countries)"]
["Statistical transfers, joint projects and joint suport schemes - total amount to be added",null,null,null,null,null,null,null,null,null,null,null,null,null,null,null,null,null,null,null,null,{"$f":"'OVERALL TARGET'!V117","v":0},{"$f":"'OVERALL TARGET'!W117","v":0},{"$f":"'OVERALL TARGET'!X117","v":0},{"$f":"'OVERALL TARGET'!Y117","v":0},{"$f":"'OVERALL TARGET'!Z117","v":0},{"$f":"'OVERALL TARGET'!AA117","v":0},{"$f":"'OVERALL TARGET'!AB117","v":0},{"$f":"'OVERALL TARGET'!AC117","v":0},{"$f":"'OVERALL TARGET'!AD117","v":0},{"$f":"'OVERALL TARGET'!AE117","v":0},{"$f":"'OVERALL TARGET'!AF117","v":0},{"$f":"'OVERALL TARGET'!AG117","v":0},{"$f":"'OVERALL TARGET'!AH117","v":0},{"$f":"'OVERALL TARGET'!AI117","v":0},{"$f":"'OVERALL TARGET'!AJ117","v":0},{"$f":"'OVERALL TARGET'!AK117","v":0},{"$f":"'OVERALL TARGET'!AL117","v":0},{"$f":"'OVERALL TARGET'!AM117","v":0},{"$f":"'OVERALL TARGET'!AN117","v":0},{"$f":"'OVERALL TARGET'!AO117","v":0},{"$f":"'OVERALL TARGET'!AP117","v":0},{"$f":"'OVERALL TARGET'!AQ117","v":0},{"$f":"'OVERALL TARGET'!AR117","v":0},{"$f":"'OVERALL TARGET'!AS117","v":0},{"$f":"'OVERALL TARGET'!AT117","v":0},{"$f":"'OVERALL TARGET'!AU117","v":0},{"$f":"'OVERALL TARGET'!AV117","v":0},{"$f":"'OVERALL TARGET'!AW117","v":0},{"$f":"'OVERALL TARGET'!AX117","v":0},{"$f":"'OVERALL TARGET'!AY117","v":0},{"$f":"'OVERALL TARGET'!AZ117","v":0},{"$f":"'OVERALL TARGET'!BA117","v":0},{"$f":"'OVERALL TARGET'!BB117","v":0},{"$f":"'OVERALL TARGET'!BC117","v":0},{"$f":"'OVERALL TARGET'!BD117","v":0},{"$f":"'OVERALL TARGET'!BE117","v":0},{"$f":"'OVERALL TARGET'!BF117","v":0},{"$f":"'OVERALL TARGET'!BG117","v":0},{"$f":"'OVERALL TARGET'!BH117","v":0},{"$f":"'OVERALL TARGET'!BI117","v":0},{"$f":"'OVERALL TARGET'!BJ117","v":0},{"$f":"'OVERALL TARGET'!BK117","v":0},{"$f":"'OVERALL TARGET'!BL117","v":0},{"$f":"'OVERALL TARGET'!BM117","v":0},{"$f":"'OVERALL TARGET'!BN117","v":0},{"$f":"'OVERALL TARGET'!BO117","v":0},{"$f":"'OVERALL TARGET'!BP117","v":0},null,null,null,null,null,null,null,null,null,null,null,null,null,null,null,null,null,null,null,null,null,null,null,null,null,null,null,null,null,null,null,null,null,null,null,null,null,null,null,null,null,null,null,null,null,null,null,null,null,null,null,null,null,null,null,"RA010","ENERGUSE","GFC_E_OT_NAVICAPA","_Z","_Z","_Z","_Z","_Z","ENERGY","_Z","KTOE",null,"nrg_ind_rfce","TIMESERIES","RA010","GFC_E_OT_NAVICAPA","_Z","KTOE","Agg.=SUM(countries)"]
["Statistical transfers, joint projects and joint suport schemes - total amount to be deduced",null,null,null,null,null,null,null,null,null,null,null,null,null,null,null,null,null,null,null,null,{"$f":"'OVERALL TARGET'!V118","v":0},{"$f":"'OVERALL TARGET'!W118","v":0},{"$f":"'OVERALL TARGET'!X118","v":0},{"$f":"'OVERALL TARGET'!Y118","v":0},{"$f":"'OVERALL TARGET'!Z118","v":0},{"$f":"'OVERALL TARGET'!AA118","v":0},{"$f":"'OVERALL TARGET'!AB118","v":0},{"$f":"'OVERALL TARGET'!AC118","v":0},{"$f":"'OVERALL TARGET'!AD118","v":0},{"$f":"'OVERALL TARGET'!AE118","v":0},{"$f":"'OVERALL TARGET'!AF118","v":0},{"$f":"'OVERALL TARGET'!AG118","v":0},{"$f":"'OVERALL TARGET'!AH118","v":0},{"$f":"'OVERALL TARGET'!AI118","v":0},{"$f":"'OVERALL TARGET'!AJ118","v":0},{"$f":"'OVERALL TARGET'!AK118","v":0},{"$f":"'OVERALL TARGET'!AL118","v":0},{"$f":"'OVERALL TARGET'!AM118","v":0},{"$f":"'OVERALL TARGET'!AN118","v":0},{"$f":"'OVERALL TARGET'!AO118","v":0},{"$f":"'OVERALL TARGET'!AP118","v":0},{"$f":"'OVERALL TARGET'!AQ118","v":0},{"$f":"'OVERALL TARGET'!AR118","v":0},{"$f":"'OVERALL TARGET'!AS118","v":0},{"$f":"'OVERALL TARGET'!AT118","v":0},{"$f":"'OVERALL TARGET'!AU118","v":0},{"$f":"'OVERALL TARGET'!AV118","v":0},{"$f":"'OVERALL TARGET'!AW118","v":0},{"$f":"'OVERALL TARGET'!AX118","v":0},{"$f":"'OVERALL TARGET'!AY118","v":0},{"$f":"'OVERALL TARGET'!AZ118","v":0},{"$f":"'OVERALL TARGET'!BA118","v":0},{"$f":"'OVERALL TARGET'!BB118","v":0},{"$f":"'OVERALL TARGET'!BC118","v":0},{"$f":"'OVERALL TARGET'!BD118","v":0},{"$f":"'OVERALL TARGET'!BE118","v":0},{"$f":"'OVERALL TARGET'!BF118","v":0},{"$f":"'OVERALL TARGET'!BG118","v":0},{"$f":"'OVERALL TARGET'!BH118","v":0},{"$f":"'OVERALL TARGET'!BI118","v":0},{"$f":"'OVERALL TARGET'!BJ118","v":0},{"$f":"'OVERALL TARGET'!BK118","v":0},{"$f":"'OVERALL TARGET'!BL118","v":0},{"$f":"'OVERALL TARGET'!BM118","v":0},{"$f":"'OVERALL TARGET'!BN118","v":0},{"$f":"'OVERALL TARGET'!BO118","v":0},{"$f":"'OVERALL TARGET'!BP118","v":0},null,null,null,null,null,null,null,null,null,null,null,null,null,null,null,null,null,null,null,null,null,null,null,null,null,null,null,null,null,null,null,null,null,null,null,null,null,null,null,null,null,null,null,null,null,null,null,null,null,null,null,null,null,null,null,"RA020","ENERGUSE","GFC_E_OT_NAVICAPA","_Z","_Z","_Z","_Z","_Z","ENERGY","_Z","KTOE",null,"nrg_ind_rfce","TIMESERIES","RA020","GFC_E_OT_NAVICAPA","_Z","KTOE","Agg.=SUM(countries)"]
[]
[]
[]
["Share of renewable sources in gross final consumption of energy from renewables [0.01 = 1%]",null,null,null,null,null,null,null,null,null,null,null,null,null,null,null,null,null,null,null,null,{"$f":"IFERROR(SUM(V32:V33,V36:V38,V40:V47,V50:V51)-V52,\"\")","v":""},{"$f":"IFERROR(SUM(W32:W33,W36:W38,W40:W47,W50:W51)-W52,\"\")","v":""},"","","","","","","","","","","","","","","","","","","","","","","","","","","","","","","","","","","","","","","","","","","","","",null,null,null,null,null,null,null,null,null,null,null,null,null,null,null,null,null,null,null,null,null,null,null,null,null,null,null,null,null,null,null,null,null,null,null,null,null,null,null,null,null,null,null,null,null,null,null,null,null,null,null,null,null,null,null,"RA000","ENERGUSE","GFC_E_OT_NAVICAPA","_Z","_Z","_Z","_Z","_Z","NUMBER","_Z","PC",null,"nrg_ind_rfcer","TIMESERIES","RA000","GFC_E_OT_NAVICAPA","_Z","PC","Agg.=[SUM(countries Rows 32,33,36,37,38,40,41,42,43,44,45,46,47,50,51)-Countries Row 52]"]
["Hydro",null,null,null,null,null,null,null,null,null,null,null,null,null,null,null,null,null,null,null,null,{"$f":"IFERROR(V7/'OVERALL TARGET'!V$119,\"\")","v":""},{"$f":"IFERROR(W7/'OVERALL TARGET'!W$119,\"\")","v":""},{"$f":"IFERROR(X7/'OVERALL TARGET'!X$119,\"\")","v":""},{"$f":"IFERROR(Y7/'OVERALL TARGET'!Y$119,\"\")","v":""},{"$f":"IFERROR(Z7/'OVERALL TARGET'!Z$119,\"\")","v":""},{"$f":"IFERROR(AA7/'OVERALL TARGET'!AA$119,\"\")","v":""},{"$f":"IFERROR(AB7/'OVERALL TARGET'!AB$119,\"\")","v":""},{"$f":"IFERROR(AC7/'OVERALL TARGET'!AC$119,\"\")","v":""},{"$f":"IFERROR(AD7/'OVERALL TARGET'!AD$119,\"\")","v":""},{"$f":"IFERROR(AE7/'OVERALL TARGET'!AE$119,\"\")","v":""},{"$f":"IFERROR(AF7/'OVERALL TARGET'!AF$119,\"\")","v":""},{"$f":"IFERROR(AG7/'OVERALL TARGET'!AG$119,\"\")","v":""},{"$f":"IFERROR(AH7/'OVERALL TARGET'!AH$119,\"\")","v":""},{"$f":"IFERROR(AI7/'OVERALL TARGET'!AI$119,\"\")","v":""},{"$f":"IFERROR(AJ7/'OVERALL TARGET'!AJ$119,\"\")","v":""},{"$f":"IFERROR(AK7/'OVERALL TARGET'!AK$119,\"\")","v":""},{"$f":"IFERROR(AL7/'OVERALL TARGET'!AL$119,\"\")","v":""},{"$f":"IFERROR(AM7/'OVERALL TARGET'!AM$119,\"\")","v":""},{"$f":"IFERROR(AN7/'OVERALL TARGET'!AN$119,\"\")","v":""},{"$f":"IFERROR(AO7/'OVERALL TARGET'!AO$119,\"\")","v":""},{"$f":"IFERROR(AP7/'OVERALL TARGET'!AP$119,\"\")","v":""},{"$f":"IFERROR(AQ7/'OVERALL TARGET'!AQ$119,\"\")","v":""},{"$f":"IFERROR(AR7/'OVERALL TARGET'!AR$119,\"\")","v":""},{"$f":"IFERROR(AS7/'OVERALL TARGET'!AS$119,\"\")","v":""},{"$f":"IFERROR(AT7/'OVERALL TARGET'!AT$119,\"\")","v":""},{"$f":"IFERROR(AU7/'OVERALL TARGET'!AU$119,\"\")","v":""},{"$f":"IFERROR(AV7/'OVERALL TARGET'!AV$119,\"\")","v":""},{"$f":"IFERROR(AW7/'OVERALL TARGET'!AW$119,\"\")","v":""},{"$f":"IFERROR(AX7/'OVERALL TARGET'!AX$119,\"\")","v":""},{"$f":"IFERROR(AY7/'OVERALL TARGET'!AY$119,\"\")","v":""},{"$f":"IFERROR(AZ7/'OVERALL TARGET'!AZ$119,\"\")","v":""},{"$f":"IFERROR(BA7/'OVERALL TARGET'!BA$119,\"\")","v":""},{"$f":"IFERROR(BB7/'OVERALL TARGET'!BB$119,\"\")","v":""},{"$f":"IFERROR(BC7/'OVERALL TARGET'!BC$119,\"\")","v":""},{"$f":"IFERROR(BD7/'OVERALL TARGET'!BD$119,\"\")","v":""},{"$f":"IFERROR(BE7/'OVERALL TARGET'!BE$119,\"\")","v":""},{"$f":"IFERROR(BF7/'OVERALL TARGET'!BF$119,\"\")","v":""},{"$f":"IFERROR(BG7/'OVERALL TARGET'!BG$119,\"\")","v":""},{"$f":"IFERROR(BH7/'OVERALL TARGET'!BH$119,\"\")","v":""},{"$f":"IFERROR(BI7/'OVERALL TARGET'!BI$119,\"\")","v":""},{"$f":"IFERROR(BJ7/'OVERALL TARGET'!BJ$119,\"\")","v":""},{"$f":"IFERROR(BK7/'OVERALL TARGET'!BK$119,\"\")","v":""},{"$f":"IFERROR(BL7/'OVERALL TARGET'!BL$119,\"\")","v":""},{"$f":"IFERROR(BM7/'OVERALL TARGET'!BM$119,\"\")","v":""},{"$f":"IFERROR(BN7/'OVERALL TARGET'!BN$119,\"\")","v":""},{"$f":"IFERROR(BO7/'OVERALL TARGET'!BO$119,\"\")","v":""},{"$f":"IFERROR(BP7/'OVERALL TARGET'!BP$119,\"\")","v":""},null,null,null,null,null,null,null,null,null,null,null,null,null,null,null,null,null,null,null,null,null,null,null,null,null,null,null,null,null,null,null,null,null,null,null,null,null,null,null,null,null,null,null,null,null,null,null,null,null,null,null,null,null,null,null,"RA100","ENERGUSE","GFC_E_OT_NAVICAPA","_Z","_Z","_Z","_Z","_Z","NUMBER","_Z","PC",null,"nrg_ind_rfcer","TIMESERIES","RA100","GFC_E_OT_NAVICAPA","_Z","PC","Agg.=[SUM(Countries Row 7)/SUM(Countries OVERALL TARGET Row 119)]*100"]
["Wind",null,null,null,null,null,null,null,null,null,null,null,null,null,null,null,null,null,null,null,null,{"$f":"IFERROR(V8/'OVERALL TARGET'!V$119,\"\")","v":""},{"$f":"IFERROR(W8/'OVERALL TARGET'!W$119,\"\")","v":""},{"$f":"IFERROR(X8/'OVERALL TARGET'!X$119,\"\")","v":""},{"$f":"IFERROR(Y8/'OVERALL TARGET'!Y$119,\"\")","v":""},{"$f":"IFERROR(Z8/'OVERALL TARGET'!Z$119,\"\")","v":""},{"$f":"IFERROR(AA8/'OVERALL TARGET'!AA$119,\"\")","v":""},{"$f":"IFERROR(AB8/'OVERALL TARGET'!AB$119,\"\")","v":""},{"$f":"IFERROR(AC8/'OVERALL TARGET'!AC$119,\"\")","v":""},{"$f":"IFERROR(AD8/'OVERALL TARGET'!AD$119,\"\")","v":""},{"$f":"IFERROR(AE8/'OVERALL TARGET'!AE$119,\"\")","v":""},{"$f":"IFERROR(AF8/'OVERALL TARGET'!AF$119,\"\")","v":""},{"$f":"IFERROR(AG8/'OVERALL TARGET'!AG$119,\"\")","v":""},{"$f":"IFERROR(AH8/'OVERALL TARGET'!AH$119,\"\")","v":""},{"$f":"IFERROR(AI8/'OVERALL TARGET'!AI$119,\"\")","v":""},{"$f":"IFERROR(AJ8/'OVERALL TARGET'!AJ$119,\"\")","v":""},{"$f":"IFERROR(AK8/'OVERALL TARGET'!AK$119,\"\")","v":""},{"$f":"IFERROR(AL8/'OVERALL TARGET'!AL$119,\"\")","v":""},{"$f":"IFERROR(AM8/'OVERALL TARGET'!AM$119,\"\")","v":""},{"$f":"IFERROR(AN8/'OVERALL TARGET'!AN$119,\"\")","v":""},{"$f":"IFERROR(AO8/'OVERALL TARGET'!AO$119,\"\")","v":""},{"$f":"IFERROR(AP8/'OVERALL TARGET'!AP$119,\"\")","v":""},{"$f":"IFERROR(AQ8/'OVERALL TARGET'!AQ$119,\"\")","v":""},{"$f":"IFERROR(AR8/'OVERALL TARGET'!AR$119,\"\")","v":""},{"$f":"IFERROR(AS8/'OVERALL TARGET'!AS$119,\"\")","v":""},{"$f":"IFERROR(AT8/'OVERALL TARGET'!AT$119,\"\")","v":""},{"$f":"IFERROR(AU8/'OVERALL TARGET'!AU$119,\"\")","v":""},{"$f":"IFERROR(AV8/'OVERALL TARGET'!AV$119,\"\")","v":""},{"$f":"IFERROR(AW8/'OVERALL TARGET'!AW$119,\"\")","v":""},{"$f":"IFERROR(AX8/'OVERALL TARGET'!AX$119,\"\")","v":""},{"$f":"IFERROR(AY8/'OVERALL TARGET'!AY$119,\"\")","v":""},{"$f":"IFERROR(AZ8/'OVERALL TARGET'!AZ$119,\"\")","v":""},{"$f":"IFERROR(BA8/'OVERALL TARGET'!BA$119,\"\")","v":""},{"$f":"IFERROR(BB8/'OVERALL TARGET'!BB$119,\"\")","v":""},{"$f":"IFERROR(BC8/'OVERALL TARGET'!BC$119,\"\")","v":""},{"$f":"IFERROR(BD8/'OVERALL TARGET'!BD$119,\"\")","v":""},{"$f":"IFERROR(BE8/'OVERALL TARGET'!BE$119,\"\")","v":""},{"$f":"IFERROR(BF8/'OVERALL TARGET'!BF$119,\"\")","v":""},{"$f":"IFERROR(BG8/'OVERALL TARGET'!BG$119,\"\")","v":""},{"$f":"IFERROR(BH8/'OVERALL TARGET'!BH$119,\"\")","v":""},{"$f":"IFERROR(BI8/'OVERALL TARGET'!BI$119,\"\")","v":""},{"$f":"IFERROR(BJ8/'OVERALL TARGET'!BJ$119,\"\")","v":""},{"$f":"IFERROR(BK8/'OVERALL TARGET'!BK$119,\"\")","v":""},{"$f":"IFERROR(BL8/'OVERALL TARGET'!BL$119,\"\")","v":""},{"$f":"IFERROR(BM8/'OVERALL TARGET'!BM$119,\"\")","v":""},{"$f":"IFERROR(BN8/'OVERALL TARGET'!BN$119,\"\")","v":""},{"$f":"IFERROR(BO8/'OVERALL TARGET'!BO$119,\"\")","v":""},{"$f":"IFERROR(BP8/'OVERALL TARGET'!BP$119,\"\")","v":""},null,null,null,null,null,null,null,null,null,null,null,null,null,null,null,null,null,null,null,null,null,null,null,null,null,null,null,null,null,null,null,null,null,null,null,null,null,null,null,null,null,null,null,null,null,null,null,null,null,null,null,null,null,null,null,"RA300","ENERGUSE","GFC_E_OT_NAVICAPA","_Z","_Z","_Z","_Z","_Z","NUMBER","_Z","PC",null,"nrg_ind_rfcer","TIMESERIES","RA300","GFC_E_OT_NAVICAPA","_Z","PC","Agg.=[SUM(Countries Row 8)/SUM(Countries OVERALL TARGET Row 119)]*100"]
[null,"On-shore wind",null,null,null,null,null,null,null,null,null,null,null,null,null,null,null,null,null,null,null,{"$f":"IFERROR(V9/'OVERALL TARGET'!V$119,\"\")","v":""},{"$f":"IFERROR(W9/'OVERALL TARGET'!W$119,\"\")","v":""},{"$f":"IFERROR(X9/'OVERALL TARGET'!X$119,\"\")","v":""},{"$f":"IFERROR(Y9/'OVERALL TARGET'!Y$119,\"\")","v":""},{"$f":"IFERROR(Z9/'OVERALL TARGET'!Z$119,\"\")","v":""},{"$f":"IFERROR(AA9/'OVERALL TARGET'!AA$119,\"\")","v":""},{"$f":"IFERROR(AB9/'OVERALL TARGET'!AB$119,\"\")","v":""},{"$f":"IFERROR(AC9/'OVERALL TARGET'!AC$119,\"\")","v":""},{"$f":"IFERROR(AD9/'OVERALL TARGET'!AD$119,\"\")","v":""},{"$f":"IFERROR(AE9/'OVERALL TARGET'!AE$119,\"\")","v":""},{"$f":"IFERROR(AF9/'OVERALL TARGET'!AF$119,\"\")","v":""},{"$f":"IFERROR(AG9/'OVERALL TARGET'!AG$119,\"\")","v":""},{"$f":"IFERROR(AH9/'OVERALL TARGET'!AH$119,\"\")","v":""},{"$f":"IFERROR(AI9/'OVERALL TARGET'!AI$119,\"\")","v":""},{"$f":"IFERROR(AJ9/'OVERALL TARGET'!AJ$119,\"\")","v":""},{"$f":"IFERROR(AK9/'OVERALL TARGET'!AK$119,\"\")","v":""},{"$f":"IFERROR(AL9/'OVERALL TARGET'!AL$119,\"\")","v":""},{"$f":"IFERROR(AM9/'OVERALL TARGET'!AM$119,\"\")","v":""},{"$f":"IFERROR(AN9/'OVERALL TARGET'!AN$119,\"\")","v":""},{"$f":"IFERROR(AO9/'OVERALL TARGET'!AO$119,\"\")","v":""},{"$f":"IFERROR(AP9/'OVERALL TARGET'!AP$119,\"\")","v":""},{"$f":"IFERROR(AQ9/'OVERALL TARGET'!AQ$119,\"\")","v":""},{"$f":"IFERROR(AR9/'OVERALL TARGET'!AR$119,\"\")","v":""},{"$f":"IFERROR(AS9/'OVERALL TARGET'!AS$119,\"\")","v":""},{"$f":"IFERROR(AT9/'OVERALL TARGET'!AT$119,\"\")","v":""},{"$f":"IFERROR(AU9/'OVERALL TARGET'!AU$119,\"\")","v":""},{"$f":"IFERROR(AV9/'OVERALL TARGET'!AV$119,\"\")","v":""},{"$f":"IFERROR(AW9/'OVERALL TARGET'!AW$119,\"\")","v":""},{"$f":"IFERROR(AX9/'OVERALL TARGET'!AX$119,\"\")","v":""},{"$f":"IFERROR(AY9/'OVERALL TARGET'!AY$119,\"\")","v":""},{"$f":"IFERROR(AZ9/'OVERALL TARGET'!AZ$119,\"\")","v":""},{"$f":"IFERROR(BA9/'OVERALL TARGET'!BA$119,\"\")","v":""},{"$f":"IFERROR(BB9/'OVERALL TARGET'!BB$119,\"\")","v":""},{"$f":"IFERROR(BC9/'OVERALL TARGET'!BC$119,\"\")","v":""},{"$f":"IFERROR(BD9/'OVERALL TARGET'!BD$119,\"\")","v":""},{"$f":"IFERROR(BE9/'OVERALL TARGET'!BE$119,\"\")","v":""},{"$f":"IFERROR(BF9/'OVERALL TARGET'!BF$119,\"\")","v":""},{"$f":"IFERROR(BG9/'OVERALL TARGET'!BG$119,\"\")","v":""},{"$f":"IFERROR(BH9/'OVERALL TARGET'!BH$119,\"\")","v":""},{"$f":"IFERROR(BI9/'OVERALL TARGET'!BI$119,\"\")","v":""},{"$f":"IFERROR(BJ9/'OVERALL TARGET'!BJ$119,\"\")","v":""},{"$f":"IFERROR(BK9/'OVERALL TARGET'!BK$119,\"\")","v":""},{"$f":"IFERROR(BL9/'OVERALL TARGET'!BL$119,\"\")","v":""},{"$f":"IFERROR(BM9/'OVERALL TARGET'!BM$119,\"\")","v":""},{"$f":"IFERROR(BN9/'OVERALL TARGET'!BN$119,\"\")","v":""},{"$f":"IFERROR(BO9/'OVERALL TARGET'!BO$119,\"\")","v":""},{"$f":"IFERROR(BP9/'OVERALL TARGET'!BP$119,\"\")","v":""},null,null,null,null,null,null,null,null,null,null,null,null,null,null,null,null,null,null,null,null,null,null,null,null,null,null,null,null,null,null,null,null,null,null,null,null,null,null,null,null,null,null,null,null,null,null,null,null,null,null,null,null,null,null,null,"RA310","ENERGUSE","GFC_E_OT_NAVICAPA","_Z","_Z","_Z","_Z","_Z","NUMBER","_Z","PC",null,"nrg_ind_rfcer","TIMESERIES","RA310","GFC_E_OT_NAVICAPA","_Z","PC","Agg.=[SUM(Countries Row 9)/SUM(Countries OVERALL TARGET Row 119)]*100"]
[null,"Off-shore wind",null,null,null,null,null,null,null,null,null,null,null,null,null,null,null,null,null,null,null,{"$f":"IFERROR(V10/'OVERALL TARGET'!V$119,\"\")","v":""},{"$f":"IFERROR(W10/'OVERALL TARGET'!W$119,\"\")","v":""},{"$f":"IFERROR(X10/'OVERALL TARGET'!X$119,\"\")","v":""},{"$f":"IFERROR(Y10/'OVERALL TARGET'!Y$119,\"\")","v":""},{"$f":"IFERROR(Z10/'OVERALL TARGET'!Z$119,\"\")","v":""},{"$f":"IFERROR(AA10/'OVERALL TARGET'!AA$119,\"\")","v":""},{"$f":"IFERROR(AB10/'OVERALL TARGET'!AB$119,\"\")","v":""},{"$f":"IFERROR(AC10/'OVERALL TARGET'!AC$119,\"\")","v":""},{"$f":"IFERROR(AD10/'OVERALL TARGET'!AD$119,\"\")","v":""},{"$f":"IFERROR(AE10/'OVERALL TARGET'!AE$119,\"\")","v":""},{"$f":"IFERROR(AF10/'OVERALL TARGET'!AF$119,\"\")","v":""},{"$f":"IFERROR(AG10/'OVERALL TARGET'!AG$119,\"\")","v":""},{"$f":"IFERROR(AH10/'OVERALL TARGET'!AH$119,\"\")","v":""},{"$f":"IFERROR(AI10/'OVERALL TARGET'!AI$119,\"\")","v":""},{"$f":"IFERROR(AJ10/'OVERALL TARGET'!AJ$119,\"\")","v":""},{"$f":"IFERROR(AK10/'OVERALL TARGET'!AK$119,\"\")","v":""},{"$f":"IFERROR(AL10/'OVERALL TARGET'!AL$119,\"\")","v":""},{"$f":"IFERROR(AM10/'OVERALL TARGET'!AM$119,\"\")","v":""},{"$f":"IFERROR(AN10/'OVERALL TARGET'!AN$119,\"\")","v":""},{"$f":"IFERROR(AO10/'OVERALL TARGET'!AO$119,\"\")","v":""},{"$f":"IFERROR(AP10/'OVERALL TARGET'!AP$119,\"\")","v":""},{"$f":"IFERROR(AQ10/'OVERALL TARGET'!AQ$119,\"\")","v":""},{"$f":"IFERROR(AR10/'OVERALL TARGET'!AR$119,\"\")","v":""},{"$f":"IFERROR(AS10/'OVERALL TARGET'!AS$119,\"\")","v":""},{"$f":"IFERROR(AT10/'OVERALL TARGET'!AT$119,\"\")","v":""},{"$f":"IFERROR(AU10/'OVERALL TARGET'!AU$119,\"\")","v":""},{"$f":"IFERROR(AV10/'OVERALL TARGET'!AV$119,\"\")","v":""},{"$f":"IFERROR(AW10/'OVERALL TARGET'!AW$119,\"\")","v":""},{"$f":"IFERROR(AX10/'OVERALL TARGET'!AX$119,\"\")","v":""},{"$f":"IFERROR(AY10/'OVERALL TARGET'!AY$119,\"\")","v":""},{"$f":"IFERROR(AZ10/'OVERALL TARGET'!AZ$119,\"\")","v":""},{"$f":"IFERROR(BA10/'OVERALL TARGET'!BA$119,\"\")","v":""},{"$f":"IFERROR(BB10/'OVERALL TARGET'!BB$119,\"\")","v":""},{"$f":"IFERROR(BC10/'OVERALL TARGET'!BC$119,\"\")","v":""},{"$f":"IFERROR(BD10/'OVERALL TARGET'!BD$119,\"\")","v":""},{"$f":"IFERROR(BE10/'OVERALL TARGET'!BE$119,\"\")","v":""},{"$f":"IFERROR(BF10/'OVERALL TARGET'!BF$119,\"\")","v":""},{"$f":"IFERROR(BG10/'OVERALL TARGET'!BG$119,\"\")","v":""},{"$f":"IFERROR(BH10/'OVERALL TARGET'!BH$119,\"\")","v":""},{"$f":"IFERROR(BI10/'OVERALL TARGET'!BI$119,\"\")","v":""},{"$f":"IFERROR(BJ10/'OVERALL TARGET'!BJ$119,\"\")","v":""},{"$f":"IFERROR(BK10/'OVERALL TARGET'!BK$119,\"\")","v":""},{"$f":"IFERROR(BL10/'OVERALL TARGET'!BL$119,\"\")","v":""},{"$f":"IFERROR(BM10/'OVERALL TARGET'!BM$119,\"\")","v":""},{"$f":"IFERROR(BN10/'OVERALL TARGET'!BN$119,\"\")","v":""},{"$f":"IFERROR(BO10/'OVERALL TARGET'!BO$119,\"\")","v":""},{"$f":"IFERROR(BP10/'OVERALL TARGET'!BP$119,\"\")","v":""},null,null,null,null,null,null,null,null,null,null,null,null,null,null,null,null,null,null,null,null,null,null,null,null,null,null,null,null,null,null,null,null,null,null,null,null,null,null,null,null,null,null,null,null,null,null,null,null,null,null,null,null,null,null,null,"RA320","ENERGUSE","GFC_E_OT_NAVICAPA","_Z","_Z","_Z","_Z","_Z","NUMBER","_Z","PC",null,"nrg_ind_rfcer","TIMESERIES","RA320","GFC_E_OT_NAVICAPA","_Z","PC","Agg.=[SUM(Countries Row 10)/SUM(Countries OVERALL TARGET Row 119)]*100"]
["Sustainable bioliquids",null,null,null,null,null,null,null,null,null,null,null,null,null,null,null,null,null,null,null,null,{"$f":"IFERROR(V11/'OVERALL TARGET'!V$119,\"\")","v":""},{"$f":"IFERROR(W11/'OVERALL TARGET'!W$119,\"\")","v":""},{"$f":"IFERROR(X11/'OVERALL TARGET'!X$119,\"\")","v":""},{"$f":"IFERROR(Y11/'OVERALL TARGET'!Y$119,\"\")","v":""},{"$f":"IFERROR(Z11/'OVERALL TARGET'!Z$119,\"\")","v":""},{"$f":"IFERROR(AA11/'OVERALL TARGET'!AA$119,\"\")","v":""},{"$f":"IFERROR(AB11/'OVERALL TARGET'!AB$119,\"\")","v":""},{"$f":"IFERROR(AC11/'OVERALL TARGET'!AC$119,\"\")","v":""},{"$f":"IFERROR(AD11/'OVERALL TARGET'!AD$119,\"\")","v":""},{"$f":"IFERROR(AE11/'OVERALL TARGET'!AE$119,\"\")","v":""},{"$f":"IFERROR(AF11/'OVERALL TARGET'!AF$119,\"\")","v":""},{"$f":"IFERROR(AG11/'OVERALL TARGET'!AG$119,\"\")","v":""},{"$f":"IFERROR(AH11/'OVERALL TARGET'!AH$119,\"\")","v":""},{"$f":"IFERROR(AI11/'OVERALL TARGET'!AI$119,\"\")","v":""},{"$f":"IFERROR(AJ11/'OVERALL TARGET'!AJ$119,\"\")","v":""},{"$f":"IFERROR(AK11/'OVERALL TARGET'!AK$119,\"\")","v":""},{"$f":"IFERROR(AL11/'OVERALL TARGET'!AL$119,\"\")","v":""},{"$f":"IFERROR(AM11/'OVERALL TARGET'!AM$119,\"\")","v":""},{"$f":"IFERROR(AN11/'OVERALL TARGET'!AN$119,\"\")","v":""},{"$f":"IFERROR(AO11/'OVERALL TARGET'!AO$119,\"\")","v":""},{"$f":"IFERROR(AP11/'OVERALL TARGET'!AP$119,\"\")","v":""},{"$f":"IFERROR(AQ11/'OVERALL TARGET'!AQ$119,\"\")","v":""},{"$f":"IFERROR(AR11/'OVERALL TARGET'!AR$119,\"\")","v":""},{"$f":"IFERROR(AS11/'OVERALL TARGET'!AS$119,\"\")","v":""},{"$f":"IFERROR(AT11/'OVERALL TARGET'!AT$119,\"\")","v":""},{"$f":"IFERROR(AU11/'OVERALL TARGET'!AU$119,\"\")","v":""},{"$f":"IFERROR(AV11/'OVERALL TARGET'!AV$119,\"\")","v":""},{"$f":"IFERROR(AW11/'OVERALL TARGET'!AW$119,\"\")","v":""},{"$f":"IFERROR(AX11/'OVERALL TARGET'!AX$119,\"\")","v":""},{"$f":"IFERROR(AY11/'OVERALL TARGET'!AY$119,\"\")","v":""},{"$f":"IFERROR(AZ11/'OVERALL TARGET'!AZ$119,\"\")","v":""},{"$f":"IFERROR(BA11/'OVERALL TARGET'!BA$119,\"\")","v":""},{"$f":"IFERROR(BB11/'OVERALL TARGET'!BB$119,\"\")","v":""},{"$f":"IFERROR(BC11/'OVERALL TARGET'!BC$119,\"\")","v":""},{"$f":"IFERROR(BD11/'OVERALL TARGET'!BD$119,\"\")","v":""},{"$f":"IFERROR(BE11/'OVERALL TARGET'!BE$119,\"\")","v":""},{"$f":"IFERROR(BF11/'OVERALL TARGET'!BF$119,\"\")","v":""},{"$f":"IFERROR(BG11/'OVERALL TARGET'!BG$119,\"\")","v":""},{"$f":"IFERROR(BH11/'OVERALL TARGET'!BH$119,\"\")","v":""},{"$f":"IFERROR(BI11/'OVERALL TARGET'!BI$119,\"\")","v":""},{"$f":"IFERROR(BJ11/'OVERALL TARGET'!BJ$119,\"\")","v":""},{"$f":"IFERROR(BK11/'OVERALL TARGET'!BK$119,\"\")","v":""},{"$f":"IFERROR(BL11/'OVERALL TARGET'!BL$119,\"\")","v":""},{"$f":"IFERROR(BM11/'OVERALL TARGET'!BM$119,\"\")","v":""},{"$f":"IFERROR(BN11/'OVERALL TARGET'!BN$119,\"\")","v":""},{"$f":"IFERROR(BO11/'OVERALL TARGET'!BO$119,\"\")","v":""},{"$f":"IFERROR(BP11/'OVERALL TARGET'!BP$119,\"\")","v":""},null,null,null,null,null,null,null,null,null,null,null,null,null,null,null,null,null,null,null,null,null,null,null,null,null,null,null,null,null,null,null,null,null,null,null,null,null,null,null,null,null,null,null,null,null,null,null,null,null,null,null,null,null,null,null,"R5292S","ENERGUSE","GFC_E_OT_NAVICAPA","_Z","_Z","_Z","_Z","_Z","NUMBER","_Z","PC",null,"nrg_ind_rfcer","TIMESERIES","R5292S","GFC_E_OT_NAVICAPA","_Z","PC","Agg.=[SUM(Countries Row 11)/SUM(Countries OVERALL TARGET Row 119)]*100"]
["Sustainable biofuels",null,null,null,null,null,null,null,null,null,null,null,null,null,null,null,null,null,null,null,null,{"$f":"IFERROR(V12/'OVERALL TARGET'!V$119,\"\")","v":""},{"$f":"IFERROR(W12/'OVERALL TARGET'!W$119,\"\")","v":""},{"$f":"IFERROR(X12/'OVERALL TARGET'!X$119,\"\")","v":""},{"$f":"IFERROR(Y12/'OVERALL TARGET'!Y$119,\"\")","v":""},{"$f":"IFERROR(Z12/'OVERALL TARGET'!Z$119,\"\")","v":""},{"$f":"IFERROR(AA12/'OVERALL TARGET'!AA$119,\"\")","v":""},{"$f":"IFERROR(AB12/'OVERALL TARGET'!AB$119,\"\")","v":""},{"$f":"IFERROR(AC12/'OVERALL TARGET'!AC$119,\"\")","v":""},{"$f":"IFERROR(AD12/'OVERALL TARGET'!AD$119,\"\")","v":""},{"$f":"IFERROR(AE12/'OVERALL TARGET'!AE$119,\"\")","v":""},{"$f":"IFERROR(AF12/'OVERALL TARGET'!AF$119,\"\")","v":""},{"$f":"IFERROR(AG12/'OVERALL TARGET'!AG$119,\"\")","v":""},{"$f":"IFERROR(AH12/'OVERALL TARGET'!AH$119,\"\")","v":""},{"$f":"IFERROR(AI12/'OVERALL TARGET'!AI$119,\"\")","v":""},{"$f":"IFERROR(AJ12/'OVERALL TARGET'!AJ$119,\"\")","v":""},{"$f":"IFERROR(AK12/'OVERALL TARGET'!AK$119,\"\")","v":""},{"$f":"IFERROR(AL12/'OVERALL TARGET'!AL$119,\"\")","v":""},{"$f":"IFERROR(AM12/'OVERALL TARGET'!AM$119,\"\")","v":""},{"$f":"IFERROR(AN12/'OVERALL TARGET'!AN$119,\"\")","v":""},{"$f":"IFERROR(AO12/'OVERALL TARGET'!AO$119,\"\")","v":""},{"$f":"IFERROR(AP12/'OVERALL TARGET'!AP$119,\"\")","v":""},{"$f":"IFERROR(AQ12/'OVERALL TARGET'!AQ$119,\"\")","v":""},{"$f":"IFERROR(AR12/'OVERALL TARGET'!AR$119,\"\")","v":""},{"$f":"IFERROR(AS12/'OVERALL TARGET'!AS$119,\"\")","v":""},{"$f":"IFERROR(AT12/'OVERALL TARGET'!AT$119,\"\")","v":""},{"$f":"IFERROR(AU12/'OVERALL TARGET'!AU$119,\"\")","v":""},{"$f":"IFERROR(AV12/'OVERALL TARGET'!AV$119,\"\")","v":""},{"$f":"IFERROR(AW12/'OVERALL TARGET'!AW$119,\"\")","v":""},{"$f":"IFERROR(AX12/'OVERALL TARGET'!AX$119,\"\")","v":""},{"$f":"IFERROR(AY12/'OVERALL TARGET'!AY$119,\"\")","v":""},{"$f":"IFERROR(AZ12/'OVERALL TARGET'!AZ$119,\"\")","v":""},{"$f":"IFERROR(BA12/'OVERALL TARGET'!BA$119,\"\")","v":""},{"$f":"IFERROR(BB12/'OVERALL TARGET'!BB$119,\"\")","v":""},{"$f":"IFERROR(BC12/'OVERALL TARGET'!BC$119,\"\")","v":""},{"$f":"IFERROR(BD12/'OVERALL TARGET'!BD$119,\"\")","v":""},{"$f":"IFERROR(BE12/'OVERALL TARGET'!BE$119,\"\")","v":""},{"$f":"IFERROR(BF12/'OVERALL TARGET'!BF$119,\"\")","v":""},{"$f":"IFERROR(BG12/'OVERALL TARGET'!BG$119,\"\")","v":""},{"$f":"IFERROR(BH12/'OVERALL TARGET'!BH$119,\"\")","v":""},{"$f":"IFERROR(BI12/'OVERALL TARGET'!BI$119,\"\")","v":""},{"$f":"IFERROR(BJ12/'OVERALL TARGET'!BJ$119,\"\")","v":""},{"$f":"IFERROR(BK12/'OVERALL TARGET'!BK$119,\"\")","v":""},{"$f":"IFERROR(BL12/'OVERALL TARGET'!BL$119,\"\")","v":""},{"$f":"IFERROR(BM12/'OVERALL TARGET'!BM$119,\"\")","v":""},{"$f":"IFERROR(BN12/'OVERALL TARGET'!BN$119,\"\")","v":""},{"$f":"IFERROR(BO12/'OVERALL TARGET'!BO$119,\"\")","v":""},{"$f":"IFERROR(BP12/'OVERALL TARGET'!BP$119,\"\")","v":""},null,null,null,null,null,null,null,null,null,null,null,null,null,null,null,null,null,null,null,null,null,null,null,null,null,null,null,null,null,null,null,null,null,null,null,null,null,null,null,null,null,null,null,null,null,null,null,null,null,null,null,null,null,null,null,"R5250S","ENERGUSE","GFC_E_OT_NAVICAPA","_Z","_Z","_Z","_Z","_Z","NUMBER","_Z","PC",null,"nrg_ind_rfcer","TIMESERIES","R5250S","GFC_E_OT_NAVICAPA","_Z","PC","Agg.=[SUM(Countries Row 12)/SUM(Countries OVERALL TARGET Row 119)]*100"]
["Sustainable biogas",null,null,null,null,null,null,null,null,null,null,null,null,null,null,null,null,null,null,null,null,{"$f":"IFERROR(V13/'OVERALL TARGET'!V$119,\"\")","v":""},{"$f":"IFERROR(W13/'OVERALL TARGET'!W$119,\"\")","v":""},{"$f":"IFERROR(X13/'OVERALL TARGET'!X$119,\"\")","v":""},{"$f":"IFERROR(Y13/'OVERALL TARGET'!Y$119,\"\")","v":""},{"$f":"IFERROR(Z13/'OVERALL TARGET'!Z$119,\"\")","v":""},{"$f":"IFERROR(AA13/'OVERALL TARGET'!AA$119,\"\")","v":""},{"$f":"IFERROR(AB13/'OVERALL TARGET'!AB$119,\"\")","v":""},{"$f":"IFERROR(AC13/'OVERALL TARGET'!AC$119,\"\")","v":""},{"$f":"IFERROR(AD13/'OVERALL TARGET'!AD$119,\"\")","v":""},{"$f":"IFERROR(AE13/'OVERALL TARGET'!AE$119,\"\")","v":""},{"$f":"IFERROR(AF13/'OVERALL TARGET'!AF$119,\"\")","v":""},{"$f":"IFERROR(AG13/'OVERALL TARGET'!AG$119,\"\")","v":""},{"$f":"IFERROR(AH13/'OVERALL TARGET'!AH$119,\"\")","v":""},{"$f":"IFERROR(AI13/'OVERALL TARGET'!AI$119,\"\")","v":""},{"$f":"IFERROR(AJ13/'OVERALL TARGET'!AJ$119,\"\")","v":""},{"$f":"IFERROR(AK13/'OVERALL TARGET'!AK$119,\"\")","v":""},{"$f":"IFERROR(AL13/'OVERALL TARGET'!AL$119,\"\")","v":""},{"$f":"IFERROR(AM13/'OVERALL TARGET'!AM$119,\"\")","v":""},{"$f":"IFERROR(AN13/'OVERALL TARGET'!AN$119,\"\")","v":""},{"$f":"IFERROR(AO13/'OVERALL TARGET'!AO$119,\"\")","v":""},{"$f":"IFERROR(AP13/'OVERALL TARGET'!AP$119,\"\")","v":""},{"$f":"IFERROR(AQ13/'OVERALL TARGET'!AQ$119,\"\")","v":""},{"$f":"IFERROR(AR13/'OVERALL TARGET'!AR$119,\"\")","v":""},{"$f":"IFERROR(AS13/'OVERALL TARGET'!AS$119,\"\")","v":""},{"$f":"IFERROR(AT13/'OVERALL TARGET'!AT$119,\"\")","v":""},{"$f":"IFERROR(AU13/'OVERALL TARGET'!AU$119,\"\")","v":""},{"$f":"IFERROR(AV13/'OVERALL TARGET'!AV$119,\"\")","v":""},{"$f":"IFERROR(AW13/'OVERALL TARGET'!AW$119,\"\")","v":""},{"$f":"IFERROR(AX13/'OVERALL TARGET'!AX$119,\"\")","v":""},{"$f":"IFERROR(AY13/'OVERALL TARGET'!AY$119,\"\")","v":""},{"$f":"IFERROR(AZ13/'OVERALL TARGET'!AZ$119,\"\")","v":""},{"$f":"IFERROR(BA13/'OVERALL TARGET'!BA$119,\"\")","v":""},{"$f":"IFERROR(BB13/'OVERALL TARGET'!BB$119,\"\")","v":""},{"$f":"IFERROR(BC13/'OVERALL TARGET'!BC$119,\"\")","v":""},{"$f":"IFERROR(BD13/'OVERALL TARGET'!BD$119,\"\")","v":""},{"$f":"IFERROR(BE13/'OVERALL TARGET'!BE$119,\"\")","v":""},{"$f":"IFERROR(BF13/'OVERALL TARGET'!BF$119,\"\")","v":""},{"$f":"IFERROR(BG13/'OVERALL TARGET'!BG$119,\"\")","v":""},{"$f":"IFERROR(BH13/'OVERALL TARGET'!BH$119,\"\")","v":""},{"$f":"IFERROR(BI13/'OVERALL TARGET'!BI$119,\"\")","v":""},{"$f":"IFERROR(BJ13/'OVERALL TARGET'!BJ$119,\"\")","v":""},{"$f":"IFERROR(BK13/'OVERALL TARGET'!BK$119,\"\")","v":""},{"$f":"IFERROR(BL13/'OVERALL TARGET'!BL$119,\"\")","v":""},{"$f":"IFERROR(BM13/'OVERALL TARGET'!BM$119,\"\")","v":""},{"$f":"IFERROR(BN13/'OVERALL TARGET'!BN$119,\"\")","v":""},{"$f":"IFERROR(BO13/'OVERALL TARGET'!BO$119,\"\")","v":""},{"$f":"IFERROR(BP13/'OVERALL TARGET'!BP$119,\"\")","v":""},null,null,null,null,null,null,null,null,null,null,null,null,null,null,null,null,null,null,null,null,null,null,null,null,null,null,null,null,null,null,null,null,null,null,null,null,null,null,null,null,null,null,null,null,null,null,null,null,null,null,null,null,null,null,null,"R5300S","ENERGUSE","GFC_E_OT_NAVICAPA","_Z","_Z","_Z","_Z","_Z","NUMBER","_Z","PC",null,"nrg_ind_rfcer","TIMESERIES","R5300S","GFC_E_OT_NAVICAPA","_Z","PC","Agg.=[SUM(Countries Row 13)/SUM(Countries OVERALL TARGET Row 119)]*100"]
[null,"Of which blended in the grid",null,null,null,null,null,null,null,null,null,null,null,null,null,null,null,null,null,null,null,{"$f":"IFERROR(V14/'OVERALL TARGET'!V$119,\"\")","v":""},{"$f":"IFERROR(W14/'OVERALL TARGET'!W$119,\"\")","v":""},{"$f":"IFERROR(X14/'OVERALL TARGET'!X$119,\"\")","v":""},{"$f":"IFERROR(Y14/'OVERALL TARGET'!Y$119,\"\")","v":""},{"$f":"IFERROR(Z14/'OVERALL TARGET'!Z$119,\"\")","v":""},{"$f":"IFERROR(AA14/'OVERALL TARGET'!AA$119,\"\")","v":""},{"$f":"IFERROR(AB14/'OVERALL TARGET'!AB$119,\"\")","v":""},{"$f":"IFERROR(AC14/'OVERALL TARGET'!AC$119,\"\")","v":""},{"$f":"IFERROR(AD14/'OVERALL TARGET'!AD$119,\"\")","v":""},{"$f":"IFERROR(AE14/'OVERALL TARGET'!AE$119,\"\")","v":""},{"$f":"IFERROR(AF14/'OVERALL TARGET'!AF$119,\"\")","v":""},{"$f":"IFERROR(AG14/'OVERALL TARGET'!AG$119,\"\")","v":""},{"$f":"IFERROR(AH14/'OVERALL TARGET'!AH$119,\"\")","v":""},{"$f":"IFERROR(AI14/'OVERALL TARGET'!AI$119,\"\")","v":""},{"$f":"IFERROR(AJ14/'OVERALL TARGET'!AJ$119,\"\")","v":""},{"$f":"IFERROR(AK14/'OVERALL TARGET'!AK$119,\"\")","v":""},{"$f":"IFERROR(AL14/'OVERALL TARGET'!AL$119,\"\")","v":""},{"$f":"IFERROR(AM14/'OVERALL TARGET'!AM$119,\"\")","v":""},{"$f":"IFERROR(AN14/'OVERALL TARGET'!AN$119,\"\")","v":""},{"$f":"IFERROR(AO14/'OVERALL TARGET'!AO$119,\"\")","v":""},{"$f":"IFERROR(AP14/'OVERALL TARGET'!AP$119,\"\")","v":""},{"$f":"IFERROR(AQ14/'OVERALL TARGET'!AQ$119,\"\")","v":""},{"$f":"IFERROR(AR14/'OVERALL TARGET'!AR$119,\"\")","v":""},{"$f":"IFERROR(AS14/'OVERALL TARGET'!AS$119,\"\")","v":""},{"$f":"IFERROR(AT14/'OVERALL TARGET'!AT$119,\"\")","v":""},{"$f":"IFERROR(AU14/'OVERALL TARGET'!AU$119,\"\")","v":""},{"$f":"IFERROR(AV14/'OVERALL TARGET'!AV$119,\"\")","v":""},{"$f":"IFERROR(AW14/'OVERALL TARGET'!AW$119,\"\")","v":""},{"$f":"IFERROR(AX14/'OVERALL TARGET'!AX$119,\"\")","v":""},{"$f":"IFERROR(AY14/'OVERALL TARGET'!AY$119,\"\")","v":""},{"$f":"IFERROR(AZ14/'OVERALL TARGET'!AZ$119,\"\")","v":""},{"$f":"IFERROR(BA14/'OVERALL TARGET'!BA$119,\"\")","v":""},{"$f":"IFERROR(BB14/'OVERALL TARGET'!BB$119,\"\")","v":""},{"$f":"IFERROR(BC14/'OVERALL TARGET'!BC$119,\"\")","v":""},{"$f":"IFERROR(BD14/'OVERALL TARGET'!BD$119,\"\")","v":""},{"$f":"IFERROR(BE14/'OVERALL TARGET'!BE$119,\"\")","v":""},{"$f":"IFERROR(BF14/'OVERALL TARGET'!BF$119,\"\")","v":""},{"$f":"IFERROR(BG14/'OVERALL TARGET'!BG$119,\"\")","v":""},{"$f":"IFERROR(BH14/'OVERALL TARGET'!BH$119,\"\")","v":""},{"$f":"IFERROR(BI14/'OVERALL TARGET'!BI$119,\"\")","v":""},{"$f":"IFERROR(BJ14/'OVERALL TARGET'!BJ$119,\"\")","v":""},{"$f":"IFERROR(BK14/'OVERALL TARGET'!BK$119,\"\")","v":""},{"$f":"IFERROR(BL14/'OVERALL TARGET'!BL$119,\"\")","v":""},{"$f":"IFERROR(BM14/'OVERALL TARGET'!BM$119,\"\")","v":""},{"$f":"IFERROR(BN14/'OVERALL TARGET'!BN$119,\"\")","v":""},{"$f":"IFERROR(BO14/'OVERALL TARGET'!BO$119,\"\")","v":""},{"$f":"IFERROR(BP14/'OVERALL TARGET'!BP$119,\"\")","v":""},null,null,null,null,null,null,null,null,null,null,null,null,null,null,null,null,null,null,null,null,null,null,null,null,null,null,null,null,null,null,null,null,null,null,null,null,null,null,null,null,null,null,null,null,null,null,null,null,null,null,null,null,null,null,null,"R5300SB","ENERGUSE","GFC_E_OT_NAVICAPA","_Z","_Z","_Z","_Z","_Z","NUMBER","_Z","PC",null,"nrg_ind_rfcer","TIMESERIES","R5300SB","GFC_E_OT_NAVICAPA","_Z","PC","Agg.=[SUM(Countries Row 14)/SUM(Countries OVERALL TARGET Row 119)]*100"]
["Geothermal",null,null,null,null,null,null,null,null,null,null,null,null,null,null,null,null,null,null,null,null,{"$f":"IFERROR(V15/'OVERALL TARGET'!V$119,\"\")","v":""},{"$f":"IFERROR(W15/'OVERALL TARGET'!W$119,\"\")","v":""},{"$f":"IFERROR(X15/'OVERALL TARGET'!X$119,\"\")","v":""},{"$f":"IFERROR(Y15/'OVERALL TARGET'!Y$119,\"\")","v":""},{"$f":"IFERROR(Z15/'OVERALL TARGET'!Z$119,\"\")","v":""},{"$f":"IFERROR(AA15/'OVERALL TARGET'!AA$119,\"\")","v":""},{"$f":"IFERROR(AB15/'OVERALL TARGET'!AB$119,\"\")","v":""},{"$f":"IFERROR(AC15/'OVERALL TARGET'!AC$119,\"\")","v":""},{"$f":"IFERROR(AD15/'OVERALL TARGET'!AD$119,\"\")","v":""},{"$f":"IFERROR(AE15/'OVERALL TARGET'!AE$119,\"\")","v":""},{"$f":"IFERROR(AF15/'OVERALL TARGET'!AF$119,\"\")","v":""},{"$f":"IFERROR(AG15/'OVERALL TARGET'!AG$119,\"\")","v":""},{"$f":"IFERROR(AH15/'OVERALL TARGET'!AH$119,\"\")","v":""},{"$f":"IFERROR(AI15/'OVERALL TARGET'!AI$119,\"\")","v":""},{"$f":"IFERROR(AJ15/'OVERALL TARGET'!AJ$119,\"\")","v":""},{"$f":"IFERROR(AK15/'OVERALL TARGET'!AK$119,\"\")","v":""},{"$f":"IFERROR(AL15/'OVERALL TARGET'!AL$119,\"\")","v":""},{"$f":"IFERROR(AM15/'OVERALL TARGET'!AM$119,\"\")","v":""},{"$f":"IFERROR(AN15/'OVERALL TARGET'!AN$119,\"\")","v":""},{"$f":"IFERROR(AO15/'OVERALL TARGET'!AO$119,\"\")","v":""},{"$f":"IFERROR(AP15/'OVERALL TARGET'!AP$119,\"\")","v":""},{"$f":"IFERROR(AQ15/'OVERALL TARGET'!AQ$119,\"\")","v":""},{"$f":"IFERROR(AR15/'OVERALL TARGET'!AR$119,\"\")","v":""},{"$f":"IFERROR(AS15/'OVERALL TARGET'!AS$119,\"\")","v":""},{"$f":"IFERROR(AT15/'OVERALL TARGET'!AT$119,\"\")","v":""},{"$f":"IFERROR(AU15/'OVERALL TARGET'!AU$119,\"\")","v":""},{"$f":"IFERROR(AV15/'OVERALL TARGET'!AV$119,\"\")","v":""},{"$f":"IFERROR(AW15/'OVERALL TARGET'!AW$119,\"\")","v":""},{"$f":"IFERROR(AX15/'OVERALL TARGET'!AX$119,\"\")","v":""},{"$f":"IFERROR(AY15/'OVERALL TARGET'!AY$119,\"\")","v":""},{"$f":"IFERROR(AZ15/'OVERALL TARGET'!AZ$119,\"\")","v":""},{"$f":"IFERROR(BA15/'OVERALL TARGET'!BA$119,\"\")","v":""},{"$f":"IFERROR(BB15/'OVERALL TARGET'!BB$119,\"\")","v":""},{"$f":"IFERROR(BC15/'OVERALL TARGET'!BC$119,\"\")","v":""},{"$f":"IFERROR(BD15/'OVERALL TARGET'!BD$119,\"\")","v":""},{"$f":"IFERROR(BE15/'OVERALL TARGET'!BE$119,\"\")","v":""},{"$f":"IFERROR(BF15/'OVERALL TARGET'!BF$119,\"\")","v":""},{"$f":"IFERROR(BG15/'OVERALL TARGET'!BG$119,\"\")","v":""},{"$f":"IFERROR(BH15/'OVERALL TARGET'!BH$119,\"\")","v":""},{"$f":"IFERROR(BI15/'OVERALL TARGET'!BI$119,\"\")","v":""},{"$f":"IFERROR(BJ15/'OVERALL TARGET'!BJ$119,\"\")","v":""},{"$f":"IFERROR(BK15/'OVERALL TARGET'!BK$119,\"\")","v":""},{"$f":"IFERROR(BL15/'OVERALL TARGET'!BL$119,\"\")","v":""},{"$f":"IFERROR(BM15/'OVERALL TARGET'!BM$119,\"\")","v":""},{"$f":"IFERROR(BN15/'OVERALL TARGET'!BN$119,\"\")","v":""},{"$f":"IFERROR(BO15/'OVERALL TARGET'!BO$119,\"\")","v":""},{"$f":"IFERROR(BP15/'OVERALL TARGET'!BP$119,\"\")","v":""},null,null,null,null,null,null,null,null,null,null,null,null,null,null,null,null,null,null,null,null,null,null,null,null,null,null,null,null,null,null,null,null,null,null,null,null,null,null,null,null,null,null,null,null,null,null,null,null,null,null,null,null,null,null,null,"RA200","ENERGUSE","GFC_E_OT_NAVICAPA","_Z","_Z","_Z","_Z","_Z","NUMBER","_Z","PC",null,"nrg_ind_rfcer","TIMESERIES","RA200","GFC_E_OT_NAVICAPA","_Z","PC","Agg.=[SUM(Countries Row 15)/SUM(Countries OVERALL TARGET Row 119)]*100"]
["Solar photovoltaic",null,null,null,null,null,null,null,null,null,null,null,null,null,null,null,null,null,null,null,null,{"$f":"IFERROR(V16/'OVERALL TARGET'!V$119,\"\")","v":""},{"$f":"IFERROR(W16/'OVERALL TARGET'!W$119,\"\")","v":""},{"$f":"IFERROR(X16/'OVERALL TARGET'!X$119,\"\")","v":""},{"$f":"IFERROR(Y16/'OVERALL TARGET'!Y$119,\"\")","v":""},{"$f":"IFERROR(Z16/'OVERALL TARGET'!Z$119,\"\")","v":""},{"$f":"IFERROR(AA16/'OVERALL TARGET'!AA$119,\"\")","v":""},{"$f":"IFERROR(AB16/'OVERALL TARGET'!AB$119,\"\")","v":""},{"$f":"IFERROR(AC16/'OVERALL TARGET'!AC$119,\"\")","v":""},{"$f":"IFERROR(AD16/'OVERALL TARGET'!AD$119,\"\")","v":""},{"$f":"IFERROR(AE16/'OVERALL TARGET'!AE$119,\"\")","v":""},{"$f":"IFERROR(AF16/'OVERALL TARGET'!AF$119,\"\")","v":""},{"$f":"IFERROR(AG16/'OVERALL TARGET'!AG$119,\"\")","v":""},{"$f":"IFERROR(AH16/'OVERALL TARGET'!AH$119,\"\")","v":""},{"$f":"IFERROR(AI16/'OVERALL TARGET'!AI$119,\"\")","v":""},{"$f":"IFERROR(AJ16/'OVERALL TARGET'!AJ$119,\"\")","v":""},{"$f":"IFERROR(AK16/'OVERALL TARGET'!AK$119,\"\")","v":""},{"$f":"IFERROR(AL16/'OVERALL TARGET'!AL$119,\"\")","v":""},{"$f":"IFERROR(AM16/'OVERALL TARGET'!AM$119,\"\")","v":""},{"$f":"IFERROR(AN16/'OVERALL TARGET'!AN$119,\"\")","v":""},{"$f":"IFERROR(AO16/'OVERALL TARGET'!AO$119,\"\")","v":""},{"$f":"IFERROR(AP16/'OVERALL TARGET'!AP$119,\"\")","v":""},{"$f":"IFERROR(AQ16/'OVERALL TARGET'!AQ$119,\"\")","v":""},{"$f":"IFERROR(AR16/'OVERALL TARGET'!AR$119,\"\")","v":""},{"$f":"IFERROR(AS16/'OVERALL TARGET'!AS$119,\"\")","v":""},{"$f":"IFERROR(AT16/'OVERALL TARGET'!AT$119,\"\")","v":""},{"$f":"IFERROR(AU16/'OVERALL TARGET'!AU$119,\"\")","v":""},{"$f":"IFERROR(AV16/'OVERALL TARGET'!AV$119,\"\")","v":""},{"$f":"IFERROR(AW16/'OVERALL TARGET'!AW$119,\"\")","v":""},{"$f":"IFERROR(AX16/'OVERALL TARGET'!AX$119,\"\")","v":""},{"$f":"IFERROR(AY16/'OVERALL TARGET'!AY$119,\"\")","v":""},{"$f":"IFERROR(AZ16/'OVERALL TARGET'!AZ$119,\"\")","v":""},{"$f":"IFERROR(BA16/'OVERALL TARGET'!BA$119,\"\")","v":""},{"$f":"IFERROR(BB16/'OVERALL TARGET'!BB$119,\"\")","v":""},{"$f":"IFERROR(BC16/'OVERALL TARGET'!BC$119,\"\")","v":""},{"$f":"IFERROR(BD16/'OVERALL TARGET'!BD$119,\"\")","v":""},{"$f":"IFERROR(BE16/'OVERALL TARGET'!BE$119,\"\")","v":""},{"$f":"IFERROR(BF16/'OVERALL TARGET'!BF$119,\"\")","v":""},{"$f":"IFERROR(BG16/'OVERALL TARGET'!BG$119,\"\")","v":""},{"$f":"IFERROR(BH16/'OVERALL TARGET'!BH$119,\"\")","v":""},{"$f":"IFERROR(BI16/'OVERALL TARGET'!BI$119,\"\")","v":""},{"$f":"IFERROR(BJ16/'OVERALL TARGET'!BJ$119,\"\")","v":""},{"$f":"IFERROR(BK16/'OVERALL TARGET'!BK$119,\"\")","v":""},{"$f":"IFERROR(BL16/'OVERALL TARGET'!BL$119,\"\")","v":""},{"$f":"IFERROR(BM16/'OVERALL TARGET'!BM$119,\"\")","v":""},{"$f":"IFERROR(BN16/'OVERALL TARGET'!BN$119,\"\")","v":""},{"$f":"IFERROR(BO16/'OVERALL TARGET'!BO$119,\"\")","v":""},{"$f":"IFERROR(BP16/'OVERALL TARGET'!BP$119,\"\")","v":""},null,null,null,null,null,null,null,null,null,null,null,null,null,null,null,null,null,null,null,null,null,null,null,null,null,null,null,null,null,null,null,null,null,null,null,null,null,null,null,null,null,null,null,null,null,null,null,null,null,null,null,null,null,null,null,"RA420","ENERGUSE","GFC_E_OT_NAVICAPA","_Z","_Z","_Z","_Z","_Z","NUMBER","_Z","PC",null,"nrg_ind_rfcer","TIMESERIES","RA420","GFC_E_OT_NAVICAPA","_Z","PC","Agg.=[SUM(Countries Row 16)/SUM(Countries OVERALL TARGET Row 119)]*100"]
["Solar thermal",null,null,null,null,null,null,null,null,null,null,null,null,null,null,null,null,null,null,null,null,{"$f":"IFERROR(V17/'OVERALL TARGET'!V$119,\"\")","v":""},{"$f":"IFERROR(W17/'OVERALL TARGET'!W$119,\"\")","v":""},{"$f":"IFERROR(X17/'OVERALL TARGET'!X$119,\"\")","v":""},{"$f":"IFERROR(Y17/'OVERALL TARGET'!Y$119,\"\")","v":""},{"$f":"IFERROR(Z17/'OVERALL TARGET'!Z$119,\"\")","v":""},{"$f":"IFERROR(AA17/'OVERALL TARGET'!AA$119,\"\")","v":""},{"$f":"IFERROR(AB17/'OVERALL TARGET'!AB$119,\"\")","v":""},{"$f":"IFERROR(AC17/'OVERALL TARGET'!AC$119,\"\")","v":""},{"$f":"IFERROR(AD17/'OVERALL TARGET'!AD$119,\"\")","v":""},{"$f":"IFERROR(AE17/'OVERALL TARGET'!AE$119,\"\")","v":""},{"$f":"IFERROR(AF17/'OVERALL TARGET'!AF$119,\"\")","v":""},{"$f":"IFERROR(AG17/'OVERALL TARGET'!AG$119,\"\")","v":""},{"$f":"IFERROR(AH17/'OVERALL TARGET'!AH$119,\"\")","v":""},{"$f":"IFERROR(AI17/'OVERALL TARGET'!AI$119,\"\")","v":""},{"$f":"IFERROR(AJ17/'OVERALL TARGET'!AJ$119,\"\")","v":""},{"$f":"IFERROR(AK17/'OVERALL TARGET'!AK$119,\"\")","v":""},{"$f":"IFERROR(AL17/'OVERALL TARGET'!AL$119,\"\")","v":""},{"$f":"IFERROR(AM17/'OVERALL TARGET'!AM$119,\"\")","v":""},{"$f":"IFERROR(AN17/'OVERALL TARGET'!AN$119,\"\")","v":""},{"$f":"IFERROR(AO17/'OVERALL TARGET'!AO$119,\"\")","v":""},{"$f":"IFERROR(AP17/'OVERALL TARGET'!AP$119,\"\")","v":""},{"$f":"IFERROR(AQ17/'OVERALL TARGET'!AQ$119,\"\")","v":""},{"$f":"IFERROR(AR17/'OVERALL TARGET'!AR$119,\"\")","v":""},{"$f":"IFERROR(AS17/'OVERALL TARGET'!AS$119,\"\")","v":""},{"$f":"IFERROR(AT17/'OVERALL TARGET'!AT$119,\"\")","v":""},{"$f":"IFERROR(AU17/'OVERALL TARGET'!AU$119,\"\")","v":""},{"$f":"IFERROR(AV17/'OVERALL TARGET'!AV$119,\"\")","v":""},{"$f":"IFERROR(AW17/'OVERALL TARGET'!AW$119,\"\")","v":""},{"$f":"IFERROR(AX17/'OVERALL TARGET'!AX$119,\"\")","v":""},{"$f":"IFERROR(AY17/'OVERALL TARGET'!AY$119,\"\")","v":""},{"$f":"IFERROR(AZ17/'OVERALL TARGET'!AZ$119,\"\")","v":""},{"$f":"IFERROR(BA17/'OVERALL TARGET'!BA$119,\"\")","v":""},{"$f":"IFERROR(BB17/'OVERALL TARGET'!BB$119,\"\")","v":""},{"$f":"IFERROR(BC17/'OVERALL TARGET'!BC$119,\"\")","v":""},{"$f":"IFERROR(BD17/'OVERALL TARGET'!BD$119,\"\")","v":""},{"$f":"IFERROR(BE17/'OVERALL TARGET'!BE$119,\"\")","v":""},{"$f":"IFERROR(BF17/'OVERALL TARGET'!BF$119,\"\")","v":""},{"$f":"IFERROR(BG17/'OVERALL TARGET'!BG$119,\"\")","v":""},{"$f":"IFERROR(BH17/'OVERALL TARGET'!BH$119,\"\")","v":""},{"$f":"IFERROR(BI17/'OVERALL TARGET'!BI$119,\"\")","v":""},{"$f":"IFERROR(BJ17/'OVERALL TARGET'!BJ$119,\"\")","v":""},{"$f":"IFERROR(BK17/'OVERALL TARGET'!BK$119,\"\")","v":""},{"$f":"IFERROR(BL17/'OVERALL TARGET'!BL$119,\"\")","v":""},{"$f":"IFERROR(BM17/'OVERALL TARGET'!BM$119,\"\")","v":""},{"$f":"IFERROR(BN17/'OVERALL TARGET'!BN$119,\"\")","v":""},{"$f":"IFERROR(BO17/'OVERALL TARGET'!BO$119,\"\")","v":""},{"$f":"IFERROR(BP17/'OVERALL TARGET'!BP$119,\"\")","v":""},null,null,null,null,null,null,null,null,null,null,null,null,null,null,null,null,null,null,null,null,null,null,null,null,null,null,null,null,null,null,null,null,null,null,null,null,null,null,null,null,null,null,null,null,null,null,null,null,null,null,null,null,null,null,null,"RA410","ENERGUSE","GFC_E_OT_NAVICAPA","_Z","_Z","_Z","_Z","_Z","NUMBER","_Z","PC",null,"nrg_ind_rfcer","TIMESERIES","RA410","GFC_E_OT_NAVICAPA","_Z","PC","Agg.=[SUM(Countries Row 17)/SUM(Countries OVERALL TARGET Row 119)]*100"]
["Tide, wave and ocean",null,null,null,null,null,null,null,null,null,null,null,null,null,null,null,null,null,null,null,null,{"$f":"IFERROR(V18/'OVERALL TARGET'!V$119,\"\")","v":""},{"$f":"IFERROR(W18/'OVERALL TARGET'!W$119,\"\")","v":""},{"$f":"IFERROR(X18/'OVERALL TARGET'!X$119,\"\")","v":""},{"$f":"IFERROR(Y18/'OVERALL TARGET'!Y$119,\"\")","v":""},{"$f":"IFERROR(Z18/'OVERALL TARGET'!Z$119,\"\")","v":""},{"$f":"IFERROR(AA18/'OVERALL TARGET'!AA$119,\"\")","v":""},{"$f":"IFERROR(AB18/'OVERALL TARGET'!AB$119,\"\")","v":""},{"$f":"IFERROR(AC18/'OVERALL TARGET'!AC$119,\"\")","v":""},{"$f":"IFERROR(AD18/'OVERALL TARGET'!AD$119,\"\")","v":""},{"$f":"IFERROR(AE18/'OVERALL TARGET'!AE$119,\"\")","v":""},{"$f":"IFERROR(AF18/'OVERALL TARGET'!AF$119,\"\")","v":""},{"$f":"IFERROR(AG18/'OVERALL TARGET'!AG$119,\"\")","v":""},{"$f":"IFERROR(AH18/'OVERALL TARGET'!AH$119,\"\")","v":""},{"$f":"IFERROR(AI18/'OVERALL TARGET'!AI$119,\"\")","v":""},{"$f":"IFERROR(AJ18/'OVERALL TARGET'!AJ$119,\"\")","v":""},{"$f":"IFERROR(AK18/'OVERALL TARGET'!AK$119,\"\")","v":""},{"$f":"IFERROR(AL18/'OVERALL TARGET'!AL$119,\"\")","v":""},{"$f":"IFERROR(AM18/'OVERALL TARGET'!AM$119,\"\")","v":""},{"$f":"IFERROR(AN18/'OVERALL TARGET'!AN$119,\"\")","v":""},{"$f":"IFERROR(AO18/'OVERALL TARGET'!AO$119,\"\")","v":""},{"$f":"IFERROR(AP18/'OVERALL TARGET'!AP$119,\"\")","v":""},{"$f":"IFERROR(AQ18/'OVERALL TARGET'!AQ$119,\"\")","v":""},{"$f":"IFERROR(AR18/'OVERALL TARGET'!AR$119,\"\")","v":""},{"$f":"IFERROR(AS18/'OVERALL TARGET'!AS$119,\"\")","v":""},{"$f":"IFERROR(AT18/'OVERALL TARGET'!AT$119,\"\")","v":""},{"$f":"IFERROR(AU18/'OVERALL TARGET'!AU$119,\"\")","v":""},{"$f":"IFERROR(AV18/'OVERALL TARGET'!AV$119,\"\")","v":""},{"$f":"IFERROR(AW18/'OVERALL TARGET'!AW$119,\"\")","v":""},{"$f":"IFERROR(AX18/'OVERALL TARGET'!AX$119,\"\")","v":""},{"$f":"IFERROR(AY18/'OVERALL TARGET'!AY$119,\"\")","v":""},{"$f":"IFERROR(AZ18/'OVERALL TARGET'!AZ$119,\"\")","v":""},{"$f":"IFERROR(BA18/'OVERALL TARGET'!BA$119,\"\")","v":""},{"$f":"IFERROR(BB18/'OVERALL TARGET'!BB$119,\"\")","v":""},{"$f":"IFERROR(BC18/'OVERALL TARGET'!BC$119,\"\")","v":""},{"$f":"IFERROR(BD18/'OVERALL TARGET'!BD$119,\"\")","v":""},{"$f":"IFERROR(BE18/'OVERALL TARGET'!BE$119,\"\")","v":""},{"$f":"IFERROR(BF18/'OVERALL TARGET'!BF$119,\"\")","v":""},{"$f":"IFERROR(BG18/'OVERALL TARGET'!BG$119,\"\")","v":""},{"$f":"IFERROR(BH18/'OVERALL TARGET'!BH$119,\"\")","v":""},{"$f":"IFERROR(BI18/'OVERALL TARGET'!BI$119,\"\")","v":""},{"$f":"IFERROR(BJ18/'OVERALL TARGET'!BJ$119,\"\")","v":""},{"$f":"IFERROR(BK18/'OVERALL TARGET'!BK$119,\"\")","v":""},{"$f":"IFERROR(BL18/'OVERALL TARGET'!BL$119,\"\")","v":""},{"$f":"IFERROR(BM18/'OVERALL TARGET'!BM$119,\"\")","v":""},{"$f":"IFERROR(BN18/'OVERALL TARGET'!BN$119,\"\")","v":""},{"$f":"IFERROR(BO18/'OVERALL TARGET'!BO$119,\"\")","v":""},{"$f":"IFERROR(BP18/'OVERALL TARGET'!BP$119,\"\")","v":""},null,null,null,null,null,null,null,null,null,null,null,null,null,null,null,null,null,null,null,null,null,null,null,null,null,null,null,null,null,null,null,null,null,null,null,null,null,null,null,null,null,null,null,null,null,null,null,null,null,null,null,null,null,null,null,"RA500","ENERGUSE","GFC_E_OT_NAVICAPA","_Z","_Z","_Z","_Z","_Z","NUMBER","_Z","PC",null,"nrg_ind_rfcer","TIMESERIES","RA500","GFC_E_OT_NAVICAPA","_Z","PC","Agg.=[SUM(Countries Row 18)/SUM(Countries OVERALL TARGET Row 119)]*100"]
["Municipal waste (renewable)",null,null,null,null,null,null,null,null,null,null,null,null,null,null,null,null,null,null,null,null,{"$f":"IFERROR(V19/'OVERALL TARGET'!V$119,\"\")","v":""},{"$f":"IFERROR(W19/'OVERALL TARGET'!W$119,\"\")","v":""},{"$f":"IFERROR(X19/'OVERALL TARGET'!X$119,\"\")","v":""},{"$f":"IFERROR(Y19/'OVERALL TARGET'!Y$119,\"\")","v":""},{"$f":"IFERROR(Z19/'OVERALL TARGET'!Z$119,\"\")","v":""},{"$f":"IFERROR(AA19/'OVERALL TARGET'!AA$119,\"\")","v":""},{"$f":"IFERROR(AB19/'OVERALL TARGET'!AB$119,\"\")","v":""},{"$f":"IFERROR(AC19/'OVERALL TARGET'!AC$119,\"\")","v":""},{"$f":"IFERROR(AD19/'OVERALL TARGET'!AD$119,\"\")","v":""},{"$f":"IFERROR(AE19/'OVERALL TARGET'!AE$119,\"\")","v":""},{"$f":"IFERROR(AF19/'OVERALL TARGET'!AF$119,\"\")","v":""},{"$f":"IFERROR(AG19/'OVERALL TARGET'!AG$119,\"\")","v":""},{"$f":"IFERROR(AH19/'OVERALL TARGET'!AH$119,\"\")","v":""},{"$f":"IFERROR(AI19/'OVERALL TARGET'!AI$119,\"\")","v":""},{"$f":"IFERROR(AJ19/'OVERALL TARGET'!AJ$119,\"\")","v":""},{"$f":"IFERROR(AK19/'OVERALL TARGET'!AK$119,\"\")","v":""},{"$f":"IFERROR(AL19/'OVERALL TARGET'!AL$119,\"\")","v":""},{"$f":"IFERROR(AM19/'OVERALL TARGET'!AM$119,\"\")","v":""},{"$f":"IFERROR(AN19/'OVERALL TARGET'!AN$119,\"\")","v":""},{"$f":"IFERROR(AO19/'OVERALL TARGET'!AO$119,\"\")","v":""},{"$f":"IFERROR(AP19/'OVERALL TARGET'!AP$119,\"\")","v":""},{"$f":"IFERROR(AQ19/'OVERALL TARGET'!AQ$119,\"\")","v":""},{"$f":"IFERROR(AR19/'OVERALL TARGET'!AR$119,\"\")","v":""},{"$f":"IFERROR(AS19/'OVERALL TARGET'!AS$119,\"\")","v":""},{"$f":"IFERROR(AT19/'OVERALL TARGET'!AT$119,\"\")","v":""},{"$f":"IFERROR(AU19/'OVERALL TARGET'!AU$119,\"\")","v":""},{"$f":"IFERROR(AV19/'OVERALL TARGET'!AV$119,\"\")","v":""},{"$f":"IFERROR(AW19/'OVERALL TARGET'!AW$119,\"\")","v":""},{"$f":"IFERROR(AX19/'OVERALL TARGET'!AX$119,\"\")","v":""},{"$f":"IFERROR(AY19/'OVERALL TARGET'!AY$119,\"\")","v":""},{"$f":"IFERROR(AZ19/'OVERALL TARGET'!AZ$119,\"\")","v":""},{"$f":"IFERROR(BA19/'OVERALL TARGET'!BA$119,\"\")","v":""},{"$f":"IFERROR(BB19/'OVERALL TARGET'!BB$119,\"\")","v":""},{"$f":"IFERROR(BC19/'OVERALL TARGET'!BC$119,\"\")","v":""},{"$f":"IFERROR(BD19/'OVERALL TARGET'!BD$119,\"\")","v":""},{"$f":"IFERROR(BE19/'OVERALL TARGET'!BE$119,\"\")","v":""},{"$f":"IFERROR(BF19/'OVERALL TARGET'!BF$119,\"\")","v":""},{"$f":"IFERROR(BG19/'OVERALL TARGET'!BG$119,\"\")","v":""},{"$f":"IFERROR(BH19/'OVERALL TARGET'!BH$119,\"\")","v":""},{"$f":"IFERROR(BI19/'OVERALL TARGET'!BI$119,\"\")","v":""},{"$f":"IFERROR(BJ19/'OVERALL TARGET'!BJ$119,\"\")","v":""},{"$f":"IFERROR(BK19/'OVERALL TARGET'!BK$119,\"\")","v":""},{"$f":"IFERROR(BL19/'OVERALL TARGET'!BL$119,\"\")","v":""},{"$f":"IFERROR(BM19/'OVERALL TARGET'!BM$119,\"\")","v":""},{"$f":"IFERROR(BN19/'OVERALL TARGET'!BN$119,\"\")","v":""},{"$f":"IFERROR(BO19/'OVERALL TARGET'!BO$119,\"\")","v":""},{"$f":"IFERROR(BP19/'OVERALL TARGET'!BP$119,\"\")","v":""},null,null,null,null,null,null,null,null,null,null,null,null,null,null,null,null,null,null,null,null,null,null,null,null,null,null,null,null,null,null,null,null,null,null,null,null,null,null,null,null,null,null,null,null,null,null,null,null,null,null,null,null,null,null,null,"W6210","ENERGUSE","GFC_E_OT_NAVICAPA","_Z","_Z","_Z","_Z","_Z","NUMBER","_Z","PC",null,"nrg_ind_rfcer","TIMESERIES","W6210","GFC_E_OT_NAVICAPA","_Z","PC","Agg.=[SUM(Countries Row 19)/SUM(Countries OVERALL TARGET Row 119)]*100"]
["Sustainable primary solid biofuels",null,null,null,null,null,null,null,null,null,null,null,null,null,null,null,null,null,null,null,null,{"$f":"IFERROR(V20/'OVERALL TARGET'!V$119,\"\")","v":""},{"$f":"IFERROR(W20/'OVERALL TARGET'!W$119,\"\")","v":""},{"$f":"IFERROR(X20/'OVERALL TARGET'!X$119,\"\")","v":""},{"$f":"IFERROR(Y20/'OVERALL TARGET'!Y$119,\"\")","v":""},{"$f":"IFERROR(Z20/'OVERALL TARGET'!Z$119,\"\")","v":""},{"$f":"IFERROR(AA20/'OVERALL TARGET'!AA$119,\"\")","v":""},{"$f":"IFERROR(AB20/'OVERALL TARGET'!AB$119,\"\")","v":""},{"$f":"IFERROR(AC20/'OVERALL TARGET'!AC$119,\"\")","v":""},{"$f":"IFERROR(AD20/'OVERALL TARGET'!AD$119,\"\")","v":""},{"$f":"IFERROR(AE20/'OVERALL TARGET'!AE$119,\"\")","v":""},{"$f":"IFERROR(AF20/'OVERALL TARGET'!AF$119,\"\")","v":""},{"$f":"IFERROR(AG20/'OVERALL TARGET'!AG$119,\"\")","v":""},{"$f":"IFERROR(AH20/'OVERALL TARGET'!AH$119,\"\")","v":""},{"$f":"IFERROR(AI20/'OVERALL TARGET'!AI$119,\"\")","v":""},{"$f":"IFERROR(AJ20/'OVERALL TARGET'!AJ$119,\"\")","v":""},{"$f":"IFERROR(AK20/'OVERALL TARGET'!AK$119,\"\")","v":""},{"$f":"IFERROR(AL20/'OVERALL TARGET'!AL$119,\"\")","v":""},{"$f":"IFERROR(AM20/'OVERALL TARGET'!AM$119,\"\")","v":""},{"$f":"IFERROR(AN20/'OVERALL TARGET'!AN$119,\"\")","v":""},{"$f":"IFERROR(AO20/'OVERALL TARGET'!AO$119,\"\")","v":""},{"$f":"IFERROR(AP20/'OVERALL TARGET'!AP$119,\"\")","v":""},{"$f":"IFERROR(AQ20/'OVERALL TARGET'!AQ$119,\"\")","v":""},{"$f":"IFERROR(AR20/'OVERALL TARGET'!AR$119,\"\")","v":""},{"$f":"IFERROR(AS20/'OVERALL TARGET'!AS$119,\"\")","v":""},{"$f":"IFERROR(AT20/'OVERALL TARGET'!AT$119,\"\")","v":""},{"$f":"IFERROR(AU20/'OVERALL TARGET'!AU$119,\"\")","v":""},{"$f":"IFERROR(AV20/'OVERALL TARGET'!AV$119,\"\")","v":""},{"$f":"IFERROR(AW20/'OVERALL TARGET'!AW$119,\"\")","v":""},{"$f":"IFERROR(AX20/'OVERALL TARGET'!AX$119,\"\")","v":""},{"$f":"IFERROR(AY20/'OVERALL TARGET'!AY$119,\"\")","v":""},{"$f":"IFERROR(AZ20/'OVERALL TARGET'!AZ$119,\"\")","v":""},{"$f":"IFERROR(BA20/'OVERALL TARGET'!BA$119,\"\")","v":""},{"$f":"IFERROR(BB20/'OVERALL TARGET'!BB$119,\"\")","v":""},{"$f":"IFERROR(BC20/'OVERALL TARGET'!BC$119,\"\")","v":""},{"$f":"IFERROR(BD20/'OVERALL TARGET'!BD$119,\"\")","v":""},{"$f":"IFERROR(BE20/'OVERALL TARGET'!BE$119,\"\")","v":""},{"$f":"IFERROR(BF20/'OVERALL TARGET'!BF$119,\"\")","v":""},{"$f":"IFERROR(BG20/'OVERALL TARGET'!BG$119,\"\")","v":""},{"$f":"IFERROR(BH20/'OVERALL TARGET'!BH$119,\"\")","v":""},{"$f":"IFERROR(BI20/'OVERALL TARGET'!BI$119,\"\")","v":""},{"$f":"IFERROR(BJ20/'OVERALL TARGET'!BJ$119,\"\")","v":""},{"$f":"IFERROR(BK20/'OVERALL TARGET'!BK$119,\"\")","v":""},{"$f":"IFERROR(BL20/'OVERALL TARGET'!BL$119,\"\")","v":""},{"$f":"IFERROR(BM20/'OVERALL TARGET'!BM$119,\"\")","v":""},{"$f":"IFERROR(BN20/'OVERALL TARGET'!BN$119,\"\")","v":""},{"$f":"IFERROR(BO20/'OVERALL TARGET'!BO$119,\"\")","v":""},{"$f":"IFERROR(BP20/'OVERALL TARGET'!BP$119,\"\")","v":""},null,null,null,null,null,null,null,null,null,null,null,null,null,null,null,null,null,null,null,null,null,null,null,null,null,null,null,null,null,null,null,null,null,null,null,null,null,null,null,null,null,null,null,null,null,null,null,null,null,null,null,null,null,null,null,"R5110-5150_W6000RIS","ENERGUSE","GFC_E_OT_NAVICAPA","_Z","_Z","_Z","_Z","_Z","NUMBER","_Z","PC",null,"nrg_ind_rfcer","TIMESERIES","R5110-5150_W6000RIS","GFC_E_OT_NAVICAPA","_Z","PC","Agg.=[SUM(Countries Row 20)/SUM(Countries OVERALL TARGET Row 119)]*100"]
["Charcoal",null,null,null,null,null,null,null,null,null,null,null,null,null,null,null,null,null,null,null,null,{"$f":"IFERROR(V21/'OVERALL TARGET'!V$119,\"\")","v":""},{"$f":"IFERROR(W21/'OVERALL TARGET'!W$119,\"\")","v":""},{"$f":"IFERROR(X21/'OVERALL TARGET'!X$119,\"\")","v":""},{"$f":"IFERROR(Y21/'OVERALL TARGET'!Y$119,\"\")","v":""},{"$f":"IFERROR(Z21/'OVERALL TARGET'!Z$119,\"\")","v":""},{"$f":"IFERROR(AA21/'OVERALL TARGET'!AA$119,\"\")","v":""},{"$f":"IFERROR(AB21/'OVERALL TARGET'!AB$119,\"\")","v":""},{"$f":"IFERROR(AC21/'OVERALL TARGET'!AC$119,\"\")","v":""},{"$f":"IFERROR(AD21/'OVERALL TARGET'!AD$119,\"\")","v":""},{"$f":"IFERROR(AE21/'OVERALL TARGET'!AE$119,\"\")","v":""},{"$f":"IFERROR(AF21/'OVERALL TARGET'!AF$119,\"\")","v":""},{"$f":"IFERROR(AG21/'OVERALL TARGET'!AG$119,\"\")","v":""},{"$f":"IFERROR(AH21/'OVERALL TARGET'!AH$119,\"\")","v":""},{"$f":"IFERROR(AI21/'OVERALL TARGET'!AI$119,\"\")","v":""},{"$f":"IFERROR(AJ21/'OVERALL TARGET'!AJ$119,\"\")","v":""},{"$f":"IFERROR(AK21/'OVERALL TARGET'!AK$119,\"\")","v":""},{"$f":"IFERROR(AL21/'OVERALL TARGET'!AL$119,\"\")","v":""},{"$f":"IFERROR(AM21/'OVERALL TARGET'!AM$119,\"\")","v":""},{"$f":"IFERROR(AN21/'OVERALL TARGET'!AN$119,\"\")","v":""},{"$f":"IFERROR(AO21/'OVERALL TARGET'!AO$119,\"\")","v":""},{"$f":"IFERROR(AP21/'OVERALL TARGET'!AP$119,\"\")","v":""},{"$f":"IFERROR(AQ21/'OVERALL TARGET'!AQ$119,\"\")","v":""},{"$f":"IFERROR(AR21/'OVERALL TARGET'!AR$119,\"\")","v":""},{"$f":"IFERROR(AS21/'OVERALL TARGET'!AS$119,\"\")","v":""},{"$f":"IFERROR(AT21/'OVERALL TARGET'!AT$119,\"\")","v":""},{"$f":"IFERROR(AU21/'OVERALL TARGET'!AU$119,\"\")","v":""},{"$f":"IFERROR(AV21/'OVERALL TARGET'!AV$119,\"\")","v":""},{"$f":"IFERROR(AW21/'OVERALL TARGET'!AW$119,\"\")","v":""},{"$f":"IFERROR(AX21/'OVERALL TARGET'!AX$119,\"\")","v":""},{"$f":"IFERROR(AY21/'OVERALL TARGET'!AY$119,\"\")","v":""},{"$f":"IFERROR(AZ21/'OVERALL TARGET'!AZ$119,\"\")","v":""},{"$f":"IFERROR(BA21/'OVERALL TARGET'!BA$119,\"\")","v":""},{"$f":"IFERROR(BB21/'OVERALL TARGET'!BB$119,\"\")","v":""},{"$f":"IFERROR(BC21/'OVERALL TARGET'!BC$119,\"\")","v":""},{"$f":"IFERROR(BD21/'OVERALL TARGET'!BD$119,\"\")","v":""},{"$f":"IFERROR(BE21/'OVERALL TARGET'!BE$119,\"\")","v":""},{"$f":"IFERROR(BF21/'OVERALL TARGET'!BF$119,\"\")","v":""},{"$f":"IFERROR(BG21/'OVERALL TARGET'!BG$119,\"\")","v":""},{"$f":"IFERROR(BH21/'OVERALL TARGET'!BH$119,\"\")","v":""},{"$f":"IFERROR(BI21/'OVERALL TARGET'!BI$119,\"\")","v":""},{"$f":"IFERROR(BJ21/'OVERALL TARGET'!BJ$119,\"\")","v":""},{"$f":"IFERROR(BK21/'OVERALL TARGET'!BK$119,\"\")","v":""},{"$f":"IFERROR(BL21/'OVERALL TARGET'!BL$119,\"\")","v":""},{"$f":"IFERROR(BM21/'OVERALL TARGET'!BM$119,\"\")","v":""},{"$f":"IFERROR(BN21/'OVERALL TARGET'!BN$119,\"\")","v":""},{"$f":"IFERROR(BO21/'OVERALL TARGET'!BO$119,\"\")","v":""},{"$f":"IFERROR(BP21/'OVERALL TARGET'!BP$119,\"\")","v":""},null,null,null,null,null,null,null,null,null,null,null,null,null,null,null,null,null,null,null,null,null,null,null,null,null,null,null,null,null,null,null,null,null,null,null,null,null,null,null,null,null,null,null,null,null,null,null,null,null,null,null,null,null,null,null,"R5160","ENERGUSE","GFC_E_OT_NAVICAPA","_Z","_Z","_Z","_Z","_Z","NUMBER","_Z","PC",null,"nrg_ind_rfcer","TIMESERIES","R5160","GFC_E_OT_NAVICAPA","_Z","PC","Agg.=[SUM(Countries Row 21)/SUM(Countries OVERALL TARGET Row 119)]*100"]
["Heat pumps for heating",null,null,null,null,null,null,null,null,null,null,null,null,null,null,null,null,null,null,null,null,{"$f":"IFERROR(V22/'OVERALL TARGET'!V$119,\"\")","v":""},{"$f":"IFERROR(W22/'OVERALL TARGET'!W$119,\"\")","v":""},{"$f":"IFERROR(X22/'OVERALL TARGET'!X$119,\"\")","v":""},{"$f":"IFERROR(Y22/'OVERALL TARGET'!Y$119,\"\")","v":""},{"$f":"IFERROR(Z22/'OVERALL TARGET'!Z$119,\"\")","v":""},{"$f":"IFERROR(AA22/'OVERALL TARGET'!AA$119,\"\")","v":""},{"$f":"IFERROR(AB22/'OVERALL TARGET'!AB$119,\"\")","v":""},{"$f":"IFERROR(AC22/'OVERALL TARGET'!AC$119,\"\")","v":""},{"$f":"IFERROR(AD22/'OVERALL TARGET'!AD$119,\"\")","v":""},{"$f":"IFERROR(AE22/'OVERALL TARGET'!AE$119,\"\")","v":""},{"$f":"IFERROR(AF22/'OVERALL TARGET'!AF$119,\"\")","v":""},{"$f":"IFERROR(AG22/'OVERALL TARGET'!AG$119,\"\")","v":""},{"$f":"IFERROR(AH22/'OVERALL TARGET'!AH$119,\"\")","v":""},{"$f":"IFERROR(AI22/'OVERALL TARGET'!AI$119,\"\")","v":""},{"$f":"IFERROR(AJ22/'OVERALL TARGET'!AJ$119,\"\")","v":""},{"$f":"IFERROR(AK22/'OVERALL TARGET'!AK$119,\"\")","v":""},{"$f":"IFERROR(AL22/'OVERALL TARGET'!AL$119,\"\")","v":""},{"$f":"IFERROR(AM22/'OVERALL TARGET'!AM$119,\"\")","v":""},{"$f":"IFERROR(AN22/'OVERALL TARGET'!AN$119,\"\")","v":""},{"$f":"IFERROR(AO22/'OVERALL TARGET'!AO$119,\"\")","v":""},{"$f":"IFERROR(AP22/'OVERALL TARGET'!AP$119,\"\")","v":""},{"$f":"IFERROR(AQ22/'OVERALL TARGET'!AQ$119,\"\")","v":""},{"$f":"IFERROR(AR22/'OVERALL TARGET'!AR$119,\"\")","v":""},{"$f":"IFERROR(AS22/'OVERALL TARGET'!AS$119,\"\")","v":""},{"$f":"IFERROR(AT22/'OVERALL TARGET'!AT$119,\"\")","v":""},{"$f":"IFERROR(AU22/'OVERALL TARGET'!AU$119,\"\")","v":""},{"$f":"IFERROR(AV22/'OVERALL TARGET'!AV$119,\"\")","v":""},{"$f":"IFERROR(AW22/'OVERALL TARGET'!AW$119,\"\")","v":""},{"$f":"IFERROR(AX22/'OVERALL TARGET'!AX$119,\"\")","v":""},{"$f":"IFERROR(AY22/'OVERALL TARGET'!AY$119,\"\")","v":""},{"$f":"IFERROR(AZ22/'OVERALL TARGET'!AZ$119,\"\")","v":""},{"$f":"IFERROR(BA22/'OVERALL TARGET'!BA$119,\"\")","v":""},{"$f":"IFERROR(BB22/'OVERALL TARGET'!BB$119,\"\")","v":""},{"$f":"IFERROR(BC22/'OVERALL TARGET'!BC$119,\"\")","v":""},{"$f":"IFERROR(BD22/'OVERALL TARGET'!BD$119,\"\")","v":""},{"$f":"IFERROR(BE22/'OVERALL TARGET'!BE$119,\"\")","v":""},{"$f":"IFERROR(BF22/'OVERALL TARGET'!BF$119,\"\")","v":""},{"$f":"IFERROR(BG22/'OVERALL TARGET'!BG$119,\"\")","v":""},{"$f":"IFERROR(BH22/'OVERALL TARGET'!BH$119,\"\")","v":""},{"$f":"IFERROR(BI22/'OVERALL TARGET'!BI$119,\"\")","v":""},{"$f":"IFERROR(BJ22/'OVERALL TARGET'!BJ$119,\"\")","v":""},{"$f":"IFERROR(BK22/'OVERALL TARGET'!BK$119,\"\")","v":""},{"$f":"IFERROR(BL22/'OVERALL TARGET'!BL$119,\"\")","v":""},{"$f":"IFERROR(BM22/'OVERALL TARGET'!BM$119,\"\")","v":""},{"$f":"IFERROR(BN22/'OVERALL TARGET'!BN$119,\"\")","v":""},{"$f":"IFERROR(BO22/'OVERALL TARGET'!BO$119,\"\")","v":""},{"$f":"IFERROR(BP22/'OVERALL TARGET'!BP$119,\"\")","v":""},null,null,null,null,null,null,null,null,null,null,null,null,null,null,null,null,null,null,null,null,null,null,null,null,null,null,null,null,null,null,null,null,null,null,null,null,null,null,null,null,null,null,null,null,null,null,null,null,null,null,null,null,null,null,null,"RA600","ENERGUSE","GFC_E_OT_NAVICAPA","_Z","_Z","_Z","_Z","_Z","NUMBER","_Z","PC",null,"nrg_ind_rfcer","TIMESERIES","RA600","GFC_E_OT_NAVICAPA","_Z","PC","Agg.=[SUM(Countries Row 22)/SUM(Countries OVERALL TARGET Row 119)]*100"]
[null,"Of which from aerothermal and hydrothermal heat pumps (excluding geothermal heat pumps)",null,null,null,null,null,null,null,null,null,null,null,null,null,null,null,null,null,null,null,{"$f":"IFERROR(V23/'OVERALL TARGET'!V$119,\"\")","v":""},{"$f":"IFERROR(W23/'OVERALL TARGET'!W$119,\"\")","v":""},{"$f":"IFERROR(X23/'OVERALL TARGET'!X$119,\"\")","v":""},{"$f":"IFERROR(Y23/'OVERALL TARGET'!Y$119,\"\")","v":""},{"$f":"IFERROR(Z23/'OVERALL TARGET'!Z$119,\"\")","v":""},{"$f":"IFERROR(AA23/'OVERALL TARGET'!AA$119,\"\")","v":""},{"$f":"IFERROR(AB23/'OVERALL TARGET'!AB$119,\"\")","v":""},{"$f":"IFERROR(AC23/'OVERALL TARGET'!AC$119,\"\")","v":""},{"$f":"IFERROR(AD23/'OVERALL TARGET'!AD$119,\"\")","v":""},{"$f":"IFERROR(AE23/'OVERALL TARGET'!AE$119,\"\")","v":""},{"$f":"IFERROR(AF23/'OVERALL TARGET'!AF$119,\"\")","v":""},{"$f":"IFERROR(AG23/'OVERALL TARGET'!AG$119,\"\")","v":""},{"$f":"IFERROR(AH23/'OVERALL TARGET'!AH$119,\"\")","v":""},{"$f":"IFERROR(AI23/'OVERALL TARGET'!AI$119,\"\")","v":""},{"$f":"IFERROR(AJ23/'OVERALL TARGET'!AJ$119,\"\")","v":""},{"$f":"IFERROR(AK23/'OVERALL TARGET'!AK$119,\"\")","v":""},{"$f":"IFERROR(AL23/'OVERALL TARGET'!AL$119,\"\")","v":""},{"$f":"IFERROR(AM23/'OVERALL TARGET'!AM$119,\"\")","v":""},{"$f":"IFERROR(AN23/'OVERALL TARGET'!AN$119,\"\")","v":""},{"$f":"IFERROR(AO23/'OVERALL TARGET'!AO$119,\"\")","v":""},{"$f":"IFERROR(AP23/'OVERALL TARGET'!AP$119,\"\")","v":""},{"$f":"IFERROR(AQ23/'OVERALL TARGET'!AQ$119,\"\")","v":""},{"$f":"IFERROR(AR23/'OVERALL TARGET'!AR$119,\"\")","v":""},{"$f":"IFERROR(AS23/'OVERALL TARGET'!AS$119,\"\")","v":""},{"$f":"IFERROR(AT23/'OVERALL TARGET'!AT$119,\"\")","v":""},{"$f":"IFERROR(AU23/'OVERALL TARGET'!AU$119,\"\")","v":""},{"$f":"IFERROR(AV23/'OVERALL TARGET'!AV$119,\"\")","v":""},{"$f":"IFERROR(AW23/'OVERALL TARGET'!AW$119,\"\")","v":""},{"$f":"IFERROR(AX23/'OVERALL TARGET'!AX$119,\"\")","v":""},{"$f":"IFERROR(AY23/'OVERALL TARGET'!AY$119,\"\")","v":""},{"$f":"IFERROR(AZ23/'OVERALL TARGET'!AZ$119,\"\")","v":""},{"$f":"IFERROR(BA23/'OVERALL TARGET'!BA$119,\"\")","v":""},{"$f":"IFERROR(BB23/'OVERALL TARGET'!BB$119,\"\")","v":""},{"$f":"IFERROR(BC23/'OVERALL TARGET'!BC$119,\"\")","v":""},{"$f":"IFERROR(BD23/'OVERALL TARGET'!BD$119,\"\")","v":""},{"$f":"IFERROR(BE23/'OVERALL TARGET'!BE$119,\"\")","v":""},{"$f":"IFERROR(BF23/'OVERALL TARGET'!BF$119,\"\")","v":""},{"$f":"IFERROR(BG23/'OVERALL TARGET'!BG$119,\"\")","v":""},{"$f":"IFERROR(BH23/'OVERALL TARGET'!BH$119,\"\")","v":""},{"$f":"IFERROR(BI23/'OVERALL TARGET'!BI$119,\"\")","v":""},{"$f":"IFERROR(BJ23/'OVERALL TARGET'!BJ$119,\"\")","v":""},{"$f":"IFERROR(BK23/'OVERALL TARGET'!BK$119,\"\")","v":""},{"$f":"IFERROR(BL23/'OVERALL TARGET'!BL$119,\"\")","v":""},{"$f":"IFERROR(BM23/'OVERALL TARGET'!BM$119,\"\")","v":""},{"$f":"IFERROR(BN23/'OVERALL TARGET'!BN$119,\"\")","v":""},{"$f":"IFERROR(BO23/'OVERALL TARGET'!BO$119,\"\")","v":""},{"$f":"IFERROR(BP23/'OVERALL TARGET'!BP$119,\"\")","v":""},null,null,null,null,null,null,null,null,null,null,null,null,null,null,null,null,null,null,null,null,null,null,null,null,null,null,null,null,null,null,null,null,null,null,null,null,null,null,null,null,null,null,null,null,null,null,null,null,null,null,null,null,null,null,null,"RA620","ENERGUSE","GFC_E_OT_NAVICAPA","_Z","_Z","_Z","_Z","_Z","NUMBER","_Z","PC",null,"nrg_ind_rfcer","TIMESERIES","RA620","GFC_E_OT_NAVICAPA","_Z","PC","Agg.=[SUM(Countries Row 23)/SUM(Countries OVERALL TARGET Row 119)]*100"]
[null,"Of which from geothermal energy using heat pumps",null,null,null,null,null,null,null,null,null,null,null,null,null,null,null,null,null,null,null,{"$f":"IFERROR(V24/'OVERALL TARGET'!V$119,\"\")","v":""},{"$f":"IFERROR(W24/'OVERALL TARGET'!W$119,\"\")","v":""},{"$f":"IFERROR(X24/'OVERALL TARGET'!X$119,\"\")","v":""},{"$f":"IFERROR(Y24/'OVERALL TARGET'!Y$119,\"\")","v":""},{"$f":"IFERROR(Z24/'OVERALL TARGET'!Z$119,\"\")","v":""},{"$f":"IFERROR(AA24/'OVERALL TARGET'!AA$119,\"\")","v":""},{"$f":"IFERROR(AB24/'OVERALL TARGET'!AB$119,\"\")","v":""},{"$f":"IFERROR(AC24/'OVERALL TARGET'!AC$119,\"\")","v":""},{"$f":"IFERROR(AD24/'OVERALL TARGET'!AD$119,\"\")","v":""},{"$f":"IFERROR(AE24/'OVERALL TARGET'!AE$119,\"\")","v":""},{"$f":"IFERROR(AF24/'OVERALL TARGET'!AF$119,\"\")","v":""},{"$f":"IFERROR(AG24/'OVERALL TARGET'!AG$119,\"\")","v":""},{"$f":"IFERROR(AH24/'OVERALL TARGET'!AH$119,\"\")","v":""},{"$f":"IFERROR(AI24/'OVERALL TARGET'!AI$119,\"\")","v":""},{"$f":"IFERROR(AJ24/'OVERALL TARGET'!AJ$119,\"\")","v":""},{"$f":"IFERROR(AK24/'OVERALL TARGET'!AK$119,\"\")","v":""},{"$f":"IFERROR(AL24/'OVERALL TARGET'!AL$119,\"\")","v":""},{"$f":"IFERROR(AM24/'OVERALL TARGET'!AM$119,\"\")","v":""},{"$f":"IFERROR(AN24/'OVERALL TARGET'!AN$119,\"\")","v":""},{"$f":"IFERROR(AO24/'OVERALL TARGET'!AO$119,\"\")","v":""},{"$f":"IFERROR(AP24/'OVERALL TARGET'!AP$119,\"\")","v":""},{"$f":"IFERROR(AQ24/'OVERALL TARGET'!AQ$119,\"\")","v":""},{"$f":"IFERROR(AR24/'OVERALL TARGET'!AR$119,\"\")","v":""},{"$f":"IFERROR(AS24/'OVERALL TARGET'!AS$119,\"\")","v":""},{"$f":"IFERROR(AT24/'OVERALL TARGET'!AT$119,\"\")","v":""},{"$f":"IFERROR(AU24/'OVERALL TARGET'!AU$119,\"\")","v":""},{"$f":"IFERROR(AV24/'OVERALL TARGET'!AV$119,\"\")","v":""},{"$f":"IFERROR(AW24/'OVERALL TARGET'!AW$119,\"\")","v":""},{"$f":"IFERROR(AX24/'OVERALL TARGET'!AX$119,\"\")","v":""},{"$f":"IFERROR(AY24/'OVERALL TARGET'!AY$119,\"\")","v":""},{"$f":"IFERROR(AZ24/'OVERALL TARGET'!AZ$119,\"\")","v":""},{"$f":"IFERROR(BA24/'OVERALL TARGET'!BA$119,\"\")","v":""},{"$f":"IFERROR(BB24/'OVERALL TARGET'!BB$119,\"\")","v":""},{"$f":"IFERROR(BC24/'OVERALL TARGET'!BC$119,\"\")","v":""},{"$f":"IFERROR(BD24/'OVERALL TARGET'!BD$119,\"\")","v":""},{"$f":"IFERROR(BE24/'OVERALL TARGET'!BE$119,\"\")","v":""},{"$f":"IFERROR(BF24/'OVERALL TARGET'!BF$119,\"\")","v":""},{"$f":"IFERROR(BG24/'OVERALL TARGET'!BG$119,\"\")","v":""},{"$f":"IFERROR(BH24/'OVERALL TARGET'!BH$119,\"\")","v":""},{"$f":"IFERROR(BI24/'OVERALL TARGET'!BI$119,\"\")","v":""},{"$f":"IFERROR(BJ24/'OVERALL TARGET'!BJ$119,\"\")","v":""},{"$f":"IFERROR(BK24/'OVERALL TARGET'!BK$119,\"\")","v":""},{"$f":"IFERROR(BL24/'OVERALL TARGET'!BL$119,\"\")","v":""},{"$f":"IFERROR(BM24/'OVERALL TARGET'!BM$119,\"\")","v":""},{"$f":"IFERROR(BN24/'OVERALL TARGET'!BN$119,\"\")","v":""},{"$f":"IFERROR(BO24/'OVERALL TARGET'!BO$119,\"\")","v":""},{"$f":"IFERROR(BP24/'OVERALL TARGET'!BP$119,\"\")","v":""},null,null,null,null,null,null,null,null,null,null,null,null,null,null,null,null,null,null,null,null,null,null,null,null,null,null,null,null,null,null,null,null,null,null,null,null,null,null,null,null,null,null,null,null,null,null,null,null,null,null,null,null,null,null,null,"RA610","ENERGUSE","GFC_E_OT_NAVICAPA","_Z","_Z","_Z","_Z","_Z","NUMBER","_Z","PC",null,"nrg_ind_rfcer","TIMESERIES","RA610","GFC_E_OT_NAVICAPA","_Z","PC","Agg.=[SUM(Countries Row 24)/SUM(Countries OVERALL TARGET Row 119)]*100"]
["Renewable cooling",null,null,null,null,null,null,null,null,null,null,null,null,null,null,null,null,null,null,null,null,{"$f":"IFERROR(V25/'OVERALL TARGET'!V$119,\"\")","v":""},{"$f":"IFERROR(W25/'OVERALL TARGET'!W$119,\"\")","v":""},{"$f":"IFERROR(X25/'OVERALL TARGET'!X$119,\"\")","v":""},{"$f":"IFERROR(Y25/'OVERALL TARGET'!Y$119,\"\")","v":""},{"$f":"IFERROR(Z25/'OVERALL TARGET'!Z$119,\"\")","v":""},{"$f":"IFERROR(AA25/'OVERALL TARGET'!AA$119,\"\")","v":""},{"$f":"IFERROR(AB25/'OVERALL TARGET'!AB$119,\"\")","v":""},{"$f":"IFERROR(AC25/'OVERALL TARGET'!AC$119,\"\")","v":""},{"$f":"IFERROR(AD25/'OVERALL TARGET'!AD$119,\"\")","v":""},{"$f":"IFERROR(AE25/'OVERALL TARGET'!AE$119,\"\")","v":""},{"$f":"IFERROR(AF25/'OVERALL TARGET'!AF$119,\"\")","v":""},{"$f":"IFERROR(AG25/'OVERALL TARGET'!AG$119,\"\")","v":""},{"$f":"IFERROR(AH25/'OVERALL TARGET'!AH$119,\"\")","v":""},{"$f":"IFERROR(AI25/'OVERALL TARGET'!AI$119,\"\")","v":""},{"$f":"IFERROR(AJ25/'OVERALL TARGET'!AJ$119,\"\")","v":""},{"$f":"IFERROR(AK25/'OVERALL TARGET'!AK$119,\"\")","v":""},{"$f":"IFERROR(AL25/'OVERALL TARGET'!AL$119,\"\")","v":""},{"$f":"IFERROR(AM25/'OVERALL TARGET'!AM$119,\"\")","v":""},{"$f":"IFERROR(AN25/'OVERALL TARGET'!AN$119,\"\")","v":""},{"$f":"IFERROR(AO25/'OVERALL TARGET'!AO$119,\"\")","v":""},{"$f":"IFERROR(AP25/'OVERALL TARGET'!AP$119,\"\")","v":""},{"$f":"IFERROR(AQ25/'OVERALL TARGET'!AQ$119,\"\")","v":""},{"$f":"IFERROR(AR25/'OVERALL TARGET'!AR$119,\"\")","v":""},{"$f":"IFERROR(AS25/'OVERALL TARGET'!AS$119,\"\")","v":""},{"$f":"IFERROR(AT25/'OVERALL TARGET'!AT$119,\"\")","v":""},{"$f":"IFERROR(AU25/'OVERALL TARGET'!AU$119,\"\")","v":""},{"$f":"IFERROR(AV25/'OVERALL TARGET'!AV$119,\"\")","v":""},{"$f":"IFERROR(AW25/'OVERALL TARGET'!AW$119,\"\")","v":""},{"$f":"IFERROR(AX25/'OVERALL TARGET'!AX$119,\"\")","v":""},{"$f":"IFERROR(AY25/'OVERALL TARGET'!AY$119,\"\")","v":""},{"$f":"IFERROR(AZ25/'OVERALL TARGET'!AZ$119,\"\")","v":""},{"$f":"IFERROR(BA25/'OVERALL TARGET'!BA$119,\"\")","v":""},{"$f":"IFERROR(BB25/'OVERALL TARGET'!BB$119,\"\")","v":""},{"$f":"IFERROR(BC25/'OVERALL TARGET'!BC$119,\"\")","v":""},{"$f":"IFERROR(BD25/'OVERALL TARGET'!BD$119,\"\")","v":""},{"$f":"IFERROR(BE25/'OVERALL TARGET'!BE$119,\"\")","v":""},{"$f":"IFERROR(BF25/'OVERALL TARGET'!BF$119,\"\")","v":""},{"$f":"IFERROR(BG25/'OVERALL TARGET'!BG$119,\"\")","v":""},{"$f":"IFERROR(BH25/'OVERALL TARGET'!BH$119,\"\")","v":""},{"$f":"IFERROR(BI25/'OVERALL TARGET'!BI$119,\"\")","v":""},{"$f":"IFERROR(BJ25/'OVERALL TARGET'!BJ$119,\"\")","v":""},{"$f":"IFERROR(BK25/'OVERALL TARGET'!BK$119,\"\")","v":""},{"$f":"IFERROR(BL25/'OVERALL TARGET'!BL$119,\"\")","v":""},{"$f":"IFERROR(BM25/'OVERALL TARGET'!BM$119,\"\")","v":""},{"$f":"IFERROR(BN25/'OVERALL TARGET'!BN$119,\"\")","v":""},{"$f":"IFERROR(BO25/'OVERALL TARGET'!BO$119,\"\")","v":""},{"$f":"IFERROR(BP25/'OVERALL TARGET'!BP$119,\"\")","v":""},null,null,null,null,null,null,null,null,null,null,null,null,null,null,null,null,null,null,null,null,null,null,null,null,null,null,null,null,null,null,null,null,null,null,null,null,null,null,null,null,null,null,null,null,null,null,null,null,null,null,null,null,null,null,null,"RA700","ENERGUSE","GFC_E_OT_NAVICAPA","_Z","_Z","_Z","_Z","_Z","NUMBER","_Z","PC",null,"nrg_ind_rfcer","TIMESERIES","RA700","GFC_E_OT_NAVICAPA","_Z","PC","Agg.=[SUM(Countries Row 25)/SUM(Countries OVERALL TARGET Row 119)]*100"]
["Statistical transfers, joint projects and joint suport schemes - added amount",null,null,null,null,null,null,null,null,null,null,null,null,null,null,null,null,null,null,null,null,{"$f":"IFERROR(V26/'OVERALL TARGET'!V$119,\"\")","v":""},{"$f":"IFERROR(W26/'OVERALL TARGET'!W$119,\"\")","v":""},{"$f":"IFERROR(X26/'OVERALL TARGET'!X$119,\"\")","v":""},{"$f":"IFERROR(Y26/'OVERALL TARGET'!Y$119,\"\")","v":""},{"$f":"IFERROR(Z26/'OVERALL TARGET'!Z$119,\"\")","v":""},{"$f":"IFERROR(AA26/'OVERALL TARGET'!AA$119,\"\")","v":""},{"$f":"IFERROR(AB26/'OVERALL TARGET'!AB$119,\"\")","v":""},{"$f":"IFERROR(AC26/'OVERALL TARGET'!AC$119,\"\")","v":""},{"$f":"IFERROR(AD26/'OVERALL TARGET'!AD$119,\"\")","v":""},{"$f":"IFERROR(AE26/'OVERALL TARGET'!AE$119,\"\")","v":""},{"$f":"IFERROR(AF26/'OVERALL TARGET'!AF$119,\"\")","v":""},{"$f":"IFERROR(AG26/'OVERALL TARGET'!AG$119,\"\")","v":""},{"$f":"IFERROR(AH26/'OVERALL TARGET'!AH$119,\"\")","v":""},{"$f":"IFERROR(AI26/'OVERALL TARGET'!AI$119,\"\")","v":""},{"$f":"IFERROR(AJ26/'OVERALL TARGET'!AJ$119,\"\")","v":""},{"$f":"IFERROR(AK26/'OVERALL TARGET'!AK$119,\"\")","v":""},{"$f":"IFERROR(AL26/'OVERALL TARGET'!AL$119,\"\")","v":""},{"$f":"IFERROR(AM26/'OVERALL TARGET'!AM$119,\"\")","v":""},{"$f":"IFERROR(AN26/'OVERALL TARGET'!AN$119,\"\")","v":""},{"$f":"IFERROR(AO26/'OVERALL TARGET'!AO$119,\"\")","v":""},{"$f":"IFERROR(AP26/'OVERALL TARGET'!AP$119,\"\")","v":""},{"$f":"IFERROR(AQ26/'OVERALL TARGET'!AQ$119,\"\")","v":""},{"$f":"IFERROR(AR26/'OVERALL TARGET'!AR$119,\"\")","v":""},{"$f":"IFERROR(AS26/'OVERALL TARGET'!AS$119,\"\")","v":""},{"$f":"IFERROR(AT26/'OVERALL TARGET'!AT$119,\"\")","v":""},{"$f":"IFERROR(AU26/'OVERALL TARGET'!AU$119,\"\")","v":""},{"$f":"IFERROR(AV26/'OVERALL TARGET'!AV$119,\"\")","v":""},{"$f":"IFERROR(AW26/'OVERALL TARGET'!AW$119,\"\")","v":""},{"$f":"IFERROR(AX26/'OVERALL TARGET'!AX$119,\"\")","v":""},{"$f":"IFERROR(AY26/'OVERALL TARGET'!AY$119,\"\")","v":""},{"$f":"IFERROR(AZ26/'OVERALL TARGET'!AZ$119,\"\")","v":""},{"$f":"IFERROR(BA26/'OVERALL TARGET'!BA$119,\"\")","v":""},{"$f":"IFERROR(BB26/'OVERALL TARGET'!BB$119,\"\")","v":""},{"$f":"IFERROR(BC26/'OVERALL TARGET'!BC$119,\"\")","v":""},{"$f":"IFERROR(BD26/'OVERALL TARGET'!BD$119,\"\")","v":""},{"$f":"IFERROR(BE26/'OVERALL TARGET'!BE$119,\"\")","v":""},{"$f":"IFERROR(BF26/'OVERALL TARGET'!BF$119,\"\")","v":""},{"$f":"IFERROR(BG26/'OVERALL TARGET'!BG$119,\"\")","v":""},{"$f":"IFERROR(BH26/'OVERALL TARGET'!BH$119,\"\")","v":""},{"$f":"IFERROR(BI26/'OVERALL TARGET'!BI$119,\"\")","v":""},{"$f":"IFERROR(BJ26/'OVERALL TARGET'!BJ$119,\"\")","v":""},{"$f":"IFERROR(BK26/'OVERALL TARGET'!BK$119,\"\")","v":""},{"$f":"IFERROR(BL26/'OVERALL TARGET'!BL$119,\"\")","v":""},{"$f":"IFERROR(BM26/'OVERALL TARGET'!BM$119,\"\")","v":""},{"$f":"IFERROR(BN26/'OVERALL TARGET'!BN$119,\"\")","v":""},{"$f":"IFERROR(BO26/'OVERALL TARGET'!BO$119,\"\")","v":""},{"$f":"IFERROR(BP26/'OVERALL TARGET'!BP$119,\"\")","v":""},null,null,null,null,null,null,null,null,null,null,null,null,null,null,null,null,null,null,null,null,null,null,null,null,null,null,null,null,null,null,null,null,null,null,null,null,null,null,null,null,null,null,null,null,null,null,null,null,null,null,null,null,null,null,null,"RA010","ENERGUSE","GFC_E_OT_NAVICAPA","_Z","_Z","_Z","_Z","_Z","NUMBER","_Z","PC",null,"nrg_ind_rfcer","TIMESERIES","RA010","GFC_E_OT_NAVICAPA","_Z","PC","Agg.=[SUM(Countries Row 26)/SUM(Countries OVERALL TARGET Row 119)]*100"]
["Statistical transfers, joint projects and joint suport schemes - deduced amount ",null,null,null,null,null,null,null,null,null,null,null,null,null,null,null,null,null,null,null,null,{"$f":"IFERROR(V27/'OVERALL TARGET'!V$119,\"\")","v":""},{"$f":"IFERROR(W27/'OVERALL TARGET'!W$119,\"\")","v":""},{"$f":"IFERROR(X27/'OVERALL TARGET'!X$119,\"\")","v":""},{"$f":"IFERROR(Y27/'OVERALL TARGET'!Y$119,\"\")","v":""},{"$f":"IFERROR(Z27/'OVERALL TARGET'!Z$119,\"\")","v":""},{"$f":"IFERROR(AA27/'OVERALL TARGET'!AA$119,\"\")","v":""},{"$f":"IFERROR(AB27/'OVERALL TARGET'!AB$119,\"\")","v":""},{"$f":"IFERROR(AC27/'OVERALL TARGET'!AC$119,\"\")","v":""},{"$f":"IFERROR(AD27/'OVERALL TARGET'!AD$119,\"\")","v":""},{"$f":"IFERROR(AE27/'OVERALL TARGET'!AE$119,\"\")","v":""},{"$f":"IFERROR(AF27/'OVERALL TARGET'!AF$119,\"\")","v":""},{"$f":"IFERROR(AG27/'OVERALL TARGET'!AG$119,\"\")","v":""},{"$f":"IFERROR(AH27/'OVERALL TARGET'!AH$119,\"\")","v":""},{"$f":"IFERROR(AI27/'OVERALL TARGET'!AI$119,\"\")","v":""},{"$f":"IFERROR(AJ27/'OVERALL TARGET'!AJ$119,\"\")","v":""},{"$f":"IFERROR(AK27/'OVERALL TARGET'!AK$119,\"\")","v":""},{"$f":"IFERROR(AL27/'OVERALL TARGET'!AL$119,\"\")","v":""},{"$f":"IFERROR(AM27/'OVERALL TARGET'!AM$119,\"\")","v":""},{"$f":"IFERROR(AN27/'OVERALL TARGET'!AN$119,\"\")","v":""},{"$f":"IFERROR(AO27/'OVERALL TARGET'!AO$119,\"\")","v":""},{"$f":"IFERROR(AP27/'OVERALL TARGET'!AP$119,\"\")","v":""},{"$f":"IFERROR(AQ27/'OVERALL TARGET'!AQ$119,\"\")","v":""},{"$f":"IFERROR(AR27/'OVERALL TARGET'!AR$119,\"\")","v":""},{"$f":"IFERROR(AS27/'OVERALL TARGET'!AS$119,\"\")","v":""},{"$f":"IFERROR(AT27/'OVERALL TARGET'!AT$119,\"\")","v":""},{"$f":"IFERROR(AU27/'OVERALL TARGET'!AU$119,\"\")","v":""},{"$f":"IFERROR(AV27/'OVERALL TARGET'!AV$119,\"\")","v":""},{"$f":"IFERROR(AW27/'OVERALL TARGET'!AW$119,\"\")","v":""},{"$f":"IFERROR(AX27/'OVERALL TARGET'!AX$119,\"\")","v":""},{"$f":"IFERROR(AY27/'OVERALL TARGET'!AY$119,\"\")","v":""},{"$f":"IFERROR(AZ27/'OVERALL TARGET'!AZ$119,\"\")","v":""},{"$f":"IFERROR(BA27/'OVERALL TARGET'!BA$119,\"\")","v":""},{"$f":"IFERROR(BB27/'OVERALL TARGET'!BB$119,\"\")","v":""},{"$f":"IFERROR(BC27/'OVERALL TARGET'!BC$119,\"\")","v":""},{"$f":"IFERROR(BD27/'OVERALL TARGET'!BD$119,\"\")","v":""},{"$f":"IFERROR(BE27/'OVERALL TARGET'!BE$119,\"\")","v":""},{"$f":"IFERROR(BF27/'OVERALL TARGET'!BF$119,\"\")","v":""},{"$f":"IFERROR(BG27/'OVERALL TARGET'!BG$119,\"\")","v":""},{"$f":"IFERROR(BH27/'OVERALL TARGET'!BH$119,\"\")","v":""},{"$f":"IFERROR(BI27/'OVERALL TARGET'!BI$119,\"\")","v":""},{"$f":"IFERROR(BJ27/'OVERALL TARGET'!BJ$119,\"\")","v":""},{"$f":"IFERROR(BK27/'OVERALL TARGET'!BK$119,\"\")","v":""},{"$f":"IFERROR(BL27/'OVERALL TARGET'!BL$119,\"\")","v":""},{"$f":"IFERROR(BM27/'OVERALL TARGET'!BM$119,\"\")","v":""},{"$f":"IFERROR(BN27/'OVERALL TARGET'!BN$119,\"\")","v":""},{"$f":"IFERROR(BO27/'OVERALL TARGET'!BO$119,\"\")","v":""},{"$f":"IFERROR(BP27/'OVERALL TARGET'!BP$119,\"\")","v":""},null,null,null,null,null,null,null,null,null,null,null,null,null,null,null,null,null,null,null,null,null,null,null,null,null,null,null,null,null,null,null,null,null,null,null,null,null,null,null,null,null,null,null,null,null,null,null,null,null,null,null,null,null,null,null,"RA020","ENERGUSE","GFC_E_OT_NAVICAPA","_Z","_Z","_Z","_Z","_Z","NUMBER","_Z","PC",null,"nrg_ind_rfcer","TIMESERIES","RA020","GFC_E_OT_NAVICAPA","_Z","PC","Agg.=[SUM(Countries Row 27)/SUM(Countries OVERALL TARGET Row 119)]*100"]
[]
[]
[]
["Share of renewable sources in total gross final consumption of energy from all sources [0.01 = 1%]",null,null,null,null,null,null,null,null,null,null,null,null,null,null,null,null,null,null,null,null,{"$f":"IFERROR(SUM(V57:V58,V61:V63,V65:V72,V75:V76)-V77,\"\")","v":""},{"$f":"IFERROR(SUM(W57:W58,W61:W63,W65:W72,W75:W76)-W77,\"\")","v":""},"","","","","","","","","","","","","","","","","","","","","","","","","","","","","","","","","","","","","","","","","","","","","",null,null,null,null,null,null,null,null,null,null,null,null,null,null,null,null,null,null,null,null,null,null,null,null,null,null,null,null,null,null,null,null,null,null,null,null,null,null,null,null,null,null,null,null,null,null,null,null,null,null,null,null,null,null,null,"RA000","ENERGUSE","GFC_E_OTA","_Z","_Z","_Z","_Z","_Z","NUMBER","_Z","PC",null,"nrg_ind_rftce","TIMESERIES","RA000","GFC_E_OTA","_Z","PC","Agg.=[SUM((Countries Rows 57,58,61,62,63,65,66,67,68,69,70,71,72,75,76)- Countries Row 77)]"]
["Hydro",null,null,null,null,null,null,null,null,null,null,null,null,null,null,null,null,null,null,null,null,{"$f":"IFERROR(V7/'OVERALL TARGET'!V$127,\"\")","v":""},{"$f":"IFERROR(W7/'OVERALL TARGET'!W$127,\"\")","v":""},{"$f":"IFERROR(X7/'OVERALL TARGET'!X$127,\"\")","v":""},{"$f":"IFERROR(Y7/'OVERALL TARGET'!Y$127,\"\")","v":""},{"$f":"IFERROR(Z7/'OVERALL TARGET'!Z$127,\"\")","v":""},{"$f":"IFERROR(AA7/'OVERALL TARGET'!AA$127,\"\")","v":""},{"$f":"IFERROR(AB7/'OVERALL TARGET'!AB$127,\"\")","v":""},{"$f":"IFERROR(AC7/'OVERALL TARGET'!AC$127,\"\")","v":""},{"$f":"IFERROR(AD7/'OVERALL TARGET'!AD$127,\"\")","v":""},{"$f":"IFERROR(AE7/'OVERALL TARGET'!AE$127,\"\")","v":""},{"$f":"IFERROR(AF7/'OVERALL TARGET'!AF$127,\"\")","v":""},{"$f":"IFERROR(AG7/'OVERALL TARGET'!AG$127,\"\")","v":""},{"$f":"IFERROR(AH7/'OVERALL TARGET'!AH$127,\"\")","v":""},{"$f":"IFERROR(AI7/'OVERALL TARGET'!AI$127,\"\")","v":""},{"$f":"IFERROR(AJ7/'OVERALL TARGET'!AJ$127,\"\")","v":""},{"$f":"IFERROR(AK7/'OVERALL TARGET'!AK$127,\"\")","v":""},{"$f":"IFERROR(AL7/'OVERALL TARGET'!AL$127,\"\")","v":""},{"$f":"IFERROR(AM7/'OVERALL TARGET'!AM$127,\"\")","v":""},{"$f":"IFERROR(AN7/'OVERALL TARGET'!AN$127,\"\")","v":""},{"$f":"IFERROR(AO7/'OVERALL TARGET'!AO$127,\"\")","v":""},{"$f":"IFERROR(AP7/'OVERALL TARGET'!AP$127,\"\")","v":""},{"$f":"IFERROR(AQ7/'OVERALL TARGET'!AQ$127,\"\")","v":""},{"$f":"IFERROR(AR7/'OVERALL TARGET'!AR$127,\"\")","v":""},{"$f":"IFERROR(AS7/'OVERALL TARGET'!AS$127,\"\")","v":""},{"$f":"IFERROR(AT7/'OVERALL TARGET'!AT$127,\"\")","v":""},{"$f":"IFERROR(AU7/'OVERALL TARGET'!AU$127,\"\")","v":""},{"$f":"IFERROR(AV7/'OVERALL TARGET'!AV$127,\"\")","v":""},{"$f":"IFERROR(AW7/'OVERALL TARGET'!AW$127,\"\")","v":""},{"$f":"IFERROR(AX7/'OVERALL TARGET'!AX$127,\"\")","v":""},{"$f":"IFERROR(AY7/'OVERALL TARGET'!AY$127,\"\")","v":""},{"$f":"IFERROR(AZ7/'OVERALL TARGET'!AZ$127,\"\")","v":""},{"$f":"IFERROR(BA7/'OVERALL TARGET'!BA$127,\"\")","v":""},{"$f":"IFERROR(BB7/'OVERALL TARGET'!BB$127,\"\")","v":""},{"$f":"IFERROR(BC7/'OVERALL TARGET'!BC$127,\"\")","v":""},{"$f":"IFERROR(BD7/'OVERALL TARGET'!BD$127,\"\")","v":""},{"$f":"IFERROR(BE7/'OVERALL TARGET'!BE$127,\"\")","v":""},{"$f":"IFERROR(BF7/'OVERALL TARGET'!BF$127,\"\")","v":""},{"$f":"IFERROR(BG7/'OVERALL TARGET'!BG$127,\"\")","v":""},{"$f":"IFERROR(BH7/'OVERALL TARGET'!BH$127,\"\")","v":""},{"$f":"IFERROR(BI7/'OVERALL TARGET'!BI$127,\"\")","v":""},{"$f":"IFERROR(BJ7/'OVERALL TARGET'!BJ$127,\"\")","v":""},{"$f":"IFERROR(BK7/'OVERALL TARGET'!BK$127,\"\")","v":""},{"$f":"IFERROR(BL7/'OVERALL TARGET'!BL$127,\"\")","v":""},{"$f":"IFERROR(BM7/'OVERALL TARGET'!BM$127,\"\")","v":""},{"$f":"IFERROR(BN7/'OVERALL TARGET'!BN$127,\"\")","v":""},{"$f":"IFERROR(BO7/'OVERALL TARGET'!BO$127,\"\")","v":""},{"$f":"IFERROR(BP7/'OVERALL TARGET'!BP$127,\"\")","v":""},null,null,null,null,null,null,null,null,null,null,null,null,null,null,null,null,null,null,null,null,null,null,null,null,null,null,null,null,null,null,null,null,null,null,null,null,null,null,null,null,null,null,null,null,null,null,null,null,null,null,null,null,null,null,null,"RA100","ENERGUSE","GFC_E_OTA","_Z","_Z","_Z","_Z","_Z","NUMBER","_Z","PC",null,"nrg_ind_rftce","TIMESERIES","RA100","GFC_E_OTA","_Z","PC","Agg.=[SUM(Countries Row 7)/SUM(Countries OVERALL TARGET Row 127)]*100"]
["Wind",null,null,null,null,null,null,null,null,null,null,null,null,null,null,null,null,null,null,null,null,{"$f":"IFERROR(V8/'OVERALL TARGET'!V$127,\"\")","v":""},{"$f":"IFERROR(W8/'OVERALL TARGET'!W$127,\"\")","v":""},{"$f":"IFERROR(X8/'OVERALL TARGET'!X$127,\"\")","v":""},{"$f":"IFERROR(Y8/'OVERALL TARGET'!Y$127,\"\")","v":""},{"$f":"IFERROR(Z8/'OVERALL TARGET'!Z$127,\"\")","v":""},{"$f":"IFERROR(AA8/'OVERALL TARGET'!AA$127,\"\")","v":""},{"$f":"IFERROR(AB8/'OVERALL TARGET'!AB$127,\"\")","v":""},{"$f":"IFERROR(AC8/'OVERALL TARGET'!AC$127,\"\")","v":""},{"$f":"IFERROR(AD8/'OVERALL TARGET'!AD$127,\"\")","v":""},{"$f":"IFERROR(AE8/'OVERALL TARGET'!AE$127,\"\")","v":""},{"$f":"IFERROR(AF8/'OVERALL TARGET'!AF$127,\"\")","v":""},{"$f":"IFERROR(AG8/'OVERALL TARGET'!AG$127,\"\")","v":""},{"$f":"IFERROR(AH8/'OVERALL TARGET'!AH$127,\"\")","v":""},{"$f":"IFERROR(AI8/'OVERALL TARGET'!AI$127,\"\")","v":""},{"$f":"IFERROR(AJ8/'OVERALL TARGET'!AJ$127,\"\")","v":""},{"$f":"IFERROR(AK8/'OVERALL TARGET'!AK$127,\"\")","v":""},{"$f":"IFERROR(AL8/'OVERALL TARGET'!AL$127,\"\")","v":""},{"$f":"IFERROR(AM8/'OVERALL TARGET'!AM$127,\"\")","v":""},{"$f":"IFERROR(AN8/'OVERALL TARGET'!AN$127,\"\")","v":""},{"$f":"IFERROR(AO8/'OVERALL TARGET'!AO$127,\"\")","v":""},{"$f":"IFERROR(AP8/'OVERALL TARGET'!AP$127,\"\")","v":""},{"$f":"IFERROR(AQ8/'OVERALL TARGET'!AQ$127,\"\")","v":""},{"$f":"IFERROR(AR8/'OVERALL TARGET'!AR$127,\"\")","v":""},{"$f":"IFERROR(AS8/'OVERALL TARGET'!AS$127,\"\")","v":""},{"$f":"IFERROR(AT8/'OVERALL TARGET'!AT$127,\"\")","v":""},{"$f":"IFERROR(AU8/'OVERALL TARGET'!AU$127,\"\")","v":""},{"$f":"IFERROR(AV8/'OVERALL TARGET'!AV$127,\"\")","v":""},{"$f":"IFERROR(AW8/'OVERALL TARGET'!AW$127,\"\")","v":""},{"$f":"IFERROR(AX8/'OVERALL TARGET'!AX$127,\"\")","v":""},{"$f":"IFERROR(AY8/'OVERALL TARGET'!AY$127,\"\")","v":""},{"$f":"IFERROR(AZ8/'OVERALL TARGET'!AZ$127,\"\")","v":""},{"$f":"IFERROR(BA8/'OVERALL TARGET'!BA$127,\"\")","v":""},{"$f":"IFERROR(BB8/'OVERALL TARGET'!BB$127,\"\")","v":""},{"$f":"IFERROR(BC8/'OVERALL TARGET'!BC$127,\"\")","v":""},{"$f":"IFERROR(BD8/'OVERALL TARGET'!BD$127,\"\")","v":""},{"$f":"IFERROR(BE8/'OVERALL TARGET'!BE$127,\"\")","v":""},{"$f":"IFERROR(BF8/'OVERALL TARGET'!BF$127,\"\")","v":""},{"$f":"IFERROR(BG8/'OVERALL TARGET'!BG$127,\"\")","v":""},{"$f":"IFERROR(BH8/'OVERALL TARGET'!BH$127,\"\")","v":""},{"$f":"IFERROR(BI8/'OVERALL TARGET'!BI$127,\"\")","v":""},{"$f":"IFERROR(BJ8/'OVERALL TARGET'!BJ$127,\"\")","v":""},{"$f":"IFERROR(BK8/'OVERALL TARGET'!BK$127,\"\")","v":""},{"$f":"IFERROR(BL8/'OVERALL TARGET'!BL$127,\"\")","v":""},{"$f":"IFERROR(BM8/'OVERALL TARGET'!BM$127,\"\")","v":""},{"$f":"IFERROR(BN8/'OVERALL TARGET'!BN$127,\"\")","v":""},{"$f":"IFERROR(BO8/'OVERALL TARGET'!BO$127,\"\")","v":""},{"$f":"IFERROR(BP8/'OVERALL TARGET'!BP$127,\"\")","v":""},null,null,null,null,null,null,null,null,null,null,null,null,null,null,null,null,null,null,null,null,null,null,null,null,null,null,null,null,null,null,null,null,null,null,null,null,null,null,null,null,null,null,null,null,null,null,null,null,null,null,null,null,null,null,null,"RA300","ENERGUSE","GFC_E_OTA","_Z","_Z","_Z","_Z","_Z","NUMBER","_Z","PC",null,"nrg_ind_rftce","TIMESERIES","RA300","GFC_E_OTA","_Z","PC","Agg.=[SUM(Countries Row 8)/SUM(Countries OVERALL TARGET Row 127)]*100"]
[null,"On-shore wind",null,null,null,null,null,null,null,null,null,null,null,null,null,null,null,null,null,null,null,{"$f":"IFERROR(V9/'OVERALL TARGET'!V$127,\"\")","v":""},{"$f":"IFERROR(W9/'OVERALL TARGET'!W$127,\"\")","v":""},{"$f":"IFERROR(X9/'OVERALL TARGET'!X$127,\"\")","v":""},{"$f":"IFERROR(Y9/'OVERALL TARGET'!Y$127,\"\")","v":""},{"$f":"IFERROR(Z9/'OVERALL TARGET'!Z$127,\"\")","v":""},{"$f":"IFERROR(AA9/'OVERALL TARGET'!AA$127,\"\")","v":""},{"$f":"IFERROR(AB9/'OVERALL TARGET'!AB$127,\"\")","v":""},{"$f":"IFERROR(AC9/'OVERALL TARGET'!AC$127,\"\")","v":""},{"$f":"IFERROR(AD9/'OVERALL TARGET'!AD$127,\"\")","v":""},{"$f":"IFERROR(AE9/'OVERALL TARGET'!AE$127,\"\")","v":""},{"$f":"IFERROR(AF9/'OVERALL TARGET'!AF$127,\"\")","v":""},{"$f":"IFERROR(AG9/'OVERALL TARGET'!AG$127,\"\")","v":""},{"$f":"IFERROR(AH9/'OVERALL TARGET'!AH$127,\"\")","v":""},{"$f":"IFERROR(AI9/'OVERALL TARGET'!AI$127,\"\")","v":""},{"$f":"IFERROR(AJ9/'OVERALL TARGET'!AJ$127,\"\")","v":""},{"$f":"IFERROR(AK9/'OVERALL TARGET'!AK$127,\"\")","v":""},{"$f":"IFERROR(AL9/'OVERALL TARGET'!AL$127,\"\")","v":""},{"$f":"IFERROR(AM9/'OVERALL TARGET'!AM$127,\"\")","v":""},{"$f":"IFERROR(AN9/'OVERALL TARGET'!AN$127,\"\")","v":""},{"$f":"IFERROR(AO9/'OVERALL TARGET'!AO$127,\"\")","v":""},{"$f":"IFERROR(AP9/'OVERALL TARGET'!AP$127,\"\")","v":""},{"$f":"IFERROR(AQ9/'OVERALL TARGET'!AQ$127,\"\")","v":""},{"$f":"IFERROR(AR9/'OVERALL TARGET'!AR$127,\"\")","v":""},{"$f":"IFERROR(AS9/'OVERALL TARGET'!AS$127,\"\")","v":""},{"$f":"IFERROR(AT9/'OVERALL TARGET'!AT$127,\"\")","v":""},{"$f":"IFERROR(AU9/'OVERALL TARGET'!AU$127,\"\")","v":""},{"$f":"IFERROR(AV9/'OVERALL TARGET'!AV$127,\"\")","v":""},{"$f":"IFERROR(AW9/'OVERALL TARGET'!AW$127,\"\")","v":""},{"$f":"IFERROR(AX9/'OVERALL TARGET'!AX$127,\"\")","v":""},{"$f":"IFERROR(AY9/'OVERALL TARGET'!AY$127,\"\")","v":""},{"$f":"IFERROR(AZ9/'OVERALL TARGET'!AZ$127,\"\")","v":""},{"$f":"IFERROR(BA9/'OVERALL TARGET'!BA$127,\"\")","v":""},{"$f":"IFERROR(BB9/'OVERALL TARGET'!BB$127,\"\")","v":""},{"$f":"IFERROR(BC9/'OVERALL TARGET'!BC$127,\"\")","v":""},{"$f":"IFERROR(BD9/'OVERALL TARGET'!BD$127,\"\")","v":""},{"$f":"IFERROR(BE9/'OVERALL TARGET'!BE$127,\"\")","v":""},{"$f":"IFERROR(BF9/'OVERALL TARGET'!BF$127,\"\")","v":""},{"$f":"IFERROR(BG9/'OVERALL TARGET'!BG$127,\"\")","v":""},{"$f":"IFERROR(BH9/'OVERALL TARGET'!BH$127,\"\")","v":""},{"$f":"IFERROR(BI9/'OVERALL TARGET'!BI$127,\"\")","v":""},{"$f":"IFERROR(BJ9/'OVERALL TARGET'!BJ$127,\"\")","v":""},{"$f":"IFERROR(BK9/'OVERALL TARGET'!BK$127,\"\")","v":""},{"$f":"IFERROR(BL9/'OVERALL TARGET'!BL$127,\"\")","v":""},{"$f":"IFERROR(BM9/'OVERALL TARGET'!BM$127,\"\")","v":""},{"$f":"IFERROR(BN9/'OVERALL TARGET'!BN$127,\"\")","v":""},{"$f":"IFERROR(BO9/'OVERALL TARGET'!BO$127,\"\")","v":""},{"$f":"IFERROR(BP9/'OVERALL TARGET'!BP$127,\"\")","v":""},null,null,null,null,null,null,null,null,null,null,null,null,null,null,null,null,null,null,null,null,null,null,null,null,null,null,null,null,null,null,null,null,null,null,null,null,null,null,null,null,null,null,null,null,null,null,null,null,null,null,null,null,null,null,null,"RA310","ENERGUSE","GFC_E_OTA","_Z","_Z","_Z","_Z","_Z","NUMBER","_Z","PC",null,"nrg_ind_rftce","TIMESERIES","RA310","GFC_E_OTA","_Z","PC","Agg.=[SUM(Countries Row 9)/SUM(Countries OVERALL TARGET Row 127)]*100"]
[null,"Off-shore wind",null,null,null,null,null,null,null,null,null,null,null,null,null,null,null,null,null,null,null,{"$f":"IFERROR(V10/'OVERALL TARGET'!V$127,\"\")","v":""},{"$f":"IFERROR(W10/'OVERALL TARGET'!W$127,\"\")","v":""},{"$f":"IFERROR(X10/'OVERALL TARGET'!X$127,\"\")","v":""},{"$f":"IFERROR(Y10/'OVERALL TARGET'!Y$127,\"\")","v":""},{"$f":"IFERROR(Z10/'OVERALL TARGET'!Z$127,\"\")","v":""},{"$f":"IFERROR(AA10/'OVERALL TARGET'!AA$127,\"\")","v":""},{"$f":"IFERROR(AB10/'OVERALL TARGET'!AB$127,\"\")","v":""},{"$f":"IFERROR(AC10/'OVERALL TARGET'!AC$127,\"\")","v":""},{"$f":"IFERROR(AD10/'OVERALL TARGET'!AD$127,\"\")","v":""},{"$f":"IFERROR(AE10/'OVERALL TARGET'!AE$127,\"\")","v":""},{"$f":"IFERROR(AF10/'OVERALL TARGET'!AF$127,\"\")","v":""},{"$f":"IFERROR(AG10/'OVERALL TARGET'!AG$127,\"\")","v":""},{"$f":"IFERROR(AH10/'OVERALL TARGET'!AH$127,\"\")","v":""},{"$f":"IFERROR(AI10/'OVERALL TARGET'!AI$127,\"\")","v":""},{"$f":"IFERROR(AJ10/'OVERALL TARGET'!AJ$127,\"\")","v":""},{"$f":"IFERROR(AK10/'OVERALL TARGET'!AK$127,\"\")","v":""},{"$f":"IFERROR(AL10/'OVERALL TARGET'!AL$127,\"\")","v":""},{"$f":"IFERROR(AM10/'OVERALL TARGET'!AM$127,\"\")","v":""},{"$f":"IFERROR(AN10/'OVERALL TARGET'!AN$127,\"\")","v":""},{"$f":"IFERROR(AO10/'OVERALL TARGET'!AO$127,\"\")","v":""},{"$f":"IFERROR(AP10/'OVERALL TARGET'!AP$127,\"\")","v":""},{"$f":"IFERROR(AQ10/'OVERALL TARGET'!AQ$127,\"\")","v":""},{"$f":"IFERROR(AR10/'OVERALL TARGET'!AR$127,\"\")","v":""},{"$f":"IFERROR(AS10/'OVERALL TARGET'!AS$127,\"\")","v":""},{"$f":"IFERROR(AT10/'OVERALL TARGET'!AT$127,\"\")","v":""},{"$f":"IFERROR(AU10/'OVERALL TARGET'!AU$127,\"\")","v":""},{"$f":"IFERROR(AV10/'OVERALL TARGET'!AV$127,\"\")","v":""},{"$f":"IFERROR(AW10/'OVERALL TARGET'!AW$127,\"\")","v":""},{"$f":"IFERROR(AX10/'OVERALL TARGET'!AX$127,\"\")","v":""},{"$f":"IFERROR(AY10/'OVERALL TARGET'!AY$127,\"\")","v":""},{"$f":"IFERROR(AZ10/'OVERALL TARGET'!AZ$127,\"\")","v":""},{"$f":"IFERROR(BA10/'OVERALL TARGET'!BA$127,\"\")","v":""},{"$f":"IFERROR(BB10/'OVERALL TARGET'!BB$127,\"\")","v":""},{"$f":"IFERROR(BC10/'OVERALL TARGET'!BC$127,\"\")","v":""},{"$f":"IFERROR(BD10/'OVERALL TARGET'!BD$127,\"\")","v":""},{"$f":"IFERROR(BE10/'OVERALL TARGET'!BE$127,\"\")","v":""},{"$f":"IFERROR(BF10/'OVERALL TARGET'!BF$127,\"\")","v":""},{"$f":"IFERROR(BG10/'OVERALL TARGET'!BG$127,\"\")","v":""},{"$f":"IFERROR(BH10/'OVERALL TARGET'!BH$127,\"\")","v":""},{"$f":"IFERROR(BI10/'OVERALL TARGET'!BI$127,\"\")","v":""},{"$f":"IFERROR(BJ10/'OVERALL TARGET'!BJ$127,\"\")","v":""},{"$f":"IFERROR(BK10/'OVERALL TARGET'!BK$127,\"\")","v":""},{"$f":"IFERROR(BL10/'OVERALL TARGET'!BL$127,\"\")","v":""},{"$f":"IFERROR(BM10/'OVERALL TARGET'!BM$127,\"\")","v":""},{"$f":"IFERROR(BN10/'OVERALL TARGET'!BN$127,\"\")","v":""},{"$f":"IFERROR(BO10/'OVERALL TARGET'!BO$127,\"\")","v":""},{"$f":"IFERROR(BP10/'OVERALL TARGET'!BP$127,\"\")","v":""},null,null,null,null,null,null,null,null,null,null,null,null,null,null,null,null,null,null,null,null,null,null,null,null,null,null,null,null,null,null,null,null,null,null,null,null,null,null,null,null,null,null,null,null,null,null,null,null,null,null,null,null,null,null,null,"RA320","ENERGUSE","GFC_E_OTA","_Z","_Z","_Z","_Z","_Z","NUMBER","_Z","PC",null,"nrg_ind_rftce","TIMESERIES","RA320","GFC_E_OTA","_Z","PC","Agg.=[SUM(Countries Row 10)/SUM(Countries OVERALL TARGET Row 127)]*100"]
["Sustainable bioliquids",null,null,null,null,null,null,null,null,null,null,null,null,null,null,null,null,null,null,null,null,{"$f":"IFERROR(V11/'OVERALL TARGET'!V$127,\"\")","v":""},{"$f":"IFERROR(W11/'OVERALL TARGET'!W$127,\"\")","v":""},{"$f":"IFERROR(X11/'OVERALL TARGET'!X$127,\"\")","v":""},{"$f":"IFERROR(Y11/'OVERALL TARGET'!Y$127,\"\")","v":""},{"$f":"IFERROR(Z11/'OVERALL TARGET'!Z$127,\"\")","v":""},{"$f":"IFERROR(AA11/'OVERALL TARGET'!AA$127,\"\")","v":""},{"$f":"IFERROR(AB11/'OVERALL TARGET'!AB$127,\"\")","v":""},{"$f":"IFERROR(AC11/'OVERALL TARGET'!AC$127,\"\")","v":""},{"$f":"IFERROR(AD11/'OVERALL TARGET'!AD$127,\"\")","v":""},{"$f":"IFERROR(AE11/'OVERALL TARGET'!AE$127,\"\")","v":""},{"$f":"IFERROR(AF11/'OVERALL TARGET'!AF$127,\"\")","v":""},{"$f":"IFERROR(AG11/'OVERALL TARGET'!AG$127,\"\")","v":""},{"$f":"IFERROR(AH11/'OVERALL TARGET'!AH$127,\"\")","v":""},{"$f":"IFERROR(AI11/'OVERALL TARGET'!AI$127,\"\")","v":""},{"$f":"IFERROR(AJ11/'OVERALL TARGET'!AJ$127,\"\")","v":""},{"$f":"IFERROR(AK11/'OVERALL TARGET'!AK$127,\"\")","v":""},{"$f":"IFERROR(AL11/'OVERALL TARGET'!AL$127,\"\")","v":""},{"$f":"IFERROR(AM11/'OVERALL TARGET'!AM$127,\"\")","v":""},{"$f":"IFERROR(AN11/'OVERALL TARGET'!AN$127,\"\")","v":""},{"$f":"IFERROR(AO11/'OVERALL TARGET'!AO$127,\"\")","v":""},{"$f":"IFERROR(AP11/'OVERALL TARGET'!AP$127,\"\")","v":""},{"$f":"IFERROR(AQ11/'OVERALL TARGET'!AQ$127,\"\")","v":""},{"$f":"IFERROR(AR11/'OVERALL TARGET'!AR$127,\"\")","v":""},{"$f":"IFERROR(AS11/'OVERALL TARGET'!AS$127,\"\")","v":""},{"$f":"IFERROR(AT11/'OVERALL TARGET'!AT$127,\"\")","v":""},{"$f":"IFERROR(AU11/'OVERALL TARGET'!AU$127,\"\")","v":""},{"$f":"IFERROR(AV11/'OVERALL TARGET'!AV$127,\"\")","v":""},{"$f":"IFERROR(AW11/'OVERALL TARGET'!AW$127,\"\")","v":""},{"$f":"IFERROR(AX11/'OVERALL TARGET'!AX$127,\"\")","v":""},{"$f":"IFERROR(AY11/'OVERALL TARGET'!AY$127,\"\")","v":""},{"$f":"IFERROR(AZ11/'OVERALL TARGET'!AZ$127,\"\")","v":""},{"$f":"IFERROR(BA11/'OVERALL TARGET'!BA$127,\"\")","v":""},{"$f":"IFERROR(BB11/'OVERALL TARGET'!BB$127,\"\")","v":""},{"$f":"IFERROR(BC11/'OVERALL TARGET'!BC$127,\"\")","v":""},{"$f":"IFERROR(BD11/'OVERALL TARGET'!BD$127,\"\")","v":""},{"$f":"IFERROR(BE11/'OVERALL TARGET'!BE$127,\"\")","v":""},{"$f":"IFERROR(BF11/'OVERALL TARGET'!BF$127,\"\")","v":""},{"$f":"IFERROR(BG11/'OVERALL TARGET'!BG$127,\"\")","v":""},{"$f":"IFERROR(BH11/'OVERALL TARGET'!BH$127,\"\")","v":""},{"$f":"IFERROR(BI11/'OVERALL TARGET'!BI$127,\"\")","v":""},{"$f":"IFERROR(BJ11/'OVERALL TARGET'!BJ$127,\"\")","v":""},{"$f":"IFERROR(BK11/'OVERALL TARGET'!BK$127,\"\")","v":""},{"$f":"IFERROR(BL11/'OVERALL TARGET'!BL$127,\"\")","v":""},{"$f":"IFERROR(BM11/'OVERALL TARGET'!BM$127,\"\")","v":""},{"$f":"IFERROR(BN11/'OVERALL TARGET'!BN$127,\"\")","v":""},{"$f":"IFERROR(BO11/'OVERALL TARGET'!BO$127,\"\")","v":""},{"$f":"IFERROR(BP11/'OVERALL TARGET'!BP$127,\"\")","v":""},null,null,null,null,null,null,null,null,null,null,null,null,null,null,null,null,null,null,null,null,null,null,null,null,null,null,null,null,null,null,null,null,null,null,null,null,null,null,null,null,null,null,null,null,null,null,null,null,null,null,null,null,null,null,null,"R5292S","ENERGUSE","GFC_E_OTA","_Z","_Z","_Z","_Z","_Z","NUMBER","_Z","PC",null,"nrg_ind_rftce","TIMESERIES","R5292S","GFC_E_OTA","_Z","PC","Agg.=[SUM(Countries Row 11)/SUM(Countries OVERALL TARGET Row 127)]*100"]
["Sustainable biofuels",null,null,null,null,null,null,null,null,null,null,null,null,null,null,null,null,null,null,null,null,{"$f":"IFERROR(V12/'OVERALL TARGET'!V$127,\"\")","v":""},{"$f":"IFERROR(W12/'OVERALL TARGET'!W$127,\"\")","v":""},{"$f":"IFERROR(X12/'OVERALL TARGET'!X$127,\"\")","v":""},{"$f":"IFERROR(Y12/'OVERALL TARGET'!Y$127,\"\")","v":""},{"$f":"IFERROR(Z12/'OVERALL TARGET'!Z$127,\"\")","v":""},{"$f":"IFERROR(AA12/'OVERALL TARGET'!AA$127,\"\")","v":""},{"$f":"IFERROR(AB12/'OVERALL TARGET'!AB$127,\"\")","v":""},{"$f":"IFERROR(AC12/'OVERALL TARGET'!AC$127,\"\")","v":""},{"$f":"IFERROR(AD12/'OVERALL TARGET'!AD$127,\"\")","v":""},{"$f":"IFERROR(AE12/'OVERALL TARGET'!AE$127,\"\")","v":""},{"$f":"IFERROR(AF12/'OVERALL TARGET'!AF$127,\"\")","v":""},{"$f":"IFERROR(AG12/'OVERALL TARGET'!AG$127,\"\")","v":""},{"$f":"IFERROR(AH12/'OVERALL TARGET'!AH$127,\"\")","v":""},{"$f":"IFERROR(AI12/'OVERALL TARGET'!AI$127,\"\")","v":""},{"$f":"IFERROR(AJ12/'OVERALL TARGET'!AJ$127,\"\")","v":""},{"$f":"IFERROR(AK12/'OVERALL TARGET'!AK$127,\"\")","v":""},{"$f":"IFERROR(AL12/'OVERALL TARGET'!AL$127,\"\")","v":""},{"$f":"IFERROR(AM12/'OVERALL TARGET'!AM$127,\"\")","v":""},{"$f":"IFERROR(AN12/'OVERALL TARGET'!AN$127,\"\")","v":""},{"$f":"IFERROR(AO12/'OVERALL TARGET'!AO$127,\"\")","v":""},{"$f":"IFERROR(AP12/'OVERALL TARGET'!AP$127,\"\")","v":""},{"$f":"IFERROR(AQ12/'OVERALL TARGET'!AQ$127,\"\")","v":""},{"$f":"IFERROR(AR12/'OVERALL TARGET'!AR$127,\"\")","v":""},{"$f":"IFERROR(AS12/'OVERALL TARGET'!AS$127,\"\")","v":""},{"$f":"IFERROR(AT12/'OVERALL TARGET'!AT$127,\"\")","v":""},{"$f":"IFERROR(AU12/'OVERALL TARGET'!AU$127,\"\")","v":""},{"$f":"IFERROR(AV12/'OVERALL TARGET'!AV$127,\"\")","v":""},{"$f":"IFERROR(AW12/'OVERALL TARGET'!AW$127,\"\")","v":""},{"$f":"IFERROR(AX12/'OVERALL TARGET'!AX$127,\"\")","v":""},{"$f":"IFERROR(AY12/'OVERALL TARGET'!AY$127,\"\")","v":""},{"$f":"IFERROR(AZ12/'OVERALL TARGET'!AZ$127,\"\")","v":""},{"$f":"IFERROR(BA12/'OVERALL TARGET'!BA$127,\"\")","v":""},{"$f":"IFERROR(BB12/'OVERALL TARGET'!BB$127,\"\")","v":""},{"$f":"IFERROR(BC12/'OVERALL TARGET'!BC$127,\"\")","v":""},{"$f":"IFERROR(BD12/'OVERALL TARGET'!BD$127,\"\")","v":""},{"$f":"IFERROR(BE12/'OVERALL TARGET'!BE$127,\"\")","v":""},{"$f":"IFERROR(BF12/'OVERALL TARGET'!BF$127,\"\")","v":""},{"$f":"IFERROR(BG12/'OVERALL TARGET'!BG$127,\"\")","v":""},{"$f":"IFERROR(BH12/'OVERALL TARGET'!BH$127,\"\")","v":""},{"$f":"IFERROR(BI12/'OVERALL TARGET'!BI$127,\"\")","v":""},{"$f":"IFERROR(BJ12/'OVERALL TARGET'!BJ$127,\"\")","v":""},{"$f":"IFERROR(BK12/'OVERALL TARGET'!BK$127,\"\")","v":""},{"$f":"IFERROR(BL12/'OVERALL TARGET'!BL$127,\"\")","v":""},{"$f":"IFERROR(BM12/'OVERALL TARGET'!BM$127,\"\")","v":""},{"$f":"IFERROR(BN12/'OVERALL TARGET'!BN$127,\"\")","v":""},{"$f":"IFERROR(BO12/'OVERALL TARGET'!BO$127,\"\")","v":""},{"$f":"IFERROR(BP12/'OVERALL TARGET'!BP$127,\"\")","v":""},null,null,null,null,null,null,null,null,null,null,null,null,null,null,null,null,null,null,null,null,null,null,null,null,null,null,null,null,null,null,null,null,null,null,null,null,null,null,null,null,null,null,null,null,null,null,null,null,null,null,null,null,null,null,null,"R5250S","ENERGUSE","GFC_E_OTA","_Z","_Z","_Z","_Z","_Z","NUMBER","_Z","PC",null,"nrg_ind_rftce","TIMESERIES","R5250S","GFC_E_OTA","_Z","PC","Agg.=[SUM(Countries Row 12)/SUM(Countries OVERALL TARGET Row 127)]*100"]
["Sustainable biogas",null,null,null,null,null,null,null,null,null,null,null,null,null,null,null,null,null,null,null,null,{"$f":"IFERROR(V13/'OVERALL TARGET'!V$127,\"\")","v":""},{"$f":"IFERROR(W13/'OVERALL TARGET'!W$127,\"\")","v":""},{"$f":"IFERROR(X13/'OVERALL TARGET'!X$127,\"\")","v":""},{"$f":"IFERROR(Y13/'OVERALL TARGET'!Y$127,\"\")","v":""},{"$f":"IFERROR(Z13/'OVERALL TARGET'!Z$127,\"\")","v":""},{"$f":"IFERROR(AA13/'OVERALL TARGET'!AA$127,\"\")","v":""},{"$f":"IFERROR(AB13/'OVERALL TARGET'!AB$127,\"\")","v":""},{"$f":"IFERROR(AC13/'OVERALL TARGET'!AC$127,\"\")","v":""},{"$f":"IFERROR(AD13/'OVERALL TARGET'!AD$127,\"\")","v":""},{"$f":"IFERROR(AE13/'OVERALL TARGET'!AE$127,\"\")","v":""},{"$f":"IFERROR(AF13/'OVERALL TARGET'!AF$127,\"\")","v":""},{"$f":"IFERROR(AG13/'OVERALL TARGET'!AG$127,\"\")","v":""},{"$f":"IFERROR(AH13/'OVERALL TARGET'!AH$127,\"\")","v":""},{"$f":"IFERROR(AI13/'OVERALL TARGET'!AI$127,\"\")","v":""},{"$f":"IFERROR(AJ13/'OVERALL TARGET'!AJ$127,\"\")","v":""},{"$f":"IFERROR(AK13/'OVERALL TARGET'!AK$127,\"\")","v":""},{"$f":"IFERROR(AL13/'OVERALL TARGET'!AL$127,\"\")","v":""},{"$f":"IFERROR(AM13/'OVERALL TARGET'!AM$127,\"\")","v":""},{"$f":"IFERROR(AN13/'OVERALL TARGET'!AN$127,\"\")","v":""},{"$f":"IFERROR(AO13/'OVERALL TARGET'!AO$127,\"\")","v":""},{"$f":"IFERROR(AP13/'OVERALL TARGET'!AP$127,\"\")","v":""},{"$f":"IFERROR(AQ13/'OVERALL TARGET'!AQ$127,\"\")","v":""},{"$f":"IFERROR(AR13/'OVERALL TARGET'!AR$127,\"\")","v":""},{"$f":"IFERROR(AS13/'OVERALL TARGET'!AS$127,\"\")","v":""},{"$f":"IFERROR(AT13/'OVERALL TARGET'!AT$127,\"\")","v":""},{"$f":"IFERROR(AU13/'OVERALL TARGET'!AU$127,\"\")","v":""},{"$f":"IFERROR(AV13/'OVERALL TARGET'!AV$127,\"\")","v":""},{"$f":"IFERROR(AW13/'OVERALL TARGET'!AW$127,\"\")","v":""},{"$f":"IFERROR(AX13/'OVERALL TARGET'!AX$127,\"\")","v":""},{"$f":"IFERROR(AY13/'OVERALL TARGET'!AY$127,\"\")","v":""},{"$f":"IFERROR(AZ13/'OVERALL TARGET'!AZ$127,\"\")","v":""},{"$f":"IFERROR(BA13/'OVERALL TARGET'!BA$127,\"\")","v":""},{"$f":"IFERROR(BB13/'OVERALL TARGET'!BB$127,\"\")","v":""},{"$f":"IFERROR(BC13/'OVERALL TARGET'!BC$127,\"\")","v":""},{"$f":"IFERROR(BD13/'OVERALL TARGET'!BD$127,\"\")","v":""},{"$f":"IFERROR(BE13/'OVERALL TARGET'!BE$127,\"\")","v":""},{"$f":"IFERROR(BF13/'OVERALL TARGET'!BF$127,\"\")","v":""},{"$f":"IFERROR(BG13/'OVERALL TARGET'!BG$127,\"\")","v":""},{"$f":"IFERROR(BH13/'OVERALL TARGET'!BH$127,\"\")","v":""},{"$f":"IFERROR(BI13/'OVERALL TARGET'!BI$127,\"\")","v":""},{"$f":"IFERROR(BJ13/'OVERALL TARGET'!BJ$127,\"\")","v":""},{"$f":"IFERROR(BK13/'OVERALL TARGET'!BK$127,\"\")","v":""},{"$f":"IFERROR(BL13/'OVERALL TARGET'!BL$127,\"\")","v":""},{"$f":"IFERROR(BM13/'OVERALL TARGET'!BM$127,\"\")","v":""},{"$f":"IFERROR(BN13/'OVERALL TARGET'!BN$127,\"\")","v":""},{"$f":"IFERROR(BO13/'OVERALL TARGET'!BO$127,\"\")","v":""},{"$f":"IFERROR(BP13/'OVERALL TARGET'!BP$127,\"\")","v":""},null,null,null,null,null,null,null,null,null,null,null,null,null,null,null,null,null,null,null,null,null,null,null,null,null,null,null,null,null,null,null,null,null,null,null,null,null,null,null,null,null,null,null,null,null,null,null,null,null,null,null,null,null,null,null,"R5300S","ENERGUSE","GFC_E_OTA","_Z","_Z","_Z","_Z","_Z","NUMBER","_Z","PC",null,"nrg_ind_rftce","TIMESERIES","R5300S","GFC_E_OTA","_Z","PC","Agg.=[SUM(Countries Row 13)/SUM(Countries OVERALL TARGET Row 127)]*100"]
[null,"Of which blended in the grid",null,null,null,null,null,null,null,null,null,null,null,null,null,null,null,null,null,null,null,{"$f":"IFERROR(V14/'OVERALL TARGET'!V$127,\"\")","v":""},{"$f":"IFERROR(W14/'OVERALL TARGET'!W$127,\"\")","v":""},{"$f":"IFERROR(X14/'OVERALL TARGET'!X$127,\"\")","v":""},{"$f":"IFERROR(Y14/'OVERALL TARGET'!Y$127,\"\")","v":""},{"$f":"IFERROR(Z14/'OVERALL TARGET'!Z$127,\"\")","v":""},{"$f":"IFERROR(AA14/'OVERALL TARGET'!AA$127,\"\")","v":""},{"$f":"IFERROR(AB14/'OVERALL TARGET'!AB$127,\"\")","v":""},{"$f":"IFERROR(AC14/'OVERALL TARGET'!AC$127,\"\")","v":""},{"$f":"IFERROR(AD14/'OVERALL TARGET'!AD$127,\"\")","v":""},{"$f":"IFERROR(AE14/'OVERALL TARGET'!AE$127,\"\")","v":""},{"$f":"IFERROR(AF14/'OVERALL TARGET'!AF$127,\"\")","v":""},{"$f":"IFERROR(AG14/'OVERALL TARGET'!AG$127,\"\")","v":""},{"$f":"IFERROR(AH14/'OVERALL TARGET'!AH$127,\"\")","v":""},{"$f":"IFERROR(AI14/'OVERALL TARGET'!AI$127,\"\")","v":""},{"$f":"IFERROR(AJ14/'OVERALL TARGET'!AJ$127,\"\")","v":""},{"$f":"IFERROR(AK14/'OVERALL TARGET'!AK$127,\"\")","v":""},{"$f":"IFERROR(AL14/'OVERALL TARGET'!AL$127,\"\")","v":""},{"$f":"IFERROR(AM14/'OVERALL TARGET'!AM$127,\"\")","v":""},{"$f":"IFERROR(AN14/'OVERALL TARGET'!AN$127,\"\")","v":""},{"$f":"IFERROR(AO14/'OVERALL TARGET'!AO$127,\"\")","v":""},{"$f":"IFERROR(AP14/'OVERALL TARGET'!AP$127,\"\")","v":""},{"$f":"IFERROR(AQ14/'OVERALL TARGET'!AQ$127,\"\")","v":""},{"$f":"IFERROR(AR14/'OVERALL TARGET'!AR$127,\"\")","v":""},{"$f":"IFERROR(AS14/'OVERALL TARGET'!AS$127,\"\")","v":""},{"$f":"IFERROR(AT14/'OVERALL TARGET'!AT$127,\"\")","v":""},{"$f":"IFERROR(AU14/'OVERALL TARGET'!AU$127,\"\")","v":""},{"$f":"IFERROR(AV14/'OVERALL TARGET'!AV$127,\"\")","v":""},{"$f":"IFERROR(AW14/'OVERALL TARGET'!AW$127,\"\")","v":""},{"$f":"IFERROR(AX14/'OVERALL TARGET'!AX$127,\"\")","v":""},{"$f":"IFERROR(AY14/'OVERALL TARGET'!AY$127,\"\")","v":""},{"$f":"IFERROR(AZ14/'OVERALL TARGET'!AZ$127,\"\")","v":""},{"$f":"IFERROR(BA14/'OVERALL TARGET'!BA$127,\"\")","v":""},{"$f":"IFERROR(BB14/'OVERALL TARGET'!BB$127,\"\")","v":""},{"$f":"IFERROR(BC14/'OVERALL TARGET'!BC$127,\"\")","v":""},{"$f":"IFERROR(BD14/'OVERALL TARGET'!BD$127,\"\")","v":""},{"$f":"IFERROR(BE14/'OVERALL TARGET'!BE$127,\"\")","v":""},{"$f":"IFERROR(BF14/'OVERALL TARGET'!BF$127,\"\")","v":""},{"$f":"IFERROR(BG14/'OVERALL TARGET'!BG$127,\"\")","v":""},{"$f":"IFERROR(BH14/'OVERALL TARGET'!BH$127,\"\")","v":""},{"$f":"IFERROR(BI14/'OVERALL TARGET'!BI$127,\"\")","v":""},{"$f":"IFERROR(BJ14/'OVERALL TARGET'!BJ$127,\"\")","v":""},{"$f":"IFERROR(BK14/'OVERALL TARGET'!BK$127,\"\")","v":""},{"$f":"IFERROR(BL14/'OVERALL TARGET'!BL$127,\"\")","v":""},{"$f":"IFERROR(BM14/'OVERALL TARGET'!BM$127,\"\")","v":""},{"$f":"IFERROR(BN14/'OVERALL TARGET'!BN$127,\"\")","v":""},{"$f":"IFERROR(BO14/'OVERALL TARGET'!BO$127,\"\")","v":""},{"$f":"IFERROR(BP14/'OVERALL TARGET'!BP$127,\"\")","v":""},null,null,null,null,null,null,null,null,null,null,null,null,null,null,null,null,null,null,null,null,null,null,null,null,null,null,null,null,null,null,null,null,null,null,null,null,null,null,null,null,null,null,null,null,null,null,null,null,null,null,null,null,null,null,null,"R5300SB","ENERGUSE","GFC_E_OTA","_Z","_Z","_Z","_Z","_Z","NUMBER","_Z","PC",null,"nrg_ind_rftce","TIMESERIES","R5300SB","GFC_E_OTA","_Z","PC","Agg.=[SUM(Countries Row 14)/SUM(Countries OVERALL TARGET Row 127)]*100"]
["Geothermal",null,null,null,null,null,null,null,null,null,null,null,null,null,null,null,null,null,null,null,null,{"$f":"IFERROR(V15/'OVERALL TARGET'!V$127,\"\")","v":""},{"$f":"IFERROR(W15/'OVERALL TARGET'!W$127,\"\")","v":""},{"$f":"IFERROR(X15/'OVERALL TARGET'!X$127,\"\")","v":""},{"$f":"IFERROR(Y15/'OVERALL TARGET'!Y$127,\"\")","v":""},{"$f":"IFERROR(Z15/'OVERALL TARGET'!Z$127,\"\")","v":""},{"$f":"IFERROR(AA15/'OVERALL TARGET'!AA$127,\"\")","v":""},{"$f":"IFERROR(AB15/'OVERALL TARGET'!AB$127,\"\")","v":""},{"$f":"IFERROR(AC15/'OVERALL TARGET'!AC$127,\"\")","v":""},{"$f":"IFERROR(AD15/'OVERALL TARGET'!AD$127,\"\")","v":""},{"$f":"IFERROR(AE15/'OVERALL TARGET'!AE$127,\"\")","v":""},{"$f":"IFERROR(AF15/'OVERALL TARGET'!AF$127,\"\")","v":""},{"$f":"IFERROR(AG15/'OVERALL TARGET'!AG$127,\"\")","v":""},{"$f":"IFERROR(AH15/'OVERALL TARGET'!AH$127,\"\")","v":""},{"$f":"IFERROR(AI15/'OVERALL TARGET'!AI$127,\"\")","v":""},{"$f":"IFERROR(AJ15/'OVERALL TARGET'!AJ$127,\"\")","v":""},{"$f":"IFERROR(AK15/'OVERALL TARGET'!AK$127,\"\")","v":""},{"$f":"IFERROR(AL15/'OVERALL TARGET'!AL$127,\"\")","v":""},{"$f":"IFERROR(AM15/'OVERALL TARGET'!AM$127,\"\")","v":""},{"$f":"IFERROR(AN15/'OVERALL TARGET'!AN$127,\"\")","v":""},{"$f":"IFERROR(AO15/'OVERALL TARGET'!AO$127,\"\")","v":""},{"$f":"IFERROR(AP15/'OVERALL TARGET'!AP$127,\"\")","v":""},{"$f":"IFERROR(AQ15/'OVERALL TARGET'!AQ$127,\"\")","v":""},{"$f":"IFERROR(AR15/'OVERALL TARGET'!AR$127,\"\")","v":""},{"$f":"IFERROR(AS15/'OVERALL TARGET'!AS$127,\"\")","v":""},{"$f":"IFERROR(AT15/'OVERALL TARGET'!AT$127,\"\")","v":""},{"$f":"IFERROR(AU15/'OVERALL TARGET'!AU$127,\"\")","v":""},{"$f":"IFERROR(AV15/'OVERALL TARGET'!AV$127,\"\")","v":""},{"$f":"IFERROR(AW15/'OVERALL TARGET'!AW$127,\"\")","v":""},{"$f":"IFERROR(AX15/'OVERALL TARGET'!AX$127,\"\")","v":""},{"$f":"IFERROR(AY15/'OVERALL TARGET'!AY$127,\"\")","v":""},{"$f":"IFERROR(AZ15/'OVERALL TARGET'!AZ$127,\"\")","v":""},{"$f":"IFERROR(BA15/'OVERALL TARGET'!BA$127,\"\")","v":""},{"$f":"IFERROR(BB15/'OVERALL TARGET'!BB$127,\"\")","v":""},{"$f":"IFERROR(BC15/'OVERALL TARGET'!BC$127,\"\")","v":""},{"$f":"IFERROR(BD15/'OVERALL TARGET'!BD$127,\"\")","v":""},{"$f":"IFERROR(BE15/'OVERALL TARGET'!BE$127,\"\")","v":""},{"$f":"IFERROR(BF15/'OVERALL TARGET'!BF$127,\"\")","v":""},{"$f":"IFERROR(BG15/'OVERALL TARGET'!BG$127,\"\")","v":""},{"$f":"IFERROR(BH15/'OVERALL TARGET'!BH$127,\"\")","v":""},{"$f":"IFERROR(BI15/'OVERALL TARGET'!BI$127,\"\")","v":""},{"$f":"IFERROR(BJ15/'OVERALL TARGET'!BJ$127,\"\")","v":""},{"$f":"IFERROR(BK15/'OVERALL TARGET'!BK$127,\"\")","v":""},{"$f":"IFERROR(BL15/'OVERALL TARGET'!BL$127,\"\")","v":""},{"$f":"IFERROR(BM15/'OVERALL TARGET'!BM$127,\"\")","v":""},{"$f":"IFERROR(BN15/'OVERALL TARGET'!BN$127,\"\")","v":""},{"$f":"IFERROR(BO15/'OVERALL TARGET'!BO$127,\"\")","v":""},{"$f":"IFERROR(BP15/'OVERALL TARGET'!BP$127,\"\")","v":""},null,null,null,null,null,null,null,null,null,null,null,null,null,null,null,null,null,null,null,null,null,null,null,null,null,null,null,null,null,null,null,null,null,null,null,null,null,null,null,null,null,null,null,null,null,null,null,null,null,null,null,null,null,null,null,"RA200","ENERGUSE","GFC_E_OTA","_Z","_Z","_Z","_Z","_Z","NUMBER","_Z","PC",null,"nrg_ind_rftce","TIMESERIES","RA200","GFC_E_OTA","_Z","PC","Agg.=[SUM(Countries Row 15)/SUM(Countries OVERALL TARGET Row 127)]*100"]
["Solar photovoltaic",null,null,null,null,null,null,null,null,null,null,null,null,null,null,null,null,null,null,null,null,{"$f":"IFERROR(V16/'OVERALL TARGET'!V$127,\"\")","v":""},{"$f":"IFERROR(W16/'OVERALL TARGET'!W$127,\"\")","v":""},{"$f":"IFERROR(X16/'OVERALL TARGET'!X$127,\"\")","v":""},{"$f":"IFERROR(Y16/'OVERALL TARGET'!Y$127,\"\")","v":""},{"$f":"IFERROR(Z16/'OVERALL TARGET'!Z$127,\"\")","v":""},{"$f":"IFERROR(AA16/'OVERALL TARGET'!AA$127,\"\")","v":""},{"$f":"IFERROR(AB16/'OVERALL TARGET'!AB$127,\"\")","v":""},{"$f":"IFERROR(AC16/'OVERALL TARGET'!AC$127,\"\")","v":""},{"$f":"IFERROR(AD16/'OVERALL TARGET'!AD$127,\"\")","v":""},{"$f":"IFERROR(AE16/'OVERALL TARGET'!AE$127,\"\")","v":""},{"$f":"IFERROR(AF16/'OVERALL TARGET'!AF$127,\"\")","v":""},{"$f":"IFERROR(AG16/'OVERALL TARGET'!AG$127,\"\")","v":""},{"$f":"IFERROR(AH16/'OVERALL TARGET'!AH$127,\"\")","v":""},{"$f":"IFERROR(AI16/'OVERALL TARGET'!AI$127,\"\")","v":""},{"$f":"IFERROR(AJ16/'OVERALL TARGET'!AJ$127,\"\")","v":""},{"$f":"IFERROR(AK16/'OVERALL TARGET'!AK$127,\"\")","v":""},{"$f":"IFERROR(AL16/'OVERALL TARGET'!AL$127,\"\")","v":""},{"$f":"IFERROR(AM16/'OVERALL TARGET'!AM$127,\"\")","v":""},{"$f":"IFERROR(AN16/'OVERALL TARGET'!AN$127,\"\")","v":""},{"$f":"IFERROR(AO16/'OVERALL TARGET'!AO$127,\"\")","v":""},{"$f":"IFERROR(AP16/'OVERALL TARGET'!AP$127,\"\")","v":""},{"$f":"IFERROR(AQ16/'OVERALL TARGET'!AQ$127,\"\")","v":""},{"$f":"IFERROR(AR16/'OVERALL TARGET'!AR$127,\"\")","v":""},{"$f":"IFERROR(AS16/'OVERALL TARGET'!AS$127,\"\")","v":""},{"$f":"IFERROR(AT16/'OVERALL TARGET'!AT$127,\"\")","v":""},{"$f":"IFERROR(AU16/'OVERALL TARGET'!AU$127,\"\")","v":""},{"$f":"IFERROR(AV16/'OVERALL TARGET'!AV$127,\"\")","v":""},{"$f":"IFERROR(AW16/'OVERALL TARGET'!AW$127,\"\")","v":""},{"$f":"IFERROR(AX16/'OVERALL TARGET'!AX$127,\"\")","v":""},{"$f":"IFERROR(AY16/'OVERALL TARGET'!AY$127,\"\")","v":""},{"$f":"IFERROR(AZ16/'OVERALL TARGET'!AZ$127,\"\")","v":""},{"$f":"IFERROR(BA16/'OVERALL TARGET'!BA$127,\"\")","v":""},{"$f":"IFERROR(BB16/'OVERALL TARGET'!BB$127,\"\")","v":""},{"$f":"IFERROR(BC16/'OVERALL TARGET'!BC$127,\"\")","v":""},{"$f":"IFERROR(BD16/'OVERALL TARGET'!BD$127,\"\")","v":""},{"$f":"IFERROR(BE16/'OVERALL TARGET'!BE$127,\"\")","v":""},{"$f":"IFERROR(BF16/'OVERALL TARGET'!BF$127,\"\")","v":""},{"$f":"IFERROR(BG16/'OVERALL TARGET'!BG$127,\"\")","v":""},{"$f":"IFERROR(BH16/'OVERALL TARGET'!BH$127,\"\")","v":""},{"$f":"IFERROR(BI16/'OVERALL TARGET'!BI$127,\"\")","v":""},{"$f":"IFERROR(BJ16/'OVERALL TARGET'!BJ$127,\"\")","v":""},{"$f":"IFERROR(BK16/'OVERALL TARGET'!BK$127,\"\")","v":""},{"$f":"IFERROR(BL16/'OVERALL TARGET'!BL$127,\"\")","v":""},{"$f":"IFERROR(BM16/'OVERALL TARGET'!BM$127,\"\")","v":""},{"$f":"IFERROR(BN16/'OVERALL TARGET'!BN$127,\"\")","v":""},{"$f":"IFERROR(BO16/'OVERALL TARGET'!BO$127,\"\")","v":""},{"$f":"IFERROR(BP16/'OVERALL TARGET'!BP$127,\"\")","v":""},null,null,null,null,null,null,null,null,null,null,null,null,null,null,null,null,null,null,null,null,null,null,null,null,null,null,null,null,null,null,null,null,null,null,null,null,null,null,null,null,null,null,null,null,null,null,null,null,null,null,null,null,null,null,null,"RA420","ENERGUSE","GFC_E_OTA","_Z","_Z","_Z","_Z","_Z","NUMBER","_Z","PC",null,"nrg_ind_rftce","TIMESERIES","RA420","GFC_E_OTA","_Z","PC","Agg.=[SUM(Countries Row 16)/SUM(Countries OVERALL TARGET Row 127)]*100"]
["Solar thermal",null,null,null,null,null,null,null,null,null,null,null,null,null,null,null,null,null,null,null,null,{"$f":"IFERROR(V17/'OVERALL TARGET'!V$127,\"\")","v":""},{"$f":"IFERROR(W17/'OVERALL TARGET'!W$127,\"\")","v":""},{"$f":"IFERROR(X17/'OVERALL TARGET'!X$127,\"\")","v":""},{"$f":"IFERROR(Y17/'OVERALL TARGET'!Y$127,\"\")","v":""},{"$f":"IFERROR(Z17/'OVERALL TARGET'!Z$127,\"\")","v":""},{"$f":"IFERROR(AA17/'OVERALL TARGET'!AA$127,\"\")","v":""},{"$f":"IFERROR(AB17/'OVERALL TARGET'!AB$127,\"\")","v":""},{"$f":"IFERROR(AC17/'OVERALL TARGET'!AC$127,\"\")","v":""},{"$f":"IFERROR(AD17/'OVERALL TARGET'!AD$127,\"\")","v":""},{"$f":"IFERROR(AE17/'OVERALL TARGET'!AE$127,\"\")","v":""},{"$f":"IFERROR(AF17/'OVERALL TARGET'!AF$127,\"\")","v":""},{"$f":"IFERROR(AG17/'OVERALL TARGET'!AG$127,\"\")","v":""},{"$f":"IFERROR(AH17/'OVERALL TARGET'!AH$127,\"\")","v":""},{"$f":"IFERROR(AI17/'OVERALL TARGET'!AI$127,\"\")","v":""},{"$f":"IFERROR(AJ17/'OVERALL TARGET'!AJ$127,\"\")","v":""},{"$f":"IFERROR(AK17/'OVERALL TARGET'!AK$127,\"\")","v":""},{"$f":"IFERROR(AL17/'OVERALL TARGET'!AL$127,\"\")","v":""},{"$f":"IFERROR(AM17/'OVERALL TARGET'!AM$127,\"\")","v":""},{"$f":"IFERROR(AN17/'OVERALL TARGET'!AN$127,\"\")","v":""},{"$f":"IFERROR(AO17/'OVERALL TARGET'!AO$127,\"\")","v":""},{"$f":"IFERROR(AP17/'OVERALL TARGET'!AP$127,\"\")","v":""},{"$f":"IFERROR(AQ17/'OVERALL TARGET'!AQ$127,\"\")","v":""},{"$f":"IFERROR(AR17/'OVERALL TARGET'!AR$127,\"\")","v":""},{"$f":"IFERROR(AS17/'OVERALL TARGET'!AS$127,\"\")","v":""},{"$f":"IFERROR(AT17/'OVERALL TARGET'!AT$127,\"\")","v":""},{"$f":"IFERROR(AU17/'OVERALL TARGET'!AU$127,\"\")","v":""},{"$f":"IFERROR(AV17/'OVERALL TARGET'!AV$127,\"\")","v":""},{"$f":"IFERROR(AW17/'OVERALL TARGET'!AW$127,\"\")","v":""},{"$f":"IFERROR(AX17/'OVERALL TARGET'!AX$127,\"\")","v":""},{"$f":"IFERROR(AY17/'OVERALL TARGET'!AY$127,\"\")","v":""},{"$f":"IFERROR(AZ17/'OVERALL TARGET'!AZ$127,\"\")","v":""},{"$f":"IFERROR(BA17/'OVERALL TARGET'!BA$127,\"\")","v":""},{"$f":"IFERROR(BB17/'OVERALL TARGET'!BB$127,\"\")","v":""},{"$f":"IFERROR(BC17/'OVERALL TARGET'!BC$127,\"\")","v":""},{"$f":"IFERROR(BD17/'OVERALL TARGET'!BD$127,\"\")","v":""},{"$f":"IFERROR(BE17/'OVERALL TARGET'!BE$127,\"\")","v":""},{"$f":"IFERROR(BF17/'OVERALL TARGET'!BF$127,\"\")","v":""},{"$f":"IFERROR(BG17/'OVERALL TARGET'!BG$127,\"\")","v":""},{"$f":"IFERROR(BH17/'OVERALL TARGET'!BH$127,\"\")","v":""},{"$f":"IFERROR(BI17/'OVERALL TARGET'!BI$127,\"\")","v":""},{"$f":"IFERROR(BJ17/'OVERALL TARGET'!BJ$127,\"\")","v":""},{"$f":"IFERROR(BK17/'OVERALL TARGET'!BK$127,\"\")","v":""},{"$f":"IFERROR(BL17/'OVERALL TARGET'!BL$127,\"\")","v":""},{"$f":"IFERROR(BM17/'OVERALL TARGET'!BM$127,\"\")","v":""},{"$f":"IFERROR(BN17/'OVERALL TARGET'!BN$127,\"\")","v":""},{"$f":"IFERROR(BO17/'OVERALL TARGET'!BO$127,\"\")","v":""},{"$f":"IFERROR(BP17/'OVERALL TARGET'!BP$127,\"\")","v":""},null,null,null,null,null,null,null,null,null,null,null,null,null,null,null,null,null,null,null,null,null,null,null,null,null,null,null,null,null,null,null,null,null,null,null,null,null,null,null,null,null,null,null,null,null,null,null,null,null,null,null,null,null,null,null,"RA410","ENERGUSE","GFC_E_OTA","_Z","_Z","_Z","_Z","_Z","NUMBER","_Z","PC",null,"nrg_ind_rftce","TIMESERIES","RA410","GFC_E_OTA","_Z","PC","Agg.=[SUM(Countries Row 17)/SUM(Countries OVERALL TARGET Row 127)]*100"]
["Tide, wave and ocean",null,null,null,null,null,null,null,null,null,null,null,null,null,null,null,null,null,null,null,null,{"$f":"IFERROR(V18/'OVERALL TARGET'!V$127,\"\")","v":""},{"$f":"IFERROR(W18/'OVERALL TARGET'!W$127,\"\")","v":""},{"$f":"IFERROR(X18/'OVERALL TARGET'!X$127,\"\")","v":""},{"$f":"IFERROR(Y18/'OVERALL TARGET'!Y$127,\"\")","v":""},{"$f":"IFERROR(Z18/'OVERALL TARGET'!Z$127,\"\")","v":""},{"$f":"IFERROR(AA18/'OVERALL TARGET'!AA$127,\"\")","v":""},{"$f":"IFERROR(AB18/'OVERALL TARGET'!AB$127,\"\")","v":""},{"$f":"IFERROR(AC18/'OVERALL TARGET'!AC$127,\"\")","v":""},{"$f":"IFERROR(AD18/'OVERALL TARGET'!AD$127,\"\")","v":""},{"$f":"IFERROR(AE18/'OVERALL TARGET'!AE$127,\"\")","v":""},{"$f":"IFERROR(AF18/'OVERALL TARGET'!AF$127,\"\")","v":""},{"$f":"IFERROR(AG18/'OVERALL TARGET'!AG$127,\"\")","v":""},{"$f":"IFERROR(AH18/'OVERALL TARGET'!AH$127,\"\")","v":""},{"$f":"IFERROR(AI18/'OVERALL TARGET'!AI$127,\"\")","v":""},{"$f":"IFERROR(AJ18/'OVERALL TARGET'!AJ$127,\"\")","v":""},{"$f":"IFERROR(AK18/'OVERALL TARGET'!AK$127,\"\")","v":""},{"$f":"IFERROR(AL18/'OVERALL TARGET'!AL$127,\"\")","v":""},{"$f":"IFERROR(AM18/'OVERALL TARGET'!AM$127,\"\")","v":""},{"$f":"IFERROR(AN18/'OVERALL TARGET'!AN$127,\"\")","v":""},{"$f":"IFERROR(AO18/'OVERALL TARGET'!AO$127,\"\")","v":""},{"$f":"IFERROR(AP18/'OVERALL TARGET'!AP$127,\"\")","v":""},{"$f":"IFERROR(AQ18/'OVERALL TARGET'!AQ$127,\"\")","v":""},{"$f":"IFERROR(AR18/'OVERALL TARGET'!AR$127,\"\")","v":""},{"$f":"IFERROR(AS18/'OVERALL TARGET'!AS$127,\"\")","v":""},{"$f":"IFERROR(AT18/'OVERALL TARGET'!AT$127,\"\")","v":""},{"$f":"IFERROR(AU18/'OVERALL TARGET'!AU$127,\"\")","v":""},{"$f":"IFERROR(AV18/'OVERALL TARGET'!AV$127,\"\")","v":""},{"$f":"IFERROR(AW18/'OVERALL TARGET'!AW$127,\"\")","v":""},{"$f":"IFERROR(AX18/'OVERALL TARGET'!AX$127,\"\")","v":""},{"$f":"IFERROR(AY18/'OVERALL TARGET'!AY$127,\"\")","v":""},{"$f":"IFERROR(AZ18/'OVERALL TARGET'!AZ$127,\"\")","v":""},{"$f":"IFERROR(BA18/'OVERALL TARGET'!BA$127,\"\")","v":""},{"$f":"IFERROR(BB18/'OVERALL TARGET'!BB$127,\"\")","v":""},{"$f":"IFERROR(BC18/'OVERALL TARGET'!BC$127,\"\")","v":""},{"$f":"IFERROR(BD18/'OVERALL TARGET'!BD$127,\"\")","v":""},{"$f":"IFERROR(BE18/'OVERALL TARGET'!BE$127,\"\")","v":""},{"$f":"IFERROR(BF18/'OVERALL TARGET'!BF$127,\"\")","v":""},{"$f":"IFERROR(BG18/'OVERALL TARGET'!BG$127,\"\")","v":""},{"$f":"IFERROR(BH18/'OVERALL TARGET'!BH$127,\"\")","v":""},{"$f":"IFERROR(BI18/'OVERALL TARGET'!BI$127,\"\")","v":""},{"$f":"IFERROR(BJ18/'OVERALL TARGET'!BJ$127,\"\")","v":""},{"$f":"IFERROR(BK18/'OVERALL TARGET'!BK$127,\"\")","v":""},{"$f":"IFERROR(BL18/'OVERALL TARGET'!BL$127,\"\")","v":""},{"$f":"IFERROR(BM18/'OVERALL TARGET'!BM$127,\"\")","v":""},{"$f":"IFERROR(BN18/'OVERALL TARGET'!BN$127,\"\")","v":""},{"$f":"IFERROR(BO18/'OVERALL TARGET'!BO$127,\"\")","v":""},{"$f":"IFERROR(BP18/'OVERALL TARGET'!BP$127,\"\")","v":""},null,null,null,null,null,null,null,null,null,null,null,null,null,null,null,null,null,null,null,null,null,null,null,null,null,null,null,null,null,null,null,null,null,null,null,null,null,null,null,null,null,null,null,null,null,null,null,null,null,null,null,null,null,null,null,"RA500","ENERGUSE","GFC_E_OTA","_Z","_Z","_Z","_Z","_Z","NUMBER","_Z","PC",null,"nrg_ind_rftce","TIMESERIES","RA500","GFC_E_OTA","_Z","PC","Agg.=[SUM(Countries Row 18)/SUM(Countries OVERALL TARGET Row 127)]*100"]
["Municipal waste (renewable)",null,null,null,null,null,null,null,null,null,null,null,null,null,null,null,null,null,null,null,null,{"$f":"IFERROR(V19/'OVERALL TARGET'!V$127,\"\")","v":""},{"$f":"IFERROR(W19/'OVERALL TARGET'!W$127,\"\")","v":""},{"$f":"IFERROR(X19/'OVERALL TARGET'!X$127,\"\")","v":""},{"$f":"IFERROR(Y19/'OVERALL TARGET'!Y$127,\"\")","v":""},{"$f":"IFERROR(Z19/'OVERALL TARGET'!Z$127,\"\")","v":""},{"$f":"IFERROR(AA19/'OVERALL TARGET'!AA$127,\"\")","v":""},{"$f":"IFERROR(AB19/'OVERALL TARGET'!AB$127,\"\")","v":""},{"$f":"IFERROR(AC19/'OVERALL TARGET'!AC$127,\"\")","v":""},{"$f":"IFERROR(AD19/'OVERALL TARGET'!AD$127,\"\")","v":""},{"$f":"IFERROR(AE19/'OVERALL TARGET'!AE$127,\"\")","v":""},{"$f":"IFERROR(AF19/'OVERALL TARGET'!AF$127,\"\")","v":""},{"$f":"IFERROR(AG19/'OVERALL TARGET'!AG$127,\"\")","v":""},{"$f":"IFERROR(AH19/'OVERALL TARGET'!AH$127,\"\")","v":""},{"$f":"IFERROR(AI19/'OVERALL TARGET'!AI$127,\"\")","v":""},{"$f":"IFERROR(AJ19/'OVERALL TARGET'!AJ$127,\"\")","v":""},{"$f":"IFERROR(AK19/'OVERALL TARGET'!AK$127,\"\")","v":""},{"$f":"IFERROR(AL19/'OVERALL TARGET'!AL$127,\"\")","v":""},{"$f":"IFERROR(AM19/'OVERALL TARGET'!AM$127,\"\")","v":""},{"$f":"IFERROR(AN19/'OVERALL TARGET'!AN$127,\"\")","v":""},{"$f":"IFERROR(AO19/'OVERALL TARGET'!AO$127,\"\")","v":""},{"$f":"IFERROR(AP19/'OVERALL TARGET'!AP$127,\"\")","v":""},{"$f":"IFERROR(AQ19/'OVERALL TARGET'!AQ$127,\"\")","v":""},{"$f":"IFERROR(AR19/'OVERALL TARGET'!AR$127,\"\")","v":""},{"$f":"IFERROR(AS19/'OVERALL TARGET'!AS$127,\"\")","v":""},{"$f":"IFERROR(AT19/'OVERALL TARGET'!AT$127,\"\")","v":""},{"$f":"IFERROR(AU19/'OVERALL TARGET'!AU$127,\"\")","v":""},{"$f":"IFERROR(AV19/'OVERALL TARGET'!AV$127,\"\")","v":""},{"$f":"IFERROR(AW19/'OVERALL TARGET'!AW$127,\"\")","v":""},{"$f":"IFERROR(AX19/'OVERALL TARGET'!AX$127,\"\")","v":""},{"$f":"IFERROR(AY19/'OVERALL TARGET'!AY$127,\"\")","v":""},{"$f":"IFERROR(AZ19/'OVERALL TARGET'!AZ$127,\"\")","v":""},{"$f":"IFERROR(BA19/'OVERALL TARGET'!BA$127,\"\")","v":""},{"$f":"IFERROR(BB19/'OVERALL TARGET'!BB$127,\"\")","v":""},{"$f":"IFERROR(BC19/'OVERALL TARGET'!BC$127,\"\")","v":""},{"$f":"IFERROR(BD19/'OVERALL TARGET'!BD$127,\"\")","v":""},{"$f":"IFERROR(BE19/'OVERALL TARGET'!BE$127,\"\")","v":""},{"$f":"IFERROR(BF19/'OVERALL TARGET'!BF$127,\"\")","v":""},{"$f":"IFERROR(BG19/'OVERALL TARGET'!BG$127,\"\")","v":""},{"$f":"IFERROR(BH19/'OVERALL TARGET'!BH$127,\"\")","v":""},{"$f":"IFERROR(BI19/'OVERALL TARGET'!BI$127,\"\")","v":""},{"$f":"IFERROR(BJ19/'OVERALL TARGET'!BJ$127,\"\")","v":""},{"$f":"IFERROR(BK19/'OVERALL TARGET'!BK$127,\"\")","v":""},{"$f":"IFERROR(BL19/'OVERALL TARGET'!BL$127,\"\")","v":""},{"$f":"IFERROR(BM19/'OVERALL TARGET'!BM$127,\"\")","v":""},{"$f":"IFERROR(BN19/'OVERALL TARGET'!BN$127,\"\")","v":""},{"$f":"IFERROR(BO19/'OVERALL TARGET'!BO$127,\"\")","v":""},{"$f":"IFERROR(BP19/'OVERALL TARGET'!BP$127,\"\")","v":""},null,null,null,null,null,null,null,null,null,null,null,null,null,null,null,null,null,null,null,null,null,null,null,null,null,null,null,null,null,null,null,null,null,null,null,null,null,null,null,null,null,null,null,null,null,null,null,null,null,null,null,null,null,null,null,"W6210","ENERGUSE","GFC_E_OTA","_Z","_Z","_Z","_Z","_Z","NUMBER","_Z","PC",null,"nrg_ind_rftce","TIMESERIES","W6210","GFC_E_OTA","_Z","PC","Agg.=[SUM(Countries Row 19)/SUM(Countries OVERALL TARGET Row 127)]*100"]
["Sustainable primary solid biofuels",null,null,null,null,null,null,null,null,null,null,null,null,null,null,null,null,null,null,null,null,{"$f":"IFERROR(V20/'OVERALL TARGET'!V$127,\"\")","v":""},{"$f":"IFERROR(W20/'OVERALL TARGET'!W$127,\"\")","v":""},{"$f":"IFERROR(X20/'OVERALL TARGET'!X$127,\"\")","v":""},{"$f":"IFERROR(Y20/'OVERALL TARGET'!Y$127,\"\")","v":""},{"$f":"IFERROR(Z20/'OVERALL TARGET'!Z$127,\"\")","v":""},{"$f":"IFERROR(AA20/'OVERALL TARGET'!AA$127,\"\")","v":""},{"$f":"IFERROR(AB20/'OVERALL TARGET'!AB$127,\"\")","v":""},{"$f":"IFERROR(AC20/'OVERALL TARGET'!AC$127,\"\")","v":""},{"$f":"IFERROR(AD20/'OVERALL TARGET'!AD$127,\"\")","v":""},{"$f":"IFERROR(AE20/'OVERALL TARGET'!AE$127,\"\")","v":""},{"$f":"IFERROR(AF20/'OVERALL TARGET'!AF$127,\"\")","v":""},{"$f":"IFERROR(AG20/'OVERALL TARGET'!AG$127,\"\")","v":""},{"$f":"IFERROR(AH20/'OVERALL TARGET'!AH$127,\"\")","v":""},{"$f":"IFERROR(AI20/'OVERALL TARGET'!AI$127,\"\")","v":""},{"$f":"IFERROR(AJ20/'OVERALL TARGET'!AJ$127,\"\")","v":""},{"$f":"IFERROR(AK20/'OVERALL TARGET'!AK$127,\"\")","v":""},{"$f":"IFERROR(AL20/'OVERALL TARGET'!AL$127,\"\")","v":""},{"$f":"IFERROR(AM20/'OVERALL TARGET'!AM$127,\"\")","v":""},{"$f":"IFERROR(AN20/'OVERALL TARGET'!AN$127,\"\")","v":""},{"$f":"IFERROR(AO20/'OVERALL TARGET'!AO$127,\"\")","v":""},{"$f":"IFERROR(AP20/'OVERALL TARGET'!AP$127,\"\")","v":""},{"$f":"IFERROR(AQ20/'OVERALL TARGET'!AQ$127,\"\")","v":""},{"$f":"IFERROR(AR20/'OVERALL TARGET'!AR$127,\"\")","v":""},{"$f":"IFERROR(AS20/'OVERALL TARGET'!AS$127,\"\")","v":""},{"$f":"IFERROR(AT20/'OVERALL TARGET'!AT$127,\"\")","v":""},{"$f":"IFERROR(AU20/'OVERALL TARGET'!AU$127,\"\")","v":""},{"$f":"IFERROR(AV20/'OVERALL TARGET'!AV$127,\"\")","v":""},{"$f":"IFERROR(AW20/'OVERALL TARGET'!AW$127,\"\")","v":""},{"$f":"IFERROR(AX20/'OVERALL TARGET'!AX$127,\"\")","v":""},{"$f":"IFERROR(AY20/'OVERALL TARGET'!AY$127,\"\")","v":""},{"$f":"IFERROR(AZ20/'OVERALL TARGET'!AZ$127,\"\")","v":""},{"$f":"IFERROR(BA20/'OVERALL TARGET'!BA$127,\"\")","v":""},{"$f":"IFERROR(BB20/'OVERALL TARGET'!BB$127,\"\")","v":""},{"$f":"IFERROR(BC20/'OVERALL TARGET'!BC$127,\"\")","v":""},{"$f":"IFERROR(BD20/'OVERALL TARGET'!BD$127,\"\")","v":""},{"$f":"IFERROR(BE20/'OVERALL TARGET'!BE$127,\"\")","v":""},{"$f":"IFERROR(BF20/'OVERALL TARGET'!BF$127,\"\")","v":""},{"$f":"IFERROR(BG20/'OVERALL TARGET'!BG$127,\"\")","v":""},{"$f":"IFERROR(BH20/'OVERALL TARGET'!BH$127,\"\")","v":""},{"$f":"IFERROR(BI20/'OVERALL TARGET'!BI$127,\"\")","v":""},{"$f":"IFERROR(BJ20/'OVERALL TARGET'!BJ$127,\"\")","v":""},{"$f":"IFERROR(BK20/'OVERALL TARGET'!BK$127,\"\")","v":""},{"$f":"IFERROR(BL20/'OVERALL TARGET'!BL$127,\"\")","v":""},{"$f":"IFERROR(BM20/'OVERALL TARGET'!BM$127,\"\")","v":""},{"$f":"IFERROR(BN20/'OVERALL TARGET'!BN$127,\"\")","v":""},{"$f":"IFERROR(BO20/'OVERALL TARGET'!BO$127,\"\")","v":""},{"$f":"IFERROR(BP20/'OVERALL TARGET'!BP$127,\"\")","v":""},null,null,null,null,null,null,null,null,null,null,null,null,null,null,null,null,null,null,null,null,null,null,null,null,null,null,null,null,null,null,null,null,null,null,null,null,null,null,null,null,null,null,null,null,null,null,null,null,null,null,null,null,null,null,null,"R5110-5150_W6000RIS","ENERGUSE","GFC_E_OTA","_Z","_Z","_Z","_Z","_Z","NUMBER","_Z","PC",null,"nrg_ind_rftce","TIMESERIES","R5110-5150_W6000RIS","GFC_E_OTA","_Z","PC","Agg.=[SUM(Countries Row 20)/SUM(Countries OVERALL TARGET Row 127)]*100"]
["Charcoal",null,null,null,null,null,null,null,null,null,null,null,null,null,null,null,null,null,null,null,null,{"$f":"IFERROR(V21/'OVERALL TARGET'!V$127,\"\")","v":""},{"$f":"IFERROR(W21/'OVERALL TARGET'!W$127,\"\")","v":""},{"$f":"IFERROR(X21/'OVERALL TARGET'!X$127,\"\")","v":""},{"$f":"IFERROR(Y21/'OVERALL TARGET'!Y$127,\"\")","v":""},{"$f":"IFERROR(Z21/'OVERALL TARGET'!Z$127,\"\")","v":""},{"$f":"IFERROR(AA21/'OVERALL TARGET'!AA$127,\"\")","v":""},{"$f":"IFERROR(AB21/'OVERALL TARGET'!AB$127,\"\")","v":""},{"$f":"IFERROR(AC21/'OVERALL TARGET'!AC$127,\"\")","v":""},{"$f":"IFERROR(AD21/'OVERALL TARGET'!AD$127,\"\")","v":""},{"$f":"IFERROR(AE21/'OVERALL TARGET'!AE$127,\"\")","v":""},{"$f":"IFERROR(AF21/'OVERALL TARGET'!AF$127,\"\")","v":""},{"$f":"IFERROR(AG21/'OVERALL TARGET'!AG$127,\"\")","v":""},{"$f":"IFERROR(AH21/'OVERALL TARGET'!AH$127,\"\")","v":""},{"$f":"IFERROR(AI21/'OVERALL TARGET'!AI$127,\"\")","v":""},{"$f":"IFERROR(AJ21/'OVERALL TARGET'!AJ$127,\"\")","v":""},{"$f":"IFERROR(AK21/'OVERALL TARGET'!AK$127,\"\")","v":""},{"$f":"IFERROR(AL21/'OVERALL TARGET'!AL$127,\"\")","v":""},{"$f":"IFERROR(AM21/'OVERALL TARGET'!AM$127,\"\")","v":""},{"$f":"IFERROR(AN21/'OVERALL TARGET'!AN$127,\"\")","v":""},{"$f":"IFERROR(AO21/'OVERALL TARGET'!AO$127,\"\")","v":""},{"$f":"IFERROR(AP21/'OVERALL TARGET'!AP$127,\"\")","v":""},{"$f":"IFERROR(AQ21/'OVERALL TARGET'!AQ$127,\"\")","v":""},{"$f":"IFERROR(AR21/'OVERALL TARGET'!AR$127,\"\")","v":""},{"$f":"IFERROR(AS21/'OVERALL TARGET'!AS$127,\"\")","v":""},{"$f":"IFERROR(AT21/'OVERALL TARGET'!AT$127,\"\")","v":""},{"$f":"IFERROR(AU21/'OVERALL TARGET'!AU$127,\"\")","v":""},{"$f":"IFERROR(AV21/'OVERALL TARGET'!AV$127,\"\")","v":""},{"$f":"IFERROR(AW21/'OVERALL TARGET'!AW$127,\"\")","v":""},{"$f":"IFERROR(AX21/'OVERALL TARGET'!AX$127,\"\")","v":""},{"$f":"IFERROR(AY21/'OVERALL TARGET'!AY$127,\"\")","v":""},{"$f":"IFERROR(AZ21/'OVERALL TARGET'!AZ$127,\"\")","v":""},{"$f":"IFERROR(BA21/'OVERALL TARGET'!BA$127,\"\")","v":""},{"$f":"IFERROR(BB21/'OVERALL TARGET'!BB$127,\"\")","v":""},{"$f":"IFERROR(BC21/'OVERALL TARGET'!BC$127,\"\")","v":""},{"$f":"IFERROR(BD21/'OVERALL TARGET'!BD$127,\"\")","v":""},{"$f":"IFERROR(BE21/'OVERALL TARGET'!BE$127,\"\")","v":""},{"$f":"IFERROR(BF21/'OVERALL TARGET'!BF$127,\"\")","v":""},{"$f":"IFERROR(BG21/'OVERALL TARGET'!BG$127,\"\")","v":""},{"$f":"IFERROR(BH21/'OVERALL TARGET'!BH$127,\"\")","v":""},{"$f":"IFERROR(BI21/'OVERALL TARGET'!BI$127,\"\")","v":""},{"$f":"IFERROR(BJ21/'OVERALL TARGET'!BJ$127,\"\")","v":""},{"$f":"IFERROR(BK21/'OVERALL TARGET'!BK$127,\"\")","v":""},{"$f":"IFERROR(BL21/'OVERALL TARGET'!BL$127,\"\")","v":""},{"$f":"IFERROR(BM21/'OVERALL TARGET'!BM$127,\"\")","v":""},{"$f":"IFERROR(BN21/'OVERALL TARGET'!BN$127,\"\")","v":""},{"$f":"IFERROR(BO21/'OVERALL TARGET'!BO$127,\"\")","v":""},{"$f":"IFERROR(BP21/'OVERALL TARGET'!BP$127,\"\")","v":""},null,null,null,null,null,null,null,null,null,null,null,null,null,null,null,null,null,null,null,null,null,null,null,null,null,null,null,null,null,null,null,null,null,null,null,null,null,null,null,null,null,null,null,null,null,null,null,null,null,null,null,null,null,null,null,"R5160","ENERGUSE","GFC_E_OTA","_Z","_Z","_Z","_Z","_Z","NUMBER","_Z","PC",null,"nrg_ind_rftce","TIMESERIES","R5160","GFC_E_OTA","_Z","PC","Agg.=[SUM(Countries Row 21)/SUM(Countries OVERALL TARGET Row 127)]*100"]
["Heat pumps for heating",null,null,null,null,null,null,null,null,null,null,null,null,null,null,null,null,null,null,null,null,{"$f":"IFERROR(V22/'OVERALL TARGET'!V$127,\"\")","v":""},{"$f":"IFERROR(W22/'OVERALL TARGET'!W$127,\"\")","v":""},{"$f":"IFERROR(X22/'OVERALL TARGET'!X$127,\"\")","v":""},{"$f":"IFERROR(Y22/'OVERALL TARGET'!Y$127,\"\")","v":""},{"$f":"IFERROR(Z22/'OVERALL TARGET'!Z$127,\"\")","v":""},{"$f":"IFERROR(AA22/'OVERALL TARGET'!AA$127,\"\")","v":""},{"$f":"IFERROR(AB22/'OVERALL TARGET'!AB$127,\"\")","v":""},{"$f":"IFERROR(AC22/'OVERALL TARGET'!AC$127,\"\")","v":""},{"$f":"IFERROR(AD22/'OVERALL TARGET'!AD$127,\"\")","v":""},{"$f":"IFERROR(AE22/'OVERALL TARGET'!AE$127,\"\")","v":""},{"$f":"IFERROR(AF22/'OVERALL TARGET'!AF$127,\"\")","v":""},{"$f":"IFERROR(AG22/'OVERALL TARGET'!AG$127,\"\")","v":""},{"$f":"IFERROR(AH22/'OVERALL TARGET'!AH$127,\"\")","v":""},{"$f":"IFERROR(AI22/'OVERALL TARGET'!AI$127,\"\")","v":""},{"$f":"IFERROR(AJ22/'OVERALL TARGET'!AJ$127,\"\")","v":""},{"$f":"IFERROR(AK22/'OVERALL TARGET'!AK$127,\"\")","v":""},{"$f":"IFERROR(AL22/'OVERALL TARGET'!AL$127,\"\")","v":""},{"$f":"IFERROR(AM22/'OVERALL TARGET'!AM$127,\"\")","v":""},{"$f":"IFERROR(AN22/'OVERALL TARGET'!AN$127,\"\")","v":""},{"$f":"IFERROR(AO22/'OVERALL TARGET'!AO$127,\"\")","v":""},{"$f":"IFERROR(AP22/'OVERALL TARGET'!AP$127,\"\")","v":""},{"$f":"IFERROR(AQ22/'OVERALL TARGET'!AQ$127,\"\")","v":""},{"$f":"IFERROR(AR22/'OVERALL TARGET'!AR$127,\"\")","v":""},{"$f":"IFERROR(AS22/'OVERALL TARGET'!AS$127,\"\")","v":""},{"$f":"IFERROR(AT22/'OVERALL TARGET'!AT$127,\"\")","v":""},{"$f":"IFERROR(AU22/'OVERALL TARGET'!AU$127,\"\")","v":""},{"$f":"IFERROR(AV22/'OVERALL TARGET'!AV$127,\"\")","v":""},{"$f":"IFERROR(AW22/'OVERALL TARGET'!AW$127,\"\")","v":""},{"$f":"IFERROR(AX22/'OVERALL TARGET'!AX$127,\"\")","v":""},{"$f":"IFERROR(AY22/'OVERALL TARGET'!AY$127,\"\")","v":""},{"$f":"IFERROR(AZ22/'OVERALL TARGET'!AZ$127,\"\")","v":""},{"$f":"IFERROR(BA22/'OVERALL TARGET'!BA$127,\"\")","v":""},{"$f":"IFERROR(BB22/'OVERALL TARGET'!BB$127,\"\")","v":""},{"$f":"IFERROR(BC22/'OVERALL TARGET'!BC$127,\"\")","v":""},{"$f":"IFERROR(BD22/'OVERALL TARGET'!BD$127,\"\")","v":""},{"$f":"IFERROR(BE22/'OVERALL TARGET'!BE$127,\"\")","v":""},{"$f":"IFERROR(BF22/'OVERALL TARGET'!BF$127,\"\")","v":""},{"$f":"IFERROR(BG22/'OVERALL TARGET'!BG$127,\"\")","v":""},{"$f":"IFERROR(BH22/'OVERALL TARGET'!BH$127,\"\")","v":""},{"$f":"IFERROR(BI22/'OVERALL TARGET'!BI$127,\"\")","v":""},{"$f":"IFERROR(BJ22/'OVERALL TARGET'!BJ$127,\"\")","v":""},{"$f":"IFERROR(BK22/'OVERALL TARGET'!BK$127,\"\")","v":""},{"$f":"IFERROR(BL22/'OVERALL TARGET'!BL$127,\"\")","v":""},{"$f":"IFERROR(BM22/'OVERALL TARGET'!BM$127,\"\")","v":""},{"$f":"IFERROR(BN22/'OVERALL TARGET'!BN$127,\"\")","v":""},{"$f":"IFERROR(BO22/'OVERALL TARGET'!BO$127,\"\")","v":""},{"$f":"IFERROR(BP22/'OVERALL TARGET'!BP$127,\"\")","v":""},null,null,null,null,null,null,null,null,null,null,null,null,null,null,null,null,null,null,null,null,null,null,null,null,null,null,null,null,null,null,null,null,null,null,null,null,null,null,null,null,null,null,null,null,null,null,null,null,null,null,null,null,null,null,null,"RA600","ENERGUSE","GFC_E_OTA","_Z","_Z","_Z","_Z","_Z","NUMBER","_Z","PC",null,"nrg_ind_rftce","TIMESERIES","RA600","GFC_E_OTA","_Z","PC","Agg.=[SUM(Countries Row 22)/SUM(Countries OVERALL TARGET Row 127)]*100"]
[null,"Of which from aerothermal and hydrothermal heat pumps (excluding geothermal heat pumps)",null,null,null,null,null,null,null,null,null,null,null,null,null,null,null,null,null,null,null,{"$f":"IFERROR(V23/'OVERALL TARGET'!V$127,\"\")","v":""},{"$f":"IFERROR(W23/'OVERALL TARGET'!W$127,\"\")","v":""},{"$f":"IFERROR(X23/'OVERALL TARGET'!X$127,\"\")","v":""},{"$f":"IFERROR(Y23/'OVERALL TARGET'!Y$127,\"\")","v":""},{"$f":"IFERROR(Z23/'OVERALL TARGET'!Z$127,\"\")","v":""},{"$f":"IFERROR(AA23/'OVERALL TARGET'!AA$127,\"\")","v":""},{"$f":"IFERROR(AB23/'OVERALL TARGET'!AB$127,\"\")","v":""},{"$f":"IFERROR(AC23/'OVERALL TARGET'!AC$127,\"\")","v":""},{"$f":"IFERROR(AD23/'OVERALL TARGET'!AD$127,\"\")","v":""},{"$f":"IFERROR(AE23/'OVERALL TARGET'!AE$127,\"\")","v":""},{"$f":"IFERROR(AF23/'OVERALL TARGET'!AF$127,\"\")","v":""},{"$f":"IFERROR(AG23/'OVERALL TARGET'!AG$127,\"\")","v":""},{"$f":"IFERROR(AH23/'OVERALL TARGET'!AH$127,\"\")","v":""},{"$f":"IFERROR(AI23/'OVERALL TARGET'!AI$127,\"\")","v":""},{"$f":"IFERROR(AJ23/'OVERALL TARGET'!AJ$127,\"\")","v":""},{"$f":"IFERROR(AK23/'OVERALL TARGET'!AK$127,\"\")","v":""},{"$f":"IFERROR(AL23/'OVERALL TARGET'!AL$127,\"\")","v":""},{"$f":"IFERROR(AM23/'OVERALL TARGET'!AM$127,\"\")","v":""},{"$f":"IFERROR(AN23/'OVERALL TARGET'!AN$127,\"\")","v":""},{"$f":"IFERROR(AO23/'OVERALL TARGET'!AO$127,\"\")","v":""},{"$f":"IFERROR(AP23/'OVERALL TARGET'!AP$127,\"\")","v":""},{"$f":"IFERROR(AQ23/'OVERALL TARGET'!AQ$127,\"\")","v":""},{"$f":"IFERROR(AR23/'OVERALL TARGET'!AR$127,\"\")","v":""},{"$f":"IFERROR(AS23/'OVERALL TARGET'!AS$127,\"\")","v":""},{"$f":"IFERROR(AT23/'OVERALL TARGET'!AT$127,\"\")","v":""},{"$f":"IFERROR(AU23/'OVERALL TARGET'!AU$127,\"\")","v":""},{"$f":"IFERROR(AV23/'OVERALL TARGET'!AV$127,\"\")","v":""},{"$f":"IFERROR(AW23/'OVERALL TARGET'!AW$127,\"\")","v":""},{"$f":"IFERROR(AX23/'OVERALL TARGET'!AX$127,\"\")","v":""},{"$f":"IFERROR(AY23/'OVERALL TARGET'!AY$127,\"\")","v":""},{"$f":"IFERROR(AZ23/'OVERALL TARGET'!AZ$127,\"\")","v":""},{"$f":"IFERROR(BA23/'OVERALL TARGET'!BA$127,\"\")","v":""},{"$f":"IFERROR(BB23/'OVERALL TARGET'!BB$127,\"\")","v":""},{"$f":"IFERROR(BC23/'OVERALL TARGET'!BC$127,\"\")","v":""},{"$f":"IFERROR(BD23/'OVERALL TARGET'!BD$127,\"\")","v":""},{"$f":"IFERROR(BE23/'OVERALL TARGET'!BE$127,\"\")","v":""},{"$f":"IFERROR(BF23/'OVERALL TARGET'!BF$127,\"\")","v":""},{"$f":"IFERROR(BG23/'OVERALL TARGET'!BG$127,\"\")","v":""},{"$f":"IFERROR(BH23/'OVERALL TARGET'!BH$127,\"\")","v":""},{"$f":"IFERROR(BI23/'OVERALL TARGET'!BI$127,\"\")","v":""},{"$f":"IFERROR(BJ23/'OVERALL TARGET'!BJ$127,\"\")","v":""},{"$f":"IFERROR(BK23/'OVERALL TARGET'!BK$127,\"\")","v":""},{"$f":"IFERROR(BL23/'OVERALL TARGET'!BL$127,\"\")","v":""},{"$f":"IFERROR(BM23/'OVERALL TARGET'!BM$127,\"\")","v":""},{"$f":"IFERROR(BN23/'OVERALL TARGET'!BN$127,\"\")","v":""},{"$f":"IFERROR(BO23/'OVERALL TARGET'!BO$127,\"\")","v":""},{"$f":"IFERROR(BP23/'OVERALL TARGET'!BP$127,\"\")","v":""},null,null,null,null,null,null,null,null,null,null,null,null,null,null,null,null,null,null,null,null,null,null,null,null,null,null,null,null,null,null,null,null,null,null,null,null,null,null,null,null,null,null,null,null,null,null,null,null,null,null,null,null,null,null,null,"RA620","ENERGUSE","GFC_E_OTA","_Z","_Z","_Z","_Z","_Z","NUMBER","_Z","PC",null,"nrg_ind_rftce","TIMESERIES","RA620","GFC_E_OTA","_Z","PC","Agg.=[SUM(Countries Row 23)/SUM(Countries OVERALL TARGET Row 127)]*100"]
[null,"Of which from geothermal energy using heat pumps",null,null,null,null,null,null,null,null,null,null,null,null,null,null,null,null,null,null,null,{"$f":"IFERROR(V24/'OVERALL TARGET'!V$127,\"\")","v":""},{"$f":"IFERROR(W24/'OVERALL TARGET'!W$127,\"\")","v":""},{"$f":"IFERROR(X24/'OVERALL TARGET'!X$127,\"\")","v":""},{"$f":"IFERROR(Y24/'OVERALL TARGET'!Y$127,\"\")","v":""},{"$f":"IFERROR(Z24/'OVERALL TARGET'!Z$127,\"\")","v":""},{"$f":"IFERROR(AA24/'OVERALL TARGET'!AA$127,\"\")","v":""},{"$f":"IFERROR(AB24/'OVERALL TARGET'!AB$127,\"\")","v":""},{"$f":"IFERROR(AC24/'OVERALL TARGET'!AC$127,\"\")","v":""},{"$f":"IFERROR(AD24/'OVERALL TARGET'!AD$127,\"\")","v":""},{"$f":"IFERROR(AE24/'OVERALL TARGET'!AE$127,\"\")","v":""},{"$f":"IFERROR(AF24/'OVERALL TARGET'!AF$127,\"\")","v":""},{"$f":"IFERROR(AG24/'OVERALL TARGET'!AG$127,\"\")","v":""},{"$f":"IFERROR(AH24/'OVERALL TARGET'!AH$127,\"\")","v":""},{"$f":"IFERROR(AI24/'OVERALL TARGET'!AI$127,\"\")","v":""},{"$f":"IFERROR(AJ24/'OVERALL TARGET'!AJ$127,\"\")","v":""},{"$f":"IFERROR(AK24/'OVERALL TARGET'!AK$127,\"\")","v":""},{"$f":"IFERROR(AL24/'OVERALL TARGET'!AL$127,\"\")","v":""},{"$f":"IFERROR(AM24/'OVERALL TARGET'!AM$127,\"\")","v":""},{"$f":"IFERROR(AN24/'OVERALL TARGET'!AN$127,\"\")","v":""},{"$f":"IFERROR(AO24/'OVERALL TARGET'!AO$127,\"\")","v":""},{"$f":"IFERROR(AP24/'OVERALL TARGET'!AP$127,\"\")","v":""},{"$f":"IFERROR(AQ24/'OVERALL TARGET'!AQ$127,\"\")","v":""},{"$f":"IFERROR(AR24/'OVERALL TARGET'!AR$127,\"\")","v":""},{"$f":"IFERROR(AS24/'OVERALL TARGET'!AS$127,\"\")","v":""},{"$f":"IFERROR(AT24/'OVERALL TARGET'!AT$127,\"\")","v":""},{"$f":"IFERROR(AU24/'OVERALL TARGET'!AU$127,\"\")","v":""},{"$f":"IFERROR(AV24/'OVERALL TARGET'!AV$127,\"\")","v":""},{"$f":"IFERROR(AW24/'OVERALL TARGET'!AW$127,\"\")","v":""},{"$f":"IFERROR(AX24/'OVERALL TARGET'!AX$127,\"\")","v":""},{"$f":"IFERROR(AY24/'OVERALL TARGET'!AY$127,\"\")","v":""},{"$f":"IFERROR(AZ24/'OVERALL TARGET'!AZ$127,\"\")","v":""},{"$f":"IFERROR(BA24/'OVERALL TARGET'!BA$127,\"\")","v":""},{"$f":"IFERROR(BB24/'OVERALL TARGET'!BB$127,\"\")","v":""},{"$f":"IFERROR(BC24/'OVERALL TARGET'!BC$127,\"\")","v":""},{"$f":"IFERROR(BD24/'OVERALL TARGET'!BD$127,\"\")","v":""},{"$f":"IFERROR(BE24/'OVERALL TARGET'!BE$127,\"\")","v":""},{"$f":"IFERROR(BF24/'OVERALL TARGET'!BF$127,\"\")","v":""},{"$f":"IFERROR(BG24/'OVERALL TARGET'!BG$127,\"\")","v":""},{"$f":"IFERROR(BH24/'OVERALL TARGET'!BH$127,\"\")","v":""},{"$f":"IFERROR(BI24/'OVERALL TARGET'!BI$127,\"\")","v":""},{"$f":"IFERROR(BJ24/'OVERALL TARGET'!BJ$127,\"\")","v":""},{"$f":"IFERROR(BK24/'OVERALL TARGET'!BK$127,\"\")","v":""},{"$f":"IFERROR(BL24/'OVERALL TARGET'!BL$127,\"\")","v":""},{"$f":"IFERROR(BM24/'OVERALL TARGET'!BM$127,\"\")","v":""},{"$f":"IFERROR(BN24/'OVERALL TARGET'!BN$127,\"\")","v":""},{"$f":"IFERROR(BO24/'OVERALL TARGET'!BO$127,\"\")","v":""},{"$f":"IFERROR(BP24/'OVERALL TARGET'!BP$127,\"\")","v":""},null,null,null,null,null,null,null,null,null,null,null,null,null,null,null,null,null,null,null,null,null,null,null,null,null,null,null,null,null,null,null,null,null,null,null,null,null,null,null,null,null,null,null,null,null,null,null,null,null,null,null,null,null,null,null,"RA610","ENERGUSE","GFC_E_OTA","_Z","_Z","_Z","_Z","_Z","NUMBER","_Z","PC",null,"nrg_ind_rftce","TIMESERIES","RA610","GFC_E_OTA","_Z","PC","Agg.=[SUM(Countries Row 24)/SUM(Countries OVERALL TARGET Row 127)]*100"]
["Renewable cooling",null,null,null,null,null,null,null,null,null,null,null,null,null,null,null,null,null,null,null,null,{"$f":"IFERROR(V25/'OVERALL TARGET'!V$127,\"\")","v":""},{"$f":"IFERROR(W25/'OVERALL TARGET'!W$127,\"\")","v":""},{"$f":"IFERROR(X25/'OVERALL TARGET'!X$127,\"\")","v":""},{"$f":"IFERROR(Y25/'OVERALL TARGET'!Y$127,\"\")","v":""},{"$f":"IFERROR(Z25/'OVERALL TARGET'!Z$127,\"\")","v":""},{"$f":"IFERROR(AA25/'OVERALL TARGET'!AA$127,\"\")","v":""},{"$f":"IFERROR(AB25/'OVERALL TARGET'!AB$127,\"\")","v":""},{"$f":"IFERROR(AC25/'OVERALL TARGET'!AC$127,\"\")","v":""},{"$f":"IFERROR(AD25/'OVERALL TARGET'!AD$127,\"\")","v":""},{"$f":"IFERROR(AE25/'OVERALL TARGET'!AE$127,\"\")","v":""},{"$f":"IFERROR(AF25/'OVERALL TARGET'!AF$127,\"\")","v":""},{"$f":"IFERROR(AG25/'OVERALL TARGET'!AG$127,\"\")","v":""},{"$f":"IFERROR(AH25/'OVERALL TARGET'!AH$127,\"\")","v":""},{"$f":"IFERROR(AI25/'OVERALL TARGET'!AI$127,\"\")","v":""},{"$f":"IFERROR(AJ25/'OVERALL TARGET'!AJ$127,\"\")","v":""},{"$f":"IFERROR(AK25/'OVERALL TARGET'!AK$127,\"\")","v":""},{"$f":"IFERROR(AL25/'OVERALL TARGET'!AL$127,\"\")","v":""},{"$f":"IFERROR(AM25/'OVERALL TARGET'!AM$127,\"\")","v":""},{"$f":"IFERROR(AN25/'OVERALL TARGET'!AN$127,\"\")","v":""},{"$f":"IFERROR(AO25/'OVERALL TARGET'!AO$127,\"\")","v":""},{"$f":"IFERROR(AP25/'OVERALL TARGET'!AP$127,\"\")","v":""},{"$f":"IFERROR(AQ25/'OVERALL TARGET'!AQ$127,\"\")","v":""},{"$f":"IFERROR(AR25/'OVERALL TARGET'!AR$127,\"\")","v":""},{"$f":"IFERROR(AS25/'OVERALL TARGET'!AS$127,\"\")","v":""},{"$f":"IFERROR(AT25/'OVERALL TARGET'!AT$127,\"\")","v":""},{"$f":"IFERROR(AU25/'OVERALL TARGET'!AU$127,\"\")","v":""},{"$f":"IFERROR(AV25/'OVERALL TARGET'!AV$127,\"\")","v":""},{"$f":"IFERROR(AW25/'OVERALL TARGET'!AW$127,\"\")","v":""},{"$f":"IFERROR(AX25/'OVERALL TARGET'!AX$127,\"\")","v":""},{"$f":"IFERROR(AY25/'OVERALL TARGET'!AY$127,\"\")","v":""},{"$f":"IFERROR(AZ25/'OVERALL TARGET'!AZ$127,\"\")","v":""},{"$f":"IFERROR(BA25/'OVERALL TARGET'!BA$127,\"\")","v":""},{"$f":"IFERROR(BB25/'OVERALL TARGET'!BB$127,\"\")","v":""},{"$f":"IFERROR(BC25/'OVERALL TARGET'!BC$127,\"\")","v":""},{"$f":"IFERROR(BD25/'OVERALL TARGET'!BD$127,\"\")","v":""},{"$f":"IFERROR(BE25/'OVERALL TARGET'!BE$127,\"\")","v":""},{"$f":"IFERROR(BF25/'OVERALL TARGET'!BF$127,\"\")","v":""},{"$f":"IFERROR(BG25/'OVERALL TARGET'!BG$127,\"\")","v":""},{"$f":"IFERROR(BH25/'OVERALL TARGET'!BH$127,\"\")","v":""},{"$f":"IFERROR(BI25/'OVERALL TARGET'!BI$127,\"\")","v":""},{"$f":"IFERROR(BJ25/'OVERALL TARGET'!BJ$127,\"\")","v":""},{"$f":"IFERROR(BK25/'OVERALL TARGET'!BK$127,\"\")","v":""},{"$f":"IFERROR(BL25/'OVERALL TARGET'!BL$127,\"\")","v":""},{"$f":"IFERROR(BM25/'OVERALL TARGET'!BM$127,\"\")","v":""},{"$f":"IFERROR(BN25/'OVERALL TARGET'!BN$127,\"\")","v":""},{"$f":"IFERROR(BO25/'OVERALL TARGET'!BO$127,\"\")","v":""},{"$f":"IFERROR(BP25/'OVERALL TARGET'!BP$127,\"\")","v":""},null,null,null,null,null,null,null,null,null,null,null,null,null,null,null,null,null,null,null,null,null,null,null,null,null,null,null,null,null,null,null,null,null,null,null,null,null,null,null,null,null,null,null,null,null,null,null,null,null,null,null,null,null,null,null,"RA700","ENERGUSE","GFC_E_OTA","_Z","_Z","_Z","_Z","_Z","NUMBER","_Z","PC",null,"nrg_ind_rftce","TIMESERIES","RA700","GFC_E_OTA","_Z","PC","Agg.=[SUM(Countries Row 25)/SUM(Countries OVERALL TARGET Row 127)]*100"]
["Statistical transfers, joint projects and joint suport schemes - total amount to be added",null,null,null,null,null,null,null,null,null,null,null,null,null,null,null,null,null,null,null,null,{"$f":"IFERROR(V26/'OVERALL TARGET'!V$127,\"\")","v":""},{"$f":"IFERROR(W26/'OVERALL TARGET'!W$127,\"\")","v":""},{"$f":"IFERROR(X26/'OVERALL TARGET'!X$127,\"\")","v":""},{"$f":"IFERROR(Y26/'OVERALL TARGET'!Y$127,\"\")","v":""},{"$f":"IFERROR(Z26/'OVERALL TARGET'!Z$127,\"\")","v":""},{"$f":"IFERROR(AA26/'OVERALL TARGET'!AA$127,\"\")","v":""},{"$f":"IFERROR(AB26/'OVERALL TARGET'!AB$127,\"\")","v":""},{"$f":"IFERROR(AC26/'OVERALL TARGET'!AC$127,\"\")","v":""},{"$f":"IFERROR(AD26/'OVERALL TARGET'!AD$127,\"\")","v":""},{"$f":"IFERROR(AE26/'OVERALL TARGET'!AE$127,\"\")","v":""},{"$f":"IFERROR(AF26/'OVERALL TARGET'!AF$127,\"\")","v":""},{"$f":"IFERROR(AG26/'OVERALL TARGET'!AG$127,\"\")","v":""},{"$f":"IFERROR(AH26/'OVERALL TARGET'!AH$127,\"\")","v":""},{"$f":"IFERROR(AI26/'OVERALL TARGET'!AI$127,\"\")","v":""},{"$f":"IFERROR(AJ26/'OVERALL TARGET'!AJ$127,\"\")","v":""},{"$f":"IFERROR(AK26/'OVERALL TARGET'!AK$127,\"\")","v":""},{"$f":"IFERROR(AL26/'OVERALL TARGET'!AL$127,\"\")","v":""},{"$f":"IFERROR(AM26/'OVERALL TARGET'!AM$127,\"\")","v":""},{"$f":"IFERROR(AN26/'OVERALL TARGET'!AN$127,\"\")","v":""},{"$f":"IFERROR(AO26/'OVERALL TARGET'!AO$127,\"\")","v":""},{"$f":"IFERROR(AP26/'OVERALL TARGET'!AP$127,\"\")","v":""},{"$f":"IFERROR(AQ26/'OVERALL TARGET'!AQ$127,\"\")","v":""},{"$f":"IFERROR(AR26/'OVERALL TARGET'!AR$127,\"\")","v":""},{"$f":"IFERROR(AS26/'OVERALL TARGET'!AS$127,\"\")","v":""},{"$f":"IFERROR(AT26/'OVERALL TARGET'!AT$127,\"\")","v":""},{"$f":"IFERROR(AU26/'OVERALL TARGET'!AU$127,\"\")","v":""},{"$f":"IFERROR(AV26/'OVERALL TARGET'!AV$127,\"\")","v":""},{"$f":"IFERROR(AW26/'OVERALL TARGET'!AW$127,\"\")","v":""},{"$f":"IFERROR(AX26/'OVERALL TARGET'!AX$127,\"\")","v":""},{"$f":"IFERROR(AY26/'OVERALL TARGET'!AY$127,\"\")","v":""},{"$f":"IFERROR(AZ26/'OVERALL TARGET'!AZ$127,\"\")","v":""},{"$f":"IFERROR(BA26/'OVERALL TARGET'!BA$127,\"\")","v":""},{"$f":"IFERROR(BB26/'OVERALL TARGET'!BB$127,\"\")","v":""},{"$f":"IFERROR(BC26/'OVERALL TARGET'!BC$127,\"\")","v":""},{"$f":"IFERROR(BD26/'OVERALL TARGET'!BD$127,\"\")","v":""},{"$f":"IFERROR(BE26/'OVERALL TARGET'!BE$127,\"\")","v":""},{"$f":"IFERROR(BF26/'OVERALL TARGET'!BF$127,\"\")","v":""},{"$f":"IFERROR(BG26/'OVERALL TARGET'!BG$127,\"\")","v":""},{"$f":"IFERROR(BH26/'OVERALL TARGET'!BH$127,\"\")","v":""},{"$f":"IFERROR(BI26/'OVERALL TARGET'!BI$127,\"\")","v":""},{"$f":"IFERROR(BJ26/'OVERALL TARGET'!BJ$127,\"\")","v":""},{"$f":"IFERROR(BK26/'OVERALL TARGET'!BK$127,\"\")","v":""},{"$f":"IFERROR(BL26/'OVERALL TARGET'!BL$127,\"\")","v":""},{"$f":"IFERROR(BM26/'OVERALL TARGET'!BM$127,\"\")","v":""},{"$f":"IFERROR(BN26/'OVERALL TARGET'!BN$127,\"\")","v":""},{"$f":"IFERROR(BO26/'OVERALL TARGET'!BO$127,\"\")","v":""},{"$f":"IFERROR(BP26/'OVERALL TARGET'!BP$127,\"\")","v":""},null,null,null,null,null,null,null,null,null,null,null,null,null,null,null,null,null,null,null,null,null,null,null,null,null,null,null,null,null,null,null,null,null,null,null,null,null,null,null,null,null,null,null,null,null,null,null,null,null,null,null,null,null,null,null,"RA010","ENERGUSE","GFC_E_OTA","_Z","_Z","_Z","_Z","_Z","NUMBER","_Z","PC",null,"nrg_ind_rftce","TIMESERIES","RA010","GFC_E_OTA","_Z","PC","Agg.=[SUM(Countries Row 26)/SUM(Countries OVERALL TARGET Row 127)]*100"]
["Statistical transfers, joint projects and joint suport schemes - total amount to be deduced",null,null,null,null,null,null,null,null,null,null,null,null,null,null,null,null,null,null,null,null,{"$f":"IFERROR(V27/'OVERALL TARGET'!V$127,\"\")","v":""},{"$f":"IFERROR(W27/'OVERALL TARGET'!W$127,\"\")","v":""},{"$f":"IFERROR(X27/'OVERALL TARGET'!X$127,\"\")","v":""},{"$f":"IFERROR(Y27/'OVERALL TARGET'!Y$127,\"\")","v":""},{"$f":"IFERROR(Z27/'OVERALL TARGET'!Z$127,\"\")","v":""},{"$f":"IFERROR(AA27/'OVERALL TARGET'!AA$127,\"\")","v":""},{"$f":"IFERROR(AB27/'OVERALL TARGET'!AB$127,\"\")","v":""},{"$f":"IFERROR(AC27/'OVERALL TARGET'!AC$127,\"\")","v":""},{"$f":"IFERROR(AD27/'OVERALL TARGET'!AD$127,\"\")","v":""},{"$f":"IFERROR(AE27/'OVERALL TARGET'!AE$127,\"\")","v":""},{"$f":"IFERROR(AF27/'OVERALL TARGET'!AF$127,\"\")","v":""},{"$f":"IFERROR(AG27/'OVERALL TARGET'!AG$127,\"\")","v":""},{"$f":"IFERROR(AH27/'OVERALL TARGET'!AH$127,\"\")","v":""},{"$f":"IFERROR(AI27/'OVERALL TARGET'!AI$127,\"\")","v":""},{"$f":"IFERROR(AJ27/'OVERALL TARGET'!AJ$127,\"\")","v":""},{"$f":"IFERROR(AK27/'OVERALL TARGET'!AK$127,\"\")","v":""},{"$f":"IFERROR(AL27/'OVERALL TARGET'!AL$127,\"\")","v":""},{"$f":"IFERROR(AM27/'OVERALL TARGET'!AM$127,\"\")","v":""},{"$f":"IFERROR(AN27/'OVERALL TARGET'!AN$127,\"\")","v":""},{"$f":"IFERROR(AO27/'OVERALL TARGET'!AO$127,\"\")","v":""},{"$f":"IFERROR(AP27/'OVERALL TARGET'!AP$127,\"\")","v":""},{"$f":"IFERROR(AQ27/'OVERALL TARGET'!AQ$127,\"\")","v":""},{"$f":"IFERROR(AR27/'OVERALL TARGET'!AR$127,\"\")","v":""},{"$f":"IFERROR(AS27/'OVERALL TARGET'!AS$127,\"\")","v":""},{"$f":"IFERROR(AT27/'OVERALL TARGET'!AT$127,\"\")","v":""},{"$f":"IFERROR(AU27/'OVERALL TARGET'!AU$127,\"\")","v":""},{"$f":"IFERROR(AV27/'OVERALL TARGET'!AV$127,\"\")","v":""},{"$f":"IFERROR(AW27/'OVERALL TARGET'!AW$127,\"\")","v":""},{"$f":"IFERROR(AX27/'OVERALL TARGET'!AX$127,\"\")","v":""},{"$f":"IFERROR(AY27/'OVERALL TARGET'!AY$127,\"\")","v":""},{"$f":"IFERROR(AZ27/'OVERALL TARGET'!AZ$127,\"\")","v":""},{"$f":"IFERROR(BA27/'OVERALL TARGET'!BA$127,\"\")","v":""},{"$f":"IFERROR(BB27/'OVERALL TARGET'!BB$127,\"\")","v":""},{"$f":"IFERROR(BC27/'OVERALL TARGET'!BC$127,\"\")","v":""},{"$f":"IFERROR(BD27/'OVERALL TARGET'!BD$127,\"\")","v":""},{"$f":"IFERROR(BE27/'OVERALL TARGET'!BE$127,\"\")","v":""},{"$f":"IFERROR(BF27/'OVERALL TARGET'!BF$127,\"\")","v":""},{"$f":"IFERROR(BG27/'OVERALL TARGET'!BG$127,\"\")","v":""},{"$f":"IFERROR(BH27/'OVERALL TARGET'!BH$127,\"\")","v":""},{"$f":"IFERROR(BI27/'OVERALL TARGET'!BI$127,\"\")","v":""},{"$f":"IFERROR(BJ27/'OVERALL TARGET'!BJ$127,\"\")","v":""},{"$f":"IFERROR(BK27/'OVERALL TARGET'!BK$127,\"\")","v":""},{"$f":"IFERROR(BL27/'OVERALL TARGET'!BL$127,\"\")","v":""},{"$f":"IFERROR(BM27/'OVERALL TARGET'!BM$127,\"\")","v":""},{"$f":"IFERROR(BN27/'OVERALL TARGET'!BN$127,\"\")","v":""},{"$f":"IFERROR(BO27/'OVERALL TARGET'!BO$127,\"\")","v":""},{"$f":"IFERROR(BP27/'OVERALL TARGET'!BP$127,\"\")","v":""},null,null,null,null,null,null,null,null,null,null,null,null,null,null,null,null,null,null,null,null,null,null,null,null,null,null,null,null,null,null,null,null,null,null,null,null,null,null,null,null,null,null,null,null,null,null,null,null,null,null,null,null,null,null,null,"RA020","ENERGUSE","GFC_E_OTA","_Z","_Z","_Z","_Z","_Z","NUMBER","_Z","PC",null,"nrg_ind_rftce","TIMESERIES","RA020","GFC_E_OTA","_Z","PC","Agg.=[SUM(Countries Row 27)/SUM(Countries OVERALL TARGET Row 127)]*100"]
[]
[]
[]
[]
[]
[]
[]
[]
[]
[]
[]
[]
[]
[]
[]
[]
[]
[]
[]
[]
[]
[]
[]
[]
[]
[]
[]
[]
[]
[]
[]
[]
[]
[]
[]
[]
[]
[]
[]
[]
[]
[]
[]
[]
[]
[]
[]
[]
[]
[]
[]
[]
[]
[]
[]
[]
[]
[]
[]
[]
[]
[]
[]
[]
[]
[]
[]
[]
[]
[]
[]
[]
[]
[]
[]
[]
[]
[]
[]
[]
[]
[]
[]
[]
[]
[]
[]
[]
[]
[]
[]
[]
[]
[]
[]
[]
[]
[]
[]
[]
[]
[]
[]
[]
[]
[]
[]
[]
[]
[]
[]
[]
[]
[]
[]
[]
[]
[]
[]
[]
[]
[]
[]
[]
[]
[]
[]
[]
[]
[]
[]
[]
[]
[]
[]
[]
[]
[]
[]
[]
[]
[]
[]
[]
[]
[]
[]
[]
[]
[]
[]
[]
[]
[]
[]
[]
[]
[]
[]
[]
[]
[]
[]
[]
[]
[]
[]
[]
[]
[]
[]
[]
[]
[]
[]
[]
[]
[]
[]
[]
[]
[]
[]
[]
[]
[]
[]
[]
[]
[]
[]
[]
[]
[]
[]
[]
[]
[]
[]
[]
[]
[]
[]
[]
[]
[]
[]
[]
[]
[]
[]
[]
[]
[]
[]
[]
[]
[]
[]
[]
[]
[]
[]
[]
[]
[]
[]
[]
[]
[]
[]
[]
[]
[]
[]
[]
[]
[]
[]
[]
[]
[]
[]
[]
[]
[]
[]
[]
[]
[]
[]
[]
[]
[]
[]
[]
[]
[]
[]
[]
[]
[]
[]
[]
[]
[]
[]
[]
[]
[]
[]
[]
[]
[]
[]
[]
[]
[]
[]
[]
[]
[]
[]
[]
[]
[]
[]
[]
[]
[]
[]
[]
[]
[]
[]
[]
[]
[]
[]
[]
[]
[]
[]
[]
[]
[]
[]
[]
[]
[]
[]
[]
[]
[]
[]
[]
[]
[]
[]
[]
[]
[]
[]
[]
[]
[]
[]
[]
[]
[]
[]
[]
[]
[]
[]
[]
[]
[]
[]
[]
[]
[]
[]
[]
[]
[]
[]
[]
[]
[]
[]
[]
[]
[]
[]
[]
[]
[]
[]
[]
[]
[]
[]
[]
[]
[]
[]
[]
[]
[]
[]
[]
[]
[]
[]
[]
[]
[]
[]
[]
[]
[]
[]
[]
[]
[]
[]
[]
[]
[]
[]
[]
[]
[]
[]
[]
[]
[]
[]
[]
[]
[]
[]
[]
[]
[]
[]
[]
[]
[]
[]
[]
[]
[]
[]
[]
[]
[]
[]
[]
[]
[]
[]
[]
[]
[]
[]
[]
[]
[]
[]
[]
[]
[]
[]
[]
[]
[]
[]
[]
[]
[]
[]
[]
[]
[]
[]
[]
[]
[]
[]
[]
[]
[]
[]
[]
[]
[]
[]
[]
[]
[]
[]
[]
[]
[]
[]
[]
[]
[]
[]
[]
[]
[]
[]
[]
[]
[]
[]
[]
[]
[]
[]
[]
[]
[]
[]
[]
[]
[]
[]
[]
[]
[]
[]
[]
[]
[]
[]
[]
[]
[]
[]
[]
[]
[]
[]
[]
[]
[]
[]
[]
[]
[]
[]
[]
[]
[]
[]
[]
[]
[]
[]
[]
[]
[]
[]
[]
[]
[]
[]
[]
[]
[]
[]
[]
[]
[]
[]
[]
[]
[]
[]
[]
[]
[]
[]
[]
[]
[]
[]
[]
[]
[]
[]
[]
[]
[]
[]
[]
[]
[]
[]
[]
[]
[]
[]
[]
[]
[]
[]
[]
[]
[]
[]
[]
[]
[]
[]
[]
[]
[]
[]
[]
[]
[]
[]
[]
[]
[]
[]
[]
[]
[]
[]
[]
[]
[]
[]
[]
[]
[]
[]
[]
[]
[]
[]
[]
[]
[]
[]
[]
[]
[]
[]
[]
[]
[]
[]
[]
[]
[]
[]
[]
[]
[]
[]
[]
[]
[]
[]
[]
[]
[]
[]
[]
[]
[]
[]
[]
[]
[]
[]
[]
[]
[]
[]
[]
[]
[]
[]
[]
[]
[]
[]
[]
[]
[]
[]
[]
[]
[]
[]
[]
[]
[]
[]
[]
[]
[]
[]
[]
[]
[]
[]
[]
[]
[]
[]
[]
[]
[]
[]
[]
[]
[]
[]
[]
[]
[]
[]
[]
[]
[]
[]
[]
[]
[]
[]
[]
[]
[]
[]
[]
[]
[]
[]
[]
[]
[]
[]
[]
[]
[]
[]
[]
[]
[]
[]
[]
[]
[]
[]
[]
[]
[]
[]
[]
[]
[]
[]
[]
[]
[]
[]
[]
[]
[]
[]
[]
[]
[]
[]
[]
[]
[]
[]
[]
[]
[]
[]
[]
[]
[]
[]
[]
[]
[]
[]
[]
[]
[]
[]
[]
[]
[]
[]
[]
[]
[]
[]
[]
[]
[]
[]
[]
[]
[]
[]
[]
[]
[]
[]
[]
[]
[]
[]
[]
[]
[]
[]
[]
[]
[]
[]
[]
[]
[]
[]
[]
[]
[]
[]
[]
[]
[]
[]
[]
[]
[]
[]
[]
[]
[]
[]
[]
[]
[]
[]
[]
[]
[]
[]
[]
[]
[]
[]
[]
[]
[]
[]
[]
[]
[]
[]
[]
[]
[]
[]
[]
[]
[]
[]
[]
[]
[]
[]
[]
[]
[]
[]
[]
[]
[]
[]
[]
[]
[]
[]
[]
[]
[]
[]
[]
[]
[]
[]
[]
[]
[]
[]
[]
[]
[]
[]
[]
[]
[]
[]
[]
[]
[]
[]
[]
[]
[]
[]
[]
[]
[]
[]
[]
[]
[]
[]
[]
[]
[]
[]
[]
[]
[]
[]
[]
[]
[]
[]
[]
[]
[]
[]
[]
[]
[]
[]
[]
[]
[]
[]
[]
[]
[]
[null,null,null,null,null,null,null,null,null,null,null,null,null,null,null,null,null,null,null,null,null,null,null,null,null,null,null,null,null,null,null,null,null,null,null,null,null,null,{"$f":"IF(AM5<=$H1001, AM5, \"\")","v":2021},{"$f":"IF(AN5<=$H1001, AN5, \"\")","v":2022},2023,2024,"","","","","","","","","","","","","","","","","","","","","","","","","",""]
[null,null,null,null,null,null,null,{"$f":"IF(MONTH(NOW())<7, YEAR(NOW())-2, YEAR(NOW())-1)","v":2024}]

{"sheet":"Parameter_mapping","index":14,"n_rows":12,"n_cols":2,"rows_kept":12,"cut":false,"hidden":false,"merged":[]}
["Data sheet","Parameter sheet"]
["TRANSPORT","Parameters"]
["OVERALL TARGET","Parameters"]
["HEAT PUMPS","Parameters"]
["RENEWABLE COOLING","Parameters"]
["STAT. TRANSFERS","Parameters"]
["COAL","Parameters"]
["OIL","Parameters"]
["GAS","Parameters"]
["ELE","Parameters"]
["REN","Parameters"]
["Fuels_GFCoE","Parameters"]

{"sheet":"Parameters","index":15,"n_rows":21,"n_cols":7,"rows_kept":21,"cut":false,"hidden":false,"merged":[]}
["Element","Type","PosType","Position",null,"DataStart","AM6"]
["QUEST_SOURCE","DIM","FIX","A_SHARES",null,"DataEnd","BP400"]
["FREQ","DIM","FIX","A",null,"SkipIncompleteKeys","true"]
["REF_AREA","DIM","FIX",{"$f":"VLOOKUP(MAIN!$D$9,MAIN!$H$103:$P$143,9,FALSE)","v":{"$error":"#N/A"}}]
["ENERGY_PRODUCT","DIM","COLUMN","DT"]
["MAIN_FLOW","DIM","COLUMN","DU"]
["FLOW_BREAKDOWN","DIM","COLUMN","DV"]
["PLANT_TECH","DIM","COLUMN","DW"]
["PLANT_TYPE","DIM","COLUMN","DX"]
["STOCKS","DIM","COLUMN","DY"]
["INFRASTRUCTURE_IND","DIM","COLUMN","DZ"]
["VIS_A_VIS_AREA","DIM","COLUMN","EA"]
["MEASURE_VALUE_TYPE","DIM","COLUMN","EB"]
["TIME_PERIOD","DIM","ROW",1000]
["FACILITY_ID","DIM","COLUMN","EC"]
["UNIT_MEASURE","DIM","COLUMN","ED"]
["OBS_STATUS","ATT","SKIP"]
["CONF_STATUS","ATT","SKIP"]
["COMMENT_OBS","ATT","SKIP"]
["FACILITY_TYPE","ATT","SKIP"]
["FACILITY_NAME","ATT","SKIP"]