{"text_format":"1","workbook":"xlsx","n_sheets":35,"sheets":["Historical_ISO","Historical_ISO_Period","Historical_SDMX","Historical_SDMX_Period","Historical","Input_ISO","Input_ISO_Period","Input_SDMX","Input_SDMX_Period","Entries","Output_ISO_csv","Output_SDMX_csv","Output_SDMX_long_complete","Mapping_Products_Flows","Parameters","Parameter_mapping","Logs","Mapping_countries","Param_Menu","Param_Questionnaire","Param_Multilanguage","Menu","Instructions","TemplateTable1","TemplateTS1","TemplateTS1_TOT","TemplateCalorific_Values","TemplateRemarks","TemplateRemarksTS","TemplateGraph","CheckReport","Param_Sheets","Param_Sheets_Templates","Param_Tables","Param_Tables_Templates"],"not_rendered":{"charts":1,"images":0,"macros":1,"external_links":0,"defined_names":55,"comments":0,"pivot_tables":1},"unopened":[],"bounds":{"document_bytes":16777216,"sheet_cells":100000,"rows_first":2000,"rows_last":500,"rows_between":2000,"halvings":0,"cell_chars":16384,"cell_head_chars":4096},"cells_cut":0,"cells_raw":0,"read":"whole","date_system":"1900"}

{"sheet":"Historical_ISO","index":0,"n_rows":1,"n_cols":11,"rows_kept":1,"cut":false,"hidden":true,"merged":[]}
["COUNTRY","QUEST","PRODUCT","DATATYPE","ITEM1","ITEM2","TIME","VALUE","OBSERVATION","CONFIDENTIALITY","Record"]

{"sheet":"Historical_ISO_Period","index":1,"n_rows":1,"n_cols":1,"rows_kept":1,"cut":false,"hidden":true,"merged":[]}
["TIME"]

{"sheet":"Historical_SDMX","index":2,"n_rows":2580,"n_cols":13,"rows_kept":2580,"cut":false,"hidden":true,"merged":[]}
["REF_AREA","DATAFLOW","PRODUCT","DATATYPE","ITEM1","ITEM2","TIME","VALUE","OBSERVATION","CONFIDENTIALITY","Record"]
[]
[null,null,null,null,null,null,null,null,null,null,null,"",""]
[null,null,null,null,null,null,null,null,null,null,null,"",""]
[null,null,null,null,null,null,null,null,null,null,null,"",""]
[null,null,null,null,null,null,null,null,null,null,null,"",""]
[null,null,null,null,null,null,null,null,null,null,null,"",""]
[null,null,null,null,null,null,null,null,null,null,null,"",""]
[null,null,null,null,null,null,null,null,null,null,null,"",""]
[null,null,null,null,null,null,null,null,null,null,null,"",""]
[null,null,null,null,null,null,null,null,null,null,null,"",""]
[null,null,null,null,null,null,null,null,null,null,null,"",""]
[null,null,null,null,null,null,null,null,null,null,null,"",""]
[null,null,null,null,null,null,null,null,null,null,null,"",""]
[null,null,null,null,null,null,null,null,null,null,null,"",""]
[null,null,null,null,null,null,null,null,null,null,null,"",""]
[null,null,null,null,null,null,null,null,null,null,null,"",""]
[null,null,null,null,null,null,null,null,null,null,null,"",""]
[null,null,null,null,null,null,null,null,null,null,null,"",""]
[null,null,null,null,null,null,null,null,null,null,null,"",""]
[null,null,null,null,null,null,null,null,null,null,null,"",""]
[null,null,null,null,null,null,null,null,null,null,null,"",""]
[null,null,null,null,null,null,null,null,null,null,null,"",""]
[null,null,null,null,null,null,null,null,null,null,null,"",""]
[null,null,null,null,null,null,null,null,null,null,null,"",""]
[null,null,null,null,null,null,null,null,null,null,null,"",""]
[null,null,null,null,null,null,null,null,null,null,null,"",""]
[null,null,null,null,null,null,null,null,null,null,null,"",""]
[null,null,null,null,null,null,null,null,null,null,null,"",""]
[null,null,null,null,null,null,null,null,null,null,null,"",""]
[null,null,null,null,null,null,null,null,null,null,null,"",""]
[null,null,null,null,null,null,null,null,null,null,null,"",""]
[null,null,null,null,null,null,null,null,null,null,null,"",""]
[null,null,null,null,null,null,null,null,null,null,null,"",""]
[null,null,null,null,null,null,null,null,null,null,null,"",""]
[null,null,null,null,null,null,null,null,null,null,null,"",""]
[null,null,null,null,null,null,null,null,null,null,null,"",""]
[null,null,null,null,null,null,null,null,null,null,null,"",""]
[null,null,null,null,null,null,null,null,null,null,null,"",""]
[null,null,null,null,null,null,null,null,null,null,null,"",""]
[null,null,null,null,null,null,null,null,null,null,null,"",""]
[null,null,null,null,null,null,null,null,null,null,null,"",""]
[null,null,null,null,null,null,null,null,null,null,null,"",""]
[null,null,null,null,null,null,null,null,null,null,null,"",""]
[null,null,null,null,null,null,null,null,null,null,null,"",""]
[null,null,null,null,null,null,null,null,null,null,null,"",""]
[null,null,null,null,null,null,null,null,null,null,null,"",""]
[null,null,null,null,null,null,null,null,null,null,null,"",""]
[null,null,null,null,null,null,null,null,null,null,null,"",""]
[null,null,null,null,null,null,null,null,null,null,null,"",""]
[null,null,null,null,null,null,null,null,null,null,null,"",""]
[null,null,null,null,null,null,null,null,null,null,null,"",""]
[null,null,null,null,null,null,null,null,null,null,null,"",""]
[null,null,null,null,null,null,null,null,null,null,null,"",""]
[null,null,null,null,null,null,null,null,null,null,null,"",""]
[null,null,null,null,null,null,null,null,null,null,null,"",""]
[null,null,null,null,null,null,null,null,null,null,null,"",""]
[null,null,null,null,null,null,null,null,null,null,null,"",""]
[null,null,null,null,null,null,null,null,null,null,null,"",""]
[null,null,null,null,null,null,null,null,null,null,null,"",""]
[null,null,null,null,null,null,null,null,null,null,null,"",""]
[null,null,null,null,null,null,null,null,null,null,null,"",""]
[null,null,null,null,null,null,null,null,null,null,null,"",""]
[null,null,null,null,null,null,null,null,null,null,null,"",""]
[null,null,null,null,null,null,null,null,null,null,null,"",""]
[null,null,null,null,null,null,null,null,null,null,null,"",""]
[null,null,null,null,null,null,null,null,null,null,null,"",""]
[null,null,null,null,null,null,null,null,null,null,null,"",""]
[null,null,null,null,null,null,null,null,null,null,null,"",""]
[null,null,null,null,null,null,null,null,null,null,null,"",""]
[null,null,null,null,null,null,null,null,null,null,null,"",""]
[null,null,null,null,null,null,null,null,null,null,null,"",""]
[null,null,null,null,null,null,null,null,null,null,null,"",""]
[null,null,null,null,null,null,null,null,null,null,null,"",""]
[null,null,null,null,null,null,null,null,null,null,null,"",""]
[null,null,null,null,null,null,null,null,null,null,null,"",""]
[null,null,null,null,null,null,null,null,null,null,null,"",""]
[null,null,null,null,null,null,null,null,null,null,null,"",""]
[null,null,null,null,null,null,null,null,null,null,null,"",""]
[null,null,null,null,null,null,null,null,null,null,null,"",""]
[null,null,null,null,null,null,null,null,null,null,null,"",""]
[null,null,null,null,null,null,null,null,null,null,null,"",""]
[null,null,null,null,null,null,null,null,null,null,null,"",""]
[null,null,null,null,null,null,null,null,null,null,null,"",""]
[null,null,null,null,null,null,null,null,null,null,null,"",""]
[null,null,null,null,null,null,null,null,null,null,null,"",""]
[null,null,null,null,null,null,null,null,null,null,null,"",""]
[null,null,null,null,null,null,null,null,null,null,null,"",""]
[null,null,null,null,null,null,null,null,null,null,null,"",""]
[null,null,null,null,null,null,null,null,null,null,null,"",""]
[null,null,null,null,null,null,null,null,null,null,null,"",""]
[null,null,null,null,null,null,null,null,null,null,null,"",""]
[null,null,null,null,null,null,null,null,null,null,null,"",""]
[null,null,null,null,null,null,null,null,null,null,null,"",""]
[null,null,null,null,null,null,null,null,null,null,null,"",""]
[null,null,null,null,null,null,null,null,null,null,null,"",""]
[null,null,null,null,null,null,null,null,null,null,null,"",""]
[null,null,null,null,null,null,null,null,null,null,null,"",""]
[null,null,null,null,null,null,null,null,null,null,null,"",""]
[null,null,null,null,null,null,null,null,null,null,null,"",""]
[null,null,null,null,null,null,null,null,null,null,null,"",""]
[null,null,null,null,null,null,null,null,null,null,null,"",""]
[null,null,null,null,null,null,null,null,null,null,null,"",""]
[null,null,null,null,null,null,null,null,null,null,null,"",""]
[null,null,null,null,null,null,null,null,null,null,null,"",""]
[null,null,null,null,null,null,null,null,null,null,null,"",""]
[null,null,null,null,null,null,null,null,null,null,null,"",""]
[null,null,null,null,null,null,null,null,null,null,null,"",""]
[null,null,null,null,null,null,null,null,null,null,null,"",""]
[null,null,null,null,null,null,null,null,null,null,null,"",""]
[null,null,null,null,null,null,null,null,null,null,null,"",""]
[null,null,null,null,null,null,null,null,null,null,null,"",""]
[null,null,null,null,null,null,null,null,null,null,null,"",""]
[null,null,null,null,null,null,null,null,null,null,null,"",""]
[null,null,null,null,null,null,null,null,null,null,null,"",""]
[null,null,null,null,null,null,null,null,null,null,null,"",""]
[null,null,null,null,null,null,null,null,null,null,null,"",""]
[null,null,null,null,null,null,null,null,null,null,null,"",""]
[null,null,null,null,null,null,null,null,null,null,null,"",""]
[null,null,null,null,null,null,null,null,null,null,null,"",""]
[null,null,null,null,null,null,null,null,null,null,null,"",""]
[null,null,null,null,null,null,null,null,null,null,null,"",""]
[null,null,null,null,null,null,null,null,null,null,null,"",""]
[null,null,null,null,null,null,null,null,null,null,null,"",""]
[null,null,null,null,null,null,null,null,null,null,null,"",""]
[null,null,null,null,null,null,null,null,null,null,null,"",""]
[null,null,null,null,null,null,null,null,null,null,null,"",""]
[null,null,null,null,null,null,null,null,null,null,null,"",""]
[null,null,null,null,null,null,null,null,null,null,null,"",""]
[null,null,null,null,null,null,null,null,null,null,null,"",""]
[null,null,null,null,null,null,null,null,null,null,null,"",""]
[null,null,null,null,null,null,null,null,null,null,null,"",""]
[null,null,null,null,null,null,null,null,null,null,null,"",""]
[null,null,null,null,null,null,null,null,null,null,null,"",""]
[null,null,null,null,null,null,null,null,null,null,null,"",""]
[null,null,null,null,null,null,null,null,null,null,null,"",""]
[null,null,null,null,null,null,null,null,null,null,null,"",""]
[null,null,null,null,null,null,null,null,null,null,null,"",""]
[null,null,null,null,null,null,null,null,null,null,null,"",""]
[null,null,null,null,null,null,null,null,null,null,null,"",""]
[null,null,null,null,null,null,null,null,null,null,null,"",""]
[null,null,null,null,null,null,null,null,null,null,null,"",""]
[null,null,null,null,null,null,null,null,null,null,null,"",""]
[null,null,null,null,null,null,null,null,null,null,null,"",""]
[null,null,null,null,null,null,null,null,null,null,null,"",""]
[null,null,null,null,null,null,null,null,null,null,null,"",""]
[null,null,null,null,null,null,null,null,null,null,null,"",""]
[null,null,null,null,null,null,null,null,null,null,null,"",""]
[null,null,null,null,null,null,null,null,null,null,null,"",""]
[null,null,null,null,null,null,null,null,null,null,null,"",""]
[null,null,null,null,null,null,null,null,null,null,null,"",""]
[null,null,null,null,null,null,null,null,null,null,null,"",""]
[null,null,null,null,null,null,null,null,null,null,null,"",""]
[null,null,null,null,null,null,null,null,null,null,null,"",""]
[null,null,null,null,null,null,null,null,null,null,null,"",""]
[null,null,null,null,null,null,null,null,null,null,null,"",""]
[null,null,null,null,null,null,null,null,null,null,null,"",""]
[null,null,null,null,null,null,null,null,null,null,null,"",""]
[null,null,null,null,null,null,null,null,null,null,null,"",""]
[null,null,null,null,null,null,null,null,null,null,null,"",""]
[null,null,null,null,null,null,null,null,null,null,null,"",""]
[null,null,null,null,null,null,null,null,null,null,null,"",""]
[null,null,null,null,null,null,null,null,null,null,null,"",""]
[null,null,null,null,null,null,null,null,null,null,null,"",""]
[null,null,null,null,null,null,null,null,null,null,null,"",""]
[null,null,null,null,null,null,null,null,null,null,null,"",""]
[null,null,null,null,null,null,null,null,null,null,null,"",""]
[null,null,null,null,null,null,null,null,null,null,null,"",""]
[null,null,null,null,null,null,null,null,null,null,null,"",""]
[null,null,null,null,null,null,null,null,null,null,null,"",""]
[null,null,null,null,null,null,null,null,null,null,null,"",""]
[null,null,null,null,null,null,null,null,null,null,null,"",""]
[null,null,null,null,null,null,null,null,null,null,null,"",""]
[null,null,null,null,null,null,null,null,null,null,null,"",""]
[null,null,null,null,null,null,null,null,null,null,null,"",""]
[null,null,null,null,null,null,null,null,null,null,null,"",""]
[null,null,null,null,null,null,null,null,null,null,null,"",""]
[null,null,null,null,null,null,null,null,null,null,null,"",""]
[null,null,null,null,null,null,null,null,null,null,null,"",""]
[null,null,null,null,null,null,null,null,null,null,null,"",""]
[null,null,null,null,null,null,null,null,null,null,null,"",""]
[null,null,null,null,null,null,null,null,null,null,null,"",""]
[null,null,null,null,null,null,null,null,null,null,null,"",""]
[null,null,null,null,null,null,null,null,null,null,null,"",""]
[null,null,null,null,null,null,null,null,null,null,null,"",""]
[null,null,null,null,null,null,null,null,null,null,null,"",""]
[null,null,null,null,null,null,null,null,null,null,null,"",""]
[null,null,null,null,null,null,null,null,null,null,null,"",""]
[null,null,null,null,null,null,null,null,null,null,null,"",""]
[null,null,null,null,null,null,null,null,null,null,null,"",""]
[null,null,null,null,null,null,null,null,null,null,null,"",""]
[null,null,null,null,null,null,null,null,null,null,null,"",""]
[null,null,null,null,null,null,null,null,null,null,null,"",""]
[null,null,null,null,null,null,null,null,null,null,null,"",""]
[null,null,null,null,null,null,null,null,null,null,null,"",""]
[null,null,null,null,null,null,null,null,null,null,null,"",""]
[null,null,null,null,null,null,null,null,null,null,null,"",""]
[null,null,null,null,null,null,null,null,null,null,null,"",""]
[null,null,null,null,null,null,null,null,null,null,null,"",""]
[null,null,null,null,null,null,null,null,null,null,null,"",""]
[null,null,null,null,null,null,null,null,null,null,null,"",""]
[null,null,null,null,null,null,null,null,null,null,null,"",""]
[null,null,null,null,null,null,null,null,null,null,null,"",""]
[null,null,null,null,null,null,null,null,null,null,null,"",""]
[null,null,null,null,null,null,null,null,null,null,null,"",""]
[null,null,null,null,null,null,null,null,null,null,null,"",""]
[null,null,null,null,null,null,null,null,null,null,null,"",""]
[null,null,null,null,null,null,null,null,null,null,null,"",""]
[null,null,null,null,null,null,null,null,null,null,null,"",""]
[null,null,null,null,null,null,null,null,null,null,null,"",""]
[null,null,null,null,null,null,null,null,null,null,null,"",""]
[null,null,null,null,null,null,null,null,null,null,null,"",""]
[null,null,null,null,null,null,null,null,null,null,null,"",""]
[null,null,null,null,null,null,null,null,null,null,null,"",""]
[null,null,null,null,null,null,null,null,null,null,null,"",""]
[null,null,null,null,null,null,null,null,null,null,null,"",""]
[null,null,null,null,null,null,null,null,null,null,null,"",""]
[null,null,null,null,null,null,null,null,null,null,null,"",""]
[null,null,null,null,null,null,null,null,null,null,null,"",""]
[null,null,null,null,null,null,null,null,null,null,null,"",""]
[null,null,null,null,null,null,null,null,null,null,null,"",""]
[null,null,null,null,null,null,null,null,null,null,null,"",""]
[null,null,null,null,null,null,null,null,null,null,null,"",""]
[null,null,null,null,null,null,null,null,null,null,null,"",""]
[null,null,null,null,null,null,null,null,null,null,null,"",""]
[null,null,null,null,null,null,null,null,null,null,null,"",""]
[null,null,null,null,null,null,null,null,null,null,null,"",""]
[null,null,null,null,null,null,null,null,null,null,null,"",""]
[null,null,null,null,null,null,null,null,null,null,null,"",""]
[null,null,null,null,null,null,null,null,null,null,null,"",""]
[null,null,null,null,null,null,null,null,null,null,null,"",""]
[null,null,null,null,null,null,null,null,null,null,null,"",""]
[null,null,null,null,null,null,null,null,null,null,null,"",""]
[null,null,null,null,null,null,null,null,null,null,null,"",""]
[null,null,null,null,null,null,null,null,null,null,null,"",""]
[null,null,null,null,null,null,null,null,null,null,null,"",""]
[null,null,null,null,null,null,null,null,null,null,null,"",""]
[null,null,null,null,null,null,null,null,null,null,null,"",""]
[null,null,null,null,null,null,null,null,null,null,null,"",""]
[null,null,null,null,null,null,null,null,null,null,null,"",""]
[null,null,null,null,null,null,null,null,null,null,null,"",""]
[null,null,null,null,null,null,null,null,null,null,null,"",""]
[null,null,null,null,null,null,null,null,null,null,null,"",""]
[null,null,null,null,null,null,null,null,null,null,null,"",""]
[null,null,null,null,null,null,null,null,null,null,null,"",""]
[null,null,null,null,null,null,null,null,null,null,null,"",""]
[null,null,null,null,null,null,null,null,null,null,null,"",""]
[null,null,null,null,null,null,null,null,null,null,null,"",""]
[null,null,null,null,null,null,null,null,null,null,null,"",""]
[null,null,null,null,null,null,null,null,null,null,null,"",""]
[null,null,null,null,null,null,null,null,null,null,null,"",""]
[null,null,null,null,null,null,null,null,null,null,null,"",""]
[null,null,null,null,null,null,null,null,null,null,null,"",""]
[null,null,null,null,null,null,null,null,null,null,null,"",""]
[null,null,null,null,null,null,null,null,null,null,null,"",""]
[null,null,null,null,null,null,null,null,null,null,null,"",""]
[null,null,null,null,null,null,null,null,null,null,null,"",""]
[null,null,null,null,null,null,null,null,null,null,null,"",""]
[null,null,null,null,null,null,null,null,null,null,null,"",""]
[null,null,null,null,null,null,null,null,null,null,null,"",""]
[null,null,null,null,null,null,null,null,null,null,null,"",""]
[null,null,null,null,null,null,null,null,null,null,null,"",""]
[null,null,null,null,null,null,null,null,null,null,null,"",""]
[null,null,null,null,null,null,null,null,null,null,null,"",""]
[null,null,null,null,null,null,null,null,null,null,null,"",""]
[null,null,null,null,null,null,null,null,null,null,null,"",""]
[null,null,null,null,null,null,null,null,null,null,null,"",""]
[null,null,null,null,null,null,null,null,null,null,null,"",""]
[null,null,null,null,null,null,null,null,null,null,null,"",""]
[null,null,null,null,null,null,null,null,null,null,null,"",""]
[null,null,null,null,null,null,null,null,null,null,null,"",""]
[null,null,null,null,null,null,null,null,null,null,null,"",""]
[null,null,null,null,null,null,null,null,null,null,null,"",""]
[null,null,null,null,null,null,null,null,null,null,null,"",""]
[null,null,null,null,null,null,null,null,null,null,null,"",""]
[null,null,null,null,null,null,null,null,null,null,null,"",""]
[null,null,null,null,null,null,null,null,null,null,null,"",""]
[null,null,null,null,null,null,null,null,null,null,null,"",""]
[null,null,null,null,null,null,null,null,null,null,null,"",""]
[null,null,null,null,null,null,null,null,null,null,null,"",""]
[null,null,null,null,null,null,null,null,null,null,null,"",""]
[null,null,null,null,null,null,null,null,null,null,null,"",""]
[null,null,null,null,null,null,null,null,null,null,null,"",""]
[null,null,null,null,null,null,null,null,null,null,null,"",""]
[null,null,null,null,null,null,null,null,null,null,null,"",""]
[null,null,null,null,null,null,null,null,null,null,null,"",""]
[null,null,null,null,null,null,null,null,null,null,null,"",""]
[null,null,null,null,null,null,null,null,null,null,null,"",""]
[null,null,null,null,null,null,null,null,null,null,null,"",""]
[null,null,null,null,null,null,null,null,null,null,null,"",""]
[null,null,null,null,null,null,null,null,null,null,null,"",""]
[null,null,null,null,null,null,null,null,null,null,null,"",""]
[null,null,null,null,null,null,null,null,null,null,null,"",""]
[null,null,null,null,null,null,null,null,null,null,null,"",""]
[null,null,null,null,null,null,null,null,null,null,null,"",""]
[null,null,null,null,null,null,null,null,null,null,null,"",""]
[null,null,null,null,null,null,null,null,null,null,null,"",""]
[null,null,null,null,null,null,null,null,null,null,null,"",""]
[null,null,null,null,null,null,null,null,null,null,null,"",""]
[null,null,null,null,null,null,null,null,null,null,null,"",""]
[null,null,null,null,null,null,null,null,null,null,null,"",""]
[null,null,null,null,null,null,null,null,null,null,null,"",""]
[null,null,null,null,null,null,null,null,null,null,null,"",""]
[null,null,null,null,null,null,null,null,null,null,null,"",""]
[null,null,null,null,null,null,null,null,null,null,null,"",""]
[null,null,null,null,null,null,null,null,null,null,null,"",""]
[null,null,null,null,null,null,null,null,null,null,null,"",""]
[null,null,null,null,null,null,null,null,null,null,null,"",""]
[null,null,null,null,null,null,null,null,null,null,null,"",""]
[null,null,null,null,null,null,null,null,null,null,null,"",""]
[null,null,null,null,null,null,null,null,null,null,null,"",""]
[null,null,null,null,null,null,null,null,null,null,null,"",""]
[null,null,null,null,null,null,null,null,null,null,null,"",""]
[null,null,null,null,null,null,null,null,null,null,null,"",""]
[null,null,null,null,null,null,null,null,null,null,null,"",""]
[null,null,null,null,null,null,null,null,null,null,null,"",""]
[null,null,null,null,null,null,null,null,null,null,null,"",""]
[null,null,null,null,null,null,null,null,null,null,null,"",""]
[null,null,null,null,null,null,null,null,null,null,null,"",""]
[null,null,null,null,null,null,null,null,null,null,null,"",""]
[null,null,null,null,null,null,null,null,null,null,null,"",""]
[null,null,null,null,null,null,null,null,null,null,null,"",""]
[null,null,null,null,null,null,null,null,null,null,null,"",""]
[null,null,null,null,null,null,null,null,null,null,null,"",""]
[null,null,null,null,null,null,null,null,null,null,null,"",""]
[null,null,null,null,null,null,null,null,null,null,null,"",""]
[null,null,null,null,null,null,null,null,null,null,null,"",""]
[null,null,null,null,null,null,null,null,null,null,null,"",""]
[null,null,null,null,null,null,null,null,null,null,null,"",""]
[null,null,null,null,null,null,null,null,null,null,null,"",""]
[null,null,null,null,null,null,null,null,null,null,null,"",""]
[null,null,null,null,null,null,null,null,null,null,null,"",""]
[null,null,null,null,null,null,null,null,null,null,null,"",""]
[null,null,null,null,null,null,null,null,null,null,null,"",""]
[null,null,null,null,null,null,null,null,null,null,null,"",""]
[null,null,null,null,null,null,null,null,null,null,null,"",""]
[null,null,null,null,null,null,null,null,null,null,null,"",""]
[null,null,null,null,null,null,null,null,null,null,null,"",""]
[null,null,null,null,null,null,null,null,null,null,null,"",""]
[null,null,null,null,null,null,null,null,null,null,null,"",""]
[null,null,null,null,null,null,null,null,null,null,null,"",""]
[null,null,null,null,null,null,null,null,null,null,null,"",""]
[null,null,null,null,null,null,null,null,null,null,null,"",""]
[null,null,null,null,null,null,null,null,null,null,null,"",""]
[null,null,null,null,null,null,null,null,null,null,null,"",""]
[null,null,null,null,null,null,null,null,null,null,null,"",""]
[null,null,null,null,null,null,null,null,null,null,null,"",""]
[null,null,null,null,null,null,null,null,null,null,null,"",""]
[null,null,null,null,null,null,null,null,null,null,null,"",""]
[null,null,null,null,null,null,null,null,null,null,null,"",""]
[null,null,null,null,null,null,null,null,null,null,null,"",""]
[null,null,null,null,null,null,null,null,null,null,null,"",""]
[null,null,null,null,null,null,null,null,null,null,null,"",""]
[null,null,null,null,null,null,null,null,null,null,null,"",""]
[null,null,null,null,null,null,null,null,null,null,null,"",""]
[null,null,null,null,null,null,null,null,null,null,null,"",""]
[null,null,null,null,null,null,null,null,null,null,null,"",""]
[null,null,null,null,null,null,null,null,null,null,null,"",""]
[null,null,null,null,null,null,null,null,null,null,null,"",""]
[null,null,null,null,null,null,null,null,null,null,null,"",""]
[null,null,null,null,null,null,null,null,null,null,null,"",""]
[null,null,null,null,null,null,null,null,null,null,null,"",""]
[null,null,null,null,null,null,null,null,null,null,null,"",""]
[null,null,null,null,null,null,null,null,null,null,null,"",""]
[null,null,null,null,null,null,null,null,null,null,null,"",""]
[null,null,null,null,null,null,null,null,null,null,null,"",""]
[null,null,null,null,null,null,null,null,null,null,null,"",""]
[null,null,null,null,null,null,null,null,null,null,null,"",""]
[null,null,null,null,null,null,null,null,null,null,null,"",""]
[null,null,null,null,null,null,null,null,null,null,null,"",""]
[null,null,null,null,null,null,null,null,null,null,null,"",""]
[null,null,null,null,null,null,null,null,null,null,null,"",""]
[null,null,null,null,null,null,null,null,null,null,null,"",""]
[null,null,null,null,null,null,null,null,null,null,null,"",""]
[null,null,null,null,null,null,null,null,null,null,null,"",""]
[null,null,null,null,null,null,null,null,null,null,null,"",""]
[null,null,null,null,null,null,null,null,null,null,null,"",""]
[null,null,null,null,null,null,null,null,null,null,null,"",""]
[null,null,null,null,null,null,null,null,null,null,null,"",""]
[null,null,null,null,null,null,null,null,null,null,null,"",""]
[null,null,null,null,null,null,null,null,null,null,null,"",""]
[null,null,null,null,null,null,null,null,null,null,null,"",""]
[null,null,null,null,null,null,null,null,null,null,null,"",""]
[null,null,null,null,null,null,null,null,null,null,null,"",""]
[null,null,null,null,null,null,null,null,null,null,null,"",""]
[null,null,null,null,null,null,null,null,null,null,null,"",""]
[null,null,null,null,null,null,null,null,null,null,null,"",""]
[null,null,null,null,null,null,null,null,null,null,null,"",""]
[null,null,null,null,null,null,null,null,null,null,null,"",""]
[null,null,null,null,null,null,null,null,null,null,null,"",""]
[null,null,null,null,null,null,null,null,null,null,null,"",""]
[null,null,null,null,null,null,null,null,null,null,null,"",""]
[null,null,null,null,null,null,null,null,null,null,null,"",""]
[null,null,null,null,null,null,null,null,null,null,null,"",""]
[null,null,null,null,null,null,null,null,null,null,null,"",""]
[null,null,null,null,null,null,null,null,null,null,null,"",""]
[null,null,null,null,null,null,null,null,null,null,null,"",""]
[null,null,null,null,null,null,null,null,null,null,null,"",""]
[null,null,null,null,null,null,null,null,null,null,null,"",""]
[null,null,null,null,null,null,null,null,null,null,null,"",""]
[null,null,null,null,null,null,null,null,null,null,null,"",""]
[null,null,null,null,null,null,null,null,null,null,null,"",""]
[null,null,null,null,null,null,null,null,null,null,null,"",""]
[null,null,null,null,null,null,null,null,null,null,null,"",""]
[null,null,null,null,null,null,null,null,null,null,null,"",""]
[null,null,null,null,null,null,null,null,null,null,null,"",""]
[null,null,null,null,null,null,null,null,null,null,null,"",""]
[null,null,null,null,null,null,null,null,null,null,null,"",""]
[null,null,null,null,null,null,null,null,null,null,null,"",""]
[null,null,null,null,null,null,null,null,null,null,null,"",""]
[null,null,null,null,null,null,null,null,null,null,null,"",""]
[null,null,null,null,null,null,null,null,null,null,null,"",""]
[null,null,null,null,null,null,null,null,null,null,null,"",""]
[null,null,null,null,null,null,null,null,null,null,null,"",""]
[null,null,null,null,null,null,null,null,null,null,null,"",""]
[null,null,null,null,null,null,null,null,null,null,null,"",""]
[null,null,null,null,null,null,null,null,null,null,null,"",""]
[null,null,null,null,null,null,null,null,null,null,null,"",""]
[null,null,null,null,null,null,null,null,null,null,null,"",""]
[null,null,null,null,null,null,null,null,null,null,null,"",""]
[null,null,null,null,null,null,null,null,null,null,null,"",""]
[null,null,null,null,null,null,null,null,null,null,null,"",""]
[null,null,null,null,null,null,null,null,null,null,null,"",""]
[null,null,null,null,null,null,null,null,null,null,null,"",""]
[null,null,null,null,null,null,null,null,null,null,null,"",""]
[null,null,null,null,null,null,null,null,null,null,null,"",""]
[null,null,null,null,null,null,null,null,null,null,null,"",""]
[null,null,null,null,null,null,null,null,null,null,null,"",""]
[null,null,null,null,null,null,null,null,null,null,null,"",""]
[null,null,null,null,null,null,null,null,null,null,null,"",""]
[null,null,null,null,null,null,null,null,null,null,null,"",""]
[null,null,null,null,null,null,null,null,null,null,null,"",""]
[null,null,null,null,null,null,null,null,null,null,null,"",""]
[null,null,null,null,null,null,null,null,null,null,null,"",""]
[null,null,null,null,null,null,null,null,null,null,null,"",""]
[null,null,null,null,null,null,null,null,null,null,null,"",""]
[null,null,null,null,null,null,null,null,null,null,null,"",""]
[null,null,null,null,null,null,null,null,null,null,null,"",""]
[null,null,null,null,null,null,null,null,null,null,null,"",""]
[null,null,null,null,null,null,null,null,null,null,null,"",""]
[null,null,null,null,null,null,null,null,null,null,null,"",""]
[null,null,null,null,null,null,null,null,null,null,null,"",""]
[null,null,null,null,null,null,null,null,null,null,null,"",""]
[null,null,null,null,null,null,null,null,null,null,null,"",""]
[null,null,null,null,null,null,null,null,null,null,null,"",""]
[null,null,null,null,null,null,null,null,null,null,null,"",""]
[null,null,null,null,null,null,null,null,null,null,null,"",""]
[null,null,null,null,null,null,null,null,null,null,null,"",""]
[null,null,null,null,null,null,null,null,null,null,null,"",""]
[null,null,null,null,null,null,null,null,null,null,null,"",""]
[null,null,null,null,null,null,null,null,null,null,null,"",""]
[null,null,null,null,null,null,null,null,null,null,null,"",""]
[null,null,null,null,null,null,null,null,null,null,null,"",""]
[null,null,null,null,null,null,null,null,null,null,null,"",""]
[null,null,null,null,null,null,null,null,null,null,null,"",""]
[null,null,null,null,null,null,null,null,null,null,null,"",""]
[null,null,null,null,null,null,null,null,null,null,null,"",""]
[null,null,null,null,null,null,null,null,null,null,null,"",""]
[null,null,null,null,null,null,null,null,null,null,null,"",""]
[null,null,null,null,null,null,null,null,null,null,null,"",""]
[null,null,null,null,null,null,null,null,null,null,null,"",""]
[null,null,null,null,null,null,null,null,null,null,null,"",""]
[null,null,null,null,null,null,null,null,null,null,null,"",""]
[null,null,null,null,null,null,null,null,null,null,null,"",""]
[null,null,null,null,null,null,null,null,null,null,null,"",""]
[null,null,null,null,null,null,null,null,null,null,null,"",""]
[null,null,null,null,null,null,null,null,null,null,null,"",""]
[null,null,null,null,null,null,null,null,null,null,null,"",""]
[null,null,null,null,null,null,null,null,null,null,null,"",""]
[null,null,null,null,null,null,null,null,null,null,null,"",""]
[null,null,null,null,null,null,null,null,null,null,null,"",""]
[null,null,null,null,null,null,null,null,null,null,null,"",""]
[null,null,null,null,null,null,null,null,null,null,null,"",""]
[null,null,null,null,null,null,null,null,null,null,null,"",""]
[null,null,null,null,null,null,null,null,null,null,null,"",""]
[null,null,null,null,null,null,null,null,null,null,null,"",""]
[null,null,null,null,null,null,null,null,null,null,null,"",""]
[null,null,null,null,null,null,null,null,null,null,null,"",""]
[null,null,null,null,null,null,null,null,null,null,null,"",""]
[null,null,null,null,null,null,null,null,null,null,null,"",""]
[null,null,null,null,null,null,null,null,null,null,null,"",""]
[null,null,null,null,null,null,null,null,null,null,null,"",""]
[null,null,null,null,null,null,null,null,null,null,null,"",""]
[null,null,null,null,null,null,null,null,null,null,null,"",""]
[null,null,null,null,null,null,null,null,null,null,null,"",""]
[null,null,null,null,null,null,null,null,null,null,null,"",""]
[null,null,null,null,null,null,null,null,null,null,null,"",""]
[null,null,null,null,null,null,null,null,null,null,null,"",""]
[null,null,null,null,null,null,null,null,null,null,null,"",""]
[null,null,null,null,null,null,null,null,null,null,null,"",""]
[null,null,null,null,null,null,null,null,null,null,null,"",""]
[null,null,null,null,null,null,null,null,null,null,null,"",""]
[null,null,null,null,null,null,null,null,null,null,null,"",""]
[null,null,null,null,null,null,null,null,null,null,null,"",""]
[null,null,null,null,null,null,null,null,null,null,null,"",""]
[null,null,null,null,null,null,null,null,null,null,null,"",""]
[null,null,null,null,null,null,null,null,null,null,null,"",""]
[null,null,null,null,null,null,null,null,null,null,null,"",""]
[null,null,null,null,null,null,null,null,null,null,null,"",""]
[null,null,null,null,null,null,null,null,null,null,null,"",""]
[null,null,null,null,null,null,null,null,null,null,null,"",""]
[null,null,null,null,null,null,null,null,null,null,null,"",""]
[null,null,null,null,null,null,null,null,null,null,null,"",""]
[null,null,null,null,null,null,null,null,null,null,null,"",""]
[null,null,null,null,null,null,null,null,null,null,null,"",""]
[null,null,null,null,null,null,null,null,null,null,null,"",""]
[null,null,null,null,null,null,null,null,null,null,null,"",""]
[null,null,null,null,null,null,null,null,null,null,null,"",""]
[null,null,null,null,null,null,null,null,null,null,null,"",""]
[null,null,null,null,null,null,null,null,null,null,null,"",""]
[null,null,null,null,null,null,null,null,null,null,null,"",""]
[null,null,null,null,null,null,null,null,null,null,null,"",""]
[null,null,null,null,null,null,null,null,null,null,null,"",""]
[null,null,null,null,null,null,null,null,null,null,null,"",""]
[null,null,null,null,null,null,null,null,null,null,null,"",""]
[null,null,null,null,null,null,null,null,null,null,null,"",""]
[null,null,null,null,null,null,null,null,null,null,null,"",""]
[null,null,null,null,null,null,null,null,null,null,null,"",""]
[null,null,null,null,null,null,null,null,null,null,null,"",""]
[null,null,null,null,null,null,null,null,null,null,null,"",""]
[null,null,null,null,null,null,null,null,null,null,null,"",""]
[null,null,null,null,null,null,null,null,null,null,null,"",""]
[null,null,null,null,null,null,null,null,null,null,null,"",""]
[null,null,null,null,null,null,null,null,null,null,null,"",""]
[null,null,null,null,null,null,null,null,null,null,null,"",""]
[null,null,null,null,null,null,null,null,null,null,null,"",""]
[null,null,null,null,null,null,null,null,null,null,null,"",""]
[null,null,null,null,null,null,null,null,null,null,null,"",""]
[null,null,null,null,null,null,null,null,null,null,null,"",""]
[null,null,null,null,null,null,null,null,null,null,null,"",""]
[null,null,null,null,null,null,null,null,null,null,null,"",""]
[null,null,null,null,null,null,null,null,null,null,null,"",""]
[null,null,null,null,null,null,null,null,null,null,null,"",""]
[null,null,null,null,null,null,null,null,null,null,null,"",""]
[null,null,null,null,null,null,null,null,null,null,null,"",""]
[null,null,null,null,null,null,null,null,null,null,null,"",""]
[null,null,null,null,null,null,null,null,null,null,null,"",""]
[null,null,null,null,null,null,null,null,null,null,null,"",""]
[null,null,null,null,null,null,null,null,null,null,null,"",""]
[null,null,null,null,null,null,null,null,null,null,null,"",""]
[null,null,null,null,null,null,null,null,null,null,null,"",""]
[null,null,null,null,null,null,null,null,null,null,null,"",""]
[null,null,null,null,null,null,null,null,null,null,null,"",""]
[null,null,null,null,null,null,null,null,null,null,null,"",""]
[null,null,null,null,null,null,null,null,null,null,null,"",""]
[null,null,null,null,null,null,null,null,null,null,null,"",""]
[null,null,null,null,null,null,null,null,null,null,null,"",""]
[null,null,null,null,null,null,null,null,null,null,null,"",""]
[null,null,null,null,null,null,null,null,null,null,null,"",""]
[null,null,null,null,null,null,null,null,null,null,null,"",""]
[null,null,null,null,null,null,null,null,null,null,null,"",""]
[null,null,null,null,null,null,null,null,null,null,null,"",""]
[null,null,null,null,null,null,null,null,null,null,null,"",""]
[null,null,null,null,null,null,null,null,null,null,null,"",""]
[null,null,null,null,null,null,null,null,null,null,null,"",""]
[null,null,null,null,null,null,null,null,null,null,null,"",""]
[null,null,null,null,null,null,null,null,null,null,null,"",""]
[null,null,null,null,null,null,null,null,null,null,null,"",""]
[null,null,null,null,null,null,null,null,null,null,null,"",""]
[null,null,null,null,null,null,null,null,null,null,null,"",""]
[null,null,null,null,null,null,null,null,null,null,null,"",""]
[null,null,null,null,null,null,null,null,null,null,null,"",""]
[null,null,null,null,null,null,null,null,null,null,null,"",""]
[null,null,null,null,null,null,null,null,null,null,null,"",""]
[null,null,null,null,null,null,null,null,null,null,null,"",""]
[null,null,null,null,null,null,null,null,null,null,null,"",""]
[null,null,null,null,null,null,null,null,null,null,null,"",""]
[null,null,null,null,null,null,null,null,null,null,null,"",""]
[null,null,null,null,null,null,null,null,null,null,null,"",""]
[null,null,null,null,null,null,null,null,null,null,null,"",""]
[null,null,null,null,null,null,null,null,null,null,null,"",""]
[null,null,null,null,null,null,null,null,null,null,null,"",""]
[null,null,null,null,null,null,null,null,null,null,null,"",""]
[null,null,null,null,null,null,null,null,null,null,null,"",""]
[null,null,null,null,null,null,null,null,null,null,null,"",""]
[null,null,null,null,null,null,null,null,null,null,null,"",""]
[null,null,null,null,null,null,null,null,null,null,null,"",""]
[null,null,null,null,null,null,null,null,null,null,null,"",""]
[null,null,null,null,null,null,null,null,null,null,null,"",""]
[null,null,null,null,null,null,null,null,null,null,null,"",""]
[null,null,null,null,null,null,null,null,null,null,null,"",""]
[null,null,null,null,null,null,null,null,null,null,null,"",""]
[null,null,null,null,null,null,null,null,null,null,null,"",""]
[null,null,null,null,null,null,null,null,null,null,null,"",""]
[null,null,null,null,null,null,null,null,null,null,null,"",""]
[null,null,null,null,null,null,null,null,null,null,null,"",""]
[null,null,null,null,null,null,null,null,null,null,null,"",""]
[null,null,null,null,null,null,null,null,null,null,null,"",""]
[null,null,null,null,null,null,null,null,null,null,null,"",""]
[null,null,null,null,null,null,null,null,null,null,null,"",""]
[null,null,null,null,null,null,null,null,null,null,null,"",""]
[null,null,null,null,null,null,null,null,null,null,null,"",""]
[null,null,null,null,null,null,null,null,null,null,null,"",""]
[null,null,null,null,null,null,null,null,null,null,null,"",""]
[null,null,null,null,null,null,null,null,null,null,null,"",""]
[null,null,null,null,null,null,null,null,null,null,null,"",""]
[null,null,null,null,null,null,null,null,null,null,null,"",""]
[null,null,null,null,null,null,null,null,null,null,null,"",""]
[null,null,null,null,null,null,null,null,null,null,null,"",""]
[null,null,null,null,null,null,null,null,null,null,null,"",""]
[null,null,null,null,null,null,null,null,null,null,null,"",""]
[null,null,null,null,null,null,null,null,null,null,null,"",""]
[null,null,null,null,null,null,null,null,null,null,null,"",""]
[null,null,null,null,null,null,null,null,null,null,null,"",""]
[null,null,null,null,null,null,null,null,null,null,null,"",""]
[null,null,null,null,null,null,null,null,null,null,null,"",""]
[null,null,null,null,null,null,null,null,null,null,null,"",""]
[null,null,null,null,null,null,null,null,null,null,null,"",""]
[null,null,null,null,null,null,null,null,null,null,null,"",""]
[null,null,null,null,null,null,null,null,null,null,null,"",""]
[null,null,null,null,null,null,null,null,null,null,null,"",""]
[null,null,null,null,null,null,null,null,null,null,null,"",""]
[null,null,null,null,null,null,null,null,null,null,null,"",""]
[null,null,null,null,null,null,null,null,null,null,null,"",""]
[null,null,null,null,null,null,null,null,null,null,null,"",""]
[null,null,null,null,null,null,null,null,null,null,null,"",""]
[null,null,null,null,null,null,null,null,null,null,null,"",""]
[null,null,null,null,null,null,null,null,null,null,null,"",""]
[null,null,null,null,null,null,null,null,null,null,null,"",""]
[null,null,null,null,null,null,null,null,null,null,null,"",""]
[null,null,null,null,null,null,null,null,null,null,null,"",""]
[null,null,null,null,null,null,null,null,null,null,null,"",""]
[null,null,null,null,null,null,null,null,null,null,null,"",""]
[null,null,null,null,null,null,null,null,null,null,null,"",""]
[null,null,null,null,null,null,null,null,null,null,null,"",""]
[null,null,null,null,null,null,null,null,null,null,null,"",""]
[null,null,null,null,null,null,null,null,null,null,null,"",""]
[null,null,null,null,null,null,null,null,null,null,null,"",""]
[null,null,null,null,null,null,null,null,null,null,null,"",""]
[null,null,null,null,null,null,null,null,null,null,null,"",""]
[null,null,null,null,null,null,null,null,null,null,null,"",""]
[null,null,null,null,null,null,null,null,null,null,null,"",""]
[null,null,null,null,null,null,null,null,null,null,null,"",""]
[null,null,null,null,null,null,null,null,null,null,null,"",""]
[null,null,null,null,null,null,null,null,null,null,null,"",""]
[null,null,null,null,null,null,null,null,null,null,null,"",""]
[null,null,null,null,null,null,null,null,null,null,null,"",""]
[null,null,null,null,null,null,null,null,null,null,null,"",""]
[null,null,null,null,null,null,null,null,null,null,null,"",""]
[null,null,null,null,null,null,null,null,null,null,null,"",""]
[null,null,null,null,null,null,null,null,null,null,null,"",""]
[null,null,null,null,null,null,null,null,null,null,null,"",""]
[null,null,null,null,null,null,null,null,null,null,null,"",""]
[null,null,null,null,null,null,null,null,null,null,null,"",""]
[null,null,null,null,null,null,null,null,null,null,null,"",""]
[null,null,null,null,null,null,null,null,null,null,null,"",""]
[null,null,null,null,null,null,null,null,null,null,null,"",""]
[null,null,null,null,null,null,null,null,null,null,null,"",""]
[null,null,null,null,null,null,null,null,null,null,null,"",""]
[null,null,null,null,null,null,null,null,null,null,null,"",""]
[null,null,null,null,null,null,null,null,null,null,null,"",""]
[null,null,null,null,null,null,null,null,null,null,null,"",""]
[null,null,null,null,null,null,null,null,null,null,null,"",""]
[null,null,null,null,null,null,null,null,null,null,null,"",""]
[null,null,null,null,null,null,null,null,null,null,null,"",""]
[null,null,null,null,null,null,null,null,null,null,null,"",""]
[null,null,null,null,null,null,null,null,null,null,null,"",""]
[null,null,null,null,null,null,null,null,null,null,null,"",""]
[null,null,null,null,null,null,null,null,null,null,null,"",""]
[null,null,null,null,null,null,null,null,null,null,null,"",""]
[null,null,null,null,null,null,null,null,null,null,null,"",""]
[null,null,null,null,null,null,null,null,null,null,null,"",""]
[null,null,null,null,null,null,null,null,null,null,null,"",""]
[null,null,null,null,null,null,null,null,null,null,null,"",""]
[null,null,null,null,null,null,null,null,null,null,null,"",""]
[null,null,null,null,null,null,null,null,null,null,null,"",""]
[null,null,null,null,null,null,null,null,null,null,null,"",""]
[null,null,null,null,null,null,null,null,null,null,null,"",""]
[null,null,null,null,null,null,null,null,null,null,null,"",""]
[null,null,null,null,null,null,null,null,null,null,null,"",""]
[null,null,null,null,null,null,null,null,null,null,null,"",""]
[null,null,null,null,null,null,null,null,null,null,null,"",""]
[null,null,null,null,null,null,null,null,null,null,null,"",""]
[null,null,null,null,null,null,null,null,null,null,null,"",""]
[null,null,null,null,null,null,null,null,null,null,null,"",""]
[null,null,null,null,null,null,null,null,null,null,null,"",""]
[null,null,null,null,null,null,null,null,null,null,null,"",""]
[null,null,null,null,null,null,null,null,null,null,null,"",""]
[null,null,null,null,null,null,null,null,null,null,null,"",""]
[null,null,null,null,null,null,null,null,null,null,null,"",""]
[null,null,null,null,null,null,null,null,null,null,null,"",""]
[null,null,null,null,null,null,null,null,null,null,null,"",""]
[null,null,null,null,null,null,null,null,null,null,null,"",""]
[null,null,null,null,null,null,null,null,null,null,null,"",""]
[null,null,null,null,null,null,null,null,null,null,null,"",""]
[null,null,null,null,null,null,null,null,null,null,null,"",""]
[null,null,null,null,null,null,null,null,null,null,null,"",""]
[null,null,null,null,null,null,null,null,null,null,null,"",""]
[null,null,null,null,null,null,null,null,null,null,null,"",""]
[null,null,null,null,null,null,null,null,null,null,null,"",""]
[null,null,null,null,null,null,null,null,null,null,null,"",""]
[null,null,null,null,null,null,null,null,null,null,null,"",""]
[null,null,null,null,null,null,null,null,null,null,null,"",""]
[null,null,null,null,null,null,null,null,null,null,null,"",""]
[null,null,null,null,null,null,null,null,null,null,null,"",""]
[null,null,null,null,null,null,null,null,null,null,null,"",""]
[null,null,null,null,null,null,null,null,null,null,null,"",""]
[null,null,null,null,null,null,null,null,null,null,null,"",""]
[null,null,null,null,null,null,null,null,null,null,null,"",""]
[null,null,null,null,null,null,null,null,null,null,null,"",""]
[null,null,null,null,null,null,null,null,null,null,null,"",""]
[null,null,null,null,null,null,null,null,null,null,null,"",""]
[null,null,null,null,null,null,null,null,null,null,null,"",""]
[null,null,null,null,null,null,null,null,null,null,null,"",""]
[null,null,null,null,null,null,null,null,null,null,null,"",""]
[null,null,null,null,null,null,null,null,null,null,null,"",""]
[null,null,null,null,null,null,null,null,null,null,null,"",""]
[null,null,null,null,null,null,null,null,null,null,null,"",""]
[null,null,null,null,null,null,null,null,null,null,null,"",""]
[null,null,null,null,null,null,null,null,null,null,null,"",""]
[null,null,null,null,null,null,null,null,null,null,null,"",""]
[null,null,null,null,null,null,null,null,null,null,null,"",""]
[null,null,null,null,null,null,null,null,null,null,null,"",""]
[null,null,null,null,null,null,null,null,null,null,null,"",""]
[null,null,null,null,null,null,null,null,null,null,null,"",""]
[null,null,null,null,null,null,null,null,null,null,null,"",""]
[null,null,null,null,null,null,null,null,null,null,null,"",""]
[null,null,null,null,null,null,null,null,null,null,null,"",""]
[null,null,null,null,null,null,null,null,null,null,null,"",""]
[null,null,null,null,null,null,null,null,null,null,null,"",""]
[null,null,null,null,null,null,null,null,null,null,null,"",""]
[null,null,null,null,null,null,null,null,null,null,null,"",""]
[null,null,null,null,null,null,null,null,null,null,null,"",""]
[null,null,null,null,null,null,null,null,null,null,null,"",""]
[null,null,null,null,null,null,null,null,null,null,null,"",""]
[null,null,null,null,null,null,null,null,null,null,null,"",""]
[null,null,null,null,null,null,null,null,null,null,null,"",""]
[null,null,null,null,null,null,null,null,null,null,null,"",""]
[null,null,null,null,null,null,null,null,null,null,null,"",""]
[null,null,null,null,null,null,null,null,null,null,null,"",""]
[null,null,null,null,null,null,null,null,null,null,null,"",""]
[null,null,null,null,null,null,null,null,null,null,null,"",""]
[null,null,null,null,null,null,null,null,null,null,null,"",""]
[null,null,null,null,null,null,null,null,null,null,null,"",""]
[null,null,null,null,null,null,null,null,null,null,null,"",""]
[null,null,null,null,null,null,null,null,null,null,null,"",""]
[null,null,null,null,null,null,null,null,null,null,null,"",""]
[null,null,null,null,null,null,null,null,null,null,null,"",""]
[null,null,null,null,null,null,null,null,null,null,null,"",""]
[null,null,null,null,null,null,null,null,null,null,null,"",""]
[null,null,null,null,null,null,null,null,null,null,null,"",""]
[null,null,null,null,null,null,null,null,null,null,null,"",""]
[null,null,null,null,null,null,null,null,null,null,null,"",""]
[null,null,null,null,null,null,null,null,null,null,null,"",""]
[null,null,null,null,null,null,null,null,null,null,null,"",""]
[null,null,null,null,null,null,null,null,null,null,null,"",""]
[null,null,null,null,null,null,null,null,null,null,null,"",""]
[null,null,null,null,null,null,null,null,null,null,null,"",""]
[null,null,null,null,null,null,null,null,null,null,null,"",""]
[null,null,null,null,null,null,null,null,null,null,null,"",""]
[null,null,null,null,null,null,null,null,null,null,null,"",""]
[null,null,null,null,null,null,null,null,null,null,null,"",""]
[null,null,null,null,null,null,null,null,null,null,null,"",""]
[null,null,null,null,null,null,null,null,null,null,null,"",""]
[null,null,null,null,null,null,null,null,null,null,null,"",""]
[null,null,null,null,null,null,null,null,null,null,null,"",""]
[null,null,null,null,null,null,null,null,null,null,null,"",""]
[null,null,null,null,null,null,null,null,null,null,null,"",""]
[null,null,null,null,null,null,null,null,null,null,null,"",""]
[null,null,null,null,null,null,null,null,null,null,null,"",""]
[null,null,null,null,null,null,null,null,null,null,null,"",""]
[null,null,null,null,null,null,null,null,null,null,null,"",""]
[null,null,null,null,null,null,null,null,null,null,null,"",""]
[null,null,null,null,null,null,null,null,null,null,null,"",""]
[null,null,null,null,null,null,null,null,null,null,null,"",""]
[null,null,null,null,null,null,null,null,null,null,null,"",""]
[null,null,null,null,null,null,null,null,null,null,null,"",""]
[null,null,null,null,null,null,null,null,null,null,null,"",""]
[null,null,null,null,null,null,null,null,null,null,null,"",""]
[null,null,null,null,null,null,null,null,null,null,null,"",""]
[null,null,null,null,null,null,null,null,null,null,null,"",""]
[null,null,null,null,null,null,null,null,null,null,null,"",""]
[null,null,null,null,null,null,null,null,null,null,null,"",""]
[null,null,null,null,null,null,null,null,null,null,null,"",""]
[null,null,null,null,null,null,null,null,null,null,null,"",""]
[null,null,null,null,null,null,null,null,null,null,null,"",""]
[null,null,null,null,null,null,null,null,null,null,null,"",""]
[null,null,null,null,null,null,null,null,null,null,null,"",""]
[null,null,null,null,null,null,null,null,null,null,null,"",""]
[null,null,null,null,null,null,null,null,null,null,null,"",""]
[null,null,null,null,null,null,null,null,null,null,null,"",""]
[null,null,null,null,null,null,null,null,null,null,null,"",""]
[null,null,null,null,null,null,null,null,null,null,null,"",""]
[null,null,null,null,null,null,null,null,null,null,null,"",""]
[null,null,null,null,null,null,null,null,null,null,null,"",""]
[null,null,null,null,null,null,null,null,null,null,null,"",""]
[null,null,null,null,null,null,null,null,null,null,null,"",""]
[null,null,null,null,null,null,null,null,null,null,null,"",""]
[null,null,null,null,null,null,null,null,null,null,null,"",""]
[null,null,null,null,null,null,null,null,null,null,null,"",""]
[null,null,null,null,null,null,null,null,null,null,null,"",""]
[null,null,null,null,null,null,null,null,null,null,null,"",""]
[null,null,null,null,null,null,null,null,null,null,null,"",""]
[null,null,null,null,null,null,null,null,null,null,null,"",""]
[null,null,null,null,null,null,null,null,null,null,null,"",""]
[null,null,null,null,null,null,null,null,null,null,null,"",""]
[null,null,null,null,null,null,null,null,null,null,null,"",""]
[null,null,null,null,null,null,null,null,null,null,null,"",""]
[null,null,null,null,null,null,null,null,null,null,null,"",""]
[null,null,null,null,null,null,null,null,null,null,null,"",""]
[null,null,null,null,null,null,null,null,null,null,null,"",""]
[null,null,null,null,null,null,null,null,null,null,null,"",""]
[null,null,null,null,null,null,null,null,null,null,null,"",""]
[null,null,null,null,null,null,null,null,null,null,null,"",""]
[null,null,null,null,null,null,null,null,null,null,null,"",""]
[null,null,null,null,null,null,null,null,null,null,null,"",""]
[null,null,null,null,null,null,null,null,null,null,null,"",""]
[null,null,null,null,null,null,null,null,null,null,null,"",""]
[null,null,null,null,null,null,null,null,null,null,null,"",""]
[null,null,null,null,null,null,null,null,null,null,null,"",""]
[null,null,null,null,null,null,null,null,null,null,null,"",""]
[null,null,null,null,null,null,null,null,null,null,null,"",""]
[null,null,null,null,null,null,null,null,null,null,null,"",""]
[null,null,null,null,null,null,null,null,null,null,null,"",""]
[null,null,null,null,null,null,null,null,null,null,null,"",""]
[null,null,null,null,null,null,null,null,null,null,null,"",""]
[null,null,null,null,null,null,null,null,null,null,null,"",""]
[null,null,null,null,null,null,null,null,null,null,null,"",""]
[null,null,null,null,null,null,null,null,null,null,null,"",""]
[null,null,null,null,null,null,null,null,null,null,null,"",""]
[null,null,null,null,null,null,null,null,null,null,null,"",""]
[null,null,null,null,null,null,null,null,null,null,null,"",""]
[null,null,null,null,null,null,null,null,null,null,null,"",""]
[null,null,null,null,null,null,null,null,null,null,null,"",""]
[null,null,null,null,null,null,null,null,null,null,null,"",""]
[null,null,null,null,null,null,null,null,null,null,null,"",""]
[null,null,null,null,null,null,null,null,null,null,null,"",""]
[null,null,null,null,null,null,null,null,null,null,null,"",""]
[null,null,null,null,null,null,null,null,null,null,null,"",""]
[null,null,null,null,null,null,null,null,null,null,null,"",""]
[null,null,null,null,null,null,null,null,null,null,null,"",""]
[null,null,null,null,null,null,null,null,null,null,null,"",""]
[null,null,null,null,null,null,null,null,null,null,null,"",""]
[null,null,null,null,null,null,null,null,null,null,null,"",""]
[null,null,null,null,null,null,null,null,null,null,null,"",""]
[null,null,null,null,null,null,null,null,null,null,null,"",""]
[null,null,null,null,null,null,null,null,null,null,null,"",""]
[null,null,null,null,null,null,null,null,null,null,null,"",""]
[null,null,null,null,null,null,null,null,null,null,null,"",""]
[null,null,null,null,null,null,null,null,null,null,null,"",""]
[null,null,null,null,null,null,null,null,null,null,null,"",""]
[null,null,null,null,null,null,null,null,null,null,null,"",""]
[null,null,null,null,null,null,null,null,null,null,null,"",""]
[null,null,null,null,null,null,null,null,null,null,null,"",""]
[null,null,null,null,null,null,null,null,null,null,null,"",""]
[null,null,null,null,null,null,null,null,null,null,null,"",""]
[null,null,null,null,null,null,null,null,null,null,null,"",""]
[null,null,null,null,null,null,null,null,null,null,null,"",""]
[null,null,null,null,null,null,null,null,null,null,null,"",""]
[null,null,null,null,null,null,null,null,null,null,null,"",""]
[null,null,null,null,null,null,null,null,null,null,null,"",""]
[null,null,null,null,null,null,null,null,null,null,null,"",""]
[null,null,null,null,null,null,null,null,null,null,null,"",""]
[null,null,null,null,null,null,null,null,null,null,null,"",""]
[null,null,null,null,null,null,null,null,null,null,null,"",""]
[null,null,null,null,null,null,null,null,null,null,null,"",""]
[null,null,null,null,null,null,null,null,null,null,null,"",""]
[null,null,null,null,null,null,null,null,null,null,null,"",""]
[null,null,null,null,null,null,null,null,null,null,null,"",""]
[null,null,null,null,null,null,null,null,null,null,null,"",""]
[null,null,null,null,null,null,null,null,null,null,null,"",""]
[null,null,null,null,null,null,null,null,null,null,null,"",""]
[null,null,null,null,null,null,null,null,null,null,null,"",""]
[null,null,null,null,null,null,null,null,null,null,null,"",""]
[null,null,null,null,null,null,null,null,null,null,null,"",""]
[null,null,null,null,null,null,null,null,null,null,null,"",""]
[null,null,null,null,null,null,null,null,null,null,null,"",""]
[null,null,null,null,null,null,null,null,null,null,null,"",""]
[null,null,null,null,null,null,null,null,null,null,null,"",""]
[null,null,null,null,null,null,null,null,null,null,null,"",""]
[null,null,null,null,null,null,null,null,null,null,null,"",""]
[null,null,null,null,null,null,null,null,null,null,null,"",""]
[null,null,null,null,null,null,null,null,null,null,null,"",""]
[null,null,null,null,null,null,null,null,null,null,null,"",""]
[null,null,null,null,null,null,null,null,null,null,null,"",""]
[null,null,null,null,null,null,null,null,null,null,null,"",""]
[null,null,null,null,null,null,null,null,null,null,null,"",""]
[null,null,null,null,null,null,null,null,null,null,null,"",""]
[null,null,null,null,null,null,null,null,null,null,null,"",""]
[null,null,null,null,null,null,null,null,null,null,null,"",""]
[null,null,null,null,null,null,null,null,null,null,null,"",""]
[null,null,null,null,null,null,null,null,null,null,null,"",""]
[null,null,null,null,null,null,null,null,null,null,null,"",""]
[null,null,null,null,null,null,null,null,null,null,null,"",""]
[null,null,null,null,null,null,null,null,null,null,null,"",""]
[null,null,null,null,null,null,null,null,null,null,null,"",""]
[null,null,null,null,null,null,null,null,null,null,null,"",""]
[null,null,null,null,null,null,null,null,null,null,null,"",""]
[null,null,null,null,null,null,null,null,null,null,null,"",""]
[null,null,null,null,null,null,null,null,null,null,null,"",""]
[null,null,null,null,null,null,null,null,null,null,null,"",""]
[null,null,null,null,null,null,null,null,null,null,null,"",""]
[null,null,null,null,null,null,null,null,null,null,null,"",""]
[null,null,null,null,null,null,null,null,null,null,null,"",""]
[null,null,null,null,null,null,null,null,null,null,null,"",""]
[null,null,null,null,null,null,null,null,null,null,null,"",""]
[null,null,null,null,null,null,null,null,null,null,null,"",""]
[null,null,null,null,null,null,null,null,null,null,null,"",""]
[null,null,null,null,null,null,null,null,null,null,null,"",""]
[null,null,null,null,null,null,null,null,null,null,null,"",""]
[null,null,null,null,null,null,null,null,null,null,null,"",""]
[null,null,null,null,null,null,null,null,null,null,null,"",""]
[null,null,null,null,null,null,null,null,null,null,null,"",""]
[null,null,null,null,null,null,null,null,null,null,null,"",""]
[null,null,null,null,null,null,null,null,null,null,null,"",""]
[null,null,null,null,null,null,null,null,null,null,null,"",""]
[null,null,null,null,null,null,null,null,null,null,null,"",""]
[null,null,null,null,null,null,null,null,null,null,null,"",""]
[null,null,null,null,null,null,null,null,null,null,null,"",""]
[null,null,null,null,null,null,null,null,null,null,null,"",""]
[null,null,null,null,null,null,null,null,null,null,null,"",""]
[null,null,null,null,null,null,null,null,null,null,null,"",""]
[null,null,null,null,null,null,null,null,null,null,null,"",""]
[null,null,null,null,null,null,null,null,null,null,null,"",""]
[null,null,null,null,null,null,null,null,null,null,null,"",""]
[null,null,null,null,null,null,null,null,null,null,null,"",""]
[null,null,null,null,null,null,null,null,null,null,null,"",""]
[null,null,null,null,null,null,null,null,null,null,null,"",""]
[null,null,null,null,null,null,null,null,null,null,null,"",""]
[null,null,null,null,null,null,null,null,null,null,null,"",""]
[null,null,null,null,null,null,null,null,null,null,null,"",""]
[null,null,null,null,null,null,null,null,null,null,null,"",""]
[null,null,null,null,null,null,null,null,null,null,null,"",""]
[null,null,null,null,null,null,null,null,null,null,null,"",""]
[null,null,null,null,null,null,null,null,null,null,null,"",""]
[null,null,null,null,null,null,null,null,null,null,null,"",""]
[null,null,null,null,null,null,null,null,null,null,null,"",""]
[null,null,null,null,null,null,null,null,null,null,null,"",""]
[null,null,null,null,null,null,null,null,null,null,null,"",""]
[null,null,null,null,null,null,null,null,null,null,null,"",""]
[null,null,null,null,null,null,null,null,null,null,null,"",""]
[null,null,null,null,null,null,null,null,null,null,null,"",""]
[null,null,null,null,null,null,null,null,null,null,null,"",""]
[null,null,null,null,null,null,null,null,null,null,null,"",""]
[null,null,null,null,null,null,null,null,null,null,null,"",""]
[null,null,null,null,null,null,null,null,null,null,null,"",""]
[null,null,null,null,null,null,null,null,null,null,null,"",""]
[null,null,null,null,null,null,null,null,null,null,null,"",""]
[null,null,null,null,null,null,null,null,null,null,null,"",""]
[null,null,null,null,null,null,null,null,null,null,null,"",""]
[null,null,null,null,null,null,null,null,null,null,null,"",""]
[null,null,null,null,null,null,null,null,null,null,null,"",""]
[null,null,null,null,null,null,null,null,null,null,null,"",""]
[null,null,null,null,null,null,null,null,null,null,null,"",""]
[null,null,null,null,null,null,null,null,null,null,null,"",""]
[null,null,null,null,null,null,null,null,null,null,null,"",""]
[null,null,null,null,null,null,null,null,null,null,null,"",""]
[null,null,null,null,null,null,null,null,null,null,null,"",""]
[null,null,null,null,null,null,null,null,null,null,null,"",""]
[null,null,null,null,null,null,null,null,null,null,null,"",""]
[null,null,null,null,null,null,null,null,null,null,null,"",""]
[null,null,null,null,null,null,null,null,null,null,null,"",""]
[null,null,null,null,null,null,null,null,null,null,null,"",""]
[null,null,null,null,null,null,null,null,null,null,null,"",""]
[null,null,null,null,null,null,null,null,null,null,null,"",""]
[null,null,null,null,null,null,null,null,null,null,null,"",""]
[null,null,null,null,null,null,null,null,null,null,null,"",""]
[null,null,null,null,null,null,null,null,null,null,null,"",""]
[null,null,null,null,null,null,null,null,null,null,null,"",""]
[null,null,null,null,null,null,null,null,null,null,null,"",""]
[null,null,null,null,null,null,null,null,null,null,null,"",""]
[null,null,null,null,null,null,null,null,null,null,null,"",""]
[null,null,null,null,null,null,null,null,null,null,null,"",""]
[null,null,null,null,null,null,null,null,null,null,null,"",""]
[null,null,null,null,null,null,null,null,null,null,null,"",""]
[null,null,null,null,null,null,null,null,null,null,null,"",""]
[null,null,null,null,null,null,null,null,null,null,null,"",""]
[null,null,null,null,null,null,null,null,null,null,null,"",""]
[null,null,null,null,null,null,null,null,null,null,null,"",""]
[null,null,null,null,null,null,null,null,null,null,null,"",""]
[null,null,null,null,null,null,null,null,null,null,null,"",""]
[null,null,null,null,null,null,null,null,null,null,null,"",""]
[null,null,null,null,null,null,null,null,null,null,null,"",""]
[null,null,null,null,null,null,null,null,null,null,null,"",""]
[null,null,null,null,null,null,null,null,null,null,null,"",""]
[null,null,null,null,null,null,null,null,null,null,null,"",""]
[null,null,null,null,null,null,null,null,null,null,null,"",""]
[null,null,null,null,null,null,null,null,null,null,null,"",""]
[null,null,null,null,null,null,null,null,null,null,null,"",""]
[null,null,null,null,null,null,null,null,null,null,null,"",""]
[null,null,null,null,null,null,null,null,null,null,null,"",""]
[null,null,null,null,null,null,null,null,null,null,null,"",""]
[null,null,null,null,null,null,null,null,null,null,null,"",""]
[null,null,null,null,null,null,null,null,null,null,null,"",""]
[null,null,null,null,null,null,null,null,null,null,null,"",""]
[null,null,null,null,null,null,null,null,null,null,null,"",""]
[null,null,null,null,null,null,null,null,null,null,null,"",""]
[null,null,null,null,null,null,null,null,null,null,null,"",""]
[null,null,null,null,null,null,null,null,null,null,null,"",""]
[null,null,null,null,null,null,null,null,null,null,null,"",""]
[null,null,null,null,null,null,null,null,null,null,null,"",""]
[null,null,null,null,null,null,null,null,null,null,null,"",""]
[null,null,null,null,null,null,null,null,null,null,null,"",""]
[null,null,null,null,null,null,null,null,null,null,null,"",""]
[null,null,null,null,null,null,null,null,null,null,null,"",""]
[null,null,null,null,null,null,null,null,null,null,null,"",""]
[null,null,null,null,null,null,null,null,null,null,null,"",""]
[null,null,null,null,null,null,null,null,null,null,null,"",""]
[null,null,null,null,null,null,null,null,null,null,null,"",""]
[null,null,null,null,null,null,null,null,null,null,null,"",""]
[null,null,null,null,null,null,null,null,null,null,null,"",""]
[null,null,null,null,null,null,null,null,null,null,null,"",""]
[null,null,null,null,null,null,null,null,null,null,null,"",""]
[null,null,null,null,null,null,null,null,null,null,null,"",""]
[null,null,null,null,null,null,null,null,null,null,null,"",""]
[null,null,null,null,null,null,null,null,null,null,null,"",""]
[null,null,null,null,null,null,null,null,null,null,null,"",""]
[null,null,null,null,null,null,null,null,null,null,null,"",""]
[null,null,null,null,null,null,null,null,null,null,null,"",""]
[null,null,null,null,null,null,null,null,null,null,null,"",""]
[null,null,null,null,null,null,null,null,null,null,null,"",""]
[null,null,null,null,null,null,null,null,null,null,null,"",""]
[null,null,null,null,null,null,null,null,null,null,null,"",""]
[null,null,null,null,null,null,null,null,null,null,null,"",""]
[null,null,null,null,null,null,null,null,null,null,null,"",""]
[null,null,null,null,null,null,null,null,null,null,null,"",""]
[null,null,null,null,null,null,null,null,null,null,null,"",""]
[null,null,null,null,null,null,null,null,null,null,null,"",""]
[null,null,null,null,null,null,null,null,null,null,null,"",""]
[null,null,null,null,null,null,null,null,null,null,null,"",""]
[null,null,null,null,null,null,null,null,null,null,null,"",""]
[null,null,null,null,null,null,null,null,null,null,null,"",""]
[null,null,null,null,null,null,null,null,null,null,null,"",""]
[null,null,null,null,null,null,null,null,null,null,null,"",""]
[null,null,null,null,null,null,null,null,null,null,null,"",""]
[null,null,null,null,null,null,null,null,null,null,null,"",""]
[null,null,null,null,null,null,null,null,null,null,null,"",""]
[null,null,null,null,null,null,null,null,null,null,null,"",""]
[null,null,null,null,null,null,null,null,null,null,null,"",""]
[null,null,null,null,null,null,null,null,null,null,null,"",""]
[null,null,null,null,null,null,null,null,null,null,null,"",""]
[null,null,null,null,null,null,null,null,null,null,null,"",""]
[null,null,null,null,null,null,null,null,null,null,null,"",""]
[null,null,null,null,null,null,null,null,null,null,null,"",""]
[null,null,null,null,null,null,null,null,null,null,null,"",""]
[null,null,null,null,null,null,null,null,null,null,null,"",""]
[null,null,null,null,null,null,null,null,null,null,null,"",""]
[null,null,null,null,null,null,null,null,null,null,null,"",""]
[null,null,null,null,null,null,null,null,null,null,null,"",""]
[null,null,null,null,null,null,null,null,null,null,null,"",""]
[null,null,null,null,null,null,null,null,null,null,null,"",""]
[null,null,null,null,null,null,null,null,null,null,null,"",""]
[null,null,null,null,null,null,null,null,null,null,null,"",""]
[null,null,null,null,null,null,null,null,null,null,null,"",""]
[null,null,null,null,null,null,null,null,null,null,null,"",""]
[null,null,null,null,null,null,null,null,null,null,null,"",""]
[null,null,null,null,null,null,null,null,null,null,null,"",""]
[null,null,null,null,null,null,null,null,null,null,null,"",""]
[null,null,null,null,null,null,null,null,null,null,null,"",""]
[null,null,null,null,null,null,null,null,null,null,null,"",""]
[null,null,null,null,null,null,null,null,null,null,null,"",""]
[null,null,null,null,null,null,null,null,null,null,null,"",""]
[null,null,null,null,null,null,null,null,null,null,null,"",""]
[null,null,null,null,null,null,null,null,null,null,null,"",""]
[null,null,null,null,null,null,null,null,null,null,null,"",""]
[null,null,null,null,null,null,null,null,null,null,null,"",""]
[null,null,null,null,null,null,null,null,null,null,null,"",""]
[null,null,null,null,null,null,null,null,null,null,null,"",""]
[null,null,null,null,null,null,null,null,null,null,null,"",""]
[null,null,null,null,null,null,null,null,null,null,null,"",""]
[null,null,null,null,null,null,null,null,null,null,null,"",""]
[null,null,null,null,null,null,null,null,null,null,null,"",""]
[null,null,null,null,null,null,null,null,null,null,null,"",""]
[null,null,null,null,null,null,null,null,null,null,null,"",""]
[null,null,null,null,null,null,null,null,null,null,null,"",""]
[null,null,null,null,null,null,null,null,null,null,null,"",""]
[null,null,null,null,null,null,null,null,null,null,null,"",""]
[null,null,null,null,null,null,null,null,null,null,null,"",""]
[null,null,null,null,null,null,null,null,null,null,null,"",""]
[null,null,null,null,null,null,null,null,null,null,null,"",""]
[null,null,null,null,null,null,null,null,null,null,null,"",""]
[null,null,null,null,null,null,null,null,null,null,null,"",""]
[null,null,null,null,null,null,null,null,null,null,null,"",""]
[null,null,null,null,null,null,null,null,null,null,null,"",""]
[null,null,null,null,null,null,null,null,null,null,null,"",""]
[null,null,null,null,null,null,null,null,null,null,null,"",""]
[null,null,null,null,null,null,null,null,null,null,null,"",""]
[null,null,null,null,null,null,null,null,null,null,null,"",""]
[null,null,null,null,null,null,null,null,null,null,null,"",""]
[null,null,null,null,null,null,null,null,null,null,null,"",""]
[null,null,null,null,null,null,null,null,null,null,null,"",""]
[null,null,null,null,null,null,null,null,null,null,null,"",""]
[null,null,null,null,null,null,null,null,null,null,null,"",""]
[null,null,null,null,null,null,null,null,null,null,null,"",""]
[null,null,null,null,null,null,null,null,null,null,null,"",""]
[null,null,null,null,null,null,null,null,null,null,null,"",""]
[null,null,null,null,null,null,null,null,null,null,null,"",""]
[null,null,null,null,null,null,null,null,null,null,null,"",""]
[null,null,null,null,null,null,null,null,null,null,null,"",""]
[null,null,null,null,null,null,null,null,null,null,null,"",""]
[null,null,null,null,null,null,null,null,null,null,null,"",""]
[null,null,null,null,null,null,null,null,null,null,null,"",""]
[null,null,null,null,null,null,null,null,null,null,null,"",""]
[null,null,null,null,null,null,null,null,null,null,null,"",""]
[null,null,null,null,null,null,null,null,null,null,null,"",""]
[null,null,null,null,null,null,null,null,null,null,null,"",""]
[null,null,null,null,null,null,null,null,null,null,null,"",""]
[null,null,null,null,null,null,null,null,null,null,null,"",""]
[null,null,null,null,null,null,null,null,null,null,null,"",""]
[null,null,null,null,null,null,null,null,null,null,null,"",""]
[null,null,null,null,null,null,null,null,null,null,null,"",""]
[null,null,null,null,null,null,null,null,null,null,null,"",""]
[null,null,null,null,null,null,null,null,null,null,null,"",""]
[null,null,null,null,null,null,null,null,null,null,null,"",""]
[null,null,null,null,null,null,null,null,null,null,null,"",""]
[null,null,null,null,null,null,null,null,null,null,null,"",""]
[null,null,null,null,null,null,null,null,null,null,null,"",""]
[null,null,null,null,null,null,null,null,null,null,null,"",""]
[null,null,null,null,null,null,null,null,null,null,null,"",""]
[null,null,null,null,null,null,null,null,null,null,null,"",""]
[null,null,null,null,null,null,null,null,null,null,null,"",""]
[null,null,null,null,null,null,null,null,null,null,null,"",""]
[null,null,null,null,null,null,null,null,null,null,null,"",""]
[null,null,null,null,null,null,null,null,null,null,null,"",""]
[null,null,null,null,null,null,null,null,null,null,null,"",""]
[null,null,null,null,null,null,null,null,null,null,null,"",""]
[null,null,null,null,null,null,null,null,null,null,null,"",""]
[null,null,null,null,null,null,null,null,null,null,null,"",""]
[null,null,null,null,null,null,null,null,null,null,null,"",""]
[null,null,null,null,null,null,null,null,null,null,null,"",""]
[null,null,null,null,null,null,null,null,null,null,null,"",""]
[null,null,null,null,null,null,null,null,null,null,null,"",""]
[null,null,null,null,null,null,null,null,null,null,null,"",""]
[null,null,null,null,null,null,null,null,null,null,null,"",""]
[null,null,null,null,null,null,null,null,null,null,null,"",""]
[null,null,null,null,null,null,null,null,null,null,null,"",""]
[null,null,null,null,null,null,null,null,null,null,null,"",""]
[null,null,null,null,null,null,null,null,null,null,null,"",""]
[null,null,null,null,null,null,null,null,null,null,null,"",""]
[null,null,null,null,null,null,null,null,null,null,null,"",""]
[null,null,null,null,null,null,null,null,null,null,null,"",""]
[null,null,null,null,null,null,null,null,null,null,null,"",""]
[null,null,null,null,null,null,null,null,null,null,null,"",""]
[null,null,null,null,null,null,null,null,null,null,null,"",""]
[null,null,null,null,null,null,null,null,null,null,null,"",""]
[null,null,null,null,null,null,null,null,null,null,null,"",""]
[null,null,null,null,null,null,null,null,null,null,null,"",""]
[null,null,null,null,null,null,null,null,null,null,null,"",""]
[null,null,null,null,null,null,null,null,null,null,null,"",""]
[null,null,null,null,null,null,null,null,null,null,null,"",""]
[null,null,null,null,null,null,null,null,null,null,null,"",""]
[null,null,null,null,null,null,null,null,null,null,null,"",""]
[null,null,null,null,null,null,null,null,null,null,null,"",""]
[null,null,null,null,null,null,null,null,null,null,null,"",""]
[null,null,null,null,null,null,null,null,null,null,null,"",""]
[null,null,null,null,null,null,null,null,null,null,null,"",""]
[null,null,null,null,null,null,null,null,null,null,null,"",""]
[null,null,null,null,null,null,null,null,null,null,null,"",""]
[null,null,null,null,null,null,null,null,null,null,null,"",""]
[null,null,null,null,null,null,null,null,null,null,null,"",""]
[null,null,null,null,null,null,null,null,null,null,null,"",""]
[null,null,null,null,null,null,null,null,null,null,null,"",""]
[null,null,null,null,null,null,null,null,null,null,null,"",""]
[null,null,null,null,null,null,null,null,null,null,null,"",""]
[null,null,null,null,null,null,null,null,null,null,null,"",""]
[null,null,null,null,null,null,null,null,null,null,null,"",""]
[null,null,null,null,null,null,null,null,null,null,null,"",""]
[null,null,null,null,null,null,null,null,null,null,null,"",""]
[null,null,null,null,null,null,null,null,null,null,null,"",""]
[null,null,null,null,null,null,null,null,null,null,null,"",""]
[null,null,null,null,null,null,null,null,null,null,null,"",""]
[null,null,null,null,null,null,null,null,null,null,null,"",""]
[null,null,null,null,null,null,null,null,null,null,null,"",""]
[null,null,null,null,null,null,null,null,null,null,null,"",""]
[null,null,null,null,null,null,null,null,null,null,null,"",""]
[null,null,null,null,null,null,null,null,null,null,null,"",""]
[null,null,null,null,null,null,null,null,null,null,null,"",""]
[null,null,null,null,null,null,null,null,null,null,null,"",""]
[null,null,null,null,null,null,null,null,null,null,null,"",""]
[null,null,null,null,null,null,null,null,null,null,null,"",""]
[null,null,null,null,null,null,null,null,null,null,null,"",""]
[null,null,null,null,null,null,null,null,null,null,null,"",""]
[null,null,null,null,null,null,null,null,null,null,null,"",""]
[null,null,null,null,null,null,null,null,null,null,null,"",""]
[null,null,null,null,null,null,null,null,null,null,null,"",""]
[null,null,null,null,null,null,null,null,null,null,null,"",""]
[null,null,null,null,null,null,null,null,null,null,null,"",""]
[null,null,null,null,null,null,null,null,null,null,null,"",""]
[null,null,null,null,null,null,null,null,null,null,null,"",""]
[null,null,null,null,null,null,null,null,null,null,null,"",""]
[null,null,null,null,null,null,null,null,null,null,null,"",""]
[null,null,null,null,null,null,null,null,null,null,null,"",""]
[null,null,null,null,null,null,null,null,null,null,null,"",""]
[null,null,null,null,null,null,null,null,null,null,null,"",""]
[null,null,null,null,null,null,null,null,null,null,null,"",""]
[null,null,null,null,null,null,null,null,null,null,null,"",""]
[null,null,null,null,null,null,null,null,null,null,null,"",""]
[null,null,null,null,null,null,null,null,null,null,null,"",""]
[null,null,null,null,null,null,null,null,null,null,null,"",""]
[null,null,null,null,null,null,null,null,null,null,null,"",""]
[null,null,null,null,null,null,null,null,null,null,null,"",""]
[null,null,null,null,null,null,null,null,null,null,null,"",""]
[null,null,null,null,null,null,null,null,null,null,null,"",""]
[null,null,null,null,null,null,null,null,null,null,null,"",""]
[null,null,null,null,null,null,null,null,null,null,null,"",""]
[null,null,null,null,null,null,null,null,null,null,null,"",""]
[null,null,null,null,null,null,null,null,null,null,null,"",""]
[null,null,null,null,null,null,null,null,null,null,null,"",""]
[null,null,null,null,null,null,null,null,null,null,null,"",""]
[null,null,null,null,null,null,null,null,null,null,null,"",""]
[null,null,null,null,null,null,null,null,null,null,null,"",""]
[null,null,null,null,null,null,null,null,null,null,null,"",""]
[null,null,null,null,null,null,null,null,null,null,null,"",""]
[null,null,null,null,null,null,null,null,null,null,null,"",""]
[null,null,null,null,null,null,null,null,null,null,null,"",""]
[null,null,null,null,null,null,null,null,null,null,null,"",""]
[null,null,null,null,null,null,null,null,null,null,null,"",""]
[null,null,null,null,null,null,null,null,null,null,null,"",""]
[null,null,null,null,null,null,null,null,null,null,null,"",""]
[null,null,null,null,null,null,null,null,null,null,null,"",""]
[null,null,null,null,null,null,null,null,null,null,null,"",""]
[null,null,null,null,null,null,null,null,null,null,null,"",""]
[null,null,null,null,null,null,null,null,null,null,null,"",""]
[null,null,null,null,null,null,null,null,null,null,null,"",""]
[null,null,null,null,null,null,null,null,null,null,null,"",""]
[null,null,null,null,null,null,null,null,null,null,null,"",""]
[null,null,null,null,null,null,null,null,null,null,null,"",""]
[null,null,null,null,null,null,null,null,null,null,null,"",""]
[null,null,null,null,null,null,null,null,null,null,null,"",""]
[null,null,null,null,null,null,null,null,null,null,null,"",""]
[null,null,null,null,null,null,null,null,null,null,null,"",""]
[null,null,null,null,null,null,null,null,null,null,null,"",""]
[null,null,null,null,null,null,null,null,null,null,null,"",""]
[null,null,null,null,null,null,null,null,null,null,null,"",""]
[null,null,null,null,null,null,null,null,null,null,null,"",""]
[null,null,null,null,null,null,null,null,null,null,null,"",""]
[null,null,null,null,null,null,null,null,null,null,null,"",""]
[null,null,null,null,null,null,null,null,null,null,null,"",""]
[null,null,null,null,null,null,null,null,null,null,null,"",""]
[null,null,null,null,null,null,null,null,null,null,null,"",""]
[null,null,null,null,null,null,null,null,null,null,null,"",""]
[null,null,null,null,null,null,null,null,null,null,null,"",""]
[null,null,null,null,null,null,null,null,null,null,null,"",""]
[null,null,null,null,null,null,null,null,null,null,null,"",""]
[null,null,null,null,null,null,null,null,null,null,null,"",""]
[null,null,null,null,null,null,null,null,null,null,null,"",""]
[null,null,null,null,null,null,null,null,null,null,null,"",""]
[null,null,null,null,null,null,null,null,null,null,null,"",""]
[null,null,null,null,null,null,null,null,null,null,null,"",""]
[null,null,null,null,null,null,null,null,null,null,null,"",""]
[null,null,null,null,null,null,null,null,null,null,null,"",""]
[null,null,null,null,null,null,null,null,null,null,null,"",""]
[null,null,null,null,null,null,null,null,null,null,null,"",""]
[null,null,null,null,null,null,null,null,null,null,null,"",""]
[null,null,null,null,null,null,null,null,null,null,null,"",""]
[null,null,null,null,null,null,null,null,null,null,null,"",""]
[null,null,null,null,null,null,null,null,null,null,null,"",""]
[null,null,null,null,null,null,null,null,null,null,null,"",""]
[null,null,null,null,null,null,null,null,null,null,null,"",""]
[null,null,null,null,null,null,null,null,null,null,null,"",""]
[null,null,null,null,null,null,null,null,null,null,null,"",""]
[null,null,null,null,null,null,null,null,null,null,null,"",""]
[null,null,null,null,null,null,null,null,null,null,null,"",""]
[null,null,null,null,null,null,null,null,null,null,null,"",""]
[null,null,null,null,null,null,null,null,null,null,null,"",""]
[null,null,null,null,null,null,null,null,null,null,null,"",""]
[null,null,null,null,null,null,null,null,null,null,null,"",""]
[null,null,null,null,null,null,null,null,null,null,null,"",""]
[null,null,null,null,null,null,null,null,null,null,null,"",""]
[null,null,null,null,null,null,null,null,null,null,null,"",""]
[null,null,null,null,null,null,null,null,null,null,null,"",""]
[null,null,null,null,null,null,null,null,null,null,null,"",""]
[null,null,null,null,null,null,null,null,null,null,null,"",""]
[null,null,null,null,null,null,null,null,null,null,null,"",""]
[null,null,null,null,null,null,null,null,null,null,null,"",""]
[null,null,null,null,null,null,null,null,null,null,null,"",""]
[null,null,null,null,null,null,null,null,null,null,null,"",""]
[null,null,null,null,null,null,null,null,null,null,null,"",""]
[null,null,null,null,null,null,null,null,null,null,null,"",""]
[null,null,null,null,null,null,null,null,null,null,null,"",""]
[null,null,null,null,null,null,null,null,null,null,null,"",""]
[null,null,null,null,null,null,null,null,null,null,null,"",""]
[null,null,null,null,null,null,null,null,null,null,null,"",""]
[null,null,null,null,null,null,null,null,null,null,null,"",""]
[null,null,null,null,null,null,null,null,null,null,null,"",""]
[null,null,null,null,null,null,null,null,null,null,null,"",""]
[null,null,null,null,null,null,null,null,null,null,null,"",""]
[null,null,null,null,null,null,null,null,null,null,null,"",""]
[null,null,null,null,null,null,null,null,null,null,null,"",""]
[null,null,null,null,null,null,null,null,null,null,null,"",""]
[null,null,null,null,null,null,null,null,null,null,null,"",""]
[null,null,null,null,null,null,null,null,null,null,null,"",""]
[null,null,null,null,null,null,null,null,null,null,null,"",""]
[null,null,null,null,null,null,null,null,null,null,null,"",""]
[null,null,null,null,null,null,null,null,null,null,null,"",""]
[null,null,null,null,null,null,null,null,null,null,null,"",""]
[null,null,null,null,null,null,null,null,null,null,null,"",""]
[null,null,null,null,null,null,null,null,null,null,null,"",""]
[null,null,null,null,null,null,null,null,null,null,null,"",""]
[null,null,null,null,null,null,null,null,null,null,null,"",""]
[null,null,null,null,null,null,null,null,null,null,null,"",""]
[null,null,null,null,null,null,null,null,null,null,null,"",""]
[null,null,null,null,null,null,null,null,null,null,null,"",""]
[null,null,null,null,null,null,null,null,null,null,null,"",""]
[null,null,null,null,null,null,null,null,null,null,null,"",""]
[null,null,null,null,null,null,null,null,null,null,null,"",""]
[null,null,null,null,null,null,null,null,null,null,null,"",""]
[null,null,null,null,null,null,null,null,null,null,null,"",""]
[null,null,null,null,null,null,null,null,null,null,null,"",""]
[null,null,null,null,null,null,null,null,null,null,null,"",""]
[null,null,null,null,null,null,null,null,null,null,null,"",""]
[null,null,null,null,null,null,null,null,null,null,null,"",""]
[null,null,null,null,null,null,null,null,null,null,null,"",""]
[null,null,null,null,null,null,null,null,null,null,null,"",""]
[null,null,null,null,null,null,null,null,null,null,null,"",""]
[null,null,null,null,null,null,null,null,null,null,null,"",""]
[null,null,null,null,null,null,null,null,null,null,null,"",""]
[null,null,null,null,null,null,null,null,null,null,null,"",""]
[null,null,null,null,null,null,null,null,null,null,null,"",""]
[null,null,null,null,null,null,null,null,null,null,null,"",""]
[null,null,null,null,null,null,null,null,null,null,null,"",""]
[null,null,null,null,null,null,null,null,null,null,null,"",""]
[null,null,null,null,null,null,null,null,null,null,null,"",""]
[null,null,null,null,null,null,null,null,null,null,null,"",""]
[null,null,null,null,null,null,null,null,null,null,null,"",""]
[null,null,null,null,null,null,null,null,null,null,null,"",""]
[null,null,null,null,null,null,null,null,null,null,null,"",""]
[null,null,null,null,null,null,null,null,null,null,null,"",""]
[null,null,null,null,null,null,null,null,null,null,null,"",""]
[null,null,null,null,null,null,null,null,null,null,null,"",""]
[null,null,null,null,null,null,null,null,null,null,null,"",""]
[null,null,null,null,null,null,null,null,null,null,null,"",""]
[null,null,null,null,null,null,null,null,null,null,null,"",""]
[null,null,null,null,null,null,null,null,null,null,null,"",""]
[null,null,null,null,null,null,null,null,null,null,null,"",""]
[null,null,null,null,null,null,null,null,null,null,null,"",""]
[null,null,null,null,null,null,null,null,null,null,null,"",""]
[null,null,null,null,null,null,null,null,null,null,null,"",""]
[null,null,null,null,null,null,null,null,null,null,null,"",""]
[null,null,null,null,null,null,null,null,null,null,null,"",""]
[null,null,null,null,null,null,null,null,null,null,null,"",""]
[null,null,null,null,null,null,null,null,null,null,null,"",""]
[null,null,null,null,null,null,null,null,null,null,null,"",""]
[null,null,null,null,null,null,null,null,null,null,null,"",""]
[null,null,null,null,null,null,null,null,null,null,null,"",""]
[null,null,null,null,null,null,null,null,null,null,null,"",""]
[null,null,null,null,null,null,null,null,null,null,null,"",""]
[null,null,null,null,null,null,null,null,null,null,null,"",""]
[null,null,null,null,null,null,null,null,null,null,null,"",""]
[null,null,null,null,null,null,null,null,null,null,null,"",""]
[null,null,null,null,null,null,null,null,null,null,null,"",""]
[null,null,null,null,null,null,null,null,null,null,null,"",""]
[null,null,null,null,null,null,null,null,null,null,null,"",""]
[null,null,null,null,null,null,null,null,null,null,null,"",""]
[null,null,null,null,null,null,null,null,null,null,null,"",""]
[null,null,null,null,null,null,null,null,null,null,null,"",""]
[null,null,null,null,null,null,null,null,null,null,null,"",""]
[null,null,null,null,null,null,null,null,null,null,null,"",""]
[null,null,null,null,null,null,null,null,null,null,null,"",""]
[null,null,null,null,null,null,null,null,null,null,null,"",""]
[null,null,null,null,null,null,null,null,null,null,null,"",""]
[null,null,null,null,null,null,null,null,null,null,null,"",""]
[null,null,null,null,null,null,null,null,null,null,null,"",""]
[null,null,null,null,null,null,null,null,null,null,null,"",""]
[null,null,null,null,null,null,null,null,null,null,null,"",""]
[null,null,null,null,null,null,null,null,null,null,null,"",""]
[null,null,null,null,null,null,null,null,null,null,null,"",""]
[null,null,null,null,null,null,null,null,null,null,null,"",""]
[null,null,null,null,null,null,null,null,null,null,null,"",""]
[null,null,null,null,null,null,null,null,null,null,null,"",""]
[null,null,null,null,null,null,null,null,null,null,null,"",""]
[null,null,null,null,null,null,null,null,null,null,null,"",""]
[null,null,null,null,null,null,null,null,null,null,null,"",""]
[null,null,null,null,null,null,null,null,null,null,null,"",""]
[null,null,null,null,null,null,null,null,null,null,null,"",""]
[null,null,null,null,null,null,null,null,null,null,null,"",""]
[null,null,null,null,null,null,null,null,null,null,null,"",""]
[null,null,null,null,null,null,null,null,null,null,null,"",""]
[null,null,null,null,null,null,null,null,null,null,null,"",""]
[null,null,null,null,null,null,null,null,null,null,null,"",""]
[null,null,null,null,null,null,null,null,null,null,null,"",""]
[null,null,null,null,null,null,null,null,null,null,null,"",""]
[null,null,null,null,null,null,null,null,null,null,null,"",""]
[null,null,null,null,null,null,null,null,null,null,null,"",""]
[null,null,null,null,null,null,null,null,null,null,null,"",""]
[null,null,null,null,null,null,null,null,null,null,null,"",""]
[null,null,null,null,null,null,null,null,null,null,null,"",""]
[null,null,null,null,null,null,null,null,null,null,null,"",""]
[null,null,null,null,null,null,null,null,null,null,null,"",""]
[null,null,null,null,null,null,null,null,null,null,null,"",""]
[null,null,null,null,null,null,null,null,null,null,null,"",""]
[null,null,null,null,null,null,null,null,null,null,null,"",""]
[null,null,null,null,null,null,null,null,null,null,null,"",""]
[null,null,null,null,null,null,null,null,null,null,null,"",""]
[null,null,null,null,null,null,null,null,null,null,null,"",""]
[null,null,null,null,null,null,null,null,null,null,null,"",""]
[null,null,null,null,null,null,null,null,null,null,null,"",""]
[null,null,null,null,null,null,null,null,null,null,null,"",""]
[null,null,null,null,null,null,null,null,null,null,null,"",""]
[null,null,null,null,null,null,null,null,null,null,null,"",""]
[null,null,null,null,null,null,null,null,null,null,null,"",""]
[null,null,null,null,null,null,null,null,null,null,null,"",""]
[null,null,null,null,null,null,null,null,null,null,null,"",""]
[null,null,null,null,null,null,null,null,null,null,null,"",""]
[null,null,null,null,null,null,null,null,null,null,null,"",""]
[null,null,null,null,null,null,null,null,null,null,null,"",""]
[null,null,null,null,null,null,null,null,null,null,null,"",""]
[null,null,null,null,null,null,null,null,null,null,null,"",""]
[null,null,null,null,null,null,null,null,null,null,null,"",""]
[null,null,null,null,null,null,null,null,null,null,null,"",""]
[null,null,null,null,null,null,null,null,null,null,null,"",""]
[null,null,null,null,null,null,null,null,null,null,null,"",""]
[null,null,null,null,null,null,null,null,null,null,null,"",""]
[null,null,null,null,null,null,null,null,null,null,null,"",""]
[null,null,null,null,null,null,null,null,null,null,null,"",""]
[null,null,null,null,null,null,null,null,null,null,null,"",""]
[null,null,null,null,null,null,null,null,null,null,null,"",""]
[null,null,null,null,null,null,null,null,null,null,null,"",""]
[null,null,null,null,null,null,null,null,null,null,null,"",""]
[null,null,null,null,null,null,null,null,null,null,null,"",""]
[null,null,null,null,null,null,null,null,null,null,null,"",""]
[null,null,null,null,null,null,null,null,null,null,null,"",""]
[null,null,null,null,null,null,null,null,null,null,null,"",""]
[null,null,null,null,null,null,null,null,null,null,null,"",""]
[null,null,null,null,null,null,null,null,null,null,null,"",""]
[null,null,null,null,null,null,null,null,null,null,null,"",""]
[null,null,null,null,null,null,null,null,null,null,null,"",""]
[null,null,null,null,null,null,null,null,null,null,null,"",""]
[null,null,null,null,null,null,null,null,null,null,null,"",""]
[null,null,null,null,null,null,null,null,null,null,null,"",""]
[null,null,null,null,null,null,null,null,null,null,null,"",""]
[null,null,null,null,null,null,null,null,null,null,null,"",""]
[null,null,null,null,null,null,null,null,null,null,null,"",""]
[null,null,null,null,null,null,null,null,null,null,null,"",""]
[null,null,null,null,null,null,null,null,null,null,null,"",""]
[null,null,null,null,null,null,null,null,null,null,null,"",""]
[null,null,null,null,null,null,null,null,null,null,null,"",""]
[null,null,null,null,null,null,null,null,null,null,null,"",""]
[null,null,null,null,null,null,null,null,null,null,null,"",""]
[null,null,null,null,null,null,null,null,null,null,null,"",""]
[null,null,null,null,null,null,null,null,null,null,null,"",""]
[null,null,null,null,null,null,null,null,null,null,null,"",""]
[null,null,null,null,null,null,null,null,null,null,null,"",""]
[null,null,null,null,null,null,null,null,null,null,null,"",""]
[null,null,null,null,null,null,null,null,null,null,null,"",""]
[null,null,null,null,null,null,null,null,null,null,null,"",""]
[null,null,null,null,null,null,null,null,null,null,null,"",""]
[null,null,null,null,null,null,null,null,null,null,null,"",""]
[null,null,null,null,null,null,null,null,null,null,null,"",""]
[null,null,null,null,null,null,null,null,null,null,null,"",""]
[null,null,null,null,null,null,null,null,null,null,null,"",""]
[null,null,null,null,null,null,null,null,null,null,null,"",""]
[null,null,null,null,null,null,null,null,null,null,null,"",""]
[null,null,null,null,null,null,null,null,null,null,null,"",""]
[null,null,null,null,null,null,null,null,null,null,null,"",""]
[null,null,null,null,null,null,null,null,null,null,null,"",""]
[null,null,null,null,null,null,null,null,null,null,null,"",""]
[null,null,null,null,null,null,null,null,null,null,null,"",""]
[null,null,null,null,null,null,null,null,null,null,null,"",""]
[null,null,null,null,null,null,null,null,null,null,null,"",""]
[null,null,null,null,null,null,null,null,null,null,null,"",""]
[null,null,null,null,null,null,null,null,null,null,null,"",""]
[null,null,null,null,null,null,null,null,null,null,null,"",""]
[null,null,null,null,null,null,null,null,null,null,null,"",""]
[null,null,null,null,null,null,null,null,null,null,null,"",""]
[null,null,null,null,null,null,null,null,null,null,null,"",""]
[null,null,null,null,null,null,null,null,null,null,null,"",""]
[null,null,null,null,null,null,null,null,null,null,null,"",""]
[null,null,null,null,null,null,null,null,null,null,null,"",""]
[null,null,null,null,null,null,null,null,null,null,null,"",""]
[null,null,null,null,null,null,null,null,null,null,null,"",""]
[null,null,null,null,null,null,null,null,null,null,null,"",""]
[null,null,null,null,null,null,null,null,null,null,null,"",""]
[null,null,null,null,null,null,null,null,null,null,null,"",""]
[null,null,null,null,null,null,null,null,null,null,null,"",""]
[null,null,null,null,null,null,null,null,null,null,null,"",""]
[null,null,null,null,null,null,null,null,null,null,null,"",""]
[null,null,null,null,null,null,null,null,null,null,null,"",""]
[null,null,null,null,null,null,null,null,null,null,null,"",""]
[null,null,null,null,null,null,null,null,null,null,null,"",""]
[null,null,null,null,null,null,null,null,null,null,null,"",""]
[null,null,null,null,null,null,null,null,null,null,null,"",""]
[null,null,null,null,null,null,null,null,null,null,null,"",""]
[null,null,null,null,null,null,null,null,null,null,null,"",""]
[null,null,null,null,null,null,null,null,null,null,null,"",""]
[null,null,null,null,null,null,null,null,null,null,null,"",""]
[null,null,null,null,null,null,null,null,null,null,null,"",""]
[null,null,null,null,null,null,null,null,null,null,null,"",""]
[null,null,null,null,null,null,null,null,null,null,null,"",""]
[null,null,null,null,null,null,null,null,null,null,null,"",""]
[null,null,null,null,null,null,null,null,null,null,null,"",""]
[null,null,null,null,null,null,null,null,null,null,null,"",""]
[null,null,null,null,null,null,null,null,null,null,null,"",""]
[null,null,null,null,null,null,null,null,null,null,null,"",""]
[null,null,null,null,null,null,null,null,null,null,null,"",""]
[null,null,null,null,null,null,null,null,null,null,null,"",""]
[null,null,null,null,null,null,null,null,null,null,null,"",""]
[null,null,null,null,null,null,null,null,null,null,null,"",""]
[null,null,null,null,null,null,null,null,null,null,null,"",""]
[null,null,null,null,null,null,null,null,null,null,null,"",""]
[null,null,null,null,null,null,null,null,null,null,null,"",""]
[null,null,null,null,null,null,null,null,null,null,null,"",""]
[null,null,null,null,null,null,null,null,null,null,null,"",""]
[null,null,null,null,null,null,null,null,null,null,null,"",""]
[null,null,null,null,null,null,null,null,null,null,null,"",""]
[null,null,null,null,null,null,null,null,null,null,null,"",""]
[null,null,null,null,null,null,null,null,null,null,null,"",""]
[null,null,null,null,null,null,null,null,null,null,null,"",""]
[null,null,null,null,null,null,null,null,null,null,null,"",""]
[null,null,null,null,null,null,null,null,null,null,null,"",""]
[null,null,null,null,null,null,null,null,null,null,null,"",""]
[null,null,null,null,null,null,null,null,null,null,null,"",""]
[null,null,null,null,null,null,null,null,null,null,null,"",""]
[null,null,null,null,null,null,null,null,null,null,null,"",""]
[null,null,null,null,null,null,null,null,null,null,null,"",""]
[null,null,null,null,null,null,null,null,null,null,null,"",""]
[null,null,null,null,null,null,null,null,null,null,null,"",""]
[null,null,null,null,null,null,null,null,null,null,null,"",""]
[null,null,null,null,null,null,null,null,null,null,null,"",""]
[null,null,null,null,null,null,null,null,null,null,null,"",""]
[null,null,null,null,null,null,null,null,null,null,null,"",""]
[null,null,null,null,null,null,null,null,null,null,null,"",""]
[null,null,null,null,null,null,null,null,null,null,null,"",""]
[null,null,null,null,null,null,null,null,null,null,null,"",""]
[null,null,null,null,null,null,null,null,null,null,null,"",""]
[null,null,null,null,null,null,null,null,null,null,null,"",""]
[null,null,null,null,null,null,null,null,null,null,null,"",""]
[null,null,null,null,null,null,null,null,null,null,null,"",""]
[null,null,null,null,null,null,null,null,null,null,null,"",""]
[null,null,null,null,null,null,null,null,null,null,null,"",""]
[null,null,null,null,null,null,null,null,null,null,null,"",""]
[null,null,null,null,null,null,null,null,null,null,null,"",""]
[null,null,null,null,null,null,null,null,null,null,null,"",""]
[null,null,null,null,null,null,null,null,null,null,null,"",""]
[null,null,null,null,null,null,null,null,null,null,null,"",""]
[null,null,null,null,null,null,null,null,null,null,null,"",""]
[null,null,null,null,null,null,null,null,null,null,null,"",""]
[null,null,null,null,null,null,null,null,null,null,null,"",""]
[null,null,null,null,null,null,null,null,null,null,null,"",""]
[null,null,null,null,null,null,null,null,null,null,null,"",""]
[null,null,null,null,null,null,null,null,null,null,null,"",""]
[null,null,null,null,null,null,null,null,null,null,null,"",""]
[null,null,null,null,null,null,null,null,null,null,null,"",""]
[null,null,null,null,null,null,null,null,null,null,null,"",""]
[null,null,null,null,null,null,null,null,null,null,null,"",""]
[null,null,null,null,null,null,null,null,null,null,null,"",""]
[null,null,null,null,null,null,null,null,null,null,null,"",""]
[null,null,null,null,null,null,null,null,null,null,null,"",""]
[null,null,null,null,null,null,null,null,null,null,null,"",""]
[null,null,null,null,null,null,null,null,null,null,null,"",""]
[null,null,null,null,null,null,null,null,null,null,null,"",""]
[null,null,null,null,null,null,null,null,null,null,null,"",""]
[null,null,null,null,null,null,null,null,null,null,null,"",""]
[null,null,null,null,null,null,null,null,null,null,null,"",""]
[null,null,null,null,null,null,null,null,null,null,null,"",""]
[null,null,null,null,null,null,null,null,null,null,null,"",""]
[null,null,null,null,null,null,null,null,null,null,null,"",""]
[null,null,null,null,null,null,null,null,null,null,null,"",""]
[null,null,null,null,null,null,null,null,null,null,null,"",""]
[null,null,null,null,null,null,null,null,null,null,null,"",""]
[null,null,null,null,null,null,null,null,null,null,null,"",""]
[null,null,null,null,null,null,null,null,null,null,null,"",""]
[null,null,null,null,null,null,null,null,null,null,null,"",""]
[null,null,null,null,null,null,null,null,null,null,null,"",""]
[null,null,null,null,null,null,null,null,null,null,null,"",""]
[null,null,null,null,null,null,null,null,null,null,null,"",""]
[null,null,null,null,null,null,null,null,null,null,null,"",""]
[null,null,null,null,null,null,null,null,null,null,null,"",""]
[null,null,null,null,null,null,null,null,null,null,null,"",""]
[null,null,null,null,null,null,null,null,null,null,null,"",""]
[null,null,null,null,null,null,null,null,null,null,null,"",""]
[null,null,null,null,null,null,null,null,null,null,null,"",""]
[null,null,null,null,null,null,null,null,null,null,null,"",""]
[null,null,null,null,null,null,null,null,null,null,null,"",""]
[null,null,null,null,null,null,null,null,null,null,null,"",""]
[null,null,null,null,null,null,null,null,null,null,null,"",""]
[null,null,null,null,null,null,null,null,null,null,null,"",""]
[null,null,null,null,null,null,null,null,null,null,null,"",""]
[null,null,null,null,null,null,null,null,null,null,null,"",""]
[null,null,null,null,null,null,null,null,null,null,null,"",""]
[null,null,null,null,null,null,null,null,null,null,null,"",""]
[null,null,null,null,null,null,null,null,null,null,null,"",""]
[null,null,null,null,null,null,null,null,null,null,null,"",""]
[null,null,null,null,null,null,null,null,null,null,null,"",""]
[null,null,null,null,null,null,null,null,null,null,null,"",""]
[null,null,null,null,null,null,null,null,null,null,null,"",""]
[null,null,null,null,null,null,null,null,null,null,null,"",""]
[null,null,null,null,null,null,null,null,null,null,null,"",""]
[null,null,null,null,null,null,null,null,null,null,null,"",""]
[null,null,null,null,null,null,null,null,null,null,null,"",""]
[null,null,null,null,null,null,null,null,null,null,null,"",""]
[null,null,null,null,null,null,null,null,null,null,null,"",""]
[null,null,null,null,null,null,null,null,null,null,null,"",""]
[null,null,null,null,null,null,null,null,null,null,null,"",""]
[null,null,null,null,null,null,null,null,null,null,null,"",""]
[null,null,null,null,null,null,null,null,null,null,null,"",""]
[null,null,null,null,null,null,null,null,null,null,null,"",""]
[null,null,null,null,null,null,null,null,null,null,null,"",""]
[null,null,null,null,null,null,null,null,null,null,null,"",""]
[null,null,null,null,null,null,null,null,null,null,null,"",""]
[null,null,null,null,null,null,null,null,null,null,null,"",""]
[null,null,null,null,null,null,null,null,null,null,null,"",""]
[null,null,null,null,null,null,null,null,null,null,null,"",""]
[null,null,null,null,null,null,null,null,null,null,null,"",""]
[null,null,null,null,null,null,null,null,null,null,null,"",""]
[null,null,null,null,null,null,null,null,null,null,null,"",""]
[null,null,null,null,null,null,null,null,null,null,null,"",""]
[null,null,null,null,null,null,null,null,null,null,null,"",""]
[null,null,null,null,null,null,null,null,null,null,null,"",""]
[null,null,null,null,null,null,null,null,null,null,null,"",""]
[null,null,null,null,null,null,null,null,null,null,null,"",""]
[null,null,null,null,null,null,null,null,null,null,null,"",""]
[null,null,null,null,null,null,null,null,null,null,null,"",""]
[null,null,null,null,null,null,null,null,null,null,null,"",""]
[null,null,null,null,null,null,null,null,null,null,null,"",""]
[null,null,null,null,null,null,null,null,null,null,null,"",""]
[null,null,null,null,null,null,null,null,null,null,null,"",""]
[null,null,null,null,null,null,null,null,null,null,null,"",""]
[null,null,null,null,null,null,null,null,null,null,null,"",""]
[null,null,null,null,null,null,null,null,null,null,null,"",""]
[null,null,null,null,null,null,null,null,null,null,null,"",""]
[null,null,null,null,null,null,null,null,null,null,null,"",""]
[null,null,null,null,null,null,null,null,null,null,null,"",""]
[null,null,null,null,null,null,null,null,null,null,null,"",""]
[null,null,null,null,null,null,null,null,null,null,null,"",""]
[null,null,null,null,null,null,null,null,null,null,null,"",""]
[null,null,null,null,null,null,null,null,null,null,null,"",""]
[null,null,null,null,null,null,null,null,null,null,null,"",""]
[null,null,null,null,null,null,null,null,null,null,null,"",""]
[null,null,null,null,null,null,null,null,null,null,null,"",""]
[null,null,null,null,null,null,null,null,null,null,null,"",""]
[null,null,null,null,null,null,null,null,null,null,null,"",""]
[null,null,null,null,null,null,null,null,null,null,null,"",""]
[null,null,null,null,null,null,null,null,null,null,null,"",""]
[null,null,null,null,null,null,null,null,null,null,null,"",""]
[null,null,null,null,null,null,null,null,null,null,null,"",""]
[null,null,null,null,null,null,null,null,null,null,null,"",""]
[null,null,null,null,null,null,null,null,null,null,null,"",""]
[null,null,null,null,null,null,null,null,null,null,null,"",""]
[null,null,null,null,null,null,null,null,null,null,null,"",""]
[null,null,null,null,null,null,null,null,null,null,null,"",""]
[null,null,null,null,null,null,null,null,null,null,null,"",""]
[null,null,null,null,null,null,null,null,null,null,null,"",""]
[null,null,null,null,null,null,null,null,null,null,null,"",""]
[null,null,null,null,null,null,null,null,null,null,null,"",""]
[null,null,null,null,null,null,null,null,null,null,null,"",""]
[null,null,null,null,null,null,null,null,null,null,null,"",""]
[null,null,null,null,null,null,null,null,null,null,null,"",""]
[null,null,null,null,null,null,null,null,null,null,null,"",""]
[null,null,null,null,null,null,null,null,null,null,null,"",""]
[null,null,null,null,null,null,null,null,null,null,null,"",""]
[null,null,null,null,null,null,null,null,null,null,null,"",""]
[null,null,null,null,null,null,null,null,null,null,null,"",""]
[null,null,null,null,null,null,null,null,null,null,null,"",""]
[null,null,null,null,null,null,null,null,null,null,null,"",""]
[null,null,null,null,null,null,null,null,null,null,null,"",""]
[null,null,null,null,null,null,null,null,null,null,null,"",""]
[null,null,null,null,null,null,null,null,null,null,null,"",""]
[null,null,null,null,null,null,null,null,null,null,null,"",""]
[null,null,null,null,null,null,null,null,null,null,null,"",""]
[null,null,null,null,null,null,null,null,null,null,null,"",""]
[null,null,null,null,null,null,null,null,null,null,null,"",""]
[null,null,null,null,null,null,null,null,null,null,null,"",""]
[null,null,null,null,null,null,null,null,null,null,null,"",""]
[null,null,null,null,null,null,null,null,null,null,null,"",""]
[null,null,null,null,null,null,null,null,null,null,null,"",""]
[null,null,null,null,null,null,null,null,null,null,null,"",""]
[null,null,null,null,null,null,null,null,null,null,null,"",""]
[null,null,null,null,null,null,null,null,null,null,null,"",""]
[null,null,null,null,null,null,null,null,null,null,null,"",""]
[null,null,null,null,null,null,null,null,null,null,null,"",""]
[null,null,null,null,null,null,null,null,null,null,null,"",""]
[null,null,null,null,null,null,null,null,null,null,null,"",""]
[null,null,null,null,null,null,null,null,null,null,null,"",""]
[null,null,null,null,null,null,null,null,null,null,null,"",""]
[null,null,null,null,null,null,null,null,null,null,null,"",""]
[null,null,null,null,null,null,null,null,null,null,null,"",""]
[null,null,null,null,null,null,null,null,null,null,null,"",""]
[null,null,null,null,null,null,null,null,null,null,null,"",""]
[null,null,null,null,null,null,null,null,null,null,null,"",""]
[null,null,null,null,null,null,null,null,null,null,null,"",""]
[null,null,null,null,null,null,null,null,null,null,null,"",""]
[null,null,null,null,null,null,null,null,null,null,null,"",""]
[null,null,null,null,null,null,null,null,null,null,null,"",""]
[null,null,null,null,null,null,null,null,null,null,null,"",""]
[null,null,null,null,null,null,null,null,null,null,null,"",""]
[null,null,null,null,null,null,null,null,null,null,null,"",""]
[null,null,null,null,null,null,null,null,null,null,null,"",""]
[null,null,null,null,null,null,null,null,null,null,null,"",""]
[null,null,null,null,null,null,null,null,null,null,null,"",""]
[null,null,null,null,null,null,null,null,null,null,null,"",""]
[null,null,null,null,null,null,null,null,null,null,null,"",""]
[null,null,null,null,null,null,null,null,null,null,null,"",""]
[null,null,null,null,null,null,null,null,null,null,null,"",""]
[null,null,null,null,null,null,null,null,null,null,null,"",""]
[null,null,null,null,null,null,null,null,null,null,null,"",""]
[null,null,null,null,null,null,null,null,null,null,null,"",""]
[null,null,null,null,null,null,null,null,null,null,null,"",""]
[null,null,null,null,null,null,null,null,null,null,null,"",""]
[null,null,null,null,null,null,null,null,null,null,null,"",""]
[null,null,null,null,null,null,null,null,null,null,null,"",""]
[null,null,null,null,null,null,null,null,null,null,null,"",""]
[null,null,null,null,null,null,null,null,null,null,null,"",""]
[null,null,null,null,null,null,null,null,null,null,null,"",""]
[null,null,null,null,null,null,null,null,null,null,null,"",""]
[null,null,null,null,null,null,null,null,null,null,null,"",""]
[null,null,null,null,null,null,null,null,null,null,null,"",""]
[null,null,null,null,null,null,null,null,null,null,null,"",""]
[null,null,null,null,null,null,null,null,null,null,null,"",""]
[null,null,null,null,null,null,null,null,null,null,null,"",""]
[null,null,null,null,null,null,null,null,null,null,null,"",""]
[null,null,null,null,null,null,null,null,null,null,null,"",""]
[null,null,null,null,null,null,null,null,null,null,null,"",""]
[null,null,null,null,null,null,null,null,null,null,null,"",""]
[null,null,null,null,null,null,null,null,null,null,null,"",""]
[null,null,null,null,null,null,null,null,null,null,null,"",""]
[null,null,null,null,null,null,null,null,null,null,null,"",""]
[null,null,null,null,null,null,null,null,null,null,null,"",""]
[null,null,null,null,null,null,null,null,null,null,null,"",""]
[null,null,null,null,null,null,null,null,null,null,null,"",""]
[null,null,null,null,null,null,null,null,null,null,null,"",""]
[null,null,null,null,null,null,null,null,null,null,null,"",""]
[null,null,null,null,null,null,null,null,null,null,null,"",""]
[null,null,null,null,null,null,null,null,null,null,null,"",""]
[null,null,null,null,null,null,null,null,null,null,null,"",""]
[null,null,null,null,null,null,null,null,null,null,null,"",""]
[null,null,null,null,null,null,null,null,null,null,null,"",""]
[null,null,null,null,null,null,null,null,null,null,null,"",""]
[null,null,null,null,null,null,null,null,null,null,null,"",""]
[null,null,null,null,null,null,null,null,null,null,null,"",""]
[null,null,null,null,null,null,null,null,null,null,null,"",""]
[null,null,null,null,null,null,null,null,null,null,null,"",""]
[null,null,null,null,null,null,null,null,null,null,null,"",""]
[null,null,null,null,null,null,null,null,null,null,null,"",""]
[null,null,null,null,null,null,null,null,null,null,null,"",""]
[null,null,null,null,null,null,null,null,null,null,null,"",""]
[null,null,null,null,null,null,null,null,null,null,null,"",""]
[null,null,null,null,null,null,null,null,null,null,null,"",""]
[null,null,null,null,null,null,null,null,null,null,null,"",""]
[null,null,null,null,null,null,null,null,null,null,null,"",""]
[null,null,null,null,null,null,null,null,null,null,null,"",""]
[null,null,null,null,null,null,null,null,null,null,null,"",""]
[null,null,null,null,null,null,null,null,null,null,null,"",""]
[null,null,null,null,null,null,null,null,null,null,null,"",""]
[null,null,null,null,null,null,null,null,null,null,null,"",""]
[null,null,null,null,null,null,null,null,null,null,null,"",""]
[null,null,null,null,null,null,null,null,null,null,null,"",""]
[null,null,null,null,null,null,null,null,null,null,null,"",""]
[null,null,null,null,null,null,null,null,null,null,null,"",""]
[null,null,null,null,null,null,null,null,null,null,null,"",""]
[null,null,null,null,null,null,null,null,null,null,null,"",""]
[null,null,null,null,null,null,null,null,null,null,null,"",""]
[null,null,null,null,null,null,null,null,null,null,null,"",""]
[null,null,null,null,null,null,null,null,null,null,null,"",""]
[null,null,null,null,null,null,null,null,null,null,null,"",""]
[null,null,null,null,null,null,null,null,null,null,null,"",""]
[null,null,null,null,null,null,null,null,null,null,null,"",""]
[null,null,null,null,null,null,null,null,null,null,null,"",""]
[null,null,null,null,null,null,null,null,null,null,null,"",""]
[null,null,null,null,null,null,null,null,null,null,null,"",""]
[null,null,null,null,null,null,null,null,null,null,null,"",""]
[null,null,null,null,null,null,null,null,null,null,null,"",""]
[null,null,null,null,null,null,null,null,null,null,null,"",""]
[null,null,null,null,null,null,null,null,null,null,null,"",""]
[null,null,null,null,null,null,null,null,null,null,null,"",""]
[null,null,null,null,null,null,null,null,null,null,null,"",""]
[null,null,null,null,null,null,null,null,null,null,null,"",""]
[null,null,null,null,null,null,null,null,null,null,null,"",""]
[null,null,null,null,null,null,null,null,null,null,null,"",""]
[null,null,null,null,null,null,null,null,null,null,null,"",""]
[null,null,null,null,null,null,null,null,null,null,null,"",""]
[null,null,null,null,null,null,null,null,null,null,null,"",""]
[null,null,null,null,null,null,null,null,null,null,null,"",""]
[null,null,null,null,null,null,null,null,null,null,null,"",""]
[null,null,null,null,null,null,null,null,null,null,null,"",""]
[null,null,null,null,null,null,null,null,null,null,null,"",""]
[null,null,null,null,null,null,null,null,null,null,null,"",""]
[null,null,null,null,null,null,null,null,null,null,null,"",""]
[null,null,null,null,null,null,null,null,null,null,null,"",""]
[null,null,null,null,null,null,null,null,null,null,null,"",""]
[null,null,null,null,null,null,null,null,null,null,null,"",""]
[null,null,null,null,null,null,null,null,null,null,null,"",""]
[null,null,null,null,null,null,null,null,null,null,null,"",""]
[null,null,null,null,null,null,null,null,null,null,null,"",""]
[null,null,null,null,null,null,null,null,null,null,null,"",""]
[null,null,null,null,null,null,null,null,null,null,null,"",""]
[null,null,null,null,null,null,null,null,null,null,null,"",""]
[null,null,null,null,null,null,null,null,null,null,null,"",""]
[null,null,null,null,null,null,null,null,null,null,null,"",""]
[null,null,null,null,null,null,null,null,null,null,null,"",""]
[null,null,null,null,null,null,null,null,null,null,null,"",""]
[null,null,null,null,null,null,null,null,null,null,null,"",""]
[null,null,null,null,null,null,null,null,null,null,null,"",""]
[null,null,null,null,null,null,null,null,null,null,null,"",""]
[null,null,null,null,null,null,null,null,null,null,null,"",""]
[null,null,null,null,null,null,null,null,null,null,null,"",""]
[null,null,null,null,null,null,null,null,null,null,null,"",""]
[null,null,null,null,null,null,null,null,null,null,null,"",""]
[null,null,null,null,null,null,null,null,null,null,null,"",""]
[null,null,null,null,null,null,null,null,null,null,null,"",""]
[null,null,null,null,null,null,null,null,null,null,null,"",""]
[null,null,null,null,null,null,null,null,null,null,null,"",""]
[null,null,null,null,null,null,null,null,null,null,null,"",""]
[null,null,null,null,null,null,null,null,null,null,null,"",""]
[null,null,null,null,null,null,null,null,null,null,null,"",""]
[null,null,null,null,null,null,null,null,null,null,null,"",""]
[null,null,null,null,null,null,null,null,null,null,null,"",""]
[null,null,null,null,null,null,null,null,null,null,null,"",""]
[null,null,null,null,null,null,null,null,null,null,null,"",""]
[null,null,null,null,null,null,null,null,null,null,null,"",""]
[null,null,null,null,null,null,null,null,null,null,null,"",""]
[null,null,null,null,null,null,null,null,null,null,null,"",""]
[null,null,null,null,null,null,null,null,null,null,null,"",""]
[null,null,null,null,null,null,null,null,null,null,null,"",""]
[null,null,null,null,null,null,null,null,null,null,null,"",""]
[null,null,null,null,null,null,null,null,null,null,null,"",""]
[null,null,null,null,null,null,null,null,null,null,null,"",""]
[null,null,null,null,null,null,null,null,null,null,null,"",""]
[null,null,null,null,null,null,null,null,null,null,null,"",""]
[null,null,null,null,null,null,null,null,null,null,null,"",""]
[null,null,null,null,null,null,null,null,null,null,null,"",""]
[null,null,null,null,null,null,null,null,null,null,null,"",""]
[null,null,null,null,null,null,null,null,null,null,null,"",""]
[null,null,null,null,null,null,null,null,null,null,null,"",""]
[null,null,null,null,null,null,null,null,null,null,null,"",""]
[null,null,null,null,null,null,null,null,null,null,null,"",""]
[null,null,null,null,null,null,null,null,null,null,null,"",""]
[null,null,null,null,null,null,null,null,null,null,null,"",""]
[null,null,null,null,null,null,null,null,null,null,null,"",""]
[null,null,null,null,null,null,null,null,null,null,null,"",""]
[null,null,null,null,null,null,null,null,null,null,null,"",""]
[null,null,null,null,null,null,null,null,null,null,null,"",""]
[null,null,null,null,null,null,null,null,null,null,null,"",""]
[null,null,null,null,null,null,null,null,null,null,null,"",""]
[null,null,null,null,null,null,null,null,null,null,null,"",""]
[null,null,null,null,null,null,null,null,null,null,null,"",""]
[null,null,null,null,null,null,null,null,null,null,null,"",""]
[null,null,null,null,null,null,null,null,null,null,null,"",""]
[null,null,null,null,null,null,null,null,null,null,null,"",""]
[null,null,null,null,null,null,null,null,null,null,null,"",""]
[null,null,null,null,null,null,null,null,null,null,null,"",""]
[null,null,null,null,null,null,null,null,null,null,null,"",""]
[null,null,null,null,null,null,null,null,null,null,null,"",""]
[null,null,null,null,null,null,null,null,null,null,null,"",""]
[null,null,null,null,null,null,null,null,null,null,null,"",""]
[null,null,null,null,null,null,null,null,null,null,null,"",""]
[null,null,null,null,null,null,null,null,null,null,null,"",""]
[null,null,null,null,null,null,null,null,null,null,null,"",""]
[null,null,null,null,null,null,null,null,null,null,null,"",""]
[null,null,null,null,null,null,null,null,null,null,null,"",""]
[null,null,null,null,null,null,null,null,null,null,null,"",""]
[null,null,null,null,null,null,null,null,null,null,null,"",""]
[null,null,null,null,null,null,null,null,null,null,null,"",""]
[null,null,null,null,null,null,null,null,null,null,null,"",""]
[null,null,null,null,null,null,null,null,null,null,null,"",""]
[null,null,null,null,null,null,null,null,null,null,null,"",""]
[null,null,null,null,null,null,null,null,null,null,null,"",""]
[null,null,null,null,null,null,null,null,null,null,null,"",""]
[null,null,null,null,null,null,null,null,null,null,null,"",""]
[null,null,null,null,null,null,null,null,null,null,null,"",""]
[null,null,null,null,null,null,null,null,null,null,null,"",""]
[null,null,null,null,null,null,null,null,null,null,null,"",""]
[null,null,null,null,null,null,null,null,null,null,null,"",""]
[null,null,null,null,null,null,null,null,null,null,null,"",""]
[null,null,null,null,null,null,null,null,null,null,null,"",""]
[null,null,null,null,null,null,null,null,null,null,null,"",""]
[null,null,null,null,null,null,null,null,null,null,null,"",""]
[null,null,null,null,null,null,null,null,null,null,null,"",""]
[null,null,null,null,null,null,null,null,null,null,null,"",""]
[null,null,null,null,null,null,null,null,null,null,null,"",""]
[null,null,null,null,null,null,null,null,null,null,null,"",""]
[null,null,null,null,null,null,null,null,null,null,null,"",""]
[null,null,null,null,null,null,null,null,null,null,null,"",""]
[null,null,null,null,null,null,null,null,null,null,null,"",""]
[null,null,null,null,null,null,null,null,null,null,null,"",""]
[null,null,null,null,null,null,null,null,null,null,null,"",""]
[null,null,null,null,null,null,null,null,null,null,null,"",""]
[null,null,null,null,null,null,null,null,null,null,null,"",""]
[null,null,null,null,null,null,null,null,null,null,null,"",""]
[null,null,null,null,null,null,null,null,null,null,null,"",""]
[null,null,null,null,null,null,null,null,null,null,null,"",""]
[null,null,null,null,null,null,null,null,null,null,null,"",""]
[null,null,null,null,null,null,null,null,null,null,null,"",""]
[null,null,null,null,null,null,null,null,null,null,null,"",""]
[null,null,null,null,null,null,null,null,null,null,null,"",""]
[null,null,null,null,null,null,null,null,null,null,null,"",""]
[null,null,null,null,null,null,null,null,null,null,null,"",""]
[null,null,null,null,null,null,null,null,null,null,null,"",""]
[null,null,null,null,null,null,null,null,null,null,null,"",""]
[null,null,null,null,null,null,null,null,null,null,null,"",""]
[null,null,null,null,null,null,null,null,null,null,null,"",""]
[null,null,null,null,null,null,null,null,null,null,null,"",""]
[null,null,null,null,null,null,null,null,null,null,null,"",""]
[null,null,null,null,null,null,null,null,null,null,null,"",""]
[null,null,null,null,null,null,null,null,null,null,null,"",""]
[null,null,null,null,null,null,null,null,null,null,null,"",""]
[null,null,null,null,null,null,null,null,null,null,null,"",""]
[null,null,null,null,null,null,null,null,null,null,null,"",""]
[null,null,null,null,null,null,null,null,null,null,null,"",""]
[null,null,null,null,null,null,null,null,null,null,null,"",""]
[null,null,null,null,null,null,null,null,null,null,null,"",""]
[null,null,null,null,null,null,null,null,null,null,null,"",""]
[null,null,null,null,null,null,null,null,null,null,null,"",""]
[null,null,null,null,null,null,null,null,null,null,null,"",""]
[null,null,null,null,null,null,null,null,null,null,null,"",""]
[null,null,null,null,null,null,null,null,null,null,null,"",""]
[null,null,null,null,null,null,null,null,null,null,null,"",""]
[null,null,null,null,null,null,null,null,null,null,null,"",""]
[null,null,null,null,null,null,null,null,null,null,null,"",""]
[null,null,null,null,null,null,null,null,null,null,null,"",""]
[null,null,null,null,null,null,null,null,null,null,null,"",""]
[null,null,null,null,null,null,null,null,null,null,null,"",""]
[null,null,null,null,null,null,null,null,null,null,null,"",""]
[null,null,null,null,null,null,null,null,null,null,null,"",""]
[null,null,null,null,null,null,null,null,null,null,null,"",""]
[null,null,null,null,null,null,null,null,null,null,null,"",""]
[null,null,null,null,null,null,null,null,null,null,null,"",""]
[null,null,null,null,null,null,null,null,null,null,null,"",""]
[null,null,null,null,null,null,null,null,null,null,null,"",""]
[null,null,null,null,null,null,null,null,null,null,null,"",""]
[null,null,null,null,null,null,null,null,null,null,null,"",""]
[null,null,null,null,null,null,null,null,null,null,null,"",""]
[null,null,null,null,null,null,null,null,null,null,null,"",""]
[null,null,null,null,null,null,null,null,null,null,null,"",""]
[null,null,null,null,null,null,null,null,null,null,null,"",""]
[null,null,null,null,null,null,null,null,null,null,null,"",""]
[null,null,null,null,null,null,null,null,null,null,null,"",""]
[null,null,null,null,null,null,null,null,null,null,null,"",""]
[null,null,null,null,null,null,null,null,null,null,null,"",""]
[null,null,null,null,null,null,null,null,null,null,null,"",""]
[null,null,null,null,null,null,null,null,null,null,null,"",""]
[null,null,null,null,null,null,null,null,null,null,null,"",""]
[null,null,null,null,null,null,null,null,null,null,null,"",""]
[null,null,null,null,null,null,null,null,null,null,null,"",""]
[null,null,null,null,null,null,null,null,null,null,null,"",""]
[null,null,null,null,null,null,null,null,null,null,null,"",""]
[null,null,null,null,null,null,null,null,null,null,null,"",""]
[null,null,null,null,null,null,null,null,null,null,null,"",""]
[null,null,null,null,null,null,null,null,null,null,null,"",""]
[null,null,null,null,null,null,null,null,null,null,null,"",""]
[null,null,null,null,null,null,null,null,null,null,null,"",""]
[null,null,null,null,null,null,null,null,null,null,null,"",""]
[null,null,null,null,null,null,null,null,null,null,null,"",""]
[null,null,null,null,null,null,null,null,null,null,null,"",""]
[null,null,null,null,null,null,null,null,null,null,null,"",""]
[null,null,null,null,null,null,null,null,null,null,null,"",""]
[null,null,null,null,null,null,null,null,null,null,null,"",""]
[null,null,null,null,null,null,null,null,null,null,null,"",""]
[null,null,null,null,null,null,null,null,null,null,null,"",""]
[null,null,null,null,null,null,null,null,null,null,null,"",""]
[null,null,null,null,null,null,null,null,null,null,null,"",""]
[null,null,null,null,null,null,null,null,null,null,null,"",""]
[null,null,null,null,null,null,null,null,null,null,null,"",""]
[null,null,null,null,null,null,null,null,null,null,null,"",""]
[null,null,null,null,null,null,null,null,null,null,null,"",""]
[null,null,null,null,null,null,null,null,null,null,null,"",""]
[null,null,null,null,null,null,null,null,null,null,null,"",""]
[null,null,null,null,null,null,null,null,null,null,null,"",""]
[null,null,null,null,null,null,null,null,null,null,null,"",""]
[null,null,null,null,null,null,null,null,null,null,null,"",""]
[null,null,null,null,null,null,null,null,null,null,null,"",""]
[null,null,null,null,null,null,null,null,null,null,null,"",""]
[null,null,null,null,null,null,null,null,null,null,null,"",""]
[null,null,null,null,null,null,null,null,null,null,null,"",""]
[null,null,null,null,null,null,null,null,null,null,null,"",""]
[null,null,null,null,null,null,null,null,null,null,null,"",""]
[null,null,null,null,null,null,null,null,null,null,null,"",""]
[null,null,null,null,null,null,null,null,null,null,null,"",""]
[null,null,null,null,null,null,null,null,null,null,null,"",""]
[null,null,null,null,null,null,null,null,null,null,null,"",""]
[null,null,null,null,null,null,null,null,null,null,null,"",""]
[null,null,null,null,null,null,null,null,null,null,null,"",""]
[null,null,null,null,null,null,null,null,null,null,null,"",""]
[null,null,null,null,null,null,null,null,null,null,null,"",""]
[null,null,null,null,null,null,null,null,null,null,null,"",""]
[null,null,null,null,null,null,null,null,null,null,null,"",""]
[null,null,null,null,null,null,null,null,null,null,null,"",""]
[null,null,null,null,null,null,null,null,null,null,null,"",""]
[null,null,null,null,null,null,null,null,null,null,null,"",""]
[null,null,null,null,null,null,null,null,null,null,null,"",""]
[null,null,null,null,null,null,null,null,null,null,null,"",""]
[null,null,null,null,null,null,null,null,null,null,null,"",""]
[null,null,null,null,null,null,null,null,null,null,null,"",""]
[null,null,null,null,null,null,null,null,null,null,null,"",""]
[null,null,null,null,null,null,null,null,null,null,null,"",""]
[null,null,null,null,null,null,null,null,null,null,null,"",""]
[null,null,null,null,null,null,null,null,null,null,null,"",""]
[null,null,null,null,null,null,null,null,null,null,null,"",""]
[null,null,null,null,null,null,null,null,null,null,null,"",""]
[null,null,null,null,null,null,null,null,null,null,null,"",""]
[null,null,null,null,null,null,null,null,null,null,null,"",""]
[null,null,null,null,null,null,null,null,null,null,null,"",""]
[null,null,null,null,null,null,null,null,null,null,null,"",""]
[null,null,null,null,null,null,null,null,null,null,null,"",""]
[null,null,null,null,null,null,null,null,null,null,null,"",""]
[null,null,null,null,null,null,null,null,null,null,null,"",""]
[null,null,null,null,null,null,null,null,null,null,null,"",""]
[null,null,null,null,null,null,null,null,null,null,null,"",""]
[null,null,null,null,null,null,null,null,null,null,null,"",""]
[null,null,null,null,null,null,null,null,null,null,null,"",""]
[null,null,null,null,null,null,null,null,null,null,null,"",""]
[null,null,null,null,null,null,null,null,null,null,null,"",""]
[null,null,null,null,null,null,null,null,null,null,null,"",""]
[null,null,null,null,null,null,null,null,null,null,null,"",""]
[null,null,null,null,null,null,null,null,null,null,null,"",""]
[null,null,null,null,null,null,null,null,null,null,null,"",""]
[null,null,null,null,null,null,null,null,null,null,null,"",""]
[null,null,null,null,null,null,null,null,null,null,null,"",""]
[null,null,null,null,null,null,null,null,null,null,null,"",""]
[null,null,null,null,null,null,null,null,null,null,null,"",""]
[null,null,null,null,null,null,null,null,null,null,null,"",""]
[null,null,null,null,null,null,null,null,null,null,null,"",""]
[null,null,null,null,null,null,null,null,null,null,null,"",""]
[null,null,null,null,null,null,null,null,null,null,null,"",""]
[null,null,null,null,null,null,null,null,null,null,null,"",""]
[null,null,null,null,null,null,null,null,null,null,null,"",""]
[null,null,null,null,null,null,null,null,null,null,null,"",""]
[null,null,null,null,null,null,null,null,null,null,null,"",""]
[null,null,null,null,null,null,null,null,null,null,null,"",""]
[null,null,null,null,null,null,null,null,null,null,null,"",""]
[null,null,null,null,null,null,null,null,null,null,null,"",""]
[null,null,null,null,null,null,null,null,null,null,null,"",""]
[null,null,null,null,null,null,null,null,null,null,null,"",""]
[null,null,null,null,null,null,null,null,null,null,null,"",""]
[null,null,null,null,null,null,null,null,null,null,null,"",""]
[null,null,null,null,null,null,null,null,null,null,null,"",""]
[null,null,null,null,null,null,null,null,null,null,null,"",""]
[null,null,null,null,null,null,null,null,null,null,null,"",""]
[null,null,null,null,null,null,null,null,null,null,null,"",""]
[null,null,null,null,null,null,null,null,null,null,null,"",""]
[null,null,null,null,null,null,null,null,null,null,null,"",""]
[null,null,null,null,null,null,null,null,null,null,null,"",""]
[null,null,null,null,null,null,null,null,null,null,null,"",""]
[null,null,null,null,null,null,null,null,null,null,null,"",""]
[null,null,null,null,null,null,null,null,null,null,null,"",""]
[null,null,null,null,null,null,null,null,null,null,null,"",""]
[null,null,null,null,null,null,null,null,null,null,null,"",""]
[null,null,null,null,null,null,null,null,null,null,null,"",""]
[null,null,null,null,null,null,null,null,null,null,null,"",""]
[null,null,null,null,null,null,null,null,null,null,null,"",""]
[null,null,null,null,null,null,null,null,null,null,null,"",""]
[null,null,null,null,null,null,null,null,null,null,null,"",""]
[null,null,null,null,null,null,null,null,null,null,null,"",""]
[null,null,null,null,null,null,null,null,null,null,null,"",""]
[null,null,null,null,null,null,null,null,null,null,null,"",""]
[null,null,null,null,null,null,null,null,null,null,null,"",""]
[null,null,null,null,null,null,null,null,null,null,null,"",""]
[null,null,null,null,null,null,null,null,null,null,null,"",""]
[null,null,null,null,null,null,null,null,null,null,null,"",""]
[null,null,null,null,null,null,null,null,null,null,null,"",""]
[null,null,null,null,null,null,null,null,null,null,null,"",""]
[null,null,null,null,null,null,null,null,null,null,null,"",""]
[null,null,null,null,null,null,null,null,null,null,null,"",""]
[null,null,null,null,null,null,null,null,null,null,null,"",""]
[null,null,null,null,null,null,null,null,null,null,null,"",""]
[null,null,null,null,null,null,null,null,null,null,null,"",""]
[null,null,null,null,null,null,null,null,null,null,null,"",""]
[null,null,null,null,null,null,null,null,null,null,null,"",""]
[null,null,null,null,null,null,null,null,null,null,null,"",""]
[null,null,null,null,null,null,null,null,null,null,null,"",""]
[null,null,null,null,null,null,null,null,null,null,null,"",""]
[null,null,null,null,null,null,null,null,null,null,null,"",""]
[null,null,null,null,null,null,null,null,null,null,null,"",""]
[null,null,null,null,null,null,null,null,null,null,null,"",""]
[null,null,null,null,null,null,null,null,null,null,null,"",""]
[null,null,null,null,null,null,null,null,null,null,null,"",""]
[null,null,null,null,null,null,null,null,null,null,null,"",""]
[null,null,null,null,null,null,null,null,null,null,null,"",""]
[null,null,null,null,null,null,null,null,null,null,null,"",""]
[null,null,null,null,null,null,null,null,null,null,null,"",""]
[null,null,null,null,null,null,null,null,null,null,null,"",""]
[null,null,null,null,null,null,null,null,null,null,null,"",""]
[null,null,null,null,null,null,null,null,null,null,null,"",""]
[null,null,null,null,null,null,null,null,null,null,null,"",""]
[null,null,null,null,null,null,null,null,null,null,null,"",""]
[null,null,null,null,null,null,null,null,null,null,null,"",""]
[null,null,null,null,null,null,null,null,null,null,null,"",""]
[null,null,null,null,null,null,null,null,null,null,null,"",""]
[null,null,null,null,null,null,null,null,null,null,null,"",""]
[null,null,null,null,null,null,null,null,null,null,null,"",""]
[null,null,null,null,null,null,null,null,null,null,null,"",""]
[null,null,null,null,null,null,null,null,null,null,null,"",""]
[null,null,null,null,null,null,null,null,null,null,null,"",""]
[null,null,null,null,null,null,null,null,null,null,null,"",""]
[null,null,null,null,null,null,null,null,null,null,null,"",""]
[null,null,null,null,null,null,null,null,null,null,null,"",""]
[null,null,null,null,null,null,null,null,null,null,null,"",""]
[null,null,null,null,null,null,null,null,null,null,null,"",""]
[null,null,null,null,null,null,null,null,null,null,null,"",""]
[null,null,null,null,null,null,null,null,null,null,null,"",""]
[null,null,null,null,null,null,null,null,null,null,null,"",""]
[null,null,null,null,null,null,null,null,null,null,null,"",""]
[null,null,null,null,null,null,null,null,null,null,null,"",""]
[null,null,null,null,null,null,null,null,null,null,null,"",""]
[null,null,null,null,null,null,null,null,null,null,null,"",""]
[null,null,null,null,null,null,null,null,null,null,null,"",""]
[null,null,null,null,null,null,null,null,null,null,null,"",""]
[null,null,null,null,null,null,null,null,null,null,null,"",""]
[null,null,null,null,null,null,null,null,null,null,null,"",""]
[null,null,null,null,null,null,null,null,null,null,null,"",""]
[null,null,null,null,null,null,null,null,null,null,null,"",""]
[null,null,null,null,null,null,null,null,null,null,null,"",""]
[null,null,null,null,null,null,null,null,null,null,null,"",""]
[null,null,null,null,null,null,null,null,null,null,null,"",""]
[null,null,null,null,null,null,null,null,null,null,null,"",""]
[null,null,null,null,null,null,null,null,null,null,null,"",""]
[null,null,null,null,null,null,null,null,null,null,null,"",""]
[null,null,null,null,null,null,null,null,null,null,null,"",""]
[null,null,null,null,null,null,null,null,null,null,null,"",""]
[null,null,null,null,null,null,null,null,null,null,null,"",""]
[null,null,null,null,null,null,null,null,null,null,null,"",""]
[null,null,null,null,null,null,null,null,null,null,null,"",""]
[null,null,null,null,null,null,null,null,null,null,null,"",""]
[null,null,null,null,null,null,null,null,null,null,null,"",""]
[null,null,null,null,null,null,null,null,null,null,null,"",""]
[null,null,null,null,null,null,null,null,null,null,null,"",""]
[null,null,null,null,null,null,null,null,null,null,null,"",""]
[null,null,null,null,null,null,null,null,null,null,null,"",""]
[null,null,null,null,null,null,null,null,null,null,null,"",""]
[null,null,null,null,null,null,null,null,null,null,null,"",""]
[null,null,null,null,null,null,null,null,null,null,null,"",""]
[null,null,null,null,null,null,null,null,null,null,null,"",""]
[null,null,null,null,null,null,null,null,null,null,null,"",""]
[null,null,null,null,null,null,null,null,null,null,null,"",""]
[null,null,null,null,null,null,null,null,null,null,null,"",""]
[null,null,null,null,null,null,null,null,null,null,null,"",""]
[null,null,null,null,null,null,null,null,null,null,null,"",""]
[null,null,null,null,null,null,null,null,null,null,null,"",""]
[null,null,null,null,null,null,null,null,null,null,null,"",""]
[null,null,null,null,null,null,null,null,null,null,null,"",""]
[null,null,null,null,null,null,null,null,null,null,null,"",""]
[null,null,null,null,null,null,null,null,null,null,null,"",""]
[null,null,null,null,null,null,null,null,null,null,null,"",""]
[null,null,null,null,null,null,null,null,null,null,null,"",""]
[null,null,null,null,null,null,null,null,null,null,null,"",""]
[null,null,null,null,null,null,null,null,null,null,null,"",""]
[null,null,null,null,null,null,null,null,null,null,null,"",""]
[null,null,null,null,null,null,null,null,null,null,null,"",""]
[null,null,null,null,null,null,null,null,null,null,null,"",""]
[null,null,null,null,null,null,null,null,null,null,null,"",""]
[null,null,null,null,null,null,null,null,null,null,null,"",""]
[null,null,null,null,null,null,null,null,null,null,null,"",""]
[null,null,null,null,null,null,null,null,null,null,null,"",""]
[null,null,null,null,null,null,null,null,null,null,null,"",""]
[null,null,null,null,null,null,null,null,null,null,null,"",""]
[null,null,null,null,null,null,null,null,null,null,null,"",""]
[null,null,null,null,null,null,null,null,null,null,null,"",""]
[null,null,null,null,null,null,null,null,null,null,null,"",""]
[null,null,null,null,null,null,null,null,null,null,null,"",""]
[null,null,null,null,null,null,null,null,null,null,null,"",""]
[null,null,null,null,null,null,null,null,null,null,null,"",""]
[null,null,null,null,null,null,null,null,null,null,null,"",""]
[null,null,null,null,null,null,null,null,null,null,null,"",""]
[null,null,null,null,null,null,null,null,null,null,null,"",""]
[null,null,null,null,null,null,null,null,null,null,null,"",""]
[null,null,null,null,null,null,null,null,null,null,null,"",""]
[null,null,null,null,null,null,null,null,null,null,null,"",""]
[null,null,null,null,null,null,null,null,null,null,null,"",""]
[null,null,null,null,null,null,null,null,null,null,null,"",""]
[null,null,null,null,null,null,null,null,null,null,null,"",""]
[null,null,null,null,null,null,null,null,null,null,null,"",""]
[null,null,null,null,null,null,null,null,null,null,null,"",""]
[null,null,null,null,null,null,null,null,null,null,null,"",""]
[null,null,null,null,null,null,null,null,null,null,null,"",""]
[null,null,null,null,null,null,null,null,null,null,null,"",""]
[null,null,null,null,null,null,null,null,null,null,null,"",""]
[null,null,null,null,null,null,null,null,null,null,null,"",""]
[null,null,null,null,null,null,null,null,null,null,null,"",""]
[null,null,null,null,null,null,null,null,null,null,null,"",""]
[null,null,null,null,null,null,null,null,null,null,null,"",""]
[null,null,null,null,null,null,null,null,null,null,null,"",""]
[null,null,null,null,null,null,null,null,null,null,null,"",""]
[null,null,null,null,null,null,null,null,null,null,null,"",""]
[null,null,null,null,null,null,null,null,null,null,null,"",""]
[null,null,null,null,null,null,null,null,null,null,null,"",""]
[null,null,null,null,null,null,null,null,null,null,null,"",""]
[null,null,null,null,null,null,null,null,null,null,null,"",""]
[null,null,null,null,null,null,null,null,null,null,null,"",""]
[null,null,null,null,null,null,null,null,null,null,null,"",""]
[null,null,null,null,null,null,null,null,null,null,null,"",""]
[null,null,null,null,null,null,null,null,null,null,null,"",""]
[null,null,null,null,null,null,null,null,null,null,null,"",""]
[null,null,null,null,null,null,null,null,null,null,null,"",""]
[null,null,null,null,null,null,null,null,null,null,null,"",""]
[null,null,null,null,null,null,null,null,null,null,null,"",""]
[null,null,null,null,null,null,null,null,null,null,null,"",""]
[null,null,null,null,null,null,null,null,null,null,null,"",""]
[null,null,null,null,null,null,null,null,null,null,null,"",""]
[null,null,null,null,null,null,null,null,null,null,null,"",""]
[null,null,null,null,null,null,null,null,null,null,null,"",""]
[null,null,null,null,null,null,null,null,null,null,null,"",""]
[null,null,null,null,null,null,null,null,null,null,null,"",""]
[null,null,null,null,null,null,null,null,null,null,null,"",""]
[null,null,null,null,null,null,null,null,null,null,null,"",""]
[null,null,null,null,null,null,null,null,null,null,null,"",""]
[null,null,null,null,null,null,null,null,null,null,null,"",""]
[null,null,null,null,null,null,null,null,null,null,null,"",""]
[null,null,null,null,null,null,null,null,null,null,null,"",""]
[null,null,null,null,null,null,null,null,null,null,null,"",""]
[null,null,null,null,null,null,null,null,null,null,null,"",""]
[null,null,null,null,null,null,null,null,null,null,null,"",""]
[null,null,null,null,null,null,null,null,null,null,null,"",""]
[null,null,null,null,null,null,null,null,null,null,null,"",""]
[null,null,null,null,null,null,null,null,null,null,null,"",""]
[null,null,null,null,null,null,null,null,null,null,null,"",""]
[null,null,null,null,null,null,null,null,null,null,null,"",""]
[null,null,null,null,null,null,null,null,null,null,null,"",""]
[null,null,null,null,null,null,null,null,null,null,null,"",""]
[null,null,null,null,null,null,null,null,null,null,null,"",""]
[null,null,null,null,null,null,null,null,null,null,null,"",""]
[null,null,null,null,null,null,null,null,null,null,null,"",""]
[null,null,null,null,null,null,null,null,null,null,null,"",""]
[null,null,null,null,null,null,null,null,null,null,null,"",""]
[null,null,null,null,null,null,null,null,null,null,null,"",""]
[null,null,null,null,null,null,null,null,null,null,null,"",""]
[null,null,null,null,null,null,null,null,null,null,null,"",""]
[null,null,null,null,null,null,null,null,null,null,null,"",""]
[null,null,null,null,null,null,null,null,null,null,null,"",""]
[null,null,null,null,null,null,null,null,null,null,null,"",""]
[null,null,null,null,null,null,null,null,null,null,null,"",""]
[null,null,null,null,null,null,null,null,null,null,null,"",""]
[null,null,null,null,null,null,null,null,null,null,null,"",""]
[null,null,null,null,null,null,null,null,null,null,null,"",""]
[null,null,null,null,null,null,null,null,null,null,null,"",""]
[null,null,null,null,null,null,null,null,null,null,null,"",""]
[null,null,null,null,null,null,null,null,null,null,null,"",""]
[null,null,null,null,null,null,null,null,null,null,null,"",""]
[null,null,null,null,null,null,null,null,null,null,null,"",""]
[null,null,null,null,null,null,null,null,null,null,null,"",""]
[null,null,null,null,null,null,null,null,null,null,null,"",""]
[null,null,null,null,null,null,null,null,null,null,null,"",""]
[null,null,null,null,null,null,null,null,null,null,null,"",""]
[null,null,null,null,null,null,null,null,null,null,null,"",""]
[null,null,null,null,null,null,null,null,null,null,null,"",""]
[null,null,null,null,null,null,null,null,null,null,null,"",""]
[null,null,null,null,null,null,null,null,null,null,null,"",""]
[null,null,null,null,null,null,null,null,null,null,null,"",""]
[null,null,null,null,null,null,null,null,null,null,null,"",""]
[null,null,null,null,null,null,null,null,null,null,null,"",""]
[null,null,null,null,null,null,null,null,null,null,null,"",""]
[null,null,null,null,null,null,null,null,null,null,null,"",""]
[null,null,null,null,null,null,null,null,null,null,null,"",""]
[null,null,null,null,null,null,null,null,null,null,null,"",""]
[null,null,null,null,null,null,null,null,null,null,null,"",""]
[null,null,null,null,null,null,null,null,null,null,null,"",""]
[null,null,null,null,null,null,null,null,null,null,null,"",""]
[null,null,null,null,null,null,null,null,null,null,null,"",""]
[null,null,null,null,null,null,null,null,null,null,null,"",""]
[null,null,null,null,null,null,null,null,null,null,null,"",""]
[null,null,null,null,null,null,null,null,null,null,null,"",""]
[null,null,null,null,null,null,null,null,null,null,null,"",""]
[null,null,null,null,null,null,null,null,null,null,null,"",""]
[null,null,null,null,null,null,null,null,null,null,null,"",""]
[null,null,null,null,null,null,null,null,null,null,null,"",""]
[null,null,null,null,null,null,null,null,null,null,null,"",""]
[null,null,null,null,null,null,null,null,null,null,null,"",""]
[null,null,null,null,null,null,null,null,null,null,null,"",""]
[null,null,null,null,null,null,null,null,null,null,null,"",""]
[null,null,null,null,null,null,null,null,null,null,null,"",""]
[null,null,null,null,null,null,null,null,null,null,null,"",""]
[null,null,null,null,null,null,null,null,null,null,null,"",""]
[null,null,null,null,null,null,null,null,null,null,null,"",""]
[null,null,null,null,null,null,null,null,null,null,null,"",""]
[null,null,null,null,null,null,null,null,null,null,null,"",""]
[null,null,null,null,null,null,null,null,null,null,null,"",""]
[null,null,null,null,null,null,null,null,null,null,null,"",""]
[null,null,null,null,null,null,null,null,null,null,null,"",""]
[null,null,null,null,null,null,null,null,null,null,null,"",""]
[null,null,null,null,null,null,null,null,null,null,null,"",""]
[null,null,null,null,null,null,null,null,null,null,null,"",""]
[null,null,null,null,null,null,null,null,null,null,null,"",""]
[null,null,null,null,null,null,null,null,null,null,null,"",""]
[null,null,null,null,null,null,null,null,null,null,null,"",""]
[null,null,null,null,null,null,null,null,null,null,null,"",""]
[null,null,null,null,null,null,null,null,null,null,null,"",""]
[null,null,null,null,null,null,null,null,null,null,null,"",""]
[null,null,null,null,null,null,null,null,null,null,null,"",""]
[null,null,null,null,null,null,null,null,null,null,null,"",""]
[null,null,null,null,null,null,null,null,null,null,null,"",""]
[null,null,null,null,null,null,null,null,null,null,null,"",""]
[null,null,null,null,null,null,null,null,null,null,null,"",""]
[null,null,null,null,null,null,null,null,null,null,null,"",""]
[null,null,null,null,null,null,null,null,null,null,null,"",""]
[null,null,null,null,null,null,null,null,null,null,null,"",""]
[null,null,null,null,null,null,null,null,null,null,null,"",""]
[null,null,null,null,null,null,null,null,null,null,null,"",""]
[null,null,null,null,null,null,null,null,null,null,null,"",""]
[null,null,null,null,null,null,null,null,null,null,null,"",""]
[null,null,null,null,null,null,null,null,null,null,null,"",""]
[null,null,null,null,null,null,null,null,null,null,null,"",""]
[null,null,null,null,null,null,null,null,null,null,null,"",""]
[null,null,null,null,null,null,null,null,null,null,null,"",""]
[null,null,null,null,null,null,null,null,null,null,null,"",""]
[null,null,null,null,null,null,null,null,null,null,null,"",""]
[null,null,null,null,null,null,null,null,null,null,null,"",""]
[null,null,null,null,null,null,null,null,null,null,null,"",""]
[null,null,null,null,null,null,null,null,null,null,null,"",""]
[null,null,null,null,null,null,null,null,null,null,null,"",""]
[null,null,null,null,null,null,null,null,null,null,null,"",""]
[null,null,null,null,null,null,null,null,null,null,null,"",""]
[null,null,null,null,null,null,null,null,null,null,null,"",""]
[null,null,null,null,null,null,null,null,null,null,null,"",""]
[null,null,null,null,null,null,null,null,null,null,null,"",""]
[null,null,null,null,null,null,null,null,null,null,null,"",""]
[null,null,null,null,null,null,null,null,null,null,null,"",""]
[null,null,null,null,null,null,null,null,null,null,null,"",""]
[null,null,null,null,null,null,null,null,null,null,null,"",""]
[null,null,null,null,null,null,null,null,null,null,null,"",""]
[null,null,null,null,null,null,null,null,null,null,null,"",""]
[null,null,null,null,null,null,null,null,null,null,null,"",""]
[null,null,null,null,null,null,null,null,null,null,null,"",""]
[null,null,null,null,null,null,null,null,null,null,null,"",""]
[null,null,null,null,null,null,null,null,null,null,null,"",""]
[null,null,null,null,null,null,null,null,null,null,null,"",""]
[null,null,null,null,null,null,null,null,null,null,null,"",""]
[null,null,null,null,null,null,null,null,null,null,null,"",""]
[null,null,null,null,null,null,null,null,null,null,null,"",""]
[null,null,null,null,null,null,null,null,null,null,null,"",""]
[null,null,null,null,null,null,null,null,null,null,null,"",""]
[null,null,null,null,null,null,null,null,null,null,null,"",""]
[null,null,null,null,null,null,null,null,null,null,null,"",""]
[null,null,null,null,null,null,null,null,null,null,null,"",""]
[null,null,null,null,null,null,null,null,null,null,null,"",""]
[null,null,null,null,null,null,null,null,null,null,null,"",""]
[null,null,null,null,null,null,null,null,null,null,null,"",""]
[null,null,null,null,null,null,null,null,null,null,null,"",""]
[null,null,null,null,null,null,null,null,null,null,null,"",""]
[null,null,null,null,null,null,null,null,null,null,null,"",""]
[null,null,null,null,null,null,null,null,null,null,null,"",""]
[null,null,null,null,null,null,null,null,null,null,null,"",""]
[null,null,null,null,null,null,null,null,null,null,null,"",""]
[null,null,null,null,null,null,null,null,null,null,null,"",""]
[null,null,null,null,null,null,null,null,null,null,null,"",""]
[null,null,null,null,null,null,null,null,null,null,null,"",""]
[null,null,null,null,null,null,null,null,null,null,null,"",""]
[null,null,null,null,null,null,null,null,null,null,null,"",""]
[null,null,null,null,null,null,null,null,null,null,null,"",""]
[null,null,null,null,null,null,null,null,null,null,null,"",""]
[null,null,null,null,null,null,null,null,null,null,null,"",""]
[null,null,null,null,null,null,null,null,null,null,null,"",""]
[null,null,null,null,null,null,null,null,null,null,null,"",""]
[null,null,null,null,null,null,null,null,null,null,null,"",""]
[null,null,null,null,null,null,null,null,null,null,null,"",""]
[null,null,null,null,null,null,null,null,null,null,null,"",""]
[null,null,null,null,null,null,null,null,null,null,null,"",""]
[null,null,null,null,null,null,null,null,null,null,null,"",""]
[null,null,null,null,null,null,null,null,null,null,null,"",""]
[null,null,null,null,null,null,null,null,null,null,null,"",""]
[null,null,null,null,null,null,null,null,null,null,null,"",""]
[null,null,null,null,null,null,null,null,null,null,null,"",""]
[null,null,null,null,null,null,null,null,null,null,null,"",""]
[null,null,null,null,null,null,null,null,null,null,null,"",""]
[null,null,null,null,null,null,null,null,null,null,null,"",""]
[null,null,null,null,null,null,null,null,null,null,null,"",""]
[null,null,null,null,null,null,null,null,null,null,null,"",""]
[null,null,null,null,null,null,null,null,null,null,null,"",""]
[null,null,null,null,null,null,null,null,null,null,null,"",""]
[null,null,null,null,null,null,null,null,null,null,null,"",""]
[null,null,null,null,null,null,null,null,null,null,null,"",""]
[null,null,null,null,null,null,null,null,null,null,null,"",""]
[null,null,null,null,null,null,null,null,null,null,null,"",""]
[null,null,null,null,null,null,null,null,null,null,null,"",""]
[null,null,null,null,null,null,null,null,null,null,null,"",""]
[null,null,null,null,null,null,null,null,null,null,null,"",""]
[null,null,null,null,null,null,null,null,null,null,null,"",""]
[null,null,null,null,null,null,null,null,null,null,null,"",""]
[null,null,null,null,null,null,null,null,null,null,null,"",""]
[null,null,null,null,null,null,null,null,null,null,null,"",""]
[null,null,null,null,null,null,null,null,null,null,null,"",""]
[null,null,null,null,null,null,null,null,null,null,null,"",""]
[null,null,null,null,null,null,null,null,null,null,null,"",""]
[null,null,null,null,null,null,null,null,null,null,null,"",""]
[null,null,null,null,null,null,null,null,null,null,null,"",""]
[null,null,null,null,null,null,null,null,null,null,null,"",""]
[null,null,null,null,null,null,null,null,null,null,null,"",""]
[null,null,null,null,null,null,null,null,null,null,null,"",""]
[null,null,null,null,null,null,null,null,null,null,null,"",""]
[null,null,null,null,null,null,null,null,null,null,null,"",""]
[null,null,null,null,null,null,null,null,null,null,null,"",""]
[null,null,null,null,null,null,null,null,null,null,null,"",""]
[null,null,null,null,null,null,null,null,null,null,null,"",""]
[null,null,null,null,null,null,null,null,null,null,null,"",""]
[null,null,null,null,null,null,null,null,null,null,null,"",""]
[null,null,null,null,null,null,null,null,null,null,null,"",""]
[null,null,null,null,null,null,null,null,null,null,null,"",""]
[null,null,null,null,null,null,null,null,null,null,null,"",""]
[null,null,null,null,null,null,null,null,null,null,null,"",""]
[null,null,null,null,null,null,null,null,null,null,null,"",""]
[null,null,null,null,null,null,null,null,null,null,null,"",""]
[null,null,null,null,null,null,null,null,null,null,null,"",""]
[null,null,null,null,null,null,null,null,null,null,null,"",""]
[null,null,null,null,null,null,null,null,null,null,null,"",""]
[null,null,null,null,null,null,null,null,null,null,null,"",""]
[null,null,null,null,null,null,null,null,null,null,null,"",""]
[null,null,null,null,null,null,null,null,null,null,null,"",""]
[null,null,null,null,null,null,null,null,null,null,null,"",""]
[null,null,null,null,null,null,null,null,null,null,null,"",""]
[null,null,null,null,null,null,null,null,null,null,null,"",""]
[null,null,null,null,null,null,null,null,null,null,null,"",""]
[null,null,null,null,null,null,null,null,null,null,null,"",""]
[null,null,null,null,null,null,null,null,null,null,null,"",""]
[null,null,null,null,null,null,null,null,null,null,null,"",""]
[null,null,null,null,null,null,null,null,null,null,null,"",""]
[null,null,null,null,null,null,null,null,null,null,null,"",""]
[null,null,null,null,null,null,null,null,null,null,null,"",""]
[null,null,null,null,null,null,null,null,null,null,null,"",""]
[null,null,null,null,null,null,null,null,null,null,null,"",""]
[null,null,null,null,null,null,null,null,null,null,null,"",""]
[null,null,null,null,null,null,null,null,null,null,null,"",""]
[null,null,null,null,null,null,null,null,null,null,null,"",""]
[null,null,null,null,null,null,null,null,null,null,null,"",""]
[null,null,null,null,null,null,null,null,null,null,null,"",""]
[null,null,null,null,null,null,null,null,null,null,null,"",""]
[null,null,null,null,null,null,null,null,null,null,null,"",""]
[null,null,null,null,null,null,null,null,null,null,null,"",""]
[null,null,null,null,null,null,null,null,null,null,null,"",""]
[null,null,null,null,null,null,null,null,null,null,null,"",""]
[null,null,null,null,null,null,null,null,null,null,null,"",""]
[null,null,null,null,null,null,null,null,null,null,null,"",""]
[null,null,null,null,null,null,null,null,null,null,null,"",""]
[null,null,null,null,null,null,null,null,null,null,null,"",""]
[null,null,null,null,null,null,null,null,null,null,null,"",""]
[null,null,null,null,null,null,null,null,null,null,null,"",""]
[null,null,null,null,null,null,null,null,null,null,null,"",""]
[null,null,null,null,null,null,null,null,null,null,null,"",""]
[null,null,null,null,null,null,null,null,null,null,null,"",""]
[null,null,null,null,null,null,null,null,null,null,null,"",""]
[null,null,null,null,null,null,null,null,null,null,null,"",""]
[null,null,null,null,null,null,null,null,null,null,null,"",""]
[null,null,null,null,null,null,null,null,null,null,null,"",""]
[null,null,null,null,null,null,null,null,null,null,null,"",""]
[null,null,null,null,null,null,null,null,null,null,null,"",""]
[null,null,null,null,null,null,null,null,null,null,null,"",""]
[null,null,null,null,null,null,null,null,null,null,null,"",""]
[null,null,null,null,null,null,null,null,null,null,null,"",""]
[null,null,null,null,null,null,null,null,null,null,null,"",""]
[null,null,null,null,null,null,null,null,null,null,null,"",""]
[null,null,null,null,null,null,null,null,null,null,null,"",""]
[null,null,null,null,null,null,null,null,null,null,null,"",""]
[null,null,null,null,null,null,null,null,null,null,null,"",""]
[null,null,null,null,null,null,null,null,null,null,null,"",""]
[null,null,null,null,null,null,null,null,null,null,null,"",""]
[null,null,null,null,null,null,null,null,null,null,null,"",""]
[null,null,null,null,null,null,null,null,null,null,null,"",""]
[null,null,null,null,null,null,null,null,null,null,null,"",""]
[null,null,null,null,null,null,null,null,null,null,null,"",""]
[null,null,null,null,null,null,null,null,null,null,null,"",""]
[null,null,null,null,null,null,null,null,null,null,null,"",""]
[null,null,null,null,null,null,null,null,null,null,null,"",""]
[null,null,null,null,null,null,null,null,null,null,null,"",""]
[null,null,null,null,null,null,null,null,null,null,null,"",""]
[null,null,null,null,null,null,null,null,null,null,null,"",""]
[null,null,null,null,null,null,null,null,null,null,null,"",""]
[null,null,null,null,null,null,null,null,null,null,null,"",""]
[null,null,null,null,null,null,null,null,null,null,null,"",""]
[null,null,null,null,null,null,null,null,null,null,null,"",""]
[null,null,null,null,null,null,null,null,null,null,null,"",""]
[null,null,null,null,null,null,null,null,null,null,null,"",""]
[null,null,null,null,null,null,null,null,null,null,null,"",""]
[null,null,null,null,null,null,null,null,null,null,null,"",""]
[null,null,null,null,null,null,null,null,null,null,null,"",""]
[null,null,null,null,null,null,null,null,null,null,null,"",""]
[null,null,null,null,null,null,null,null,null,null,null,"",""]
[null,null,null,null,null,null,null,null,null,null,null,"",""]
[null,null,null,null,null,null,null,null,null,null,null,"",""]
[null,null,null,null,null,null,null,null,null,null,null,"",""]
[null,null,null,null,null,null,null,null,null,null,null,"",""]
[null,null,null,null,null,null,null,null,null,null,null,"",""]
[null,null,null,null,null,null,null,null,null,null,null,"",""]
[null,null,null,null,null,null,null,null,null,null,null,"",""]
[null,null,null,null,null,null,null,null,null,null,null,"",""]
[null,null,null,null,null,null,null,null,null,null,null,"",""]
[null,null,null,null,null,null,null,null,null,null,null,"",""]
[null,null,null,null,null,null,null,null,null,null,null,"",""]
[null,null,null,null,null,null,null,null,null,null,null,"",""]
[null,null,null,null,null,null,null,null,null,null,null,"",""]
[null,null,null,null,null,null,null,null,null,null,null,"",""]
[null,null,null,null,null,null,null,null,null,null,null,"",""]
[null,null,null,null,null,null,null,null,null,null,null,"",""]
[null,null,null,null,null,null,null,null,null,null,null,"",""]
[null,null,null,null,null,null,null,null,null,null,null,"",""]
[null,null,null,null,null,null,null,null,null,null,null,"",""]
[null,null,null,null,null,null,null,null,null,null,null,"",""]
[null,null,null,null,null,null,null,null,null,null,null,"",""]
[null,null,null,null,null,null,null,null,null,null,null,"",""]
[null,null,null,null,null,null,null,null,null,null,null,"",""]
[null,null,null,null,null,null,null,null,null,null,null,"",""]
[null,null,null,null,null,null,null,null,null,null,null,"",""]
[null,null,null,null,null,null,null,null,null,null,null,"",""]
[null,null,null,null,null,null,null,null,null,null,null,"",""]
[null,null,null,null,null,null,null,null,null,null,null,"",""]
[null,null,null,null,null,null,null,null,null,null,null,"",""]
[null,null,null,null,null,null,null,null,null,null,null,"",""]
[null,null,null,null,null,null,null,null,null,null,null,"",""]
[null,null,null,null,null,null,null,null,null,null,null,"",""]
[null,null,null,null,null,null,null,null,null,null,null,"",""]
[null,null,null,null,null,null,null,null,null,null,null,"",""]
[null,null,null,null,null,null,null,null,null,null,null,"",""]
[null,null,null,null,null,null,null,null,null,null,null,"",""]
[null,null,null,null,null,null,null,null,null,null,null,"",""]
[null,null,null,null,null,null,null,null,null,null,null,"",""]
[null,null,null,null,null,null,null,null,null,null,null,"",""]
[null,null,null,null,null,null,null,null,null,null,null,"",""]
[null,null,null,null,null,null,null,null,null,null,null,"",""]
[null,null,null,null,null,null,null,null,null,null,null,"",""]
[null,null,null,null,null,null,null,null,null,null,null,"",""]
[null,null,null,null,null,null,null,null,null,null,null,"",""]
[null,null,null,null,null,null,null,null,null,null,null,"",""]
[null,null,null,null,null,null,null,null,null,null,null,"",""]
[null,null,null,null,null,null,null,null,null,null,null,"",""]
[null,null,null,null,null,null,null,null,null,null,null,"",""]
[null,null,null,null,null,null,null,null,null,null,null,"",""]
[null,null,null,null,null,null,null,null,null,null,null,"",""]
[null,null,null,null,null,null,null,null,null,null,null,"",""]
[null,null,null,null,null,null,null,null,null,null,null,"",""]
[null,null,null,null,null,null,null,null,null,null,null,"",""]
[null,null,null,null,null,null,null,null,null,null,null,"",""]
[null,null,null,null,null,null,null,null,null,null,null,"",""]
[null,null,null,null,null,null,null,null,null,null,null,"",""]
[null,null,null,null,null,null,null,null,null,null,null,"",""]
[null,null,null,null,null,null,null,null,null,null,null,"",""]
[null,null,null,null,null,null,null,null,null,null,null,"",""]
[null,null,null,null,null,null,null,null,null,null,null,"",""]
[null,null,null,null,null,null,null,null,null,null,null,"",""]
[null,null,null,null,null,null,null,null,null,null,null,"",""]
[null,null,null,null,null,null,null,null,null,null,null,"",""]
[null,null,null,null,null,null,null,null,null,null,null,"",""]
[null,null,null,null,null,null,null,null,null,null,null,"",""]
[null,null,null,null,null,null,null,null,null,null,null,"",""]
[null,null,null,null,null,null,null,null,null,null,null,"",""]
[null,null,null,null,null,null,null,null,null,null,null,"",""]
[null,null,null,null,null,null,null,null,null,null,null,"",""]
[null,null,null,null,null,null,null,null,null,null,null,"",""]
[null,null,null,null,null,null,null,null,null,null,null,"",""]
[null,null,null,null,null,null,null,null,null,null,null,"",""]
[null,null,null,null,null,null,null,null,null,null,null,"",""]
[null,null,null,null,null,null,null,null,null,null,null,"",""]
[null,null,null,null,null,null,null,null,null,null,null,"",""]
[null,null,null,null,null,null,null,null,null,null,null,"",""]
[null,null,null,null,null,null,null,null,null,null,null,"",""]
[null,null,null,null,null,null,null,null,null,null,null,"",""]
[null,null,null,null,null,null,null,null,null,null,null,"",""]
[null,null,null,null,null,null,null,null,null,null,null,"",""]
[null,null,null,null,null,null,null,null,null,null,null,"",""]
[null,null,null,null,null,null,null,null,null,null,null,"",""]
[null,null,null,null,null,null,null,null,null,null,null,"",""]
[null,null,null,null,null,null,null,null,null,null,null,"",""]
[null,null,null,null,null,null,null,null,null,null,null,"",""]
[null,null,null,null,null,null,null,null,null,null,null,"",""]
[null,null,null,null,null,null,null,null,null,null,null,"",""]
[null,null,null,null,null,null,null,null,null,null,null,"",""]
[null,null,null,null,null,null,null,null,null,null,null,"",""]
[null,null,null,null,null,null,null,null,null,null,null,"",""]
[null,null,null,null,null,null,null,null,null,null,null,"",""]
[null,null,null,null,null,null,null,null,null,null,null,"",""]
[null,null,null,null,null,null,null,null,null,null,null,"",""]
[null,null,null,null,null,null,null,null,null,null,null,"",""]
[null,null,null,null,null,null,null,null,null,null,null,"",""]
[null,null,null,null,null,null,null,null,null,null,null,"",""]
[null,null,null,null,null,null,null,null,null,null,null,"",""]
[null,null,null,null,null,null,null,null,null,null,null,"",""]
[null,null,null,null,null,null,null,null,null,null,null,"",""]
[null,null,null,null,null,null,null,null,null,null,null,"",""]
[null,null,null,null,null,null,null,null,null,null,null,"",""]
[null,null,null,null,null,null,null,null,null,null,null,"",""]
[null,null,null,null,null,null,null,null,null,null,null,"",""]
[null,null,null,null,null,null,null,null,null,null,null,"",""]
[null,null,null,null,null,null,null,null,null,null,null,"",""]
[null,null,null,null,null,null,null,null,null,null,null,"",""]
[null,null,null,null,null,null,null,null,null,null,null,"",""]
[null,null,null,null,null,null,null,null,null,null,null,"",""]
[null,null,null,null,null,null,null,null,null,null,null,"",""]
[null,null,null,null,null,null,null,null,null,null,null,"",""]
[null,null,null,null,null,null,null,null,null,null,null,"",""]
[null,null,null,null,null,null,null,null,null,null,null,"",""]
[null,null,null,null,null,null,null,null,null,null,null,"",""]
[null,null,null,null,null,null,null,null,null,null,null,"",""]
[null,null,null,null,null,null,null,null,null,null,null,"",""]
[null,null,null,null,null,null,null,null,null,null,null,"",""]
[null,null,null,null,null,null,null,null,null,null,null,"",""]
[null,null,null,null,null,null,null,null,null,null,null,"",""]
[null,null,null,null,null,null,null,null,null,null,null,"",""]
[null,null,null,null,null,null,null,null,null,null,null,"",""]
[null,null,null,null,null,null,null,null,null,null,null,"",""]
[null,null,null,null,null,null,null,null,null,null,null,"",""]
[null,null,null,null,null,null,null,null,null,null,null,"",""]
[null,null,null,null,null,null,null,null,null,null,null,"",""]
[null,null,null,null,null,null,null,null,null,null,null,"",""]
[null,null,null,null,null,null,null,null,null,null,null,"",""]
[null,null,null,null,null,null,null,null,null,null,null,"",""]

{"sheet":"Historical_SDMX_Period","index":3,"n_rows":1,"n_cols":1,"rows_kept":1,"cut":false,"hidden":true,"merged":[]}
["TIME"]

{"sheet":"Historical","index":4,"n_rows":1,"n_cols":11,"rows_kept":1,"cut":false,"hidden":true,"merged":[]}
["COUNTRY","QUEST","PRODUCT","DATATYPE","ITEM1","ITEM2","TIME","VALUE","OBSERVATION","CONFIDENTIALITY","KEYREC"]

{"sheet":"Input_ISO","index":5,"n_rows":1,"n_cols":11,"rows_kept":1,"cut":false,"hidden":true,"merged":[]}
["COUNTRY","QUEST","PRODUCT","DATATYPE","ITEM1","ITEM2","TIME","VALUE","OBSERVATION","CONFIDENTIALITY","Record"]

{"sheet":"Input_ISO_Period","index":6,"n_rows":1,"n_cols":1,"rows_kept":1,"cut":false,"hidden":true,"merged":[]}
["TIME"]

{"sheet":"Input_SDMX","index":7,"n_rows":2810,"n_cols":13,"rows_kept":2810,"cut":false,"hidden":true,"merged":[]}
["REF_AREA","DATAFLOW","PRODUCT","DATATYPE","ITEM1","ITEM2","TIME","VALUE","OBSERVATION","CONFIDENTIALITY","Record"]
[]
[null,null,null,null,null,null,null,null,"",null,null,null,""]
[null,null,null,null,null,null,null,null,"",null,null,null,""]
[null,null,null,null,null,null,null,null,"",null,null,null,""]
[null,null,null,null,null,null,null,null,"",null,null,null,""]
[null,null,null,null,null,null,null,null,"",null,null,null,""]
[null,null,null,null,null,null,null,null,"",null,null,null,""]
[null,null,null,null,null,null,null,null,"",null,null,null,""]
[null,null,null,null,null,null,null,null,"",null,null,null,""]
[null,null,null,null,null,null,null,null,"",null,null,null,""]
[null,null,null,null,null,null,null,null,"",null,null,null,""]
[null,null,null,null,null,null,null,null,"",null,null,null,""]
[null,null,null,null,null,null,null,null,"",null,null,null,""]
[null,null,null,null,null,null,null,null,"",null,null,null,""]
[null,null,null,null,null,null,null,null,"",null,null,null,""]
[null,null,null,null,null,null,null,null,"",null,null,null,""]
[null,null,null,null,null,null,null,null,"",null,null,null,""]
[null,null,null,null,null,null,null,null,"",null,null,null,""]
[null,null,null,null,null,null,null,null,"",null,null,null,""]
[null,null,null,null,null,null,null,null,"",null,null,null,""]
[null,null,null,null,null,null,null,null,"",null,null,null,""]
[null,null,null,null,null,null,null,null,"",null,null,null,""]
[null,null,null,null,null,null,null,null,"",null,null,null,""]
[null,null,null,null,null,null,null,null,"",null,null,null,""]
[null,null,null,null,null,null,null,null,"",null,null,null,""]
[null,null,null,null,null,null,null,null,"",null,null,null,""]
[null,null,null,null,null,null,null,null,"",null,null,null,""]
[null,null,null,null,null,null,null,null,"",null,null,null,""]
[null,null,null,null,null,null,null,null,"",null,null,null,""]
[null,null,null,null,null,null,null,null,"",null,null,null,""]
[null,null,null,null,null,null,null,null,"",null,null,null,""]
[null,null,null,null,null,null,null,null,"",null,null,null,""]
[null,null,null,null,null,null,null,null,"",null,null,null,""]
[null,null,null,null,null,null,null,null,"",null,null,null,""]
[null,null,null,null,null,null,null,null,"",null,null,null,""]
[null,null,null,null,null,null,null,null,"",null,null,null,""]
[null,null,null,null,null,null,null,null,"",null,null,null,""]
[null,null,null,null,null,null,null,null,"",null,null,null,""]
[null,null,null,null,null,null,null,null,"",null,null,null,""]
[null,null,null,null,null,null,null,null,"",null,null,null,""]
[null,null,null,null,null,null,null,null,"",null,null,null,""]
[null,null,null,null,null,null,null,null,"",null,null,null,""]
[null,null,null,null,null,null,null,null,"",null,null,null,""]
[null,null,null,null,null,null,null,null,"",null,null,null,""]
[null,null,null,null,null,null,null,null,"",null,null,null,""]
[null,null,null,null,null,null,null,null,"",null,null,null,""]
[null,null,null,null,null,null,null,null,"",null,null,null,""]
[null,null,null,null,null,null,null,null,"",null,null,null,""]
[null,null,null,null,null,null,null,null,"",null,null,null,""]
[null,null,null,null,null,null,null,null,"",null,null,null,""]
[null,null,null,null,null,null,null,null,"",null,null,null,""]
[null,null,null,null,null,null,null,null,"",null,null,null,""]
[null,null,null,null,null,null,null,null,"",null,null,null,""]
[null,null,null,null,null,null,null,null,"",null,null,null,""]
[null,null,null,null,null,null,null,null,"",null,null,null,""]
[null,null,null,null,null,null,null,null,"",null,null,null,""]
[null,null,null,null,null,null,null,null,"",null,null,null,""]
[null,null,null,null,null,null,null,null,"",null,null,null,""]
[null,null,null,null,null,null,null,null,"",null,null,null,""]
[null,null,null,null,null,null,null,null,"",null,null,null,""]
[null,null,null,null,null,null,null,null,"",null,null,null,""]
[null,null,null,null,null,null,null,null,"",null,null,null,""]
[null,null,null,null,null,null,null,null,"",null,null,null,""]
[null,null,null,null,null,null,null,null,"",null,null,null,""]
[null,null,null,null,null,null,null,null,"",null,null,null,""]
[null,null,null,null,null,null,null,null,"",null,null,null,""]
[null,null,null,null,null,null,null,null,"",null,null,null,""]
[null,null,null,null,null,null,null,null,"",null,null,null,""]
[null,null,null,null,null,null,null,null,"",null,null,null,""]
[null,null,null,null,null,null,null,null,"",null,null,null,""]
[null,null,null,null,null,null,null,null,"",null,null,null,""]
[null,null,null,null,null,null,null,null,"",null,null,null,""]
[null,null,null,null,null,null,null,null,"",null,null,null,""]
[null,null,null,null,null,null,null,null,"",null,null,null,""]
[null,null,null,null,null,null,null,null,"",null,null,null,""]
[null,null,null,null,null,null,null,null,"",null,null,null,""]
[null,null,null,null,null,null,null,null,"",null,null,null,""]
[null,null,null,null,null,null,null,null,"",null,null,null,""]
[null,null,null,null,null,null,null,null,"",null,null,null,""]
[null,null,null,null,null,null,null,null,"",null,null,null,""]
[null,null,null,null,null,null,null,null,"",null,null,null,""]
[null,null,null,null,null,null,null,null,"",null,null,null,""]
[null,null,null,null,null,null,null,null,"",null,null,null,""]
[null,null,null,null,null,null,null,null,"",null,null,null,""]
[null,null,null,null,null,null,null,null,"",null,null,null,""]
[null,null,null,null,null,null,null,null,"",null,null,null,""]
[null,null,null,null,null,null,null,null,"",null,null,null,""]
[null,null,null,null,null,null,null,null,"",null,null,null,""]
[null,null,null,null,null,null,null,null,"",null,null,null,""]
[null,null,null,null,null,null,null,null,"",null,null,null,""]
[null,null,null,null,null,null,null,null,"",null,null,null,""]
[null,null,null,null,null,null,null,null,"",null,null,null,""]
[null,null,null,null,null,null,null,null,"",null,null,null,""]
[null,null,null,null,null,null,null,null,"",null,null,null,""]
[null,null,null,null,null,null,null,null,"",null,null,null,""]
[null,null,null,null,null,null,null,null,"",null,null,null,""]
[null,null,null,null,null,null,null,null,"",null,null,null,""]
[null,null,null,null,null,null,null,null,"",null,null,null,""]
[null,null,null,null,null,null,null,null,"",null,null,null,""]
[null,null,null,null,null,null,null,null,"",null,null,null,""]
[null,null,null,null,null,null,null,null,"",null,null,null,""]
[null,null,null,null,null,null,null,null,"",null,null,null,""]
[null,null,null,null,null,null,null,null,"",null,null,null,""]
[null,null,null,null,null,null,null,null,"",null,null,null,""]
[null,null,null,null,null,null,null,null,"",null,null,null,""]
[null,null,null,null,null,null,null,null,"",null,null,null,""]
[null,null,null,null,null,null,null,null,"",null,null,null,""]
[null,null,null,null,null,null,null,null,"",null,null,null,""]
[null,null,null,null,null,null,null,null,"",null,null,null,""]
[null,null,null,null,null,null,null,null,"",null,null,null,""]
[null,null,null,null,null,null,null,null,"",null,null,null,""]
[null,null,null,null,null,null,null,null,"",null,null,null,""]
[null,null,null,null,null,null,null,null,"",null,null,null,""]
[null,null,null,null,null,null,null,null,"",null,null,null,""]
[null,null,null,null,null,null,null,null,"",null,null,null,""]
[null,null,null,null,null,null,null,null,"",null,null,null,""]
[null,null,null,null,null,null,null,null,"",null,null,null,""]
[null,null,null,null,null,null,null,null,"",null,null,null,""]
[null,null,null,null,null,null,null,null,"",null,null,null,""]
[null,null,null,null,null,null,null,null,"",null,null,null,""]
[null,null,null,null,null,null,null,null,"",null,null,null,""]
[null,null,null,null,null,null,null,null,"",null,null,null,""]
[null,null,null,null,null,null,null,null,"",null,null,null,""]
[null,null,null,null,null,null,null,null,"",null,null,null,""]
[null,null,null,null,null,null,null,null,"",null,null,null,""]
[null,null,null,null,null,null,null,null,"",null,null,null,""]
[null,null,null,null,null,null,null,null,"",null,null,null,""]
[null,null,null,null,null,null,null,null,"",null,null,null,""]
[null,null,null,null,null,null,null,null,"",null,null,null,""]
[null,null,null,null,null,null,null,null,"",null,null,null,""]
[null,null,null,null,null,null,null,null,"",null,null,null,""]
[null,null,null,null,null,null,null,null,"",null,null,null,""]
[null,null,null,null,null,null,null,null,"",null,null,null,""]
[null,null,null,null,null,null,null,null,"",null,null,null,""]
[null,null,null,null,null,null,null,null,"",null,null,null,""]
[null,null,null,null,null,null,null,null,"",null,null,null,""]
[null,null,null,null,null,null,null,null,"",null,null,null,""]
[null,null,null,null,null,null,null,null,"",null,null,null,""]
[null,null,null,null,null,null,null,null,"",null,null,null,""]
[null,null,null,null,null,null,null,null,"",null,null,null,""]
[null,null,null,null,null,null,null,null,"",null,null,null,""]
[null,null,null,null,null,null,null,null,"",null,null,null,""]
[null,null,null,null,null,null,null,null,"",null,null,null,""]
[null,null,null,null,null,null,null,null,"",null,null,null,""]
[null,null,null,null,null,null,null,null,"",null,null,null,""]
[null,null,null,null,null,null,null,null,"",null,null,null,""]
[null,null,null,null,null,null,null,null,"",null,null,null,""]
[null,null,null,null,null,null,null,null,"",null,null,null,""]
[null,null,null,null,null,null,null,null,"",null,null,null,""]
[null,null,null,null,null,null,null,null,"",null,null,null,""]
[null,null,null,null,null,null,null,null,"",null,null,null,""]
[null,null,null,null,null,null,null,null,"",null,null,null,""]
[null,null,null,null,null,null,null,null,"",null,null,null,""]
[null,null,null,null,null,null,null,null,"",null,null,null,""]
[null,null,null,null,null,null,null,null,"",null,null,null,""]
[null,null,null,null,null,null,null,null,"",null,null,null,""]
[null,null,null,null,null,null,null,null,"",null,null,null,""]
[null,null,null,null,null,null,null,null,"",null,null,null,""]
[null,null,null,null,null,null,null,null,"",null,null,null,""]
[null,null,null,null,null,null,null,null,"",null,null,null,""]
[null,null,null,null,null,null,null,null,"",null,null,null,""]
[null,null,null,null,null,null,null,null,"",null,null,null,""]
[null,null,null,null,null,null,null,null,"",null,null,null,""]
[null,null,null,null,null,null,null,null,"",null,null,null,""]
[null,null,null,null,null,null,null,null,"",null,null,null,""]
[null,null,null,null,null,null,null,null,"",null,null,null,""]
[null,null,null,null,null,null,null,null,"",null,null,null,""]
[null,null,null,null,null,null,null,null,"",null,null,null,""]
[null,null,null,null,null,null,null,null,"",null,null,null,""]
[null,null,null,null,null,null,null,null,"",null,null,null,""]
[null,null,null,null,null,null,null,null,"",null,null,null,""]
[null,null,null,null,null,null,null,null,"",null,null,null,""]
[null,null,null,null,null,null,null,null,"",null,null,null,""]
[null,null,null,null,null,null,null,null,"",null,null,null,""]
[null,null,null,null,null,null,null,null,"",null,null,null,""]
[null,null,null,null,null,null,null,null,"",null,null,null,""]
[null,null,null,null,null,null,null,null,"",null,null,null,""]
[null,null,null,null,null,null,null,null,"",null,null,null,""]
[null,null,null,null,null,null,null,null,"",null,null,null,""]
[null,null,null,null,null,null,null,null,"",null,null,null,""]
[null,null,null,null,null,null,null,null,"",null,null,null,""]
[null,null,null,null,null,null,null,null,"",null,null,null,""]
[null,null,null,null,null,null,null,null,"",null,null,null,""]
[null,null,null,null,null,null,null,null,"",null,null,null,""]
[null,null,null,null,null,null,null,null,"",null,null,null,""]
[null,null,null,null,null,null,null,null,"",null,null,null,""]
[null,null,null,null,null,null,null,null,"",null,null,null,""]
[null,null,null,null,null,null,null,null,"",null,null,null,""]
[null,null,null,null,null,null,null,null,"",null,null,null,""]
[null,null,null,null,null,null,null,null,"",null,null,null,""]
[null,null,null,null,null,null,null,null,"",null,null,null,""]
[null,null,null,null,null,null,null,null,"",null,null,null,""]
[null,null,null,null,null,null,null,null,"",null,null,null,""]
[null,null,null,null,null,null,null,null,"",null,null,null,""]
[null,null,null,null,null,null,null,null,"",null,null,null,""]
[null,null,null,null,null,null,null,null,"",null,null,null,""]
[null,null,null,null,null,null,null,null,"",null,null,null,""]
[null,null,null,null,null,null,null,null,"",null,null,null,""]
[null,null,null,null,null,null,null,null,"",null,null,null,""]
[null,null,null,null,null,null,null,null,"",null,null,null,""]
[null,null,null,null,null,null,null,null,"",null,null,null,""]
[null,null,null,null,null,null,null,null,"",null,null,null,""]
[null,null,null,null,null,null,null,null,"",null,null,null,""]
[null,null,null,null,null,null,null,null,"",null,null,null,""]
[null,null,null,null,null,null,null,null,"",null,null,null,""]
[null,null,null,null,null,null,null,null,"",null,null,null,""]
[null,null,null,null,null,null,null,null,"",null,null,null,""]
[null,null,null,null,null,null,null,null,"",null,null,null,""]
[null,null,null,null,null,null,null,null,"",null,null,null,""]
[null,null,null,null,null,null,null,null,"",null,null,null,""]
[null,null,null,null,null,null,null,null,"",null,null,null,""]
[null,null,null,null,null,null,null,null,"",null,null,null,""]
[null,null,null,null,null,null,null,null,"",null,null,null,""]
[null,null,null,null,null,null,null,null,"",null,null,null,""]
[null,null,null,null,null,null,null,null,"",null,null,null,""]
[null,null,null,null,null,null,null,null,"",null,null,null,""]
[null,null,null,null,null,null,null,null,"",null,null,null,""]
[null,null,null,null,null,null,null,null,"",null,null,null,""]
[null,null,null,null,null,null,null,null,"",null,null,null,""]
[null,null,null,null,null,null,null,null,"",null,null,null,""]
[null,null,null,null,null,null,null,null,"",null,null,null,""]
[null,null,null,null,null,null,null,null,"",null,null,null,""]
[null,null,null,null,null,null,null,null,"",null,null,null,""]
[null,null,null,null,null,null,null,null,"",null,null,null,""]
[null,null,null,null,null,null,null,null,"",null,null,null,""]
[null,null,null,null,null,null,null,null,"",null,null,null,""]
[null,null,null,null,null,null,null,null,"",null,null,null,""]
[null,null,null,null,null,null,null,null,"",null,null,null,""]
[null,null,null,null,null,null,null,null,"",null,null,null,""]
[null,null,null,null,null,null,null,null,"",null,null,null,""]
[null,null,null,null,null,null,null,null,"",null,null,null,""]
[null,null,null,null,null,null,null,null,"",null,null,null,""]
[null,null,null,null,null,null,null,null,"",null,null,null,""]
[null,null,null,null,null,null,null,null,"",null,null,null,""]
[null,null,null,null,null,null,null,null,"",null,null,null,""]
[null,null,null,null,null,null,null,null,"",null,null,null,""]
[null,null,null,null,null,null,null,null,"",null,null,null,""]
[null,null,null,null,null,null,null,null,"",null,null,null,""]
[null,null,null,null,null,null,null,null,"",null,null,null,""]
[null,null,null,null,null,null,null,null,"",null,null,null,""]
[null,null,null,null,null,null,null,null,"",null,null,null,""]
[null,null,null,null,null,null,null,null,"",null,null,null,""]
[null,null,null,null,null,null,null,null,"",null,null,null,""]
[null,null,null,null,null,null,null,null,"",null,null,null,""]
[null,null,null,null,null,null,null,null,"",null,null,null,""]
[null,null,null,null,null,null,null,null,"",null,null,null,""]
[null,null,null,null,null,null,null,null,"",null,null,null,""]
[null,null,null,null,null,null,null,null,"",null,null,null,""]
[null,null,null,null,null,null,null,null,"",null,null,null,""]
[null,null,null,null,null,null,null,null,"",null,null,null,""]
[null,null,null,null,null,null,null,null,"",null,null,null,""]
[null,null,null,null,null,null,null,null,"",null,null,null,""]
[null,null,null,null,null,null,null,null,"",null,null,null,""]
[null,null,null,null,null,null,null,null,"",null,null,null,""]
[null,null,null,null,null,null,null,null,"",null,null,null,""]
[null,null,null,null,null,null,null,null,"",null,null,null,""]
[null,null,null,null,null,null,null,null,"",null,null,null,""]
[null,null,null,null,null,null,null,null,"",null,null,null,""]
[null,null,null,null,null,null,null,null,"",null,null,null,""]
[null,null,null,null,null,null,null,null,"",null,null,null,""]
[null,null,null,null,null,null,null,null,"",null,null,null,""]
[null,null,null,null,null,null,null,null,"",null,null,null,""]
[null,null,null,null,null,null,null,null,"",null,null,null,""]
[null,null,null,null,null,null,null,null,"",null,null,null,""]
[null,null,null,null,null,null,null,null,"",null,null,null,""]
[null,null,null,null,null,null,null,null,"",null,null,null,""]
[null,null,null,null,null,null,null,null,"",null,null,null,""]
[null,null,null,null,null,null,null,null,"",null,null,null,""]
[null,null,null,null,null,null,null,null,"",null,null,null,""]
[null,null,null,null,null,null,null,null,"",null,null,null,""]
[null,null,null,null,null,null,null,null,"",null,null,null,""]
[null,null,null,null,null,null,null,null,"",null,null,null,""]
[null,null,null,null,null,null,null,null,"",null,null,null,""]
[null,null,null,null,null,null,null,null,"",null,null,null,""]
[null,null,null,null,null,null,null,null,"",null,null,null,""]
[null,null,null,null,null,null,null,null,"",null,null,null,""]
[null,null,null,null,null,null,null,null,"",null,null,null,""]
[null,null,null,null,null,null,null,null,"",null,null,null,""]
[null,null,null,null,null,null,null,null,"",null,null,null,""]
[null,null,null,null,null,null,null,null,"",null,null,null,""]
[null,null,null,null,null,null,null,null,"",null,null,null,""]
[null,null,null,null,null,null,null,null,"",null,null,null,""]
[null,null,null,null,null,null,null,null,"",null,null,null,""]
[null,null,null,null,null,null,null,null,"",null,null,null,""]
[null,null,null,null,null,null,null,null,"",null,null,null,""]
[null,null,null,null,null,null,null,null,"",null,null,null,""]
[null,null,null,null,null,null,null,null,"",null,null,null,""]
[null,null,null,null,null,null,null,null,"",null,null,null,""]
[null,null,null,null,null,null,null,null,"",null,null,null,""]
[null,null,null,null,null,null,null,null,"",null,null,null,""]
[null,null,null,null,null,null,null,null,"",null,null,null,""]
[null,null,null,null,null,null,null,null,"",null,null,null,""]
[null,null,null,null,null,null,null,null,"",null,null,null,""]
[null,null,null,null,null,null,null,null,"",null,null,null,""]
[null,null,null,null,null,null,null,null,"",null,null,null,""]
[null,null,null,null,null,null,null,null,"",null,null,null,""]
[null,null,null,null,null,null,null,null,"",null,null,null,""]
[null,null,null,null,null,null,null,null,"",null,null,null,""]
[null,null,null,null,null,null,null,null,"",null,null,null,""]
[null,null,null,null,null,null,null,null,"",null,null,null,""]
[null,null,null,null,null,null,null,null,"",null,null,null,""]
[null,null,null,null,null,null,null,null,"",null,null,null,""]
[null,null,null,null,null,null,null,null,"",null,null,null,""]
[null,null,null,null,null,null,null,null,"",null,null,null,""]
[null,null,null,null,null,null,null,null,"",null,null,null,""]
[null,null,null,null,null,null,null,null,"",null,null,null,""]
[null,null,null,null,null,null,null,null,"",null,null,null,""]
[null,null,null,null,null,null,null,null,"",null,null,null,""]
[null,null,null,null,null,null,null,null,"",null,null,null,""]
[null,null,null,null,null,null,null,null,"",null,null,null,""]
[null,null,null,null,null,null,null,null,"",null,null,null,""]
[null,null,null,null,null,null,null,null,"",null,null,null,""]
[null,null,null,null,null,null,null,null,"",null,null,null,""]
[null,null,null,null,null,null,null,null,"",null,null,null,""]
[null,null,null,null,null,null,null,null,"",null,null,null,""]
[null,null,null,null,null,null,null,null,"",null,null,null,""]
[null,null,null,null,null,null,null,null,"",null,null,null,""]
[null,null,null,null,null,null,null,null,"",null,null,null,""]
[null,null,null,null,null,null,null,null,"",null,null,null,""]
[null,null,null,null,null,null,null,null,"",null,null,null,""]
[null,null,null,null,null,null,null,null,"",null,null,null,""]
[null,null,null,null,null,null,null,null,"",null,null,null,""]
[null,null,null,null,null,null,null,null,"",null,null,null,""]
[null,null,null,null,null,null,null,null,"",null,null,null,""]
[null,null,null,null,null,null,null,null,"",null,null,null,""]
[null,null,null,null,null,null,null,null,"",null,null,null,""]
[null,null,null,null,null,null,null,null,"",null,null,null,""]
[null,null,null,null,null,null,null,null,"",null,null,null,""]
[null,null,null,null,null,null,null,null,"",null,null,null,""]
[null,null,null,null,null,null,null,null,"",null,null,null,""]
[null,null,null,null,null,null,null,null,"",null,null,null,""]
[null,null,null,null,null,null,null,null,"",null,null,null,""]
[null,null,null,null,null,null,null,null,"",null,null,null,""]
[null,null,null,null,null,null,null,null,"",null,null,null,""]
[null,null,null,null,null,null,null,null,"",null,null,null,""]
[null,null,null,null,null,null,null,null,"",null,null,null,""]
[null,null,null,null,null,null,null,null,"",null,null,null,""]
[null,null,null,null,null,null,null,null,"",null,null,null,""]
[null,null,null,null,null,null,null,null,"",null,null,null,""]
[null,null,null,null,null,null,null,null,"",null,null,null,""]
[null,null,null,null,null,null,null,null,"",null,null,null,""]
[null,null,null,null,null,null,null,null,"",null,null,null,""]
[null,null,null,null,null,null,null,null,"",null,null,null,""]
[null,null,null,null,null,null,null,null,"",null,null,null,""]
[null,null,null,null,null,null,null,null,"",null,null,null,""]
[null,null,null,null,null,null,null,null,"",null,null,null,""]
[null,null,null,null,null,null,null,null,"",null,null,null,""]
[null,null,null,null,null,null,null,null,"",null,null,null,""]
[null,null,null,null,null,null,null,null,"",null,null,null,""]
[null,null,null,null,null,null,null,null,"",null,null,null,""]
[null,null,null,null,null,null,null,null,"",null,null,null,""]
[null,null,null,null,null,null,null,null,"",null,null,null,""]
[null,null,null,null,null,null,null,null,"",null,null,null,""]
[null,null,null,null,null,null,null,null,"",null,null,null,""]
[null,null,null,null,null,null,null,null,"",null,null,null,""]
[null,null,null,null,null,null,null,null,"",null,null,null,""]
[null,null,null,null,null,null,null,null,"",null,null,null,""]
[null,null,null,null,null,null,null,null,"",null,null,null,""]
[null,null,null,null,null,null,null,null,"",null,null,null,""]
[null,null,null,null,null,null,null,null,"",null,null,null,""]
[null,null,null,null,null,null,null,null,"",null,null,null,""]
[null,null,null,null,null,null,null,null,"",null,null,null,""]
[null,null,null,null,null,null,null,null,"",null,null,null,""]
[null,null,null,null,null,null,null,null,"",null,null,null,""]
[null,null,null,null,null,null,null,null,"",null,null,null,""]
[null,null,null,null,null,null,null,null,"",null,null,null,""]
[null,null,null,null,null,null,null,null,"",null,null,null,""]
[null,null,null,null,null,null,null,null,"",null,null,null,""]
[null,null,null,null,null,null,null,null,"",null,null,null,""]
[null,null,null,null,null,null,null,null,"",null,null,null,""]
[null,null,null,null,null,null,null,null,"",null,null,null,""]
[null,null,null,null,null,null,null,null,"",null,null,null,""]
[null,null,null,null,null,null,null,null,"",null,null,null,""]
[null,null,null,null,null,null,null,null,"",null,null,null,""]
[null,null,null,null,null,null,null,null,"",null,null,null,""]
[null,null,null,null,null,null,null,null,"",null,null,null,""]
[null,null,null,null,null,null,null,null,"",null,null,null,""]
[null,null,null,null,null,null,null,null,"",null,null,null,""]
[null,null,null,null,null,null,null,null,"",null,null,null,""]
[null,null,null,null,null,null,null,null,"",null,null,null,""]
[null,null,null,null,null,null,null,null,"",null,null,null,""]
[null,null,null,null,null,null,null,null,"",null,null,null,""]
[null,null,null,null,null,null,null,null,"",null,null,null,""]
[null,null,null,null,null,null,null,null,"",null,null,null,""]
[null,null,null,null,null,null,null,null,"",null,null,null,""]
[null,null,null,null,null,null,null,null,"",null,null,null,""]
[null,null,null,null,null,null,null,null,"",null,null,null,""]
[null,null,null,null,null,null,null,null,"",null,null,null,""]
[null,null,null,null,null,null,null,null,"",null,null,null,""]
[null,null,null,null,null,null,null,null,"",null,null,null,""]
[null,null,null,null,null,null,null,null,"",null,null,null,""]
[null,null,null,null,null,null,null,null,"",null,null,null,""]
[null,null,null,null,null,null,null,null,"",null,null,null,""]
[null,null,null,null,null,null,null,null,"",null,null,null,""]
[null,null,null,null,null,null,null,null,"",null,null,null,""]
[null,null,null,null,null,null,null,null,"",null,null,null,""]
[null,null,null,null,null,null,null,null,"",null,null,null,""]
[null,null,null,null,null,null,null,null,"",null,null,null,""]
[null,null,null,null,null,null,null,null,"",null,null,null,""]
[null,null,null,null,null,null,null,null,"",null,null,null,""]
[null,null,null,null,null,null,null,null,"",null,null,null,""]
[null,null,null,null,null,null,null,null,"",null,null,null,""]
[null,null,null,null,null,null,null,null,"",null,null,null,""]
[null,null,null,null,null,null,null,null,"",null,null,null,""]
[null,null,null,null,null,null,null,null,"",null,null,null,""]
[null,null,null,null,null,null,null,null,"",null,null,null,""]
[null,null,null,null,null,null,null,null,"",null,null,null,""]
[null,null,null,null,null,null,null,null,"",null,null,null,""]
[null,null,null,null,null,null,null,null,"",null,null,null,""]
[null,null,null,null,null,null,null,null,"",null,null,null,""]
[null,null,null,null,null,null,null,null,"",null,null,null,""]
[null,null,null,null,null,null,null,null,"",null,null,null,""]
[null,null,null,null,null,null,null,null,"",null,null,null,""]
[null,null,null,null,null,null,null,null,"",null,null,null,""]
[null,null,null,null,null,null,null,null,"",null,null,null,""]
[null,null,null,null,null,null,null,null,"",null,null,null,""]
[null,null,null,null,null,null,null,null,"",null,null,null,""]
[null,null,null,null,null,null,null,null,"",null,null,null,""]
[null,null,null,null,null,null,null,null,"",null,null,null,""]
[null,null,null,null,null,null,null,null,"",null,null,null,""]
[null,null,null,null,null,null,null,null,"",null,null,null,""]
[null,null,null,null,null,null,null,null,"",null,null,null,""]
[null,null,null,null,null,null,null,null,"",null,null,null,""]
[null,null,null,null,null,null,null,null,"",null,null,null,""]
[null,null,null,null,null,null,null,null,"",null,null,null,""]
[null,null,null,null,null,null,null,null,"",null,null,null,""]
[null,null,null,null,null,null,null,null,"",null,null,null,""]
[null,null,null,null,null,null,null,null,"",null,null,null,""]
[null,null,null,null,null,null,null,null,"",null,null,null,""]
[null,null,null,null,null,null,null,null,"",null,null,null,""]
[null,null,null,null,null,null,null,null,"",null,null,null,""]
[null,null,null,null,null,null,null,null,"",null,null,null,""]
[null,null,null,null,null,null,null,null,"",null,null,null,""]
[null,null,null,null,null,null,null,null,"",null,null,null,""]
[null,null,null,null,null,null,null,null,"",null,null,null,""]
[null,null,null,null,null,null,null,null,"",null,null,null,""]
[null,null,null,null,null,null,null,null,"",null,null,null,""]
[null,null,null,null,null,null,null,null,"",null,null,null,""]
[null,null,null,null,null,null,null,null,"",null,null,null,""]
[null,null,null,null,null,null,null,null,"",null,null,null,""]
[null,null,null,null,null,null,null,null,"",null,null,null,""]
[null,null,null,null,null,null,null,null,"",null,null,null,""]
[null,null,null,null,null,null,null,null,"",null,null,null,""]
[null,null,null,null,null,null,null,null,"",null,null,null,""]
[null,null,null,null,null,null,null,null,"",null,null,null,""]
[null,null,null,null,null,null,null,null,"",null,null,null,""]
[null,null,null,null,null,null,null,null,"",null,null,null,""]
[null,null,null,null,null,null,null,null,"",null,null,null,""]
[null,null,null,null,null,null,null,null,"",null,null,null,""]
[null,null,null,null,null,null,null,null,"",null,null,null,""]
[null,null,null,null,null,null,null,null,"",null,null,null,""]
[null,null,null,null,null,null,null,null,"",null,null,null,""]
[null,null,null,null,null,null,null,null,"",null,null,null,""]
[null,null,null,null,null,null,null,null,"",null,null,null,""]
[null,null,null,null,null,null,null,null,"",null,null,null,""]
[null,null,null,null,null,null,null,null,"",null,null,null,""]
[null,null,null,null,null,null,null,null,"",null,null,null,""]
[null,null,null,null,null,null,null,null,"",null,null,null,""]
[null,null,null,null,null,null,null,null,"",null,null,null,""]
[null,null,null,null,null,null,null,null,"",null,null,null,""]
[null,null,null,null,null,null,null,null,"",null,null,null,""]
[null,null,null,null,null,null,null,null,"",null,null,null,""]
[null,null,null,null,null,null,null,null,"",null,null,null,""]
[null,null,null,null,null,null,null,null,"",null,null,null,""]
[null,null,null,null,null,null,null,null,"",null,null,null,""]
[null,null,null,null,null,null,null,null,"",null,null,null,""]
[null,null,null,null,null,null,null,null,"",null,null,null,""]
[null,null,null,null,null,null,null,null,"",null,null,null,""]
[null,null,null,null,null,null,null,null,"",null,null,null,""]
[null,null,null,null,null,null,null,null,"",null,null,null,""]
[null,null,null,null,null,null,null,null,"",null,null,null,""]
[null,null,null,null,null,null,null,null,"",null,null,null,""]
[null,null,null,null,null,null,null,null,"",null,null,null,""]
[null,null,null,null,null,null,null,null,"",null,null,null,""]
[null,null,null,null,null,null,null,null,"",null,null,null,""]
[null,null,null,null,null,null,null,null,"",null,null,null,""]
[null,null,null,null,null,null,null,null,"",null,null,null,""]
[null,null,null,null,null,null,null,null,"",null,null,null,""]
[null,null,null,null,null,null,null,null,"",null,null,null,""]
[null,null,null,null,null,null,null,null,"",null,null,null,""]
[null,null,null,null,null,null,null,null,"",null,null,null,""]
[null,null,null,null,null,null,null,null,"",null,null,null,""]
[null,null,null,null,null,null,null,null,"",null,null,null,""]
[null,null,null,null,null,null,null,null,"",null,null,null,""]
[null,null,null,null,null,null,null,null,"",null,null,null,""]
[null,null,null,null,null,null,null,null,"",null,null,null,""]
[null,null,null,null,null,null,null,null,"",null,null,null,""]
[null,null,null,null,null,null,null,null,"",null,null,null,""]
[null,null,null,null,null,null,null,null,"",null,null,null,""]
[null,null,null,null,null,null,null,null,"",null,null,null,""]
[null,null,null,null,null,null,null,null,"",null,null,null,""]
[null,null,null,null,null,null,null,null,"",null,null,null,""]
[null,null,null,null,null,null,null,null,"",null,null,null,""]
[null,null,null,null,null,null,null,null,"",null,null,null,""]
[null,null,null,null,null,null,null,null,"",null,null,null,""]
[null,null,null,null,null,null,null,null,"",null,null,null,""]
[null,null,null,null,null,null,null,null,"",null,null,null,""]
[null,null,null,null,null,null,null,null,"",null,null,null,""]
[null,null,null,null,null,null,null,null,"",null,null,null,""]
[null,null,null,null,null,null,null,null,"",null,null,null,""]
[null,null,null,null,null,null,null,null,"",null,null,null,""]
[null,null,null,null,null,null,null,null,"",null,null,null,""]
[null,null,null,null,null,null,null,null,"",null,null,null,""]
[null,null,null,null,null,null,null,null,"",null,null,null,""]
[null,null,null,null,null,null,null,null,"",null,null,null,""]
[null,null,null,null,null,null,null,null,"",null,null,null,""]
[null,null,null,null,null,null,null,null,"",null,null,null,""]
[null,null,null,null,null,null,null,null,"",null,null,null,""]
[null,null,null,null,null,null,null,null,"",null,null,null,""]
[null,null,null,null,null,null,null,null,"",null,null,null,""]
[null,null,null,null,null,null,null,null,"",null,null,null,""]
[null,null,null,null,null,null,null,null,"",null,null,null,""]
[null,null,null,null,null,null,null,null,"",null,null,null,""]
[null,null,null,null,null,null,null,null,"",null,null,null,""]
[null,null,null,null,null,null,null,null,"",null,null,null,""]
[null,null,null,null,null,null,null,null,"",null,null,null,""]
[null,null,null,null,null,null,null,null,"",null,null,null,""]
[null,null,null,null,null,null,null,null,"",null,null,null,""]
[null,null,null,null,null,null,null,null,"",null,null,null,""]
[null,null,null,null,null,null,null,null,"",null,null,null,""]
[null,null,null,null,null,null,null,null,"",null,null,null,""]
[null,null,null,null,null,null,null,null,"",null,null,null,""]
[null,null,null,null,null,null,null,null,"",null,null,null,""]
[null,null,null,null,null,null,null,null,"",null,null,null,""]
[null,null,null,null,null,null,null,null,"",null,null,null,""]
[null,null,null,null,null,null,null,null,"",null,null,null,""]
[null,null,null,null,null,null,null,null,"",null,null,null,""]
[null,null,null,null,null,null,null,null,"",null,null,null,""]
[null,null,null,null,null,null,null,null,"",null,null,null,""]
[null,null,null,null,null,null,null,null,"",null,null,null,""]
[null,null,null,null,null,null,null,null,"",null,null,null,""]
[null,null,null,null,null,null,null,null,"",null,null,null,""]
[null,null,null,null,null,null,null,null,"",null,null,null,""]
[null,null,null,null,null,null,null,null,"",null,null,null,""]
[null,null,null,null,null,null,null,null,"",null,null,null,""]
[null,null,null,null,null,null,null,null,"",null,null,null,""]
[null,null,null,null,null,null,null,null,"",null,null,null,""]
[null,null,null,null,null,null,null,null,"",null,null,null,""]
[null,null,null,null,null,null,null,null,"",null,null,null,""]
[null,null,null,null,null,null,null,null,"",null,null,null,""]
[null,null,null,null,null,null,null,null,"",null,null,null,""]
[null,null,null,null,null,null,null,null,"",null,null,null,""]
[null,null,null,null,null,null,null,null,"",null,null,null,""]
[null,null,null,null,null,null,null,null,"",null,null,null,""]
[null,null,null,null,null,null,null,null,"",null,null,null,""]
[null,null,null,null,null,null,null,null,"",null,null,null,""]
[null,null,null,null,null,null,null,null,"",null,null,null,""]
[null,null,null,null,null,null,null,null,"",null,null,null,""]
[null,null,null,null,null,null,null,null,"",null,null,null,""]
[null,null,null,null,null,null,null,null,"",null,null,null,""]
[null,null,null,null,null,null,null,null,"",null,null,null,""]
[null,null,null,null,null,null,null,null,"",null,null,null,""]
[null,null,null,null,null,null,null,null,"",null,null,null,""]
[null,null,null,null,null,null,null,null,"",null,null,null,""]
[null,null,null,null,null,null,null,null,"",null,null,null,""]
[null,null,null,null,null,null,null,null,"",null,null,null,""]
[null,null,null,null,null,null,null,null,"",null,null,null,""]
[null,null,null,null,null,null,null,null,"",null,null,null,""]
[null,null,null,null,null,null,null,null,"",null,null,null,""]
[null,null,null,null,null,null,null,null,"",null,null,null,""]
[null,null,null,null,null,null,null,null,"",null,null,null,""]
[null,null,null,null,null,null,null,null,"",null,null,null,""]
[null,null,null,null,null,null,null,null,"",null,null,null,""]
[null,null,null,null,null,null,null,null,"",null,null,null,""]
[null,null,null,null,null,null,null,null,"",null,null,null,""]
[null,null,null,null,null,null,null,null,"",null,null,null,""]
[null,null,null,null,null,null,null,null,"",null,null,null,""]
[null,null,null,null,null,null,null,null,"",null,null,null,""]
[null,null,null,null,null,null,null,null,"",null,null,null,""]
[null,null,null,null,null,null,null,null,"",null,null,null,""]
[null,null,null,null,null,null,null,null,"",null,null,null,""]
[null,null,null,null,null,null,null,null,"",null,null,null,""]
[null,null,null,null,null,null,null,null,"",null,null,null,""]
[null,null,null,null,null,null,null,null,"",null,null,null,""]
[null,null,null,null,null,null,null,null,"",null,null,null,""]
[null,null,null,null,null,null,null,null,"",null,null,null,""]
[null,null,null,null,null,null,null,null,"",null,null,null,""]
[null,null,null,null,null,null,null,null,"",null,null,null,""]
[null,null,null,null,null,null,null,null,"",null,null,null,""]
[null,null,null,null,null,null,null,null,"",null,null,null,""]
[null,null,null,null,null,null,null,null,"",null,null,null,""]
[null,null,null,null,null,null,null,null,"",null,null,null,""]
[null,null,null,null,null,null,null,null,"",null,null,null,""]
[null,null,null,null,null,null,null,null,"",null,null,null,""]
[null,null,null,null,null,null,null,null,"",null,null,null,""]
[null,null,null,null,null,null,null,null,"",null,null,null,""]
[null,null,null,null,null,null,null,null,"",null,null,null,""]
[null,null,null,null,null,null,null,null,"",null,null,null,""]
[null,null,null,null,null,null,null,null,"",null,null,null,""]
[null,null,null,null,null,null,null,null,"",null,null,null,""]
[null,null,null,null,null,null,null,null,"",null,null,null,""]
[null,null,null,null,null,null,null,null,"",null,null,null,""]
[null,null,null,null,null,null,null,null,"",null,null,null,""]
[null,null,null,null,null,null,null,null,"",null,null,null,""]
[null,null,null,null,null,null,null,null,"",null,null,null,""]
[null,null,null,null,null,null,null,null,"",null,null,null,""]
[null,null,null,null,null,null,null,null,"",null,null,null,""]
[null,null,null,null,null,null,null,null,"",null,null,null,""]
[null,null,null,null,null,null,null,null,"",null,null,null,""]
[null,null,null,null,null,null,null,null,"",null,null,null,""]
[null,null,null,null,null,null,null,null,"",null,null,null,""]
[null,null,null,null,null,null,null,null,"",null,null,null,""]
[null,null,null,null,null,null,null,null,"",null,null,null,""]
[null,null,null,null,null,null,null,null,"",null,null,null,""]
[null,null,null,null,null,null,null,null,"",null,null,null,""]
[null,null,null,null,null,null,null,null,"",null,null,null,""]
[null,null,null,null,null,null,null,null,"",null,null,null,""]
[null,null,null,null,null,null,null,null,"",null,null,null,""]
[null,null,null,null,null,null,null,null,"",null,null,null,""]
[null,null,null,null,null,null,null,null,"",null,null,null,""]
[null,null,null,null,null,null,null,null,"",null,null,null,""]
[null,null,null,null,null,null,null,null,"",null,null,null,""]
[null,null,null,null,null,null,null,null,"",null,null,null,""]
[null,null,null,null,null,null,null,null,"",null,null,null,""]
[null,null,null,null,null,null,null,null,"",null,null,null,""]
[null,null,null,null,null,null,null,null,"",null,null,null,""]
[null,null,null,null,null,null,null,null,"",null,null,null,""]
[null,null,null,null,null,null,null,null,"",null,null,null,""]
[null,null,null,null,null,null,null,null,"",null,null,null,""]
[null,null,null,null,null,null,null,null,"",null,null,null,""]
[null,null,null,null,null,null,null,null,"",null,null,null,""]
[null,null,null,null,null,null,null,null,"",null,null,null,""]
[null,null,null,null,null,null,null,null,"",null,null,null,""]
[null,null,null,null,null,null,null,null,"",null,null,null,""]
[null,null,null,null,null,null,null,null,"",null,null,null,""]
[null,null,null,null,null,null,null,null,"",null,null,null,""]
[null,null,null,null,null,null,null,null,"",null,null,null,""]
[null,null,null,null,null,null,null,null,"",null,null,null,""]
[null,null,null,null,null,null,null,null,"",null,null,null,""]
[null,null,null,null,null,null,null,null,"",null,null,null,""]
[null,null,null,null,null,null,null,null,"",null,null,null,""]
[null,null,null,null,null,null,null,null,"",null,null,null,""]
[null,null,null,null,null,null,null,null,"",null,null,null,""]
[null,null,null,null,null,null,null,null,"",null,null,null,""]
[null,null,null,null,null,null,null,null,"",null,null,null,""]
[null,null,null,null,null,null,null,null,"",null,null,null,""]
[null,null,null,null,null,null,null,null,"",null,null,null,""]
[null,null,null,null,null,null,null,null,"",null,null,null,""]
[null,null,null,null,null,null,null,null,"",null,null,null,""]
[null,null,null,null,null,null,null,null,"",null,null,null,""]
[null,null,null,null,null,null,null,null,"",null,null,null,""]
[null,null,null,null,null,null,null,null,"",null,null,null,""]
[null,null,null,null,null,null,null,null,"",null,null,null,""]
[null,null,null,null,null,null,null,null,"",null,null,null,""]
[null,null,null,null,null,null,null,null,"",null,null,null,""]
[null,null,null,null,null,null,null,null,"",null,null,null,""]
[null,null,null,null,null,null,null,null,"",null,null,null,""]
[null,null,null,null,null,null,null,null,"",null,null,null,""]
[null,null,null,null,null,null,null,null,"",null,null,null,""]
[null,null,null,null,null,null,null,null,"",null,null,null,""]
[null,null,null,null,null,null,null,null,"",null,null,null,""]
[null,null,null,null,null,null,null,null,"",null,null,null,""]
[null,null,null,null,null,null,null,null,"",null,null,null,""]
[null,null,null,null,null,null,null,null,"",null,null,null,""]
[null,null,null,null,null,null,null,null,"",null,null,null,""]
[null,null,null,null,null,null,null,null,"",null,null,null,""]
[null,null,null,null,null,null,null,null,"",null,null,null,""]
[null,null,null,null,null,null,null,null,"",null,null,null,""]
[null,null,null,null,null,null,null,null,"",null,null,null,""]
[null,null,null,null,null,null,null,null,"",null,null,null,""]
[null,null,null,null,null,null,null,null,"",null,null,null,""]
[null,null,null,null,null,null,null,null,"",null,null,null,""]
[null,null,null,null,null,null,null,null,"",null,null,null,""]
[null,null,null,null,null,null,null,null,"",null,null,null,""]
[null,null,null,null,null,null,null,null,"",null,null,null,""]
[null,null,null,null,null,null,null,null,"",null,null,null,""]
[null,null,null,null,null,null,null,null,"",null,null,null,""]
[null,null,null,null,null,null,null,null,"",null,null,null,""]
[null,null,null,null,null,null,null,null,"",null,null,null,""]
[null,null,null,null,null,null,null,null,"",null,null,null,""]
[null,null,null,null,null,null,null,null,"",null,null,null,""]
[null,null,null,null,null,null,null,null,"",null,null,null,""]
[null,null,null,null,null,null,null,null,"",null,null,null,""]
[null,null,null,null,null,null,null,null,"",null,null,null,""]
[null,null,null,null,null,null,null,null,"",null,null,null,""]
[null,null,null,null,null,null,null,null,"",null,null,null,""]
[null,null,null,null,null,null,null,null,"",null,null,null,""]
[null,null,null,null,null,null,null,null,"",null,null,null,""]
[null,null,null,null,null,null,null,null,"",null,null,null,""]
[null,null,null,null,null,null,null,null,"",null,null,null,""]
[null,null,null,null,null,null,null,null,"",null,null,null,""]
[null,null,null,null,null,null,null,null,"",null,null,null,""]
[null,null,null,null,null,null,null,null,"",null,null,null,""]
[null,null,null,null,null,null,null,null,"",null,null,null,""]
[null,null,null,null,null,null,null,null,"",null,null,null,""]
[null,null,null,null,null,null,null,null,"",null,null,null,""]
[null,null,null,null,null,null,null,null,"",null,null,null,""]
[null,null,null,null,null,null,null,null,"",null,null,null,""]
[null,null,null,null,null,null,null,null,"",null,null,null,""]
[null,null,null,null,null,null,null,null,"",null,null,null,""]
[null,null,null,null,null,null,null,null,"",null,null,null,""]
[null,null,null,null,null,null,null,null,"",null,null,null,""]
[null,null,null,null,null,null,null,null,"",null,null,null,""]
[null,null,null,null,null,null,null,null,"",null,null,null,""]
[null,null,null,null,null,null,null,null,"",null,null,null,""]
[null,null,null,null,null,null,null,null,"",null,null,null,""]
[null,null,null,null,null,null,null,null,"",null,null,null,""]
[null,null,null,null,null,null,null,null,"",null,null,null,""]
[null,null,null,null,null,null,null,null,"",null,null,null,""]
[null,null,null,null,null,null,null,null,"",null,null,null,""]
[null,null,null,null,null,null,null,null,"",null,null,null,""]
[null,null,null,null,null,null,null,null,"",null,null,null,""]
[null,null,null,null,null,null,null,null,"",null,null,null,""]
[null,null,null,null,null,null,null,null,"",null,null,null,""]
[null,null,null,null,null,null,null,null,"",null,null,null,""]
[null,null,null,null,null,null,null,null,"",null,null,null,""]
[null,null,null,null,null,null,null,null,"",null,null,null,""]
[null,null,null,null,null,null,null,null,"",null,null,null,""]
[null,null,null,null,null,null,null,null,"",null,null,null,""]
[null,null,null,null,null,null,null,null,"",null,null,null,""]
[null,null,null,null,null,null,null,null,"",null,null,null,""]
[null,null,null,null,null,null,null,null,"",null,null,null,""]
[null,null,null,null,null,null,null,null,"",null,null,null,""]
[null,null,null,null,null,null,null,null,"",null,null,null,""]
[null,null,null,null,null,null,null,null,"",null,null,null,""]
[null,null,null,null,null,null,null,null,"",null,null,null,""]
[null,null,null,null,null,null,null,null,"",null,null,null,""]
[null,null,null,null,null,null,null,null,"",null,null,null,""]
[null,null,null,null,null,null,null,null,"",null,null,null,""]
[null,null,null,null,null,null,null,null,"",null,null,null,""]
[null,null,null,null,null,null,null,null,"",null,null,null,""]
[null,null,null,null,null,null,null,null,"",null,null,null,""]
[null,null,null,null,null,null,null,null,"",null,null,null,""]
[null,null,null,null,null,null,null,null,"",null,null,null,""]
[null,null,null,null,null,null,null,null,"",null,null,null,""]
[null,null,null,null,null,null,null,null,"",null,null,null,""]
[null,null,null,null,null,null,null,null,"",null,null,null,""]
[null,null,null,null,null,null,null,null,"",null,null,null,""]
[null,null,null,null,null,null,null,null,"",null,null,null,""]
[null,null,null,null,null,null,null,null,"",null,null,null,""]
[null,null,null,null,null,null,null,null,"",null,null,null,""]
[null,null,null,null,null,null,null,null,"",null,null,null,""]
[null,null,null,null,null,null,null,null,"",null,null,null,""]
[null,null,null,null,null,null,null,null,"",null,null,null,""]
[null,null,null,null,null,null,null,null,"",null,null,null,""]
[null,null,null,null,null,null,null,null,"",null,null,null,""]
[null,null,null,null,null,null,null,null,"",null,null,null,""]
[null,null,null,null,null,null,null,null,"",null,null,null,""]
[null,null,null,null,null,null,null,null,"",null,null,null,""]
[null,null,null,null,null,null,null,null,"",null,null,null,""]
[null,null,null,null,null,null,null,null,"",null,null,null,""]
[null,null,null,null,null,null,null,null,"",null,null,null,""]
[null,null,null,null,null,null,null,null,"",null,null,null,""]
[null,null,null,null,null,null,null,null,"",null,null,null,""]
[null,null,null,null,null,null,null,null,"",null,null,null,""]
[null,null,null,null,null,null,null,null,"",null,null,null,""]
[null,null,null,null,null,null,null,null,"",null,null,null,""]
[null,null,null,null,null,null,null,null,"",null,null,null,""]
[null,null,null,null,null,null,null,null,"",null,null,null,""]
[null,null,null,null,null,null,null,null,"",null,null,null,""]
[null,null,null,null,null,null,null,null,"",null,null,null,""]
[null,null,null,null,null,null,null,null,"",null,null,null,""]
[null,null,null,null,null,null,null,null,"",null,null,null,""]
[null,null,null,null,null,null,null,null,"",null,null,null,""]
[null,null,null,null,null,null,null,null,"",null,null,null,""]
[null,null,null,null,null,null,null,null,"",null,null,null,""]
[null,null,null,null,null,null,null,null,"",null,null,null,""]
[null,null,null,null,null,null,null,null,"",null,null,null,""]
[null,null,null,null,null,null,null,null,"",null,null,null,""]
[null,null,null,null,null,null,null,null,"",null,null,null,""]
[null,null,null,null,null,null,null,null,"",null,null,null,""]
[null,null,null,null,null,null,null,null,"",null,null,null,""]
[null,null,null,null,null,null,null,null,"",null,null,null,""]
[null,null,null,null,null,null,null,null,"",null,null,null,""]
[null,null,null,null,null,null,null,null,"",null,null,null,""]
[null,null,null,null,null,null,null,null,"",null,null,null,""]
[null,null,null,null,null,null,null,null,"",null,null,null,""]
[null,null,null,null,null,null,null,null,"",null,null,null,""]
[null,null,null,null,null,null,null,null,"",null,null,null,""]
[null,null,null,null,null,null,null,null,"",null,null,null,""]
[null,null,null,null,null,null,null,null,"",null,null,null,""]
[null,null,null,null,null,null,null,null,"",null,null,null,""]
[null,null,null,null,null,null,null,null,"",null,null,null,""]
[null,null,null,null,null,null,null,null,"",null,null,null,""]
[null,null,null,null,null,null,null,null,"",null,null,null,""]
[null,null,null,null,null,null,null,null,"",null,null,null,""]
[null,null,null,null,null,null,null,null,"",null,null,null,""]
[null,null,null,null,null,null,null,null,"",null,null,null,""]
[null,null,null,null,null,null,null,null,"",null,null,null,""]
[null,null,null,null,null,null,null,null,"",null,null,null,""]
[null,null,null,null,null,null,null,null,"",null,null,null,""]
[null,null,null,null,null,null,null,null,"",null,null,null,""]
[null,null,null,null,null,null,null,null,"",null,null,null,""]
[null,null,null,null,null,null,null,null,"",null,null,null,""]
[null,null,null,null,null,null,null,null,"",null,null,null,""]
[null,null,null,null,null,null,null,null,"",null,null,null,""]
[null,null,null,null,null,null,null,null,"",null,null,null,""]
[null,null,null,null,null,null,null,null,"",null,null,null,""]
[null,null,null,null,null,null,null,null,"",null,null,null,""]
[null,null,null,null,null,null,null,null,"",null,null,null,""]
[null,null,null,null,null,null,null,null,"",null,null,null,""]
[null,null,null,null,null,null,null,null,"",null,null,null,""]
[null,null,null,null,null,null,null,null,"",null,null,null,""]
[null,null,null,null,null,null,null,null,"",null,null,null,""]
[null,null,null,null,null,null,null,null,"",null,null,null,""]
[null,null,null,null,null,null,null,null,"",null,null,null,""]
[null,null,null,null,null,null,null,null,"",null,null,null,""]
[null,null,null,null,null,null,null,null,"",null,null,null,""]
[null,null,null,null,null,null,null,null,"",null,null,null,""]
[null,null,null,null,null,null,null,null,"",null,null,null,""]
[null,null,null,null,null,null,null,null,"",null,null,null,""]
[null,null,null,null,null,null,null,null,"",null,null,null,""]
[null,null,null,null,null,null,null,null,"",null,null,null,""]
[null,null,null,null,null,null,null,null,"",null,null,null,""]
[null,null,null,null,null,null,null,null,"",null,null,null,""]
[null,null,null,null,null,null,null,null,"",null,null,null,""]
[null,null,null,null,null,null,null,null,"",null,null,null,""]
[null,null,null,null,null,null,null,null,"",null,null,null,""]
[null,null,null,null,null,null,null,null,"",null,null,null,""]
[null,null,null,null,null,null,null,null,"",null,null,null,""]
[null,null,null,null,null,null,null,null,"",null,null,null,""]
[null,null,null,null,null,null,null,null,"",null,null,null,""]
[null,null,null,null,null,null,null,null,"",null,null,null,""]
[null,null,null,null,null,null,null,null,"",null,null,null,""]
[null,null,null,null,null,null,null,null,"",null,null,null,""]
[null,null,null,null,null,null,null,null,"",null,null,null,""]
[null,null,null,null,null,null,null,null,"",null,null,null,""]
[null,null,null,null,null,null,null,null,"",null,null,null,""]
[null,null,null,null,null,null,null,null,"",null,null,null,""]
[null,null,null,null,null,null,null,null,"",null,null,null,""]
[null,null,null,null,null,null,null,null,"",null,null,null,""]
[null,null,null,null,null,null,null,null,"",null,null,null,""]
[null,null,null,null,null,null,null,null,"",null,null,null,""]
[null,null,null,null,null,null,null,null,"",null,null,null,""]
[null,null,null,null,null,null,null,null,"",null,null,null,""]
[null,null,null,null,null,null,null,null,"",null,null,null,""]
[null,null,null,null,null,null,null,null,"",null,null,null,""]
[null,null,null,null,null,null,null,null,"",null,null,null,""]
[null,null,null,null,null,null,null,null,"",null,null,null,""]
[null,null,null,null,null,null,null,null,"",null,null,null,""]
[null,null,null,null,null,null,null,null,"",null,null,null,""]
[null,null,null,null,null,null,null,null,"",null,null,null,""]
[null,null,null,null,null,null,null,null,"",null,null,null,""]
[null,null,null,null,null,null,null,null,"",null,null,null,""]
[null,null,null,null,null,null,null,null,"",null,null,null,""]
[null,null,null,null,null,null,null,null,"",null,null,null,""]
[null,null,null,null,null,null,null,null,"",null,null,null,""]
[null,null,null,null,null,null,null,null,"",null,null,null,""]
[null,null,null,null,null,null,null,null,"",null,null,null,""]
[null,null,null,null,null,null,null,null,"",null,null,null,""]
[null,null,null,null,null,null,null,null,"",null,null,null,""]
[null,null,null,null,null,null,null,null,"",null,null,null,""]
[null,null,null,null,null,null,null,null,"",null,null,null,""]
[null,null,null,null,null,null,null,null,"",null,null,null,""]
[null,null,null,null,null,null,null,null,"",null,null,null,""]
[null,null,null,null,null,null,null,null,"",null,null,null,""]
[null,null,null,null,null,null,null,null,"",null,null,null,""]
[null,null,null,null,null,null,null,null,"",null,null,null,""]
[null,null,null,null,null,null,null,null,"",null,null,null,""]
[null,null,null,null,null,null,null,null,"",null,null,null,""]
[null,null,null,null,null,null,null,null,"",null,null,null,""]
[null,null,null,null,null,null,null,null,"",null,null,null,""]
[null,null,null,null,null,null,null,null,"",null,null,null,""]
[null,null,null,null,null,null,null,null,"",null,null,null,""]
[null,null,null,null,null,null,null,null,"",null,null,null,""]
[null,null,null,null,null,null,null,null,"",null,null,null,""]
[null,null,null,null,null,null,null,null,"",null,null,null,""]
[null,null,null,null,null,null,null,null,"",null,null,null,""]
[null,null,null,null,null,null,null,null,"",null,null,null,""]
[null,null,null,null,null,null,null,null,"",null,null,null,""]
[null,null,null,null,null,null,null,null,"",null,null,null,""]
[null,null,null,null,null,null,null,null,"",null,null,null,""]
[null,null,null,null,null,null,null,null,"",null,null,null,""]
[null,null,null,null,null,null,null,null,"",null,null,null,""]
[null,null,null,null,null,null,null,null,"",null,null,null,""]
[null,null,null,null,null,null,null,null,"",null,null,null,""]
[null,null,null,null,null,null,null,null,"",null,null,null,""]
[null,null,null,null,null,null,null,null,"",null,null,null,""]
[null,null,null,null,null,null,null,null,"",null,null,null,""]
[null,null,null,null,null,null,null,null,"",null,null,null,""]
[null,null,null,null,null,null,null,null,"",null,null,null,""]
[null,null,null,null,null,null,null,null,"",null,null,null,""]
[null,null,null,null,null,null,null,null,"",null,null,null,""]
[null,null,null,null,null,null,null,null,"",null,null,null,""]
[null,null,null,null,null,null,null,null,"",null,null,null,""]
[null,null,null,null,null,null,null,null,"",null,null,null,""]
[null,null,null,null,null,null,null,null,"",null,null,null,""]
[null,null,null,null,null,null,null,null,"",null,null,null,""]
[null,null,null,null,null,null,null,null,"",null,null,null,""]
[null,null,null,null,null,null,null,null,"",null,null,null,""]
[null,null,null,null,null,null,null,null,"",null,null,null,""]
[null,null,null,null,null,null,null,null,"",null,null,null,""]
[null,null,null,null,null,null,null,null,"",null,null,null,""]
[null,null,null,null,null,null,null,null,"",null,null,null,""]
[null,null,null,null,null,null,null,null,"",null,null,null,""]
[null,null,null,null,null,null,null,null,"",null,null,null,""]
[null,null,null,null,null,null,null,null,"",null,null,null,""]
[null,null,null,null,null,null,null,null,"",null,null,null,""]
[null,null,null,null,null,null,null,null,"",null,null,null,""]
[null,null,null,null,null,null,null,null,"",null,null,null,""]
[null,null,null,null,null,null,null,null,"",null,null,null,""]
[null,null,null,null,null,null,null,null,"",null,null,null,""]
[null,null,null,null,null,null,null,null,"",null,null,null,""]
[null,null,null,null,null,null,null,null,"",null,null,null,""]
[null,null,null,null,null,null,null,null,"",null,null,null,""]
[null,null,null,null,null,null,null,null,"",null,null,null,""]
[null,null,null,null,null,null,null,null,"",null,null,null,""]
[null,null,null,null,null,null,null,null,"",null,null,null,""]
[null,null,null,null,null,null,null,null,"",null,null,null,""]
[null,null,null,null,null,null,null,null,"",null,null,null,""]
[null,null,null,null,null,null,null,null,"",null,null,null,""]
[null,null,null,null,null,null,null,null,"",null,null,null,""]
[null,null,null,null,null,null,null,null,"",null,null,null,""]
[null,null,null,null,null,null,null,null,"",null,null,null,""]
[null,null,null,null,null,null,null,null,"",null,null,null,""]
[null,null,null,null,null,null,null,null,"",null,null,null,""]
[null,null,null,null,null,null,null,null,"",null,null,null,""]
[null,null,null,null,null,null,null,null,"",null,null,null,""]
[null,null,null,null,null,null,null,null,"",null,null,null,""]
[null,null,null,null,null,null,null,null,"",null,null,null,""]
[null,null,null,null,null,null,null,null,"",null,null,null,""]
[null,null,null,null,null,null,null,null,"",null,null,null,""]
[null,null,null,null,null,null,null,null,"",null,null,null,""]
[null,null,null,null,null,null,null,null,"",null,null,null,""]
[null,null,null,null,null,null,null,null,"",null,null,null,""]
[null,null,null,null,null,null,null,null,"",null,null,null,""]
[null,null,null,null,null,null,null,null,"",null,null,null,""]
[null,null,null,null,null,null,null,null,"",null,null,null,""]
[null,null,null,null,null,null,null,null,"",null,null,null,""]
[null,null,null,null,null,null,null,null,"",null,null,null,""]
[null,null,null,null,null,null,null,null,"",null,null,null,""]
[null,null,null,null,null,null,null,null,"",null,null,null,""]
[null,null,null,null,null,null,null,null,"",null,null,null,""]
[null,null,null,null,null,null,null,null,"",null,null,null,""]
[null,null,null,null,null,null,null,null,"",null,null,null,""]
[null,null,null,null,null,null,null,null,"",null,null,null,""]
[null,null,null,null,null,null,null,null,"",null,null,null,""]
[null,null,null,null,null,null,null,null,"",null,null,null,""]
[null,null,null,null,null,null,null,null,"",null,null,null,""]
[null,null,null,null,null,null,null,null,"",null,null,null,""]
[null,null,null,null,null,null,null,null,"",null,null,null,""]
[null,null,null,null,null,null,null,null,"",null,null,null,""]
[null,null,null,null,null,null,null,null,"",null,null,null,""]
[null,null,null,null,null,null,null,null,"",null,null,null,""]
[null,null,null,null,null,null,null,null,"",null,null,null,""]
[null,null,null,null,null,null,null,null,"",null,null,null,""]
[null,null,null,null,null,null,null,null,"",null,null,null,""]
[null,null,null,null,null,null,null,null,"",null,null,null,""]
[null,null,null,null,null,null,null,null,"",null,null,null,""]
[null,null,null,null,null,null,null,null,"",null,null,null,""]
[null,null,null,null,null,null,null,null,"",null,null,null,""]
[null,null,null,null,null,null,null,null,"",null,null,null,""]
[null,null,null,null,null,null,null,null,"",null,null,null,""]
[null,null,null,null,null,null,null,null,"",null,null,null,""]
[null,null,null,null,null,null,null,null,"",null,null,null,""]
[null,null,null,null,null,null,null,null,"",null,null,null,""]
[null,null,null,null,null,null,null,null,"",null,null,null,""]
[null,null,null,null,null,null,null,null,"",null,null,null,""]
[null,null,null,null,null,null,null,null,"",null,null,null,""]
[null,null,null,null,null,null,null,null,"",null,null,null,""]
[null,null,null,null,null,null,null,null,"",null,null,null,""]
[null,null,null,null,null,null,null,null,"",null,null,null,""]
[null,null,null,null,null,null,null,null,"",null,null,null,""]
[null,null,null,null,null,null,null,null,"",null,null,null,""]
[null,null,null,null,null,null,null,null,"",null,null,null,""]
[null,null,null,null,null,null,null,null,"",null,null,null,""]
[null,null,null,null,null,null,null,null,"",null,null,null,""]
[null,null,null,null,null,null,null,null,"",null,null,null,""]
[null,null,null,null,null,null,null,null,"",null,null,null,""]
[null,null,null,null,null,null,null,null,"",null,null,null,""]
[null,null,null,null,null,null,null,null,"",null,null,null,""]
[null,null,null,null,null,null,null,null,"",null,null,null,""]
[null,null,null,null,null,null,null,null,"",null,null,null,""]
[null,null,null,null,null,null,null,null,"",null,null,null,""]
[null,null,null,null,null,null,null,null,"",null,null,null,""]
[null,null,null,null,null,null,null,null,"",null,null,null,""]
[null,null,null,null,null,null,null,null,"",null,null,null,""]
[null,null,null,null,null,null,null,null,"",null,null,null,""]
[null,null,null,null,null,null,null,null,"",null,null,null,""]
[null,null,null,null,null,null,null,null,"",null,null,null,""]
[null,null,null,null,null,null,null,null,"",null,null,null,""]
[null,null,null,null,null,null,null,null,"",null,null,null,""]
[null,null,null,null,null,null,null,null,"",null,null,null,""]
[null,null,null,null,null,null,null,null,"",null,null,null,""]
[null,null,null,null,null,null,null,null,"",null,null,null,""]
[null,null,null,null,null,null,null,null,"",null,null,null,""]
[null,null,null,null,null,null,null,null,"",null,null,null,""]
[null,null,null,null,null,null,null,null,"",null,null,null,""]
[null,null,null,null,null,null,null,null,"",null,null,null,""]
[null,null,null,null,null,null,null,null,"",null,null,null,""]
[null,null,null,null,null,null,null,null,"",null,null,null,""]
[null,null,null,null,null,null,null,null,"",null,null,null,""]
[null,null,null,null,null,null,null,null,"",null,null,null,""]
[null,null,null,null,null,null,null,null,"",null,null,null,""]
[null,null,null,null,null,null,null,null,"",null,null,null,""]
[null,null,null,null,null,null,null,null,"",null,null,null,""]
[null,null,null,null,null,null,null,null,"",null,null,null,""]
[null,null,null,null,null,null,null,null,"",null,null,null,""]
[null,null,null,null,null,null,null,null,"",null,null,null,""]
[null,null,null,null,null,null,null,null,"",null,null,null,""]
[null,null,null,null,null,null,null,null,"",null,null,null,""]
[null,null,null,null,null,null,null,null,"",null,null,null,""]
[null,null,null,null,null,null,null,null,"",null,null,null,""]
[null,null,null,null,null,null,null,null,"",null,null,null,""]
[null,null,null,null,null,null,null,null,"",null,null,null,""]
[null,null,null,null,null,null,null,null,"",null,null,null,""]
[null,null,null,null,null,null,null,null,"",null,null,null,""]
[null,null,null,null,null,null,null,null,"",null,null,null,""]
[null,null,null,null,null,null,null,null,"",null,null,null,""]
[null,null,null,null,null,null,null,null,"",null,null,null,""]
[null,null,null,null,null,null,null,null,"",null,null,null,""]
[null,null,null,null,null,null,null,null,"",null,null,null,""]
[null,null,null,null,null,null,null,null,"",null,null,null,""]
[null,null,null,null,null,null,null,null,"",null,null,null,""]
[null,null,null,null,null,null,null,null,"",null,null,null,""]
[null,null,null,null,null,null,null,null,"",null,null,null,""]
[null,null,null,null,null,null,null,null,"",null,null,null,""]
[null,null,null,null,null,null,null,null,"",null,null,null,""]
[null,null,null,null,null,null,null,null,"",null,null,null,""]
[null,null,null,null,null,null,null,null,"",null,null,null,""]
[null,null,null,null,null,null,null,null,"",null,null,null,""]
[null,null,null,null,null,null,null,null,"",null,null,null,""]
[null,null,null,null,null,null,null,null,"",null,null,null,""]
[null,null,null,null,null,null,null,null,"",null,null,null,""]
[null,null,null,null,null,null,null,null,"",null,null,null,""]
[null,null,null,null,null,null,null,null,"",null,null,null,""]
[null,null,null,null,null,null,null,null,"",null,null,null,""]
[null,null,null,null,null,null,null,null,"",null,null,null,""]
[null,null,null,null,null,null,null,null,"",null,null,null,""]
[null,null,null,null,null,null,null,null,"",null,null,null,""]
[null,null,null,null,null,null,null,null,"",null,null,null,""]
[null,null,null,null,null,null,null,null,"",null,null,null,""]
[null,null,null,null,null,null,null,null,"",null,null,null,""]
[null,null,null,null,null,null,null,null,"",null,null,null,""]
[null,null,null,null,null,null,null,null,"",null,null,null,""]
[null,null,null,null,null,null,null,null,"",null,null,null,""]
[null,null,null,null,null,null,null,null,"",null,null,null,""]
[null,null,null,null,null,null,null,null,"",null,null,null,""]
[null,null,null,null,null,null,null,null,"",null,null,null,""]
[null,null,null,null,null,null,null,null,"",null,null,null,""]
[null,null,null,null,null,null,null,null,"",null,null,null,""]
[null,null,null,null,null,null,null,null,"",null,null,null,""]
[null,null,null,null,null,null,null,null,"",null,null,null,""]
[null,null,null,null,null,null,null,null,"",null,null,null,""]
[null,null,null,null,null,null,null,null,"",null,null,null,""]
[null,null,null,null,null,null,null,null,"",null,null,null,""]
[null,null,null,null,null,null,null,null,"",null,null,null,""]
[null,null,null,null,null,null,null,null,"",null,null,null,""]
[null,null,null,null,null,null,null,null,"",null,null,null,""]
[null,null,null,null,null,null,null,null,"",null,null,null,""]
[null,null,null,null,null,null,null,null,"",null,null,null,""]
[null,null,null,null,null,null,null,null,"",null,null,null,""]
[null,null,null,null,null,null,null,null,"",null,null,null,""]
[null,null,null,null,null,null,null,null,"",null,null,null,""]
[null,null,null,null,null,null,null,null,"",null,null,null,""]
[null,null,null,null,null,null,null,null,"",null,null,null,""]
[null,null,null,null,null,null,null,null,"",null,null,null,""]
[null,null,null,null,null,null,null,null,"",null,null,null,""]
[null,null,null,null,null,null,null,null,"",null,null,null,""]
[null,null,null,null,null,null,null,null,"",null,null,null,""]
[null,null,null,null,null,null,null,null,"",null,null,null,""]
[null,null,null,null,null,null,null,null,"",null,null,null,""]
[null,null,null,null,null,null,null,null,"",null,null,null,""]
[null,null,null,null,null,null,null,null,"",null,null,null,""]
[null,null,null,null,null,null,null,null,"",null,null,null,""]
[null,null,null,null,null,null,null,null,"",null,null,null,""]
[null,null,null,null,null,null,null,null,"",null,null,null,""]
[null,null,null,null,null,null,null,null,"",null,null,null,""]
[null,null,null,null,null,null,null,null,"",null,null,null,""]
[null,null,null,null,null,null,null,null,"",null,null,null,""]
[null,null,null,null,null,null,null,null,"",null,null,null,""]
[null,null,null,null,null,null,null,null,"",null,null,null,""]
[null,null,null,null,null,null,null,null,"",null,null,null,""]
[null,null,null,null,null,null,null,null,"",null,null,null,""]
[null,null,null,null,null,null,null,null,"",null,null,null,""]
[null,null,null,null,null,null,null,null,"",null,null,null,""]
[null,null,null,null,null,null,null,null,"",null,null,null,""]
[null,null,null,null,null,null,null,null,"",null,null,null,""]
[null,null,null,null,null,null,null,null,"",null,null,null,""]
[null,null,null,null,null,null,null,null,"",null,null,null,""]
[null,null,null,null,null,null,null,null,"",null,null,null,""]
[null,null,null,null,null,null,null,null,"",null,null,null,""]
[null,null,null,null,null,null,null,null,"",null,null,null,""]
[null,null,null,null,null,null,null,null,"",null,null,null,""]
[null,null,null,null,null,null,null,null,"",null,null,null,""]
[null,null,null,null,null,null,null,null,"",null,null,null,""]
[null,null,null,null,null,null,null,null,"",null,null,null,""]
[null,null,null,null,null,null,null,null,"",null,null,null,""]
[null,null,null,null,null,null,null,null,"",null,null,null,""]
[null,null,null,null,null,null,null,null,"",null,null,null,""]
[null,null,null,null,null,null,null,null,"",null,null,null,""]
[null,null,null,null,null,null,null,null,"",null,null,null,""]
[null,null,null,null,null,null,null,null,"",null,null,null,""]
[null,null,null,null,null,null,null,null,"",null,null,null,""]
[null,null,null,null,null,null,null,null,"",null,null,null,""]
[null,null,null,null,null,null,null,null,"",null,null,null,""]
[null,null,null,null,null,null,null,null,"",null,null,null,""]
[null,null,null,null,null,null,null,null,"",null,null,null,""]
[null,null,null,null,null,null,null,null,"",null,null,null,""]
[null,null,null,null,null,null,null,null,"",null,null,null,""]
[null,null,null,null,null,null,null,null,"",null,null,null,""]
[null,null,null,null,null,null,null,null,"",null,null,null,""]
[null,null,null,null,null,null,null,null,"",null,null,null,""]
[null,null,null,null,null,null,null,null,"",null,null,null,""]
[null,null,null,null,null,null,null,null,"",null,null,null,""]
[null,null,null,null,null,null,null,null,"",null,null,null,""]
[null,null,null,null,null,null,null,null,"",null,null,null,""]
[null,null,null,null,null,null,null,null,"",null,null,null,""]
[null,null,null,null,null,null,null,null,"",null,null,null,""]
[null,null,null,null,null,null,null,null,"",null,null,null,""]
[null,null,null,null,null,null,null,null,"",null,null,null,""]
[null,null,null,null,null,null,null,null,"",null,null,null,""]
[null,null,null,null,null,null,null,null,"",null,null,null,""]
[null,null,null,null,null,null,null,null,"",null,null,null,""]
[null,null,null,null,null,null,null,null,"",null,null,null,""]
[null,null,null,null,null,null,null,null,"",null,null,null,""]
[null,null,null,null,null,null,null,null,"",null,null,null,""]
[null,null,null,null,null,null,null,null,"",null,null,null,""]
[null,null,null,null,null,null,null,null,"",null,null,null,""]
[null,null,null,null,null,null,null,null,"",null,null,null,""]
[null,null,null,null,null,null,null,null,"",null,null,null,""]
[null,null,null,null,null,null,null,null,"",null,null,null,""]
[null,null,null,null,null,null,null,null,"",null,null,null,""]
[null,null,null,null,null,null,null,null,"",null,null,null,""]
[null,null,null,null,null,null,null,null,"",null,null,null,""]
[null,null,null,null,null,null,null,null,"",null,null,null,""]
[null,null,null,null,null,null,null,null,"",null,null,null,""]
[null,null,null,null,null,null,null,null,"",null,null,null,""]
[null,null,null,null,null,null,null,null,"",null,null,null,""]
[null,null,null,null,null,null,null,null,"",null,null,null,""]
[null,null,null,null,null,null,null,null,"",null,null,null,""]
[null,null,null,null,null,null,null,null,"",null,null,null,""]
[null,null,null,null,null,null,null,null,"",null,null,null,""]
[null,null,null,null,null,null,null,null,"",null,null,null,""]
[null,null,null,null,null,null,null,null,"",null,null,null,""]
[null,null,null,null,null,null,null,null,"",null,null,null,""]
[null,null,null,null,null,null,null,null,"",null,null,null,""]
[null,null,null,null,null,null,null,null,"",null,null,null,""]
[null,null,null,null,null,null,null,null,"",null,null,null,""]
[null,null,null,null,null,null,null,null,"",null,null,null,""]
[null,null,null,null,null,null,null,null,"",null,null,null,""]
[null,null,null,null,null,null,null,null,"",null,null,null,""]
[null,null,null,null,null,null,null,null,"",null,null,null,""]
[null,null,null,null,null,null,null,null,"",null,null,null,""]
[null,null,null,null,null,null,null,null,"",null,null,null,""]
[null,null,null,null,null,null,null,null,"",null,null,null,""]
[null,null,null,null,null,null,null,null,"",null,null,null,""]
[null,null,null,null,null,null,null,null,"",null,null,null,""]
[null,null,null,null,null,null,null,null,"",null,null,null,""]
[null,null,null,null,null,null,null,null,"",null,null,null,""]
[null,null,null,null,null,null,null,null,"",null,null,null,""]
[null,null,null,null,null,null,null,null,"",null,null,null,""]
[null,null,null,null,null,null,null,null,"",null,null,null,""]
[null,null,null,null,null,null,null,null,"",null,null,null,""]
[null,null,null,null,null,null,null,null,"",null,null,null,""]
[null,null,null,null,null,null,null,null,"",null,null,null,""]
[null,null,null,null,null,null,null,null,"",null,null,null,""]
[null,null,null,null,null,null,null,null,"",null,null,null,""]
[null,null,null,null,null,null,null,null,"",null,null,null,""]
[null,null,null,null,null,null,null,null,"",null,null,null,""]
[null,null,null,null,null,null,null,null,"",null,null,null,""]
[null,null,null,null,null,null,null,null,"",null,null,null,""]
[null,null,null,null,null,null,null,null,"",null,null,null,""]
[null,null,null,null,null,null,null,null,"",null,null,null,""]
[null,null,null,null,null,null,null,null,"",null,null,null,""]
[null,null,null,null,null,null,null,null,"",null,null,null,""]
[null,null,null,null,null,null,null,null,"",null,null,null,""]
[null,null,null,null,null,null,null,null,"",null,null,null,""]
[null,null,null,null,null,null,null,null,"",null,null,null,""]
[null,null,null,null,null,null,null,null,"",null,null,null,""]
[null,null,null,null,null,null,null,null,"",null,null,null,""]
[null,null,null,null,null,null,null,null,"",null,null,null,""]
[null,null,null,null,null,null,null,null,"",null,null,null,""]
[null,null,null,null,null,null,null,null,"",null,null,null,""]
[null,null,null,null,null,null,null,null,"",null,null,null,""]
[null,null,null,null,null,null,null,null,"",null,null,null,""]
[null,null,null,null,null,null,null,null,"",null,null,null,""]
[null,null,null,null,null,null,null,null,"",null,null,null,""]
[null,null,null,null,null,null,null,null,"",null,null,null,""]
[null,null,null,null,null,null,null,null,"",null,null,null,""]
[null,null,null,null,null,null,null,null,"",null,null,null,""]
[null,null,null,null,null,null,null,null,"",null,null,null,""]
[null,null,null,null,null,null,null,null,"",null,null,null,""]
[null,null,null,null,null,null,null,null,"",null,null,null,""]
[null,null,null,null,null,null,null,null,"",null,null,null,""]
[null,null,null,null,null,null,null,null,"",null,null,null,""]
[null,null,null,null,null,null,null,null,"",null,null,null,""]
[null,null,null,null,null,null,null,null,"",null,null,null,""]
[null,null,null,null,null,null,null,null,"",null,null,null,""]
[null,null,null,null,null,null,null,null,"",null,null,null,""]
[null,null,null,null,null,null,null,null,"",null,null,null,""]
[null,null,null,null,null,null,null,null,"",null,null,null,""]
[null,null,null,null,null,null,null,null,"",null,null,null,""]
[null,null,null,null,null,null,null,null,"",null,null,null,""]
[null,null,null,null,null,null,null,null,"",null,null,null,""]
[null,null,null,null,null,null,null,null,"",null,null,null,""]
[null,null,null,null,null,null,null,null,"",null,null,null,""]
[null,null,null,null,null,null,null,null,"",null,null,null,""]
[null,null,null,null,null,null,null,null,"",null,null,null,""]
[null,null,null,null,null,null,null,null,"",null,null,null,""]
[null,null,null,null,null,null,null,null,"",null,null,null,""]
[null,null,null,null,null,null,null,null,"",null,null,null,""]
[null,null,null,null,null,null,null,null,"",null,null,null,""]
[null,null,null,null,null,null,null,null,"",null,null,null,""]
[null,null,null,null,null,null,null,null,"",null,null,null,""]
[null,null,null,null,null,null,null,null,"",null,null,null,""]
[null,null,null,null,null,null,null,null,"",null,null,null,""]
[null,null,null,null,null,null,null,null,"",null,null,null,""]
[null,null,null,null,null,null,null,null,"",null,null,null,""]
[null,null,null,null,null,null,null,null,"",null,null,null,""]
[null,null,null,null,null,null,null,null,"",null,null,null,""]
[null,null,null,null,null,null,null,null,"",null,null,null,""]
[null,null,null,null,null,null,null,null,"",null,null,null,""]
[null,null,null,null,null,null,null,null,"",null,null,null,""]
[null,null,null,null,null,null,null,null,"",null,null,null,""]
[null,null,null,null,null,null,null,null,"",null,null,null,""]
[null,null,null,null,null,null,null,null,"",null,null,null,""]
[null,null,null,null,null,null,null,null,"",null,null,null,""]
[null,null,null,null,null,null,null,null,"",null,null,null,""]
[null,null,null,null,null,null,null,null,"",null,null,null,""]
[null,null,null,null,null,null,null,null,"",null,null,null,""]
[null,null,null,null,null,null,null,null,"",null,null,null,""]
[null,null,null,null,null,null,null,null,"",null,null,null,""]
[null,null,null,null,null,null,null,null,"",null,null,null,""]
[null,null,null,null,null,null,null,null,"",null,null,null,""]
[null,null,null,null,null,null,null,null,"",null,null,null,""]
[null,null,null,null,null,null,null,null,"",null,null,null,""]
[null,null,null,null,null,null,null,null,"",null,null,null,""]
[null,null,null,null,null,null,null,null,"",null,null,null,""]
[null,null,null,null,null,null,null,null,"",null,null,null,""]
[null,null,null,null,null,null,null,null,"",null,null,null,""]
[null,null,null,null,null,null,null,null,"",null,null,null,""]
[null,null,null,null,null,null,null,null,"",null,null,null,""]
[null,null,null,null,null,null,null,null,"",null,null,null,""]
[null,null,null,null,null,null,null,null,"",null,null,null,""]
[null,null,null,null,null,null,null,null,"",null,null,null,""]
[null,null,null,null,null,null,null,null,"",null,null,null,""]
[null,null,null,null,null,null,null,null,"",null,null,null,""]
[null,null,null,null,null,null,null,null,"",null,null,null,""]
[null,null,null,null,null,null,null,null,"",null,null,null,""]
[null,null,null,null,null,null,null,null,"",null,null,null,""]
[null,null,null,null,null,null,null,null,"",null,null,null,""]
[null,null,null,null,null,null,null,null,"",null,null,null,""]
[null,null,null,null,null,null,null,null,"",null,null,null,""]
[null,null,null,null,null,null,null,null,"",null,null,null,""]
[null,null,null,null,null,null,null,null,"",null,null,null,""]
[null,null,null,null,null,null,null,null,"",null,null,null,""]
[null,null,null,null,null,null,null,null,"",null,null,null,""]
[null,null,null,null,null,null,null,null,"",null,null,null,""]
[null,null,null,null,null,null,null,null,"",null,null,null,""]
[null,null,null,null,null,null,null,null,"",null,null,null,""]
[null,null,null,null,null,null,null,null,"",null,null,null,""]
[null,null,null,null,null,null,null,null,"",null,null,null,""]
[null,null,null,null,null,null,null,null,"",null,null,null,""]
[null,null,null,null,null,null,null,null,"",null,null,null,""]
[null,null,null,null,null,null,null,null,"",null,null,null,""]
[null,null,null,null,null,null,null,null,"",null,null,null,""]
[null,null,null,null,null,null,null,null,"",null,null,null,""]
[null,null,null,null,null,null,null,null,"",null,null,null,""]
[null,null,null,null,null,null,null,null,"",null,null,null,""]
[null,null,null,null,null,null,null,null,"",null,null,null,""]
[null,null,null,null,null,null,null,null,"",null,null,null,""]
[null,null,null,null,null,null,null,null,"",null,null,null,""]
[null,null,null,null,null,null,null,null,"",null,null,null,""]
[null,null,null,null,null,null,null,null,"",null,null,null,""]
[null,null,null,null,null,null,null,null,"",null,null,null,""]
[null,null,null,null,null,null,null,null,"",null,null,null,""]
[null,null,null,null,null,null,null,null,"",null,null,null,""]
[null,null,null,null,null,null,null,null,"",null,null,null,""]
[null,null,null,null,null,null,null,null,"",null,null,null,""]
[null,null,null,null,null,null,null,null,"",null,null,null,""]
[null,null,null,null,null,null,null,null,"",null,null,null,""]
[null,null,null,null,null,null,null,null,"",null,null,null,""]
[null,null,null,null,null,null,null,null,"",null,null,null,""]
[null,null,null,null,null,null,null,null,"",null,null,null,""]
[null,null,null,null,null,null,null,null,"",null,null,null,""]
[null,null,null,null,null,null,null,null,"",null,null,null,""]
[null,null,null,null,null,null,null,null,"",null,null,null,""]
[null,null,null,null,null,null,null,null,"",null,null,null,""]
[null,null,null,null,null,null,null,null,"",null,null,null,""]
[null,null,null,null,null,null,null,null,"",null,null,null,""]
[null,null,null,null,null,null,null,null,"",null,null,null,""]
[null,null,null,null,null,null,null,null,"",null,null,null,""]
[null,null,null,null,null,null,null,null,"",null,null,null,""]
[null,null,null,null,null,null,null,null,"",null,null,null,""]
[null,null,null,null,null,null,null,null,"",null,null,null,""]
[null,null,null,null,null,null,null,null,"",null,null,null,""]
[null,null,null,null,null,null,null,null,"",null,null,null,""]
[null,null,null,null,null,null,null,null,"",null,null,null,""]
[null,null,null,null,null,null,null,null,"",null,null,null,""]
[null,null,null,null,null,null,null,null,"",null,null,null,""]
[null,null,null,null,null,null,null,null,"",null,null,null,""]
[null,null,null,null,null,null,null,null,"",null,null,null,""]
[null,null,null,null,null,null,null,null,"",null,null,null,""]
[null,null,null,null,null,null,null,null,"",null,null,null,""]
[null,null,null,null,null,null,null,null,"",null,null,null,""]
[null,null,null,null,null,null,null,null,"",null,null,null,""]
[null,null,null,null,null,null,null,null,"",null,null,null,""]
[null,null,null,null,null,null,null,null,"",null,null,null,""]
[null,null,null,null,null,null,null,null,"",null,null,null,""]
[null,null,null,null,null,null,null,null,"",null,null,null,""]
[null,null,null,null,null,null,null,null,"",null,null,null,""]
[null,null,null,null,null,null,null,null,"",null,null,null,""]
[null,null,null,null,null,null,null,null,"",null,null,null,""]
[null,null,null,null,null,null,null,null,"",null,null,null,""]
[null,null,null,null,null,null,null,null,"",null,null,null,""]
[null,null,null,null,null,null,null,null,"",null,null,null,""]
[null,null,null,null,null,null,null,null,"",null,null,null,""]
[null,null,null,null,null,null,null,null,"",null,null,null,""]
[null,null,null,null,null,null,null,null,"",null,null,null,""]
[null,null,null,null,null,null,null,null,"",null,null,null,""]
[null,null,null,null,null,null,null,null,"",null,null,null,""]
[null,null,null,null,null,null,null,null,"",null,null,null,""]
[null,null,null,null,null,null,null,null,"",null,null,null,""]
[null,null,null,null,null,null,null,null,"",null,null,null,""]
[null,null,null,null,null,null,null,null,"",null,null,null,""]
[null,null,null,null,null,null,null,null,"",null,null,null,""]
[null,null,null,null,null,null,null,null,"",null,null,null,""]
[null,null,null,null,null,null,null,null,"",null,null,null,""]
[null,null,null,null,null,null,null,null,"",null,null,null,""]
[null,null,null,null,null,null,null,null,"",null,null,null,""]
[null,null,null,null,null,null,null,null,"",null,null,null,""]
[null,null,null,null,null,null,null,null,"",null,null,null,""]
[null,null,null,null,null,null,null,null,"",null,null,null,""]
[null,null,null,null,null,null,null,null,"",null,null,null,""]
[null,null,null,null,null,null,null,null,"",null,null,null,""]
[null,null,null,null,null,null,null,null,"",null,null,null,""]
[null,null,null,null,null,null,null,null,"",null,null,null,""]
[null,null,null,null,null,null,null,null,"",null,null,null,""]
[null,null,null,null,null,null,null,null,"",null,null,null,""]
[null,null,null,null,null,null,null,null,"",null,null,null,""]
[null,null,null,null,null,null,null,null,"",null,null,null,""]
[null,null,null,null,null,null,null,null,"",null,null,null,""]
[null,null,null,null,null,null,null,null,"",null,null,null,""]
[null,null,null,null,null,null,null,null,"",null,null,null,""]
[null,null,null,null,null,null,null,null,"",null,null,null,""]
[null,null,null,null,null,null,null,null,"",null,null,null,""]
[null,null,null,null,null,null,null,null,"",null,null,null,""]
[null,null,null,null,null,null,null,null,"",null,null,null,""]
[null,null,null,null,null,null,null,null,"",null,null,null,""]
[null,null,null,null,null,null,null,null,"",null,null,null,""]
[null,null,null,null,null,null,null,null,"",null,null,null,""]
[null,null,null,null,null,null,null,null,"",null,null,null,""]
[null,null,null,null,null,null,null,null,"",null,null,null,""]
[null,null,null,null,null,null,null,null,"",null,null,null,""]
[null,null,null,null,null,null,null,null,"",null,null,null,""]
[null,null,null,null,null,null,null,null,"",null,null,null,""]
[null,null,null,null,null,null,null,null,"",null,null,null,""]
[null,null,null,null,null,null,null,null,"",null,null,null,""]
[null,null,null,null,null,null,null,null,"",null,null,null,""]
[null,null,null,null,null,null,null,null,"",null,null,null,""]
[null,null,null,null,null,null,null,null,"",null,null,null,""]
[null,null,null,null,null,null,null,null,"",null,null,null,""]
[null,null,null,null,null,null,null,null,"",null,null,null,""]
[null,null,null,null,null,null,null,null,"",null,null,null,""]
[null,null,null,null,null,null,null,null,"",null,null,null,""]
[null,null,null,null,null,null,null,null,"",null,null,null,""]
[null,null,null,null,null,null,null,null,"",null,null,null,""]
[null,null,null,null,null,null,null,null,"",null,null,null,""]
[null,null,null,null,null,null,null,null,"",null,null,null,""]
[null,null,null,null,null,null,null,null,"",null,null,null,""]
[null,null,null,null,null,null,null,null,"",null,null,null,""]
[null,null,null,null,null,null,null,null,"",null,null,null,""]
[null,null,null,null,null,null,null,null,"",null,null,null,""]
[null,null,null,null,null,null,null,null,"",null,null,null,""]
[null,null,null,null,null,null,null,null,"",null,null,null,""]
[null,null,null,null,null,null,null,null,"",null,null,null,""]
[null,null,null,null,null,null,null,null,"",null,null,null,""]
[null,null,null,null,null,null,null,null,"",null,null,null,""]
[null,null,null,null,null,null,null,null,"",null,null,null,""]
[null,null,null,null,null,null,null,null,"",null,null,null,""]
[null,null,null,null,null,null,null,null,"",null,null,null,""]
[null,null,null,null,null,null,null,null,"",null,null,null,""]
[null,null,null,null,null,null,null,null,"",null,null,null,""]
[null,null,null,null,null,null,null,null,"",null,null,null,""]
[null,null,null,null,null,null,null,null,"",null,null,null,""]
[null,null,null,null,null,null,null,null,"",null,null,null,""]
[null,null,null,null,null,null,null,null,"",null,null,null,""]
[null,null,null,null,null,null,null,null,"",null,null,null,""]
[null,null,null,null,null,null,null,null,"",null,null,null,""]
[null,null,null,null,null,null,null,null,"",null,null,null,""]
[null,null,null,null,null,null,null,null,"",null,null,null,""]
[null,null,null,null,null,null,null,null,"",null,null,null,""]
[null,null,null,null,null,null,null,null,"",null,null,null,""]
[null,null,null,null,null,null,null,null,"",null,null,null,""]
[null,null,null,null,null,null,null,null,"",null,null,null,""]
[null,null,null,null,null,null,null,null,"",null,null,null,""]
[null,null,null,null,null,null,null,null,"",null,null,null,""]
[null,null,null,null,null,null,null,null,"",null,null,null,""]
[null,null,null,null,null,null,null,null,"",null,null,null,""]
[null,null,null,null,null,null,null,null,"",null,null,null,""]
[null,null,null,null,null,null,null,null,"",null,null,null,""]
[null,null,null,null,null,null,null,null,"",null,null,null,""]
[null,null,null,null,null,null,null,null,"",null,null,null,""]
[null,null,null,null,null,null,null,null,"",null,null,null,""]
[null,null,null,null,null,null,null,null,"",null,null,null,""]
[null,null,null,null,null,null,null,null,"",null,null,null,""]
[null,null,null,null,null,null,null,null,"",null,null,null,""]
[null,null,null,null,null,null,null,null,"",null,null,null,""]
[null,null,null,null,null,null,null,null,"",null,null,null,""]
[null,null,null,null,null,null,null,null,"",null,null,null,""]
[null,null,null,null,null,null,null,null,"",null,null,null,""]
[null,null,null,null,null,null,null,null,"",null,null,null,""]
[null,null,null,null,null,null,null,null,"",null,null,null,""]
[null,null,null,null,null,null,null,null,"",null,null,null,""]
[null,null,null,null,null,null,null,null,"",null,null,null,""]
[null,null,null,null,null,null,null,null,"",null,null,null,""]
[null,null,null,null,null,null,null,null,"",null,null,null,""]
[null,null,null,null,null,null,null,null,"",null,null,null,""]
[null,null,null,null,null,null,null,null,"",null,null,null,""]
[null,null,null,null,null,null,null,null,"",null,null,null,""]
[null,null,null,null,null,null,null,null,"",null,null,null,""]
[null,null,null,null,null,null,null,null,"",null,null,null,""]
[null,null,null,null,null,null,null,null,"",null,null,null,""]
[null,null,null,null,null,null,null,null,"",null,null,null,""]
[null,null,null,null,null,null,null,null,"",null,null,null,""]
[null,null,null,null,null,null,null,null,"",null,null,null,""]
[null,null,null,null,null,null,null,null,"",null,null,null,""]
[null,null,null,null,null,null,null,null,"",null,null,null,""]
[null,null,null,null,null,null,null,null,"",null,null,null,""]
[null,null,null,null,null,null,null,null,"",null,null,null,""]
[null,null,null,null,null,null,null,null,"",null,null,null,""]
[null,null,null,null,null,null,null,null,"",null,null,null,""]
[null,null,null,null,null,null,null,null,"",null,null,null,""]
[null,null,null,null,null,null,null,null,"",null,null,null,""]
[null,null,null,null,null,null,null,null,"",null,null,null,""]
[null,null,null,null,null,null,null,null,"",null,null,null,""]
[null,null,null,null,null,null,null,null,"",null,null,null,""]
[null,null,null,null,null,null,null,null,"",null,null,null,""]
[null,null,null,null,null,null,null,null,"",null,null,null,""]
[null,null,null,null,null,null,null,null,"",null,null,null,""]
[null,null,null,null,null,null,null,null,"",null,null,null,""]
[null,null,null,null,null,null,null,null,"",null,null,null,""]
[null,null,null,null,null,null,null,null,"",null,null,null,""]
[null,null,null,null,null,null,null,null,"",null,null,null,""]
[null,null,null,null,null,null,null,null,"",null,null,null,""]
[null,null,null,null,null,null,null,null,"",null,null,null,""]
[null,null,null,null,null,null,null,null,"",null,null,null,""]
[null,null,null,null,null,null,null,null,"",null,null,null,""]
[null,null,null,null,null,null,null,null,"",null,null,null,""]
[null,null,null,null,null,null,null,null,"",null,null,null,""]
[null,null,null,null,null,null,null,null,"",null,null,null,""]
[null,null,null,null,null,null,null,null,"",null,null,null,""]
[null,null,null,null,null,null,null,null,"",null,null,null,""]
[null,null,null,null,null,null,null,null,"",null,null,null,""]
[null,null,null,null,null,null,null,null,"",null,null,null,""]
[null,null,null,null,null,null,null,null,"",null,null,null,""]
[null,null,null,null,null,null,null,null,"",null,null,null,""]
[null,null,null,null,null,null,null,null,"",null,null,null,""]
[null,null,null,null,null,null,null,null,"",null,null,null,""]
[null,null,null,null,null,null,null,null,"",null,null,null,""]
[null,null,null,null,null,null,null,null,"",null,null,null,""]
[null,null,null,null,null,null,null,null,"",null,null,null,""]
[null,null,null,null,null,null,null,null,"",null,null,null,""]
[null,null,null,null,null,null,null,null,"",null,null,null,""]
[null,null,null,null,null,null,null,null,"",null,null,null,""]
[null,null,null,null,null,null,null,null,"",null,null,null,""]
[null,null,null,null,null,null,null,null,"",null,null,null,""]
[null,null,null,null,null,null,null,null,"",null,null,null,""]
[null,null,null,null,null,null,null,null,"",null,null,null,""]
[null,null,null,null,null,null,null,null,"",null,null,null,""]
[null,null,null,null,null,null,null,null,"",null,null,null,""]
[null,null,null,null,null,null,null,null,"",null,null,null,""]
[null,null,null,null,null,null,null,null,"",null,null,null,""]
[null,null,null,null,null,null,null,null,"",null,null,null,""]
[null,null,null,null,null,null,null,null,"",null,null,null,""]
[null,null,null,null,null,null,null,null,"",null,null,null,""]
[null,null,null,null,null,null,null,null,"",null,null,null,""]
[null,null,null,null,null,null,null,null,"",null,null,null,""]
[null,null,null,null,null,null,null,null,"",null,null,null,""]
[null,null,null,null,null,null,null,null,"",null,null,null,""]
[null,null,null,null,null,null,null,null,"",null,null,null,""]
[null,null,null,null,null,null,null,null,"",null,null,null,""]
[null,null,null,null,null,null,null,null,"",null,null,null,""]
[null,null,null,null,null,null,null,null,"",null,null,null,""]
[null,null,null,null,null,null,null,null,"",null,null,null,""]
[null,null,null,null,null,null,null,null,"",null,null,null,""]
[null,null,null,null,null,null,null,null,"",null,null,null,""]
[null,null,null,null,null,null,null,null,"",null,null,null,""]
[null,null,null,null,null,null,null,null,"",null,null,null,""]
[null,null,null,null,null,null,null,null,"",null,null,null,""]
[null,null,null,null,null,null,null,null,"",null,null,null,""]
[null,null,null,null,null,null,null,null,"",null,null,null,""]
[null,null,null,null,null,null,null,null,"",null,null,null,""]
[null,null,null,null,null,null,null,null,"",null,null,null,""]
[null,null,null,null,null,null,null,null,"",null,null,null,""]
[null,null,null,null,null,null,null,null,"",null,null,null,""]
[null,null,null,null,null,null,null,null,"",null,null,null,""]
[null,null,null,null,null,null,null,null,"",null,null,null,""]
[null,null,null,null,null,null,null,null,"",null,null,null,""]
[null,null,null,null,null,null,null,null,"",null,null,null,""]
[null,null,null,null,null,null,null,null,"",null,null,null,""]
[null,null,null,null,null,null,null,null,"",null,null,null,""]
[null,null,null,null,null,null,null,null,"",null,null,null,""]
[null,null,null,null,null,null,null,null,"",null,null,null,""]
[null,null,null,null,null,null,null,null,"",null,null,null,""]
[null,null,null,null,null,null,null,null,"",null,null,null,""]
[null,null,null,null,null,null,null,null,"",null,null,null,""]
[null,null,null,null,null,null,null,null,"",null,null,null,""]
[null,null,null,null,null,null,null,null,"",null,null,null,""]
[null,null,null,null,null,null,null,null,"",null,null,null,""]
[null,null,null,null,null,null,null,null,"",null,null,null,""]
[null,null,null,null,null,null,null,null,"",null,null,null,""]
[null,null,null,null,null,null,null,null,"",null,null,null,""]
[null,null,null,null,null,null,null,null,"",null,null,null,""]
[null,null,null,null,null,null,null,null,"",null,null,null,""]
[null,null,null,null,null,null,null,null,"",null,null,null,""]
[null,null,null,null,null,null,null,null,"",null,null,null,""]
[null,null,null,null,null,null,null,null,"",null,null,null,""]
[null,null,null,null,null,null,null,null,"",null,null,null,""]
[null,null,null,null,null,null,null,null,"",null,null,null,""]
[null,null,null,null,null,null,null,null,"",null,null,null,""]
[null,null,null,null,null,null,null,null,"",null,null,null,""]
[null,null,null,null,null,null,null,null,"",null,null,null,""]
[null,null,null,null,null,null,null,null,"",null,null,null,""]
[null,null,null,null,null,null,null,null,"",null,null,null,""]
[null,null,null,null,null,null,null,null,"",null,null,null,""]
[null,null,null,null,null,null,null,null,"",null,null,null,""]
[null,null,null,null,null,null,null,null,"",null,null,null,""]
[null,null,null,null,null,null,null,null,"",null,null,null,""]
[null,null,null,null,null,null,null,null,"",null,null,null,""]
[null,null,null,null,null,null,null,null,"",null,null,null,""]
[null,null,null,null,null,null,null,null,"",null,null,null,""]
[null,null,null,null,null,null,null,null,"",null,null,null,""]
[null,null,null,null,null,null,null,null,"",null,null,null,""]
[null,null,null,null,null,null,null,null,"",null,null,null,""]
[null,null,null,null,null,null,null,null,"",null,null,null,""]
[null,null,null,null,null,null,null,null,"",null,null,null,""]
[null,null,null,null,null,null,null,null,"",null,null,null,""]
[null,null,null,null,null,null,null,null,"",null,null,null,""]
[null,null,null,null,null,null,null,null,"",null,null,null,""]
[null,null,null,null,null,null,null,null,"",null,null,null,""]
[null,null,null,null,null,null,null,null,"",null,null,null,""]
[null,null,null,null,null,null,null,null,"",null,null,null,""]
[null,null,null,null,null,null,null,null,"",null,null,null,""]
[null,null,null,null,null,null,null,null,"",null,null,null,""]
[null,null,null,null,null,null,null,null,"",null,null,null,""]
[null,null,null,null,null,null,null,null,"",null,null,null,""]
[null,null,null,null,null,null,null,null,"",null,null,null,""]
[null,null,null,null,null,null,null,null,"",null,null,null,""]
[null,null,null,null,null,null,null,null,"",null,null,null,""]
[null,null,null,null,null,null,null,null,"",null,null,null,""]
[null,null,null,null,null,null,null,null,"",null,null,null,""]
[null,null,null,null,null,null,null,null,"",null,null,null,""]
[null,null,null,null,null,null,null,null,"",null,null,null,""]
[null,null,null,null,null,null,null,null,"",null,null,null,""]
[null,null,null,null,null,null,null,null,"",null,null,null,""]
[null,null,null,null,null,null,null,null,"",null,null,null,""]
[null,null,null,null,null,null,null,null,"",null,null,null,""]
[null,null,null,null,null,null,null,null,"",null,null,null,""]
[null,null,null,null,null,null,null,null,"",null,null,null,""]
[null,null,null,null,null,null,null,null,"",null,null,null,""]
[null,null,null,null,null,null,null,null,"",null,null,null,""]
[null,null,null,null,null,null,null,null,"",null,null,null,""]
[null,null,null,null,null,null,null,null,"",null,null,null,""]
[null,null,null,null,null,null,null,null,"",null,null,null,""]
[null,null,null,null,null,null,null,null,"",null,null,null,""]
[null,null,null,null,null,null,null,null,"",null,null,null,""]
[null,null,null,null,null,null,null,null,"",null,null,null,""]
[null,null,null,null,null,null,null,null,"",null,null,null,""]
[null,null,null,null,null,null,null,null,"",null,null,null,""]
[null,null,null,null,null,null,null,null,"",null,null,null,""]
[null,null,null,null,null,null,null,null,"",null,null,null,""]
[null,null,null,null,null,null,null,null,"",null,null,null,""]
[null,null,null,null,null,null,null,null,"",null,null,null,""]
[null,null,null,null,null,null,null,null,"",null,null,null,""]
[null,null,null,null,null,null,null,null,"",null,null,null,""]
[null,null,null,null,null,null,null,null,"",null,null,null,""]
[null,null,null,null,null,null,null,null,"",null,null,null,""]
[null,null,null,null,null,null,null,null,"",null,null,null,""]
[null,null,null,null,null,null,null,null,"",null,null,null,""]
[null,null,null,null,null,null,null,null,"",null,null,null,""]
[null,null,null,null,null,null,null,null,"",null,null,null,""]
[null,null,null,null,null,null,null,null,"",null,null,null,""]
[null,null,null,null,null,null,null,null,"",null,null,null,""]
[null,null,null,null,null,null,null,null,"",null,null,null,""]
[null,null,null,null,null,null,null,null,"",null,null,null,""]
[null,null,null,null,null,null,null,null,"",null,null,null,""]
[null,null,null,null,null,null,null,null,"",null,null,null,""]
[null,null,null,null,null,null,null,null,"",null,null,null,""]
[null,null,null,null,null,null,null,null,"",null,null,null,""]
[null,null,null,null,null,null,null,null,"",null,null,null,""]
[null,null,null,null,null,null,null,null,"",null,null,null,""]
[null,null,null,null,null,null,null,null,"",null,null,null,""]
[null,null,null,null,null,null,null,null,"",null,null,null,""]
[null,null,null,null,null,null,null,null,"",null,null,null,""]
[null,null,null,null,null,null,null,null,"",null,null,null,""]
[null,null,null,null,null,null,null,null,"",null,null,null,""]
[null,null,null,null,null,null,null,null,"",null,null,null,""]
[null,null,null,null,null,null,null,null,"",null,null,null,""]
[null,null,null,null,null,null,null,null,"",null,null,null,""]
[null,null,null,null,null,null,null,null,"",null,null,null,""]
[null,null,null,null,null,null,null,null,"",null,null,null,""]
[null,null,null,null,null,null,null,null,"",null,null,null,""]
[null,null,null,null,null,null,null,null,"",null,null,null,""]
[null,null,null,null,null,null,null,null,"",null,null,null,""]
[null,null,null,null,null,null,null,null,"",null,null,null,""]
[null,null,null,null,null,null,null,null,"",null,null,null,""]
[null,null,null,null,null,null,null,null,"",null,null,null,""]
[null,null,null,null,null,null,null,null,"",null,null,null,""]
[null,null,null,null,null,null,null,null,"",null,null,null,""]
[null,null,null,null,null,null,null,null,"",null,null,null,""]
[null,null,null,null,null,null,null,null,"",null,null,null,""]
[null,null,null,null,null,null,null,null,"",null,null,null,""]
[null,null,null,null,null,null,null,null,"",null,null,null,""]
[null,null,null,null,null,null,null,null,"",null,null,null,""]
[null,null,null,null,null,null,null,null,"",null,null,null,""]
[null,null,null,null,null,null,null,null,"",null,null,null,""]
[null,null,null,null,null,null,null,null,"",null,null,null,""]
[null,null,null,null,null,null,null,null,"",null,null,null,""]
[null,null,null,null,null,null,null,null,"",null,null,null,""]
[null,null,null,null,null,null,null,null,"",null,null,null,""]
[null,null,null,null,null,null,null,null,"",null,null,null,""]
[null,null,null,null,null,null,null,null,"",null,null,null,""]
[null,null,null,null,null,null,null,null,"",null,null,null,""]
[null,null,null,null,null,null,null,null,"",null,null,null,""]
[null,null,null,null,null,null,null,null,"",null,null,null,""]
[null,null,null,null,null,null,null,null,"",null,null,null,""]
[null,null,null,null,null,null,null,null,"",null,null,null,""]
[null,null,null,null,null,null,null,null,"",null,null,null,""]
[null,null,null,null,null,null,null,null,"",null,null,null,""]
[null,null,null,null,null,null,null,null,"",null,null,null,""]
[null,null,null,null,null,null,null,null,"",null,null,null,""]
[null,null,null,null,null,null,null,null,"",null,null,null,""]
[null,null,null,null,null,null,null,null,"",null,null,null,""]
[null,null,null,null,null,null,null,null,"",null,null,null,""]
[null,null,null,null,null,null,null,null,"",null,null,null,""]
[null,null,null,null,null,null,null,null,"",null,null,null,""]
[null,null,null,null,null,null,null,null,"",null,null,null,""]
[null,null,null,null,null,null,null,null,"",null,null,null,""]
[null,null,null,null,null,null,null,null,"",null,null,null,""]
[null,null,null,null,null,null,null,null,"",null,null,null,""]
[null,null,null,null,null,null,null,null,"",null,null,null,""]
[null,null,null,null,null,null,null,null,"",null,null,null,""]
[null,null,null,null,null,null,null,null,"",null,null,null,""]
[null,null,null,null,null,null,null,null,"",null,null,null,""]
[null,null,null,null,null,null,null,null,"",null,null,null,""]
[null,null,null,null,null,null,null,null,"",null,null,null,""]
[null,null,null,null,null,null,null,null,"",null,null,null,""]
[null,null,null,null,null,null,null,null,"",null,null,null,""]
[null,null,null,null,null,null,null,null,"",null,null,null,""]
[null,null,null,null,null,null,null,null,"",null,null,null,""]
[null,null,null,null,null,null,null,null,"",null,null,null,""]
[null,null,null,null,null,null,null,null,"",null,null,null,""]
[null,null,null,null,null,null,null,null,"",null,null,null,""]
[null,null,null,null,null,null,null,null,"",null,null,null,""]
[null,null,null,null,null,null,null,null,"",null,null,null,""]
[null,null,null,null,null,null,null,null,"",null,null,null,""]
[null,null,null,null,null,null,null,null,"",null,null,null,""]
[null,null,null,null,null,null,null,null,"",null,null,null,""]
[null,null,null,null,null,null,null,null,"",null,null,null,""]
[null,null,null,null,null,null,null,null,"",null,null,null,""]
[null,null,null,null,null,null,null,null,"",null,null,null,""]
[null,null,null,null,null,null,null,null,"",null,null,null,""]
[null,null,null,null,null,null,null,null,"",null,null,null,""]
[null,null,null,null,null,null,null,null,"",null,null,null,""]
[null,null,null,null,null,null,null,null,"",null,null,null,""]
[null,null,null,null,null,null,null,null,"",null,null,null,""]
[null,null,null,null,null,null,null,null,"",null,null,null,""]
[null,null,null,null,null,null,null,null,"",null,null,null,""]
[null,null,null,null,null,null,null,null,"",null,null,null,""]
[null,null,null,null,null,null,null,null,"",null,null,null,""]
[null,null,null,null,null,null,null,null,"",null,null,null,""]
[null,null,null,null,null,null,null,null,"",null,null,null,""]
[null,null,null,null,null,null,null,null,"",null,null,null,""]
[null,null,null,null,null,null,null,null,"",null,null,null,""]
[null,null,null,null,null,null,null,null,"",null,null,null,""]
[null,null,null,null,null,null,null,null,"",null,null,null,""]
[null,null,null,null,null,null,null,null,"",null,null,null,""]
[null,null,null,null,null,null,null,null,"",null,null,null,""]
[null,null,null,null,null,null,null,null,"",null,null,null,""]
[null,null,null,null,null,null,null,null,"",null,null,null,""]
[null,null,null,null,null,null,null,null,"",null,null,null,""]
[null,null,null,null,null,null,null,null,"",null,null,null,""]
[null,null,null,null,null,null,null,null,"",null,null,null,""]
[null,null,null,null,null,null,null,null,"",null,null,null,""]
[null,null,null,null,null,null,null,null,"",null,null,null,""]
[null,null,null,null,null,null,null,null,"",null,null,null,""]
[null,null,null,null,null,null,null,null,"",null,null,null,""]
[null,null,null,null,null,null,null,null,"",null,null,null,""]
[null,null,null,null,null,null,null,null,"",null,null,null,""]
[null,null,null,null,null,null,null,null,"",null,null,null,""]
[null,null,null,null,null,null,null,null,"",null,null,null,""]
[null,null,null,null,null,null,null,null,"",null,null,null,""]
[null,null,null,null,null,null,null,null,"",null,null,null,""]
[null,null,null,null,null,null,null,null,"",null,null,null,""]
[null,null,null,null,null,null,null,null,"",null,null,null,""]
[null,null,null,null,null,null,null,null,"",null,null,null,""]
[null,null,null,null,null,null,null,null,"",null,null,null,""]
[null,null,null,null,null,null,null,null,"",null,null,null,""]
[null,null,null,null,null,null,null,null,"",null,null,null,""]
[null,null,null,null,null,null,null,null,"",null,null,null,""]
[null,null,null,null,null,null,null,null,"",null,null,null,""]
[null,null,null,null,null,null,null,null,"",null,null,null,""]
[null,null,null,null,null,null,null,null,"",null,null,null,""]
[null,null,null,null,null,null,null,null,"",null,null,null,""]
[null,null,null,null,null,null,null,null,"",null,null,null,""]
[null,null,null,null,null,null,null,null,"",null,null,null,""]
[null,null,null,null,null,null,null,null,"",null,null,null,""]
[null,null,null,null,null,null,null,null,"",null,null,null,""]
[null,null,null,null,null,null,null,null,"",null,null,null,""]
[null,null,null,null,null,null,null,null,"",null,null,null,""]
[null,null,null,null,null,null,null,null,"",null,null,null,""]
[null,null,null,null,null,null,null,null,"",null,null,null,""]
[null,null,null,null,null,null,null,null,"",null,null,null,""]
[null,null,null,null,null,null,null,null,"",null,null,null,""]
[null,null,null,null,null,null,null,null,"",null,null,null,""]
[null,null,null,null,null,null,null,null,"",null,null,null,""]
[null,null,null,null,null,null,null,null,"",null,null,null,""]
[null,null,null,null,null,null,null,null,"",null,null,null,""]
[null,null,null,null,null,null,null,null,"",null,null,null,""]
[null,null,null,null,null,null,null,null,"",null,null,null,""]
[null,null,null,null,null,null,null,null,"",null,null,null,""]
[null,null,null,null,null,null,null,null,"",null,null,null,""]
[null,null,null,null,null,null,null,null,"",null,null,null,""]
[null,null,null,null,null,null,null,null,"",null,null,null,""]
[null,null,null,null,null,null,null,null,"",null,null,null,""]
[null,null,null,null,null,null,null,null,"",null,null,null,""]
[null,null,null,null,null,null,null,null,"",null,null,null,""]
[null,null,null,null,null,null,null,null,"",null,null,null,""]
[null,null,null,null,null,null,null,null,"",null,null,null,""]
[null,null,null,null,null,null,null,null,"",null,null,null,""]
[null,null,null,null,null,null,null,null,"",null,null,null,""]
[null,null,null,null,null,null,null,null,"",null,null,null,""]
[null,null,null,null,null,null,null,null,"",null,null,null,""]
[null,null,null,null,null,null,null,null,"",null,null,null,""]
[null,null,null,null,null,null,null,null,"",null,null,null,""]
[null,null,null,null,null,null,null,null,"",null,null,null,""]
[null,null,null,null,null,null,null,null,"",null,null,null,""]
[null,null,null,null,null,null,null,null,"",null,null,null,""]
[null,null,null,null,null,null,null,null,"",null,null,null,""]
[null,null,null,null,null,null,null,null,"",null,null,null,""]
[null,null,null,null,null,null,null,null,"",null,null,null,""]
[null,null,null,null,null,null,null,null,"",null,null,null,""]
[null,null,null,null,null,null,null,null,"",null,null,null,""]
[null,null,null,null,null,null,null,null,"",null,null,null,""]
[null,null,null,null,null,null,null,null,"",null,null,null,""]
[null,null,null,null,null,null,null,null,"",null,null,null,""]
[null,null,null,null,null,null,null,null,"",null,null,null,""]
[null,null,null,null,null,null,null,null,"",null,null,null,""]
[null,null,null,null,null,null,null,null,"",null,null,null,""]
[null,null,null,null,null,null,null,null,"",null,null,null,""]
[null,null,null,null,null,null,null,null,"",null,null,null,""]
[null,null,null,null,null,null,null,null,"",null,null,null,""]
[null,null,null,null,null,null,null,null,"",null,null,null,""]
[null,null,null,null,null,null,null,null,"",null,null,null,""]
[null,null,null,null,null,null,null,null,"",null,null,null,""]
[null,null,null,null,null,null,null,null,"",null,null,null,""]
[null,null,null,null,null,null,null,null,"",null,null,null,""]
[null,null,null,null,null,null,null,null,"",null,null,null,""]
[null,null,null,null,null,null,null,null,"",null,null,null,""]
[null,null,null,null,null,null,null,null,"",null,null,null,""]
[null,null,null,null,null,null,null,null,"",null,null,null,""]
[null,null,null,null,null,null,null,null,"",null,null,null,""]
[null,null,null,null,null,null,null,null,"",null,null,null,""]
[null,null,null,null,null,null,null,null,"",null,null,null,""]
[null,null,null,null,null,null,null,null,"",null,null,null,""]
[null,null,null,null,null,null,null,null,"",null,null,null,""]
[null,null,null,null,null,null,null,null,"",null,null,null,""]
[null,null,null,null,null,null,null,null,"",null,null,null,""]
[null,null,null,null,null,null,null,null,"",null,null,null,""]
[null,null,null,null,null,null,null,null,"",null,null,null,""]
[null,null,null,null,null,null,null,null,"",null,null,null,""]
[null,null,null,null,null,null,null,null,"",null,null,null,""]
[null,null,null,null,null,null,null,null,"",null,null,null,""]
[null,null,null,null,null,null,null,null,"",null,null,null,""]
[null,null,null,null,null,null,null,null,"",null,null,null,""]
[null,null,null,null,null,null,null,null,"",null,null,null,""]
[null,null,null,null,null,null,null,null,"",null,null,null,""]
[null,null,null,null,null,null,null,null,"",null,null,null,""]
[null,null,null,null,null,null,null,null,"",null,null,null,""]
[null,null,null,null,null,null,null,null,"",null,null,null,""]
[null,null,null,null,null,null,null,null,"",null,null,null,""]
[null,null,null,null,null,null,null,null,"",null,null,null,""]
[null,null,null,null,null,null,null,null,"",null,null,null,""]
[null,null,null,null,null,null,null,null,"",null,null,null,""]
[null,null,null,null,null,null,null,null,"",null,null,null,""]
[null,null,null,null,null,null,null,null,"",null,null,null,""]
[null,null,null,null,null,null,null,null,"",null,null,null,""]
[null,null,null,null,null,null,null,null,"",null,null,null,""]
[null,null,null,null,null,null,null,null,"",null,null,null,""]
[null,null,null,null,null,null,null,null,"",null,null,null,""]
[null,null,null,null,null,null,null,null,"",null,null,null,""]
[null,null,null,null,null,null,null,null,"",null,null,null,""]
[null,null,null,null,null,null,null,null,"",null,null,null,""]
[null,null,null,null,null,null,null,null,"",null,null,null,""]
[null,null,null,null,null,null,null,null,"",null,null,null,""]
[null,null,null,null,null,null,null,null,"",null,null,null,""]
[null,null,null,null,null,null,null,null,"",null,null,null,""]
[null,null,null,null,null,null,null,null,"",null,null,null,""]
[null,null,null,null,null,null,null,null,"",null,null,null,""]
[null,null,null,null,null,null,null,null,"",null,null,null,""]
[null,null,null,null,null,null,null,null,"",null,null,null,""]
[null,null,null,null,null,null,null,null,"",null,null,null,""]
[null,null,null,null,null,null,null,null,"",null,null,null,""]
[null,null,null,null,null,null,null,null,"",null,null,null,""]
[null,null,null,null,null,null,null,null,"",null,null,null,""]
[null,null,null,null,null,null,null,null,"",null,null,null,""]
[null,null,null,null,null,null,null,null,"",null,null,null,""]
[null,null,null,null,null,null,null,null,"",null,null,null,""]
[null,null,null,null,null,null,null,null,"",null,null,null,""]
[null,null,null,null,null,null,null,null,"",null,null,null,""]
[null,null,null,null,null,null,null,null,"",null,null,null,""]
[null,null,null,null,null,null,null,null,"",null,null,null,""]
[null,null,null,null,null,null,null,null,"",null,null,null,""]
[null,null,null,null,null,null,null,null,"",null,null,null,""]
[null,null,null,null,null,null,null,null,"",null,null,null,""]
[null,null,null,null,null,null,null,null,"",null,null,null,""]
[null,null,null,null,null,null,null,null,"",null,null,null,""]
[null,null,null,null,null,null,null,null,"",null,null,null,""]
[null,null,null,null,null,null,null,null,"",null,null,null,""]
[null,null,null,null,null,null,null,null,"",null,null,null,""]
[null,null,null,null,null,null,null,null,"",null,null,null,""]
[null,null,null,null,null,null,null,null,"",null,null,null,""]
[null,null,null,null,null,null,null,null,"",null,null,null,""]
[null,null,null,null,null,null,null,null,"",null,null,null,""]
[null,null,null,null,null,null,null,null,"",null,null,null,""]
[null,null,null,null,null,null,null,null,"",null,null,null,""]
[null,null,null,null,null,null,null,null,"",null,null,null,""]
[null,null,null,null,null,null,null,null,"",null,null,null,""]
[null,null,null,null,null,null,null,null,"",null,null,null,""]
[null,null,null,null,null,null,null,null,"",null,null,null,""]
[null,null,null,null,null,null,null,null,"",null,null,null,""]
[null,null,null,null,null,null,null,null,"",null,null,null,""]
[null,null,null,null,null,null,null,null,"",null,null,null,""]
[null,null,null,null,null,null,null,null,"",null,null,null,""]
[null,null,null,null,null,null,null,null,"",null,null,null,""]
[null,null,null,null,null,null,null,null,"",null,null,null,""]
[null,null,null,null,null,null,null,null,"",null,null,null,""]
[null,null,null,null,null,null,null,null,"",null,null,null,""]
[null,null,null,null,null,null,null,null,"",null,null,null,""]
[null,null,null,null,null,null,null,null,"",null,null,null,""]
[null,null,null,null,null,null,null,null,"",null,null,null,""]
[null,null,null,null,null,null,null,null,"",null,null,null,""]
[null,null,null,null,null,null,null,null,"",null,null,null,""]
[null,null,null,null,null,null,null,null,"",null,null,null,""]
[null,null,null,null,null,null,null,null,"",null,null,null,""]
[null,null,null,null,null,null,null,null,"",null,null,null,""]
[null,null,null,null,null,null,null,null,"",null,null,null,""]
[null,null,null,null,null,null,null,null,"",null,null,null,""]
[null,null,null,null,null,null,null,null,"",null,null,null,""]
[null,null,null,null,null,null,null,null,"",null,null,null,""]
[null,null,null,null,null,null,null,null,"",null,null,null,""]
[null,null,null,null,null,null,null,null,"",null,null,null,""]
[null,null,null,null,null,null,null,null,"",null,null,null,""]
[null,null,null,null,null,null,null,null,"",null,null,null,""]
[null,null,null,null,null,null,null,null,"",null,null,null,""]
[null,null,null,null,null,null,null,null,"",null,null,null,""]
[null,null,null,null,null,null,null,null,"",null,null,null,""]
[null,null,null,null,null,null,null,null,"",null,null,null,""]
[null,null,null,null,null,null,null,null,"",null,null,null,""]
[null,null,null,null,null,null,null,null,"",null,null,null,""]
[null,null,null,null,null,null,null,null,"",null,null,null,""]
[null,null,null,null,null,null,null,null,"",null,null,null,""]
[null,null,null,null,null,null,null,null,"",null,null,null,""]
[null,null,null,null,null,null,null,null,"",null,null,null,""]
[null,null,null,null,null,null,null,null,"",null,null,null,""]
[null,null,null,null,null,null,null,null,"",null,null,null,""]
[null,null,null,null,null,null,null,null,"",null,null,null,""]
[null,null,null,null,null,null,null,null,"",null,null,null,""]
[null,null,null,null,null,null,null,null,"",null,null,null,""]
[null,null,null,null,null,null,null,null,"",null,null,null,""]
[null,null,null,null,null,null,null,null,"",null,null,null,""]
[null,null,null,null,null,null,null,null,"",null,null,null,""]
[null,null,null,null,null,null,null,null,"",null,null,null,""]
[null,null,null,null,null,null,null,null,"",null,null,null,""]
[null,null,null,null,null,null,null,null,"",null,null,null,""]
[null,null,null,null,null,null,null,null,"",null,null,null,""]
[null,null,null,null,null,null,null,null,"",null,null,null,""]
[null,null,null,null,null,null,null,null,"",null,null,null,""]
[null,null,null,null,null,null,null,null,"",null,null,null,""]
[null,null,null,null,null,null,null,null,"",null,null,null,""]
[null,null,null,null,null,null,null,null,"",null,null,null,""]
[null,null,null,null,null,null,null,null,"",null,null,null,""]
[null,null,null,null,null,null,null,null,"",null,null,null,""]
[null,null,null,null,null,null,null,null,"",null,null,null,""]
[null,null,null,null,null,null,null,null,"",null,null,null,""]
[null,null,null,null,null,null,null,null,"",null,null,null,""]
[null,null,null,null,null,null,null,null,"",null,null,null,""]
[null,null,null,null,null,null,null,null,"",null,null,null,""]
[null,null,null,null,null,null,null,null,"",null,null,null,""]
[null,null,null,null,null,null,null,null,"",null,null,null,""]
[null,null,null,null,null,null,null,null,"",null,null,null,""]
[null,null,null,null,null,null,null,null,"",null,null,null,""]
[null,null,null,null,null,null,null,null,"",null,null,null,""]
[null,null,null,null,null,null,null,null,"",null,null,null,""]
[null,null,null,null,null,null,null,null,"",null,null,null,""]
[null,null,null,null,null,null,null,null,"",null,null,null,""]
[null,null,null,null,null,null,null,null,"",null,null,null,""]
[null,null,null,null,null,null,null,null,"",null,null,null,""]
[null,null,null,null,null,null,null,null,"",null,null,null,""]
[null,null,null,null,null,null,null,null,"",null,null,null,""]
[null,null,null,null,null,null,null,null,"",null,null,null,""]
[null,null,null,null,null,null,null,null,"",null,null,null,""]
[null,null,null,null,null,null,null,null,"",null,null,null,""]
[null,null,null,null,null,null,null,null,"",null,null,null,""]
[null,null,null,null,null,null,null,null,"",null,null,null,""]
[null,null,null,null,null,null,null,null,"",null,null,null,""]
[null,null,null,null,null,null,null,null,"",null,null,null,""]
[null,null,null,null,null,null,null,null,"",null,null,null,""]
[null,null,null,null,null,null,null,null,"",null,null,null,""]
[null,null,null,null,null,null,null,null,"",null,null,null,""]
[null,null,null,null,null,null,null,null,"",null,null,null,""]
[null,null,null,null,null,null,null,null,"",null,null,null,""]
[null,null,null,null,null,null,null,null,"",null,null,null,""]
[null,null,null,null,null,null,null,null,"",null,null,null,""]
[null,null,null,null,null,null,null,null,"",null,null,null,""]
[null,null,null,null,null,null,null,null,"",null,null,null,""]
[null,null,null,null,null,null,null,null,"",null,null,null,""]
[null,null,null,null,null,null,null,null,"",null,null,null,""]
[null,null,null,null,null,null,null,null,"",null,null,null,""]
[null,null,null,null,null,null,null,null,"",null,null,null,""]
[null,null,null,null,null,null,null,null,"",null,null,null,""]
[null,null,null,null,null,null,null,null,"",null,null,null,""]
[null,null,null,null,null,null,null,null,"",null,null,null,""]
[null,null,null,null,null,null,null,null,"",null,null,null,""]
[null,null,null,null,null,null,null,null,"",null,null,null,""]
[null,null,null,null,null,null,null,null,"",null,null,null,""]
[null,null,null,null,null,null,null,null,"",null,null,null,""]
[null,null,null,null,null,null,null,null,"",null,null,null,""]
[null,null,null,null,null,null,null,null,"",null,null,null,""]
[null,null,null,null,null,null,null,null,"",null,null,null,""]
[null,null,null,null,null,null,null,null,"",null,null,null,""]
[null,null,null,null,null,null,null,null,"",null,null,null,""]
[null,null,null,null,null,null,null,null,"",null,null,null,""]
[null,null,null,null,null,null,null,null,"",null,null,null,""]
[null,null,null,null,null,null,null,null,"",null,null,null,""]
[null,null,null,null,null,null,null,null,"",null,null,null,""]
[null,null,null,null,null,null,null,null,"",null,null,null,""]
[null,null,null,null,null,null,null,null,"",null,null,null,""]
[null,null,null,null,null,null,null,null,"",null,null,null,""]
[null,null,null,null,null,null,null,null,"",null,null,null,""]
[null,null,null,null,null,null,null,null,"",null,null,null,""]
[null,null,null,null,null,null,null,null,"",null,null,null,""]
[null,null,null,null,null,null,null,null,"",null,null,null,""]
[null,null,null,null,null,null,null,null,"",null,null,null,""]
[null,null,null,null,null,null,null,null,"",null,null,null,""]
[null,null,null,null,null,null,null,null,"",null,null,null,""]
[null,null,null,null,null,null,null,null,"",null,null,null,""]
[null,null,null,null,null,null,null,null,"",null,null,null,""]
[null,null,null,null,null,null,null,null,"",null,null,null,""]
[null,null,null,null,null,null,null,null,"",null,null,null,""]
[null,null,null,null,null,null,null,null,"",null,null,null,""]
[null,null,null,null,null,null,null,null,"",null,null,null,""]
[null,null,null,null,null,null,null,null,"",null,null,null,""]
[null,null,null,null,null,null,null,null,"",null,null,null,""]
[null,null,null,null,null,null,null,null,"",null,null,null,""]
[null,null,null,null,null,null,null,null,"",null,null,null,""]
[null,null,null,null,null,null,null,null,"",null,null,null,""]
[null,null,null,null,null,null,null,null,"",null,null,null,""]
[null,null,null,null,null,null,null,null,"",null,null,null,""]
[null,null,null,null,null,null,null,null,"",null,null,null,""]
[null,null,null,null,null,null,null,null,"",null,null,null,""]
[null,null,null,null,null,null,null,null,"",null,null,null,""]
[null,null,null,null,null,null,null,null,"",null,null,null,""]
[null,null,null,null,null,null,null,null,"",null,null,null,""]
[null,null,null,null,null,null,null,null,"",null,null,null,""]
[null,null,null,null,null,null,null,null,"",null,null,null,""]
[null,null,null,null,null,null,null,null,"",null,null,null,""]
[null,null,null,null,null,null,null,null,"",null,null,null,""]
[null,null,null,null,null,null,null,null,"",null,null,null,""]
[null,null,null,null,null,null,null,null,"",null,null,null,""]
[null,null,null,null,null,null,null,null,"",null,null,null,""]
[null,null,null,null,null,null,null,null,"",null,null,null,""]
[null,null,null,null,null,null,null,null,"",null,null,null,""]
[null,null,null,null,null,null,null,null,"",null,null,null,""]
[null,null,null,null,null,null,null,null,"",null,null,null,""]
[null,null,null,null,null,null,null,null,"",null,null,null,""]
[null,null,null,null,null,null,null,null,"",null,null,null,""]
[null,null,null,null,null,null,null,null,"",null,null,null,""]
[null,null,null,null,null,null,null,null,"",null,null,null,""]
[null,null,null,null,null,null,null,null,"",null,null,null,""]
[null,null,null,null,null,null,null,null,"",null,null,null,""]
[null,null,null,null,null,null,null,null,"",null,null,null,""]
[null,null,null,null,null,null,null,null,"",null,null,null,""]
[null,null,null,null,null,null,null,null,"",null,null,null,""]
[null,null,null,null,null,null,null,null,"",null,null,null,""]
[null,null,null,null,null,null,null,null,"",null,null,null,""]
[null,null,null,null,null,null,null,null,"",null,null,null,""]
[null,null,null,null,null,null,null,null,"",null,null,null,""]
[null,null,null,null,null,null,null,null,"",null,null,null,""]
[null,null,null,null,null,null,null,null,"",null,null,null,""]
[null,null,null,null,null,null,null,null,"",null,null,null,""]
[null,null,null,null,null,null,null,null,"",null,null,null,""]
[null,null,null,null,null,null,null,null,"",null,null,null,""]
[null,null,null,null,null,null,null,null,"",null,null,null,""]
[null,null,null,null,null,null,null,null,"",null,null,null,""]
[null,null,null,null,null,null,null,null,"",null,null,null,""]
[null,null,null,null,null,null,null,null,"",null,null,null,""]
[null,null,null,null,null,null,null,null,"",null,null,null,""]
[null,null,null,null,null,null,null,null,"",null,null,null,""]
[null,null,null,null,null,null,null,null,"",null,null,null,""]
[null,null,null,null,null,null,null,null,"",null,null,null,""]
[null,null,null,null,null,null,null,null,"",null,null,null,""]
[null,null,null,null,null,null,null,null,"",null,null,null,""]
[null,null,null,null,null,null,null,null,"",null,null,null,""]
[null,null,null,null,null,null,null,null,"",null,null,null,""]
[null,null,null,null,null,null,null,null,"",null,null,null,""]
[null,null,null,null,null,null,null,null,"",null,null,null,""]
[null,null,null,null,null,null,null,null,"",null,null,null,""]
[null,null,null,null,null,null,null,null,"",null,null,null,""]
[null,null,null,null,null,null,null,null,"",null,null,null,""]
[null,null,null,null,null,null,null,null,"",null,null,null,""]
[null,null,null,null,null,null,null,null,"",null,null,null,""]
[null,null,null,null,null,null,null,null,"",null,null,null,""]
[null,null,null,null,null,null,null,null,"",null,null,null,""]
[null,null,null,null,null,null,null,null,"",null,null,null,""]
[null,null,null,null,null,null,null,null,"",null,null,null,""]
[null,null,null,null,null,null,null,null,"",null,null,null,""]
[null,null,null,null,null,null,null,null,"",null,null,null,""]
[null,null,null,null,null,null,null,null,"",null,null,null,""]
[null,null,null,null,null,null,null,null,"",null,null,null,""]
[null,null,null,null,null,null,null,null,"",null,null,null,""]
[null,null,null,null,null,null,null,null,"",null,null,null,""]
[null,null,null,null,null,null,null,null,"",null,null,null,""]
[null,null,null,null,null,null,null,null,"",null,null,null,""]
[null,null,null,null,null,null,null,null,"",null,null,null,""]
[null,null,null,null,null,null,null,null,"",null,null,null,""]
[null,null,null,null,null,null,null,null,"",null,null,null,""]
[null,null,null,null,null,null,null,null,"",null,null,null,""]
[null,null,null,null,null,null,null,null,"",null,null,null,""]
[null,null,null,null,null,null,null,null,"",null,null,null,""]
[null,null,null,null,null,null,null,null,"",null,null,null,""]
[null,null,null,null,null,null,null,null,"",null,null,null,""]
[null,null,null,null,null,null,null,null,"",null,null,null,""]
[null,null,null,null,null,null,null,null,"",null,null,null,""]
[null,null,null,null,null,null,null,null,"",null,null,null,""]
[null,null,null,null,null,null,null,null,"",null,null,null,""]
[null,null,null,null,null,null,null,null,"",null,null,null,""]
[null,null,null,null,null,null,null,null,"",null,null,null,""]
[null,null,null,null,null,null,null,null,"",null,null,null,""]
[null,null,null,null,null,null,null,null,"",null,null,null,""]
[null,null,null,null,null,null,null,null,"",null,null,null,""]
[null,null,null,null,null,null,null,null,"",null,null,null,""]
[null,null,null,null,null,null,null,null,"",null,null,null,""]
[null,null,null,null,null,null,null,null,"",null,null,null,""]
[null,null,null,null,null,null,null,null,"",null,null,null,""]
[null,null,null,null,null,null,null,null,"",null,null,null,""]
[null,null,null,null,null,null,null,null,"",null,null,null,""]
[null,null,null,null,null,null,null,null,"",null,null,null,""]
[null,null,null,null,null,null,null,null,"",null,null,null,""]
[null,null,null,null,null,null,null,null,"",null,null,null,""]
[null,null,null,null,null,null,null,null,"",null,null,null,""]
[null,null,null,null,null,null,null,null,"",null,null,null,""]
[null,null,null,null,null,null,null,null,"",null,null,null,""]
[null,null,null,null,null,null,null,null,"",null,null,null,""]
[null,null,null,null,null,null,null,null,"",null,null,null,""]
[null,null,null,null,null,null,null,null,"",null,null,null,""]
[null,null,null,null,null,null,null,null,"",null,null,null,""]
[null,null,null,null,null,null,null,null,"",null,null,null,""]
[null,null,null,null,null,null,null,null,"",null,null,null,""]
[null,null,null,null,null,null,null,null,"",null,null,null,""]
[null,null,null,null,null,null,null,null,"",null,null,null,""]
[null,null,null,null,null,null,null,null,"",null,null,null,""]
[null,null,null,null,null,null,null,null,"",null,null,null,""]
[null,null,null,null,null,null,null,null,"",null,null,null,""]
[null,null,null,null,null,null,null,null,"",null,null,null,""]
[null,null,null,null,null,null,null,null,"",null,null,null,""]
[null,null,null,null,null,null,null,null,"",null,null,null,""]
[null,null,null,null,null,null,null,null,"",null,null,null,""]
[null,null,null,null,null,null,null,null,"",null,null,null,""]
[null,null,null,null,null,null,null,null,"",null,null,null,""]
[null,null,null,null,null,null,null,null,"",null,null,null,""]
[null,null,null,null,null,null,null,null,"",null,null,null,""]
[null,null,null,null,null,null,null,null,"",null,null,null,""]
[null,null,null,null,null,null,null,null,"",null,null,null,""]
[null,null,null,null,null,null,null,null,"",null,null,null,""]
[null,null,null,null,null,null,null,null,"",null,null,null,""]
[null,null,null,null,null,null,null,null,"",null,null,null,""]
[null,null,null,null,null,null,null,null,"",null,null,null,""]
[null,null,null,null,null,null,null,null,"",null,null,null,""]
[null,null,null,null,null,null,null,null,"",null,null,null,""]
[null,null,null,null,null,null,null,null,"",null,null,null,""]
[null,null,null,null,null,null,null,null,"",null,null,null,""]
[null,null,null,null,null,null,null,null,"",null,null,null,""]
[null,null,null,null,null,null,null,null,"",null,null,null,""]
[null,null,null,null,null,null,null,null,"",null,null,null,""]
[null,null,null,null,null,null,null,null,"",null,null,null,""]
[null,null,null,null,null,null,null,null,"",null,null,null,""]
[null,null,null,null,null,null,null,null,"",null,null,null,""]
[null,null,null,null,null,null,null,null,"",null,null,null,""]
[null,null,null,null,null,null,null,null,"",null,null,null,""]
[null,null,null,null,null,null,null,null,"",null,null,null,""]
[null,null,null,null,null,null,null,null,"",null,null,null,""]
[null,null,null,null,null,null,null,null,"",null,null,null,""]
[null,null,null,null,null,null,null,null,"",null,null,null,""]
[null,null,null,null,null,null,null,null,"",null,null,null,""]
[null,null,null,null,null,null,null,null,"",null,null,null,""]
[null,null,null,null,null,null,null,null,"",null,null,null,""]
[null,null,null,null,null,null,null,null,"",null,null,null,""]
[null,null,null,null,null,null,null,null,"",null,null,null,""]
[null,null,null,null,null,null,null,null,"",null,null,null,""]
[null,null,null,null,null,null,null,null,"",null,null,null,""]
[null,null,null,null,null,null,null,null,"",null,null,null,""]
[null,null,null,null,null,null,null,null,"",null,null,null,""]
[null,null,null,null,null,null,null,null,"",null,null,null,""]
[null,null,null,null,null,null,null,null,"",null,null,null,""]
[null,null,null,null,null,null,null,null,"",null,null,null,""]
[null,null,null,null,null,null,null,null,"",null,null,null,""]
[null,null,null,null,null,null,null,null,"",null,null,null,""]
[null,null,null,null,null,null,null,null,"",null,null,null,""]
[null,null,null,null,null,null,null,null,"",null,null,null,""]
[null,null,null,null,null,null,null,null,"",null,null,null,""]
[null,null,null,null,null,null,null,null,"",null,null,null,""]
[null,null,null,null,null,null,null,null,"",null,null,null,""]
[null,null,null,null,null,null,null,null,"",null,null,null,""]
[null,null,null,null,null,null,null,null,"",null,null,null,""]
[null,null,null,null,null,null,null,null,"",null,null,null,""]
[null,null,null,null,null,null,null,null,"",null,null,null,""]
[null,null,null,null,null,null,null,null,"",null,null,null,""]
[null,null,null,null,null,null,null,null,"",null,null,null,""]
[null,null,null,null,null,null,null,null,"",null,null,null,""]
[null,null,null,null,null,null,null,null,"",null,null,null,""]
[null,null,null,null,null,null,null,null,"",null,null,null,""]
[null,null,null,null,null,null,null,null,"",null,null,null,""]
[null,null,null,null,null,null,null,null,"",null,null,null,""]
[null,null,null,null,null,null,null,null,"",null,null,null,""]
[null,null,null,null,null,null,null,null,"",null,null,null,""]
[null,null,null,null,null,null,null,null,"",null,null,null,""]
[null,null,null,null,null,null,null,null,"",null,null,null,""]
[null,null,null,null,null,null,null,null,"",null,null,null,""]
[null,null,null,null,null,null,null,null,"",null,null,null,""]
[null,null,null,null,null,null,null,null,"",null,null,null,""]
[null,null,null,null,null,null,null,null,"",null,null,null,""]
[null,null,null,null,null,null,null,null,"",null,null,null,""]
[null,null,null,null,null,null,null,null,"",null,null,null,""]
[null,null,null,null,null,null,null,null,"",null,null,null,""]
[null,null,null,null,null,null,null,null,"",null,null,null,""]
[null,null,null,null,null,null,null,null,"",null,null,null,""]
[null,null,null,null,null,null,null,null,"",null,null,null,""]
[null,null,null,null,null,null,null,null,"",null,null,null,""]
[null,null,null,null,null,null,null,null,"",null,null,null,""]
[null,null,null,null,null,null,null,null,"",null,null,null,""]
[null,null,null,null,null,null,null,null,"",null,null,null,""]
[null,null,null,null,null,null,null,null,"",null,null,null,""]
[null,null,null,null,null,null,null,null,"",null,null,null,""]
[null,null,null,null,null,null,null,null,"",null,null,null,""]
[null,null,null,null,null,null,null,null,"",null,null,null,""]
[null,null,null,null,null,null,null,null,"",null,null,null,""]
[null,null,null,null,null,null,null,null,"",null,null,null,""]
[null,null,null,null,null,null,null,null,"",null,null,null,""]
[null,null,null,null,null,null,null,null,"",null,null,null,""]
[null,null,null,null,null,null,null,null,"",null,null,null,""]
[null,null,null,null,null,null,null,null,"",null,null,null,""]
[null,null,null,null,null,null,null,null,"",null,null,null,""]
[null,null,null,null,null,null,null,null,"",null,null,null,""]
[null,null,null,null,null,null,null,null,"",null,null,null,""]
[null,null,null,null,null,null,null,null,"",null,null,null,""]
[null,null,null,null,null,null,null,null,"",null,null,null,""]
[null,null,null,null,null,null,null,null,"",null,null,null,""]
[null,null,null,null,null,null,null,null,"",null,null,null,""]
[null,null,null,null,null,null,null,null,"",null,null,null,""]
[null,null,null,null,null,null,null,null,"",null,null,null,""]
[null,null,null,null,null,null,null,null,"",null,null,null,""]
[null,null,null,null,null,null,null,null,"",null,null,null,""]
[null,null,null,null,null,null,null,null,"",null,null,null,""]
[null,null,null,null,null,null,null,null,"",null,null,null,""]
[null,null,null,null,null,null,null,null,"",null,null,null,""]
[null,null,null,null,null,null,null,null,"",null,null,null,""]
[null,null,null,null,null,null,null,null,"",null,null,null,""]
[null,null,null,null,null,null,null,null,"",null,null,null,""]
[null,null,null,null,null,null,null,null,"",null,null,null,""]
[null,null,null,null,null,null,null,null,"",null,null,null,""]
[null,null,null,null,null,null,null,null,"",null,null,null,""]
[null,null,null,null,null,null,null,null,"",null,null,null,""]
[null,null,null,null,null,null,null,null,"",null,null,null,""]
[null,null,null,null,null,null,null,null,"",null,null,null,""]
[null,null,null,null,null,null,null,null,"",null,null,null,""]
[null,null,null,null,null,null,null,null,"",null,null,null,""]
[null,null,null,null,null,null,null,null,"",null,null,null,""]
[null,null,null,null,null,null,null,null,"",null,null,null,""]
[null,null,null,null,null,null,null,null,"",null,null,null,""]
[null,null,null,null,null,null,null,null,"",null,null,null,""]
[null,null,null,null,null,null,null,null,"",null,null,null,""]
[null,null,null,null,null,null,null,null,"",null,null,null,""]
[null,null,null,null,null,null,null,null,"",null,null,null,""]
[null,null,null,null,null,null,null,null,"",null,null,null,""]
[null,null,null,null,null,null,null,null,"",null,null,null,""]
[null,null,null,null,null,null,null,null,"",null,null,null,""]
[null,null,null,null,null,null,null,null,"",null,null,null,""]
[null,null,null,null,null,null,null,null,"",null,null,null,""]
[null,null,null,null,null,null,null,null,"",null,null,null,""]
[null,null,null,null,null,null,null,null,"",null,null,null,""]
[null,null,null,null,null,null,null,null,"",null,null,null,""]
[null,null,null,null,null,null,null,null,"",null,null,null,""]
[null,null,null,null,null,null,null,null,"",null,null,null,""]
[null,null,null,null,null,null,null,null,"",null,null,null,""]
[null,null,null,null,null,null,null,null,"",null,null,null,""]
[null,null,null,null,null,null,null,null,"",null,null,null,""]
[null,null,null,null,null,null,null,null,"",null,null,null,""]
[null,null,null,null,null,null,null,null,"",null,null,null,""]
[null,null,null,null,null,null,null,null,"",null,null,null,""]
[null,null,null,null,null,null,null,null,"",null,null,null,""]
[null,null,null,null,null,null,null,null,"",null,null,null,""]
[null,null,null,null,null,null,null,null,"",null,null,null,""]
[null,null,null,null,null,null,null,null,"",null,null,null,""]
[null,null,null,null,null,null,null,null,"",null,null,null,""]
[null,null,null,null,null,null,null,null,"",null,null,null,""]
[null,null,null,null,null,null,null,null,"",null,null,null,""]
[null,null,null,null,null,null,null,null,"",null,null,null,""]
[null,null,null,null,null,null,null,null,"",null,null,null,""]
[null,null,null,null,null,null,null,null,"",null,null,null,""]
[null,null,null,null,null,null,null,null,"",null,null,null,""]
[null,null,null,null,null,null,null,null,"",null,null,null,""]
[null,null,null,null,null,null,null,null,"",null,null,null,""]
[null,null,null,null,null,null,null,null,"",null,null,null,""]
[null,null,null,null,null,null,null,null,"",null,null,null,""]
[null,null,null,null,null,null,null,null,"",null,null,null,""]
[null,null,null,null,null,null,null,null,"",null,null,null,""]
[null,null,null,null,null,null,null,null,"",null,null,null,""]
[null,null,null,null,null,null,null,null,"",null,null,null,""]
[null,null,null,null,null,null,null,null,"",null,null,null,""]
[null,null,null,null,null,null,null,null,"",null,null,null,""]
[null,null,null,null,null,null,null,null,"",null,null,null,""]
[null,null,null,null,null,null,null,null,"",null,null,null,""]
[null,null,null,null,null,null,null,null,"",null,null,null,""]
[null,null,null,null,null,null,null,null,"",null,null,null,""]
[null,null,null,null,null,null,null,null,"",null,null,null,""]
[null,null,null,null,null,null,null,null,"",null,null,null,""]
[null,null,null,null,null,null,null,null,"",null,null,null,""]
[null,null,null,null,null,null,null,null,"",null,null,null,""]
[null,null,null,null,null,null,null,null,"",null,null,null,""]
[null,null,null,null,null,null,null,null,"",null,null,null,""]
[null,null,null,null,null,null,null,null,"",null,null,null,""]
[null,null,null,null,null,null,null,null,"",null,null,null,""]
[null,null,null,null,null,null,null,null,"",null,null,null,""]
[null,null,null,null,null,null,null,null,"",null,null,null,""]
[null,null,null,null,null,null,null,null,"",null,null,null,""]
[null,null,null,null,null,null,null,null,"",null,null,null,""]
[null,null,null,null,null,null,null,null,"",null,null,null,""]
[null,null,null,null,null,null,null,null,"",null,null,null,""]
[null,null,null,null,null,null,null,null,"",null,null,null,""]
[null,null,null,null,null,null,null,null,"",null,null,null,""]
[null,null,null,null,null,null,null,null,"",null,null,null,""]
[null,null,null,null,null,null,null,null,"",null,null,null,""]
[null,null,null,null,null,null,null,null,"",null,null,null,""]
[null,null,null,null,null,null,null,null,"",null,null,null,""]
[null,null,null,null,null,null,null,null,"",null,null,null,""]
[null,null,null,null,null,null,null,null,"",null,null,null,""]
[null,null,null,null,null,null,null,null,"",null,null,null,""]
[null,null,null,null,null,null,null,null,"",null,null,null,""]
[null,null,null,null,null,null,null,null,"",null,null,null,""]
[null,null,null,null,null,null,null,null,"",null,null,null,""]
[null,null,null,null,null,null,null,null,"",null,null,null,""]
[null,null,null,null,null,null,null,null,"",null,null,null,""]
[null,null,null,null,null,null,null,null,"",null,null,null,""]
[null,null,null,null,null,null,null,null,"",null,null,null,""]
[null,null,null,null,null,null,null,null,"",null,null,null,""]
[null,null,null,null,null,null,null,null,"",null,null,null,""]
[null,null,null,null,null,null,null,null,"",null,null,null,""]
[null,null,null,null,null,null,null,null,"",null,null,null,""]
[null,null,null,null,null,null,null,null,"",null,null,null,""]
[null,null,null,null,null,null,null,null,"",null,null,null,""]
[null,null,null,null,null,null,null,null,"",null,null,null,""]
[null,null,null,null,null,null,null,null,"",null,null,null,""]
[null,null,null,null,null,null,null,null,"",null,null,null,""]
[null,null,null,null,null,null,null,null,"",null,null,null,""]
[null,null,null,null,null,null,null,null,"",null,null,null,""]
[null,null,null,null,null,null,null,null,"",null,null,null,""]
[null,null,null,null,null,null,null,null,"",null,null,null,""]
[null,null,null,null,null,null,null,null,"",null,null,null,""]
[null,null,null,null,null,null,null,null,"",null,null,null,""]
[null,null,null,null,null,null,null,null,"",null,null,null,""]
[null,null,null,null,null,null,null,null,"",null,null,null,""]
[null,null,null,null,null,null,null,null,"",null,null,null,""]
[null,null,null,null,null,null,null,null,"",null,null,null,""]
[null,null,null,null,null,null,null,null,"",null,null,null,""]
[null,null,null,null,null,null,null,null,"",null,null,null,""]
[null,null,null,null,null,null,null,null,"",null,null,null,""]
[null,null,null,null,null,null,null,null,"",null,null,null,""]
[null,null,null,null,null,null,null,null,"",null,null,null,""]
[null,null,null,null,null,null,null,null,"",null,null,null,""]
[null,null,null,null,null,null,null,null,"",null,null,null,""]
[null,null,null,null,null,null,null,null,"",null,null,null,""]
[null,null,null,null,null,null,null,null,"",null,null,null,""]
[null,null,null,null,null,null,null,null,"",null,null,null,""]
[null,null,null,null,null,null,null,null,"",null,null,null,""]
[null,null,null,null,null,null,null,null,"",null,null,null,""]
[null,null,null,null,null,null,null,null,"",null,null,null,""]
[null,null,null,null,null,null,null,null,"",null,null,null,""]
[null,null,null,null,null,null,null,null,"",null,null,null,""]
[null,null,null,null,null,null,null,null,"",null,null,null,""]
[null,null,null,null,null,null,null,null,"",null,null,null,""]
[null,null,null,null,null,null,null,null,"",null,null,null,""]
[null,null,null,null,null,null,null,null,"",null,null,null,""]
[null,null,null,null,null,null,null,null,"",null,null,null,""]
[null,null,null,null,null,null,null,null,"",null,null,null,""]
[null,null,null,null,null,null,null,null,"",null,null,null,""]
[null,null,null,null,null,null,null,null,"",null,null,null,""]
[null,null,null,null,null,null,null,null,"",null,null,null,""]
[null,null,null,null,null,null,null,null,"",null,null,null,""]
[null,null,null,null,null,null,null,null,"",null,null,null,""]
[null,null,null,null,null,null,null,null,"",null,null,null,""]
[null,null,null,null,null,null,null,null,"",null,null,null,""]
[null,null,null,null,null,null,null,null,"",null,null,null,""]
[null,null,null,null,null,null,null,null,"",null,null,null,""]
[null,null,null,null,null,null,null,null,"",null,null,null,""]
[null,null,null,null,null,null,null,null,"",null,null,null,""]
[null,null,null,null,null,null,null,null,"",null,null,null,""]
[null,null,null,null,null,null,null,null,"",null,null,null,""]
[null,null,null,null,null,null,null,null,"",null,null,null,""]
[null,null,null,null,null,null,null,null,"",null,null,null,""]
[null,null,null,null,null,null,null,null,"",null,null,null,""]
[null,null,null,null,null,null,null,null,"",null,null,null,""]
[null,null,null,null,null,null,null,null,"",null,null,null,""]
[null,null,null,null,null,null,null,null,"",null,null,null,""]
[null,null,null,null,null,null,null,null,"",null,null,null,""]
[null,null,null,null,null,null,null,null,"",null,null,null,""]
[null,null,null,null,null,null,null,null,"",null,null,null,""]
[null,null,null,null,null,null,null,null,"",null,null,null,""]
[null,null,null,null,null,null,null,null,"",null,null,null,""]
[null,null,null,null,null,null,null,null,"",null,null,null,""]
[null,null,null,null,null,null,null,null,"",null,null,null,""]
[null,null,null,null,null,null,null,null,"",null,null,null,""]
[null,null,null,null,null,null,null,null,"",null,null,null,""]
[null,null,null,null,null,null,null,null,"",null,null,null,""]
[null,null,null,null,null,null,null,null,"",null,null,null,""]
[null,null,null,null,null,null,null,null,"",null,null,null,""]
[null,null,null,null,null,null,null,null,"",null,null,null,""]
[null,null,null,null,null,null,null,null,"",null,null,null,""]
[null,null,null,null,null,null,null,null,"",null,null,null,""]
[null,null,null,null,null,null,null,null,"",null,null,null,""]
[null,null,null,null,null,null,null,null,"",null,null,null,""]
[null,null,null,null,null,null,null,null,"",null,null,null,""]
[null,null,null,null,null,null,null,null,"",null,null,null,""]
[null,null,null,null,null,null,null,null,"",null,null,null,""]
[null,null,null,null,null,null,null,null,"",null,null,null,""]
[null,null,null,null,null,null,null,null,"",null,null,null,""]
[null,null,null,null,null,null,null,null,"",null,null,null,""]
[null,null,null,null,null,null,null,null,"",null,null,null,""]
[null,null,null,null,null,null,null,null,"",null,null,null,""]
[null,null,null,null,null,null,null,null,"",null,null,null,""]
[null,null,null,null,null,null,null,null,"",null,null,null,""]
[null,null,null,null,null,null,null,null,"",null,null,null,""]
[null,null,null,null,null,null,null,null,"",null,null,null,""]
[null,null,null,null,null,null,null,null,"",null,null,null,""]
[null,null,null,null,null,null,null,null,"",null,null,null,""]
[null,null,null,null,null,null,null,null,"",null,null,null,""]
[null,null,null,null,null,null,null,null,"",null,null,null,""]
[null,null,null,null,null,null,null,null,"",null,null,null,""]
[null,null,null,null,null,null,null,null,"",null,null,null,""]
[null,null,null,null,null,null,null,null,"",null,null,null,""]
[null,null,null,null,null,null,null,null,"",null,null,null,""]
[null,null,null,null,null,null,null,null,"",null,null,null,""]
[null,null,null,null,null,null,null,null,"",null,null,null,""]
[null,null,null,null,null,null,null,null,"",null,null,null,""]
[null,null,null,null,null,null,null,null,"",null,null,null,""]
[null,null,null,null,null,null,null,null,"",null,null,null,""]
[null,null,null,null,null,null,null,null,"",null,null,null,""]
[null,null,null,null,null,null,null,null,"",null,null,null,""]
[null,null,null,null,null,null,null,null,"",null,null,null,""]
[null,null,null,null,null,null,null,null,"",null,null,null,""]
[null,null,null,null,null,null,null,null,"",null,null,null,""]
[null,null,null,null,null,null,null,null,"",null,null,null,""]
[null,null,null,null,null,null,null,null,"",null,null,null,""]
[null,null,null,null,null,null,null,null,"",null,null,null,""]
[null,null,null,null,null,null,null,null,"",null,null,null,""]
[null,null,null,null,null,null,null,null,"",null,null,null,""]
[null,null,null,null,null,null,null,null,"",null,null,null,""]
[null,null,null,null,null,null,null,null,"",null,null,null,""]
[null,null,null,null,null,null,null,null,"",null,null,null,""]
[null,null,null,null,null,null,null,null,"",null,null,null,""]
[null,null,null,null,null,null,null,null,"",null,null,null,""]
[null,null,null,null,null,null,null,null,"",null,null,null,""]
[null,null,null,null,null,null,null,null,"",null,null,null,""]
[null,null,null,null,null,null,null,null,"",null,null,null,""]
[null,null,null,null,null,null,null,null,"",null,null,null,""]
[null,null,null,null,null,null,null,null,"",null,null,null,""]
[null,null,null,null,null,null,null,null,"",null,null,null,""]
[null,null,null,null,null,null,null,null,"",null,null,null,""]
[null,null,null,null,null,null,null,null,"",null,null,null,""]
[null,null,null,null,null,null,null,null,"",null,null,null,""]
[null,null,null,null,null,null,null,null,"",null,null,null,""]
[null,null,null,null,null,null,null,null,"",null,null,null,""]
[null,null,null,null,null,null,null,null,"",null,null,null,""]
[null,null,null,null,null,null,null,null,"",null,null,null,""]
[null,null,null,null,null,null,null,null,"",null,null,null,""]
[null,null,null,null,null,null,null,null,"",null,null,null,""]
[null,null,null,null,null,null,null,null,"",null,null,null,""]
[null,null,null,null,null,null,null,null,"",null,null,null,""]
[null,null,null,null,null,null,null,null,"",null,null,null,""]
[null,null,null,null,null,null,null,null,"",null,null,null,""]
[null,null,null,null,null,null,null,null,"",null,null,null,""]
[null,null,null,null,null,null,null,null,"",null,null,null,""]
[null,null,null,null,null,null,null,null,"",null,null,null,""]
[null,null,null,null,null,null,null,null,"",null,null,null,""]
[null,null,null,null,null,null,null,null,"",null,null,null,""]
[null,null,null,null,null,null,null,null,"",null,null,null,""]
[null,null,null,null,null,null,null,null,"",null,null,null,""]
[null,null,null,null,null,null,null,null,"",null,null,null,""]
[null,null,null,null,null,null,null,null,"",null,null,null,""]
[null,null,null,null,null,null,null,null,"",null,null,null,""]
[null,null,null,null,null,null,null,null,"",null,null,null,""]
[null,null,null,null,null,null,null,null,"",null,null,null,""]
[null,null,null,null,null,null,null,null,"",null,null,null,""]
[null,null,null,null,null,null,null,null,"",null,null,null,""]
[null,null,null,null,null,null,null,null,"",null,null,null,""]
[null,null,null,null,null,null,null,null,"",null,null,null,""]
[null,null,null,null,null,null,null,null,"",null,null,null,""]
[null,null,null,null,null,null,null,null,"",null,null,null,""]
[null,null,null,null,null,null,null,null,"",null,null,null,""]
[null,null,null,null,null,null,null,null,"",null,null,null,""]
[null,null,null,null,null,null,null,null,"",null,null,null,""]
[null,null,null,null,null,null,null,null,"",null,null,null,""]
[null,null,null,null,null,null,null,null,"",null,null,null,""]
[null,null,null,null,null,null,null,null,"",null,null,null,""]
[null,null,null,null,null,null,null,null,"",null,null,null,""]
[null,null,null,null,null,null,null,null,"",null,null,null,""]
[null,null,null,null,null,null,null,null,"",null,null,null,""]
[null,null,null,null,null,null,null,null,"",null,null,null,""]
[null,null,null,null,null,null,null,null,"",null,null,null,""]
[null,null,null,null,null,null,null,null,"",null,null,null,""]
[null,null,null,null,null,null,null,null,"",null,null,null,""]
[null,null,null,null,null,null,null,null,"",null,null,null,""]
[null,null,null,null,null,null,null,null,"",null,null,null,""]
[null,null,null,null,null,null,null,null,"",null,null,null,""]
[null,null,null,null,null,null,null,null,"",null,null,null,""]
[null,null,null,null,null,null,null,null,"",null,null,null,""]
[null,null,null,null,null,null,null,null,"",null,null,null,""]
[null,null,null,null,null,null,null,null,"",null,null,null,""]
[null,null,null,null,null,null,null,null,"",null,null,null,""]
[null,null,null,null,null,null,null,null,"",null,null,null,""]
[null,null,null,null,null,null,null,null,"",null,null,null,""]
[null,null,null,null,null,null,null,null,"",null,null,null,""]
[null,null,null,null,null,null,null,null,"",null,null,null,""]
[null,null,null,null,null,null,null,null,"",null,null,null,""]
[null,null,null,null,null,null,null,null,"",null,null,null,""]
[null,null,null,null,null,null,null,null,"",null,null,null,""]
[null,null,null,null,null,null,null,null,"",null,null,null,""]
[null,null,null,null,null,null,null,null,"",null,null,null,""]
[null,null,null,null,null,null,null,null,"",null,null,null,""]
[null,null,null,null,null,null,null,null,"",null,null,null,""]
[null,null,null,null,null,null,null,null,"",null,null,null,""]
[null,null,null,null,null,null,null,null,"",null,null,null,""]
[null,null,null,null,null,null,null,null,"",null,null,null,""]
[null,null,null,null,null,null,null,null,"",null,null,null,""]
[null,null,null,null,null,null,null,null,"",null,null,null,""]
[null,null,null,null,null,null,null,null,"",null,null,null,""]
[null,null,null,null,null,null,null,null,"",null,null,null,""]
[null,null,null,null,null,null,null,null,"",null,null,null,""]
[null,null,null,null,null,null,null,null,"",null,null,null,""]
[null,null,null,null,null,null,null,null,"",null,null,null,""]
[null,null,null,null,null,null,null,null,"",null,null,null,""]
[null,null,null,null,null,null,null,null,"",null,null,null,""]
[null,null,null,null,null,null,null,null,"",null,null,null,""]
[null,null,null,null,null,null,null,null,"",null,null,null,""]
[null,null,null,null,null,null,null,null,"",null,null,null,""]
[null,null,null,null,null,null,null,null,"",null,null,null,""]
[null,null,null,null,null,null,null,null,"",null,null,null,""]
[null,null,null,null,null,null,null,null,"",null,null,null,""]
[null,null,null,null,null,null,null,null,"",null,null,null,""]
[null,null,null,null,null,null,null,null,"",null,null,null,""]
[null,null,null,null,null,null,null,null,"",null,null,null,""]
[null,null,null,null,null,null,null,null,"",null,null,null,""]
[null,null,null,null,null,null,null,null,"",null,null,null,""]
[null,null,null,null,null,null,null,null,"",null,null,null,""]
[null,null,null,null,null,null,null,null,"",null,null,null,""]
[null,null,null,null,null,null,null,null,"",null,null,null,""]
[null,null,null,null,null,null,null,null,"",null,null,null,""]
[null,null,null,null,null,null,null,null,"",null,null,null,""]
[null,null,null,null,null,null,null,null,"",null,null,null,""]
[null,null,null,null,null,null,null,null,"",null,null,null,""]
[null,null,null,null,null,null,null,null,"",null,null,null,""]
[null,null,null,null,null,null,null,null,"",null,null,null,""]
[null,null,null,null,null,null,null,null,"",null,null,null,""]
[null,null,null,null,null,null,null,null,"",null,null,null,""]
[null,null,null,null,null,null,null,null,"",null,null,null,""]
[null,null,null,null,null,null,null,null,"",null,null,null,""]
[null,null,null,null,null,null,null,null,"",null,null,null,""]
[null,null,null,null,null,null,null,null,"",null,null,null,""]
[null,null,null,null,null,null,null,null,"",null,null,null,""]
[null,null,null,null,null,null,null,null,"",null,null,null,""]
[null,null,null,null,null,null,null,null,"",null,null,null,""]
[null,null,null,null,null,null,null,null,"",null,null,null,""]
[null,null,null,null,null,null,null,null,"",null,null,null,""]
[null,null,null,null,null,null,null,null,"",null,null,null,""]
[null,null,null,null,null,null,null,null,"",null,null,null,""]
[null,null,null,null,null,null,null,null,"",null,null,null,""]
[null,null,null,null,null,null,null,null,"",null,null,null,""]
[null,null,null,null,null,null,null,null,"",null,null,null,""]
[null,null,null,null,null,null,null,null,"",null,null,null,""]
[null,null,null,null,null,null,null,null,"",null,null,null,""]
[null,null,null,null,null,null,null,null,"",null,null,null,""]
[null,null,null,null,null,null,null,null,"",null,null,null,""]
[null,null,null,null,null,null,null,null,"",null,null,null,""]
[null,null,null,null,null,null,null,null,"",null,null,null,""]
[null,null,null,null,null,null,null,null,"",null,null,null,""]
[null,null,null,null,null,null,null,null,"",null,null,null,""]
[null,null,null,null,null,null,null,null,"",null,null,null,""]
[null,null,null,null,null,null,null,null,"",null,null,null,""]
[null,null,null,null,null,null,null,null,"",null,null,null,""]
[null,null,null,null,null,null,null,null,"",null,null,null,""]
[null,null,null,null,null,null,null,null,"",null,null,null,""]
[null,null,null,null,null,null,null,null,"",null,null,null,""]
[null,null,null,null,null,null,null,null,"",null,null,null,""]
[null,null,null,null,null,null,null,null,"",null,null,null,""]
[null,null,null,null,null,null,null,null,"",null,null,null,""]
[null,null,null,null,null,null,null,null,"",null,null,null,""]
[null,null,null,null,null,null,null,null,"",null,null,null,""]
[null,null,null,null,null,null,null,null,"",null,null,null,""]
[null,null,null,null,null,null,null,null,"",null,null,null,""]
[null,null,null,null,null,null,null,null,"",null,null,null,""]
[null,null,null,null,null,null,null,null,"",null,null,null,""]
[null,null,null,null,null,null,null,null,"",null,null,null,""]
[null,null,null,null,null,null,null,null,"",null,null,null,""]
[null,null,null,null,null,null,null,null,"",null,null,null,""]
[null,null,null,null,null,null,null,null,"",null,null,null,""]
[null,null,null,null,null,null,null,null,"",null,null,null,""]
[null,null,null,null,null,null,null,null,"",null,null,null,""]
[null,null,null,null,null,null,null,null,"",null,null,null,""]
[null,null,null,null,null,null,null,null,"",null,null,null,""]
[null,null,null,null,null,null,null,null,"",null,null,null,""]
[null,null,null,null,null,null,null,null,"",null,null,null,""]
[null,null,null,null,null,null,null,null,"",null,null,null,""]
[null,null,null,null,null,null,null,null,"",null,null,null,""]
[null,null,null,null,null,null,null,null,"",null,null,null,""]
[null,null,null,null,null,null,null,null,"",null,null,null,""]
[null,null,null,null,null,null,null,null,"",null,null,null,""]
[null,null,null,null,null,null,null,null,"",null,null,null,""]
[null,null,null,null,null,null,null,null,"",null,null,null,""]
[null,null,null,null,null,null,null,null,"",null,null,null,""]
[null,null,null,null,null,null,null,null,"",null,null,null,""]
[null,null,null,null,null,null,null,null,"",null,null,null,""]
[null,null,null,null,null,null,null,null,"",null,null,null,""]
[null,null,null,null,null,null,null,null,"",null,null,null,""]
[null,null,null,null,null,null,null,null,"",null,null,null,""]
[null,null,null,null,null,null,null,null,"",null,null,null,""]
[null,null,null,null,null,null,null,null,"",null,null,null,""]
[null,null,null,null,null,null,null,null,"",null,null,null,""]
[null,null,null,null,null,null,null,null,"",null,null,null,""]
[null,null,null,null,null,null,null,null,"",null,null,null,""]
[null,null,null,null,null,null,null,null,"",null,null,null,""]
[null,null,null,null,null,null,null,null,"",null,null,null,""]
[null,null,null,null,null,null,null,null,"",null,null,null,""]
[null,null,null,null,null,null,null,null,"",null,null,null,""]
[null,null,null,null,null,null,null,null,"",null,null,null,""]
[null,null,null,null,null,null,null,null,"",null,null,null,""]
[null,null,null,null,null,null,null,null,"",null,null,null,""]
[null,null,null,null,null,null,null,null,"",null,null,null,""]
[null,null,null,null,null,null,null,null,"",null,null,null,""]
[null,null,null,null,null,null,null,null,"",null,null,null,""]
[null,null,null,null,null,null,null,null,"",null,null,null,""]
[null,null,null,null,null,null,null,null,"",null,null,null,""]
[null,null,null,null,null,null,null,null,"",null,null,null,""]
[null,null,null,null,null,null,null,null,"",null,null,null,""]
[null,null,null,null,null,null,null,null,"",null,null,null,""]
[null,null,null,null,null,null,null,null,"",null,null,null,""]
[null,null,null,null,null,null,null,null,"",null,null,null,""]
[null,null,null,null,null,null,null,null,"",null,null,null,""]
[null,null,null,null,null,null,null,null,"",null,null,null,""]
[null,null,null,null,null,null,null,null,"",null,null,null,""]
[null,null,null,null,null,null,null,null,"",null,null,null,""]
[null,null,null,null,null,null,null,null,"",null,null,null,""]
[null,null,null,null,null,null,null,null,"",null,null,null,""]
[null,null,null,null,null,null,null,null,"",null,null,null,""]
[null,null,null,null,null,null,null,null,"",null,null,null,""]
[null,null,null,null,null,null,null,null,"",null,null,null,""]
[null,null,null,null,null,null,null,null,"",null,null,null,""]
[null,null,null,null,null,null,null,null,"",null,null,null,""]
[null,null,null,null,null,null,null,null,"",null,null,null,""]
[null,null,null,null,null,null,null,null,"",null,null,null,""]
[null,null,null,null,null,null,null,null,"",null,null,null,""]
[null,null,null,null,null,null,null,null,"",null,null,null,""]
[null,null,null,null,null,null,null,null,"",null,null,null,""]
[null,null,null,null,null,null,null,null,"",null,null,null,""]
[null,null,null,null,null,null,null,null,"",null,null,null,""]
[null,null,null,null,null,null,null,null,"",null,null,null,""]
[null,null,null,null,null,null,null,null,"",null,null,null,""]
[null,null,null,null,null,null,null,null,"",null,null,null,""]
[null,null,null,null,null,null,null,null,"",null,null,null,""]
[null,null,null,null,null,null,null,null,"",null,null,null,""]
[null,null,null,null,null,null,null,null,"",null,null,null,""]
[null,null,null,null,null,null,null,null,"",null,null,null,""]
[null,null,null,null,null,null,null,null,"",null,null,null,""]
[null,null,null,null,null,null,null,null,"",null,null,null,""]
[null,null,null,null,null,null,null,null,"",null,null,null,""]
[null,null,null,null,null,null,null,null,"",null,null,null,""]
[null,null,null,null,null,null,null,null,"",null,null,null,""]
[null,null,null,null,null,null,null,null,"",null,null,null,""]
[null,null,null,null,null,null,null,null,"",null,null,null,""]
[null,null,null,null,null,null,null,null,"",null,null,null,""]
[null,null,null,null,null,null,null,null,"",null,null,null,""]
[null,null,null,null,null,null,null,null,"",null,null,null,""]
[null,null,null,null,null,null,null,null,"",null,null,null,""]
[null,null,null,null,null,null,null,null,"",null,null,null,""]
[null,null,null,null,null,null,null,null,"",null,null,null,""]
[null,null,null,null,null,null,null,null,"",null,null,null,""]
[null,null,null,null,null,null,null,null,"",null,null,null,""]
[null,null,null,null,null,null,null,null,"",null,null,null,""]
[null,null,null,null,null,null,null,null,""]
[null,null,null,null,null,null,null,null,""]
[null,null,null,null,null,null,null,null,""]
[null,null,null,null,null,null,null,null,""]
[null,null,null,null,null,null,null,null,""]
[null,null,null,null,null,null,null,null,""]
[null,null,null,null,null,null,null,null,""]
[null,null,null,null,null,null,null,null,""]
[null,null,null,null,null,null,null,null,""]
[null,null,null,null,null,null,null,null,""]
[null,null,null,null,null,null,null,null,""]
[null,null,null,null,null,null,null,null,""]
[null,null,null,null,null,null,null,null,""]
[null,null,null,null,null,null,null,null,""]
[null,null,null,null,null,null,null,null,""]
[null,null,null,null,null,null,null,null,""]
[null,null,null,null,null,null,null,null,""]
[null,null,null,null,null,null,null,null,""]
[null,null,null,null,null,null,null,null,""]
[null,null,null,null,null,null,null,null,""]
[null,null,null,null,null,null,null,null,""]
[null,null,null,null,null,null,null,null,""]
[null,null,null,null,null,null,null,null,""]
[null,null,null,null,null,null,null,null,""]
[null,null,null,null,null,null,null,null,""]
[null,null,null,null,null,null,null,null,""]
[null,null,null,null,null,null,null,null,""]
[null,null,null,null,null,null,null,null,""]
[null,null,null,null,null,null,null,null,""]
[null,null,null,null,null,null,null,null,""]
[null,null,null,null,null,null,null,null,""]
[null,null,null,null,null,null,null,null,""]
[null,null,null,null,null,null,null,null,""]
[null,null,null,null,null,null,null,null,""]
[null,null,null,null,null,null,null,null,""]
[null,null,null,null,null,null,null,null,""]
[null,null,null,null,null,null,null,null,""]
[null,null,null,null,null,null,null,null,""]
[null,null,null,null,null,null,null,null,""]
[null,null,null,null,null,null,null,null,""]
[null,null,null,null,null,null,null,null,""]
[null,null,null,null,null,null,null,null,""]
[null,null,null,null,null,null,null,null,""]
[null,null,null,null,null,null,null,null,""]
[null,null,null,null,null,null,null,null,""]
[null,null,null,null,null,null,null,null,""]
[null,null,null,null,null,null,null,null,""]
[null,null,null,null,null,null,null,null,""]
[null,null,null,null,null,null,null,null,""]
[null,null,null,null,null,null,null,null,""]
[null,null,null,null,null,null,null,null,""]
[null,null,null,null,null,null,null,null,""]
[null,null,null,null,null,null,null,null,""]
[null,null,null,null,null,null,null,null,""]
[null,null,null,null,null,null,null,null,""]
[null,null,null,null,null,null,null,null,""]
[null,null,null,null,null,null,null,null,""]
[null,null,null,null,null,null,null,null,""]
[null,null,null,null,null,null,null,null,""]
[null,null,null,null,null,null,null,null,""]
[null,null,null,null,null,null,null,null,""]
[null,null,null,null,null,null,null,null,""]
[null,null,null,null,null,null,null,null,""]
[null,null,null,null,null,null,null,null,""]
[null,null,null,null,null,null,null,null,""]
[null,null,null,null,null,null,null,null,""]
[null,null,null,null,null,null,null,null,""]
[null,null,null,null,null,null,null,null,""]
[null,null,null,null,null,null,null,null,""]
[null,null,null,null,null,null,null,null,""]
[null,null,null,null,null,null,null,null,""]
[null,null,null,null,null,null,null,null,""]
[null,null,null,null,null,null,null,null,""]
[null,null,null,null,null,null,null,null,""]
[null,null,null,null,null,null,null,null,""]
[null,null,null,null,null,null,null,null,""]
[null,null,null,null,null,null,null,null,""]
[null,null,null,null,null,null,null,null,""]
[null,null,null,null,null,null,null,null,""]
[null,null,null,null,null,null,null,null,""]
[null,null,null,null,null,null,null,null,""]
[null,null,null,null,null,null,null,null,""]
[null,null,null,null,null,null,null,null,""]
[null,null,null,null,null,null,null,null,""]
[null,null,null,null,null,null,null,null,""]
[null,null,null,null,null,null,null,null,""]
[null,null,null,null,null,null,null,null,""]
[null,null,null,null,null,null,null,null,""]
[null,null,null,null,null,null,null,null,""]
[null,null,null,null,null,null,null,null,""]
[null,null,null,null,null,null,null,null,""]
[null,null,null,null,null,null,null,null,""]
[null,null,null,null,null,null,null,null,""]
[null,null,null,null,null,null,null,null,""]
[null,null,null,null,null,null,null,null,""]
[null,null,null,null,null,null,null,null,""]
[null,null,null,null,null,null,null,null,""]
[null,null,null,null,null,null,null,null,""]
[null,null,null,null,null,null,null,null,""]
[null,null,null,null,null,null,null,null,""]
[null,null,null,null,null,null,null,null,""]
[null,null,null,null,null,null,null,null,""]
[null,null,null,null,null,null,null,null,""]
[null,null,null,null,null,null,null,null,""]
[null,null,null,null,null,null,null,null,""]
[null,null,null,null,null,null,null,null,""]
[null,null,null,null,null,null,null,null,""]
[null,null,null,null,null,null,null,null,""]
[null,null,null,null,null,null,null,null,""]
[null,null,null,null,null,null,null,null,""]
[null,null,null,null,null,null,null,null,""]
[null,null,null,null,null,null,null,null,""]
[null,null,null,null,null,null,null,null,""]
[null,null,null,null,null,null,null,null,""]
[null,null,null,null,null,null,null,null,""]
[null,null,null,null,null,null,null,null,""]
[null,null,null,null,null,null,null,null,""]
[null,null,null,null,null,null,null,null,""]
[null,null,null,null,null,null,null,null,""]
[null,null,null,null,null,null,null,null,""]
[null,null,null,null,null,null,null,null,""]
[null,null,null,null,null,null,null,null,""]
[null,null,null,null,null,null,null,null,""]
[null,null,null,null,null,null,null,null,""]
[null,null,null,null,null,null,null,null,""]
[null,null,null,null,null,null,null,null,""]
[null,null,null,null,null,null,null,null,""]
[null,null,null,null,null,null,null,null,""]
[null,null,null,null,null,null,null,null,""]
[null,null,null,null,null,null,null,null,""]
[null,null,null,null,null,null,null,null,""]
[null,null,null,null,null,null,null,null,""]
[null,null,null,null,null,null,null,null,""]
[null,null,null,null,null,null,null,null,""]
[null,null,null,null,null,null,null,null,""]
[null,null,null,null,null,null,null,null,""]
[null,null,null,null,null,null,null,null,""]
[null,null,null,null,null,null,null,null,""]
[null,null,null,null,null,null,null,null,""]
[null,null,null,null,null,null,null,null,""]
[null,null,null,null,null,null,null,null,""]
[null,null,null,null,null,null,null,null,""]
[null,null,null,null,null,null,null,null,""]
[null,null,null,null,null,null,null,null,""]
[null,null,null,null,null,null,null,null,""]
[null,null,null,null,null,null,null,null,""]
[null,null,null,null,null,null,null,null,""]
[null,null,null,null,null,null,null,null,""]
[null,null,null,null,null,null,null,null,""]
[null,null,null,null,null,null,null,null,""]
[null,null,null,null,null,null,null,null,""]
[null,null,null,null,null,null,null,null,""]
[null,null,null,null,null,null,null,null,""]
[null,null,null,null,null,null,null,null,""]
[null,null,null,null,null,null,null,null,""]
[null,null,null,null,null,null,null,null,""]
[null,null,null,null,null,null,null,null,""]
[null,null,null,null,null,null,null,null,""]
[null,null,null,null,null,null,null,null,""]
[null,null,null,null,null,null,null,null,""]
[null,null,null,null,null,null,null,null,""]
[null,null,null,null,null,null,null,null,""]
[null,null,null,null,null,null,null,null,""]
[null,null,null,null,null,null,null,null,""]
[null,null,null,null,null,null,null,null,""]
[null,null,null,null,null,null,null,null,""]
[null,null,null,null,null,null,null,null,""]
[null,null,null,null,null,null,null,null,""]
[null,null,null,null,null,null,null,null,""]
[null,null,null,null,null,null,null,null,""]
[null,null,null,null,null,null,null,null,""]
[null,null,null,null,null,null,null,null,""]
[null,null,null,null,null,null,null,null,""]
[null,null,null,null,null,null,null,null,""]
[null,null,null,null,null,null,null,null,""]
[null,null,null,null,null,null,null,null,""]
[null,null,null,null,null,null,null,null,""]
[null,null,null,null,null,null,null,null,""]
[null,null,null,null,null,null,null,null,""]
[null,null,null,null,null,null,null,null,""]
[null,null,null,null,null,null,null,null,""]
[null,null,null,null,null,null,null,null,""]
[null,null,null,null,null,null,null,null,""]
[null,null,null,null,null,null,null,null,""]
[null,null,null,null,null,null,null,null,""]
[null,null,null,null,null,null,null,null,""]
[null,null,null,null,null,null,null,null,""]
[null,null,null,null,null,null,null,null,""]
[null,null,null,null,null,null,null,null,""]
[null,null,null,null,null,null,null,null,""]
[null,null,null,null,null,null,null,null,""]
[null,null,null,null,null,null,null,null,""]
[null,null,null,null,null,null,null,null,""]
[null,null,null,null,null,null,null,null,""]
[null,null,null,null,null,null,null,null,""]
[null,null,null,null,null,null,null,null,""]
[null,null,null,null,null,null,null,null,""]
[null,null,null,null,null,null,null,null,""]
[null,null,null,null,null,null,null,null,""]
[null,null,null,null,null,null,null,null,""]
[null,null,null,null,null,null,null,null,""]
[null,null,null,null,null,null,null,null,""]
[null,null,null,null,null,null,null,null,""]
[null,null,null,null,null,null,null,null,""]
[null,null,null,null,null,null,null,null,""]
[null,null,null,null,null,null,null,null,""]
[null,null,null,null,null,null,null,null,""]
[null,null,null,null,null,null,null,null,""]
[null,null,null,null,null,null,null,null,""]
[null,null,null,null,null,null,null,null,""]
[null,null,null,null,null,null,null,null,""]
[null,null,null,null,null,null,null,null,""]
[null,null,null,null,null,null,null,null,""]
[null,null,null,null,null,null,null,null,""]
[null,null,null,null,null,null,null,null,""]
[null,null,null,null,null,null,null,null,""]
[null,null,null,null,null,null,null,null,""]
[null,null,null,null,null,null,null,null,""]
[null,null,null,null,null,null,null,null,""]
[null,null,null,null,null,null,null,null,""]
[null,null,null,null,null,null,null,null,""]
[null,null,null,null,null,null,null,null,""]
[null,null,null,null,null,null,null,null,""]
[null,null,null,null,null,null,null,null,""]
[null,null,null,null,null,null,null,null,""]
[null,null,null,null,null,null,null,null,""]
[null,null,null,null,null,null,null,null,""]
[null,null,null,null,null,null,null,null,""]
[null,null,null,null,null,null,null,null,""]
[null,null,null,null,null,null,null,null,""]

{"sheet":"Input_SDMX_Period","index":8,"n_rows":1,"n_cols":1,"rows_kept":1,"cut":false,"hidden":true,"merged":[]}
["TIME"]

{"sheet":"Entries","index":9,"n_rows":1,"n_cols":11,"rows_kept":1,"cut":false,"hidden":true,"merged":[]}
["COUNTRY","QUEST","PRODUCT","DATATYPE","ITEM1","ITEM2","TIME","VALUE","OBSERVATION","CONFIDENTIALITY","KEYREC"]

{"sheet":"Output_ISO_csv","index":10,"n_rows":1,"n_cols":1,"rows_kept":1,"cut":false,"hidden":true,"merged":[]}
["Output"]

{"sheet":"Output_SDMX_csv","index":11,"n_rows":1,"n_cols":1,"rows_kept":1,"cut":false,"hidden":true,"merged":[]}
["Output"]

{"sheet":"Output_SDMX_long_complete","index":12,"n_rows":1,"n_cols":22,"rows_kept":1,"cut":false,"hidden":true,"merged":[]}
["DATAFLOW","QUEST_SOURCE","REF_AREA","FREQ","ENERGY_PRODUCT","MAIN_FLOW","FLOW_BREAKDOWN","PLANT_TECH","PLANT_TYPE","STOCKS","INFRASTRUCTURE_IND","VIS_A_VIS_AREA","MEASURE_VALUE_TYPE","FACILITY_ID","TIME_PERIOD","OBS_VALUE","UNIT_MEASURE","OBS_STATUS","CONF_STATUS","COMMENT_OBS","FACILITY_TYPE","FACILITY_NAME"]

{"sheet":"Mapping_Products_Flows","index":13,"n_rows":92,"n_cols":16,"rows_kept":92,"cut":false,"hidden":true,"merged":[]}
["DATATYPE","PRODUCT","ITEM1","ITEM2","ENERGY_PRODUCT","MAIN_FLOW","FLOW_BREAKDOWN","PLANT_TECH","PLANT_TYPE","STOCKS","INFRASTRUCTURE_IND","VIS_A_VIS_AREA","MEASURE_VALUE_TYPE","FACILITY_ID","UNIT_MEASURE","ISO_EXCLUSION"]
["FINCONS","ELEC","RESTOT","GWH","E7000","ENERGUSE","_T","_Z","_Z","_Z","_Z","_Z","ENERGY","_Z","GWH","y"]
["FINCONS","HEAT","RESTOT","TJ","H8000","ENERGUSE","_T","_Z","_Z","_Z","_Z","_Z","ENERGY","_Z","TJ_NCV","y"]
["FINCONS","GAS","RESTOT","TJ_GCV","G3000","ENERGUSE","_T","_Z","_Z","_Z","_Z","_Z","ENERGY","_Z","TJ_GCV","y"]
["FINCONS","SOLIDFUEL","RESTOT","KT","SFFPO","ENERGUSE","_T","_Z","_Z","_Z","_Z","_Z","WEIGHT","_Z","KT","y"]
["FINCONS","OIL","RESTOT","KT","O4000","ENERGUSE","_T","_Z","_Z","_Z","_Z","_Z","WEIGHT","_Z","KT","y"]
["FINCONS","LPG","RESTOT","KT","O4630","ENERGUSE","_T","_Z","_Z","_Z","_Z","_Z","WEIGHT","_Z","KT","y"]
["FINCONS","KEROSENE","RESTOT","KT","O4669","ENERGUSE","_T","_Z","_Z","_Z","_Z","_Z","WEIGHT","_Z","KT","y"]
["FINCONS","GASOIL","RESTOT","KT","O4671","ENERGUSE","_T","_Z","_Z","_Z","_Z","_Z","WEIGHT","_Z","KT","y"]
["FINCONS","RENEW","RESTOT","TJ","RA000","ENERGUSE","_T","_Z","_Z","_Z","_Z","_Z","ENERGY","_Z","TJ_NCV","y"]
["FINCONS","SOLARTH","RESTOT","TJ","RA410","ENERGUSE","_T","_Z","_Z","_Z","_Z","_Z","ENERGY","_Z","TJ_NCV","y"]
["FINCONS","BIOFUEL","RESTOT","TJ","R510C","ENERGUSE","_T","_Z","_Z","_Z","_Z","_Z","ENERGY","_Z","TJ_NCV","y"]
["FINCONS","BIOGASES","RESTOT","TJ","R5300","ENERGUSE","_T","_Z","_Z","_Z","_Z","_Z","ENERGY","_Z","TJ_NCV","y"]
["FINCONS","AMBIANT","RESTOT","TJ","RA600","ENERGUSE","_T","_Z","_Z","_Z","_Z","_Z","ENERGY","_Z","TJ_NCV","y"]
["FINCONS","HYDROGEN","RESTOT","TJ_NCV","H2","ENERGUSE","_T","_Z","_Z","_Z","_Z","_Z","ENERGY","_Z","TJ_NCV","y"]
["FINCONS","ELEC","RESTOT_PRE","GWH","E7000","ENERGUSE","FC_OTH_HH_E","_Z","_Z","_Z","_Z","_Z","ENERGY","_Z","GWH","y"]
["FINCONS","HEAT","RESTOT_PRE","TJ","H8000","ENERGUSE","FC_OTH_HH_E","_Z","_Z","_Z","_Z","_Z","ENERGY","_Z","TJ_NCV","y"]
["FINCONS","GAS","RESTOT_PRE","TJ_GCV","G3000","ENERGUSE","FC_OTH_HH_E","_Z","_Z","_Z","_Z","_Z","ENERGY","_Z","TJ_GCV","y"]
["FINCONS","SOLIDFUEL","RESTOT_PRE","KT","SFFPO","ENERGUSE","FC_OTH_HH_E","_Z","_Z","_Z","_Z","_Z","WEIGHT","_Z","THS_T","y"]
["FINCONS","OIL","RESTOT_PRE","KT","O4000","ENERGUSE","FC_OTH_HH_E","_Z","_Z","_Z","_Z","_Z","WEIGHT","_Z","THS_T","y"]
["FINCONS","LPG","RESTOT_PRE","KT","O4630","ENERGUSE","FC_OTH_HH_E","_Z","_Z","_Z","_Z","_Z","WEIGHT","_Z","THS_T","y"]
["FINCONS","KEROSENE","RESTOT_PRE","KT","O4669","ENERGUSE","FC_OTH_HH_E","_Z","_Z","_Z","_Z","_Z","WEIGHT","_Z","THS_T","y"]
["FINCONS","GASOIL","RESTOT_PRE","KT","O4671","ENERGUSE","FC_OTH_HH_E","_Z","_Z","_Z","_Z","_Z","WEIGHT","_Z","THS_T","y"]
["FINCONS","RENEW","RESTOT_PRE","TJ","RA000","ENERGUSE","FC_OTH_HH_E","_Z","_Z","_Z","_Z","_Z","ENERGY","_Z","TJ","y"]
["FINCONS","SOLARTH","RESTOT_PRE","TJ","RA410","ENERGUSE","FC_OTH_HH_E","_Z","_Z","_Z","_Z","_Z","ENERGY","_Z","TJ","y"]
["FINCONS","BIOFUEL","RESTOT_PRE","TJ","R510C","ENERGUSE","FC_OTH_HH_E","_Z","_Z","_Z","_Z","_Z","ENERGY","_Z","TJ","y"]
["FINCONS","BIOGASES","RESTOT_PRE","TJ","R5300","ENERGUSE","FC_OTH_HH_E","_Z","_Z","_Z","_Z","_Z","ENERGY","_Z","TJ","y"]
["FINCONS","AMBIANT","RESTOT_PRE","TJ","RA600","ENERGUSE","FC_OTH_HH_E","_Z","_Z","_Z","_Z","_Z","ENERGY","_Z","TJ_NCV","y"]
["FINCONS","ELEC","SPACEHEAT","GWH","E7000","ENERGUSE","RESISPHE","_Z","_Z","_Z","_Z","_Z","ENERGY","_Z","GWH","y"]
["FINCONS","HEAT","SPACEHEAT","TJ","H8000","ENERGUSE","RESISPHE","_Z","_Z","_Z","_Z","_Z","ENERGY","_Z","TJ_NCV","y"]
["FINCONS","GAS","SPACEHEAT","TJ_GCV","G3000","ENERGUSE","RESISPHE","_Z","_Z","_Z","_Z","_Z","ENERGY","_Z","TJ_GCV","y"]
["FINCONS","SOLIDFUEL","SPACEHEAT","KT","SFFPO","ENERGUSE","RESISPHE","_Z","_Z","_Z","_Z","_Z","WEIGHT","_Z","KT","y"]
["FINCONS","OIL","SPACEHEAT","KT","O4000","ENERGUSE","RESISPHE","_Z","_Z","_Z","_Z","_Z","WEIGHT","_Z","KT","y"]
["FINCONS","LPG","SPACEHEAT","KT","O4630","ENERGUSE","RESISPHE","_Z","_Z","_Z","_Z","_Z","WEIGHT","_Z","KT","y"]
["FINCONS","KEROSENE","SPACEHEAT","KT","O4669","ENERGUSE","RESISPHE","_Z","_Z","_Z","_Z","_Z","WEIGHT","_Z","KT","y"]
["FINCONS","GASOIL","SPACEHEAT","KT","O4671","ENERGUSE","RESISPHE","_Z","_Z","_Z","_Z","_Z","WEIGHT","_Z","KT","y"]
["FINCONS","RENEW","SPACEHEAT","TJ","RA000","ENERGUSE","RESISPHE","_Z","_Z","_Z","_Z","_Z","ENERGY","_Z","TJ_NCV","y"]
["FINCONS","SOLARTH","SPACEHEAT","TJ","RA410","ENERGUSE","RESISPHE","_Z","_Z","_Z","_Z","_Z","ENERGY","_Z","TJ_NCV","y"]
["FINCONS","BIOFUEL","SPACEHEAT","TJ","R510C","ENERGUSE","RESISPHE","_Z","_Z","_Z","_Z","_Z","ENERGY","_Z","TJ_NCV","y"]
["FINCONS","BIOGASES","SPACEHEAT","TJ","R5300","ENERGUSE","RESISPHE","_Z","_Z","_Z","_Z","_Z","ENERGY","_Z","TJ_NCV","y"]
["FINCONS","AMBIANT","SPACEHEAT","TJ","RA600","ENERGUSE","RESISPHE","_Z","_Z","_Z","_Z","_Z","ENERGY","_Z","TJ_NCV","y"]
["FINCONS","HYDROGEN","SPACEHEAT","TJ_NCV","H2","ENERGUSE","RESISPHE","_Z","_Z","_Z","_Z","_Z","ENERGY","_Z","TJ_NCV","y"]
["FINCONS","ELEC","SPACECOOL","GWH","E7000","ENERGUSE","RESISPCO","_Z","_Z","_Z","_Z","_Z","ENERGY","_Z","GWH","y"]
["FINCONS","ELEC","WATERHEAT","GWH","E7000","ENERGUSE","RESIWAHE","_Z","_Z","_Z","_Z","_Z","ENERGY","_Z","GWH","y"]
["FINCONS","HEAT","WATERHEAT","TJ","H8000","ENERGUSE","RESIWAHE","_Z","_Z","_Z","_Z","_Z","ENERGY","_Z","TJ_NCV","y"]
["FINCONS","GAS","WATERHEAT","TJ_GCV","G3000","ENERGUSE","RESIWAHE","_Z","_Z","_Z","_Z","_Z","ENERGY","_Z","TJ_GCV","y"]
["FINCONS","SOLIDFUEL","WATERHEAT","KT","SFFPO","ENERGUSE","RESIWAHE","_Z","_Z","_Z","_Z","_Z","WEIGHT","_Z","KT","y"]
["FINCONS","OIL","WATERHEAT","KT","O4000","ENERGUSE","RESIWAHE","_Z","_Z","_Z","_Z","_Z","WEIGHT","_Z","KT","y"]
["FINCONS","LPG","WATERHEAT","KT","O4630","ENERGUSE","RESIWAHE","_Z","_Z","_Z","_Z","_Z","WEIGHT","_Z","KT","y"]
["FINCONS","KEROSENE","WATERHEAT","KT","O4669","ENERGUSE","RESIWAHE","_Z","_Z","_Z","_Z","_Z","WEIGHT","_Z","KT","y"]
["FINCONS","GASOIL","WATERHEAT","KT","O4671","ENERGUSE","RESIWAHE","_Z","_Z","_Z","_Z","_Z","WEIGHT","_Z","KT","y"]
["FINCONS","RENEW","WATERHEAT","TJ","RA000","ENERGUSE","RESIWAHE","_Z","_Z","_Z","_Z","_Z","ENERGY","_Z","TJ_NCV","y"]
["FINCONS","SOLARTH","WATERHEAT","TJ","RA410","ENERGUSE","RESIWAHE","_Z","_Z","_Z","_Z","_Z","ENERGY","_Z","TJ_NCV","y"]
["FINCONS","BIOFUEL","WATERHEAT","TJ","R510C","ENERGUSE","RESIWAHE","_Z","_Z","_Z","_Z","_Z","ENERGY","_Z","TJ_NCV","y"]
["FINCONS","BIOGASES","WATERHEAT","TJ","R5300","ENERGUSE","RESIWAHE","_Z","_Z","_Z","_Z","_Z","ENERGY","_Z","TJ_NCV","y"]
["FINCONS","AMBIANT","WATERHEAT","TJ","RA600","ENERGUSE","RESIWAHE","_Z","_Z","_Z","_Z","_Z","ENERGY","_Z","TJ_NCV","y"]
["FINCONS","HYDROGEN","WATERHEAT","TJ_NCV","H2","ENERGUSE","RESIWAHE","_Z","_Z","_Z","_Z","_Z","ENERGY","_Z","TJ_NCV","y"]
["FINCONS","ELEC","COOK","GWH","E7000","ENERGUSE","RESICOOK","_Z","_Z","_Z","_Z","_Z","ENERGY","_Z","GWH","y"]
["FINCONS","HEAT","COOK","TJ","H8000","ENERGUSE","RESICOOK","_Z","_Z","_Z","_Z","_Z","ENERGY","_Z","TJ_NCV","y"]
["FINCONS","GAS","COOK","TJ_GCV","G3000","ENERGUSE","RESICOOK","_Z","_Z","_Z","_Z","_Z","ENERGY","_Z","TJ_GCV","y"]
["FINCONS","SOLIDFUEL","COOK","KT","SFFPO","ENERGUSE","RESICOOK","_Z","_Z","_Z","_Z","_Z","WEIGHT","_Z","KT","y"]
["FINCONS","OIL","COOK","KT","O4000","ENERGUSE","RESICOOK","_Z","_Z","_Z","_Z","_Z","WEIGHT","_Z","KT","y"]
["FINCONS","LPG","COOK","KT","O4630","ENERGUSE","RESICOOK","_Z","_Z","_Z","_Z","_Z","WEIGHT","_Z","KT","y"]
["FINCONS","KEROSENE","COOK","KT","O4669","ENERGUSE","RESICOOK","_Z","_Z","_Z","_Z","_Z","WEIGHT","_Z","KT","y"]
["FINCONS","GASOIL","COOK","KT","O4671","ENERGUSE","RESICOOK","_Z","_Z","_Z","_Z","_Z","WEIGHT","_Z","KT","y"]
["FINCONS","RENEW","COOK","TJ","RA000","ENERGUSE","RESICOOK","_Z","_Z","_Z","_Z","_Z","ENERGY","_Z","TJ_NCV","y"]
["FINCONS","SOLARTH","COOK","TJ","RA410","ENERGUSE","RESICOOK","_Z","_Z","_Z","_Z","_Z","ENERGY","_Z","TJ_NCV","y"]
["FINCONS","BIOFUEL","COOK","TJ","R510C","ENERGUSE","RESICOOK","_Z","_Z","_Z","_Z","_Z","ENERGY","_Z","TJ_NCV","y"]
["FINCONS","BIOGASES","COOK","TJ","R5300","ENERGUSE","RESICOOK","_Z","_Z","_Z","_Z","_Z","ENERGY","_Z","TJ_NCV","y"]
["FINCONS","AMBIANT","COOK","TJ","RA600","ENERGUSE","RESICOOK","_Z","_Z","_Z","_Z","_Z","ENERGY","_Z","TJ_NCV","y"]
["FINCONS","HYDROGEN","COOK","TJ_NCV","H2","ENERGUSE","RESICOOK","_Z","_Z","_Z","_Z","_Z","ENERGY","_Z","TJ_NCV","y"]
["FINCONS","ELEC","LIGHTAPP","GWH","E7000","ENERGUSE","RESILIAP","_Z","_Z","_Z","_Z","_Z","ENERGY","_Z","GWH","y"]
["FINCONS","ELEC","RESOTH","GWH","E7000","ENERGUSE","RESIOTH","_Z","_Z","_Z","_Z","_Z","ENERGY","_Z","GWH","y"]
["FINCONS","HEAT","RESOTH","TJ","H8000","ENERGUSE","RESIOTH","_Z","_Z","_Z","_Z","_Z","ENERGY","_Z","TJ_NCV","y"]
["FINCONS","GAS","RESOTH","TJ_GCV","G3000","ENERGUSE","RESIOTH","_Z","_Z","_Z","_Z","_Z","ENERGY","_Z","TJ_GCV","y"]
["FINCONS","SOLIDFUEL","RESOTH","KT","SFFPO","ENERGUSE","RESIOTH","_Z","_Z","_Z","_Z","_Z","WEIGHT","_Z","KT","y"]
["FINCONS","OIL","RESOTH","KT","O4000","ENERGUSE","RESIOTH","_Z","_Z","_Z","_Z","_Z","WEIGHT","_Z","KT","y"]
["FINCONS","LPG","RESOTH","KT","O4630","ENERGUSE","RESIOTH","_Z","_Z","_Z","_Z","_Z","WEIGHT","_Z","KT","y"]
["FINCONS","KEROSENE","RESOTH","KT","O4669","ENERGUSE","RESIOTH","_Z","_Z","_Z","_Z","_Z","WEIGHT","_Z","KT","y"]
["FINCONS","GASOIL","RESOTH","KT","O4671","ENERGUSE","RESIOTH","_Z","_Z","_Z","_Z","_Z","WEIGHT","_Z","KT","y"]
["FINCONS","RENEW","RESOTH","TJ","RA000","ENERGUSE","RESIOTH","_Z","_Z","_Z","_Z","_Z","ENERGY","_Z","TJ_NCV","y"]
["FINCONS","SOLARTH","RESOTH","TJ","RA410","ENERGUSE","RESIOTH","_Z","_Z","_Z","_Z","_Z","ENERGY","_Z","TJ_NCV","y"]
["FINCONS","BIOFUEL","RESOTH","TJ","R510C","ENERGUSE","RESIOTH","_Z","_Z","_Z","_Z","_Z","ENERGY","_Z","TJ_NCV","y"]
["FINCONS","BIOGASES","RESOTH","TJ","R5300","ENERGUSE","RESIOTH","_Z","_Z","_Z","_Z","_Z","ENERGY","_Z","TJ_NCV","y"]
["FINCONS","AMBIANT","RESOTH","TJ","RA600","ENERGUSE","RESIOTH","_Z","_Z","_Z","_Z","_Z","ENERGY","_Z","TJ_NCV","y"]
["FINCONS","HYDROGEN","RESOTH","TJ_NCV","H2","ENERGUSE","RESIOTH","_Z","_Z","_Z","_Z","_Z","ENERGY","_Z","TJ_NCV","y"]
["FINCONS","SOLIDFUEL","CALOR","KT","SFFPO","ENERGUSE","RESIDENT","_Z","_Z","_Z","_Z","_Z","NCV","_Z","MJ_T","y"]
["FINCONS","OIL","CALOR","KT","O4000","ENERGUSE","RESIDENT","_Z","_Z","_Z","_Z","_Z","NCV","_Z","MJ_T","y"]
["FINCONS","LPG","CALOR","KT","O4630","ENERGUSE","RESIDENT","_Z","_Z","_Z","_Z","_Z","NCV","_Z","MJ_T","y"]
["FINCONS","KEROSENE","CALOR","KT","O4669","ENERGUSE","RESIDENT","_Z","_Z","_Z","_Z","_Z","NCV","_Z","MJ_T","y"]
["FINCONS","GASOIL","CALOR","KT","O4671","ENERGUSE","RESIDENT","_Z","_Z","_Z","_Z","_Z","NCV","_Z","MJ_T","y"]
[null,null,null,null,"_Z","_Z","_Z","_Z","_Z","_Z","_Z","_Z","_Z","_Z","_Z","y"]

{"sheet":"Parameters","index":14,"n_rows":21,"n_cols":7,"rows_kept":21,"cut":false,"hidden":true,"merged":[]}
["Element","Type","PosType","Position",null,"DataStart","P2"]
["QUEST_SOURCE","DIM","COLUMN","B",null,"DataEnd","P100000"]
["FREQ","DIM","COLUMN","D",null,"SkipIncompleteKeys","true"]
["REF_AREA","DIM","COLUMN","C",null,"formatValues","actualValue"]
["ENERGY_PRODUCT","DIM","COLUMN","E"]
["MAIN_FLOW","DIM","COLUMN","F"]
["FLOW_BREAKDOWN","DIM","COLUMN","G"]
["PLANT_TECH","DIM","COLUMN","H"]
["PLANT_TYPE","DIM","COLUMN","I"]
["STOCKS","DIM","COLUMN","J"]
["INFRASTRUCTURE_IND","DIM","COLUMN","K"]
["VIS_A_VIS_AREA","DIM","COLUMN","L"]
["MEASURE_VALUE_TYPE","DIM","COLUMN","M"]
["TIME_PERIOD","DIM","COLUMN","O"]
["FACILITY_ID","DIM","COLUMN","N"]
["UNIT_MEASURE","DIM","COLUMN","Q"]
["OBS_STATUS","ATT","COLUMN","R"]
["CONF_STATUS","ATT","COLUMN","S"]
["COMMENT_OBS","ATT","SKIP"]
["FACILITY_TYPE","ATT","SKIP"]
["FACILITY_NAME","ATT","SKIP"]

{"sheet":"Parameter_mapping","index":15,"n_rows":2,"n_cols":2,"rows_kept":2,"cut":false,"hidden":true,"merged":[]}
["Data sheet","Parameter sheet"]
["Output_SDMX_long_complete","Parameters"]

{"sheet":"Logs","index":16,"n_rows":1,"n_cols":7,"rows_kept":1,"cut":false,"hidden":true,"merged":[]}
["Date","Module","Function","Param","Return","ErrorCode","Description"]

{"sheet":"Mapping_countries","index":17,"n_rows":73,"n_cols":4,"rows_kept":73,"cut":false,"hidden":true,"merged":[]}
["Official","IEA","EUROSTAT","IEA-ISO"]
["Albania","ALBANIA","AL","AL"]
["Argentina","ARGENTINA","AR","AR"]
["Armenia","ARMENIA","AM","AM"]
["Australia","AUSTRALI","AU","AU"]
["Austria","AUSTRIA","AT","AT"]
["Azerbaijan","AZERBAIJAN","AZ","AZ"]
["Belarus","BELARUS","BY","BY"]
["Belgium","BELGIUM","BE","BE"]
["Bosnia and Herzegovina","BOSNIAHERZ","BA","BA"]
["Brazil","BRAZIL","BR","BR"]
["Bulgaria","BULGARIA","BG","BG"]
["Canada","CANADA","CA","CA"]
["Chile","CHILE","CL","CL"]
["China, People's Republic of","CHINA","CN","CN"]
["Colombia","COLOMBIA","CO","CO"]
["Costa Rica","COSTARICA","CR","CR"]
["Croatia","CROATIA","HR","HR"]
["Cyprus","CYPRUS","CY","CY"]
["Czech Republic","CZECH","CZ","CZ"]
["Denmark","DENMARK","DK","DK"]
["Egypt","EGYPT","EG","EG"]
["Estonia","ESTONIA","EE","EE"]
["Finland","FINLAND","FI","FI"]
["France","FRANCE","FR","FR"]
["Georgia","GEORGIA","GE","GE"]
["Germany","GERMANY","DE","DE"]
["Greece","GREECE","GR","GR"]
["Hungary","HUNGARY","HU","HU"]
["Iceland","ICELAND","IS","IS"]
["Ireland","IRELAND","IE","IE"]
["India","INDIA","IN","IN"]
["Indonesia","INDONESIA","ID","ID"]
["Israel","ISRAEL","IL","IL"]
["Italy","ITALY","IT","IT"]
["Japan","JAPAN","JP","JP"]
["Kazakhstan","KAZAKHSTAN","KZ","KZ"]
["Korea","KOREA","KR","KR"]
["Kosovo* (under UNSCR 1244/99)","KOSOVO","XK","XK"]
["Kyrgyzstan","KYRGYZSTAN","KG","KG"]
["Latvia","LATVIA","LV","LV"]
["Liechtenstein","LIECHTEN","LI","LI"]
["Lithuania","LITHUANIA","LT","LT"]
["Luxembourg","LUXEMBOU","LU","LU"]
["Malta","MALTA","MT","MT"]
["Mexico","MEXICO","MX","MX"]
["Moldova","MOLDOVA","MD","MD"]
["Montenegro","MONTENEGRO","ME","ME"]
["Morocco","MOROCCO","MA","MA"]
["Netherlands","NETHLAND","NL","NL"]
["New Zealand","NZ","NZ","NZ"]
["North Macedonia","NORTHMACED","MK","MK"]
["Norway","NORWAY","NO","NO"]
["Peru","PERU","PE","PE"]
["Poland","POLAND","PL","PL"]
["Portugal","PORTUGAL","PT","PT"]
["Romania","ROMANIA","RO","RO"]
["Russia","RUSSIA","RU","RU"]
["Serbia","SERBIA","RS","RS"]
["Singapore","SINGAPORE","SG","SG"]
["Slovak Republic","SLOVAKIA","SK","SK"]
["Slovenia","SLOVENIA","SI","SI"]
["South Africa","SOUTHAFRIC","ZA","ZA"]
["Spain","SPAIN","ES","ES"]
["Sweden","SWEDEN","SE","SE"]
["Switzerland","SWITLAND","CH","CH"]
["Tajikistan","TAJIKISTAN","TJ","TJ"]
["Thailand","THAILAND","TH","TH"]
["Tunisia","TUNISIA","TN","TN"]
["Türkiye","TURKEY","TR","TR"]
["Ukraine","UKRAINE","UA","UA"]
["United Kingdom","UK","GB","GB"]
["United States","USA","US","US"]

{"sheet":"Param_Menu","index":18,"n_rows":23,"n_cols":4,"rows_kept":23,"cut":false,"hidden":true,"merged":[]}
[null,"Selection",null,"Sep"]
["Year",13,null,","]
["Format",2]
["File Import","M:\\Data\\Energy - LOT2\\Development\\Questionnaires\\Annual\\Disaggregated questionnaires\\Households\\Developed quest\\ESH_pre_DE_Gaston.csv"]
["File Export","D:\\tmp\\ESH_Switzerland_SDMX_2023-11-22_11-25.csv"]
["File Import historical","D:\\tmp\\ESH_Switzerland_SDMX_2023-11-22_09-17.csv"]
[]
["Years","Period","Selected"]
[2010,2010,0]
[2011,2011,0]
[2012,2012,0]
[2013,2013,0]
[2014,2014,0]
[2015,2015,0]
[2016,2016,0]
[2017,2017,0]
[2018,2018,0]
[2019,2019,0]
[2020,2020,0]
[2021,2021,0]
[2022,2022,1]
[2023,2023,0]
[2024,2024,0]

{"sheet":"Param_Questionnaire","index":19,"n_rows":73,"n_cols":18,"rows_kept":73,"cut":false,"hidden":true,"merged":[]}
["Version","Eurostat",null,"Eurostat","IEA","Language",null,"FormatNormal","FormatConfidential","FormatConfidential2","FormatEstimated","FormatNotAvailable","FormatDataCannotExist","FormatNotSignificant","FormatLowReliability","FormatDefinitionDiff","FormatTSBreak","FormatProvisional"]
["Questionnaire","ESH",null,"Albania","Albania","English",0,1234567.8899999999,0,1234.56789,1234567.8899999999,1234567.8899999999,1234567.8899999999,1234567.8899999999,1234567.8899999999,1234567.8899999999,1234567.8899999999,1234567.8899999999]
["DATAFLOW","ESTAT:ENERGY_ESH_A(1.0)",null,"Austria","Argentina","French",1,1234567.8899999999,0,1234.56789,1234567.8899999999,1234567.8899999999,1234567.8899999999,1234567.8899999999,1234567.8899999999,1234567.8899999999,1234567.8899999999,1234567.8899999999]
["QUEST_SOURCE","A_DIS_H",null,"Belgium","Armenia",null,2,1234567.8899999999,0,1234.56789,1234567.8899999999,1234567.8899999999,1234567.8899999999,1234567.8899999999,1234567.8899999999,1234567.8899999999,1234567.8899999999,1234567.8899999999]
["FREQ","A",null,"Bosnia and Herzegovina","Australia",null,3,1234567.8899999999,0,1234.56789,1234567.8899999999,1234567.8899999999,1234567.8899999999,1234567.8899999999,1234567.8899999999,1234567.8899999999,1234567.8899999999,1234567.8899999999]
["CountryName",{"$f":"Menu!D9","v":"Germany"},null,"Bulgaria","Austria",null,4,1234567.8899999999,0,1234.56789,1234567.8899999999,1234567.8899999999,1234567.8899999999,1234567.8899999999,1234567.8899999999,1234567.8899999999,1234567.8899999999,1234567.8899999999]
["CountryISO",{"$f":"VLOOKUP(CountryName, Mapping_countries[], 2, 0)","v":"GERMANY"},null,"Croatia","Azerbaijan",null,5,1234567.8899999999,0,1234.56789,1234567.8899999999,1234567.8899999999,1234567.8899999999,1234567.8899999999,1234567.8899999999,1234567.8899999999,1234567.8899999999,1234567.8899999999]
["CountrySDMX",{"$f":"VLOOKUP(CountryName, Mapping_countries[], 3, 0)","v":"DE"},null,"Cyprus","Belarus",null,6,1234567.8899999999,0,1234.56789,1234567.8899999999,1234567.8899999999,1234567.8899999999,1234567.8899999999,1234567.8899999999,1234567.8899999999,1234567.8899999999,1234567.8899999999]
["Language",{"$f":"Menu!D7","v":"English"},null,"Czech Republic","Belgium",null,null,null,null,null,"e","o","m","n","u","d","b","p"]
["YearSelected",{"$f":"INDEX(Param_Menu!A9:A23,Param_Menu!B2)","v":2022},null,"Denmark","Bosnia and Herzegovina"]
["Data Format",{"$f":"IF(Param_Menu!B3=1, \"ISO\", \"SDMX\")","v":"SDMX"},null,"Estonia","Brazil"]
["FormatError","aaa",null,"Finland","Bulgaria"]
["FormatWarning","aaa",null,"France","Canada"]
["FormatRevision","aaa",null,"Georgia","Chile"]
["FormatLockFormula","aaa",null,"Germany","China, People's Republic of"]
["FormatLockNoFormula",null,null,"Greece","Colombia"]
["FormatEmpty",null,null,"Hungary","Costa Rica"]
["nbDecimal",3,"0 to 6","Iceland","Croatia"]
["FormatVoluntary","aaa",null,"Ireland","Cyprus"]
["FormatFormula","aaa",null,"Italy","Czech Republic"]
[null,null,null,"Kosovo* (under UNSCR 1244/99)","Denmark"]
[null,null,null,"Latvia","Egypt"]
[null,null,null,"Liechtenstein","Estonia"]
[null,null,null,"Lithuania","Finland"]
[null,null,null,"Luxembourg","France"]
[null,null,null,"Malta","Georgia"]
[null,null,null,"Moldova","Germany"]
["Test Value",9.9,null,"Montenegro","Greece"]
["CheckTolerance",0.1,null,"Netherlands","Hungary"]
["AllowConfidential",0,null,"North Macedonia","Iceland"]
["AllowDataCannotExist",1,null,"Norway","Ireland"]
["Display0",0,null,"Poland","India"]
["ShowFlags",true,null,"Portugal","Indonesia"]
["ShowChecks",true,null,"Romania","Israel"]
["ShowRevisions",true,null,"Serbia","Italy"]
[null,null,null,"Slovak Republic","Japan"]
[null,null,null,"Slovenia","Kazakhstan"]
[null,null,null,"Spain","Korea"]
[null,null,null,"Sweden","Kosovo* (under UNSCR 1244/99)"]
[null,null,null,"Switzerland","Kyrgyzstan"]
[null,null,null,"Türkiye","Latvia"]
[null,null,null,"Ukraine","Liechtenstein"]
[null,null,null,"United Kingdom","Lithuania"]
[null,null,null,null,"Luxembourg"]
[null,null,null,null,"Malta"]
[null,null,null,null,"Mexico"]
[null,null,null,null,"Moldova"]
[null,null,null,null,"Montenegro"]
[null,null,null,null,"Morocco"]
[null,null,null,null,"Netherlands"]
[null,null,null,null,"New Zealand"]
[null,null,null,null,"North Macedonia"]
[null,null,null,null,"Norway"]
[null,null,null,null,"Peru"]
[null,null,null,null,"Poland"]
[null,null,null,null,"Portugal"]
[null,null,null,null,"Romania"]
[null,null,null,null,"Russia"]
[null,null,null,null,"Serbia"]
[null,null,null,null,"Singapore"]
[null,null,null,null,"Slovak Republic"]
[null,null,null,null,"Slovenia"]
[null,null,null,null,"South Africa"]
[null,null,null,null,"Spain"]
[null,null,null,null,"Sweden"]
[null,null,null,null,"Switzerland"]
[null,null,null,null,"Tajikistan"]
[null,null,null,null,"Thailand"]
[null,null,null,null,"Tunisia"]
[null,null,null,null,"Türkiye"]
[null,null,null,null,"Ukraine"]
[null,null,null,null,"United Kingdom"]
[null,null,null,null,"United States"]

{"sheet":"Param_Multilanguage","index":20,"n_rows":28,"n_cols":3,"rows_kept":28,"cut":false,"hidden":true,"merged":[]}
["Shortnames","English","French"]
[null,"Remarks","Remarques"]
["RESTOT","Total Residential / Households","Total Residential / Households"]
["SPACEHEAT","Space heating","Space heating"]
["SPACECOOL","Space cooling","Space cooling"]
["WATERHEAT","Water heating","Water heating"]
["COOK","Cooking","Cooking"]
["LIGHTAPP","Lighting and appliances","Lighting and appliances"]
["RESOTH","Other end uses","Other end uses"]
[null,"Calorific values","Calorific values"]
[null,"Table1: Final Energy Consumption in the Residential / Households Sector by type of end use","Table1: Final Energy Consumption in the Residential / Households Sector by type of end use"]
[null,"Electricity","Électricité"]
[null,"Derived heat","Derived heat"]
[null,"Gas","Gas"]
[null,"Solid fossil fuels","Solid fossil fuels"]
[null,"Total oil and petroleum products","Total oil and petroleum products"]
[null,"LPG","LPG"]
[null,"Other kerosene","Other kerosene"]
[null,"Total gas/diesel oil","Total gas/diesel oil"]
[null,"Renewables and wastes","Renewables and wastes"]
[null,"Solar thermal","Solar thermal"]
[null,"Solid biofuels excluding charcoal","Solid biofuels excluding charcoal"]
[null,"Biogases","Biogases"]
[null,"Ambient heat","Ambient heat"]
[null,"All products","All products"]
[null,"Table2: Final Energy Consumption in the Residential / Households Sector by type of end use - Calorific values (MJ/t)","Table2: Final Energy Consumption in the Residential / Households Sector by type of end use - Calorific values (MJ/t)"]
[null,"All Energy Products","All Energy Products"]
[null,"Hydrogen","Hydrogen"]

{"sheet":"Menu","index":21,"n_rows":998,"n_cols":54,"rows_kept":998,"cut":false,"hidden":false,"merged":[[23,2,23,8],[27,2,27,8],[14,2,14,8],[10,2,10,8],[1,2,1,8],[2,2,2,8],[8,3,8,4],[6,3,6,4],[3,2,3,8]]}
[]
[null,null,"Disaggregated final energy consumption in households"]
[null,null,"REPORTING TEMPLATE "]
[null,null,"Eurostat"]
[]
[]
[null,null,"Language:","English"]
[]
[null,null,"Country:","Germany"]
[]
[null,null,"TABLES",null,null,null,null,null,null,null,null,null,null,null,null,null,null,null,null,null,null,null,null,null,null,{"$error":"#VALUE!"},{"$error":"#VALUE!"},{"$error":"#VALUE!"},{"$error":"#VALUE!"},{"$error":"#VALUE!"},null,"DATA ENTRY IN TIME SERIES",null,null,null,"FORMS",null,"ENTREE DE DONNEES DANS LES SERIES",null,null,null,"TABLEAUX",null,"Меню ввода данных во временные ряды",null,null,null,"Таблицы",null,"ENTREE DE DONNEES DANS LES SERIES",null,null,"FORMS","TABLEAUX"]
[]
[]
[null,null,null,null,null,null,null,null,null,null,null,null,null,null,null,null,null,null,null,null,null,null,null,null,null,{"$f":"IF(INDEX(LangMenu,,(Lang-1)*6 + 1)=\"\",\"\",INDEX(LangMenu,,(Lang-1)*6 + 1))","v":{"$error":"#NAME?"}},{"$f":"IF(INDEX(LangMenu,,(Lang-1)*6 + 2)=\"\",\"\",INDEX(LangMenu,,(Lang-1)*6 + 2))","v":{"$error":"#NAME?"}},{"$f":"IF(INDEX(LangMenu,,(Lang-1)*6 + 3)=\"\",\"\",INDEX(LangMenu,,(Lang-1)*6 + 3))","v":{"$error":"#NAME?"}},{"$f":"IF(INDEX(LangMenu,,(Lang-1)*6 + 4)=\"\",\"\",INDEX(LangMenu,,(Lang-1)*6 + 4))","v":{"$error":"#NAME?"}},{"$f":"IF(INDEX(LangMenu,,(Lang-1)*6 + 5)=\"\",\"\",INDEX(LangMenu,,(Lang-1)*6 + 5))","v":{"$error":"#NAME?"}},null,"English version",null,null,null,null,null,"Other language version",null,null,null,null,null,"Other language version",null,null,null,null,null,"Other language version"]
[null,null,"TIME SERIES",null,null,null,null,null,null,null,null,null,null,null,null,null,null,null,null,null,null,null,null,null,null,{"$error":"#NAME?"},{"$error":"#NAME?"},{"$error":"#NAME?"},{"$error":"#NAME?"},{"$error":"#NAME?"},null,"DATA ENTRY IN TIME SERIES",null,null,null,"FORMS",null,"ENTREE DE DONNEES DANS LES SERIES",null,null,null,"TABLEAUX",null,"Меню ввода данных во временные ряды",null,null,null,"Таблицы",null,"ENTREE DE DONNEES DANS LES SERIES",null,null,"FORMS","TABLEAUX"]
[null,null,null,null,null,null,null,null,null,null,null,null,null,null,null,null,null,null,null,null,null,null,null,null,null,{"$error":"#NAME?"},{"$error":"#NAME?"},{"$error":"#NAME?"},{"$error":"#NAME?"},{"$error":"#NAME?"}]
[null,null,null,null,null,null,null,null,null,null,null,null,null,null,null,null,null,null,null,null,null,null,null,null,null,{"$error":"#NAME?"},{"$error":"#NAME?"},{"$error":"#NAME?"},{"$error":"#NAME?"},{"$error":"#NAME?"},null,"Crude oil","Natural gas liquids","Refinery feedstocks","Additives/oxygenates","Please select the year and click on the form",null,"Pétrole brut","Liquides \nde gaz naturel","Produits d'alim. \ndes raffineries","Additifs-\nOxygénés","Choisissez l'année puis sélectionnez le tableau",null,"Сырая нефть","Природные газоконденсаты","Сырье для нефтепереработки","Присадки\\Оксигенаты","Пожалуйста выберите год и таблицу",null,"سوائل الغاز الطبيعي","زيوت تغذية مصافي التكرير","الإضافات - المؤكسدات","Please select the year and click on the form","Choisissez l'année puis sélectionnez le tableau"]
[null,null,null,null,null,null,null,null,null,null,null,null,null,null,null,null,null,null,null,null,null,null,null,null,null,{"$error":"#NAME?"},{"$error":"#NAME?"},{"$error":"#NAME?"},{"$error":"#NAME?"},{"$error":"#NAME?"}]
[null,null,null,null,null,null,null,null,null,null,null,null,null,null,null,null,null,null,null,null,null,null,null,null,null,{"$error":"#NAME?"},{"$error":"#NAME?"},{"$error":"#NAME?"},{"$error":"#NAME?"},{"$error":"#NAME?"},null,"Biofuels","Other hydrocarbons","Total - crngfeed","Refinery gas",null,null,"Biocarburants","Autres \nHydrocarbures","Total (Brut+LGN+ alim.raff.+autres)","Gaz de raffinerie",null,null,"Биотопливо","Прочее углеводороды","Всего (Брутто+СПГ                                                                                                                                                                                                                               +Нефтезаводское сырье+                                                                                                                                                                                                                      Присадки/Оксигенаты+Другие углеводороды) ","Нефтезаводской газ",null,null,"الهيدروكربونات الأخرى","مجموع (النفط الخام + الغاز الطبيعي + زيوت تغذية مصافي التكرير + الإضافات/المؤكسدات + المواد الهيدروكربونية الأخرى)","غاز التكرير","غاز التكرير\n\n\n"]
[null,null,null,null,null,null,null,null,null,null,null,null,null,null,null,null,null,null,null,null,null,null,null,null,null,{"$error":"#NAME?"},{"$error":"#NAME?"},{"$error":"#NAME?"},{"$error":"#NAME?"},{"$error":"#NAME?"}]
[null,null,null,null,null,null,null,null,null,null,null,null,null,null,null,null,null,null,null,null,null,null,null,null,null,{"$error":"#NAME?"},{"$error":"#NAME?"},{"$error":"#NAME?"},{"$error":"#NAME?"},{"$error":"#NAME?"},null,"Ethane","LPG","Naphtha","Total motor gasoline","Table 1",null,"Ethane","GPL","Naphta","Essence","Tableau 1",null,"Этан","Сжиженные нефтяные газы (СНГ)","Нафта","Бензин","Таблица 1",null,"سوائل الغاز البترولي","النافتا","غازولين المحركات","Table 1","Tableau 1"]
[null,null,null,null,null,null,null,null,null,null,null,null,null,null,null,null,null,null,null,null,null,null,null,null,null,{"$error":"#NAME?"},{"$error":"#NAME?"},{"$error":"#NAME?"},{"$error":"#NAME?"},{"$error":"#NAME?"}]
[null,null,null,null,null,null,null,null,null,null,null,null,null,null,null,null,null,null,null,null,null,null,null,null,null,{"$error":"#NAME?"},{"$error":"#NAME?"},{"$error":"#NAME?"},{"$error":"#NAME?"},{"$error":"#NAME?"}]
[null,null,"DATA TRANSFER",null,null,null,null,null,null,null,null,null,null,null,null,null,null,null,null,null,null,null,null,null,null,{"$error":"#NAME?"},{"$error":"#NAME?"},{"$error":"#NAME?"},{"$error":"#NAME?"},{"$error":"#NAME?"},null,"ASCII DATA TRANSFERS",null,null,null,"Table 5",null,"TRANSFERTS DE DONNEES ASCII",null,null,null,"Tableau 5",null,"Передача данных ASCII",null,null,null,"Таблица 5",null,"TRANSFERTS DE DONNEES ASCII",null,null,null," "]
[null,null,null,null,null,null,null,null,null,null,null,null,null,null,null,null,null,null,null,null,null,null,null,null,null,{"$error":"#NAME?"},{"$error":"#NAME?"},{"$error":"#NAME?"},{"$error":"#NAME?"},{"$error":"#NAME?"}]
[null,null,null,null,null,null,null,null,null,null,null,null,null,null,null,null,null,null,null,null,null,null,null,null,null,{"$error":"#NAME?"},{"$error":"#NAME?"},{"$error":"#NAME?"},{"$error":"#NAME?"},{"$error":"#NAME?"},null,"Import","Export","Menu","Reporting to Eurostat:\nClick to select years to load","Table 6 (kt)",null,"Import","Export","Menu","Soumettre à Eurostat:\n Cliquer pour sélectionner les années à envoyer","Tableau 6 (kt)",null,"Импорт","Экспорт","Меню","Oтчет в Евростат :\nНажмите, и выбрать годы для загрузки","Таблица 6 (кт)",null,"استيراد","تصدير",null,"Menu","Menu"]
[null,null,null,null,null,null,null,null,null,null,null,null,null,null,null,null,null,null,null,null,null,null,null,null,null,{"$error":"#NAME?"},{"$error":"#NAME?"},{"$error":"#NAME?"},{"$error":"#NAME?"},{"$error":"#NAME?"}]
[null,null,"VALIDATION AND VISUALISATION",null,null,null,null,null,null,null,null,null,null,null,null,null,null,null,null,null,null,null,null,null,null,{"$error":"#NAME?"},{"$error":"#NAME?"},{"$error":"#NAME?"},{"$error":"#NAME?"},{"$error":"#NAME?"},null,"ASCII DATA TRANSFERS",null,null,null,"Table 5",null,"TRANSFERTS DE DONNEES ASCII",null,null,null,"Tableau 5",null,"Передача данных ASCII",null,null,null,"Таблица 5",null,"TRANSFERTS DE DONNEES ASCII",null,null,null," "]
[null,null,null,null,null,null,null,null,null,null,null,null,null,null,null,null,null,null,null,null,null,null,null,null,null,{"$error":"#NAME?"},{"$error":"#NAME?"},{"$error":"#NAME?"},{"$error":"#NAME?"},{"$error":"#NAME?"},null,"DATA ENTRY MENU",null,null,null,null,null,"MENU D'ENTREE DE DONNEES",null,null,null,null,null,"Меню ввода данных во временные ряды",null,null,null,null,null,"MENU D'ENTREE DE DONNEES"]
[null,null,null,null,null,null,null,null,null,null,null,null,null,null,null,null,null,null,null,null,null,null,null,null,null,{"$error":"#NAME?"},{"$error":"#NAME?"},{"$error":"#NAME?"},{"$error":"#NAME?"},{"$error":"#NAME?"},null,"Control the integrity and coherence of your entries:",null,"Check data","Tips : press Ctrl+M to come",null,null,"Contrôlez l'intégrité et la cohérence des données saisies :",null,"Vérification des données","Astuce : Appuyez sur Ctrl+M",null,null,"Контролируйте целостность и согласованность вводимых",null,"Проверка данных ","Подсказка: Нажмите Ctrl+M чтобы ",null,null,"Contrôlez l'intégrité et la cohérence des données saisies :","Check data","Tips : press Ctrl+M to come","Astuce : Appuyez sur Ctrl+M"]
[null,null,null,null,null,null,null,null,null,null,null,null,null,null,null,null,null,null,null,null,null,null,null,null,null,{"$error":"#NAME?"},{"$error":"#NAME?"},{"$error":"#NAME?"},{"$error":"#NAME?"},{"$error":"#NAME?"},null,"Run the \"Check data\" program.",null,null,"back to that page from anywhere",null,null,"Lancez le programme de vérification des données.",null,null,"pour revenir à ce menu à tout moment",null,null,"данных: Используйте программу проверки данных",null,null,"вернуться к этому меню в любой момент",null,null,"Lancez le programme de vérification des données.",null,"back to that page from anywhere","pour revenir à ce menu à tout moment"]
[null,null,null,null,null,null,null,null,null,null,null,null,null,null,null,null,null,null,null,null,null,null,null,null,null,{"$error":"#NAME?"},{"$error":"#NAME?"},{"$error":"#NAME?"},{"$error":"#NAME?"},{"$error":"#NAME?"}]
[]
[null,null,"Version:",20240221]
[]
[]
[]
[]
[]
[]
[]
[]
[]
[]
[]
[]
[]
[]
[]
[]
[]
[]
[]
[]
[]
[]
[]
[]
[]
[]
[]
[]
[]
[]
[]
[]
[]
[]
[]
[]
[]
[]
[]
[]
[]
[]
[]
[]
[]
[]
[]
[]
[]
[]
[]
[]
[]
[]
[]
[]
[]
[]
[]
[]
[]
[]
[]
[]
[]
[]
[]
[]
[]
[]
[]
[]
[]
[]
[]
[]
[]
[]
[]
[]
[]
[]
[]
[]
[]
[]
[]
[]
[]
[]
[]
[]
[]
[]
[]
[]
[]
[]
[]
[]
[]
[]
[]
[]
[]
[]
[]
[]
[]
[]
[]
[]
[]
[]
[]
[]
[]
[]
[]
[]
[]
[]
[]
[]
[]
[]
[]
[]
[]
[]
[]
[]
[]
[]
[]
[]
[]
[]
[]
[]
[]
[]
[]
[]
[]
[]
[]
[]
[]
[]
[]
[]
[]
[]
[]
[]
[]
[]
[]
[]
[]
[]
[]
[]
[]
[]
[]
[]
[]
[]
[]
[]
[]
[]
[]
[]
[]
[]
[]
[]
[]
[]
[]
[]
[]
[]
[]
[]
[]
[]
[]
[]
[]
[]
[]
[]
[]
[]
[]
[]
[]
[]
[]
[]
[]
[]
[]
[]
[]
[]
[]
[]
[]
[]
[]
[]
[]
[]
[]
[]
[]
[]
[]
[]
[]
[]
[]
[]
[]
[]
[]
[]
[]
[]
[]
[]
[]
[]
[]
[]
[]
[]
[]
[]
[]
[]
[]
[]
[]
[]
[]
[]
[]
[]
[]
[]
[]
[]
[]
[]
[]
[]
[]
[]
[]
[]
[]
[]
[]
[]
[]
[]
[]
[]
[]
[]
[]
[]
[]
[]
[]
[]
[]
[]
[]
[]
[]
[]
[]
[]
[]
[]
[]
[]
[]
[]
[]
[]
[]
[]
[]
[]
[]
[]
[]
[]
[]
[]
[]
[]
[]
[]
[]
[]
[]
[]
[]
[]
[]
[]
[]
[]
[]
[]
[]
[]
[]
[]
[]
[]
[]
[]
[]
[]
[]
[]
[]
[]
[]
[]
[]
[]
[]
[]
[]
[]
[]
[]
[]
[]
[]
[]
[]
[]
[]
[]
[]
[]
[]
[]
[]
[]
[]
[]
[]
[]
[]
[]
[]
[]
[]
[]
[]
[]
[]
[]
[]
[]
[]
[]
[]
[]
[]
[]
[]
[]
[]
[]
[]
[]
[]
[]
[]
[]
[]
[]
[]
[]
[]
[]
[]
[]
[]
[]
[]
[]
[]
[]
[]
[]
[]
[]
[]
[]
[]
[]
[]
[]
[]
[]
[]
[]
[]
[]
[]
[]
[]
[]
[]
[]
[]
[]
[]
[]
[]
[]
[]
[]
[]
[]
[]
[]
[]
[]
[]
[]
[]
[]
[]
[]
[]
[]
[]
[]
[]
[]
[]
[]
[]
[]
[]
[]
[]
[]
[]
[]
[]
[]
[]
[]
[]
[]
[]
[]
[]
[]
[]
[]
[]
[]
[]
[]
[]
[]
[]
[]
[]
[]
[]
[]
[]
[]
[]
[]
[]
[]
[]
[]
[]
[]
[]
[]
[]
[]
[]
[]
[]
[]
[]
[]
[]
[]
[]
[]
[]
[]
[]
[]
[]
[]
[]
[]
[]
[]
[]
[]
[]
[]
[]
[]
[]
[]
[]
[]
[]
[]
[]
[]
[]
[]
[]
[]
[]
[]
[]
[]
[]
[]
[]
[]
[]
[]
[]
[]
[]
[]
[]
[]
[]
[]
[]
[]
[]
[]
[]
[]
[]
[]
[]
[]
[]
[]
[]
[]
[]
[]
[]
[]
[]
[]
[]
[]
[]
[]
[]
[]
[]
[]
[]
[]
[]
[]
[]
[]
[]
[]
[]
[]
[]
[]
[]
[]
[]
[]
[]
[]
[]
[]
[]
[]
[]
[]
[]
[]
[]
[]
[]
[]
[]
[]
[]
[]
[]
[]
[]
[]
[]
[]
[]
[]
[]
[]
[]
[]
[]
[]
[]
[]
[]
[]
[]
[]
[]
[]
[]
[]
[]
[]
[]
[]
[]
[]
[]
[]
[]
[]
[]
[]
[]
[]
[]
[]
[]
[]
[]
[]
[]
[]
[]
[]
[]
[]
[]
[]
[]
[]
[]
[]
[]
[]
[]
[]
[]
[]
[]
[]
[]
[]
[]
[]
[]
[]
[]
[]
[]
[]
[]
[]
[]
[]
[]
[]
[]
[]
[]
[]
[]
[]
[]
[]
[]
[]
[]
[]
[]
[]
[]
[]
[]
[]
[]
[]
[]
[]
[]
[]
[]
[]
[]
[]
[]
[]
[]
[]
[]
[]
[]
[]
[]
[]
[]
[]
[]
[]
[]
[]
[]
[]
[]
[]
[]
[]
[]
[]
[]
[]
[]
[]
[]
[]
[]
[]
[]
[]
[]
[]
[]
[]
[]
[]
[]
[]
[]
[]
[]
[]
[]
[]
[]
[]
[]
[]
[]
[]
[]
[]
[]
[]
[]
[]
[]
[]
[]
[]
[]
[]
[]
[]
[]
[]
[]
[]
[]
[]
[]
[]
[]
[]
[]
[]
[]
[]
[]
[]
[]
[]
[]
[]
[]
[]
[]
[]
[]
[]
[]
[]
[]
[]
[]
[]
[]
[]
[]
[]
[]
[]
[]
[]
[]
[]
[]
[]
[]
[]
[]
[]
[]
[]
[]
[]
[]
[]
[]
[]
[]
[]
[]
[]
[]
[]
[]
[]
[]
[]
[]
[]
[]
[]
[]
[]
[]
[]
[]
[]
[]
[]
[]
[]
[]
[]
[]
[]
[]
[]
[]
[]
[]
[]
[]
[]
[]
[]
[]
[]
[]
[]
[]
[]
[]
[]
[]
[]
[]
[]
[]
[]
[]
[]
[]
[]
[]
[]
[]
[]
[]
[]
[]
[]
[]
[]
[]
[]
[]
[]
[]
[]
[]
[]
[]
[]
[]
[]
[]
[]
[]
[]
[]
[]
[]
[]
[]
[]
[]
[]
[]
[]
[]
[]
[]
[]
[]
[]
[]
[]
[]
[]
[]
[]
[]
[]
[]
[]
[]
[null,null,null,null,null,null,null,null,null,null,null,null,null,null,null,null,null,null,null,null,null,null,null,null,null,null,null,null,null,null,null,null,null,2020]

{"sheet":"Instructions","index":22,"n_rows":149,"n_cols":5,"rows_kept":149,"cut":false,"hidden":false,"merged":[[53,1,53,5],[54,1,55,5],[19,4,23,5],[25,1,25,5],[26,1,27,5],[29,4,31,5],[33,4,36,5],[38,1,40,5],[42,1,42,5],[43,1,43,5],[45,4,47,5],[49,1,51,5],[118,1,118,5],[76,1,76,5],[87,1,87,5],[88,1,89,5],[77,1,77,5],[79,4,84,5],[86,1,86,5],[90,4,95,5],[96,4,104,5],[105,4,108,5],[110,4,112,5],[114,4,116,5],[133,2,133,5],[119,1,122,5],[124,2,124,5],[125,2,125,5],[126,2,126,5],[127,1,128,1],[127,2,128,5],[129,2,129,5],[130,2,130,5],[131,2,131,5],[132,2,132,5],[75,1,75,5],[61,4,63,5],[57,4,59,5],[65,4,69,5],[71,4,73,5],[15,1,15,5],[17,1,17,5],[1,1,1,5],[2,1,2,5],[5,1,5,5],[9,1,9,5],[11,1,11,5],[14,1,14,5],[10,1,10,5],[142,1,142,5],[143,1,143,5],[144,1,144,5],[148,4,150,5],[135,1,135,5],[136,1,136,5],[137,1,137,5],[138,1,139,5],[140,1,140,5],[146,1,146,5]]}
[]
[null,"Disaggregated final energy consumption in households"]
[null,"REPORTING TEMPLATE "]
[]
[" "]
[null,"SUPPORT CONTACT"]
[null,"EUROSTAT: ",null,"ESTAT-ENERGY-ANNUAL@EC.EUROPA.EU"]
[]
[null,"SUBMISSION"]
[null,"Countries reporting to Eurostat should transmit the completed reporting template via the Single Entry Point (SEP) via EDAMIS."]
[null,"https://webgate.ec.europa.eu/edamis4"]
[null,"In EDAMIS, please use dataset ENERGY_ESH_A."]
[null,""]
[]
[null,"BASIC FUNCTIONS"]
[null,"The instructions below describe the functions of the buttons on the 'Menu' worksheet."]
[]
[null,"The user should select his/her language and reporting country from the drop-down boxes at the top."]
[]
[null,null,null,null,"The user should select the periods (months and/or years) to be uploaded to the database. If a user modifies data in a timeseries spreadsheet that is outside the 'periods to load', a warning message will appear when the reporting template is saved. The data will be saved in the reporting template, but will not be included in the exported data and will not, therefore, be uploaded to the database.\nThe selection of the periods to load is also used for running the checks included in the reporting template."]
[]
[]
[]
[]
[]
[null,"TABLES section"]
[null,"The reporting period should be selected from the drop-down box. Only one period at a time can be filled in using this option. Please remember to save each table with the save button (top left) before closing the worksheet."]
[]
[]
[null,null,null,null,"Opens the table that contains the table-specific products and flows for the selected reporting period (see above)."]
[]
[]
[]
[null,null,null,null,"Use this worksheet to comment on reported data, for example point out changes in methodology, etc. This information will be part of the uploaded data and will be stored under the period to load."]
[]
[]
[]
[]
[null,"This reporting template uses virtual forms, so all new data in any of the tables needs to be saved, otherwise it will not be stored. Any changes made in a table will not be visible immediately in other linked tables. Each table will need to be either reopened or refreshed (by using the 'Show new data' button in each worksheet)."]
[]
[]
[]
[null,"TIME SERIES section"]
[null,"The user can also enter data in the Time Series worksheets. Using this option allows the user to enter data for all periods. "]
[]
[null,null,null,null,"Each button opens a table containing the table-specific products and flows for all periods."]
[]
[]
[]
[null,"This reporting template uses virtual forms, so all new data (or flags) in any of the tables needs to be saved, otherwise it will not be saved. Any changes made in a table will not be visible immediately in other linked tables. Each table will need to be either reopened or refreshed (by using the 'Show new data' button in each worksheet)."]
[]
[]
[]
[null,"DATA TRANSFER section"]
[null,"Data can be imported to (or exported from) the reporting template via a CSV file (SDMX-CSV)."]
[]
[]
[null,null,null,null,"Opens a Windows browser to select the file to be imported. Data can be imported only for the periods which are covered by the questionnaire. If other periods are loaded, the loading will fail."]
[]
[]
[]
[null,null,null,null,"Opens a Windows browser to select where the file should be exported to. Before exporting the data, the user must check that the data which needs to be exported is properly selected via the 'Periods to load' button."]
[]
[]
[]
[null,null,null,null,"Once the reporting template is completed and saved, the user must decide whether to transmit an exported CSV file or the Excel file. If the user opts for the Excel file, it must be prepared for transmission to Eurostat. This button carries out the necessary preparation. Before preparing the data, the user must check that the data which needs to be prepared is properly selected via the 'Periods to load' button. If no period is selected, the transmission will be rejected.\nThen, the user must click the 'Prepare file for transmission' button and can transmit the Excel file to Eurostat."]
[]
[]
[]
[]
[]
[null,null,null,null,"This will load the prefilled data from a CSV file to the reporting template. This data will be stored as 'base data'.\nFunction reserved for Eurostat."]
[]
[]
[]
[null,"VALIDATION AND VISUALISATION section"]
[null,"Various graphs are available to visualise the reported data."]
[null,"Integrated checks are also available; these should be run by the user. The reported errors should be corrected before submitting the reporting template."]
[]
[null,null,null,null,"The period for which the checks needs to be launched can be selected via the 'Periods to load' button.\nBefore clicking to 'Run all checks', all worksheets must be closed. If there are worksheets open, a pop-up message will ask the user if open worksheets can be closed without saving. The user has the possibility to select cancel and then save any open worksheets.\nThe checks can then be relaunched. When launched, a separate worksheet will be generated, listing all errors from the selected periods. A filtering option is available in order to filter the results."]
[]
[]
[]
[]
[]
[]
[null,"Time Series / Form editing"]
[null,"The user is able to fill in data via the time series or main table worksheets."]
[null,"Changes are not visible in any other table until data is saved (it may be necessary to close and reopen a worksheet to view newly entered and SAVED data)."]
[]
[null,null,null,null,"This is the working view which must be used to fill-in data for the current cycle (new data and revisions for previous periods). It can also be used as a refresh button in order to reload the data if changes have been made and saved in other tables.\nWhen the user is in the 'Show new data' mode, the words on the button are green.\nIf the user inputs information (data or flags) and then clicks on 'Show new data' or 'Prefilled data', the data which was not saved will be lost."]
[]
[]
[]
[]
[]
[null,null,null,null,"The reporting template will be 'prefilled' with historical, or base data. This button will switch the data in the current table back to the base data. To switch back to any data filled in and saved by the user, the user should click on 'Show new data'.\nWARNING: This view should not be used to fill-in data! Any data should be filled-in in the 'Show new data' view! If the user fills in data while in 'Prefilled data' mode and then saves the form, this will become the working data which will then be visible in the ‘Show new data’ mode.\nWhen the user is in 'Prefilled data' mode, the words on the button are green.\nIf the user inputs information (data or flags) and then clicks on 'Show new data' or 'Prefilled data', the data which was not saved will be lost."]
[]
[]
[]
[]
[]
[]
[]
[]
[null,null,null,null,"Removes all data from the worksheet. If the worksheet is saved at this point, it will be saved blank.\nClicking 'Show new data' before saving will bring back users SAVED data, or clicking 'Prefilled data' will bring back base data."]
[]
[]
[]
[]
[null,null,null,null,"Saves the data filled in the worksheet. Nevertheless, when closing the reporting template itself, the file should also be saved."]
[]
[]
[]
[null,null,null,null,"Closes the worksheet. Any data modified since the last save, will not be saved."]
[]
[]
[]
[null,"Flags"]
[null,"The user may insert or remove flags, for just one cell or a selection of cells. To do this, simply select the cell (or range of cells) and select the appropriate flag.\nIf you wish to see only numeric data, the flags can be hidden in the worksheet by unticking the ‘See flags’ box. If the user inputs flags and then ticks/unticks the 'See flags', 'See checks' or 'See revisions' boxes, the flags which were not saved will be lost."]
[]
[]
[]
[]
[null,"M","Data cannot exist. To be used only when no values are provided."]
[null,"O","Missing value (not available/omitted/not known/not surveyed). To be used only when no values are provided."]
[null,"N","Not significant/negligible. To be used only when a '0' value is provided."]
[null,"C","Confidential value. If the data collection is in the secure environment, the C flag is used when values are provided. If the data collection is in the normal environment, the C flag is used without values."]
[]
[null,"D","Definition differs. To be used only when values are provided. An explanation should be given in the Remarks worksheet."]
[null,"B","Break in time series. To be used only when values are provided. An explanation should be given in the Remarks worksheet."]
[null,"P","Provisional value. To be used only when values are provided and only for the most recent time period."]
[null,"E","Estimated value. To be used only when values are provided."]
[null,"U","Low reliability/uncertain. To be used only when values are provided."]
[]
[null,"Checks and revisions"]
[null,"In the Time Series and Main tables, various conditions are checked. Errors are displayed in bold red, while warnings are displayed in red."]
[null,"Cells highlighted in yellow indicate a revision when compared to the prefilled data."]
[null,"The above-mentioned checks and revisions can be hidden by unticking the 'See checks' and 'See revisions' boxes. If the user inputs flags and then ticks/unticks the 'See flags', 'See checks' or 'See revisions' boxes, the flags which were not saved will be lost."]
[]
[null,"Voluntary data appear in italics."]
[]
[null,"Saving the reporting template"]
[null,"When work is complete and all individual worksheets are saved, the reporting template itself has to be saved before closing it."]
[null,"Do not forget the option \"Prepare file for transmission\", mentioned above, before submitting."]
[]
[null,"Reseting the data"]
[]
[null,null,null,null,"This will replace all working data (inculding any editing of data since the CSV was uploaded) with the original prefilled data ('base data')."]

{"sheet":"TemplateTable1","index":23,"n_rows":20,"n_cols":28,"rows_kept":20,"cut":false,"hidden":true,"merged":[]}
[null,null,null,null,null,null,null,null,null,null,null,"Table1: Final Energy Consumption in the Residential / Households Sector by type of end use",null,{"$f":"VLOOKUP(L1, LanguageData, MATCH(LanguageChosen, Language[Language],0), FALSE) &  \" - \"  & B2","v":"Table1: Final Energy Consumption in the Residential / Households Sector by type of end use - 2010"}]
["Time",2010,null,null,null,null,null,null,null,null,null,"Product",null,"TOT","ELEC","HEAT","GAS","SOLIDFUEL","OIL","LPG","KEROSENE","GASOIL","RENEW","SOLARTH","BIOFUEL","BIOGASES","AMBIANT","HYDROGEN"]
["DataType :","FINCONS",null,null,null,null,null,null,null,null,null,"Item2",null,"TJ","GWH","TJ","TJ_GCV","KT","KT","KT","KT","KT","TJ","TJ","TJ","TJ","TJ","TJ_NCV"]
[null,null,null,null,null,null,null,null,null,null,null,"FormulaRow",null,"§[Item1=RESTOT]:[Item1=RESOTH]§IF(Sum([Product=ELEC#Item2=GWH])*3.6 + Sum([Product=HEAT#Item2=TJ]) + Sum([Product=GAS#Item2=TJ_GCV])*0.9 + (Sum([Product=SOLIDFUEL#Item2=KT])*Sum([Product=SOLIDFUEL#Item1=CALOR#Item2=KT]))/1000 + (Sum([Product=OIL#Item2=KT])*Sum([Product=OIL#Item1=CALOR#Item2=KT]))/1000 + Sum([Product=RENEW#Item2=TJ]) + Sum([Product=HYDROGEN#Item2=TJ_NCV])<>0,Sum([Product=ELEC#Item2=GWH])*3.6 + Sum([Product=HEAT#Item2=TJ]) + Sum([Product=GAS#Item2=TJ_GCV])*0.9 + (Sum([Product=SOLIDFUEL#Item2=KT])*Sum([Product=SOLIDFUEL#Item1=CALOR#Item2=KT]))/1000 + (Sum([Product=OIL#Item2=KT])*Sum([Product=OIL#Item1=CALOR#Item2=KT]))/1000 + Sum([Product=RENEW#Item2=TJ]) + Sum([Product=HYDROGEN#Item2=TJ_NCV]),\"\")",null,null,null,null,"§[Item1=RESTOT],[Item1=SPACEHEAT],[Item1=WATERHEAT],[Item1=COOK],[Item1=RESOTH]§IF(Sum([Product=LPG], [Product=KEROSENE], [Product=GASOIL])=0,\"\",Sum([Product=LPG], [Product=KEROSENE], [Product=GASOIL]))",null,null,null,"§[Item1=RESTOT],[Item1=SPACEHEAT],[Item1=WATERHEAT],[Item1=COOK],[Item1=RESOTH]§if(Sum([Product=SOLARTH], [Product=BIOFUEL], [Product=BIOGASES], [Product=AMBIANT])=0,\"\",Sum([Product=SOLARTH], [Product=BIOFUEL], [Product=BIOGASES], [Product=AMBIANT]))"]
[null,null,null,null,null,null,null,null,null,null,null,"CheckRow1",null,null,null,null,null,"^AND(OR([Product=SOLIDFUEL#Item1=CALOR]< 14000,[Product=SOLIDFUEL#Item1=CALOR]>30000),[Product=SOLIDFUEL#Item1=CALOR]<>0)","^AND(OR([Product=OIL#Item1=CALOR]< 40000,[Product=OIL#Item1=CALOR]>49000),[Product=OIL#Item1=CALOR]<>0)","^AND(OR([Product=LPG#Item1=CALOR]< 43000,[Product=LPG#Item1=CALOR]>49000),[Product=LPG#Item1=CALOR]<>0)","^AND(OR([Product=KEROSENE#Item1=CALOR]< 41000,[Product=KEROSENE#Item1=CALOR]>45000),[Product=KEROSENE#Item1=CALOR]<>0)","^AND(OR([Product=GASOIL#Item1=CALOR]< 40000,[Product=GASOIL#Item1=CALOR]>45000),[Product=GASOIL#Item1=CALOR]<>0)","§[Item1=RESTOT]:[Item1=SPACEHEAT],[Item1=WATERHEAT]:[Item1=COOK],[Item1=RESOTH]§< Sum([Product=SOLARTH], [Product=BIOFUEL], [Product=BIOGASES], [Product=AMBIANT])"]
[null,null,null,null,null,null,null,null,null,null,null,"LabelCheckRow",null,null,null,null,null,"Calorific value for Solid fossil fuels should be \nbetween 14 000 and 30 000 MJ/t","Calorific value for Total oil and petroleum products \nshould be between 40 000 and 49 000 MJ/t","Calorific value for LPG should be between 43 000 and 49 000 MJ/t","Calorific value for Other kerosene should be \nbetween 41 000 and 45 000 MJ/t","Calorific value for Total gas/diesel oil should be \nbetween 40 000 and 45 000 MJ/t","Total renewables & wastes is superior or \nequal to the sum of its disaggregated values"]
[null,null,null,null,null,null,null,null,null,null,null,"LockedRow",null,1,null,null,null,null,null,null,null,null,null,null,null,null,null,1]
[null,null,null,null,null,null,null,null,null,null,null,"EmptyRow"]
[null,null,null,null,null,null,null,null,null,null,null,"VoluntaryRow"]
["Item1","FormulaCol","CheckCol1","LabelCheckCol1","CheckCol2","LabelCheckCol2","CheckCol3","LabelCheckCol3","LockedCol","EmptyCol","VoluntaryCol","Label",null,"All Energy Products","Electricity","Derived heat","Gas","Solid fossil fuels","Total oil and petroleum products","LPG","Other kerosene","Total gas/diesel oil","Renewables and wastes","Solar thermal","Solid biofuels excluding charcoal","Biogases","Ambient heat","Hydrogen"]
[null,null,null,null,null,null,null,null,null,null,null,null,null,{"$f":"VLOOKUP(N10, LanguageData, MATCH(LanguageChosen, Language[Language],0), FALSE)","v":"All Energy Products"},{"$f":"VLOOKUP(O10, LanguageData, MATCH(LanguageChosen, Language[Language],0), FALSE)","v":"Electricity"},{"$f":"VLOOKUP(P10, LanguageData, MATCH(LanguageChosen, Language[Language],0), FALSE)","v":"Derived heat"},{"$f":"VLOOKUP(Q10, LanguageData, MATCH(LanguageChosen, Language[Language],0), FALSE)","v":"Gas"},{"$f":"VLOOKUP(R10, LanguageData, MATCH(LanguageChosen, Language[Language],0), FALSE)","v":"Solid fossil fuels"},{"$f":"VLOOKUP(S10, LanguageData, MATCH(LanguageChosen, Language[Language],0), FALSE)","v":"Total oil and petroleum products"},{"$f":"VLOOKUP(T10, LanguageData, MATCH(LanguageChosen, Language[Language],0), FALSE)","v":"LPG"},{"$f":"VLOOKUP(U10, LanguageData, MATCH(LanguageChosen, Language[Language],0), FALSE)","v":"Other kerosene"},{"$f":"VLOOKUP(V10, LanguageData, MATCH(LanguageChosen, Language[Language],0), FALSE)","v":"Total gas/diesel oil"},{"$f":"VLOOKUP(W10, LanguageData, MATCH(LanguageChosen, Language[Language],0), FALSE)","v":"Renewables and wastes"},{"$f":"VLOOKUP(X10, LanguageData, MATCH(LanguageChosen, Language[Language],0), FALSE)","v":"Solar thermal"},{"$f":"VLOOKUP(Y10, LanguageData, MATCH(LanguageChosen, Language[Language],0), FALSE)","v":"Solid biofuels excluding charcoal"},{"$f":"VLOOKUP(Z10, LanguageData, MATCH(LanguageChosen, Language[Language],0), FALSE)","v":"Biogases"},{"$f":"VLOOKUP(AA10, LanguageData, MATCH(LanguageChosen, Language[Language],0), FALSE)","v":"Ambient heat"}]
[null,null,null,null,null,null,null,null,null,null,null,null,{"$f":"CountryName","v":"Germany"},"TJ (NCV)","GWh","TJ (NCV)","TJ (GCV)","kt","kt","kt","kt","kt","TJ (NCV)","TJ (NCV)","TJ (NCV)","TJ (NCV)","TJ (NCV)"]
["RESTOT","§[Product=ELEC#Item2=GWH]:[Product=HYDROGEN#Item2=TJ_NCV]§IF(Sum([Item1=SPACEHEAT], [Item1=SPACECOOL], [Item1=WATERHEAT], [Item1=COOK], [Item1=LIGHTAPP], [Item1=RESOTH])=0,\"\",Sum([Item1=SPACEHEAT], [Item1=SPACECOOL], [Item1=WATERHEAT], [Item1=COOK], [Item1=LIGHTAPP], [Item1=RESOTH]))","§[Product=SOLIDFUEL#ITEM2=KT]:[Product=GASOIL#ITEM2=KT]§AND([Item1=RESTOT]>0,[Item1=CALOR]<1)","If a value is reported, the equivalent Calorific Value\nshould also be reported","§[Product=OIL#Item2=KT]§< Sum([Product=LPG], [Product=KEROSENE], [Product=GASOIL])","Total oil & petroleum products is superior or \nequal to the sum of its disaggregated values",null,null,1,null,null,"Total Residential / Households",{"$f":"VLOOKUP(L13, LanguageData, MATCH(LanguageChosen, Language[Language],0), FALSE)","v":"Total Residential / Households"}]
["SPACEHEAT",null,null,null,"§[Product=OIL#Item2=KT]§< Sum([Product=LPG], [Product=KEROSENE], [Product=GASOIL])","Total oil & petroleum products is superior or \nequal to the sum of its disaggregated values",null,null,null,null,null,"Space heating",{"$f":"VLOOKUP(L14, LanguageData, MATCH(LanguageChosen, Language[Language],0), FALSE)","v":"Space heating"}]
["SPACECOOL",null,null,null,null,null,null,null,"§[Product=HEAT#Item2=TJ]:[Product=HYDROGEN#Item2=TJ_NCV]§",null,null,"Space cooling",{"$f":"VLOOKUP(L15, LanguageData, MATCH(LanguageChosen, Language[Language],0), FALSE)","v":"Space cooling"}]
["WATERHEAT",null,null,null,"§[Product=OIL#Item2=KT]§< Sum([Product=LPG], [Product=KEROSENE], [Product=GASOIL])","Total oil & petroleum products is superior or \nequal to the sum of its disaggregated values",null,null,null,null,null,"Water heating",{"$f":"VLOOKUP(L16, LanguageData, MATCH(LanguageChosen, Language[Language],0), FALSE)","v":"Water heating"}]
["COOK",null,null,null,"§[Product=OIL#Item2=KT]§< Sum([Product=LPG], [Product=KEROSENE], [Product=GASOIL])","Total oil & petroleum products is superior or \nequal to the sum of its disaggregated values",null,null,null,null,null,"Cooking",{"$f":"VLOOKUP(L17, LanguageData, MATCH(LanguageChosen, Language[Language],0), FALSE)","v":"Cooking"}]
["LIGHTAPP",null,null,null,null,null,null,null,"§[Product=HEAT#Item2=TJ]:[Product=HYDROGEN#Item2=TJ_NCV]§",null,null,"Lighting and appliances",{"$f":"VLOOKUP(L18, LanguageData, MATCH(LanguageChosen, Language[Language],0), FALSE)","v":"Lighting and appliances"}]
["RESOTH",null,null,null,"§[Product=OIL#Item2=KT]§< Sum([Product=LPG], [Product=KEROSENE], [Product=GASOIL])","Total oil & petroleum products is superior or \nequal to the sum of its disaggregated values",null,null,null,null,null,"Other end uses",{"$f":"VLOOKUP(L19, LanguageData, MATCH(LanguageChosen, Language[Language],0), FALSE)","v":"Other end uses"}]
["CALOR","§[Product=OIL#Item2=KT]§IF(OR([Product=LPG#Item2=KT]*sum([Product=LPG#Item1=RESTOT#Item2=KT])+[Product=KEROSENE#Item2=KT]*sum([Product=KEROSENE#Item1=RESTOT#Item2=KT])+[Product=GASOIL#Item2=KT]*sum([Product=GASOIL#Item1=RESTOT#Item2=KT])=0, sum([Product=OIL#Item1=RESTOT#Item2=KT])=0),\"\",([Product=LPG#Item2=KT]*sum([Product=LPG#Item1=RESTOT#Item2=KT])+[Product=KEROSENE#Item2=KT]*sum([Product=KEROSENE#Item1=RESTOT#Item2=KT])+[Product=GASOIL#Item2=KT]*sum([Product=GASOIL#Item1=RESTOT#Item2=KT]))/sum([Product=OIL#Item1=RESTOT#Item2=KT]))",null,null,null,null,null,null,"§[Product=ELEC#Item2=GWH]:[Product=GAS#Item2=TJ_GCV],[Product=RENEW#Item2=TJ]:[Product=HYDROGEN#Item2=TJ_NCV]§",null,null,"Calorific values",{"$f":"VLOOKUP(L20, LanguageData, MATCH(LanguageChosen, Language[Language],0), FALSE)","v":"Calorific values"}]

{"sheet":"TemplateTS1","index":24,"n_rows":21,"n_cols":28,"rows_kept":21,"cut":false,"hidden":true,"merged":[[0,13,0,26]]}
["Mode",null,null,null,null,null,null,null,null,null,"Table1: Final Energy Consumption in the Residential / Households Sector by type of end use",null,null,{"$f":"VLOOKUP(K1, LanguageData, MATCH(LanguageChosen, Language[Language],0), FALSE) &  \" - \" & VLOOKUP(K2, Param_Multilanguage!A:C, Param_Menu!$B$3+1, FALSE)","v":"Table1: Final Energy Consumption in the Residential / Households Sector by type of end use - Total Residential / Households"}]
["DataType","FINCONS",null,null,null,null,null,null,null,null,{"$f":"B3","v":"RESTOT"}]
["Item1","RESTOT",null,null,null,null,null,null,null,null,"FormulaRow",null,null,{"$f":"IF($B$3=\"RESTOT\",\"IF([ext:Item1=SPACEHEAT] + [ext:Item1=SPACECOOL] + [ext:Item1=WATERHEAT] + [ext:Item1=COOK] + [ext:Item1=LIGHTAPP] + [ext:Item1=RESOTH]=0,\"\"\"\",\"&\"[ext:Item1=SPACEHEAT] + [ext:Item1=SPACECOOL] + [ext:Item1=WATERHEAT] + [ext:Item1=COOK] + [ext:Item1=LIGHTAPP] + [ext:Item1=RESOTH])\",\"\")","v":"IF([ext:Item1=SPACEHEAT] + [ext:Item1=SPACECOOL] + [ext:Item1=WATERHEAT] + [ext:Item1=COOK] + [ext:Item1=LIGHTAPP] + [ext:Item1=RESOTH]=0,\"\",[ext:Item1=SPACEHEAT] + [ext:Item1=SPACECOOL] + [ext:Item1=WATERHEAT] + [ext:Item1=COOK] + [ext:Item1=LIGHTAPP] + [ext:Item1=RESOTH])"},{"$f":"IF($B$3=\"RESTOT\",\"IF([ext:Item1=SPACEHEAT] + [ext:Item1=SPACECOOL] + [ext:Item1=WATERHEAT] + [ext:Item1=COOK] + [ext:Item1=LIGHTAPP] + [ext:Item1=RESOTH]=0,\"\"\"\",\"&\"[ext:Item1=SPACEHEAT] + [ext:Item1=SPACECOOL] + [ext:Item1=WATERHEAT] + [ext:Item1=COOK] + [ext:Item1=LIGHTAPP] + [ext:Item1=RESOTH])\",\"\")","v":"IF([ext:Item1=SPACEHEAT] + [ext:Item1=SPACECOOL] + [ext:Item1=WATERHEAT] + [ext:Item1=COOK] + [ext:Item1=LIGHTAPP] + [ext:Item1=RESOTH]=0,\"\",[ext:Item1=SPACEHEAT] + [ext:Item1=SPACECOOL] + [ext:Item1=WATERHEAT] + [ext:Item1=COOK] + [ext:Item1=LIGHTAPP] + [ext:Item1=RESOTH])"},"IF([ext:Item1=SPACEHEAT] + [ext:Item1=SPACECOOL] + [ext:Item1=WATERHEAT] + [ext:Item1=COOK] + [ext:Item1=LIGHTAPP] + [ext:Item1=RESOTH]=0,\"\",[ext:Item1=SPACEHEAT] + [ext:Item1=SPACECOOL] + [ext:Item1=WATERHEAT] + [ext:Item1=COOK] + [ext:Item1=LIGHTAPP] + [ext:Item1=RESOTH])","IF([ext:Item1=SPACEHEAT] + [ext:Item1=SPACECOOL] + [ext:Item1=WATERHEAT] + [ext:Item1=COOK] + [ext:Item1=LIGHTAPP] + [ext:Item1=RESOTH]=0,\"\",[ext:Item1=SPACEHEAT] + [ext:Item1=SPACECOOL] + [ext:Item1=WATERHEAT] + [ext:Item1=COOK] + [ext:Item1=LIGHTAPP] + [ext:Item1=RESOTH])","IF([ext:Item1=SPACEHEAT] + [ext:Item1=SPACECOOL] + [ext:Item1=WATERHEAT] + [ext:Item1=COOK] + [ext:Item1=LIGHTAPP] + [ext:Item1=RESOTH]=0,\"\",[ext:Item1=SPACEHEAT] + [ext:Item1=SPACECOOL] + [ext:Item1=WATERHEAT] + [ext:Item1=COOK] + [ext:Item1=LIGHTAPP] + [ext:Item1=RESOTH])","IF([ext:Item1=SPACEHEAT] + [ext:Item1=SPACECOOL] + [ext:Item1=WATERHEAT] + [ext:Item1=COOK] + [ext:Item1=LIGHTAPP] + [ext:Item1=RESOTH]=0,\"\",[ext:Item1=SPACEHEAT] + [ext:Item1=SPACECOOL] + [ext:Item1=WATERHEAT] + [ext:Item1=COOK] + [ext:Item1=LIGHTAPP] + [ext:Item1=RESOTH])","IF([ext:Item1=SPACEHEAT] + [ext:Item1=SPACECOOL] + [ext:Item1=WATERHEAT] + [ext:Item1=COOK] + [ext:Item1=LIGHTAPP] + [ext:Item1=RESOTH]=0,\"\",[ext:Item1=SPACEHEAT] + [ext:Item1=SPACECOOL] + [ext:Item1=WATERHEAT] + [ext:Item1=COOK] + [ext:Item1=LIGHTAPP] + [ext:Item1=RESOTH])","IF([ext:Item1=SPACEHEAT] + [ext:Item1=SPACECOOL] + [ext:Item1=WATERHEAT] + [ext:Item1=COOK] + [ext:Item1=LIGHTAPP] + [ext:Item1=RESOTH]=0,\"\",[ext:Item1=SPACEHEAT] + [ext:Item1=SPACECOOL] + [ext:Item1=WATERHEAT] + [ext:Item1=COOK] + [ext:Item1=LIGHTAPP] + [ext:Item1=RESOTH])","IF([ext:Item1=SPACEHEAT] + [ext:Item1=SPACECOOL] + [ext:Item1=WATERHEAT] + [ext:Item1=COOK] + [ext:Item1=LIGHTAPP] + [ext:Item1=RESOTH]=0,\"\",[ext:Item1=SPACEHEAT] + [ext:Item1=SPACECOOL] + [ext:Item1=WATERHEAT] + [ext:Item1=COOK] + [ext:Item1=LIGHTAPP] + [ext:Item1=RESOTH])","IF([ext:Item1=SPACEHEAT] + [ext:Item1=SPACECOOL] + [ext:Item1=WATERHEAT] + [ext:Item1=COOK] + [ext:Item1=LIGHTAPP] + [ext:Item1=RESOTH]=0,\"\",[ext:Item1=SPACEHEAT] + [ext:Item1=SPACECOOL] + [ext:Item1=WATERHEAT] + [ext:Item1=COOK] + [ext:Item1=LIGHTAPP] + [ext:Item1=RESOTH])","IF([ext:Item1=SPACEHEAT] + [ext:Item1=SPACECOOL] + [ext:Item1=WATERHEAT] + [ext:Item1=COOK] + [ext:Item1=LIGHTAPP] + [ext:Item1=RESOTH]=0,\"\",[ext:Item1=SPACEHEAT] + [ext:Item1=SPACECOOL] + [ext:Item1=WATERHEAT] + [ext:Item1=COOK] + [ext:Item1=LIGHTAPP] + [ext:Item1=RESOTH])","IF([ext:Item1=SPACEHEAT] + [ext:Item1=SPACECOOL] + [ext:Item1=WATERHEAT] + [ext:Item1=COOK] + [ext:Item1=LIGHTAPP] + [ext:Item1=RESOTH]=0,\"\",[ext:Item1=SPACEHEAT] + [ext:Item1=SPACECOOL] + [ext:Item1=WATERHEAT] + [ext:Item1=COOK] + [ext:Item1=LIGHTAPP] + [ext:Item1=RESOTH])","IF([ext:Item1=SPACEHEAT] + [ext:Item1=SPACECOOL] + [ext:Item1=WATERHEAT] + [ext:Item1=COOK] + [ext:Item1=LIGHTAPP] + [ext:Item1=RESOTH]=0,\"\",[ext:Item1=SPACEHEAT] + [ext:Item1=SPACECOOL] + [ext:Item1=WATERHEAT] + [ext:Item1=COOK] + [ext:Item1=LIGHTAPP] + [ext:Item1=RESOTH])","IF([ext:Item1=SPACEHEAT] + [ext:Item1=SPACECOOL] + [ext:Item1=WATERHEAT] + [ext:Item1=COOK] + [ext:Item1=LIGHTAPP] + [ext:Item1=RESOTH]=0,\"\",[ext:Item1=SPACEHEAT] + [ext:Item1=SPACECOOL] + [ext:Item1=WATERHEAT] + [ext:Item1=COOK] + [ext:Item1=LIGHTAPP] + [ext:Item1=RESOTH])","IF([ext:Item1=SPACEHEAT] + [ext:Item1=SPACECOOL] + [ext:Item1=WATERHEAT] + [ext:Item1=COOK] + [ext:Item1=LIGHTAPP] + [ext:Item1=RESOTH]=0,\"\",[ext:Item1=SPACEHEAT] + [ext:Item1=SPACECOOL] + [ext:Item1=WATERHEAT] + [ext:Item1=COOK] + [ext:Item1=LIGHTAPP] + [ext:Item1=RESOTH])"]
[null,null,null,null,null,null,null,null,null,null,"LockedRow",null,null,{"$f":"SW($B$3,\"SPACECOOL\",\"§[Product=HEAT#Item2=TJ]:[Product=HYDROGEN#Item2=TJ_NCV]§\",\"LIGHTAPP\",\"§[Product=HEAT#Item2=TJ]:[Product=HYDROGEN#Item2=TJ_NCV]§\",\"RESTOT\",\"1\",\"\")","v":"1"},{"$f":"SW($B$3,\"SPACECOOL\",\"§[Product=HEAT#Item2=TJ]:[Product=HYDROGEN#Item2=TJ_NCV]§\",\"LIGHTAPP\",\"§[Product=HEAT#Item2=TJ]:[Product=HYDROGEN#Item2=TJ_NCV]§\",\"RESTOT\",\"1\",\"\")","v":"1"},"1","1","1","1","1","1","1","1","1","1","1","1","1"]
[null,null,null,null,null,null,null,null,null,null,"EmptyRow"]
[null,null,null,null,null,null,null,null,null,null,"VoluntaryRow"]
["Product","Item2","FormulaCol","CheckCol1","LabelCheckCol1","CheckCol2","LabelCheckCol2","LockedCol","EmptyCol","VoluntaryCol","Label",{"$f":"CountryName","v":"Germany"},"Unit",2010,2011,2012,2013,2014,2015,2016,2017,2018,2019,2020,2021,2022,2023,2024]
["ELEC","GWH",null,null,null,null,null,"",null,null,"Electricity",{"$f":"VLOOKUP(K8, LanguageData, MATCH(LanguageChosen, Language[Language],0), FALSE)","v":"Electricity"},"GWh"]
["HEAT","TJ",null,null,null,null,null,"",null,null,"Derived heat",{"$f":"VLOOKUP(K9, LanguageData, MATCH(LanguageChosen, Language[Language],0), FALSE)","v":"Derived heat"},"TJ (NCV)"]
["GAS","TJ_GCV",null,null,null,null,null,"",null,null,"Gas",{"$f":"VLOOKUP(K10, LanguageData, MATCH(LanguageChosen, Language[Language],0), FALSE)","v":"Gas"},"TJ (GCV)"]
["SOLIDFUEL","KT",null,"AND([Product=SOLIDFUEL]> 0,[ext:Product=SOLIDFUEL#Item1=CALOR#Item2=KT]= 0)","If a value is reported, the equivalent Calorific Value\nshould also be reported",null,null,"",null,null,"Solid fossil fuels",{"$f":"VLOOKUP(K11, LanguageData, MATCH(LanguageChosen, Language[Language],0), FALSE)","v":"Solid fossil fuels"},"kt"]
["OIL","KT",{"$f":"IF(OR($B$3=\"SPACECOOL\",$B$3=\"LIGHTAPP\",$B$3=\"CALOR\"),\"\",\"IF(Sum([Product=LPG], [Product=KEROSENE], [Product=GASOIL])=0,\"\"\"\",Sum([Product=LPG], [Product=KEROSENE], [Product=GASOIL]))\")","v":"IF(Sum([Product=LPG], [Product=KEROSENE], [Product=GASOIL])=0,\"\",Sum([Product=LPG], [Product=KEROSENE], [Product=GASOIL]))"},"AND([Product=OIL]> 0,[ext:Product=OIL#Item1=CALOR#Item2=KT]= 0)","If a value is reported, the equivalent Calorific Value\nshould also be reported","< [Product=LPG]+[Product=KEROSENE]+[Product=GASOIL]","Total oil & petroleum products is superior or \nequal to the sum of its disaggregated values","",null,null,"Total oil and petroleum products",{"$f":"VLOOKUP(K12, LanguageData, MATCH(LanguageChosen, Language[Language],0), FALSE)","v":"Total oil and petroleum products"},"kt"]
["LPG","KT",null,"AND([Product=LPG]> 0,[ext:Product=LPG#Item1=CALOR#Item2=KT]= 0)","If a value is reported, the equivalent Calorific Value\nshould also be reported",null,null,"",null,null,"LPG",{"$f":"VLOOKUP(K13, LanguageData, MATCH(LanguageChosen, Language[Language],0), FALSE)","v":"LPG"},"kt"]
["KEROSENE","KT",null,"AND([Product=KEROSENE]> 0,[ext:Product=KEROSENE#Item1=CALOR#Item2=KT]= 0)","If a value is reported, the equivalent Calorific Value\nshould also be reported",null,null,"",null,null,"Other kerosene",{"$f":"VLOOKUP(K14, LanguageData, MATCH(LanguageChosen, Language[Language],0), FALSE)","v":"Other kerosene"},"kt"]
["GASOIL","KT",null,"AND([Product=GASOIL]> 0,[ext:Product=GASOIL#Item1=CALOR#Item2=KT]= 0)","If a value is reported, the equivalent Calorific Value\nshould also be reported",null,null,"",null,null,"Total gas/diesel oil",{"$f":"VLOOKUP(K15, LanguageData, MATCH(LanguageChosen, Language[Language],0), FALSE)","v":"Total gas/diesel oil"},"kt"]
["RENEW","TJ",{"$f":"IF(OR($B$3=\"SPACECOOL\",$B$3=\"LIGHTAPP\",$B$3=\"CALOR\"),\"\",\"IF(Sum([Product=SOLARTH], [Product=BIOFUEL], [Product=BIOGASES], [Product=AMBIANT])=0,\"\"\"\",Sum([Product=SOLARTH], [Product=BIOFUEL], [Product=BIOGASES], [Product=AMBIANT]))\")","v":"IF(Sum([Product=SOLARTH], [Product=BIOFUEL], [Product=BIOGASES], [Product=AMBIANT])=0,\"\",Sum([Product=SOLARTH], [Product=BIOFUEL], [Product=BIOGASES], [Product=AMBIANT]))"},"< [Product=SOLARTH#Item2=TJ] + [Product=BIOFUEL#Item2=TJ] +  [Product=BIOGASES#Item2=TJ] + [Product=AMBIANT#Item2=TJ]","Total renewables & wastes is superior or \nequal to the sum of its disaggregated values",null,null,"",null,null,"Renewables and wastes",{"$f":"VLOOKUP(K16, LanguageData, MATCH(LanguageChosen, Language[Language],0), FALSE)","v":"Renewables and wastes"},"TJ (NCV)"]
["SOLARTH","TJ",null,null,null,null,null,"",null,null,"Solar thermal",{"$f":"VLOOKUP(K17, LanguageData, MATCH(LanguageChosen, Language[Language],0), FALSE)","v":"Solar thermal"},"TJ (NCV)"]
["BIOFUEL","TJ",null,null,null,null,null,"",null,null,"Solid biofuels excluding charcoal",{"$f":"VLOOKUP(K18, LanguageData, MATCH(LanguageChosen, Language[Language],0), FALSE)","v":"Solid biofuels excluding charcoal"},"TJ (NCV)"]
["BIOGASES","TJ",null,null,null,null,null,"",null,null,"Biogases",{"$f":"VLOOKUP(K19, LanguageData, MATCH(LanguageChosen, Language[Language],0), FALSE)","v":"Biogases"},"TJ (NCV)"]
["AMBIANT","TJ",null,null,null,null,null,"",null,null,"Ambient heat",{"$f":"VLOOKUP(K20, LanguageData, MATCH(LanguageChosen, Language[Language],0), FALSE)","v":"Ambient heat"},"TJ (NCV)"]
["HYDROGEN","TJ_NCV",null,null,null,null,null,1,null,null,"Hydrogen"]

{"sheet":"TemplateTS1_TOT","index":25,"n_rows":21,"n_cols":43,"rows_kept":21,"cut":false,"hidden":true,"merged":[]}
["Mode",null,null,null,null,null,null,null,null,null,"Table1: Final Energy Consumption in the Residential / Households Sector by type of end use",null,null,null,{"$f":"VLOOKUP(K1, LanguageData, MATCH(LanguageChosen, Language[Language],0), FALSE) &  \" - \" & VLOOKUP(B3, Param_Multilanguage!A1:C28, Param_Menu!$B$3+1, FALSE)","v":"Table1: Final Energy Consumption in the Residential / Households Sector by type of end use - Total Residential / Households"}]
["DataType","FINCONS",null,null,null,null,null,null,null,null,"Item1",null,null,{"$f":"$B$3 &\"_PRE\"","v":"RESTOT_PRE"},{"$f":"$B$3","v":"RESTOT"},{"$f":"$B$3 &\"_PRE\"","v":"RESTOT_PRE"},{"$f":"$B$3","v":"RESTOT"},{"$f":"$B$3 &\"_PRE\"","v":"RESTOT_PRE"},{"$f":"$B$3","v":"RESTOT"},{"$f":"$B$3 &\"_PRE\"","v":"RESTOT_PRE"},{"$f":"$B$3","v":"RESTOT"},{"$f":"$B$3 &\"_PRE\"","v":"RESTOT_PRE"},{"$f":"$B$3","v":"RESTOT"},{"$f":"$B$3 &\"_PRE\"","v":"RESTOT_PRE"},{"$f":"$B$3","v":"RESTOT"},{"$f":"$B$3 &\"_PRE\"","v":"RESTOT_PRE"},{"$f":"$B$3","v":"RESTOT"},{"$f":"$B$3 &\"_PRE\"","v":"RESTOT_PRE"},{"$f":"$B$3","v":"RESTOT"},{"$f":"$B$3 &\"_PRE\"","v":"RESTOT_PRE"},{"$f":"$B$3","v":"RESTOT"},{"$f":"$B$3 &\"_PRE\"","v":"RESTOT_PRE"},{"$f":"$B$3","v":"RESTOT"},{"$f":"$B$3 &\"_PRE\"","v":"RESTOT_PRE"},{"$f":"$B$3","v":"RESTOT"},{"$f":"$B$3 &\"_PRE\"","v":"RESTOT_PRE"},{"$f":"$B$3","v":"RESTOT"},{"$f":"$B$3 &\"_PRE\"","v":"RESTOT_PRE"},{"$f":"$B$3","v":"RESTOT"},{"$f":"$B$3 &\"_PRE\"","v":"RESTOT_PRE"},"RESTOT","RESTOT_PRE",{"$f":"$B$3","v":"RESTOT"}]
["Version","RESTOT",null,null,null,null,null,null,null,null,"FormulaRow",null,null,null,"SumListBlank([ext:Item1=SPACEHEAT], [ext:Item1=SPACECOOL], [ext:Item1=WATERHEAT], [ext:Item1=COOK], [ext:Item1=LIGHTAPP], [ext:Item1=RESOTH])",null,"SumListBlank([ext:Item1=SPACEHEAT], [ext:Item1=SPACECOOL], [ext:Item1=WATERHEAT], [ext:Item1=COOK], [ext:Item1=LIGHTAPP], [ext:Item1=RESOTH])",null,"SumListBlank([ext:Item1=SPACEHEAT], [ext:Item1=SPACECOOL], [ext:Item1=WATERHEAT], [ext:Item1=COOK], [ext:Item1=LIGHTAPP], [ext:Item1=RESOTH])",null,"SumListBlank([ext:Item1=SPACEHEAT], [ext:Item1=SPACECOOL], [ext:Item1=WATERHEAT], [ext:Item1=COOK], [ext:Item1=LIGHTAPP], [ext:Item1=RESOTH])",null,"SumListBlank([ext:Item1=SPACEHEAT], [ext:Item1=SPACECOOL], [ext:Item1=WATERHEAT], [ext:Item1=COOK], [ext:Item1=LIGHTAPP], [ext:Item1=RESOTH])",null,"SumListBlank([ext:Item1=SPACEHEAT], [ext:Item1=SPACECOOL], [ext:Item1=WATERHEAT], [ext:Item1=COOK], [ext:Item1=LIGHTAPP], [ext:Item1=RESOTH])",null,"SumListBlank([ext:Item1=SPACEHEAT], [ext:Item1=SPACECOOL], [ext:Item1=WATERHEAT], [ext:Item1=COOK], [ext:Item1=LIGHTAPP], [ext:Item1=RESOTH])",null,"SumListBlank([ext:Item1=SPACEHEAT], [ext:Item1=SPACECOOL], [ext:Item1=WATERHEAT], [ext:Item1=COOK], [ext:Item1=LIGHTAPP], [ext:Item1=RESOTH])",null,"SumListBlank([ext:Item1=SPACEHEAT], [ext:Item1=SPACECOOL], [ext:Item1=WATERHEAT], [ext:Item1=COOK], [ext:Item1=LIGHTAPP], [ext:Item1=RESOTH])",null,"SumListBlank([ext:Item1=SPACEHEAT], [ext:Item1=SPACECOOL], [ext:Item1=WATERHEAT], [ext:Item1=COOK], [ext:Item1=LIGHTAPP], [ext:Item1=RESOTH])",null,"SumListBlank([ext:Item1=SPACEHEAT], [ext:Item1=SPACECOOL], [ext:Item1=WATERHEAT], [ext:Item1=COOK], [ext:Item1=LIGHTAPP], [ext:Item1=RESOTH])",null,"SumListBlank([ext:Item1=SPACEHEAT], [ext:Item1=SPACECOOL], [ext:Item1=WATERHEAT], [ext:Item1=COOK], [ext:Item1=LIGHTAPP], [ext:Item1=RESOTH])",null,"SumListBlank([ext:Item1=SPACEHEAT], [ext:Item1=SPACECOOL], [ext:Item1=WATERHEAT], [ext:Item1=COOK], [ext:Item1=LIGHTAPP], [ext:Item1=RESOTH])",null,"SumListBlank([ext:Item1=SPACEHEAT], [ext:Item1=SPACECOOL], [ext:Item1=WATERHEAT], [ext:Item1=COOK], [ext:Item1=LIGHTAPP], [ext:Item1=RESOTH])",null,"SumListBlank([ext:Item1=SPACEHEAT], [ext:Item1=SPACECOOL], [ext:Item1=WATERHEAT], [ext:Item1=COOK], [ext:Item1=LIGHTAPP], [ext:Item1=RESOTH])"]
[null,null,null,null,null,null,null,null,null,null,"LockedRow",null,null,1,{"$f":"SW($B$3,\n\"SPACECOOL\",\"§[Product=HEAT#Item2=TJ]:[Product=HYDROGEN#Item2=TJ_NCV]§\",\n\"LIGHTAPP\",\"§[Product=HEAT#Item2=TJ]:[Product=HYDROGEN#Item2=TJ_NCV]§\",\n\"RESTOT\",\"1\",\"\")","v":"1"},1,{"$f":"SW($B$3,\"SPACECOOL\",\"§[Product=HEAT#Item2=TJ]:[Product=HYDROGEN#Item2=TJ_NCV]§\",\"LIGHTAPP\",\"§[Product=HEAT#Item2=TJ]:[Product=HYDROGEN#Item2=TJ_NCV]§\",\"RESTOT\",\"1\",\"\")","v":"1"},1,"1",1,"1",1,"1",1,"1",1,"1",1,"1",1,"1",1,"1",1,"1",1,"1",1,"1",1,"1",1,"1"]
[null,null,null,null,null,null,null,null,null,null,"Time",null,null,2010,2010,2011,2011,2012,2012,2013,2013,2014,2014,2015,2015,2016,2016,2017,2017,2018,2018,2019,2019,2020,2020,2021,2021,2022,2022,2023,2023,2024,2024]
[null,null,null,null,null,null,null,null,null,null,"SourceRow",null,null,"H",null,"H",null,"H",null,"H",null,"H",null,"H",null,"H",null,"H",null,"H",null,"H",null,"H",null,"H",null,"H",null,"H",null,"H"]
["Product","Item2","FormulaCol","CheckCol1","LabelCheckCol1","CheckCol2","LabelCheckCol2","LockedCol","EmptyCol","VoluntaryCol","Label",{"$f":"CountryName","v":"Germany"},"Unit",{"$f":"\"Other annual questionnaire data - \"&O7","v":"Other annual questionnaire data - 2010"},2010,{"$f":"\"Other annual questionnaire data - \"&Q7","v":"Other annual questionnaire data - 2011"},2011,{"$f":"\"Other annual questionnaire data - \"&S7","v":"Other annual questionnaire data - 2012"},2012,{"$f":"\"Other annual questionnaire data - \"&U7","v":"Other annual questionnaire data - 2013"},2013,{"$f":"\"Other annual questionnaire data - \"&W7","v":"Other annual questionnaire data - 2014"},2014,{"$f":"\"Other annual questionnaire data - \"&Y7","v":"Other annual questionnaire data - 2015"},2015,{"$f":"\"Other annual questionnaire data - \"&AA7","v":"Other annual questionnaire data - 2016"},2016,{"$f":"\"Other annual questionnaire data - \"&AC7","v":"Other annual questionnaire data - 2017"},2017,{"$f":"\"Other annual questionnaire data - \"&AE7","v":"Other annual questionnaire data - 2018"},2018,{"$f":"\"Other annual questionnaire data - \"&AG7","v":"Other annual questionnaire data - 2019"},2019,{"$f":"\"Other annual questionnaire data - \"&AI7","v":"Other annual questionnaire data - 2020"},2020,{"$f":"\"Other annual questionnaire data - \"&AK7","v":"Other annual questionnaire data - 2021"},2021,{"$f":"\"Other annual questionnaire data - \"&AM7","v":"Other annual questionnaire data - 2022"},2022,{"$f":"\"Other annual questionnaire data - \"&AO7","v":"Other annual questionnaire data - 2023"},2023,{"$f":"\"Other annual questionnaire data - \"&AQ7","v":"Other annual questionnaire data - 2024"},2024]
["ELEC","GWH",null,null,null,null,null,null,null,null,"Electricity",{"$f":"VLOOKUP(K8, LanguageData, MATCH(LanguageChosen, Language[Language],0), FALSE)","v":"Electricity"},"GWh"]
["HEAT","TJ",null,null,null,null,null,null,null,null,"Derived heat",{"$f":"VLOOKUP(K9, LanguageData, MATCH(LanguageChosen, Language[Language],0), FALSE)","v":"Derived heat"},"TJ (NCV)"]
["GAS","TJ_GCV",null,null,null,null,null,null,null,null,"Gas",{"$f":"VLOOKUP(K10, LanguageData, MATCH(LanguageChosen, Language[Language],0), FALSE)","v":"Gas"},"TJ (GCV)"]
["SOLIDFUEL","KT",null,"§[Item1=RESTOT]§AND([Product=SOLIDFUEL]> 0,[ext:Product=SOLIDFUEL#Item1=CALOR#Item2=KT]= 0)","If a value is reported, the equivalent Calorific Value\nshould also be reported",null,null,null,null,null,"Solid fossil fuels",{"$f":"VLOOKUP(K11, LanguageData, MATCH(LanguageChosen, Language[Language],0), FALSE)","v":"Solid fossil fuels"},"kt"]
["OIL","KT",null,"§[Item1=RESTOT]§AND([Product=OIL]> 0,[ext:Product=OIL#Item1=CALOR#Item2=KT]= 0)","If a value is reported, the equivalent Calorific Value\nshould also be reported","§[Item1=RESTOT]§< [Product=LPG]+[Product=KEROSENE]+[Product=GASOIL]","Total oil & petroleum products is superior or \nequal to the sum of its disaggregated values",null,null,null,"Total oil and petroleum products",{"$f":"VLOOKUP(K12, LanguageData, MATCH(LanguageChosen, Language[Language],0), FALSE)","v":"Total oil and petroleum products"},"kt"]
["LPG","KT",null,"§[Item1=RESTOT]§AND([Product=LPG]> 0,[ext:Product=LPG#Item1=CALOR#Item2=KT]= 0)","If a value is reported, the equivalent Calorific Value\nshould also be reported",null,null,null,null,null,"LPG",{"$f":"VLOOKUP(K13, LanguageData, MATCH(LanguageChosen, Language[Language],0), FALSE)","v":"LPG"},"kt"]
["KEROSENE","KT",null,"§[Item1=RESTOT]§AND([Product=KEROSENE]> 0,[ext:Product=KEROSENE#Item1=CALOR#Item2=KT]= 0)","If a value is reported, the equivalent Calorific Value\nshould also be reported",null,null,null,null,null,"Other kerosene",{"$f":"VLOOKUP(K14, LanguageData, MATCH(LanguageChosen, Language[Language],0), FALSE)","v":"Other kerosene"},"kt"]
["GASOIL","KT",null,"§[Item1=RESTOT]§AND([Product=GASOIL]> 0,[ext:Product=GASOIL#Item1=CALOR#Item2=KT]= 0)","If a value is reported, the equivalent Calorific Value\nshould also be reported",null,null,null,null,null,"Total gas/diesel oil",{"$f":"VLOOKUP(K15, LanguageData, MATCH(LanguageChosen, Language[Language],0), FALSE)","v":"Total gas/diesel oil"},"kt"]
["RENEW","TJ",null,"§[Item1=RESTOT]§< [Product=SOLARTH#Item2=TJ] + [Product=BIOFUEL#Item2=TJ] +  [Product=BIOGASES#Item2=TJ] + [Product=AMBIANT#Item2=TJ]","Total renewables & wastes is superior or \nequal to the sum of its disaggregated values",null,null,null,null,null,"Renewables and wastes",{"$f":"VLOOKUP(K16, LanguageData, MATCH(LanguageChosen, Language[Language],0), FALSE)","v":"Renewables and wastes"},"TJ (NCV)"]
["SOLARTH","TJ",null,null,null,null,null,null,null,null,"Solar thermal",{"$f":"VLOOKUP(K17, LanguageData, MATCH(LanguageChosen, Language[Language],0), FALSE)","v":"Solar thermal"},"TJ (NCV)"]
["BIOFUEL","TJ",null,null,null,null,null,null,null,null,"Solid biofuels excluding charcoal",{"$f":"VLOOKUP(K18, LanguageData, MATCH(LanguageChosen, Language[Language],0), FALSE)","v":"Solid biofuels excluding charcoal"},"TJ (NCV)"]
["BIOGASES","TJ",null,null,null,null,null,null,null,null,"Biogases",{"$f":"VLOOKUP(K19, LanguageData, MATCH(LanguageChosen, Language[Language],0), FALSE)","v":"Biogases"},"TJ (NCV)"]
["AMBIANT","TJ",null,null,null,null,null,null,null,null,"Ambient heat",{"$f":"VLOOKUP(K20, LanguageData, MATCH(LanguageChosen, Language[Language],0), FALSE)","v":"Ambient heat"},"TJ (NCV)"]
["HYDROGEN","TJ_NCV",null,null,null,null,null,1,null,null,"Hydrogen"]

{"sheet":"TemplateCalorific_Values","index":26,"n_rows":12,"n_cols":27,"rows_kept":12,"cut":false,"hidden":true,"merged":[[0,12,2,23]]}
["Mode",null,null,null,null,null,null,null,null,"Table2: Final Energy Consumption in the Residential / Households Sector by type of end use - Calorific values (MJ/t)",null,null,{"$f":"VLOOKUP(J1, LanguageData, MATCH(LanguageChosen, Language[Language],0), FALSE)","v":"Table2: Final Energy Consumption in the Residential / Households Sector by type of end use - Calorific values (MJ/t)"}]
["DataType","FINCONS"]
["Item1","CALOR"]
["Item2","KT",null,null,null,null,null,null,null,"LockedRow"]
[null,null,null,null,null,null,null,null,null,"EmptyRow"]
[null,null,null,null,null,null,null,null,null,"VoluntaryRow"]
["Product","FormulaCol","CheckCol1","LabelCheckCol1","CheckCol2","LabelCheckCol2","LockedCol","EmptyCol","VoluntaryCol","Label",{"$f":"CountryName","v":"Germany"},"Unit",2010,2011,2012,2013,2014,2015,2016,2017,2018,2019,2020,2021,2022,2023,2024]
["SOLIDFUEL",null,"AND(OR([Product=SOLIDFUEL]=0),OR([ext:Product=SOLIDFUEL#Item1=SPACEHEAT]>0,[ext:Product=SOLIDFUEL#Item1=SPACECOOL]>0,[ext:Product=SOLIDFUEL#Item1=WATERHEAT]>0,[ext:Product=SOLIDFUEL#Item1=COOK]>0,[ext:Product=SOLIDFUEL#Item1=LIGHTAPP]>0,[ext:Product=SOLIDFUEL#Item1=RESOTH]>0))","If a value is reported for Solid fossil fuels, the \nequivalent Calorific Value should also be reported","^AND(OR([Product=SOLIDFUEL]< 14000,[Product=SOLIDFUEL]>30000),[Product=SOLIDFUEL]<>0)","Calorific value for Solid fossil fuels should be \nbetween 14 000 and 30 000 MJ/t",null,null,null,"Solid fossil fuels",{"$f":"VLOOKUP(J8, LanguageData, MATCH(LanguageChosen, Language[Language],0), FALSE)","v":"Solid fossil fuels"},"MJ/t"]
["OIL","IF(OR([Product=LPG]*[ext:Product=LPG#Item1=RESTOT]+[Product=KEROSENE]*[ext:Product=KEROSENE#Item1=RESTOT]+[Product=GASOIL]*[ext:Product=GASOIL#Item1=RESTOT]=0,[ext:Product=OIL#Item1=RESTOT]=0),\n\"\",([Product=LPG]*[ext:Product=LPG#Item1=RESTOT]+[Product=KEROSENE]*[ext:Product=KEROSENE#Item1=RESTOT]+[Product=GASOIL]*[ext:Product=GASOIL#Item1=RESTOT])/[ext:Product=OIL#Item1=RESTOT])","AND(OR([Product=OIL]=0),OR([ext:Product=OIL#Item1=SPACEHEAT]>0,[ext:Product=OIL#Item1=SPACECOOL]>0,[ext:Product=OIL#Item1=WATERHEAT]>0,[ext:Product=OIL#Item1=COOK]>0,[ext:Product=OIL#Item1=LIGHTAPP]>0,[ext:Product=OIL#Item1=RESOTH]>0))","If a value is reported for Solid fossil fuels, the \nequivalent Calorific Value should also be reported","^AND(OR([Product=OIL]< 40000,[Product=OIL]>49000),[Product=OIL]<>0)","Calorific value for Total oil and petroleum products \nshould be between 40 000 and 49 000 MJ/t",null,null,null,"Total oil and petroleum products",{"$f":"VLOOKUP(J9, LanguageData, MATCH(LanguageChosen, Language[Language],0), FALSE)","v":"Total oil and petroleum products"},"MJ/t"]
["LPG",null,"AND(OR([Product=LPG]=0),OR([ext:Product=LPG#Item1=SPACEHEAT]>0,[ext:Product=LPG#Item1=SPACECOOL]>0,[ext:Product=LPG#Item1=WATERHEAT]>0,[ext:Product=LPG#Item1=COOK]>0,[ext:Product=LPG#Item1=LIGHTAPP]>0,[ext:Product=LPG#Item1=RESOTH]>0))","If a value is reported for Solid fossil fuels, the \nequivalent Calorific Value should also be reported","^AND(OR([Product=LPG]< 43000,[Product=LPG]>49000),[Product=LPG]<>0)","Calorific value for LPG should be between 43 000 and 49 000 MJ/t",null,null,null,"LPG",{"$f":"VLOOKUP(J10, LanguageData, MATCH(LanguageChosen, Language[Language],0), FALSE)","v":"LPG"},"MJ/t"]
["KEROSENE",null,"AND(OR([Product=KEROSENE]=0),OR([ext:Product=KEROSENE#Item1=SPACEHEAT]>0,[ext:Product=KEROSENE#Item1=SPACECOOL]>0,[ext:Product=KEROSENE#Item1=WATERHEAT]>0,[ext:Product=KEROSENE#Item1=COOK]>0,[ext:Product=KEROSENE#Item1=LIGHTAPP]>0,[ext:Product=KEROSENE#Item1=RESOTH]>0))","If a value is reported for Solid fossil fuels, the \nequivalent Calorific Value should also be reported","^AND(OR([Product=KEROSENE]< 41000,[Product=KEROSENE]>45000),[Product=KEROSENE]<>0)","Calorific value for Other kerosene should be \nbetween 41 000 and 45 000 MJ/t",null,null,null,"Other kerosene",{"$f":"VLOOKUP(J11, LanguageData, MATCH(LanguageChosen, Language[Language],0), FALSE)","v":"Other kerosene"},"MJ/t"]
["GASOIL",null,"AND(OR([Product=GASOIL]=0),OR([ext:Product=GASOIL#Item1=SPACEHEAT]>0,[ext:Product=GASOILL#Item1=SPACECOOL]>0,[ext:Product=GASOIL#Item1=WATERHEAT]>0,[ext:Product=GASOIL#Item1=COOK]>0,[ext:Product=GASOIL#Item1=LIGHTAPP]>0,[ext:Product=GASOIL#Item1=RESOTH]>0))","If a value is reported for Solid fossil fuels, the \nequivalent Calorific Value should also be reported","^AND(OR([Product=GASOIL]< 40000,[Product=GASOIL]>45000),[Product=GASOIL]<>0)","Calorific value for Total gas/diesel oil should be \nbetween 40 000 and 45 000 MJ/t",null,null,null,"Total gas/diesel oil",{"$f":"VLOOKUP(J12, LanguageData, MATCH(LanguageChosen, Language[Language],0), FALSE)","v":"Total gas/diesel oil"},"MJ/t"]

{"sheet":"TemplateRemarks","index":27,"n_rows":35,"n_cols":5,"rows_kept":35,"cut":false,"hidden":true,"merged":[]}
["Mode","Remarks"]
["DataType",null,null,null,{"$f":"VLOOKUP(B1, LanguageData, MATCH(LanguageChosen, Language[Language],0), FALSE)","v":"Remarks"}]
["Product",null,null,{"$f":"CountryName","v":"Germany"}]
["Time"]
["Item2",null,"TypeRow",null,"txt"]
[]
["Item1",null,"Label"]
["REMROW01",null,"Remarks 1"]
["REMROW02",null,"Remarks 2"]
["REMROW03",null,"Remarks 3"]
["REMROW04",null,"Remarks 4"]
["REMROW05",null,"Remarks 5"]
["REMROW06",null,"Remarks 6"]
["REMROW07",null,"Remarks 7"]
["REMROW08",null,"Remarks 8"]
["REMROW09",null,"Remarks 9"]
["REMROW10",null,"Remarks 10"]
["REMROW11",null,"Remarks 11"]
["REMROW12",null,"Remarks 12"]
["REMROW13",null,"Remarks 13"]
["REMROW14",null,"Remarks 14"]
["REMROW15",null,"Remarks 15"]
["REMROW16",null,"Remarks 16"]
["REMROW17",null,"Remarks 17"]
["REMROW18",null,"Remarks 18"]
["REMROW19",null,"Remarks 19"]
["REMROW20",null,"Remarks 20"]
["REMROW21",null,"Remarks 21"]
["REMROW22",null,"Remarks 22"]
["REMROW23",null,"Remarks 23"]
["REMROW24",null,"Remarks 24"]
["REMROW25",null,"Remarks 25"]
["REMROW26",null,"Remarks 26"]
["REMROW27",null,"Remarks 27"]
["REMROW28",null,"Remarks 28"]

{"sheet":"TemplateRemarksTS","index":28,"n_rows":35,"n_cols":19,"rows_kept":35,"cut":false,"hidden":true,"merged":[]}
["Mode","Remarks"]
["DataType",null,null,null,{"$f":"VLOOKUP(B1, LanguageData, MATCH(LanguageChosen, Language[Language],0), FALSE)","v":"Remarks"}]
["Product"]
[]
["Item2",null,"typeRow",null,"txt","txt","txt","txt","txt","txt","txt","txt","txt","txt","txt","txt","txt","txt","txt"]
[null,null,"Time",{"$f":"CountryName","v":"Germany"},2010,2011,2012,2013,2014,2015,2016,2017,2018,2019,2020,2021,2022,"2023","2024"]
["Item1",null,"Label"]
["REMROW01",null,"Remarks 1"]
["REMROW02",null,"Remarks 2"]
["REMROW03",null,"Remarks 3"]
["REMROW04",null,"Remarks 4"]
["REMROW05",null,"Remarks 5"]
["REMROW06",null,"Remarks 6"]
["REMROW07",null,"Remarks 7"]
["REMROW08",null,"Remarks 8"]
["REMROW09",null,"Remarks 9"]
["REMROW10",null,"Remarks 10"]
["REMROW11",null,"Remarks 11"]
["REMROW12",null,"Remarks 12"]
["REMROW13",null,"Remarks 13"]
["REMROW14",null,"Remarks 14"]
["REMROW15",null,"Remarks 15"]
["REMROW16",null,"Remarks 16"]
["REMROW17",null,"Remarks 17"]
["REMROW18",null,"Remarks 18"]
["REMROW19",null,"Remarks 19"]
["REMROW20",null,"Remarks 20"]
["REMROW21",null,"Remarks 21"]
["REMROW22",null,"Remarks 22"]
["REMROW23",null,"Remarks 23"]
["REMROW24",null,"Remarks 24"]
["REMROW25",null,"Remarks 25"]
["REMROW26",null,"Remarks 26"]
["REMROW27",null,"Remarks 27"]
["REMROW28",null,"Remarks 28"]

{"sheet":"TemplateGraph","index":29,"n_rows":1372,"n_cols":27,"rows_kept":1372,"cut":false,"hidden":true,"merged":[]}
["Mode",null,null,null,null,null,null,"Table1: Final Energy Consumption in the Residential / Households Sector by type of end use",null,null,null,null,null,null,{"$f":"CountryName & \" - \" & VLOOKUP(H1, LanguageData, Param_Menu!$B$3, FALSE)","v":"Germany - Table1: Final Energy Consumption in the Residential / Households Sector by type of end use"}]
["DataType","FINCONS",null,null,null,null,null,{"$f":"B3","v":"SPACEHEAT"},null,{"$f":"CountryName","v":"Germany"}]
["Item1","SPACEHEAT"]
[null,null,null,null,null,null,null,"LockedRow",null,null,null,1]
[null,null,null,null,null,null,null,"EmptyRow"]
[null,null,null,null,null,null,null,"VoluntaryRow"]
["Product","Item2","FormulaCol","Item1","LockedCol","EmptyCol","VoluntaryCol","Label","Flow","Product","Time","Value"]
["ELEC","GWH",null,"SPACEHEAT",null,null,null,"Electricity",{"$f":"VLOOKUP(D8, Param_Multilanguage!A:C, Param_Menu!$B$3+1, FALSE)","v":"Space heating"},{"$f":"VLOOKUP(H8,LanguageData,MATCH(LanguageChosen,Language[Language],0),FALSE) & \" - \" & B8","v":"Electricity - GWH"},2010]
["HEAT","TJ",null,"SPACEHEAT","",null,null,"Derived heat",{"$f":"VLOOKUP(D9, Param_Multilanguage!A:C, Param_Menu!$B$3+1, FALSE)","v":"Space heating"},{"$f":"VLOOKUP(H9,LanguageData,MATCH(LanguageChosen,Language[Language],0),FALSE) & \" - \" & B9","v":"Derived heat - TJ"},2010]
["GAS","TJ_GCV",null,"SPACEHEAT","",null,null,"Gas",{"$f":"VLOOKUP(D10, Param_Multilanguage!A:C, Param_Menu!$B$3+1, FALSE)","v":"Space heating"},{"$f":"VLOOKUP(H10,LanguageData,MATCH(LanguageChosen,Language[Language],0),FALSE) & \" - \" & B10","v":"Gas - TJ_GCV"},2010]
["SOLIDFUEL","KT",null,"SPACEHEAT","",null,null,"Solid fossil fuels",{"$f":"VLOOKUP(D11, Param_Multilanguage!A:C, Param_Menu!$B$3+1, FALSE)","v":"Space heating"},{"$f":"VLOOKUP(H11,LanguageData,MATCH(LanguageChosen,Language[Language],0),FALSE) & \" - \" & B11","v":"Solid fossil fuels - KT"},2010]
["OIL","KT",null,"SPACEHEAT","",null,null,"Total oil and petroleum products",{"$f":"VLOOKUP(D12, Param_Multilanguage!A:C, Param_Menu!$B$3+1, FALSE)","v":"Space heating"},{"$f":"VLOOKUP(H12,LanguageData,MATCH(LanguageChosen,Language[Language],0),FALSE) & \" - \" & B12","v":"Total oil and petroleum products - KT"},2010]
["LPG","KT",null,"SPACEHEAT","",null,null,"LPG",{"$f":"VLOOKUP(D13, Param_Multilanguage!A:C, Param_Menu!$B$3+1, FALSE)","v":"Space heating"},{"$f":"VLOOKUP(H13,LanguageData,MATCH(LanguageChosen,Language[Language],0),FALSE) & \" - \" & B13","v":"LPG - KT"},2010]
["KEROSENE","KT",null,"SPACEHEAT","",null,null,"Other kerosene",{"$f":"VLOOKUP(D14, Param_Multilanguage!A:C, Param_Menu!$B$3+1, FALSE)","v":"Space heating"},{"$f":"VLOOKUP(H14,LanguageData,MATCH(LanguageChosen,Language[Language],0),FALSE) & \" - \" & B14","v":"Other kerosene - KT"},2010]
["GASOIL","KT",null,"SPACEHEAT","",null,null,"Total gas/diesel oil",{"$f":"VLOOKUP(D15, Param_Multilanguage!A:C, Param_Menu!$B$3+1, FALSE)","v":"Space heating"},{"$f":"VLOOKUP(H15,LanguageData,MATCH(LanguageChosen,Language[Language],0),FALSE) & \" - \" & B15","v":"Total gas/diesel oil - KT"},2010]
["RENEW","TJ",null,"SPACEHEAT","",null,null,"Renewables and wastes",{"$f":"VLOOKUP(D16, Param_Multilanguage!A:C, Param_Menu!$B$3+1, FALSE)","v":"Space heating"},{"$f":"VLOOKUP(H16,LanguageData,MATCH(LanguageChosen,Language[Language],0),FALSE) & \" - \" & B16","v":"Renewables and wastes - TJ"},2010]
["SOLARTH","TJ",null,"SPACEHEAT","",null,null,"Solar thermal",{"$f":"VLOOKUP(D17, Param_Multilanguage!A:C, Param_Menu!$B$3+1, FALSE)","v":"Space heating"},{"$f":"VLOOKUP(H17,LanguageData,MATCH(LanguageChosen,Language[Language],0),FALSE) & \" - \" & B17","v":"Solar thermal - TJ"},2010]
["BIOFUEL","TJ",null,"SPACEHEAT","",null,null,"Solid biofuels excluding charcoal",{"$f":"VLOOKUP(D18, Param_Multilanguage!A:C, Param_Menu!$B$3+1, FALSE)","v":"Space heating"},{"$f":"VLOOKUP(H18,LanguageData,MATCH(LanguageChosen,Language[Language],0),FALSE) & \" - \" & B18","v":"Solid biofuels excluding charcoal - TJ"},2010]
["BIOGASES","TJ",null,"SPACEHEAT","",null,null,"Biogases",{"$f":"VLOOKUP(D19, Param_Multilanguage!A:C, Param_Menu!$B$3+1, FALSE)","v":"Space heating"},{"$f":"VLOOKUP(H19,LanguageData,MATCH(LanguageChosen,Language[Language],0),FALSE) & \" - \" & B19","v":"Biogases - TJ"},2010]
["AMBIANT","TJ",null,"SPACEHEAT","",null,null,"Ambient heat",{"$f":"VLOOKUP(D20, Param_Multilanguage!A:C, Param_Menu!$B$3+1, FALSE)","v":"Space heating"},{"$f":"VLOOKUP(H20,LanguageData,MATCH(LanguageChosen,Language[Language],0),FALSE) & \" - \" & B20","v":"Ambient heat - TJ"},2010]
["ELEC","GWH",null,"SPACECOOL",null,null,null,"Electricity",{"$f":"VLOOKUP(D21, Param_Multilanguage!A:C, Param_Menu!$B$3+1, FALSE)","v":"Space cooling"},{"$f":"VLOOKUP(H21,LanguageData,MATCH(LanguageChosen,Language[Language],0),FALSE) & \" - \" & B21","v":"Electricity - GWH"},2010]
["HEAT","TJ",null,"SPACECOOL","",null,null,"Derived heat",{"$f":"VLOOKUP(D22, Param_Multilanguage!A:C, Param_Menu!$B$3+1, FALSE)","v":"Space cooling"},{"$f":"VLOOKUP(H22,LanguageData,MATCH(LanguageChosen,Language[Language],0),FALSE) & \" - \" & B22","v":"Derived heat - TJ"},2010]
["GAS","TJ_GCV",null,"SPACECOOL","",null,null,"Gas",{"$f":"VLOOKUP(D23, Param_Multilanguage!A:C, Param_Menu!$B$3+1, FALSE)","v":"Space cooling"},{"$f":"VLOOKUP(H23,LanguageData,MATCH(LanguageChosen,Language[Language],0),FALSE) & \" - \" & B23","v":"Gas - TJ_GCV"},2010]
["SOLIDFUEL","KT",null,"SPACECOOL","",null,null,"Solid fossil fuels",{"$f":"VLOOKUP(D24, Param_Multilanguage!A:C, Param_Menu!$B$3+1, FALSE)","v":"Space cooling"},{"$f":"VLOOKUP(H24,LanguageData,MATCH(LanguageChosen,Language[Language],0),FALSE) & \" - \" & B24","v":"Solid fossil fuels - KT"},2010]
["OIL","KT",null,"SPACECOOL","",null,null,"Total oil and petroleum products",{"$f":"VLOOKUP(D25, Param_Multilanguage!A:C, Param_Menu!$B$3+1, FALSE)","v":"Space cooling"},{"$f":"VLOOKUP(H25,LanguageData,MATCH(LanguageChosen,Language[Language],0),FALSE) & \" - \" & B25","v":"Total oil and petroleum products - KT"},2010]
["LPG","KT",null,"SPACECOOL","",null,null,"LPG",{"$f":"VLOOKUP(D26, Param_Multilanguage!A:C, Param_Menu!$B$3+1, FALSE)","v":"Space cooling"},{"$f":"VLOOKUP(H26,LanguageData,MATCH(LanguageChosen,Language[Language],0),FALSE) & \" - \" & B26","v":"LPG - KT"},2010]
["KEROSENE","KT",null,"SPACECOOL","",null,null,"Other kerosene",{"$f":"VLOOKUP(D27, Param_Multilanguage!A:C, Param_Menu!$B$3+1, FALSE)","v":"Space cooling"},{"$f":"VLOOKUP(H27,LanguageData,MATCH(LanguageChosen,Language[Language],0),FALSE) & \" - \" & B27","v":"Other kerosene - KT"},2010]
["GASOIL","KT",null,"SPACECOOL","",null,null,"Total gas/diesel oil",{"$f":"VLOOKUP(D28, Param_Multilanguage!A:C, Param_Menu!$B$3+1, FALSE)","v":"Space cooling"},{"$f":"VLOOKUP(H28,LanguageData,MATCH(LanguageChosen,Language[Language],0),FALSE) & \" - \" & B28","v":"Total gas/diesel oil - KT"},2010]
["RENEW","TJ",null,"SPACECOOL","",null,null,"Renewables and wastes",{"$f":"VLOOKUP(D29, Param_Multilanguage!A:C, Param_Menu!$B$3+1, FALSE)","v":"Space cooling"},{"$f":"VLOOKUP(H29,LanguageData,MATCH(LanguageChosen,Language[Language],0),FALSE) & \" - \" & B29","v":"Renewables and wastes - TJ"},2010]
["SOLARTH","TJ",null,"SPACECOOL","",null,null,"Solar thermal",{"$f":"VLOOKUP(D30, Param_Multilanguage!A:C, Param_Menu!$B$3+1, FALSE)","v":"Space cooling"},{"$f":"VLOOKUP(H30,LanguageData,MATCH(LanguageChosen,Language[Language],0),FALSE) & \" - \" & B30","v":"Solar thermal - TJ"},2010]
["BIOFUEL","TJ",null,"SPACECOOL","",null,null,"Solid biofuels excluding charcoal",{"$f":"VLOOKUP(D31, Param_Multilanguage!A:C, Param_Menu!$B$3+1, FALSE)","v":"Space cooling"},{"$f":"VLOOKUP(H31,LanguageData,MATCH(LanguageChosen,Language[Language],0),FALSE) & \" - \" & B31","v":"Solid biofuels excluding charcoal - TJ"},2010]
["BIOGASES","TJ",null,"SPACECOOL","",null,null,"Biogases",{"$f":"VLOOKUP(D32, Param_Multilanguage!A:C, Param_Menu!$B$3+1, FALSE)","v":"Space cooling"},{"$f":"VLOOKUP(H32,LanguageData,MATCH(LanguageChosen,Language[Language],0),FALSE) & \" - \" & B32","v":"Biogases - TJ"},2010]
["AMBIANT","TJ",null,"SPACECOOL","",null,null,"Ambient heat",{"$f":"VLOOKUP(D33, Param_Multilanguage!A:C, Param_Menu!$B$3+1, FALSE)","v":"Space cooling"},{"$f":"VLOOKUP(H33,LanguageData,MATCH(LanguageChosen,Language[Language],0),FALSE) & \" - \" & B33","v":"Ambient heat - TJ"},2010]
["ELEC","GWH",null,"WATERHEAT",null,null,null,"Electricity",{"$f":"VLOOKUP(D34, Param_Multilanguage!A:C, Param_Menu!$B$3+1, FALSE)","v":"Water heating"},{"$f":"VLOOKUP(H34,LanguageData,MATCH(LanguageChosen,Language[Language],0),FALSE) & \" - \" & B34","v":"Electricity - GWH"},2010]
["HEAT","TJ",null,"WATERHEAT","",null,null,"Derived heat",{"$f":"VLOOKUP(D35, Param_Multilanguage!A:C, Param_Menu!$B$3+1, FALSE)","v":"Water heating"},{"$f":"VLOOKUP(H35,LanguageData,MATCH(LanguageChosen,Language[Language],0),FALSE) & \" - \" & B35","v":"Derived heat - TJ"},2010]
["GAS","TJ_GCV",null,"WATERHEAT","",null,null,"Gas",{"$f":"VLOOKUP(D36, Param_Multilanguage!A:C, Param_Menu!$B$3+1, FALSE)","v":"Water heating"},{"$f":"VLOOKUP(H36,LanguageData,MATCH(LanguageChosen,Language[Language],0),FALSE) & \" - \" & B36","v":"Gas - TJ_GCV"},2010]
["SOLIDFUEL","KT",null,"WATERHEAT","",null,null,"Solid fossil fuels",{"$f":"VLOOKUP(D37, Param_Multilanguage!A:C, Param_Menu!$B$3+1, FALSE)","v":"Water heating"},{"$f":"VLOOKUP(H37,LanguageData,MATCH(LanguageChosen,Language[Language],0),FALSE) & \" - \" & B37","v":"Solid fossil fuels - KT"},2010]
["OIL","KT",null,"WATERHEAT","",null,null,"Total oil and petroleum products",{"$f":"VLOOKUP(D38, Param_Multilanguage!A:C, Param_Menu!$B$3+1, FALSE)","v":"Water heating"},{"$f":"VLOOKUP(H38,LanguageData,MATCH(LanguageChosen,Language[Language],0),FALSE) & \" - \" & B38","v":"Total oil and petroleum products - KT"},2010]
["LPG","KT",null,"WATERHEAT","",null,null,"LPG",{"$f":"VLOOKUP(D39, Param_Multilanguage!A:C, Param_Menu!$B$3+1, FALSE)","v":"Water heating"},{"$f":"VLOOKUP(H39,LanguageData,MATCH(LanguageChosen,Language[Language],0),FALSE) & \" - \" & B39","v":"LPG - KT"},2010]
["KEROSENE","KT",null,"WATERHEAT","",null,null,"Other kerosene",{"$f":"VLOOKUP(D40, Param_Multilanguage!A:C, Param_Menu!$B$3+1, FALSE)","v":"Water heating"},{"$f":"VLOOKUP(H40,LanguageData,MATCH(LanguageChosen,Language[Language],0),FALSE) & \" - \" & B40","v":"Other kerosene - KT"},2010]
["GASOIL","KT",null,"WATERHEAT","",null,null,"Total gas/diesel oil",{"$f":"VLOOKUP(D41, Param_Multilanguage!A:C, Param_Menu!$B$3+1, FALSE)","v":"Water heating"},{"$f":"VLOOKUP(H41,LanguageData,MATCH(LanguageChosen,Language[Language],0),FALSE) & \" - \" & B41","v":"Total gas/diesel oil - KT"},2010]
["RENEW","TJ",null,"WATERHEAT","",null,null,"Renewables and wastes",{"$f":"VLOOKUP(D42, Param_Multilanguage!A:C, Param_Menu!$B$3+1, FALSE)","v":"Water heating"},{"$f":"VLOOKUP(H42,LanguageData,MATCH(LanguageChosen,Language[Language],0),FALSE) & \" - \" & B42","v":"Renewables and wastes - TJ"},2010]
["SOLARTH","TJ",null,"WATERHEAT","",null,null,"Solar thermal",{"$f":"VLOOKUP(D43, Param_Multilanguage!A:C, Param_Menu!$B$3+1, FALSE)","v":"Water heating"},{"$f":"VLOOKUP(H43,LanguageData,MATCH(LanguageChosen,Language[Language],0),FALSE) & \" - \" & B43","v":"Solar thermal - TJ"},2010]
["BIOFUEL","TJ",null,"WATERHEAT","",null,null,"Solid biofuels excluding charcoal",{"$f":"VLOOKUP(D44, Param_Multilanguage!A:C, Param_Menu!$B$3+1, FALSE)","v":"Water heating"},{"$f":"VLOOKUP(H44,LanguageData,MATCH(LanguageChosen,Language[Language],0),FALSE) & \" - \" & B44","v":"Solid biofuels excluding charcoal - TJ"},2010]
["BIOGASES","TJ",null,"WATERHEAT","",null,null,"Biogases",{"$f":"VLOOKUP(D45, Param_Multilanguage!A:C, Param_Menu!$B$3+1, FALSE)","v":"Water heating"},{"$f":"VLOOKUP(H45,LanguageData,MATCH(LanguageChosen,Language[Language],0),FALSE) & \" - \" & B45","v":"Biogases - TJ"},2010]
["AMBIANT","TJ",null,"WATERHEAT","",null,null,"Ambient heat",{"$f":"VLOOKUP(D46, Param_Multilanguage!A:C, Param_Menu!$B$3+1, FALSE)","v":"Water heating"},{"$f":"VLOOKUP(H46,LanguageData,MATCH(LanguageChosen,Language[Language],0),FALSE) & \" - \" & B46","v":"Ambient heat - TJ"},2010]
["ELEC","GWH",null,"COOK",null,null,null,"Electricity",{"$f":"VLOOKUP(D47, Param_Multilanguage!A:C, Param_Menu!$B$3+1, FALSE)","v":"Cooking"},{"$f":"VLOOKUP(H47,LanguageData,MATCH(LanguageChosen,Language[Language],0),FALSE) & \" - \" & B47","v":"Electricity - GWH"},2010]
["HEAT","TJ",null,"COOK","",null,null,"Derived heat",{"$f":"VLOOKUP(D48, Param_Multilanguage!A:C, Param_Menu!$B$3+1, FALSE)","v":"Cooking"},{"$f":"VLOOKUP(H48,LanguageData,MATCH(LanguageChosen,Language[Language],0),FALSE) & \" - \" & B48","v":"Derived heat - TJ"},2010]
["GAS","TJ_GCV",null,"COOK","",null,null,"Gas",{"$f":"VLOOKUP(D49, Param_Multilanguage!A:C, Param_Menu!$B$3+1, FALSE)","v":"Cooking"},{"$f":"VLOOKUP(H49,LanguageData,MATCH(LanguageChosen,Language[Language],0),FALSE) & \" - \" & B49","v":"Gas - TJ_GCV"},2010]
["SOLIDFUEL","KT",null,"COOK","",null,null,"Solid fossil fuels",{"$f":"VLOOKUP(D50, Param_Multilanguage!A:C, Param_Menu!$B$3+1, FALSE)","v":"Cooking"},{"$f":"VLOOKUP(H50,LanguageData,MATCH(LanguageChosen,Language[Language],0),FALSE) & \" - \" & B50","v":"Solid fossil fuels - KT"},2010]
["OIL","KT",null,"COOK","",null,null,"Total oil and petroleum products",{"$f":"VLOOKUP(D51, Param_Multilanguage!A:C, Param_Menu!$B$3+1, FALSE)","v":"Cooking"},{"$f":"VLOOKUP(H51,LanguageData,MATCH(LanguageChosen,Language[Language],0),FALSE) & \" - \" & B51","v":"Total oil and petroleum products - KT"},2010]
["LPG","KT",null,"COOK","",null,null,"LPG",{"$f":"VLOOKUP(D52, Param_Multilanguage!A:C, Param_Menu!$B$3+1, FALSE)","v":"Cooking"},{"$f":"VLOOKUP(H52,LanguageData,MATCH(LanguageChosen,Language[Language],0),FALSE) & \" - \" & B52","v":"LPG - KT"},2010]
["KEROSENE","KT",null,"COOK","",null,null,"Other kerosene",{"$f":"VLOOKUP(D53, Param_Multilanguage!A:C, Param_Menu!$B$3+1, FALSE)","v":"Cooking"},{"$f":"VLOOKUP(H53,LanguageData,MATCH(LanguageChosen,Language[Language],0),FALSE) & \" - \" & B53","v":"Other kerosene - KT"},2010]
["GASOIL","KT",null,"COOK","",null,null,"Total gas/diesel oil",{"$f":"VLOOKUP(D54, Param_Multilanguage!A:C, Param_Menu!$B$3+1, FALSE)","v":"Cooking"},{"$f":"VLOOKUP(H54,LanguageData,MATCH(LanguageChosen,Language[Language],0),FALSE) & \" - \" & B54","v":"Total gas/diesel oil - KT"},2010]
["RENEW","TJ",null,"COOK","",null,null,"Renewables and wastes",{"$f":"VLOOKUP(D55, Param_Multilanguage!A:C, Param_Menu!$B$3+1, FALSE)","v":"Cooking"},{"$f":"VLOOKUP(H55,LanguageData,MATCH(LanguageChosen,Language[Language],0),FALSE) & \" - \" & B55","v":"Renewables and wastes - TJ"},2010]
["SOLARTH","TJ",null,"COOK","",null,null,"Solar thermal",{"$f":"VLOOKUP(D56, Param_Multilanguage!A:C, Param_Menu!$B$3+1, FALSE)","v":"Cooking"},{"$f":"VLOOKUP(H56,LanguageData,MATCH(LanguageChosen,Language[Language],0),FALSE) & \" - \" & B56","v":"Solar thermal - TJ"},2010]
["BIOFUEL","TJ",null,"COOK","",null,null,"Solid biofuels excluding charcoal",{"$f":"VLOOKUP(D57, Param_Multilanguage!A:C, Param_Menu!$B$3+1, FALSE)","v":"Cooking"},{"$f":"VLOOKUP(H57,LanguageData,MATCH(LanguageChosen,Language[Language],0),FALSE) & \" - \" & B57","v":"Solid biofuels excluding charcoal - TJ"},2010]
["BIOGASES","TJ",null,"COOK","",null,null,"Biogases",{"$f":"VLOOKUP(D58, Param_Multilanguage!A:C, Param_Menu!$B$3+1, FALSE)","v":"Cooking"},{"$f":"VLOOKUP(H58,LanguageData,MATCH(LanguageChosen,Language[Language],0),FALSE) & \" - \" & B58","v":"Biogases - TJ"},2010]
["AMBIANT","TJ",null,"COOK","",null,null,"Ambient heat",{"$f":"VLOOKUP(D59, Param_Multilanguage!A:C, Param_Menu!$B$3+1, FALSE)","v":"Cooking"},{"$f":"VLOOKUP(H59,LanguageData,MATCH(LanguageChosen,Language[Language],0),FALSE) & \" - \" & B59","v":"Ambient heat - TJ"},2010]
["ELEC","GWH",null,"LIGHTAPP",null,null,null,"Electricity",{"$f":"VLOOKUP(D60, Param_Multilanguage!A:C, Param_Menu!$B$3+1, FALSE)","v":"Lighting and appliances"},{"$f":"VLOOKUP(H60,LanguageData,MATCH(LanguageChosen,Language[Language],0),FALSE) & \" - \" & B60","v":"Electricity - GWH"},2010]
["HEAT","TJ",null,"LIGHTAPP","",null,null,"Derived heat",{"$f":"VLOOKUP(D61, Param_Multilanguage!A:C, Param_Menu!$B$3+1, FALSE)","v":"Lighting and appliances"},{"$f":"VLOOKUP(H61,LanguageData,MATCH(LanguageChosen,Language[Language],0),FALSE) & \" - \" & B61","v":"Derived heat - TJ"},2010]
["GAS","TJ_GCV",null,"LIGHTAPP","",null,null,"Gas",{"$f":"VLOOKUP(D62, Param_Multilanguage!A:C, Param_Menu!$B$3+1, FALSE)","v":"Lighting and appliances"},{"$f":"VLOOKUP(H62,LanguageData,MATCH(LanguageChosen,Language[Language],0),FALSE) & \" - \" & B62","v":"Gas - TJ_GCV"},2010]
["SOLIDFUEL","KT",null,"LIGHTAPP","",null,null,"Solid fossil fuels",{"$f":"VLOOKUP(D63, Param_Multilanguage!A:C, Param_Menu!$B$3+1, FALSE)","v":"Lighting and appliances"},{"$f":"VLOOKUP(H63,LanguageData,MATCH(LanguageChosen,Language[Language],0),FALSE) & \" - \" & B63","v":"Solid fossil fuels - KT"},2010]
["OIL","KT",null,"LIGHTAPP","",null,null,"Total oil and petroleum products",{"$f":"VLOOKUP(D64, Param_Multilanguage!A:C, Param_Menu!$B$3+1, FALSE)","v":"Lighting and appliances"},{"$f":"VLOOKUP(H64,LanguageData,MATCH(LanguageChosen,Language[Language],0),FALSE) & \" - \" & B64","v":"Total oil and petroleum products - KT"},2010]
["LPG","KT",null,"LIGHTAPP","",null,null,"LPG",{"$f":"VLOOKUP(D65, Param_Multilanguage!A:C, Param_Menu!$B$3+1, FALSE)","v":"Lighting and appliances"},{"$f":"VLOOKUP(H65,LanguageData,MATCH(LanguageChosen,Language[Language],0),FALSE) & \" - \" & B65","v":"LPG - KT"},2010]
["KEROSENE","KT",null,"LIGHTAPP","",null,null,"Other kerosene",{"$f":"VLOOKUP(D66, Param_Multilanguage!A:C, Param_Menu!$B$3+1, FALSE)","v":"Lighting and appliances"},{"$f":"VLOOKUP(H66,LanguageData,MATCH(LanguageChosen,Language[Language],0),FALSE) & \" - \" & B66","v":"Other kerosene - KT"},2010]
["GASOIL","KT",null,"LIGHTAPP","",null,null,"Total gas/diesel oil",{"$f":"VLOOKUP(D67, Param_Multilanguage!A:C, Param_Menu!$B$3+1, FALSE)","v":"Lighting and appliances"},{"$f":"VLOOKUP(H67,LanguageData,MATCH(LanguageChosen,Language[Language],0),FALSE) & \" - \" & B67","v":"Total gas/diesel oil - KT"},2010]
["RENEW","TJ",null,"LIGHTAPP","",null,null,"Renewables and wastes",{"$f":"VLOOKUP(D68, Param_Multilanguage!A:C, Param_Menu!$B$3+1, FALSE)","v":"Lighting and appliances"},{"$f":"VLOOKUP(H68,LanguageData,MATCH(LanguageChosen,Language[Language],0),FALSE) & \" - \" & B68","v":"Renewables and wastes - TJ"},2010]
["SOLARTH","TJ",null,"LIGHTAPP","",null,null,"Solar thermal",{"$f":"VLOOKUP(D69, Param_Multilanguage!A:C, Param_Menu!$B$3+1, FALSE)","v":"Lighting and appliances"},{"$f":"VLOOKUP(H69,LanguageData,MATCH(LanguageChosen,Language[Language],0),FALSE) & \" - \" & B69","v":"Solar thermal - TJ"},2010]
["BIOFUEL","TJ",null,"LIGHTAPP","",null,null,"Solid biofuels excluding charcoal",{"$f":"VLOOKUP(D70, Param_Multilanguage!A:C, Param_Menu!$B$3+1, FALSE)","v":"Lighting and appliances"},{"$f":"VLOOKUP(H70,LanguageData,MATCH(LanguageChosen,Language[Language],0),FALSE) & \" - \" & B70","v":"Solid biofuels excluding charcoal - TJ"},2010]
["BIOGASES","TJ",null,"LIGHTAPP","",null,null,"Biogases",{"$f":"VLOOKUP(D71, Param_Multilanguage!A:C, Param_Menu!$B$3+1, FALSE)","v":"Lighting and appliances"},{"$f":"VLOOKUP(H71,LanguageData,MATCH(LanguageChosen,Language[Language],0),FALSE) & \" - \" & B71","v":"Biogases - TJ"},2010]
["AMBIANT","TJ",null,"LIGHTAPP","",null,null,"Ambient heat",{"$f":"VLOOKUP(D72, Param_Multilanguage!A:C, Param_Menu!$B$3+1, FALSE)","v":"Lighting and appliances"},{"$f":"VLOOKUP(H72,LanguageData,MATCH(LanguageChosen,Language[Language],0),FALSE) & \" - \" & B72","v":"Ambient heat - TJ"},2010]
["ELEC","GWH",null,"RESOTH",null,null,null,"Electricity",{"$f":"VLOOKUP(D73, Param_Multilanguage!A:C, Param_Menu!$B$3+1, FALSE)","v":"Other end uses"},{"$f":"VLOOKUP(H73,LanguageData,MATCH(LanguageChosen,Language[Language],0),FALSE) & \" - \" & B73","v":"Electricity - GWH"},2010]
["HEAT","TJ",null,"RESOTH","",null,null,"Derived heat",{"$f":"VLOOKUP(D74, Param_Multilanguage!A:C, Param_Menu!$B$3+1, FALSE)","v":"Other end uses"},{"$f":"VLOOKUP(H74,LanguageData,MATCH(LanguageChosen,Language[Language],0),FALSE) & \" - \" & B74","v":"Derived heat - TJ"},2010]
["GAS","TJ_GCV",null,"RESOTH","",null,null,"Gas",{"$f":"VLOOKUP(D75, Param_Multilanguage!A:C, Param_Menu!$B$3+1, FALSE)","v":"Other end uses"},{"$f":"VLOOKUP(H75,LanguageData,MATCH(LanguageChosen,Language[Language],0),FALSE) & \" - \" & B75","v":"Gas - TJ_GCV"},2010]
["SOLIDFUEL","KT",null,"RESOTH","",null,null,"Solid fossil fuels",{"$f":"VLOOKUP(D76, Param_Multilanguage!A:C, Param_Menu!$B$3+1, FALSE)","v":"Other end uses"},{"$f":"VLOOKUP(H76,LanguageData,MATCH(LanguageChosen,Language[Language],0),FALSE) & \" - \" & B76","v":"Solid fossil fuels - KT"},2010]
["OIL","KT",null,"RESOTH","",null,null,"Total oil and petroleum products",{"$f":"VLOOKUP(D77, Param_Multilanguage!A:C, Param_Menu!$B$3+1, FALSE)","v":"Other end uses"},{"$f":"VLOOKUP(H77,LanguageData,MATCH(LanguageChosen,Language[Language],0),FALSE) & \" - \" & B77","v":"Total oil and petroleum products - KT"},2010]
["LPG","KT",null,"RESOTH","",null,null,"LPG",{"$f":"VLOOKUP(D78, Param_Multilanguage!A:C, Param_Menu!$B$3+1, FALSE)","v":"Other end uses"},{"$f":"VLOOKUP(H78,LanguageData,MATCH(LanguageChosen,Language[Language],0),FALSE) & \" - \" & B78","v":"LPG - KT"},2010]
["KEROSENE","KT",null,"RESOTH","",null,null,"Other kerosene",{"$f":"VLOOKUP(D79, Param_Multilanguage!A:C, Param_Menu!$B$3+1, FALSE)","v":"Other end uses"},{"$f":"VLOOKUP(H79,LanguageData,MATCH(LanguageChosen,Language[Language],0),FALSE) & \" - \" & B79","v":"Other kerosene - KT"},2010]
["GASOIL","KT",null,"RESOTH","",null,null,"Total gas/diesel oil",{"$f":"VLOOKUP(D80, Param_Multilanguage!A:C, Param_Menu!$B$3+1, FALSE)","v":"Other end uses"},{"$f":"VLOOKUP(H80,LanguageData,MATCH(LanguageChosen,Language[Language],0),FALSE) & \" - \" & B80","v":"Total gas/diesel oil - KT"},2010]
["RENEW","TJ",null,"RESOTH","",null,null,"Renewables and wastes",{"$f":"VLOOKUP(D81, Param_Multilanguage!A:C, Param_Menu!$B$3+1, FALSE)","v":"Other end uses"},{"$f":"VLOOKUP(H81,LanguageData,MATCH(LanguageChosen,Language[Language],0),FALSE) & \" - \" & B81","v":"Renewables and wastes - TJ"},2010]
["SOLARTH","TJ",null,"RESOTH","",null,null,"Solar thermal",{"$f":"VLOOKUP(D82, Param_Multilanguage!A:C, Param_Menu!$B$3+1, FALSE)","v":"Other end uses"},{"$f":"VLOOKUP(H82,LanguageData,MATCH(LanguageChosen,Language[Language],0),FALSE) & \" - \" & B82","v":"Solar thermal - TJ"},2010]
["BIOFUEL","TJ",null,"RESOTH","",null,null,"Solid biofuels excluding charcoal",{"$f":"VLOOKUP(D83, Param_Multilanguage!A:C, Param_Menu!$B$3+1, FALSE)","v":"Other end uses"},{"$f":"VLOOKUP(H83,LanguageData,MATCH(LanguageChosen,Language[Language],0),FALSE) & \" - \" & B83","v":"Solid biofuels excluding charcoal - TJ"},2010]
["BIOGASES","TJ",null,"RESOTH","",null,null,"Biogases",{"$f":"VLOOKUP(D84, Param_Multilanguage!A:C, Param_Menu!$B$3+1, FALSE)","v":"Other end uses"},{"$f":"VLOOKUP(H84,LanguageData,MATCH(LanguageChosen,Language[Language],0),FALSE) & \" - \" & B84","v":"Biogases - TJ"},2010]
["AMBIANT","TJ",null,"RESOTH","",null,null,"Ambient heat",{"$f":"VLOOKUP(D85, Param_Multilanguage!A:C, Param_Menu!$B$3+1, FALSE)","v":"Other end uses"},{"$f":"VLOOKUP(H85,LanguageData,MATCH(LanguageChosen,Language[Language],0),FALSE) & \" - \" & B85","v":"Ambient heat - TJ"},2010]
["ELEC","GWH",null,"SPACEHEAT",null,null,null,"Electricity",{"$f":"VLOOKUP(D86, Param_Multilanguage!A:C, Param_Menu!$B$3+1, FALSE)","v":"Space heating"},{"$f":"VLOOKUP(H86,LanguageData,MATCH(LanguageChosen,Language[Language],0),FALSE) & \" - \" & B86","v":"Electricity - GWH"},2011]
["HEAT","TJ",null,"SPACEHEAT","",null,null,"Derived heat",{"$f":"VLOOKUP(D87, Param_Multilanguage!A:C, Param_Menu!$B$3+1, FALSE)","v":"Space heating"},{"$f":"VLOOKUP(H87,LanguageData,MATCH(LanguageChosen,Language[Language],0),FALSE) & \" - \" & B87","v":"Derived heat - TJ"},2011]
["GAS","TJ_GCV",null,"SPACEHEAT","",null,null,"Gas",{"$f":"VLOOKUP(D88, Param_Multilanguage!A:C, Param_Menu!$B$3+1, FALSE)","v":"Space heating"},{"$f":"VLOOKUP(H88,LanguageData,MATCH(LanguageChosen,Language[Language],0),FALSE) & \" - \" & B88","v":"Gas - TJ_GCV"},2011]
["SOLIDFUEL","KT",null,"SPACEHEAT","",null,null,"Solid fossil fuels",{"$f":"VLOOKUP(D89, Param_Multilanguage!A:C, Param_Menu!$B$3+1, FALSE)","v":"Space heating"},{"$f":"VLOOKUP(H89,LanguageData,MATCH(LanguageChosen,Language[Language],0),FALSE) & \" - \" & B89","v":"Solid fossil fuels - KT"},2011]
["OIL","KT",null,"SPACEHEAT","",null,null,"Total oil and petroleum products",{"$f":"VLOOKUP(D90, Param_Multilanguage!A:C, Param_Menu!$B$3+1, FALSE)","v":"Space heating"},{"$f":"VLOOKUP(H90,LanguageData,MATCH(LanguageChosen,Language[Language],0),FALSE) & \" - \" & B90","v":"Total oil and petroleum products - KT"},2011]
["LPG","KT",null,"SPACEHEAT","",null,null,"LPG",{"$f":"VLOOKUP(D91, Param_Multilanguage!A:C, Param_Menu!$B$3+1, FALSE)","v":"Space heating"},{"$f":"VLOOKUP(H91,LanguageData,MATCH(LanguageChosen,Language[Language],0),FALSE) & \" - \" & B91","v":"LPG - KT"},2011]
["KEROSENE","KT",null,"SPACEHEAT","",null,null,"Other kerosene",{"$f":"VLOOKUP(D92, Param_Multilanguage!A:C, Param_Menu!$B$3+1, FALSE)","v":"Space heating"},{"$f":"VLOOKUP(H92,LanguageData,MATCH(LanguageChosen,Language[Language],0),FALSE) & \" - \" & B92","v":"Other kerosene - KT"},2011]
["GASOIL","KT",null,"SPACEHEAT","",null,null,"Total gas/diesel oil",{"$f":"VLOOKUP(D93, Param_Multilanguage!A:C, Param_Menu!$B$3+1, FALSE)","v":"Space heating"},{"$f":"VLOOKUP(H93,LanguageData,MATCH(LanguageChosen,Language[Language],0),FALSE) & \" - \" & B93","v":"Total gas/diesel oil - KT"},2011]
["RENEW","TJ",null,"SPACEHEAT","",null,null,"Renewables and wastes",{"$f":"VLOOKUP(D94, Param_Multilanguage!A:C, Param_Menu!$B$3+1, FALSE)","v":"Space heating"},{"$f":"VLOOKUP(H94,LanguageData,MATCH(LanguageChosen,Language[Language],0),FALSE) & \" - \" & B94","v":"Renewables and wastes - TJ"},2011]
["SOLARTH","TJ",null,"SPACEHEAT","",null,null,"Solar thermal",{"$f":"VLOOKUP(D95, Param_Multilanguage!A:C, Param_Menu!$B$3+1, FALSE)","v":"Space heating"},{"$f":"VLOOKUP(H95,LanguageData,MATCH(LanguageChosen,Language[Language],0),FALSE) & \" - \" & B95","v":"Solar thermal - TJ"},2011]
["BIOFUEL","TJ",null,"SPACEHEAT","",null,null,"Solid biofuels excluding charcoal",{"$f":"VLOOKUP(D96, Param_Multilanguage!A:C, Param_Menu!$B$3+1, FALSE)","v":"Space heating"},{"$f":"VLOOKUP(H96,LanguageData,MATCH(LanguageChosen,Language[Language],0),FALSE) & \" - \" & B96","v":"Solid biofuels excluding charcoal - TJ"},2011]
["BIOGASES","TJ",null,"SPACEHEAT","",null,null,"Biogases",{"$f":"VLOOKUP(D97, Param_Multilanguage!A:C, Param_Menu!$B$3+1, FALSE)","v":"Space heating"},{"$f":"VLOOKUP(H97,LanguageData,MATCH(LanguageChosen,Language[Language],0),FALSE) & \" - \" & B97","v":"Biogases - TJ"},2011]
["AMBIANT","TJ",null,"SPACEHEAT","",null,null,"Ambient heat",{"$f":"VLOOKUP(D98, Param_Multilanguage!A:C, Param_Menu!$B$3+1, FALSE)","v":"Space heating"},{"$f":"VLOOKUP(H98,LanguageData,MATCH(LanguageChosen,Language[Language],0),FALSE) & \" - \" & B98","v":"Ambient heat - TJ"},2011]
["ELEC","GWH",null,"SPACECOOL",null,null,null,"Electricity",{"$f":"VLOOKUP(D99, Param_Multilanguage!A:C, Param_Menu!$B$3+1, FALSE)","v":"Space cooling"},{"$f":"VLOOKUP(H99,LanguageData,MATCH(LanguageChosen,Language[Language],0),FALSE) & \" - \" & B99","v":"Electricity - GWH"},2011]
["HEAT","TJ",null,"SPACECOOL","",null,null,"Derived heat",{"$f":"VLOOKUP(D100, Param_Multilanguage!A:C, Param_Menu!$B$3+1, FALSE)","v":"Space cooling"},{"$f":"VLOOKUP(H100,LanguageData,MATCH(LanguageChosen,Language[Language],0),FALSE) & \" - \" & B100","v":"Derived heat - TJ"},2011,null,null,"Sum of Value","Column Labels"]
["GAS","TJ_GCV",null,"SPACECOOL","",null,null,"Gas",{"$f":"VLOOKUP(D101, Param_Multilanguage!A:C, Param_Menu!$B$3+1, FALSE)","v":"Space cooling"},{"$f":"VLOOKUP(H101,LanguageData,MATCH(LanguageChosen,Language[Language],0),FALSE) & \" - \" & B101","v":"Gas - TJ_GCV"},2011,null,null,null,"Electricity - GWH","LPG - KT","Other kerosene - KT","Solid fossil fuels - KT","Total gas/diesel oil - KT","Total oil and petroleum products - KT","Derived heat - TJ","Gas - TJ_GCV","Renewables and wastes - TJ","Solar thermal - TJ","Solid biofuels excluding charcoal - TJ","Biogases - TJ","Ambient heat - TJ"]
["SOLIDFUEL","KT",null,"SPACECOOL","",null,null,"Solid fossil fuels",{"$f":"VLOOKUP(D102, Param_Multilanguage!A:C, Param_Menu!$B$3+1, FALSE)","v":"Space cooling"},{"$f":"VLOOKUP(H102,LanguageData,MATCH(LanguageChosen,Language[Language],0),FALSE) & \" - \" & B102","v":"Solid fossil fuels - KT"},2011,null,null,"Row Labels","Total Residential / Households","Total Residential / Households","Total Residential / Households","Total Residential / Households","Total Residential / Households","Total Residential / Households","Total Residential / Households","Total Residential / Households","Total Residential / Households","Total Residential / Households","Total Residential / Households","Total Residential / Households","Total Residential / Households"]
["OIL","KT",null,"SPACECOOL","",null,null,"Total oil and petroleum products",{"$f":"VLOOKUP(D103, Param_Multilanguage!A:C, Param_Menu!$B$3+1, FALSE)","v":"Space cooling"},{"$f":"VLOOKUP(H103,LanguageData,MATCH(LanguageChosen,Language[Language],0),FALSE) & \" - \" & B103","v":"Total oil and petroleum products - KT"},2011,null,null,2010]
["LPG","KT",null,"SPACECOOL","",null,null,"LPG",{"$f":"VLOOKUP(D104, Param_Multilanguage!A:C, Param_Menu!$B$3+1, FALSE)","v":"Space cooling"},{"$f":"VLOOKUP(H104,LanguageData,MATCH(LanguageChosen,Language[Language],0),FALSE) & \" - \" & B104","v":"LPG - KT"},2011,null,null,2011]
["KEROSENE","KT",null,"SPACECOOL","",null,null,"Other kerosene",{"$f":"VLOOKUP(D105, Param_Multilanguage!A:C, Param_Menu!$B$3+1, FALSE)","v":"Space cooling"},{"$f":"VLOOKUP(H105,LanguageData,MATCH(LanguageChosen,Language[Language],0),FALSE) & \" - \" & B105","v":"Other kerosene - KT"},2011,null,null,2012]
["GASOIL","KT",null,"SPACECOOL","",null,null,"Total gas/diesel oil",{"$f":"VLOOKUP(D106, Param_Multilanguage!A:C, Param_Menu!$B$3+1, FALSE)","v":"Space cooling"},{"$f":"VLOOKUP(H106,LanguageData,MATCH(LanguageChosen,Language[Language],0),FALSE) & \" - \" & B106","v":"Total gas/diesel oil - KT"},2011,null,null,2013]
["RENEW","TJ",null,"SPACECOOL","",null,null,"Renewables and wastes",{"$f":"VLOOKUP(D107, Param_Multilanguage!A:C, Param_Menu!$B$3+1, FALSE)","v":"Space cooling"},{"$f":"VLOOKUP(H107,LanguageData,MATCH(LanguageChosen,Language[Language],0),FALSE) & \" - \" & B107","v":"Renewables and wastes - TJ"},2011,null,null,2014]
["SOLARTH","TJ",null,"SPACECOOL","",null,null,"Solar thermal",{"$f":"VLOOKUP(D108, Param_Multilanguage!A:C, Param_Menu!$B$3+1, FALSE)","v":"Space cooling"},{"$f":"VLOOKUP(H108,LanguageData,MATCH(LanguageChosen,Language[Language],0),FALSE) & \" - \" & B108","v":"Solar thermal - TJ"},2011,null,null,2015]
["BIOFUEL","TJ",null,"SPACECOOL","",null,null,"Solid biofuels excluding charcoal",{"$f":"VLOOKUP(D109, Param_Multilanguage!A:C, Param_Menu!$B$3+1, FALSE)","v":"Space cooling"},{"$f":"VLOOKUP(H109,LanguageData,MATCH(LanguageChosen,Language[Language],0),FALSE) & \" - \" & B109","v":"Solid biofuels excluding charcoal - TJ"},2011,null,null,2016]
["BIOGASES","TJ",null,"SPACECOOL","",null,null,"Biogases",{"$f":"VLOOKUP(D110, Param_Multilanguage!A:C, Param_Menu!$B$3+1, FALSE)","v":"Space cooling"},{"$f":"VLOOKUP(H110,LanguageData,MATCH(LanguageChosen,Language[Language],0),FALSE) & \" - \" & B110","v":"Biogases - TJ"},2011,null,null,2017]
["AMBIANT","TJ",null,"SPACECOOL","",null,null,"Ambient heat",{"$f":"VLOOKUP(D111, Param_Multilanguage!A:C, Param_Menu!$B$3+1, FALSE)","v":"Space cooling"},{"$f":"VLOOKUP(H111,LanguageData,MATCH(LanguageChosen,Language[Language],0),FALSE) & \" - \" & B111","v":"Ambient heat - TJ"},2011,null,null,2018]
["ELEC","GWH",null,"WATERHEAT",null,null,null,"Electricity",{"$f":"VLOOKUP(D112, Param_Multilanguage!A:C, Param_Menu!$B$3+1, FALSE)","v":"Water heating"},{"$f":"VLOOKUP(H112,LanguageData,MATCH(LanguageChosen,Language[Language],0),FALSE) & \" - \" & B112","v":"Electricity - GWH"},2011,null,null,2019]
["HEAT","TJ",null,"WATERHEAT","",null,null,"Derived heat",{"$f":"VLOOKUP(D113, Param_Multilanguage!A:C, Param_Menu!$B$3+1, FALSE)","v":"Water heating"},{"$f":"VLOOKUP(H113,LanguageData,MATCH(LanguageChosen,Language[Language],0),FALSE) & \" - \" & B113","v":"Derived heat - TJ"},2011,null,null,2020]
["GAS","TJ_GCV",null,"WATERHEAT","",null,null,"Gas",{"$f":"VLOOKUP(D114, Param_Multilanguage!A:C, Param_Menu!$B$3+1, FALSE)","v":"Water heating"},{"$f":"VLOOKUP(H114,LanguageData,MATCH(LanguageChosen,Language[Language],0),FALSE) & \" - \" & B114","v":"Gas - TJ_GCV"},2011,null,null,2021]
["SOLIDFUEL","KT",null,"WATERHEAT","",null,null,"Solid fossil fuels",{"$f":"VLOOKUP(D115, Param_Multilanguage!A:C, Param_Menu!$B$3+1, FALSE)","v":"Water heating"},{"$f":"VLOOKUP(H115,LanguageData,MATCH(LanguageChosen,Language[Language],0),FALSE) & \" - \" & B115","v":"Solid fossil fuels - KT"},2011,null,null,2022]
["OIL","KT",null,"WATERHEAT","",null,null,"Total oil and petroleum products",{"$f":"VLOOKUP(D116, Param_Multilanguage!A:C, Param_Menu!$B$3+1, FALSE)","v":"Water heating"},{"$f":"VLOOKUP(H116,LanguageData,MATCH(LanguageChosen,Language[Language],0),FALSE) & \" - \" & B116","v":"Total oil and petroleum products - KT"},2011,null,null,2023]
["LPG","KT",null,"WATERHEAT","",null,null,"LPG",{"$f":"VLOOKUP(D117, Param_Multilanguage!A:C, Param_Menu!$B$3+1, FALSE)","v":"Water heating"},{"$f":"VLOOKUP(H117,LanguageData,MATCH(LanguageChosen,Language[Language],0),FALSE) & \" - \" & B117","v":"LPG - KT"},2011]
["KEROSENE","KT",null,"WATERHEAT","",null,null,"Other kerosene",{"$f":"VLOOKUP(D118, Param_Multilanguage!A:C, Param_Menu!$B$3+1, FALSE)","v":"Water heating"},{"$f":"VLOOKUP(H118,LanguageData,MATCH(LanguageChosen,Language[Language],0),FALSE) & \" - \" & B118","v":"Other kerosene - KT"},2011]
["GASOIL","KT",null,"WATERHEAT","",null,null,"Total gas/diesel oil",{"$f":"VLOOKUP(D119, Param_Multilanguage!A:C, Param_Menu!$B$3+1, FALSE)","v":"Water heating"},{"$f":"VLOOKUP(H119,LanguageData,MATCH(LanguageChosen,Language[Language],0),FALSE) & \" - \" & B119","v":"Total gas/diesel oil - KT"},2011]
["RENEW","TJ",null,"WATERHEAT","",null,null,"Renewables and wastes",{"$f":"VLOOKUP(D120, Param_Multilanguage!A:C, Param_Menu!$B$3+1, FALSE)","v":"Water heating"},{"$f":"VLOOKUP(H120,LanguageData,MATCH(LanguageChosen,Language[Language],0),FALSE) & \" - \" & B120","v":"Renewables and wastes - TJ"},2011]
["SOLARTH","TJ",null,"WATERHEAT","",null,null,"Solar thermal",{"$f":"VLOOKUP(D121, Param_Multilanguage!A:C, Param_Menu!$B$3+1, FALSE)","v":"Water heating"},{"$f":"VLOOKUP(H121,LanguageData,MATCH(LanguageChosen,Language[Language],0),FALSE) & \" - \" & B121","v":"Solar thermal - TJ"},2011]
["BIOFUEL","TJ",null,"WATERHEAT","",null,null,"Solid biofuels excluding charcoal",{"$f":"VLOOKUP(D122, Param_Multilanguage!A:C, Param_Menu!$B$3+1, FALSE)","v":"Water heating"},{"$f":"VLOOKUP(H122,LanguageData,MATCH(LanguageChosen,Language[Language],0),FALSE) & \" - \" & B122","v":"Solid biofuels excluding charcoal - TJ"},2011]
["BIOGASES","TJ",null,"WATERHEAT","",null,null,"Biogases",{"$f":"VLOOKUP(D123, Param_Multilanguage!A:C, Param_Menu!$B$3+1, FALSE)","v":"Water heating"},{"$f":"VLOOKUP(H123,LanguageData,MATCH(LanguageChosen,Language[Language],0),FALSE) & \" - \" & B123","v":"Biogases - TJ"},2011]
["AMBIANT","TJ",null,"WATERHEAT","",null,null,"Ambient heat",{"$f":"VLOOKUP(D124, Param_Multilanguage!A:C, Param_Menu!$B$3+1, FALSE)","v":"Water heating"},{"$f":"VLOOKUP(H124,LanguageData,MATCH(LanguageChosen,Language[Language],0),FALSE) & \" - \" & B124","v":"Ambient heat - TJ"},2011]
["ELEC","GWH",null,"COOK",null,null,null,"Electricity",{"$f":"VLOOKUP(D125, Param_Multilanguage!A:C, Param_Menu!$B$3+1, FALSE)","v":"Cooking"},{"$f":"VLOOKUP(H125,LanguageData,MATCH(LanguageChosen,Language[Language],0),FALSE) & \" - \" & B125","v":"Electricity - GWH"},2011]
["HEAT","TJ",null,"COOK","",null,null,"Derived heat",{"$f":"VLOOKUP(D126, Param_Multilanguage!A:C, Param_Menu!$B$3+1, FALSE)","v":"Cooking"},{"$f":"VLOOKUP(H126,LanguageData,MATCH(LanguageChosen,Language[Language],0),FALSE) & \" - \" & B126","v":"Derived heat - TJ"},2011]
["GAS","TJ_GCV",null,"COOK","",null,null,"Gas",{"$f":"VLOOKUP(D127, Param_Multilanguage!A:C, Param_Menu!$B$3+1, FALSE)","v":"Cooking"},{"$f":"VLOOKUP(H127,LanguageData,MATCH(LanguageChosen,Language[Language],0),FALSE) & \" - \" & B127","v":"Gas - TJ_GCV"},2011]
["SOLIDFUEL","KT",null,"COOK","",null,null,"Solid fossil fuels",{"$f":"VLOOKUP(D128, Param_Multilanguage!A:C, Param_Menu!$B$3+1, FALSE)","v":"Cooking"},{"$f":"VLOOKUP(H128,LanguageData,MATCH(LanguageChosen,Language[Language],0),FALSE) & \" - \" & B128","v":"Solid fossil fuels - KT"},2011]
["OIL","KT",null,"COOK","",null,null,"Total oil and petroleum products",{"$f":"VLOOKUP(D129, Param_Multilanguage!A:C, Param_Menu!$B$3+1, FALSE)","v":"Cooking"},{"$f":"VLOOKUP(H129,LanguageData,MATCH(LanguageChosen,Language[Language],0),FALSE) & \" - \" & B129","v":"Total oil and petroleum products - KT"},2011]
["LPG","KT",null,"COOK","",null,null,"LPG",{"$f":"VLOOKUP(D130, Param_Multilanguage!A:C, Param_Menu!$B$3+1, FALSE)","v":"Cooking"},{"$f":"VLOOKUP(H130,LanguageData,MATCH(LanguageChosen,Language[Language],0),FALSE) & \" - \" & B130","v":"LPG - KT"},2011]
["KEROSENE","KT",null,"COOK","",null,null,"Other kerosene",{"$f":"VLOOKUP(D131, Param_Multilanguage!A:C, Param_Menu!$B$3+1, FALSE)","v":"Cooking"},{"$f":"VLOOKUP(H131,LanguageData,MATCH(LanguageChosen,Language[Language],0),FALSE) & \" - \" & B131","v":"Other kerosene - KT"},2011]
["GASOIL","KT",null,"COOK","",null,null,"Total gas/diesel oil",{"$f":"VLOOKUP(D132, Param_Multilanguage!A:C, Param_Menu!$B$3+1, FALSE)","v":"Cooking"},{"$f":"VLOOKUP(H132,LanguageData,MATCH(LanguageChosen,Language[Language],0),FALSE) & \" - \" & B132","v":"Total gas/diesel oil - KT"},2011]
["RENEW","TJ",null,"COOK","",null,null,"Renewables and wastes",{"$f":"VLOOKUP(D133, Param_Multilanguage!A:C, Param_Menu!$B$3+1, FALSE)","v":"Cooking"},{"$f":"VLOOKUP(H133,LanguageData,MATCH(LanguageChosen,Language[Language],0),FALSE) & \" - \" & B133","v":"Renewables and wastes - TJ"},2011]
["SOLARTH","TJ",null,"COOK","",null,null,"Solar thermal",{"$f":"VLOOKUP(D134, Param_Multilanguage!A:C, Param_Menu!$B$3+1, FALSE)","v":"Cooking"},{"$f":"VLOOKUP(H134,LanguageData,MATCH(LanguageChosen,Language[Language],0),FALSE) & \" - \" & B134","v":"Solar thermal - TJ"},2011]
["BIOFUEL","TJ",null,"COOK","",null,null,"Solid biofuels excluding charcoal",{"$f":"VLOOKUP(D135, Param_Multilanguage!A:C, Param_Menu!$B$3+1, FALSE)","v":"Cooking"},{"$f":"VLOOKUP(H135,LanguageData,MATCH(LanguageChosen,Language[Language],0),FALSE) & \" - \" & B135","v":"Solid biofuels excluding charcoal - TJ"},2011]
["BIOGASES","TJ",null,"COOK","",null,null,"Biogases",{"$f":"VLOOKUP(D136, Param_Multilanguage!A:C, Param_Menu!$B$3+1, FALSE)","v":"Cooking"},{"$f":"VLOOKUP(H136,LanguageData,MATCH(LanguageChosen,Language[Language],0),FALSE) & \" - \" & B136","v":"Biogases - TJ"},2011]
["AMBIANT","TJ",null,"COOK","",null,null,"Ambient heat",{"$f":"VLOOKUP(D137, Param_Multilanguage!A:C, Param_Menu!$B$3+1, FALSE)","v":"Cooking"},{"$f":"VLOOKUP(H137,LanguageData,MATCH(LanguageChosen,Language[Language],0),FALSE) & \" - \" & B137","v":"Ambient heat - TJ"},2011]
["ELEC","GWH",null,"LIGHTAPP",null,null,null,"Electricity",{"$f":"VLOOKUP(D138, Param_Multilanguage!A:C, Param_Menu!$B$3+1, FALSE)","v":"Lighting and appliances"},{"$f":"VLOOKUP(H138,LanguageData,MATCH(LanguageChosen,Language[Language],0),FALSE) & \" - \" & B138","v":"Electricity - GWH"},2011]
["HEAT","TJ",null,"LIGHTAPP","",null,null,"Derived heat",{"$f":"VLOOKUP(D139, Param_Multilanguage!A:C, Param_Menu!$B$3+1, FALSE)","v":"Lighting and appliances"},{"$f":"VLOOKUP(H139,LanguageData,MATCH(LanguageChosen,Language[Language],0),FALSE) & \" - \" & B139","v":"Derived heat - TJ"},2011]
["GAS","TJ_GCV",null,"LIGHTAPP","",null,null,"Gas",{"$f":"VLOOKUP(D140, Param_Multilanguage!A:C, Param_Menu!$B$3+1, FALSE)","v":"Lighting and appliances"},{"$f":"VLOOKUP(H140,LanguageData,MATCH(LanguageChosen,Language[Language],0),FALSE) & \" - \" & B140","v":"Gas - TJ_GCV"},2011]
["SOLIDFUEL","KT",null,"LIGHTAPP","",null,null,"Solid fossil fuels",{"$f":"VLOOKUP(D141, Param_Multilanguage!A:C, Param_Menu!$B$3+1, FALSE)","v":"Lighting and appliances"},{"$f":"VLOOKUP(H141,LanguageData,MATCH(LanguageChosen,Language[Language],0),FALSE) & \" - \" & B141","v":"Solid fossil fuels - KT"},2011]
["OIL","KT",null,"LIGHTAPP","",null,null,"Total oil and petroleum products",{"$f":"VLOOKUP(D142, Param_Multilanguage!A:C, Param_Menu!$B$3+1, FALSE)","v":"Lighting and appliances"},{"$f":"VLOOKUP(H142,LanguageData,MATCH(LanguageChosen,Language[Language],0),FALSE) & \" - \" & B142","v":"Total oil and petroleum products - KT"},2011]
["LPG","KT",null,"LIGHTAPP","",null,null,"LPG",{"$f":"VLOOKUP(D143, Param_Multilanguage!A:C, Param_Menu!$B$3+1, FALSE)","v":"Lighting and appliances"},{"$f":"VLOOKUP(H143,LanguageData,MATCH(LanguageChosen,Language[Language],0),FALSE) & \" - \" & B143","v":"LPG - KT"},2011]
["KEROSENE","KT",null,"LIGHTAPP","",null,null,"Other kerosene",{"$f":"VLOOKUP(D144, Param_Multilanguage!A:C, Param_Menu!$B$3+1, FALSE)","v":"Lighting and appliances"},{"$f":"VLOOKUP(H144,LanguageData,MATCH(LanguageChosen,Language[Language],0),FALSE) & \" - \" & B144","v":"Other kerosene - KT"},2011]
["GASOIL","KT",null,"LIGHTAPP","",null,null,"Total gas/diesel oil",{"$f":"VLOOKUP(D145, Param_Multilanguage!A:C, Param_Menu!$B$3+1, FALSE)","v":"Lighting and appliances"},{"$f":"VLOOKUP(H145,LanguageData,MATCH(LanguageChosen,Language[Language],0),FALSE) & \" - \" & B145","v":"Total gas/diesel oil - KT"},2011]
["RENEW","TJ",null,"LIGHTAPP","",null,null,"Renewables and wastes",{"$f":"VLOOKUP(D146, Param_Multilanguage!A:C, Param_Menu!$B$3+1, FALSE)","v":"Lighting and appliances"},{"$f":"VLOOKUP(H146,LanguageData,MATCH(LanguageChosen,Language[Language],0),FALSE) & \" - \" & B146","v":"Renewables and wastes - TJ"},2011]
["SOLARTH","TJ",null,"LIGHTAPP","",null,null,"Solar thermal",{"$f":"VLOOKUP(D147, Param_Multilanguage!A:C, Param_Menu!$B$3+1, FALSE)","v":"Lighting and appliances"},{"$f":"VLOOKUP(H147,LanguageData,MATCH(LanguageChosen,Language[Language],0),FALSE) & \" - \" & B147","v":"Solar thermal - TJ"},2011]
["BIOFUEL","TJ",null,"LIGHTAPP","",null,null,"Solid biofuels excluding charcoal",{"$f":"VLOOKUP(D148, Param_Multilanguage!A:C, Param_Menu!$B$3+1, FALSE)","v":"Lighting and appliances"},{"$f":"VLOOKUP(H148,LanguageData,MATCH(LanguageChosen,Language[Language],0),FALSE) & \" - \" & B148","v":"Solid biofuels excluding charcoal - TJ"},2011]
["BIOGASES","TJ",null,"LIGHTAPP","",null,null,"Biogases",{"$f":"VLOOKUP(D149, Param_Multilanguage!A:C, Param_Menu!$B$3+1, FALSE)","v":"Lighting and appliances"},{"$f":"VLOOKUP(H149,LanguageData,MATCH(LanguageChosen,Language[Language],0),FALSE) & \" - \" & B149","v":"Biogases - TJ"},2011]
["AMBIANT","TJ",null,"LIGHTAPP","",null,null,"Ambient heat",{"$f":"VLOOKUP(D150, Param_Multilanguage!A:C, Param_Menu!$B$3+1, FALSE)","v":"Lighting and appliances"},{"$f":"VLOOKUP(H150,LanguageData,MATCH(LanguageChosen,Language[Language],0),FALSE) & \" - \" & B150","v":"Ambient heat - TJ"},2011]
["ELEC","GWH",null,"RESOTH",null,null,null,"Electricity",{"$f":"VLOOKUP(D151, Param_Multilanguage!A:C, Param_Menu!$B$3+1, FALSE)","v":"Other end uses"},{"$f":"VLOOKUP(H151,LanguageData,MATCH(LanguageChosen,Language[Language],0),FALSE) & \" - \" & B151","v":"Electricity - GWH"},2011]
["HEAT","TJ",null,"RESOTH","",null,null,"Derived heat",{"$f":"VLOOKUP(D152, Param_Multilanguage!A:C, Param_Menu!$B$3+1, FALSE)","v":"Other end uses"},{"$f":"VLOOKUP(H152,LanguageData,MATCH(LanguageChosen,Language[Language],0),FALSE) & \" - \" & B152","v":"Derived heat - TJ"},2011]
["GAS","TJ_GCV",null,"RESOTH","",null,null,"Gas",{"$f":"VLOOKUP(D153, Param_Multilanguage!A:C, Param_Menu!$B$3+1, FALSE)","v":"Other end uses"},{"$f":"VLOOKUP(H153,LanguageData,MATCH(LanguageChosen,Language[Language],0),FALSE) & \" - \" & B153","v":"Gas - TJ_GCV"},2011]
["SOLIDFUEL","KT",null,"RESOTH","",null,null,"Solid fossil fuels",{"$f":"VLOOKUP(D154, Param_Multilanguage!A:C, Param_Menu!$B$3+1, FALSE)","v":"Other end uses"},{"$f":"VLOOKUP(H154,LanguageData,MATCH(LanguageChosen,Language[Language],0),FALSE) & \" - \" & B154","v":"Solid fossil fuels - KT"},2011]
["OIL","KT",null,"RESOTH","",null,null,"Total oil and petroleum products",{"$f":"VLOOKUP(D155, Param_Multilanguage!A:C, Param_Menu!$B$3+1, FALSE)","v":"Other end uses"},{"$f":"VLOOKUP(H155,LanguageData,MATCH(LanguageChosen,Language[Language],0),FALSE) & \" - \" & B155","v":"Total oil and petroleum products - KT"},2011]
["LPG","KT",null,"RESOTH","",null,null,"LPG",{"$f":"VLOOKUP(D156, Param_Multilanguage!A:C, Param_Menu!$B$3+1, FALSE)","v":"Other end uses"},{"$f":"VLOOKUP(H156,LanguageData,MATCH(LanguageChosen,Language[Language],0),FALSE) & \" - \" & B156","v":"LPG - KT"},2011]
["KEROSENE","KT",null,"RESOTH","",null,null,"Other kerosene",{"$f":"VLOOKUP(D157, Param_Multilanguage!A:C, Param_Menu!$B$3+1, FALSE)","v":"Other end uses"},{"$f":"VLOOKUP(H157,LanguageData,MATCH(LanguageChosen,Language[Language],0),FALSE) & \" - \" & B157","v":"Other kerosene - KT"},2011]
["GASOIL","KT",null,"RESOTH","",null,null,"Total gas/diesel oil",{"$f":"VLOOKUP(D158, Param_Multilanguage!A:C, Param_Menu!$B$3+1, FALSE)","v":"Other end uses"},{"$f":"VLOOKUP(H158,LanguageData,MATCH(LanguageChosen,Language[Language],0),FALSE) & \" - \" & B158","v":"Total gas/diesel oil - KT"},2011]
["RENEW","TJ",null,"RESOTH","",null,null,"Renewables and wastes",{"$f":"VLOOKUP(D159, Param_Multilanguage!A:C, Param_Menu!$B$3+1, FALSE)","v":"Other end uses"},{"$f":"VLOOKUP(H159,LanguageData,MATCH(LanguageChosen,Language[Language],0),FALSE) & \" - \" & B159","v":"Renewables and wastes - TJ"},2011]
["SOLARTH","TJ",null,"RESOTH","",null,null,"Solar thermal",{"$f":"VLOOKUP(D160, Param_Multilanguage!A:C, Param_Menu!$B$3+1, FALSE)","v":"Other end uses"},{"$f":"VLOOKUP(H160,LanguageData,MATCH(LanguageChosen,Language[Language],0),FALSE) & \" - \" & B160","v":"Solar thermal - TJ"},2011]
["BIOFUEL","TJ",null,"RESOTH","",null,null,"Solid biofuels excluding charcoal",{"$f":"VLOOKUP(D161, Param_Multilanguage!A:C, Param_Menu!$B$3+1, FALSE)","v":"Other end uses"},{"$f":"VLOOKUP(H161,LanguageData,MATCH(LanguageChosen,Language[Language],0),FALSE) & \" - \" & B161","v":"Solid biofuels excluding charcoal - TJ"},2011]
["BIOGASES","TJ",null,"RESOTH","",null,null,"Biogases",{"$f":"VLOOKUP(D162, Param_Multilanguage!A:C, Param_Menu!$B$3+1, FALSE)","v":"Other end uses"},{"$f":"VLOOKUP(H162,LanguageData,MATCH(LanguageChosen,Language[Language],0),FALSE) & \" - \" & B162","v":"Biogases - TJ"},2011]
["AMBIANT","TJ",null,"RESOTH","",null,null,"Ambient heat",{"$f":"VLOOKUP(D163, Param_Multilanguage!A:C, Param_Menu!$B$3+1, FALSE)","v":"Other end uses"},{"$f":"VLOOKUP(H163,LanguageData,MATCH(LanguageChosen,Language[Language],0),FALSE) & \" - \" & B163","v":"Ambient heat - TJ"},2011]
["ELEC","GWH",null,"SPACEHEAT",null,null,null,"Electricity",{"$f":"VLOOKUP(D164, Param_Multilanguage!A:C, Param_Menu!$B$3+1, FALSE)","v":"Space heating"},{"$f":"VLOOKUP(H164,LanguageData,MATCH(LanguageChosen,Language[Language],0),FALSE) & \" - \" & B164","v":"Electricity - GWH"},2012]
["HEAT","TJ",null,"SPACEHEAT","",null,null,"Derived heat",{"$f":"VLOOKUP(D165, Param_Multilanguage!A:C, Param_Menu!$B$3+1, FALSE)","v":"Space heating"},{"$f":"VLOOKUP(H165,LanguageData,MATCH(LanguageChosen,Language[Language],0),FALSE) & \" - \" & B165","v":"Derived heat - TJ"},2012]
["GAS","TJ_GCV",null,"SPACEHEAT","",null,null,"Gas",{"$f":"VLOOKUP(D166, Param_Multilanguage!A:C, Param_Menu!$B$3+1, FALSE)","v":"Space heating"},{"$f":"VLOOKUP(H166,LanguageData,MATCH(LanguageChosen,Language[Language],0),FALSE) & \" - \" & B166","v":"Gas - TJ_GCV"},2012]
["SOLIDFUEL","KT",null,"SPACEHEAT","",null,null,"Solid fossil fuels",{"$f":"VLOOKUP(D167, Param_Multilanguage!A:C, Param_Menu!$B$3+1, FALSE)","v":"Space heating"},{"$f":"VLOOKUP(H167,LanguageData,MATCH(LanguageChosen,Language[Language],0),FALSE) & \" - \" & B167","v":"Solid fossil fuels - KT"},2012]
["OIL","KT",null,"SPACEHEAT","",null,null,"Total oil and petroleum products",{"$f":"VLOOKUP(D168, Param_Multilanguage!A:C, Param_Menu!$B$3+1, FALSE)","v":"Space heating"},{"$f":"VLOOKUP(H168,LanguageData,MATCH(LanguageChosen,Language[Language],0),FALSE) & \" - \" & B168","v":"Total oil and petroleum products - KT"},2012]
["LPG","KT",null,"SPACEHEAT","",null,null,"LPG",{"$f":"VLOOKUP(D169, Param_Multilanguage!A:C, Param_Menu!$B$3+1, FALSE)","v":"Space heating"},{"$f":"VLOOKUP(H169,LanguageData,MATCH(LanguageChosen,Language[Language],0),FALSE) & \" - \" & B169","v":"LPG - KT"},2012]
["KEROSENE","KT",null,"SPACEHEAT","",null,null,"Other kerosene",{"$f":"VLOOKUP(D170, Param_Multilanguage!A:C, Param_Menu!$B$3+1, FALSE)","v":"Space heating"},{"$f":"VLOOKUP(H170,LanguageData,MATCH(LanguageChosen,Language[Language],0),FALSE) & \" - \" & B170","v":"Other kerosene - KT"},2012]
["GASOIL","KT",null,"SPACEHEAT","",null,null,"Total gas/diesel oil",{"$f":"VLOOKUP(D171, Param_Multilanguage!A:C, Param_Menu!$B$3+1, FALSE)","v":"Space heating"},{"$f":"VLOOKUP(H171,LanguageData,MATCH(LanguageChosen,Language[Language],0),FALSE) & \" - \" & B171","v":"Total gas/diesel oil - KT"},2012]
["RENEW","TJ",null,"SPACEHEAT","",null,null,"Renewables and wastes",{"$f":"VLOOKUP(D172, Param_Multilanguage!A:C, Param_Menu!$B$3+1, FALSE)","v":"Space heating"},{"$f":"VLOOKUP(H172,LanguageData,MATCH(LanguageChosen,Language[Language],0),FALSE) & \" - \" & B172","v":"Renewables and wastes - TJ"},2012]
["SOLARTH","TJ",null,"SPACEHEAT","",null,null,"Solar thermal",{"$f":"VLOOKUP(D173, Param_Multilanguage!A:C, Param_Menu!$B$3+1, FALSE)","v":"Space heating"},{"$f":"VLOOKUP(H173,LanguageData,MATCH(LanguageChosen,Language[Language],0),FALSE) & \" - \" & B173","v":"Solar thermal - TJ"},2012]
["BIOFUEL","TJ",null,"SPACEHEAT","",null,null,"Solid biofuels excluding charcoal",{"$f":"VLOOKUP(D174, Param_Multilanguage!A:C, Param_Menu!$B$3+1, FALSE)","v":"Space heating"},{"$f":"VLOOKUP(H174,LanguageData,MATCH(LanguageChosen,Language[Language],0),FALSE) & \" - \" & B174","v":"Solid biofuels excluding charcoal - TJ"},2012]
["BIOGASES","TJ",null,"SPACEHEAT","",null,null,"Biogases",{"$f":"VLOOKUP(D175, Param_Multilanguage!A:C, Param_Menu!$B$3+1, FALSE)","v":"Space heating"},{"$f":"VLOOKUP(H175,LanguageData,MATCH(LanguageChosen,Language[Language],0),FALSE) & \" - \" & B175","v":"Biogases - TJ"},2012]
["AMBIANT","TJ",null,"SPACEHEAT","",null,null,"Ambient heat",{"$f":"VLOOKUP(D176, Param_Multilanguage!A:C, Param_Menu!$B$3+1, FALSE)","v":"Space heating"},{"$f":"VLOOKUP(H176,LanguageData,MATCH(LanguageChosen,Language[Language],0),FALSE) & \" - \" & B176","v":"Ambient heat - TJ"},2012]
["ELEC","GWH",null,"SPACECOOL",null,null,null,"Electricity",{"$f":"VLOOKUP(D177, Param_Multilanguage!A:C, Param_Menu!$B$3+1, FALSE)","v":"Space cooling"},{"$f":"VLOOKUP(H177,LanguageData,MATCH(LanguageChosen,Language[Language],0),FALSE) & \" - \" & B177","v":"Electricity - GWH"},2012]
["HEAT","TJ",null,"SPACECOOL","",null,null,"Derived heat",{"$f":"VLOOKUP(D178, Param_Multilanguage!A:C, Param_Menu!$B$3+1, FALSE)","v":"Space cooling"},{"$f":"VLOOKUP(H178,LanguageData,MATCH(LanguageChosen,Language[Language],0),FALSE) & \" - \" & B178","v":"Derived heat - TJ"},2012]
["GAS","TJ_GCV",null,"SPACECOOL","",null,null,"Gas",{"$f":"VLOOKUP(D179, Param_Multilanguage!A:C, Param_Menu!$B$3+1, FALSE)","v":"Space cooling"},{"$f":"VLOOKUP(H179,LanguageData,MATCH(LanguageChosen,Language[Language],0),FALSE) & \" - \" & B179","v":"Gas - TJ_GCV"},2012]
["SOLIDFUEL","KT",null,"SPACECOOL","",null,null,"Solid fossil fuels",{"$f":"VLOOKUP(D180, Param_Multilanguage!A:C, Param_Menu!$B$3+1, FALSE)","v":"Space cooling"},{"$f":"VLOOKUP(H180,LanguageData,MATCH(LanguageChosen,Language[Language],0),FALSE) & \" - \" & B180","v":"Solid fossil fuels - KT"},2012]
["OIL","KT",null,"SPACECOOL","",null,null,"Total oil and petroleum products",{"$f":"VLOOKUP(D181, Param_Multilanguage!A:C, Param_Menu!$B$3+1, FALSE)","v":"Space cooling"},{"$f":"VLOOKUP(H181,LanguageData,MATCH(LanguageChosen,Language[Language],0),FALSE) & \" - \" & B181","v":"Total oil and petroleum products - KT"},2012]
["LPG","KT",null,"SPACECOOL","",null,null,"LPG",{"$f":"VLOOKUP(D182, Param_Multilanguage!A:C, Param_Menu!$B$3+1, FALSE)","v":"Space cooling"},{"$f":"VLOOKUP(H182,LanguageData,MATCH(LanguageChosen,Language[Language],0),FALSE) & \" - \" & B182","v":"LPG - KT"},2012]
["KEROSENE","KT",null,"SPACECOOL","",null,null,"Other kerosene",{"$f":"VLOOKUP(D183, Param_Multilanguage!A:C, Param_Menu!$B$3+1, FALSE)","v":"Space cooling"},{"$f":"VLOOKUP(H183,LanguageData,MATCH(LanguageChosen,Language[Language],0),FALSE) & \" - \" & B183","v":"Other kerosene - KT"},2012]
["GASOIL","KT",null,"SPACECOOL","",null,null,"Total gas/diesel oil",{"$f":"VLOOKUP(D184, Param_Multilanguage!A:C, Param_Menu!$B$3+1, FALSE)","v":"Space cooling"},{"$f":"VLOOKUP(H184,LanguageData,MATCH(LanguageChosen,Language[Language],0),FALSE) & \" - \" & B184","v":"Total gas/diesel oil - KT"},2012]
["RENEW","TJ",null,"SPACECOOL","",null,null,"Renewables and wastes",{"$f":"VLOOKUP(D185, Param_Multilanguage!A:C, Param_Menu!$B$3+1, FALSE)","v":"Space cooling"},{"$f":"VLOOKUP(H185,LanguageData,MATCH(LanguageChosen,Language[Language],0),FALSE) & \" - \" & B185","v":"Renewables and wastes - TJ"},2012]
["SOLARTH","TJ",null,"SPACECOOL","",null,null,"Solar thermal",{"$f":"VLOOKUP(D186, Param_Multilanguage!A:C, Param_Menu!$B$3+1, FALSE)","v":"Space cooling"},{"$f":"VLOOKUP(H186,LanguageData,MATCH(LanguageChosen,Language[Language],0),FALSE) & \" - \" & B186","v":"Solar thermal - TJ"},2012]
["BIOFUEL","TJ",null,"SPACECOOL","",null,null,"Solid biofuels excluding charcoal",{"$f":"VLOOKUP(D187, Param_Multilanguage!A:C, Param_Menu!$B$3+1, FALSE)","v":"Space cooling"},{"$f":"VLOOKUP(H187,LanguageData,MATCH(LanguageChosen,Language[Language],0),FALSE) & \" - \" & B187","v":"Solid biofuels excluding charcoal - TJ"},2012]
["BIOGASES","TJ",null,"SPACECOOL","",null,null,"Biogases",{"$f":"VLOOKUP(D188, Param_Multilanguage!A:C, Param_Menu!$B$3+1, FALSE)","v":"Space cooling"},{"$f":"VLOOKUP(H188,LanguageData,MATCH(LanguageChosen,Language[Language],0),FALSE) & \" - \" & B188","v":"Biogases - TJ"},2012]
["AMBIANT","TJ",null,"SPACECOOL","",null,null,"Ambient heat",{"$f":"VLOOKUP(D189, Param_Multilanguage!A:C, Param_Menu!$B$3+1, FALSE)","v":"Space cooling"},{"$f":"VLOOKUP(H189,LanguageData,MATCH(LanguageChosen,Language[Language],0),FALSE) & \" - \" & B189","v":"Ambient heat - TJ"},2012]
["ELEC","GWH",null,"WATERHEAT",null,null,null,"Electricity",{"$f":"VLOOKUP(D190, Param_Multilanguage!A:C, Param_Menu!$B$3+1, FALSE)","v":"Water heating"},{"$f":"VLOOKUP(H190,LanguageData,MATCH(LanguageChosen,Language[Language],0),FALSE) & \" - \" & B190","v":"Electricity - GWH"},2012]
["HEAT","TJ",null,"WATERHEAT","",null,null,"Derived heat",{"$f":"VLOOKUP(D191, Param_Multilanguage!A:C, Param_Menu!$B$3+1, FALSE)","v":"Water heating"},{"$f":"VLOOKUP(H191,LanguageData,MATCH(LanguageChosen,Language[Language],0),FALSE) & \" - \" & B191","v":"Derived heat - TJ"},2012]
["GAS","TJ_GCV",null,"WATERHEAT","",null,null,"Gas",{"$f":"VLOOKUP(D192, Param_Multilanguage!A:C, Param_Menu!$B$3+1, FALSE)","v":"Water heating"},{"$f":"VLOOKUP(H192,LanguageData,MATCH(LanguageChosen,Language[Language],0),FALSE) & \" - \" & B192","v":"Gas - TJ_GCV"},2012]
["SOLIDFUEL","KT",null,"WATERHEAT","",null,null,"Solid fossil fuels",{"$f":"VLOOKUP(D193, Param_Multilanguage!A:C, Param_Menu!$B$3+1, FALSE)","v":"Water heating"},{"$f":"VLOOKUP(H193,LanguageData,MATCH(LanguageChosen,Language[Language],0),FALSE) & \" - \" & B193","v":"Solid fossil fuels - KT"},2012]
["OIL","KT",null,"WATERHEAT","",null,null,"Total oil and petroleum products",{"$f":"VLOOKUP(D194, Param_Multilanguage!A:C, Param_Menu!$B$3+1, FALSE)","v":"Water heating"},{"$f":"VLOOKUP(H194,LanguageData,MATCH(LanguageChosen,Language[Language],0),FALSE) & \" - \" & B194","v":"Total oil and petroleum products - KT"},2012]
["LPG","KT",null,"WATERHEAT","",null,null,"LPG",{"$f":"VLOOKUP(D195, Param_Multilanguage!A:C, Param_Menu!$B$3+1, FALSE)","v":"Water heating"},{"$f":"VLOOKUP(H195,LanguageData,MATCH(LanguageChosen,Language[Language],0),FALSE) & \" - \" & B195","v":"LPG - KT"},2012]
["KEROSENE","KT",null,"WATERHEAT","",null,null,"Other kerosene",{"$f":"VLOOKUP(D196, Param_Multilanguage!A:C, Param_Menu!$B$3+1, FALSE)","v":"Water heating"},{"$f":"VLOOKUP(H196,LanguageData,MATCH(LanguageChosen,Language[Language],0),FALSE) & \" - \" & B196","v":"Other kerosene - KT"},2012]
["GASOIL","KT",null,"WATERHEAT","",null,null,"Total gas/diesel oil",{"$f":"VLOOKUP(D197, Param_Multilanguage!A:C, Param_Menu!$B$3+1, FALSE)","v":"Water heating"},{"$f":"VLOOKUP(H197,LanguageData,MATCH(LanguageChosen,Language[Language],0),FALSE) & \" - \" & B197","v":"Total gas/diesel oil - KT"},2012]
["RENEW","TJ",null,"WATERHEAT","",null,null,"Renewables and wastes",{"$f":"VLOOKUP(D198, Param_Multilanguage!A:C, Param_Menu!$B$3+1, FALSE)","v":"Water heating"},{"$f":"VLOOKUP(H198,LanguageData,MATCH(LanguageChosen,Language[Language],0),FALSE) & \" - \" & B198","v":"Renewables and wastes - TJ"},2012]
["SOLARTH","TJ",null,"WATERHEAT","",null,null,"Solar thermal",{"$f":"VLOOKUP(D199, Param_Multilanguage!A:C, Param_Menu!$B$3+1, FALSE)","v":"Water heating"},{"$f":"VLOOKUP(H199,LanguageData,MATCH(LanguageChosen,Language[Language],0),FALSE) & \" - \" & B199","v":"Solar thermal - TJ"},2012]
["BIOFUEL","TJ",null,"WATERHEAT","",null,null,"Solid biofuels excluding charcoal",{"$f":"VLOOKUP(D200, Param_Multilanguage!A:C, Param_Menu!$B$3+1, FALSE)","v":"Water heating"},{"$f":"VLOOKUP(H200,LanguageData,MATCH(LanguageChosen,Language[Language],0),FALSE) & \" - \" & B200","v":"Solid biofuels excluding charcoal - TJ"},2012]
["BIOGASES","TJ",null,"WATERHEAT","",null,null,"Biogases",{"$f":"VLOOKUP(D201, Param_Multilanguage!A:C, Param_Menu!$B$3+1, FALSE)","v":"Water heating"},{"$f":"VLOOKUP(H201,LanguageData,MATCH(LanguageChosen,Language[Language],0),FALSE) & \" - \" & B201","v":"Biogases - TJ"},2012]
["AMBIANT","TJ",null,"WATERHEAT","",null,null,"Ambient heat",{"$f":"VLOOKUP(D202, Param_Multilanguage!A:C, Param_Menu!$B$3+1, FALSE)","v":"Water heating"},{"$f":"VLOOKUP(H202,LanguageData,MATCH(LanguageChosen,Language[Language],0),FALSE) & \" - \" & B202","v":"Ambient heat - TJ"},2012]
["ELEC","GWH",null,"COOK",null,null,null,"Electricity",{"$f":"VLOOKUP(D203, Param_Multilanguage!A:C, Param_Menu!$B$3+1, FALSE)","v":"Cooking"},{"$f":"VLOOKUP(H203,LanguageData,MATCH(LanguageChosen,Language[Language],0),FALSE) & \" - \" & B203","v":"Electricity - GWH"},2012]
["HEAT","TJ",null,"COOK","",null,null,"Derived heat",{"$f":"VLOOKUP(D204, Param_Multilanguage!A:C, Param_Menu!$B$3+1, FALSE)","v":"Cooking"},{"$f":"VLOOKUP(H204,LanguageData,MATCH(LanguageChosen,Language[Language],0),FALSE) & \" - \" & B204","v":"Derived heat - TJ"},2012]
["GAS","TJ_GCV",null,"COOK","",null,null,"Gas",{"$f":"VLOOKUP(D205, Param_Multilanguage!A:C, Param_Menu!$B$3+1, FALSE)","v":"Cooking"},{"$f":"VLOOKUP(H205,LanguageData,MATCH(LanguageChosen,Language[Language],0),FALSE) & \" - \" & B205","v":"Gas - TJ_GCV"},2012]
["SOLIDFUEL","KT",null,"COOK","",null,null,"Solid fossil fuels",{"$f":"VLOOKUP(D206, Param_Multilanguage!A:C, Param_Menu!$B$3+1, FALSE)","v":"Cooking"},{"$f":"VLOOKUP(H206,LanguageData,MATCH(LanguageChosen,Language[Language],0),FALSE) & \" - \" & B206","v":"Solid fossil fuels - KT"},2012]
["OIL","KT",null,"COOK","",null,null,"Total oil and petroleum products",{"$f":"VLOOKUP(D207, Param_Multilanguage!A:C, Param_Menu!$B$3+1, FALSE)","v":"Cooking"},{"$f":"VLOOKUP(H207,LanguageData,MATCH(LanguageChosen,Language[Language],0),FALSE) & \" - \" & B207","v":"Total oil and petroleum products - KT"},2012]
["LPG","KT",null,"COOK","",null,null,"LPG",{"$f":"VLOOKUP(D208, Param_Multilanguage!A:C, Param_Menu!$B$3+1, FALSE)","v":"Cooking"},{"$f":"VLOOKUP(H208,LanguageData,MATCH(LanguageChosen,Language[Language],0),FALSE) & \" - \" & B208","v":"LPG - KT"},2012]
["KEROSENE","KT",null,"COOK","",null,null,"Other kerosene",{"$f":"VLOOKUP(D209, Param_Multilanguage!A:C, Param_Menu!$B$3+1, FALSE)","v":"Cooking"},{"$f":"VLOOKUP(H209,LanguageData,MATCH(LanguageChosen,Language[Language],0),FALSE) & \" - \" & B209","v":"Other kerosene - KT"},2012]
["GASOIL","KT",null,"COOK","",null,null,"Total gas/diesel oil",{"$f":"VLOOKUP(D210, Param_Multilanguage!A:C, Param_Menu!$B$3+1, FALSE)","v":"Cooking"},{"$f":"VLOOKUP(H210,LanguageData,MATCH(LanguageChosen,Language[Language],0),FALSE) & \" - \" & B210","v":"Total gas/diesel oil - KT"},2012]
["RENEW","TJ",null,"COOK","",null,null,"Renewables and wastes",{"$f":"VLOOKUP(D211, Param_Multilanguage!A:C, Param_Menu!$B$3+1, FALSE)","v":"Cooking"},{"$f":"VLOOKUP(H211,LanguageData,MATCH(LanguageChosen,Language[Language],0),FALSE) & \" - \" & B211","v":"Renewables and wastes - TJ"},2012]
["SOLARTH","TJ",null,"COOK","",null,null,"Solar thermal",{"$f":"VLOOKUP(D212, Param_Multilanguage!A:C, Param_Menu!$B$3+1, FALSE)","v":"Cooking"},{"$f":"VLOOKUP(H212,LanguageData,MATCH(LanguageChosen,Language[Language],0),FALSE) & \" - \" & B212","v":"Solar thermal - TJ"},2012]
["BIOFUEL","TJ",null,"COOK","",null,null,"Solid biofuels excluding charcoal",{"$f":"VLOOKUP(D213, Param_Multilanguage!A:C, Param_Menu!$B$3+1, FALSE)","v":"Cooking"},{"$f":"VLOOKUP(H213,LanguageData,MATCH(LanguageChosen,Language[Language],0),FALSE) & \" - \" & B213","v":"Solid biofuels excluding charcoal - TJ"},2012]
["BIOGASES","TJ",null,"COOK","",null,null,"Biogases",{"$f":"VLOOKUP(D214, Param_Multilanguage!A:C, Param_Menu!$B$3+1, FALSE)","v":"Cooking"},{"$f":"VLOOKUP(H214,LanguageData,MATCH(LanguageChosen,Language[Language],0),FALSE) & \" - \" & B214","v":"Biogases - TJ"},2012]
["AMBIANT","TJ",null,"COOK","",null,null,"Ambient heat",{"$f":"VLOOKUP(D215, Param_Multilanguage!A:C, Param_Menu!$B$3+1, FALSE)","v":"Cooking"},{"$f":"VLOOKUP(H215,LanguageData,MATCH(LanguageChosen,Language[Language],0),FALSE) & \" - \" & B215","v":"Ambient heat - TJ"},2012]
["ELEC","GWH",null,"LIGHTAPP",null,null,null,"Electricity",{"$f":"VLOOKUP(D216, Param_Multilanguage!A:C, Param_Menu!$B$3+1, FALSE)","v":"Lighting and appliances"},{"$f":"VLOOKUP(H216,LanguageData,MATCH(LanguageChosen,Language[Language],0),FALSE) & \" - \" & B216","v":"Electricity - GWH"},2012]
["HEAT","TJ",null,"LIGHTAPP","",null,null,"Derived heat",{"$f":"VLOOKUP(D217, Param_Multilanguage!A:C, Param_Menu!$B$3+1, FALSE)","v":"Lighting and appliances"},{"$f":"VLOOKUP(H217,LanguageData,MATCH(LanguageChosen,Language[Language],0),FALSE) & \" - \" & B217","v":"Derived heat - TJ"},2012]
["GAS","TJ_GCV",null,"LIGHTAPP","",null,null,"Gas",{"$f":"VLOOKUP(D218, Param_Multilanguage!A:C, Param_Menu!$B$3+1, FALSE)","v":"Lighting and appliances"},{"$f":"VLOOKUP(H218,LanguageData,MATCH(LanguageChosen,Language[Language],0),FALSE) & \" - \" & B218","v":"Gas - TJ_GCV"},2012]
["SOLIDFUEL","KT",null,"LIGHTAPP","",null,null,"Solid fossil fuels",{"$f":"VLOOKUP(D219, Param_Multilanguage!A:C, Param_Menu!$B$3+1, FALSE)","v":"Lighting and appliances"},{"$f":"VLOOKUP(H219,LanguageData,MATCH(LanguageChosen,Language[Language],0),FALSE) & \" - \" & B219","v":"Solid fossil fuels - KT"},2012]
["OIL","KT",null,"LIGHTAPP","",null,null,"Total oil and petroleum products",{"$f":"VLOOKUP(D220, Param_Multilanguage!A:C, Param_Menu!$B$3+1, FALSE)","v":"Lighting and appliances"},{"$f":"VLOOKUP(H220,LanguageData,MATCH(LanguageChosen,Language[Language],0),FALSE) & \" - \" & B220","v":"Total oil and petroleum products - KT"},2012]
["LPG","KT",null,"LIGHTAPP","",null,null,"LPG",{"$f":"VLOOKUP(D221, Param_Multilanguage!A:C, Param_Menu!$B$3+1, FALSE)","v":"Lighting and appliances"},{"$f":"VLOOKUP(H221,LanguageData,MATCH(LanguageChosen,Language[Language],0),FALSE) & \" - \" & B221","v":"LPG - KT"},2012]
["KEROSENE","KT",null,"LIGHTAPP","",null,null,"Other kerosene",{"$f":"VLOOKUP(D222, Param_Multilanguage!A:C, Param_Menu!$B$3+1, FALSE)","v":"Lighting and appliances"},{"$f":"VLOOKUP(H222,LanguageData,MATCH(LanguageChosen,Language[Language],0),FALSE) & \" - \" & B222","v":"Other kerosene - KT"},2012]
["GASOIL","KT",null,"LIGHTAPP","",null,null,"Total gas/diesel oil",{"$f":"VLOOKUP(D223, Param_Multilanguage!A:C, Param_Menu!$B$3+1, FALSE)","v":"Lighting and appliances"},{"$f":"VLOOKUP(H223,LanguageData,MATCH(LanguageChosen,Language[Language],0),FALSE) & \" - \" & B223","v":"Total gas/diesel oil - KT"},2012]
["RENEW","TJ",null,"LIGHTAPP","",null,null,"Renewables and wastes",{"$f":"VLOOKUP(D224, Param_Multilanguage!A:C, Param_Menu!$B$3+1, FALSE)","v":"Lighting and appliances"},{"$f":"VLOOKUP(H224,LanguageData,MATCH(LanguageChosen,Language[Language],0),FALSE) & \" - \" & B224","v":"Renewables and wastes - TJ"},2012]
["SOLARTH","TJ",null,"LIGHTAPP","",null,null,"Solar thermal",{"$f":"VLOOKUP(D225, Param_Multilanguage!A:C, Param_Menu!$B$3+1, FALSE)","v":"Lighting and appliances"},{"$f":"VLOOKUP(H225,LanguageData,MATCH(LanguageChosen,Language[Language],0),FALSE) & \" - \" & B225","v":"Solar thermal - TJ"},2012]
["BIOFUEL","TJ",null,"LIGHTAPP","",null,null,"Solid biofuels excluding charcoal",{"$f":"VLOOKUP(D226, Param_Multilanguage!A:C, Param_Menu!$B$3+1, FALSE)","v":"Lighting and appliances"},{"$f":"VLOOKUP(H226,LanguageData,MATCH(LanguageChosen,Language[Language],0),FALSE) & \" - \" & B226","v":"Solid biofuels excluding charcoal - TJ"},2012]
["BIOGASES","TJ",null,"LIGHTAPP","",null,null,"Biogases",{"$f":"VLOOKUP(D227, Param_Multilanguage!A:C, Param_Menu!$B$3+1, FALSE)","v":"Lighting and appliances"},{"$f":"VLOOKUP(H227,LanguageData,MATCH(LanguageChosen,Language[Language],0),FALSE) & \" - \" & B227","v":"Biogases - TJ"},2012]
["AMBIANT","TJ",null,"LIGHTAPP","",null,null,"Ambient heat",{"$f":"VLOOKUP(D228, Param_Multilanguage!A:C, Param_Menu!$B$3+1, FALSE)","v":"Lighting and appliances"},{"$f":"VLOOKUP(H228,LanguageData,MATCH(LanguageChosen,Language[Language],0),FALSE) & \" - \" & B228","v":"Ambient heat - TJ"},2012]
["ELEC","GWH",null,"RESOTH",null,null,null,"Electricity",{"$f":"VLOOKUP(D229, Param_Multilanguage!A:C, Param_Menu!$B$3+1, FALSE)","v":"Other end uses"},{"$f":"VLOOKUP(H229,LanguageData,MATCH(LanguageChosen,Language[Language],0),FALSE) & \" - \" & B229","v":"Electricity - GWH"},2012]
["HEAT","TJ",null,"RESOTH","",null,null,"Derived heat",{"$f":"VLOOKUP(D230, Param_Multilanguage!A:C, Param_Menu!$B$3+1, FALSE)","v":"Other end uses"},{"$f":"VLOOKUP(H230,LanguageData,MATCH(LanguageChosen,Language[Language],0),FALSE) & \" - \" & B230","v":"Derived heat - TJ"},2012]
["GAS","TJ_GCV",null,"RESOTH","",null,null,"Gas",{"$f":"VLOOKUP(D231, Param_Multilanguage!A:C, Param_Menu!$B$3+1, FALSE)","v":"Other end uses"},{"$f":"VLOOKUP(H231,LanguageData,MATCH(LanguageChosen,Language[Language],0),FALSE) & \" - \" & B231","v":"Gas - TJ_GCV"},2012]
["SOLIDFUEL","KT",null,"RESOTH","",null,null,"Solid fossil fuels",{"$f":"VLOOKUP(D232, Param_Multilanguage!A:C, Param_Menu!$B$3+1, FALSE)","v":"Other end uses"},{"$f":"VLOOKUP(H232,LanguageData,MATCH(LanguageChosen,Language[Language],0),FALSE) & \" - \" & B232","v":"Solid fossil fuels - KT"},2012]
["OIL","KT",null,"RESOTH","",null,null,"Total oil and petroleum products",{"$f":"VLOOKUP(D233, Param_Multilanguage!A:C, Param_Menu!$B$3+1, FALSE)","v":"Other end uses"},{"$f":"VLOOKUP(H233,LanguageData,MATCH(LanguageChosen,Language[Language],0),FALSE) & \" - \" & B233","v":"Total oil and petroleum products - KT"},2012]
["LPG","KT",null,"RESOTH","",null,null,"LPG",{"$f":"VLOOKUP(D234, Param_Multilanguage!A:C, Param_Menu!$B$3+1, FALSE)","v":"Other end uses"},{"$f":"VLOOKUP(H234,LanguageData,MATCH(LanguageChosen,Language[Language],0),FALSE) & \" - \" & B234","v":"LPG - KT"},2012]
["KEROSENE","KT",null,"RESOTH","",null,null,"Other kerosene",{"$f":"VLOOKUP(D235, Param_Multilanguage!A:C, Param_Menu!$B$3+1, FALSE)","v":"Other end uses"},{"$f":"VLOOKUP(H235,LanguageData,MATCH(LanguageChosen,Language[Language],0),FALSE) & \" - \" & B235","v":"Other kerosene - KT"},2012]
["GASOIL","KT",null,"RESOTH","",null,null,"Total gas/diesel oil",{"$f":"VLOOKUP(D236, Param_Multilanguage!A:C, Param_Menu!$B$3+1, FALSE)","v":"Other end uses"},{"$f":"VLOOKUP(H236,LanguageData,MATCH(LanguageChosen,Language[Language],0),FALSE) & \" - \" & B236","v":"Total gas/diesel oil - KT"},2012]
["RENEW","TJ",null,"RESOTH","",null,null,"Renewables and wastes",{"$f":"VLOOKUP(D237, Param_Multilanguage!A:C, Param_Menu!$B$3+1, FALSE)","v":"Other end uses"},{"$f":"VLOOKUP(H237,LanguageData,MATCH(LanguageChosen,Language[Language],0),FALSE) & \" - \" & B237","v":"Renewables and wastes - TJ"},2012]
["SOLARTH","TJ",null,"RESOTH","",null,null,"Solar thermal",{"$f":"VLOOKUP(D238, Param_Multilanguage!A:C, Param_Menu!$B$3+1, FALSE)","v":"Other end uses"},{"$f":"VLOOKUP(H238,LanguageData,MATCH(LanguageChosen,Language[Language],0),FALSE) & \" - \" & B238","v":"Solar thermal - TJ"},2012]
["BIOFUEL","TJ",null,"RESOTH","",null,null,"Solid biofuels excluding charcoal",{"$f":"VLOOKUP(D239, Param_Multilanguage!A:C, Param_Menu!$B$3+1, FALSE)","v":"Other end uses"},{"$f":"VLOOKUP(H239,LanguageData,MATCH(LanguageChosen,Language[Language],0),FALSE) & \" - \" & B239","v":"Solid biofuels excluding charcoal - TJ"},2012]
["BIOGASES","TJ",null,"RESOTH","",null,null,"Biogases",{"$f":"VLOOKUP(D240, Param_Multilanguage!A:C, Param_Menu!$B$3+1, FALSE)","v":"Other end uses"},{"$f":"VLOOKUP(H240,LanguageData,MATCH(LanguageChosen,Language[Language],0),FALSE) & \" - \" & B240","v":"Biogases - TJ"},2012]
["AMBIANT","TJ",null,"RESOTH","",null,null,"Ambient heat",{"$f":"VLOOKUP(D241, Param_Multilanguage!A:C, Param_Menu!$B$3+1, FALSE)","v":"Other end uses"},{"$f":"VLOOKUP(H241,LanguageData,MATCH(LanguageChosen,Language[Language],0),FALSE) & \" - \" & B241","v":"Ambient heat - TJ"},2012]
["ELEC","GWH",null,"SPACEHEAT",null,null,null,"Electricity",{"$f":"VLOOKUP(D242, Param_Multilanguage!A:C, Param_Menu!$B$3+1, FALSE)","v":"Space heating"},{"$f":"VLOOKUP(H242,LanguageData,MATCH(LanguageChosen,Language[Language],0),FALSE) & \" - \" & B242","v":"Electricity - GWH"},2013]
["HEAT","TJ",null,"SPACEHEAT","",null,null,"Derived heat",{"$f":"VLOOKUP(D243, Param_Multilanguage!A:C, Param_Menu!$B$3+1, FALSE)","v":"Space heating"},{"$f":"VLOOKUP(H243,LanguageData,MATCH(LanguageChosen,Language[Language],0),FALSE) & \" - \" & B243","v":"Derived heat - TJ"},2013]
["GAS","TJ_GCV",null,"SPACEHEAT","",null,null,"Gas",{"$f":"VLOOKUP(D244, Param_Multilanguage!A:C, Param_Menu!$B$3+1, FALSE)","v":"Space heating"},{"$f":"VLOOKUP(H244,LanguageData,MATCH(LanguageChosen,Language[Language],0),FALSE) & \" - \" & B244","v":"Gas - TJ_GCV"},2013]
["SOLIDFUEL","KT",null,"SPACEHEAT","",null,null,"Solid fossil fuels",{"$f":"VLOOKUP(D245, Param_Multilanguage!A:C, Param_Menu!$B$3+1, FALSE)","v":"Space heating"},{"$f":"VLOOKUP(H245,LanguageData,MATCH(LanguageChosen,Language[Language],0),FALSE) & \" - \" & B245","v":"Solid fossil fuels - KT"},2013]
["OIL","KT",null,"SPACEHEAT","",null,null,"Total oil and petroleum products",{"$f":"VLOOKUP(D246, Param_Multilanguage!A:C, Param_Menu!$B$3+1, FALSE)","v":"Space heating"},{"$f":"VLOOKUP(H246,LanguageData,MATCH(LanguageChosen,Language[Language],0),FALSE) & \" - \" & B246","v":"Total oil and petroleum products - KT"},2013]
["LPG","KT",null,"SPACEHEAT","",null,null,"LPG",{"$f":"VLOOKUP(D247, Param_Multilanguage!A:C, Param_Menu!$B$3+1, FALSE)","v":"Space heating"},{"$f":"VLOOKUP(H247,LanguageData,MATCH(LanguageChosen,Language[Language],0),FALSE) & \" - \" & B247","v":"LPG - KT"},2013]
["KEROSENE","KT",null,"SPACEHEAT","",null,null,"Other kerosene",{"$f":"VLOOKUP(D248, Param_Multilanguage!A:C, Param_Menu!$B$3+1, FALSE)","v":"Space heating"},{"$f":"VLOOKUP(H248,LanguageData,MATCH(LanguageChosen,Language[Language],0),FALSE) & \" - \" & B248","v":"Other kerosene - KT"},2013]
["GASOIL","KT",null,"SPACEHEAT","",null,null,"Total gas/diesel oil",{"$f":"VLOOKUP(D249, Param_Multilanguage!A:C, Param_Menu!$B$3+1, FALSE)","v":"Space heating"},{"$f":"VLOOKUP(H249,LanguageData,MATCH(LanguageChosen,Language[Language],0),FALSE) & \" - \" & B249","v":"Total gas/diesel oil - KT"},2013]
["RENEW","TJ",null,"SPACEHEAT","",null,null,"Renewables and wastes",{"$f":"VLOOKUP(D250, Param_Multilanguage!A:C, Param_Menu!$B$3+1, FALSE)","v":"Space heating"},{"$f":"VLOOKUP(H250,LanguageData,MATCH(LanguageChosen,Language[Language],0),FALSE) & \" - \" & B250","v":"Renewables and wastes - TJ"},2013]
["SOLARTH","TJ",null,"SPACEHEAT","",null,null,"Solar thermal",{"$f":"VLOOKUP(D251, Param_Multilanguage!A:C, Param_Menu!$B$3+1, FALSE)","v":"Space heating"},{"$f":"VLOOKUP(H251,LanguageData,MATCH(LanguageChosen,Language[Language],0),FALSE) & \" - \" & B251","v":"Solar thermal - TJ"},2013]
["BIOFUEL","TJ",null,"SPACEHEAT","",null,null,"Solid biofuels excluding charcoal",{"$f":"VLOOKUP(D252, Param_Multilanguage!A:C, Param_Menu!$B$3+1, FALSE)","v":"Space heating"},{"$f":"VLOOKUP(H252,LanguageData,MATCH(LanguageChosen,Language[Language],0),FALSE) & \" - \" & B252","v":"Solid biofuels excluding charcoal - TJ"},2013]
["BIOGASES","TJ",null,"SPACEHEAT","",null,null,"Biogases",{"$f":"VLOOKUP(D253, Param_Multilanguage!A:C, Param_Menu!$B$3+1, FALSE)","v":"Space heating"},{"$f":"VLOOKUP(H253,LanguageData,MATCH(LanguageChosen,Language[Language],0),FALSE) & \" - \" & B253","v":"Biogases - TJ"},2013]
["AMBIANT","TJ",null,"SPACEHEAT","",null,null,"Ambient heat",{"$f":"VLOOKUP(D254, Param_Multilanguage!A:C, Param_Menu!$B$3+1, FALSE)","v":"Space heating"},{"$f":"VLOOKUP(H254,LanguageData,MATCH(LanguageChosen,Language[Language],0),FALSE) & \" - \" & B254","v":"Ambient heat - TJ"},2013]
["ELEC","GWH",null,"SPACECOOL",null,null,null,"Electricity",{"$f":"VLOOKUP(D255, Param_Multilanguage!A:C, Param_Menu!$B$3+1, FALSE)","v":"Space cooling"},{"$f":"VLOOKUP(H255,LanguageData,MATCH(LanguageChosen,Language[Language],0),FALSE) & \" - \" & B255","v":"Electricity - GWH"},2013]
["HEAT","TJ",null,"SPACECOOL","",null,null,"Derived heat",{"$f":"VLOOKUP(D256, Param_Multilanguage!A:C, Param_Menu!$B$3+1, FALSE)","v":"Space cooling"},{"$f":"VLOOKUP(H256,LanguageData,MATCH(LanguageChosen,Language[Language],0),FALSE) & \" - \" & B256","v":"Derived heat - TJ"},2013]
["GAS","TJ_GCV",null,"SPACECOOL","",null,null,"Gas",{"$f":"VLOOKUP(D257, Param_Multilanguage!A:C, Param_Menu!$B$3+1, FALSE)","v":"Space cooling"},{"$f":"VLOOKUP(H257,LanguageData,MATCH(LanguageChosen,Language[Language],0),FALSE) & \" - \" & B257","v":"Gas - TJ_GCV"},2013]
["SOLIDFUEL","KT",null,"SPACECOOL","",null,null,"Solid fossil fuels",{"$f":"VLOOKUP(D258, Param_Multilanguage!A:C, Param_Menu!$B$3+1, FALSE)","v":"Space cooling"},{"$f":"VLOOKUP(H258,LanguageData,MATCH(LanguageChosen,Language[Language],0),FALSE) & \" - \" & B258","v":"Solid fossil fuels - KT"},2013]
["OIL","KT",null,"SPACECOOL","",null,null,"Total oil and petroleum products",{"$f":"VLOOKUP(D259, Param_Multilanguage!A:C, Param_Menu!$B$3+1, FALSE)","v":"Space cooling"},{"$f":"VLOOKUP(H259,LanguageData,MATCH(LanguageChosen,Language[Language],0),FALSE) & \" - \" & B259","v":"Total oil and petroleum products - KT"},2013]
["LPG","KT",null,"SPACECOOL","",null,null,"LPG",{"$f":"VLOOKUP(D260, Param_Multilanguage!A:C, Param_Menu!$B$3+1, FALSE)","v":"Space cooling"},{"$f":"VLOOKUP(H260,LanguageData,MATCH(LanguageChosen,Language[Language],0),FALSE) & \" - \" & B260","v":"LPG - KT"},2013]
["KEROSENE","KT",null,"SPACECOOL","",null,null,"Other kerosene",{"$f":"VLOOKUP(D261, Param_Multilanguage!A:C, Param_Menu!$B$3+1, FALSE)","v":"Space cooling"},{"$f":"VLOOKUP(H261,LanguageData,MATCH(LanguageChosen,Language[Language],0),FALSE) & \" - \" & B261","v":"Other kerosene - KT"},2013]
["GASOIL","KT",null,"SPACECOOL","",null,null,"Total gas/diesel oil",{"$f":"VLOOKUP(D262, Param_Multilanguage!A:C, Param_Menu!$B$3+1, FALSE)","v":"Space cooling"},{"$f":"VLOOKUP(H262,LanguageData,MATCH(LanguageChosen,Language[Language],0),FALSE) & \" - \" & B262","v":"Total gas/diesel oil - KT"},2013]
["RENEW","TJ",null,"SPACECOOL","",null,null,"Renewables and wastes",{"$f":"VLOOKUP(D263, Param_Multilanguage!A:C, Param_Menu!$B$3+1, FALSE)","v":"Space cooling"},{"$f":"VLOOKUP(H263,LanguageData,MATCH(LanguageChosen,Language[Language],0),FALSE) & \" - \" & B263","v":"Renewables and wastes - TJ"},2013]
["SOLARTH","TJ",null,"SPACECOOL","",null,null,"Solar thermal",{"$f":"VLOOKUP(D264, Param_Multilanguage!A:C, Param_Menu!$B$3+1, FALSE)","v":"Space cooling"},{"$f":"VLOOKUP(H264,LanguageData,MATCH(LanguageChosen,Language[Language],0),FALSE) & \" - \" & B264","v":"Solar thermal - TJ"},2013]
["BIOFUEL","TJ",null,"SPACECOOL","",null,null,"Solid biofuels excluding charcoal",{"$f":"VLOOKUP(D265, Param_Multilanguage!A:C, Param_Menu!$B$3+1, FALSE)","v":"Space cooling"},{"$f":"VLOOKUP(H265,LanguageData,MATCH(LanguageChosen,Language[Language],0),FALSE) & \" - \" & B265","v":"Solid biofuels excluding charcoal - TJ"},2013]
["BIOGASES","TJ",null,"SPACECOOL","",null,null,"Biogases",{"$f":"VLOOKUP(D266, Param_Multilanguage!A:C, Param_Menu!$B$3+1, FALSE)","v":"Space cooling"},{"$f":"VLOOKUP(H266,LanguageData,MATCH(LanguageChosen,Language[Language],0),FALSE) & \" - \" & B266","v":"Biogases - TJ"},2013]
["AMBIANT","TJ",null,"SPACECOOL","",null,null,"Ambient heat",{"$f":"VLOOKUP(D267, Param_Multilanguage!A:C, Param_Menu!$B$3+1, FALSE)","v":"Space cooling"},{"$f":"VLOOKUP(H267,LanguageData,MATCH(LanguageChosen,Language[Language],0),FALSE) & \" - \" & B267","v":"Ambient heat - TJ"},2013]
["ELEC","GWH",null,"WATERHEAT",null,null,null,"Electricity",{"$f":"VLOOKUP(D268, Param_Multilanguage!A:C, Param_Menu!$B$3+1, FALSE)","v":"Water heating"},{"$f":"VLOOKUP(H268,LanguageData,MATCH(LanguageChosen,Language[Language],0),FALSE) & \" - \" & B268","v":"Electricity - GWH"},2013]
["HEAT","TJ",null,"WATERHEAT","",null,null,"Derived heat",{"$f":"VLOOKUP(D269, Param_Multilanguage!A:C, Param_Menu!$B$3+1, FALSE)","v":"Water heating"},{"$f":"VLOOKUP(H269,LanguageData,MATCH(LanguageChosen,Language[Language],0),FALSE) & \" - \" & B269","v":"Derived heat - TJ"},2013]
["GAS","TJ_GCV",null,"WATERHEAT","",null,null,"Gas",{"$f":"VLOOKUP(D270, Param_Multilanguage!A:C, Param_Menu!$B$3+1, FALSE)","v":"Water heating"},{"$f":"VLOOKUP(H270,LanguageData,MATCH(LanguageChosen,Language[Language],0),FALSE) & \" - \" & B270","v":"Gas - TJ_GCV"},2013]
["SOLIDFUEL","KT",null,"WATERHEAT","",null,null,"Solid fossil fuels",{"$f":"VLOOKUP(D271, Param_Multilanguage!A:C, Param_Menu!$B$3+1, FALSE)","v":"Water heating"},{"$f":"VLOOKUP(H271,LanguageData,MATCH(LanguageChosen,Language[Language],0),FALSE) & \" - \" & B271","v":"Solid fossil fuels - KT"},2013]
["OIL","KT",null,"WATERHEAT","",null,null,"Total oil and petroleum products",{"$f":"VLOOKUP(D272, Param_Multilanguage!A:C, Param_Menu!$B$3+1, FALSE)","v":"Water heating"},{"$f":"VLOOKUP(H272,LanguageData,MATCH(LanguageChosen,Language[Language],0),FALSE) & \" - \" & B272","v":"Total oil and petroleum products - KT"},2013]
["LPG","KT",null,"WATERHEAT","",null,null,"LPG",{"$f":"VLOOKUP(D273, Param_Multilanguage!A:C, Param_Menu!$B$3+1, FALSE)","v":"Water heating"},{"$f":"VLOOKUP(H273,LanguageData,MATCH(LanguageChosen,Language[Language],0),FALSE) & \" - \" & B273","v":"LPG - KT"},2013]
["KEROSENE","KT",null,"WATERHEAT","",null,null,"Other kerosene",{"$f":"VLOOKUP(D274, Param_Multilanguage!A:C, Param_Menu!$B$3+1, FALSE)","v":"Water heating"},{"$f":"VLOOKUP(H274,LanguageData,MATCH(LanguageChosen,Language[Language],0),FALSE) & \" - \" & B274","v":"Other kerosene - KT"},2013]
["GASOIL","KT",null,"WATERHEAT","",null,null,"Total gas/diesel oil",{"$f":"VLOOKUP(D275, Param_Multilanguage!A:C, Param_Menu!$B$3+1, FALSE)","v":"Water heating"},{"$f":"VLOOKUP(H275,LanguageData,MATCH(LanguageChosen,Language[Language],0),FALSE) & \" - \" & B275","v":"Total gas/diesel oil - KT"},2013]
["RENEW","TJ",null,"WATERHEAT","",null,null,"Renewables and wastes",{"$f":"VLOOKUP(D276, Param_Multilanguage!A:C, Param_Menu!$B$3+1, FALSE)","v":"Water heating"},{"$f":"VLOOKUP(H276,LanguageData,MATCH(LanguageChosen,Language[Language],0),FALSE) & \" - \" & B276","v":"Renewables and wastes - TJ"},2013]
["SOLARTH","TJ",null,"WATERHEAT","",null,null,"Solar thermal",{"$f":"VLOOKUP(D277, Param_Multilanguage!A:C, Param_Menu!$B$3+1, FALSE)","v":"Water heating"},{"$f":"VLOOKUP(H277,LanguageData,MATCH(LanguageChosen,Language[Language],0),FALSE) & \" - \" & B277","v":"Solar thermal - TJ"},2013]
["BIOFUEL","TJ",null,"WATERHEAT","",null,null,"Solid biofuels excluding charcoal",{"$f":"VLOOKUP(D278, Param_Multilanguage!A:C, Param_Menu!$B$3+1, FALSE)","v":"Water heating"},{"$f":"VLOOKUP(H278,LanguageData,MATCH(LanguageChosen,Language[Language],0),FALSE) & \" - \" & B278","v":"Solid biofuels excluding charcoal - TJ"},2013]
["BIOGASES","TJ",null,"WATERHEAT","",null,null,"Biogases",{"$f":"VLOOKUP(D279, Param_Multilanguage!A:C, Param_Menu!$B$3+1, FALSE)","v":"Water heating"},{"$f":"VLOOKUP(H279,LanguageData,MATCH(LanguageChosen,Language[Language],0),FALSE) & \" - \" & B279","v":"Biogases - TJ"},2013]
["AMBIANT","TJ",null,"WATERHEAT","",null,null,"Ambient heat",{"$f":"VLOOKUP(D280, Param_Multilanguage!A:C, Param_Menu!$B$3+1, FALSE)","v":"Water heating"},{"$f":"VLOOKUP(H280,LanguageData,MATCH(LanguageChosen,Language[Language],0),FALSE) & \" - \" & B280","v":"Ambient heat - TJ"},2013]
["ELEC","GWH",null,"COOK",null,null,null,"Electricity",{"$f":"VLOOKUP(D281, Param_Multilanguage!A:C, Param_Menu!$B$3+1, FALSE)","v":"Cooking"},{"$f":"VLOOKUP(H281,LanguageData,MATCH(LanguageChosen,Language[Language],0),FALSE) & \" - \" & B281","v":"Electricity - GWH"},2013]
["HEAT","TJ",null,"COOK","",null,null,"Derived heat",{"$f":"VLOOKUP(D282, Param_Multilanguage!A:C, Param_Menu!$B$3+1, FALSE)","v":"Cooking"},{"$f":"VLOOKUP(H282,LanguageData,MATCH(LanguageChosen,Language[Language],0),FALSE) & \" - \" & B282","v":"Derived heat - TJ"},2013]
["GAS","TJ_GCV",null,"COOK","",null,null,"Gas",{"$f":"VLOOKUP(D283, Param_Multilanguage!A:C, Param_Menu!$B$3+1, FALSE)","v":"Cooking"},{"$f":"VLOOKUP(H283,LanguageData,MATCH(LanguageChosen,Language[Language],0),FALSE) & \" - \" & B283","v":"Gas - TJ_GCV"},2013]
["SOLIDFUEL","KT",null,"COOK","",null,null,"Solid fossil fuels",{"$f":"VLOOKUP(D284, Param_Multilanguage!A:C, Param_Menu!$B$3+1, FALSE)","v":"Cooking"},{"$f":"VLOOKUP(H284,LanguageData,MATCH(LanguageChosen,Language[Language],0),FALSE) & \" - \" & B284","v":"Solid fossil fuels - KT"},2013]
["OIL","KT",null,"COOK","",null,null,"Total oil and petroleum products",{"$f":"VLOOKUP(D285, Param_Multilanguage!A:C, Param_Menu!$B$3+1, FALSE)","v":"Cooking"},{"$f":"VLOOKUP(H285,LanguageData,MATCH(LanguageChosen,Language[Language],0),FALSE) & \" - \" & B285","v":"Total oil and petroleum products - KT"},2013]
["LPG","KT",null,"COOK","",null,null,"LPG",{"$f":"VLOOKUP(D286, Param_Multilanguage!A:C, Param_Menu!$B$3+1, FALSE)","v":"Cooking"},{"$f":"VLOOKUP(H286,LanguageData,MATCH(LanguageChosen,Language[Language],0),FALSE) & \" - \" & B286","v":"LPG - KT"},2013]
["KEROSENE","KT",null,"COOK","",null,null,"Other kerosene",{"$f":"VLOOKUP(D287, Param_Multilanguage!A:C, Param_Menu!$B$3+1, FALSE)","v":"Cooking"},{"$f":"VLOOKUP(H287,LanguageData,MATCH(LanguageChosen,Language[Language],0),FALSE) & \" - \" & B287","v":"Other kerosene - KT"},2013]
["GASOIL","KT",null,"COOK","",null,null,"Total gas/diesel oil",{"$f":"VLOOKUP(D288, Param_Multilanguage!A:C, Param_Menu!$B$3+1, FALSE)","v":"Cooking"},{"$f":"VLOOKUP(H288,LanguageData,MATCH(LanguageChosen,Language[Language],0),FALSE) & \" - \" & B288","v":"Total gas/diesel oil - KT"},2013]
["RENEW","TJ",null,"COOK","",null,null,"Renewables and wastes",{"$f":"VLOOKUP(D289, Param_Multilanguage!A:C, Param_Menu!$B$3+1, FALSE)","v":"Cooking"},{"$f":"VLOOKUP(H289,LanguageData,MATCH(LanguageChosen,Language[Language],0),FALSE) & \" - \" & B289","v":"Renewables and wastes - TJ"},2013]
["SOLARTH","TJ",null,"COOK","",null,null,"Solar thermal",{"$f":"VLOOKUP(D290, Param_Multilanguage!A:C, Param_Menu!$B$3+1, FALSE)","v":"Cooking"},{"$f":"VLOOKUP(H290,LanguageData,MATCH(LanguageChosen,Language[Language],0),FALSE) & \" - \" & B290","v":"Solar thermal - TJ"},2013]
["BIOFUEL","TJ",null,"COOK","",null,null,"Solid biofuels excluding charcoal",{"$f":"VLOOKUP(D291, Param_Multilanguage!A:C, Param_Menu!$B$3+1, FALSE)","v":"Cooking"},{"$f":"VLOOKUP(H291,LanguageData,MATCH(LanguageChosen,Language[Language],0),FALSE) & \" - \" & B291","v":"Solid biofuels excluding charcoal - TJ"},2013]
["BIOGASES","TJ",null,"COOK","",null,null,"Biogases",{"$f":"VLOOKUP(D292, Param_Multilanguage!A:C, Param_Menu!$B$3+1, FALSE)","v":"Cooking"},{"$f":"VLOOKUP(H292,LanguageData,MATCH(LanguageChosen,Language[Language],0),FALSE) & \" - \" & B292","v":"Biogases - TJ"},2013]
["AMBIANT","TJ",null,"COOK","",null,null,"Ambient heat",{"$f":"VLOOKUP(D293, Param_Multilanguage!A:C, Param_Menu!$B$3+1, FALSE)","v":"Cooking"},{"$f":"VLOOKUP(H293,LanguageData,MATCH(LanguageChosen,Language[Language],0),FALSE) & \" - \" & B293","v":"Ambient heat - TJ"},2013]
["ELEC","GWH",null,"LIGHTAPP",null,null,null,"Electricity",{"$f":"VLOOKUP(D294, Param_Multilanguage!A:C, Param_Menu!$B$3+1, FALSE)","v":"Lighting and appliances"},{"$f":"VLOOKUP(H294,LanguageData,MATCH(LanguageChosen,Language[Language],0),FALSE) & \" - \" & B294","v":"Electricity - GWH"},2013]
["HEAT","TJ",null,"LIGHTAPP","",null,null,"Derived heat",{"$f":"VLOOKUP(D295, Param_Multilanguage!A:C, Param_Menu!$B$3+1, FALSE)","v":"Lighting and appliances"},{"$f":"VLOOKUP(H295,LanguageData,MATCH(LanguageChosen,Language[Language],0),FALSE) & \" - \" & B295","v":"Derived heat - TJ"},2013]
["GAS","TJ_GCV",null,"LIGHTAPP","",null,null,"Gas",{"$f":"VLOOKUP(D296, Param_Multilanguage!A:C, Param_Menu!$B$3+1, FALSE)","v":"Lighting and appliances"},{"$f":"VLOOKUP(H296,LanguageData,MATCH(LanguageChosen,Language[Language],0),FALSE) & \" - \" & B296","v":"Gas - TJ_GCV"},2013]
["SOLIDFUEL","KT",null,"LIGHTAPP","",null,null,"Solid fossil fuels",{"$f":"VLOOKUP(D297, Param_Multilanguage!A:C, Param_Menu!$B$3+1, FALSE)","v":"Lighting and appliances"},{"$f":"VLOOKUP(H297,LanguageData,MATCH(LanguageChosen,Language[Language],0),FALSE) & \" - \" & B297","v":"Solid fossil fuels - KT"},2013]
["OIL","KT",null,"LIGHTAPP","",null,null,"Total oil and petroleum products",{"$f":"VLOOKUP(D298, Param_Multilanguage!A:C, Param_Menu!$B$3+1, FALSE)","v":"Lighting and appliances"},{"$f":"VLOOKUP(H298,LanguageData,MATCH(LanguageChosen,Language[Language],0),FALSE) & \" - \" & B298","v":"Total oil and petroleum products - KT"},2013]
["LPG","KT",null,"LIGHTAPP","",null,null,"LPG",{"$f":"VLOOKUP(D299, Param_Multilanguage!A:C, Param_Menu!$B$3+1, FALSE)","v":"Lighting and appliances"},{"$f":"VLOOKUP(H299,LanguageData,MATCH(LanguageChosen,Language[Language],0),FALSE) & \" - \" & B299","v":"LPG - KT"},2013]
["KEROSENE","KT",null,"LIGHTAPP","",null,null,"Other kerosene",{"$f":"VLOOKUP(D300, Param_Multilanguage!A:C, Param_Menu!$B$3+1, FALSE)","v":"Lighting and appliances"},{"$f":"VLOOKUP(H300,LanguageData,MATCH(LanguageChosen,Language[Language],0),FALSE) & \" - \" & B300","v":"Other kerosene - KT"},2013]
["GASOIL","KT",null,"LIGHTAPP","",null,null,"Total gas/diesel oil",{"$f":"VLOOKUP(D301, Param_Multilanguage!A:C, Param_Menu!$B$3+1, FALSE)","v":"Lighting and appliances"},{"$f":"VLOOKUP(H301,LanguageData,MATCH(LanguageChosen,Language[Language],0),FALSE) & \" - \" & B301","v":"Total gas/diesel oil - KT"},2013]
["RENEW","TJ",null,"LIGHTAPP","",null,null,"Renewables and wastes",{"$f":"VLOOKUP(D302, Param_Multilanguage!A:C, Param_Menu!$B$3+1, FALSE)","v":"Lighting and appliances"},{"$f":"VLOOKUP(H302,LanguageData,MATCH(LanguageChosen,Language[Language],0),FALSE) & \" - \" & B302","v":"Renewables and wastes - TJ"},2013]
["SOLARTH","TJ",null,"LIGHTAPP","",null,null,"Solar thermal",{"$f":"VLOOKUP(D303, Param_Multilanguage!A:C, Param_Menu!$B$3+1, FALSE)","v":"Lighting and appliances"},{"$f":"VLOOKUP(H303,LanguageData,MATCH(LanguageChosen,Language[Language],0),FALSE) & \" - \" & B303","v":"Solar thermal - TJ"},2013]
["BIOFUEL","TJ",null,"LIGHTAPP","",null,null,"Solid biofuels excluding charcoal",{"$f":"VLOOKUP(D304, Param_Multilanguage!A:C, Param_Menu!$B$3+1, FALSE)","v":"Lighting and appliances"},{"$f":"VLOOKUP(H304,LanguageData,MATCH(LanguageChosen,Language[Language],0),FALSE) & \" - \" & B304","v":"Solid biofuels excluding charcoal - TJ"},2013]
["BIOGASES","TJ",null,"LIGHTAPP","",null,null,"Biogases",{"$f":"VLOOKUP(D305, Param_Multilanguage!A:C, Param_Menu!$B$3+1, FALSE)","v":"Lighting and appliances"},{"$f":"VLOOKUP(H305,LanguageData,MATCH(LanguageChosen,Language[Language],0),FALSE) & \" - \" & B305","v":"Biogases - TJ"},2013]
["AMBIANT","TJ",null,"LIGHTAPP","",null,null,"Ambient heat",{"$f":"VLOOKUP(D306, Param_Multilanguage!A:C, Param_Menu!$B$3+1, FALSE)","v":"Lighting and appliances"},{"$f":"VLOOKUP(H306,LanguageData,MATCH(LanguageChosen,Language[Language],0),FALSE) & \" - \" & B306","v":"Ambient heat - TJ"},2013]
["ELEC","GWH",null,"RESOTH",null,null,null,"Electricity",{"$f":"VLOOKUP(D307, Param_Multilanguage!A:C, Param_Menu!$B$3+1, FALSE)","v":"Other end uses"},{"$f":"VLOOKUP(H307,LanguageData,MATCH(LanguageChosen,Language[Language],0),FALSE) & \" - \" & B307","v":"Electricity - GWH"},2013]
["HEAT","TJ",null,"RESOTH","",null,null,"Derived heat",{"$f":"VLOOKUP(D308, Param_Multilanguage!A:C, Param_Menu!$B$3+1, FALSE)","v":"Other end uses"},{"$f":"VLOOKUP(H308,LanguageData,MATCH(LanguageChosen,Language[Language],0),FALSE) & \" - \" & B308","v":"Derived heat - TJ"},2013]
["GAS","TJ_GCV",null,"RESOTH","",null,null,"Gas",{"$f":"VLOOKUP(D309, Param_Multilanguage!A:C, Param_Menu!$B$3+1, FALSE)","v":"Other end uses"},{"$f":"VLOOKUP(H309,LanguageData,MATCH(LanguageChosen,Language[Language],0),FALSE) & \" - \" & B309","v":"Gas - TJ_GCV"},2013]
["SOLIDFUEL","KT",null,"RESOTH","",null,null,"Solid fossil fuels",{"$f":"VLOOKUP(D310, Param_Multilanguage!A:C, Param_Menu!$B$3+1, FALSE)","v":"Other end uses"},{"$f":"VLOOKUP(H310,LanguageData,MATCH(LanguageChosen,Language[Language],0),FALSE) & \" - \" & B310","v":"Solid fossil fuels - KT"},2013]
["OIL","KT",null,"RESOTH","",null,null,"Total oil and petroleum products",{"$f":"VLOOKUP(D311, Param_Multilanguage!A:C, Param_Menu!$B$3+1, FALSE)","v":"Other end uses"},{"$f":"VLOOKUP(H311,LanguageData,MATCH(LanguageChosen,Language[Language],0),FALSE) & \" - \" & B311","v":"Total oil and petroleum products - KT"},2013]
["LPG","KT",null,"RESOTH","",null,null,"LPG",{"$f":"VLOOKUP(D312, Param_Multilanguage!A:C, Param_Menu!$B$3+1, FALSE)","v":"Other end uses"},{"$f":"VLOOKUP(H312,LanguageData,MATCH(LanguageChosen,Language[Language],0),FALSE) & \" - \" & B312","v":"LPG - KT"},2013]
["KEROSENE","KT",null,"RESOTH","",null,null,"Other kerosene",{"$f":"VLOOKUP(D313, Param_Multilanguage!A:C, Param_Menu!$B$3+1, FALSE)","v":"Other end uses"},{"$f":"VLOOKUP(H313,LanguageData,MATCH(LanguageChosen,Language[Language],0),FALSE) & \" - \" & B313","v":"Other kerosene - KT"},2013]
["GASOIL","KT",null,"RESOTH","",null,null,"Total gas/diesel oil",{"$f":"VLOOKUP(D314, Param_Multilanguage!A:C, Param_Menu!$B$3+1, FALSE)","v":"Other end uses"},{"$f":"VLOOKUP(H314,LanguageData,MATCH(LanguageChosen,Language[Language],0),FALSE) & \" - \" & B314","v":"Total gas/diesel oil - KT"},2013]
["RENEW","TJ",null,"RESOTH","",null,null,"Renewables and wastes",{"$f":"VLOOKUP(D315, Param_Multilanguage!A:C, Param_Menu!$B$3+1, FALSE)","v":"Other end uses"},{"$f":"VLOOKUP(H315,LanguageData,MATCH(LanguageChosen,Language[Language],0),FALSE) & \" - \" & B315","v":"Renewables and wastes - TJ"},2013]
["SOLARTH","TJ",null,"RESOTH","",null,null,"Solar thermal",{"$f":"VLOOKUP(D316, Param_Multilanguage!A:C, Param_Menu!$B$3+1, FALSE)","v":"Other end uses"},{"$f":"VLOOKUP(H316,LanguageData,MATCH(LanguageChosen,Language[Language],0),FALSE) & \" - \" & B316","v":"Solar thermal - TJ"},2013]
["BIOFUEL","TJ",null,"RESOTH","",null,null,"Solid biofuels excluding charcoal",{"$f":"VLOOKUP(D317, Param_Multilanguage!A:C, Param_Menu!$B$3+1, FALSE)","v":"Other end uses"},{"$f":"VLOOKUP(H317,LanguageData,MATCH(LanguageChosen,Language[Language],0),FALSE) & \" - \" & B317","v":"Solid biofuels excluding charcoal - TJ"},2013]
["BIOGASES","TJ",null,"RESOTH","",null,null,"Biogases",{"$f":"VLOOKUP(D318, Param_Multilanguage!A:C, Param_Menu!$B$3+1, FALSE)","v":"Other end uses"},{"$f":"VLOOKUP(H318,LanguageData,MATCH(LanguageChosen,Language[Language],0),FALSE) & \" - \" & B318","v":"Biogases - TJ"},2013]
["AMBIANT","TJ",null,"RESOTH","",null,null,"Ambient heat",{"$f":"VLOOKUP(D319, Param_Multilanguage!A:C, Param_Menu!$B$3+1, FALSE)","v":"Other end uses"},{"$f":"VLOOKUP(H319,LanguageData,MATCH(LanguageChosen,Language[Language],0),FALSE) & \" - \" & B319","v":"Ambient heat - TJ"},2013]
["ELEC","GWH",null,"SPACEHEAT",null,null,null,"Electricity",{"$f":"VLOOKUP(D320, Param_Multilanguage!A:C, Param_Menu!$B$3+1, FALSE)","v":"Space heating"},{"$f":"VLOOKUP(H320,LanguageData,MATCH(LanguageChosen,Language[Language],0),FALSE) & \" - \" & B320","v":"Electricity - GWH"},2014]
["HEAT","TJ",null,"SPACEHEAT","",null,null,"Derived heat",{"$f":"VLOOKUP(D321, Param_Multilanguage!A:C, Param_Menu!$B$3+1, FALSE)","v":"Space heating"},{"$f":"VLOOKUP(H321,LanguageData,MATCH(LanguageChosen,Language[Language],0),FALSE) & \" - \" & B321","v":"Derived heat - TJ"},2014]
["GAS","TJ_GCV",null,"SPACEHEAT","",null,null,"Gas",{"$f":"VLOOKUP(D322, Param_Multilanguage!A:C, Param_Menu!$B$3+1, FALSE)","v":"Space heating"},{"$f":"VLOOKUP(H322,LanguageData,MATCH(LanguageChosen,Language[Language],0),FALSE) & \" - \" & B322","v":"Gas - TJ_GCV"},2014]
["SOLIDFUEL","KT",null,"SPACEHEAT","",null,null,"Solid fossil fuels",{"$f":"VLOOKUP(D323, Param_Multilanguage!A:C, Param_Menu!$B$3+1, FALSE)","v":"Space heating"},{"$f":"VLOOKUP(H323,LanguageData,MATCH(LanguageChosen,Language[Language],0),FALSE) & \" - \" & B323","v":"Solid fossil fuels - KT"},2014]
["OIL","KT",null,"SPACEHEAT","",null,null,"Total oil and petroleum products",{"$f":"VLOOKUP(D324, Param_Multilanguage!A:C, Param_Menu!$B$3+1, FALSE)","v":"Space heating"},{"$f":"VLOOKUP(H324,LanguageData,MATCH(LanguageChosen,Language[Language],0),FALSE) & \" - \" & B324","v":"Total oil and petroleum products - KT"},2014]
["LPG","KT",null,"SPACEHEAT","",null,null,"LPG",{"$f":"VLOOKUP(D325, Param_Multilanguage!A:C, Param_Menu!$B$3+1, FALSE)","v":"Space heating"},{"$f":"VLOOKUP(H325,LanguageData,MATCH(LanguageChosen,Language[Language],0),FALSE) & \" - \" & B325","v":"LPG - KT"},2014]
["KEROSENE","KT",null,"SPACEHEAT","",null,null,"Other kerosene",{"$f":"VLOOKUP(D326, Param_Multilanguage!A:C, Param_Menu!$B$3+1, FALSE)","v":"Space heating"},{"$f":"VLOOKUP(H326,LanguageData,MATCH(LanguageChosen,Language[Language],0),FALSE) & \" - \" & B326","v":"Other kerosene - KT"},2014]
["GASOIL","KT",null,"SPACEHEAT","",null,null,"Total gas/diesel oil",{"$f":"VLOOKUP(D327, Param_Multilanguage!A:C, Param_Menu!$B$3+1, FALSE)","v":"Space heating"},{"$f":"VLOOKUP(H327,LanguageData,MATCH(LanguageChosen,Language[Language],0),FALSE) & \" - \" & B327","v":"Total gas/diesel oil - KT"},2014]
["RENEW","TJ",null,"SPACEHEAT","",null,null,"Renewables and wastes",{"$f":"VLOOKUP(D328, Param_Multilanguage!A:C, Param_Menu!$B$3+1, FALSE)","v":"Space heating"},{"$f":"VLOOKUP(H328,LanguageData,MATCH(LanguageChosen,Language[Language],0),FALSE) & \" - \" & B328","v":"Renewables and wastes - TJ"},2014]
["SOLARTH","TJ",null,"SPACEHEAT","",null,null,"Solar thermal",{"$f":"VLOOKUP(D329, Param_Multilanguage!A:C, Param_Menu!$B$3+1, FALSE)","v":"Space heating"},{"$f":"VLOOKUP(H329,LanguageData,MATCH(LanguageChosen,Language[Language],0),FALSE) & \" - \" & B329","v":"Solar thermal - TJ"},2014]
["BIOFUEL","TJ",null,"SPACEHEAT","",null,null,"Solid biofuels excluding charcoal",{"$f":"VLOOKUP(D330, Param_Multilanguage!A:C, Param_Menu!$B$3+1, FALSE)","v":"Space heating"},{"$f":"VLOOKUP(H330,LanguageData,MATCH(LanguageChosen,Language[Language],0),FALSE) & \" - \" & B330","v":"Solid biofuels excluding charcoal - TJ"},2014]
["BIOGASES","TJ",null,"SPACEHEAT","",null,null,"Biogases",{"$f":"VLOOKUP(D331, Param_Multilanguage!A:C, Param_Menu!$B$3+1, FALSE)","v":"Space heating"},{"$f":"VLOOKUP(H331,LanguageData,MATCH(LanguageChosen,Language[Language],0),FALSE) & \" - \" & B331","v":"Biogases - TJ"},2014]
["AMBIANT","TJ",null,"SPACEHEAT","",null,null,"Ambient heat",{"$f":"VLOOKUP(D332, Param_Multilanguage!A:C, Param_Menu!$B$3+1, FALSE)","v":"Space heating"},{"$f":"VLOOKUP(H332,LanguageData,MATCH(LanguageChosen,Language[Language],0),FALSE) & \" - \" & B332","v":"Ambient heat - TJ"},2014]
["ELEC","GWH",null,"SPACECOOL",null,null,null,"Electricity",{"$f":"VLOOKUP(D333, Param_Multilanguage!A:C, Param_Menu!$B$3+1, FALSE)","v":"Space cooling"},{"$f":"VLOOKUP(H333,LanguageData,MATCH(LanguageChosen,Language[Language],0),FALSE) & \" - \" & B333","v":"Electricity - GWH"},2014]
["HEAT","TJ",null,"SPACECOOL","",null,null,"Derived heat",{"$f":"VLOOKUP(D334, Param_Multilanguage!A:C, Param_Menu!$B$3+1, FALSE)","v":"Space cooling"},{"$f":"VLOOKUP(H334,LanguageData,MATCH(LanguageChosen,Language[Language],0),FALSE) & \" - \" & B334","v":"Derived heat - TJ"},2014]
["GAS","TJ_GCV",null,"SPACECOOL","",null,null,"Gas",{"$f":"VLOOKUP(D335, Param_Multilanguage!A:C, Param_Menu!$B$3+1, FALSE)","v":"Space cooling"},{"$f":"VLOOKUP(H335,LanguageData,MATCH(LanguageChosen,Language[Language],0),FALSE) & \" - \" & B335","v":"Gas - TJ_GCV"},2014]
["SOLIDFUEL","KT",null,"SPACECOOL","",null,null,"Solid fossil fuels",{"$f":"VLOOKUP(D336, Param_Multilanguage!A:C, Param_Menu!$B$3+1, FALSE)","v":"Space cooling"},{"$f":"VLOOKUP(H336,LanguageData,MATCH(LanguageChosen,Language[Language],0),FALSE) & \" - \" & B336","v":"Solid fossil fuels - KT"},2014]
["OIL","KT",null,"SPACECOOL","",null,null,"Total oil and petroleum products",{"$f":"VLOOKUP(D337, Param_Multilanguage!A:C, Param_Menu!$B$3+1, FALSE)","v":"Space cooling"},{"$f":"VLOOKUP(H337,LanguageData,MATCH(LanguageChosen,Language[Language],0),FALSE) & \" - \" & B337","v":"Total oil and petroleum products - KT"},2014]
["LPG","KT",null,"SPACECOOL","",null,null,"LPG",{"$f":"VLOOKUP(D338, Param_Multilanguage!A:C, Param_Menu!$B$3+1, FALSE)","v":"Space cooling"},{"$f":"VLOOKUP(H338,LanguageData,MATCH(LanguageChosen,Language[Language],0),FALSE) & \" - \" & B338","v":"LPG - KT"},2014]
["KEROSENE","KT",null,"SPACECOOL","",null,null,"Other kerosene",{"$f":"VLOOKUP(D339, Param_Multilanguage!A:C, Param_Menu!$B$3+1, FALSE)","v":"Space cooling"},{"$f":"VLOOKUP(H339,LanguageData,MATCH(LanguageChosen,Language[Language],0),FALSE) & \" - \" & B339","v":"Other kerosene - KT"},2014]
["GASOIL","KT",null,"SPACECOOL","",null,null,"Total gas/diesel oil",{"$f":"VLOOKUP(D340, Param_Multilanguage!A:C, Param_Menu!$B$3+1, FALSE)","v":"Space cooling"},{"$f":"VLOOKUP(H340,LanguageData,MATCH(LanguageChosen,Language[Language],0),FALSE) & \" - \" & B340","v":"Total gas/diesel oil - KT"},2014]
["RENEW","TJ",null,"SPACECOOL","",null,null,"Renewables and wastes",{"$f":"VLOOKUP(D341, Param_Multilanguage!A:C, Param_Menu!$B$3+1, FALSE)","v":"Space cooling"},{"$f":"VLOOKUP(H341,LanguageData,MATCH(LanguageChosen,Language[Language],0),FALSE) & \" - \" & B341","v":"Renewables and wastes - TJ"},2014]
["SOLARTH","TJ",null,"SPACECOOL","",null,null,"Solar thermal",{"$f":"VLOOKUP(D342, Param_Multilanguage!A:C, Param_Menu!$B$3+1, FALSE)","v":"Space cooling"},{"$f":"VLOOKUP(H342,LanguageData,MATCH(LanguageChosen,Language[Language],0),FALSE) & \" - \" & B342","v":"Solar thermal - TJ"},2014]
["BIOFUEL","TJ",null,"SPACECOOL","",null,null,"Solid biofuels excluding charcoal",{"$f":"VLOOKUP(D343, Param_Multilanguage!A:C, Param_Menu!$B$3+1, FALSE)","v":"Space cooling"},{"$f":"VLOOKUP(H343,LanguageData,MATCH(LanguageChosen,Language[Language],0),FALSE) & \" - \" & B343","v":"Solid biofuels excluding charcoal - TJ"},2014]
["BIOGASES","TJ",null,"SPACECOOL","",null,null,"Biogases",{"$f":"VLOOKUP(D344, Param_Multilanguage!A:C, Param_Menu!$B$3+1, FALSE)","v":"Space cooling"},{"$f":"VLOOKUP(H344,LanguageData,MATCH(LanguageChosen,Language[Language],0),FALSE) & \" - \" & B344","v":"Biogases - TJ"},2014]
["AMBIANT","TJ",null,"SPACECOOL","",null,null,"Ambient heat",{"$f":"VLOOKUP(D345, Param_Multilanguage!A:C, Param_Menu!$B$3+1, FALSE)","v":"Space cooling"},{"$f":"VLOOKUP(H345,LanguageData,MATCH(LanguageChosen,Language[Language],0),FALSE) & \" - \" & B345","v":"Ambient heat - TJ"},2014]
["ELEC","GWH",null,"WATERHEAT",null,null,null,"Electricity",{"$f":"VLOOKUP(D346, Param_Multilanguage!A:C, Param_Menu!$B$3+1, FALSE)","v":"Water heating"},{"$f":"VLOOKUP(H346,LanguageData,MATCH(LanguageChosen,Language[Language],0),FALSE) & \" - \" & B346","v":"Electricity - GWH"},2014]
["HEAT","TJ",null,"WATERHEAT","",null,null,"Derived heat",{"$f":"VLOOKUP(D347, Param_Multilanguage!A:C, Param_Menu!$B$3+1, FALSE)","v":"Water heating"},{"$f":"VLOOKUP(H347,LanguageData,MATCH(LanguageChosen,Language[Language],0),FALSE) & \" - \" & B347","v":"Derived heat - TJ"},2014]
["GAS","TJ_GCV",null,"WATERHEAT","",null,null,"Gas",{"$f":"VLOOKUP(D348, Param_Multilanguage!A:C, Param_Menu!$B$3+1, FALSE)","v":"Water heating"},{"$f":"VLOOKUP(H348,LanguageData,MATCH(LanguageChosen,Language[Language],0),FALSE) & \" - \" & B348","v":"Gas - TJ_GCV"},2014]
["SOLIDFUEL","KT",null,"WATERHEAT","",null,null,"Solid fossil fuels",{"$f":"VLOOKUP(D349, Param_Multilanguage!A:C, Param_Menu!$B$3+1, FALSE)","v":"Water heating"},{"$f":"VLOOKUP(H349,LanguageData,MATCH(LanguageChosen,Language[Language],0),FALSE) & \" - \" & B349","v":"Solid fossil fuels - KT"},2014]
["OIL","KT",null,"WATERHEAT","",null,null,"Total oil and petroleum products",{"$f":"VLOOKUP(D350, Param_Multilanguage!A:C, Param_Menu!$B$3+1, FALSE)","v":"Water heating"},{"$f":"VLOOKUP(H350,LanguageData,MATCH(LanguageChosen,Language[Language],0),FALSE) & \" - \" & B350","v":"Total oil and petroleum products - KT"},2014]
["LPG","KT",null,"WATERHEAT","",null,null,"LPG",{"$f":"VLOOKUP(D351, Param_Multilanguage!A:C, Param_Menu!$B$3+1, FALSE)","v":"Water heating"},{"$f":"VLOOKUP(H351,LanguageData,MATCH(LanguageChosen,Language[Language],0),FALSE) & \" - \" & B351","v":"LPG - KT"},2014]
["KEROSENE","KT",null,"WATERHEAT","",null,null,"Other kerosene",{"$f":"VLOOKUP(D352, Param_Multilanguage!A:C, Param_Menu!$B$3+1, FALSE)","v":"Water heating"},{"$f":"VLOOKUP(H352,LanguageData,MATCH(LanguageChosen,Language[Language],0),FALSE) & \" - \" & B352","v":"Other kerosene - KT"},2014]
["GASOIL","KT",null,"WATERHEAT","",null,null,"Total gas/diesel oil",{"$f":"VLOOKUP(D353, Param_Multilanguage!A:C, Param_Menu!$B$3+1, FALSE)","v":"Water heating"},{"$f":"VLOOKUP(H353,LanguageData,MATCH(LanguageChosen,Language[Language],0),FALSE) & \" - \" & B353","v":"Total gas/diesel oil - KT"},2014]
["RENEW","TJ",null,"WATERHEAT","",null,null,"Renewables and wastes",{"$f":"VLOOKUP(D354, Param_Multilanguage!A:C, Param_Menu!$B$3+1, FALSE)","v":"Water heating"},{"$f":"VLOOKUP(H354,LanguageData,MATCH(LanguageChosen,Language[Language],0),FALSE) & \" - \" & B354","v":"Renewables and wastes - TJ"},2014]
["SOLARTH","TJ",null,"WATERHEAT","",null,null,"Solar thermal",{"$f":"VLOOKUP(D355, Param_Multilanguage!A:C, Param_Menu!$B$3+1, FALSE)","v":"Water heating"},{"$f":"VLOOKUP(H355,LanguageData,MATCH(LanguageChosen,Language[Language],0),FALSE) & \" - \" & B355","v":"Solar thermal - TJ"},2014]
["BIOFUEL","TJ",null,"WATERHEAT","",null,null,"Solid biofuels excluding charcoal",{"$f":"VLOOKUP(D356, Param_Multilanguage!A:C, Param_Menu!$B$3+1, FALSE)","v":"Water heating"},{"$f":"VLOOKUP(H356,LanguageData,MATCH(LanguageChosen,Language[Language],0),FALSE) & \" - \" & B356","v":"Solid biofuels excluding charcoal - TJ"},2014]
["BIOGASES","TJ",null,"WATERHEAT","",null,null,"Biogases",{"$f":"VLOOKUP(D357, Param_Multilanguage!A:C, Param_Menu!$B$3+1, FALSE)","v":"Water heating"},{"$f":"VLOOKUP(H357,LanguageData,MATCH(LanguageChosen,Language[Language],0),FALSE) & \" - \" & B357","v":"Biogases - TJ"},2014]
["AMBIANT","TJ",null,"WATERHEAT","",null,null,"Ambient heat",{"$f":"VLOOKUP(D358, Param_Multilanguage!A:C, Param_Menu!$B$3+1, FALSE)","v":"Water heating"},{"$f":"VLOOKUP(H358,LanguageData,MATCH(LanguageChosen,Language[Language],0),FALSE) & \" - \" & B358","v":"Ambient heat - TJ"},2014]
["ELEC","GWH",null,"COOK",null,null,null,"Electricity",{"$f":"VLOOKUP(D359, Param_Multilanguage!A:C, Param_Menu!$B$3+1, FALSE)","v":"Cooking"},{"$f":"VLOOKUP(H359,LanguageData,MATCH(LanguageChosen,Language[Language],0),FALSE) & \" - \" & B359","v":"Electricity - GWH"},2014]
["HEAT","TJ",null,"COOK","",null,null,"Derived heat",{"$f":"VLOOKUP(D360, Param_Multilanguage!A:C, Param_Menu!$B$3+1, FALSE)","v":"Cooking"},{"$f":"VLOOKUP(H360,LanguageData,MATCH(LanguageChosen,Language[Language],0),FALSE) & \" - \" & B360","v":"Derived heat - TJ"},2014]
["GAS","TJ_GCV",null,"COOK","",null,null,"Gas",{"$f":"VLOOKUP(D361, Param_Multilanguage!A:C, Param_Menu!$B$3+1, FALSE)","v":"Cooking"},{"$f":"VLOOKUP(H361,LanguageData,MATCH(LanguageChosen,Language[Language],0),FALSE) & \" - \" & B361","v":"Gas - TJ_GCV"},2014]
["SOLIDFUEL","KT",null,"COOK","",null,null,"Solid fossil fuels",{"$f":"VLOOKUP(D362, Param_Multilanguage!A:C, Param_Menu!$B$3+1, FALSE)","v":"Cooking"},{"$f":"VLOOKUP(H362,LanguageData,MATCH(LanguageChosen,Language[Language],0),FALSE) & \" - \" & B362","v":"Solid fossil fuels - KT"},2014]
["OIL","KT",null,"COOK","",null,null,"Total oil and petroleum products",{"$f":"VLOOKUP(D363, Param_Multilanguage!A:C, Param_Menu!$B$3+1, FALSE)","v":"Cooking"},{"$f":"VLOOKUP(H363,LanguageData,MATCH(LanguageChosen,Language[Language],0),FALSE) & \" - \" & B363","v":"Total oil and petroleum products - KT"},2014]
["LPG","KT",null,"COOK","",null,null,"LPG",{"$f":"VLOOKUP(D364, Param_Multilanguage!A:C, Param_Menu!$B$3+1, FALSE)","v":"Cooking"},{"$f":"VLOOKUP(H364,LanguageData,MATCH(LanguageChosen,Language[Language],0),FALSE) & \" - \" & B364","v":"LPG - KT"},2014]
["KEROSENE","KT",null,"COOK","",null,null,"Other kerosene",{"$f":"VLOOKUP(D365, Param_Multilanguage!A:C, Param_Menu!$B$3+1, FALSE)","v":"Cooking"},{"$f":"VLOOKUP(H365,LanguageData,MATCH(LanguageChosen,Language[Language],0),FALSE) & \" - \" & B365","v":"Other kerosene - KT"},2014]
["GASOIL","KT",null,"COOK","",null,null,"Total gas/diesel oil",{"$f":"VLOOKUP(D366, Param_Multilanguage!A:C, Param_Menu!$B$3+1, FALSE)","v":"Cooking"},{"$f":"VLOOKUP(H366,LanguageData,MATCH(LanguageChosen,Language[Language],0),FALSE) & \" - \" & B366","v":"Total gas/diesel oil - KT"},2014]
["RENEW","TJ",null,"COOK","",null,null,"Renewables and wastes",{"$f":"VLOOKUP(D367, Param_Multilanguage!A:C, Param_Menu!$B$3+1, FALSE)","v":"Cooking"},{"$f":"VLOOKUP(H367,LanguageData,MATCH(LanguageChosen,Language[Language],0),FALSE) & \" - \" & B367","v":"Renewables and wastes - TJ"},2014]
["SOLARTH","TJ",null,"COOK","",null,null,"Solar thermal",{"$f":"VLOOKUP(D368, Param_Multilanguage!A:C, Param_Menu!$B$3+1, FALSE)","v":"Cooking"},{"$f":"VLOOKUP(H368,LanguageData,MATCH(LanguageChosen,Language[Language],0),FALSE) & \" - \" & B368","v":"Solar thermal - TJ"},2014]
["BIOFUEL","TJ",null,"COOK","",null,null,"Solid biofuels excluding charcoal",{"$f":"VLOOKUP(D369, Param_Multilanguage!A:C, Param_Menu!$B$3+1, FALSE)","v":"Cooking"},{"$f":"VLOOKUP(H369,LanguageData,MATCH(LanguageChosen,Language[Language],0),FALSE) & \" - \" & B369","v":"Solid biofuels excluding charcoal - TJ"},2014]
["BIOGASES","TJ",null,"COOK","",null,null,"Biogases",{"$f":"VLOOKUP(D370, Param_Multilanguage!A:C, Param_Menu!$B$3+1, FALSE)","v":"Cooking"},{"$f":"VLOOKUP(H370,LanguageData,MATCH(LanguageChosen,Language[Language],0),FALSE) & \" - \" & B370","v":"Biogases - TJ"},2014]
["AMBIANT","TJ",null,"COOK","",null,null,"Ambient heat",{"$f":"VLOOKUP(D371, Param_Multilanguage!A:C, Param_Menu!$B$3+1, FALSE)","v":"Cooking"},{"$f":"VLOOKUP(H371,LanguageData,MATCH(LanguageChosen,Language[Language],0),FALSE) & \" - \" & B371","v":"Ambient heat - TJ"},2014]
["ELEC","GWH",null,"LIGHTAPP",null,null,null,"Electricity",{"$f":"VLOOKUP(D372, Param_Multilanguage!A:C, Param_Menu!$B$3+1, FALSE)","v":"Lighting and appliances"},{"$f":"VLOOKUP(H372,LanguageData,MATCH(LanguageChosen,Language[Language],0),FALSE) & \" - \" & B372","v":"Electricity - GWH"},2014]
["HEAT","TJ",null,"LIGHTAPP","",null,null,"Derived heat",{"$f":"VLOOKUP(D373, Param_Multilanguage!A:C, Param_Menu!$B$3+1, FALSE)","v":"Lighting and appliances"},{"$f":"VLOOKUP(H373,LanguageData,MATCH(LanguageChosen,Language[Language],0),FALSE) & \" - \" & B373","v":"Derived heat - TJ"},2014]
["GAS","TJ_GCV",null,"LIGHTAPP","",null,null,"Gas",{"$f":"VLOOKUP(D374, Param_Multilanguage!A:C, Param_Menu!$B$3+1, FALSE)","v":"Lighting and appliances"},{"$f":"VLOOKUP(H374,LanguageData,MATCH(LanguageChosen,Language[Language],0),FALSE) & \" - \" & B374","v":"Gas - TJ_GCV"},2014]
["SOLIDFUEL","KT",null,"LIGHTAPP","",null,null,"Solid fossil fuels",{"$f":"VLOOKUP(D375, Param_Multilanguage!A:C, Param_Menu!$B$3+1, FALSE)","v":"Lighting and appliances"},{"$f":"VLOOKUP(H375,LanguageData,MATCH(LanguageChosen,Language[Language],0),FALSE) & \" - \" & B375","v":"Solid fossil fuels - KT"},2014]
["OIL","KT",null,"LIGHTAPP","",null,null,"Total oil and petroleum products",{"$f":"VLOOKUP(D376, Param_Multilanguage!A:C, Param_Menu!$B$3+1, FALSE)","v":"Lighting and appliances"},{"$f":"VLOOKUP(H376,LanguageData,MATCH(LanguageChosen,Language[Language],0),FALSE) & \" - \" & B376","v":"Total oil and petroleum products - KT"},2014]
["LPG","KT",null,"LIGHTAPP","",null,null,"LPG",{"$f":"VLOOKUP(D377, Param_Multilanguage!A:C, Param_Menu!$B$3+1, FALSE)","v":"Lighting and appliances"},{"$f":"VLOOKUP(H377,LanguageData,MATCH(LanguageChosen,Language[Language],0),FALSE) & \" - \" & B377","v":"LPG - KT"},2014]
["KEROSENE","KT",null,"LIGHTAPP","",null,null,"Other kerosene",{"$f":"VLOOKUP(D378, Param_Multilanguage!A:C, Param_Menu!$B$3+1, FALSE)","v":"Lighting and appliances"},{"$f":"VLOOKUP(H378,LanguageData,MATCH(LanguageChosen,Language[Language],0),FALSE) & \" - \" & B378","v":"Other kerosene - KT"},2014]
["GASOIL","KT",null,"LIGHTAPP","",null,null,"Total gas/diesel oil",{"$f":"VLOOKUP(D379, Param_Multilanguage!A:C, Param_Menu!$B$3+1, FALSE)","v":"Lighting and appliances"},{"$f":"VLOOKUP(H379,LanguageData,MATCH(LanguageChosen,Language[Language],0),FALSE) & \" - \" & B379","v":"Total gas/diesel oil - KT"},2014]
["RENEW","TJ",null,"LIGHTAPP","",null,null,"Renewables and wastes",{"$f":"VLOOKUP(D380, Param_Multilanguage!A:C, Param_Menu!$B$3+1, FALSE)","v":"Lighting and appliances"},{"$f":"VLOOKUP(H380,LanguageData,MATCH(LanguageChosen,Language[Language],0),FALSE) & \" - \" & B380","v":"Renewables and wastes - TJ"},2014]
["SOLARTH","TJ",null,"LIGHTAPP","",null,null,"Solar thermal",{"$f":"VLOOKUP(D381, Param_Multilanguage!A:C, Param_Menu!$B$3+1, FALSE)","v":"Lighting and appliances"},{"$f":"VLOOKUP(H381,LanguageData,MATCH(LanguageChosen,Language[Language],0),FALSE) & \" - \" & B381","v":"Solar thermal - TJ"},2014]
["BIOFUEL","TJ",null,"LIGHTAPP","",null,null,"Solid biofuels excluding charcoal",{"$f":"VLOOKUP(D382, Param_Multilanguage!A:C, Param_Menu!$B$3+1, FALSE)","v":"Lighting and appliances"},{"$f":"VLOOKUP(H382,LanguageData,MATCH(LanguageChosen,Language[Language],0),FALSE) & \" - \" & B382","v":"Solid biofuels excluding charcoal - TJ"},2014]
["BIOGASES","TJ",null,"LIGHTAPP","",null,null,"Biogases",{"$f":"VLOOKUP(D383, Param_Multilanguage!A:C, Param_Menu!$B$3+1, FALSE)","v":"Lighting and appliances"},{"$f":"VLOOKUP(H383,LanguageData,MATCH(LanguageChosen,Language[Language],0),FALSE) & \" - \" & B383","v":"Biogases - TJ"},2014]
["AMBIANT","TJ",null,"LIGHTAPP","",null,null,"Ambient heat",{"$f":"VLOOKUP(D384, Param_Multilanguage!A:C, Param_Menu!$B$3+1, FALSE)","v":"Lighting and appliances"},{"$f":"VLOOKUP(H384,LanguageData,MATCH(LanguageChosen,Language[Language],0),FALSE) & \" - \" & B384","v":"Ambient heat - TJ"},2014]
["ELEC","GWH",null,"RESOTH",null,null,null,"Electricity",{"$f":"VLOOKUP(D385, Param_Multilanguage!A:C, Param_Menu!$B$3+1, FALSE)","v":"Other end uses"},{"$f":"VLOOKUP(H385,LanguageData,MATCH(LanguageChosen,Language[Language],0),FALSE) & \" - \" & B385","v":"Electricity - GWH"},2014]
["HEAT","TJ",null,"RESOTH","",null,null,"Derived heat",{"$f":"VLOOKUP(D386, Param_Multilanguage!A:C, Param_Menu!$B$3+1, FALSE)","v":"Other end uses"},{"$f":"VLOOKUP(H386,LanguageData,MATCH(LanguageChosen,Language[Language],0),FALSE) & \" - \" & B386","v":"Derived heat - TJ"},2014]
["GAS","TJ_GCV",null,"RESOTH","",null,null,"Gas",{"$f":"VLOOKUP(D387, Param_Multilanguage!A:C, Param_Menu!$B$3+1, FALSE)","v":"Other end uses"},{"$f":"VLOOKUP(H387,LanguageData,MATCH(LanguageChosen,Language[Language],0),FALSE) & \" - \" & B387","v":"Gas - TJ_GCV"},2014]
["SOLIDFUEL","KT",null,"RESOTH","",null,null,"Solid fossil fuels",{"$f":"VLOOKUP(D388, Param_Multilanguage!A:C, Param_Menu!$B$3+1, FALSE)","v":"Other end uses"},{"$f":"VLOOKUP(H388,LanguageData,MATCH(LanguageChosen,Language[Language],0),FALSE) & \" - \" & B388","v":"Solid fossil fuels - KT"},2014]
["OIL","KT",null,"RESOTH","",null,null,"Total oil and petroleum products",{"$f":"VLOOKUP(D389, Param_Multilanguage!A:C, Param_Menu!$B$3+1, FALSE)","v":"Other end uses"},{"$f":"VLOOKUP(H389,LanguageData,MATCH(LanguageChosen,Language[Language],0),FALSE) & \" - \" & B389","v":"Total oil and petroleum products - KT"},2014]
["LPG","KT",null,"RESOTH","",null,null,"LPG",{"$f":"VLOOKUP(D390, Param_Multilanguage!A:C, Param_Menu!$B$3+1, FALSE)","v":"Other end uses"},{"$f":"VLOOKUP(H390,LanguageData,MATCH(LanguageChosen,Language[Language],0),FALSE) & \" - \" & B390","v":"LPG - KT"},2014]
["KEROSENE","KT",null,"RESOTH","",null,null,"Other kerosene",{"$f":"VLOOKUP(D391, Param_Multilanguage!A:C, Param_Menu!$B$3+1, FALSE)","v":"Other end uses"},{"$f":"VLOOKUP(H391,LanguageData,MATCH(LanguageChosen,Language[Language],0),FALSE) & \" - \" & B391","v":"Other kerosene - KT"},2014]
["GASOIL","KT",null,"RESOTH","",null,null,"Total gas/diesel oil",{"$f":"VLOOKUP(D392, Param_Multilanguage!A:C, Param_Menu!$B$3+1, FALSE)","v":"Other end uses"},{"$f":"VLOOKUP(H392,LanguageData,MATCH(LanguageChosen,Language[Language],0),FALSE) & \" - \" & B392","v":"Total gas/diesel oil - KT"},2014]
["RENEW","TJ",null,"RESOTH","",null,null,"Renewables and wastes",{"$f":"VLOOKUP(D393, Param_Multilanguage!A:C, Param_Menu!$B$3+1, FALSE)","v":"Other end uses"},{"$f":"VLOOKUP(H393,LanguageData,MATCH(LanguageChosen,Language[Language],0),FALSE) & \" - \" & B393","v":"Renewables and wastes - TJ"},2014]
["SOLARTH","TJ",null,"RESOTH","",null,null,"Solar thermal",{"$f":"VLOOKUP(D394, Param_Multilanguage!A:C, Param_Menu!$B$3+1, FALSE)","v":"Other end uses"},{"$f":"VLOOKUP(H394,LanguageData,MATCH(LanguageChosen,Language[Language],0),FALSE) & \" - \" & B394","v":"Solar thermal - TJ"},2014]
["BIOFUEL","TJ",null,"RESOTH","",null,null,"Solid biofuels excluding charcoal",{"$f":"VLOOKUP(D395, Param_Multilanguage!A:C, Param_Menu!$B$3+1, FALSE)","v":"Other end uses"},{"$f":"VLOOKUP(H395,LanguageData,MATCH(LanguageChosen,Language[Language],0),FALSE) & \" - \" & B395","v":"Solid biofuels excluding charcoal - TJ"},2014]
["BIOGASES","TJ",null,"RESOTH","",null,null,"Biogases",{"$f":"VLOOKUP(D396, Param_Multilanguage!A:C, Param_Menu!$B$3+1, FALSE)","v":"Other end uses"},{"$f":"VLOOKUP(H396,LanguageData,MATCH(LanguageChosen,Language[Language],0),FALSE) & \" - \" & B396","v":"Biogases - TJ"},2014]
["AMBIANT","TJ",null,"RESOTH","",null,null,"Ambient heat",{"$f":"VLOOKUP(D397, Param_Multilanguage!A:C, Param_Menu!$B$3+1, FALSE)","v":"Other end uses"},{"$f":"VLOOKUP(H397,LanguageData,MATCH(LanguageChosen,Language[Language],0),FALSE) & \" - \" & B397","v":"Ambient heat - TJ"},2014]
["ELEC","GWH",null,"SPACEHEAT",null,null,null,"Electricity",{"$f":"VLOOKUP(D398, Param_Multilanguage!A:C, Param_Menu!$B$3+1, FALSE)","v":"Space heating"},{"$f":"VLOOKUP(H398,LanguageData,MATCH(LanguageChosen,Language[Language],0),FALSE) & \" - \" & B398","v":"Electricity - GWH"},2015]
["HEAT","TJ",null,"SPACEHEAT","",null,null,"Derived heat",{"$f":"VLOOKUP(D399, Param_Multilanguage!A:C, Param_Menu!$B$3+1, FALSE)","v":"Space heating"},{"$f":"VLOOKUP(H399,LanguageData,MATCH(LanguageChosen,Language[Language],0),FALSE) & \" - \" & B399","v":"Derived heat - TJ"},2015]
["GAS","TJ_GCV",null,"SPACEHEAT","",null,null,"Gas",{"$f":"VLOOKUP(D400, Param_Multilanguage!A:C, Param_Menu!$B$3+1, FALSE)","v":"Space heating"},{"$f":"VLOOKUP(H400,LanguageData,MATCH(LanguageChosen,Language[Language],0),FALSE) & \" - \" & B400","v":"Gas - TJ_GCV"},2015]
["SOLIDFUEL","KT",null,"SPACEHEAT","",null,null,"Solid fossil fuels",{"$f":"VLOOKUP(D401, Param_Multilanguage!A:C, Param_Menu!$B$3+1, FALSE)","v":"Space heating"},{"$f":"VLOOKUP(H401,LanguageData,MATCH(LanguageChosen,Language[Language],0),FALSE) & \" - \" & B401","v":"Solid fossil fuels - KT"},2015]
["OIL","KT",null,"SPACEHEAT","",null,null,"Total oil and petroleum products",{"$f":"VLOOKUP(D402, Param_Multilanguage!A:C, Param_Menu!$B$3+1, FALSE)","v":"Space heating"},{"$f":"VLOOKUP(H402,LanguageData,MATCH(LanguageChosen,Language[Language],0),FALSE) & \" - \" & B402","v":"Total oil and petroleum products - KT"},2015]
["LPG","KT",null,"SPACEHEAT","",null,null,"LPG",{"$f":"VLOOKUP(D403, Param_Multilanguage!A:C, Param_Menu!$B$3+1, FALSE)","v":"Space heating"},{"$f":"VLOOKUP(H403,LanguageData,MATCH(LanguageChosen,Language[Language],0),FALSE) & \" - \" & B403","v":"LPG - KT"},2015]
["KEROSENE","KT",null,"SPACEHEAT","",null,null,"Other kerosene",{"$f":"VLOOKUP(D404, Param_Multilanguage!A:C, Param_Menu!$B$3+1, FALSE)","v":"Space heating"},{"$f":"VLOOKUP(H404,LanguageData,MATCH(LanguageChosen,Language[Language],0),FALSE) & \" - \" & B404","v":"Other kerosene - KT"},2015]
["GASOIL","KT",null,"SPACEHEAT","",null,null,"Total gas/diesel oil",{"$f":"VLOOKUP(D405, Param_Multilanguage!A:C, Param_Menu!$B$3+1, FALSE)","v":"Space heating"},{"$f":"VLOOKUP(H405,LanguageData,MATCH(LanguageChosen,Language[Language],0),FALSE) & \" - \" & B405","v":"Total gas/diesel oil - KT"},2015]
["RENEW","TJ",null,"SPACEHEAT","",null,null,"Renewables and wastes",{"$f":"VLOOKUP(D406, Param_Multilanguage!A:C, Param_Menu!$B$3+1, FALSE)","v":"Space heating"},{"$f":"VLOOKUP(H406,LanguageData,MATCH(LanguageChosen,Language[Language],0),FALSE) & \" - \" & B406","v":"Renewables and wastes - TJ"},2015]
["SOLARTH","TJ",null,"SPACEHEAT","",null,null,"Solar thermal",{"$f":"VLOOKUP(D407, Param_Multilanguage!A:C, Param_Menu!$B$3+1, FALSE)","v":"Space heating"},{"$f":"VLOOKUP(H407,LanguageData,MATCH(LanguageChosen,Language[Language],0),FALSE) & \" - \" & B407","v":"Solar thermal - TJ"},2015]
["BIOFUEL","TJ",null,"SPACEHEAT","",null,null,"Solid biofuels excluding charcoal",{"$f":"VLOOKUP(D408, Param_Multilanguage!A:C, Param_Menu!$B$3+1, FALSE)","v":"Space heating"},{"$f":"VLOOKUP(H408,LanguageData,MATCH(LanguageChosen,Language[Language],0),FALSE) & \" - \" & B408","v":"Solid biofuels excluding charcoal - TJ"},2015]
["BIOGASES","TJ",null,"SPACEHEAT","",null,null,"Biogases",{"$f":"VLOOKUP(D409, Param_Multilanguage!A:C, Param_Menu!$B$3+1, FALSE)","v":"Space heating"},{"$f":"VLOOKUP(H409,LanguageData,MATCH(LanguageChosen,Language[Language],0),FALSE) & \" - \" & B409","v":"Biogases - TJ"},2015]
["AMBIANT","TJ",null,"SPACEHEAT","",null,null,"Ambient heat",{"$f":"VLOOKUP(D410, Param_Multilanguage!A:C, Param_Menu!$B$3+1, FALSE)","v":"Space heating"},{"$f":"VLOOKUP(H410,LanguageData,MATCH(LanguageChosen,Language[Language],0),FALSE) & \" - \" & B410","v":"Ambient heat - TJ"},2015]
["ELEC","GWH",null,"SPACECOOL",null,null,null,"Electricity",{"$f":"VLOOKUP(D411, Param_Multilanguage!A:C, Param_Menu!$B$3+1, FALSE)","v":"Space cooling"},{"$f":"VLOOKUP(H411,LanguageData,MATCH(LanguageChosen,Language[Language],0),FALSE) & \" - \" & B411","v":"Electricity - GWH"},2015]
["HEAT","TJ",null,"SPACECOOL","",null,null,"Derived heat",{"$f":"VLOOKUP(D412, Param_Multilanguage!A:C, Param_Menu!$B$3+1, FALSE)","v":"Space cooling"},{"$f":"VLOOKUP(H412,LanguageData,MATCH(LanguageChosen,Language[Language],0),FALSE) & \" - \" & B412","v":"Derived heat - TJ"},2015]
["GAS","TJ_GCV",null,"SPACECOOL","",null,null,"Gas",{"$f":"VLOOKUP(D413, Param_Multilanguage!A:C, Param_Menu!$B$3+1, FALSE)","v":"Space cooling"},{"$f":"VLOOKUP(H413,LanguageData,MATCH(LanguageChosen,Language[Language],0),FALSE) & \" - \" & B413","v":"Gas - TJ_GCV"},2015]
["SOLIDFUEL","KT",null,"SPACECOOL","",null,null,"Solid fossil fuels",{"$f":"VLOOKUP(D414, Param_Multilanguage!A:C, Param_Menu!$B$3+1, FALSE)","v":"Space cooling"},{"$f":"VLOOKUP(H414,LanguageData,MATCH(LanguageChosen,Language[Language],0),FALSE) & \" - \" & B414","v":"Solid fossil fuels - KT"},2015]
["OIL","KT",null,"SPACECOOL","",null,null,"Total oil and petroleum products",{"$f":"VLOOKUP(D415, Param_Multilanguage!A:C, Param_Menu!$B$3+1, FALSE)","v":"Space cooling"},{"$f":"VLOOKUP(H415,LanguageData,MATCH(LanguageChosen,Language[Language],0),FALSE) & \" - \" & B415","v":"Total oil and petroleum products - KT"},2015]
["LPG","KT",null,"SPACECOOL","",null,null,"LPG",{"$f":"VLOOKUP(D416, Param_Multilanguage!A:C, Param_Menu!$B$3+1, FALSE)","v":"Space cooling"},{"$f":"VLOOKUP(H416,LanguageData,MATCH(LanguageChosen,Language[Language],0),FALSE) & \" - \" & B416","v":"LPG - KT"},2015]
["KEROSENE","KT",null,"SPACECOOL","",null,null,"Other kerosene",{"$f":"VLOOKUP(D417, Param_Multilanguage!A:C, Param_Menu!$B$3+1, FALSE)","v":"Space cooling"},{"$f":"VLOOKUP(H417,LanguageData,MATCH(LanguageChosen,Language[Language],0),FALSE) & \" - \" & B417","v":"Other kerosene - KT"},2015]
["GASOIL","KT",null,"SPACECOOL","",null,null,"Total gas/diesel oil",{"$f":"VLOOKUP(D418, Param_Multilanguage!A:C, Param_Menu!$B$3+1, FALSE)","v":"Space cooling"},{"$f":"VLOOKUP(H418,LanguageData,MATCH(LanguageChosen,Language[Language],0),FALSE) & \" - \" & B418","v":"Total gas/diesel oil - KT"},2015]
["RENEW","TJ",null,"SPACECOOL","",null,null,"Renewables and wastes",{"$f":"VLOOKUP(D419, Param_Multilanguage!A:C, Param_Menu!$B$3+1, FALSE)","v":"Space cooling"},{"$f":"VLOOKUP(H419,LanguageData,MATCH(LanguageChosen,Language[Language],0),FALSE) & \" - \" & B419","v":"Renewables and wastes - TJ"},2015]
["SOLARTH","TJ",null,"SPACECOOL","",null,null,"Solar thermal",{"$f":"VLOOKUP(D420, Param_Multilanguage!A:C, Param_Menu!$B$3+1, FALSE)","v":"Space cooling"},{"$f":"VLOOKUP(H420,LanguageData,MATCH(LanguageChosen,Language[Language],0),FALSE) & \" - \" & B420","v":"Solar thermal - TJ"},2015]
["BIOFUEL","TJ",null,"SPACECOOL","",null,null,"Solid biofuels excluding charcoal",{"$f":"VLOOKUP(D421, Param_Multilanguage!A:C, Param_Menu!$B$3+1, FALSE)","v":"Space cooling"},{"$f":"VLOOKUP(H421,LanguageData,MATCH(LanguageChosen,Language[Language],0),FALSE) & \" - \" & B421","v":"Solid biofuels excluding charcoal - TJ"},2015]
["BIOGASES","TJ",null,"SPACECOOL","",null,null,"Biogases",{"$f":"VLOOKUP(D422, Param_Multilanguage!A:C, Param_Menu!$B$3+1, FALSE)","v":"Space cooling"},{"$f":"VLOOKUP(H422,LanguageData,MATCH(LanguageChosen,Language[Language],0),FALSE) & \" - \" & B422","v":"Biogases - TJ"},2015]
["AMBIANT","TJ",null,"SPACECOOL","",null,null,"Ambient heat",{"$f":"VLOOKUP(D423, Param_Multilanguage!A:C, Param_Menu!$B$3+1, FALSE)","v":"Space cooling"},{"$f":"VLOOKUP(H423,LanguageData,MATCH(LanguageChosen,Language[Language],0),FALSE) & \" - \" & B423","v":"Ambient heat - TJ"},2015]
["ELEC","GWH",null,"WATERHEAT",null,null,null,"Electricity",{"$f":"VLOOKUP(D424, Param_Multilanguage!A:C, Param_Menu!$B$3+1, FALSE)","v":"Water heating"},{"$f":"VLOOKUP(H424,LanguageData,MATCH(LanguageChosen,Language[Language],0),FALSE) & \" - \" & B424","v":"Electricity - GWH"},2015]
["HEAT","TJ",null,"WATERHEAT","",null,null,"Derived heat",{"$f":"VLOOKUP(D425, Param_Multilanguage!A:C, Param_Menu!$B$3+1, FALSE)","v":"Water heating"},{"$f":"VLOOKUP(H425,LanguageData,MATCH(LanguageChosen,Language[Language],0),FALSE) & \" - \" & B425","v":"Derived heat - TJ"},2015]
["GAS","TJ_GCV",null,"WATERHEAT","",null,null,"Gas",{"$f":"VLOOKUP(D426, Param_Multilanguage!A:C, Param_Menu!$B$3+1, FALSE)","v":"Water heating"},{"$f":"VLOOKUP(H426,LanguageData,MATCH(LanguageChosen,Language[Language],0),FALSE) & \" - \" & B426","v":"Gas - TJ_GCV"},2015]
["SOLIDFUEL","KT",null,"WATERHEAT","",null,null,"Solid fossil fuels",{"$f":"VLOOKUP(D427, Param_Multilanguage!A:C, Param_Menu!$B$3+1, FALSE)","v":"Water heating"},{"$f":"VLOOKUP(H427,LanguageData,MATCH(LanguageChosen,Language[Language],0),FALSE) & \" - \" & B427","v":"Solid fossil fuels - KT"},2015]
["OIL","KT",null,"WATERHEAT","",null,null,"Total oil and petroleum products",{"$f":"VLOOKUP(D428, Param_Multilanguage!A:C, Param_Menu!$B$3+1, FALSE)","v":"Water heating"},{"$f":"VLOOKUP(H428,LanguageData,MATCH(LanguageChosen,Language[Language],0),FALSE) & \" - \" & B428","v":"Total oil and petroleum products - KT"},2015]
["LPG","KT",null,"WATERHEAT","",null,null,"LPG",{"$f":"VLOOKUP(D429, Param_Multilanguage!A:C, Param_Menu!$B$3+1, FALSE)","v":"Water heating"},{"$f":"VLOOKUP(H429,LanguageData,MATCH(LanguageChosen,Language[Language],0),FALSE) & \" - \" & B429","v":"LPG - KT"},2015]
["KEROSENE","KT",null,"WATERHEAT","",null,null,"Other kerosene",{"$f":"VLOOKUP(D430, Param_Multilanguage!A:C, Param_Menu!$B$3+1, FALSE)","v":"Water heating"},{"$f":"VLOOKUP(H430,LanguageData,MATCH(LanguageChosen,Language[Language],0),FALSE) & \" - \" & B430","v":"Other kerosene - KT"},2015]
["GASOIL","KT",null,"WATERHEAT","",null,null,"Total gas/diesel oil",{"$f":"VLOOKUP(D431, Param_Multilanguage!A:C, Param_Menu!$B$3+1, FALSE)","v":"Water heating"},{"$f":"VLOOKUP(H431,LanguageData,MATCH(LanguageChosen,Language[Language],0),FALSE) & \" - \" & B431","v":"Total gas/diesel oil - KT"},2015]
["RENEW","TJ",null,"WATERHEAT","",null,null,"Renewables and wastes",{"$f":"VLOOKUP(D432, Param_Multilanguage!A:C, Param_Menu!$B$3+1, FALSE)","v":"Water heating"},{"$f":"VLOOKUP(H432,LanguageData,MATCH(LanguageChosen,Language[Language],0),FALSE) & \" - \" & B432","v":"Renewables and wastes - TJ"},2015]
["SOLARTH","TJ",null,"WATERHEAT","",null,null,"Solar thermal",{"$f":"VLOOKUP(D433, Param_Multilanguage!A:C, Param_Menu!$B$3+1, FALSE)","v":"Water heating"},{"$f":"VLOOKUP(H433,LanguageData,MATCH(LanguageChosen,Language[Language],0),FALSE) & \" - \" & B433","v":"Solar thermal - TJ"},2015]
["BIOFUEL","TJ",null,"WATERHEAT","",null,null,"Solid biofuels excluding charcoal",{"$f":"VLOOKUP(D434, Param_Multilanguage!A:C, Param_Menu!$B$3+1, FALSE)","v":"Water heating"},{"$f":"VLOOKUP(H434,LanguageData,MATCH(LanguageChosen,Language[Language],0),FALSE) & \" - \" & B434","v":"Solid biofuels excluding charcoal - TJ"},2015]
["BIOGASES","TJ",null,"WATERHEAT","",null,null,"Biogases",{"$f":"VLOOKUP(D435, Param_Multilanguage!A:C, Param_Menu!$B$3+1, FALSE)","v":"Water heating"},{"$f":"VLOOKUP(H435,LanguageData,MATCH(LanguageChosen,Language[Language],0),FALSE) & \" - \" & B435","v":"Biogases - TJ"},2015]
["AMBIANT","TJ",null,"WATERHEAT","",null,null,"Ambient heat",{"$f":"VLOOKUP(D436, Param_Multilanguage!A:C, Param_Menu!$B$3+1, FALSE)","v":"Water heating"},{"$f":"VLOOKUP(H436,LanguageData,MATCH(LanguageChosen,Language[Language],0),FALSE) & \" - \" & B436","v":"Ambient heat - TJ"},2015]
["ELEC","GWH",null,"COOK",null,null,null,"Electricity",{"$f":"VLOOKUP(D437, Param_Multilanguage!A:C, Param_Menu!$B$3+1, FALSE)","v":"Cooking"},{"$f":"VLOOKUP(H437,LanguageData,MATCH(LanguageChosen,Language[Language],0),FALSE) & \" - \" & B437","v":"Electricity - GWH"},2015]
["HEAT","TJ",null,"COOK","",null,null,"Derived heat",{"$f":"VLOOKUP(D438, Param_Multilanguage!A:C, Param_Menu!$B$3+1, FALSE)","v":"Cooking"},{"$f":"VLOOKUP(H438,LanguageData,MATCH(LanguageChosen,Language[Language],0),FALSE) & \" - \" & B438","v":"Derived heat - TJ"},2015]
["GAS","TJ_GCV",null,"COOK","",null,null,"Gas",{"$f":"VLOOKUP(D439, Param_Multilanguage!A:C, Param_Menu!$B$3+1, FALSE)","v":"Cooking"},{"$f":"VLOOKUP(H439,LanguageData,MATCH(LanguageChosen,Language[Language],0),FALSE) & \" - \" & B439","v":"Gas - TJ_GCV"},2015]
["SOLIDFUEL","KT",null,"COOK","",null,null,"Solid fossil fuels",{"$f":"VLOOKUP(D440, Param_Multilanguage!A:C, Param_Menu!$B$3+1, FALSE)","v":"Cooking"},{"$f":"VLOOKUP(H440,LanguageData,MATCH(LanguageChosen,Language[Language],0),FALSE) & \" - \" & B440","v":"Solid fossil fuels - KT"},2015]
["OIL","KT",null,"COOK","",null,null,"Total oil and petroleum products",{"$f":"VLOOKUP(D441, Param_Multilanguage!A:C, Param_Menu!$B$3+1, FALSE)","v":"Cooking"},{"$f":"VLOOKUP(H441,LanguageData,MATCH(LanguageChosen,Language[Language],0),FALSE) & \" - \" & B441","v":"Total oil and petroleum products - KT"},2015]
["LPG","KT",null,"COOK","",null,null,"LPG",{"$f":"VLOOKUP(D442, Param_Multilanguage!A:C, Param_Menu!$B$3+1, FALSE)","v":"Cooking"},{"$f":"VLOOKUP(H442,LanguageData,MATCH(LanguageChosen,Language[Language],0),FALSE) & \" - \" & B442","v":"LPG - KT"},2015]
["KEROSENE","KT",null,"COOK","",null,null,"Other kerosene",{"$f":"VLOOKUP(D443, Param_Multilanguage!A:C, Param_Menu!$B$3+1, FALSE)","v":"Cooking"},{"$f":"VLOOKUP(H443,LanguageData,MATCH(LanguageChosen,Language[Language],0),FALSE) & \" - \" & B443","v":"Other kerosene - KT"},2015]
["GASOIL","KT",null,"COOK","",null,null,"Total gas/diesel oil",{"$f":"VLOOKUP(D444, Param_Multilanguage!A:C, Param_Menu!$B$3+1, FALSE)","v":"Cooking"},{"$f":"VLOOKUP(H444,LanguageData,MATCH(LanguageChosen,Language[Language],0),FALSE) & \" - \" & B444","v":"Total gas/diesel oil - KT"},2015]
["RENEW","TJ",null,"COOK","",null,null,"Renewables and wastes",{"$f":"VLOOKUP(D445, Param_Multilanguage!A:C, Param_Menu!$B$3+1, FALSE)","v":"Cooking"},{"$f":"VLOOKUP(H445,LanguageData,MATCH(LanguageChosen,Language[Language],0),FALSE) & \" - \" & B445","v":"Renewables and wastes - TJ"},2015]
["SOLARTH","TJ",null,"COOK","",null,null,"Solar thermal",{"$f":"VLOOKUP(D446, Param_Multilanguage!A:C, Param_Menu!$B$3+1, FALSE)","v":"Cooking"},{"$f":"VLOOKUP(H446,LanguageData,MATCH(LanguageChosen,Language[Language],0),FALSE) & \" - \" & B446","v":"Solar thermal - TJ"},2015]
["BIOFUEL","TJ",null,"COOK","",null,null,"Solid biofuels excluding charcoal",{"$f":"VLOOKUP(D447, Param_Multilanguage!A:C, Param_Menu!$B$3+1, FALSE)","v":"Cooking"},{"$f":"VLOOKUP(H447,LanguageData,MATCH(LanguageChosen,Language[Language],0),FALSE) & \" - \" & B447","v":"Solid biofuels excluding charcoal - TJ"},2015]
["BIOGASES","TJ",null,"COOK","",null,null,"Biogases",{"$f":"VLOOKUP(D448, Param_Multilanguage!A:C, Param_Menu!$B$3+1, FALSE)","v":"Cooking"},{"$f":"VLOOKUP(H448,LanguageData,MATCH(LanguageChosen,Language[Language],0),FALSE) & \" - \" & B448","v":"Biogases - TJ"},2015]
["AMBIANT","TJ",null,"COOK","",null,null,"Ambient heat",{"$f":"VLOOKUP(D449, Param_Multilanguage!A:C, Param_Menu!$B$3+1, FALSE)","v":"Cooking"},{"$f":"VLOOKUP(H449,LanguageData,MATCH(LanguageChosen,Language[Language],0),FALSE) & \" - \" & B449","v":"Ambient heat - TJ"},2015]
["ELEC","GWH",null,"LIGHTAPP",null,null,null,"Electricity",{"$f":"VLOOKUP(D450, Param_Multilanguage!A:C, Param_Menu!$B$3+1, FALSE)","v":"Lighting and appliances"},{"$f":"VLOOKUP(H450,LanguageData,MATCH(LanguageChosen,Language[Language],0),FALSE) & \" - \" & B450","v":"Electricity - GWH"},2015]
["HEAT","TJ",null,"LIGHTAPP","",null,null,"Derived heat",{"$f":"VLOOKUP(D451, Param_Multilanguage!A:C, Param_Menu!$B$3+1, FALSE)","v":"Lighting and appliances"},{"$f":"VLOOKUP(H451,LanguageData,MATCH(LanguageChosen,Language[Language],0),FALSE) & \" - \" & B451","v":"Derived heat - TJ"},2015]
["GAS","TJ_GCV",null,"LIGHTAPP","",null,null,"Gas",{"$f":"VLOOKUP(D452, Param_Multilanguage!A:C, Param_Menu!$B$3+1, FALSE)","v":"Lighting and appliances"},{"$f":"VLOOKUP(H452,LanguageData,MATCH(LanguageChosen,Language[Language],0),FALSE) & \" - \" & B452","v":"Gas - TJ_GCV"},2015]
["SOLIDFUEL","KT",null,"LIGHTAPP","",null,null,"Solid fossil fuels",{"$f":"VLOOKUP(D453, Param_Multilanguage!A:C, Param_Menu!$B$3+1, FALSE)","v":"Lighting and appliances"},{"$f":"VLOOKUP(H453,LanguageData,MATCH(LanguageChosen,Language[Language],0),FALSE) & \" - \" & B453","v":"Solid fossil fuels - KT"},2015]
["OIL","KT",null,"LIGHTAPP","",null,null,"Total oil and petroleum products",{"$f":"VLOOKUP(D454, Param_Multilanguage!A:C, Param_Menu!$B$3+1, FALSE)","v":"Lighting and appliances"},{"$f":"VLOOKUP(H454,LanguageData,MATCH(LanguageChosen,Language[Language],0),FALSE) & \" - \" & B454","v":"Total oil and petroleum products - KT"},2015]
["LPG","KT",null,"LIGHTAPP","",null,null,"LPG",{"$f":"VLOOKUP(D455, Param_Multilanguage!A:C, Param_Menu!$B$3+1, FALSE)","v":"Lighting and appliances"},{"$f":"VLOOKUP(H455,LanguageData,MATCH(LanguageChosen,Language[Language],0),FALSE) & \" - \" & B455","v":"LPG - KT"},2015]
["KEROSENE","KT",null,"LIGHTAPP","",null,null,"Other kerosene",{"$f":"VLOOKUP(D456, Param_Multilanguage!A:C, Param_Menu!$B$3+1, FALSE)","v":"Lighting and appliances"},{"$f":"VLOOKUP(H456,LanguageData,MATCH(LanguageChosen,Language[Language],0),FALSE) & \" - \" & B456","v":"Other kerosene - KT"},2015]
["GASOIL","KT",null,"LIGHTAPP","",null,null,"Total gas/diesel oil",{"$f":"VLOOKUP(D457, Param_Multilanguage!A:C, Param_Menu!$B$3+1, FALSE)","v":"Lighting and appliances"},{"$f":"VLOOKUP(H457,LanguageData,MATCH(LanguageChosen,Language[Language],0),FALSE) & \" - \" & B457","v":"Total gas/diesel oil - KT"},2015]
["RENEW","TJ",null,"LIGHTAPP","",null,null,"Renewables and wastes",{"$f":"VLOOKUP(D458, Param_Multilanguage!A:C, Param_Menu!$B$3+1, FALSE)","v":"Lighting and appliances"},{"$f":"VLOOKUP(H458,LanguageData,MATCH(LanguageChosen,Language[Language],0),FALSE) & \" - \" & B458","v":"Renewables and wastes - TJ"},2015]
["SOLARTH","TJ",null,"LIGHTAPP","",null,null,"Solar thermal",{"$f":"VLOOKUP(D459, Param_Multilanguage!A:C, Param_Menu!$B$3+1, FALSE)","v":"Lighting and appliances"},{"$f":"VLOOKUP(H459,LanguageData,MATCH(LanguageChosen,Language[Language],0),FALSE) & \" - \" & B459","v":"Solar thermal - TJ"},2015]
["BIOFUEL","TJ",null,"LIGHTAPP","",null,null,"Solid biofuels excluding charcoal",{"$f":"VLOOKUP(D460, Param_Multilanguage!A:C, Param_Menu!$B$3+1, FALSE)","v":"Lighting and appliances"},{"$f":"VLOOKUP(H460,LanguageData,MATCH(LanguageChosen,Language[Language],0),FALSE) & \" - \" & B460","v":"Solid biofuels excluding charcoal - TJ"},2015]
["BIOGASES","TJ",null,"LIGHTAPP","",null,null,"Biogases",{"$f":"VLOOKUP(D461, Param_Multilanguage!A:C, Param_Menu!$B$3+1, FALSE)","v":"Lighting and appliances"},{"$f":"VLOOKUP(H461,LanguageData,MATCH(LanguageChosen,Language[Language],0),FALSE) & \" - \" & B461","v":"Biogases - TJ"},2015]
["AMBIANT","TJ",null,"LIGHTAPP","",null,null,"Ambient heat",{"$f":"VLOOKUP(D462, Param_Multilanguage!A:C, Param_Menu!$B$3+1, FALSE)","v":"Lighting and appliances"},{"$f":"VLOOKUP(H462,LanguageData,MATCH(LanguageChosen,Language[Language],0),FALSE) & \" - \" & B462","v":"Ambient heat - TJ"},2015]
["ELEC","GWH",null,"RESOTH",null,null,null,"Electricity",{"$f":"VLOOKUP(D463, Param_Multilanguage!A:C, Param_Menu!$B$3+1, FALSE)","v":"Other end uses"},{"$f":"VLOOKUP(H463,LanguageData,MATCH(LanguageChosen,Language[Language],0),FALSE) & \" - \" & B463","v":"Electricity - GWH"},2015]
["HEAT","TJ",null,"RESOTH","",null,null,"Derived heat",{"$f":"VLOOKUP(D464, Param_Multilanguage!A:C, Param_Menu!$B$3+1, FALSE)","v":"Other end uses"},{"$f":"VLOOKUP(H464,LanguageData,MATCH(LanguageChosen,Language[Language],0),FALSE) & \" - \" & B464","v":"Derived heat - TJ"},2015]
["GAS","TJ_GCV",null,"RESOTH","",null,null,"Gas",{"$f":"VLOOKUP(D465, Param_Multilanguage!A:C, Param_Menu!$B$3+1, FALSE)","v":"Other end uses"},{"$f":"VLOOKUP(H465,LanguageData,MATCH(LanguageChosen,Language[Language],0),FALSE) & \" - \" & B465","v":"Gas - TJ_GCV"},2015]
["SOLIDFUEL","KT",null,"RESOTH","",null,null,"Solid fossil fuels",{"$f":"VLOOKUP(D466, Param_Multilanguage!A:C, Param_Menu!$B$3+1, FALSE)","v":"Other end uses"},{"$f":"VLOOKUP(H466,LanguageData,MATCH(LanguageChosen,Language[Language],0),FALSE) & \" - \" & B466","v":"Solid fossil fuels - KT"},2015]
["OIL","KT",null,"RESOTH","",null,null,"Total oil and petroleum products",{"$f":"VLOOKUP(D467, Param_Multilanguage!A:C, Param_Menu!$B$3+1, FALSE)","v":"Other end uses"},{"$f":"VLOOKUP(H467,LanguageData,MATCH(LanguageChosen,Language[Language],0),FALSE) & \" - \" & B467","v":"Total oil and petroleum products - KT"},2015]
["LPG","KT",null,"RESOTH","",null,null,"LPG",{"$f":"VLOOKUP(D468, Param_Multilanguage!A:C, Param_Menu!$B$3+1, FALSE)","v":"Other end uses"},{"$f":"VLOOKUP(H468,LanguageData,MATCH(LanguageChosen,Language[Language],0),FALSE) & \" - \" & B468","v":"LPG - KT"},2015]
["KEROSENE","KT",null,"RESOTH","",null,null,"Other kerosene",{"$f":"VLOOKUP(D469, Param_Multilanguage!A:C, Param_Menu!$B$3+1, FALSE)","v":"Other end uses"},{"$f":"VLOOKUP(H469,LanguageData,MATCH(LanguageChosen,Language[Language],0),FALSE) & \" - \" & B469","v":"Other kerosene - KT"},2015]
["GASOIL","KT",null,"RESOTH","",null,null,"Total gas/diesel oil",{"$f":"VLOOKUP(D470, Param_Multilanguage!A:C, Param_Menu!$B$3+1, FALSE)","v":"Other end uses"},{"$f":"VLOOKUP(H470,LanguageData,MATCH(LanguageChosen,Language[Language],0),FALSE) & \" - \" & B470","v":"Total gas/diesel oil - KT"},2015]
["RENEW","TJ",null,"RESOTH","",null,null,"Renewables and wastes",{"$f":"VLOOKUP(D471, Param_Multilanguage!A:C, Param_Menu!$B$3+1, FALSE)","v":"Other end uses"},{"$f":"VLOOKUP(H471,LanguageData,MATCH(LanguageChosen,Language[Language],0),FALSE) & \" - \" & B471","v":"Renewables and wastes - TJ"},2015]
["SOLARTH","TJ",null,"RESOTH","",null,null,"Solar thermal",{"$f":"VLOOKUP(D472, Param_Multilanguage!A:C, Param_Menu!$B$3+1, FALSE)","v":"Other end uses"},{"$f":"VLOOKUP(H472,LanguageData,MATCH(LanguageChosen,Language[Language],0),FALSE) & \" - \" & B472","v":"Solar thermal - TJ"},2015]
["BIOFUEL","TJ",null,"RESOTH","",null,null,"Solid biofuels excluding charcoal",{"$f":"VLOOKUP(D473, Param_Multilanguage!A:C, Param_Menu!$B$3+1, FALSE)","v":"Other end uses"},{"$f":"VLOOKUP(H473,LanguageData,MATCH(LanguageChosen,Language[Language],0),FALSE) & \" - \" & B473","v":"Solid biofuels excluding charcoal - TJ"},2015]
["BIOGASES","TJ",null,"RESOTH","",null,null,"Biogases",{"$f":"VLOOKUP(D474, Param_Multilanguage!A:C, Param_Menu!$B$3+1, FALSE)","v":"Other end uses"},{"$f":"VLOOKUP(H474,LanguageData,MATCH(LanguageChosen,Language[Language],0),FALSE) & \" - \" & B474","v":"Biogases - TJ"},2015]
["AMBIANT","TJ",null,"RESOTH","",null,null,"Ambient heat",{"$f":"VLOOKUP(D475, Param_Multilanguage!A:C, Param_Menu!$B$3+1, FALSE)","v":"Other end uses"},{"$f":"VLOOKUP(H475,LanguageData,MATCH(LanguageChosen,Language[Language],0),FALSE) & \" - \" & B475","v":"Ambient heat - TJ"},2015]
["ELEC","GWH",null,"SPACEHEAT",null,null,null,"Electricity",{"$f":"VLOOKUP(D476, Param_Multilanguage!A:C, Param_Menu!$B$3+1, FALSE)","v":"Space heating"},{"$f":"VLOOKUP(H476,LanguageData,MATCH(LanguageChosen,Language[Language],0),FALSE) & \" - \" & B476","v":"Electricity - GWH"},2016]
["HEAT","TJ",null,"SPACEHEAT","",null,null,"Derived heat",{"$f":"VLOOKUP(D477, Param_Multilanguage!A:C, Param_Menu!$B$3+1, FALSE)","v":"Space heating"},{"$f":"VLOOKUP(H477,LanguageData,MATCH(LanguageChosen,Language[Language],0),FALSE) & \" - \" & B477","v":"Derived heat - TJ"},2016]
["GAS","TJ_GCV",null,"SPACEHEAT","",null,null,"Gas",{"$f":"VLOOKUP(D478, Param_Multilanguage!A:C, Param_Menu!$B$3+1, FALSE)","v":"Space heating"},{"$f":"VLOOKUP(H478,LanguageData,MATCH(LanguageChosen,Language[Language],0),FALSE) & \" - \" & B478","v":"Gas - TJ_GCV"},2016]
["SOLIDFUEL","KT",null,"SPACEHEAT","",null,null,"Solid fossil fuels",{"$f":"VLOOKUP(D479, Param_Multilanguage!A:C, Param_Menu!$B$3+1, FALSE)","v":"Space heating"},{"$f":"VLOOKUP(H479,LanguageData,MATCH(LanguageChosen,Language[Language],0),FALSE) & \" - \" & B479","v":"Solid fossil fuels - KT"},2016]
["OIL","KT",null,"SPACEHEAT","",null,null,"Total oil and petroleum products",{"$f":"VLOOKUP(D480, Param_Multilanguage!A:C, Param_Menu!$B$3+1, FALSE)","v":"Space heating"},{"$f":"VLOOKUP(H480,LanguageData,MATCH(LanguageChosen,Language[Language],0),FALSE) & \" - \" & B480","v":"Total oil and petroleum products - KT"},2016]
["LPG","KT",null,"SPACEHEAT","",null,null,"LPG",{"$f":"VLOOKUP(D481, Param_Multilanguage!A:C, Param_Menu!$B$3+1, FALSE)","v":"Space heating"},{"$f":"VLOOKUP(H481,LanguageData,MATCH(LanguageChosen,Language[Language],0),FALSE) & \" - \" & B481","v":"LPG - KT"},2016]
["KEROSENE","KT",null,"SPACEHEAT","",null,null,"Other kerosene",{"$f":"VLOOKUP(D482, Param_Multilanguage!A:C, Param_Menu!$B$3+1, FALSE)","v":"Space heating"},{"$f":"VLOOKUP(H482,LanguageData,MATCH(LanguageChosen,Language[Language],0),FALSE) & \" - \" & B482","v":"Other kerosene - KT"},2016]
["GASOIL","KT",null,"SPACEHEAT","",null,null,"Total gas/diesel oil",{"$f":"VLOOKUP(D483, Param_Multilanguage!A:C, Param_Menu!$B$3+1, FALSE)","v":"Space heating"},{"$f":"VLOOKUP(H483,LanguageData,MATCH(LanguageChosen,Language[Language],0),FALSE) & \" - \" & B483","v":"Total gas/diesel oil - KT"},2016]
["RENEW","TJ",null,"SPACEHEAT","",null,null,"Renewables and wastes",{"$f":"VLOOKUP(D484, Param_Multilanguage!A:C, Param_Menu!$B$3+1, FALSE)","v":"Space heating"},{"$f":"VLOOKUP(H484,LanguageData,MATCH(LanguageChosen,Language[Language],0),FALSE) & \" - \" & B484","v":"Renewables and wastes - TJ"},2016]
["SOLARTH","TJ",null,"SPACEHEAT","",null,null,"Solar thermal",{"$f":"VLOOKUP(D485, Param_Multilanguage!A:C, Param_Menu!$B$3+1, FALSE)","v":"Space heating"},{"$f":"VLOOKUP(H485,LanguageData,MATCH(LanguageChosen,Language[Language],0),FALSE) & \" - \" & B485","v":"Solar thermal - TJ"},2016]
["BIOFUEL","TJ",null,"SPACEHEAT","",null,null,"Solid biofuels excluding charcoal",{"$f":"VLOOKUP(D486, Param_Multilanguage!A:C, Param_Menu!$B$3+1, FALSE)","v":"Space heating"},{"$f":"VLOOKUP(H486,LanguageData,MATCH(LanguageChosen,Language[Language],0),FALSE) & \" - \" & B486","v":"Solid biofuels excluding charcoal - TJ"},2016]
["BIOGASES","TJ",null,"SPACEHEAT","",null,null,"Biogases",{"$f":"VLOOKUP(D487, Param_Multilanguage!A:C, Param_Menu!$B$3+1, FALSE)","v":"Space heating"},{"$f":"VLOOKUP(H487,LanguageData,MATCH(LanguageChosen,Language[Language],0),FALSE) & \" - \" & B487","v":"Biogases - TJ"},2016]
["AMBIANT","TJ",null,"SPACEHEAT","",null,null,"Ambient heat",{"$f":"VLOOKUP(D488, Param_Multilanguage!A:C, Param_Menu!$B$3+1, FALSE)","v":"Space heating"},{"$f":"VLOOKUP(H488,LanguageData,MATCH(LanguageChosen,Language[Language],0),FALSE) & \" - \" & B488","v":"Ambient heat - TJ"},2016]
["ELEC","GWH",null,"SPACECOOL",null,null,null,"Electricity",{"$f":"VLOOKUP(D489, Param_Multilanguage!A:C, Param_Menu!$B$3+1, FALSE)","v":"Space cooling"},{"$f":"VLOOKUP(H489,LanguageData,MATCH(LanguageChosen,Language[Language],0),FALSE) & \" - \" & B489","v":"Electricity - GWH"},2016]
["HEAT","TJ",null,"SPACECOOL","",null,null,"Derived heat",{"$f":"VLOOKUP(D490, Param_Multilanguage!A:C, Param_Menu!$B$3+1, FALSE)","v":"Space cooling"},{"$f":"VLOOKUP(H490,LanguageData,MATCH(LanguageChosen,Language[Language],0),FALSE) & \" - \" & B490","v":"Derived heat - TJ"},2016]
["GAS","TJ_GCV",null,"SPACECOOL","",null,null,"Gas",{"$f":"VLOOKUP(D491, Param_Multilanguage!A:C, Param_Menu!$B$3+1, FALSE)","v":"Space cooling"},{"$f":"VLOOKUP(H491,LanguageData,MATCH(LanguageChosen,Language[Language],0),FALSE) & \" - \" & B491","v":"Gas - TJ_GCV"},2016]
["SOLIDFUEL","KT",null,"SPACECOOL","",null,null,"Solid fossil fuels",{"$f":"VLOOKUP(D492, Param_Multilanguage!A:C, Param_Menu!$B$3+1, FALSE)","v":"Space cooling"},{"$f":"VLOOKUP(H492,LanguageData,MATCH(LanguageChosen,Language[Language],0),FALSE) & \" - \" & B492","v":"Solid fossil fuels - KT"},2016]
["OIL","KT",null,"SPACECOOL","",null,null,"Total oil and petroleum products",{"$f":"VLOOKUP(D493, Param_Multilanguage!A:C, Param_Menu!$B$3+1, FALSE)","v":"Space cooling"},{"$f":"VLOOKUP(H493,LanguageData,MATCH(LanguageChosen,Language[Language],0),FALSE) & \" - \" & B493","v":"Total oil and petroleum products - KT"},2016]
["LPG","KT",null,"SPACECOOL","",null,null,"LPG",{"$f":"VLOOKUP(D494, Param_Multilanguage!A:C, Param_Menu!$B$3+1, FALSE)","v":"Space cooling"},{"$f":"VLOOKUP(H494,LanguageData,MATCH(LanguageChosen,Language[Language],0),FALSE) & \" - \" & B494","v":"LPG - KT"},2016]
["KEROSENE","KT",null,"SPACECOOL","",null,null,"Other kerosene",{"$f":"VLOOKUP(D495, Param_Multilanguage!A:C, Param_Menu!$B$3+1, FALSE)","v":"Space cooling"},{"$f":"VLOOKUP(H495,LanguageData,MATCH(LanguageChosen,Language[Language],0),FALSE) & \" - \" & B495","v":"Other kerosene - KT"},2016]
["GASOIL","KT",null,"SPACECOOL","",null,null,"Total gas/diesel oil",{"$f":"VLOOKUP(D496, Param_Multilanguage!A:C, Param_Menu!$B$3+1, FALSE)","v":"Space cooling"},{"$f":"VLOOKUP(H496,LanguageData,MATCH(LanguageChosen,Language[Language],0),FALSE) & \" - \" & B496","v":"Total gas/diesel oil - KT"},2016]
["RENEW","TJ",null,"SPACECOOL","",null,null,"Renewables and wastes",{"$f":"VLOOKUP(D497, Param_Multilanguage!A:C, Param_Menu!$B$3+1, FALSE)","v":"Space cooling"},{"$f":"VLOOKUP(H497,LanguageData,MATCH(LanguageChosen,Language[Language],0),FALSE) & \" - \" & B497","v":"Renewables and wastes - TJ"},2016]
["SOLARTH","TJ",null,"SPACECOOL","",null,null,"Solar thermal",{"$f":"VLOOKUP(D498, Param_Multilanguage!A:C, Param_Menu!$B$3+1, FALSE)","v":"Space cooling"},{"$f":"VLOOKUP(H498,LanguageData,MATCH(LanguageChosen,Language[Language],0),FALSE) & \" - \" & B498","v":"Solar thermal - TJ"},2016]
["BIOFUEL","TJ",null,"SPACECOOL","",null,null,"Solid biofuels excluding charcoal",{"$f":"VLOOKUP(D499, Param_Multilanguage!A:C, Param_Menu!$B$3+1, FALSE)","v":"Space cooling"},{"$f":"VLOOKUP(H499,LanguageData,MATCH(LanguageChosen,Language[Language],0),FALSE) & \" - \" & B499","v":"Solid biofuels excluding charcoal - TJ"},2016]
["BIOGASES","TJ",null,"SPACECOOL","",null,null,"Biogases",{"$f":"VLOOKUP(D500, Param_Multilanguage!A:C, Param_Menu!$B$3+1, FALSE)","v":"Space cooling"},{"$f":"VLOOKUP(H500,LanguageData,MATCH(LanguageChosen,Language[Language],0),FALSE) & \" - \" & B500","v":"Biogases - TJ"},2016]
["AMBIANT","TJ",null,"SPACECOOL","",null,null,"Ambient heat",{"$f":"VLOOKUP(D501, Param_Multilanguage!A:C, Param_Menu!$B$3+1, FALSE)","v":"Space cooling"},{"$f":"VLOOKUP(H501,LanguageData,MATCH(LanguageChosen,Language[Language],0),FALSE) & \" - \" & B501","v":"Ambient heat - TJ"},2016]
["ELEC","GWH",null,"WATERHEAT",null,null,null,"Electricity",{"$f":"VLOOKUP(D502, Param_Multilanguage!A:C, Param_Menu!$B$3+1, FALSE)","v":"Water heating"},{"$f":"VLOOKUP(H502,LanguageData,MATCH(LanguageChosen,Language[Language],0),FALSE) & \" - \" & B502","v":"Electricity - GWH"},2016]
["HEAT","TJ",null,"WATERHEAT","",null,null,"Derived heat",{"$f":"VLOOKUP(D503, Param_Multilanguage!A:C, Param_Menu!$B$3+1, FALSE)","v":"Water heating"},{"$f":"VLOOKUP(H503,LanguageData,MATCH(LanguageChosen,Language[Language],0),FALSE) & \" - \" & B503","v":"Derived heat - TJ"},2016]
["GAS","TJ_GCV",null,"WATERHEAT","",null,null,"Gas",{"$f":"VLOOKUP(D504, Param_Multilanguage!A:C, Param_Menu!$B$3+1, FALSE)","v":"Water heating"},{"$f":"VLOOKUP(H504,LanguageData,MATCH(LanguageChosen,Language[Language],0),FALSE) & \" - \" & B504","v":"Gas - TJ_GCV"},2016]
["SOLIDFUEL","KT",null,"WATERHEAT","",null,null,"Solid fossil fuels",{"$f":"VLOOKUP(D505, Param_Multilanguage!A:C, Param_Menu!$B$3+1, FALSE)","v":"Water heating"},{"$f":"VLOOKUP(H505,LanguageData,MATCH(LanguageChosen,Language[Language],0),FALSE) & \" - \" & B505","v":"Solid fossil fuels - KT"},2016]
["OIL","KT",null,"WATERHEAT","",null,null,"Total oil and petroleum products",{"$f":"VLOOKUP(D506, Param_Multilanguage!A:C, Param_Menu!$B$3+1, FALSE)","v":"Water heating"},{"$f":"VLOOKUP(H506,LanguageData,MATCH(LanguageChosen,Language[Language],0),FALSE) & \" - \" & B506","v":"Total oil and petroleum products - KT"},2016]
["LPG","KT",null,"WATERHEAT","",null,null,"LPG",{"$f":"VLOOKUP(D507, Param_Multilanguage!A:C, Param_Menu!$B$3+1, FALSE)","v":"Water heating"},{"$f":"VLOOKUP(H507,LanguageData,MATCH(LanguageChosen,Language[Language],0),FALSE) & \" - \" & B507","v":"LPG - KT"},2016]
["KEROSENE","KT",null,"WATERHEAT","",null,null,"Other kerosene",{"$f":"VLOOKUP(D508, Param_Multilanguage!A:C, Param_Menu!$B$3+1, FALSE)","v":"Water heating"},{"$f":"VLOOKUP(H508,LanguageData,MATCH(LanguageChosen,Language[Language],0),FALSE) & \" - \" & B508","v":"Other kerosene - KT"},2016]
["GASOIL","KT",null,"WATERHEAT","",null,null,"Total gas/diesel oil",{"$f":"VLOOKUP(D509, Param_Multilanguage!A:C, Param_Menu!$B$3+1, FALSE)","v":"Water heating"},{"$f":"VLOOKUP(H509,LanguageData,MATCH(LanguageChosen,Language[Language],0),FALSE) & \" - \" & B509","v":"Total gas/diesel oil - KT"},2016]
["RENEW","TJ",null,"WATERHEAT","",null,null,"Renewables and wastes",{"$f":"VLOOKUP(D510, Param_Multilanguage!A:C, Param_Menu!$B$3+1, FALSE)","v":"Water heating"},{"$f":"VLOOKUP(H510,LanguageData,MATCH(LanguageChosen,Language[Language],0),FALSE) & \" - \" & B510","v":"Renewables and wastes - TJ"},2016]
["SOLARTH","TJ",null,"WATERHEAT","",null,null,"Solar thermal",{"$f":"VLOOKUP(D511, Param_Multilanguage!A:C, Param_Menu!$B$3+1, FALSE)","v":"Water heating"},{"$f":"VLOOKUP(H511,LanguageData,MATCH(LanguageChosen,Language[Language],0),FALSE) & \" - \" & B511","v":"Solar thermal - TJ"},2016]
["BIOFUEL","TJ",null,"WATERHEAT","",null,null,"Solid biofuels excluding charcoal",{"$f":"VLOOKUP(D512, Param_Multilanguage!A:C, Param_Menu!$B$3+1, FALSE)","v":"Water heating"},{"$f":"VLOOKUP(H512,LanguageData,MATCH(LanguageChosen,Language[Language],0),FALSE) & \" - \" & B512","v":"Solid biofuels excluding charcoal - TJ"},2016]
["BIOGASES","TJ",null,"WATERHEAT","",null,null,"Biogases",{"$f":"VLOOKUP(D513, Param_Multilanguage!A:C, Param_Menu!$B$3+1, FALSE)","v":"Water heating"},{"$f":"VLOOKUP(H513,LanguageData,MATCH(LanguageChosen,Language[Language],0),FALSE) & \" - \" & B513","v":"Biogases - TJ"},2016]
["AMBIANT","TJ",null,"WATERHEAT","",null,null,"Ambient heat",{"$f":"VLOOKUP(D514, Param_Multilanguage!A:C, Param_Menu!$B$3+1, FALSE)","v":"Water heating"},{"$f":"VLOOKUP(H514,LanguageData,MATCH(LanguageChosen,Language[Language],0),FALSE) & \" - \" & B514","v":"Ambient heat - TJ"},2016]
["ELEC","GWH",null,"COOK",null,null,null,"Electricity",{"$f":"VLOOKUP(D515, Param_Multilanguage!A:C, Param_Menu!$B$3+1, FALSE)","v":"Cooking"},{"$f":"VLOOKUP(H515,LanguageData,MATCH(LanguageChosen,Language[Language],0),FALSE) & \" - \" & B515","v":"Electricity - GWH"},2016]
["HEAT","TJ",null,"COOK","",null,null,"Derived heat",{"$f":"VLOOKUP(D516, Param_Multilanguage!A:C, Param_Menu!$B$3+1, FALSE)","v":"Cooking"},{"$f":"VLOOKUP(H516,LanguageData,MATCH(LanguageChosen,Language[Language],0),FALSE) & \" - \" & B516","v":"Derived heat - TJ"},2016]
["GAS","TJ_GCV",null,"COOK","",null,null,"Gas",{"$f":"VLOOKUP(D517, Param_Multilanguage!A:C, Param_Menu!$B$3+1, FALSE)","v":"Cooking"},{"$f":"VLOOKUP(H517,LanguageData,MATCH(LanguageChosen,Language[Language],0),FALSE) & \" - \" & B517","v":"Gas - TJ_GCV"},2016]
["SOLIDFUEL","KT",null,"COOK","",null,null,"Solid fossil fuels",{"$f":"VLOOKUP(D518, Param_Multilanguage!A:C, Param_Menu!$B$3+1, FALSE)","v":"Cooking"},{"$f":"VLOOKUP(H518,LanguageData,MATCH(LanguageChosen,Language[Language],0),FALSE) & \" - \" & B518","v":"Solid fossil fuels - KT"},2016]
["OIL","KT",null,"COOK","",null,null,"Total oil and petroleum products",{"$f":"VLOOKUP(D519, Param_Multilanguage!A:C, Param_Menu!$B$3+1, FALSE)","v":"Cooking"},{"$f":"VLOOKUP(H519,LanguageData,MATCH(LanguageChosen,Language[Language],0),FALSE) & \" - \" & B519","v":"Total oil and petroleum products - KT"},2016]
["LPG","KT",null,"COOK","",null,null,"LPG",{"$f":"VLOOKUP(D520, Param_Multilanguage!A:C, Param_Menu!$B$3+1, FALSE)","v":"Cooking"},{"$f":"VLOOKUP(H520,LanguageData,MATCH(LanguageChosen,Language[Language],0),FALSE) & \" - \" & B520","v":"LPG - KT"},2016]
["KEROSENE","KT",null,"COOK","",null,null,"Other kerosene",{"$f":"VLOOKUP(D521, Param_Multilanguage!A:C, Param_Menu!$B$3+1, FALSE)","v":"Cooking"},{"$f":"VLOOKUP(H521,LanguageData,MATCH(LanguageChosen,Language[Language],0),FALSE) & \" - \" & B521","v":"Other kerosene - KT"},2016]
["GASOIL","KT",null,"COOK","",null,null,"Total gas/diesel oil",{"$f":"VLOOKUP(D522, Param_Multilanguage!A:C, Param_Menu!$B$3+1, FALSE)","v":"Cooking"},{"$f":"VLOOKUP(H522,LanguageData,MATCH(LanguageChosen,Language[Language],0),FALSE) & \" - \" & B522","v":"Total gas/diesel oil - KT"},2016]
["RENEW","TJ",null,"COOK","",null,null,"Renewables and wastes",{"$f":"VLOOKUP(D523, Param_Multilanguage!A:C, Param_Menu!$B$3+1, FALSE)","v":"Cooking"},{"$f":"VLOOKUP(H523,LanguageData,MATCH(LanguageChosen,Language[Language],0),FALSE) & \" - \" & B523","v":"Renewables and wastes - TJ"},2016]
["SOLARTH","TJ",null,"COOK","",null,null,"Solar thermal",{"$f":"VLOOKUP(D524, Param_Multilanguage!A:C, Param_Menu!$B$3+1, FALSE)","v":"Cooking"},{"$f":"VLOOKUP(H524,LanguageData,MATCH(LanguageChosen,Language[Language],0),FALSE) & \" - \" & B524","v":"Solar thermal - TJ"},2016]
["BIOFUEL","TJ",null,"COOK","",null,null,"Solid biofuels excluding charcoal",{"$f":"VLOOKUP(D525, Param_Multilanguage!A:C, Param_Menu!$B$3+1, FALSE)","v":"Cooking"},{"$f":"VLOOKUP(H525,LanguageData,MATCH(LanguageChosen,Language[Language],0),FALSE) & \" - \" & B525","v":"Solid biofuels excluding charcoal - TJ"},2016]
["BIOGASES","TJ",null,"COOK","",null,null,"Biogases",{"$f":"VLOOKUP(D526, Param_Multilanguage!A:C, Param_Menu!$B$3+1, FALSE)","v":"Cooking"},{"$f":"VLOOKUP(H526,LanguageData,MATCH(LanguageChosen,Language[Language],0),FALSE) & \" - \" & B526","v":"Biogases - TJ"},2016]
["AMBIANT","TJ",null,"COOK","",null,null,"Ambient heat",{"$f":"VLOOKUP(D527, Param_Multilanguage!A:C, Param_Menu!$B$3+1, FALSE)","v":"Cooking"},{"$f":"VLOOKUP(H527,LanguageData,MATCH(LanguageChosen,Language[Language],0),FALSE) & \" - \" & B527","v":"Ambient heat - TJ"},2016]
["ELEC","GWH",null,"LIGHTAPP",null,null,null,"Electricity",{"$f":"VLOOKUP(D528, Param_Multilanguage!A:C, Param_Menu!$B$3+1, FALSE)","v":"Lighting and appliances"},{"$f":"VLOOKUP(H528,LanguageData,MATCH(LanguageChosen,Language[Language],0),FALSE) & \" - \" & B528","v":"Electricity - GWH"},2016]
["HEAT","TJ",null,"LIGHTAPP","",null,null,"Derived heat",{"$f":"VLOOKUP(D529, Param_Multilanguage!A:C, Param_Menu!$B$3+1, FALSE)","v":"Lighting and appliances"},{"$f":"VLOOKUP(H529,LanguageData,MATCH(LanguageChosen,Language[Language],0),FALSE) & \" - \" & B529","v":"Derived heat - TJ"},2016]
["GAS","TJ_GCV",null,"LIGHTAPP","",null,null,"Gas",{"$f":"VLOOKUP(D530, Param_Multilanguage!A:C, Param_Menu!$B$3+1, FALSE)","v":"Lighting and appliances"},{"$f":"VLOOKUP(H530,LanguageData,MATCH(LanguageChosen,Language[Language],0),FALSE) & \" - \" & B530","v":"Gas - TJ_GCV"},2016]
["SOLIDFUEL","KT",null,"LIGHTAPP","",null,null,"Solid fossil fuels",{"$f":"VLOOKUP(D531, Param_Multilanguage!A:C, Param_Menu!$B$3+1, FALSE)","v":"Lighting and appliances"},{"$f":"VLOOKUP(H531,LanguageData,MATCH(LanguageChosen,Language[Language],0),FALSE) & \" - \" & B531","v":"Solid fossil fuels - KT"},2016]
["OIL","KT",null,"LIGHTAPP","",null,null,"Total oil and petroleum products",{"$f":"VLOOKUP(D532, Param_Multilanguage!A:C, Param_Menu!$B$3+1, FALSE)","v":"Lighting and appliances"},{"$f":"VLOOKUP(H532,LanguageData,MATCH(LanguageChosen,Language[Language],0),FALSE) & \" - \" & B532","v":"Total oil and petroleum products - KT"},2016]
["LPG","KT",null,"LIGHTAPP","",null,null,"LPG",{"$f":"VLOOKUP(D533, Param_Multilanguage!A:C, Param_Menu!$B$3+1, FALSE)","v":"Lighting and appliances"},{"$f":"VLOOKUP(H533,LanguageData,MATCH(LanguageChosen,Language[Language],0),FALSE) & \" - \" & B533","v":"LPG - KT"},2016]
["KEROSENE","KT",null,"LIGHTAPP","",null,null,"Other kerosene",{"$f":"VLOOKUP(D534, Param_Multilanguage!A:C, Param_Menu!$B$3+1, FALSE)","v":"Lighting and appliances"},{"$f":"VLOOKUP(H534,LanguageData,MATCH(LanguageChosen,Language[Language],0),FALSE) & \" - \" & B534","v":"Other kerosene - KT"},2016]
["GASOIL","KT",null,"LIGHTAPP","",null,null,"Total gas/diesel oil",{"$f":"VLOOKUP(D535, Param_Multilanguage!A:C, Param_Menu!$B$3+1, FALSE)","v":"Lighting and appliances"},{"$f":"VLOOKUP(H535,LanguageData,MATCH(LanguageChosen,Language[Language],0),FALSE) & \" - \" & B535","v":"Total gas/diesel oil - KT"},2016]
["RENEW","TJ",null,"LIGHTAPP","",null,null,"Renewables and wastes",{"$f":"VLOOKUP(D536, Param_Multilanguage!A:C, Param_Menu!$B$3+1, FALSE)","v":"Lighting and appliances"},{"$f":"VLOOKUP(H536,LanguageData,MATCH(LanguageChosen,Language[Language],0),FALSE) & \" - \" & B536","v":"Renewables and wastes - TJ"},2016]
["SOLARTH","TJ",null,"LIGHTAPP","",null,null,"Solar thermal",{"$f":"VLOOKUP(D537, Param_Multilanguage!A:C, Param_Menu!$B$3+1, FALSE)","v":"Lighting and appliances"},{"$f":"VLOOKUP(H537,LanguageData,MATCH(LanguageChosen,Language[Language],0),FALSE) & \" - \" & B537","v":"Solar thermal - TJ"},2016]
["BIOFUEL","TJ",null,"LIGHTAPP","",null,null,"Solid biofuels excluding charcoal",{"$f":"VLOOKUP(D538, Param_Multilanguage!A:C, Param_Menu!$B$3+1, FALSE)","v":"Lighting and appliances"},{"$f":"VLOOKUP(H538,LanguageData,MATCH(LanguageChosen,Language[Language],0),FALSE) & \" - \" & B538","v":"Solid biofuels excluding charcoal - TJ"},2016]
["BIOGASES","TJ",null,"LIGHTAPP","",null,null,"Biogases",{"$f":"VLOOKUP(D539, Param_Multilanguage!A:C, Param_Menu!$B$3+1, FALSE)","v":"Lighting and appliances"},{"$f":"VLOOKUP(H539,LanguageData,MATCH(LanguageChosen,Language[Language],0),FALSE) & \" - \" & B539","v":"Biogases - TJ"},2016]
["AMBIANT","TJ",null,"LIGHTAPP","",null,null,"Ambient heat",{"$f":"VLOOKUP(D540, Param_Multilanguage!A:C, Param_Menu!$B$3+1, FALSE)","v":"Lighting and appliances"},{"$f":"VLOOKUP(H540,LanguageData,MATCH(LanguageChosen,Language[Language],0),FALSE) & \" - \" & B540","v":"Ambient heat - TJ"},2016]
["ELEC","GWH",null,"RESOTH",null,null,null,"Electricity",{"$f":"VLOOKUP(D541, Param_Multilanguage!A:C, Param_Menu!$B$3+1, FALSE)","v":"Other end uses"},{"$f":"VLOOKUP(H541,LanguageData,MATCH(LanguageChosen,Language[Language],0),FALSE) & \" - \" & B541","v":"Electricity - GWH"},2016]
["HEAT","TJ",null,"RESOTH","",null,null,"Derived heat",{"$f":"VLOOKUP(D542, Param_Multilanguage!A:C, Param_Menu!$B$3+1, FALSE)","v":"Other end uses"},{"$f":"VLOOKUP(H542,LanguageData,MATCH(LanguageChosen,Language[Language],0),FALSE) & \" - \" & B542","v":"Derived heat - TJ"},2016]
["GAS","TJ_GCV",null,"RESOTH","",null,null,"Gas",{"$f":"VLOOKUP(D543, Param_Multilanguage!A:C, Param_Menu!$B$3+1, FALSE)","v":"Other end uses"},{"$f":"VLOOKUP(H543,LanguageData,MATCH(LanguageChosen,Language[Language],0),FALSE) & \" - \" & B543","v":"Gas - TJ_GCV"},2016]
["SOLIDFUEL","KT",null,"RESOTH","",null,null,"Solid fossil fuels",{"$f":"VLOOKUP(D544, Param_Multilanguage!A:C, Param_Menu!$B$3+1, FALSE)","v":"Other end uses"},{"$f":"VLOOKUP(H544,LanguageData,MATCH(LanguageChosen,Language[Language],0),FALSE) & \" - \" & B544","v":"Solid fossil fuels - KT"},2016]
["OIL","KT",null,"RESOTH","",null,null,"Total oil and petroleum products",{"$f":"VLOOKUP(D545, Param_Multilanguage!A:C, Param_Menu!$B$3+1, FALSE)","v":"Other end uses"},{"$f":"VLOOKUP(H545,LanguageData,MATCH(LanguageChosen,Language[Language],0),FALSE) & \" - \" & B545","v":"Total oil and petroleum products - KT"},2016]
["LPG","KT",null,"RESOTH","",null,null,"LPG",{"$f":"VLOOKUP(D546, Param_Multilanguage!A:C, Param_Menu!$B$3+1, FALSE)","v":"Other end uses"},{"$f":"VLOOKUP(H546,LanguageData,MATCH(LanguageChosen,Language[Language],0),FALSE) & \" - \" & B546","v":"LPG - KT"},2016]
["KEROSENE","KT",null,"RESOTH","",null,null,"Other kerosene",{"$f":"VLOOKUP(D547, Param_Multilanguage!A:C, Param_Menu!$B$3+1, FALSE)","v":"Other end uses"},{"$f":"VLOOKUP(H547,LanguageData,MATCH(LanguageChosen,Language[Language],0),FALSE) & \" - \" & B547","v":"Other kerosene - KT"},2016]
["GASOIL","KT",null,"RESOTH","",null,null,"Total gas/diesel oil",{"$f":"VLOOKUP(D548, Param_Multilanguage!A:C, Param_Menu!$B$3+1, FALSE)","v":"Other end uses"},{"$f":"VLOOKUP(H548,LanguageData,MATCH(LanguageChosen,Language[Language],0),FALSE) & \" - \" & B548","v":"Total gas/diesel oil - KT"},2016]
["RENEW","TJ",null,"RESOTH","",null,null,"Renewables and wastes",{"$f":"VLOOKUP(D549, Param_Multilanguage!A:C, Param_Menu!$B$3+1, FALSE)","v":"Other end uses"},{"$f":"VLOOKUP(H549,LanguageData,MATCH(LanguageChosen,Language[Language],0),FALSE) & \" - \" & B549","v":"Renewables and wastes - TJ"},2016]
["SOLARTH","TJ",null,"RESOTH","",null,null,"Solar thermal",{"$f":"VLOOKUP(D550, Param_Multilanguage!A:C, Param_Menu!$B$3+1, FALSE)","v":"Other end uses"},{"$f":"VLOOKUP(H550,LanguageData,MATCH(LanguageChosen,Language[Language],0),FALSE) & \" - \" & B550","v":"Solar thermal - TJ"},2016]
["BIOFUEL","TJ",null,"RESOTH","",null,null,"Solid biofuels excluding charcoal",{"$f":"VLOOKUP(D551, Param_Multilanguage!A:C, Param_Menu!$B$3+1, FALSE)","v":"Other end uses"},{"$f":"VLOOKUP(H551,LanguageData,MATCH(LanguageChosen,Language[Language],0),FALSE) & \" - \" & B551","v":"Solid biofuels excluding charcoal - TJ"},2016]
["BIOGASES","TJ",null,"RESOTH","",null,null,"Biogases",{"$f":"VLOOKUP(D552, Param_Multilanguage!A:C, Param_Menu!$B$3+1, FALSE)","v":"Other end uses"},{"$f":"VLOOKUP(H552,LanguageData,MATCH(LanguageChosen,Language[Language],0),FALSE) & \" - \" & B552","v":"Biogases - TJ"},2016]
["AMBIANT","TJ",null,"RESOTH","",null,null,"Ambient heat",{"$f":"VLOOKUP(D553, Param_Multilanguage!A:C, Param_Menu!$B$3+1, FALSE)","v":"Other end uses"},{"$f":"VLOOKUP(H553,LanguageData,MATCH(LanguageChosen,Language[Language],0),FALSE) & \" - \" & B553","v":"Ambient heat - TJ"},2016]
["ELEC","GWH",null,"SPACEHEAT",null,null,null,"Electricity",{"$f":"VLOOKUP(D554, Param_Multilanguage!A:C, Param_Menu!$B$3+1, FALSE)","v":"Space heating"},{"$f":"VLOOKUP(H554,LanguageData,MATCH(LanguageChosen,Language[Language],0),FALSE) & \" - \" & B554","v":"Electricity - GWH"},2017]
["HEAT","TJ",null,"SPACEHEAT","",null,null,"Derived heat",{"$f":"VLOOKUP(D555, Param_Multilanguage!A:C, Param_Menu!$B$3+1, FALSE)","v":"Space heating"},{"$f":"VLOOKUP(H555,LanguageData,MATCH(LanguageChosen,Language[Language],0),FALSE) & \" - \" & B555","v":"Derived heat - TJ"},2017]
["GAS","TJ_GCV",null,"SPACEHEAT","",null,null,"Gas",{"$f":"VLOOKUP(D556, Param_Multilanguage!A:C, Param_Menu!$B$3+1, FALSE)","v":"Space heating"},{"$f":"VLOOKUP(H556,LanguageData,MATCH(LanguageChosen,Language[Language],0),FALSE) & \" - \" & B556","v":"Gas - TJ_GCV"},2017]
["SOLIDFUEL","KT",null,"SPACEHEAT","",null,null,"Solid fossil fuels",{"$f":"VLOOKUP(D557, Param_Multilanguage!A:C, Param_Menu!$B$3+1, FALSE)","v":"Space heating"},{"$f":"VLOOKUP(H557,LanguageData,MATCH(LanguageChosen,Language[Language],0),FALSE) & \" - \" & B557","v":"Solid fossil fuels - KT"},2017]
["OIL","KT",null,"SPACEHEAT","",null,null,"Total oil and petroleum products",{"$f":"VLOOKUP(D558, Param_Multilanguage!A:C, Param_Menu!$B$3+1, FALSE)","v":"Space heating"},{"$f":"VLOOKUP(H558,LanguageData,MATCH(LanguageChosen,Language[Language],0),FALSE) & \" - \" & B558","v":"Total oil and petroleum products - KT"},2017]
["LPG","KT",null,"SPACEHEAT","",null,null,"LPG",{"$f":"VLOOKUP(D559, Param_Multilanguage!A:C, Param_Menu!$B$3+1, FALSE)","v":"Space heating"},{"$f":"VLOOKUP(H559,LanguageData,MATCH(LanguageChosen,Language[Language],0),FALSE) & \" - \" & B559","v":"LPG - KT"},2017]
["KEROSENE","KT",null,"SPACEHEAT","",null,null,"Other kerosene",{"$f":"VLOOKUP(D560, Param_Multilanguage!A:C, Param_Menu!$B$3+1, FALSE)","v":"Space heating"},{"$f":"VLOOKUP(H560,LanguageData,MATCH(LanguageChosen,Language[Language],0),FALSE) & \" - \" & B560","v":"Other kerosene - KT"},2017]
["GASOIL","KT",null,"SPACEHEAT","",null,null,"Total gas/diesel oil",{"$f":"VLOOKUP(D561, Param_Multilanguage!A:C, Param_Menu!$B$3+1, FALSE)","v":"Space heating"},{"$f":"VLOOKUP(H561,LanguageData,MATCH(LanguageChosen,Language[Language],0),FALSE) & \" - \" & B561","v":"Total gas/diesel oil - KT"},2017]
["RENEW","TJ",null,"SPACEHEAT","",null,null,"Renewables and wastes",{"$f":"VLOOKUP(D562, Param_Multilanguage!A:C, Param_Menu!$B$3+1, FALSE)","v":"Space heating"},{"$f":"VLOOKUP(H562,LanguageData,MATCH(LanguageChosen,Language[Language],0),FALSE) & \" - \" & B562","v":"Renewables and wastes - TJ"},2017]
["SOLARTH","TJ",null,"SPACEHEAT","",null,null,"Solar thermal",{"$f":"VLOOKUP(D563, Param_Multilanguage!A:C, Param_Menu!$B$3+1, FALSE)","v":"Space heating"},{"$f":"VLOOKUP(H563,LanguageData,MATCH(LanguageChosen,Language[Language],0),FALSE) & \" - \" & B563","v":"Solar thermal - TJ"},2017]
["BIOFUEL","TJ",null,"SPACEHEAT","",null,null,"Solid biofuels excluding charcoal",{"$f":"VLOOKUP(D564, Param_Multilanguage!A:C, Param_Menu!$B$3+1, FALSE)","v":"Space heating"},{"$f":"VLOOKUP(H564,LanguageData,MATCH(LanguageChosen,Language[Language],0),FALSE) & \" - \" & B564","v":"Solid biofuels excluding charcoal - TJ"},2017]
["BIOGASES","TJ",null,"SPACEHEAT","",null,null,"Biogases",{"$f":"VLOOKUP(D565, Param_Multilanguage!A:C, Param_Menu!$B$3+1, FALSE)","v":"Space heating"},{"$f":"VLOOKUP(H565,LanguageData,MATCH(LanguageChosen,Language[Language],0),FALSE) & \" - \" & B565","v":"Biogases - TJ"},2017]
["AMBIANT","TJ",null,"SPACEHEAT","",null,null,"Ambient heat",{"$f":"VLOOKUP(D566, Param_Multilanguage!A:C, Param_Menu!$B$3+1, FALSE)","v":"Space heating"},{"$f":"VLOOKUP(H566,LanguageData,MATCH(LanguageChosen,Language[Language],0),FALSE) & \" - \" & B566","v":"Ambient heat - TJ"},2017]
["ELEC","GWH",null,"SPACECOOL",null,null,null,"Electricity",{"$f":"VLOOKUP(D567, Param_Multilanguage!A:C, Param_Menu!$B$3+1, FALSE)","v":"Space cooling"},{"$f":"VLOOKUP(H567,LanguageData,MATCH(LanguageChosen,Language[Language],0),FALSE) & \" - \" & B567","v":"Electricity - GWH"},2017]
["HEAT","TJ",null,"SPACECOOL","",null,null,"Derived heat",{"$f":"VLOOKUP(D568, Param_Multilanguage!A:C, Param_Menu!$B$3+1, FALSE)","v":"Space cooling"},{"$f":"VLOOKUP(H568,LanguageData,MATCH(LanguageChosen,Language[Language],0),FALSE) & \" - \" & B568","v":"Derived heat - TJ"},2017]
["GAS","TJ_GCV",null,"SPACECOOL","",null,null,"Gas",{"$f":"VLOOKUP(D569, Param_Multilanguage!A:C, Param_Menu!$B$3+1, FALSE)","v":"Space cooling"},{"$f":"VLOOKUP(H569,LanguageData,MATCH(LanguageChosen,Language[Language],0),FALSE) & \" - \" & B569","v":"Gas - TJ_GCV"},2017]
["SOLIDFUEL","KT",null,"SPACECOOL","",null,null,"Solid fossil fuels",{"$f":"VLOOKUP(D570, Param_Multilanguage!A:C, Param_Menu!$B$3+1, FALSE)","v":"Space cooling"},{"$f":"VLOOKUP(H570,LanguageData,MATCH(LanguageChosen,Language[Language],0),FALSE) & \" - \" & B570","v":"Solid fossil fuels - KT"},2017]
["OIL","KT",null,"SPACECOOL","",null,null,"Total oil and petroleum products",{"$f":"VLOOKUP(D571, Param_Multilanguage!A:C, Param_Menu!$B$3+1, FALSE)","v":"Space cooling"},{"$f":"VLOOKUP(H571,LanguageData,MATCH(LanguageChosen,Language[Language],0),FALSE) & \" - \" & B571","v":"Total oil and petroleum products - KT"},2017]
["LPG","KT",null,"SPACECOOL","",null,null,"LPG",{"$f":"VLOOKUP(D572, Param_Multilanguage!A:C, Param_Menu!$B$3+1, FALSE)","v":"Space cooling"},{"$f":"VLOOKUP(H572,LanguageData,MATCH(LanguageChosen,Language[Language],0),FALSE) & \" - \" & B572","v":"LPG - KT"},2017]
["KEROSENE","KT",null,"SPACECOOL","",null,null,"Other kerosene",{"$f":"VLOOKUP(D573, Param_Multilanguage!A:C, Param_Menu!$B$3+1, FALSE)","v":"Space cooling"},{"$f":"VLOOKUP(H573,LanguageData,MATCH(LanguageChosen,Language[Language],0),FALSE) & \" - \" & B573","v":"Other kerosene - KT"},2017]
["GASOIL","KT",null,"SPACECOOL","",null,null,"Total gas/diesel oil",{"$f":"VLOOKUP(D574, Param_Multilanguage!A:C, Param_Menu!$B$3+1, FALSE)","v":"Space cooling"},{"$f":"VLOOKUP(H574,LanguageData,MATCH(LanguageChosen,Language[Language],0),FALSE) & \" - \" & B574","v":"Total gas/diesel oil - KT"},2017]
["RENEW","TJ",null,"SPACECOOL","",null,null,"Renewables and wastes",{"$f":"VLOOKUP(D575, Param_Multilanguage!A:C, Param_Menu!$B$3+1, FALSE)","v":"Space cooling"},{"$f":"VLOOKUP(H575,LanguageData,MATCH(LanguageChosen,Language[Language],0),FALSE) & \" - \" & B575","v":"Renewables and wastes - TJ"},2017]
["SOLARTH","TJ",null,"SPACECOOL","",null,null,"Solar thermal",{"$f":"VLOOKUP(D576, Param_Multilanguage!A:C, Param_Menu!$B$3+1, FALSE)","v":"Space cooling"},{"$f":"VLOOKUP(H576,LanguageData,MATCH(LanguageChosen,Language[Language],0),FALSE) & \" - \" & B576","v":"Solar thermal - TJ"},2017]
["BIOFUEL","TJ",null,"SPACECOOL","",null,null,"Solid biofuels excluding charcoal",{"$f":"VLOOKUP(D577, Param_Multilanguage!A:C, Param_Menu!$B$3+1, FALSE)","v":"Space cooling"},{"$f":"VLOOKUP(H577,LanguageData,MATCH(LanguageChosen,Language[Language],0),FALSE) & \" - \" & B577","v":"Solid biofuels excluding charcoal - TJ"},2017]
["BIOGASES","TJ",null,"SPACECOOL","",null,null,"Biogases",{"$f":"VLOOKUP(D578, Param_Multilanguage!A:C, Param_Menu!$B$3+1, FALSE)","v":"Space cooling"},{"$f":"VLOOKUP(H578,LanguageData,MATCH(LanguageChosen,Language[Language],0),FALSE) & \" - \" & B578","v":"Biogases - TJ"},2017]
["AMBIANT","TJ",null,"SPACECOOL","",null,null,"Ambient heat",{"$f":"VLOOKUP(D579, Param_Multilanguage!A:C, Param_Menu!$B$3+1, FALSE)","v":"Space cooling"},{"$f":"VLOOKUP(H579,LanguageData,MATCH(LanguageChosen,Language[Language],0),FALSE) & \" - \" & B579","v":"Ambient heat - TJ"},2017]
["ELEC","GWH",null,"WATERHEAT",null,null,null,"Electricity",{"$f":"VLOOKUP(D580, Param_Multilanguage!A:C, Param_Menu!$B$3+1, FALSE)","v":"Water heating"},{"$f":"VLOOKUP(H580,LanguageData,MATCH(LanguageChosen,Language[Language],0),FALSE) & \" - \" & B580","v":"Electricity - GWH"},2017]
["HEAT","TJ",null,"WATERHEAT","",null,null,"Derived heat",{"$f":"VLOOKUP(D581, Param_Multilanguage!A:C, Param_Menu!$B$3+1, FALSE)","v":"Water heating"},{"$f":"VLOOKUP(H581,LanguageData,MATCH(LanguageChosen,Language[Language],0),FALSE) & \" - \" & B581","v":"Derived heat - TJ"},2017]
["GAS","TJ_GCV",null,"WATERHEAT","",null,null,"Gas",{"$f":"VLOOKUP(D582, Param_Multilanguage!A:C, Param_Menu!$B$3+1, FALSE)","v":"Water heating"},{"$f":"VLOOKUP(H582,LanguageData,MATCH(LanguageChosen,Language[Language],0),FALSE) & \" - \" & B582","v":"Gas - TJ_GCV"},2017]
["SOLIDFUEL","KT",null,"WATERHEAT","",null,null,"Solid fossil fuels",{"$f":"VLOOKUP(D583, Param_Multilanguage!A:C, Param_Menu!$B$3+1, FALSE)","v":"Water heating"},{"$f":"VLOOKUP(H583,LanguageData,MATCH(LanguageChosen,Language[Language],0),FALSE) & \" - \" & B583","v":"Solid fossil fuels - KT"},2017]
["OIL","KT",null,"WATERHEAT","",null,null,"Total oil and petroleum products",{"$f":"VLOOKUP(D584, Param_Multilanguage!A:C, Param_Menu!$B$3+1, FALSE)","v":"Water heating"},{"$f":"VLOOKUP(H584,LanguageData,MATCH(LanguageChosen,Language[Language],0),FALSE) & \" - \" & B584","v":"Total oil and petroleum products - KT"},2017]
["LPG","KT",null,"WATERHEAT","",null,null,"LPG",{"$f":"VLOOKUP(D585, Param_Multilanguage!A:C, Param_Menu!$B$3+1, FALSE)","v":"Water heating"},{"$f":"VLOOKUP(H585,LanguageData,MATCH(LanguageChosen,Language[Language],0),FALSE) & \" - \" & B585","v":"LPG - KT"},2017]
["KEROSENE","KT",null,"WATERHEAT","",null,null,"Other kerosene",{"$f":"VLOOKUP(D586, Param_Multilanguage!A:C, Param_Menu!$B$3+1, FALSE)","v":"Water heating"},{"$f":"VLOOKUP(H586,LanguageData,MATCH(LanguageChosen,Language[Language],0),FALSE) & \" - \" & B586","v":"Other kerosene - KT"},2017]
["GASOIL","KT",null,"WATERHEAT","",null,null,"Total gas/diesel oil",{"$f":"VLOOKUP(D587, Param_Multilanguage!A:C, Param_Menu!$B$3+1, FALSE)","v":"Water heating"},{"$f":"VLOOKUP(H587,LanguageData,MATCH(LanguageChosen,Language[Language],0),FALSE) & \" - \" & B587","v":"Total gas/diesel oil - KT"},2017]
["RENEW","TJ",null,"WATERHEAT","",null,null,"Renewables and wastes",{"$f":"VLOOKUP(D588, Param_Multilanguage!A:C, Param_Menu!$B$3+1, FALSE)","v":"Water heating"},{"$f":"VLOOKUP(H588,LanguageData,MATCH(LanguageChosen,Language[Language],0),FALSE) & \" - \" & B588","v":"Renewables and wastes - TJ"},2017]
["SOLARTH","TJ",null,"WATERHEAT","",null,null,"Solar thermal",{"$f":"VLOOKUP(D589, Param_Multilanguage!A:C, Param_Menu!$B$3+1, FALSE)","v":"Water heating"},{"$f":"VLOOKUP(H589,LanguageData,MATCH(LanguageChosen,Language[Language],0),FALSE) & \" - \" & B589","v":"Solar thermal - TJ"},2017]
["BIOFUEL","TJ",null,"WATERHEAT","",null,null,"Solid biofuels excluding charcoal",{"$f":"VLOOKUP(D590, Param_Multilanguage!A:C, Param_Menu!$B$3+1, FALSE)","v":"Water heating"},{"$f":"VLOOKUP(H590,LanguageData,MATCH(LanguageChosen,Language[Language],0),FALSE) & \" - \" & B590","v":"Solid biofuels excluding charcoal - TJ"},2017]
["BIOGASES","TJ",null,"WATERHEAT","",null,null,"Biogases",{"$f":"VLOOKUP(D591, Param_Multilanguage!A:C, Param_Menu!$B$3+1, FALSE)","v":"Water heating"},{"$f":"VLOOKUP(H591,LanguageData,MATCH(LanguageChosen,Language[Language],0),FALSE) & \" - \" & B591","v":"Biogases - TJ"},2017]
["AMBIANT","TJ",null,"WATERHEAT","",null,null,"Ambient heat",{"$f":"VLOOKUP(D592, Param_Multilanguage!A:C, Param_Menu!$B$3+1, FALSE)","v":"Water heating"},{"$f":"VLOOKUP(H592,LanguageData,MATCH(LanguageChosen,Language[Language],0),FALSE) & \" - \" & B592","v":"Ambient heat - TJ"},2017]
["ELEC","GWH",null,"COOK",null,null,null,"Electricity",{"$f":"VLOOKUP(D593, Param_Multilanguage!A:C, Param_Menu!$B$3+1, FALSE)","v":"Cooking"},{"$f":"VLOOKUP(H593,LanguageData,MATCH(LanguageChosen,Language[Language],0),FALSE) & \" - \" & B593","v":"Electricity - GWH"},2017]
["HEAT","TJ",null,"COOK","",null,null,"Derived heat",{"$f":"VLOOKUP(D594, Param_Multilanguage!A:C, Param_Menu!$B$3+1, FALSE)","v":"Cooking"},{"$f":"VLOOKUP(H594,LanguageData,MATCH(LanguageChosen,Language[Language],0),FALSE) & \" - \" & B594","v":"Derived heat - TJ"},2017]
["GAS","TJ_GCV",null,"COOK","",null,null,"Gas",{"$f":"VLOOKUP(D595, Param_Multilanguage!A:C, Param_Menu!$B$3+1, FALSE)","v":"Cooking"},{"$f":"VLOOKUP(H595,LanguageData,MATCH(LanguageChosen,Language[Language],0),FALSE) & \" - \" & B595","v":"Gas - TJ_GCV"},2017]
["SOLIDFUEL","KT",null,"COOK","",null,null,"Solid fossil fuels",{"$f":"VLOOKUP(D596, Param_Multilanguage!A:C, Param_Menu!$B$3+1, FALSE)","v":"Cooking"},{"$f":"VLOOKUP(H596,LanguageData,MATCH(LanguageChosen,Language[Language],0),FALSE) & \" - \" & B596","v":"Solid fossil fuels - KT"},2017]
["OIL","KT",null,"COOK","",null,null,"Total oil and petroleum products",{"$f":"VLOOKUP(D597, Param_Multilanguage!A:C, Param_Menu!$B$3+1, FALSE)","v":"Cooking"},{"$f":"VLOOKUP(H597,LanguageData,MATCH(LanguageChosen,Language[Language],0),FALSE) & \" - \" & B597","v":"Total oil and petroleum products - KT"},2017]
["LPG","KT",null,"COOK","",null,null,"LPG",{"$f":"VLOOKUP(D598, Param_Multilanguage!A:C, Param_Menu!$B$3+1, FALSE)","v":"Cooking"},{"$f":"VLOOKUP(H598,LanguageData,MATCH(LanguageChosen,Language[Language],0),FALSE) & \" - \" & B598","v":"LPG - KT"},2017]
["KEROSENE","KT",null,"COOK","",null,null,"Other kerosene",{"$f":"VLOOKUP(D599, Param_Multilanguage!A:C, Param_Menu!$B$3+1, FALSE)","v":"Cooking"},{"$f":"VLOOKUP(H599,LanguageData,MATCH(LanguageChosen,Language[Language],0),FALSE) & \" - \" & B599","v":"Other kerosene - KT"},2017]
["GASOIL","KT",null,"COOK","",null,null,"Total gas/diesel oil",{"$f":"VLOOKUP(D600, Param_Multilanguage!A:C, Param_Menu!$B$3+1, FALSE)","v":"Cooking"},{"$f":"VLOOKUP(H600,LanguageData,MATCH(LanguageChosen,Language[Language],0),FALSE) & \" - \" & B600","v":"Total gas/diesel oil - KT"},2017]
["RENEW","TJ",null,"COOK","",null,null,"Renewables and wastes",{"$f":"VLOOKUP(D601, Param_Multilanguage!A:C, Param_Menu!$B$3+1, FALSE)","v":"Cooking"},{"$f":"VLOOKUP(H601,LanguageData,MATCH(LanguageChosen,Language[Language],0),FALSE) & \" - \" & B601","v":"Renewables and wastes - TJ"},2017]
["SOLARTH","TJ",null,"COOK","",null,null,"Solar thermal",{"$f":"VLOOKUP(D602, Param_Multilanguage!A:C, Param_Menu!$B$3+1, FALSE)","v":"Cooking"},{"$f":"VLOOKUP(H602,LanguageData,MATCH(LanguageChosen,Language[Language],0),FALSE) & \" - \" & B602","v":"Solar thermal - TJ"},2017]
["BIOFUEL","TJ",null,"COOK","",null,null,"Solid biofuels excluding charcoal",{"$f":"VLOOKUP(D603, Param_Multilanguage!A:C, Param_Menu!$B$3+1, FALSE)","v":"Cooking"},{"$f":"VLOOKUP(H603,LanguageData,MATCH(LanguageChosen,Language[Language],0),FALSE) & \" - \" & B603","v":"Solid biofuels excluding charcoal - TJ"},2017]
["BIOGASES","TJ",null,"COOK","",null,null,"Biogases",{"$f":"VLOOKUP(D604, Param_Multilanguage!A:C, Param_Menu!$B$3+1, FALSE)","v":"Cooking"},{"$f":"VLOOKUP(H604,LanguageData,MATCH(LanguageChosen,Language[Language],0),FALSE) & \" - \" & B604","v":"Biogases - TJ"},2017]
["AMBIANT","TJ",null,"COOK","",null,null,"Ambient heat",{"$f":"VLOOKUP(D605, Param_Multilanguage!A:C, Param_Menu!$B$3+1, FALSE)","v":"Cooking"},{"$f":"VLOOKUP(H605,LanguageData,MATCH(LanguageChosen,Language[Language],0),FALSE) & \" - \" & B605","v":"Ambient heat - TJ"},2017]
["ELEC","GWH",null,"LIGHTAPP",null,null,null,"Electricity",{"$f":"VLOOKUP(D606, Param_Multilanguage!A:C, Param_Menu!$B$3+1, FALSE)","v":"Lighting and appliances"},{"$f":"VLOOKUP(H606,LanguageData,MATCH(LanguageChosen,Language[Language],0),FALSE) & \" - \" & B606","v":"Electricity - GWH"},2017]
["HEAT","TJ",null,"LIGHTAPP","",null,null,"Derived heat",{"$f":"VLOOKUP(D607, Param_Multilanguage!A:C, Param_Menu!$B$3+1, FALSE)","v":"Lighting and appliances"},{"$f":"VLOOKUP(H607,LanguageData,MATCH(LanguageChosen,Language[Language],0),FALSE) & \" - \" & B607","v":"Derived heat - TJ"},2017]
["GAS","TJ_GCV",null,"LIGHTAPP","",null,null,"Gas",{"$f":"VLOOKUP(D608, Param_Multilanguage!A:C, Param_Menu!$B$3+1, FALSE)","v":"Lighting and appliances"},{"$f":"VLOOKUP(H608,LanguageData,MATCH(LanguageChosen,Language[Language],0),FALSE) & \" - \" & B608","v":"Gas - TJ_GCV"},2017]
["SOLIDFUEL","KT",null,"LIGHTAPP","",null,null,"Solid fossil fuels",{"$f":"VLOOKUP(D609, Param_Multilanguage!A:C, Param_Menu!$B$3+1, FALSE)","v":"Lighting and appliances"},{"$f":"VLOOKUP(H609,LanguageData,MATCH(LanguageChosen,Language[Language],0),FALSE) & \" - \" & B609","v":"Solid fossil fuels - KT"},2017]
["OIL","KT",null,"LIGHTAPP","",null,null,"Total oil and petroleum products",{"$f":"VLOOKUP(D610, Param_Multilanguage!A:C, Param_Menu!$B$3+1, FALSE)","v":"Lighting and appliances"},{"$f":"VLOOKUP(H610,LanguageData,MATCH(LanguageChosen,Language[Language],0),FALSE) & \" - \" & B610","v":"Total oil and petroleum products - KT"},2017]
["LPG","KT",null,"LIGHTAPP","",null,null,"LPG",{"$f":"VLOOKUP(D611, Param_Multilanguage!A:C, Param_Menu!$B$3+1, FALSE)","v":"Lighting and appliances"},{"$f":"VLOOKUP(H611,LanguageData,MATCH(LanguageChosen,Language[Language],0),FALSE) & \" - \" & B611","v":"LPG - KT"},2017]
["KEROSENE","KT",null,"LIGHTAPP","",null,null,"Other kerosene",{"$f":"VLOOKUP(D612, Param_Multilanguage!A:C, Param_Menu!$B$3+1, FALSE)","v":"Lighting and appliances"},{"$f":"VLOOKUP(H612,LanguageData,MATCH(LanguageChosen,Language[Language],0),FALSE) & \" - \" & B612","v":"Other kerosene - KT"},2017]
["GASOIL","KT",null,"LIGHTAPP","",null,null,"Total gas/diesel oil",{"$f":"VLOOKUP(D613, Param_Multilanguage!A:C, Param_Menu!$B$3+1, FALSE)","v":"Lighting and appliances"},{"$f":"VLOOKUP(H613,LanguageData,MATCH(LanguageChosen,Language[Language],0),FALSE) & \" - \" & B613","v":"Total gas/diesel oil - KT"},2017]
["RENEW","TJ",null,"LIGHTAPP","",null,null,"Renewables and wastes",{"$f":"VLOOKUP(D614, Param_Multilanguage!A:C, Param_Menu!$B$3+1, FALSE)","v":"Lighting and appliances"},{"$f":"VLOOKUP(H614,LanguageData,MATCH(LanguageChosen,Language[Language],0),FALSE) & \" - \" & B614","v":"Renewables and wastes - TJ"},2017]
["SOLARTH","TJ",null,"LIGHTAPP","",null,null,"Solar thermal",{"$f":"VLOOKUP(D615, Param_Multilanguage!A:C, Param_Menu!$B$3+1, FALSE)","v":"Lighting and appliances"},{"$f":"VLOOKUP(H615,LanguageData,MATCH(LanguageChosen,Language[Language],0),FALSE) & \" - \" & B615","v":"Solar thermal - TJ"},2017]
["BIOFUEL","TJ",null,"LIGHTAPP","",null,null,"Solid biofuels excluding charcoal",{"$f":"VLOOKUP(D616, Param_Multilanguage!A:C, Param_Menu!$B$3+1, FALSE)","v":"Lighting and appliances"},{"$f":"VLOOKUP(H616,LanguageData,MATCH(LanguageChosen,Language[Language],0),FALSE) & \" - \" & B616","v":"Solid biofuels excluding charcoal - TJ"},2017]
["BIOGASES","TJ",null,"LIGHTAPP","",null,null,"Biogases",{"$f":"VLOOKUP(D617, Param_Multilanguage!A:C, Param_Menu!$B$3+1, FALSE)","v":"Lighting and appliances"},{"$f":"VLOOKUP(H617,LanguageData,MATCH(LanguageChosen,Language[Language],0),FALSE) & \" - \" & B617","v":"Biogases - TJ"},2017]
["AMBIANT","TJ",null,"LIGHTAPP","",null,null,"Ambient heat",{"$f":"VLOOKUP(D618, Param_Multilanguage!A:C, Param_Menu!$B$3+1, FALSE)","v":"Lighting and appliances"},{"$f":"VLOOKUP(H618,LanguageData,MATCH(LanguageChosen,Language[Language],0),FALSE) & \" - \" & B618","v":"Ambient heat - TJ"},2017]
["ELEC","GWH",null,"RESOTH",null,null,null,"Electricity",{"$f":"VLOOKUP(D619, Param_Multilanguage!A:C, Param_Menu!$B$3+1, FALSE)","v":"Other end uses"},{"$f":"VLOOKUP(H619,LanguageData,MATCH(LanguageChosen,Language[Language],0),FALSE) & \" - \" & B619","v":"Electricity - GWH"},2017]
["HEAT","TJ",null,"RESOTH","",null,null,"Derived heat",{"$f":"VLOOKUP(D620, Param_Multilanguage!A:C, Param_Menu!$B$3+1, FALSE)","v":"Other end uses"},{"$f":"VLOOKUP(H620,LanguageData,MATCH(LanguageChosen,Language[Language],0),FALSE) & \" - \" & B620","v":"Derived heat - TJ"},2017]
["GAS","TJ_GCV",null,"RESOTH","",null,null,"Gas",{"$f":"VLOOKUP(D621, Param_Multilanguage!A:C, Param_Menu!$B$3+1, FALSE)","v":"Other end uses"},{"$f":"VLOOKUP(H621,LanguageData,MATCH(LanguageChosen,Language[Language],0),FALSE) & \" - \" & B621","v":"Gas - TJ_GCV"},2017]
["SOLIDFUEL","KT",null,"RESOTH","",null,null,"Solid fossil fuels",{"$f":"VLOOKUP(D622, Param_Multilanguage!A:C, Param_Menu!$B$3+1, FALSE)","v":"Other end uses"},{"$f":"VLOOKUP(H622,LanguageData,MATCH(LanguageChosen,Language[Language],0),FALSE) & \" - \" & B622","v":"Solid fossil fuels - KT"},2017]
["OIL","KT",null,"RESOTH","",null,null,"Total oil and petroleum products",{"$f":"VLOOKUP(D623, Param_Multilanguage!A:C, Param_Menu!$B$3+1, FALSE)","v":"Other end uses"},{"$f":"VLOOKUP(H623,LanguageData,MATCH(LanguageChosen,Language[Language],0),FALSE) & \" - \" & B623","v":"Total oil and petroleum products - KT"},2017]
["LPG","KT",null,"RESOTH","",null,null,"LPG",{"$f":"VLOOKUP(D624, Param_Multilanguage!A:C, Param_Menu!$B$3+1, FALSE)","v":"Other end uses"},{"$f":"VLOOKUP(H624,LanguageData,MATCH(LanguageChosen,Language[Language],0),FALSE) & \" - \" & B624","v":"LPG - KT"},2017]
["KEROSENE","KT",null,"RESOTH","",null,null,"Other kerosene",{"$f":"VLOOKUP(D625, Param_Multilanguage!A:C, Param_Menu!$B$3+1, FALSE)","v":"Other end uses"},{"$f":"VLOOKUP(H625,LanguageData,MATCH(LanguageChosen,Language[Language],0),FALSE) & \" - \" & B625","v":"Other kerosene - KT"},2017]
["GASOIL","KT",null,"RESOTH","",null,null,"Total gas/diesel oil",{"$f":"VLOOKUP(D626, Param_Multilanguage!A:C, Param_Menu!$B$3+1, FALSE)","v":"Other end uses"},{"$f":"VLOOKUP(H626,LanguageData,MATCH(LanguageChosen,Language[Language],0),FALSE) & \" - \" & B626","v":"Total gas/diesel oil - KT"},2017]
["RENEW","TJ",null,"RESOTH","",null,null,"Renewables and wastes",{"$f":"VLOOKUP(D627, Param_Multilanguage!A:C, Param_Menu!$B$3+1, FALSE)","v":"Other end uses"},{"$f":"VLOOKUP(H627,LanguageData,MATCH(LanguageChosen,Language[Language],0),FALSE) & \" - \" & B627","v":"Renewables and wastes - TJ"},2017]
["SOLARTH","TJ",null,"RESOTH","",null,null,"Solar thermal",{"$f":"VLOOKUP(D628, Param_Multilanguage!A:C, Param_Menu!$B$3+1, FALSE)","v":"Other end uses"},{"$f":"VLOOKUP(H628,LanguageData,MATCH(LanguageChosen,Language[Language],0),FALSE) & \" - \" & B628","v":"Solar thermal - TJ"},2017]
["BIOFUEL","TJ",null,"RESOTH","",null,null,"Solid biofuels excluding charcoal",{"$f":"VLOOKUP(D629, Param_Multilanguage!A:C, Param_Menu!$B$3+1, FALSE)","v":"Other end uses"},{"$f":"VLOOKUP(H629,LanguageData,MATCH(LanguageChosen,Language[Language],0),FALSE) & \" - \" & B629","v":"Solid biofuels excluding charcoal - TJ"},2017]
["BIOGASES","TJ",null,"RESOTH","",null,null,"Biogases",{"$f":"VLOOKUP(D630, Param_Multilanguage!A:C, Param_Menu!$B$3+1, FALSE)","v":"Other end uses"},{"$f":"VLOOKUP(H630,LanguageData,MATCH(LanguageChosen,Language[Language],0),FALSE) & \" - \" & B630","v":"Biogases - TJ"},2017]
["AMBIANT","TJ",null,"RESOTH","",null,null,"Ambient heat",{"$f":"VLOOKUP(D631, Param_Multilanguage!A:C, Param_Menu!$B$3+1, FALSE)","v":"Other end uses"},{"$f":"VLOOKUP(H631,LanguageData,MATCH(LanguageChosen,Language[Language],0),FALSE) & \" - \" & B631","v":"Ambient heat - TJ"},2017]
["ELEC","GWH",null,"SPACEHEAT",null,null,null,"Electricity",{"$f":"VLOOKUP(D632, Param_Multilanguage!A:C, Param_Menu!$B$3+1, FALSE)","v":"Space heating"},{"$f":"VLOOKUP(H632,LanguageData,MATCH(LanguageChosen,Language[Language],0),FALSE) & \" - \" & B632","v":"Electricity - GWH"},2018]
["HEAT","TJ",null,"SPACEHEAT","",null,null,"Derived heat",{"$f":"VLOOKUP(D633, Param_Multilanguage!A:C, Param_Menu!$B$3+1, FALSE)","v":"Space heating"},{"$f":"VLOOKUP(H633,LanguageData,MATCH(LanguageChosen,Language[Language],0),FALSE) & \" - \" & B633","v":"Derived heat - TJ"},2018]
["GAS","TJ_GCV",null,"SPACEHEAT","",null,null,"Gas",{"$f":"VLOOKUP(D634, Param_Multilanguage!A:C, Param_Menu!$B$3+1, FALSE)","v":"Space heating"},{"$f":"VLOOKUP(H634,LanguageData,MATCH(LanguageChosen,Language[Language],0),FALSE) & \" - \" & B634","v":"Gas - TJ_GCV"},2018]
["SOLIDFUEL","KT",null,"SPACEHEAT","",null,null,"Solid fossil fuels",{"$f":"VLOOKUP(D635, Param_Multilanguage!A:C, Param_Menu!$B$3+1, FALSE)","v":"Space heating"},{"$f":"VLOOKUP(H635,LanguageData,MATCH(LanguageChosen,Language[Language],0),FALSE) & \" - \" & B635","v":"Solid fossil fuels - KT"},2018]
["OIL","KT",null,"SPACEHEAT","",null,null,"Total oil and petroleum products",{"$f":"VLOOKUP(D636, Param_Multilanguage!A:C, Param_Menu!$B$3+1, FALSE)","v":"Space heating"},{"$f":"VLOOKUP(H636,LanguageData,MATCH(LanguageChosen,Language[Language],0),FALSE) & \" - \" & B636","v":"Total oil and petroleum products - KT"},2018]
["LPG","KT",null,"SPACEHEAT","",null,null,"LPG",{"$f":"VLOOKUP(D637, Param_Multilanguage!A:C, Param_Menu!$B$3+1, FALSE)","v":"Space heating"},{"$f":"VLOOKUP(H637,LanguageData,MATCH(LanguageChosen,Language[Language],0),FALSE) & \" - \" & B637","v":"LPG - KT"},2018]
["KEROSENE","KT",null,"SPACEHEAT","",null,null,"Other kerosene",{"$f":"VLOOKUP(D638, Param_Multilanguage!A:C, Param_Menu!$B$3+1, FALSE)","v":"Space heating"},{"$f":"VLOOKUP(H638,LanguageData,MATCH(LanguageChosen,Language[Language],0),FALSE) & \" - \" & B638","v":"Other kerosene - KT"},2018]
["GASOIL","KT",null,"SPACEHEAT","",null,null,"Total gas/diesel oil",{"$f":"VLOOKUP(D639, Param_Multilanguage!A:C, Param_Menu!$B$3+1, FALSE)","v":"Space heating"},{"$f":"VLOOKUP(H639,LanguageData,MATCH(LanguageChosen,Language[Language],0),FALSE) & \" - \" & B639","v":"Total gas/diesel oil - KT"},2018]
["RENEW","TJ",null,"SPACEHEAT","",null,null,"Renewables and wastes",{"$f":"VLOOKUP(D640, Param_Multilanguage!A:C, Param_Menu!$B$3+1, FALSE)","v":"Space heating"},{"$f":"VLOOKUP(H640,LanguageData,MATCH(LanguageChosen,Language[Language],0),FALSE) & \" - \" & B640","v":"Renewables and wastes - TJ"},2018]
["SOLARTH","TJ",null,"SPACEHEAT","",null,null,"Solar thermal",{"$f":"VLOOKUP(D641, Param_Multilanguage!A:C, Param_Menu!$B$3+1, FALSE)","v":"Space heating"},{"$f":"VLOOKUP(H641,LanguageData,MATCH(LanguageChosen,Language[Language],0),FALSE) & \" - \" & B641","v":"Solar thermal - TJ"},2018]
["BIOFUEL","TJ",null,"SPACEHEAT","",null,null,"Solid biofuels excluding charcoal",{"$f":"VLOOKUP(D642, Param_Multilanguage!A:C, Param_Menu!$B$3+1, FALSE)","v":"Space heating"},{"$f":"VLOOKUP(H642,LanguageData,MATCH(LanguageChosen,Language[Language],0),FALSE) & \" - \" & B642","v":"Solid biofuels excluding charcoal - TJ"},2018]
["BIOGASES","TJ",null,"SPACEHEAT","",null,null,"Biogases",{"$f":"VLOOKUP(D643, Param_Multilanguage!A:C, Param_Menu!$B$3+1, FALSE)","v":"Space heating"},{"$f":"VLOOKUP(H643,LanguageData,MATCH(LanguageChosen,Language[Language],0),FALSE) & \" - \" & B643","v":"Biogases - TJ"},2018]
["AMBIANT","TJ",null,"SPACEHEAT","",null,null,"Ambient heat",{"$f":"VLOOKUP(D644, Param_Multilanguage!A:C, Param_Menu!$B$3+1, FALSE)","v":"Space heating"},{"$f":"VLOOKUP(H644,LanguageData,MATCH(LanguageChosen,Language[Language],0),FALSE) & \" - \" & B644","v":"Ambient heat - TJ"},2018]
["ELEC","GWH",null,"SPACECOOL",null,null,null,"Electricity",{"$f":"VLOOKUP(D645, Param_Multilanguage!A:C, Param_Menu!$B$3+1, FALSE)","v":"Space cooling"},{"$f":"VLOOKUP(H645,LanguageData,MATCH(LanguageChosen,Language[Language],0),FALSE) & \" - \" & B645","v":"Electricity - GWH"},2018]
["HEAT","TJ",null,"SPACECOOL","",null,null,"Derived heat",{"$f":"VLOOKUP(D646, Param_Multilanguage!A:C, Param_Menu!$B$3+1, FALSE)","v":"Space cooling"},{"$f":"VLOOKUP(H646,LanguageData,MATCH(LanguageChosen,Language[Language],0),FALSE) & \" - \" & B646","v":"Derived heat - TJ"},2018]
["GAS","TJ_GCV",null,"SPACECOOL","",null,null,"Gas",{"$f":"VLOOKUP(D647, Param_Multilanguage!A:C, Param_Menu!$B$3+1, FALSE)","v":"Space cooling"},{"$f":"VLOOKUP(H647,LanguageData,MATCH(LanguageChosen,Language[Language],0),FALSE) & \" - \" & B647","v":"Gas - TJ_GCV"},2018]
["SOLIDFUEL","KT",null,"SPACECOOL","",null,null,"Solid fossil fuels",{"$f":"VLOOKUP(D648, Param_Multilanguage!A:C, Param_Menu!$B$3+1, FALSE)","v":"Space cooling"},{"$f":"VLOOKUP(H648,LanguageData,MATCH(LanguageChosen,Language[Language],0),FALSE) & \" - \" & B648","v":"Solid fossil fuels - KT"},2018]
["OIL","KT",null,"SPACECOOL","",null,null,"Total oil and petroleum products",{"$f":"VLOOKUP(D649, Param_Multilanguage!A:C, Param_Menu!$B$3+1, FALSE)","v":"Space cooling"},{"$f":"VLOOKUP(H649,LanguageData,MATCH(LanguageChosen,Language[Language],0),FALSE) & \" - \" & B649","v":"Total oil and petroleum products - KT"},2018]
["LPG","KT",null,"SPACECOOL","",null,null,"LPG",{"$f":"VLOOKUP(D650, Param_Multilanguage!A:C, Param_Menu!$B$3+1, FALSE)","v":"Space cooling"},{"$f":"VLOOKUP(H650,LanguageData,MATCH(LanguageChosen,Language[Language],0),FALSE) & \" - \" & B650","v":"LPG - KT"},2018]
["KEROSENE","KT",null,"SPACECOOL","",null,null,"Other kerosene",{"$f":"VLOOKUP(D651, Param_Multilanguage!A:C, Param_Menu!$B$3+1, FALSE)","v":"Space cooling"},{"$f":"VLOOKUP(H651,LanguageData,MATCH(LanguageChosen,Language[Language],0),FALSE) & \" - \" & B651","v":"Other kerosene - KT"},2018]
["GASOIL","KT",null,"SPACECOOL","",null,null,"Total gas/diesel oil",{"$f":"VLOOKUP(D652, Param_Multilanguage!A:C, Param_Menu!$B$3+1, FALSE)","v":"Space cooling"},{"$f":"VLOOKUP(H652,LanguageData,MATCH(LanguageChosen,Language[Language],0),FALSE) & \" - \" & B652","v":"Total gas/diesel oil - KT"},2018]
["RENEW","TJ",null,"SPACECOOL","",null,null,"Renewables and wastes",{"$f":"VLOOKUP(D653, Param_Multilanguage!A:C, Param_Menu!$B$3+1, FALSE)","v":"Space cooling"},{"$f":"VLOOKUP(H653,LanguageData,MATCH(LanguageChosen,Language[Language],0),FALSE) & \" - \" & B653","v":"Renewables and wastes - TJ"},2018]
["SOLARTH","TJ",null,"SPACECOOL","",null,null,"Solar thermal",{"$f":"VLOOKUP(D654, Param_Multilanguage!A:C, Param_Menu!$B$3+1, FALSE)","v":"Space cooling"},{"$f":"VLOOKUP(H654,LanguageData,MATCH(LanguageChosen,Language[Language],0),FALSE) & \" - \" & B654","v":"Solar thermal - TJ"},2018]
["BIOFUEL","TJ",null,"SPACECOOL","",null,null,"Solid biofuels excluding charcoal",{"$f":"VLOOKUP(D655, Param_Multilanguage!A:C, Param_Menu!$B$3+1, FALSE)","v":"Space cooling"},{"$f":"VLOOKUP(H655,LanguageData,MATCH(LanguageChosen,Language[Language],0),FALSE) & \" - \" & B655","v":"Solid biofuels excluding charcoal - TJ"},2018]
["BIOGASES","TJ",null,"SPACECOOL","",null,null,"Biogases",{"$f":"VLOOKUP(D656, Param_Multilanguage!A:C, Param_Menu!$B$3+1, FALSE)","v":"Space cooling"},{"$f":"VLOOKUP(H656,LanguageData,MATCH(LanguageChosen,Language[Language],0),FALSE) & \" - \" & B656","v":"Biogases - TJ"},2018]
["AMBIANT","TJ",null,"SPACECOOL","",null,null,"Ambient heat",{"$f":"VLOOKUP(D657, Param_Multilanguage!A:C, Param_Menu!$B$3+1, FALSE)","v":"Space cooling"},{"$f":"VLOOKUP(H657,LanguageData,MATCH(LanguageChosen,Language[Language],0),FALSE) & \" - \" & B657","v":"Ambient heat - TJ"},2018]
["ELEC","GWH",null,"WATERHEAT",null,null,null,"Electricity",{"$f":"VLOOKUP(D658, Param_Multilanguage!A:C, Param_Menu!$B$3+1, FALSE)","v":"Water heating"},{"$f":"VLOOKUP(H658,LanguageData,MATCH(LanguageChosen,Language[Language],0),FALSE) & \" - \" & B658","v":"Electricity - GWH"},2018]
["HEAT","TJ",null,"WATERHEAT","",null,null,"Derived heat",{"$f":"VLOOKUP(D659, Param_Multilanguage!A:C, Param_Menu!$B$3+1, FALSE)","v":"Water heating"},{"$f":"VLOOKUP(H659,LanguageData,MATCH(LanguageChosen,Language[Language],0),FALSE) & \" - \" & B659","v":"Derived heat - TJ"},2018]
["GAS","TJ_GCV",null,"WATERHEAT","",null,null,"Gas",{"$f":"VLOOKUP(D660, Param_Multilanguage!A:C, Param_Menu!$B$3+1, FALSE)","v":"Water heating"},{"$f":"VLOOKUP(H660,LanguageData,MATCH(LanguageChosen,Language[Language],0),FALSE) & \" - \" & B660","v":"Gas - TJ_GCV"},2018]
["SOLIDFUEL","KT",null,"WATERHEAT","",null,null,"Solid fossil fuels",{"$f":"VLOOKUP(D661, Param_Multilanguage!A:C, Param_Menu!$B$3+1, FALSE)","v":"Water heating"},{"$f":"VLOOKUP(H661,LanguageData,MATCH(LanguageChosen,Language[Language],0),FALSE) & \" - \" & B661","v":"Solid fossil fuels - KT"},2018]
["OIL","KT",null,"WATERHEAT","",null,null,"Total oil and petroleum products",{"$f":"VLOOKUP(D662, Param_Multilanguage!A:C, Param_Menu!$B$3+1, FALSE)","v":"Water heating"},{"$f":"VLOOKUP(H662,LanguageData,MATCH(LanguageChosen,Language[Language],0),FALSE) & \" - \" & B662","v":"Total oil and petroleum products - KT"},2018]
["LPG","KT",null,"WATERHEAT","",null,null,"LPG",{"$f":"VLOOKUP(D663, Param_Multilanguage!A:C, Param_Menu!$B$3+1, FALSE)","v":"Water heating"},{"$f":"VLOOKUP(H663,LanguageData,MATCH(LanguageChosen,Language[Language],0),FALSE) & \" - \" & B663","v":"LPG - KT"},2018]
["KEROSENE","KT",null,"WATERHEAT","",null,null,"Other kerosene",{"$f":"VLOOKUP(D664, Param_Multilanguage!A:C, Param_Menu!$B$3+1, FALSE)","v":"Water heating"},{"$f":"VLOOKUP(H664,LanguageData,MATCH(LanguageChosen,Language[Language],0),FALSE) & \" - \" & B664","v":"Other kerosene - KT"},2018]
["GASOIL","KT",null,"WATERHEAT","",null,null,"Total gas/diesel oil",{"$f":"VLOOKUP(D665, Param_Multilanguage!A:C, Param_Menu!$B$3+1, FALSE)","v":"Water heating"},{"$f":"VLOOKUP(H665,LanguageData,MATCH(LanguageChosen,Language[Language],0),FALSE) & \" - \" & B665","v":"Total gas/diesel oil - KT"},2018]
["RENEW","TJ",null,"WATERHEAT","",null,null,"Renewables and wastes",{"$f":"VLOOKUP(D666, Param_Multilanguage!A:C, Param_Menu!$B$3+1, FALSE)","v":"Water heating"},{"$f":"VLOOKUP(H666,LanguageData,MATCH(LanguageChosen,Language[Language],0),FALSE) & \" - \" & B666","v":"Renewables and wastes - TJ"},2018]
["SOLARTH","TJ",null,"WATERHEAT","",null,null,"Solar thermal",{"$f":"VLOOKUP(D667, Param_Multilanguage!A:C, Param_Menu!$B$3+1, FALSE)","v":"Water heating"},{"$f":"VLOOKUP(H667,LanguageData,MATCH(LanguageChosen,Language[Language],0),FALSE) & \" - \" & B667","v":"Solar thermal - TJ"},2018]
["BIOFUEL","TJ",null,"WATERHEAT","",null,null,"Solid biofuels excluding charcoal",{"$f":"VLOOKUP(D668, Param_Multilanguage!A:C, Param_Menu!$B$3+1, FALSE)","v":"Water heating"},{"$f":"VLOOKUP(H668,LanguageData,MATCH(LanguageChosen,Language[Language],0),FALSE) & \" - \" & B668","v":"Solid biofuels excluding charcoal - TJ"},2018]
["BIOGASES","TJ",null,"WATERHEAT","",null,null,"Biogases",{"$f":"VLOOKUP(D669, Param_Multilanguage!A:C, Param_Menu!$B$3+1, FALSE)","v":"Water heating"},{"$f":"VLOOKUP(H669,LanguageData,MATCH(LanguageChosen,Language[Language],0),FALSE) & \" - \" & B669","v":"Biogases - TJ"},2018]
["AMBIANT","TJ",null,"WATERHEAT","",null,null,"Ambient heat",{"$f":"VLOOKUP(D670, Param_Multilanguage!A:C, Param_Menu!$B$3+1, FALSE)","v":"Water heating"},{"$f":"VLOOKUP(H670,LanguageData,MATCH(LanguageChosen,Language[Language],0),FALSE) & \" - \" & B670","v":"Ambient heat - TJ"},2018]
["ELEC","GWH",null,"COOK",null,null,null,"Electricity",{"$f":"VLOOKUP(D671, Param_Multilanguage!A:C, Param_Menu!$B$3+1, FALSE)","v":"Cooking"},{"$f":"VLOOKUP(H671,LanguageData,MATCH(LanguageChosen,Language[Language],0),FALSE) & \" - \" & B671","v":"Electricity - GWH"},2018]
["HEAT","TJ",null,"COOK","",null,null,"Derived heat",{"$f":"VLOOKUP(D672, Param_Multilanguage!A:C, Param_Menu!$B$3+1, FALSE)","v":"Cooking"},{"$f":"VLOOKUP(H672,LanguageData,MATCH(LanguageChosen,Language[Language],0),FALSE) & \" - \" & B672","v":"Derived heat - TJ"},2018]
["GAS","TJ_GCV",null,"COOK","",null,null,"Gas",{"$f":"VLOOKUP(D673, Param_Multilanguage!A:C, Param_Menu!$B$3+1, FALSE)","v":"Cooking"},{"$f":"VLOOKUP(H673,LanguageData,MATCH(LanguageChosen,Language[Language],0),FALSE) & \" - \" & B673","v":"Gas - TJ_GCV"},2018]
["SOLIDFUEL","KT",null,"COOK","",null,null,"Solid fossil fuels",{"$f":"VLOOKUP(D674, Param_Multilanguage!A:C, Param_Menu!$B$3+1, FALSE)","v":"Cooking"},{"$f":"VLOOKUP(H674,LanguageData,MATCH(LanguageChosen,Language[Language],0),FALSE) & \" - \" & B674","v":"Solid fossil fuels - KT"},2018]
["OIL","KT",null,"COOK","",null,null,"Total oil and petroleum products",{"$f":"VLOOKUP(D675, Param_Multilanguage!A:C, Param_Menu!$B$3+1, FALSE)","v":"Cooking"},{"$f":"VLOOKUP(H675,LanguageData,MATCH(LanguageChosen,Language[Language],0),FALSE) & \" - \" & B675","v":"Total oil and petroleum products - KT"},2018]
["LPG","KT",null,"COOK","",null,null,"LPG",{"$f":"VLOOKUP(D676, Param_Multilanguage!A:C, Param_Menu!$B$3+1, FALSE)","v":"Cooking"},{"$f":"VLOOKUP(H676,LanguageData,MATCH(LanguageChosen,Language[Language],0),FALSE) & \" - \" & B676","v":"LPG - KT"},2018]
["KEROSENE","KT",null,"COOK","",null,null,"Other kerosene",{"$f":"VLOOKUP(D677, Param_Multilanguage!A:C, Param_Menu!$B$3+1, FALSE)","v":"Cooking"},{"$f":"VLOOKUP(H677,LanguageData,MATCH(LanguageChosen,Language[Language],0),FALSE) & \" - \" & B677","v":"Other kerosene - KT"},2018]
["GASOIL","KT",null,"COOK","",null,null,"Total gas/diesel oil",{"$f":"VLOOKUP(D678, Param_Multilanguage!A:C, Param_Menu!$B$3+1, FALSE)","v":"Cooking"},{"$f":"VLOOKUP(H678,LanguageData,MATCH(LanguageChosen,Language[Language],0),FALSE) & \" - \" & B678","v":"Total gas/diesel oil - KT"},2018]
["RENEW","TJ",null,"COOK","",null,null,"Renewables and wastes",{"$f":"VLOOKUP(D679, Param_Multilanguage!A:C, Param_Menu!$B$3+1, FALSE)","v":"Cooking"},{"$f":"VLOOKUP(H679,LanguageData,MATCH(LanguageChosen,Language[Language],0),FALSE) & \" - \" & B679","v":"Renewables and wastes - TJ"},2018]
["SOLARTH","TJ",null,"COOK","",null,null,"Solar thermal",{"$f":"VLOOKUP(D680, Param_Multilanguage!A:C, Param_Menu!$B$3+1, FALSE)","v":"Cooking"},{"$f":"VLOOKUP(H680,LanguageData,MATCH(LanguageChosen,Language[Language],0),FALSE) & \" - \" & B680","v":"Solar thermal - TJ"},2018]
["BIOFUEL","TJ",null,"COOK","",null,null,"Solid biofuels excluding charcoal",{"$f":"VLOOKUP(D681, Param_Multilanguage!A:C, Param_Menu!$B$3+1, FALSE)","v":"Cooking"},{"$f":"VLOOKUP(H681,LanguageData,MATCH(LanguageChosen,Language[Language],0),FALSE) & \" - \" & B681","v":"Solid biofuels excluding charcoal - TJ"},2018]
["BIOGASES","TJ",null,"COOK","",null,null,"Biogases",{"$f":"VLOOKUP(D682, Param_Multilanguage!A:C, Param_Menu!$B$3+1, FALSE)","v":"Cooking"},{"$f":"VLOOKUP(H682,LanguageData,MATCH(LanguageChosen,Language[Language],0),FALSE) & \" - \" & B682","v":"Biogases - TJ"},2018]
["AMBIANT","TJ",null,"COOK","",null,null,"Ambient heat",{"$f":"VLOOKUP(D683, Param_Multilanguage!A:C, Param_Menu!$B$3+1, FALSE)","v":"Cooking"},{"$f":"VLOOKUP(H683,LanguageData,MATCH(LanguageChosen,Language[Language],0),FALSE) & \" - \" & B683","v":"Ambient heat - TJ"},2018]
["ELEC","GWH",null,"LIGHTAPP",null,null,null,"Electricity",{"$f":"VLOOKUP(D684, Param_Multilanguage!A:C, Param_Menu!$B$3+1, FALSE)","v":"Lighting and appliances"},{"$f":"VLOOKUP(H684,LanguageData,MATCH(LanguageChosen,Language[Language],0),FALSE) & \" - \" & B684","v":"Electricity - GWH"},2018]
["HEAT","TJ",null,"LIGHTAPP","",null,null,"Derived heat",{"$f":"VLOOKUP(D685, Param_Multilanguage!A:C, Param_Menu!$B$3+1, FALSE)","v":"Lighting and appliances"},{"$f":"VLOOKUP(H685,LanguageData,MATCH(LanguageChosen,Language[Language],0),FALSE) & \" - \" & B685","v":"Derived heat - TJ"},2018]
["GAS","TJ_GCV",null,"LIGHTAPP","",null,null,"Gas",{"$f":"VLOOKUP(D686, Param_Multilanguage!A:C, Param_Menu!$B$3+1, FALSE)","v":"Lighting and appliances"},{"$f":"VLOOKUP(H686,LanguageData,MATCH(LanguageChosen,Language[Language],0),FALSE) & \" - \" & B686","v":"Gas - TJ_GCV"},2018]
["SOLIDFUEL","KT",null,"LIGHTAPP","",null,null,"Solid fossil fuels",{"$f":"VLOOKUP(D687, Param_Multilanguage!A:C, Param_Menu!$B$3+1, FALSE)","v":"Lighting and appliances"},{"$f":"VLOOKUP(H687,LanguageData,MATCH(LanguageChosen,Language[Language],0),FALSE) & \" - \" & B687","v":"Solid fossil fuels - KT"},2018]
["OIL","KT",null,"LIGHTAPP","",null,null,"Total oil and petroleum products",{"$f":"VLOOKUP(D688, Param_Multilanguage!A:C, Param_Menu!$B$3+1, FALSE)","v":"Lighting and appliances"},{"$f":"VLOOKUP(H688,LanguageData,MATCH(LanguageChosen,Language[Language],0),FALSE) & \" - \" & B688","v":"Total oil and petroleum products - KT"},2018]
["LPG","KT",null,"LIGHTAPP","",null,null,"LPG",{"$f":"VLOOKUP(D689, Param_Multilanguage!A:C, Param_Menu!$B$3+1, FALSE)","v":"Lighting and appliances"},{"$f":"VLOOKUP(H689,LanguageData,MATCH(LanguageChosen,Language[Language],0),FALSE) & \" - \" & B689","v":"LPG - KT"},2018]
["KEROSENE","KT",null,"LIGHTAPP","",null,null,"Other kerosene",{"$f":"VLOOKUP(D690, Param_Multilanguage!A:C, Param_Menu!$B$3+1, FALSE)","v":"Lighting and appliances"},{"$f":"VLOOKUP(H690,LanguageData,MATCH(LanguageChosen,Language[Language],0),FALSE) & \" - \" & B690","v":"Other kerosene - KT"},2018]
["GASOIL","KT",null,"LIGHTAPP","",null,null,"Total gas/diesel oil",{"$f":"VLOOKUP(D691, Param_Multilanguage!A:C, Param_Menu!$B$3+1, FALSE)","v":"Lighting and appliances"},{"$f":"VLOOKUP(H691,LanguageData,MATCH(LanguageChosen,Language[Language],0),FALSE) & \" - \" & B691","v":"Total gas/diesel oil - KT"},2018]
["RENEW","TJ",null,"LIGHTAPP","",null,null,"Renewables and wastes",{"$f":"VLOOKUP(D692, Param_Multilanguage!A:C, Param_Menu!$B$3+1, FALSE)","v":"Lighting and appliances"},{"$f":"VLOOKUP(H692,LanguageData,MATCH(LanguageChosen,Language[Language],0),FALSE) & \" - \" & B692","v":"Renewables and wastes - TJ"},2018]
["SOLARTH","TJ",null,"LIGHTAPP","",null,null,"Solar thermal",{"$f":"VLOOKUP(D693, Param_Multilanguage!A:C, Param_Menu!$B$3+1, FALSE)","v":"Lighting and appliances"},{"$f":"VLOOKUP(H693,LanguageData,MATCH(LanguageChosen,Language[Language],0),FALSE) & \" - \" & B693","v":"Solar thermal - TJ"},2018]
["BIOFUEL","TJ",null,"LIGHTAPP","",null,null,"Solid biofuels excluding charcoal",{"$f":"VLOOKUP(D694, Param_Multilanguage!A:C, Param_Menu!$B$3+1, FALSE)","v":"Lighting and appliances"},{"$f":"VLOOKUP(H694,LanguageData,MATCH(LanguageChosen,Language[Language],0),FALSE) & \" - \" & B694","v":"Solid biofuels excluding charcoal - TJ"},2018]
["BIOGASES","TJ",null,"LIGHTAPP","",null,null,"Biogases",{"$f":"VLOOKUP(D695, Param_Multilanguage!A:C, Param_Menu!$B$3+1, FALSE)","v":"Lighting and appliances"},{"$f":"VLOOKUP(H695,LanguageData,MATCH(LanguageChosen,Language[Language],0),FALSE) & \" - \" & B695","v":"Biogases - TJ"},2018]
["AMBIANT","TJ",null,"LIGHTAPP","",null,null,"Ambient heat",{"$f":"VLOOKUP(D696, Param_Multilanguage!A:C, Param_Menu!$B$3+1, FALSE)","v":"Lighting and appliances"},{"$f":"VLOOKUP(H696,LanguageData,MATCH(LanguageChosen,Language[Language],0),FALSE) & \" - \" & B696","v":"Ambient heat - TJ"},2018]
["ELEC","GWH",null,"RESOTH",null,null,null,"Electricity",{"$f":"VLOOKUP(D697, Param_Multilanguage!A:C, Param_Menu!$B$3+1, FALSE)","v":"Other end uses"},{"$f":"VLOOKUP(H697,LanguageData,MATCH(LanguageChosen,Language[Language],0),FALSE) & \" - \" & B697","v":"Electricity - GWH"},2018]
["HEAT","TJ",null,"RESOTH","",null,null,"Derived heat",{"$f":"VLOOKUP(D698, Param_Multilanguage!A:C, Param_Menu!$B$3+1, FALSE)","v":"Other end uses"},{"$f":"VLOOKUP(H698,LanguageData,MATCH(LanguageChosen,Language[Language],0),FALSE) & \" - \" & B698","v":"Derived heat - TJ"},2018]
["GAS","TJ_GCV",null,"RESOTH","",null,null,"Gas",{"$f":"VLOOKUP(D699, Param_Multilanguage!A:C, Param_Menu!$B$3+1, FALSE)","v":"Other end uses"},{"$f":"VLOOKUP(H699,LanguageData,MATCH(LanguageChosen,Language[Language],0),FALSE) & \" - \" & B699","v":"Gas - TJ_GCV"},2018]
["SOLIDFUEL","KT",null,"RESOTH","",null,null,"Solid fossil fuels",{"$f":"VLOOKUP(D700, Param_Multilanguage!A:C, Param_Menu!$B$3+1, FALSE)","v":"Other end uses"},{"$f":"VLOOKUP(H700,LanguageData,MATCH(LanguageChosen,Language[Language],0),FALSE) & \" - \" & B700","v":"Solid fossil fuels - KT"},2018]
["OIL","KT",null,"RESOTH","",null,null,"Total oil and petroleum products",{"$f":"VLOOKUP(D701, Param_Multilanguage!A:C, Param_Menu!$B$3+1, FALSE)","v":"Other end uses"},{"$f":"VLOOKUP(H701,LanguageData,MATCH(LanguageChosen,Language[Language],0),FALSE) & \" - \" & B701","v":"Total oil and petroleum products - KT"},2018]
["LPG","KT",null,"RESOTH","",null,null,"LPG",{"$f":"VLOOKUP(D702, Param_Multilanguage!A:C, Param_Menu!$B$3+1, FALSE)","v":"Other end uses"},{"$f":"VLOOKUP(H702,LanguageData,MATCH(LanguageChosen,Language[Language],0),FALSE) & \" - \" & B702","v":"LPG - KT"},2018]
["KEROSENE","KT",null,"RESOTH","",null,null,"Other kerosene",{"$f":"VLOOKUP(D703, Param_Multilanguage!A:C, Param_Menu!$B$3+1, FALSE)","v":"Other end uses"},{"$f":"VLOOKUP(H703,LanguageData,MATCH(LanguageChosen,Language[Language],0),FALSE) & \" - \" & B703","v":"Other kerosene - KT"},2018]
["GASOIL","KT",null,"RESOTH","",null,null,"Total gas/diesel oil",{"$f":"VLOOKUP(D704, Param_Multilanguage!A:C, Param_Menu!$B$3+1, FALSE)","v":"Other end uses"},{"$f":"VLOOKUP(H704,LanguageData,MATCH(LanguageChosen,Language[Language],0),FALSE) & \" - \" & B704","v":"Total gas/diesel oil - KT"},2018]
["RENEW","TJ",null,"RESOTH","",null,null,"Renewables and wastes",{"$f":"VLOOKUP(D705, Param_Multilanguage!A:C, Param_Menu!$B$3+1, FALSE)","v":"Other end uses"},{"$f":"VLOOKUP(H705,LanguageData,MATCH(LanguageChosen,Language[Language],0),FALSE) & \" - \" & B705","v":"Renewables and wastes - TJ"},2018]
["SOLARTH","TJ",null,"RESOTH","",null,null,"Solar thermal",{"$f":"VLOOKUP(D706, Param_Multilanguage!A:C, Param_Menu!$B$3+1, FALSE)","v":"Other end uses"},{"$f":"VLOOKUP(H706,LanguageData,MATCH(LanguageChosen,Language[Language],0),FALSE) & \" - \" & B706","v":"Solar thermal - TJ"},2018]
["BIOFUEL","TJ",null,"RESOTH","",null,null,"Solid biofuels excluding charcoal",{"$f":"VLOOKUP(D707, Param_Multilanguage!A:C, Param_Menu!$B$3+1, FALSE)","v":"Other end uses"},{"$f":"VLOOKUP(H707,LanguageData,MATCH(LanguageChosen,Language[Language],0),FALSE) & \" - \" & B707","v":"Solid biofuels excluding charcoal - TJ"},2018]
["BIOGASES","TJ",null,"RESOTH","",null,null,"Biogases",{"$f":"VLOOKUP(D708, Param_Multilanguage!A:C, Param_Menu!$B$3+1, FALSE)","v":"Other end uses"},{"$f":"VLOOKUP(H708,LanguageData,MATCH(LanguageChosen,Language[Language],0),FALSE) & \" - \" & B708","v":"Biogases - TJ"},2018]
["AMBIANT","TJ",null,"RESOTH","",null,null,"Ambient heat",{"$f":"VLOOKUP(D709, Param_Multilanguage!A:C, Param_Menu!$B$3+1, FALSE)","v":"Other end uses"},{"$f":"VLOOKUP(H709,LanguageData,MATCH(LanguageChosen,Language[Language],0),FALSE) & \" - \" & B709","v":"Ambient heat - TJ"},2018]
["ELEC","GWH",null,"SPACEHEAT",null,null,null,"Electricity",{"$f":"VLOOKUP(D710, Param_Multilanguage!A:C, Param_Menu!$B$3+1, FALSE)","v":"Space heating"},{"$f":"VLOOKUP(H710,LanguageData,MATCH(LanguageChosen,Language[Language],0),FALSE) & \" - \" & B710","v":"Electricity - GWH"},2019]
["HEAT","TJ",null,"SPACEHEAT","",null,null,"Derived heat",{"$f":"VLOOKUP(D711, Param_Multilanguage!A:C, Param_Menu!$B$3+1, FALSE)","v":"Space heating"},{"$f":"VLOOKUP(H711,LanguageData,MATCH(LanguageChosen,Language[Language],0),FALSE) & \" - \" & B711","v":"Derived heat - TJ"},2019]
["GAS","TJ_GCV",null,"SPACEHEAT","",null,null,"Gas",{"$f":"VLOOKUP(D712, Param_Multilanguage!A:C, Param_Menu!$B$3+1, FALSE)","v":"Space heating"},{"$f":"VLOOKUP(H712,LanguageData,MATCH(LanguageChosen,Language[Language],0),FALSE) & \" - \" & B712","v":"Gas - TJ_GCV"},2019]
["SOLIDFUEL","KT",null,"SPACEHEAT","",null,null,"Solid fossil fuels",{"$f":"VLOOKUP(D713, Param_Multilanguage!A:C, Param_Menu!$B$3+1, FALSE)","v":"Space heating"},{"$f":"VLOOKUP(H713,LanguageData,MATCH(LanguageChosen,Language[Language],0),FALSE) & \" - \" & B713","v":"Solid fossil fuels - KT"},2019]
["OIL","KT",null,"SPACEHEAT","",null,null,"Total oil and petroleum products",{"$f":"VLOOKUP(D714, Param_Multilanguage!A:C, Param_Menu!$B$3+1, FALSE)","v":"Space heating"},{"$f":"VLOOKUP(H714,LanguageData,MATCH(LanguageChosen,Language[Language],0),FALSE) & \" - \" & B714","v":"Total oil and petroleum products - KT"},2019]
["LPG","KT",null,"SPACEHEAT","",null,null,"LPG",{"$f":"VLOOKUP(D715, Param_Multilanguage!A:C, Param_Menu!$B$3+1, FALSE)","v":"Space heating"},{"$f":"VLOOKUP(H715,LanguageData,MATCH(LanguageChosen,Language[Language],0),FALSE) & \" - \" & B715","v":"LPG - KT"},2019]
["KEROSENE","KT",null,"SPACEHEAT","",null,null,"Other kerosene",{"$f":"VLOOKUP(D716, Param_Multilanguage!A:C, Param_Menu!$B$3+1, FALSE)","v":"Space heating"},{"$f":"VLOOKUP(H716,LanguageData,MATCH(LanguageChosen,Language[Language],0),FALSE) & \" - \" & B716","v":"Other kerosene - KT"},2019]
["GASOIL","KT",null,"SPACEHEAT","",null,null,"Total gas/diesel oil",{"$f":"VLOOKUP(D717, Param_Multilanguage!A:C, Param_Menu!$B$3+1, FALSE)","v":"Space heating"},{"$f":"VLOOKUP(H717,LanguageData,MATCH(LanguageChosen,Language[Language],0),FALSE) & \" - \" & B717","v":"Total gas/diesel oil - KT"},2019]
["RENEW","TJ",null,"SPACEHEAT","",null,null,"Renewables and wastes",{"$f":"VLOOKUP(D718, Param_Multilanguage!A:C, Param_Menu!$B$3+1, FALSE)","v":"Space heating"},{"$f":"VLOOKUP(H718,LanguageData,MATCH(LanguageChosen,Language[Language],0),FALSE) & \" - \" & B718","v":"Renewables and wastes - TJ"},2019]
["SOLARTH","TJ",null,"SPACEHEAT","",null,null,"Solar thermal",{"$f":"VLOOKUP(D719, Param_Multilanguage!A:C, Param_Menu!$B$3+1, FALSE)","v":"Space heating"},{"$f":"VLOOKUP(H719,LanguageData,MATCH(LanguageChosen,Language[Language],0),FALSE) & \" - \" & B719","v":"Solar thermal - TJ"},2019]
["BIOFUEL","TJ",null,"SPACEHEAT","",null,null,"Solid biofuels excluding charcoal",{"$f":"VLOOKUP(D720, Param_Multilanguage!A:C, Param_Menu!$B$3+1, FALSE)","v":"Space heating"},{"$f":"VLOOKUP(H720,LanguageData,MATCH(LanguageChosen,Language[Language],0),FALSE) & \" - \" & B720","v":"Solid biofuels excluding charcoal - TJ"},2019]
["BIOGASES","TJ",null,"SPACEHEAT","",null,null,"Biogases",{"$f":"VLOOKUP(D721, Param_Multilanguage!A:C, Param_Menu!$B$3+1, FALSE)","v":"Space heating"},{"$f":"VLOOKUP(H721,LanguageData,MATCH(LanguageChosen,Language[Language],0),FALSE) & \" - \" & B721","v":"Biogases - TJ"},2019]
["AMBIANT","TJ",null,"SPACEHEAT","",null,null,"Ambient heat",{"$f":"VLOOKUP(D722, Param_Multilanguage!A:C, Param_Menu!$B$3+1, FALSE)","v":"Space heating"},{"$f":"VLOOKUP(H722,LanguageData,MATCH(LanguageChosen,Language[Language],0),FALSE) & \" - \" & B722","v":"Ambient heat - TJ"},2019]
["ELEC","GWH",null,"SPACECOOL",null,null,null,"Electricity",{"$f":"VLOOKUP(D723, Param_Multilanguage!A:C, Param_Menu!$B$3+1, FALSE)","v":"Space cooling"},{"$f":"VLOOKUP(H723,LanguageData,MATCH(LanguageChosen,Language[Language],0),FALSE) & \" - \" & B723","v":"Electricity - GWH"},2019]
["HEAT","TJ",null,"SPACECOOL","",null,null,"Derived heat",{"$f":"VLOOKUP(D724, Param_Multilanguage!A:C, Param_Menu!$B$3+1, FALSE)","v":"Space cooling"},{"$f":"VLOOKUP(H724,LanguageData,MATCH(LanguageChosen,Language[Language],0),FALSE) & \" - \" & B724","v":"Derived heat - TJ"},2019]
["GAS","TJ_GCV",null,"SPACECOOL","",null,null,"Gas",{"$f":"VLOOKUP(D725, Param_Multilanguage!A:C, Param_Menu!$B$3+1, FALSE)","v":"Space cooling"},{"$f":"VLOOKUP(H725,LanguageData,MATCH(LanguageChosen,Language[Language],0),FALSE) & \" - \" & B725","v":"Gas - TJ_GCV"},2019]
["SOLIDFUEL","KT",null,"SPACECOOL","",null,null,"Solid fossil fuels",{"$f":"VLOOKUP(D726, Param_Multilanguage!A:C, Param_Menu!$B$3+1, FALSE)","v":"Space cooling"},{"$f":"VLOOKUP(H726,LanguageData,MATCH(LanguageChosen,Language[Language],0),FALSE) & \" - \" & B726","v":"Solid fossil fuels - KT"},2019]
["OIL","KT",null,"SPACECOOL","",null,null,"Total oil and petroleum products",{"$f":"VLOOKUP(D727, Param_Multilanguage!A:C, Param_Menu!$B$3+1, FALSE)","v":"Space cooling"},{"$f":"VLOOKUP(H727,LanguageData,MATCH(LanguageChosen,Language[Language],0),FALSE) & \" - \" & B727","v":"Total oil and petroleum products - KT"},2019]
["LPG","KT",null,"SPACECOOL","",null,null,"LPG",{"$f":"VLOOKUP(D728, Param_Multilanguage!A:C, Param_Menu!$B$3+1, FALSE)","v":"Space cooling"},{"$f":"VLOOKUP(H728,LanguageData,MATCH(LanguageChosen,Language[Language],0),FALSE) & \" - \" & B728","v":"LPG - KT"},2019]
["KEROSENE","KT",null,"SPACECOOL","",null,null,"Other kerosene",{"$f":"VLOOKUP(D729, Param_Multilanguage!A:C, Param_Menu!$B$3+1, FALSE)","v":"Space cooling"},{"$f":"VLOOKUP(H729,LanguageData,MATCH(LanguageChosen,Language[Language],0),FALSE) & \" - \" & B729","v":"Other kerosene - KT"},2019]
["GASOIL","KT",null,"SPACECOOL","",null,null,"Total gas/diesel oil",{"$f":"VLOOKUP(D730, Param_Multilanguage!A:C, Param_Menu!$B$3+1, FALSE)","v":"Space cooling"},{"$f":"VLOOKUP(H730,LanguageData,MATCH(LanguageChosen,Language[Language],0),FALSE) & \" - \" & B730","v":"Total gas/diesel oil - KT"},2019]
["RENEW","TJ",null,"SPACECOOL","",null,null,"Renewables and wastes",{"$f":"VLOOKUP(D731, Param_Multilanguage!A:C, Param_Menu!$B$3+1, FALSE)","v":"Space cooling"},{"$f":"VLOOKUP(H731,LanguageData,MATCH(LanguageChosen,Language[Language],0),FALSE) & \" - \" & B731","v":"Renewables and wastes - TJ"},2019]
["SOLARTH","TJ",null,"SPACECOOL","",null,null,"Solar thermal",{"$f":"VLOOKUP(D732, Param_Multilanguage!A:C, Param_Menu!$B$3+1, FALSE)","v":"Space cooling"},{"$f":"VLOOKUP(H732,LanguageData,MATCH(LanguageChosen,Language[Language],0),FALSE) & \" - \" & B732","v":"Solar thermal - TJ"},2019]
["BIOFUEL","TJ",null,"SPACECOOL","",null,null,"Solid biofuels excluding charcoal",{"$f":"VLOOKUP(D733, Param_Multilanguage!A:C, Param_Menu!$B$3+1, FALSE)","v":"Space cooling"},{"$f":"VLOOKUP(H733,LanguageData,MATCH(LanguageChosen,Language[Language],0),FALSE) & \" - \" & B733","v":"Solid biofuels excluding charcoal - TJ"},2019]
["BIOGASES","TJ",null,"SPACECOOL","",null,null,"Biogases",{"$f":"VLOOKUP(D734, Param_Multilanguage!A:C, Param_Menu!$B$3+1, FALSE)","v":"Space cooling"},{"$f":"VLOOKUP(H734,LanguageData,MATCH(LanguageChosen,Language[Language],0),FALSE) & \" - \" & B734","v":"Biogases - TJ"},2019]
["AMBIANT","TJ",null,"SPACECOOL","",null,null,"Ambient heat",{"$f":"VLOOKUP(D735, Param_Multilanguage!A:C, Param_Menu!$B$3+1, FALSE)","v":"Space cooling"},{"$f":"VLOOKUP(H735,LanguageData,MATCH(LanguageChosen,Language[Language],0),FALSE) & \" - \" & B735","v":"Ambient heat - TJ"},2019]
["ELEC","GWH",null,"WATERHEAT",null,null,null,"Electricity",{"$f":"VLOOKUP(D736, Param_Multilanguage!A:C, Param_Menu!$B$3+1, FALSE)","v":"Water heating"},{"$f":"VLOOKUP(H736,LanguageData,MATCH(LanguageChosen,Language[Language],0),FALSE) & \" - \" & B736","v":"Electricity - GWH"},2019]
["HEAT","TJ",null,"WATERHEAT","",null,null,"Derived heat",{"$f":"VLOOKUP(D737, Param_Multilanguage!A:C, Param_Menu!$B$3+1, FALSE)","v":"Water heating"},{"$f":"VLOOKUP(H737,LanguageData,MATCH(LanguageChosen,Language[Language],0),FALSE) & \" - \" & B737","v":"Derived heat - TJ"},2019]
["GAS","TJ_GCV",null,"WATERHEAT","",null,null,"Gas",{"$f":"VLOOKUP(D738, Param_Multilanguage!A:C, Param_Menu!$B$3+1, FALSE)","v":"Water heating"},{"$f":"VLOOKUP(H738,LanguageData,MATCH(LanguageChosen,Language[Language],0),FALSE) & \" - \" & B738","v":"Gas - TJ_GCV"},2019]
["SOLIDFUEL","KT",null,"WATERHEAT","",null,null,"Solid fossil fuels",{"$f":"VLOOKUP(D739, Param_Multilanguage!A:C, Param_Menu!$B$3+1, FALSE)","v":"Water heating"},{"$f":"VLOOKUP(H739,LanguageData,MATCH(LanguageChosen,Language[Language],0),FALSE) & \" - \" & B739","v":"Solid fossil fuels - KT"},2019]
["OIL","KT",null,"WATERHEAT","",null,null,"Total oil and petroleum products",{"$f":"VLOOKUP(D740, Param_Multilanguage!A:C, Param_Menu!$B$3+1, FALSE)","v":"Water heating"},{"$f":"VLOOKUP(H740,LanguageData,MATCH(LanguageChosen,Language[Language],0),FALSE) & \" - \" & B740","v":"Total oil and petroleum products - KT"},2019]
["LPG","KT",null,"WATERHEAT","",null,null,"LPG",{"$f":"VLOOKUP(D741, Param_Multilanguage!A:C, Param_Menu!$B$3+1, FALSE)","v":"Water heating"},{"$f":"VLOOKUP(H741,LanguageData,MATCH(LanguageChosen,Language[Language],0),FALSE) & \" - \" & B741","v":"LPG - KT"},2019]
["KEROSENE","KT",null,"WATERHEAT","",null,null,"Other kerosene",{"$f":"VLOOKUP(D742, Param_Multilanguage!A:C, Param_Menu!$B$3+1, FALSE)","v":"Water heating"},{"$f":"VLOOKUP(H742,LanguageData,MATCH(LanguageChosen,Language[Language],0),FALSE) & \" - \" & B742","v":"Other kerosene - KT"},2019]
["GASOIL","KT",null,"WATERHEAT","",null,null,"Total gas/diesel oil",{"$f":"VLOOKUP(D743, Param_Multilanguage!A:C, Param_Menu!$B$3+1, FALSE)","v":"Water heating"},{"$f":"VLOOKUP(H743,LanguageData,MATCH(LanguageChosen,Language[Language],0),FALSE) & \" - \" & B743","v":"Total gas/diesel oil - KT"},2019]
["RENEW","TJ",null,"WATERHEAT","",null,null,"Renewables and wastes",{"$f":"VLOOKUP(D744, Param_Multilanguage!A:C, Param_Menu!$B$3+1, FALSE)","v":"Water heating"},{"$f":"VLOOKUP(H744,LanguageData,MATCH(LanguageChosen,Language[Language],0),FALSE) & \" - \" & B744","v":"Renewables and wastes - TJ"},2019]
["SOLARTH","TJ",null,"WATERHEAT","",null,null,"Solar thermal",{"$f":"VLOOKUP(D745, Param_Multilanguage!A:C, Param_Menu!$B$3+1, FALSE)","v":"Water heating"},{"$f":"VLOOKUP(H745,LanguageData,MATCH(LanguageChosen,Language[Language],0),FALSE) & \" - \" & B745","v":"Solar thermal - TJ"},2019]
["BIOFUEL","TJ",null,"WATERHEAT","",null,null,"Solid biofuels excluding charcoal",{"$f":"VLOOKUP(D746, Param_Multilanguage!A:C, Param_Menu!$B$3+1, FALSE)","v":"Water heating"},{"$f":"VLOOKUP(H746,LanguageData,MATCH(LanguageChosen,Language[Language],0),FALSE) & \" - \" & B746","v":"Solid biofuels excluding charcoal - TJ"},2019]
["BIOGASES","TJ",null,"WATERHEAT","",null,null,"Biogases",{"$f":"VLOOKUP(D747, Param_Multilanguage!A:C, Param_Menu!$B$3+1, FALSE)","v":"Water heating"},{"$f":"VLOOKUP(H747,LanguageData,MATCH(LanguageChosen,Language[Language],0),FALSE) & \" - \" & B747","v":"Biogases - TJ"},2019]
["AMBIANT","TJ",null,"WATERHEAT","",null,null,"Ambient heat",{"$f":"VLOOKUP(D748, Param_Multilanguage!A:C, Param_Menu!$B$3+1, FALSE)","v":"Water heating"},{"$f":"VLOOKUP(H748,LanguageData,MATCH(LanguageChosen,Language[Language],0),FALSE) & \" - \" & B748","v":"Ambient heat - TJ"},2019]
["ELEC","GWH",null,"COOK",null,null,null,"Electricity",{"$f":"VLOOKUP(D749, Param_Multilanguage!A:C, Param_Menu!$B$3+1, FALSE)","v":"Cooking"},{"$f":"VLOOKUP(H749,LanguageData,MATCH(LanguageChosen,Language[Language],0),FALSE) & \" - \" & B749","v":"Electricity - GWH"},2019]
["HEAT","TJ",null,"COOK","",null,null,"Derived heat",{"$f":"VLOOKUP(D750, Param_Multilanguage!A:C, Param_Menu!$B$3+1, FALSE)","v":"Cooking"},{"$f":"VLOOKUP(H750,LanguageData,MATCH(LanguageChosen,Language[Language],0),FALSE) & \" - \" & B750","v":"Derived heat - TJ"},2019]
["GAS","TJ_GCV",null,"COOK","",null,null,"Gas",{"$f":"VLOOKUP(D751, Param_Multilanguage!A:C, Param_Menu!$B$3+1, FALSE)","v":"Cooking"},{"$f":"VLOOKUP(H751,LanguageData,MATCH(LanguageChosen,Language[Language],0),FALSE) & \" - \" & B751","v":"Gas - TJ_GCV"},2019]
["SOLIDFUEL","KT",null,"COOK","",null,null,"Solid fossil fuels",{"$f":"VLOOKUP(D752, Param_Multilanguage!A:C, Param_Menu!$B$3+1, FALSE)","v":"Cooking"},{"$f":"VLOOKUP(H752,LanguageData,MATCH(LanguageChosen,Language[Language],0),FALSE) & \" - \" & B752","v":"Solid fossil fuels - KT"},2019]
["OIL","KT",null,"COOK","",null,null,"Total oil and petroleum products",{"$f":"VLOOKUP(D753, Param_Multilanguage!A:C, Param_Menu!$B$3+1, FALSE)","v":"Cooking"},{"$f":"VLOOKUP(H753,LanguageData,MATCH(LanguageChosen,Language[Language],0),FALSE) & \" - \" & B753","v":"Total oil and petroleum products - KT"},2019]
["LPG","KT",null,"COOK","",null,null,"LPG",{"$f":"VLOOKUP(D754, Param_Multilanguage!A:C, Param_Menu!$B$3+1, FALSE)","v":"Cooking"},{"$f":"VLOOKUP(H754,LanguageData,MATCH(LanguageChosen,Language[Language],0),FALSE) & \" - \" & B754","v":"LPG - KT"},2019]
["KEROSENE","KT",null,"COOK","",null,null,"Other kerosene",{"$f":"VLOOKUP(D755, Param_Multilanguage!A:C, Param_Menu!$B$3+1, FALSE)","v":"Cooking"},{"$f":"VLOOKUP(H755,LanguageData,MATCH(LanguageChosen,Language[Language],0),FALSE) & \" - \" & B755","v":"Other kerosene - KT"},2019]
["GASOIL","KT",null,"COOK","",null,null,"Total gas/diesel oil",{"$f":"VLOOKUP(D756, Param_Multilanguage!A:C, Param_Menu!$B$3+1, FALSE)","v":"Cooking"},{"$f":"VLOOKUP(H756,LanguageData,MATCH(LanguageChosen,Language[Language],0),FALSE) & \" - \" & B756","v":"Total gas/diesel oil - KT"},2019]
["RENEW","TJ",null,"COOK","",null,null,"Renewables and wastes",{"$f":"VLOOKUP(D757, Param_Multilanguage!A:C, Param_Menu!$B$3+1, FALSE)","v":"Cooking"},{"$f":"VLOOKUP(H757,LanguageData,MATCH(LanguageChosen,Language[Language],0),FALSE) & \" - \" & B757","v":"Renewables and wastes - TJ"},2019]
["SOLARTH","TJ",null,"COOK","",null,null,"Solar thermal",{"$f":"VLOOKUP(D758, Param_Multilanguage!A:C, Param_Menu!$B$3+1, FALSE)","v":"Cooking"},{"$f":"VLOOKUP(H758,LanguageData,MATCH(LanguageChosen,Language[Language],0),FALSE) & \" - \" & B758","v":"Solar thermal - TJ"},2019]
["BIOFUEL","TJ",null,"COOK","",null,null,"Solid biofuels excluding charcoal",{"$f":"VLOOKUP(D759, Param_Multilanguage!A:C, Param_Menu!$B$3+1, FALSE)","v":"Cooking"},{"$f":"VLOOKUP(H759,LanguageData,MATCH(LanguageChosen,Language[Language],0),FALSE) & \" - \" & B759","v":"Solid biofuels excluding charcoal - TJ"},2019]
["BIOGASES","TJ",null,"COOK","",null,null,"Biogases",{"$f":"VLOOKUP(D760, Param_Multilanguage!A:C, Param_Menu!$B$3+1, FALSE)","v":"Cooking"},{"$f":"VLOOKUP(H760,LanguageData,MATCH(LanguageChosen,Language[Language],0),FALSE) & \" - \" & B760","v":"Biogases - TJ"},2019]
["AMBIANT","TJ",null,"COOK","",null,null,"Ambient heat",{"$f":"VLOOKUP(D761, Param_Multilanguage!A:C, Param_Menu!$B$3+1, FALSE)","v":"Cooking"},{"$f":"VLOOKUP(H761,LanguageData,MATCH(LanguageChosen,Language[Language],0),FALSE) & \" - \" & B761","v":"Ambient heat - TJ"},2019]
["ELEC","GWH",null,"LIGHTAPP",null,null,null,"Electricity",{"$f":"VLOOKUP(D762, Param_Multilanguage!A:C, Param_Menu!$B$3+1, FALSE)","v":"Lighting and appliances"},{"$f":"VLOOKUP(H762,LanguageData,MATCH(LanguageChosen,Language[Language],0),FALSE) & \" - \" & B762","v":"Electricity - GWH"},2019]
["HEAT","TJ",null,"LIGHTAPP","",null,null,"Derived heat",{"$f":"VLOOKUP(D763, Param_Multilanguage!A:C, Param_Menu!$B$3+1, FALSE)","v":"Lighting and appliances"},{"$f":"VLOOKUP(H763,LanguageData,MATCH(LanguageChosen,Language[Language],0),FALSE) & \" - \" & B763","v":"Derived heat - TJ"},2019]
["GAS","TJ_GCV",null,"LIGHTAPP","",null,null,"Gas",{"$f":"VLOOKUP(D764, Param_Multilanguage!A:C, Param_Menu!$B$3+1, FALSE)","v":"Lighting and appliances"},{"$f":"VLOOKUP(H764,LanguageData,MATCH(LanguageChosen,Language[Language],0),FALSE) & \" - \" & B764","v":"Gas - TJ_GCV"},2019]
["SOLIDFUEL","KT",null,"LIGHTAPP","",null,null,"Solid fossil fuels",{"$f":"VLOOKUP(D765, Param_Multilanguage!A:C, Param_Menu!$B$3+1, FALSE)","v":"Lighting and appliances"},{"$f":"VLOOKUP(H765,LanguageData,MATCH(LanguageChosen,Language[Language],0),FALSE) & \" - \" & B765","v":"Solid fossil fuels - KT"},2019]
["OIL","KT",null,"LIGHTAPP","",null,null,"Total oil and petroleum products",{"$f":"VLOOKUP(D766, Param_Multilanguage!A:C, Param_Menu!$B$3+1, FALSE)","v":"Lighting and appliances"},{"$f":"VLOOKUP(H766,LanguageData,MATCH(LanguageChosen,Language[Language],0),FALSE) & \" - \" & B766","v":"Total oil and petroleum products - KT"},2019]
["LPG","KT",null,"LIGHTAPP","",null,null,"LPG",{"$f":"VLOOKUP(D767, Param_Multilanguage!A:C, Param_Menu!$B$3+1, FALSE)","v":"Lighting and appliances"},{"$f":"VLOOKUP(H767,LanguageData,MATCH(LanguageChosen,Language[Language],0),FALSE) & \" - \" & B767","v":"LPG - KT"},2019]
["KEROSENE","KT",null,"LIGHTAPP","",null,null,"Other kerosene",{"$f":"VLOOKUP(D768, Param_Multilanguage!A:C, Param_Menu!$B$3+1, FALSE)","v":"Lighting and appliances"},{"$f":"VLOOKUP(H768,LanguageData,MATCH(LanguageChosen,Language[Language],0),FALSE) & \" - \" & B768","v":"Other kerosene - KT"},2019]
["GASOIL","KT",null,"LIGHTAPP","",null,null,"Total gas/diesel oil",{"$f":"VLOOKUP(D769, Param_Multilanguage!A:C, Param_Menu!$B$3+1, FALSE)","v":"Lighting and appliances"},{"$f":"VLOOKUP(H769,LanguageData,MATCH(LanguageChosen,Language[Language],0),FALSE) & \" - \" & B769","v":"Total gas/diesel oil - KT"},2019]
["RENEW","TJ",null,"LIGHTAPP","",null,null,"Renewables and wastes",{"$f":"VLOOKUP(D770, Param_Multilanguage!A:C, Param_Menu!$B$3+1, FALSE)","v":"Lighting and appliances"},{"$f":"VLOOKUP(H770,LanguageData,MATCH(LanguageChosen,Language[Language],0),FALSE) & \" - \" & B770","v":"Renewables and wastes - TJ"},2019]
["SOLARTH","TJ",null,"LIGHTAPP","",null,null,"Solar thermal",{"$f":"VLOOKUP(D771, Param_Multilanguage!A:C, Param_Menu!$B$3+1, FALSE)","v":"Lighting and appliances"},{"$f":"VLOOKUP(H771,LanguageData,MATCH(LanguageChosen,Language[Language],0),FALSE) & \" - \" & B771","v":"Solar thermal - TJ"},2019]
["BIOFUEL","TJ",null,"LIGHTAPP","",null,null,"Solid biofuels excluding charcoal",{"$f":"VLOOKUP(D772, Param_Multilanguage!A:C, Param_Menu!$B$3+1, FALSE)","v":"Lighting and appliances"},{"$f":"VLOOKUP(H772,LanguageData,MATCH(LanguageChosen,Language[Language],0),FALSE) & \" - \" & B772","v":"Solid biofuels excluding charcoal - TJ"},2019]
["BIOGASES","TJ",null,"LIGHTAPP","",null,null,"Biogases",{"$f":"VLOOKUP(D773, Param_Multilanguage!A:C, Param_Menu!$B$3+1, FALSE)","v":"Lighting and appliances"},{"$f":"VLOOKUP(H773,LanguageData,MATCH(LanguageChosen,Language[Language],0),FALSE) & \" - \" & B773","v":"Biogases - TJ"},2019]
["AMBIANT","TJ",null,"LIGHTAPP","",null,null,"Ambient heat",{"$f":"VLOOKUP(D774, Param_Multilanguage!A:C, Param_Menu!$B$3+1, FALSE)","v":"Lighting and appliances"},{"$f":"VLOOKUP(H774,LanguageData,MATCH(LanguageChosen,Language[Language],0),FALSE) & \" - \" & B774","v":"Ambient heat - TJ"},2019]
["ELEC","GWH",null,"RESOTH",null,null,null,"Electricity",{"$f":"VLOOKUP(D775, Param_Multilanguage!A:C, Param_Menu!$B$3+1, FALSE)","v":"Other end uses"},{"$f":"VLOOKUP(H775,LanguageData,MATCH(LanguageChosen,Language[Language],0),FALSE) & \" - \" & B775","v":"Electricity - GWH"},2019]
["HEAT","TJ",null,"RESOTH","",null,null,"Derived heat",{"$f":"VLOOKUP(D776, Param_Multilanguage!A:C, Param_Menu!$B$3+1, FALSE)","v":"Other end uses"},{"$f":"VLOOKUP(H776,LanguageData,MATCH(LanguageChosen,Language[Language],0),FALSE) & \" - \" & B776","v":"Derived heat - TJ"},2019]
["GAS","TJ_GCV",null,"RESOTH","",null,null,"Gas",{"$f":"VLOOKUP(D777, Param_Multilanguage!A:C, Param_Menu!$B$3+1, FALSE)","v":"Other end uses"},{"$f":"VLOOKUP(H777,LanguageData,MATCH(LanguageChosen,Language[Language],0),FALSE) & \" - \" & B777","v":"Gas - TJ_GCV"},2019]
["SOLIDFUEL","KT",null,"RESOTH","",null,null,"Solid fossil fuels",{"$f":"VLOOKUP(D778, Param_Multilanguage!A:C, Param_Menu!$B$3+1, FALSE)","v":"Other end uses"},{"$f":"VLOOKUP(H778,LanguageData,MATCH(LanguageChosen,Language[Language],0),FALSE) & \" - \" & B778","v":"Solid fossil fuels - KT"},2019]
["OIL","KT",null,"RESOTH","",null,null,"Total oil and petroleum products",{"$f":"VLOOKUP(D779, Param_Multilanguage!A:C, Param_Menu!$B$3+1, FALSE)","v":"Other end uses"},{"$f":"VLOOKUP(H779,LanguageData,MATCH(LanguageChosen,Language[Language],0),FALSE) & \" - \" & B779","v":"Total oil and petroleum products - KT"},2019]
["LPG","KT",null,"RESOTH","",null,null,"LPG",{"$f":"VLOOKUP(D780, Param_Multilanguage!A:C, Param_Menu!$B$3+1, FALSE)","v":"Other end uses"},{"$f":"VLOOKUP(H780,LanguageData,MATCH(LanguageChosen,Language[Language],0),FALSE) & \" - \" & B780","v":"LPG - KT"},2019]
["KEROSENE","KT",null,"RESOTH","",null,null,"Other kerosene",{"$f":"VLOOKUP(D781, Param_Multilanguage!A:C, Param_Menu!$B$3+1, FALSE)","v":"Other end uses"},{"$f":"VLOOKUP(H781,LanguageData,MATCH(LanguageChosen,Language[Language],0),FALSE) & \" - \" & B781","v":"Other kerosene - KT"},2019]
["GASOIL","KT",null,"RESOTH","",null,null,"Total gas/diesel oil",{"$f":"VLOOKUP(D782, Param_Multilanguage!A:C, Param_Menu!$B$3+1, FALSE)","v":"Other end uses"},{"$f":"VLOOKUP(H782,LanguageData,MATCH(LanguageChosen,Language[Language],0),FALSE) & \" - \" & B782","v":"Total gas/diesel oil - KT"},2019]
["RENEW","TJ",null,"RESOTH","",null,null,"Renewables and wastes",{"$f":"VLOOKUP(D783, Param_Multilanguage!A:C, Param_Menu!$B$3+1, FALSE)","v":"Other end uses"},{"$f":"VLOOKUP(H783,LanguageData,MATCH(LanguageChosen,Language[Language],0),FALSE) & \" - \" & B783","v":"Renewables and wastes - TJ"},2019]
["SOLARTH","TJ",null,"RESOTH","",null,null,"Solar thermal",{"$f":"VLOOKUP(D784, Param_Multilanguage!A:C, Param_Menu!$B$3+1, FALSE)","v":"Other end uses"},{"$f":"VLOOKUP(H784,LanguageData,MATCH(LanguageChosen,Language[Language],0),FALSE) & \" - \" & B784","v":"Solar thermal - TJ"},2019]
["BIOFUEL","TJ",null,"RESOTH","",null,null,"Solid biofuels excluding charcoal",{"$f":"VLOOKUP(D785, Param_Multilanguage!A:C, Param_Menu!$B$3+1, FALSE)","v":"Other end uses"},{"$f":"VLOOKUP(H785,LanguageData,MATCH(LanguageChosen,Language[Language],0),FALSE) & \" - \" & B785","v":"Solid biofuels excluding charcoal - TJ"},2019]
["BIOGASES","TJ",null,"RESOTH","",null,null,"Biogases",{"$f":"VLOOKUP(D786, Param_Multilanguage!A:C, Param_Menu!$B$3+1, FALSE)","v":"Other end uses"},{"$f":"VLOOKUP(H786,LanguageData,MATCH(LanguageChosen,Language[Language],0),FALSE) & \" - \" & B786","v":"Biogases - TJ"},2019]
["AMBIANT","TJ",null,"RESOTH","",null,null,"Ambient heat",{"$f":"VLOOKUP(D787, Param_Multilanguage!A:C, Param_Menu!$B$3+1, FALSE)","v":"Other end uses"},{"$f":"VLOOKUP(H787,LanguageData,MATCH(LanguageChosen,Language[Language],0),FALSE) & \" - \" & B787","v":"Ambient heat - TJ"},2019]
["ELEC","GWH",null,"SPACEHEAT",null,null,null,"Electricity",{"$f":"VLOOKUP(D788, Param_Multilanguage!A:C, Param_Menu!$B$3+1, FALSE)","v":"Space heating"},{"$f":"VLOOKUP(H788,LanguageData,MATCH(LanguageChosen,Language[Language],0),FALSE) & \" - \" & B788","v":"Electricity - GWH"},2020]
["HEAT","TJ",null,"SPACEHEAT","",null,null,"Derived heat",{"$f":"VLOOKUP(D789, Param_Multilanguage!A:C, Param_Menu!$B$3+1, FALSE)","v":"Space heating"},{"$f":"VLOOKUP(H789,LanguageData,MATCH(LanguageChosen,Language[Language],0),FALSE) & \" - \" & B789","v":"Derived heat - TJ"},2020]
["GAS","TJ_GCV",null,"SPACEHEAT","",null,null,"Gas",{"$f":"VLOOKUP(D790, Param_Multilanguage!A:C, Param_Menu!$B$3+1, FALSE)","v":"Space heating"},{"$f":"VLOOKUP(H790,LanguageData,MATCH(LanguageChosen,Language[Language],0),FALSE) & \" - \" & B790","v":"Gas - TJ_GCV"},2020]
["SOLIDFUEL","KT",null,"SPACEHEAT","",null,null,"Solid fossil fuels",{"$f":"VLOOKUP(D791, Param_Multilanguage!A:C, Param_Menu!$B$3+1, FALSE)","v":"Space heating"},{"$f":"VLOOKUP(H791,LanguageData,MATCH(LanguageChosen,Language[Language],0),FALSE) & \" - \" & B791","v":"Solid fossil fuels - KT"},2020]
["OIL","KT",null,"SPACEHEAT","",null,null,"Total oil and petroleum products",{"$f":"VLOOKUP(D792, Param_Multilanguage!A:C, Param_Menu!$B$3+1, FALSE)","v":"Space heating"},{"$f":"VLOOKUP(H792,LanguageData,MATCH(LanguageChosen,Language[Language],0),FALSE) & \" - \" & B792","v":"Total oil and petroleum products - KT"},2020]
["LPG","KT",null,"SPACEHEAT","",null,null,"LPG",{"$f":"VLOOKUP(D793, Param_Multilanguage!A:C, Param_Menu!$B$3+1, FALSE)","v":"Space heating"},{"$f":"VLOOKUP(H793,LanguageData,MATCH(LanguageChosen,Language[Language],0),FALSE) & \" - \" & B793","v":"LPG - KT"},2020]
["KEROSENE","KT",null,"SPACEHEAT","",null,null,"Other kerosene",{"$f":"VLOOKUP(D794, Param_Multilanguage!A:C, Param_Menu!$B$3+1, FALSE)","v":"Space heating"},{"$f":"VLOOKUP(H794,LanguageData,MATCH(LanguageChosen,Language[Language],0),FALSE) & \" - \" & B794","v":"Other kerosene - KT"},2020]
["GASOIL","KT",null,"SPACEHEAT","",null,null,"Total gas/diesel oil",{"$f":"VLOOKUP(D795, Param_Multilanguage!A:C, Param_Menu!$B$3+1, FALSE)","v":"Space heating"},{"$f":"VLOOKUP(H795,LanguageData,MATCH(LanguageChosen,Language[Language],0),FALSE) & \" - \" & B795","v":"Total gas/diesel oil - KT"},2020]
["RENEW","TJ",null,"SPACEHEAT","",null,null,"Renewables and wastes",{"$f":"VLOOKUP(D796, Param_Multilanguage!A:C, Param_Menu!$B$3+1, FALSE)","v":"Space heating"},{"$f":"VLOOKUP(H796,LanguageData,MATCH(LanguageChosen,Language[Language],0),FALSE) & \" - \" & B796","v":"Renewables and wastes - TJ"},2020]
["SOLARTH","TJ",null,"SPACEHEAT","",null,null,"Solar thermal",{"$f":"VLOOKUP(D797, Param_Multilanguage!A:C, Param_Menu!$B$3+1, FALSE)","v":"Space heating"},{"$f":"VLOOKUP(H797,LanguageData,MATCH(LanguageChosen,Language[Language],0),FALSE) & \" - \" & B797","v":"Solar thermal - TJ"},2020]
["BIOFUEL","TJ",null,"SPACEHEAT","",null,null,"Solid biofuels excluding charcoal",{"$f":"VLOOKUP(D798, Param_Multilanguage!A:C, Param_Menu!$B$3+1, FALSE)","v":"Space heating"},{"$f":"VLOOKUP(H798,LanguageData,MATCH(LanguageChosen,Language[Language],0),FALSE) & \" - \" & B798","v":"Solid biofuels excluding charcoal - TJ"},2020]
["BIOGASES","TJ",null,"SPACEHEAT","",null,null,"Biogases",{"$f":"VLOOKUP(D799, Param_Multilanguage!A:C, Param_Menu!$B$3+1, FALSE)","v":"Space heating"},{"$f":"VLOOKUP(H799,LanguageData,MATCH(LanguageChosen,Language[Language],0),FALSE) & \" - \" & B799","v":"Biogases - TJ"},2020]
["AMBIANT","TJ",null,"SPACEHEAT","",null,null,"Ambient heat",{"$f":"VLOOKUP(D800, Param_Multilanguage!A:C, Param_Menu!$B$3+1, FALSE)","v":"Space heating"},{"$f":"VLOOKUP(H800,LanguageData,MATCH(LanguageChosen,Language[Language],0),FALSE) & \" - \" & B800","v":"Ambient heat - TJ"},2020]
["ELEC","GWH",null,"SPACECOOL",null,null,null,"Electricity",{"$f":"VLOOKUP(D801, Param_Multilanguage!A:C, Param_Menu!$B$3+1, FALSE)","v":"Space cooling"},{"$f":"VLOOKUP(H801,LanguageData,MATCH(LanguageChosen,Language[Language],0),FALSE) & \" - \" & B801","v":"Electricity - GWH"},2020]
["HEAT","TJ",null,"SPACECOOL","",null,null,"Derived heat",{"$f":"VLOOKUP(D802, Param_Multilanguage!A:C, Param_Menu!$B$3+1, FALSE)","v":"Space cooling"},{"$f":"VLOOKUP(H802,LanguageData,MATCH(LanguageChosen,Language[Language],0),FALSE) & \" - \" & B802","v":"Derived heat - TJ"},2020]
["GAS","TJ_GCV",null,"SPACECOOL","",null,null,"Gas",{"$f":"VLOOKUP(D803, Param_Multilanguage!A:C, Param_Menu!$B$3+1, FALSE)","v":"Space cooling"},{"$f":"VLOOKUP(H803,LanguageData,MATCH(LanguageChosen,Language[Language],0),FALSE) & \" - \" & B803","v":"Gas - TJ_GCV"},2020]
["SOLIDFUEL","KT",null,"SPACECOOL","",null,null,"Solid fossil fuels",{"$f":"VLOOKUP(D804, Param_Multilanguage!A:C, Param_Menu!$B$3+1, FALSE)","v":"Space cooling"},{"$f":"VLOOKUP(H804,LanguageData,MATCH(LanguageChosen,Language[Language],0),FALSE) & \" - \" & B804","v":"Solid fossil fuels - KT"},2020]
["OIL","KT",null,"SPACECOOL","",null,null,"Total oil and petroleum products",{"$f":"VLOOKUP(D805, Param_Multilanguage!A:C, Param_Menu!$B$3+1, FALSE)","v":"Space cooling"},{"$f":"VLOOKUP(H805,LanguageData,MATCH(LanguageChosen,Language[Language],0),FALSE) & \" - \" & B805","v":"Total oil and petroleum products - KT"},2020]
["LPG","KT",null,"SPACECOOL","",null,null,"LPG",{"$f":"VLOOKUP(D806, Param_Multilanguage!A:C, Param_Menu!$B$3+1, FALSE)","v":"Space cooling"},{"$f":"VLOOKUP(H806,LanguageData,MATCH(LanguageChosen,Language[Language],0),FALSE) & \" - \" & B806","v":"LPG - KT"},2020]
["KEROSENE","KT",null,"SPACECOOL","",null,null,"Other kerosene",{"$f":"VLOOKUP(D807, Param_Multilanguage!A:C, Param_Menu!$B$3+1, FALSE)","v":"Space cooling"},{"$f":"VLOOKUP(H807,LanguageData,MATCH(LanguageChosen,Language[Language],0),FALSE) & \" - \" & B807","v":"Other kerosene - KT"},2020]
["GASOIL","KT",null,"SPACECOOL","",null,null,"Total gas/diesel oil",{"$f":"VLOOKUP(D808, Param_Multilanguage!A:C, Param_Menu!$B$3+1, FALSE)","v":"Space cooling"},{"$f":"VLOOKUP(H808,LanguageData,MATCH(LanguageChosen,Language[Language],0),FALSE) & \" - \" & B808","v":"Total gas/diesel oil - KT"},2020]
["RENEW","TJ",null,"SPACECOOL","",null,null,"Renewables and wastes",{"$f":"VLOOKUP(D809, Param_Multilanguage!A:C, Param_Menu!$B$3+1, FALSE)","v":"Space cooling"},{"$f":"VLOOKUP(H809,LanguageData,MATCH(LanguageChosen,Language[Language],0),FALSE) & \" - \" & B809","v":"Renewables and wastes - TJ"},2020]
["SOLARTH","TJ",null,"SPACECOOL","",null,null,"Solar thermal",{"$f":"VLOOKUP(D810, Param_Multilanguage!A:C, Param_Menu!$B$3+1, FALSE)","v":"Space cooling"},{"$f":"VLOOKUP(H810,LanguageData,MATCH(LanguageChosen,Language[Language],0),FALSE) & \" - \" & B810","v":"Solar thermal - TJ"},2020]
["BIOFUEL","TJ",null,"SPACECOOL","",null,null,"Solid biofuels excluding charcoal",{"$f":"VLOOKUP(D811, Param_Multilanguage!A:C, Param_Menu!$B$3+1, FALSE)","v":"Space cooling"},{"$f":"VLOOKUP(H811,LanguageData,MATCH(LanguageChosen,Language[Language],0),FALSE) & \" - \" & B811","v":"Solid biofuels excluding charcoal - TJ"},2020]
["BIOGASES","TJ",null,"SPACECOOL","",null,null,"Biogases",{"$f":"VLOOKUP(D812, Param_Multilanguage!A:C, Param_Menu!$B$3+1, FALSE)","v":"Space cooling"},{"$f":"VLOOKUP(H812,LanguageData,MATCH(LanguageChosen,Language[Language],0),FALSE) & \" - \" & B812","v":"Biogases - TJ"},2020]
["AMBIANT","TJ",null,"SPACECOOL","",null,null,"Ambient heat",{"$f":"VLOOKUP(D813, Param_Multilanguage!A:C, Param_Menu!$B$3+1, FALSE)","v":"Space cooling"},{"$f":"VLOOKUP(H813,LanguageData,MATCH(LanguageChosen,Language[Language],0),FALSE) & \" - \" & B813","v":"Ambient heat - TJ"},2020]
["ELEC","GWH",null,"WATERHEAT",null,null,null,"Electricity",{"$f":"VLOOKUP(D814, Param_Multilanguage!A:C, Param_Menu!$B$3+1, FALSE)","v":"Water heating"},{"$f":"VLOOKUP(H814,LanguageData,MATCH(LanguageChosen,Language[Language],0),FALSE) & \" - \" & B814","v":"Electricity - GWH"},2020]
["HEAT","TJ",null,"WATERHEAT","",null,null,"Derived heat",{"$f":"VLOOKUP(D815, Param_Multilanguage!A:C, Param_Menu!$B$3+1, FALSE)","v":"Water heating"},{"$f":"VLOOKUP(H815,LanguageData,MATCH(LanguageChosen,Language[Language],0),FALSE) & \" - \" & B815","v":"Derived heat - TJ"},2020]
["GAS","TJ_GCV",null,"WATERHEAT","",null,null,"Gas",{"$f":"VLOOKUP(D816, Param_Multilanguage!A:C, Param_Menu!$B$3+1, FALSE)","v":"Water heating"},{"$f":"VLOOKUP(H816,LanguageData,MATCH(LanguageChosen,Language[Language],0),FALSE) & \" - \" & B816","v":"Gas - TJ_GCV"},2020]
["SOLIDFUEL","KT",null,"WATERHEAT","",null,null,"Solid fossil fuels",{"$f":"VLOOKUP(D817, Param_Multilanguage!A:C, Param_Menu!$B$3+1, FALSE)","v":"Water heating"},{"$f":"VLOOKUP(H817,LanguageData,MATCH(LanguageChosen,Language[Language],0),FALSE) & \" - \" & B817","v":"Solid fossil fuels - KT"},2020]
["OIL","KT",null,"WATERHEAT","",null,null,"Total oil and petroleum products",{"$f":"VLOOKUP(D818, Param_Multilanguage!A:C, Param_Menu!$B$3+1, FALSE)","v":"Water heating"},{"$f":"VLOOKUP(H818,LanguageData,MATCH(LanguageChosen,Language[Language],0),FALSE) & \" - \" & B818","v":"Total oil and petroleum products - KT"},2020]
["LPG","KT",null,"WATERHEAT","",null,null,"LPG",{"$f":"VLOOKUP(D819, Param_Multilanguage!A:C, Param_Menu!$B$3+1, FALSE)","v":"Water heating"},{"$f":"VLOOKUP(H819,LanguageData,MATCH(LanguageChosen,Language[Language],0),FALSE) & \" - \" & B819","v":"LPG - KT"},2020]
["KEROSENE","KT",null,"WATERHEAT","",null,null,"Other kerosene",{"$f":"VLOOKUP(D820, Param_Multilanguage!A:C, Param_Menu!$B$3+1, FALSE)","v":"Water heating"},{"$f":"VLOOKUP(H820,LanguageData,MATCH(LanguageChosen,Language[Language],0),FALSE) & \" - \" & B820","v":"Other kerosene - KT"},2020]
["GASOIL","KT",null,"WATERHEAT","",null,null,"Total gas/diesel oil",{"$f":"VLOOKUP(D821, Param_Multilanguage!A:C, Param_Menu!$B$3+1, FALSE)","v":"Water heating"},{"$f":"VLOOKUP(H821,LanguageData,MATCH(LanguageChosen,Language[Language],0),FALSE) & \" - \" & B821","v":"Total gas/diesel oil - KT"},2020]
["RENEW","TJ",null,"WATERHEAT","",null,null,"Renewables and wastes",{"$f":"VLOOKUP(D822, Param_Multilanguage!A:C, Param_Menu!$B$3+1, FALSE)","v":"Water heating"},{"$f":"VLOOKUP(H822,LanguageData,MATCH(LanguageChosen,Language[Language],0),FALSE) & \" - \" & B822","v":"Renewables and wastes - TJ"},2020]
["SOLARTH","TJ",null,"WATERHEAT","",null,null,"Solar thermal",{"$f":"VLOOKUP(D823, Param_Multilanguage!A:C, Param_Menu!$B$3+1, FALSE)","v":"Water heating"},{"$f":"VLOOKUP(H823,LanguageData,MATCH(LanguageChosen,Language[Language],0),FALSE) & \" - \" & B823","v":"Solar thermal - TJ"},2020]
["BIOFUEL","TJ",null,"WATERHEAT","",null,null,"Solid biofuels excluding charcoal",{"$f":"VLOOKUP(D824, Param_Multilanguage!A:C, Param_Menu!$B$3+1, FALSE)","v":"Water heating"},{"$f":"VLOOKUP(H824,LanguageData,MATCH(LanguageChosen,Language[Language],0),FALSE) & \" - \" & B824","v":"Solid biofuels excluding charcoal - TJ"},2020]
["BIOGASES","TJ",null,"WATERHEAT","",null,null,"Biogases",{"$f":"VLOOKUP(D825, Param_Multilanguage!A:C, Param_Menu!$B$3+1, FALSE)","v":"Water heating"},{"$f":"VLOOKUP(H825,LanguageData,MATCH(LanguageChosen,Language[Language],0),FALSE) & \" - \" & B825","v":"Biogases - TJ"},2020]
["AMBIANT","TJ",null,"WATERHEAT","",null,null,"Ambient heat",{"$f":"VLOOKUP(D826, Param_Multilanguage!A:C, Param_Menu!$B$3+1, FALSE)","v":"Water heating"},{"$f":"VLOOKUP(H826,LanguageData,MATCH(LanguageChosen,Language[Language],0),FALSE) & \" - \" & B826","v":"Ambient heat - TJ"},2020]
["ELEC","GWH",null,"COOK",null,null,null,"Electricity",{"$f":"VLOOKUP(D827, Param_Multilanguage!A:C, Param_Menu!$B$3+1, FALSE)","v":"Cooking"},{"$f":"VLOOKUP(H827,LanguageData,MATCH(LanguageChosen,Language[Language],0),FALSE) & \" - \" & B827","v":"Electricity - GWH"},2020]
["HEAT","TJ",null,"COOK","",null,null,"Derived heat",{"$f":"VLOOKUP(D828, Param_Multilanguage!A:C, Param_Menu!$B$3+1, FALSE)","v":"Cooking"},{"$f":"VLOOKUP(H828,LanguageData,MATCH(LanguageChosen,Language[Language],0),FALSE) & \" - \" & B828","v":"Derived heat - TJ"},2020]
["GAS","TJ_GCV",null,"COOK","",null,null,"Gas",{"$f":"VLOOKUP(D829, Param_Multilanguage!A:C, Param_Menu!$B$3+1, FALSE)","v":"Cooking"},{"$f":"VLOOKUP(H829,LanguageData,MATCH(LanguageChosen,Language[Language],0),FALSE) & \" - \" & B829","v":"Gas - TJ_GCV"},2020]
["SOLIDFUEL","KT",null,"COOK","",null,null,"Solid fossil fuels",{"$f":"VLOOKUP(D830, Param_Multilanguage!A:C, Param_Menu!$B$3+1, FALSE)","v":"Cooking"},{"$f":"VLOOKUP(H830,LanguageData,MATCH(LanguageChosen,Language[Language],0),FALSE) & \" - \" & B830","v":"Solid fossil fuels - KT"},2020]
["OIL","KT",null,"COOK","",null,null,"Total oil and petroleum products",{"$f":"VLOOKUP(D831, Param_Multilanguage!A:C, Param_Menu!$B$3+1, FALSE)","v":"Cooking"},{"$f":"VLOOKUP(H831,LanguageData,MATCH(LanguageChosen,Language[Language],0),FALSE) & \" - \" & B831","v":"Total oil and petroleum products - KT"},2020]
["LPG","KT",null,"COOK","",null,null,"LPG",{"$f":"VLOOKUP(D832, Param_Multilanguage!A:C, Param_Menu!$B$3+1, FALSE)","v":"Cooking"},{"$f":"VLOOKUP(H832,LanguageData,MATCH(LanguageChosen,Language[Language],0),FALSE) & \" - \" & B832","v":"LPG - KT"},2020]
["KEROSENE","KT",null,"COOK","",null,null,"Other kerosene",{"$f":"VLOOKUP(D833, Param_Multilanguage!A:C, Param_Menu!$B$3+1, FALSE)","v":"Cooking"},{"$f":"VLOOKUP(H833,LanguageData,MATCH(LanguageChosen,Language[Language],0),FALSE) & \" - \" & B833","v":"Other kerosene - KT"},2020]
["GASOIL","KT",null,"COOK","",null,null,"Total gas/diesel oil",{"$f":"VLOOKUP(D834, Param_Multilanguage!A:C, Param_Menu!$B$3+1, FALSE)","v":"Cooking"},{"$f":"VLOOKUP(H834,LanguageData,MATCH(LanguageChosen,Language[Language],0),FALSE) & \" - \" & B834","v":"Total gas/diesel oil - KT"},2020]
["RENEW","TJ",null,"COOK","",null,null,"Renewables and wastes",{"$f":"VLOOKUP(D835, Param_Multilanguage!A:C, Param_Menu!$B$3+1, FALSE)","v":"Cooking"},{"$f":"VLOOKUP(H835,LanguageData,MATCH(LanguageChosen,Language[Language],0),FALSE) & \" - \" & B835","v":"Renewables and wastes - TJ"},2020]
["SOLARTH","TJ",null,"COOK","",null,null,"Solar thermal",{"$f":"VLOOKUP(D836, Param_Multilanguage!A:C, Param_Menu!$B$3+1, FALSE)","v":"Cooking"},{"$f":"VLOOKUP(H836,LanguageData,MATCH(LanguageChosen,Language[Language],0),FALSE) & \" - \" & B836","v":"Solar thermal - TJ"},2020]
["BIOFUEL","TJ",null,"COOK","",null,null,"Solid biofuels excluding charcoal",{"$f":"VLOOKUP(D837, Param_Multilanguage!A:C, Param_Menu!$B$3+1, FALSE)","v":"Cooking"},{"$f":"VLOOKUP(H837,LanguageData,MATCH(LanguageChosen,Language[Language],0),FALSE) & \" - \" & B837","v":"Solid biofuels excluding charcoal - TJ"},2020]
["BIOGASES","TJ",null,"COOK","",null,null,"Biogases",{"$f":"VLOOKUP(D838, Param_Multilanguage!A:C, Param_Menu!$B$3+1, FALSE)","v":"Cooking"},{"$f":"VLOOKUP(H838,LanguageData,MATCH(LanguageChosen,Language[Language],0),FALSE) & \" - \" & B838","v":"Biogases - TJ"},2020]
["AMBIANT","TJ",null,"COOK","",null,null,"Ambient heat",{"$f":"VLOOKUP(D839, Param_Multilanguage!A:C, Param_Menu!$B$3+1, FALSE)","v":"Cooking"},{"$f":"VLOOKUP(H839,LanguageData,MATCH(LanguageChosen,Language[Language],0),FALSE) & \" - \" & B839","v":"Ambient heat - TJ"},2020]
["ELEC","GWH",null,"LIGHTAPP",null,null,null,"Electricity",{"$f":"VLOOKUP(D840, Param_Multilanguage!A:C, Param_Menu!$B$3+1, FALSE)","v":"Lighting and appliances"},{"$f":"VLOOKUP(H840,LanguageData,MATCH(LanguageChosen,Language[Language],0),FALSE) & \" - \" & B840","v":"Electricity - GWH"},2020]
["HEAT","TJ",null,"LIGHTAPP","",null,null,"Derived heat",{"$f":"VLOOKUP(D841, Param_Multilanguage!A:C, Param_Menu!$B$3+1, FALSE)","v":"Lighting and appliances"},{"$f":"VLOOKUP(H841,LanguageData,MATCH(LanguageChosen,Language[Language],0),FALSE) & \" - \" & B841","v":"Derived heat - TJ"},2020]
["GAS","TJ_GCV",null,"LIGHTAPP","",null,null,"Gas",{"$f":"VLOOKUP(D842, Param_Multilanguage!A:C, Param_Menu!$B$3+1, FALSE)","v":"Lighting and appliances"},{"$f":"VLOOKUP(H842,LanguageData,MATCH(LanguageChosen,Language[Language],0),FALSE) & \" - \" & B842","v":"Gas - TJ_GCV"},2020]
["SOLIDFUEL","KT",null,"LIGHTAPP","",null,null,"Solid fossil fuels",{"$f":"VLOOKUP(D843, Param_Multilanguage!A:C, Param_Menu!$B$3+1, FALSE)","v":"Lighting and appliances"},{"$f":"VLOOKUP(H843,LanguageData,MATCH(LanguageChosen,Language[Language],0),FALSE) & \" - \" & B843","v":"Solid fossil fuels - KT"},2020]
["OIL","KT",null,"LIGHTAPP","",null,null,"Total oil and petroleum products",{"$f":"VLOOKUP(D844, Param_Multilanguage!A:C, Param_Menu!$B$3+1, FALSE)","v":"Lighting and appliances"},{"$f":"VLOOKUP(H844,LanguageData,MATCH(LanguageChosen,Language[Language],0),FALSE) & \" - \" & B844","v":"Total oil and petroleum products - KT"},2020]
["LPG","KT",null,"LIGHTAPP","",null,null,"LPG",{"$f":"VLOOKUP(D845, Param_Multilanguage!A:C, Param_Menu!$B$3+1, FALSE)","v":"Lighting and appliances"},{"$f":"VLOOKUP(H845,LanguageData,MATCH(LanguageChosen,Language[Language],0),FALSE) & \" - \" & B845","v":"LPG - KT"},2020]
["KEROSENE","KT",null,"LIGHTAPP","",null,null,"Other kerosene",{"$f":"VLOOKUP(D846, Param_Multilanguage!A:C, Param_Menu!$B$3+1, FALSE)","v":"Lighting and appliances"},{"$f":"VLOOKUP(H846,LanguageData,MATCH(LanguageChosen,Language[Language],0),FALSE) & \" - \" & B846","v":"Other kerosene - KT"},2020]
["GASOIL","KT",null,"LIGHTAPP","",null,null,"Total gas/diesel oil",{"$f":"VLOOKUP(D847, Param_Multilanguage!A:C, Param_Menu!$B$3+1, FALSE)","v":"Lighting and appliances"},{"$f":"VLOOKUP(H847,LanguageData,MATCH(LanguageChosen,Language[Language],0),FALSE) & \" - \" & B847","v":"Total gas/diesel oil - KT"},2020]
["RENEW","TJ",null,"LIGHTAPP","",null,null,"Renewables and wastes",{"$f":"VLOOKUP(D848, Param_Multilanguage!A:C, Param_Menu!$B$3+1, FALSE)","v":"Lighting and appliances"},{"$f":"VLOOKUP(H848,LanguageData,MATCH(LanguageChosen,Language[Language],0),FALSE) & \" - \" & B848","v":"Renewables and wastes - TJ"},2020]
["SOLARTH","TJ",null,"LIGHTAPP","",null,null,"Solar thermal",{"$f":"VLOOKUP(D849, Param_Multilanguage!A:C, Param_Menu!$B$3+1, FALSE)","v":"Lighting and appliances"},{"$f":"VLOOKUP(H849,LanguageData,MATCH(LanguageChosen,Language[Language],0),FALSE) & \" - \" & B849","v":"Solar thermal - TJ"},2020]
["BIOFUEL","TJ",null,"LIGHTAPP","",null,null,"Solid biofuels excluding charcoal",{"$f":"VLOOKUP(D850, Param_Multilanguage!A:C, Param_Menu!$B$3+1, FALSE)","v":"Lighting and appliances"},{"$f":"VLOOKUP(H850,LanguageData,MATCH(LanguageChosen,Language[Language],0),FALSE) & \" - \" & B850","v":"Solid biofuels excluding charcoal - TJ"},2020]
["BIOGASES","TJ",null,"LIGHTAPP","",null,null,"Biogases",{"$f":"VLOOKUP(D851, Param_Multilanguage!A:C, Param_Menu!$B$3+1, FALSE)","v":"Lighting and appliances"},{"$f":"VLOOKUP(H851,LanguageData,MATCH(LanguageChosen,Language[Language],0),FALSE) & \" - \" & B851","v":"Biogases - TJ"},2020]
["AMBIANT","TJ",null,"LIGHTAPP","",null,null,"Ambient heat",{"$f":"VLOOKUP(D852, Param_Multilanguage!A:C, Param_Menu!$B$3+1, FALSE)","v":"Lighting and appliances"},{"$f":"VLOOKUP(H852,LanguageData,MATCH(LanguageChosen,Language[Language],0),FALSE) & \" - \" & B852","v":"Ambient heat - TJ"},2020]
["ELEC","GWH",null,"RESOTH",null,null,null,"Electricity",{"$f":"VLOOKUP(D853, Param_Multilanguage!A:C, Param_Menu!$B$3+1, FALSE)","v":"Other end uses"},{"$f":"VLOOKUP(H853,LanguageData,MATCH(LanguageChosen,Language[Language],0),FALSE) & \" - \" & B853","v":"Electricity - GWH"},2020]
["HEAT","TJ",null,"RESOTH","",null,null,"Derived heat",{"$f":"VLOOKUP(D854, Param_Multilanguage!A:C, Param_Menu!$B$3+1, FALSE)","v":"Other end uses"},{"$f":"VLOOKUP(H854,LanguageData,MATCH(LanguageChosen,Language[Language],0),FALSE) & \" - \" & B854","v":"Derived heat - TJ"},2020]
["GAS","TJ_GCV",null,"RESOTH","",null,null,"Gas",{"$f":"VLOOKUP(D855, Param_Multilanguage!A:C, Param_Menu!$B$3+1, FALSE)","v":"Other end uses"},{"$f":"VLOOKUP(H855,LanguageData,MATCH(LanguageChosen,Language[Language],0),FALSE) & \" - \" & B855","v":"Gas - TJ_GCV"},2020]
["SOLIDFUEL","KT",null,"RESOTH","",null,null,"Solid fossil fuels",{"$f":"VLOOKUP(D856, Param_Multilanguage!A:C, Param_Menu!$B$3+1, FALSE)","v":"Other end uses"},{"$f":"VLOOKUP(H856,LanguageData,MATCH(LanguageChosen,Language[Language],0),FALSE) & \" - \" & B856","v":"Solid fossil fuels - KT"},2020]
["OIL","KT",null,"RESOTH","",null,null,"Total oil and petroleum products",{"$f":"VLOOKUP(D857, Param_Multilanguage!A:C, Param_Menu!$B$3+1, FALSE)","v":"Other end uses"},{"$f":"VLOOKUP(H857,LanguageData,MATCH(LanguageChosen,Language[Language],0),FALSE) & \" - \" & B857","v":"Total oil and petroleum products - KT"},2020]
["LPG","KT",null,"RESOTH","",null,null,"LPG",{"$f":"VLOOKUP(D858, Param_Multilanguage!A:C, Param_Menu!$B$3+1, FALSE)","v":"Other end uses"},{"$f":"VLOOKUP(H858,LanguageData,MATCH(LanguageChosen,Language[Language],0),FALSE) & \" - \" & B858","v":"LPG - KT"},2020]
["KEROSENE","KT",null,"RESOTH","",null,null,"Other kerosene",{"$f":"VLOOKUP(D859, Param_Multilanguage!A:C, Param_Menu!$B$3+1, FALSE)","v":"Other end uses"},{"$f":"VLOOKUP(H859,LanguageData,MATCH(LanguageChosen,Language[Language],0),FALSE) & \" - \" & B859","v":"Other kerosene - KT"},2020]
["GASOIL","KT",null,"RESOTH","",null,null,"Total gas/diesel oil",{"$f":"VLOOKUP(D860, Param_Multilanguage!A:C, Param_Menu!$B$3+1, FALSE)","v":"Other end uses"},{"$f":"VLOOKUP(H860,LanguageData,MATCH(LanguageChosen,Language[Language],0),FALSE) & \" - \" & B860","v":"Total gas/diesel oil - KT"},2020]
["RENEW","TJ",null,"RESOTH","",null,null,"Renewables and wastes",{"$f":"VLOOKUP(D861, Param_Multilanguage!A:C, Param_Menu!$B$3+1, FALSE)","v":"Other end uses"},{"$f":"VLOOKUP(H861,LanguageData,MATCH(LanguageChosen,Language[Language],0),FALSE) & \" - \" & B861","v":"Renewables and wastes - TJ"},2020]
["SOLARTH","TJ",null,"RESOTH","",null,null,"Solar thermal",{"$f":"VLOOKUP(D862, Param_Multilanguage!A:C, Param_Menu!$B$3+1, FALSE)","v":"Other end uses"},{"$f":"VLOOKUP(H862,LanguageData,MATCH(LanguageChosen,Language[Language],0),FALSE) & \" - \" & B862","v":"Solar thermal - TJ"},2020]
["BIOFUEL","TJ",null,"RESOTH","",null,null,"Solid biofuels excluding charcoal",{"$f":"VLOOKUP(D863, Param_Multilanguage!A:C, Param_Menu!$B$3+1, FALSE)","v":"Other end uses"},{"$f":"VLOOKUP(H863,LanguageData,MATCH(LanguageChosen,Language[Language],0),FALSE) & \" - \" & B863","v":"Solid biofuels excluding charcoal - TJ"},2020]
["BIOGASES","TJ",null,"RESOTH","",null,null,"Biogases",{"$f":"VLOOKUP(D864, Param_Multilanguage!A:C, Param_Menu!$B$3+1, FALSE)","v":"Other end uses"},{"$f":"VLOOKUP(H864,LanguageData,MATCH(LanguageChosen,Language[Language],0),FALSE) & \" - \" & B864","v":"Biogases - TJ"},2020]
["AMBIANT","TJ",null,"RESOTH","",null,null,"Ambient heat",{"$f":"VLOOKUP(D865, Param_Multilanguage!A:C, Param_Menu!$B$3+1, FALSE)","v":"Other end uses"},{"$f":"VLOOKUP(H865,LanguageData,MATCH(LanguageChosen,Language[Language],0),FALSE) & \" - \" & B865","v":"Ambient heat - TJ"},2020]
["ELEC","GWH",null,"SPACEHEAT",null,null,null,"Electricity",{"$f":"VLOOKUP(D866, Param_Multilanguage!A:C, Param_Menu!$B$3+1, FALSE)","v":"Space heating"},{"$f":"VLOOKUP(H866,LanguageData,MATCH(LanguageChosen,Language[Language],0),FALSE) & \" - \" & B866","v":"Electricity - GWH"},2021]
["HEAT","TJ",null,"SPACEHEAT","",null,null,"Derived heat",{"$f":"VLOOKUP(D867, Param_Multilanguage!A:C, Param_Menu!$B$3+1, FALSE)","v":"Space heating"},{"$f":"VLOOKUP(H867,LanguageData,MATCH(LanguageChosen,Language[Language],0),FALSE) & \" - \" & B867","v":"Derived heat - TJ"},2021]
["GAS","TJ_GCV",null,"SPACEHEAT","",null,null,"Gas",{"$f":"VLOOKUP(D868, Param_Multilanguage!A:C, Param_Menu!$B$3+1, FALSE)","v":"Space heating"},{"$f":"VLOOKUP(H868,LanguageData,MATCH(LanguageChosen,Language[Language],0),FALSE) & \" - \" & B868","v":"Gas - TJ_GCV"},2021]
["SOLIDFUEL","KT",null,"SPACEHEAT","",null,null,"Solid fossil fuels",{"$f":"VLOOKUP(D869, Param_Multilanguage!A:C, Param_Menu!$B$3+1, FALSE)","v":"Space heating"},{"$f":"VLOOKUP(H869,LanguageData,MATCH(LanguageChosen,Language[Language],0),FALSE) & \" - \" & B869","v":"Solid fossil fuels - KT"},2021]
["OIL","KT",null,"SPACEHEAT","",null,null,"Total oil and petroleum products",{"$f":"VLOOKUP(D870, Param_Multilanguage!A:C, Param_Menu!$B$3+1, FALSE)","v":"Space heating"},{"$f":"VLOOKUP(H870,LanguageData,MATCH(LanguageChosen,Language[Language],0),FALSE) & \" - \" & B870","v":"Total oil and petroleum products - KT"},2021]
["LPG","KT",null,"SPACEHEAT","",null,null,"LPG",{"$f":"VLOOKUP(D871, Param_Multilanguage!A:C, Param_Menu!$B$3+1, FALSE)","v":"Space heating"},{"$f":"VLOOKUP(H871,LanguageData,MATCH(LanguageChosen,Language[Language],0),FALSE) & \" - \" & B871","v":"LPG - KT"},2021]
["KEROSENE","KT",null,"SPACEHEAT","",null,null,"Other kerosene",{"$f":"VLOOKUP(D872, Param_Multilanguage!A:C, Param_Menu!$B$3+1, FALSE)","v":"Space heating"},{"$f":"VLOOKUP(H872,LanguageData,MATCH(LanguageChosen,Language[Language],0),FALSE) & \" - \" & B872","v":"Other kerosene - KT"},2021]
["GASOIL","KT",null,"SPACEHEAT","",null,null,"Total gas/diesel oil",{"$f":"VLOOKUP(D873, Param_Multilanguage!A:C, Param_Menu!$B$3+1, FALSE)","v":"Space heating"},{"$f":"VLOOKUP(H873,LanguageData,MATCH(LanguageChosen,Language[Language],0),FALSE) & \" - \" & B873","v":"Total gas/diesel oil - KT"},2021]
["RENEW","TJ",null,"SPACEHEAT","",null,null,"Renewables and wastes",{"$f":"VLOOKUP(D874, Param_Multilanguage!A:C, Param_Menu!$B$3+1, FALSE)","v":"Space heating"},{"$f":"VLOOKUP(H874,LanguageData,MATCH(LanguageChosen,Language[Language],0),FALSE) & \" - \" & B874","v":"Renewables and wastes - TJ"},2021]
["SOLARTH","TJ",null,"SPACEHEAT","",null,null,"Solar thermal",{"$f":"VLOOKUP(D875, Param_Multilanguage!A:C, Param_Menu!$B$3+1, FALSE)","v":"Space heating"},{"$f":"VLOOKUP(H875,LanguageData,MATCH(LanguageChosen,Language[Language],0),FALSE) & \" - \" & B875","v":"Solar thermal - TJ"},2021]
["BIOFUEL","TJ",null,"SPACEHEAT","",null,null,"Solid biofuels excluding charcoal",{"$f":"VLOOKUP(D876, Param_Multilanguage!A:C, Param_Menu!$B$3+1, FALSE)","v":"Space heating"},{"$f":"VLOOKUP(H876,LanguageData,MATCH(LanguageChosen,Language[Language],0),FALSE) & \" - \" & B876","v":"Solid biofuels excluding charcoal - TJ"},2021]
["BIOGASES","TJ",null,"SPACEHEAT","",null,null,"Biogases",{"$f":"VLOOKUP(D877, Param_Multilanguage!A:C, Param_Menu!$B$3+1, FALSE)","v":"Space heating"},{"$f":"VLOOKUP(H877,LanguageData,MATCH(LanguageChosen,Language[Language],0),FALSE) & \" - \" & B877","v":"Biogases - TJ"},2021]
["AMBIANT","TJ",null,"SPACEHEAT","",null,null,"Ambient heat",{"$f":"VLOOKUP(D878, Param_Multilanguage!A:C, Param_Menu!$B$3+1, FALSE)","v":"Space heating"},{"$f":"VLOOKUP(H878,LanguageData,MATCH(LanguageChosen,Language[Language],0),FALSE) & \" - \" & B878","v":"Ambient heat - TJ"},2021]
["ELEC","GWH",null,"SPACECOOL",null,null,null,"Electricity",{"$f":"VLOOKUP(D879, Param_Multilanguage!A:C, Param_Menu!$B$3+1, FALSE)","v":"Space cooling"},{"$f":"VLOOKUP(H879,LanguageData,MATCH(LanguageChosen,Language[Language],0),FALSE) & \" - \" & B879","v":"Electricity - GWH"},2021]
["HEAT","TJ",null,"SPACECOOL","",null,null,"Derived heat",{"$f":"VLOOKUP(D880, Param_Multilanguage!A:C, Param_Menu!$B$3+1, FALSE)","v":"Space cooling"},{"$f":"VLOOKUP(H880,LanguageData,MATCH(LanguageChosen,Language[Language],0),FALSE) & \" - \" & B880","v":"Derived heat - TJ"},2021]
["GAS","TJ_GCV",null,"SPACECOOL","",null,null,"Gas",{"$f":"VLOOKUP(D881, Param_Multilanguage!A:C, Param_Menu!$B$3+1, FALSE)","v":"Space cooling"},{"$f":"VLOOKUP(H881,LanguageData,MATCH(LanguageChosen,Language[Language],0),FALSE) & \" - \" & B881","v":"Gas - TJ_GCV"},2021]
["SOLIDFUEL","KT",null,"SPACECOOL","",null,null,"Solid fossil fuels",{"$f":"VLOOKUP(D882, Param_Multilanguage!A:C, Param_Menu!$B$3+1, FALSE)","v":"Space cooling"},{"$f":"VLOOKUP(H882,LanguageData,MATCH(LanguageChosen,Language[Language],0),FALSE) & \" - \" & B882","v":"Solid fossil fuels - KT"},2021]
["OIL","KT",null,"SPACECOOL","",null,null,"Total oil and petroleum products",{"$f":"VLOOKUP(D883, Param_Multilanguage!A:C, Param_Menu!$B$3+1, FALSE)","v":"Space cooling"},{"$f":"VLOOKUP(H883,LanguageData,MATCH(LanguageChosen,Language[Language],0),FALSE) & \" - \" & B883","v":"Total oil and petroleum products - KT"},2021]
["LPG","KT",null,"SPACECOOL","",null,null,"LPG",{"$f":"VLOOKUP(D884, Param_Multilanguage!A:C, Param_Menu!$B$3+1, FALSE)","v":"Space cooling"},{"$f":"VLOOKUP(H884,LanguageData,MATCH(LanguageChosen,Language[Language],0),FALSE) & \" - \" & B884","v":"LPG - KT"},2021]
["KEROSENE","KT",null,"SPACECOOL","",null,null,"Other kerosene",{"$f":"VLOOKUP(D885, Param_Multilanguage!A:C, Param_Menu!$B$3+1, FALSE)","v":"Space cooling"},{"$f":"VLOOKUP(H885,LanguageData,MATCH(LanguageChosen,Language[Language],0),FALSE) & \" - \" & B885","v":"Other kerosene - KT"},2021]
["GASOIL","KT",null,"SPACECOOL","",null,null,"Total gas/diesel oil",{"$f":"VLOOKUP(D886, Param_Multilanguage!A:C, Param_Menu!$B$3+1, FALSE)","v":"Space cooling"},{"$f":"VLOOKUP(H886,LanguageData,MATCH(LanguageChosen,Language[Language],0),FALSE) & \" - \" & B886","v":"Total gas/diesel oil - KT"},2021]
["RENEW","TJ",null,"SPACECOOL","",null,null,"Renewables and wastes",{"$f":"VLOOKUP(D887, Param_Multilanguage!A:C, Param_Menu!$B$3+1, FALSE)","v":"Space cooling"},{"$f":"VLOOKUP(H887,LanguageData,MATCH(LanguageChosen,Language[Language],0),FALSE) & \" - \" & B887","v":"Renewables and wastes - TJ"},2021]
["SOLARTH","TJ",null,"SPACECOOL","",null,null,"Solar thermal",{"$f":"VLOOKUP(D888, Param_Multilanguage!A:C, Param_Menu!$B$3+1, FALSE)","v":"Space cooling"},{"$f":"VLOOKUP(H888,LanguageData,MATCH(LanguageChosen,Language[Language],0),FALSE) & \" - \" & B888","v":"Solar thermal - TJ"},2021]
["BIOFUEL","TJ",null,"SPACECOOL","",null,null,"Solid biofuels excluding charcoal",{"$f":"VLOOKUP(D889, Param_Multilanguage!A:C, Param_Menu!$B$3+1, FALSE)","v":"Space cooling"},{"$f":"VLOOKUP(H889,LanguageData,MATCH(LanguageChosen,Language[Language],0),FALSE) & \" - \" & B889","v":"Solid biofuels excluding charcoal - TJ"},2021]
["BIOGASES","TJ",null,"SPACECOOL","",null,null,"Biogases",{"$f":"VLOOKUP(D890, Param_Multilanguage!A:C, Param_Menu!$B$3+1, FALSE)","v":"Space cooling"},{"$f":"VLOOKUP(H890,LanguageData,MATCH(LanguageChosen,Language[Language],0),FALSE) & \" - \" & B890","v":"Biogases - TJ"},2021]
["AMBIANT","TJ",null,"SPACECOOL","",null,null,"Ambient heat",{"$f":"VLOOKUP(D891, Param_Multilanguage!A:C, Param_Menu!$B$3+1, FALSE)","v":"Space cooling"},{"$f":"VLOOKUP(H891,LanguageData,MATCH(LanguageChosen,Language[Language],0),FALSE) & \" - \" & B891","v":"Ambient heat - TJ"},2021]
["ELEC","GWH",null,"WATERHEAT",null,null,null,"Electricity",{"$f":"VLOOKUP(D892, Param_Multilanguage!A:C, Param_Menu!$B$3+1, FALSE)","v":"Water heating"},{"$f":"VLOOKUP(H892,LanguageData,MATCH(LanguageChosen,Language[Language],0),FALSE) & \" - \" & B892","v":"Electricity - GWH"},2021]
["HEAT","TJ",null,"WATERHEAT","",null,null,"Derived heat",{"$f":"VLOOKUP(D893, Param_Multilanguage!A:C, Param_Menu!$B$3+1, FALSE)","v":"Water heating"},{"$f":"VLOOKUP(H893,LanguageData,MATCH(LanguageChosen,Language[Language],0),FALSE) & \" - \" & B893","v":"Derived heat - TJ"},2021]
["GAS","TJ_GCV",null,"WATERHEAT","",null,null,"Gas",{"$f":"VLOOKUP(D894, Param_Multilanguage!A:C, Param_Menu!$B$3+1, FALSE)","v":"Water heating"},{"$f":"VLOOKUP(H894,LanguageData,MATCH(LanguageChosen,Language[Language],0),FALSE) & \" - \" & B894","v":"Gas - TJ_GCV"},2021]
["SOLIDFUEL","KT",null,"WATERHEAT","",null,null,"Solid fossil fuels",{"$f":"VLOOKUP(D895, Param_Multilanguage!A:C, Param_Menu!$B$3+1, FALSE)","v":"Water heating"},{"$f":"VLOOKUP(H895,LanguageData,MATCH(LanguageChosen,Language[Language],0),FALSE) & \" - \" & B895","v":"Solid fossil fuels - KT"},2021]
["OIL","KT",null,"WATERHEAT","",null,null,"Total oil and petroleum products",{"$f":"VLOOKUP(D896, Param_Multilanguage!A:C, Param_Menu!$B$3+1, FALSE)","v":"Water heating"},{"$f":"VLOOKUP(H896,LanguageData,MATCH(LanguageChosen,Language[Language],0),FALSE) & \" - \" & B896","v":"Total oil and petroleum products - KT"},2021]
["LPG","KT",null,"WATERHEAT","",null,null,"LPG",{"$f":"VLOOKUP(D897, Param_Multilanguage!A:C, Param_Menu!$B$3+1, FALSE)","v":"Water heating"},{"$f":"VLOOKUP(H897,LanguageData,MATCH(LanguageChosen,Language[Language],0),FALSE) & \" - \" & B897","v":"LPG - KT"},2021]
["KEROSENE","KT",null,"WATERHEAT","",null,null,"Other kerosene",{"$f":"VLOOKUP(D898, Param_Multilanguage!A:C, Param_Menu!$B$3+1, FALSE)","v":"Water heating"},{"$f":"VLOOKUP(H898,LanguageData,MATCH(LanguageChosen,Language[Language],0),FALSE) & \" - \" & B898","v":"Other kerosene - KT"},2021]
["GASOIL","KT",null,"WATERHEAT","",null,null,"Total gas/diesel oil",{"$f":"VLOOKUP(D899, Param_Multilanguage!A:C, Param_Menu!$B$3+1, FALSE)","v":"Water heating"},{"$f":"VLOOKUP(H899,LanguageData,MATCH(LanguageChosen,Language[Language],0),FALSE) & \" - \" & B899","v":"Total gas/diesel oil - KT"},2021]
["RENEW","TJ",null,"WATERHEAT","",null,null,"Renewables and wastes",{"$f":"VLOOKUP(D900, Param_Multilanguage!A:C, Param_Menu!$B$3+1, FALSE)","v":"Water heating"},{"$f":"VLOOKUP(H900,LanguageData,MATCH(LanguageChosen,Language[Language],0),FALSE) & \" - \" & B900","v":"Renewables and wastes - TJ"},2021]
["SOLARTH","TJ",null,"WATERHEAT","",null,null,"Solar thermal",{"$f":"VLOOKUP(D901, Param_Multilanguage!A:C, Param_Menu!$B$3+1, FALSE)","v":"Water heating"},{"$f":"VLOOKUP(H901,LanguageData,MATCH(LanguageChosen,Language[Language],0),FALSE) & \" - \" & B901","v":"Solar thermal - TJ"},2021]
["BIOFUEL","TJ",null,"WATERHEAT","",null,null,"Solid biofuels excluding charcoal",{"$f":"VLOOKUP(D902, Param_Multilanguage!A:C, Param_Menu!$B$3+1, FALSE)","v":"Water heating"},{"$f":"VLOOKUP(H902,LanguageData,MATCH(LanguageChosen,Language[Language],0),FALSE) & \" - \" & B902","v":"Solid biofuels excluding charcoal - TJ"},2021]
["BIOGASES","TJ",null,"WATERHEAT","",null,null,"Biogases",{"$f":"VLOOKUP(D903, Param_Multilanguage!A:C, Param_Menu!$B$3+1, FALSE)","v":"Water heating"},{"$f":"VLOOKUP(H903,LanguageData,MATCH(LanguageChosen,Language[Language],0),FALSE) & \" - \" & B903","v":"Biogases - TJ"},2021]
["AMBIANT","TJ",null,"WATERHEAT","",null,null,"Ambient heat",{"$f":"VLOOKUP(D904, Param_Multilanguage!A:C, Param_Menu!$B$3+1, FALSE)","v":"Water heating"},{"$f":"VLOOKUP(H904,LanguageData,MATCH(LanguageChosen,Language[Language],0),FALSE) & \" - \" & B904","v":"Ambient heat - TJ"},2021]
["ELEC","GWH",null,"COOK",null,null,null,"Electricity",{"$f":"VLOOKUP(D905, Param_Multilanguage!A:C, Param_Menu!$B$3+1, FALSE)","v":"Cooking"},{"$f":"VLOOKUP(H905,LanguageData,MATCH(LanguageChosen,Language[Language],0),FALSE) & \" - \" & B905","v":"Electricity - GWH"},2021]
["HEAT","TJ",null,"COOK","",null,null,"Derived heat",{"$f":"VLOOKUP(D906, Param_Multilanguage!A:C, Param_Menu!$B$3+1, FALSE)","v":"Cooking"},{"$f":"VLOOKUP(H906,LanguageData,MATCH(LanguageChosen,Language[Language],0),FALSE) & \" - \" & B906","v":"Derived heat - TJ"},2021]
["GAS","TJ_GCV",null,"COOK","",null,null,"Gas",{"$f":"VLOOKUP(D907, Param_Multilanguage!A:C, Param_Menu!$B$3+1, FALSE)","v":"Cooking"},{"$f":"VLOOKUP(H907,LanguageData,MATCH(LanguageChosen,Language[Language],0),FALSE) & \" - \" & B907","v":"Gas - TJ_GCV"},2021]
["SOLIDFUEL","KT",null,"COOK","",null,null,"Solid fossil fuels",{"$f":"VLOOKUP(D908, Param_Multilanguage!A:C, Param_Menu!$B$3+1, FALSE)","v":"Cooking"},{"$f":"VLOOKUP(H908,LanguageData,MATCH(LanguageChosen,Language[Language],0),FALSE) & \" - \" & B908","v":"Solid fossil fuels - KT"},2021]
["OIL","KT",null,"COOK","",null,null,"Total oil and petroleum products",{"$f":"VLOOKUP(D909, Param_Multilanguage!A:C, Param_Menu!$B$3+1, FALSE)","v":"Cooking"},{"$f":"VLOOKUP(H909,LanguageData,MATCH(LanguageChosen,Language[Language],0),FALSE) & \" - \" & B909","v":"Total oil and petroleum products - KT"},2021]
["LPG","KT",null,"COOK","",null,null,"LPG",{"$f":"VLOOKUP(D910, Param_Multilanguage!A:C, Param_Menu!$B$3+1, FALSE)","v":"Cooking"},{"$f":"VLOOKUP(H910,LanguageData,MATCH(LanguageChosen,Language[Language],0),FALSE) & \" - \" & B910","v":"LPG - KT"},2021]
["KEROSENE","KT",null,"COOK","",null,null,"Other kerosene",{"$f":"VLOOKUP(D911, Param_Multilanguage!A:C, Param_Menu!$B$3+1, FALSE)","v":"Cooking"},{"$f":"VLOOKUP(H911,LanguageData,MATCH(LanguageChosen,Language[Language],0),FALSE) & \" - \" & B911","v":"Other kerosene - KT"},2021]
["GASOIL","KT",null,"COOK","",null,null,"Total gas/diesel oil",{"$f":"VLOOKUP(D912, Param_Multilanguage!A:C, Param_Menu!$B$3+1, FALSE)","v":"Cooking"},{"$f":"VLOOKUP(H912,LanguageData,MATCH(LanguageChosen,Language[Language],0),FALSE) & \" - \" & B912","v":"Total gas/diesel oil - KT"},2021]
["RENEW","TJ",null,"COOK","",null,null,"Renewables and wastes",{"$f":"VLOOKUP(D913, Param_Multilanguage!A:C, Param_Menu!$B$3+1, FALSE)","v":"Cooking"},{"$f":"VLOOKUP(H913,LanguageData,MATCH(LanguageChosen,Language[Language],0),FALSE) & \" - \" & B913","v":"Renewables and wastes - TJ"},2021]
["SOLARTH","TJ",null,"COOK","",null,null,"Solar thermal",{"$f":"VLOOKUP(D914, Param_Multilanguage!A:C, Param_Menu!$B$3+1, FALSE)","v":"Cooking"},{"$f":"VLOOKUP(H914,LanguageData,MATCH(LanguageChosen,Language[Language],0),FALSE) & \" - \" & B914","v":"Solar thermal - TJ"},2021]
["BIOFUEL","TJ",null,"COOK","",null,null,"Solid biofuels excluding charcoal",{"$f":"VLOOKUP(D915, Param_Multilanguage!A:C, Param_Menu!$B$3+1, FALSE)","v":"Cooking"},{"$f":"VLOOKUP(H915,LanguageData,MATCH(LanguageChosen,Language[Language],0),FALSE) & \" - \" & B915","v":"Solid biofuels excluding charcoal - TJ"},2021]
["BIOGASES","TJ",null,"COOK","",null,null,"Biogases",{"$f":"VLOOKUP(D916, Param_Multilanguage!A:C, Param_Menu!$B$3+1, FALSE)","v":"Cooking"},{"$f":"VLOOKUP(H916,LanguageData,MATCH(LanguageChosen,Language[Language],0),FALSE) & \" - \" & B916","v":"Biogases - TJ"},2021]
["AMBIANT","TJ",null,"COOK","",null,null,"Ambient heat",{"$f":"VLOOKUP(D917, Param_Multilanguage!A:C, Param_Menu!$B$3+1, FALSE)","v":"Cooking"},{"$f":"VLOOKUP(H917,LanguageData,MATCH(LanguageChosen,Language[Language],0),FALSE) & \" - \" & B917","v":"Ambient heat - TJ"},2021]
["ELEC","GWH",null,"LIGHTAPP",null,null,null,"Electricity",{"$f":"VLOOKUP(D918, Param_Multilanguage!A:C, Param_Menu!$B$3+1, FALSE)","v":"Lighting and appliances"},{"$f":"VLOOKUP(H918,LanguageData,MATCH(LanguageChosen,Language[Language],0),FALSE) & \" - \" & B918","v":"Electricity - GWH"},2021]
["HEAT","TJ",null,"LIGHTAPP","",null,null,"Derived heat",{"$f":"VLOOKUP(D919, Param_Multilanguage!A:C, Param_Menu!$B$3+1, FALSE)","v":"Lighting and appliances"},{"$f":"VLOOKUP(H919,LanguageData,MATCH(LanguageChosen,Language[Language],0),FALSE) & \" - \" & B919","v":"Derived heat - TJ"},2021]
["GAS","TJ_GCV",null,"LIGHTAPP","",null,null,"Gas",{"$f":"VLOOKUP(D920, Param_Multilanguage!A:C, Param_Menu!$B$3+1, FALSE)","v":"Lighting and appliances"},{"$f":"VLOOKUP(H920,LanguageData,MATCH(LanguageChosen,Language[Language],0),FALSE) & \" - \" & B920","v":"Gas - TJ_GCV"},2021]
["SOLIDFUEL","KT",null,"LIGHTAPP","",null,null,"Solid fossil fuels",{"$f":"VLOOKUP(D921, Param_Multilanguage!A:C, Param_Menu!$B$3+1, FALSE)","v":"Lighting and appliances"},{"$f":"VLOOKUP(H921,LanguageData,MATCH(LanguageChosen,Language[Language],0),FALSE) & \" - \" & B921","v":"Solid fossil fuels - KT"},2021]
["OIL","KT",null,"LIGHTAPP","",null,null,"Total oil and petroleum products",{"$f":"VLOOKUP(D922, Param_Multilanguage!A:C, Param_Menu!$B$3+1, FALSE)","v":"Lighting and appliances"},{"$f":"VLOOKUP(H922,LanguageData,MATCH(LanguageChosen,Language[Language],0),FALSE) & \" - \" & B922","v":"Total oil and petroleum products - KT"},2021]
["LPG","KT",null,"LIGHTAPP","",null,null,"LPG",{"$f":"VLOOKUP(D923, Param_Multilanguage!A:C, Param_Menu!$B$3+1, FALSE)","v":"Lighting and appliances"},{"$f":"VLOOKUP(H923,LanguageData,MATCH(LanguageChosen,Language[Language],0),FALSE) & \" - \" & B923","v":"LPG - KT"},2021]
["KEROSENE","KT",null,"LIGHTAPP","",null,null,"Other kerosene",{"$f":"VLOOKUP(D924, Param_Multilanguage!A:C, Param_Menu!$B$3+1, FALSE)","v":"Lighting and appliances"},{"$f":"VLOOKUP(H924,LanguageData,MATCH(LanguageChosen,Language[Language],0),FALSE) & \" - \" & B924","v":"Other kerosene - KT"},2021]
["GASOIL","KT",null,"LIGHTAPP","",null,null,"Total gas/diesel oil",{"$f":"VLOOKUP(D925, Param_Multilanguage!A:C, Param_Menu!$B$3+1, FALSE)","v":"Lighting and appliances"},{"$f":"VLOOKUP(H925,LanguageData,MATCH(LanguageChosen,Language[Language],0),FALSE) & \" - \" & B925","v":"Total gas/diesel oil - KT"},2021]
["RENEW","TJ",null,"LIGHTAPP","",null,null,"Renewables and wastes",{"$f":"VLOOKUP(D926, Param_Multilanguage!A:C, Param_Menu!$B$3+1, FALSE)","v":"Lighting and appliances"},{"$f":"VLOOKUP(H926,LanguageData,MATCH(LanguageChosen,Language[Language],0),FALSE) & \" - \" & B926","v":"Renewables and wastes - TJ"},2021]
["SOLARTH","TJ",null,"LIGHTAPP","",null,null,"Solar thermal",{"$f":"VLOOKUP(D927, Param_Multilanguage!A:C, Param_Menu!$B$3+1, FALSE)","v":"Lighting and appliances"},{"$f":"VLOOKUP(H927,LanguageData,MATCH(LanguageChosen,Language[Language],0),FALSE) & \" - \" & B927","v":"Solar thermal - TJ"},2021]
["BIOFUEL","TJ",null,"LIGHTAPP","",null,null,"Solid biofuels excluding charcoal",{"$f":"VLOOKUP(D928, Param_Multilanguage!A:C, Param_Menu!$B$3+1, FALSE)","v":"Lighting and appliances"},{"$f":"VLOOKUP(H928,LanguageData,MATCH(LanguageChosen,Language[Language],0),FALSE) & \" - \" & B928","v":"Solid biofuels excluding charcoal - TJ"},2021]
["BIOGASES","TJ",null,"LIGHTAPP","",null,null,"Biogases",{"$f":"VLOOKUP(D929, Param_Multilanguage!A:C, Param_Menu!$B$3+1, FALSE)","v":"Lighting and appliances"},{"$f":"VLOOKUP(H929,LanguageData,MATCH(LanguageChosen,Language[Language],0),FALSE) & \" - \" & B929","v":"Biogases - TJ"},2021]
["AMBIANT","TJ",null,"LIGHTAPP","",null,null,"Ambient heat",{"$f":"VLOOKUP(D930, Param_Multilanguage!A:C, Param_Menu!$B$3+1, FALSE)","v":"Lighting and appliances"},{"$f":"VLOOKUP(H930,LanguageData,MATCH(LanguageChosen,Language[Language],0),FALSE) & \" - \" & B930","v":"Ambient heat - TJ"},2021]
["ELEC","GWH",null,"RESOTH",null,null,null,"Electricity",{"$f":"VLOOKUP(D931, Param_Multilanguage!A:C, Param_Menu!$B$3+1, FALSE)","v":"Other end uses"},{"$f":"VLOOKUP(H931,LanguageData,MATCH(LanguageChosen,Language[Language],0),FALSE) & \" - \" & B931","v":"Electricity - GWH"},2021]
["HEAT","TJ",null,"RESOTH","",null,null,"Derived heat",{"$f":"VLOOKUP(D932, Param_Multilanguage!A:C, Param_Menu!$B$3+1, FALSE)","v":"Other end uses"},{"$f":"VLOOKUP(H932,LanguageData,MATCH(LanguageChosen,Language[Language],0),FALSE) & \" - \" & B932","v":"Derived heat - TJ"},2021]
["GAS","TJ_GCV",null,"RESOTH","",null,null,"Gas",{"$f":"VLOOKUP(D933, Param_Multilanguage!A:C, Param_Menu!$B$3+1, FALSE)","v":"Other end uses"},{"$f":"VLOOKUP(H933,LanguageData,MATCH(LanguageChosen,Language[Language],0),FALSE) & \" - \" & B933","v":"Gas - TJ_GCV"},2021]
["SOLIDFUEL","KT",null,"RESOTH","",null,null,"Solid fossil fuels",{"$f":"VLOOKUP(D934, Param_Multilanguage!A:C, Param_Menu!$B$3+1, FALSE)","v":"Other end uses"},{"$f":"VLOOKUP(H934,LanguageData,MATCH(LanguageChosen,Language[Language],0),FALSE) & \" - \" & B934","v":"Solid fossil fuels - KT"},2021]
["OIL","KT",null,"RESOTH","",null,null,"Total oil and petroleum products",{"$f":"VLOOKUP(D935, Param_Multilanguage!A:C, Param_Menu!$B$3+1, FALSE)","v":"Other end uses"},{"$f":"VLOOKUP(H935,LanguageData,MATCH(LanguageChosen,Language[Language],0),FALSE) & \" - \" & B935","v":"Total oil and petroleum products - KT"},2021]
["LPG","KT",null,"RESOTH","",null,null,"LPG",{"$f":"VLOOKUP(D936, Param_Multilanguage!A:C, Param_Menu!$B$3+1, FALSE)","v":"Other end uses"},{"$f":"VLOOKUP(H936,LanguageData,MATCH(LanguageChosen,Language[Language],0),FALSE) & \" - \" & B936","v":"LPG - KT"},2021]
["KEROSENE","KT",null,"RESOTH","",null,null,"Other kerosene",{"$f":"VLOOKUP(D937, Param_Multilanguage!A:C, Param_Menu!$B$3+1, FALSE)","v":"Other end uses"},{"$f":"VLOOKUP(H937,LanguageData,MATCH(LanguageChosen,Language[Language],0),FALSE) & \" - \" & B937","v":"Other kerosene - KT"},2021]
["GASOIL","KT",null,"RESOTH","",null,null,"Total gas/diesel oil",{"$f":"VLOOKUP(D938, Param_Multilanguage!A:C, Param_Menu!$B$3+1, FALSE)","v":"Other end uses"},{"$f":"VLOOKUP(H938,LanguageData,MATCH(LanguageChosen,Language[Language],0),FALSE) & \" - \" & B938","v":"Total gas/diesel oil - KT"},2021]
["RENEW","TJ",null,"RESOTH","",null,null,"Renewables and wastes",{"$f":"VLOOKUP(D939, Param_Multilanguage!A:C, Param_Menu!$B$3+1, FALSE)","v":"Other end uses"},{"$f":"VLOOKUP(H939,LanguageData,MATCH(LanguageChosen,Language[Language],0),FALSE) & \" - \" & B939","v":"Renewables and wastes - TJ"},2021]
["SOLARTH","TJ",null,"RESOTH","",null,null,"Solar thermal",{"$f":"VLOOKUP(D940, Param_Multilanguage!A:C, Param_Menu!$B$3+1, FALSE)","v":"Other end uses"},{"$f":"VLOOKUP(H940,LanguageData,MATCH(LanguageChosen,Language[Language],0),FALSE) & \" - \" & B940","v":"Solar thermal - TJ"},2021]
["BIOFUEL","TJ",null,"RESOTH","",null,null,"Solid biofuels excluding charcoal",{"$f":"VLOOKUP(D941, Param_Multilanguage!A:C, Param_Menu!$B$3+1, FALSE)","v":"Other end uses"},{"$f":"VLOOKUP(H941,LanguageData,MATCH(LanguageChosen,Language[Language],0),FALSE) & \" - \" & B941","v":"Solid biofuels excluding charcoal - TJ"},2021]
["BIOGASES","TJ",null,"RESOTH","",null,null,"Biogases",{"$f":"VLOOKUP(D942, Param_Multilanguage!A:C, Param_Menu!$B$3+1, FALSE)","v":"Other end uses"},{"$f":"VLOOKUP(H942,LanguageData,MATCH(LanguageChosen,Language[Language],0),FALSE) & \" - \" & B942","v":"Biogases - TJ"},2021]
["AMBIANT","TJ",null,"RESOTH","",null,null,"Ambient heat",{"$f":"VLOOKUP(D943, Param_Multilanguage!A:C, Param_Menu!$B$3+1, FALSE)","v":"Other end uses"},{"$f":"VLOOKUP(H943,LanguageData,MATCH(LanguageChosen,Language[Language],0),FALSE) & \" - \" & B943","v":"Ambient heat - TJ"},2021]
["ELEC","GWH",null,"SPACEHEAT",null,null,null,"Electricity",{"$f":"VLOOKUP(D944, Param_Multilanguage!A:C, Param_Menu!$B$3+1, FALSE)","v":"Space heating"},{"$f":"VLOOKUP(H944,LanguageData,MATCH(LanguageChosen,Language[Language],0),FALSE) & \" - \" & B944","v":"Electricity - GWH"},2022]
["HEAT","TJ",null,"SPACEHEAT","",null,null,"Derived heat",{"$f":"VLOOKUP(D945, Param_Multilanguage!A:C, Param_Menu!$B$3+1, FALSE)","v":"Space heating"},{"$f":"VLOOKUP(H945,LanguageData,MATCH(LanguageChosen,Language[Language],0),FALSE) & \" - \" & B945","v":"Derived heat - TJ"},2022]
["GAS","TJ_GCV",null,"SPACEHEAT","",null,null,"Gas",{"$f":"VLOOKUP(D946, Param_Multilanguage!A:C, Param_Menu!$B$3+1, FALSE)","v":"Space heating"},{"$f":"VLOOKUP(H946,LanguageData,MATCH(LanguageChosen,Language[Language],0),FALSE) & \" - \" & B946","v":"Gas - TJ_GCV"},2022]
["SOLIDFUEL","KT",null,"SPACEHEAT","",null,null,"Solid fossil fuels",{"$f":"VLOOKUP(D947, Param_Multilanguage!A:C, Param_Menu!$B$3+1, FALSE)","v":"Space heating"},{"$f":"VLOOKUP(H947,LanguageData,MATCH(LanguageChosen,Language[Language],0),FALSE) & \" - \" & B947","v":"Solid fossil fuels - KT"},2022]
["OIL","KT",null,"SPACEHEAT","",null,null,"Total oil and petroleum products",{"$f":"VLOOKUP(D948, Param_Multilanguage!A:C, Param_Menu!$B$3+1, FALSE)","v":"Space heating"},{"$f":"VLOOKUP(H948,LanguageData,MATCH(LanguageChosen,Language[Language],0),FALSE) & \" - \" & B948","v":"Total oil and petroleum products - KT"},2022]
["LPG","KT",null,"SPACEHEAT","",null,null,"LPG",{"$f":"VLOOKUP(D949, Param_Multilanguage!A:C, Param_Menu!$B$3+1, FALSE)","v":"Space heating"},{"$f":"VLOOKUP(H949,LanguageData,MATCH(LanguageChosen,Language[Language],0),FALSE) & \" - \" & B949","v":"LPG - KT"},2022]
["KEROSENE","KT",null,"SPACEHEAT","",null,null,"Other kerosene",{"$f":"VLOOKUP(D950, Param_Multilanguage!A:C, Param_Menu!$B$3+1, FALSE)","v":"Space heating"},{"$f":"VLOOKUP(H950,LanguageData,MATCH(LanguageChosen,Language[Language],0),FALSE) & \" - \" & B950","v":"Other kerosene - KT"},2022]
["GASOIL","KT",null,"SPACEHEAT","",null,null,"Total gas/diesel oil",{"$f":"VLOOKUP(D951, Param_Multilanguage!A:C, Param_Menu!$B$3+1, FALSE)","v":"Space heating"},{"$f":"VLOOKUP(H951,LanguageData,MATCH(LanguageChosen,Language[Language],0),FALSE) & \" - \" & B951","v":"Total gas/diesel oil - KT"},2022]
["RENEW","TJ",null,"SPACEHEAT","",null,null,"Renewables and wastes",{"$f":"VLOOKUP(D952, Param_Multilanguage!A:C, Param_Menu!$B$3+1, FALSE)","v":"Space heating"},{"$f":"VLOOKUP(H952,LanguageData,MATCH(LanguageChosen,Language[Language],0),FALSE) & \" - \" & B952","v":"Renewables and wastes - TJ"},2022]
["SOLARTH","TJ",null,"SPACEHEAT","",null,null,"Solar thermal",{"$f":"VLOOKUP(D953, Param_Multilanguage!A:C, Param_Menu!$B$3+1, FALSE)","v":"Space heating"},{"$f":"VLOOKUP(H953,LanguageData,MATCH(LanguageChosen,Language[Language],0),FALSE) & \" - \" & B953","v":"Solar thermal - TJ"},2022]
["BIOFUEL","TJ",null,"SPACEHEAT","",null,null,"Solid biofuels excluding charcoal",{"$f":"VLOOKUP(D954, Param_Multilanguage!A:C, Param_Menu!$B$3+1, FALSE)","v":"Space heating"},{"$f":"VLOOKUP(H954,LanguageData,MATCH(LanguageChosen,Language[Language],0),FALSE) & \" - \" & B954","v":"Solid biofuels excluding charcoal - TJ"},2022]
["BIOGASES","TJ",null,"SPACEHEAT","",null,null,"Biogases",{"$f":"VLOOKUP(D955, Param_Multilanguage!A:C, Param_Menu!$B$3+1, FALSE)","v":"Space heating"},{"$f":"VLOOKUP(H955,LanguageData,MATCH(LanguageChosen,Language[Language],0),FALSE) & \" - \" & B955","v":"Biogases - TJ"},2022]
["AMBIANT","TJ",null,"SPACEHEAT","",null,null,"Ambient heat",{"$f":"VLOOKUP(D956, Param_Multilanguage!A:C, Param_Menu!$B$3+1, FALSE)","v":"Space heating"},{"$f":"VLOOKUP(H956,LanguageData,MATCH(LanguageChosen,Language[Language],0),FALSE) & \" - \" & B956","v":"Ambient heat - TJ"},2022]
["ELEC","GWH",null,"SPACECOOL",null,null,null,"Electricity",{"$f":"VLOOKUP(D957, Param_Multilanguage!A:C, Param_Menu!$B$3+1, FALSE)","v":"Space cooling"},{"$f":"VLOOKUP(H957,LanguageData,MATCH(LanguageChosen,Language[Language],0),FALSE) & \" - \" & B957","v":"Electricity - GWH"},2022]
["HEAT","TJ",null,"SPACECOOL","",null,null,"Derived heat",{"$f":"VLOOKUP(D958, Param_Multilanguage!A:C, Param_Menu!$B$3+1, FALSE)","v":"Space cooling"},{"$f":"VLOOKUP(H958,LanguageData,MATCH(LanguageChosen,Language[Language],0),FALSE) & \" - \" & B958","v":"Derived heat - TJ"},2022]
["GAS","TJ_GCV",null,"SPACECOOL","",null,null,"Gas",{"$f":"VLOOKUP(D959, Param_Multilanguage!A:C, Param_Menu!$B$3+1, FALSE)","v":"Space cooling"},{"$f":"VLOOKUP(H959,LanguageData,MATCH(LanguageChosen,Language[Language],0),FALSE) & \" - \" & B959","v":"Gas - TJ_GCV"},2022]
["SOLIDFUEL","KT",null,"SPACECOOL","",null,null,"Solid fossil fuels",{"$f":"VLOOKUP(D960, Param_Multilanguage!A:C, Param_Menu!$B$3+1, FALSE)","v":"Space cooling"},{"$f":"VLOOKUP(H960,LanguageData,MATCH(LanguageChosen,Language[Language],0),FALSE) & \" - \" & B960","v":"Solid fossil fuels - KT"},2022]
["OIL","KT",null,"SPACECOOL","",null,null,"Total oil and petroleum products",{"$f":"VLOOKUP(D961, Param_Multilanguage!A:C, Param_Menu!$B$3+1, FALSE)","v":"Space cooling"},{"$f":"VLOOKUP(H961,LanguageData,MATCH(LanguageChosen,Language[Language],0),FALSE) & \" - \" & B961","v":"Total oil and petroleum products - KT"},2022]
["LPG","KT",null,"SPACECOOL","",null,null,"LPG",{"$f":"VLOOKUP(D962, Param_Multilanguage!A:C, Param_Menu!$B$3+1, FALSE)","v":"Space cooling"},{"$f":"VLOOKUP(H962,LanguageData,MATCH(LanguageChosen,Language[Language],0),FALSE) & \" - \" & B962","v":"LPG - KT"},2022]
["KEROSENE","KT",null,"SPACECOOL","",null,null,"Other kerosene",{"$f":"VLOOKUP(D963, Param_Multilanguage!A:C, Param_Menu!$B$3+1, FALSE)","v":"Space cooling"},{"$f":"VLOOKUP(H963,LanguageData,MATCH(LanguageChosen,Language[Language],0),FALSE) & \" - \" & B963","v":"Other kerosene - KT"},2022]
["GASOIL","KT",null,"SPACECOOL","",null,null,"Total gas/diesel oil",{"$f":"VLOOKUP(D964, Param_Multilanguage!A:C, Param_Menu!$B$3+1, FALSE)","v":"Space cooling"},{"$f":"VLOOKUP(H964,LanguageData,MATCH(LanguageChosen,Language[Language],0),FALSE) & \" - \" & B964","v":"Total gas/diesel oil - KT"},2022]
["RENEW","TJ",null,"SPACECOOL","",null,null,"Renewables and wastes",{"$f":"VLOOKUP(D965, Param_Multilanguage!A:C, Param_Menu!$B$3+1, FALSE)","v":"Space cooling"},{"$f":"VLOOKUP(H965,LanguageData,MATCH(LanguageChosen,Language[Language],0),FALSE) & \" - \" & B965","v":"Renewables and wastes - TJ"},2022]
["SOLARTH","TJ",null,"SPACECOOL","",null,null,"Solar thermal",{"$f":"VLOOKUP(D966, Param_Multilanguage!A:C, Param_Menu!$B$3+1, FALSE)","v":"Space cooling"},{"$f":"VLOOKUP(H966,LanguageData,MATCH(LanguageChosen,Language[Language],0),FALSE) & \" - \" & B966","v":"Solar thermal - TJ"},2022]
["BIOFUEL","TJ",null,"SPACECOOL","",null,null,"Solid biofuels excluding charcoal",{"$f":"VLOOKUP(D967, Param_Multilanguage!A:C, Param_Menu!$B$3+1, FALSE)","v":"Space cooling"},{"$f":"VLOOKUP(H967,LanguageData,MATCH(LanguageChosen,Language[Language],0),FALSE) & \" - \" & B967","v":"Solid biofuels excluding charcoal - TJ"},2022]
["BIOGASES","TJ",null,"SPACECOOL","",null,null,"Biogases",{"$f":"VLOOKUP(D968, Param_Multilanguage!A:C, Param_Menu!$B$3+1, FALSE)","v":"Space cooling"},{"$f":"VLOOKUP(H968,LanguageData,MATCH(LanguageChosen,Language[Language],0),FALSE) & \" - \" & B968","v":"Biogases - TJ"},2022]
["AMBIANT","TJ",null,"SPACECOOL","",null,null,"Ambient heat",{"$f":"VLOOKUP(D969, Param_Multilanguage!A:C, Param_Menu!$B$3+1, FALSE)","v":"Space cooling"},{"$f":"VLOOKUP(H969,LanguageData,MATCH(LanguageChosen,Language[Language],0),FALSE) & \" - \" & B969","v":"Ambient heat - TJ"},2022]
["ELEC","GWH",null,"WATERHEAT",null,null,null,"Electricity",{"$f":"VLOOKUP(D970, Param_Multilanguage!A:C, Param_Menu!$B$3+1, FALSE)","v":"Water heating"},{"$f":"VLOOKUP(H970,LanguageData,MATCH(LanguageChosen,Language[Language],0),FALSE) & \" - \" & B970","v":"Electricity - GWH"},2022]
["HEAT","TJ",null,"WATERHEAT","",null,null,"Derived heat",{"$f":"VLOOKUP(D971, Param_Multilanguage!A:C, Param_Menu!$B$3+1, FALSE)","v":"Water heating"},{"$f":"VLOOKUP(H971,LanguageData,MATCH(LanguageChosen,Language[Language],0),FALSE) & \" - \" & B971","v":"Derived heat - TJ"},2022]
["GAS","TJ_GCV",null,"WATERHEAT","",null,null,"Gas",{"$f":"VLOOKUP(D972, Param_Multilanguage!A:C, Param_Menu!$B$3+1, FALSE)","v":"Water heating"},{"$f":"VLOOKUP(H972,LanguageData,MATCH(LanguageChosen,Language[Language],0),FALSE) & \" - \" & B972","v":"Gas - TJ_GCV"},2022]
["SOLIDFUEL","KT",null,"WATERHEAT","",null,null,"Solid fossil fuels",{"$f":"VLOOKUP(D973, Param_Multilanguage!A:C, Param_Menu!$B$3+1, FALSE)","v":"Water heating"},{"$f":"VLOOKUP(H973,LanguageData,MATCH(LanguageChosen,Language[Language],0),FALSE) & \" - \" & B973","v":"Solid fossil fuels - KT"},2022]
["OIL","KT",null,"WATERHEAT","",null,null,"Total oil and petroleum products",{"$f":"VLOOKUP(D974, Param_Multilanguage!A:C, Param_Menu!$B$3+1, FALSE)","v":"Water heating"},{"$f":"VLOOKUP(H974,LanguageData,MATCH(LanguageChosen,Language[Language],0),FALSE) & \" - \" & B974","v":"Total oil and petroleum products - KT"},2022]
["LPG","KT",null,"WATERHEAT","",null,null,"LPG",{"$f":"VLOOKUP(D975, Param_Multilanguage!A:C, Param_Menu!$B$3+1, FALSE)","v":"Water heating"},{"$f":"VLOOKUP(H975,LanguageData,MATCH(LanguageChosen,Language[Language],0),FALSE) & \" - \" & B975","v":"LPG - KT"},2022]
["KEROSENE","KT",null,"WATERHEAT","",null,null,"Other kerosene",{"$f":"VLOOKUP(D976, Param_Multilanguage!A:C, Param_Menu!$B$3+1, FALSE)","v":"Water heating"},{"$f":"VLOOKUP(H976,LanguageData,MATCH(LanguageChosen,Language[Language],0),FALSE) & \" - \" & B976","v":"Other kerosene - KT"},2022]
["GASOIL","KT",null,"WATERHEAT","",null,null,"Total gas/diesel oil",{"$f":"VLOOKUP(D977, Param_Multilanguage!A:C, Param_Menu!$B$3+1, FALSE)","v":"Water heating"},{"$f":"VLOOKUP(H977,LanguageData,MATCH(LanguageChosen,Language[Language],0),FALSE) & \" - \" & B977","v":"Total gas/diesel oil - KT"},2022]
["RENEW","TJ",null,"WATERHEAT","",null,null,"Renewables and wastes",{"$f":"VLOOKUP(D978, Param_Multilanguage!A:C, Param_Menu!$B$3+1, FALSE)","v":"Water heating"},{"$f":"VLOOKUP(H978,LanguageData,MATCH(LanguageChosen,Language[Language],0),FALSE) & \" - \" & B978","v":"Renewables and wastes - TJ"},2022]
["SOLARTH","TJ",null,"WATERHEAT","",null,null,"Solar thermal",{"$f":"VLOOKUP(D979, Param_Multilanguage!A:C, Param_Menu!$B$3+1, FALSE)","v":"Water heating"},{"$f":"VLOOKUP(H979,LanguageData,MATCH(LanguageChosen,Language[Language],0),FALSE) & \" - \" & B979","v":"Solar thermal - TJ"},2022]
["BIOFUEL","TJ",null,"WATERHEAT","",null,null,"Solid biofuels excluding charcoal",{"$f":"VLOOKUP(D980, Param_Multilanguage!A:C, Param_Menu!$B$3+1, FALSE)","v":"Water heating"},{"$f":"VLOOKUP(H980,LanguageData,MATCH(LanguageChosen,Language[Language],0),FALSE) & \" - \" & B980","v":"Solid biofuels excluding charcoal - TJ"},2022]
["BIOGASES","TJ",null,"WATERHEAT","",null,null,"Biogases",{"$f":"VLOOKUP(D981, Param_Multilanguage!A:C, Param_Menu!$B$3+1, FALSE)","v":"Water heating"},{"$f":"VLOOKUP(H981,LanguageData,MATCH(LanguageChosen,Language[Language],0),FALSE) & \" - \" & B981","v":"Biogases - TJ"},2022]
["AMBIANT","TJ",null,"WATERHEAT","",null,null,"Ambient heat",{"$f":"VLOOKUP(D982, Param_Multilanguage!A:C, Param_Menu!$B$3+1, FALSE)","v":"Water heating"},{"$f":"VLOOKUP(H982,LanguageData,MATCH(LanguageChosen,Language[Language],0),FALSE) & \" - \" & B982","v":"Ambient heat - TJ"},2022]
["ELEC","GWH",null,"COOK",null,null,null,"Electricity",{"$f":"VLOOKUP(D983, Param_Multilanguage!A:C, Param_Menu!$B$3+1, FALSE)","v":"Cooking"},{"$f":"VLOOKUP(H983,LanguageData,MATCH(LanguageChosen,Language[Language],0),FALSE) & \" - \" & B983","v":"Electricity - GWH"},2022]
["HEAT","TJ",null,"COOK","",null,null,"Derived heat",{"$f":"VLOOKUP(D984, Param_Multilanguage!A:C, Param_Menu!$B$3+1, FALSE)","v":"Cooking"},{"$f":"VLOOKUP(H984,LanguageData,MATCH(LanguageChosen,Language[Language],0),FALSE) & \" - \" & B984","v":"Derived heat - TJ"},2022]
["GAS","TJ_GCV",null,"COOK","",null,null,"Gas",{"$f":"VLOOKUP(D985, Param_Multilanguage!A:C, Param_Menu!$B$3+1, FALSE)","v":"Cooking"},{"$f":"VLOOKUP(H985,LanguageData,MATCH(LanguageChosen,Language[Language],0),FALSE) & \" - \" & B985","v":"Gas - TJ_GCV"},2022]
["SOLIDFUEL","KT",null,"COOK","",null,null,"Solid fossil fuels",{"$f":"VLOOKUP(D986, Param_Multilanguage!A:C, Param_Menu!$B$3+1, FALSE)","v":"Cooking"},{"$f":"VLOOKUP(H986,LanguageData,MATCH(LanguageChosen,Language[Language],0),FALSE) & \" - \" & B986","v":"Solid fossil fuels - KT"},2022]
["OIL","KT",null,"COOK","",null,null,"Total oil and petroleum products",{"$f":"VLOOKUP(D987, Param_Multilanguage!A:C, Param_Menu!$B$3+1, FALSE)","v":"Cooking"},{"$f":"VLOOKUP(H987,LanguageData,MATCH(LanguageChosen,Language[Language],0),FALSE) & \" - \" & B987","v":"Total oil and petroleum products - KT"},2022]
["LPG","KT",null,"COOK","",null,null,"LPG",{"$f":"VLOOKUP(D988, Param_Multilanguage!A:C, Param_Menu!$B$3+1, FALSE)","v":"Cooking"},{"$f":"VLOOKUP(H988,LanguageData,MATCH(LanguageChosen,Language[Language],0),FALSE) & \" - \" & B988","v":"LPG - KT"},2022]
["KEROSENE","KT",null,"COOK","",null,null,"Other kerosene",{"$f":"VLOOKUP(D989, Param_Multilanguage!A:C, Param_Menu!$B$3+1, FALSE)","v":"Cooking"},{"$f":"VLOOKUP(H989,LanguageData,MATCH(LanguageChosen,Language[Language],0),FALSE) & \" - \" & B989","v":"Other kerosene - KT"},2022]
["GASOIL","KT",null,"COOK","",null,null,"Total gas/diesel oil",{"$f":"VLOOKUP(D990, Param_Multilanguage!A:C, Param_Menu!$B$3+1, FALSE)","v":"Cooking"},{"$f":"VLOOKUP(H990,LanguageData,MATCH(LanguageChosen,Language[Language],0),FALSE) & \" - \" & B990","v":"Total gas/diesel oil - KT"},2022]
["RENEW","TJ",null,"COOK","",null,null,"Renewables and wastes",{"$f":"VLOOKUP(D991, Param_Multilanguage!A:C, Param_Menu!$B$3+1, FALSE)","v":"Cooking"},{"$f":"VLOOKUP(H991,LanguageData,MATCH(LanguageChosen,Language[Language],0),FALSE) & \" - \" & B991","v":"Renewables and wastes - TJ"},2022]
["SOLARTH","TJ",null,"COOK","",null,null,"Solar thermal",{"$f":"VLOOKUP(D992, Param_Multilanguage!A:C, Param_Menu!$B$3+1, FALSE)","v":"Cooking"},{"$f":"VLOOKUP(H992,LanguageData,MATCH(LanguageChosen,Language[Language],0),FALSE) & \" - \" & B992","v":"Solar thermal - TJ"},2022]
["BIOFUEL","TJ",null,"COOK","",null,null,"Solid biofuels excluding charcoal",{"$f":"VLOOKUP(D993, Param_Multilanguage!A:C, Param_Menu!$B$3+1, FALSE)","v":"Cooking"},{"$f":"VLOOKUP(H993,LanguageData,MATCH(LanguageChosen,Language[Language],0),FALSE) & \" - \" & B993","v":"Solid biofuels excluding charcoal - TJ"},2022]
["BIOGASES","TJ",null,"COOK","",null,null,"Biogases",{"$f":"VLOOKUP(D994, Param_Multilanguage!A:C, Param_Menu!$B$3+1, FALSE)","v":"Cooking"},{"$f":"VLOOKUP(H994,LanguageData,MATCH(LanguageChosen,Language[Language],0),FALSE) & \" - \" & B994","v":"Biogases - TJ"},2022]
["AMBIANT","TJ",null,"COOK","",null,null,"Ambient heat",{"$f":"VLOOKUP(D995, Param_Multilanguage!A:C, Param_Menu!$B$3+1, FALSE)","v":"Cooking"},{"$f":"VLOOKUP(H995,LanguageData,MATCH(LanguageChosen,Language[Language],0),FALSE) & \" - \" & B995","v":"Ambient heat - TJ"},2022]
["ELEC","GWH",null,"LIGHTAPP",null,null,null,"Electricity",{"$f":"VLOOKUP(D996, Param_Multilanguage!A:C, Param_Menu!$B$3+1, FALSE)","v":"Lighting and appliances"},{"$f":"VLOOKUP(H996,LanguageData,MATCH(LanguageChosen,Language[Language],0),FALSE) & \" - \" & B996","v":"Electricity - GWH"},2022]
["HEAT","TJ",null,"LIGHTAPP","",null,null,"Derived heat",{"$f":"VLOOKUP(D997, Param_Multilanguage!A:C, Param_Menu!$B$3+1, FALSE)","v":"Lighting and appliances"},{"$f":"VLOOKUP(H997,LanguageData,MATCH(LanguageChosen,Language[Language],0),FALSE) & \" - \" & B997","v":"Derived heat - TJ"},2022]
["GAS","TJ_GCV",null,"LIGHTAPP","",null,null,"Gas",{"$f":"VLOOKUP(D998, Param_Multilanguage!A:C, Param_Menu!$B$3+1, FALSE)","v":"Lighting and appliances"},{"$f":"VLOOKUP(H998,LanguageData,MATCH(LanguageChosen,Language[Language],0),FALSE) & \" - \" & B998","v":"Gas - TJ_GCV"},2022]
["SOLIDFUEL","KT",null,"LIGHTAPP","",null,null,"Solid fossil fuels",{"$f":"VLOOKUP(D999, Param_Multilanguage!A:C, Param_Menu!$B$3+1, FALSE)","v":"Lighting and appliances"},{"$f":"VLOOKUP(H999,LanguageData,MATCH(LanguageChosen,Language[Language],0),FALSE) & \" - \" & B999","v":"Solid fossil fuels - KT"},2022]
["OIL","KT",null,"LIGHTAPP","",null,null,"Total oil and petroleum products",{"$f":"VLOOKUP(D1000, Param_Multilanguage!A:C, Param_Menu!$B$3+1, FALSE)","v":"Lighting and appliances"},{"$f":"VLOOKUP(H1000,LanguageData,MATCH(LanguageChosen,Language[Language],0),FALSE) & \" - \" & B1000","v":"Total oil and petroleum products - KT"},2022]
["LPG","KT",null,"LIGHTAPP","",null,null,"LPG",{"$f":"VLOOKUP(D1001, Param_Multilanguage!A:C, Param_Menu!$B$3+1, FALSE)","v":"Lighting and appliances"},{"$f":"VLOOKUP(H1001,LanguageData,MATCH(LanguageChosen,Language[Language],0),FALSE) & \" - \" & B1001","v":"LPG - KT"},2022]
["KEROSENE","KT",null,"LIGHTAPP","",null,null,"Other kerosene",{"$f":"VLOOKUP(D1002, Param_Multilanguage!A:C, Param_Menu!$B$3+1, FALSE)","v":"Lighting and appliances"},{"$f":"VLOOKUP(H1002,LanguageData,MATCH(LanguageChosen,Language[Language],0),FALSE) & \" - \" & B1002","v":"Other kerosene - KT"},2022]
["GASOIL","KT",null,"LIGHTAPP","",null,null,"Total gas/diesel oil",{"$f":"VLOOKUP(D1003, Param_Multilanguage!A:C, Param_Menu!$B$3+1, FALSE)","v":"Lighting and appliances"},{"$f":"VLOOKUP(H1003,LanguageData,MATCH(LanguageChosen,Language[Language],0),FALSE) & \" - \" & B1003","v":"Total gas/diesel oil - KT"},2022]
["RENEW","TJ",null,"LIGHTAPP","",null,null,"Renewables and wastes",{"$f":"VLOOKUP(D1004, Param_Multilanguage!A:C, Param_Menu!$B$3+1, FALSE)","v":"Lighting and appliances"},{"$f":"VLOOKUP(H1004,LanguageData,MATCH(LanguageChosen,Language[Language],0),FALSE) & \" - \" & B1004","v":"Renewables and wastes - TJ"},2022]
["SOLARTH","TJ",null,"LIGHTAPP","",null,null,"Solar thermal",{"$f":"VLOOKUP(D1005, Param_Multilanguage!A:C, Param_Menu!$B$3+1, FALSE)","v":"Lighting and appliances"},{"$f":"VLOOKUP(H1005,LanguageData,MATCH(LanguageChosen,Language[Language],0),FALSE) & \" - \" & B1005","v":"Solar thermal - TJ"},2022]
["BIOFUEL","TJ",null,"LIGHTAPP","",null,null,"Solid biofuels excluding charcoal",{"$f":"VLOOKUP(D1006, Param_Multilanguage!A:C, Param_Menu!$B$3+1, FALSE)","v":"Lighting and appliances"},{"$f":"VLOOKUP(H1006,LanguageData,MATCH(LanguageChosen,Language[Language],0),FALSE) & \" - \" & B1006","v":"Solid biofuels excluding charcoal - TJ"},2022]
["BIOGASES","TJ",null,"LIGHTAPP","",null,null,"Biogases",{"$f":"VLOOKUP(D1007, Param_Multilanguage!A:C, Param_Menu!$B$3+1, FALSE)","v":"Lighting and appliances"},{"$f":"VLOOKUP(H1007,LanguageData,MATCH(LanguageChosen,Language[Language],0),FALSE) & \" - \" & B1007","v":"Biogases - TJ"},2022]
["AMBIANT","TJ",null,"LIGHTAPP","",null,null,"Ambient heat",{"$f":"VLOOKUP(D1008, Param_Multilanguage!A:C, Param_Menu!$B$3+1, FALSE)","v":"Lighting and appliances"},{"$f":"VLOOKUP(H1008,LanguageData,MATCH(LanguageChosen,Language[Language],0),FALSE) & \" - \" & B1008","v":"Ambient heat - TJ"},2022]
["ELEC","GWH",null,"RESOTH",null,null,null,"Electricity",{"$f":"VLOOKUP(D1009, Param_Multilanguage!A:C, Param_Menu!$B$3+1, FALSE)","v":"Other end uses"},{"$f":"VLOOKUP(H1009,LanguageData,MATCH(LanguageChosen,Language[Language],0),FALSE) & \" - \" & B1009","v":"Electricity - GWH"},2022]
["HEAT","TJ",null,"RESOTH","",null,null,"Derived heat",{"$f":"VLOOKUP(D1010, Param_Multilanguage!A:C, Param_Menu!$B$3+1, FALSE)","v":"Other end uses"},{"$f":"VLOOKUP(H1010,LanguageData,MATCH(LanguageChosen,Language[Language],0),FALSE) & \" - \" & B1010","v":"Derived heat - TJ"},2022]
["GAS","TJ_GCV",null,"RESOTH","",null,null,"Gas",{"$f":"VLOOKUP(D1011, Param_Multilanguage!A:C, Param_Menu!$B$3+1, FALSE)","v":"Other end uses"},{"$f":"VLOOKUP(H1011,LanguageData,MATCH(LanguageChosen,Language[Language],0),FALSE) & \" - \" & B1011","v":"Gas - TJ_GCV"},2022]
["SOLIDFUEL","KT",null,"RESOTH","",null,null,"Solid fossil fuels",{"$f":"VLOOKUP(D1012, Param_Multilanguage!A:C, Param_Menu!$B$3+1, FALSE)","v":"Other end uses"},{"$f":"VLOOKUP(H1012,LanguageData,MATCH(LanguageChosen,Language[Language],0),FALSE) & \" - \" & B1012","v":"Solid fossil fuels - KT"},2022]
["OIL","KT",null,"RESOTH","",null,null,"Total oil and petroleum products",{"$f":"VLOOKUP(D1013, Param_Multilanguage!A:C, Param_Menu!$B$3+1, FALSE)","v":"Other end uses"},{"$f":"VLOOKUP(H1013,LanguageData,MATCH(LanguageChosen,Language[Language],0),FALSE) & \" - \" & B1013","v":"Total oil and petroleum products - KT"},2022]
["LPG","KT",null,"RESOTH","",null,null,"LPG",{"$f":"VLOOKUP(D1014, Param_Multilanguage!A:C, Param_Menu!$B$3+1, FALSE)","v":"Other end uses"},{"$f":"VLOOKUP(H1014,LanguageData,MATCH(LanguageChosen,Language[Language],0),FALSE) & \" - \" & B1014","v":"LPG - KT"},2022]
["KEROSENE","KT",null,"RESOTH","",null,null,"Other kerosene",{"$f":"VLOOKUP(D1015, Param_Multilanguage!A:C, Param_Menu!$B$3+1, FALSE)","v":"Other end uses"},{"$f":"VLOOKUP(H1015,LanguageData,MATCH(LanguageChosen,Language[Language],0),FALSE) & \" - \" & B1015","v":"Other kerosene - KT"},2022]
["GASOIL","KT",null,"RESOTH","",null,null,"Total gas/diesel oil",{"$f":"VLOOKUP(D1016, Param_Multilanguage!A:C, Param_Menu!$B$3+1, FALSE)","v":"Other end uses"},{"$f":"VLOOKUP(H1016,LanguageData,MATCH(LanguageChosen,Language[Language],0),FALSE) & \" - \" & B1016","v":"Total gas/diesel oil - KT"},2022]
["RENEW","TJ",null,"RESOTH","",null,null,"Renewables and wastes",{"$f":"VLOOKUP(D1017, Param_Multilanguage!A:C, Param_Menu!$B$3+1, FALSE)","v":"Other end uses"},{"$f":"VLOOKUP(H1017,LanguageData,MATCH(LanguageChosen,Language[Language],0),FALSE) & \" - \" & B1017","v":"Renewables and wastes - TJ"},2022]
["SOLARTH","TJ",null,"RESOTH","",null,null,"Solar thermal",{"$f":"VLOOKUP(D1018, Param_Multilanguage!A:C, Param_Menu!$B$3+1, FALSE)","v":"Other end uses"},{"$f":"VLOOKUP(H1018,LanguageData,MATCH(LanguageChosen,Language[Language],0),FALSE) & \" - \" & B1018","v":"Solar thermal - TJ"},2022]
["BIOFUEL","TJ",null,"RESOTH","",null,null,"Solid biofuels excluding charcoal",{"$f":"VLOOKUP(D1019, Param_Multilanguage!A:C, Param_Menu!$B$3+1, FALSE)","v":"Other end uses"},{"$f":"VLOOKUP(H1019,LanguageData,MATCH(LanguageChosen,Language[Language],0),FALSE) & \" - \" & B1019","v":"Solid biofuels excluding charcoal - TJ"},2022]
["BIOGASES","TJ",null,"RESOTH","",null,null,"Biogases",{"$f":"VLOOKUP(D1020, Param_Multilanguage!A:C, Param_Menu!$B$3+1, FALSE)","v":"Other end uses"},{"$f":"VLOOKUP(H1020,LanguageData,MATCH(LanguageChosen,Language[Language],0),FALSE) & \" - \" & B1020","v":"Biogases - TJ"},2022]
["AMBIANT","TJ",null,"RESOTH","",null,null,"Ambient heat",{"$f":"VLOOKUP(D1021, Param_Multilanguage!A:C, Param_Menu!$B$3+1, FALSE)","v":"Other end uses"},{"$f":"VLOOKUP(H1021,LanguageData,MATCH(LanguageChosen,Language[Language],0),FALSE) & \" - \" & B1021","v":"Ambient heat - TJ"},2022]
["ELEC","GWH",null,"SPACEHEAT",null,null,null,"Electricity",{"$f":"VLOOKUP(D1022, Param_Multilanguage!A:C, Param_Menu!$B$3+1, FALSE)","v":"Space heating"},{"$f":"VLOOKUP(H1022,LanguageData,MATCH(LanguageChosen,Language[Language],0),FALSE) & \" - \" & B1022","v":"Electricity - GWH"},2023]
["HEAT","TJ",null,"SPACEHEAT","",null,null,"Derived heat",{"$f":"VLOOKUP(D1023, Param_Multilanguage!A:C, Param_Menu!$B$3+1, FALSE)","v":"Space heating"},{"$f":"VLOOKUP(H1023,LanguageData,MATCH(LanguageChosen,Language[Language],0),FALSE) & \" - \" & B1023","v":"Derived heat - TJ"},2023]
["GAS","TJ_GCV",null,"SPACEHEAT","",null,null,"Gas",{"$f":"VLOOKUP(D1024, Param_Multilanguage!A:C, Param_Menu!$B$3+1, FALSE)","v":"Space heating"},{"$f":"VLOOKUP(H1024,LanguageData,MATCH(LanguageChosen,Language[Language],0),FALSE) & \" - \" & B1024","v":"Gas - TJ_GCV"},2023]
["SOLIDFUEL","KT",null,"SPACEHEAT","",null,null,"Solid fossil fuels",{"$f":"VLOOKUP(D1025, Param_Multilanguage!A:C, Param_Menu!$B$3+1, FALSE)","v":"Space heating"},{"$f":"VLOOKUP(H1025,LanguageData,MATCH(LanguageChosen,Language[Language],0),FALSE) & \" - \" & B1025","v":"Solid fossil fuels - KT"},2023]
["OIL","KT",null,"SPACEHEAT","",null,null,"Total oil and petroleum products",{"$f":"VLOOKUP(D1026, Param_Multilanguage!A:C, Param_Menu!$B$3+1, FALSE)","v":"Space heating"},{"$f":"VLOOKUP(H1026,LanguageData,MATCH(LanguageChosen,Language[Language],0),FALSE) & \" - \" & B1026","v":"Total oil and petroleum products - KT"},2023]
["LPG","KT",null,"SPACEHEAT","",null,null,"LPG",{"$f":"VLOOKUP(D1027, Param_Multilanguage!A:C, Param_Menu!$B$3+1, FALSE)","v":"Space heating"},{"$f":"VLOOKUP(H1027,LanguageData,MATCH(LanguageChosen,Language[Language],0),FALSE) & \" - \" & B1027","v":"LPG - KT"},2023]
["KEROSENE","KT",null,"SPACEHEAT","",null,null,"Other kerosene",{"$f":"VLOOKUP(D1028, Param_Multilanguage!A:C, Param_Menu!$B$3+1, FALSE)","v":"Space heating"},{"$f":"VLOOKUP(H1028,LanguageData,MATCH(LanguageChosen,Language[Language],0),FALSE) & \" - \" & B1028","v":"Other kerosene - KT"},2023]
["GASOIL","KT",null,"SPACEHEAT","",null,null,"Total gas/diesel oil",{"$f":"VLOOKUP(D1029, Param_Multilanguage!A:C, Param_Menu!$B$3+1, FALSE)","v":"Space heating"},{"$f":"VLOOKUP(H1029,LanguageData,MATCH(LanguageChosen,Language[Language],0),FALSE) & \" - \" & B1029","v":"Total gas/diesel oil - KT"},2023]
["RENEW","TJ",null,"SPACEHEAT","",null,null,"Renewables and wastes",{"$f":"VLOOKUP(D1030, Param_Multilanguage!A:C, Param_Menu!$B$3+1, FALSE)","v":"Space heating"},{"$f":"VLOOKUP(H1030,LanguageData,MATCH(LanguageChosen,Language[Language],0),FALSE) & \" - \" & B1030","v":"Renewables and wastes - TJ"},2023]
["SOLARTH","TJ",null,"SPACEHEAT","",null,null,"Solar thermal",{"$f":"VLOOKUP(D1031, Param_Multilanguage!A:C, Param_Menu!$B$3+1, FALSE)","v":"Space heating"},{"$f":"VLOOKUP(H1031,LanguageData,MATCH(LanguageChosen,Language[Language],0),FALSE) & \" - \" & B1031","v":"Solar thermal - TJ"},2023]
["BIOFUEL","TJ",null,"SPACEHEAT","",null,null,"Solid biofuels excluding charcoal",{"$f":"VLOOKUP(D1032, Param_Multilanguage!A:C, Param_Menu!$B$3+1, FALSE)","v":"Space heating"},{"$f":"VLOOKUP(H1032,LanguageData,MATCH(LanguageChosen,Language[Language],0),FALSE) & \" - \" & B1032","v":"Solid biofuels excluding charcoal - TJ"},2023]
["BIOGASES","TJ",null,"SPACEHEAT","",null,null,"Biogases",{"$f":"VLOOKUP(D1033, Param_Multilanguage!A:C, Param_Menu!$B$3+1, FALSE)","v":"Space heating"},{"$f":"VLOOKUP(H1033,LanguageData,MATCH(LanguageChosen,Language[Language],0),FALSE) & \" - \" & B1033","v":"Biogases - TJ"},2023]
["AMBIANT","TJ",null,"SPACEHEAT","",null,null,"Ambient heat",{"$f":"VLOOKUP(D1034, Param_Multilanguage!A:C, Param_Menu!$B$3+1, FALSE)","v":"Space heating"},{"$f":"VLOOKUP(H1034,LanguageData,MATCH(LanguageChosen,Language[Language],0),FALSE) & \" - \" & B1034","v":"Ambient heat - TJ"},2023]
["ELEC","GWH",null,"SPACECOOL",null,null,null,"Electricity",{"$f":"VLOOKUP(D1035, Param_Multilanguage!A:C, Param_Menu!$B$3+1, FALSE)","v":"Space cooling"},{"$f":"VLOOKUP(H1035,LanguageData,MATCH(LanguageChosen,Language[Language],0),FALSE) & \" - \" & B1035","v":"Electricity - GWH"},2023]
["HEAT","TJ",null,"SPACECOOL","",null,null,"Derived heat",{"$f":"VLOOKUP(D1036, Param_Multilanguage!A:C, Param_Menu!$B$3+1, FALSE)","v":"Space cooling"},{"$f":"VLOOKUP(H1036,LanguageData,MATCH(LanguageChosen,Language[Language],0),FALSE) & \" - \" & B1036","v":"Derived heat - TJ"},2023]
["GAS","TJ_GCV",null,"SPACECOOL","",null,null,"Gas",{"$f":"VLOOKUP(D1037, Param_Multilanguage!A:C, Param_Menu!$B$3+1, FALSE)","v":"Space cooling"},{"$f":"VLOOKUP(H1037,LanguageData,MATCH(LanguageChosen,Language[Language],0),FALSE) & \" - \" & B1037","v":"Gas - TJ_GCV"},2023]
["SOLIDFUEL","KT",null,"SPACECOOL","",null,null,"Solid fossil fuels",{"$f":"VLOOKUP(D1038, Param_Multilanguage!A:C, Param_Menu!$B$3+1, FALSE)","v":"Space cooling"},{"$f":"VLOOKUP(H1038,LanguageData,MATCH(LanguageChosen,Language[Language],0),FALSE) & \" - \" & B1038","v":"Solid fossil fuels - KT"},2023]
["OIL","KT",null,"SPACECOOL","",null,null,"Total oil and petroleum products",{"$f":"VLOOKUP(D1039, Param_Multilanguage!A:C, Param_Menu!$B$3+1, FALSE)","v":"Space cooling"},{"$f":"VLOOKUP(H1039,LanguageData,MATCH(LanguageChosen,Language[Language],0),FALSE) & \" - \" & B1039","v":"Total oil and petroleum products - KT"},2023]
["LPG","KT",null,"SPACECOOL","",null,null,"LPG",{"$f":"VLOOKUP(D1040, Param_Multilanguage!A:C, Param_Menu!$B$3+1, FALSE)","v":"Space cooling"},{"$f":"VLOOKUP(H1040,LanguageData,MATCH(LanguageChosen,Language[Language],0),FALSE) & \" - \" & B1040","v":"LPG - KT"},2023]
["KEROSENE","KT",null,"SPACECOOL","",null,null,"Other kerosene",{"$f":"VLOOKUP(D1041, Param_Multilanguage!A:C, Param_Menu!$B$3+1, FALSE)","v":"Space cooling"},{"$f":"VLOOKUP(H1041,LanguageData,MATCH(LanguageChosen,Language[Language],0),FALSE) & \" - \" & B1041","v":"Other kerosene - KT"},2023]
["GASOIL","KT",null,"SPACECOOL","",null,null,"Total gas/diesel oil",{"$f":"VLOOKUP(D1042, Param_Multilanguage!A:C, Param_Menu!$B$3+1, FALSE)","v":"Space cooling"},{"$f":"VLOOKUP(H1042,LanguageData,MATCH(LanguageChosen,Language[Language],0),FALSE) & \" - \" & B1042","v":"Total gas/diesel oil - KT"},2023]
["RENEW","TJ",null,"SPACECOOL","",null,null,"Renewables and wastes",{"$f":"VLOOKUP(D1043, Param_Multilanguage!A:C, Param_Menu!$B$3+1, FALSE)","v":"Space cooling"},{"$f":"VLOOKUP(H1043,LanguageData,MATCH(LanguageChosen,Language[Language],0),FALSE) & \" - \" & B1043","v":"Renewables and wastes - TJ"},2023]
["SOLARTH","TJ",null,"SPACECOOL","",null,null,"Solar thermal",{"$f":"VLOOKUP(D1044, Param_Multilanguage!A:C, Param_Menu!$B$3+1, FALSE)","v":"Space cooling"},{"$f":"VLOOKUP(H1044,LanguageData,MATCH(LanguageChosen,Language[Language],0),FALSE) & \" - \" & B1044","v":"Solar thermal - TJ"},2023]
["BIOFUEL","TJ",null,"SPACECOOL","",null,null,"Solid biofuels excluding charcoal",{"$f":"VLOOKUP(D1045, Param_Multilanguage!A:C, Param_Menu!$B$3+1, FALSE)","v":"Space cooling"},{"$f":"VLOOKUP(H1045,LanguageData,MATCH(LanguageChosen,Language[Language],0),FALSE) & \" - \" & B1045","v":"Solid biofuels excluding charcoal - TJ"},2023]
["BIOGASES","TJ",null,"SPACECOOL","",null,null,"Biogases",{"$f":"VLOOKUP(D1046, Param_Multilanguage!A:C, Param_Menu!$B$3+1, FALSE)","v":"Space cooling"},{"$f":"VLOOKUP(H1046,LanguageData,MATCH(LanguageChosen,Language[Language],0),FALSE) & \" - \" & B1046","v":"Biogases - TJ"},2023]
["AMBIANT","TJ",null,"SPACECOOL","",null,null,"Ambient heat",{"$f":"VLOOKUP(D1047, Param_Multilanguage!A:C, Param_Menu!$B$3+1, FALSE)","v":"Space cooling"},{"$f":"VLOOKUP(H1047,LanguageData,MATCH(LanguageChosen,Language[Language],0),FALSE) & \" - \" & B1047","v":"Ambient heat - TJ"},2023]
["ELEC","GWH",null,"WATERHEAT",null,null,null,"Electricity",{"$f":"VLOOKUP(D1048, Param_Multilanguage!A:C, Param_Menu!$B$3+1, FALSE)","v":"Water heating"},{"$f":"VLOOKUP(H1048,LanguageData,MATCH(LanguageChosen,Language[Language],0),FALSE) & \" - \" & B1048","v":"Electricity - GWH"},2023]
["HEAT","TJ",null,"WATERHEAT","",null,null,"Derived heat",{"$f":"VLOOKUP(D1049, Param_Multilanguage!A:C, Param_Menu!$B$3+1, FALSE)","v":"Water heating"},{"$f":"VLOOKUP(H1049,LanguageData,MATCH(LanguageChosen,Language[Language],0),FALSE) & \" - \" & B1049","v":"Derived heat - TJ"},2023]
["GAS","TJ_GCV",null,"WATERHEAT","",null,null,"Gas",{"$f":"VLOOKUP(D1050, Param_Multilanguage!A:C, Param_Menu!$B$3+1, FALSE)","v":"Water heating"},{"$f":"VLOOKUP(H1050,LanguageData,MATCH(LanguageChosen,Language[Language],0),FALSE) & \" - \" & B1050","v":"Gas - TJ_GCV"},2023]
["SOLIDFUEL","KT",null,"WATERHEAT","",null,null,"Solid fossil fuels",{"$f":"VLOOKUP(D1051, Param_Multilanguage!A:C, Param_Menu!$B$3+1, FALSE)","v":"Water heating"},{"$f":"VLOOKUP(H1051,LanguageData,MATCH(LanguageChosen,Language[Language],0),FALSE) & \" - \" & B1051","v":"Solid fossil fuels - KT"},2023]
["OIL","KT",null,"WATERHEAT","",null,null,"Total oil and petroleum products",{"$f":"VLOOKUP(D1052, Param_Multilanguage!A:C, Param_Menu!$B$3+1, FALSE)","v":"Water heating"},{"$f":"VLOOKUP(H1052,LanguageData,MATCH(LanguageChosen,Language[Language],0),FALSE) & \" - \" & B1052","v":"Total oil and petroleum products - KT"},2023]
["LPG","KT",null,"WATERHEAT","",null,null,"LPG",{"$f":"VLOOKUP(D1053, Param_Multilanguage!A:C, Param_Menu!$B$3+1, FALSE)","v":"Water heating"},{"$f":"VLOOKUP(H1053,LanguageData,MATCH(LanguageChosen,Language[Language],0),FALSE) & \" - \" & B1053","v":"LPG - KT"},2023]
["KEROSENE","KT",null,"WATERHEAT","",null,null,"Other kerosene",{"$f":"VLOOKUP(D1054, Param_Multilanguage!A:C, Param_Menu!$B$3+1, FALSE)","v":"Water heating"},{"$f":"VLOOKUP(H1054,LanguageData,MATCH(LanguageChosen,Language[Language],0),FALSE) & \" - \" & B1054","v":"Other kerosene - KT"},2023]
["GASOIL","KT",null,"WATERHEAT","",null,null,"Total gas/diesel oil",{"$f":"VLOOKUP(D1055, Param_Multilanguage!A:C, Param_Menu!$B$3+1, FALSE)","v":"Water heating"},{"$f":"VLOOKUP(H1055,LanguageData,MATCH(LanguageChosen,Language[Language],0),FALSE) & \" - \" & B1055","v":"Total gas/diesel oil - KT"},2023]
["RENEW","TJ",null,"WATERHEAT","",null,null,"Renewables and wastes",{"$f":"VLOOKUP(D1056, Param_Multilanguage!A:C, Param_Menu!$B$3+1, FALSE)","v":"Water heating"},{"$f":"VLOOKUP(H1056,LanguageData,MATCH(LanguageChosen,Language[Language],0),FALSE) & \" - \" & B1056","v":"Renewables and wastes - TJ"},2023]
["SOLARTH","TJ",null,"WATERHEAT","",null,null,"Solar thermal",{"$f":"VLOOKUP(D1057, Param_Multilanguage!A:C, Param_Menu!$B$3+1, FALSE)","v":"Water heating"},{"$f":"VLOOKUP(H1057,LanguageData,MATCH(LanguageChosen,Language[Language],0),FALSE) & \" - \" & B1057","v":"Solar thermal - TJ"},2023]
["BIOFUEL","TJ",null,"WATERHEAT","",null,null,"Solid biofuels excluding charcoal",{"$f":"VLOOKUP(D1058, Param_Multilanguage!A:C, Param_Menu!$B$3+1, FALSE)","v":"Water heating"},{"$f":"VLOOKUP(H1058,LanguageData,MATCH(LanguageChosen,Language[Language],0),FALSE) & \" - \" & B1058","v":"Solid biofuels excluding charcoal - TJ"},2023]
["BIOGASES","TJ",null,"WATERHEAT","",null,null,"Biogases",{"$f":"VLOOKUP(D1059, Param_Multilanguage!A:C, Param_Menu!$B$3+1, FALSE)","v":"Water heating"},{"$f":"VLOOKUP(H1059,LanguageData,MATCH(LanguageChosen,Language[Language],0),FALSE) & \" - \" & B1059","v":"Biogases - TJ"},2023]
["AMBIANT","TJ",null,"WATERHEAT","",null,null,"Ambient heat",{"$f":"VLOOKUP(D1060, Param_Multilanguage!A:C, Param_Menu!$B$3+1, FALSE)","v":"Water heating"},{"$f":"VLOOKUP(H1060,LanguageData,MATCH(LanguageChosen,Language[Language],0),FALSE) & \" - \" & B1060","v":"Ambient heat - TJ"},2023]
["ELEC","GWH",null,"COOK",null,null,null,"Electricity",{"$f":"VLOOKUP(D1061, Param_Multilanguage!A:C, Param_Menu!$B$3+1, FALSE)","v":"Cooking"},{"$f":"VLOOKUP(H1061,LanguageData,MATCH(LanguageChosen,Language[Language],0),FALSE) & \" - \" & B1061","v":"Electricity - GWH"},2023]
["HEAT","TJ",null,"COOK","",null,null,"Derived heat",{"$f":"VLOOKUP(D1062, Param_Multilanguage!A:C, Param_Menu!$B$3+1, FALSE)","v":"Cooking"},{"$f":"VLOOKUP(H1062,LanguageData,MATCH(LanguageChosen,Language[Language],0),FALSE) & \" - \" & B1062","v":"Derived heat - TJ"},2023]
["GAS","TJ_GCV",null,"COOK","",null,null,"Gas",{"$f":"VLOOKUP(D1063, Param_Multilanguage!A:C, Param_Menu!$B$3+1, FALSE)","v":"Cooking"},{"$f":"VLOOKUP(H1063,LanguageData,MATCH(LanguageChosen,Language[Language],0),FALSE) & \" - \" & B1063","v":"Gas - TJ_GCV"},2023]
["SOLIDFUEL","KT",null,"COOK","",null,null,"Solid fossil fuels",{"$f":"VLOOKUP(D1064, Param_Multilanguage!A:C, Param_Menu!$B$3+1, FALSE)","v":"Cooking"},{"$f":"VLOOKUP(H1064,LanguageData,MATCH(LanguageChosen,Language[Language],0),FALSE) & \" - \" & B1064","v":"Solid fossil fuels - KT"},2023]
["OIL","KT",null,"COOK","",null,null,"Total oil and petroleum products",{"$f":"VLOOKUP(D1065, Param_Multilanguage!A:C, Param_Menu!$B$3+1, FALSE)","v":"Cooking"},{"$f":"VLOOKUP(H1065,LanguageData,MATCH(LanguageChosen,Language[Language],0),FALSE) & \" - \" & B1065","v":"Total oil and petroleum products - KT"},2023]
["LPG","KT",null,"COOK","",null,null,"LPG",{"$f":"VLOOKUP(D1066, Param_Multilanguage!A:C, Param_Menu!$B$3+1, FALSE)","v":"Cooking"},{"$f":"VLOOKUP(H1066,LanguageData,MATCH(LanguageChosen,Language[Language],0),FALSE) & \" - \" & B1066","v":"LPG - KT"},2023]
["KEROSENE","KT",null,"COOK","",null,null,"Other kerosene",{"$f":"VLOOKUP(D1067, Param_Multilanguage!A:C, Param_Menu!$B$3+1, FALSE)","v":"Cooking"},{"$f":"VLOOKUP(H1067,LanguageData,MATCH(LanguageChosen,Language[Language],0),FALSE) & \" - \" & B1067","v":"Other kerosene - KT"},2023]
["GASOIL","KT",null,"COOK","",null,null,"Total gas/diesel oil",{"$f":"VLOOKUP(D1068, Param_Multilanguage!A:C, Param_Menu!$B$3+1, FALSE)","v":"Cooking"},{"$f":"VLOOKUP(H1068,LanguageData,MATCH(LanguageChosen,Language[Language],0),FALSE) & \" - \" & B1068","v":"Total gas/diesel oil - KT"},2023]
["RENEW","TJ",null,"COOK","",null,null,"Renewables and wastes",{"$f":"VLOOKUP(D1069, Param_Multilanguage!A:C, Param_Menu!$B$3+1, FALSE)","v":"Cooking"},{"$f":"VLOOKUP(H1069,LanguageData,MATCH(LanguageChosen,Language[Language],0),FALSE) & \" - \" & B1069","v":"Renewables and wastes - TJ"},2023]
["SOLARTH","TJ",null,"COOK","",null,null,"Solar thermal",{"$f":"VLOOKUP(D1070, Param_Multilanguage!A:C, Param_Menu!$B$3+1, FALSE)","v":"Cooking"},{"$f":"VLOOKUP(H1070,LanguageData,MATCH(LanguageChosen,Language[Language],0),FALSE) & \" - \" & B1070","v":"Solar thermal - TJ"},2023]
["BIOFUEL","TJ",null,"COOK","",null,null,"Solid biofuels excluding charcoal",{"$f":"VLOOKUP(D1071, Param_Multilanguage!A:C, Param_Menu!$B$3+1, FALSE)","v":"Cooking"},{"$f":"VLOOKUP(H1071,LanguageData,MATCH(LanguageChosen,Language[Language],0),FALSE) & \" - \" & B1071","v":"Solid biofuels excluding charcoal - TJ"},2023]
["BIOGASES","TJ",null,"COOK","",null,null,"Biogases",{"$f":"VLOOKUP(D1072, Param_Multilanguage!A:C, Param_Menu!$B$3+1, FALSE)","v":"Cooking"},{"$f":"VLOOKUP(H1072,LanguageData,MATCH(LanguageChosen,Language[Language],0),FALSE) & \" - \" & B1072","v":"Biogases - TJ"},2023]
["AMBIANT","TJ",null,"COOK","",null,null,"Ambient heat",{"$f":"VLOOKUP(D1073, Param_Multilanguage!A:C, Param_Menu!$B$3+1, FALSE)","v":"Cooking"},{"$f":"VLOOKUP(H1073,LanguageData,MATCH(LanguageChosen,Language[Language],0),FALSE) & \" - \" & B1073","v":"Ambient heat - TJ"},2023]
["ELEC","GWH",null,"LIGHTAPP",null,null,null,"Electricity",{"$f":"VLOOKUP(D1074, Param_Multilanguage!A:C, Param_Menu!$B$3+1, FALSE)","v":"Lighting and appliances"},{"$f":"VLOOKUP(H1074,LanguageData,MATCH(LanguageChosen,Language[Language],0),FALSE) & \" - \" & B1074","v":"Electricity - GWH"},2023]
["HEAT","TJ",null,"LIGHTAPP","",null,null,"Derived heat",{"$f":"VLOOKUP(D1075, Param_Multilanguage!A:C, Param_Menu!$B$3+1, FALSE)","v":"Lighting and appliances"},{"$f":"VLOOKUP(H1075,LanguageData,MATCH(LanguageChosen,Language[Language],0),FALSE) & \" - \" & B1075","v":"Derived heat - TJ"},2023]
["GAS","TJ_GCV",null,"LIGHTAPP","",null,null,"Gas",{"$f":"VLOOKUP(D1076, Param_Multilanguage!A:C, Param_Menu!$B$3+1, FALSE)","v":"Lighting and appliances"},{"$f":"VLOOKUP(H1076,LanguageData,MATCH(LanguageChosen,Language[Language],0),FALSE) & \" - \" & B1076","v":"Gas - TJ_GCV"},2023]
["SOLIDFUEL","KT",null,"LIGHTAPP","",null,null,"Solid fossil fuels",{"$f":"VLOOKUP(D1077, Param_Multilanguage!A:C, Param_Menu!$B$3+1, FALSE)","v":"Lighting and appliances"},{"$f":"VLOOKUP(H1077,LanguageData,MATCH(LanguageChosen,Language[Language],0),FALSE) & \" - \" & B1077","v":"Solid fossil fuels - KT"},2023]
["OIL","KT",null,"LIGHTAPP","",null,null,"Total oil and petroleum products",{"$f":"VLOOKUP(D1078, Param_Multilanguage!A:C, Param_Menu!$B$3+1, FALSE)","v":"Lighting and appliances"},{"$f":"VLOOKUP(H1078,LanguageData,MATCH(LanguageChosen,Language[Language],0),FALSE) & \" - \" & B1078","v":"Total oil and petroleum products - KT"},2023]
["LPG","KT",null,"LIGHTAPP","",null,null,"LPG",{"$f":"VLOOKUP(D1079, Param_Multilanguage!A:C, Param_Menu!$B$3+1, FALSE)","v":"Lighting and appliances"},{"$f":"VLOOKUP(H1079,LanguageData,MATCH(LanguageChosen,Language[Language],0),FALSE) & \" - \" & B1079","v":"LPG - KT"},2023]
["KEROSENE","KT",null,"LIGHTAPP","",null,null,"Other kerosene",{"$f":"VLOOKUP(D1080, Param_Multilanguage!A:C, Param_Menu!$B$3+1, FALSE)","v":"Lighting and appliances"},{"$f":"VLOOKUP(H1080,LanguageData,MATCH(LanguageChosen,Language[Language],0),FALSE) & \" - \" & B1080","v":"Other kerosene - KT"},2023]
["GASOIL","KT",null,"LIGHTAPP","",null,null,"Total gas/diesel oil",{"$f":"VLOOKUP(D1081, Param_Multilanguage!A:C, Param_Menu!$B$3+1, FALSE)","v":"Lighting and appliances"},{"$f":"VLOOKUP(H1081,LanguageData,MATCH(LanguageChosen,Language[Language],0),FALSE) & \" - \" & B1081","v":"Total gas/diesel oil - KT"},2023]
["RENEW","TJ",null,"LIGHTAPP","",null,null,"Renewables and wastes",{"$f":"VLOOKUP(D1082, Param_Multilanguage!A:C, Param_Menu!$B$3+1, FALSE)","v":"Lighting and appliances"},{"$f":"VLOOKUP(H1082,LanguageData,MATCH(LanguageChosen,Language[Language],0),FALSE) & \" - \" & B1082","v":"Renewables and wastes - TJ"},2023]
["SOLARTH","TJ",null,"LIGHTAPP","",null,null,"Solar thermal",{"$f":"VLOOKUP(D1083, Param_Multilanguage!A:C, Param_Menu!$B$3+1, FALSE)","v":"Lighting and appliances"},{"$f":"VLOOKUP(H1083,LanguageData,MATCH(LanguageChosen,Language[Language],0),FALSE) & \" - \" & B1083","v":"Solar thermal - TJ"},2023]
["BIOFUEL","TJ",null,"LIGHTAPP","",null,null,"Solid biofuels excluding charcoal",{"$f":"VLOOKUP(D1084, Param_Multilanguage!A:C, Param_Menu!$B$3+1, FALSE)","v":"Lighting and appliances"},{"$f":"VLOOKUP(H1084,LanguageData,MATCH(LanguageChosen,Language[Language],0),FALSE) & \" - \" & B1084","v":"Solid biofuels excluding charcoal - TJ"},2023]
["BIOGASES","TJ",null,"LIGHTAPP","",null,null,"Biogases",{"$f":"VLOOKUP(D1085, Param_Multilanguage!A:C, Param_Menu!$B$3+1, FALSE)","v":"Lighting and appliances"},{"$f":"VLOOKUP(H1085,LanguageData,MATCH(LanguageChosen,Language[Language],0),FALSE) & \" - \" & B1085","v":"Biogases - TJ"},2023]
["AMBIANT","TJ",null,"LIGHTAPP","",null,null,"Ambient heat",{"$f":"VLOOKUP(D1086, Param_Multilanguage!A:C, Param_Menu!$B$3+1, FALSE)","v":"Lighting and appliances"},{"$f":"VLOOKUP(H1086,LanguageData,MATCH(LanguageChosen,Language[Language],0),FALSE) & \" - \" & B1086","v":"Ambient heat - TJ"},2023]
["ELEC","GWH",null,"RESOTH",null,null,null,"Electricity",{"$f":"VLOOKUP(D1087, Param_Multilanguage!A:C, Param_Menu!$B$3+1, FALSE)","v":"Other end uses"},{"$f":"VLOOKUP(H1087,LanguageData,MATCH(LanguageChosen,Language[Language],0),FALSE) & \" - \" & B1087","v":"Electricity - GWH"},2023]
["HEAT","TJ",null,"RESOTH","",null,null,"Derived heat",{"$f":"VLOOKUP(D1088, Param_Multilanguage!A:C, Param_Menu!$B$3+1, FALSE)","v":"Other end uses"},{"$f":"VLOOKUP(H1088,LanguageData,MATCH(LanguageChosen,Language[Language],0),FALSE) & \" - \" & B1088","v":"Derived heat - TJ"},2023]
["GAS","TJ_GCV",null,"RESOTH","",null,null,"Gas",{"$f":"VLOOKUP(D1089, Param_Multilanguage!A:C, Param_Menu!$B$3+1, FALSE)","v":"Other end uses"},{"$f":"VLOOKUP(H1089,LanguageData,MATCH(LanguageChosen,Language[Language],0),FALSE) & \" - \" & B1089","v":"Gas - TJ_GCV"},2023]
["SOLIDFUEL","KT",null,"RESOTH","",null,null,"Solid fossil fuels",{"$f":"VLOOKUP(D1090, Param_Multilanguage!A:C, Param_Menu!$B$3+1, FALSE)","v":"Other end uses"},{"$f":"VLOOKUP(H1090,LanguageData,MATCH(LanguageChosen,Language[Language],0),FALSE) & \" - \" & B1090","v":"Solid fossil fuels - KT"},2023]
["OIL","KT",null,"RESOTH","",null,null,"Total oil and petroleum products",{"$f":"VLOOKUP(D1091, Param_Multilanguage!A:C, Param_Menu!$B$3+1, FALSE)","v":"Other end uses"},{"$f":"VLOOKUP(H1091,LanguageData,MATCH(LanguageChosen,Language[Language],0),FALSE) & \" - \" & B1091","v":"Total oil and petroleum products - KT"},2023]
["LPG","KT",null,"RESOTH","",null,null,"LPG",{"$f":"VLOOKUP(D1092, Param_Multilanguage!A:C, Param_Menu!$B$3+1, FALSE)","v":"Other end uses"},{"$f":"VLOOKUP(H1092,LanguageData,MATCH(LanguageChosen,Language[Language],0),FALSE) & \" - \" & B1092","v":"LPG - KT"},2023]
["KEROSENE","KT",null,"RESOTH","",null,null,"Other kerosene",{"$f":"VLOOKUP(D1093, Param_Multilanguage!A:C, Param_Menu!$B$3+1, FALSE)","v":"Other end uses"},{"$f":"VLOOKUP(H1093,LanguageData,MATCH(LanguageChosen,Language[Language],0),FALSE) & \" - \" & B1093","v":"Other kerosene - KT"},2023]
["GASOIL","KT",null,"RESOTH","",null,null,"Total gas/diesel oil",{"$f":"VLOOKUP(D1094, Param_Multilanguage!A:C, Param_Menu!$B$3+1, FALSE)","v":"Other end uses"},{"$f":"VLOOKUP(H1094,LanguageData,MATCH(LanguageChosen,Language[Language],0),FALSE) & \" - \" & B1094","v":"Total gas/diesel oil - KT"},2023]
["RENEW","TJ",null,"RESOTH","",null,null,"Renewables and wastes",{"$f":"VLOOKUP(D1095, Param_Multilanguage!A:C, Param_Menu!$B$3+1, FALSE)","v":"Other end uses"},{"$f":"VLOOKUP(H1095,LanguageData,MATCH(LanguageChosen,Language[Language],0),FALSE) & \" - \" & B1095","v":"Renewables and wastes - TJ"},2023]
["SOLARTH","TJ",null,"RESOTH","",null,null,"Solar thermal",{"$f":"VLOOKUP(D1096, Param_Multilanguage!A:C, Param_Menu!$B$3+1, FALSE)","v":"Other end uses"},{"$f":"VLOOKUP(H1096,LanguageData,MATCH(LanguageChosen,Language[Language],0),FALSE) & \" - \" & B1096","v":"Solar thermal - TJ"},2023]
["BIOFUEL","TJ",null,"RESOTH","",null,null,"Solid biofuels excluding charcoal",{"$f":"VLOOKUP(D1097, Param_Multilanguage!A:C, Param_Menu!$B$3+1, FALSE)","v":"Other end uses"},{"$f":"VLOOKUP(H1097,LanguageData,MATCH(LanguageChosen,Language[Language],0),FALSE) & \" - \" & B1097","v":"Solid biofuels excluding charcoal - TJ"},2023]
["BIOGASES","TJ",null,"RESOTH","",null,null,"Biogases",{"$f":"VLOOKUP(D1098, Param_Multilanguage!A:C, Param_Menu!$B$3+1, FALSE)","v":"Other end uses"},{"$f":"VLOOKUP(H1098,LanguageData,MATCH(LanguageChosen,Language[Language],0),FALSE) & \" - \" & B1098","v":"Biogases - TJ"},2023]
["AMBIANT","TJ",null,"RESOTH","",null,null,"Ambient heat",{"$f":"VLOOKUP(D1099, Param_Multilanguage!A:C, Param_Menu!$B$3+1, FALSE)","v":"Other end uses"},{"$f":"VLOOKUP(H1099,LanguageData,MATCH(LanguageChosen,Language[Language],0),FALSE) & \" - \" & B1099","v":"Ambient heat - TJ"},2023]
["ELEC","GWH",null,"RESTOT",null,null,null,"Electricity",{"$f":"VLOOKUP(D1100, Param_Multilanguage!A:C, Param_Menu!$B$3+1, FALSE)","v":"Total Residential / Households"},{"$f":"VLOOKUP(H1100,LanguageData,MATCH(LanguageChosen,Language[Language],0),FALSE) & \" - \" & B1100","v":"Electricity - GWH"},2010]
["HEAT","TJ",null,"RESTOT",null,null,null,"Derived heat",{"$f":"VLOOKUP(D1101, Param_Multilanguage!A:C, Param_Menu!$B$3+1, FALSE)","v":"Total Residential / Households"},{"$f":"VLOOKUP(H1101,LanguageData,MATCH(LanguageChosen,Language[Language],0),FALSE) & \" - \" & B1101","v":"Derived heat - TJ"},2010]
["GAS","TJ_GCV",null,"RESTOT",null,null,null,"Gas",{"$f":"VLOOKUP(D1102, Param_Multilanguage!A:C, Param_Menu!$B$3+1, FALSE)","v":"Total Residential / Households"},{"$f":"VLOOKUP(H1102,LanguageData,MATCH(LanguageChosen,Language[Language],0),FALSE) & \" - \" & B1102","v":"Gas - TJ_GCV"},2010]
["SOLIDFUEL","KT",null,"RESTOT",null,null,null,"Solid fossil fuels",{"$f":"VLOOKUP(D1103, Param_Multilanguage!A:C, Param_Menu!$B$3+1, FALSE)","v":"Total Residential / Households"},{"$f":"VLOOKUP(H1103,LanguageData,MATCH(LanguageChosen,Language[Language],0),FALSE) & \" - \" & B1103","v":"Solid fossil fuels - KT"},2010]
["OIL","KT",null,"RESTOT",null,null,null,"Total oil and petroleum products",{"$f":"VLOOKUP(D1104, Param_Multilanguage!A:C, Param_Menu!$B$3+1, FALSE)","v":"Total Residential / Households"},{"$f":"VLOOKUP(H1104,LanguageData,MATCH(LanguageChosen,Language[Language],0),FALSE) & \" - \" & B1104","v":"Total oil and petroleum products - KT"},2010]
["LPG","KT",null,"RESTOT",null,null,null,"LPG",{"$f":"VLOOKUP(D1105, Param_Multilanguage!A:C, Param_Menu!$B$3+1, FALSE)","v":"Total Residential / Households"},{"$f":"VLOOKUP(H1105,LanguageData,MATCH(LanguageChosen,Language[Language],0),FALSE) & \" - \" & B1105","v":"LPG - KT"},2010]
["KEROSENE","KT",null,"RESTOT",null,null,null,"Other kerosene",{"$f":"VLOOKUP(D1106, Param_Multilanguage!A:C, Param_Menu!$B$3+1, FALSE)","v":"Total Residential / Households"},{"$f":"VLOOKUP(H1106,LanguageData,MATCH(LanguageChosen,Language[Language],0),FALSE) & \" - \" & B1106","v":"Other kerosene - KT"},2010]
["GASOIL","KT",null,"RESTOT",null,null,null,"Total gas/diesel oil",{"$f":"VLOOKUP(D1107, Param_Multilanguage!A:C, Param_Menu!$B$3+1, FALSE)","v":"Total Residential / Households"},{"$f":"VLOOKUP(H1107,LanguageData,MATCH(LanguageChosen,Language[Language],0),FALSE) & \" - \" & B1107","v":"Total gas/diesel oil - KT"},2010]
["RENEW","TJ",null,"RESTOT",null,null,null,"Renewables and wastes",{"$f":"VLOOKUP(D1108, Param_Multilanguage!A:C, Param_Menu!$B$3+1, FALSE)","v":"Total Residential / Households"},{"$f":"VLOOKUP(H1108,LanguageData,MATCH(LanguageChosen,Language[Language],0),FALSE) & \" - \" & B1108","v":"Renewables and wastes - TJ"},2010]
["SOLARTH","TJ",null,"RESTOT",null,null,null,"Solar thermal",{"$f":"VLOOKUP(D1109, Param_Multilanguage!A:C, Param_Menu!$B$3+1, FALSE)","v":"Total Residential / Households"},{"$f":"VLOOKUP(H1109,LanguageData,MATCH(LanguageChosen,Language[Language],0),FALSE) & \" - \" & B1109","v":"Solar thermal - TJ"},2010]
["BIOFUEL","TJ",null,"RESTOT",null,null,null,"Solid biofuels excluding charcoal",{"$f":"VLOOKUP(D1110, Param_Multilanguage!A:C, Param_Menu!$B$3+1, FALSE)","v":"Total Residential / Households"},{"$f":"VLOOKUP(H1110,LanguageData,MATCH(LanguageChosen,Language[Language],0),FALSE) & \" - \" & B1110","v":"Solid biofuels excluding charcoal - TJ"},2010]
["BIOGASES","TJ",null,"RESTOT",null,null,null,"Biogases",{"$f":"VLOOKUP(D1111, Param_Multilanguage!A:C, Param_Menu!$B$3+1, FALSE)","v":"Total Residential / Households"},{"$f":"VLOOKUP(H1111,LanguageData,MATCH(LanguageChosen,Language[Language],0),FALSE) & \" - \" & B1111","v":"Biogases - TJ"},2010]
["AMBIANT","TJ",null,"RESTOT",null,null,null,"Ambient heat",{"$f":"VLOOKUP(D1112, Param_Multilanguage!A:C, Param_Menu!$B$3+1, FALSE)","v":"Total Residential / Households"},{"$f":"VLOOKUP(H1112,LanguageData,MATCH(LanguageChosen,Language[Language],0),FALSE) & \" - \" & B1112","v":"Ambient heat - TJ"},2010]
["ELEC","GWH",null,"RESTOT",null,null,null,"Electricity",{"$f":"VLOOKUP(D1113, Param_Multilanguage!A:C, Param_Menu!$B$3+1, FALSE)","v":"Total Residential / Households"},{"$f":"VLOOKUP(H1113,LanguageData,MATCH(LanguageChosen,Language[Language],0),FALSE) & \" - \" & B1113","v":"Electricity - GWH"},2011]
["HEAT","TJ",null,"RESTOT",null,null,null,"Derived heat",{"$f":"VLOOKUP(D1114, Param_Multilanguage!A:C, Param_Menu!$B$3+1, FALSE)","v":"Total Residential / Households"},{"$f":"VLOOKUP(H1114,LanguageData,MATCH(LanguageChosen,Language[Language],0),FALSE) & \" - \" & B1114","v":"Derived heat - TJ"},2011]
["GAS","TJ_GCV",null,"RESTOT",null,null,null,"Gas",{"$f":"VLOOKUP(D1115, Param_Multilanguage!A:C, Param_Menu!$B$3+1, FALSE)","v":"Total Residential / Households"},{"$f":"VLOOKUP(H1115,LanguageData,MATCH(LanguageChosen,Language[Language],0),FALSE) & \" - \" & B1115","v":"Gas - TJ_GCV"},2011]
["SOLIDFUEL","KT",null,"RESTOT",null,null,null,"Solid fossil fuels",{"$f":"VLOOKUP(D1116, Param_Multilanguage!A:C, Param_Menu!$B$3+1, FALSE)","v":"Total Residential / Households"},{"$f":"VLOOKUP(H1116,LanguageData,MATCH(LanguageChosen,Language[Language],0),FALSE) & \" - \" & B1116","v":"Solid fossil fuels - KT"},2011]
["OIL","KT",null,"RESTOT",null,null,null,"Total oil and petroleum products",{"$f":"VLOOKUP(D1117, Param_Multilanguage!A:C, Param_Menu!$B$3+1, FALSE)","v":"Total Residential / Households"},{"$f":"VLOOKUP(H1117,LanguageData,MATCH(LanguageChosen,Language[Language],0),FALSE) & \" - \" & B1117","v":"Total oil and petroleum products - KT"},2011]
["LPG","KT",null,"RESTOT",null,null,null,"LPG",{"$f":"VLOOKUP(D1118, Param_Multilanguage!A:C, Param_Menu!$B$3+1, FALSE)","v":"Total Residential / Households"},{"$f":"VLOOKUP(H1118,LanguageData,MATCH(LanguageChosen,Language[Language],0),FALSE) & \" - \" & B1118","v":"LPG - KT"},2011]
["KEROSENE","KT",null,"RESTOT",null,null,null,"Other kerosene",{"$f":"VLOOKUP(D1119, Param_Multilanguage!A:C, Param_Menu!$B$3+1, FALSE)","v":"Total Residential / Households"},{"$f":"VLOOKUP(H1119,LanguageData,MATCH(LanguageChosen,Language[Language],0),FALSE) & \" - \" & B1119","v":"Other kerosene - KT"},2011]
["GASOIL","KT",null,"RESTOT",null,null,null,"Total gas/diesel oil",{"$f":"VLOOKUP(D1120, Param_Multilanguage!A:C, Param_Menu!$B$3+1, FALSE)","v":"Total Residential / Households"},{"$f":"VLOOKUP(H1120,LanguageData,MATCH(LanguageChosen,Language[Language],0),FALSE) & \" - \" & B1120","v":"Total gas/diesel oil - KT"},2011]
["RENEW","TJ",null,"RESTOT",null,null,null,"Renewables and wastes",{"$f":"VLOOKUP(D1121, Param_Multilanguage!A:C, Param_Menu!$B$3+1, FALSE)","v":"Total Residential / Households"},{"$f":"VLOOKUP(H1121,LanguageData,MATCH(LanguageChosen,Language[Language],0),FALSE) & \" - \" & B1121","v":"Renewables and wastes - TJ"},2011]
["SOLARTH","TJ",null,"RESTOT",null,null,null,"Solar thermal",{"$f":"VLOOKUP(D1122, Param_Multilanguage!A:C, Param_Menu!$B$3+1, FALSE)","v":"Total Residential / Households"},{"$f":"VLOOKUP(H1122,LanguageData,MATCH(LanguageChosen,Language[Language],0),FALSE) & \" - \" & B1122","v":"Solar thermal - TJ"},2011]
["BIOFUEL","TJ",null,"RESTOT",null,null,null,"Solid biofuels excluding charcoal",{"$f":"VLOOKUP(D1123, Param_Multilanguage!A:C, Param_Menu!$B$3+1, FALSE)","v":"Total Residential / Households"},{"$f":"VLOOKUP(H1123,LanguageData,MATCH(LanguageChosen,Language[Language],0),FALSE) & \" - \" & B1123","v":"Solid biofuels excluding charcoal - TJ"},2011]
["BIOGASES","TJ",null,"RESTOT",null,null,null,"Biogases",{"$f":"VLOOKUP(D1124, Param_Multilanguage!A:C, Param_Menu!$B$3+1, FALSE)","v":"Total Residential / Households"},{"$f":"VLOOKUP(H1124,LanguageData,MATCH(LanguageChosen,Language[Language],0),FALSE) & \" - \" & B1124","v":"Biogases - TJ"},2011]
["AMBIANT","TJ",null,"RESTOT",null,null,null,"Ambient heat",{"$f":"VLOOKUP(D1125, Param_Multilanguage!A:C, Param_Menu!$B$3+1, FALSE)","v":"Total Residential / Households"},{"$f":"VLOOKUP(H1125,LanguageData,MATCH(LanguageChosen,Language[Language],0),FALSE) & \" - \" & B1125","v":"Ambient heat - TJ"},2011]
["ELEC","GWH",null,"RESTOT",null,null,null,"Electricity",{"$f":"VLOOKUP(D1126, Param_Multilanguage!A:C, Param_Menu!$B$3+1, FALSE)","v":"Total Residential / Households"},{"$f":"VLOOKUP(H1126,LanguageData,MATCH(LanguageChosen,Language[Language],0),FALSE) & \" - \" & B1126","v":"Electricity - GWH"},2012]
["HEAT","TJ",null,"RESTOT",null,null,null,"Derived heat",{"$f":"VLOOKUP(D1127, Param_Multilanguage!A:C, Param_Menu!$B$3+1, FALSE)","v":"Total Residential / Households"},{"$f":"VLOOKUP(H1127,LanguageData,MATCH(LanguageChosen,Language[Language],0),FALSE) & \" - \" & B1127","v":"Derived heat - TJ"},2012]
["GAS","TJ_GCV",null,"RESTOT",null,null,null,"Gas",{"$f":"VLOOKUP(D1128, Param_Multilanguage!A:C, Param_Menu!$B$3+1, FALSE)","v":"Total Residential / Households"},{"$f":"VLOOKUP(H1128,LanguageData,MATCH(LanguageChosen,Language[Language],0),FALSE) & \" - \" & B1128","v":"Gas - TJ_GCV"},2012]
["SOLIDFUEL","KT",null,"RESTOT",null,null,null,"Solid fossil fuels",{"$f":"VLOOKUP(D1129, Param_Multilanguage!A:C, Param_Menu!$B$3+1, FALSE)","v":"Total Residential / Households"},{"$f":"VLOOKUP(H1129,LanguageData,MATCH(LanguageChosen,Language[Language],0),FALSE) & \" - \" & B1129","v":"Solid fossil fuels - KT"},2012]
["OIL","KT",null,"RESTOT",null,null,null,"Total oil and petroleum products",{"$f":"VLOOKUP(D1130, Param_Multilanguage!A:C, Param_Menu!$B$3+1, FALSE)","v":"Total Residential / Households"},{"$f":"VLOOKUP(H1130,LanguageData,MATCH(LanguageChosen,Language[Language],0),FALSE) & \" - \" & B1130","v":"Total oil and petroleum products - KT"},2012]
["LPG","KT",null,"RESTOT",null,null,null,"LPG",{"$f":"VLOOKUP(D1131, Param_Multilanguage!A:C, Param_Menu!$B$3+1, FALSE)","v":"Total Residential / Households"},{"$f":"VLOOKUP(H1131,LanguageData,MATCH(LanguageChosen,Language[Language],0),FALSE) & \" - \" & B1131","v":"LPG - KT"},2012]
["KEROSENE","KT",null,"RESTOT",null,null,null,"Other kerosene",{"$f":"VLOOKUP(D1132, Param_Multilanguage!A:C, Param_Menu!$B$3+1, FALSE)","v":"Total Residential / Households"},{"$f":"VLOOKUP(H1132,LanguageData,MATCH(LanguageChosen,Language[Language],0),FALSE) & \" - \" & B1132","v":"Other kerosene - KT"},2012]
["GASOIL","KT",null,"RESTOT",null,null,null,"Total gas/diesel oil",{"$f":"VLOOKUP(D1133, Param_Multilanguage!A:C, Param_Menu!$B$3+1, FALSE)","v":"Total Residential / Households"},{"$f":"VLOOKUP(H1133,LanguageData,MATCH(LanguageChosen,Language[Language],0),FALSE) & \" - \" & B1133","v":"Total gas/diesel oil - KT"},2012]
["RENEW","TJ",null,"RESTOT",null,null,null,"Renewables and wastes",{"$f":"VLOOKUP(D1134, Param_Multilanguage!A:C, Param_Menu!$B$3+1, FALSE)","v":"Total Residential / Households"},{"$f":"VLOOKUP(H1134,LanguageData,MATCH(LanguageChosen,Language[Language],0),FALSE) & \" - \" & B1134","v":"Renewables and wastes - TJ"},2012]
["SOLARTH","TJ",null,"RESTOT",null,null,null,"Solar thermal",{"$f":"VLOOKUP(D1135, Param_Multilanguage!A:C, Param_Menu!$B$3+1, FALSE)","v":"Total Residential / Households"},{"$f":"VLOOKUP(H1135,LanguageData,MATCH(LanguageChosen,Language[Language],0),FALSE) & \" - \" & B1135","v":"Solar thermal - TJ"},2012]
["BIOFUEL","TJ",null,"RESTOT",null,null,null,"Solid biofuels excluding charcoal",{"$f":"VLOOKUP(D1136, Param_Multilanguage!A:C, Param_Menu!$B$3+1, FALSE)","v":"Total Residential / Households"},{"$f":"VLOOKUP(H1136,LanguageData,MATCH(LanguageChosen,Language[Language],0),FALSE) & \" - \" & B1136","v":"Solid biofuels excluding charcoal - TJ"},2012]
["BIOGASES","TJ",null,"RESTOT",null,null,null,"Biogases",{"$f":"VLOOKUP(D1137, Param_Multilanguage!A:C, Param_Menu!$B$3+1, FALSE)","v":"Total Residential / Households"},{"$f":"VLOOKUP(H1137,LanguageData,MATCH(LanguageChosen,Language[Language],0),FALSE) & \" - \" & B1137","v":"Biogases - TJ"},2012]
["AMBIANT","TJ",null,"RESTOT",null,null,null,"Ambient heat",{"$f":"VLOOKUP(D1138, Param_Multilanguage!A:C, Param_Menu!$B$3+1, FALSE)","v":"Total Residential / Households"},{"$f":"VLOOKUP(H1138,LanguageData,MATCH(LanguageChosen,Language[Language],0),FALSE) & \" - \" & B1138","v":"Ambient heat - TJ"},2012]
["ELEC","GWH",null,"RESTOT",null,null,null,"Electricity",{"$f":"VLOOKUP(D1139, Param_Multilanguage!A:C, Param_Menu!$B$3+1, FALSE)","v":"Total Residential / Households"},{"$f":"VLOOKUP(H1139,LanguageData,MATCH(LanguageChosen,Language[Language],0),FALSE) & \" - \" & B1139","v":"Electricity - GWH"},2013]
["HEAT","TJ",null,"RESTOT",null,null,null,"Derived heat",{"$f":"VLOOKUP(D1140, Param_Multilanguage!A:C, Param_Menu!$B$3+1, FALSE)","v":"Total Residential / Households"},{"$f":"VLOOKUP(H1140,LanguageData,MATCH(LanguageChosen,Language[Language],0),FALSE) & \" - \" & B1140","v":"Derived heat - TJ"},2013]
["GAS","TJ_GCV",null,"RESTOT",null,null,null,"Gas",{"$f":"VLOOKUP(D1141, Param_Multilanguage!A:C, Param_Menu!$B$3+1, FALSE)","v":"Total Residential / Households"},{"$f":"VLOOKUP(H1141,LanguageData,MATCH(LanguageChosen,Language[Language],0),FALSE) & \" - \" & B1141","v":"Gas - TJ_GCV"},2013]
["SOLIDFUEL","KT",null,"RESTOT",null,null,null,"Solid fossil fuels",{"$f":"VLOOKUP(D1142, Param_Multilanguage!A:C, Param_Menu!$B$3+1, FALSE)","v":"Total Residential / Households"},{"$f":"VLOOKUP(H1142,LanguageData,MATCH(LanguageChosen,Language[Language],0),FALSE) & \" - \" & B1142","v":"Solid fossil fuels - KT"},2013]
["OIL","KT",null,"RESTOT",null,null,null,"Total oil and petroleum products",{"$f":"VLOOKUP(D1143, Param_Multilanguage!A:C, Param_Menu!$B$3+1, FALSE)","v":"Total Residential / Households"},{"$f":"VLOOKUP(H1143,LanguageData,MATCH(LanguageChosen,Language[Language],0),FALSE) & \" - \" & B1143","v":"Total oil and petroleum products - KT"},2013]
["LPG","KT",null,"RESTOT",null,null,null,"LPG",{"$f":"VLOOKUP(D1144, Param_Multilanguage!A:C, Param_Menu!$B$3+1, FALSE)","v":"Total Residential / Households"},{"$f":"VLOOKUP(H1144,LanguageData,MATCH(LanguageChosen,Language[Language],0),FALSE) & \" - \" & B1144","v":"LPG - KT"},2013]
["KEROSENE","KT",null,"RESTOT",null,null,null,"Other kerosene",{"$f":"VLOOKUP(D1145, Param_Multilanguage!A:C, Param_Menu!$B$3+1, FALSE)","v":"Total Residential / Households"},{"$f":"VLOOKUP(H1145,LanguageData,MATCH(LanguageChosen,Language[Language],0),FALSE) & \" - \" & B1145","v":"Other kerosene - KT"},2013]
["GASOIL","KT",null,"RESTOT",null,null,null,"Total gas/diesel oil",{"$f":"VLOOKUP(D1146, Param_Multilanguage!A:C, Param_Menu!$B$3+1, FALSE)","v":"Total Residential / Households"},{"$f":"VLOOKUP(H1146,LanguageData,MATCH(LanguageChosen,Language[Language],0),FALSE) & \" - \" & B1146","v":"Total gas/diesel oil - KT"},2013]
["RENEW","TJ",null,"RESTOT",null,null,null,"Renewables and wastes",{"$f":"VLOOKUP(D1147, Param_Multilanguage!A:C, Param_Menu!$B$3+1, FALSE)","v":"Total Residential / Households"},{"$f":"VLOOKUP(H1147,LanguageData,MATCH(LanguageChosen,Language[Language],0),FALSE) & \" - \" & B1147","v":"Renewables and wastes - TJ"},2013]
["SOLARTH","TJ",null,"RESTOT",null,null,null,"Solar thermal",{"$f":"VLOOKUP(D1148, Param_Multilanguage!A:C, Param_Menu!$B$3+1, FALSE)","v":"Total Residential / Households"},{"$f":"VLOOKUP(H1148,LanguageData,MATCH(LanguageChosen,Language[Language],0),FALSE) & \" - \" & B1148","v":"Solar thermal - TJ"},2013]
["BIOFUEL","TJ",null,"RESTOT",null,null,null,"Solid biofuels excluding charcoal",{"$f":"VLOOKUP(D1149, Param_Multilanguage!A:C, Param_Menu!$B$3+1, FALSE)","v":"Total Residential / Households"},{"$f":"VLOOKUP(H1149,LanguageData,MATCH(LanguageChosen,Language[Language],0),FALSE) & \" - \" & B1149","v":"Solid biofuels excluding charcoal - TJ"},2013]
["BIOGASES","TJ",null,"RESTOT",null,null,null,"Biogases",{"$f":"VLOOKUP(D1150, Param_Multilanguage!A:C, Param_Menu!$B$3+1, FALSE)","v":"Total Residential / Households"},{"$f":"VLOOKUP(H1150,LanguageData,MATCH(LanguageChosen,Language[Language],0),FALSE) & \" - \" & B1150","v":"Biogases - TJ"},2013]
["AMBIANT","TJ",null,"RESTOT",null,null,null,"Ambient heat",{"$f":"VLOOKUP(D1151, Param_Multilanguage!A:C, Param_Menu!$B$3+1, FALSE)","v":"Total Residential / Households"},{"$f":"VLOOKUP(H1151,LanguageData,MATCH(LanguageChosen,Language[Language],0),FALSE) & \" - \" & B1151","v":"Ambient heat - TJ"},2013]
["ELEC","GWH",null,"RESTOT",null,null,null,"Electricity",{"$f":"VLOOKUP(D1152, Param_Multilanguage!A:C, Param_Menu!$B$3+1, FALSE)","v":"Total Residential / Households"},{"$f":"VLOOKUP(H1152,LanguageData,MATCH(LanguageChosen,Language[Language],0),FALSE) & \" - \" & B1152","v":"Electricity - GWH"},2014]
["HEAT","TJ",null,"RESTOT",null,null,null,"Derived heat",{"$f":"VLOOKUP(D1153, Param_Multilanguage!A:C, Param_Menu!$B$3+1, FALSE)","v":"Total Residential / Households"},{"$f":"VLOOKUP(H1153,LanguageData,MATCH(LanguageChosen,Language[Language],0),FALSE) & \" - \" & B1153","v":"Derived heat - TJ"},2014]
["GAS","TJ_GCV",null,"RESTOT",null,null,null,"Gas",{"$f":"VLOOKUP(D1154, Param_Multilanguage!A:C, Param_Menu!$B$3+1, FALSE)","v":"Total Residential / Households"},{"$f":"VLOOKUP(H1154,LanguageData,MATCH(LanguageChosen,Language[Language],0),FALSE) & \" - \" & B1154","v":"Gas - TJ_GCV"},2014]
["SOLIDFUEL","KT",null,"RESTOT",null,null,null,"Solid fossil fuels",{"$f":"VLOOKUP(D1155, Param_Multilanguage!A:C, Param_Menu!$B$3+1, FALSE)","v":"Total Residential / Households"},{"$f":"VLOOKUP(H1155,LanguageData,MATCH(LanguageChosen,Language[Language],0),FALSE) & \" - \" & B1155","v":"Solid fossil fuels - KT"},2014]
["OIL","KT",null,"RESTOT",null,null,null,"Total oil and petroleum products",{"$f":"VLOOKUP(D1156, Param_Multilanguage!A:C, Param_Menu!$B$3+1, FALSE)","v":"Total Residential / Households"},{"$f":"VLOOKUP(H1156,LanguageData,MATCH(LanguageChosen,Language[Language],0),FALSE) & \" - \" & B1156","v":"Total oil and petroleum products - KT"},2014]
["LPG","KT",null,"RESTOT",null,null,null,"LPG",{"$f":"VLOOKUP(D1157, Param_Multilanguage!A:C, Param_Menu!$B$3+1, FALSE)","v":"Total Residential / Households"},{"$f":"VLOOKUP(H1157,LanguageData,MATCH(LanguageChosen,Language[Language],0),FALSE) & \" - \" & B1157","v":"LPG - KT"},2014]
["KEROSENE","KT",null,"RESTOT",null,null,null,"Other kerosene",{"$f":"VLOOKUP(D1158, Param_Multilanguage!A:C, Param_Menu!$B$3+1, FALSE)","v":"Total Residential / Households"},{"$f":"VLOOKUP(H1158,LanguageData,MATCH(LanguageChosen,Language[Language],0),FALSE) & \" - \" & B1158","v":"Other kerosene - KT"},2014]
["GASOIL","KT",null,"RESTOT",null,null,null,"Total gas/diesel oil",{"$f":"VLOOKUP(D1159, Param_Multilanguage!A:C, Param_Menu!$B$3+1, FALSE)","v":"Total Residential / Households"},{"$f":"VLOOKUP(H1159,LanguageData,MATCH(LanguageChosen,Language[Language],0),FALSE) & \" - \" & B1159","v":"Total gas/diesel oil - KT"},2014]
["RENEW","TJ",null,"RESTOT",null,null,null,"Renewables and wastes",{"$f":"VLOOKUP(D1160, Param_Multilanguage!A:C, Param_Menu!$B$3+1, FALSE)","v":"Total Residential / Households"},{"$f":"VLOOKUP(H1160,LanguageData,MATCH(LanguageChosen,Language[Language],0),FALSE) & \" - \" & B1160","v":"Renewables and wastes - TJ"},2014]
["SOLARTH","TJ",null,"RESTOT",null,null,null,"Solar thermal",{"$f":"VLOOKUP(D1161, Param_Multilanguage!A:C, Param_Menu!$B$3+1, FALSE)","v":"Total Residential / Households"},{"$f":"VLOOKUP(H1161,LanguageData,MATCH(LanguageChosen,Language[Language],0),FALSE) & \" - \" & B1161","v":"Solar thermal - TJ"},2014]
["BIOFUEL","TJ",null,"RESTOT",null,null,null,"Solid biofuels excluding charcoal",{"$f":"VLOOKUP(D1162, Param_Multilanguage!A:C, Param_Menu!$B$3+1, FALSE)","v":"Total Residential / Households"},{"$f":"VLOOKUP(H1162,LanguageData,MATCH(LanguageChosen,Language[Language],0),FALSE) & \" - \" & B1162","v":"Solid biofuels excluding charcoal - TJ"},2014]
["BIOGASES","TJ",null,"RESTOT",null,null,null,"Biogases",{"$f":"VLOOKUP(D1163, Param_Multilanguage!A:C, Param_Menu!$B$3+1, FALSE)","v":"Total Residential / Households"},{"$f":"VLOOKUP(H1163,LanguageData,MATCH(LanguageChosen,Language[Language],0),FALSE) & \" - \" & B1163","v":"Biogases - TJ"},2014]
["AMBIANT","TJ",null,"RESTOT",null,null,null,"Ambient heat",{"$f":"VLOOKUP(D1164, Param_Multilanguage!A:C, Param_Menu!$B$3+1, FALSE)","v":"Total Residential / Households"},{"$f":"VLOOKUP(H1164,LanguageData,MATCH(LanguageChosen,Language[Language],0),FALSE) & \" - \" & B1164","v":"Ambient heat - TJ"},2014]
["ELEC","GWH",null,"RESTOT",null,null,null,"Electricity",{"$f":"VLOOKUP(D1165, Param_Multilanguage!A:C, Param_Menu!$B$3+1, FALSE)","v":"Total Residential / Households"},{"$f":"VLOOKUP(H1165,LanguageData,MATCH(LanguageChosen,Language[Language],0),FALSE) & \" - \" & B1165","v":"Electricity - GWH"},2015]
["HEAT","TJ",null,"RESTOT",null,null,null,"Derived heat",{"$f":"VLOOKUP(D1166, Param_Multilanguage!A:C, Param_Menu!$B$3+1, FALSE)","v":"Total Residential / Households"},{"$f":"VLOOKUP(H1166,LanguageData,MATCH(LanguageChosen,Language[Language],0),FALSE) & \" - \" & B1166","v":"Derived heat - TJ"},2015]
["GAS","TJ_GCV",null,"RESTOT",null,null,null,"Gas",{"$f":"VLOOKUP(D1167, Param_Multilanguage!A:C, Param_Menu!$B$3+1, FALSE)","v":"Total Residential / Households"},{"$f":"VLOOKUP(H1167,LanguageData,MATCH(LanguageChosen,Language[Language],0),FALSE) & \" - \" & B1167","v":"Gas - TJ_GCV"},2015]
["SOLIDFUEL","KT",null,"RESTOT",null,null,null,"Solid fossil fuels",{"$f":"VLOOKUP(D1168, Param_Multilanguage!A:C, Param_Menu!$B$3+1, FALSE)","v":"Total Residential / Households"},{"$f":"VLOOKUP(H1168,LanguageData,MATCH(LanguageChosen,Language[Language],0),FALSE) & \" - \" & B1168","v":"Solid fossil fuels - KT"},2015]
["OIL","KT",null,"RESTOT",null,null,null,"Total oil and petroleum products",{"$f":"VLOOKUP(D1169, Param_Multilanguage!A:C, Param_Menu!$B$3+1, FALSE)","v":"Total Residential / Households"},{"$f":"VLOOKUP(H1169,LanguageData,MATCH(LanguageChosen,Language[Language],0),FALSE) & \" - \" & B1169","v":"Total oil and petroleum products - KT"},2015]
["LPG","KT",null,"RESTOT",null,null,null,"LPG",{"$f":"VLOOKUP(D1170, Param_Multilanguage!A:C, Param_Menu!$B$3+1, FALSE)","v":"Total Residential / Households"},{"$f":"VLOOKUP(H1170,LanguageData,MATCH(LanguageChosen,Language[Language],0),FALSE) & \" - \" & B1170","v":"LPG - KT"},2015]
["KEROSENE","KT",null,"RESTOT",null,null,null,"Other kerosene",{"$f":"VLOOKUP(D1171, Param_Multilanguage!A:C, Param_Menu!$B$3+1, FALSE)","v":"Total Residential / Households"},{"$f":"VLOOKUP(H1171,LanguageData,MATCH(LanguageChosen,Language[Language],0),FALSE) & \" - \" & B1171","v":"Other kerosene - KT"},2015]
["GASOIL","KT",null,"RESTOT",null,null,null,"Total gas/diesel oil",{"$f":"VLOOKUP(D1172, Param_Multilanguage!A:C, Param_Menu!$B$3+1, FALSE)","v":"Total Residential / Households"},{"$f":"VLOOKUP(H1172,LanguageData,MATCH(LanguageChosen,Language[Language],0),FALSE) & \" - \" & B1172","v":"Total gas/diesel oil - KT"},2015]
["RENEW","TJ",null,"RESTOT",null,null,null,"Renewables and wastes",{"$f":"VLOOKUP(D1173, Param_Multilanguage!A:C, Param_Menu!$B$3+1, FALSE)","v":"Total Residential / Households"},{"$f":"VLOOKUP(H1173,LanguageData,MATCH(LanguageChosen,Language[Language],0),FALSE) & \" - \" & B1173","v":"Renewables and wastes - TJ"},2015]
["SOLARTH","TJ",null,"RESTOT",null,null,null,"Solar thermal",{"$f":"VLOOKUP(D1174, Param_Multilanguage!A:C, Param_Menu!$B$3+1, FALSE)","v":"Total Residential / Households"},{"$f":"VLOOKUP(H1174,LanguageData,MATCH(LanguageChosen,Language[Language],0),FALSE) & \" - \" & B1174","v":"Solar thermal - TJ"},2015]
["BIOFUEL","TJ",null,"RESTOT",null,null,null,"Solid biofuels excluding charcoal",{"$f":"VLOOKUP(D1175, Param_Multilanguage!A:C, Param_Menu!$B$3+1, FALSE)","v":"Total Residential / Households"},{"$f":"VLOOKUP(H1175,LanguageData,MATCH(LanguageChosen,Language[Language],0),FALSE) & \" - \" & B1175","v":"Solid biofuels excluding charcoal - TJ"},2015]
["BIOGASES","TJ",null,"RESTOT",null,null,null,"Biogases",{"$f":"VLOOKUP(D1176, Param_Multilanguage!A:C, Param_Menu!$B$3+1, FALSE)","v":"Total Residential / Households"},{"$f":"VLOOKUP(H1176,LanguageData,MATCH(LanguageChosen,Language[Language],0),FALSE) & \" - \" & B1176","v":"Biogases - TJ"},2015]
["AMBIANT","TJ",null,"RESTOT",null,null,null,"Ambient heat",{"$f":"VLOOKUP(D1177, Param_Multilanguage!A:C, Param_Menu!$B$3+1, FALSE)","v":"Total Residential / Households"},{"$f":"VLOOKUP(H1177,LanguageData,MATCH(LanguageChosen,Language[Language],0),FALSE) & \" - \" & B1177","v":"Ambient heat - TJ"},2015]
["ELEC","GWH",null,"RESTOT",null,null,null,"Electricity",{"$f":"VLOOKUP(D1178, Param_Multilanguage!A:C, Param_Menu!$B$3+1, FALSE)","v":"Total Residential / Households"},{"$f":"VLOOKUP(H1178,LanguageData,MATCH(LanguageChosen,Language[Language],0),FALSE) & \" - \" & B1178","v":"Electricity - GWH"},2016]
["HEAT","TJ",null,"RESTOT",null,null,null,"Derived heat",{"$f":"VLOOKUP(D1179, Param_Multilanguage!A:C, Param_Menu!$B$3+1, FALSE)","v":"Total Residential / Households"},{"$f":"VLOOKUP(H1179,LanguageData,MATCH(LanguageChosen,Language[Language],0),FALSE) & \" - \" & B1179","v":"Derived heat - TJ"},2016]
["GAS","TJ_GCV",null,"RESTOT",null,null,null,"Gas",{"$f":"VLOOKUP(D1180, Param_Multilanguage!A:C, Param_Menu!$B$3+1, FALSE)","v":"Total Residential / Households"},{"$f":"VLOOKUP(H1180,LanguageData,MATCH(LanguageChosen,Language[Language],0),FALSE) & \" - \" & B1180","v":"Gas - TJ_GCV"},2016]
["SOLIDFUEL","KT",null,"RESTOT",null,null,null,"Solid fossil fuels",{"$f":"VLOOKUP(D1181, Param_Multilanguage!A:C, Param_Menu!$B$3+1, FALSE)","v":"Total Residential / Households"},{"$f":"VLOOKUP(H1181,LanguageData,MATCH(LanguageChosen,Language[Language],0),FALSE) & \" - \" & B1181","v":"Solid fossil fuels - KT"},2016]
["OIL","KT",null,"RESTOT",null,null,null,"Total oil and petroleum products",{"$f":"VLOOKUP(D1182, Param_Multilanguage!A:C, Param_Menu!$B$3+1, FALSE)","v":"Total Residential / Households"},{"$f":"VLOOKUP(H1182,LanguageData,MATCH(LanguageChosen,Language[Language],0),FALSE) & \" - \" & B1182","v":"Total oil and petroleum products - KT"},2016]
["LPG","KT",null,"RESTOT",null,null,null,"LPG",{"$f":"VLOOKUP(D1183, Param_Multilanguage!A:C, Param_Menu!$B$3+1, FALSE)","v":"Total Residential / Households"},{"$f":"VLOOKUP(H1183,LanguageData,MATCH(LanguageChosen,Language[Language],0),FALSE) & \" - \" & B1183","v":"LPG - KT"},2016]
["KEROSENE","KT",null,"RESTOT",null,null,null,"Other kerosene",{"$f":"VLOOKUP(D1184, Param_Multilanguage!A:C, Param_Menu!$B$3+1, FALSE)","v":"Total Residential / Households"},{"$f":"VLOOKUP(H1184,LanguageData,MATCH(LanguageChosen,Language[Language],0),FALSE) & \" - \" & B1184","v":"Other kerosene - KT"},2016]
["GASOIL","KT",null,"RESTOT",null,null,null,"Total gas/diesel oil",{"$f":"VLOOKUP(D1185, Param_Multilanguage!A:C, Param_Menu!$B$3+1, FALSE)","v":"Total Residential / Households"},{"$f":"VLOOKUP(H1185,LanguageData,MATCH(LanguageChosen,Language[Language],0),FALSE) & \" - \" & B1185","v":"Total gas/diesel oil - KT"},2016]
["RENEW","TJ",null,"RESTOT",null,null,null,"Renewables and wastes",{"$f":"VLOOKUP(D1186, Param_Multilanguage!A:C, Param_Menu!$B$3+1, FALSE)","v":"Total Residential / Households"},{"$f":"VLOOKUP(H1186,LanguageData,MATCH(LanguageChosen,Language[Language],0),FALSE) & \" - \" & B1186","v":"Renewables and wastes - TJ"},2016]
["SOLARTH","TJ",null,"RESTOT",null,null,null,"Solar thermal",{"$f":"VLOOKUP(D1187, Param_Multilanguage!A:C, Param_Menu!$B$3+1, FALSE)","v":"Total Residential / Households"},{"$f":"VLOOKUP(H1187,LanguageData,MATCH(LanguageChosen,Language[Language],0),FALSE) & \" - \" & B1187","v":"Solar thermal - TJ"},2016]
["BIOFUEL","TJ",null,"RESTOT",null,null,null,"Solid biofuels excluding charcoal",{"$f":"VLOOKUP(D1188, Param_Multilanguage!A:C, Param_Menu!$B$3+1, FALSE)","v":"Total Residential / Households"},{"$f":"VLOOKUP(H1188,LanguageData,MATCH(LanguageChosen,Language[Language],0),FALSE) & \" - \" & B1188","v":"Solid biofuels excluding charcoal - TJ"},2016]
["BIOGASES","TJ",null,"RESTOT",null,null,null,"Biogases",{"$f":"VLOOKUP(D1189, Param_Multilanguage!A:C, Param_Menu!$B$3+1, FALSE)","v":"Total Residential / Households"},{"$f":"VLOOKUP(H1189,LanguageData,MATCH(LanguageChosen,Language[Language],0),FALSE) & \" - \" & B1189","v":"Biogases - TJ"},2016]
["AMBIANT","TJ",null,"RESTOT",null,null,null,"Ambient heat",{"$f":"VLOOKUP(D1190, Param_Multilanguage!A:C, Param_Menu!$B$3+1, FALSE)","v":"Total Residential / Households"},{"$f":"VLOOKUP(H1190,LanguageData,MATCH(LanguageChosen,Language[Language],0),FALSE) & \" - \" & B1190","v":"Ambient heat - TJ"},2016]
["ELEC","GWH",null,"RESTOT",null,null,null,"Electricity",{"$f":"VLOOKUP(D1191, Param_Multilanguage!A:C, Param_Menu!$B$3+1, FALSE)","v":"Total Residential / Households"},{"$f":"VLOOKUP(H1191,LanguageData,MATCH(LanguageChosen,Language[Language],0),FALSE) & \" - \" & B1191","v":"Electricity - GWH"},2017]
["HEAT","TJ",null,"RESTOT",null,null,null,"Derived heat",{"$f":"VLOOKUP(D1192, Param_Multilanguage!A:C, Param_Menu!$B$3+1, FALSE)","v":"Total Residential / Households"},{"$f":"VLOOKUP(H1192,LanguageData,MATCH(LanguageChosen,Language[Language],0),FALSE) & \" - \" & B1192","v":"Derived heat - TJ"},2017]
["GAS","TJ_GCV",null,"RESTOT",null,null,null,"Gas",{"$f":"VLOOKUP(D1193, Param_Multilanguage!A:C, Param_Menu!$B$3+1, FALSE)","v":"Total Residential / Households"},{"$f":"VLOOKUP(H1193,LanguageData,MATCH(LanguageChosen,Language[Language],0),FALSE) & \" - \" & B1193","v":"Gas - TJ_GCV"},2017]
["SOLIDFUEL","KT",null,"RESTOT",null,null,null,"Solid fossil fuels",{"$f":"VLOOKUP(D1194, Param_Multilanguage!A:C, Param_Menu!$B$3+1, FALSE)","v":"Total Residential / Households"},{"$f":"VLOOKUP(H1194,LanguageData,MATCH(LanguageChosen,Language[Language],0),FALSE) & \" - \" & B1194","v":"Solid fossil fuels - KT"},2017]
["OIL","KT",null,"RESTOT",null,null,null,"Total oil and petroleum products",{"$f":"VLOOKUP(D1195, Param_Multilanguage!A:C, Param_Menu!$B$3+1, FALSE)","v":"Total Residential / Households"},{"$f":"VLOOKUP(H1195,LanguageData,MATCH(LanguageChosen,Language[Language],0),FALSE) & \" - \" & B1195","v":"Total oil and petroleum products - KT"},2017]
["LPG","KT",null,"RESTOT",null,null,null,"LPG",{"$f":"VLOOKUP(D1196, Param_Multilanguage!A:C, Param_Menu!$B$3+1, FALSE)","v":"Total Residential / Households"},{"$f":"VLOOKUP(H1196,LanguageData,MATCH(LanguageChosen,Language[Language],0),FALSE) & \" - \" & B1196","v":"LPG - KT"},2017]
["KEROSENE","KT",null,"RESTOT",null,null,null,"Other kerosene",{"$f":"VLOOKUP(D1197, Param_Multilanguage!A:C, Param_Menu!$B$3+1, FALSE)","v":"Total Residential / Households"},{"$f":"VLOOKUP(H1197,LanguageData,MATCH(LanguageChosen,Language[Language],0),FALSE) & \" - \" & B1197","v":"Other kerosene - KT"},2017]
["GASOIL","KT",null,"RESTOT",null,null,null,"Total gas/diesel oil",{"$f":"VLOOKUP(D1198, Param_Multilanguage!A:C, Param_Menu!$B$3+1, FALSE)","v":"Total Residential / Households"},{"$f":"VLOOKUP(H1198,LanguageData,MATCH(LanguageChosen,Language[Language],0),FALSE) & \" - \" & B1198","v":"Total gas/diesel oil - KT"},2017]
["RENEW","TJ",null,"RESTOT",null,null,null,"Renewables and wastes",{"$f":"VLOOKUP(D1199, Param_Multilanguage!A:C, Param_Menu!$B$3+1, FALSE)","v":"Total Residential / Households"},{"$f":"VLOOKUP(H1199,LanguageData,MATCH(LanguageChosen,Language[Language],0),FALSE) & \" - \" & B1199","v":"Renewables and wastes - TJ"},2017]
["SOLARTH","TJ",null,"RESTOT",null,null,null,"Solar thermal",{"$f":"VLOOKUP(D1200, Param_Multilanguage!A:C, Param_Menu!$B$3+1, FALSE)","v":"Total Residential / Households"},{"$f":"VLOOKUP(H1200,LanguageData,MATCH(LanguageChosen,Language[Language],0),FALSE) & \" - \" & B1200","v":"Solar thermal - TJ"},2017]
["BIOFUEL","TJ",null,"RESTOT",null,null,null,"Solid biofuels excluding charcoal",{"$f":"VLOOKUP(D1201, Param_Multilanguage!A:C, Param_Menu!$B$3+1, FALSE)","v":"Total Residential / Households"},{"$f":"VLOOKUP(H1201,LanguageData,MATCH(LanguageChosen,Language[Language],0),FALSE) & \" - \" & B1201","v":"Solid biofuels excluding charcoal - TJ"},2017]
["BIOGASES","TJ",null,"RESTOT",null,null,null,"Biogases",{"$f":"VLOOKUP(D1202, Param_Multilanguage!A:C, Param_Menu!$B$3+1, FALSE)","v":"Total Residential / Households"},{"$f":"VLOOKUP(H1202,LanguageData,MATCH(LanguageChosen,Language[Language],0),FALSE) & \" - \" & B1202","v":"Biogases - TJ"},2017]
["AMBIANT","TJ",null,"RESTOT",null,null,null,"Ambient heat",{"$f":"VLOOKUP(D1203, Param_Multilanguage!A:C, Param_Menu!$B$3+1, FALSE)","v":"Total Residential / Households"},{"$f":"VLOOKUP(H1203,LanguageData,MATCH(LanguageChosen,Language[Language],0),FALSE) & \" - \" & B1203","v":"Ambient heat - TJ"},2017]
["ELEC","GWH",null,"RESTOT",null,null,null,"Electricity",{"$f":"VLOOKUP(D1204, Param_Multilanguage!A:C, Param_Menu!$B$3+1, FALSE)","v":"Total Residential / Households"},{"$f":"VLOOKUP(H1204,LanguageData,MATCH(LanguageChosen,Language[Language],0),FALSE) & \" - \" & B1204","v":"Electricity - GWH"},2018]
["HEAT","TJ",null,"RESTOT",null,null,null,"Derived heat",{"$f":"VLOOKUP(D1205, Param_Multilanguage!A:C, Param_Menu!$B$3+1, FALSE)","v":"Total Residential / Households"},{"$f":"VLOOKUP(H1205,LanguageData,MATCH(LanguageChosen,Language[Language],0),FALSE) & \" - \" & B1205","v":"Derived heat - TJ"},2018]
["GAS","TJ_GCV",null,"RESTOT",null,null,null,"Gas",{"$f":"VLOOKUP(D1206, Param_Multilanguage!A:C, Param_Menu!$B$3+1, FALSE)","v":"Total Residential / Households"},{"$f":"VLOOKUP(H1206,LanguageData,MATCH(LanguageChosen,Language[Language],0),FALSE) & \" - \" & B1206","v":"Gas - TJ_GCV"},2018]
["SOLIDFUEL","KT",null,"RESTOT",null,null,null,"Solid fossil fuels",{"$f":"VLOOKUP(D1207, Param_Multilanguage!A:C, Param_Menu!$B$3+1, FALSE)","v":"Total Residential / Households"},{"$f":"VLOOKUP(H1207,LanguageData,MATCH(LanguageChosen,Language[Language],0),FALSE) & \" - \" & B1207","v":"Solid fossil fuels - KT"},2018]
["OIL","KT",null,"RESTOT",null,null,null,"Total oil and petroleum products",{"$f":"VLOOKUP(D1208, Param_Multilanguage!A:C, Param_Menu!$B$3+1, FALSE)","v":"Total Residential / Households"},{"$f":"VLOOKUP(H1208,LanguageData,MATCH(LanguageChosen,Language[Language],0),FALSE) & \" - \" & B1208","v":"Total oil and petroleum products - KT"},2018]
["LPG","KT",null,"RESTOT",null,null,null,"LPG",{"$f":"VLOOKUP(D1209, Param_Multilanguage!A:C, Param_Menu!$B$3+1, FALSE)","v":"Total Residential / Households"},{"$f":"VLOOKUP(H1209,LanguageData,MATCH(LanguageChosen,Language[Language],0),FALSE) & \" - \" & B1209","v":"LPG - KT"},2018]
["KEROSENE","KT",null,"RESTOT",null,null,null,"Other kerosene",{"$f":"VLOOKUP(D1210, Param_Multilanguage!A:C, Param_Menu!$B$3+1, FALSE)","v":"Total Residential / Households"},{"$f":"VLOOKUP(H1210,LanguageData,MATCH(LanguageChosen,Language[Language],0),FALSE) & \" - \" & B1210","v":"Other kerosene - KT"},2018]
["GASOIL","KT",null,"RESTOT",null,null,null,"Total gas/diesel oil",{"$f":"VLOOKUP(D1211, Param_Multilanguage!A:C, Param_Menu!$B$3+1, FALSE)","v":"Total Residential / Households"},{"$f":"VLOOKUP(H1211,LanguageData,MATCH(LanguageChosen,Language[Language],0),FALSE) & \" - \" & B1211","v":"Total gas/diesel oil - KT"},2018]
["RENEW","TJ",null,"RESTOT",null,null,null,"Renewables and wastes",{"$f":"VLOOKUP(D1212, Param_Multilanguage!A:C, Param_Menu!$B$3+1, FALSE)","v":"Total Residential / Households"},{"$f":"VLOOKUP(H1212,LanguageData,MATCH(LanguageChosen,Language[Language],0),FALSE) & \" - \" & B1212","v":"Renewables and wastes - TJ"},2018]
["SOLARTH","TJ",null,"RESTOT",null,null,null,"Solar thermal",{"$f":"VLOOKUP(D1213, Param_Multilanguage!A:C, Param_Menu!$B$3+1, FALSE)","v":"Total Residential / Households"},{"$f":"VLOOKUP(H1213,LanguageData,MATCH(LanguageChosen,Language[Language],0),FALSE) & \" - \" & B1213","v":"Solar thermal - TJ"},2018]
["BIOFUEL","TJ",null,"RESTOT",null,null,null,"Solid biofuels excluding charcoal",{"$f":"VLOOKUP(D1214, Param_Multilanguage!A:C, Param_Menu!$B$3+1, FALSE)","v":"Total Residential / Households"},{"$f":"VLOOKUP(H1214,LanguageData,MATCH(LanguageChosen,Language[Language],0),FALSE) & \" - \" & B1214","v":"Solid biofuels excluding charcoal - TJ"},2018]
["BIOGASES","TJ",null,"RESTOT",null,null,null,"Biogases",{"$f":"VLOOKUP(D1215, Param_Multilanguage!A:C, Param_Menu!$B$3+1, FALSE)","v":"Total Residential / Households"},{"$f":"VLOOKUP(H1215,LanguageData,MATCH(LanguageChosen,Language[Language],0),FALSE) & \" - \" & B1215","v":"Biogases - TJ"},2018]
["AMBIANT","TJ",null,"RESTOT",null,null,null,"Ambient heat",{"$f":"VLOOKUP(D1216, Param_Multilanguage!A:C, Param_Menu!$B$3+1, FALSE)","v":"Total Residential / Households"},{"$f":"VLOOKUP(H1216,LanguageData,MATCH(LanguageChosen,Language[Language],0),FALSE) & \" - \" & B1216","v":"Ambient heat - TJ"},2018]
["ELEC","GWH",null,"RESTOT",null,null,null,"Electricity",{"$f":"VLOOKUP(D1217, Param_Multilanguage!A:C, Param_Menu!$B$3+1, FALSE)","v":"Total Residential / Households"},{"$f":"VLOOKUP(H1217,LanguageData,MATCH(LanguageChosen,Language[Language],0),FALSE) & \" - \" & B1217","v":"Electricity - GWH"},2019]
["HEAT","TJ",null,"RESTOT",null,null,null,"Derived heat",{"$f":"VLOOKUP(D1218, Param_Multilanguage!A:C, Param_Menu!$B$3+1, FALSE)","v":"Total Residential / Households"},{"$f":"VLOOKUP(H1218,LanguageData,MATCH(LanguageChosen,Language[Language],0),FALSE) & \" - \" & B1218","v":"Derived heat - TJ"},2019]
["GAS","TJ_GCV",null,"RESTOT",null,null,null,"Gas",{"$f":"VLOOKUP(D1219, Param_Multilanguage!A:C, Param_Menu!$B$3+1, FALSE)","v":"Total Residential / Households"},{"$f":"VLOOKUP(H1219,LanguageData,MATCH(LanguageChosen,Language[Language],0),FALSE) & \" - \" & B1219","v":"Gas - TJ_GCV"},2019]
["SOLIDFUEL","KT",null,"RESTOT",null,null,null,"Solid fossil fuels",{"$f":"VLOOKUP(D1220, Param_Multilanguage!A:C, Param_Menu!$B$3+1, FALSE)","v":"Total Residential / Households"},{"$f":"VLOOKUP(H1220,LanguageData,MATCH(LanguageChosen,Language[Language],0),FALSE) & \" - \" & B1220","v":"Solid fossil fuels - KT"},2019]
["OIL","KT",null,"RESTOT",null,null,null,"Total oil and petroleum products",{"$f":"VLOOKUP(D1221, Param_Multilanguage!A:C, Param_Menu!$B$3+1, FALSE)","v":"Total Residential / Households"},{"$f":"VLOOKUP(H1221,LanguageData,MATCH(LanguageChosen,Language[Language],0),FALSE) & \" - \" & B1221","v":"Total oil and petroleum products - KT"},2019]
["LPG","KT",null,"RESTOT",null,null,null,"LPG",{"$f":"VLOOKUP(D1222, Param_Multilanguage!A:C, Param_Menu!$B$3+1, FALSE)","v":"Total Residential / Households"},{"$f":"VLOOKUP(H1222,LanguageData,MATCH(LanguageChosen,Language[Language],0),FALSE) & \" - \" & B1222","v":"LPG - KT"},2019]
["KEROSENE","KT",null,"RESTOT",null,null,null,"Other kerosene",{"$f":"VLOOKUP(D1223, Param_Multilanguage!A:C, Param_Menu!$B$3+1, FALSE)","v":"Total Residential / Households"},{"$f":"VLOOKUP(H1223,LanguageData,MATCH(LanguageChosen,Language[Language],0),FALSE) & \" - \" & B1223","v":"Other kerosene - KT"},2019]
["GASOIL","KT",null,"RESTOT",null,null,null,"Total gas/diesel oil",{"$f":"VLOOKUP(D1224, Param_Multilanguage!A:C, Param_Menu!$B$3+1, FALSE)","v":"Total Residential / Households"},{"$f":"VLOOKUP(H1224,LanguageData,MATCH(LanguageChosen,Language[Language],0),FALSE) & \" - \" & B1224","v":"Total gas/diesel oil - KT"},2019]
["RENEW","TJ",null,"RESTOT",null,null,null,"Renewables and wastes",{"$f":"VLOOKUP(D1225, Param_Multilanguage!A:C, Param_Menu!$B$3+1, FALSE)","v":"Total Residential / Households"},{"$f":"VLOOKUP(H1225,LanguageData,MATCH(LanguageChosen,Language[Language],0),FALSE) & \" - \" & B1225","v":"Renewables and wastes - TJ"},2019]
["SOLARTH","TJ",null,"RESTOT",null,null,null,"Solar thermal",{"$f":"VLOOKUP(D1226, Param_Multilanguage!A:C, Param_Menu!$B$3+1, FALSE)","v":"Total Residential / Households"},{"$f":"VLOOKUP(H1226,LanguageData,MATCH(LanguageChosen,Language[Language],0),FALSE) & \" - \" & B1226","v":"Solar thermal - TJ"},2019]
["BIOFUEL","TJ",null,"RESTOT",null,null,null,"Solid biofuels excluding charcoal",{"$f":"VLOOKUP(D1227, Param_Multilanguage!A:C, Param_Menu!$B$3+1, FALSE)","v":"Total Residential / Households"},{"$f":"VLOOKUP(H1227,LanguageData,MATCH(LanguageChosen,Language[Language],0),FALSE) & \" - \" & B1227","v":"Solid biofuels excluding charcoal - TJ"},2019]
["BIOGASES","TJ",null,"RESTOT",null,null,null,"Biogases",{"$f":"VLOOKUP(D1228, Param_Multilanguage!A:C, Param_Menu!$B$3+1, FALSE)","v":"Total Residential / Households"},{"$f":"VLOOKUP(H1228,LanguageData,MATCH(LanguageChosen,Language[Language],0),FALSE) & \" - \" & B1228","v":"Biogases - TJ"},2019]
["AMBIANT","TJ",null,"RESTOT",null,null,null,"Ambient heat",{"$f":"VLOOKUP(D1229, Param_Multilanguage!A:C, Param_Menu!$B$3+1, FALSE)","v":"Total Residential / Households"},{"$f":"VLOOKUP(H1229,LanguageData,MATCH(LanguageChosen,Language[Language],0),FALSE) & \" - \" & B1229","v":"Ambient heat - TJ"},2019]
["ELEC","GWH",null,"RESTOT",null,null,null,"Electricity",{"$f":"VLOOKUP(D1230, Param_Multilanguage!A:C, Param_Menu!$B$3+1, FALSE)","v":"Total Residential / Households"},{"$f":"VLOOKUP(H1230,LanguageData,MATCH(LanguageChosen,Language[Language],0),FALSE) & \" - \" & B1230","v":"Electricity - GWH"},2020]
["HEAT","TJ",null,"RESTOT",null,null,null,"Derived heat",{"$f":"VLOOKUP(D1231, Param_Multilanguage!A:C, Param_Menu!$B$3+1, FALSE)","v":"Total Residential / Households"},{"$f":"VLOOKUP(H1231,LanguageData,MATCH(LanguageChosen,Language[Language],0),FALSE) & \" - \" & B1231","v":"Derived heat - TJ"},2020]
["GAS","TJ_GCV",null,"RESTOT",null,null,null,"Gas",{"$f":"VLOOKUP(D1232, Param_Multilanguage!A:C, Param_Menu!$B$3+1, FALSE)","v":"Total Residential / Households"},{"$f":"VLOOKUP(H1232,LanguageData,MATCH(LanguageChosen,Language[Language],0),FALSE) & \" - \" & B1232","v":"Gas - TJ_GCV"},2020]
["SOLIDFUEL","KT",null,"RESTOT",null,null,null,"Solid fossil fuels",{"$f":"VLOOKUP(D1233, Param_Multilanguage!A:C, Param_Menu!$B$3+1, FALSE)","v":"Total Residential / Households"},{"$f":"VLOOKUP(H1233,LanguageData,MATCH(LanguageChosen,Language[Language],0),FALSE) & \" - \" & B1233","v":"Solid fossil fuels - KT"},2020]
["OIL","KT",null,"RESTOT",null,null,null,"Total oil and petroleum products",{"$f":"VLOOKUP(D1234, Param_Multilanguage!A:C, Param_Menu!$B$3+1, FALSE)","v":"Total Residential / Households"},{"$f":"VLOOKUP(H1234,LanguageData,MATCH(LanguageChosen,Language[Language],0),FALSE) & \" - \" & B1234","v":"Total oil and petroleum products - KT"},2020]
["LPG","KT",null,"RESTOT",null,null,null,"LPG",{"$f":"VLOOKUP(D1235, Param_Multilanguage!A:C, Param_Menu!$B$3+1, FALSE)","v":"Total Residential / Households"},{"$f":"VLOOKUP(H1235,LanguageData,MATCH(LanguageChosen,Language[Language],0),FALSE) & \" - \" & B1235","v":"LPG - KT"},2020]
["KEROSENE","KT",null,"RESTOT",null,null,null,"Other kerosene",{"$f":"VLOOKUP(D1236, Param_Multilanguage!A:C, Param_Menu!$B$3+1, FALSE)","v":"Total Residential / Households"},{"$f":"VLOOKUP(H1236,LanguageData,MATCH(LanguageChosen,Language[Language],0),FALSE) & \" - \" & B1236","v":"Other kerosene - KT"},2020]
["GASOIL","KT",null,"RESTOT",null,null,null,"Total gas/diesel oil",{"$f":"VLOOKUP(D1237, Param_Multilanguage!A:C, Param_Menu!$B$3+1, FALSE)","v":"Total Residential / Households"},{"$f":"VLOOKUP(H1237,LanguageData,MATCH(LanguageChosen,Language[Language],0),FALSE) & \" - \" & B1237","v":"Total gas/diesel oil - KT"},2020]
["RENEW","TJ",null,"RESTOT",null,null,null,"Renewables and wastes",{"$f":"VLOOKUP(D1238, Param_Multilanguage!A:C, Param_Menu!$B$3+1, FALSE)","v":"Total Residential / Households"},{"$f":"VLOOKUP(H1238,LanguageData,MATCH(LanguageChosen,Language[Language],0),FALSE) & \" - \" & B1238","v":"Renewables and wastes - TJ"},2020]
["SOLARTH","TJ",null,"RESTOT",null,null,null,"Solar thermal",{"$f":"VLOOKUP(D1239, Param_Multilanguage!A:C, Param_Menu!$B$3+1, FALSE)","v":"Total Residential / Households"},{"$f":"VLOOKUP(H1239,LanguageData,MATCH(LanguageChosen,Language[Language],0),FALSE) & \" - \" & B1239","v":"Solar thermal - TJ"},2020]
["BIOFUEL","TJ",null,"RESTOT",null,null,null,"Solid biofuels excluding charcoal",{"$f":"VLOOKUP(D1240, Param_Multilanguage!A:C, Param_Menu!$B$3+1, FALSE)","v":"Total Residential / Households"},{"$f":"VLOOKUP(H1240,LanguageData,MATCH(LanguageChosen,Language[Language],0),FALSE) & \" - \" & B1240","v":"Solid biofuels excluding charcoal - TJ"},2020]
["BIOGASES","TJ",null,"RESTOT",null,null,null,"Biogases",{"$f":"VLOOKUP(D1241, Param_Multilanguage!A:C, Param_Menu!$B$3+1, FALSE)","v":"Total Residential / Households"},{"$f":"VLOOKUP(H1241,LanguageData,MATCH(LanguageChosen,Language[Language],0),FALSE) & \" - \" & B1241","v":"Biogases - TJ"},2020]
["AMBIANT","TJ",null,"RESTOT",null,null,null,"Ambient heat",{"$f":"VLOOKUP(D1242, Param_Multilanguage!A:C, Param_Menu!$B$3+1, FALSE)","v":"Total Residential / Households"},{"$f":"VLOOKUP(H1242,LanguageData,MATCH(LanguageChosen,Language[Language],0),FALSE) & \" - \" & B1242","v":"Ambient heat - TJ"},2020]
["ELEC","GWH",null,"RESTOT",null,null,null,"Electricity",{"$f":"VLOOKUP(D1243, Param_Multilanguage!A:C, Param_Menu!$B$3+1, FALSE)","v":"Total Residential / Households"},{"$f":"VLOOKUP(H1243,LanguageData,MATCH(LanguageChosen,Language[Language],0),FALSE) & \" - \" & B1243","v":"Electricity - GWH"},2021]
["HEAT","TJ",null,"RESTOT",null,null,null,"Derived heat",{"$f":"VLOOKUP(D1244, Param_Multilanguage!A:C, Param_Menu!$B$3+1, FALSE)","v":"Total Residential / Households"},{"$f":"VLOOKUP(H1244,LanguageData,MATCH(LanguageChosen,Language[Language],0),FALSE) & \" - \" & B1244","v":"Derived heat - TJ"},2021]
["GAS","TJ_GCV",null,"RESTOT",null,null,null,"Gas",{"$f":"VLOOKUP(D1245, Param_Multilanguage!A:C, Param_Menu!$B$3+1, FALSE)","v":"Total Residential / Households"},{"$f":"VLOOKUP(H1245,LanguageData,MATCH(LanguageChosen,Language[Language],0),FALSE) & \" - \" & B1245","v":"Gas - TJ_GCV"},2021]
["SOLIDFUEL","KT",null,"RESTOT",null,null,null,"Solid fossil fuels",{"$f":"VLOOKUP(D1246, Param_Multilanguage!A:C, Param_Menu!$B$3+1, FALSE)","v":"Total Residential / Households"},{"$f":"VLOOKUP(H1246,LanguageData,MATCH(LanguageChosen,Language[Language],0),FALSE) & \" - \" & B1246","v":"Solid fossil fuels - KT"},2021]
["OIL","KT",null,"RESTOT",null,null,null,"Total oil and petroleum products",{"$f":"VLOOKUP(D1247, Param_Multilanguage!A:C, Param_Menu!$B$3+1, FALSE)","v":"Total Residential / Households"},{"$f":"VLOOKUP(H1247,LanguageData,MATCH(LanguageChosen,Language[Language],0),FALSE) & \" - \" & B1247","v":"Total oil and petroleum products - KT"},2021]
["LPG","KT",null,"RESTOT",null,null,null,"LPG",{"$f":"VLOOKUP(D1248, Param_Multilanguage!A:C, Param_Menu!$B$3+1, FALSE)","v":"Total Residential / Households"},{"$f":"VLOOKUP(H1248,LanguageData,MATCH(LanguageChosen,Language[Language],0),FALSE) & \" - \" & B1248","v":"LPG - KT"},2021]
["KEROSENE","KT",null,"RESTOT",null,null,null,"Other kerosene",{"$f":"VLOOKUP(D1249, Param_Multilanguage!A:C, Param_Menu!$B$3+1, FALSE)","v":"Total Residential / Households"},{"$f":"VLOOKUP(H1249,LanguageData,MATCH(LanguageChosen,Language[Language],0),FALSE) & \" - \" & B1249","v":"Other kerosene - KT"},2021]
["GASOIL","KT",null,"RESTOT",null,null,null,"Total gas/diesel oil",{"$f":"VLOOKUP(D1250, Param_Multilanguage!A:C, Param_Menu!$B$3+1, FALSE)","v":"Total Residential / Households"},{"$f":"VLOOKUP(H1250,LanguageData,MATCH(LanguageChosen,Language[Language],0),FALSE) & \" - \" & B1250","v":"Total gas/diesel oil - KT"},2021]
["RENEW","TJ",null,"RESTOT",null,null,null,"Renewables and wastes",{"$f":"VLOOKUP(D1251, Param_Multilanguage!A:C, Param_Menu!$B$3+1, FALSE)","v":"Total Residential / Households"},{"$f":"VLOOKUP(H1251,LanguageData,MATCH(LanguageChosen,Language[Language],0),FALSE) & \" - \" & B1251","v":"Renewables and wastes - TJ"},2021]
["SOLARTH","TJ",null,"RESTOT",null,null,null,"Solar thermal",{"$f":"VLOOKUP(D1252, Param_Multilanguage!A:C, Param_Menu!$B$3+1, FALSE)","v":"Total Residential / Households"},{"$f":"VLOOKUP(H1252,LanguageData,MATCH(LanguageChosen,Language[Language],0),FALSE) & \" - \" & B1252","v":"Solar thermal - TJ"},2021]
["BIOFUEL","TJ",null,"RESTOT",null,null,null,"Solid biofuels excluding charcoal",{"$f":"VLOOKUP(D1253, Param_Multilanguage!A:C, Param_Menu!$B$3+1, FALSE)","v":"Total Residential / Households"},{"$f":"VLOOKUP(H1253,LanguageData,MATCH(LanguageChosen,Language[Language],0),FALSE) & \" - \" & B1253","v":"Solid biofuels excluding charcoal - TJ"},2021]
["BIOGASES","TJ",null,"RESTOT",null,null,null,"Biogases",{"$f":"VLOOKUP(D1254, Param_Multilanguage!A:C, Param_Menu!$B$3+1, FALSE)","v":"Total Residential / Households"},{"$f":"VLOOKUP(H1254,LanguageData,MATCH(LanguageChosen,Language[Language],0),FALSE) & \" - \" & B1254","v":"Biogases - TJ"},2021]
["AMBIANT","TJ",null,"RESTOT",null,null,null,"Ambient heat",{"$f":"VLOOKUP(D1255, Param_Multilanguage!A:C, Param_Menu!$B$3+1, FALSE)","v":"Total Residential / Households"},{"$f":"VLOOKUP(H1255,LanguageData,MATCH(LanguageChosen,Language[Language],0),FALSE) & \" - \" & B1255","v":"Ambient heat - TJ"},2021]
["ELEC","GWH",null,"RESTOT",null,null,null,"Electricity",{"$f":"VLOOKUP(D1256, Param_Multilanguage!A:C, Param_Menu!$B$3+1, FALSE)","v":"Total Residential / Households"},{"$f":"VLOOKUP(H1256,LanguageData,MATCH(LanguageChosen,Language[Language],0),FALSE) & \" - \" & B1256","v":"Electricity - GWH"},2022]
["HEAT","TJ",null,"RESTOT",null,null,null,"Derived heat",{"$f":"VLOOKUP(D1257, Param_Multilanguage!A:C, Param_Menu!$B$3+1, FALSE)","v":"Total Residential / Households"},{"$f":"VLOOKUP(H1257,LanguageData,MATCH(LanguageChosen,Language[Language],0),FALSE) & \" - \" & B1257","v":"Derived heat - TJ"},2022]
["GAS","TJ_GCV",null,"RESTOT",null,null,null,"Gas",{"$f":"VLOOKUP(D1258, Param_Multilanguage!A:C, Param_Menu!$B$3+1, FALSE)","v":"Total Residential / Households"},{"$f":"VLOOKUP(H1258,LanguageData,MATCH(LanguageChosen,Language[Language],0),FALSE) & \" - \" & B1258","v":"Gas - TJ_GCV"},2022]
["SOLIDFUEL","KT",null,"RESTOT",null,null,null,"Solid fossil fuels",{"$f":"VLOOKUP(D1259, Param_Multilanguage!A:C, Param_Menu!$B$3+1, FALSE)","v":"Total Residential / Households"},{"$f":"VLOOKUP(H1259,LanguageData,MATCH(LanguageChosen,Language[Language],0),FALSE) & \" - \" & B1259","v":"Solid fossil fuels - KT"},2022]
["OIL","KT",null,"RESTOT",null,null,null,"Total oil and petroleum products",{"$f":"VLOOKUP(D1260, Param_Multilanguage!A:C, Param_Menu!$B$3+1, FALSE)","v":"Total Residential / Households"},{"$f":"VLOOKUP(H1260,LanguageData,MATCH(LanguageChosen,Language[Language],0),FALSE) & \" - \" & B1260","v":"Total oil and petroleum products - KT"},2022]
["LPG","KT",null,"RESTOT",null,null,null,"LPG",{"$f":"VLOOKUP(D1261, Param_Multilanguage!A:C, Param_Menu!$B$3+1, FALSE)","v":"Total Residential / Households"},{"$f":"VLOOKUP(H1261,LanguageData,MATCH(LanguageChosen,Language[Language],0),FALSE) & \" - \" & B1261","v":"LPG - KT"},2022]
["KEROSENE","KT",null,"RESTOT",null,null,null,"Other kerosene",{"$f":"VLOOKUP(D1262, Param_Multilanguage!A:C, Param_Menu!$B$3+1, FALSE)","v":"Total Residential / Households"},{"$f":"VLOOKUP(H1262,LanguageData,MATCH(LanguageChosen,Language[Language],0),FALSE) & \" - \" & B1262","v":"Other kerosene - KT"},2022]
["GASOIL","KT",null,"RESTOT",null,null,null,"Total gas/diesel oil",{"$f":"VLOOKUP(D1263, Param_Multilanguage!A:C, Param_Menu!$B$3+1, FALSE)","v":"Total Residential / Households"},{"$f":"VLOOKUP(H1263,LanguageData,MATCH(LanguageChosen,Language[Language],0),FALSE) & \" - \" & B1263","v":"Total gas/diesel oil - KT"},2022]
["RENEW","TJ",null,"RESTOT",null,null,null,"Renewables and wastes",{"$f":"VLOOKUP(D1264, Param_Multilanguage!A:C, Param_Menu!$B$3+1, FALSE)","v":"Total Residential / Households"},{"$f":"VLOOKUP(H1264,LanguageData,MATCH(LanguageChosen,Language[Language],0),FALSE) & \" - \" & B1264","v":"Renewables and wastes - TJ"},2022]
["SOLARTH","TJ",null,"RESTOT",null,null,null,"Solar thermal",{"$f":"VLOOKUP(D1265, Param_Multilanguage!A:C, Param_Menu!$B$3+1, FALSE)","v":"Total Residential / Households"},{"$f":"VLOOKUP(H1265,LanguageData,MATCH(LanguageChosen,Language[Language],0),FALSE) & \" - \" & B1265","v":"Solar thermal - TJ"},2022]
["BIOFUEL","TJ",null,"RESTOT",null,null,null,"Solid biofuels excluding charcoal",{"$f":"VLOOKUP(D1266, Param_Multilanguage!A:C, Param_Menu!$B$3+1, FALSE)","v":"Total Residential / Households"},{"$f":"VLOOKUP(H1266,LanguageData,MATCH(LanguageChosen,Language[Language],0),FALSE) & \" - \" & B1266","v":"Solid biofuels excluding charcoal - TJ"},2022]
["BIOGASES","TJ",null,"RESTOT",null,null,null,"Biogases",{"$f":"VLOOKUP(D1267, Param_Multilanguage!A:C, Param_Menu!$B$3+1, FALSE)","v":"Total Residential / Households"},{"$f":"VLOOKUP(H1267,LanguageData,MATCH(LanguageChosen,Language[Language],0),FALSE) & \" - \" & B1267","v":"Biogases - TJ"},2022]
["AMBIANT","TJ",null,"RESTOT",null,null,null,"Ambient heat",{"$f":"VLOOKUP(D1268, Param_Multilanguage!A:C, Param_Menu!$B$3+1, FALSE)","v":"Total Residential / Households"},{"$f":"VLOOKUP(H1268,LanguageData,MATCH(LanguageChosen,Language[Language],0),FALSE) & \" - \" & B1268","v":"Ambient heat - TJ"},2022]
["ELEC","GWH",null,"RESTOT",null,null,null,"Electricity",{"$f":"VLOOKUP(D1269, Param_Multilanguage!A:C, Param_Menu!$B$3+1, FALSE)","v":"Total Residential / Households"},{"$f":"VLOOKUP(H1269,LanguageData,MATCH(LanguageChosen,Language[Language],0),FALSE) & \" - \" & B1269","v":"Electricity - GWH"},2023]
["HEAT","TJ",null,"RESTOT",null,null,null,"Derived heat",{"$f":"VLOOKUP(D1270, Param_Multilanguage!A:C, Param_Menu!$B$3+1, FALSE)","v":"Total Residential / Households"},{"$f":"VLOOKUP(H1270,LanguageData,MATCH(LanguageChosen,Language[Language],0),FALSE) & \" - \" & B1270","v":"Derived heat - TJ"},2023]
["GAS","TJ_GCV",null,"RESTOT",null,null,null,"Gas",{"$f":"VLOOKUP(D1271, Param_Multilanguage!A:C, Param_Menu!$B$3+1, FALSE)","v":"Total Residential / Households"},{"$f":"VLOOKUP(H1271,LanguageData,MATCH(LanguageChosen,Language[Language],0),FALSE) & \" - \" & B1271","v":"Gas - TJ_GCV"},2023]
["SOLIDFUEL","KT",null,"RESTOT",null,null,null,"Solid fossil fuels",{"$f":"VLOOKUP(D1272, Param_Multilanguage!A:C, Param_Menu!$B$3+1, FALSE)","v":"Total Residential / Households"},{"$f":"VLOOKUP(H1272,LanguageData,MATCH(LanguageChosen,Language[Language],0),FALSE) & \" - \" & B1272","v":"Solid fossil fuels - KT"},2023]
["OIL","KT",null,"RESTOT",null,null,null,"Total oil and petroleum products",{"$f":"VLOOKUP(D1273, Param_Multilanguage!A:C, Param_Menu!$B$3+1, FALSE)","v":"Total Residential / Households"},{"$f":"VLOOKUP(H1273,LanguageData,MATCH(LanguageChosen,Language[Language],0),FALSE) & \" - \" & B1273","v":"Total oil and petroleum products - KT"},2023]
["LPG","KT",null,"RESTOT",null,null,null,"LPG",{"$f":"VLOOKUP(D1274, Param_Multilanguage!A:C, Param_Menu!$B$3+1, FALSE)","v":"Total Residential / Households"},{"$f":"VLOOKUP(H1274,LanguageData,MATCH(LanguageChosen,Language[Language],0),FALSE) & \" - \" & B1274","v":"LPG - KT"},2023]
["KEROSENE","KT",null,"RESTOT",null,null,null,"Other kerosene",{"$f":"VLOOKUP(D1275, Param_Multilanguage!A:C, Param_Menu!$B$3+1, FALSE)","v":"Total Residential / Households"},{"$f":"VLOOKUP(H1275,LanguageData,MATCH(LanguageChosen,Language[Language],0),FALSE) & \" - \" & B1275","v":"Other kerosene - KT"},2023]
["GASOIL","KT",null,"RESTOT",null,null,null,"Total gas/diesel oil",{"$f":"VLOOKUP(D1276, Param_Multilanguage!A:C, Param_Menu!$B$3+1, FALSE)","v":"Total Residential / Households"},{"$f":"VLOOKUP(H1276,LanguageData,MATCH(LanguageChosen,Language[Language],0),FALSE) & \" - \" & B1276","v":"Total gas/diesel oil - KT"},2023]
["RENEW","TJ",null,"RESTOT",null,null,null,"Renewables and wastes",{"$f":"VLOOKUP(D1277, Param_Multilanguage!A:C, Param_Menu!$B$3+1, FALSE)","v":"Total Residential / Households"},{"$f":"VLOOKUP(H1277,LanguageData,MATCH(LanguageChosen,Language[Language],0),FALSE) & \" - \" & B1277","v":"Renewables and wastes - TJ"},2023]
["SOLARTH","TJ",null,"RESTOT",null,null,null,"Solar thermal",{"$f":"VLOOKUP(D1278, Param_Multilanguage!A:C, Param_Menu!$B$3+1, FALSE)","v":"Total Residential / Households"},{"$f":"VLOOKUP(H1278,LanguageData,MATCH(LanguageChosen,Language[Language],0),FALSE) & \" - \" & B1278","v":"Solar thermal - TJ"},2023]
["BIOFUEL","TJ",null,"RESTOT",null,null,null,"Solid biofuels excluding charcoal",{"$f":"VLOOKUP(D1279, Param_Multilanguage!A:C, Param_Menu!$B$3+1, FALSE)","v":"Total Residential / Households"},{"$f":"VLOOKUP(H1279,LanguageData,MATCH(LanguageChosen,Language[Language],0),FALSE) & \" - \" & B1279","v":"Solid biofuels excluding charcoal - TJ"},2023]
["BIOGASES","TJ",null,"RESTOT",null,null,null,"Biogases",{"$f":"VLOOKUP(D1280, Param_Multilanguage!A:C, Param_Menu!$B$3+1, FALSE)","v":"Total Residential / Households"},{"$f":"VLOOKUP(H1280,LanguageData,MATCH(LanguageChosen,Language[Language],0),FALSE) & \" - \" & B1280","v":"Biogases - TJ"},2023]
["AMBIANT","TJ",null,"RESTOT",null,null,null,"Ambient heat",{"$f":"VLOOKUP(D1281, Param_Multilanguage!A:C, Param_Menu!$B$3+1, FALSE)","v":"Total Residential / Households"},{"$f":"VLOOKUP(H1281,LanguageData,MATCH(LanguageChosen,Language[Language],0),FALSE) & \" - \" & B1281","v":"Ambient heat - TJ"},2023]
["ELEC","GWH",null,"SPACEHEAT",null,null,null,"Electricity","Space heating","Electricity - GWH",2024]
["HEAT","TJ",null,"SPACEHEAT","",null,null,"Derived heat","Space heating","Derived heat - TJ",2024]
["GAS","TJ_GCV",null,"SPACEHEAT","",null,null,"Gas","Space heating","Gas - TJ_GCV",2024]
["SOLIDFUEL","KT",null,"SPACEHEAT","",null,null,"Solid fossil fuels","Space heating","Solid fossil fuels - KT",2024]
["OIL","KT",null,"SPACEHEAT","",null,null,"Total oil and petroleum products","Space heating","Total oil and petroleum products - KT",2024]
["LPG","KT",null,"SPACEHEAT","",null,null,"LPG","Space heating","LPG - KT",2024]
["KEROSENE","KT",null,"SPACEHEAT","",null,null,"Other kerosene","Space heating","Other kerosene - KT",2024]
["GASOIL","KT",null,"SPACEHEAT","",null,null,"Total gas/diesel oil","Space heating","Total gas/diesel oil - KT",2024]
["RENEW","TJ",null,"SPACEHEAT","",null,null,"Renewables and wastes","Space heating","Renewables and wastes - TJ",2024]
["SOLARTH","TJ",null,"SPACEHEAT","",null,null,"Solar thermal","Space heating","Solar thermal - TJ",2024]
["BIOFUEL","TJ",null,"SPACEHEAT","",null,null,"Solid biofuels excluding charcoal","Space heating","Solid biofuels excluding charcoal - TJ",2024]
["BIOGASES","TJ",null,"SPACEHEAT","",null,null,"Biogases","Space heating","Biogases - TJ",2024]
["AMBIANT","TJ",null,"SPACEHEAT","",null,null,"Ambient heat","Space heating","Ambient heat - TJ",2024]
["ELEC","GWH",null,"SPACECOOL",null,null,null,"Electricity","Space cooling","Electricity - GWH",2024]
["HEAT","TJ",null,"SPACECOOL","",null,null,"Derived heat","Space cooling","Derived heat - TJ",2024]
["GAS","TJ_GCV",null,"SPACECOOL","",null,null,"Gas","Space cooling","Gas - TJ_GCV",2024]
["SOLIDFUEL","KT",null,"SPACECOOL","",null,null,"Solid fossil fuels","Space cooling","Solid fossil fuels - KT",2024]
["OIL","KT",null,"SPACECOOL","",null,null,"Total oil and petroleum products","Space cooling","Total oil and petroleum products - KT",2024]
["LPG","KT",null,"SPACECOOL","",null,null,"LPG","Space cooling","LPG - KT",2024]
["KEROSENE","KT",null,"SPACECOOL","",null,null,"Other kerosene","Space cooling","Other kerosene - KT",2024]
["GASOIL","KT",null,"SPACECOOL","",null,null,"Total gas/diesel oil","Space cooling","Total gas/diesel oil - KT",2024]
["RENEW","TJ",null,"SPACECOOL","",null,null,"Renewables and wastes","Space cooling","Renewables and wastes - TJ",2024]
["SOLARTH","TJ",null,"SPACECOOL","",null,null,"Solar thermal","Space cooling","Solar thermal - TJ",2024]
["BIOFUEL","TJ",null,"SPACECOOL","",null,null,"Solid biofuels excluding charcoal","Space cooling","Solid biofuels excluding charcoal - TJ",2024]
["BIOGASES","TJ",null,"SPACECOOL","",null,null,"Biogases","Space cooling","Biogases - TJ",2024]
["AMBIANT","TJ",null,"SPACECOOL","",null,null,"Ambient heat","Space cooling","Ambient heat - TJ",2024]
["ELEC","GWH",null,"WATERHEAT",null,null,null,"Electricity","Water heating","Electricity - GWH",2024]
["HEAT","TJ",null,"WATERHEAT","",null,null,"Derived heat","Water heating","Derived heat - TJ",2024]
["GAS","TJ_GCV",null,"WATERHEAT","",null,null,"Gas","Water heating","Gas - TJ_GCV",2024]
["SOLIDFUEL","KT",null,"WATERHEAT","",null,null,"Solid fossil fuels","Water heating","Solid fossil fuels - KT",2024]
["OIL","KT",null,"WATERHEAT","",null,null,"Total oil and petroleum products","Water heating","Total oil and petroleum products - KT",2024]
["LPG","KT",null,"WATERHEAT","",null,null,"LPG","Water heating","LPG - KT",2024]
["KEROSENE","KT",null,"WATERHEAT","",null,null,"Other kerosene","Water heating","Other kerosene - KT",2024]
["GASOIL","KT",null,"WATERHEAT","",null,null,"Total gas/diesel oil","Water heating","Total gas/diesel oil - KT",2024]
["RENEW","TJ",null,"WATERHEAT","",null,null,"Renewables and wastes","Water heating","Renewables and wastes - TJ",2024]
["SOLARTH","TJ",null,"WATERHEAT","",null,null,"Solar thermal","Water heating","Solar thermal - TJ",2024]
["BIOFUEL","TJ",null,"WATERHEAT","",null,null,"Solid biofuels excluding charcoal","Water heating","Solid biofuels excluding charcoal - TJ",2024]
["BIOGASES","TJ",null,"WATERHEAT","",null,null,"Biogases","Water heating","Biogases - TJ",2024]
["AMBIANT","TJ",null,"WATERHEAT","",null,null,"Ambient heat","Water heating","Ambient heat - TJ",2024]
["ELEC","GWH",null,"COOK",null,null,null,"Electricity","Cooking","Electricity - GWH",2024]
["HEAT","TJ",null,"COOK","",null,null,"Derived heat","Cooking","Derived heat - TJ",2024]
["GAS","TJ_GCV",null,"COOK","",null,null,"Gas","Cooking","Gas - TJ_GCV",2024]
["SOLIDFUEL","KT",null,"COOK","",null,null,"Solid fossil fuels","Cooking","Solid fossil fuels - KT",2024]
["OIL","KT",null,"COOK","",null,null,"Total oil and petroleum products","Cooking","Total oil and petroleum products - KT",2024]
["LPG","KT",null,"COOK","",null,null,"LPG","Cooking","LPG - KT",2024]
["KEROSENE","KT",null,"COOK","",null,null,"Other kerosene","Cooking","Other kerosene - KT",2024]
["GASOIL","KT",null,"COOK","",null,null,"Total gas/diesel oil","Cooking","Total gas/diesel oil - KT",2024]
["RENEW","TJ",null,"COOK","",null,null,"Renewables and wastes","Cooking","Renewables and wastes - TJ",2024]
["SOLARTH","TJ",null,"COOK","",null,null,"Solar thermal","Cooking","Solar thermal - TJ",2024]
["BIOFUEL","TJ",null,"COOK","",null,null,"Solid biofuels excluding charcoal","Cooking","Solid biofuels excluding charcoal - TJ",2024]
["BIOGASES","TJ",null,"COOK","",null,null,"Biogases","Cooking","Biogases - TJ",2024]
["AMBIANT","TJ",null,"COOK","",null,null,"Ambient heat","Cooking","Ambient heat - TJ",2024]
["ELEC","GWH",null,"LIGHTAPP",null,null,null,"Electricity","Lighting and appliances","Electricity - GWH",2024]
["HEAT","TJ",null,"LIGHTAPP","",null,null,"Derived heat","Lighting and appliances","Derived heat - TJ",2024]
["GAS","TJ_GCV",null,"LIGHTAPP","",null,null,"Gas","Lighting and appliances","Gas - TJ_GCV",2024]
["SOLIDFUEL","KT",null,"LIGHTAPP","",null,null,"Solid fossil fuels","Lighting and appliances","Solid fossil fuels - KT",2024]
["OIL","KT",null,"LIGHTAPP","",null,null,"Total oil and petroleum products","Lighting and appliances","Total oil and petroleum products - KT",2024]
["LPG","KT",null,"LIGHTAPP","",null,null,"LPG","Lighting and appliances","LPG - KT",2024]
["KEROSENE","KT",null,"LIGHTAPP","",null,null,"Other kerosene","Lighting and appliances","Other kerosene - KT",2024]
["GASOIL","KT",null,"LIGHTAPP","",null,null,"Total gas/diesel oil","Lighting and appliances","Total gas/diesel oil - KT",2024]
["RENEW","TJ",null,"LIGHTAPP","",null,null,"Renewables and wastes","Lighting and appliances","Renewables and wastes - TJ",2024]
["SOLARTH","TJ",null,"LIGHTAPP","",null,null,"Solar thermal","Lighting and appliances","Solar thermal - TJ",2024]
["BIOFUEL","TJ",null,"LIGHTAPP","",null,null,"Solid biofuels excluding charcoal","Lighting and appliances","Solid biofuels excluding charcoal - TJ",2024]
["BIOGASES","TJ",null,"LIGHTAPP","",null,null,"Biogases","Lighting and appliances","Biogases - TJ",2024]
["AMBIANT","TJ",null,"LIGHTAPP","",null,null,"Ambient heat","Lighting and appliances","Ambient heat - TJ",2024]
["ELEC","GWH",null,"RESOTH",null,null,null,"Electricity","Other end uses","Electricity - GWH",2024]
["HEAT","TJ",null,"RESOTH","",null,null,"Derived heat","Other end uses","Derived heat - TJ",2024]
["GAS","TJ_GCV",null,"RESOTH","",null,null,"Gas","Other end uses","Gas - TJ_GCV",2024]
["SOLIDFUEL","KT",null,"RESOTH","",null,null,"Solid fossil fuels","Other end uses","Solid fossil fuels - KT",2024]
["OIL","KT",null,"RESOTH","",null,null,"Total oil and petroleum products","Other end uses","Total oil and petroleum products - KT",2024]
["LPG","KT",null,"RESOTH","",null,null,"LPG","Other end uses","LPG - KT",2024]
["KEROSENE","KT",null,"RESOTH","",null,null,"Other kerosene","Other end uses","Other kerosene - KT",2024]
["GASOIL","KT",null,"RESOTH","",null,null,"Total gas/diesel oil","Other end uses","Total gas/diesel oil - KT",2024]
["RENEW","TJ",null,"RESOTH","",null,null,"Renewables and wastes","Other end uses","Renewables and wastes - TJ",2024]
["SOLARTH","TJ",null,"RESOTH","",null,null,"Solar thermal","Other end uses","Solar thermal - TJ",2024]
["BIOFUEL","TJ",null,"RESOTH","",null,null,"Solid biofuels excluding charcoal","Other end uses","Solid biofuels excluding charcoal - TJ",2024]
["BIOGASES","TJ",null,"RESOTH","",null,null,"Biogases","Other end uses","Biogases - TJ",2024]
["AMBIANT","TJ",null,"RESOTH","",null,null,"Ambient heat","Other end uses","Ambient heat - TJ",2024]
["ELEC","GWH",null,"RESTOT",null,null,null,"Electricity","Total Residential / Households","Electricity - GWH",2024]
["HEAT","TJ",null,"RESTOT",null,null,null,"Derived heat","Total Residential / Households","Derived heat - TJ",2024]
["GAS","TJ_GCV",null,"RESTOT",null,null,null,"Gas","Total Residential / Households","Gas - TJ_GCV",2024]
["SOLIDFUEL","KT",null,"RESTOT",null,null,null,"Solid fossil fuels","Total Residential / Households","Solid fossil fuels - KT",2024]
["OIL","KT",null,"RESTOT",null,null,null,"Total oil and petroleum products","Total Residential / Households","Total oil and petroleum products - KT",2024]
["LPG","KT",null,"RESTOT",null,null,null,"LPG","Total Residential / Households","LPG - KT",2024]
["KEROSENE","KT",null,"RESTOT",null,null,null,"Other kerosene","Total Residential / Households","Other kerosene - KT",2024]
["GASOIL","KT",null,"RESTOT",null,null,null,"Total gas/diesel oil","Total Residential / Households","Total gas/diesel oil - KT",2024]
["RENEW","TJ",null,"RESTOT",null,null,null,"Renewables and wastes","Total Residential / Households","Renewables and wastes - TJ",2024]
["SOLARTH","TJ",null,"RESTOT",null,null,null,"Solar thermal","Total Residential / Households","Solar thermal - TJ",2024]
["BIOFUEL","TJ",null,"RESTOT",null,null,null,"Solid biofuels excluding charcoal","Total Residential / Households","Solid biofuels excluding charcoal - TJ",2024]
["BIOGASES","TJ",null,"RESTOT",null,null,null,"Biogases","Total Residential / Households","Biogases - TJ",2024]
["AMBIANT","TJ",null,"RESTOT",null,null,null,"Ambient heat","Total Residential / Households","Ambient heat - TJ",2024]

{"sheet":"CheckReport","index":30,"n_rows":1,"n_cols":14,"rows_kept":1,"cut":false,"hidden":true,"merged":[]}
["COUNTRY","QUEST","DATATYPE","PRODUCT","ITEM1","ITEM2","TIME","VALIDATION","VALUE","EXPECTED","RULE","CELL","TABLE","ERRORTYPE"]

{"sheet":"Param_Sheets","index":31,"n_rows":13,"n_cols":14,"rows_kept":13,"cut":false,"hidden":true,"merged":[]}
["Name","Template_Sheet","Version","Datatype","Product","Item1","Item2","Time","Protect",null,null,null,"Refresh Formula","Name"]
["Table1","TemplateTable1",null,"FINCONS","Template","Template","Template",{"$f":"Param_Questionnaire!$B$10","v":2022},1,null,null,null,null,"Table1"]
["Calorific","TemplateCalorific_Values",null,"FINCONS","Template","CALOR","KT","Template",1]
["RESTOT","TemplateTS1_TOT","RESTOT","FINCONS","Template","Template","Template","Template",1]
["SPACEHEAT","TemplateTS1",null,"FINCONS","Template","SPACEHEAT","Template","Template",1]
["SPACECOOL","TemplateTS1",null,"FINCONS","Template","SPACECOOL","Template","Template",1]
["WATERHEAT","TemplateTS1",null,"FINCONS","Template","WATERHEAT","Template","Template",1]
["COOK","TemplateTS1",null,"FINCONS","Template","COOK","Template","Template",1]
["LIGHTAPP","TemplateTS1",null,"FINCONS","Template","LIGHTAPP","Template","Template",1]
["RESOTH","TemplateTS1",null,"FINCONS","Template","RESOTH","Template","Template",1]
["REMARKS","TemplateRemarks",null,"FINCONS","ALL","Template",null,{"$f":"Param_Questionnaire!$B$10","v":2022},1]
["REMARKS_TS","TemplateRemarksTS",null,"FINCONS","ALL","Template",null,"Template",1]
["GRAPH","TemplateGraph",null,"FINCONS","Template","Template","Template","Template",3]

{"sheet":"Param_Sheets_Templates","index":32,"n_rows":6,"n_cols":8,"rows_kept":6,"cut":false,"hidden":true,"merged":[]}
["Name","TemplateCalorific_Values","TemplateTable1","TemplateTS1","TemplateTS1_TOT","TemplateRemarks","TemplateRemarksTS","TemplateGraph"]
["Format","TimeSeries","OneYear","TimeSeries","TimeSeries","OneYear","TimeSeries","TimeSeries"]
["VersionRow",null,null,null,3]
["VersionCol",null,null,null,2]
["HideCol","A:J","A:L","A:K","A:K","A:C","A:C","A:L"]
["HideRow","3:6","2:10","3:6","2:6","4:7","4:5","100:300"]

{"sheet":"Param_Tables","index":33,"n_rows":13,"n_cols":9,"rows_kept":13,"cut":false,"hidden":true,"merged":[]}
["Name","SheetName","Template","Version","Datatype","Product","Item1","Item2","Time"]
["Calorific","Calorific","TemplateCalorific_Values",null,"FINCONS","Template","CALOR","KT","Template"]
["Table1","Table1","TemplateTable1",null,"FINCONS","Template","Template","Template",{"$f":"Param_Questionnaire!$B$10","v":2022}]
["RESTOT","RESTOT","TemplateTS1_TOT","RESTOT","FINCONS","Template","Template","Template","Template"]
["SPACEHEAT","SPACEHEAT","TemplateTS1",null,"FINCONS","Template","SPACEHEAT","Template","Template"]
["SPACECOOL","SPACECOOL","TemplateTS1",null,"FINCONS","Template","SPACECOOL","Template","Template"]
["WATERHEAT","WATERHEAT","TemplateTS1",null,"FINCONS","Template","WATERHEAT","Template","Template"]
["COOK","COOK","TemplateTS1",null,"FINCONS","Template","COOK","Template","Template"]
["LIGHTAPP","LIGHTAPP","TemplateTS1",null,"FINCONS","Template","LIGHTAPP","Template","Template"]
["RESOTH","RESOTH","TemplateTS1",null,"FINCONS","Template","RESOTH","Template","Template"]
["REMARKS","REMARKS","TemplateRemarks",null,"FINCONS","ALL","Template","Template",{"$f":"Param_Questionnaire!$B$10","v":2022}]
["REMARKS_TS","REMARKS_TS","TemplateRemarksTS",null,"FINCONS","ALL","Template","Template","Template"]
["GRAPH","GRAPH","TemplateGraph",null,"FINCONS","Template","Template","Template","Template"]

{"sheet":"Param_Tables_Templates","index":34,"n_rows":45,"n_cols":8,"rows_kept":45,"cut":false,"hidden":true,"merged":[]}
["Name","TemplateCalorific_Values","TemplateTable1","TemplateTS1","TemplateTS1_TOT","TemplateRemarks","TemplateRemarksTS","TemplateGraph"]
["SheetName","TemplateCalorific_Values","TemplateTable1","TemplateTS1","TemplateTS1","TemplateRemarks","TemplateRemarks","TemplateGraph"]
["Format","TimeSeries","OneYear","TimeSeries","TimeSeries","OneYear","TimeSeries","OneYear"]
["VersionRow",null,null,null,3]
["VersionCol",null,null,null,2]
["FirstRow",8,13,8,8,8,8,8]
["FirstCol",13,14,14,14,5,5,12]
["LastRow",12,20,21,21,35,35,1281]
["LastCol",27,28,28,43,5,19,12]
["DataTypeRow",2,3,2,2,2,2,2]
["DataTypeCol",2,2,2,2,2,2,2]
["ProductRow",0,2,0,0,3,3,0]
["ProductCol",1,0,1,1,2,2,1]
["Item1Row",3,0,3,2,0,0,0]
["Item1Col",2,1,2,0,1,1,4]
["Item2Row",4,3,0,0,5,5,0]
["Item2Col",2,0,2,2,2,2,2]
["TimeRow",7,2,7,5,4,6,0]
["TimeCol",0,2,0,0,2,0,11]
["FormulaRow",null,4,3,3]
["FormulaCol",2,2,3,3,null,null,3]
["CheckCol1",3,3,4,4]
["CheckCol2",5,5,6,6]
["CheckCol3",null,7]
["CheckRow",null,5]
["LabelCheckCol1",4,4,5,5]
["LabelCheckCol2",6,6,7,7]
["LabelCheckCol3",null,8]
["LabelCheckRow",null,6]
["LockedRow",4,7,4,4,null,null,4]
["LockedCol",7,9,8,8,null,null,5]
["EmptyRow",5,8,5,5,null,null,5]
["EmptyCol",8,10,9,9,null,null,6]
["VoluntaryRow",6,9,6,null,null,null,6]
["VoluntaryCol",9,11,10,10,null,null,7]
["LabelRow",7,11,7,7,7,6,7]
["LabelCol",11,13,12,12,4,4,11]
["HideCol","A:J","AB:AB","A:K","A:K","A:C"]
["HideRow","3:6",null,"3:6","3:6","4:7",null,"2:6"]
["TableSourceCol"]
["TableSourceRow",null,null,null,6]
["NbDecimalRow"]
["NbDecimalCol"]
["TypeRow",null,null,null,null,5,5]
["TypeCol"]