{"text_format":"1","workbook":"xlsx","n_sheets":24,"sheets":["Cover","Footnotes","Energy taxes","ETS CO2 taxes","Other CO2 taxes","Transport taxes","Pollution taxes","Resource taxes","NTL_National Tax List","Energy Log","ETS CO2 Log","Other CO2 Log","Transport Log","Pollution Log","Resource Log","Confidentiality Logs","Parameter_mapping","Parameters_SDMX_Converter","Transcoding","Countries codes","Country Absolute Thresholds","Parameters","LOG","Versions"],"not_rendered":{"charts":0,"images":2,"macros":1,"external_links":4,"defined_names":24,"comments":0,"pivot_tables":0},"unopened":[],"bounds":{"document_bytes":16777216,"sheet_cells":100000,"rows_first":2000,"rows_last":500,"rows_between":2000,"halvings":0,"cell_chars":16384,"cell_head_chars":4096},"cells_cut":0,"cells_raw":0,"read":"whole","date_system":"1900"}

{"sheet":"Cover","index":0,"n_rows":73,"n_cols":6,"rows_kept":73,"cut":false,"hidden":false,"merged":[[62,2,62,3],[44,2,44,3],[55,2,55,3],[58,2,58,3],[61,2,61,3],[57,2,57,3],[30,2,30,3],[31,2,31,3],[20,1,20,3],[54,2,54,3],[25,2,26,9],[45,2,45,3],[46,2,46,3],[49,2,49,3],[50,2,50,3],[27,2,27,3],[28,2,28,3],[29,2,29,3],[32,2,32,3]]}
[]
[null,null,"Statistical office of the"]
[null,null,"European Union"]
[]
[]
[]
[null,null,null,null,null," "]
[]
[]
[]
[null,null,"Directorate E: Sectoral and regional statistics"]
[]
[]
[]
[null,null,"Unit E-2: Environmental statistics and accounts; sustainable development"]
[]
[null,null,"Working Group “Monetary Environmental Statistics and Accounts”"]
[]
[]
[null,null,"QUESTIONNAIRE"]
[null,"ETEA 25 - ENVIRONMENTAL TAXES BY ECONOMIC ACTIVITY 2025         \nDEADLINE: 30.04.2025\n"]
[null,null,""]
[]
[null,null,"Country:"]
[null,null,"Albania "]
[null,null,"Who is the primary contact point for environmental taxes in your country? (institution, unit, name, email, telephone)"]
[]
[]
[]
[]
[]
[]
[null,null,"In this data collection, reporting is mandatory for the years 2023, 2022, 2021, 2020 and 2019. However, countries have the choice to designate a different starting year, thereby expanding the time series of the reported data, with the stipulation that the starting year falls between the years 1995 and 2019. "]
[null,null,"Insert Starting Year",2019]
[]
[]
[]
[null,null,"This is Eurostat's electronic questionnaire for environmental taxes by economic activity (ETEA questionnaire). "]
[null,null,"The questionnaire includes 6 data sheets to be completed. For detailed instruction on filling out the questionnaire see sheet 'Notes'."]
[]
[]
[null,null,"CONTENTS:"]
[]
[null,null,"Footnotes - List of footnotes"]
[]
[null,null,"Reporting tables:"]
[null,null,"Energy taxes"]
[null,null,"CO2 taxes_ETS"]
[null,null,"CO2 taxes_other"]
[null,null,"Transport taxes"]
[null,null,"Pollution taxes"]
[null,null,"Resources taxes"]
[]
[]
[]
[null,null,"NTL - National tax list: detailed list of environmental taxes according to the national accounts (table 9 of the ESA transmission programme)"]
[]
[null,null,"Log files (listing results when running the control checks):"]
[null,null,"Energy log"]
[null,null,"CO2 taxes_ETS log"]
[null,null,"CO2 taxes_other log"]
[null,null,"Transport log"]
[null,null,"Pollution log"]
[null,null,"Resources log"]
[null,null,"Confidentiality Logs"]
[]
[]
[null,null,"Please, submit this electronic questionnaire to Eurostat using the eDAMIS reporting system. Use the following details:"]
[]
[]
[null,null,"Domain name: ENVMFLAC (Domain name for SDMX data transmissions: ENVDATA) "]
[null,null,"Data set name: ENVMFLAC_TAXIND_A (Dataset name for SDMX data transmissions: ENVDATA_ETEA_A) "]
[null,null,"End of (mandatory) reference period: 2023"]

{"sheet":"Footnotes","index":1,"n_rows":74,"n_cols":4,"rows_kept":74,"cut":false,"hidden":false,"merged":[[11,0,11,3],[9,2,9,3]]}
[null,null,"Country:",{"$f":"'Energy taxes'!C1","v":"AL "}]
[null,null," A. FOOTNOTE REFERENCES:"]
[null,null," 1) Footnote references should be entered in the footnote columns (highlighted in yellow), in the "]
[null,null,"  data area. Footnote should be separated by a right bracket, e.g. 1)2)3)"]
[null,null,"  Please do NOT use any other format for the footnote references!"]
[null,null,"  2) You can enter more than one footnote reference next to a value. e.g.:   b)1)"]
[null,null," No space between the references has to be left, since the right bracket is already serving as separator."]
[null,null,"  3) Given the limited width of the footnote reference columns, it is possible that some of your footnote references will not be visible. "]
[null,null,"  However, this will have no impact on the processing of your data and metadata."]
[null,null,"4) There are two types of footnote symbols – letters for standard footnotes (as defined by Eurostat) and numbers for country-specific footnotes (to be defined by the data compilers). You can enter your own footnotes starting from number 1) . Please do not report footnotes that elaborate on e.g. source data and compilation methods; these are to be described in the ETEA quality reports or Metadata sheet. "]
[null,null,"\n\n"]
[]
[]
[]
[null,null,null,"List of footnotes"]
[]
[null,null,"footnote symbol","footnote text associated to symbol"]
[null,null,"b)","Break in series"]
[null,null,"c)","Confidential data"]
[null,null,"d)","Secondary confidentiality"]
[null,null,"e)","Estimated data"]
[null,null,"n)","Not for publication, restricted for Eurostat's internal use only (this footnote can be used solely by Eurostat)"]
[null,null,"p)","Provisional "]
[null,null,"s)","Eurostat estimate (this footnote can be used solely by Eurostat)"]
[null,null,"1)"]
[null,null,"2)"]
[null,null,"3)"]
[null,null,"4)"]
[null,null,"5)"]
[null,null,"6)"]
[null,null,"7)"]
[null,null,"8)"]
[null,null,"9)"]
[null,null,"10)"]
[null,null,"11)"]
[null,null,"12)"]
[null,null,"13)"]
[null,null,"14)"]
[null,null,"15)"]
[null,null,"16)"]
[null,null,"17)"]
[null,null,"18)"]
[null,null,"19)"]
[null,null,"20)"]
[null,null,"21)"]
[null,null,"22)"]
[null,null,"23)"]
[null,null,"24)"]
[null,null,"25)"]
[null,null,"26)"]
[null,null,"27)"]
[null,null,"28)"]
[null,null,"29)"]
[null,null,"30)"]
[null,null,"31)"]
[null,null,"32)"]
[null,null,"33)"]
[null,null,"34)"]
[null,null,"35)"]
[null,null,"36)"]
[null,null,"37)"]
[null,null,"38)"]
[null,null,"39)"]
[null,null,"40)"]
[null,null,"41)"]
[null,null,"42)"]
[null,null,"43)"]
[null,null,"44)"]
[null,null,"45)"]
[null,null,"46)"]
[null,null,"47)"]
[null,null,"48)"]
[null,null,"49)"]
[null,null,"50)"]

{"sheet":"Energy taxes","index":2,"n_rows":88,"n_cols":157,"rows_kept":88,"cut":false,"hidden":false,"merged":[[0,95,2,95],[0,96,2,96],[3,1,3,2],[77,1,77,2],[0,91,2,91],[0,92,2,92],[0,93,2,93],[0,94,2,94]]}
[null,"Country:",{"$f":"'Countries codes'!D4","v":"AL "},null,null,null,null,null,null,null,null,"Tolerance",null,null,null,null,null,null,null,null,null,null,null,null,null,null,null,null,null,null,null,null,null,null,null,null,null,null,null,null,null,null,null,null,null,null,null,null,null,null,null,null,null,null,null,null,null,null,null,null,null,null,null,null,null,null,null,null,null,null,null,null,null,null,null,null,null,null,null,null,null,null,null,null,null,null,null,null,null,null,null,"TAX_REP","INTERACTORS","BRIDGE_ITEMS","TAX","UNIT_MEASURE","UNIT_MULT"]
[null,"Energy taxes:","NRG",null,null,null,null,null,null,null,null,{"$f":"5","v":5}]
[null,"Unit:","million national currency","MIO_NAC"]
["Ind","NACE Rev. 2 A*64 industry classification",null,"1995","footnotes",1996,"footnotes",1997,"footnotes",1998,"footnotes",1999,"footnotes",2000,"footnotes",2001,"footnotes",2002,"footnotes",2003,"footnotes",2004,"footnotes",2005,"footnotes",2006,"footnotes",2007,"footnotes",2008,"footnotes",2009,"footnotes",2010,"footnotes",2011,"footnotes",2012,"footnotes",2013,"footnotes",2014,"footnotes",2015,"footnotes",2016,"footnotes",2017,"footnotes",2018,"footnotes",2019,"footnotes",2020,"footnotes",2021,"footnotes",2022,"footnotes",2023,"footnotes",null,null,null,null,null,null,null,null,null,null,null,null,null,null,null,null,null,null,null,null,null,null,null,null,null,null,null,null,null,null,null,null,null,null,null,null,null,null,null,null,{"$f":"D4","v":"1995"},"footnotes",1996,"footnotes",1997,"footnotes",1998,"footnotes",1999,"footnotes",2000,"footnotes",2001,"footnotes",2002,"footnotes",2003,"footnotes",2004,"footnotes",2005,"footnotes",2006,"footnotes",2007,"footnotes",2008,"footnotes",2009,"footnotes",2010,"footnotes",{"$f":"AJ4","v":2011},"footnotes",2012,"footnotes",2013,"footnotes",2014,"footnotes",2015,"footnotes",2016,"footnotes",2017,"footnotes",2018,"footnotes",2019,"footnotes",2020,"footnotes",{"$f":"BD4","v":2021},{"$f":"BE4","v":"footnotes"},{"$f":"BH4","v":2023},{"$f":"BI4","v":"footnotes"}]
["A01","A01","Crop and animal production, hunting and related service activities",null,null,null,null,null,null,null,null,null,null,null,null,null,null,null,null,null,null,null,null,null,null,null,null,null,null,null,null,null,null,null,null,null,null,null,null,null,null,null,null,null,null,null,null,null,null,null,null,null,null,null,null,null,null,null,null,null,null,null,null,null,null,null,null,null,null,null,null,null,null,null,null,null,null,null,null,null,null,null,null,null,null,null,null,null,null,null,null,"TAX_EU","A01","RUT","NRG","XDC",6]
["A02","A02","Forestry and logging ",null,null,null,null,null,null,null,null,null,null,null,null,null,null,null,null,null,null,null,null,null,null,null,null,null,null,null,null,null,null,null,null,null,null,null,null,null,null,null,null,null,null,null,null,null,null,null,null,null,null,null,null,null,null,null,null,null,null,null,null,null,null,null,null,null,null,null,null,null,null,null,null,null,null,null,null,null,null,null,null,null,null,null,null,null,null,null,null,"TAX_EU","A02","RUT","NRG"]
["A03","A03","Fishing and aquaculture",null,null,null,null,null,null,null,null,null,null,null,null,null,null,null,null,null,null,null,null,null,null,null,null,null,null,null,null,null,null,null,null,null,null,null,null,null,null,null,null,null,null,null,null,null,null,null,null,null,null,null,null,null,null,null,null,null,null,null,null,null,null,null,null,null,null,null,null,null,null,null,null,null,null,null,null,null,null,null,null,null,null,null,null,null,null,null,null,"TAX_EU","A03","RUT","NRG"]
["B","B05-B09","Mining and quarrying",null,null,null,null,null,null,null,null,null,null,null,null,null,null,null,null,null,null,null,null,null,null,null,null,null,null,null,null,null,null,null,null,null,null,null,null,null,null,null,null,null,null,null,null,null,null,null,null,null,null,null,null,null,null,null,null,null,null,null,null,null,null,null,null,null,null,null,null,null,null,null,null,null,null,null,null,null,null,null,null,null,null,null,null,null,null,null,null,"TAX_EU","B","RUT","NRG"]
["C10-C12","C10-C12","Manufacture of food products, beverages and tobacco products",null,null,null,null,null,null,null,null,null,null,null,null,null,null,null,null,null,null,null,null,null,null,null,null,null,null,null,null,null,null,null,null,null,null,null,null,null,null,null,null,null,null,null,null,null,null,null,null,null,null,null,null,null,null,null,null,null,null,null,null,null,null,null,null,null,null,null,null,null,null,null,null,null,null,null,null,null,null,null,null,null,null,null,null,null,null,null,null,"TAX_EU","C10T12","RUT","NRG"]
["C13-C15","C13-C15","Manufacture of textiles, wearing apparel and leather products",null,null,null,null,null,null,null,null,null,null,null,null,null,null,null,null,null,null,null,null,null,null,null,null,null,null,null,null,null,null,null,null,null,null,null,null,null,null,null,null,null,null,null,null,null,null,null,null,null,null,null,null,null,null,null,null,null,null,null,null,null,null,null,null,null,null,null,null,null,null,null,null,null,null,null,null,null,null,null,null,null,null,null,null,null,null,null,null,"TAX_EU","C13T15","RUT","NRG"]
["C16","C16","Manufacture of wood and of products of wood and cork, except furniture; manufacture of articles of straw and plaiting materials",null,null,null,null,null,null,null,null,null,null,null,null,null,null,null,null,null,null,null,null,null,null,null,null,null,null,null,null,null,null,null,null,null,null,null,null,null,null,null,null,null,null,null,null,null,null,null,null,null,null,null,null,null,null,null,null,null,null,null,null,null,null,null,null,null,null,null,null,null,null,null,null,null,null,null,null,null,null,null,null,null,null,null,null,null,null,null,null,"TAX_EU","C16","RUT","NRG"]
["C17","C17","Manufacture of paper and paper products",null,null,null,null,null,null,null,null,null,null,null,null,null,null,null,null,null,null,null,null,null,null,null,null,null,null,null,null,null,null,null,null,null,null,null,null,null,null,null,null,null,null,null,null,null,null,null,null,null,null,null,null,null,null,null,null,null,null,null,null,null,null,null,null,null,null,null,null,null,null,null,null,null,null,null,null,null,null,null,null,null,null,null,null,null,null,null,null,"TAX_EU","C17","RUT","NRG"]
["C18","C18","Printing and reproduction of recorded media",null,null,null,null,null,null,null,null,null,null,null,null,null,null,null,null,null,null,null,null,null,null,null,null,null,null,null,null,null,null,null,null,null,null,null,null,null,null,null,null,null,null,null,null,null,null,null,null,null,null,null,null,null,null,null,null,null,null,null,null,null,null,null,null,null,null,null,null,null,null,null,null,null,null,null,null,null,null,null,null,null,null,null,null,null,null,null,null,"TAX_EU","C18","RUT","NRG"]
["C19","C19","Manufacture of coke and refined petroleum products ",null,null,null,null,null,null,null,null,null,null,null,null,null,null,null,null,null,null,null,null,null,null,null,null,null,null,null,null,null,null,null,null,null,null,null,null,null,null,null,null,null,null,null,null,null,null,null,null,null,null,null,null,null,null,null,null,null,null,null,null,null,null,null,null,null,null,null,null,null,null,null,null,null,null,null,null,null,null,null,null,null,null,null,null,null,null,null,null,"TAX_EU","C19","RUT","NRG"]
["C20","C20","Manufacture of chemicals and chemical products",null,null,null,null,null,null,null,null,null,null,null,null,null,null,null,null,null,null,null,null,null,null,null,null,null,null,null,null,null,null,null,null,null,null,null,null,null,null,null,null,null,null,null,null,null,null,null,null,null,null,null,null,null,null,null,null,null,null,null,null,null,null,null,null,null,null,null,null,null,null,null,null,null,null,null,null,null,null,null,null,null,null,null,null,null,null,null,null,"TAX_EU","C20","RUT","NRG"]
["C21","C21","Manufacture of basic pharmaceutical products and pharmaceutical preparations",null,null,null,null,null,null,null,null,null,null,null,null,null,null,null,null,null,null,null,null,null,null,null,null,null,null,null,null,null,null,null,null,null,null,null,null,null,null,null,null,null,null,null,null,null,null,null,null,null,null,null,null,null,null,null,null,null,null,null,null,null,null,null,null,null,null,null,null,null,null,null,null,null,null,null,null,null,null,null,null,null,null,null,null,null,null,null,null,"TAX_EU","C21","RUT","NRG"]
["C22","C22","Manufacture of rubber and plastic products",null,null,null,null,null,null,null,null,null,null,null,null,null,null,null,null,null,null,null,null,null,null,null,null,null,null,null,null,null,null,null,null,null,null,null,null,null,null,null,null,null,null,null,null,null,null,null,null,null,null,null,null,null,null,null,null,null,null,null,null,null,null,null,null,null,null,null,null,null,null,null,null,null,null,null,null,null,null,null,null,null,null,null,null,null,null,null,null,"TAX_EU","C22","RUT","NRG"]
["C23","C23","Manufacture of other non-metallic mineral products",null,null,null,null,null,null,null,null,null,null,null,null,null,null,null,null,null,null,null,null,null,null,null,null,null,null,null,null,null,null,null,null,null,null,null,null,null,null,null,null,null,null,null,null,null,null,null,null,null,null,null,null,null,null,null,null,null,null,null,null,null,null,null,null,null,null,null,null,null,null,null,null,null,null,null,null,null,null,null,null,null,null,null,null,null,null,null,null,"TAX_EU","C23","RUT","NRG"]
["C24","C24","Manufacture of basic metals",null,null,null,null,null,null,null,null,null,null,null,null,null,null,null,null,null,null,null,null,null,null,null,null,null,null,null,null,null,null,null,null,null,null,null,null,null,null,null,null,null,null,null,null,null,null,null,null,null,null,null,null,null,null,null,null,null,null,null,null,null,null,null,null,null,null,null,null,null,null,null,null,null,null,null,null,null,null,null,null,null,null,null,null,null,null,null,null,"TAX_EU","C24","RUT","NRG"]
["C25","C25","Manufacture of fabricated metal products, except machinery and equipment",null,null,null,null,null,null,null,null,null,null,null,null,null,null,null,null,null,null,null,null,null,null,null,null,null,null,null,null,null,null,null,null,null,null,null,null,null,null,null,null,null,null,null,null,null,null,null,null,null,null,null,null,null,null,null,null,null,null,null,null,null,null,null,null,null,null,null,null,null,null,null,null,null,null,null,null,null,null,null,null,null,null,null,null,null,null,null,null,"TAX_EU","C25","RUT","NRG"]
["C26","C26","Manufacture of computer, electronic and optical products",null,null,null,null,null,null,null,null,null,null,null,null,null,null,null,null,null,null,null,null,null,null,null,null,null,null,null,null,null,null,null,null,null,null,null,null,null,null,null,null,null,null,null,null,null,null,null,null,null,null,null,null,null,null,null,null,null,null,null,null,null,null,null,null,null,null,null,null,null,null,null,null,null,null,null,null,null,null,null,null,null,null,null,null,null,null,null,null,"TAX_EU","C26","RUT","NRG"]
["C27","C27","Manufacture of electrical equipment",null,null,null,null,null,null,null,null,null,null,null,null,null,null,null,null,null,null,null,null,null,null,null,null,null,null,null,null,null,null,null,null,null,null,null,null,null,null,null,null,null,null,null,null,null,null,null,null,null,null,null,null,null,null,null,null,null,null,null,null,null,null,null,null,null,null,null,null,null,null,null,null,null,null,null,null,null,null,null,null,null,null,null,null,null,null,null,null,"TAX_EU","C27","RUT","NRG"]
["C28","C28","Manufacture of machinery and equipment n.e.c.",null,null,null,null,null,null,null,null,null,null,null,null,null,null,null,null,null,null,null,null,null,null,null,null,null,null,null,null,null,null,null,null,null,null,null,null,null,null,null,null,null,null,null,null,null,null,null,null,null,null,null,null,null,null,null,null,null,null,null,null,null,null,null,null,null,null,null,null,null,null,null,null,null,null,null,null,null,null,null,null,null,null,null,null,null,null,null,null,"TAX_EU","C28","RUT","NRG"]
["C29","C29","Manufacture of motor vehicles, trailers and semi-trailers",null,null,null,null,null,null,null,null,null,null,null,null,null,null,null,null,null,null,null,null,null,null,null,null,null,null,null,null,null,null,null,null,null,null,null,null,null,null,null,null,null,null,null,null,null,null,null,null,null,null,null,null,null,null,null,null,null,null,null,null,null,null,null,null,null,null,null,null,null,null,null,null,null,null,null,null,null,null,null,null,null,null,null,null,null,null,null,null,"TAX_EU","C29","RUT","NRG"]
["C30","C30","Manufacture of other transport equipment",null,null,null,null,null,null,null,null,null,null,null,null,null,null,null,null,null,null,null,null,null,null,null,null,null,null,null,null,null,null,null,null,null,null,null,null,null,null,null,null,null,null,null,null,null,null,null,null,null,null,null,null,null,null,null,null,null,null,null,null,null,null,null,null,null,null,null,null,null,null,null,null,null,null,null,null,null,null,null,null,null,null,null,null,null,null,null,null,"TAX_EU","C30","RUT","NRG"]
["C31_C32","C31-C32","Manufacture of furniture; other manufacturing",null,null,null,null,null,null,null,null,null,null,null,null,null,null,null,null,null,null,null,null,null,null,null,null,null,null,null,null,null,null,null,null,null,null,null,null,null,null,null,null,null,null,null,null,null,null,null,null,null,null,null,null,null,null,null,null,null,null,null,null,null,null,null,null,null,null,null,null,null,null,null,null,null,null,null,null,null,null,null,null,null,null,null,null,null,null,null,null,"TAX_EU","C31_32","RUT","NRG"]
["C33","C33","Repair and installation of machinery and equipment",null,null,null,null,null,null,null,null,null,null,null,null,null,null,null,null,null,null,null,null,null,null,null,null,null,null,null,null,null,null,null,null,null,null,null,null,null,null,null,null,null,null,null,null,null,null,null,null,null,null,null,null,null,null,null,null,null,null,null,null,null,null,null,null,null,null,null,null,null,null,null,null,null,null,null,null,null,null,null,null,null,null,null,null,null,null,null,null,"TAX_EU","C33","RUT","NRG"]
["D35","D35","Electricity, gas, steam and air conditioning supply",null,null,null,null,null,null,null,null,null,null,null,null,null,null,null,null,null,null,null,null,null,null,null,null,null,null,null,null,null,null,null,null,null,null,null,null,null,null,null,null,null,null,null,null,null,null,null,null,null,null,null,null,null,null,null,null,null,null,null,null,null,null,null,null,null,null,null,null,null,null,null,null,null,null,null,null,null,null,null,null,null,null,null,null,null,null,null,null,"TAX_EU","D","RUT","NRG"]
["E36","E36","Water collection, treatment and supply",null,null,null,null,null,null,null,null,null,null,null,null,null,null,null,null,null,null,null,null,null,null,null,null,null,null,null,null,null,null,null,null,null,null,null,null,null,null,null,null,null,null,null,null,null,null,null,null,null,null,null,null,null,null,null,null,null,null,null,null,null,null,null,null,null,null,null,null,null,null,null,null,null,null,null,null,null,null,null,null,null,null,null,null,null,null,null,null,"TAX_EU","E36","RUT","NRG"]
["E37-E39","E37-E39","Sewerage, waste collection, treatment and disposal activities; materials recovery; remediation activities and other waste management services ",null,null,null,null,null,null,null,null,null,null,null,null,null,null,null,null,null,null,null,null,null,null,null,null,null,null,null,null,null,null,null,null,null,null,null,null,null,null,null,null,null,null,null,null,null,null,null,null,null,null,null,null,null,null,null,null,null,null,null,null,null,null,null,null,null,null,null,null,null,null,null,null,null,null,null,null,null,null,null,null,null,null,null,null,null,null,null,null,"TAX_EU","E37T39","RUT","NRG"]
["F","F41-F43","Construction ",null,null,null,null,null,null,null,null,null,null,null,null,null,null,null,null,null,null,null,null,null,null,null,null,null,null,null,null,null,null,null,null,null,null,null,null,null,null,null,null,null,null,null,null,null,null,null,null,null,null,null,null,null,null,null,null,null,null,null,null,null,null,null,null,null,null,null,null,null,null,null,null,null,null,null,null,null,null,null,null,null,null,null,null,null,null,null,null,"TAX_EU","F","RUT","NRG"]
["G45","G45","Wholesale and retail trade and repair of motor vehicles and motorcycles",null,null,null,null,null,null,null,null,null,null,null,null,null,null,null,null,null,null,null,null,null,null,null,null,null,null,null,null,null,null,null,null,null,null,null,null,null,null,null,null,null,null,null,null,null,null,null,null,null,null,null,null,null,null,null,null,null,null,null,null,null,null,null,null,null,null,null,null,null,null,null,null,null,null,null,null,null,null,null,null,null,null,null,null,null,null,null,null,"TAX_EU","G45","RUT","NRG"]
["G46","G46","Wholesale trade, except of motor vehicles and motorcycles",null,null,null,null,null,null,null,null,null,null,null,null,null,null,null,null,null,null,null,null,null,null,null,null,null,null,null,null,null,null,null,null,null,null,null,null,null,null,null,null,null,null,null,null,null,null,null,null,null,null,null,null,null,null,null,null,null,null,null,null,null,null,null,null,null,null,null,null,null,null,null,null,null,null,null,null,null,null,null,null,null,null,null,null,null,null,null,null,"TAX_EU","G46","RUT","NRG"]
["G47","G47","Retail trade, except of motor vehicles and motorcycles",null,null,null,null,null,null,null,null,null,null,null,null,null,null,null,null,null,null,null,null,null,null,null,null,null,null,null,null,null,null,null,null,null,null,null,null,null,null,null,null,null,null,null,null,null,null,null,null,null,null,null,null,null,null,null,null,null,null,null,null,null,null,null,null,null,null,null,null,null,null,null,null,null,null,null,null,null,null,null,null,null,null,null,null,null,null,null,null,"TAX_EU","G47","RUT","NRG"]
["H49","H49","Land transport and transport via pipelines",null,null,null,null,null,null,null,null,null,null,null,null,null,null,null,null,null,null,null,null,null,null,null,null,null,null,null,null,null,null,null,null,null,null,null,null,null,null,null,null,null,null,null,null,null,null,null,null,null,null,null,null,null,null,null,null,null,null,null,null,null,null,null,null,null,null,null,null,null,null,null,null,null,null,null,null,null,null,null,null,null,null,null,null,null,null,null,null,"TAX_EU","H49","RUT","NRG"]
["H50","H50","Water transport",null,null,null,null,null,null,null,null,null,null,null,null,null,null,null,null,null,null,null,null,null,null,null,null,null,null,null,null,null,null,null,null,null,null,null,null,null,null,null,null,null,null,null,null,null,null,null,null,null,null,null,null,null,null,null,null,null,null,null,null,null,null,null,null,null,null,null,null,null,null,null,null,null,null,null,null,null,null,null,null,null,null,null,null,null,null,null,null,"TAX_EU","H50","RUT","NRG"]
["H51","H51","Air transport",null,null,null,null,null,null,null,null,null,null,null,null,null,null,null,null,null,null,null,null,null,null,null,null,null,null,null,null,null,null,null,null,null,null,null,null,null,null,null,null,null,null,null,null,null,null,null,null,null,null,null,null,null,null,null,null,null,null,null,null,null,null,null,null,null,null,null,null,null,null,null,null,null,null,null,null,null,null,null,null,null,null,null,null,null,null,null,null,"TAX_EU","H51","RUT","NRG"]
["H52","H52","Warehousing and support activities for transportation",null,null,null,null,null,null,null,null,null,null,null,null,null,null,null,null,null,null,null,null,null,null,null,null,null,null,null,null,null,null,null,null,null,null,null,null,null,null,null,null,null,null,null,null,null,null,null,null,null,null,null,null,null,null,null,null,null,null,null,null,null,null,null,null,null,null,null,null,null,null,null,null,null,null,null,null,null,null,null,null,null,null,null,null,null,null,null,null,"TAX_EU","H52","RUT","NRG"]
["H53","H53","Postal and courier activities",null,null,null,null,null,null,null,null,null,null,null,null,null,null,null,null,null,null,null,null,null,null,null,null,null,null,null,null,null,null,null,null,null,null,null,null,null,null,null,null,null,null,null,null,null,null,null,null,null,null,null,null,null,null,null,null,null,null,null,null,null,null,null,null,null,null,null,null,null,null,null,null,null,null,null,null,null,null,null,null,null,null,null,null,null,null,null,null,"TAX_EU","H53","RUT","NRG"]
["I","I55-I56","Accommodation; food and beverage service activities",null,null,null,null,null,null,null,null,null,null,null,null,null,null,null,null,null,null,null,null,null,null,null,null,null,null,null,null,null,null,null,null,null,null,null,null,null,null,null,null,null,null,null,null,null,null,null,null,null,null,null,null,null,null,null,null,null,null,null,null,null,null,null,null,null,null,null,null,null,null,null,null,null,null,null,null,null,null,null,null,null,null,null,null,null,null,null,null,"TAX_EU","I","RUT","NRG"]
["J58","J58","Publishing activities",null,null,null,null,null,null,null,null,null,null,null,null,null,null,null,null,null,null,null,null,null,null,null,null,null,null,null,null,null,null,null,null,null,null,null,null,null,null,null,null,null,null,null,null,null,null,null,null,null,null,null,null,null,null,null,null,null,null,null,null,null,null,null,null,null,null,null,null,null,null,null,null,null,null,null,null,null,null,null,null,null,null,null,null,null,null,null,null,"TAX_EU","J58","RUT","NRG"]
["J59_J60","J59-J60","Motion picture, video and television programme production, sound recording and music publishing activities;  programming and broadcasting activities",null,null,null,null,null,null,null,null,null,null,null,null,null,null,null,null,null,null,null,null,null,null,null,null,null,null,null,null,null,null,null,null,null,null,null,null,null,null,null,null,null,null,null,null,null,null,null,null,null,null,null,null,null,null,null,null,null,null,null,null,null,null,null,null,null,null,null,null,null,null,null,null,null,null,null,null,null,null,null,null,null,null,null,null,null,null,null,null,"TAX_EU","J59_60","RUT","NRG"]
["J61","J61","Telecommunications",null,null,null,null,null,null,null,null,null,null,null,null,null,null,null,null,null,null,null,null,null,null,null,null,null,null,null,null,null,null,null,null,null,null,null,null,null,null,null,null,null,null,null,null,null,null,null,null,null,null,null,null,null,null,null,null,null,null,null,null,null,null,null,null,null,null,null,null,null,null,null,null,null,null,null,null,null,null,null,null,null,null,null,null,null,null,null,null,"TAX_EU","J61","RUT","NRG"]
["J62_J63","J62-J63","Computer programming, consultancy and related activities; Information services activities",null,null,null,null,null,null,null,null,null,null,null,null,null,null,null,null,null,null,null,null,null,null,null,null,null,null,null,null,null,null,null,null,null,null,null,null,null,null,null,null,null,null,null,null,null,null,null,null,null,null,null,null,null,null,null,null,null,null,null,null,null,null,null,null,null,null,null,null,null,null,null,null,null,null,null,null,null,null,null,null,null,null,null,null,null,null,null,null,"TAX_EU","J62_63","RUT","NRG"]
["K64","K64","Financial service activities, except insurance and pension funding",null,null,null,null,null,null,null,null,null,null,null,null,null,null,null,null,null,null,null,null,null,null,null,null,null,null,null,null,null,null,null,null,null,null,null,null,null,null,null,null,null,null,null,null,null,null,null,null,null,null,null,null,null,null,null,null,null,null,null,null,null,null,null,null,null,null,null,null,null,null,null,null,null,null,null,null,null,null,null,null,null,null,null,null,null,null,null,null,"TAX_EU","K64","RUT","NRG"]
["K65","K65","Insurance, reinsurance and pension funding, except compulsory social security",null,null,null,null,null,null,null,null,null,null,null,null,null,null,null,null,null,null,null,null,null,null,null,null,null,null,null,null,null,null,null,null,null,null,null,null,null,null,null,null,null,null,null,null,null,null,null,null,null,null,null,null,null,null,null,null,null,null,null,null,null,null,null,null,null,null,null,null,null,null,null,null,null,null,null,null,null,null,null,null,null,null,null,null,null,null,null,null,"TAX_EU","K65","RUT","NRG"]
["K66","K66","Activities auxiliary to financial services and insurance activities",null,null,null,null,null,null,null,null,null,null,null,null,null,null,null,null,null,null,null,null,null,null,null,null,null,null,null,null,null,null,null,null,null,null,null,null,null,null,null,null,null,null,null,null,null,null,null,null,null,null,null,null,null,null,null,null,null,null,null,null,null,null,null,null,null,null,null,null,null,null,null,null,null,null,null,null,null,null,null,null,null,null,null,null,null,null,null,null,"TAX_EU","K66","RUT","NRG"]
["L","L68","Real estate activities",null,null,null,null,null,null,null,null,null,null,null,null,null,null,null,null,null,null,null,null,null,null,null,null,null,null,null,null,null,null,null,null,null,null,null,null,null,null,null,null,null,null,null,null,null,null,null,null,null,null,null,null,null,null,null,null,null,null,null,null,null,null,null,null,null,null,null,null,null,null,null,null,null,null,null,null,null,null,null,null,null,null,null,null,null,null,null,null,"TAX_EU","L","RUT","NRG"]
["M69_M70","M69-M70","Legal and accounting activities; activities of head offices; management consultancy activities",null,null,null,null,null,null,null,null,null,null,null,null,null,null,null,null,null,null,null,null,null,null,null,null,null,null,null,null,null,null,null,null,null,null,null,null,null,null,null,null,null,null,null,null,null,null,null,null,null,null,null,null,null,null,null,null,null,null,null,null,null,null,null,null,null,null,null,null,null,null,null,null,null,null,null,null,null,null,null,null,null,null,null,null,null,null,null,null,"TAX_EU","M69_70","RUT","NRG"]
["M71","M71","Architectural and engineering activities; technical testing and analysis",null,null,null,null,null,null,null,null,null,null,null,null,null,null,null,null,null,null,null,null,null,null,null,null,null,null,null,null,null,null,null,null,null,null,null,null,null,null,null,null,null,null,null,null,null,null,null,null,null,null,null,null,null,null,null,null,null,null,null,null,null,null,null,null,null,null,null,null,null,null,null,null,null,null,null,null,null,null,null,null,null,null,null,null,null,null,null,null,"TAX_EU","M71","RUT","NRG"]
["M72","M72","Scientific research and development",null,null,null,null,null,null,null,null,null,null,null,null,null,null,null,null,null,null,null,null,null,null,null,null,null,null,null,null,null,null,null,null,null,null,null,null,null,null,null,null,null,null,null,null,null,null,null,null,null,null,null,null,null,null,null,null,null,null,null,null,null,null,null,null,null,null,null,null,null,null,null,null,null,null,null,null,null,null,null,null,null,null,null,null,null,null,null,null,"TAX_EU","M72","RUT","NRG"]
["M73","M73","Advertising and market research",null,null,null,null,null,null,null,null,null,null,null,null,null,null,null,null,null,null,null,null,null,null,null,null,null,null,null,null,null,null,null,null,null,null,null,null,null,null,null,null,null,null,null,null,null,null,null,null,null,null,null,null,null,null,null,null,null,null,null,null,null,null,null,null,null,null,null,null,null,null,null,null,null,null,null,null,null,null,null,null,null,null,null,null,null,null,null,null,"TAX_EU","M73","RUT","NRG"]
["M74_M75","M74-M75","Other professional, scientific and technical activities;veterinary activities",null,null,null,null,null,null,null,null,null,null,null,null,null,null,null,null,null,null,null,null,null,null,null,null,null,null,null,null,null,null,null,null,null,null,null,null,null,null,null,null,null,null,null,null,null,null,null,null,null,null,null,null,null,null,null,null,null,null,null,null,null,null,null,null,null,null,null,null,null,null,null,null,null,null,null,null,null,null,null,null,null,null,null,null,null,null,null,null,"TAX_EU","M74_75","RUT","NRG"]
["N77","N77","Rental and leasing activities",null,null,null,null,null,null,null,null,null,null,null,null,null,null,null,null,null,null,null,null,null,null,null,null,null,null,null,null,null,null,null,null,null,null,null,null,null,null,null,null,null,null,null,null,null,null,null,null,null,null,null,null,null,null,null,null,null,null,null,null,null,null,null,null,null,null,null,null,null,null,null,null,null,null,null,null,null,null,null,null,null,null,null,null,null,null,null,null,"TAX_EU","N77","RUT","NRG"]
["N78","N78","Employment activities",null,null,null,null,null,null,null,null,null,null,null,null,null,null,null,null,null,null,null,null,null,null,null,null,null,null,null,null,null,null,null,null,null,null,null,null,null,null,null,null,null,null,null,null,null,null,null,null,null,null,null,null,null,null,null,null,null,null,null,null,null,null,null,null,null,null,null,null,null,null,null,null,null,null,null,null,null,null,null,null,null,null,null,null,null,null,null,null,"TAX_EU","N78","RUT","NRG"]
["N79","N79","Travel agency, tour operator reservation service and related activities",null,null,null,null,null,null,null,null,null,null,null,null,null,null,null,null,null,null,null,null,null,null,null,null,null,null,null,null,null,null,null,null,null,null,null,null,null,null,null,null,null,null,null,null,null,null,null,null,null,null,null,null,null,null,null,null,null,null,null,null,null,null,null,null,null,null,null,null,null,null,null,null,null,null,null,null,null,null,null,null,null,null,null,null,null,null,null,null,"TAX_EU","N79","RUT","NRG"]
["N80-N82","N80-N82","Security and investigation activities; services to buildings and landscape activities;office administrative, office support and other business support activities",null,null,null,null,null,null,null,null,null,null,null,null,null,null,null,null,null,null,null,null,null,null,null,null,null,null,null,null,null,null,null,null,null,null,null,null,null,null,null,null,null,null,null,null,null,null,null,null,null,null,null,null,null,null,null,null,null,null,null,null,null,null,null,null,null,null,null,null,null,null,null,null,null,null,null,null,null,null,null,null,null,null,null,null,null,null,null,null,"TAX_EU","N80T82","RUT","NRG"]
["O84","O84","Public administration and defence; compulsory social security",null,null,null,null,null,null,null,null,null,null,null,null,null,null,null,null,null,null,null,null,null,null,null,null,null,null,null,null,null,null,null,null,null,null,null,null,null,null,null,null,null,null,null,null,null,null,null,null,null,null,null,null,null,null,null,null,null,null,null,null,null,null,null,null,null,null,null,null,null,null,null,null,null,null,null,null,null,null,null,null,null,null,null,null,null,null,null,null,"TAX_EU","O","RUT","NRG"]
["P85","P85","Education",null,null,null,null,null,null,null,null,null,null,null,null,null,null,null,null,null,null,null,null,null,null,null,null,null,null,null,null,null,null,null,null,null,null,null,null,null,null,null,null,null,null,null,null,null,null,null,null,null,null,null,null,null,null,null,null,null,null,null,null,null,null,null,null,null,null,null,null,null,null,null,null,null,null,null,null,null,null,null,null,null,null,null,null,null,null,null,null,"TAX_EU","P","RUT","NRG"]
["Q86","Q86","Human health activities",null,null,null,null,null,null,null,null,null,null,null,null,null,null,null,null,null,null,null,null,null,null,null,null,null,null,null,null,null,null,null,null,null,null,null,null,null,null,null,null,null,null,null,null,null,null,null,null,null,null,null,null,null,null,null,null,null,null,null,null,null,null,null,null,null,null,null,null,null,null,null,null,null,null,null,null,null,null,null,null,null,null,null,null,null,null,null,null,"TAX_EU","Q86","RUT","NRG"]
["Q87_Q88","Q87-Q88","Social work activities",null,null,null,null,null,null,null,null,null,null,null,null,null,null,null,null,null,null,null,null,null,null,null,null,null,null,null,null,null,null,null,null,null,null,null,null,null,null,null,null,null,null,null,null,null,null,null,null,null,null,null,null,null,null,null,null,null,null,null,null,null,null,null,null,null,null,null,null,null,null,null,null,null,null,null,null,null,null,null,null,null,null,null,null,null,null,null,null,"TAX_EU","Q87_88","RUT","NRG"]
["R90-R92","R90-R92","Creative, arts and entertainment activities; libraries, archives, museums and other cultural activities; gambling and betting activities",null,null,null,null,null,null,null,null,null,null,null,null,null,null,null,null,null,null,null,null,null,null,null,null,null,null,null,null,null,null,null,null,null,null,null,null,null,null,null,null,null,null,null,null,null,null,null,null,null,null,null,null,null,null,null,null,null,null,null,null,null,null,null,null,null,null,null,null,null,null,null,null,null,null,null,null,null,null,null,null,null,null,null,null,null,null,null,null,"TAX_EU","R90T92","RUT","NRG"]
["R93","R93","Sports activities and amusement and recreation activities",null,null,null,null,null,null,null,null,null,null,null,null,null,null,null,null,null,null,null,null,null,null,null,null,null,null,null,null,null,null,null,null,null,null,null,null,null,null,null,null,null,null,null,null,null,null,null,null,null,null,null,null,null,null,null,null,null,null,null,null,null,null,null,null,null,null,null,null,null,null,null,null,null,null,null,null,null,null,null,null,null,null,null,null,null,null,null,null,"TAX_EU","R93","RUT","NRG"]
["S94","S94","Activities of membership organisations",null,null,null,null,null,null,null,null,null,null,null,null,null,null,null,null,null,null,null,null,null,null,null,null,null,null,null,null,null,null,null,null,null,null,null,null,null,null,null,null,null,null,null,null,null,null,null,null,null,null,null,null,null,null,null,null,null,null,null,null,null,null,null,null,null,null,null,null,null,null,null,null,null,null,null,null,null,null,null,null,null,null,null,null,null,null,null,null,"TAX_EU","S94","RUT","NRG"]
["S95","S95","Repairs of computers and personal and household goods",null,null,null,null,null,null,null,null,null,null,null,null,null,null,null,null,null,null,null,null,null,null,null,null,null,null,null,null,null,null,null,null,null,null,null,null,null,null,null,null,null,null,null,null,null,null,null,null,null,null,null,null,null,null,null,null,null,null,null,null,null,null,null,null,null,null,null,null,null,null,null,null,null,null,null,null,null,null,null,null,null,null,null,null,null,null,null,null,"TAX_EU","S95","RUT","NRG"]
["S96","S96","Other personal service activities",null,null,null,null,null,null,null,null,null,null,null,null,null,null,null,null,null,null,null,null,null,null,null,null,null,null,null,null,null,null,null,null,null,null,null,null,null,null,null,null,null,null,null,null,null,null,null,null,null,null,null,null,null,null,null,null,null,null,null,null,null,null,null,null,null,null,null,null,null,null,null,null,null,null,null,null,null,null,null,null,null,null,null,null,null,null,null,null,"TAX_EU","S96","RUT","NRG"]
["T","T97-T98","Activities of households as employers; undifferentiated goods- and services-producing activities of households for own use",null,null,null,null,null,null,null,null,null,null,null,null,null,null,null,null,null,null,null,null,null,null,null,null,null,null,null,null,null,null,null,null,null,null,null,null,null,null,null,null,null,null,null,null,null,null,null,null,null,null,null,null,null,null,null,null,null,null,null,null,null,null,null,null,null,null,null,null,null,null,null,null,null,null,null,null,null,null,null,null,null,null,null,null,null,null,null,null,"TAX_EU","T","RUT","NRG"]
["U99","U99","Activities of extraterritorial organisations and bodies",null,null,null,null,null,null,null,null,null,null,null,null,null,null,null,null,null,null,null,null,null,null,null,null,null,null,null,null,null,null,null,null,null,null,null,null,null,null,null,null,null,null,null,null,null,null,null,null,null,null,null,null,null,null,null,null,null,null,null,null,null,null,null,null,null,null,null,null,null,null,null,null,null,null,null,null,null,null,null,null,null,null,null,null,null,null,null,null,"TAX_EU","U","RUT","NRG"]
["EP_HH","HH","Households",null,null,null,null,null,null,null,null,null,null,null,null,null,null,null,null,null,null,null,null,null,null,null,null,null,null,null,null,null,null,null,null,null,null,null,null,null,null,null,null,null,null,null,null,null,null,null,null,null,null,null,null,null,null,null,null,null,null,null,null,null,null,null,null,null,null,null,null,null,null,null,null,null,null,null,null,null,null,null,null,null,null,null,null,null,null,null,null,"TAX_EU","HH","RUT","NRG"]
["EP_NRES","NRES","Non-residents",null,null,null,null,null,null,null,null,null,null,null,null,null,null,null,null,null,null,null,null,null,null,null,null,null,null,null,null,null,null,null,null,null,null,null,null,null,null,null,null,null,null,null,null,null,null,null,null,null,null,null,null,null,null,null,null,null,null,null,null,null,null,null,null,null,null,null,null,null,null,null,null,null,null,null,null,null,null,null,null,null,null,null,null,null,null,null,null,"TAX_EU","_T","TER_NRES","NRG"]
["NAL","NAL","Not allocated",null,null,null,null,null,null,null,null,null,null,null,null,null,null,null,null,null,null,null,null,null,null,null,null,null,null,null,null,null,null,null,null,null,null,null,null,null,null,null,null,null,null,null,null,null,null,null,null,null,null,null,null,null,null,null,null,null,null,null,null,null,null,null,null,null,null,null,null,null,null,null,null,null,null,null,null,null,null,null,null,null,null,null,null,null,null,null,null,"TAX_EU","_X","RUT","NRG"]
["TOTAL_HH_NRES","TOT_NRG","Total energy taxes ",{"$f":"IF(COUNT(D5:D71)=0,\":\",SUM(D5:D71))","v":":"},null,{"$f":"IF(COUNT(F5:F71)=0,\":\",SUM(F5:F71))","v":":"},null,{"$f":"IF(COUNT(H5:H71)=0,\":\",SUM(H5:H71))","v":":"},null,{"$f":"IF(COUNT(J5:J71)=0,\":\",SUM(J5:J71))","v":":"},null,{"$f":"IF(COUNT(L5:L71)=0,\":\",SUM(L5:L71))","v":":"},null,{"$f":"IF(COUNT(N5:N71)=0,\":\",SUM(N5:N71))","v":":"},null,{"$f":"IF(COUNT(P5:P71)=0,\":\",SUM(P5:P71))","v":":"},null,{"$f":"IF(COUNT(R5:R71)=0,\":\",SUM(R5:R71))","v":":"},null,{"$f":"IF(COUNT(T5:T71)=0,\":\",SUM(T5:T71))","v":":"},null,{"$f":"IF(COUNT(V5:V71)=0,\":\",SUM(V5:V71))","v":":"},null,{"$f":"IF(COUNT(X5:X71)=0,\":\",SUM(X5:X71))","v":":"},null,{"$f":"IF(COUNT(Z5:Z71)=0,\":\",SUM(Z5:Z71))","v":":"},null,{"$f":"IF(COUNT(AB5:AB71)=0,\":\",SUM(AB5:AB71))","v":":"},null,{"$f":"IF(COUNT(AD5:AD71)=0,\":\",SUM(AD5:AD71))","v":":"},null,{"$f":"IF(COUNT(AF5:AF71)=0,\":\",SUM(AF5:AF71))","v":":"},null,{"$f":"IF(COUNT(AH5:AH71)=0,\":\",SUM(AH5:AH71))","v":":"},null,{"$f":"IF(COUNT(AJ5:AJ71)=0,\":\",SUM(AJ5:AJ71))","v":":"},null,{"$f":"IF(COUNT(AL5:AL71)=0,\":\",SUM(AL5:AL71))","v":":"},null,{"$f":"IF(COUNT(AN5:AN71)=0,\":\",SUM(AN5:AN71))","v":":"},null,{"$f":"IF(COUNT(AP5:AP71)=0,\":\",SUM(AP5:AP71))","v":":"},null,{"$f":"IF(COUNT(AR5:AR71)=0,\":\",SUM(AR5:AR71))","v":":"},null,{"$f":"IF(COUNT(AT5:AT71)=0,\":\",SUM(AT5:AT71))","v":":"},null,{"$f":"IF(COUNT(AV5:AV71)=0,\":\",SUM(AV5:AV71))","v":":"},null,{"$f":"IF(COUNT(AX5:AX71)=0,\":\",SUM(AX5:AX71))","v":":"},null,{"$f":"IF(COUNT(AZ5:AZ71)=0,\":\",SUM(AZ5:AZ71))","v":":"},null,{"$f":"IF(COUNT(BB5:BB71)=0,\":\",SUM(BB5:BB71))","v":":"},null,{"$f":"IF(COUNT(BD5:BD71)=0,\":\",SUM(BD5:BD71))","v":":"},null,{"$f":"IF(COUNT(BF5:BF71)=0,\":\",SUM(BF5:BF71))","v":":"},null,{"$f":"IF(COUNT(BH5:BH71)=0,\":\",SUM(BH5:BH71))","v":":"},null,null,null,null,null,null,null,null,null,null,null,null,null,null,null,null,null,null,null,null,null,null,null,null,null,null,null,null,null,null,null,"TAX_EU","_T","TER","NRG"]
[null,"TOT_NRG_NTL","Total energy taxes from the NTL (for comparison and check)",{"$f":"IF(SUMIF('NTL_National Tax List'!$K$5:$K$300,\"E*\",'NTL_National Tax List'!L5:L300)=0,\":\",SUMIF('NTL_National Tax List'!$K$5:$K$300,\"E*\",'NTL_National Tax List'!L5:L300))","v":":"},null,{"$f":"IF(SUMIF('NTL_National Tax List'!$K$5:$K$300,\"E*\",'NTL_National Tax List'!M5:M300)=0,\":\",SUMIF('NTL_National Tax List'!$K$5:$K$300,\"E*\",'NTL_National Tax List'!M5:M300))","v":":"},null,{"$f":"IF(SUMIF('NTL_National Tax List'!$K$5:$K$300,\"E*\",'NTL_National Tax List'!N5:N300)=0,\":\",SUMIF('NTL_National Tax List'!$K$5:$K$300,\"E*\",'NTL_National Tax List'!N5:N300))","v":":"},null,{"$f":"IF(SUMIF('NTL_National Tax List'!$K$5:$K$300,\"E*\",'NTL_National Tax List'!O5:O300)=0,\":\",SUMIF('NTL_National Tax List'!$K$5:$K$300,\"E*\",'NTL_National Tax List'!O5:O300))","v":":"},null,{"$f":"IF(SUMIF('NTL_National Tax List'!$K$5:$K$300,\"E*\",'NTL_National Tax List'!P5:P300)=0,\":\",SUMIF('NTL_National Tax List'!$K$5:$K$300,\"E*\",'NTL_National Tax List'!P5:P300))","v":":"},null,{"$f":"IF(SUMIF('NTL_National Tax List'!$K$5:$K$300,\"E*\",'NTL_National Tax List'!Q5:Q300)=0,\":\",SUMIF('NTL_National Tax List'!$K$5:$K$300,\"E*\",'NTL_National Tax List'!Q5:Q300))","v":":"},null,{"$f":"IF(SUMIF('NTL_National Tax List'!$K$5:$K$300,\"E*\",'NTL_National Tax List'!R5:R300)=0,\":\",SUMIF('NTL_National Tax List'!$K$5:$K$300,\"E*\",'NTL_National Tax List'!R5:R300))","v":":"},null,{"$f":"IF(SUMIF('NTL_National Tax List'!$K$5:$K$300,\"E*\",'NTL_National Tax List'!S5:S300)=0,\":\",SUMIF('NTL_National Tax List'!$K$5:$K$300,\"E*\",'NTL_National Tax List'!S5:S300))","v":":"},null,{"$f":"IF(SUMIF('NTL_National Tax List'!$K$5:$K$300,\"E*\",'NTL_National Tax List'!T5:T300)=0,\":\",SUMIF('NTL_National Tax List'!$K$5:$K$300,\"E*\",'NTL_National Tax List'!T5:T300))","v":":"},null,{"$f":"IF(SUMIF('NTL_National Tax List'!$K$5:$K$300,\"E*\",'NTL_National Tax List'!U5:U300)=0,\":\",SUMIF('NTL_National Tax List'!$K$5:$K$300,\"E*\",'NTL_National Tax List'!U5:U300))","v":":"},null,{"$f":"IF(SUMIF('NTL_National Tax List'!$K$5:$K$300,\"E*\",'NTL_National Tax List'!V5:V300)=0,\":\",SUMIF('NTL_National Tax List'!$K$5:$K$300,\"E*\",'NTL_National Tax List'!V5:V300))","v":":"},null,{"$f":"IF(SUMIF('NTL_National Tax List'!$K$5:$K$300,\"E*\",'NTL_National Tax List'!W5:W300)=0,\":\",SUMIF('NTL_National Tax List'!$K$5:$K$300,\"E*\",'NTL_National Tax List'!W5:W300))","v":":"},null,{"$f":"IF(SUMIF('NTL_National Tax List'!$K$5:$K$300,\"E*\",'NTL_National Tax List'!X5:X300)=0,\":\",SUMIF('NTL_National Tax List'!$K$5:$K$300,\"E*\",'NTL_National Tax List'!X5:X300))","v":":"},null,{"$f":"IF(SUMIF('NTL_National Tax List'!$K$5:$K$300,\"E*\",'NTL_National Tax List'!Y5:Y300)=0,\":\",SUMIF('NTL_National Tax List'!$K$5:$K$300,\"E*\",'NTL_National Tax List'!Y5:Y300))","v":":"},null,{"$f":"IF(SUMIF('NTL_National Tax List'!$K$5:$K$300,\"E*\",'NTL_National Tax List'!Z5:Z300)=0,\":\",SUMIF('NTL_National Tax List'!$K$5:$K$300,\"E*\",'NTL_National Tax List'!Z5:Z300))","v":":"},null,{"$f":"IF(SUMIF('NTL_National Tax List'!$K$5:$K$300,\"E*\",'NTL_National Tax List'!AA5:AA300)=0,\":\",SUMIF('NTL_National Tax List'!$K$5:$K$300,\"E*\",'NTL_National Tax List'!AA5:AA300))","v":":"},null,{"$f":"IF(SUMIF('NTL_National Tax List'!$K$5:$K$300,\"E*\",'NTL_National Tax List'!AB5:AB300)=0,\":\",SUMIF('NTL_National Tax List'!$K$5:$K$300,\"E*\",'NTL_National Tax List'!AB5:AB300))","v":":"},null,{"$f":"IF(SUMIF('NTL_National Tax List'!$K$5:$K$300,\"E*\",'NTL_National Tax List'!AC5:AC300)=0,\":\",SUMIF('NTL_National Tax List'!$K$5:$K$300,\"E*\",'NTL_National Tax List'!AC5:AC300))","v":":"},null,{"$f":"IF(SUMIF('NTL_National Tax List'!$K$5:$K$300,\"E*\",'NTL_National Tax List'!AD5:AD300)=0,\":\",SUMIF('NTL_National Tax List'!$K$5:$K$300,\"E*\",'NTL_National Tax List'!AD5:AD300))","v":":"},null,{"$f":"IF(SUMIF('NTL_National Tax List'!$K$5:$K$300,\"E*\",'NTL_National Tax List'!AE5:AE300)=0,\":\",SUMIF('NTL_National Tax List'!$K$5:$K$300,\"E*\",'NTL_National Tax List'!AE5:AE300))","v":":"},null,{"$f":"IF(SUMIF('NTL_National Tax List'!$K$5:$K$300,\"E*\",'NTL_National Tax List'!AF5:AF300)=0,\":\",SUMIF('NTL_National Tax List'!$K$5:$K$300,\"E*\",'NTL_National Tax List'!AF5:AF300))","v":":"},null,{"$f":"IF(SUMIF('NTL_National Tax List'!$K$5:$K$300,\"E*\",'NTL_National Tax List'!AG5:AG300)=0,\":\",SUMIF('NTL_National Tax List'!$K$5:$K$300,\"E*\",'NTL_National Tax List'!AG5:AG300))","v":":"},null,{"$f":"IF(SUMIF('NTL_National Tax List'!$K$5:$K$300,\"E*\",'NTL_National Tax List'!AH5:AH300)=0,\":\",SUMIF('NTL_National Tax List'!$K$5:$K$300,\"E*\",'NTL_National Tax List'!AH5:AH300))","v":":"},null,{"$f":"IF(SUMIF('NTL_National Tax List'!$K$5:$K$300,\"E*\",'NTL_National Tax List'!AI5:AI300)=0,\":\",SUMIF('NTL_National Tax List'!$K$5:$K$300,\"E*\",'NTL_National Tax List'!AI5:AI300))","v":":"},null,{"$f":"IF(SUMIF('NTL_National Tax List'!$K$5:$K$300,\"E*\",'NTL_National Tax List'!AJ5:AJ300)=0,\":\",SUMIF('NTL_National Tax List'!$K$5:$K$300,\"E*\",'NTL_National Tax List'!AJ5:AJ300))","v":":"},null,{"$f":"IF(SUMIF('NTL_National Tax List'!$K$5:$K$300,\"E*\",'NTL_National Tax List'!AK5:AK300)=0,\":\",SUMIF('NTL_National Tax List'!$K$5:$K$300,\"E*\",'NTL_National Tax List'!AK5:AK300))","v":":"},null,{"$f":"IF(SUMIF('NTL_National Tax List'!$K$5:$K$300,\"E*\",'NTL_National Tax List'!AL5:AL300)=0,\":\",SUMIF('NTL_National Tax List'!$K$5:$K$300,\"E*\",'NTL_National Tax List'!AL5:AL300))","v":":"},null,{"$f":"IF(SUMIF('NTL_National Tax List'!$K$5:$K$300,\"E*\",'NTL_National Tax List'!AM5:AM300)=0,\":\",SUMIF('NTL_National Tax List'!$K$5:$K$300,\"E*\",'NTL_National Tax List'!AM5:AM300))","v":":"},null,{"$f":"IF(SUMIF('NTL_National Tax List'!$K$5:$K$300,\"E*\",'NTL_National Tax List'!AO5:AO300)=0,\":\",SUMIF('NTL_National Tax List'!$K$5:$K$300,\"E*\",'NTL_National Tax List'!AO5:AO300))","v":":"}]
[null,"TOT_NRG_NRG_NTL","% diff. Between total energy taxes and total energy taxes from the NTL",{"$f":"IFERROR((D72-D73)/D73*100,IFERROR((D72-D73)/D72*100,\":\"))","v":":"},null,{"$f":"IFERROR((F72-F73)/F73*100,IFERROR((F72-F73)/F72*100,\":\"))","v":":"},null,{"$f":"IFERROR((H72-H73)/H73*100,IFERROR((H72-H73)/H72*100,\":\"))","v":":"},null,{"$f":"IFERROR((J72-J73)/J73*100,IFERROR((J72-J73)/J72*100,\":\"))","v":":"},null,{"$f":"IFERROR((L72-L73)/L73*100,IFERROR((L72-L73)/L72*100,\":\"))","v":":"},null,{"$f":"IFERROR((N72-N73)/N73*100,IFERROR((N72-N73)/N72*100,\":\"))","v":":"},null,{"$f":"IFERROR((P72-P73)/P73*100,IFERROR((P72-P73)/P72*100,\":\"))","v":":"},null,{"$f":"IFERROR((R72-R73)/R73*100,IFERROR((R72-R73)/R72*100,\":\"))","v":":"},null,{"$f":"IFERROR((T72-T73)/T73*100,IFERROR((T72-T73)/T72*100,\":\"))","v":":"},null,{"$f":"IFERROR((V72-V73)/V73*100,IFERROR((V72-V73)/V72*100,\":\"))","v":":"},null,{"$f":"IFERROR((X72-X73)/X73*100,IFERROR((X72-X73)/X72*100,\":\"))","v":":"},null,{"$f":"IFERROR((Z72-Z73)/Z73*100,IFERROR((Z72-Z73)/Z72*100,\":\"))","v":":"},null,{"$f":"IFERROR((AB72-AB73)/AB73*100,IFERROR((AB72-AB73)/AB72*100,\":\"))","v":":"},null,{"$f":"IFERROR((AD72-AD73)/AD73*100,IFERROR((AD72-AD73)/AD72*100,\":\"))","v":":"},null,{"$f":"IFERROR((AF72-AF73)/AF73*100,IFERROR((AF72-AF73)/AF72*100,\":\"))","v":":"},null,{"$f":"IFERROR((AH72-AH73)/AH73*100,IFERROR((AH72-AH73)/AH72*100,\":\"))","v":":"},null,{"$f":"IFERROR((AJ72-AJ73)/AJ73*100,IFERROR((AJ72-AJ73)/AJ72*100,\":\"))","v":":"},null,{"$f":"IFERROR((AL72-AL73)/AL73*100,IFERROR((AL72-AL73)/AL72*100,\":\"))","v":":"},null,{"$f":"IFERROR((AN72-AN73)/AN73*100,IFERROR((AN72-AN73)/AN72*100,\":\"))","v":":"},null,{"$f":"IFERROR((AP72-AP73)/AP73*100,IFERROR((AP72-AP73)/AP72*100,\":\"))","v":":"},null,{"$f":"IFERROR((AR72-AR73)/AR73*100,IFERROR((AR72-AR73)/AR72*100,\":\"))","v":":"},null,{"$f":"IFERROR((AT72-AT73)/AT73*100,IFERROR((AT72-AT73)/AT72*100,\":\"))","v":":"},null,{"$f":"IFERROR((AV72-AV73)/AV73*100,IFERROR((AV72-AV73)/AV72*100,\":\"))","v":":"},null,{"$f":"IFERROR((AX72-AX73)/AX73*100,IFERROR((AX72-AX73)/AX72*100,\":\"))","v":":"},null,{"$f":"IFERROR((AZ72-AZ73)/AZ73*100,IFERROR((AZ72-AZ73)/AZ72*100,\":\"))","v":":"},null,{"$f":"IFERROR((BB72-BB73)/BB73*100,IFERROR((BB72-BB73)/BB72*100,\":\"))","v":":"},null,{"$f":"IFERROR((BD72-BD73)/BD73*100,IFERROR((BD72-BD73)/BD72*100,\":\"))","v":":"},null,{"$f":"IFERROR((BF72-BF73)/BF73*100,IFERROR((BF72-BF73)/BF72*100,\":\"))","v":":"},null,{"$f":"IFERROR((BH72-BH73)/BH73*100,IFERROR((BH72-BH73)/BH72*100,\":\"))","v":":"}]
[null,null,"Environmental taxes for national purposes (difference between total reported above and total published for national purposes)",null,null,null,null,null,null,null,null,null,null,null,null,null,null,null,null,null,null,null,null,null,null,null,null,null,null,null,null,null,null,null,null,null,null,null,null,null,null,null,null,null,null,null,null,null,null,null,null,null,null,null,null,null,null,null,null,null,null,null,null,null,null,null,null,null,null,null,null,null,null,null,null,null,null,null,null,null,null,null,null,null,null,null,null,null,null,null,null,"TAX_NAC","_T","RUT","NRG"]
[null,null,"Other environmentally related payments to government (fees and charges)",null,null,null,null,null,null,null,null,null,null,null,null,null,null,null,null,null,null,null,null,null,null,null,null,null,null,null,null,null,null,null,null,null,null,null,null,null,null,null,null,null,null,null,null,null,null,null,null,null,null,null,null,null,null,null,null,null,null,null,null,null,null,null,null,null,null,null,null,null,null,null,null,null,null,null,null,null,null,null,null,null,null,null,null,null,null,null,null,"FEE_NAC","_T","RUT","NRG"]
[]
[null,"NACE Rev. 2 aggregated industries classification ",null,{"$f":"D4","v":"1995"},"footnotes",1996,"footnotes",1997,"footnotes",1998,"footnotes",1999,"footnotes",2000,"footnotes",2001,"footnotes",2002,"footnotes",2003,"footnotes",2004,"footnotes",2005,"footnotes",2006,"footnotes",2007,"footnotes",2008,"footnotes",2009,"footnotes",2010,"footnotes",{"$f":"AJ4","v":2011},"footnotes",2012,"footnotes",2013,"footnotes",2014,"footnotes",2015,"footnotes",2016,"footnotes",2017,"footnotes",2018,"footnotes",2019,"footnotes",2020,"footnotes",{"$f":"BD4","v":2021},"footnotes",{"$f":"BF4","v":2022},{"$f":"BG4","v":"footnotes"},{"$f":"BH4","v":2023},{"$f":"BI4","v":"footnotes"}]
["A","A01-A03","Agriculture, forestry and fishing",{"$f":"IF(COUNT(D5,D6,D7)=0,\":\",SUM(D5,D6,D7))","v":":"},null,{"$f":"IF(COUNT(F5,F6,F7)=0,\":\",SUM(F5,F6,F7))","v":":"},null,{"$f":"IF(COUNT(H5,H6,H7)=0,\":\",SUM(H5,H6,H7))","v":":"},null,{"$f":"IF(COUNT(J5,J6,J7)=0,\":\",SUM(J5,J6,J7))","v":":"},null,{"$f":"IF(COUNT(L5,L6,L7)=0,\":\",SUM(L5,L6,L7))","v":":"},null,{"$f":"IF(COUNT(N5,N6,N7)=0,\":\",SUM(N5,N6,N7))","v":":"},null,{"$f":"IF(COUNT(P5,P6,P7)=0,\":\",SUM(P5,P6,P7))","v":":"},null,{"$f":"IF(COUNT(R5,R6,R7)=0,\":\",SUM(R5,R6,R7))","v":":"},null,{"$f":"IF(COUNT(T5,T6,T7)=0,\":\",SUM(T5,T6,T7))","v":":"},null,{"$f":"IF(COUNT(V5,V6,V7)=0,\":\",SUM(V5,V6,V7))","v":":"},null,{"$f":"IF(COUNT(X5,X6,X7)=0,\":\",SUM(X5,X6,X7))","v":":"},null,{"$f":"IF(COUNT(Z5,Z6,Z7)=0,\":\",SUM(Z5,Z6,Z7))","v":":"},null,{"$f":"IF(COUNT(AB5,AB6,AB7)=0,\":\",SUM(AB5,AB6,AB7))","v":":"},null,{"$f":"IF(COUNT(AD5,AD6,AD7)=0,\":\",SUM(AD5,AD6,AD7))","v":":"},null,{"$f":"IF(COUNT(AF5,AF6,AF7)=0,\":\",SUM(AF5,AF6,AF7))","v":":"},null,{"$f":"IF(COUNT(AH5,AH6,AH7)=0,\":\",SUM(AH5,AH6,AH7))","v":":"},null,{"$f":"IF(COUNT(AJ5,AJ6,AJ7)=0,\":\",SUM(AJ5,AJ6,AJ7))","v":":"},null,{"$f":"IF(COUNT(AL5,AL6,AL7)=0,\":\",SUM(AL5,AL6,AL7))","v":":"},null,{"$f":"IF(COUNT(AN5,AN6,AN7)=0,\":\",SUM(AN5,AN6,AN7))","v":":"},null,{"$f":"IF(COUNT(AP5,AP6,AP7)=0,\":\",SUM(AP5,AP6,AP7))","v":":"},null,{"$f":"IF(COUNT(AR5,AR6,AR7)=0,\":\",SUM(AR5,AR6,AR7))","v":":"},null,{"$f":"IF(COUNT(AT5,AT6,AT7)=0,\":\",SUM(AT5,AT6,AT7))","v":":"},null,{"$f":"IF(COUNT(AV5,AV6,AV7)=0,\":\",SUM(AV5,AV6,AV7))","v":":"},null,{"$f":"IF(COUNT(AX5,AX6,AX7)=0,\":\",SUM(AX5,AX6,AX7))","v":":"},null,{"$f":"IF(COUNT(AZ5,AZ6,AZ7)=0,\":\",SUM(AZ5,AZ6,AZ7))","v":":"},null,{"$f":"IF(COUNT(BB5,BB6,BB7)=0,\":\",SUM(BB5,BB6,BB7))","v":":"},null,{"$f":"IF(COUNT(BD5,BD6,BD7)=0,\":\",SUM(BD5,BD6,BD7))","v":":"},null,{"$f":"IF(COUNT(BF5,BF6,BF7)=0,\":\",SUM(BF5,BF6,BF7))","v":":"},null,{"$f":"IF(COUNT(BH5,BH6,BH7)=0,\":\",SUM(BH5,BH6,BH7))","v":":"},null,null,null,null,null,null,null,null,null,null,null,null,null,null,null,null,null,null,null,null,null,null,null,null,null,null,null,null,null,null,null,"TAX_EU","A","RUT","NRG"]
[null,"B05-B09","Mining and quarrying",{"$f":"IF(COUNT(D8)=0,\":\",SUM(D8))","v":":"},null,{"$f":"IF(COUNT(F8)=0,\":\",SUM(F8))","v":":"},null,{"$f":"IF(COUNT(H8)=0,\":\",SUM(H8))","v":":"},null,{"$f":"IF(COUNT(J8)=0,\":\",SUM(J8))","v":":"},null,{"$f":"IF(COUNT(L8)=0,\":\",SUM(L8))","v":":"},null,{"$f":"IF(COUNT(N8)=0,\":\",SUM(N8))","v":":"},null,{"$f":"IF(COUNT(P8)=0,\":\",SUM(P8))","v":":"},null,{"$f":"IF(COUNT(R8)=0,\":\",SUM(R8))","v":":"},null,{"$f":"IF(COUNT(T8)=0,\":\",SUM(T8))","v":":"},null,{"$f":"IF(COUNT(V8)=0,\":\",SUM(V8))","v":":"},null,{"$f":"IF(COUNT(X8)=0,\":\",SUM(X8))","v":":"},null,{"$f":"IF(COUNT(Z8)=0,\":\",SUM(Z8))","v":":"},null,{"$f":"IF(COUNT(AB8)=0,\":\",SUM(AB8))","v":":"},null,{"$f":"IF(COUNT(AD8)=0,\":\",SUM(AD8))","v":":"},null,{"$f":"IF(COUNT(AF8)=0,\":\",SUM(AF8))","v":":"},null,{"$f":"IF(COUNT(AH8)=0,\":\",SUM(AH8))","v":":"},null,{"$f":"IF(COUNT(AJ8)=0,\":\",SUM(AJ8))","v":":"},null,{"$f":"IF(COUNT(AL8)=0,\":\",SUM(AL8))","v":":"},null,{"$f":"IF(COUNT(AN8)=0,\":\",SUM(AN8))","v":":"},null,{"$f":"IF(COUNT(AP8)=0,\":\",SUM(AP8))","v":":"},null,{"$f":"IF(COUNT(AR8)=0,\":\",SUM(AR8))","v":":"},null,{"$f":"IF(COUNT(AT8)=0,\":\",SUM(AT8))","v":":"},null,{"$f":"IF(COUNT(AV8)=0,\":\",SUM(AV8))","v":":"},null,{"$f":"IF(COUNT(AX8)=0,\":\",SUM(AX8))","v":":"},null,{"$f":"IF(COUNT(AZ8)=0,\":\",SUM(AZ8))","v":":"},null,{"$f":"IF(COUNT(BB8)=0,\":\",SUM(BB8))","v":":"},null,{"$f":"IF(COUNT(BD8)=0,\":\",SUM(BD8))","v":":"},null,{"$f":"IF(COUNT(BF8)=0,\":\",SUM(BF8))","v":":"},null,{"$f":"IF(COUNT(BH8)=0,\":\",SUM(BH8))","v":":"}]
["C","C10-C33","Manufacturing",{"$f":"IF(COUNT(D9:D27)=0,\":\",SUM(D9:D27))","v":":"},null,{"$f":"IF(COUNT(F9:F27)=0,\":\",SUM(F9:F27))","v":":"},null,{"$f":"IF(COUNT(H9:H27)=0,\":\",SUM(H9:H27))","v":":"},null,{"$f":"IF(COUNT(J9:J27)=0,\":\",SUM(J9:J27))","v":":"},null,{"$f":"IF(COUNT(L9:L27)=0,\":\",SUM(L9:L27))","v":":"},null,{"$f":"IF(COUNT(N9:N27)=0,\":\",SUM(N9:N27))","v":":"},null,{"$f":"IF(COUNT(P9:P27)=0,\":\",SUM(P9:P27))","v":":"},null,{"$f":"IF(COUNT(R9:R27)=0,\":\",SUM(R9:R27))","v":":"},null,{"$f":"IF(COUNT(T9:T27)=0,\":\",SUM(T9:T27))","v":":"},null,{"$f":"IF(COUNT(V9:V27)=0,\":\",SUM(V9:V27))","v":":"},null,{"$f":"IF(COUNT(X9:X27)=0,\":\",SUM(X9:X27))","v":":"},null,{"$f":"IF(COUNT(Z9:Z27)=0,\":\",SUM(Z9:Z27))","v":":"},null,{"$f":"IF(COUNT(AB9:AB27)=0,\":\",SUM(AB9:AB27))","v":":"},null,{"$f":"IF(COUNT(AD9:AD27)=0,\":\",SUM(AD9:AD27))","v":":"},null,{"$f":"IF(COUNT(AF9:AF27)=0,\":\",SUM(AF9:AF27))","v":":"},null,{"$f":"IF(COUNT(AH9:AH27)=0,\":\",SUM(AH9:AH27))","v":":"},null,{"$f":"IF(COUNT(AJ9:AJ27)=0,\":\",SUM(AJ9:AJ27))","v":":"},null,{"$f":"IF(COUNT(AL9:AL27)=0,\":\",SUM(AL9:AL27))","v":":"},null,{"$f":"IF(COUNT(AN9:AN27)=0,\":\",SUM(AN9:AN27))","v":":"},null,{"$f":"IF(COUNT(AP9:AP27)=0,\":\",SUM(AP9:AP27))","v":":"},null,{"$f":"IF(COUNT(AR9:AR27)=0,\":\",SUM(AR9:AR27))","v":":"},null,{"$f":"IF(COUNT(AT9:AT27)=0,\":\",SUM(AT9:AT27))","v":":"},null,{"$f":"IF(COUNT(AV9:AV27)=0,\":\",SUM(AV9:AV27))","v":":"},null,{"$f":"IF(COUNT(AX9:AX27)=0,\":\",SUM(AX9:AX27))","v":":"},null,{"$f":"IF(COUNT(AZ9:AZ27)=0,\":\",SUM(AZ9:AZ27))","v":":"},null,{"$f":"IF(COUNT(BB9:BB27)=0,\":\",SUM(BB9:BB27))","v":":"},null,{"$f":"IF(COUNT(BD9:BD27)=0,\":\",SUM(BD9:BD27))","v":":"},null,{"$f":"IF(COUNT(BF9:BF27)=0,\":\",SUM(BF9:BF27))","v":":"},null,{"$f":"IF(COUNT(BH9:BH27)=0,\":\",SUM(BH9:BH27))","v":":"},null,null,null,null,null,null,null,null,null,null,null,null,null,null,null,null,null,null,null,null,null,null,null,null,null,null,null,null,null,null,null,"TAX_EU","C","RUT","NRG"]
[null,"D35","Electricity, gas, steam and air conditioning supply",{"$f":"IF(COUNT(D28)=0,\":\",SUM(D28))","v":":"},null,{"$f":"IF(COUNT(F28)=0,\":\",SUM(F28))","v":":"},null,{"$f":"IF(COUNT(H28)=0,\":\",SUM(H28))","v":":"},null,{"$f":"IF(COUNT(J28)=0,\":\",SUM(J28))","v":":"},null,{"$f":"IF(COUNT(L28)=0,\":\",SUM(L28))","v":":"},null,{"$f":"IF(COUNT(N28)=0,\":\",SUM(N28))","v":":"},null,{"$f":"IF(COUNT(P28)=0,\":\",SUM(P28))","v":":"},null,{"$f":"IF(COUNT(R28)=0,\":\",SUM(R28))","v":":"},null,{"$f":"IF(COUNT(T28)=0,\":\",SUM(T28))","v":":"},null,{"$f":"IF(COUNT(V28)=0,\":\",SUM(V28))","v":":"},null,{"$f":"IF(COUNT(X28)=0,\":\",SUM(X28))","v":":"},null,{"$f":"IF(COUNT(Z28)=0,\":\",SUM(Z28))","v":":"},null,{"$f":"IF(COUNT(AB28)=0,\":\",SUM(AB28))","v":":"},null,{"$f":"IF(COUNT(AD28)=0,\":\",SUM(AD28))","v":":"},null,{"$f":"IF(COUNT(AF28)=0,\":\",SUM(AF28))","v":":"},null,{"$f":"IF(COUNT(AH28)=0,\":\",SUM(AH28))","v":":"},null,{"$f":"IF(COUNT(AJ28)=0,\":\",SUM(AJ28))","v":":"},null,{"$f":"IF(COUNT(AL28)=0,\":\",SUM(AL28))","v":":"},null,{"$f":"IF(COUNT(AN28)=0,\":\",SUM(AN28))","v":":"},null,{"$f":"IF(COUNT(AP28)=0,\":\",SUM(AP28))","v":":"},null,{"$f":"IF(COUNT(AR28)=0,\":\",SUM(AR28))","v":":"},null,{"$f":"IF(COUNT(AT28)=0,\":\",SUM(AT28))","v":":"},null,{"$f":"IF(COUNT(AV28)=0,\":\",SUM(AV28))","v":":"},null,{"$f":"IF(COUNT(AX28)=0,\":\",SUM(AX28))","v":":"},null,{"$f":"IF(COUNT(AZ28)=0,\":\",SUM(AZ28))","v":":"},null,{"$f":"IF(COUNT(BB28)=0,\":\",SUM(BB28))","v":":"},null,{"$f":"IF(COUNT(BD28)=0,\":\",SUM(BD28))","v":":"},null,{"$f":"IF(COUNT(BF28)=0,\":\",SUM(BF28))","v":":"},null,{"$f":"IF(COUNT(BH28)=0,\":\",SUM(BH28))","v":":"}]
["E","E36-E39","Water supply, sewerage, waste management, remediation activities",{"$f":"IF(COUNT(D29:D30)=0,\":\",SUM(D29:D30))","v":":"},null,{"$f":"IF(COUNT(F29:F30)=0,\":\",SUM(F29:F30))","v":":"},null,{"$f":"IF(COUNT(H29:H30)=0,\":\",SUM(H29:H30))","v":":"},null,{"$f":"IF(COUNT(J29:J30)=0,\":\",SUM(J29:J30))","v":":"},null,{"$f":"IF(COUNT(L29:L30)=0,\":\",SUM(L29:L30))","v":":"},null,{"$f":"IF(COUNT(N29:N30)=0,\":\",SUM(N29:N30))","v":":"},null,{"$f":"IF(COUNT(P29:P30)=0,\":\",SUM(P29:P30))","v":":"},null,{"$f":"IF(COUNT(R29:R30)=0,\":\",SUM(R29:R30))","v":":"},null,{"$f":"IF(COUNT(T29:T30)=0,\":\",SUM(T29:T30))","v":":"},null,{"$f":"IF(COUNT(V29:V30)=0,\":\",SUM(V29:V30))","v":":"},null,{"$f":"IF(COUNT(X29:X30)=0,\":\",SUM(X29:X30))","v":":"},null,{"$f":"IF(COUNT(Z29:Z30)=0,\":\",SUM(Z29:Z30))","v":":"},null,{"$f":"IF(COUNT(AB29:AB30)=0,\":\",SUM(AB29:AB30))","v":":"},null,{"$f":"IF(COUNT(AD29:AD30)=0,\":\",SUM(AD29:AD30))","v":":"},null,{"$f":"IF(COUNT(AF29:AF30)=0,\":\",SUM(AF29:AF30))","v":":"},null,{"$f":"IF(COUNT(AH29:AH30)=0,\":\",SUM(AH29:AH30))","v":":"},null,{"$f":"IF(COUNT(AJ29:AJ30)=0,\":\",SUM(AJ29:AJ30))","v":":"},null,{"$f":"IF(COUNT(AL29:AL30)=0,\":\",SUM(AL29:AL30))","v":":"},null,{"$f":"IF(COUNT(AN29:AN30)=0,\":\",SUM(AN29:AN30))","v":":"},null,{"$f":"IF(COUNT(AP29:AP30)=0,\":\",SUM(AP29:AP30))","v":":"},null,{"$f":"IF(COUNT(AR29:AR30)=0,\":\",SUM(AR29:AR30))","v":":"},null,{"$f":"IF(COUNT(AT29:AT30)=0,\":\",SUM(AT29:AT30))","v":":"},null,{"$f":"IF(COUNT(AV29:AV30)=0,\":\",SUM(AV29:AV30))","v":":"},null,{"$f":"IF(COUNT(AX29:AX30)=0,\":\",SUM(AX29:AX30))","v":":"},null,{"$f":"IF(COUNT(AZ29:AZ30)=0,\":\",SUM(AZ29:AZ30))","v":":"},null,{"$f":"IF(COUNT(BB29:BB30)=0,\":\",SUM(BB29:BB30))","v":":"},null,{"$f":"IF(COUNT(BD29:BD30)=0,\":\",SUM(BD29:BD30))","v":":"},null,{"$f":"IF(COUNT(BF29:BF30)=0,\":\",SUM(BF29:BF30))","v":":"},null,{"$f":"IF(COUNT(BH29:BH30)=0,\":\",SUM(BH29:BH30))","v":":"},null,null,null,null,null,null,null,null,null,null,null,null,null,null,null,null,null,null,null,null,null,null,null,null,null,null,null,null,null,null,null,"TAX_EU","E","RUT","NRG"]
[null,"F41-F43","Construction ",{"$f":"IF(COUNT(D31)=0,\":\",SUM(D31))","v":":"},null,{"$f":"IF(COUNT(F31)=0,\":\",SUM(F31))","v":":"},null,{"$f":"IF(COUNT(H31)=0,\":\",SUM(H31))","v":":"},null,{"$f":"IF(COUNT(J31)=0,\":\",SUM(J31))","v":":"},null,{"$f":"IF(COUNT(L31)=0,\":\",SUM(L31))","v":":"},null,{"$f":"IF(COUNT(N31)=0,\":\",SUM(N31))","v":":"},null,{"$f":"IF(COUNT(P31)=0,\":\",SUM(P31))","v":":"},null,{"$f":"IF(COUNT(R31)=0,\":\",SUM(R31))","v":":"},null,{"$f":"IF(COUNT(T31)=0,\":\",SUM(T31))","v":":"},null,{"$f":"IF(COUNT(V31)=0,\":\",SUM(V31))","v":":"},null,{"$f":"IF(COUNT(X31)=0,\":\",SUM(X31))","v":":"},null,{"$f":"IF(COUNT(Z31)=0,\":\",SUM(Z31))","v":":"},null,{"$f":"IF(COUNT(AB31)=0,\":\",SUM(AB31))","v":":"},null,{"$f":"IF(COUNT(AD31)=0,\":\",SUM(AD31))","v":":"},null,{"$f":"IF(COUNT(AF31)=0,\":\",SUM(AF31))","v":":"},null,{"$f":"IF(COUNT(AH31)=0,\":\",SUM(AH31))","v":":"},null,{"$f":"IF(COUNT(AJ31)=0,\":\",SUM(AJ31))","v":":"},null,{"$f":"IF(COUNT(AL31)=0,\":\",SUM(AL31))","v":":"},null,{"$f":"IF(COUNT(AN31)=0,\":\",SUM(AN31))","v":":"},null,{"$f":"IF(COUNT(AP31)=0,\":\",SUM(AP31))","v":":"},null,{"$f":"IF(COUNT(AR31)=0,\":\",SUM(AR31))","v":":"},null,{"$f":"IF(COUNT(AT31)=0,\":\",SUM(AT31))","v":":"},null,{"$f":"IF(COUNT(AV31)=0,\":\",SUM(AV31))","v":":"},null,{"$f":"IF(COUNT(AX31)=0,\":\",SUM(AX31))","v":":"},null,{"$f":"IF(COUNT(AZ31)=0,\":\",SUM(AZ31))","v":":"},null,{"$f":"IF(COUNT(BB31)=0,\":\",SUM(BB31))","v":":"},null,{"$f":"IF(COUNT(BD31)=0,\":\",SUM(BD31))","v":":"},null,{"$f":"IF(COUNT(BF31)=0,\":\",SUM(BF31))","v":":"},null,{"$f":"IF(COUNT(BH31)=0,\":\",SUM(BH31))","v":":"}]
["G","G45-G47","Wholesale and retail trade; repair of motor vehicles and motorcycles",{"$f":"IF(COUNT(D32:D34)=0,\":\",SUM(D32:D34))","v":":"},null,{"$f":"IF(COUNT(F32:F34)=0,\":\",SUM(F32:F34))","v":":"},null,{"$f":"IF(COUNT(H32:H34)=0,\":\",SUM(H32:H34))","v":":"},null,{"$f":"IF(COUNT(J32:J34)=0,\":\",SUM(J32:J34))","v":":"},null,{"$f":"IF(COUNT(L32:L34)=0,\":\",SUM(L32:L34))","v":":"},null,{"$f":"IF(COUNT(N32:N34)=0,\":\",SUM(N32:N34))","v":":"},null,{"$f":"IF(COUNT(P32:P34)=0,\":\",SUM(P32:P34))","v":":"},null,{"$f":"IF(COUNT(R32:R34)=0,\":\",SUM(R32:R34))","v":":"},null,{"$f":"IF(COUNT(T32:T34)=0,\":\",SUM(T32:T34))","v":":"},null,{"$f":"IF(COUNT(V32:V34)=0,\":\",SUM(V32:V34))","v":":"},null,{"$f":"IF(COUNT(X32:X34)=0,\":\",SUM(X32:X34))","v":":"},null,{"$f":"IF(COUNT(Z32:Z34)=0,\":\",SUM(Z32:Z34))","v":":"},null,{"$f":"IF(COUNT(AB32:AB34)=0,\":\",SUM(AB32:AB34))","v":":"},null,{"$f":"IF(COUNT(AD32:AD34)=0,\":\",SUM(AD32:AD34))","v":":"},null,{"$f":"IF(COUNT(AF32:AF34)=0,\":\",SUM(AF32:AF34))","v":":"},null,{"$f":"IF(COUNT(AH32:AH34)=0,\":\",SUM(AH32:AH34))","v":":"},null,{"$f":"IF(COUNT(AJ32:AJ34)=0,\":\",SUM(AJ32:AJ34))","v":":"},null,{"$f":"IF(COUNT(AL32:AL34)=0,\":\",SUM(AL32:AL34))","v":":"},null,{"$f":"IF(COUNT(AN32:AN34)=0,\":\",SUM(AN32:AN34))","v":":"},null,{"$f":"IF(COUNT(AP32:AP34)=0,\":\",SUM(AP32:AP34))","v":":"},null,{"$f":"IF(COUNT(AR32:AR34)=0,\":\",SUM(AR32:AR34))","v":":"},null,{"$f":"IF(COUNT(AT32:AT34)=0,\":\",SUM(AT32:AT34))","v":":"},null,{"$f":"IF(COUNT(AV32:AV34)=0,\":\",SUM(AV32:AV34))","v":":"},null,{"$f":"IF(COUNT(AX32:AX34)=0,\":\",SUM(AX32:AX34))","v":":"},null,{"$f":"IF(COUNT(AZ32:AZ34)=0,\":\",SUM(AZ32:AZ34))","v":":"},null,{"$f":"IF(COUNT(BB32:BB34)=0,\":\",SUM(BB32:BB34))","v":":"},null,{"$f":"IF(COUNT(BD32:BD34)=0,\":\",SUM(BD32:BD34))","v":":"},null,{"$f":"IF(COUNT(BF32:BF34)=0,\":\",SUM(BF32:BF34))","v":":"},null,{"$f":"IF(COUNT(BH32:BH34)=0,\":\",SUM(BH32:BH34))","v":":"},null,null,null,null,null,null,null,null,null,null,null,null,null,null,null,null,null,null,null,null,null,null,null,null,null,null,null,null,null,null,null,"TAX_EU","G","RUT","NRG"]
["H","H49-H53","Transport and storage",{"$f":"IF(COUNT(D35:D39)=0,\":\",SUM(D35:D39))","v":":"},null,{"$f":"IF(COUNT(F35:F39)=0,\":\",SUM(F35:F39))","v":":"},null,{"$f":"IF(COUNT(H35:H39)=0,\":\",SUM(H35:H39))","v":":"},null,{"$f":"IF(COUNT(J35:J39)=0,\":\",SUM(J35:J39))","v":":"},null,{"$f":"IF(COUNT(L35:L39)=0,\":\",SUM(L35:L39))","v":":"},null,{"$f":"IF(COUNT(N35:N39)=0,\":\",SUM(N35:N39))","v":":"},null,{"$f":"IF(COUNT(P35:P39)=0,\":\",SUM(P35:P39))","v":":"},null,{"$f":"IF(COUNT(R35:R39)=0,\":\",SUM(R35:R39))","v":":"},null,{"$f":"IF(COUNT(T35:T39)=0,\":\",SUM(T35:T39))","v":":"},null,{"$f":"IF(COUNT(V35:V39)=0,\":\",SUM(V35:V39))","v":":"},null,{"$f":"IF(COUNT(X35:X39)=0,\":\",SUM(X35:X39))","v":":"},null,{"$f":"IF(COUNT(Z35:Z39)=0,\":\",SUM(Z35:Z39))","v":":"},null,{"$f":"IF(COUNT(AB35:AB39)=0,\":\",SUM(AB35:AB39))","v":":"},null,{"$f":"IF(COUNT(AD35:AD39)=0,\":\",SUM(AD35:AD39))","v":":"},null,{"$f":"IF(COUNT(AF35:AF39)=0,\":\",SUM(AF35:AF39))","v":":"},null,{"$f":"IF(COUNT(AH35:AH39)=0,\":\",SUM(AH35:AH39))","v":":"},null,{"$f":"IF(COUNT(AJ35:AJ39)=0,\":\",SUM(AJ35:AJ39))","v":":"},null,{"$f":"IF(COUNT(AL35:AL39)=0,\":\",SUM(AL35:AL39))","v":":"},null,{"$f":"IF(COUNT(AN35:AN39)=0,\":\",SUM(AN35:AN39))","v":":"},null,{"$f":"IF(COUNT(AP35:AP39)=0,\":\",SUM(AP35:AP39))","v":":"},null,{"$f":"IF(COUNT(AR35:AR39)=0,\":\",SUM(AR35:AR39))","v":":"},null,{"$f":"IF(COUNT(AT35:AT39)=0,\":\",SUM(AT35:AT39))","v":":"},null,{"$f":"IF(COUNT(AV35:AV39)=0,\":\",SUM(AV35:AV39))","v":":"},null,{"$f":"IF(COUNT(AX35:AX39)=0,\":\",SUM(AX35:AX39))","v":":"},null,{"$f":"IF(COUNT(AZ35:AZ39)=0,\":\",SUM(AZ35:AZ39))","v":":"},null,{"$f":"IF(COUNT(BB35:BB39)=0,\":\",SUM(BB35:BB39))","v":":"},null,{"$f":"IF(COUNT(BD35:BD39)=0,\":\",SUM(BD35:BD39))","v":":"},null,{"$f":"IF(COUNT(BF35:BF39)=0,\":\",SUM(BF35:BF39))","v":":"},null,{"$f":"IF(COUNT(BH35:BH39)=0,\":\",SUM(BH35:BH39))","v":":"},null,null,null,null,null,null,null,null,null,null,null,null,null,null,null,null,null,null,null,null,null,null,null,null,null,null,null,null,null,null,null,"TAX_EU","H","RUT","NRG"]
["I-U","I-U","Services (except wholesale and retail trade, transportation and storage)",{"$f":"IF(COUNT(D40:D68)=0,\":\",SUM(D40:D68))","v":":"},null,{"$f":"IF(COUNT(F40:F68)=0,\":\",SUM(F40:F68))","v":":"},null,{"$f":"IF(COUNT(H40:H68)=0,\":\",SUM(H40:H68))","v":":"},null,{"$f":"IF(COUNT(J40:J68)=0,\":\",SUM(J40:J68))","v":":"},null,{"$f":"IF(COUNT(L40:L68)=0,\":\",SUM(L40:L68))","v":":"},null,{"$f":"IF(COUNT(N40:N68)=0,\":\",SUM(N40:N68))","v":":"},null,{"$f":"IF(COUNT(P40:P68)=0,\":\",SUM(P40:P68))","v":":"},null,{"$f":"IF(COUNT(R40:R68)=0,\":\",SUM(R40:R68))","v":":"},null,{"$f":"IF(COUNT(T40:T68)=0,\":\",SUM(T40:T68))","v":":"},null,{"$f":"IF(COUNT(V40:V68)=0,\":\",SUM(V40:V68))","v":":"},null,{"$f":"IF(COUNT(X40:X68)=0,\":\",SUM(X40:X68))","v":":"},null,{"$f":"IF(COUNT(Z40:Z68)=0,\":\",SUM(Z40:Z68))","v":":"},null,{"$f":"IF(COUNT(AB40:AB68)=0,\":\",SUM(AB40:AB68))","v":":"},null,{"$f":"IF(COUNT(AD40:AD68)=0,\":\",SUM(AD40:AD68))","v":":"},null,{"$f":"IF(COUNT(AF40:AF68)=0,\":\",SUM(AF40:AF68))","v":":"},null,{"$f":"IF(COUNT(AH40:AH68)=0,\":\",SUM(AH40:AH68))","v":":"},null,{"$f":"IF(COUNT(AJ40:AJ68)=0,\":\",SUM(AJ40:AJ68))","v":":"},null,{"$f":"IF(COUNT(AL40:AL68)=0,\":\",SUM(AL40:AL68))","v":":"},null,{"$f":"IF(COUNT(AN40:AN68)=0,\":\",SUM(AN40:AN68))","v":":"},null,{"$f":"IF(COUNT(AP40:AP68)=0,\":\",SUM(AP40:AP68))","v":":"},null,{"$f":"IF(COUNT(AR40:AR68)=0,\":\",SUM(AR40:AR68))","v":":"},null,{"$f":"IF(COUNT(AT40:AT68)=0,\":\",SUM(AT40:AT68))","v":":"},null,{"$f":"IF(COUNT(AV40:AV68)=0,\":\",SUM(AV40:AV68))","v":":"},null,{"$f":"IF(COUNT(AX40:AX68)=0,\":\",SUM(AX40:AX68))","v":":"},null,{"$f":"IF(COUNT(AZ40:AZ68)=0,\":\",SUM(AZ40:AZ68))","v":":"},null,{"$f":"IF(COUNT(BB40:BB68)=0,\":\",SUM(BB40:BB68))","v":":"},null,{"$f":"IF(COUNT(BD40:BD68)=0,\":\",SUM(BD40:BD68))","v":":"},null,{"$f":"IF(COUNT(BF40:BF68)=0,\":\",SUM(BF40:BF68))","v":":"},null,{"$f":"IF(COUNT(BH40:BH68)=0,\":\",SUM(BH40:BH68))","v":":"},null,null,null,null,null,null,null,null,null,null,null,null,null,null,null,null,null,null,null,null,null,null,null,null,null,null,null,null,null,null,null,"TAX_EU","ITU","RUT","NRG"]
["TOTAL","TOTAL","Total - All NACE activities",{"$f":"IF(COUNT(D79:D87)=0,\":\",SUM(D79:D87))","v":":"},null,{"$f":"IF(COUNT(F79:F87)=0,\":\",SUM(F79:F87))","v":":"},null,{"$f":"IF(COUNT(H79:H87)=0,\":\",SUM(H79:H87))","v":":"},null,{"$f":"IF(COUNT(J79:J87)=0,\":\",SUM(J79:J87))","v":":"},null,{"$f":"IF(COUNT(L79:L87)=0,\":\",SUM(L79:L87))","v":":"},null,{"$f":"IF(COUNT(N79:N87)=0,\":\",SUM(N79:N87))","v":":"},null,{"$f":"IF(COUNT(P79:P87)=0,\":\",SUM(P79:P87))","v":":"},null,{"$f":"IF(COUNT(R79:R87)=0,\":\",SUM(R79:R87))","v":":"},null,{"$f":"IF(COUNT(T79:T87)=0,\":\",SUM(T79:T87))","v":":"},null,{"$f":"IF(COUNT(V79:V87)=0,\":\",SUM(V79:V87))","v":":"},null,{"$f":"IF(COUNT(X79:X87)=0,\":\",SUM(X79:X87))","v":":"},null,{"$f":"IF(COUNT(Z79:Z87)=0,\":\",SUM(Z79:Z87))","v":":"},null,{"$f":"IF(COUNT(AB79:AB87)=0,\":\",SUM(AB79:AB87))","v":":"},null,{"$f":"IF(COUNT(AD79:AD87)=0,\":\",SUM(AD79:AD87))","v":":"},null,{"$f":"IF(COUNT(AF79:AF87)=0,\":\",SUM(AF79:AF87))","v":":"},null,{"$f":"IF(COUNT(AH79:AH87)=0,\":\",SUM(AH79:AH87))","v":":"},null,{"$f":"IF(COUNT(AJ79:AJ87)=0,\":\",SUM(AJ79:AJ87))","v":":"},null,{"$f":"IF(COUNT(AL79:AL87)=0,\":\",SUM(AL79:AL87))","v":":"},null,{"$f":"IF(COUNT(AN79:AN87)=0,\":\",SUM(AN79:AN87))","v":":"},null,{"$f":"IF(COUNT(AP79:AP87)=0,\":\",SUM(AP79:AP87))","v":":"},null,{"$f":"IF(COUNT(AR79:AR87)=0,\":\",SUM(AR79:AR87))","v":":"},null,{"$f":"IF(COUNT(AT79:AT87)=0,\":\",SUM(AT79:AT87))","v":":"},null,{"$f":"IF(COUNT(AV79:AV87)=0,\":\",SUM(AV79:AV87))","v":":"},null,{"$f":"IF(COUNT(AX79:AX87)=0,\":\",SUM(AX79:AX87))","v":":"},null,{"$f":"IF(COUNT(AZ79:AZ87)=0,\":\",SUM(AZ79:AZ87))","v":":"},null,{"$f":"IF(COUNT(BB79:BB87)=0,\":\",SUM(BB79:BB87))","v":":"},null,{"$f":"IF(COUNT(BD79:BD87)=0,\":\",SUM(BD79:BD87))","v":":"},null,{"$f":"IF(COUNT(BF79:BF87)=0,\":\",SUM(BF79:BF87))","v":":"},null,{"$f":"IF(COUNT(BH79:BH87)=0,\":\",SUM(BH79:BH87))","v":":"},null,null,null,null,null,null,null,null,null,null,null,null,null,null,null,null,null,null,null,null,null,null,null,null,null,null,null,null,null,null,null,"TAX_EU","ATU","RUT","NRG"]

{"sheet":"ETS CO2 taxes","index":3,"n_rows":88,"n_cols":157,"rows_kept":88,"cut":false,"hidden":false,"merged":[[0,94,2,94],[0,95,2,95],[0,96,2,96],[3,1,3,2],[77,1,77,2],[0,91,2,91],[0,92,2,92],[0,93,2,93]]}
[null,"Country:",{"$f":"'Countries codes'!D4","v":"AL "},null,null,null,null,null,null,null,null,"Tolerance",null,null,null,null,null,null,null,null,null,null,null,null,null,null,null,null,null,null,null,null,null,null,null,null,null,null,null,null,null,null,null,null,null,null,null,null,null,null,null,null,null,null,null,null,null,null,null,null,null,null,null,null,null,null,null,null,null,null,null,null,null,null,null,null,null,null,null,null,null,null,null,null,null,null,null,null,null,null,null,"TAX_REP","INTERACTORS","BRIDGE_ITEMS","TAX","UNIT_MEASURE","UNIT_MULT"]
[null,"CO2 taxes_ETS:","ETS",null,null,null,null,null,null,null,null,{"$f":"5","v":5}]
[null,"Unit:","million national currency","MIO_NAC"]
["Ind","NACE Rev. 2 A*64 industry classification",null,"1995","footnotes",1996,"footnotes",1997,"footnotes",1998,"footnotes",1999,"footnotes",2000,"footnotes",2001,"footnotes",2002,"footnotes",2003,"footnotes",2004,"footnotes",2005,"footnotes",2006,"footnotes",2007,"footnotes",2008,"footnotes",2009,"footnotes",2010,"footnotes",2011,"footnotes",2012,"footnotes",2013,"footnotes",2014,"footnotes",2015,"footnotes",2016,"footnotes",2017,"footnotes",2018,"footnotes",2019,"footnotes",2020,"footnotes",2021,"footnotes",2022,"footnotes",2023,"footnotes",null,null,null,null,null,null,null,null,null,null,null,null,null,null,null,null,null,null,null,null,null,null,null,null,null,null,null,null,null,null,null,null,null,null,null,null,null,null,null,null,{"$f":"D4","v":"1995"},"footnotes",1996,"footnotes",1997,"footnotes",1998,"footnotes",1999,"footnotes",2000,"footnotes",2001,"footnotes",2002,"footnotes",2003,"footnotes",2004,"footnotes",2005,"footnotes",2006,"footnotes",2007,"footnotes",2008,"footnotes",2009,"footnotes",2010,"footnotes",{"$f":"AJ4","v":2011},"footnotes",2012,"footnotes",2013,"footnotes",2014,"footnotes",2015,"footnotes",2016,"footnotes",2017,"footnotes",2018,"footnotes",2019,"footnotes",2020,"footnotes",2021,"footnotes",{"$f":"BH4","v":2023},"footnotes"]
["A01","A01","Crop and animal production, hunting and related service activities",null,null,null,null,null,null,null,null,null,null,null,null,null,null,null,null,null,null,null,null,null,null,null,null,null,null,null,null,null,null,null,null,null,null,null,null,null,null,null,null,null,null,null,null,null,null,null,null,null,null,null,null,null,null,null,null,null,null,null,null,null,null,null,null,null,null,null,null,null,null,null,null,null,null,null,null,null,null,null,null,null,null,null,null,null,null,null,null,"TAX_EU","A01","RUT","NRG","XDC",6]
["A02","A02","Forestry and logging ",null,null,null,null,null,null,null,null,null,null,null,null,null,null,null,null,null,null,null,null,null,null,null,null,null,null,null,null,null,null,null,null,null,null,null,null,null,null,null,null,null,null,null,null,null,null,null,null,null,null,null,null,null,null,null,null,null,null,null,null,null,null,null,null,null,null,null,null,null,null,null,null,null,null,null,null,null,null,null,null,null,null,null,null,null,null,null,null,"TAX_EU","A02","RUT","NRG"]
["A03","A03","Fishing and aquaculture",null,null,null,null,null,null,null,null,null,null,null,null,null,null,null,null,null,null,null,null,null,null,null,null,null,null,null,null,null,null,null,null,null,null,null,null,null,null,null,null,null,null,null,null,null,null,null,null,null,null,null,null,null,null,null,null,null,null,null,null,null,null,null,null,null,null,null,null,null,null,null,null,null,null,null,null,null,null,null,null,null,null,null,null,null,null,null,null,"TAX_EU","A03","RUT","NRG"]
["B","B05-B09","Mining and quarrying",null,null,null,null,null,null,null,null,null,null,null,null,null,null,null,null,null,null,null,null,null,null,null,null,null,null,null,null,null,null,null,null,null,null,null,null,null,null,null,null,null,null,null,null,null,null,null,null,null,null,null,null,null,null,null,null,null,null,null,null,null,null,null,null,null,null,null,null,null,null,null,null,null,null,null,null,null,null,null,null,null,null,null,null,null,null,null,null,"TAX_EU","B","RUT","NRG"]
["C10-C12","C10-C12","Manufacture of food products, beverages and tobacco products",null,null,null,null,null,null,null,null,null,null,null,null,null,null,null,null,null,null,null,null,null,null,null,null,null,null,null,null,null,null,null,null,null,null,null,null,null,null,null,null,null,null,null,null,null,null,null,null,null,null,null,null,null,null,null,null,null,null,null,null,null,null,null,null,null,null,null,null,null,null,null,null,null,null,null,null,null,null,null,null,null,null,null,null,null,null,null,null,"TAX_EU","C10T12","RUT","NRG"]
["C13-C15","C13-C15","Manufacture of textiles, wearing apparel and leather products",null,null,null,null,null,null,null,null,null,null,null,null,null,null,null,null,null,null,null,null,null,null,null,null,null,null,null,null,null,null,null,null,null,null,null,null,null,null,null,null,null,null,null,null,null,null,null,null,null,null,null,null,null,null,null,null,null,null,null,null,null,null,null,null,null,null,null,null,null,null,null,null,null,null,null,null,null,null,null,null,null,null,null,null,null,null,null,null,"TAX_EU","C13T15","RUT","NRG"]
["C16","C16","Manufacture of wood and of products of wood and cork, except furniture; manufacture of articles of straw and plaiting materials",null,null,null,null,null,null,null,null,null,null,null,null,null,null,null,null,null,null,null,null,null,null,null,null,null,null,null,null,null,null,null,null,null,null,null,null,null,null,null,null,null,null,null,null,null,null,null,null,null,null,null,null,null,null,null,null,null,null,null,null,null,null,null,null,null,null,null,null,null,null,null,null,null,null,null,null,null,null,null,null,null,null,null,null,null,null,null,null,"TAX_EU","C16","RUT","NRG"]
["C17","C17","Manufacture of paper and paper products",null,null,null,null,null,null,null,null,null,null,null,null,null,null,null,null,null,null,null,null,null,null,null,null,null,null,null,null,null,null,null,null,null,null,null,null,null,null,null,null,null,null,null,null,null,null,null,null,null,null,null,null,null,null,null,null,null,null,null,null,null,null,null,null,null,null,null,null,null,null,null,null,null,null,null,null,null,null,null,null,null,null,null,null,null,null,null,null,"TAX_EU","C17","RUT","NRG"]
["C18","C18","Printing and reproduction of recorded media",null,null,null,null,null,null,null,null,null,null,null,null,null,null,null,null,null,null,null,null,null,null,null,null,null,null,null,null,null,null,null,null,null,null,null,null,null,null,null,null,null,null,null,null,null,null,null,null,null,null,null,null,null,null,null,null,null,null,null,null,null,null,null,null,null,null,null,null,null,null,null,null,null,null,null,null,null,null,null,null,null,null,null,null,null,null,null,null,"TAX_EU","C18","RUT","NRG"]
["C19","C19","Manufacture of coke and refined petroleum products ",null,null,null,null,null,null,null,null,null,null,null,null,null,null,null,null,null,null,null,null,null,null,null,null,null,null,null,null,null,null,null,null,null,null,null,null,null,null,null,null,null,null,null,null,null,null,null,null,null,null,null,null,null,null,null,null,null,null,null,null,null,null,null,null,null,null,null,null,null,null,null,null,null,null,null,null,null,null,null,null,null,null,null,null,null,null,null,null,"TAX_EU","C19","RUT","NRG"]
["C20","C20","Manufacture of chemicals and chemical products",null,null,null,null,null,null,null,null,null,null,null,null,null,null,null,null,null,null,null,null,null,null,null,null,null,null,null,null,null,null,null,null,null,null,null,null,null,null,null,null,null,null,null,null,null,null,null,null,null,null,null,null,null,null,null,null,null,null,null,null,null,null,null,null,null,null,null,null,null,null,null,null,null,null,null,null,null,null,null,null,null,null,null,null,null,null,null,null,"TAX_EU","C20","RUT","NRG"]
["C21","C21","Manufacture of basic pharmaceutical products and pharmaceutical preparations",null,null,null,null,null,null,null,null,null,null,null,null,null,null,null,null,null,null,null,null,null,null,null,null,null,null,null,null,null,null,null,null,null,null,null,null,null,null,null,null,null,null,null,null,null,null,null,null,null,null,null,null,null,null,null,null,null,null,null,null,null,null,null,null,null,null,null,null,null,null,null,null,null,null,null,null,null,null,null,null,null,null,null,null,null,null,null,null,"TAX_EU","C21","RUT","NRG"]
["C22","C22","Manufacture of rubber and plastic products",null,null,null,null,null,null,null,null,null,null,null,null,null,null,null,null,null,null,null,null,null,null,null,null,null,null,null,null,null,null,null,null,null,null,null,null,null,null,null,null,null,null,null,null,null,null,null,null,null,null,null,null,null,null,null,null,null,null,null,null,null,null,null,null,null,null,null,null,null,null,null,null,null,null,null,null,null,null,null,null,null,null,null,null,null,null,null,null,"TAX_EU","C22","RUT","NRG"]
["C23","C23","Manufacture of other non-metallic mineral products",null,null,null,null,null,null,null,null,null,null,null,null,null,null,null,null,null,null,null,null,null,null,null,null,null,null,null,null,null,null,null,null,null,null,null,null,null,null,null,null,null,null,null,null,null,null,null,null,null,null,null,null,null,null,null,null,null,null,null,null,null,null,null,null,null,null,null,null,null,null,null,null,null,null,null,null,null,null,null,null,null,null,null,null,null,null,null,null,"TAX_EU","C23","RUT","NRG"]
["C24","C24","Manufacture of basic metals",null,null,null,null,null,null,null,null,null,null,null,null,null,null,null,null,null,null,null,null,null,null,null,null,null,null,null,null,null,null,null,null,null,null,null,null,null,null,null,null,null,null,null,null,null,null,null,null,null,null,null,null,null,null,null,null,null,null,null,null,null,null,null,null,null,null,null,null,null,null,null,null,null,null,null,null,null,null,null,null,null,null,null,null,null,null,null,null,"TAX_EU","C24","RUT","NRG"]
["C25","C25","Manufacture of fabricated metal products, except machinery and equipment",null,null,null,null,null,null,null,null,null,null,null,null,null,null,null,null,null,null,null,null,null,null,null,null,null,null,null,null,null,null,null,null,null,null,null,null,null,null,null,null,null,null,null,null,null,null,null,null,null,null,null,null,null,null,null,null,null,null,null,null,null,null,null,null,null,null,null,null,null,null,null,null,null,null,null,null,null,null,null,null,null,null,null,null,null,null,null,null,"TAX_EU","C25","RUT","NRG"]
["C26","C26","Manufacture of computer, electronic and optical products",null,null,null,null,null,null,null,null,null,null,null,null,null,null,null,null,null,null,null,null,null,null,null,null,null,null,null,null,null,null,null,null,null,null,null,null,null,null,null,null,null,null,null,null,null,null,null,null,null,null,null,null,null,null,null,null,null,null,null,null,null,null,null,null,null,null,null,null,null,null,null,null,null,null,null,null,null,null,null,null,null,null,null,null,null,null,null,null,"TAX_EU","C26","RUT","NRG"]
["C27","C27","Manufacture of electrical equipment",null,null,null,null,null,null,null,null,null,null,null,null,null,null,null,null,null,null,null,null,null,null,null,null,null,null,null,null,null,null,null,null,null,null,null,null,null,null,null,null,null,null,null,null,null,null,null,null,null,null,null,null,null,null,null,null,null,null,null,null,null,null,null,null,null,null,null,null,null,null,null,null,null,null,null,null,null,null,null,null,null,null,null,null,null,null,null,null,"TAX_EU","C27","RUT","NRG"]
["C28","C28","Manufacture of machinery and equipment n.e.c.",null,null,null,null,null,null,null,null,null,null,null,null,null,null,null,null,null,null,null,null,null,null,null,null,null,null,null,null,null,null,null,null,null,null,null,null,null,null,null,null,null,null,null,null,null,null,null,null,null,null,null,null,null,null,null,null,null,null,null,null,null,null,null,null,null,null,null,null,null,null,null,null,null,null,null,null,null,null,null,null,null,null,null,null,null,null,null,null,"TAX_EU","C28","RUT","NRG"]
["C29","C29","Manufacture of motor vehicles, trailers and semi-trailers",null,null,null,null,null,null,null,null,null,null,null,null,null,null,null,null,null,null,null,null,null,null,null,null,null,null,null,null,null,null,null,null,null,null,null,null,null,null,null,null,null,null,null,null,null,null,null,null,null,null,null,null,null,null,null,null,null,null,null,null,null,null,null,null,null,null,null,null,null,null,null,null,null,null,null,null,null,null,null,null,null,null,null,null,null,null,null,null,"TAX_EU","C29","RUT","NRG"]
["C30","C30","Manufacture of other transport equipment",null,null,null,null,null,null,null,null,null,null,null,null,null,null,null,null,null,null,null,null,null,null,null,null,null,null,null,null,null,null,null,null,null,null,null,null,null,null,null,null,null,null,null,null,null,null,null,null,null,null,null,null,null,null,null,null,null,null,null,null,null,null,null,null,null,null,null,null,null,null,null,null,null,null,null,null,null,null,null,null,null,null,null,null,null,null,null,null,"TAX_EU","C30","RUT","NRG"]
["C31_C32","C31-C32","Manufacture of furniture; other manufacturing",null,null,null,null,null,null,null,null,null,null,null,null,null,null,null,null,null,null,null,null,null,null,null,null,null,null,null,null,null,null,null,null,null,null,null,null,null,null,null,null,null,null,null,null,null,null,null,null,null,null,null,null,null,null,null,null,null,null,null,null,null,null,null,null,null,null,null,null,null,null,null,null,null,null,null,null,null,null,null,null,null,null,null,null,null,null,null,null,"TAX_EU","C31_32","RUT","NRG"]
["C33","C33","Repair and installation of machinery and equipment",null,null,null,null,null,null,null,null,null,null,null,null,null,null,null,null,null,null,null,null,null,null,null,null,null,null,null,null,null,null,null,null,null,null,null,null,null,null,null,null,null,null,null,null,null,null,null,null,null,null,null,null,null,null,null,null,null,null,null,null,null,null,null,null,null,null,null,null,null,null,null,null,null,null,null,null,null,null,null,null,null,null,null,null,null,null,null,null,"TAX_EU","C33","RUT","NRG"]
["D35","D35","Electricity, gas, steam and air conditioning supply",null,null,null,null,null,null,null,null,null,null,null,null,null,null,null,null,null,null,null,null,null,null,null,null,null,null,null,null,null,null,null,null,null,null,null,null,null,null,null,null,null,null,null,null,null,null,null,null,null,null,null,null,null,null,null,null,null,null,null,null,null,null,null,null,null,null,null,null,null,null,null,null,null,null,null,null,null,null,null,null,null,null,null,null,null,null,null,null,"TAX_EU","D","RUT","NRG"]
["E36","E36","Water collection, treatment and supply",null,null,null,null,null,null,null,null,null,null,null,null,null,null,null,null,null,null,null,null,null,null,null,null,null,null,null,null,null,null,null,null,null,null,null,null,null,null,null,null,null,null,null,null,null,null,null,null,null,null,null,null,null,null,null,null,null,null,null,null,null,null,null,null,null,null,null,null,null,null,null,null,null,null,null,null,null,null,null,null,null,null,null,null,null,null,null,null,"TAX_EU","E36","RUT","NRG"]
["E37-E39","E37-E39","Sewerage, waste collection, treatment and disposal activities; materials recovery; remediation activities and other waste management services ",null,null,null,null,null,null,null,null,null,null,null,null,null,null,null,null,null,null,null,null,null,null,null,null,null,null,null,null,null,null,null,null,null,null,null,null,null,null,null,null,null,null,null,null,null,null,null,null,null,null,null,null,null,null,null,null,null,null,null,null,null,null,null,null,null,null,null,null,null,null,null,null,null,null,null,null,null,null,null,null,null,null,null,null,null,null,null,null,"TAX_EU","E37T39","RUT","NRG"]
["F","F41-F43","Construction ",null,null,null,null,null,null,null,null,null,null,null,null,null,null,null,null,null,null,null,null,null,null,null,null,null,null,null,null,null,null,null,null,null,null,null,null,null,null,null,null,null,null,null,null,null,null,null,null,null,null,null,null,null,null,null,null,null,null,null,null,null,null,null,null,null,null,null,null,null,null,null,null,null,null,null,null,null,null,null,null,null,null,null,null,null,null,null,null,"TAX_EU","F","RUT","NRG"]
["G45","G45","Wholesale and retail trade and repair of motor vehicles and motorcycles",null,null,null,null,null,null,null,null,null,null,null,null,null,null,null,null,null,null,null,null,null,null,null,null,null,null,null,null,null,null,null,null,null,null,null,null,null,null,null,null,null,null,null,null,null,null,null,null,null,null,null,null,null,null,null,null,null,null,null,null,null,null,null,null,null,null,null,null,null,null,null,null,null,null,null,null,null,null,null,null,null,null,null,null,null,null,null,null,"TAX_EU","G45","RUT","NRG"]
["G46","G46","Wholesale trade, except of motor vehicles and motorcycles",null,null,null,null,null,null,null,null,null,null,null,null,null,null,null,null,null,null,null,null,null,null,null,null,null,null,null,null,null,null,null,null,null,null,null,null,null,null,null,null,null,null,null,null,null,null,null,null,null,null,null,null,null,null,null,null,null,null,null,null,null,null,null,null,null,null,null,null,null,null,null,null,null,null,null,null,null,null,null,null,null,null,null,null,null,null,null,null,"TAX_EU","G46","RUT","NRG"]
["G47","G47","Retail trade, except of motor vehicles and motorcycles",null,null,null,null,null,null,null,null,null,null,null,null,null,null,null,null,null,null,null,null,null,null,null,null,null,null,null,null,null,null,null,null,null,null,null,null,null,null,null,null,null,null,null,null,null,null,null,null,null,null,null,null,null,null,null,null,null,null,null,null,null,null,null,null,null,null,null,null,null,null,null,null,null,null,null,null,null,null,null,null,null,null,null,null,null,null,null,null,"TAX_EU","G47","RUT","NRG"]
["H49","H49","Land transport and transport via pipelines",null,null,null,null,null,null,null,null,null,null,null,null,null,null,null,null,null,null,null,null,null,null,null,null,null,null,null,null,null,null,null,null,null,null,null,null,null,null,null,null,null,null,null,null,null,null,null,null,null,null,null,null,null,null,null,null,null,null,null,null,null,null,null,null,null,null,null,null,null,null,null,null,null,null,null,null,null,null,null,null,null,null,null,null,null,null,null,null,"TAX_EU","H49","RUT","NRG"]
["H50","H50","Water transport",null,null,null,null,null,null,null,null,null,null,null,null,null,null,null,null,null,null,null,null,null,null,null,null,null,null,null,null,null,null,null,null,null,null,null,null,null,null,null,null,null,null,null,null,null,null,null,null,null,null,null,null,null,null,null,null,null,null,null,null,null,null,null,null,null,null,null,null,null,null,null,null,null,null,null,null,null,null,null,null,null,null,null,null,null,null,null,null,"TAX_EU","H50","RUT","NRG"]
["H51","H51","Air transport",null,null,null,null,null,null,null,null,null,null,null,null,null,null,null,null,null,null,null,null,null,null,null,null,null,null,null,null,null,null,null,null,null,null,null,null,null,null,null,null,null,null,null,null,null,null,null,null,null,null,null,null,null,null,null,null,null,null,null,null,null,null,null,null,null,null,null,null,null,null,null,null,null,null,null,null,null,null,null,null,null,null,null,null,null,null,null,null,"TAX_EU","H51","RUT","NRG"]
["H52","H52","Warehousing and support activities for transportation",null,null,null,null,null,null,null,null,null,null,null,null,null,null,null,null,null,null,null,null,null,null,null,null,null,null,null,null,null,null,null,null,null,null,null,null,null,null,null,null,null,null,null,null,null,null,null,null,null,null,null,null,null,null,null,null,null,null,null,null,null,null,null,null,null,null,null,null,null,null,null,null,null,null,null,null,null,null,null,null,null,null,null,null,null,null,null,null,"TAX_EU","H52","RUT","NRG"]
["H53","H53","Postal and courier activities",null,null,null,null,null,null,null,null,null,null,null,null,null,null,null,null,null,null,null,null,null,null,null,null,null,null,null,null,null,null,null,null,null,null,null,null,null,null,null,null,null,null,null,null,null,null,null,null,null,null,null,null,null,null,null,null,null,null,null,null,null,null,null,null,null,null,null,null,null,null,null,null,null,null,null,null,null,null,null,null,null,null,null,null,null,null,null,null,"TAX_EU","H53","RUT","NRG"]
["I","I55-I56","Accommodation; food and beverage service activities",null,null,null,null,null,null,null,null,null,null,null,null,null,null,null,null,null,null,null,null,null,null,null,null,null,null,null,null,null,null,null,null,null,null,null,null,null,null,null,null,null,null,null,null,null,null,null,null,null,null,null,null,null,null,null,null,null,null,null,null,null,null,null,null,null,null,null,null,null,null,null,null,null,null,null,null,null,null,null,null,null,null,null,null,null,null,null,null,"TAX_EU","I","RUT","NRG"]
["J58","J58","Publishing activities",null,null,null,null,null,null,null,null,null,null,null,null,null,null,null,null,null,null,null,null,null,null,null,null,null,null,null,null,null,null,null,null,null,null,null,null,null,null,null,null,null,null,null,null,null,null,null,null,null,null,null,null,null,null,null,null,null,null,null,null,null,null,null,null,null,null,null,null,null,null,null,null,null,null,null,null,null,null,null,null,null,null,null,null,null,null,null,null,"TAX_EU","J58","RUT","NRG"]
["J59_J60","J59-J60","Motion picture, video and television programme production, sound recording and music publishing activities;  programming and broadcasting activities",null,null,null,null,null,null,null,null,null,null,null,null,null,null,null,null,null,null,null,null,null,null,null,null,null,null,null,null,null,null,null,null,null,null,null,null,null,null,null,null,null,null,null,null,null,null,null,null,null,null,null,null,null,null,null,null,null,null,null,null,null,null,null,null,null,null,null,null,null,null,null,null,null,null,null,null,null,null,null,null,null,null,null,null,null,null,null,null,"TAX_EU","J59_60","RUT","NRG"]
["J61","J61","Telecommunications",null,null,null,null,null,null,null,null,null,null,null,null,null,null,null,null,null,null,null,null,null,null,null,null,null,null,null,null,null,null,null,null,null,null,null,null,null,null,null,null,null,null,null,null,null,null,null,null,null,null,null,null,null,null,null,null,null,null,null,null,null,null,null,null,null,null,null,null,null,null,null,null,null,null,null,null,null,null,null,null,null,null,null,null,null,null,null,null,"TAX_EU","J61","RUT","NRG"]
["J62_J63","J62-J63","Computer programming, consultancy and related activities; Information services activities",null,null,null,null,null,null,null,null,null,null,null,null,null,null,null,null,null,null,null,null,null,null,null,null,null,null,null,null,null,null,null,null,null,null,null,null,null,null,null,null,null,null,null,null,null,null,null,null,null,null,null,null,null,null,null,null,null,null,null,null,null,null,null,null,null,null,null,null,null,null,null,null,null,null,null,null,null,null,null,null,null,null,null,null,null,null,null,null,"TAX_EU","J62_63","RUT","NRG"]
["K64","K64","Financial service activities, except insurance and pension funding",null,null,null,null,null,null,null,null,null,null,null,null,null,null,null,null,null,null,null,null,null,null,null,null,null,null,null,null,null,null,null,null,null,null,null,null,null,null,null,null,null,null,null,null,null,null,null,null,null,null,null,null,null,null,null,null,null,null,null,null,null,null,null,null,null,null,null,null,null,null,null,null,null,null,null,null,null,null,null,null,null,null,null,null,null,null,null,null,"TAX_EU","K64","RUT","NRG"]
["K65","K65","Insurance, reinsurance and pension funding, except compulsory social security",null,null,null,null,null,null,null,null,null,null,null,null,null,null,null,null,null,null,null,null,null,null,null,null,null,null,null,null,null,null,null,null,null,null,null,null,null,null,null,null,null,null,null,null,null,null,null,null,null,null,null,null,null,null,null,null,null,null,null,null,null,null,null,null,null,null,null,null,null,null,null,null,null,null,null,null,null,null,null,null,null,null,null,null,null,null,null,null,"TAX_EU","K65","RUT","NRG"]
["K66","K66","Activities auxiliary to financial services and insurance activities",null,null,null,null,null,null,null,null,null,null,null,null,null,null,null,null,null,null,null,null,null,null,null,null,null,null,null,null,null,null,null,null,null,null,null,null,null,null,null,null,null,null,null,null,null,null,null,null,null,null,null,null,null,null,null,null,null,null,null,null,null,null,null,null,null,null,null,null,null,null,null,null,null,null,null,null,null,null,null,null,null,null,null,null,null,null,null,null,"TAX_EU","K66","RUT","NRG"]
["L","L68","Real estate activities",null,null,null,null,null,null,null,null,null,null,null,null,null,null,null,null,null,null,null,null,null,null,null,null,null,null,null,null,null,null,null,null,null,null,null,null,null,null,null,null,null,null,null,null,null,null,null,null,null,null,null,null,null,null,null,null,null,null,null,null,null,null,null,null,null,null,null,null,null,null,null,null,null,null,null,null,null,null,null,null,null,null,null,null,null,null,null,null,"TAX_EU","L","RUT","NRG"]
["M69_M70","M69-M70","Legal and accounting activities; activities of head offices; management consultancy activities",null,null,null,null,null,null,null,null,null,null,null,null,null,null,null,null,null,null,null,null,null,null,null,null,null,null,null,null,null,null,null,null,null,null,null,null,null,null,null,null,null,null,null,null,null,null,null,null,null,null,null,null,null,null,null,null,null,null,null,null,null,null,null,null,null,null,null,null,null,null,null,null,null,null,null,null,null,null,null,null,null,null,null,null,null,null,null,null,"TAX_EU","M69_70","RUT","NRG"]
["M71","M71","Architectural and engineering activities; technical testing and analysis",null,null,null,null,null,null,null,null,null,null,null,null,null,null,null,null,null,null,null,null,null,null,null,null,null,null,null,null,null,null,null,null,null,null,null,null,null,null,null,null,null,null,null,null,null,null,null,null,null,null,null,null,null,null,null,null,null,null,null,null,null,null,null,null,null,null,null,null,null,null,null,null,null,null,null,null,null,null,null,null,null,null,null,null,null,null,null,null,"TAX_EU","M71","RUT","NRG"]
["M72","M72","Scientific research and development",null,null,null,null,null,null,null,null,null,null,null,null,null,null,null,null,null,null,null,null,null,null,null,null,null,null,null,null,null,null,null,null,null,null,null,null,null,null,null,null,null,null,null,null,null,null,null,null,null,null,null,null,null,null,null,null,null,null,null,null,null,null,null,null,null,null,null,null,null,null,null,null,null,null,null,null,null,null,null,null,null,null,null,null,null,null,null,null,"TAX_EU","M72","RUT","NRG"]
["M73","M73","Advertising and market research",null,null,null,null,null,null,null,null,null,null,null,null,null,null,null,null,null,null,null,null,null,null,null,null,null,null,null,null,null,null,null,null,null,null,null,null,null,null,null,null,null,null,null,null,null,null,null,null,null,null,null,null,null,null,null,null,null,null,null,null,null,null,null,null,null,null,null,null,null,null,null,null,null,null,null,null,null,null,null,null,null,null,null,null,null,null,null,null,"TAX_EU","M73","RUT","NRG"]
["M74_M75","M74-M75","Other professional, scientific and technical activities;veterinary activities",null,null,null,null,null,null,null,null,null,null,null,null,null,null,null,null,null,null,null,null,null,null,null,null,null,null,null,null,null,null,null,null,null,null,null,null,null,null,null,null,null,null,null,null,null,null,null,null,null,null,null,null,null,null,null,null,null,null,null,null,null,null,null,null,null,null,null,null,null,null,null,null,null,null,null,null,null,null,null,null,null,null,null,null,null,null,null,null,"TAX_EU","M74_75","RUT","NRG"]
["N77","N77","Rental and leasing activities",null,null,null,null,null,null,null,null,null,null,null,null,null,null,null,null,null,null,null,null,null,null,null,null,null,null,null,null,null,null,null,null,null,null,null,null,null,null,null,null,null,null,null,null,null,null,null,null,null,null,null,null,null,null,null,null,null,null,null,null,null,null,null,null,null,null,null,null,null,null,null,null,null,null,null,null,null,null,null,null,null,null,null,null,null,null,null,null,"TAX_EU","N77","RUT","NRG"]
["N78","N78","Employment activities",null,null,null,null,null,null,null,null,null,null,null,null,null,null,null,null,null,null,null,null,null,null,null,null,null,null,null,null,null,null,null,null,null,null,null,null,null,null,null,null,null,null,null,null,null,null,null,null,null,null,null,null,null,null,null,null,null,null,null,null,null,null,null,null,null,null,null,null,null,null,null,null,null,null,null,null,null,null,null,null,null,null,null,null,null,null,null,null,"TAX_EU","N78","RUT","NRG"]
["N79","N79","Travel agency, tour operator reservation service and related activities",null,null,null,null,null,null,null,null,null,null,null,null,null,null,null,null,null,null,null,null,null,null,null,null,null,null,null,null,null,null,null,null,null,null,null,null,null,null,null,null,null,null,null,null,null,null,null,null,null,null,null,null,null,null,null,null,null,null,null,null,null,null,null,null,null,null,null,null,null,null,null,null,null,null,null,null,null,null,null,null,null,null,null,null,null,null,null,null,"TAX_EU","N79","RUT","NRG"]
["N80-N82","N80-N82","Security and investigation activities; services to buildings and landscape activities;office administrative, office support and other business support activities",null,null,null,null,null,null,null,null,null,null,null,null,null,null,null,null,null,null,null,null,null,null,null,null,null,null,null,null,null,null,null,null,null,null,null,null,null,null,null,null,null,null,null,null,null,null,null,null,null,null,null,null,null,null,null,null,null,null,null,null,null,null,null,null,null,null,null,null,null,null,null,null,null,null,null,null,null,null,null,null,null,null,null,null,null,null,null,null,"TAX_EU","N80T82","RUT","NRG"]
["O84","O84","Public administration and defence; compulsory social security",null,null,null,null,null,null,null,null,null,null,null,null,null,null,null,null,null,null,null,null,null,null,null,null,null,null,null,null,null,null,null,null,null,null,null,null,null,null,null,null,null,null,null,null,null,null,null,null,null,null,null,null,null,null,null,null,null,null,null,null,null,null,null,null,null,null,null,null,null,null,null,null,null,null,null,null,null,null,null,null,null,null,null,null,null,null,null,null,"TAX_EU","O","RUT","NRG"]
["P85","P85","Education",null,null,null,null,null,null,null,null,null,null,null,null,null,null,null,null,null,null,null,null,null,null,null,null,null,null,null,null,null,null,null,null,null,null,null,null,null,null,null,null,null,null,null,null,null,null,null,null,null,null,null,null,null,null,null,null,null,null,null,null,null,null,null,null,null,null,null,null,null,null,null,null,null,null,null,null,null,null,null,null,null,null,null,null,null,null,null,null,"TAX_EU","P","RUT","NRG"]
["Q86","Q86","Human health activities",null,null,null,null,null,null,null,null,null,null,null,null,null,null,null,null,null,null,null,null,null,null,null,null,null,null,null,null,null,null,null,null,null,null,null,null,null,null,null,null,null,null,null,null,null,null,null,null,null,null,null,null,null,null,null,null,null,null,null,null,null,null,null,null,null,null,null,null,null,null,null,null,null,null,null,null,null,null,null,null,null,null,null,null,null,null,null,null,"TAX_EU","Q86","RUT","NRG"]
["Q87_Q88","Q87-Q88","Social work activities",null,null,null,null,null,null,null,null,null,null,null,null,null,null,null,null,null,null,null,null,null,null,null,null,null,null,null,null,null,null,null,null,null,null,null,null,null,null,null,null,null,null,null,null,null,null,null,null,null,null,null,null,null,null,null,null,null,null,null,null,null,null,null,null,null,null,null,null,null,null,null,null,null,null,null,null,null,null,null,null,null,null,null,null,null,null,null,null,"TAX_EU","Q87_88","RUT","NRG"]
["R90-R92","R90-R92","Creative, arts and entertainment activities; libraries, archives, museums and other cultural activities; gambling and betting activities",null,null,null,null,null,null,null,null,null,null,null,null,null,null,null,null,null,null,null,null,null,null,null,null,null,null,null,null,null,null,null,null,null,null,null,null,null,null,null,null,null,null,null,null,null,null,null,null,null,null,null,null,null,null,null,null,null,null,null,null,null,null,null,null,null,null,null,null,null,null,null,null,null,null,null,null,null,null,null,null,null,null,null,null,null,null,null,null,"TAX_EU","R90T92","RUT","NRG"]
["R93","R93","Sports activities and amusement and recreation activities",null,null,null,null,null,null,null,null,null,null,null,null,null,null,null,null,null,null,null,null,null,null,null,null,null,null,null,null,null,null,null,null,null,null,null,null,null,null,null,null,null,null,null,null,null,null,null,null,null,null,null,null,null,null,null,null,null,null,null,null,null,null,null,null,null,null,null,null,null,null,null,null,null,null,null,null,null,null,null,null,null,null,null,null,null,null,null,null,"TAX_EU","R93","RUT","NRG"]
["S94","S94","Activities of membership organisations",null,null,null,null,null,null,null,null,null,null,null,null,null,null,null,null,null,null,null,null,null,null,null,null,null,null,null,null,null,null,null,null,null,null,null,null,null,null,null,null,null,null,null,null,null,null,null,null,null,null,null,null,null,null,null,null,null,null,null,null,null,null,null,null,null,null,null,null,null,null,null,null,null,null,null,null,null,null,null,null,null,null,null,null,null,null,null,null,"TAX_EU","S94","RUT","NRG"]
["S95","S95","Repairs of computers and personal and household goods",null,null,null,null,null,null,null,null,null,null,null,null,null,null,null,null,null,null,null,null,null,null,null,null,null,null,null,null,null,null,null,null,null,null,null,null,null,null,null,null,null,null,null,null,null,null,null,null,null,null,null,null,null,null,null,null,null,null,null,null,null,null,null,null,null,null,null,null,null,null,null,null,null,null,null,null,null,null,null,null,null,null,null,null,null,null,null,null,"TAX_EU","S95","RUT","NRG"]
["S96","S96","Other personal service activities",null,null,null,null,null,null,null,null,null,null,null,null,null,null,null,null,null,null,null,null,null,null,null,null,null,null,null,null,null,null,null,null,null,null,null,null,null,null,null,null,null,null,null,null,null,null,null,null,null,null,null,null,null,null,null,null,null,null,null,null,null,null,null,null,null,null,null,null,null,null,null,null,null,null,null,null,null,null,null,null,null,null,null,null,null,null,null,null,"TAX_EU","S96","RUT","NRG"]
["T","T97-T98","Activities of households as employers; undifferentiated goods- and services-producing activities of households for own use",null,null,null,null,null,null,null,null,null,null,null,null,null,null,null,null,null,null,null,null,null,null,null,null,null,null,null,null,null,null,null,null,null,null,null,null,null,null,null,null,null,null,null,null,null,null,null,null,null,null,null,null,null,null,null,null,null,null,null,null,null,null,null,null,null,null,null,null,null,null,null,null,null,null,null,null,null,null,null,null,null,null,null,null,null,null,null,null,"TAX_EU","T","RUT","NRG"]
["U99","U99","Activities of extraterritorial organisations and bodies",null,null,null,null,null,null,null,null,null,null,null,null,null,null,null,null,null,null,null,null,null,null,null,null,null,null,null,null,null,null,null,null,null,null,null,null,null,null,null,null,null,null,null,null,null,null,null,null,null,null,null,null,null,null,null,null,null,null,null,null,null,null,null,null,null,null,null,null,null,null,null,null,null,null,null,null,null,null,null,null,null,null,null,null,null,null,null,null,"TAX_EU","U","RUT","NRG"]
["EP_HH","HH","Households",null,null,null,null,null,null,null,null,null,null,null,null,null,null,null,null,null,null,null,null,null,null,null,null,null,null,null,null,null,null,null,null,null,null,null,null,null,null,null,null,null,null,null,null,null,null,null,null,null,null,null,null,null,null,null,null,null,null,null,null,null,null,null,null,null,null,null,null,null,null,null,null,null,null,null,null,null,null,null,null,null,null,null,null,null,null,null,null,"TAX_EU","HH","RUT","NRG"]
["EP_NRES","NRES","Non-residents",null,null,null,null,null,null,null,null,null,null,null,null,null,null,null,null,null,null,null,null,null,null,null,null,null,null,null,null,null,null,null,null,null,null,null,null,null,null,null,null,null,null,null,null,null,null,null,null,null,null,null,null,null,null,null,null,null,null,null,null,null,null,null,null,null,null,null,null,null,null,null,null,null,null,null,null,null,null,null,null,null,null,null,null,null,null,null,null,"TAX_EU","_T","TER_NRES","NRG"]
["NAL","NAL","Not allocated",null,null,null,null,null,null,null,null,null,null,null,null,null,null,null,null,null,null,null,null,null,null,null,null,null,null,null,null,null,null,null,null,null,null,null,null,null,null,null,null,null,null,null,null,null,null,null,null,null,null,null,null,null,null,null,null,null,null,null,null,null,null,null,null,null,null,null,null,null,null,null,null,null,null,null,null,null,null,null,null,null,null,null,null,null,null,null,null,"TAX_EU","_X","RUT","NRG"]
["TOTAL_HH_NRES","TOT_ETS","Total ETS taxes",{"$f":"IF(COUNT(D5:D71)=0,\":\",SUM(D5:D71))","v":":"},null,{"$f":"IF(COUNT(F5:F71)=0,\":\",SUM(F5:F71))","v":":"},null,{"$f":"IF(COUNT(H5:H71)=0,\":\",SUM(H5:H71))","v":":"},null,{"$f":"IF(COUNT(J5:J71)=0,\":\",SUM(J5:J71))","v":":"},null,{"$f":"IF(COUNT(L5:L71)=0,\":\",SUM(L5:L71))","v":":"},null,{"$f":"IF(COUNT(N5:N71)=0,\":\",SUM(N5:N71))","v":":"},null,{"$f":"IF(COUNT(P5:P71)=0,\":\",SUM(P5:P71))","v":":"},null,{"$f":"IF(COUNT(R5:R71)=0,\":\",SUM(R5:R71))","v":":"},null,{"$f":"IF(COUNT(T5:T71)=0,\":\",SUM(T5:T71))","v":":"},null,{"$f":"IF(COUNT(V5:V71)=0,\":\",SUM(V5:V71))","v":":"},null,{"$f":"IF(COUNT(X5:X71)=0,\":\",SUM(X5:X71))","v":":"},null,{"$f":"IF(COUNT(Z5:Z71)=0,\":\",SUM(Z5:Z71))","v":":"},null,{"$f":"IF(COUNT(AB5:AB71)=0,\":\",SUM(AB5:AB71))","v":":"},null,{"$f":"IF(COUNT(AD5:AD71)=0,\":\",SUM(AD5:AD71))","v":":"},null,{"$f":"IF(COUNT(AF5:AF71)=0,\":\",SUM(AF5:AF71))","v":":"},null,{"$f":"IF(COUNT(AH5:AH71)=0,\":\",SUM(AH5:AH71))","v":":"},null,{"$f":"IF(COUNT(AJ5:AJ71)=0,\":\",SUM(AJ5:AJ71))","v":":"},null,{"$f":"IF(COUNT(AL5:AL71)=0,\":\",SUM(AL5:AL71))","v":":"},null,{"$f":"IF(COUNT(AN5:AN71)=0,\":\",SUM(AN5:AN71))","v":":"},null,{"$f":"IF(COUNT(AP5:AP71)=0,\":\",SUM(AP5:AP71))","v":":"},null,{"$f":"IF(COUNT(AR5:AR71)=0,\":\",SUM(AR5:AR71))","v":":"},null,{"$f":"IF(COUNT(AT5:AT71)=0,\":\",SUM(AT5:AT71))","v":":"},null,{"$f":"IF(COUNT(AV5:AV71)=0,\":\",SUM(AV5:AV71))","v":":"},null,{"$f":"IF(COUNT(AX5:AX71)=0,\":\",SUM(AX5:AX71))","v":":"},null,{"$f":"IF(COUNT(AZ5:AZ71)=0,\":\",SUM(AZ5:AZ71))","v":":"},null,{"$f":"IF(COUNT(BB5:BB71)=0,\":\",SUM(BB5:BB71))","v":":"},null,{"$f":"IF(COUNT(BD5:BD71)=0,\":\",SUM(BD5:BD71))","v":":"},null,{"$f":"IF(COUNT(BF5:BF71)=0,\":\",SUM(BF5:BF71))","v":":"},null,{"$f":"IF(COUNT(BH5:BH71)=0,\":\",SUM(BH5:BH71))","v":":"},null,null,null,null,null,null,null,null,null,null,null,null,null,null,null,null,null,null,null,null,null,null,null,null,null,null,null,null,null,null,null,"TAX_EU","_T","TER","NRG"]
[null,"TOT_ETS_NTL","Total ETS from the NTL (for comparison and check)",null,null,null,null,null,null,null,null,null,null,null,null,null,null,null,null,null,null,null,null,null,null,null,null,null,null,null,null,null,null,null,null,null,null,null,null,null,null,null,null,null,null,null,null,null,null,null,null,null,null,null,null,null,null,null,null,{"$f":"IF(SUMIF('NTL_National Tax List'!$K$5:$K$300,\"E*\",'NTL_National Tax List'!AO5:AO300)=0,\":\",SUMIF('NTL_National Tax List'!$K$5:$K$300,\"E*\",'NTL_National Tax List'!AO5:AO300))","v":":"}]
[null,"TOT_ETS_ETS_NTL","% diff. Between total ETS taxes and total ETS taxes from the NTL",{"$f":"IFERROR((D72-D73)/D73*100,IFERROR((D72-D73)/D72*100,\":\"))","v":":"},null,{"$f":"IFERROR((F72-F73)/F73*100,IFERROR((F72-F73)/F72*100,\":\"))","v":":"},null,{"$f":"IFERROR((H72-H73)/H73*100,IFERROR((H72-H73)/H72*100,\":\"))","v":":"},null,{"$f":"IFERROR((J72-J73)/J73*100,IFERROR((J72-J73)/J72*100,\":\"))","v":":"},null,{"$f":"IFERROR((L72-L73)/L73*100,IFERROR((L72-L73)/L72*100,\":\"))","v":":"},null,{"$f":"IFERROR((N72-N73)/N73*100,IFERROR((N72-N73)/N72*100,\":\"))","v":":"},null,{"$f":"IFERROR((P72-P73)/P73*100,IFERROR((P72-P73)/P72*100,\":\"))","v":":"},null,{"$f":"IFERROR((R72-R73)/R73*100,IFERROR((R72-R73)/R72*100,\":\"))","v":":"},null,{"$f":"IFERROR((T72-T73)/T73*100,IFERROR((T72-T73)/T72*100,\":\"))","v":":"},null,{"$f":"IFERROR((V72-V73)/V73*100,IFERROR((V72-V73)/V72*100,\":\"))","v":":"},null,{"$f":"IFERROR((X72-X73)/X73*100,IFERROR((X72-X73)/X72*100,\":\"))","v":":"},null,{"$f":"IFERROR((Z72-Z73)/Z73*100,IFERROR((Z72-Z73)/Z72*100,\":\"))","v":":"},null,{"$f":"IFERROR((AB72-AB73)/AB73*100,IFERROR((AB72-AB73)/AB72*100,\":\"))","v":":"},null,{"$f":"IFERROR((AD72-AD73)/AD73*100,IFERROR((AD72-AD73)/AD72*100,\":\"))","v":":"},null,{"$f":"IFERROR((AF72-AF73)/AF73*100,IFERROR((AF72-AF73)/AF72*100,\":\"))","v":":"},null,{"$f":"IFERROR((AH72-AH73)/AH73*100,IFERROR((AH72-AH73)/AH72*100,\":\"))","v":":"},null,{"$f":"IFERROR((AJ72-AJ73)/AJ73*100,IFERROR((AJ72-AJ73)/AJ72*100,\":\"))","v":":"},null,{"$f":"IFERROR((AL72-AL73)/AL73*100,IFERROR((AL72-AL73)/AL72*100,\":\"))","v":":"},null,{"$f":"IFERROR((AN72-AN73)/AN73*100,IFERROR((AN72-AN73)/AN72*100,\":\"))","v":":"},null,{"$f":"IFERROR((AP72-AP73)/AP73*100,IFERROR((AP72-AP73)/AP72*100,\":\"))","v":":"},null,{"$f":"IFERROR((AR72-AR73)/AR73*100,IFERROR((AR72-AR73)/AR72*100,\":\"))","v":":"},null,{"$f":"IFERROR((AT72-AT73)/AT73*100,IFERROR((AT72-AT73)/AT72*100,\":\"))","v":":"},null,{"$f":"IFERROR((AV72-AV73)/AV73*100,IFERROR((AV72-AV73)/AV72*100,\":\"))","v":":"},null,{"$f":"IFERROR((AX72-AX73)/AX73*100,IFERROR((AX72-AX73)/AX72*100,\":\"))","v":":"},null,{"$f":"IFERROR((AZ72-AZ73)/AZ73*100,IFERROR((AZ72-AZ73)/AZ72*100,\":\"))","v":":"},null,{"$f":"IFERROR((BB72-BB73)/BB73*100,IFERROR((BB72-BB73)/BB72*100,\":\"))","v":":"},null,{"$f":"IFERROR((BD72-BD73)/BD73*100,IFERROR((BD72-BD73)/BD72*100,\":\"))","v":":"},null,{"$f":"IF(COUNT(BF72,BF73)=0,\":\",BF72+BF73)","v":":"},null,{"$f":"IFERROR((BH72-BH73)/BH73*100,IFERROR((BH72-BH73)/BH72*100,\":\"))","v":":"}]
[null,null,"Environmental taxes for national purposes (difference between total reported above and total published for national purposes)",null,null,null,null,null,null,null,null,null,null,null,null,null,null,null,null,null,null,null,null,null,null,null,null,null,null,null,null,null,null,null,null,null,null,null,null,null,null,null,null,null,null,null,null,null,null,null,null,null,null,null,null,null,null,null,null,null,null,null,null,null,null,null,null,null,null,null,null,null,null,null,null,null,null,null,null,null,null,null,null,null,null,null,null,null,null,null,null,"TAX_NAC","_T","RUT","NRG"]
[null,null,"Other environmentally related payments to government (fees and charges)",null,null,null,null,null,null,null,null,null,null,null,null,null,null,null,null,null,null,null,null,null,null,null,null,null,null,null,null,null,null,null,null,null,null,null,null,null,null,null,null,null,null,null,null,null,null,null,null,null,null,null,null,null,null,null,null,null,null,null,null,null,null,null,null,null,null,null,null,null,null,null,null,null,null,null,null,null,null,null,null,null,null,null,null,null,null,null,null,"FEE_NAC","_T","RUT","NRG"]
[]
[null,"NACE Rev. 2 aggregated industries classification ",null,{"$f":"D4","v":"1995"},"footnotes",1996,"footnotes",1997,"footnotes",1998,"footnotes",1999,"footnotes",2000,"footnotes",2001,"footnotes",2002,"footnotes",2003,"footnotes",2004,"footnotes",2005,"footnotes",2006,"footnotes",2007,"footnotes",2008,"footnotes",2009,"footnotes",2010,"footnotes",2011,"footnotes",2012,"footnotes",2013,"footnotes",2014,"footnotes",2015,"footnotes",2016,"footnotes",2017,"footnotes",2018,"footnotes",2019,"footnotes",2020,{"$f":"BC4","v":"footnotes"},2021,"footnotes",{"$f":"BF4","v":2022},{"$f":"BG4","v":"footnotes"},{"$f":"BH4","v":2023},{"$f":"BI4","v":"footnotes"}]
["A","A01-A03","Agriculture, forestry and fishing",{"$f":"IF(COUNT(D5,D6,D7)=0,\":\",SUM(D5,D6,D7))","v":":"},null,{"$f":"IF(COUNT(F5,F6,F7)=0,\":\",SUM(F5,F6,F7))","v":":"},null,{"$f":"IF(COUNT(H5,H6,H7)=0,\":\",SUM(H5,H6,H7))","v":":"},null,{"$f":"IF(COUNT(J5,J6,J7)=0,\":\",SUM(J5,J6,J7))","v":":"},null,{"$f":"IF(COUNT(L5,L6,L7)=0,\":\",SUM(L5,L6,L7))","v":":"},null,{"$f":"IF(COUNT(N5,N6,N7)=0,\":\",SUM(N5,N6,N7))","v":":"},null,{"$f":"IF(COUNT(P5,P6,P7)=0,\":\",SUM(P5,P6,P7))","v":":"},null,{"$f":"IF(COUNT(R5,R6,R7)=0,\":\",SUM(R5,R6,R7))","v":":"},null,{"$f":"IF(COUNT(T5,T6,T7)=0,\":\",SUM(T5,T6,T7))","v":":"},null,{"$f":"IF(COUNT(V5,V6,V7)=0,\":\",SUM(V5,V6,V7))","v":":"},null,{"$f":"IF(COUNT(X5,X6,X7)=0,\":\",SUM(X5,X6,X7))","v":":"},null,{"$f":"IF(COUNT(Z5,Z6,Z7)=0,\":\",SUM(Z5,Z6,Z7))","v":":"},null,{"$f":"IF(COUNT(AB5,AB6,AB7)=0,\":\",SUM(AB5,AB6,AB7))","v":":"},null,{"$f":"IF(COUNT(AD5,AD6,AD7)=0,\":\",SUM(AD5,AD6,AD7))","v":":"},null,{"$f":"IF(COUNT(AF5,AF6,AF7)=0,\":\",SUM(AF5,AF6,AF7))","v":":"},null,{"$f":"IF(COUNT(AH5,AH6,AH7)=0,\":\",SUM(AH5,AH6,AH7))","v":":"},null,{"$f":"IF(COUNT(AJ5,AJ6,AJ7)=0,\":\",SUM(AJ5,AJ6,AJ7))","v":":"},null,{"$f":"IF(COUNT(AL5,AL6,AL7)=0,\":\",SUM(AL5,AL6,AL7))","v":":"},null,{"$f":"IF(COUNT(AN5,AN6,AN7)=0,\":\",SUM(AN5,AN6,AN7))","v":":"},null,{"$f":"IF(COUNT(AP5,AP6,AP7)=0,\":\",SUM(AP5,AP6,AP7))","v":":"},null,{"$f":"IF(COUNT(AR5,AR6,AR7)=0,\":\",SUM(AR5,AR6,AR7))","v":":"},null,{"$f":"IF(COUNT(AT5,AT6,AT7)=0,\":\",SUM(AT5,AT6,AT7))","v":":"},null,{"$f":"IF(COUNT(AV5,AV6,AV7)=0,\":\",SUM(AV5,AV6,AV7))","v":":"},null,{"$f":"IF(COUNT(AX5,AX6,AX7)=0,\":\",SUM(AX5,AX6,AX7))","v":":"},null,{"$f":"IF(COUNT(AZ5,AZ6,AZ7)=0,\":\",SUM(AZ5,AZ6,AZ7))","v":":"},null,{"$f":"IF(COUNT(BB5,BB6,BB7)=0,\":\",SUM(BB5,BB6,BB7))","v":":"},null,{"$f":"IF(COUNT(BD5,BD6,BD7)=0,\":\",SUM(BD5,BD6,BD7))","v":":"},null,{"$f":"IF(COUNT(BF5,BF6,BF7)=0,\":\",SUM(BF5,BF6,BF7))","v":":"},null,{"$f":"IF(COUNT(BH5,BH6,BH7)=0,\":\",SUM(BH5,BH6,BH7))","v":":"},null,null,null,null,null,null,null,null,null,null,null,null,null,null,null,null,null,null,null,null,null,null,null,null,null,null,null,null,null,null,null,"TAX_EU","A","RUT","NRG"]
[null,"B05-B09","Mining and quarrying",{"$f":"IF(COUNT(D8)=0,\":\",SUM(D8))","v":":"},null,{"$f":"IF(COUNT(F8)=0,\":\",SUM(F8))","v":":"},null,{"$f":"IF(COUNT(H8)=0,\":\",SUM(H8))","v":":"},null,{"$f":"IF(COUNT(J8)=0,\":\",SUM(J8))","v":":"},null,{"$f":"IF(COUNT(L8)=0,\":\",SUM(L8))","v":":"},null,{"$f":"IF(COUNT(N8)=0,\":\",SUM(N8))","v":":"},null,{"$f":"IF(COUNT(P8)=0,\":\",SUM(P8))","v":":"},null,{"$f":"IF(COUNT(R8)=0,\":\",SUM(R8))","v":":"},null,{"$f":"IF(COUNT(T8)=0,\":\",SUM(T8))","v":":"},null,{"$f":"IF(COUNT(V8)=0,\":\",SUM(V8))","v":":"},null,{"$f":"IF(COUNT(X8)=0,\":\",SUM(X8))","v":":"},null,{"$f":"IF(COUNT(Z8)=0,\":\",SUM(Z8))","v":":"},null,{"$f":"IF(COUNT(AB8)=0,\":\",SUM(AB8))","v":":"},null,{"$f":"IF(COUNT(AD8)=0,\":\",SUM(AD8))","v":":"},null,{"$f":"IF(COUNT(AF8)=0,\":\",SUM(AF8))","v":":"},null,{"$f":"IF(COUNT(AH8)=0,\":\",SUM(AH8))","v":":"},null,{"$f":"IF(COUNT(AJ8)=0,\":\",SUM(AJ8))","v":":"},null,{"$f":"IF(COUNT(AL8)=0,\":\",SUM(AL8))","v":":"},null,{"$f":"IF(COUNT(AN8)=0,\":\",SUM(AN8))","v":":"},null,{"$f":"IF(COUNT(AP8)=0,\":\",SUM(AP8))","v":":"},null,{"$f":"IF(COUNT(AR8)=0,\":\",SUM(AR8))","v":":"},null,{"$f":"IF(COUNT(AT8)=0,\":\",SUM(AT8))","v":":"},null,{"$f":"IF(COUNT(AV8)=0,\":\",SUM(AV8))","v":":"},null,{"$f":"IF(COUNT(AX8)=0,\":\",SUM(AX8))","v":":"},null,{"$f":"IF(COUNT(AZ8)=0,\":\",SUM(AZ8))","v":":"},null,{"$f":"IF(COUNT(BB8)=0,\":\",SUM(BB8))","v":":"},null,{"$f":"IF(COUNT(BD8)=0,\":\",SUM(BD8))","v":":"},null,{"$f":"IF(COUNT(BF8)=0,\":\",SUM(BF8))","v":":"},null,{"$f":"IF(COUNT(BH8)=0,\":\",SUM(BH8))","v":":"}]
["C","C10-C33","Manufacturing",{"$f":"IF(COUNT(D9:D27)=0,\":\",SUM(D9:D27))","v":":"},null,{"$f":"IF(COUNT(F9:F27)=0,\":\",SUM(F9:F27))","v":":"},null,{"$f":"IF(COUNT(H9:H27)=0,\":\",SUM(H9:H27))","v":":"},null,{"$f":"IF(COUNT(J9:J27)=0,\":\",SUM(J9:J27))","v":":"},null,{"$f":"IF(COUNT(L9:L27)=0,\":\",SUM(L9:L27))","v":":"},null,{"$f":"IF(COUNT(N9:N27)=0,\":\",SUM(N9:N27))","v":":"},null,{"$f":"IF(COUNT(P9:P27)=0,\":\",SUM(P9:P27))","v":":"},null,{"$f":"IF(COUNT(R9:R27)=0,\":\",SUM(R9:R27))","v":":"},null,{"$f":"IF(COUNT(T9:T27)=0,\":\",SUM(T9:T27))","v":":"},null,{"$f":"IF(COUNT(V9:V27)=0,\":\",SUM(V9:V27))","v":":"},null,{"$f":"IF(COUNT(X9:X27)=0,\":\",SUM(X9:X27))","v":":"},null,{"$f":"IF(COUNT(Z9:Z27)=0,\":\",SUM(Z9:Z27))","v":":"},null,{"$f":"IF(COUNT(AB9:AB27)=0,\":\",SUM(AB9:AB27))","v":":"},null,{"$f":"IF(COUNT(AD9:AD27)=0,\":\",SUM(AD9:AD27))","v":":"},null,{"$f":"IF(COUNT(AF9:AF27)=0,\":\",SUM(AF9:AF27))","v":":"},null,{"$f":"IF(COUNT(AH9:AH27)=0,\":\",SUM(AH9:AH27))","v":":"},null,{"$f":"IF(COUNT(AJ9:AJ27)=0,\":\",SUM(AJ9:AJ27))","v":":"},null,{"$f":"IF(COUNT(AL9:AL27)=0,\":\",SUM(AL9:AL27))","v":":"},null,{"$f":"IF(COUNT(AN9:AN27)=0,\":\",SUM(AN9:AN27))","v":":"},null,{"$f":"IF(COUNT(AP9:AP27)=0,\":\",SUM(AP9:AP27))","v":":"},null,{"$f":"IF(COUNT(AR9:AR27)=0,\":\",SUM(AR9:AR27))","v":":"},null,{"$f":"IF(COUNT(AT9:AT27)=0,\":\",SUM(AT9:AT27))","v":":"},null,{"$f":"IF(COUNT(AV9:AV27)=0,\":\",SUM(AV9:AV27))","v":":"},null,{"$f":"IF(COUNT(AX9:AX27)=0,\":\",SUM(AX9:AX27))","v":":"},null,{"$f":"IF(COUNT(AZ9:AZ27)=0,\":\",SUM(AZ9:AZ27))","v":":"},null,{"$f":"IF(COUNT(BB9:BB27)=0,\":\",SUM(BB9:BB27))","v":":"},null,{"$f":"IF(COUNT(BD9:BD27)=0,\":\",SUM(BD9:BD27))","v":":"},null,{"$f":"IF(COUNT(BF9:BF27)=0,\":\",SUM(BF9:BF27))","v":":"},null,{"$f":"IF(COUNT(BH9:BH27)=0,\":\",SUM(BH9:BH27))","v":":"},null,null,null,null,null,null,null,null,null,null,null,null,null,null,null,null,null,null,null,null,null,null,null,null,null,null,null,null,null,null,null,"TAX_EU","C","RUT","NRG"]
[null,"D35","Electricity, gas, steam and air conditioning supply",{"$f":"IF(COUNT(D28)=0,\":\",SUM(D28))","v":":"},null,{"$f":"IF(COUNT(F28)=0,\":\",SUM(F28))","v":":"},null,{"$f":"IF(COUNT(H28)=0,\":\",SUM(H28))","v":":"},null,{"$f":"IF(COUNT(J28)=0,\":\",SUM(J28))","v":":"},null,{"$f":"IF(COUNT(L28)=0,\":\",SUM(L28))","v":":"},null,{"$f":"IF(COUNT(N28)=0,\":\",SUM(N28))","v":":"},null,{"$f":"IF(COUNT(P28)=0,\":\",SUM(P28))","v":":"},null,{"$f":"IF(COUNT(R28)=0,\":\",SUM(R28))","v":":"},null,{"$f":"IF(COUNT(T28)=0,\":\",SUM(T28))","v":":"},null,{"$f":"IF(COUNT(V28)=0,\":\",SUM(V28))","v":":"},null,{"$f":"IF(COUNT(X28)=0,\":\",SUM(X28))","v":":"},null,{"$f":"IF(COUNT(Z28)=0,\":\",SUM(Z28))","v":":"},null,{"$f":"IF(COUNT(AB28)=0,\":\",SUM(AB28))","v":":"},null,{"$f":"IF(COUNT(AD28)=0,\":\",SUM(AD28))","v":":"},null,{"$f":"IF(COUNT(AF28)=0,\":\",SUM(AF28))","v":":"},null,{"$f":"IF(COUNT(AH28)=0,\":\",SUM(AH28))","v":":"},null,{"$f":"IF(COUNT(AJ28)=0,\":\",SUM(AJ28))","v":":"},null,{"$f":"IF(COUNT(AL28)=0,\":\",SUM(AL28))","v":":"},null,{"$f":"IF(COUNT(AN28)=0,\":\",SUM(AN28))","v":":"},null,{"$f":"IF(COUNT(AP28)=0,\":\",SUM(AP28))","v":":"},null,{"$f":"IF(COUNT(AR28)=0,\":\",SUM(AR28))","v":":"},null,{"$f":"IF(COUNT(AT28)=0,\":\",SUM(AT28))","v":":"},null,{"$f":"IF(COUNT(AV28)=0,\":\",SUM(AV28))","v":":"},null,{"$f":"IF(COUNT(AX28)=0,\":\",SUM(AX28))","v":":"},null,{"$f":"IF(COUNT(AZ28)=0,\":\",SUM(AZ28))","v":":"},null,{"$f":"IF(COUNT(BB28)=0,\":\",SUM(BB28))","v":":"},null,{"$f":"IF(COUNT(BD28)=0,\":\",SUM(BD28))","v":":"},null,{"$f":"IF(COUNT(BF28)=0,\":\",SUM(BF28))","v":":"},null,{"$f":"IF(COUNT(BH28)=0,\":\",SUM(BH28))","v":":"}]
["E","E36-E39","Water supply, sewerage, waste management, remediation activities",{"$f":"IF(COUNT(D29:D30)=0,\":\",SUM(D29:D30))","v":":"},null,{"$f":"IF(COUNT(F29:F30)=0,\":\",SUM(F29:F30))","v":":"},null,{"$f":"IF(COUNT(H29:H30)=0,\":\",SUM(H29:H30))","v":":"},null,{"$f":"IF(COUNT(J29:J30)=0,\":\",SUM(J29:J30))","v":":"},null,{"$f":"IF(COUNT(L29:L30)=0,\":\",SUM(L29:L30))","v":":"},null,{"$f":"IF(COUNT(N29:N30)=0,\":\",SUM(N29:N30))","v":":"},null,{"$f":"IF(COUNT(P29:P30)=0,\":\",SUM(P29:P30))","v":":"},null,{"$f":"IF(COUNT(R29:R30)=0,\":\",SUM(R29:R30))","v":":"},null,{"$f":"IF(COUNT(T29:T30)=0,\":\",SUM(T29:T30))","v":":"},null,{"$f":"IF(COUNT(V29:V30)=0,\":\",SUM(V29:V30))","v":":"},null,{"$f":"IF(COUNT(X29:X30)=0,\":\",SUM(X29:X30))","v":":"},null,{"$f":"IF(COUNT(Z29:Z30)=0,\":\",SUM(Z29:Z30))","v":":"},null,{"$f":"IF(COUNT(AB29:AB30)=0,\":\",SUM(AB29:AB30))","v":":"},null,{"$f":"IF(COUNT(AD29:AD30)=0,\":\",SUM(AD29:AD30))","v":":"},null,{"$f":"IF(COUNT(AF29:AF30)=0,\":\",SUM(AF29:AF30))","v":":"},null,{"$f":"IF(COUNT(AH29:AH30)=0,\":\",SUM(AH29:AH30))","v":":"},null,{"$f":"IF(COUNT(AJ29:AJ30)=0,\":\",SUM(AJ29:AJ30))","v":":"},null,{"$f":"IF(COUNT(AL29:AL30)=0,\":\",SUM(AL29:AL30))","v":":"},null,{"$f":"IF(COUNT(AN29:AN30)=0,\":\",SUM(AN29:AN30))","v":":"},null,{"$f":"IF(COUNT(AP29:AP30)=0,\":\",SUM(AP29:AP30))","v":":"},null,{"$f":"IF(COUNT(AR29:AR30)=0,\":\",SUM(AR29:AR30))","v":":"},null,{"$f":"IF(COUNT(AT29:AT30)=0,\":\",SUM(AT29:AT30))","v":":"},null,{"$f":"IF(COUNT(AV29:AV30)=0,\":\",SUM(AV29:AV30))","v":":"},null,{"$f":"IF(COUNT(AX29:AX30)=0,\":\",SUM(AX29:AX30))","v":":"},null,{"$f":"IF(COUNT(AZ29:AZ30)=0,\":\",SUM(AZ29:AZ30))","v":":"},null,{"$f":"IF(COUNT(BB29:BB30)=0,\":\",SUM(BB29:BB30))","v":":"},null,{"$f":"IF(COUNT(BD29:BD30)=0,\":\",SUM(BD29:BD30))","v":":"},null,{"$f":"IF(COUNT(BF29:BF30)=0,\":\",SUM(BF29:BF30))","v":":"},null,{"$f":"IF(COUNT(BH29:BH30)=0,\":\",SUM(BH29:BH30))","v":":"},null,null,null,null,null,null,null,null,null,null,null,null,null,null,null,null,null,null,null,null,null,null,null,null,null,null,null,null,null,null,null,"TAX_EU","E","RUT","NRG"]
[null,"F41-F43","Construction ",{"$f":"IF(COUNT(D31)=0,\":\",SUM(D31))","v":":"},null,{"$f":"IF(COUNT(F31)=0,\":\",SUM(F31))","v":":"},null,{"$f":"IF(COUNT(H31)=0,\":\",SUM(H31))","v":":"},null,{"$f":"IF(COUNT(J31)=0,\":\",SUM(J31))","v":":"},null,{"$f":"IF(COUNT(L31)=0,\":\",SUM(L31))","v":":"},null,{"$f":"IF(COUNT(N31)=0,\":\",SUM(N31))","v":":"},null,{"$f":"IF(COUNT(P31)=0,\":\",SUM(P31))","v":":"},null,{"$f":"IF(COUNT(R31)=0,\":\",SUM(R31))","v":":"},null,{"$f":"IF(COUNT(T31)=0,\":\",SUM(T31))","v":":"},null,{"$f":"IF(COUNT(V31)=0,\":\",SUM(V31))","v":":"},null,{"$f":"IF(COUNT(X31)=0,\":\",SUM(X31))","v":":"},null,{"$f":"IF(COUNT(Z31)=0,\":\",SUM(Z31))","v":":"},null,{"$f":"IF(COUNT(AB31)=0,\":\",SUM(AB31))","v":":"},null,{"$f":"IF(COUNT(AD31)=0,\":\",SUM(AD31))","v":":"},null,{"$f":"IF(COUNT(AF31)=0,\":\",SUM(AF31))","v":":"},null,{"$f":"IF(COUNT(AH31)=0,\":\",SUM(AH31))","v":":"},null,{"$f":"IF(COUNT(AJ31)=0,\":\",SUM(AJ31))","v":":"},null,{"$f":"IF(COUNT(AL31)=0,\":\",SUM(AL31))","v":":"},null,{"$f":"IF(COUNT(AN31)=0,\":\",SUM(AN31))","v":":"},null,{"$f":"IF(COUNT(AP31)=0,\":\",SUM(AP31))","v":":"},null,{"$f":"IF(COUNT(AR31)=0,\":\",SUM(AR31))","v":":"},null,{"$f":"IF(COUNT(AT31)=0,\":\",SUM(AT31))","v":":"},null,{"$f":"IF(COUNT(AV31)=0,\":\",SUM(AV31))","v":":"},null,{"$f":"IF(COUNT(AX31)=0,\":\",SUM(AX31))","v":":"},null,{"$f":"IF(COUNT(AZ31)=0,\":\",SUM(AZ31))","v":":"},null,{"$f":"IF(COUNT(BB31)=0,\":\",SUM(BB31))","v":":"},null,{"$f":"IF(COUNT(BD31)=0,\":\",SUM(BD31))","v":":"},null,{"$f":"IF(COUNT(BF31)=0,\":\",SUM(BF31))","v":":"},null,{"$f":"IF(COUNT(BH31)=0,\":\",SUM(BH31))","v":":"}]
["G","G45-G47","Wholesale and retail trade; repair of motor vehicles and motorcycles",{"$f":"IF(COUNT(D32:D34)=0,\":\",SUM(D32:D34))","v":":"},null,{"$f":"IF(COUNT(F32:F34)=0,\":\",SUM(F32:F34))","v":":"},null,{"$f":"IF(COUNT(H32:H34)=0,\":\",SUM(H32:H34))","v":":"},null,{"$f":"IF(COUNT(J32:J34)=0,\":\",SUM(J32:J34))","v":":"},null,{"$f":"IF(COUNT(L32:L34)=0,\":\",SUM(L32:L34))","v":":"},null,{"$f":"IF(COUNT(N32:N34)=0,\":\",SUM(N32:N34))","v":":"},null,{"$f":"IF(COUNT(P32:P34)=0,\":\",SUM(P32:P34))","v":":"},null,{"$f":"IF(COUNT(R32:R34)=0,\":\",SUM(R32:R34))","v":":"},null,{"$f":"IF(COUNT(T32:T34)=0,\":\",SUM(T32:T34))","v":":"},null,{"$f":"IF(COUNT(V32:V34)=0,\":\",SUM(V32:V34))","v":":"},null,{"$f":"IF(COUNT(X32:X34)=0,\":\",SUM(X32:X34))","v":":"},null,{"$f":"IF(COUNT(Z32:Z34)=0,\":\",SUM(Z32:Z34))","v":":"},null,{"$f":"IF(COUNT(AB32:AB34)=0,\":\",SUM(AB32:AB34))","v":":"},null,{"$f":"IF(COUNT(AD32:AD34)=0,\":\",SUM(AD32:AD34))","v":":"},null,{"$f":"IF(COUNT(AF32:AF34)=0,\":\",SUM(AF32:AF34))","v":":"},null,{"$f":"IF(COUNT(AH32:AH34)=0,\":\",SUM(AH32:AH34))","v":":"},null,{"$f":"IF(COUNT(AJ32:AJ34)=0,\":\",SUM(AJ32:AJ34))","v":":"},null,{"$f":"IF(COUNT(AL32:AL34)=0,\":\",SUM(AL32:AL34))","v":":"},null,{"$f":"IF(COUNT(AN32:AN34)=0,\":\",SUM(AN32:AN34))","v":":"},null,{"$f":"IF(COUNT(AP32:AP34)=0,\":\",SUM(AP32:AP34))","v":":"},null,{"$f":"IF(COUNT(AR32:AR34)=0,\":\",SUM(AR32:AR34))","v":":"},null,{"$f":"IF(COUNT(AT32:AT34)=0,\":\",SUM(AT32:AT34))","v":":"},null,{"$f":"IF(COUNT(AV32:AV34)=0,\":\",SUM(AV32:AV34))","v":":"},null,{"$f":"IF(COUNT(AX32:AX34)=0,\":\",SUM(AX32:AX34))","v":":"},null,{"$f":"IF(COUNT(AZ32:AZ34)=0,\":\",SUM(AZ32:AZ34))","v":":"},null,{"$f":"IF(COUNT(BB32:BB34)=0,\":\",SUM(BB32:BB34))","v":":"},null,{"$f":"IF(COUNT(BD32:BD34)=0,\":\",SUM(BD32:BD34))","v":":"},null,{"$f":"IF(COUNT(BF32:BF34)=0,\":\",SUM(BF32:BF34))","v":":"},null,{"$f":"IF(COUNT(BH32:BH34)=0,\":\",SUM(BH32:BH34))","v":":"},null,null,null,null,null,null,null,null,null,null,null,null,null,null,null,null,null,null,null,null,null,null,null,null,null,null,null,null,null,null,null,"TAX_EU","G","RUT","NRG"]
["H","H49-H53","Transport and storage",{"$f":"IF(COUNT(D35:D39)=0,\":\",SUM(D35:D39))","v":":"},null,{"$f":"IF(COUNT(F35:F39)=0,\":\",SUM(F35:F39))","v":":"},null,{"$f":"IF(COUNT(H35:H39)=0,\":\",SUM(H35:H39))","v":":"},null,{"$f":"IF(COUNT(J35:J39)=0,\":\",SUM(J35:J39))","v":":"},null,{"$f":"IF(COUNT(L35:L39)=0,\":\",SUM(L35:L39))","v":":"},null,{"$f":"IF(COUNT(N35:N39)=0,\":\",SUM(N35:N39))","v":":"},null,{"$f":"IF(COUNT(P35:P39)=0,\":\",SUM(P35:P39))","v":":"},null,{"$f":"IF(COUNT(R35:R39)=0,\":\",SUM(R35:R39))","v":":"},null,{"$f":"IF(COUNT(T35:T39)=0,\":\",SUM(T35:T39))","v":":"},null,{"$f":"IF(COUNT(V35:V39)=0,\":\",SUM(V35:V39))","v":":"},null,{"$f":"IF(COUNT(X35:X39)=0,\":\",SUM(X35:X39))","v":":"},null,{"$f":"IF(COUNT(Z35:Z39)=0,\":\",SUM(Z35:Z39))","v":":"},null,{"$f":"IF(COUNT(AB35:AB39)=0,\":\",SUM(AB35:AB39))","v":":"},null,{"$f":"IF(COUNT(AD35:AD39)=0,\":\",SUM(AD35:AD39))","v":":"},null,{"$f":"IF(COUNT(AF35:AF39)=0,\":\",SUM(AF35:AF39))","v":":"},null,{"$f":"IF(COUNT(AH35:AH39)=0,\":\",SUM(AH35:AH39))","v":":"},null,{"$f":"IF(COUNT(AJ35:AJ39)=0,\":\",SUM(AJ35:AJ39))","v":":"},null,{"$f":"IF(COUNT(AL35:AL39)=0,\":\",SUM(AL35:AL39))","v":":"},null,{"$f":"IF(COUNT(AN35:AN39)=0,\":\",SUM(AN35:AN39))","v":":"},null,{"$f":"IF(COUNT(AP35:AP39)=0,\":\",SUM(AP35:AP39))","v":":"},null,{"$f":"IF(COUNT(AR35:AR39)=0,\":\",SUM(AR35:AR39))","v":":"},null,{"$f":"IF(COUNT(AT35:AT39)=0,\":\",SUM(AT35:AT39))","v":":"},null,{"$f":"IF(COUNT(AV35:AV39)=0,\":\",SUM(AV35:AV39))","v":":"},null,{"$f":"IF(COUNT(AX35:AX39)=0,\":\",SUM(AX35:AX39))","v":":"},null,{"$f":"IF(COUNT(AZ35:AZ39)=0,\":\",SUM(AZ35:AZ39))","v":":"},null,{"$f":"IF(COUNT(BB35:BB39)=0,\":\",SUM(BB35:BB39))","v":":"},null,{"$f":"IF(COUNT(BD35:BD39)=0,\":\",SUM(BD35:BD39))","v":":"},null,{"$f":"IF(COUNT(BF35:BF39)=0,\":\",SUM(BF35:BF39))","v":":"},null,{"$f":"IF(COUNT(BH35:BH39)=0,\":\",SUM(BH35:BH39))","v":":"},null,null,null,null,null,null,null,null,null,null,null,null,null,null,null,null,null,null,null,null,null,null,null,null,null,null,null,null,null,null,null,"TAX_EU","H","RUT","NRG"]
["I-U","I-U","Services (except wholesale and retail trade, transportation and storage)",{"$f":"IF(COUNT(D40:D68)=0,\":\",SUM(D40:D68))","v":":"},null,{"$f":"IF(COUNT(F40:F68)=0,\":\",SUM(F40:F68))","v":":"},null,{"$f":"IF(COUNT(H40:H68)=0,\":\",SUM(H40:H68))","v":":"},null,{"$f":"IF(COUNT(J40:J68)=0,\":\",SUM(J40:J68))","v":":"},null,{"$f":"IF(COUNT(L40:L68)=0,\":\",SUM(L40:L68))","v":":"},null,{"$f":"IF(COUNT(N40:N68)=0,\":\",SUM(N40:N68))","v":":"},null,{"$f":"IF(COUNT(P40:P68)=0,\":\",SUM(P40:P68))","v":":"},null,{"$f":"IF(COUNT(R40:R68)=0,\":\",SUM(R40:R68))","v":":"},null,{"$f":"IF(COUNT(T40:T68)=0,\":\",SUM(T40:T68))","v":":"},null,{"$f":"IF(COUNT(V40:V68)=0,\":\",SUM(V40:V68))","v":":"},null,{"$f":"IF(COUNT(X40:X68)=0,\":\",SUM(X40:X68))","v":":"},null,{"$f":"IF(COUNT(Z40:Z68)=0,\":\",SUM(Z40:Z68))","v":":"},null,{"$f":"IF(COUNT(AB40:AB68)=0,\":\",SUM(AB40:AB68))","v":":"},null,{"$f":"IF(COUNT(AD40:AD68)=0,\":\",SUM(AD40:AD68))","v":":"},null,{"$f":"IF(COUNT(AF40:AF68)=0,\":\",SUM(AF40:AF68))","v":":"},null,{"$f":"IF(COUNT(AH40:AH68)=0,\":\",SUM(AH40:AH68))","v":":"},null,{"$f":"IF(COUNT(AJ40:AJ68)=0,\":\",SUM(AJ40:AJ68))","v":":"},null,{"$f":"IF(COUNT(AL40:AL68)=0,\":\",SUM(AL40:AL68))","v":":"},null,{"$f":"IF(COUNT(AN40:AN68)=0,\":\",SUM(AN40:AN68))","v":":"},null,{"$f":"IF(COUNT(AP40:AP68)=0,\":\",SUM(AP40:AP68))","v":":"},null,{"$f":"IF(COUNT(AR40:AR68)=0,\":\",SUM(AR40:AR68))","v":":"},null,{"$f":"IF(COUNT(AT40:AT68)=0,\":\",SUM(AT40:AT68))","v":":"},null,{"$f":"IF(COUNT(AV40:AV68)=0,\":\",SUM(AV40:AV68))","v":":"},null,{"$f":"IF(COUNT(AX40:AX68)=0,\":\",SUM(AX40:AX68))","v":":"},null,{"$f":"IF(COUNT(AZ40:AZ68)=0,\":\",SUM(AZ40:AZ68))","v":":"},null,{"$f":"IF(COUNT(BB40:BB68)=0,\":\",SUM(BB40:BB68))","v":":"},null,{"$f":"IF(COUNT(BD40:BD68)=0,\":\",SUM(BD40:BD68))","v":":"},null,{"$f":"IF(COUNT(BF40:BF68)=0,\":\",SUM(BF40:BF68))","v":":"},null,{"$f":"IF(COUNT(BH40:BH68)=0,\":\",SUM(BH40:BH68))","v":":"},null,null,null,null,null,null,null,null,null,null,null,null,null,null,null,null,null,null,null,null,null,null,null,null,null,null,null,null,null,null,null,"TAX_EU","ITU","RUT","NRG"]
["TOTAL","TOTAL","Total - All NACE activities",{"$f":"IF(COUNT(D79:D87)=0,\":\",SUM(D79:D87))","v":":"},null,{"$f":"IF(COUNT(F79:F87)=0,\":\",SUM(F79:F87))","v":":"},null,{"$f":"IF(COUNT(H79:H87)=0,\":\",SUM(H79:H87))","v":":"},null,{"$f":"IF(COUNT(J79:J87)=0,\":\",SUM(J79:J87))","v":":"},null,{"$f":"IF(COUNT(L79:L87)=0,\":\",SUM(L79:L87))","v":":"},null,{"$f":"IF(COUNT(N79:N87)=0,\":\",SUM(N79:N87))","v":":"},null,{"$f":"IF(COUNT(P79:P87)=0,\":\",SUM(P79:P87))","v":":"},null,{"$f":"IF(COUNT(R79:R87)=0,\":\",SUM(R79:R87))","v":":"},null,{"$f":"IF(COUNT(T79:T87)=0,\":\",SUM(T79:T87))","v":":"},null,{"$f":"IF(COUNT(V79:V87)=0,\":\",SUM(V79:V87))","v":":"},null,{"$f":"IF(COUNT(X79:X87)=0,\":\",SUM(X79:X87))","v":":"},null,{"$f":"IF(COUNT(Z79:Z87)=0,\":\",SUM(Z79:Z87))","v":":"},null,{"$f":"IF(COUNT(AB79:AB87)=0,\":\",SUM(AB79:AB87))","v":":"},null,{"$f":"IF(COUNT(AD79:AD87)=0,\":\",SUM(AD79:AD87))","v":":"},null,{"$f":"IF(COUNT(AF79:AF87)=0,\":\",SUM(AF79:AF87))","v":":"},null,{"$f":"IF(COUNT(AH79:AH87)=0,\":\",SUM(AH79:AH87))","v":":"},null,{"$f":"IF(COUNT(AJ79:AJ87)=0,\":\",SUM(AJ79:AJ87))","v":":"},null,{"$f":"IF(COUNT(AL79:AL87)=0,\":\",SUM(AL79:AL87))","v":":"},null,{"$f":"IF(COUNT(AN79:AN87)=0,\":\",SUM(AN79:AN87))","v":":"},null,{"$f":"IF(COUNT(AP79:AP87)=0,\":\",SUM(AP79:AP87))","v":":"},null,{"$f":"IF(COUNT(AR79:AR87)=0,\":\",SUM(AR79:AR87))","v":":"},null,{"$f":"IF(COUNT(AT79:AT87)=0,\":\",SUM(AT79:AT87))","v":":"},null,{"$f":"IF(COUNT(AV79:AV87)=0,\":\",SUM(AV79:AV87))","v":":"},null,{"$f":"IF(COUNT(AX79:AX87)=0,\":\",SUM(AX79:AX87))","v":":"},null,{"$f":"IF(COUNT(AZ79:AZ87)=0,\":\",SUM(AZ79:AZ87))","v":":"},null,{"$f":"IF(COUNT(BB79:BB87)=0,\":\",SUM(BB79:BB87))","v":":"},null,{"$f":"IF(COUNT(BD79:BD87)=0,\":\",SUM(BD79:BD87))","v":":"},null,{"$f":"IF(COUNT(BF79:BF87)=0,\":\",SUM(BF79:BF87))","v":":"},null,{"$f":"IF(COUNT(BH79:BH87)=0,\":\",SUM(BH79:BH87))","v":":"},null,null,null,null,null,null,null,null,null,null,null,null,null,null,null,null,null,null,null,null,null,null,null,null,null,null,null,null,null,null,null,"TAX_EU","ATU","RUT","NRG"]

{"sheet":"Other CO2 taxes","index":4,"n_rows":88,"n_cols":157,"rows_kept":88,"cut":false,"hidden":false,"merged":[[0,94,2,94],[0,95,2,95],[0,96,2,96],[3,1,3,2],[77,1,77,2],[0,91,2,91],[0,92,2,92],[0,93,2,93]]}
[null,"Country:",{"$f":"'Countries codes'!D4","v":"AL "},null,null,null,null,null,null,null,null,"Tolerance",null,null,null,null,null,null,null,null,null,null,null,null,null,null,null,null,null,null,null,null,null,null,null,null,null,null,null,null,null,null,null,null,null,null,null,null,null,null,null,null,null,null,null,null,null,null,null,null,null,null,null,null,null,null,null,null,null,null,null,null,null,null,null,null,null,null,null,null,null,null,null,null,null,null,null,null,null,null,null,"TAX_REP","INTERACTORS","BRIDGE_ITEMS","TAX","UNIT_MEASURE","UNIT_MULT"]
[null,"CO2 taxes_other","OTH",null,null,null,null,null,null,null,null,{"$f":"5","v":5}]
[null,"Unit:","million national currency","MIO_NAC"]
["Ind","NACE Rev. 2 A*64 industry classification",null,"1995","footnotes",1996,"footnotes",1997,"footnotes",1998,"footnotes",1999,"footnotes",2000,"footnotes",2001,"footnotes",2002,"footnotes",2003,"footnotes",2004,"footnotes",2005,"footnotes",2006,"footnotes",2007,"footnotes",2008,"footnotes",2009,"footnotes",2010,"footnotes",2011,"footnotes",2012,"footnotes",2013,"footnotes",2014,"footnotes",2015,"footnotes",2016,"footnotes",2017,"footnotes",2018,"footnotes",2019,"footnotes",2020,"footnotes",2021,"footnotes",2022,"footnotes",2023,"footnotes",null,null,null,null,null,null,null,null,null,null,null,null,null,null,null,null,null,null,null,null,null,null,null,null,null,null,null,null,null,null,null,null,null,null,null,null,null,null,null,null,{"$f":"D4","v":"1995"},"footnotes",1996,"footnotes",1997,"footnotes",1998,"footnotes",1999,"footnotes",2000,"footnotes",2001,"footnotes",2002,"footnotes",2003,"footnotes",2004,"footnotes",2005,"footnotes",2006,"footnotes",2007,"footnotes",2008,"footnotes",2009,"footnotes",2010,"footnotes",{"$f":"AJ4","v":2011},"footnotes",2012,"footnotes",2013,"footnotes",2014,"footnotes",2015,"footnotes",2016,"footnotes",2017,"footnotes",2018,"footnotes",2019,"footnotes",2020,"footnotes",2021,"footnotes",{"$f":"BH4","v":2023},"footnotes"]
["A01","A01","Crop and animal production, hunting and related service activities",null,null,null,null,null,null,null,null,null,null,null,null,null,null,null,null,null,null,null,null,null,null,null,null,null,null,null,null,null,null,null,null,null,null,null,null,null,null,null,null,null,null,null,null,null,null,null,null,null,null,null,null,null,null,null,null,null,null,null,null,null,null,null,null,null,null,null,null,null,null,null,null,null,null,null,null,null,null,null,null,null,null,null,null,null,null,null,null,"TAX_EU","A01","RUT","NRG","XDC",6]
["A02","A02","Forestry and logging ",null,null,null,null,null,null,null,null,null,null,null,null,null,null,null,null,null,null,null,null,null,null,null,null,null,null,null,null,null,null,null,null,null,null,null,null,null,null,null,null,null,null,null,null,null,null,null,null,null,null,null,null,null,null,null,null,null,null,null,null,null,null,null,null,null,null,null,null,null,null,null,null,null,null,null,null,null,null,null,null,null,null,null,null,null,null,null,null,"TAX_EU","A02","RUT","NRG"]
["A03","A03","Fishing and aquaculture",null,null,null,null,null,null,null,null,null,null,null,null,null,null,null,null,null,null,null,null,null,null,null,null,null,null,null,null,null,null,null,null,null,null,null,null,null,null,null,null,null,null,null,null,null,null,null,null,null,null,null,null,null,null,null,null,null,null,null,null,null,null,null,null,null,null,null,null,null,null,null,null,null,null,null,null,null,null,null,null,null,null,null,null,null,null,null,null,"TAX_EU","A03","RUT","NRG"]
["B","B05-B09","Mining and quarrying",null,null,null,null,null,null,null,null,null,null,null,null,null,null,null,null,null,null,null,null,null,null,null,null,null,null,null,null,null,null,null,null,null,null,null,null,null,null,null,null,null,null,null,null,null,null,null,null,null,null,null,null,null,null,null,null,null,null,null,null,null,null,null,null,null,null,null,null,null,null,null,null,null,null,null,null,null,null,null,null,null,null,null,null,null,null,null,null,"TAX_EU","B","RUT","NRG"]
["C10-C12","C10-C12","Manufacture of food products, beverages and tobacco products",null,null,null,null,null,null,null,null,null,null,null,null,null,null,null,null,null,null,null,null,null,null,null,null,null,null,null,null,null,null,null,null,null,null,null,null,null,null,null,null,null,null,null,null,null,null,null,null,null,null,null,null,null,null,null,null,null,null,null,null,null,null,null,null,null,null,null,null,null,null,null,null,null,null,null,null,null,null,null,null,null,null,null,null,null,null,null,null,"TAX_EU","C10T12","RUT","NRG"]
["C13-C15","C13-C15","Manufacture of textiles, wearing apparel and leather products",null,null,null,null,null,null,null,null,null,null,null,null,null,null,null,null,null,null,null,null,null,null,null,null,null,null,null,null,null,null,null,null,null,null,null,null,null,null,null,null,null,null,null,null,null,null,null,null,null,null,null,null,null,null,null,null,null,null,null,null,null,null,null,null,null,null,null,null,null,null,null,null,null,null,null,null,null,null,null,null,null,null,null,null,null,null,null,null,"TAX_EU","C13T15","RUT","NRG"]
["C16","C16","Manufacture of wood and of products of wood and cork, except furniture; manufacture of articles of straw and plaiting materials",null,null,null,null,null,null,null,null,null,null,null,null,null,null,null,null,null,null,null,null,null,null,null,null,null,null,null,null,null,null,null,null,null,null,null,null,null,null,null,null,null,null,null,null,null,null,null,null,null,null,null,null,null,null,null,null,null,null,null,null,null,null,null,null,null,null,null,null,null,null,null,null,null,null,null,null,null,null,null,null,null,null,null,null,null,null,null,null,"TAX_EU","C16","RUT","NRG"]
["C17","C17","Manufacture of paper and paper products",null,null,null,null,null,null,null,null,null,null,null,null,null,null,null,null,null,null,null,null,null,null,null,null,null,null,null,null,null,null,null,null,null,null,null,null,null,null,null,null,null,null,null,null,null,null,null,null,null,null,null,null,null,null,null,null,null,null,null,null,null,null,null,null,null,null,null,null,null,null,null,null,null,null,null,null,null,null,null,null,null,null,null,null,null,null,null,null,"TAX_EU","C17","RUT","NRG"]
["C18","C18","Printing and reproduction of recorded media",null,null,null,null,null,null,null,null,null,null,null,null,null,null,null,null,null,null,null,null,null,null,null,null,null,null,null,null,null,null,null,null,null,null,null,null,null,null,null,null,null,null,null,null,null,null,null,null,null,null,null,null,null,null,null,null,null,null,null,null,null,null,null,null,null,null,null,null,null,null,null,null,null,null,null,null,null,null,null,null,null,null,null,null,null,null,null,null,"TAX_EU","C18","RUT","NRG"]
["C19","C19","Manufacture of coke and refined petroleum products ",null,null,null,null,null,null,null,null,null,null,null,null,null,null,null,null,null,null,null,null,null,null,null,null,null,null,null,null,null,null,null,null,null,null,null,null,null,null,null,null,null,null,null,null,null,null,null,null,null,null,null,null,null,null,null,null,null,null,null,null,null,null,null,null,null,null,null,null,null,null,null,null,null,null,null,null,null,null,null,null,null,null,null,null,null,null,null,null,"TAX_EU","C19","RUT","NRG"]
["C20","C20","Manufacture of chemicals and chemical products",null,null,null,null,null,null,null,null,null,null,null,null,null,null,null,null,null,null,null,null,null,null,null,null,null,null,null,null,null,null,null,null,null,null,null,null,null,null,null,null,null,null,null,null,null,null,null,null,null,null,null,null,null,null,null,null,null,null,null,null,null,null,null,null,null,null,null,null,null,null,null,null,null,null,null,null,null,null,null,null,null,null,null,null,null,null,null,null,"TAX_EU","C20","RUT","NRG"]
["C21","C21","Manufacture of basic pharmaceutical products and pharmaceutical preparations",null,null,null,null,null,null,null,null,null,null,null,null,null,null,null,null,null,null,null,null,null,null,null,null,null,null,null,null,null,null,null,null,null,null,null,null,null,null,null,null,null,null,null,null,null,null,null,null,null,null,null,null,null,null,null,null,null,null,null,null,null,null,null,null,null,null,null,null,null,null,null,null,null,null,null,null,null,null,null,null,null,null,null,null,null,null,null,null,"TAX_EU","C21","RUT","NRG"]
["C22","C22","Manufacture of rubber and plastic products",null,null,null,null,null,null,null,null,null,null,null,null,null,null,null,null,null,null,null,null,null,null,null,null,null,null,null,null,null,null,null,null,null,null,null,null,null,null,null,null,null,null,null,null,null,null,null,null,null,null,null,null,null,null,null,null,null,null,null,null,null,null,null,null,null,null,null,null,null,null,null,null,null,null,null,null,null,null,null,null,null,null,null,null,null,null,null,null,"TAX_EU","C22","RUT","NRG"]
["C23","C23","Manufacture of other non-metallic mineral products",null,null,null,null,null,null,null,null,null,null,null,null,null,null,null,null,null,null,null,null,null,null,null,null,null,null,null,null,null,null,null,null,null,null,null,null,null,null,null,null,null,null,null,null,null,null,null,null,null,null,null,null,null,null,null,null,null,null,null,null,null,null,null,null,null,null,null,null,null,null,null,null,null,null,null,null,null,null,null,null,null,null,null,null,null,null,null,null,"TAX_EU","C23","RUT","NRG"]
["C24","C24","Manufacture of basic metals",null,null,null,null,null,null,null,null,null,null,null,null,null,null,null,null,null,null,null,null,null,null,null,null,null,null,null,null,null,null,null,null,null,null,null,null,null,null,null,null,null,null,null,null,null,null,null,null,null,null,null,null,null,null,null,null,null,null,null,null,null,null,null,null,null,null,null,null,null,null,null,null,null,null,null,null,null,null,null,null,null,null,null,null,null,null,null,null,"TAX_EU","C24","RUT","NRG"]
["C25","C25","Manufacture of fabricated metal products, except machinery and equipment",null,null,null,null,null,null,null,null,null,null,null,null,null,null,null,null,null,null,null,null,null,null,null,null,null,null,null,null,null,null,null,null,null,null,null,null,null,null,null,null,null,null,null,null,null,null,null,null,null,null,null,null,null,null,null,null,null,null,null,null,null,null,null,null,null,null,null,null,null,null,null,null,null,null,null,null,null,null,null,null,null,null,null,null,null,null,null,null,"TAX_EU","C25","RUT","NRG"]
["C26","C26","Manufacture of computer, electronic and optical products",null,null,null,null,null,null,null,null,null,null,null,null,null,null,null,null,null,null,null,null,null,null,null,null,null,null,null,null,null,null,null,null,null,null,null,null,null,null,null,null,null,null,null,null,null,null,null,null,null,null,null,null,null,null,null,null,null,null,null,null,null,null,null,null,null,null,null,null,null,null,null,null,null,null,null,null,null,null,null,null,null,null,null,null,null,null,null,null,"TAX_EU","C26","RUT","NRG"]
["C27","C27","Manufacture of electrical equipment",null,null,null,null,null,null,null,null,null,null,null,null,null,null,null,null,null,null,null,null,null,null,null,null,null,null,null,null,null,null,null,null,null,null,null,null,null,null,null,null,null,null,null,null,null,null,null,null,null,null,null,null,null,null,null,null,null,null,null,null,null,null,null,null,null,null,null,null,null,null,null,null,null,null,null,null,null,null,null,null,null,null,null,null,null,null,null,null,"TAX_EU","C27","RUT","NRG"]
["C28","C28","Manufacture of machinery and equipment n.e.c.",null,null,null,null,null,null,null,null,null,null,null,null,null,null,null,null,null,null,null,null,null,null,null,null,null,null,null,null,null,null,null,null,null,null,null,null,null,null,null,null,null,null,null,null,null,null,null,null,null,null,null,null,null,null,null,null,null,null,null,null,null,null,null,null,null,null,null,null,null,null,null,null,null,null,null,null,null,null,null,null,null,null,null,null,null,null,null,null,"TAX_EU","C28","RUT","NRG"]
["C29","C29","Manufacture of motor vehicles, trailers and semi-trailers",null,null,null,null,null,null,null,null,null,null,null,null,null,null,null,null,null,null,null,null,null,null,null,null,null,null,null,null,null,null,null,null,null,null,null,null,null,null,null,null,null,null,null,null,null,null,null,null,null,null,null,null,null,null,null,null,null,null,null,null,null,null,null,null,null,null,null,null,null,null,null,null,null,null,null,null,null,null,null,null,null,null,null,null,null,null,null,null,"TAX_EU","C29","RUT","NRG"]
["C30","C30","Manufacture of other transport equipment",null,null,null,null,null,null,null,null,null,null,null,null,null,null,null,null,null,null,null,null,null,null,null,null,null,null,null,null,null,null,null,null,null,null,null,null,null,null,null,null,null,null,null,null,null,null,null,null,null,null,null,null,null,null,null,null,null,null,null,null,null,null,null,null,null,null,null,null,null,null,null,null,null,null,null,null,null,null,null,null,null,null,null,null,null,null,null,null,"TAX_EU","C30","RUT","NRG"]
["C31_C32","C31-C32","Manufacture of furniture; other manufacturing",null,null,null,null,null,null,null,null,null,null,null,null,null,null,null,null,null,null,null,null,null,null,null,null,null,null,null,null,null,null,null,null,null,null,null,null,null,null,null,null,null,null,null,null,null,null,null,null,null,null,null,null,null,null,null,null,null,null,null,null,null,null,null,null,null,null,null,null,null,null,null,null,null,null,null,null,null,null,null,null,null,null,null,null,null,null,null,null,"TAX_EU","C31_32","RUT","NRG"]
["C33","C33","Repair and installation of machinery and equipment",null,null,null,null,null,null,null,null,null,null,null,null,null,null,null,null,null,null,null,null,null,null,null,null,null,null,null,null,null,null,null,null,null,null,null,null,null,null,null,null,null,null,null,null,null,null,null,null,null,null,null,null,null,null,null,null,null,null,null,null,null,null,null,null,null,null,null,null,null,null,null,null,null,null,null,null,null,null,null,null,null,null,null,null,null,null,null,null,"TAX_EU","C33","RUT","NRG"]
["D35","D35","Electricity, gas, steam and air conditioning supply",null,null,null,null,null,null,null,null,null,null,null,null,null,null,null,null,null,null,null,null,null,null,null,null,null,null,null,null,null,null,null,null,null,null,null,null,null,null,null,null,null,null,null,null,null,null,null,null,null,null,null,null,null,null,null,null,null,null,null,null,null,null,null,null,null,null,null,null,null,null,null,null,null,null,null,null,null,null,null,null,null,null,null,null,null,null,null,null,"TAX_EU","D","RUT","NRG"]
["E36","E36","Water collection, treatment and supply",null,null,null,null,null,null,null,null,null,null,null,null,null,null,null,null,null,null,null,null,null,null,null,null,null,null,null,null,null,null,null,null,null,null,null,null,null,null,null,null,null,null,null,null,null,null,null,null,null,null,null,null,null,null,null,null,null,null,null,null,null,null,null,null,null,null,null,null,null,null,null,null,null,null,null,null,null,null,null,null,null,null,null,null,null,null,null,null,"TAX_EU","E36","RUT","NRG"]
["E37-E39","E37-E39","Sewerage, waste collection, treatment and disposal activities; materials recovery; remediation activities and other waste management services ",null,null,null,null,null,null,null,null,null,null,null,null,null,null,null,null,null,null,null,null,null,null,null,null,null,null,null,null,null,null,null,null,null,null,null,null,null,null,null,null,null,null,null,null,null,null,null,null,null,null,null,null,null,null,null,null,null,null,null,null,null,null,null,null,null,null,null,null,null,null,null,null,null,null,null,null,null,null,null,null,null,null,null,null,null,null,null,null,"TAX_EU","E37T39","RUT","NRG"]
["F","F41-F43","Construction ",null,null,null,null,null,null,null,null,null,null,null,null,null,null,null,null,null,null,null,null,null,null,null,null,null,null,null,null,null,null,null,null,null,null,null,null,null,null,null,null,null,null,null,null,null,null,null,null,null,null,null,null,null,null,null,null,null,null,null,null,null,null,null,null,null,null,null,null,null,null,null,null,null,null,null,null,null,null,null,null,null,null,null,null,null,null,null,null,"TAX_EU","F","RUT","NRG"]
["G45","G45","Wholesale and retail trade and repair of motor vehicles and motorcycles",null,null,null,null,null,null,null,null,null,null,null,null,null,null,null,null,null,null,null,null,null,null,null,null,null,null,null,null,null,null,null,null,null,null,null,null,null,null,null,null,null,null,null,null,null,null,null,null,null,null,null,null,null,null,null,null,null,null,null,null,null,null,null,null,null,null,null,null,null,null,null,null,null,null,null,null,null,null,null,null,null,null,null,null,null,null,null,null,"TAX_EU","G45","RUT","NRG"]
["G46","G46","Wholesale trade, except of motor vehicles and motorcycles",null,null,null,null,null,null,null,null,null,null,null,null,null,null,null,null,null,null,null,null,null,null,null,null,null,null,null,null,null,null,null,null,null,null,null,null,null,null,null,null,null,null,null,null,null,null,null,null,null,null,null,null,null,null,null,null,null,null,null,null,null,null,null,null,null,null,null,null,null,null,null,null,null,null,null,null,null,null,null,null,null,null,null,null,null,null,null,null,"TAX_EU","G46","RUT","NRG"]
["G47","G47","Retail trade, except of motor vehicles and motorcycles",null,null,null,null,null,null,null,null,null,null,null,null,null,null,null,null,null,null,null,null,null,null,null,null,null,null,null,null,null,null,null,null,null,null,null,null,null,null,null,null,null,null,null,null,null,null,null,null,null,null,null,null,null,null,null,null,null,null,null,null,null,null,null,null,null,null,null,null,null,null,null,null,null,null,null,null,null,null,null,null,null,null,null,null,null,null,null,null,"TAX_EU","G47","RUT","NRG"]
["H49","H49","Land transport and transport via pipelines",null,null,null,null,null,null,null,null,null,null,null,null,null,null,null,null,null,null,null,null,null,null,null,null,null,null,null,null,null,null,null,null,null,null,null,null,null,null,null,null,null,null,null,null,null,null,null,null,null,null,null,null,null,null,null,null,null,null,null,null,null,null,null,null,null,null,null,null,null,null,null,null,null,null,null,null,null,null,null,null,null,null,null,null,null,null,null,null,"TAX_EU","H49","RUT","NRG"]
["H50","H50","Water transport",null,null,null,null,null,null,null,null,null,null,null,null,null,null,null,null,null,null,null,null,null,null,null,null,null,null,null,null,null,null,null,null,null,null,null,null,null,null,null,null,null,null,null,null,null,null,null,null,null,null,null,null,null,null,null,null,null,null,null,null,null,null,null,null,null,null,null,null,null,null,null,null,null,null,null,null,null,null,null,null,null,null,null,null,null,null,null,null,"TAX_EU","H50","RUT","NRG"]
["H51","H51","Air transport",null,null,null,null,null,null,null,null,null,null,null,null,null,null,null,null,null,null,null,null,null,null,null,null,null,null,null,null,null,null,null,null,null,null,null,null,null,null,null,null,null,null,null,null,null,null,null,null,null,null,null,null,null,null,null,null,null,null,null,null,null,null,null,null,null,null,null,null,null,null,null,null,null,null,null,null,null,null,null,null,null,null,null,null,null,null,null,null,"TAX_EU","H51","RUT","NRG"]
["H52","H52","Warehousing and support activities for transportation",null,null,null,null,null,null,null,null,null,null,null,null,null,null,null,null,null,null,null,null,null,null,null,null,null,null,null,null,null,null,null,null,null,null,null,null,null,null,null,null,null,null,null,null,null,null,null,null,null,null,null,null,null,null,null,null,null,null,null,null,null,null,null,null,null,null,null,null,null,null,null,null,null,null,null,null,null,null,null,null,null,null,null,null,null,null,null,null,"TAX_EU","H52","RUT","NRG"]
["H53","H53","Postal and courier activities",null,null,null,null,null,null,null,null,null,null,null,null,null,null,null,null,null,null,null,null,null,null,null,null,null,null,null,null,null,null,null,null,null,null,null,null,null,null,null,null,null,null,null,null,null,null,null,null,null,null,null,null,null,null,null,null,null,null,null,null,null,null,null,null,null,null,null,null,null,null,null,null,null,null,null,null,null,null,null,null,null,null,null,null,null,null,null,null,"TAX_EU","H53","RUT","NRG"]
["I","I55-I56","Accommodation; food and beverage service activities",null,null,null,null,null,null,null,null,null,null,null,null,null,null,null,null,null,null,null,null,null,null,null,null,null,null,null,null,null,null,null,null,null,null,null,null,null,null,null,null,null,null,null,null,null,null,null,null,null,null,null,null,null,null,null,null,null,null,null,null,null,null,null,null,null,null,null,null,null,null,null,null,null,null,null,null,null,null,null,null,null,null,null,null,null,null,null,null,"TAX_EU","I","RUT","NRG"]
["J58","J58","Publishing activities",null,null,null,null,null,null,null,null,null,null,null,null,null,null,null,null,null,null,null,null,null,null,null,null,null,null,null,null,null,null,null,null,null,null,null,null,null,null,null,null,null,null,null,null,null,null,null,null,null,null,null,null,null,null,null,null,null,null,null,null,null,null,null,null,null,null,null,null,null,null,null,null,null,null,null,null,null,null,null,null,null,null,null,null,null,null,null,null,"TAX_EU","J58","RUT","NRG"]
["J59_J60","J59-J60","Motion picture, video and television programme production, sound recording and music publishing activities;  programming and broadcasting activities",null,null,null,null,null,null,null,null,null,null,null,null,null,null,null,null,null,null,null,null,null,null,null,null,null,null,null,null,null,null,null,null,null,null,null,null,null,null,null,null,null,null,null,null,null,null,null,null,null,null,null,null,null,null,null,null,null,null,null,null,null,null,null,null,null,null,null,null,null,null,null,null,null,null,null,null,null,null,null,null,null,null,null,null,null,null,null,null,"TAX_EU","J59_60","RUT","NRG"]
["J61","J61","Telecommunications",null,null,null,null,null,null,null,null,null,null,null,null,null,null,null,null,null,null,null,null,null,null,null,null,null,null,null,null,null,null,null,null,null,null,null,null,null,null,null,null,null,null,null,null,null,null,null,null,null,null,null,null,null,null,null,null,null,null,null,null,null,null,null,null,null,null,null,null,null,null,null,null,null,null,null,null,null,null,null,null,null,null,null,null,null,null,null,null,"TAX_EU","J61","RUT","NRG"]
["J62_J63","J62-J63","Computer programming, consultancy and related activities; Information services activities",null,null,null,null,null,null,null,null,null,null,null,null,null,null,null,null,null,null,null,null,null,null,null,null,null,null,null,null,null,null,null,null,null,null,null,null,null,null,null,null,null,null,null,null,null,null,null,null,null,null,null,null,null,null,null,null,null,null,null,null,null,null,null,null,null,null,null,null,null,null,null,null,null,null,null,null,null,null,null,null,null,null,null,null,null,null,null,null,"TAX_EU","J62_63","RUT","NRG"]
["K64","K64","Financial service activities, except insurance and pension funding",null,null,null,null,null,null,null,null,null,null,null,null,null,null,null,null,null,null,null,null,null,null,null,null,null,null,null,null,null,null,null,null,null,null,null,null,null,null,null,null,null,null,null,null,null,null,null,null,null,null,null,null,null,null,null,null,null,null,null,null,null,null,null,null,null,null,null,null,null,null,null,null,null,null,null,null,null,null,null,null,null,null,null,null,null,null,null,null,"TAX_EU","K64","RUT","NRG"]
["K65","K65","Insurance, reinsurance and pension funding, except compulsory social security",null,null,null,null,null,null,null,null,null,null,null,null,null,null,null,null,null,null,null,null,null,null,null,null,null,null,null,null,null,null,null,null,null,null,null,null,null,null,null,null,null,null,null,null,null,null,null,null,null,null,null,null,null,null,null,null,null,null,null,null,null,null,null,null,null,null,null,null,null,null,null,null,null,null,null,null,null,null,null,null,null,null,null,null,null,null,null,null,"TAX_EU","K65","RUT","NRG"]
["K66","K66","Activities auxiliary to financial services and insurance activities",null,null,null,null,null,null,null,null,null,null,null,null,null,null,null,null,null,null,null,null,null,null,null,null,null,null,null,null,null,null,null,null,null,null,null,null,null,null,null,null,null,null,null,null,null,null,null,null,null,null,null,null,null,null,null,null,null,null,null,null,null,null,null,null,null,null,null,null,null,null,null,null,null,null,null,null,null,null,null,null,null,null,null,null,null,null,null,null,"TAX_EU","K66","RUT","NRG"]
["L","L68","Real estate activities",null,null,null,null,null,null,null,null,null,null,null,null,null,null,null,null,null,null,null,null,null,null,null,null,null,null,null,null,null,null,null,null,null,null,null,null,null,null,null,null,null,null,null,null,null,null,null,null,null,null,null,null,null,null,null,null,null,null,null,null,null,null,null,null,null,null,null,null,null,null,null,null,null,null,null,null,null,null,null,null,null,null,null,null,null,null,null,null,"TAX_EU","L","RUT","NRG"]
["M69_M70","M69-M70","Legal and accounting activities; activities of head offices; management consultancy activities",null,null,null,null,null,null,null,null,null,null,null,null,null,null,null,null,null,null,null,null,null,null,null,null,null,null,null,null,null,null,null,null,null,null,null,null,null,null,null,null,null,null,null,null,null,null,null,null,null,null,null,null,null,null,null,null,null,null,null,null,null,null,null,null,null,null,null,null,null,null,null,null,null,null,null,null,null,null,null,null,null,null,null,null,null,null,null,null,"TAX_EU","M69_70","RUT","NRG"]
["M71","M71","Architectural and engineering activities; technical testing and analysis",null,null,null,null,null,null,null,null,null,null,null,null,null,null,null,null,null,null,null,null,null,null,null,null,null,null,null,null,null,null,null,null,null,null,null,null,null,null,null,null,null,null,null,null,null,null,null,null,null,null,null,null,null,null,null,null,null,null,null,null,null,null,null,null,null,null,null,null,null,null,null,null,null,null,null,null,null,null,null,null,null,null,null,null,null,null,null,null,"TAX_EU","M71","RUT","NRG"]
["M72","M72","Scientific research and development",null,null,null,null,null,null,null,null,null,null,null,null,null,null,null,null,null,null,null,null,null,null,null,null,null,null,null,null,null,null,null,null,null,null,null,null,null,null,null,null,null,null,null,null,null,null,null,null,null,null,null,null,null,null,null,null,null,null,null,null,null,null,null,null,null,null,null,null,null,null,null,null,null,null,null,null,null,null,null,null,null,null,null,null,null,null,null,null,"TAX_EU","M72","RUT","NRG"]
["M73","M73","Advertising and market research",null,null,null,null,null,null,null,null,null,null,null,null,null,null,null,null,null,null,null,null,null,null,null,null,null,null,null,null,null,null,null,null,null,null,null,null,null,null,null,null,null,null,null,null,null,null,null,null,null,null,null,null,null,null,null,null,null,null,null,null,null,null,null,null,null,null,null,null,null,null,null,null,null,null,null,null,null,null,null,null,null,null,null,null,null,null,null,null,"TAX_EU","M73","RUT","NRG"]
["M74_M75","M74-M75","Other professional, scientific and technical activities;veterinary activities",null,null,null,null,null,null,null,null,null,null,null,null,null,null,null,null,null,null,null,null,null,null,null,null,null,null,null,null,null,null,null,null,null,null,null,null,null,null,null,null,null,null,null,null,null,null,null,null,null,null,null,null,null,null,null,null,null,null,null,null,null,null,null,null,null,null,null,null,null,null,null,null,null,null,null,null,null,null,null,null,null,null,null,null,null,null,null,null,"TAX_EU","M74_75","RUT","NRG"]
["N77","N77","Rental and leasing activities",null,null,null,null,null,null,null,null,null,null,null,null,null,null,null,null,null,null,null,null,null,null,null,null,null,null,null,null,null,null,null,null,null,null,null,null,null,null,null,null,null,null,null,null,null,null,null,null,null,null,null,null,null,null,null,null,null,null,null,null,null,null,null,null,null,null,null,null,null,null,null,null,null,null,null,null,null,null,null,null,null,null,null,null,null,null,null,null,"TAX_EU","N77","RUT","NRG"]
["N78","N78","Employment activities",null,null,null,null,null,null,null,null,null,null,null,null,null,null,null,null,null,null,null,null,null,null,null,null,null,null,null,null,null,null,null,null,null,null,null,null,null,null,null,null,null,null,null,null,null,null,null,null,null,null,null,null,null,null,null,null,null,null,null,null,null,null,null,null,null,null,null,null,null,null,null,null,null,null,null,null,null,null,null,null,null,null,null,null,null,null,null,null,"TAX_EU","N78","RUT","NRG"]
["N79","N79","Travel agency, tour operator reservation service and related activities",null,null,null,null,null,null,null,null,null,null,null,null,null,null,null,null,null,null,null,null,null,null,null,null,null,null,null,null,null,null,null,null,null,null,null,null,null,null,null,null,null,null,null,null,null,null,null,null,null,null,null,null,null,null,null,null,null,null,null,null,null,null,null,null,null,null,null,null,null,null,null,null,null,null,null,null,null,null,null,null,null,null,null,null,null,null,null,null,"TAX_EU","N79","RUT","NRG"]
["N80-N82","N80-N82","Security and investigation activities; services to buildings and landscape activities;office administrative, office support and other business support activities",null,null,null,null,null,null,null,null,null,null,null,null,null,null,null,null,null,null,null,null,null,null,null,null,null,null,null,null,null,null,null,null,null,null,null,null,null,null,null,null,null,null,null,null,null,null,null,null,null,null,null,null,null,null,null,null,null,null,null,null,null,null,null,null,null,null,null,null,null,null,null,null,null,null,null,null,null,null,null,null,null,null,null,null,null,null,null,null,"TAX_EU","N80T82","RUT","NRG"]
["O84","O84","Public administration and defence; compulsory social security",null,null,null,null,null,null,null,null,null,null,null,null,null,null,null,null,null,null,null,null,null,null,null,null,null,null,null,null,null,null,null,null,null,null,null,null,null,null,null,null,null,null,null,null,null,null,null,null,null,null,null,null,null,null,null,null,null,null,null,null,null,null,null,null,null,null,null,null,null,null,null,null,null,null,null,null,null,null,null,null,null,null,null,null,null,null,null,null,"TAX_EU","O","RUT","NRG"]
["P85","P85","Education",null,null,null,null,null,null,null,null,null,null,null,null,null,null,null,null,null,null,null,null,null,null,null,null,null,null,null,null,null,null,null,null,null,null,null,null,null,null,null,null,null,null,null,null,null,null,null,null,null,null,null,null,null,null,null,null,null,null,null,null,null,null,null,null,null,null,null,null,null,null,null,null,null,null,null,null,null,null,null,null,null,null,null,null,null,null,null,null,"TAX_EU","P","RUT","NRG"]
["Q86","Q86","Human health activities",null,null,null,null,null,null,null,null,null,null,null,null,null,null,null,null,null,null,null,null,null,null,null,null,null,null,null,null,null,null,null,null,null,null,null,null,null,null,null,null,null,null,null,null,null,null,null,null,null,null,null,null,null,null,null,null,null,null,null,null,null,null,null,null,null,null,null,null,null,null,null,null,null,null,null,null,null,null,null,null,null,null,null,null,null,null,null,null,"TAX_EU","Q86","RUT","NRG"]
["Q87_Q88","Q87-Q88","Social work activities",null,null,null,null,null,null,null,null,null,null,null,null,null,null,null,null,null,null,null,null,null,null,null,null,null,null,null,null,null,null,null,null,null,null,null,null,null,null,null,null,null,null,null,null,null,null,null,null,null,null,null,null,null,null,null,null,null,null,null,null,null,null,null,null,null,null,null,null,null,null,null,null,null,null,null,null,null,null,null,null,null,null,null,null,null,null,null,null,"TAX_EU","Q87_88","RUT","NRG"]
["R90-R92","R90-R92","Creative, arts and entertainment activities; libraries, archives, museums and other cultural activities; gambling and betting activities",null,null,null,null,null,null,null,null,null,null,null,null,null,null,null,null,null,null,null,null,null,null,null,null,null,null,null,null,null,null,null,null,null,null,null,null,null,null,null,null,null,null,null,null,null,null,null,null,null,null,null,null,null,null,null,null,null,null,null,null,null,null,null,null,null,null,null,null,null,null,null,null,null,null,null,null,null,null,null,null,null,null,null,null,null,null,null,null,"TAX_EU","R90T92","RUT","NRG"]
["R93","R93","Sports activities and amusement and recreation activities",null,null,null,null,null,null,null,null,null,null,null,null,null,null,null,null,null,null,null,null,null,null,null,null,null,null,null,null,null,null,null,null,null,null,null,null,null,null,null,null,null,null,null,null,null,null,null,null,null,null,null,null,null,null,null,null,null,null,null,null,null,null,null,null,null,null,null,null,null,null,null,null,null,null,null,null,null,null,null,null,null,null,null,null,null,null,null,null,"TAX_EU","R93","RUT","NRG"]
["S94","S94","Activities of membership organisations",null,null,null,null,null,null,null,null,null,null,null,null,null,null,null,null,null,null,null,null,null,null,null,null,null,null,null,null,null,null,null,null,null,null,null,null,null,null,null,null,null,null,null,null,null,null,null,null,null,null,null,null,null,null,null,null,null,null,null,null,null,null,null,null,null,null,null,null,null,null,null,null,null,null,null,null,null,null,null,null,null,null,null,null,null,null,null,null,"TAX_EU","S94","RUT","NRG"]
["S95","S95","Repairs of computers and personal and household goods",null,null,null,null,null,null,null,null,null,null,null,null,null,null,null,null,null,null,null,null,null,null,null,null,null,null,null,null,null,null,null,null,null,null,null,null,null,null,null,null,null,null,null,null,null,null,null,null,null,null,null,null,null,null,null,null,null,null,null,null,null,null,null,null,null,null,null,null,null,null,null,null,null,null,null,null,null,null,null,null,null,null,null,null,null,null,null,null,"TAX_EU","S95","RUT","NRG"]
["S96","S96","Other personal service activities",null,null,null,null,null,null,null,null,null,null,null,null,null,null,null,null,null,null,null,null,null,null,null,null,null,null,null,null,null,null,null,null,null,null,null,null,null,null,null,null,null,null,null,null,null,null,null,null,null,null,null,null,null,null,null,null,null,null,null,null,null,null,null,null,null,null,null,null,null,null,null,null,null,null,null,null,null,null,null,null,null,null,null,null,null,null,null,null,"TAX_EU","S96","RUT","NRG"]
["T","T97-T98","Activities of households as employers; undifferentiated goods- and services-producing activities of households for own use",null,null,null,null,null,null,null,null,null,null,null,null,null,null,null,null,null,null,null,null,null,null,null,null,null,null,null,null,null,null,null,null,null,null,null,null,null,null,null,null,null,null,null,null,null,null,null,null,null,null,null,null,null,null,null,null,null,null,null,null,null,null,null,null,null,null,null,null,null,null,null,null,null,null,null,null,null,null,null,null,null,null,null,null,null,null,null,null,"TAX_EU","T","RUT","NRG"]
["U99","U99","Activities of extraterritorial organisations and bodies",null,null,null,null,null,null,null,null,null,null,null,null,null,null,null,null,null,null,null,null,null,null,null,null,null,null,null,null,null,null,null,null,null,null,null,null,null,null,null,null,null,null,null,null,null,null,null,null,null,null,null,null,null,null,null,null,null,null,null,null,null,null,null,null,null,null,null,null,null,null,null,null,null,null,null,null,null,null,null,null,null,null,null,null,null,null,null,null,"TAX_EU","U","RUT","NRG"]
["EP_HH","HH","Households",null,null,null,null,null,null,null,null,null,null,null,null,null,null,null,null,null,null,null,null,null,null,null,null,null,null,null,null,null,null,null,null,null,null,null,null,null,null,null,null,null,null,null,null,null,null,null,null,null,null,null,null,null,null,null,null,null,null,null,null,null,null,null,null,null,null,null,null,null,null,null,null,null,null,null,null,null,null,null,null,null,null,null,null,null,null,null,null,"TAX_EU","HH","RUT","NRG"]
["EP_NRES","NRES","Non-residents",null,null,null,null,null,null,null,null,null,null,null,null,null,null,null,null,null,null,null,null,null,null,null,null,null,null,null,null,null,null,null,null,null,null,null,null,null,null,null,null,null,null,null,null,null,null,null,null,null,null,null,null,null,null,null,null,null,null,null,null,null,null,null,null,null,null,null,null,null,null,null,null,null,null,null,null,null,null,null,null,null,null,null,null,null,null,null,null,"TAX_EU","_T","TER_NRES","NRG"]
["NAL","NAL","Not allocated",null,null,null,null,null,null,null,null,null,null,null,null,null,null,null,null,null,null,null,null,null,null,null,null,null,null,null,null,null,null,null,null,null,null,null,null,null,null,null,null,null,null,null,null,null,null,null,null,null,null,null,null,null,null,null,null,null,null,null,null,null,null,null,null,null,null,null,null,null,null,null,null,null,null,null,null,null,null,null,null,null,null,null,null,null,null,null,null,"TAX_EU","_X","RUT","NRG"]
["TOTAL_HH_NRES","TOT_OET","Total Other environmental related taxes ",{"$f":"IF(COUNT(D5:D71)=0,\":\",SUM(D5:D71))","v":":"},null,{"$f":"IF(COUNT(F5:F71)=0,\":\",SUM(F5:F71))","v":":"},null,{"$f":"IF(COUNT(H5:H71)=0,\":\",SUM(H5:H71))","v":":"},null,{"$f":"IF(COUNT(J5:J71)=0,\":\",SUM(J5:J71))","v":":"},null,{"$f":"IF(COUNT(L5:L71)=0,\":\",SUM(L5:L71))","v":":"},null,{"$f":"IF(COUNT(N5:N71)=0,\":\",SUM(N5:N71))","v":":"},null,{"$f":"IF(COUNT(P5:P71)=0,\":\",SUM(P5:P71))","v":":"},null,{"$f":"IF(COUNT(R5:R71)=0,\":\",SUM(R5:R71))","v":":"},null,{"$f":"IF(COUNT(T5:T71)=0,\":\",SUM(T5:T71))","v":":"},null,{"$f":"IF(COUNT(V5:V71)=0,\":\",SUM(V5:V71))","v":":"},null,{"$f":"IF(COUNT(X5:X71)=0,\":\",SUM(X5:X71))","v":":"},null,{"$f":"IF(COUNT(Z5:Z71)=0,\":\",SUM(Z5:Z71))","v":":"},null,{"$f":"IF(COUNT(AB5:AB71)=0,\":\",SUM(AB5:AB71))","v":":"},null,{"$f":"IF(COUNT(AD5:AD71)=0,\":\",SUM(AD5:AD71))","v":":"},null,{"$f":"IF(COUNT(AF5:AF71)=0,\":\",SUM(AF5:AF71))","v":":"},null,{"$f":"IF(COUNT(AH5:AH71)=0,\":\",SUM(AH5:AH71))","v":":"},null,{"$f":"IF(COUNT(AJ5:AJ71)=0,\":\",SUM(AJ5:AJ71))","v":":"},null,{"$f":"IF(COUNT(AL5:AL71)=0,\":\",SUM(AL5:AL71))","v":":"},null,{"$f":"IF(COUNT(AN5:AN71)=0,\":\",SUM(AN5:AN71))","v":":"},null,{"$f":"IF(COUNT(AP5:AP71)=0,\":\",SUM(AP5:AP71))","v":":"},null,{"$f":"IF(COUNT(AR5:AR71)=0,\":\",SUM(AR5:AR71))","v":":"},null,{"$f":"IF(COUNT(AT5:AT71)=0,\":\",SUM(AT5:AT71))","v":":"},null,{"$f":"IF(COUNT(AV5:AV71)=0,\":\",SUM(AV5:AV71))","v":":"},null,{"$f":"IF(COUNT(AX5:AX71)=0,\":\",SUM(AX5:AX71))","v":":"},null,{"$f":"IF(COUNT(AZ5:AZ71)=0,\":\",SUM(AZ5:AZ71))","v":":"},null,{"$f":"IF(COUNT(BB5:BB71)=0,\":\",SUM(BB5:BB71))","v":":"},null,{"$f":"IF(COUNT(BD5:BD71)=0,\":\",SUM(BD5:BD71))","v":":"},null,{"$f":"IF(COUNT(BF5:BF71)=0,\":\",SUM(BF5:BF71))","v":":"},null,{"$f":"IF(COUNT(BH5:BH71)=0,\":\",SUM(BH5:BH71))","v":":"},null,null,null,null,null,null,null,null,null,null,null,null,null,null,null,null,null,null,null,null,null,null,null,null,null,null,null,null,null,null,null,"TAX_EU","_T","TER","NRG"]
[null,"TOT_OET_NTL","Total Other environmental related from the NTL (for comparison and check)",null,null,null,null,null,null,null,null,null,null,null,null,null,null,null,null,null,null,null,null,null,null,null,null,null,null,null,null,null,null,null,null,null,null,null,null,null,null,null,null,null,null,null,null,null,null,null,null,null,null,null,null,null,null,null,null,{"$f":"IF(SUMIF('NTL_National Tax List'!$K$5:$K$300,\"E*\",'NTL_National Tax List'!AO5:AO300)=0,\":\",SUMIF('NTL_National Tax List'!$K$5:$K$300,\"E*\",'NTL_National Tax List'!AO5:AO300))","v":":"}]
[null,"TOT_OET_OET_NTL","% diff. Between total energy taxes and total energy taxes from the NTL",{"$f":"IFERROR((D72-D73)/D73*100,IFERROR((D72-D73)/D72*100,\":\"))","v":":"},null,{"$f":"IFERROR((F72-F73)/F73*100,IFERROR((F72-F73)/F72*100,\":\"))","v":":"},null,{"$f":"IFERROR((H72-H73)/H73*100,IFERROR((H72-H73)/H72*100,\":\"))","v":":"},null,{"$f":"IFERROR((J72-J73)/J73*100,IFERROR((J72-J73)/J72*100,\":\"))","v":":"},null,{"$f":"IFERROR((L72-L73)/L73*100,IFERROR((L72-L73)/L72*100,\":\"))","v":":"},null,{"$f":"IFERROR((N72-N73)/N73*100,IFERROR((N72-N73)/N72*100,\":\"))","v":":"},null,{"$f":"IFERROR((P72-P73)/P73*100,IFERROR((P72-P73)/P72*100,\":\"))","v":":"},null,{"$f":"IFERROR((R72-R73)/R73*100,IFERROR((R72-R73)/R72*100,\":\"))","v":":"},null,{"$f":"IFERROR((T72-T73)/T73*100,IFERROR((T72-T73)/T72*100,\":\"))","v":":"},null,{"$f":"IFERROR((V72-V73)/V73*100,IFERROR((V72-V73)/V72*100,\":\"))","v":":"},null,{"$f":"IFERROR((X72-X73)/X73*100,IFERROR((X72-X73)/X72*100,\":\"))","v":":"},null,{"$f":"IFERROR((Z72-Z73)/Z73*100,IFERROR((Z72-Z73)/Z72*100,\":\"))","v":":"},null,{"$f":"IFERROR((AB72-AB73)/AB73*100,IFERROR((AB72-AB73)/AB72*100,\":\"))","v":":"},null,{"$f":"IFERROR((AD72-AD73)/AD73*100,IFERROR((AD72-AD73)/AD72*100,\":\"))","v":":"},null,{"$f":"IFERROR((AF72-AF73)/AF73*100,IFERROR((AF72-AF73)/AF72*100,\":\"))","v":":"},null,{"$f":"IFERROR((AH72-AH73)/AH73*100,IFERROR((AH72-AH73)/AH72*100,\":\"))","v":":"},null,{"$f":"IFERROR((AJ72-AJ73)/AJ73*100,IFERROR((AJ72-AJ73)/AJ72*100,\":\"))","v":":"},null,{"$f":"IFERROR((AL72-AL73)/AL73*100,IFERROR((AL72-AL73)/AL72*100,\":\"))","v":":"},null,{"$f":"IFERROR((AN72-AN73)/AN73*100,IFERROR((AN72-AN73)/AN72*100,\":\"))","v":":"},null,{"$f":"IFERROR((AP72-AP73)/AP73*100,IFERROR((AP72-AP73)/AP72*100,\":\"))","v":":"},null,{"$f":"IFERROR((AR72-AR73)/AR73*100,IFERROR((AR72-AR73)/AR72*100,\":\"))","v":":"},null,{"$f":"IFERROR((AT72-AT73)/AT73*100,IFERROR((AT72-AT73)/AT72*100,\":\"))","v":":"},null,{"$f":"IFERROR((AV72-AV73)/AV73*100,IFERROR((AV72-AV73)/AV72*100,\":\"))","v":":"},null,{"$f":"IFERROR((AX72-AX73)/AX73*100,IFERROR((AX72-AX73)/AX72*100,\":\"))","v":":"},null,{"$f":"IFERROR((AZ72-AZ73)/AZ73*100,IFERROR((AZ72-AZ73)/AZ72*100,\":\"))","v":":"},null,{"$f":"IFERROR((BB72-BB73)/BB73*100,IFERROR((BB72-BB73)/BB72*100,\":\"))","v":":"},null,{"$f":"IFERROR((BD72-BD73)/BD73*100,IFERROR((BD72-BD73)/BD72*100,\":\"))","v":":"},null,{"$f":"IF(COUNT(BF72,BF73)=0,\":\",BF72+BF73)","v":":"},null,{"$f":"IFERROR((BH72-BH73)/BH73*100,IFERROR((BH72-BH73)/BH72*100,\":\"))","v":":"}]
[null,null,"Environmental taxes for national purposes (difference between total reported above and total published for national purposes)",null,null,null,null,null,null,null,null,null,null,null,null,null,null,null,null,null,null,null,null,null,null,null,null,null,null,null,null,null,null,null,null,null,null,null,null,null,null,null,null,null,null,null,null,null,null,null,null,null,null,null,null,null,null,null,null,null,null,null,null,null,null,null,null,null,null,null,null,null,null,null,null,null,null,null,null,null,null,null,null,null,null,null,null,null,null,null,null,"TAX_NAC","_T","RUT","NRG"]
[null,null,"Other environmentally related payments to government (fees and charges)",null,null,null,null,null,null,null,null,null,null,null,null,null,null,null,null,null,null,null,null,null,null,null,null,null,null,null,null,null,null,null,null,null,null,null,null,null,null,null,null,null,null,null,null,null,null,null,null,null,null,null,null,null,null,null,null,null,null,null,null,null,null,null,null,null,null,null,null,null,null,null,null,null,null,null,null,null,null,null,null,null,null,null,null,null,null,null,null,"FEE_NAC","_T","RUT","NRG"]
[]
[null,"NACE Rev. 2 aggregated industries classification ",null,{"$f":"D4","v":"1995"},"footnotes",1996,"footnotes",1997,"footnotes",1998,"footnotes",1999,"footnotes",2000,"footnotes",2001,"footnotes",2002,"footnotes",2003,"footnotes",2004,"footnotes",2005,"footnotes",2006,"footnotes",2007,"footnotes",2008,"footnotes",2009,"footnotes",2010,"footnotes",2011,"footnotes",2012,"footnotes",2013,"footnotes",2014,"footnotes",2015,"footnotes",2016,"footnotes",2017,"footnotes",2018,"footnotes",2019,"footnotes",2020,"footnotes",2021,{"$f":"BE4","v":"footnotes"},{"$f":"BF4","v":2022},{"$f":"BG4","v":"footnotes"},{"$f":"BH4","v":2023},{"$f":"BI4","v":"footnotes"}]
["A","A01-A03","Agriculture, forestry and fishing",{"$f":"IF(COUNT(D5,D6,D7)=0,\":\",SUM(D5,D6,D7))","v":":"},null,{"$f":"IF(COUNT(F5,F6,F7)=0,\":\",SUM(F5,F6,F7))","v":":"},null,{"$f":"IF(COUNT(H5,H6,H7)=0,\":\",SUM(H5,H6,H7))","v":":"},null,{"$f":"IF(COUNT(J5,J6,J7)=0,\":\",SUM(J5,J6,J7))","v":":"},null,{"$f":"IF(COUNT(L5,L6,L7)=0,\":\",SUM(L5,L6,L7))","v":":"},null,{"$f":"IF(COUNT(N5,N6,N7)=0,\":\",SUM(N5,N6,N7))","v":":"},null,{"$f":"IF(COUNT(P5,P6,P7)=0,\":\",SUM(P5,P6,P7))","v":":"},null,{"$f":"IF(COUNT(R5,R6,R7)=0,\":\",SUM(R5,R6,R7))","v":":"},null,{"$f":"IF(COUNT(T5,T6,T7)=0,\":\",SUM(T5,T6,T7))","v":":"},null,{"$f":"IF(COUNT(V5,V6,V7)=0,\":\",SUM(V5,V6,V7))","v":":"},null,{"$f":"IF(COUNT(X5,X6,X7)=0,\":\",SUM(X5,X6,X7))","v":":"},null,{"$f":"IF(COUNT(Z5,Z6,Z7)=0,\":\",SUM(Z5,Z6,Z7))","v":":"},null,{"$f":"IF(COUNT(AB5,AB6,AB7)=0,\":\",SUM(AB5,AB6,AB7))","v":":"},null,{"$f":"IF(COUNT(AD5,AD6,AD7)=0,\":\",SUM(AD5,AD6,AD7))","v":":"},null,{"$f":"IF(COUNT(AF5,AF6,AF7)=0,\":\",SUM(AF5,AF6,AF7))","v":":"},null,{"$f":"IF(COUNT(AH5,AH6,AH7)=0,\":\",SUM(AH5,AH6,AH7))","v":":"},null,{"$f":"IF(COUNT(AJ5,AJ6,AJ7)=0,\":\",SUM(AJ5,AJ6,AJ7))","v":":"},null,{"$f":"IF(COUNT(AL5,AL6,AL7)=0,\":\",SUM(AL5,AL6,AL7))","v":":"},null,{"$f":"IF(COUNT(AN5,AN6,AN7)=0,\":\",SUM(AN5,AN6,AN7))","v":":"},null,{"$f":"IF(COUNT(AP5,AP6,AP7)=0,\":\",SUM(AP5,AP6,AP7))","v":":"},null,{"$f":"IF(COUNT(AR5,AR6,AR7)=0,\":\",SUM(AR5,AR6,AR7))","v":":"},null,{"$f":"IF(COUNT(AT5,AT6,AT7)=0,\":\",SUM(AT5,AT6,AT7))","v":":"},null,{"$f":"IF(COUNT(AV5,AV6,AV7)=0,\":\",SUM(AV5,AV6,AV7))","v":":"},null,{"$f":"IF(COUNT(AX5,AX6,AX7)=0,\":\",SUM(AX5,AX6,AX7))","v":":"},null,{"$f":"IF(COUNT(AZ5,AZ6,AZ7)=0,\":\",SUM(AZ5,AZ6,AZ7))","v":":"},null,{"$f":"IF(COUNT(BB5,BB6,BB7)=0,\":\",SUM(BB5,BB6,BB7))","v":":"},null,{"$f":"IF(COUNT(BD5,BD6,BD7)=0,\":\",SUM(BD5,BD6,BD7))","v":":"},null,{"$f":"IF(COUNT(BF5,BF6,BF7)=0,\":\",SUM(BF5,BF6,BF7))","v":":"},null,{"$f":"IF(COUNT(BH5,BH6,BH7)=0,\":\",SUM(BH5,BH6,BH7))","v":":"},null,null,null,null,null,null,null,null,null,null,null,null,null,null,null,null,null,null,null,null,null,null,null,null,null,null,null,null,null,null,null,"TAX_EU","A","RUT","NRG"]
[null,"B05-B09","Mining and quarrying",{"$f":"IF(COUNT(D8)=0,\":\",SUM(D8))","v":":"},null,{"$f":"IF(COUNT(F8)=0,\":\",SUM(F8))","v":":"},null,{"$f":"IF(COUNT(H8)=0,\":\",SUM(H8))","v":":"},null,{"$f":"IF(COUNT(J8)=0,\":\",SUM(J8))","v":":"},null,{"$f":"IF(COUNT(L8)=0,\":\",SUM(L8))","v":":"},null,{"$f":"IF(COUNT(N8)=0,\":\",SUM(N8))","v":":"},null,{"$f":"IF(COUNT(P8)=0,\":\",SUM(P8))","v":":"},null,{"$f":"IF(COUNT(R8)=0,\":\",SUM(R8))","v":":"},null,{"$f":"IF(COUNT(T8)=0,\":\",SUM(T8))","v":":"},null,{"$f":"IF(COUNT(V8)=0,\":\",SUM(V8))","v":":"},null,{"$f":"IF(COUNT(X8)=0,\":\",SUM(X8))","v":":"},null,{"$f":"IF(COUNT(Z8)=0,\":\",SUM(Z8))","v":":"},null,{"$f":"IF(COUNT(AB8)=0,\":\",SUM(AB8))","v":":"},null,{"$f":"IF(COUNT(AD8)=0,\":\",SUM(AD8))","v":":"},null,{"$f":"IF(COUNT(AF8)=0,\":\",SUM(AF8))","v":":"},null,{"$f":"IF(COUNT(AH8)=0,\":\",SUM(AH8))","v":":"},null,{"$f":"IF(COUNT(AJ8)=0,\":\",SUM(AJ8))","v":":"},null,{"$f":"IF(COUNT(AL8)=0,\":\",SUM(AL8))","v":":"},null,{"$f":"IF(COUNT(AN8)=0,\":\",SUM(AN8))","v":":"},null,{"$f":"IF(COUNT(AP8)=0,\":\",SUM(AP8))","v":":"},null,{"$f":"IF(COUNT(AR8)=0,\":\",SUM(AR8))","v":":"},null,{"$f":"IF(COUNT(AT8)=0,\":\",SUM(AT8))","v":":"},null,{"$f":"IF(COUNT(AV8)=0,\":\",SUM(AV8))","v":":"},null,{"$f":"IF(COUNT(AX8)=0,\":\",SUM(AX8))","v":":"},null,{"$f":"IF(COUNT(AZ8)=0,\":\",SUM(AZ8))","v":":"},null,{"$f":"IF(COUNT(BB8)=0,\":\",SUM(BB8))","v":":"},null,{"$f":"IF(COUNT(BD8)=0,\":\",SUM(BD8))","v":":"},null,{"$f":"IF(COUNT(BF8)=0,\":\",SUM(BF8))","v":":"},null,{"$f":"IF(COUNT(BH8)=0,\":\",SUM(BH8))","v":":"}]
["C","C10-C33","Manufacturing",{"$f":"IF(COUNT(D9:D27)=0,\":\",SUM(D9:D27))","v":":"},null,{"$f":"IF(COUNT(F9:F27)=0,\":\",SUM(F9:F27))","v":":"},null,{"$f":"IF(COUNT(H9:H27)=0,\":\",SUM(H9:H27))","v":":"},null,{"$f":"IF(COUNT(J9:J27)=0,\":\",SUM(J9:J27))","v":":"},null,{"$f":"IF(COUNT(L9:L27)=0,\":\",SUM(L9:L27))","v":":"},null,{"$f":"IF(COUNT(N9:N27)=0,\":\",SUM(N9:N27))","v":":"},null,{"$f":"IF(COUNT(P9:P27)=0,\":\",SUM(P9:P27))","v":":"},null,{"$f":"IF(COUNT(R9:R27)=0,\":\",SUM(R9:R27))","v":":"},null,{"$f":"IF(COUNT(T9:T27)=0,\":\",SUM(T9:T27))","v":":"},null,{"$f":"IF(COUNT(V9:V27)=0,\":\",SUM(V9:V27))","v":":"},null,{"$f":"IF(COUNT(X9:X27)=0,\":\",SUM(X9:X27))","v":":"},null,{"$f":"IF(COUNT(Z9:Z27)=0,\":\",SUM(Z9:Z27))","v":":"},null,{"$f":"IF(COUNT(AB9:AB27)=0,\":\",SUM(AB9:AB27))","v":":"},null,{"$f":"IF(COUNT(AD9:AD27)=0,\":\",SUM(AD9:AD27))","v":":"},null,{"$f":"IF(COUNT(AF9:AF27)=0,\":\",SUM(AF9:AF27))","v":":"},null,{"$f":"IF(COUNT(AH9:AH27)=0,\":\",SUM(AH9:AH27))","v":":"},null,{"$f":"IF(COUNT(AJ9:AJ27)=0,\":\",SUM(AJ9:AJ27))","v":":"},null,{"$f":"IF(COUNT(AL9:AL27)=0,\":\",SUM(AL9:AL27))","v":":"},null,{"$f":"IF(COUNT(AN9:AN27)=0,\":\",SUM(AN9:AN27))","v":":"},null,{"$f":"IF(COUNT(AP9:AP27)=0,\":\",SUM(AP9:AP27))","v":":"},null,{"$f":"IF(COUNT(AR9:AR27)=0,\":\",SUM(AR9:AR27))","v":":"},null,{"$f":"IF(COUNT(AT9:AT27)=0,\":\",SUM(AT9:AT27))","v":":"},null,{"$f":"IF(COUNT(AV9:AV27)=0,\":\",SUM(AV9:AV27))","v":":"},null,{"$f":"IF(COUNT(AX9:AX27)=0,\":\",SUM(AX9:AX27))","v":":"},null,{"$f":"IF(COUNT(AZ9:AZ27)=0,\":\",SUM(AZ9:AZ27))","v":":"},null,{"$f":"IF(COUNT(BB9:BB27)=0,\":\",SUM(BB9:BB27))","v":":"},null,{"$f":"IF(COUNT(BD9:BD27)=0,\":\",SUM(BD9:BD27))","v":":"},null,{"$f":"IF(COUNT(BF9:BF27)=0,\":\",SUM(BF9:BF27))","v":":"},null,{"$f":"IF(COUNT(BH9:BH27)=0,\":\",SUM(BH9:BH27))","v":":"},null,null,null,null,null,null,null,null,null,null,null,null,null,null,null,null,null,null,null,null,null,null,null,null,null,null,null,null,null,null,null,"TAX_EU","C","RUT","NRG"]
[null,"D35","Electricity, gas, steam and air conditioning supply",{"$f":"IF(COUNT(D28)=0,\":\",SUM(D28))","v":":"},null,{"$f":"IF(COUNT(F28)=0,\":\",SUM(F28))","v":":"},null,{"$f":"IF(COUNT(H28)=0,\":\",SUM(H28))","v":":"},null,{"$f":"IF(COUNT(J28)=0,\":\",SUM(J28))","v":":"},null,{"$f":"IF(COUNT(L28)=0,\":\",SUM(L28))","v":":"},null,{"$f":"IF(COUNT(N28)=0,\":\",SUM(N28))","v":":"},null,{"$f":"IF(COUNT(P28)=0,\":\",SUM(P28))","v":":"},null,{"$f":"IF(COUNT(R28)=0,\":\",SUM(R28))","v":":"},null,{"$f":"IF(COUNT(T28)=0,\":\",SUM(T28))","v":":"},null,{"$f":"IF(COUNT(V28)=0,\":\",SUM(V28))","v":":"},null,{"$f":"IF(COUNT(X28)=0,\":\",SUM(X28))","v":":"},null,{"$f":"IF(COUNT(Z28)=0,\":\",SUM(Z28))","v":":"},null,{"$f":"IF(COUNT(AB28)=0,\":\",SUM(AB28))","v":":"},null,{"$f":"IF(COUNT(AD28)=0,\":\",SUM(AD28))","v":":"},null,{"$f":"IF(COUNT(AF28)=0,\":\",SUM(AF28))","v":":"},null,{"$f":"IF(COUNT(AH28)=0,\":\",SUM(AH28))","v":":"},null,{"$f":"IF(COUNT(AJ28)=0,\":\",SUM(AJ28))","v":":"},null,{"$f":"IF(COUNT(AL28)=0,\":\",SUM(AL28))","v":":"},null,{"$f":"IF(COUNT(AN28)=0,\":\",SUM(AN28))","v":":"},null,{"$f":"IF(COUNT(AP28)=0,\":\",SUM(AP28))","v":":"},null,{"$f":"IF(COUNT(AR28)=0,\":\",SUM(AR28))","v":":"},null,{"$f":"IF(COUNT(AT28)=0,\":\",SUM(AT28))","v":":"},null,{"$f":"IF(COUNT(AV28)=0,\":\",SUM(AV28))","v":":"},null,{"$f":"IF(COUNT(AX28)=0,\":\",SUM(AX28))","v":":"},null,{"$f":"IF(COUNT(AZ28)=0,\":\",SUM(AZ28))","v":":"},null,{"$f":"IF(COUNT(BB28)=0,\":\",SUM(BB28))","v":":"},null,{"$f":"IF(COUNT(BD28)=0,\":\",SUM(BD28))","v":":"},null,{"$f":"IF(COUNT(BF28)=0,\":\",SUM(BF28))","v":":"},null,{"$f":"IF(COUNT(BH28)=0,\":\",SUM(BH28))","v":":"}]
["E","E36-E39","Water supply, sewerage, waste management, remediation activities",{"$f":"IF(COUNT(D29:D30)=0,\":\",SUM(D29:D30))","v":":"},null,{"$f":"IF(COUNT(F29:F30)=0,\":\",SUM(F29:F30))","v":":"},null,{"$f":"IF(COUNT(H29:H30)=0,\":\",SUM(H29:H30))","v":":"},null,{"$f":"IF(COUNT(J29:J30)=0,\":\",SUM(J29:J30))","v":":"},null,{"$f":"IF(COUNT(L29:L30)=0,\":\",SUM(L29:L30))","v":":"},null,{"$f":"IF(COUNT(N29:N30)=0,\":\",SUM(N29:N30))","v":":"},null,{"$f":"IF(COUNT(P29:P30)=0,\":\",SUM(P29:P30))","v":":"},null,{"$f":"IF(COUNT(R29:R30)=0,\":\",SUM(R29:R30))","v":":"},null,{"$f":"IF(COUNT(T29:T30)=0,\":\",SUM(T29:T30))","v":":"},null,{"$f":"IF(COUNT(V29:V30)=0,\":\",SUM(V29:V30))","v":":"},null,{"$f":"IF(COUNT(X29:X30)=0,\":\",SUM(X29:X30))","v":":"},null,{"$f":"IF(COUNT(Z29:Z30)=0,\":\",SUM(Z29:Z30))","v":":"},null,{"$f":"IF(COUNT(AB29:AB30)=0,\":\",SUM(AB29:AB30))","v":":"},null,{"$f":"IF(COUNT(AD29:AD30)=0,\":\",SUM(AD29:AD30))","v":":"},null,{"$f":"IF(COUNT(AF29:AF30)=0,\":\",SUM(AF29:AF30))","v":":"},null,{"$f":"IF(COUNT(AH29:AH30)=0,\":\",SUM(AH29:AH30))","v":":"},null,{"$f":"IF(COUNT(AJ29:AJ30)=0,\":\",SUM(AJ29:AJ30))","v":":"},null,{"$f":"IF(COUNT(AL29:AL30)=0,\":\",SUM(AL29:AL30))","v":":"},null,{"$f":"IF(COUNT(AN29:AN30)=0,\":\",SUM(AN29:AN30))","v":":"},null,{"$f":"IF(COUNT(AP29:AP30)=0,\":\",SUM(AP29:AP30))","v":":"},null,{"$f":"IF(COUNT(AR29:AR30)=0,\":\",SUM(AR29:AR30))","v":":"},null,{"$f":"IF(COUNT(AT29:AT30)=0,\":\",SUM(AT29:AT30))","v":":"},null,{"$f":"IF(COUNT(AV29:AV30)=0,\":\",SUM(AV29:AV30))","v":":"},null,{"$f":"IF(COUNT(AX29:AX30)=0,\":\",SUM(AX29:AX30))","v":":"},null,{"$f":"IF(COUNT(AZ29:AZ30)=0,\":\",SUM(AZ29:AZ30))","v":":"},null,{"$f":"IF(COUNT(BB29:BB30)=0,\":\",SUM(BB29:BB30))","v":":"},null,{"$f":"IF(COUNT(BD29:BD30)=0,\":\",SUM(BD29:BD30))","v":":"},null,{"$f":"IF(COUNT(BF29:BF30)=0,\":\",SUM(BF29:BF30))","v":":"},null,{"$f":"IF(COUNT(BH29:BH30)=0,\":\",SUM(BH29:BH30))","v":":"},null,null,null,null,null,null,null,null,null,null,null,null,null,null,null,null,null,null,null,null,null,null,null,null,null,null,null,null,null,null,null,"TAX_EU","E","RUT","NRG"]
[null,"F41-F43","Construction ",{"$f":"IF(COUNT(D31)=0,\":\",SUM(D31))","v":":"},null,{"$f":"IF(COUNT(F31)=0,\":\",SUM(F31))","v":":"},null,{"$f":"IF(COUNT(H31)=0,\":\",SUM(H31))","v":":"},null,{"$f":"IF(COUNT(J31)=0,\":\",SUM(J31))","v":":"},null,{"$f":"IF(COUNT(L31)=0,\":\",SUM(L31))","v":":"},null,{"$f":"IF(COUNT(N31)=0,\":\",SUM(N31))","v":":"},null,{"$f":"IF(COUNT(P31)=0,\":\",SUM(P31))","v":":"},null,{"$f":"IF(COUNT(R31)=0,\":\",SUM(R31))","v":":"},null,{"$f":"IF(COUNT(T31)=0,\":\",SUM(T31))","v":":"},null,{"$f":"IF(COUNT(V31)=0,\":\",SUM(V31))","v":":"},null,{"$f":"IF(COUNT(X31)=0,\":\",SUM(X31))","v":":"},null,{"$f":"IF(COUNT(Z31)=0,\":\",SUM(Z31))","v":":"},null,{"$f":"IF(COUNT(AB31)=0,\":\",SUM(AB31))","v":":"},null,{"$f":"IF(COUNT(AD31)=0,\":\",SUM(AD31))","v":":"},null,{"$f":"IF(COUNT(AF31)=0,\":\",SUM(AF31))","v":":"},null,{"$f":"IF(COUNT(AH31)=0,\":\",SUM(AH31))","v":":"},null,{"$f":"IF(COUNT(AJ31)=0,\":\",SUM(AJ31))","v":":"},null,{"$f":"IF(COUNT(AL31)=0,\":\",SUM(AL31))","v":":"},null,{"$f":"IF(COUNT(AN31)=0,\":\",SUM(AN31))","v":":"},null,{"$f":"IF(COUNT(AP31)=0,\":\",SUM(AP31))","v":":"},null,{"$f":"IF(COUNT(AR31)=0,\":\",SUM(AR31))","v":":"},null,{"$f":"IF(COUNT(AT31)=0,\":\",SUM(AT31))","v":":"},null,{"$f":"IF(COUNT(AV31)=0,\":\",SUM(AV31))","v":":"},null,{"$f":"IF(COUNT(AX31)=0,\":\",SUM(AX31))","v":":"},null,{"$f":"IF(COUNT(AZ31)=0,\":\",SUM(AZ31))","v":":"},null,{"$f":"IF(COUNT(BB31)=0,\":\",SUM(BB31))","v":":"},null,{"$f":"IF(COUNT(BD31)=0,\":\",SUM(BD31))","v":":"},null,{"$f":"IF(COUNT(BF31)=0,\":\",SUM(BF31))","v":":"},null,{"$f":"IF(COUNT(BH31)=0,\":\",SUM(BH31))","v":":"}]
["G","G45-G47","Wholesale and retail trade; repair of motor vehicles and motorcycles",{"$f":"IF(COUNT(D32:D34)=0,\":\",SUM(D32:D34))","v":":"},null,{"$f":"IF(COUNT(F32:F34)=0,\":\",SUM(F32:F34))","v":":"},null,{"$f":"IF(COUNT(H32:H34)=0,\":\",SUM(H32:H34))","v":":"},null,{"$f":"IF(COUNT(J32:J34)=0,\":\",SUM(J32:J34))","v":":"},null,{"$f":"IF(COUNT(L32:L34)=0,\":\",SUM(L32:L34))","v":":"},null,{"$f":"IF(COUNT(N32:N34)=0,\":\",SUM(N32:N34))","v":":"},null,{"$f":"IF(COUNT(P32:P34)=0,\":\",SUM(P32:P34))","v":":"},null,{"$f":"IF(COUNT(R32:R34)=0,\":\",SUM(R32:R34))","v":":"},null,{"$f":"IF(COUNT(T32:T34)=0,\":\",SUM(T32:T34))","v":":"},null,{"$f":"IF(COUNT(V32:V34)=0,\":\",SUM(V32:V34))","v":":"},null,{"$f":"IF(COUNT(X32:X34)=0,\":\",SUM(X32:X34))","v":":"},null,{"$f":"IF(COUNT(Z32:Z34)=0,\":\",SUM(Z32:Z34))","v":":"},null,{"$f":"IF(COUNT(AB32:AB34)=0,\":\",SUM(AB32:AB34))","v":":"},null,{"$f":"IF(COUNT(AD32:AD34)=0,\":\",SUM(AD32:AD34))","v":":"},null,{"$f":"IF(COUNT(AF32:AF34)=0,\":\",SUM(AF32:AF34))","v":":"},null,{"$f":"IF(COUNT(AH32:AH34)=0,\":\",SUM(AH32:AH34))","v":":"},null,{"$f":"IF(COUNT(AJ32:AJ34)=0,\":\",SUM(AJ32:AJ34))","v":":"},null,{"$f":"IF(COUNT(AL32:AL34)=0,\":\",SUM(AL32:AL34))","v":":"},null,{"$f":"IF(COUNT(AN32:AN34)=0,\":\",SUM(AN32:AN34))","v":":"},null,{"$f":"IF(COUNT(AP32:AP34)=0,\":\",SUM(AP32:AP34))","v":":"},null,{"$f":"IF(COUNT(AR32:AR34)=0,\":\",SUM(AR32:AR34))","v":":"},null,{"$f":"IF(COUNT(AT32:AT34)=0,\":\",SUM(AT32:AT34))","v":":"},null,{"$f":"IF(COUNT(AV32:AV34)=0,\":\",SUM(AV32:AV34))","v":":"},null,{"$f":"IF(COUNT(AX32:AX34)=0,\":\",SUM(AX32:AX34))","v":":"},null,{"$f":"IF(COUNT(AZ32:AZ34)=0,\":\",SUM(AZ32:AZ34))","v":":"},null,{"$f":"IF(COUNT(BB32:BB34)=0,\":\",SUM(BB32:BB34))","v":":"},null,{"$f":"IF(COUNT(BD32:BD34)=0,\":\",SUM(BD32:BD34))","v":":"},null,{"$f":"IF(COUNT(BF32:BF34)=0,\":\",SUM(BF32:BF34))","v":":"},null,{"$f":"IF(COUNT(BH32:BH34)=0,\":\",SUM(BH32:BH34))","v":":"},null,null,null,null,null,null,null,null,null,null,null,null,null,null,null,null,null,null,null,null,null,null,null,null,null,null,null,null,null,null,null,"TAX_EU","G","RUT","NRG"]
["H","H49-H53","Transport and storage",{"$f":"IF(COUNT(D35:D39)=0,\":\",SUM(D35:D39))","v":":"},null,{"$f":"IF(COUNT(F35:F39)=0,\":\",SUM(F35:F39))","v":":"},null,{"$f":"IF(COUNT(H35:H39)=0,\":\",SUM(H35:H39))","v":":"},null,{"$f":"IF(COUNT(J35:J39)=0,\":\",SUM(J35:J39))","v":":"},null,{"$f":"IF(COUNT(L35:L39)=0,\":\",SUM(L35:L39))","v":":"},null,{"$f":"IF(COUNT(N35:N39)=0,\":\",SUM(N35:N39))","v":":"},null,{"$f":"IF(COUNT(P35:P39)=0,\":\",SUM(P35:P39))","v":":"},null,{"$f":"IF(COUNT(R35:R39)=0,\":\",SUM(R35:R39))","v":":"},null,{"$f":"IF(COUNT(T35:T39)=0,\":\",SUM(T35:T39))","v":":"},null,{"$f":"IF(COUNT(V35:V39)=0,\":\",SUM(V35:V39))","v":":"},null,{"$f":"IF(COUNT(X35:X39)=0,\":\",SUM(X35:X39))","v":":"},null,{"$f":"IF(COUNT(Z35:Z39)=0,\":\",SUM(Z35:Z39))","v":":"},null,{"$f":"IF(COUNT(AB35:AB39)=0,\":\",SUM(AB35:AB39))","v":":"},null,{"$f":"IF(COUNT(AD35:AD39)=0,\":\",SUM(AD35:AD39))","v":":"},null,{"$f":"IF(COUNT(AF35:AF39)=0,\":\",SUM(AF35:AF39))","v":":"},null,{"$f":"IF(COUNT(AH35:AH39)=0,\":\",SUM(AH35:AH39))","v":":"},null,{"$f":"IF(COUNT(AJ35:AJ39)=0,\":\",SUM(AJ35:AJ39))","v":":"},null,{"$f":"IF(COUNT(AL35:AL39)=0,\":\",SUM(AL35:AL39))","v":":"},null,{"$f":"IF(COUNT(AN35:AN39)=0,\":\",SUM(AN35:AN39))","v":":"},null,{"$f":"IF(COUNT(AP35:AP39)=0,\":\",SUM(AP35:AP39))","v":":"},null,{"$f":"IF(COUNT(AR35:AR39)=0,\":\",SUM(AR35:AR39))","v":":"},null,{"$f":"IF(COUNT(AT35:AT39)=0,\":\",SUM(AT35:AT39))","v":":"},null,{"$f":"IF(COUNT(AV35:AV39)=0,\":\",SUM(AV35:AV39))","v":":"},null,{"$f":"IF(COUNT(AX35:AX39)=0,\":\",SUM(AX35:AX39))","v":":"},null,{"$f":"IF(COUNT(AZ35:AZ39)=0,\":\",SUM(AZ35:AZ39))","v":":"},null,{"$f":"IF(COUNT(BB35:BB39)=0,\":\",SUM(BB35:BB39))","v":":"},null,{"$f":"IF(COUNT(BD35:BD39)=0,\":\",SUM(BD35:BD39))","v":":"},null,{"$f":"IF(COUNT(BF35:BF39)=0,\":\",SUM(BF35:BF39))","v":":"},null,{"$f":"IF(COUNT(BH35:BH39)=0,\":\",SUM(BH35:BH39))","v":":"},null,null,null,null,null,null,null,null,null,null,null,null,null,null,null,null,null,null,null,null,null,null,null,null,null,null,null,null,null,null,null,"TAX_EU","H","RUT","NRG"]
["I-U","I-U","Services (except wholesale and retail trade, transportation and storage)",{"$f":"IF(COUNT(D40:D68)=0,\":\",SUM(D40:D68))","v":":"},null,{"$f":"IF(COUNT(F40:F68)=0,\":\",SUM(F40:F68))","v":":"},null,{"$f":"IF(COUNT(H40:H68)=0,\":\",SUM(H40:H68))","v":":"},null,{"$f":"IF(COUNT(J40:J68)=0,\":\",SUM(J40:J68))","v":":"},null,{"$f":"IF(COUNT(L40:L68)=0,\":\",SUM(L40:L68))","v":":"},null,{"$f":"IF(COUNT(N40:N68)=0,\":\",SUM(N40:N68))","v":":"},null,{"$f":"IF(COUNT(P40:P68)=0,\":\",SUM(P40:P68))","v":":"},null,{"$f":"IF(COUNT(R40:R68)=0,\":\",SUM(R40:R68))","v":":"},null,{"$f":"IF(COUNT(T40:T68)=0,\":\",SUM(T40:T68))","v":":"},null,{"$f":"IF(COUNT(V40:V68)=0,\":\",SUM(V40:V68))","v":":"},null,{"$f":"IF(COUNT(X40:X68)=0,\":\",SUM(X40:X68))","v":":"},null,{"$f":"IF(COUNT(Z40:Z68)=0,\":\",SUM(Z40:Z68))","v":":"},null,{"$f":"IF(COUNT(AB40:AB68)=0,\":\",SUM(AB40:AB68))","v":":"},null,{"$f":"IF(COUNT(AD40:AD68)=0,\":\",SUM(AD40:AD68))","v":":"},null,{"$f":"IF(COUNT(AF40:AF68)=0,\":\",SUM(AF40:AF68))","v":":"},null,{"$f":"IF(COUNT(AH40:AH68)=0,\":\",SUM(AH40:AH68))","v":":"},null,{"$f":"IF(COUNT(AJ40:AJ68)=0,\":\",SUM(AJ40:AJ68))","v":":"},null,{"$f":"IF(COUNT(AL40:AL68)=0,\":\",SUM(AL40:AL68))","v":":"},null,{"$f":"IF(COUNT(AN40:AN68)=0,\":\",SUM(AN40:AN68))","v":":"},null,{"$f":"IF(COUNT(AP40:AP68)=0,\":\",SUM(AP40:AP68))","v":":"},null,{"$f":"IF(COUNT(AR40:AR68)=0,\":\",SUM(AR40:AR68))","v":":"},null,{"$f":"IF(COUNT(AT40:AT68)=0,\":\",SUM(AT40:AT68))","v":":"},null,{"$f":"IF(COUNT(AV40:AV68)=0,\":\",SUM(AV40:AV68))","v":":"},null,{"$f":"IF(COUNT(AX40:AX68)=0,\":\",SUM(AX40:AX68))","v":":"},null,{"$f":"IF(COUNT(AZ40:AZ68)=0,\":\",SUM(AZ40:AZ68))","v":":"},null,{"$f":"IF(COUNT(BB40:BB68)=0,\":\",SUM(BB40:BB68))","v":":"},null,{"$f":"IF(COUNT(BD40:BD68)=0,\":\",SUM(BD40:BD68))","v":":"},null,{"$f":"IF(COUNT(BF40:BF68)=0,\":\",SUM(BF40:BF68))","v":":"},null,{"$f":"IF(COUNT(BH40:BH68)=0,\":\",SUM(BH40:BH68))","v":":"},null,null,null,null,null,null,null,null,null,null,null,null,null,null,null,null,null,null,null,null,null,null,null,null,null,null,null,null,null,null,null,"TAX_EU","ITU","RUT","NRG"]
["TOTAL","TOTAL","Total - All NACE activities",{"$f":"IF(COUNT(D79:D87)=0,\":\",SUM(D79:D87))","v":":"},null,{"$f":"IF(COUNT(F79:F87)=0,\":\",SUM(F79:F87))","v":":"},null,{"$f":"IF(COUNT(H79:H87)=0,\":\",SUM(H79:H87))","v":":"},null,{"$f":"IF(COUNT(J79:J87)=0,\":\",SUM(J79:J87))","v":":"},null,{"$f":"IF(COUNT(L79:L87)=0,\":\",SUM(L79:L87))","v":":"},null,{"$f":"IF(COUNT(N79:N87)=0,\":\",SUM(N79:N87))","v":":"},null,{"$f":"IF(COUNT(P79:P87)=0,\":\",SUM(P79:P87))","v":":"},null,{"$f":"IF(COUNT(R79:R87)=0,\":\",SUM(R79:R87))","v":":"},null,{"$f":"IF(COUNT(T79:T87)=0,\":\",SUM(T79:T87))","v":":"},null,{"$f":"IF(COUNT(V79:V87)=0,\":\",SUM(V79:V87))","v":":"},null,{"$f":"IF(COUNT(X79:X87)=0,\":\",SUM(X79:X87))","v":":"},null,{"$f":"IF(COUNT(Z79:Z87)=0,\":\",SUM(Z79:Z87))","v":":"},null,{"$f":"IF(COUNT(AB79:AB87)=0,\":\",SUM(AB79:AB87))","v":":"},null,{"$f":"IF(COUNT(AD79:AD87)=0,\":\",SUM(AD79:AD87))","v":":"},null,{"$f":"IF(COUNT(AF79:AF87)=0,\":\",SUM(AF79:AF87))","v":":"},null,{"$f":"IF(COUNT(AH79:AH87)=0,\":\",SUM(AH79:AH87))","v":":"},null,{"$f":"IF(COUNT(AJ79:AJ87)=0,\":\",SUM(AJ79:AJ87))","v":":"},null,{"$f":"IF(COUNT(AL79:AL87)=0,\":\",SUM(AL79:AL87))","v":":"},null,{"$f":"IF(COUNT(AN79:AN87)=0,\":\",SUM(AN79:AN87))","v":":"},null,{"$f":"IF(COUNT(AP79:AP87)=0,\":\",SUM(AP79:AP87))","v":":"},null,{"$f":"IF(COUNT(AR79:AR87)=0,\":\",SUM(AR79:AR87))","v":":"},null,{"$f":"IF(COUNT(AT79:AT87)=0,\":\",SUM(AT79:AT87))","v":":"},null,{"$f":"IF(COUNT(AV79:AV87)=0,\":\",SUM(AV79:AV87))","v":":"},null,{"$f":"IF(COUNT(AX79:AX87)=0,\":\",SUM(AX79:AX87))","v":":"},null,{"$f":"IF(COUNT(AZ79:AZ87)=0,\":\",SUM(AZ79:AZ87))","v":":"},null,{"$f":"IF(COUNT(BB79:BB87)=0,\":\",SUM(BB79:BB87))","v":":"},null,{"$f":"IF(COUNT(BD79:BD87)=0,\":\",SUM(BD79:BD87))","v":":"},null,{"$f":"IF(COUNT(BF79:BF87)=0,\":\",SUM(BF79:BF87))","v":":"},null,{"$f":"IF(COUNT(BH79:BH87)=0,\":\",SUM(BH79:BH87))","v":":"},null,null,null,null,null,null,null,null,null,null,null,null,null,null,null,null,null,null,null,null,null,null,null,null,null,null,null,null,null,null,null,"TAX_EU","ATU","RUT","NRG"]

{"sheet":"Transport taxes","index":5,"n_rows":88,"n_cols":157,"rows_kept":88,"cut":false,"hidden":false,"merged":[[0,94,2,94],[0,95,2,95],[0,96,2,96],[3,1,3,2],[77,1,77,2],[0,91,2,91],[0,92,2,92],[0,93,2,93]]}
[null,"Country:",{"$f":"'Energy taxes'!C1","v":"AL "},null,null,null,null,null,null,null,null,"Tolerance",null,null,null,null,null,null,null,null,null,null,null,null,null,null,null,null,null,null,null,null,null,null,null,null,null,null,null,null,null,null,null,null,null,null,null,null,null,null,null,null,null,null,null,null,null,null,null,null,null,null,null,null,null,null,null,null,null,null,null,null,null,null,null,null,null,null,null,null,null,null,null,null,null,null,null,null,null,null,null,"TAX_REP","INTERACTORS","BRIDGE_ITEMS","TAX","UNIT_MEASURE","UNIT_MULT"]
[null,"Transport taxes:","TRA",null,null,null,null,null,null,null,null,{"$f":"5","v":5}]
[null,"Unit:","million national currency","MIO_NAC"]
["Ind","NACE Rev. 2 A*64 industry classification",null,1995,"footnotes",1996,"footnotes",1997,"footnotes",1998,"footnotes",1999,"footnotes",2000,"footnotes",2001,"footnotes",2002,"footnotes",2003,"footnotes",2004,"footnotes",2005,"footnotes",2006,"footnotes",2007,"footnotes",2008,"footnotes",2009,"footnotes",2010,"footnotes",2011,"footnotes",2012,"footnotes",2013,"footnotes",2014,"footnotes",2015,"footnotes",2016,"footnotes",2017,"footnotes",2018,"footnotes",2019,"footnotes",2020,"footnotes",2021,"footnotes",2022,"footnotes",2023,"footnotes",null,null,null,null,null,null,null,null,null,null,null,null,null,null,null,null,null,null,null,null,null,null,null,null,null,null,null,null,null,null,null,null,null,null,null,null,null,null,null,null,{"$f":"D4","v":1995},"footnotes",1996,"footnotes",1997,"footnotes",1998,"footnotes",1999,"footnotes",2000,"footnotes",2001,"footnotes",2002,"footnotes",2003,"footnotes",2004,"footnotes",2005,"footnotes",2006,"footnotes",2007,"footnotes",2008,"footnotes",2009,"footnotes",2010,"footnotes",{"$f":"AJ4","v":2011},"footnotes",2012,"footnotes",2013,"footnotes",2014,"footnotes",2015,"footnotes",2016,"footnotes",2017,"footnotes",2018,"footnotes",2019,"footnotes",2020,"footnotes",{"$f":"BD4","v":2021},{"$f":"BE4","v":"footnotes"},{"$f":"BH4","v":2023},{"$f":"BI4","v":"footnotes"}]
["A01","A01","Crop and animal production, hunting and related service activities",null,null,null,null,null,null,null,null,null,null,null,null,null,null,null,null,null,null,null,null,null,null,null,null,null,null,null,null,null,null,null,null,null,null,null,null,null,null,null,null,null,null,null,null,null,null,null,null,null,null,null,null,null,null,null,null,null,null,null,null,null,null,null,null,null,null,null,null,null,null,null,null,null,null,null,null,null,null,null,null,null,null,null,null,null,null,null,null,"TAX_EU","A01","RUT","TRA","XDC",6]
["A02","A02","Forestry and logging ",null,null,null,null,null,null,null,null,null,null,null,null,null,null,null,null,null,null,null,null,null,null,null,null,null,null,null,null,null,null,null,null,null,null,null,null,null,null,null,null,null,null,null,null,null,null,null,null,null,null,null,null,null,null,null,null,null,null,null,null,null,null,null,null,null,null,null,null,null,null,null,null,null,null,null,null,null,null,null,null,null,null,null,null,null,null,null,null,"TAX_EU","A02","RUT","TRA"]
["A03","A03","Fishing and aquaculture",null,null,null,null,null,null,null,null,null,null,null,null,null,null,null,null,null,null,null,null,null,null,null,null,null,null,null,null,null,null,null,null,null,null,null,null,null,null,null,null,null,null,null,null,null,null,null,null,null,null,null,null,null,null,null,null,null,null,null,null,null,null,null,null,null,null,null,null,null,null,null,null,null,null,null,null,null,null,null,null,null,null,null,null,null,null,null,null,"TAX_EU","A03","RUT","TRA"]
["B","B05-B09","Mining and quarrying",null,null,null,null,null,null,null,null,null,null,null,null,null,null,null,null,null,null,null,null,null,null,null,null,null,null,null,null,null,null,null,null,null,null,null,null,null,null,null,null,null,null,null,null,null,null,null,null,null,null,null,null,null,null,null,null,null,null,null,null,null,null,null,null,null,null,null,null,null,null,null,null,null,null,null,null,null,null,null,null,null,null,null,null,null,null,null,null,"TAX_EU","B","RUT","TRA"]
["C10-C12","C10-C12","Manufacture of food products, beverages and tobacco products",null,null,null,null,null,null,null,null,null,null,null,null,null,null,null,null,null,null,null,null,null,null,null,null,null,null,null,null,null,null,null,null,null,null,null,null,null,null,null,null,null,null,null,null,null,null,null,null,null,null,null,null,null,null,null,null,null,null,null,null,null,null,null,null,null,null,null,null,null,null,null,null,null,null,null,null,null,null,null,null,null,null,null,null,null,null,null,null,"TAX_EU","C10T12","RUT","TRA"]
["C13-C15","C13-C15","Manufacture of textiles, wearing apparel and leather products",null,null,null,null,null,null,null,null,null,null,null,null,null,null,null,null,null,null,null,null,null,null,null,null,null,null,null,null,null,null,null,null,null,null,null,null,null,null,null,null,null,null,null,null,null,null,null,null,null,null,null,null,null,null,null,null,null,null,null,null,null,null,null,null,null,null,null,null,null,null,null,null,null,null,null,null,null,null,null,null,null,null,null,null,null,null,null,null,"TAX_EU","C13T15","RUT","TRA"]
["C16","C16","Manufacture of wood and of products of wood and cork, except furniture; manufacture of articles of straw and plaiting materials",null,null,null,null,null,null,null,null,null,null,null,null,null,null,null,null,null,null,null,null,null,null,null,null,null,null,null,null,null,null,null,null,null,null,null,null,null,null,null,null,null,null,null,null,null,null,null,null,null,null,null,null,null,null,null,null,null,null,null,null,null,null,null,null,null,null,null,null,null,null,null,null,null,null,null,null,null,null,null,null,null,null,null,null,null,null,null,null,"TAX_EU","C16","RUT","TRA"]
["C17","C17","Manufacture of paper and paper products",null,null,null,null,null,null,null,null,null,null,null,null,null,null,null,null,null,null,null,null,null,null,null,null,null,null,null,null,null,null,null,null,null,null,null,null,null,null,null,null,null,null,null,null,null,null,null,null,null,null,null,null,null,null,null,null,null,null,null,null,null,null,null,null,null,null,null,null,null,null,null,null,null,null,null,null,null,null,null,null,null,null,null,null,null,null,null,null,"TAX_EU","C17","RUT","TRA"]
["C18","C18","Printing and reproduction of recorded media",null,null,null,null,null,null,null,null,null,null,null,null,null,null,null,null,null,null,null,null,null,null,null,null,null,null,null,null,null,null,null,null,null,null,null,null,null,null,null,null,null,null,null,null,null,null,null,null,null,null,null,null,null,null,null,null,null,null,null,null,null,null,null,null,null,null,null,null,null,null,null,null,null,null,null,null,null,null,null,null,null,null,null,null,null,null,null,null,"TAX_EU","C18","RUT","TRA"]
["C19","C19","Manufacture of coke and refined petroleum products ",null,null,null,null,null,null,null,null,null,null,null,null,null,null,null,null,null,null,null,null,null,null,null,null,null,null,null,null,null,null,null,null,null,null,null,null,null,null,null,null,null,null,null,null,null,null,null,null,null,null,null,null,null,null,null,null,null,null,null,null,null,null,null,null,null,null,null,null,null,null,null,null,null,null,null,null,null,null,null,null,null,null,null,null,null,null,null,null,"TAX_EU","C19","RUT","TRA"]
["C20","C20","Manufacture of chemicals and chemical products",null,null,null,null,null,null,null,null,null,null,null,null,null,null,null,null,null,null,null,null,null,null,null,null,null,null,null,null,null,null,null,null,null,null,null,null,null,null,null,null,null,null,null,null,null,null,null,null,null,null,null,null,null,null,null,null,null,null,null,null,null,null,null,null,null,null,null,null,null,null,null,null,null,null,null,null,null,null,null,null,null,null,null,null,null,null,null,null,"TAX_EU","C20","RUT","TRA"]
["C21","C21","Manufacture of basic pharmaceutical products and pharmaceutical preparations",null,null,null,null,null,null,null,null,null,null,null,null,null,null,null,null,null,null,null,null,null,null,null,null,null,null,null,null,null,null,null,null,null,null,null,null,null,null,null,null,null,null,null,null,null,null,null,null,null,null,null,null,null,null,null,null,null,null,null,null,null,null,null,null,null,null,null,null,null,null,null,null,null,null,null,null,null,null,null,null,null,null,null,null,null,null,null,null,"TAX_EU","C21","RUT","TRA"]
["C22","C22","Manufacture of rubber and plastic products",null,null,null,null,null,null,null,null,null,null,null,null,null,null,null,null,null,null,null,null,null,null,null,null,null,null,null,null,null,null,null,null,null,null,null,null,null,null,null,null,null,null,null,null,null,null,null,null,null,null,null,null,null,null,null,null,null,null,null,null,null,null,null,null,null,null,null,null,null,null,null,null,null,null,null,null,null,null,null,null,null,null,null,null,null,null,null,null,"TAX_EU","C22","RUT","TRA"]
["C23","C23","Manufacture of other non-metallic mineral products",null,null,null,null,null,null,null,null,null,null,null,null,null,null,null,null,null,null,null,null,null,null,null,null,null,null,null,null,null,null,null,null,null,null,null,null,null,null,null,null,null,null,null,null,null,null,null,null,null,null,null,null,null,null,null,null,null,null,null,null,null,null,null,null,null,null,null,null,null,null,null,null,null,null,null,null,null,null,null,null,null,null,null,null,null,null,null,null,"TAX_EU","C23","RUT","TRA"]
["C24","C24","Manufacture of basic metals",null,null,null,null,null,null,null,null,null,null,null,null,null,null,null,null,null,null,null,null,null,null,null,null,null,null,null,null,null,null,null,null,null,null,null,null,null,null,null,null,null,null,null,null,null,null,null,null,null,null,null,null,null,null,null,null,null,null,null,null,null,null,null,null,null,null,null,null,null,null,null,null,null,null,null,null,null,null,null,null,null,null,null,null,null,null,null,null,"TAX_EU","C24","RUT","TRA"]
["C25","C25","Manufacture of fabricated metal products, except machinery and equipment",null,null,null,null,null,null,null,null,null,null,null,null,null,null,null,null,null,null,null,null,null,null,null,null,null,null,null,null,null,null,null,null,null,null,null,null,null,null,null,null,null,null,null,null,null,null,null,null,null,null,null,null,null,null,null,null,null,null,null,null,null,null,null,null,null,null,null,null,null,null,null,null,null,null,null,null,null,null,null,null,null,null,null,null,null,null,null,null,"TAX_EU","C25","RUT","TRA"]
["C26","C26","Manufacture of computer, electronic and optical products",null,null,null,null,null,null,null,null,null,null,null,null,null,null,null,null,null,null,null,null,null,null,null,null,null,null,null,null,null,null,null,null,null,null,null,null,null,null,null,null,null,null,null,null,null,null,null,null,null,null,null,null,null,null,null,null,null,null,null,null,null,null,null,null,null,null,null,null,null,null,null,null,null,null,null,null,null,null,null,null,null,null,null,null,null,null,null,null,"TAX_EU","C26","RUT","TRA"]
["C27","C27","Manufacture of electrical equipment",null,null,null,null,null,null,null,null,null,null,null,null,null,null,null,null,null,null,null,null,null,null,null,null,null,null,null,null,null,null,null,null,null,null,null,null,null,null,null,null,null,null,null,null,null,null,null,null,null,null,null,null,null,null,null,null,null,null,null,null,null,null,null,null,null,null,null,null,null,null,null,null,null,null,null,null,null,null,null,null,null,null,null,null,null,null,null,null,"TAX_EU","C27","RUT","TRA"]
["C28","C28","Manufacture of machinery and equipment n.e.c.",null,null,null,null,null,null,null,null,null,null,null,null,null,null,null,null,null,null,null,null,null,null,null,null,null,null,null,null,null,null,null,null,null,null,null,null,null,null,null,null,null,null,null,null,null,null,null,null,null,null,null,null,null,null,null,null,null,null,null,null,null,null,null,null,null,null,null,null,null,null,null,null,null,null,null,null,null,null,null,null,null,null,null,null,null,null,null,null,"TAX_EU","C28","RUT","TRA"]
["C29","C29","Manufacture of motor vehicles, trailers and semi-trailers",null,null,null,null,null,null,null,null,null,null,null,null,null,null,null,null,null,null,null,null,null,null,null,null,null,null,null,null,null,null,null,null,null,null,null,null,null,null,null,null,null,null,null,null,null,null,null,null,null,null,null,null,null,null,null,null,null,null,null,null,null,null,null,null,null,null,null,null,null,null,null,null,null,null,null,null,null,null,null,null,null,null,null,null,null,null,null,null,"TAX_EU","C29","RUT","TRA"]
["C30","C30","Manufacture of other transport equipment",null,null,null,null,null,null,null,null,null,null,null,null,null,null,null,null,null,null,null,null,null,null,null,null,null,null,null,null,null,null,null,null,null,null,null,null,null,null,null,null,null,null,null,null,null,null,null,null,null,null,null,null,null,null,null,null,null,null,null,null,null,null,null,null,null,null,null,null,null,null,null,null,null,null,null,null,null,null,null,null,null,null,null,null,null,null,null,null,"TAX_EU","C30","RUT","TRA"]
["C31_C32","C31-C32","Manufacture of furniture; other manufacturing",null,null,null,null,null,null,null,null,null,null,null,null,null,null,null,null,null,null,null,null,null,null,null,null,null,null,null,null,null,null,null,null,null,null,null,null,null,null,null,null,null,null,null,null,null,null,null,null,null,null,null,null,null,null,null,null,null,null,null,null,null,null,null,null,null,null,null,null,null,null,null,null,null,null,null,null,null,null,null,null,null,null,null,null,null,null,null,null,"TAX_EU","C31_32","RUT","TRA"]
["C33","C33","Repair and installation of machinery and equipment",null,null,null,null,null,null,null,null,null,null,null,null,null,null,null,null,null,null,null,null,null,null,null,null,null,null,null,null,null,null,null,null,null,null,null,null,null,null,null,null,null,null,null,null,null,null,null,null,null,null,null,null,null,null,null,null,null,null,null,null,null,null,null,null,null,null,null,null,null,null,null,null,null,null,null,null,null,null,null,null,null,null,null,null,null,null,null,null,"TAX_EU","C33","RUT","TRA"]
["D35","D35","Electricity, gas, steam and air conditioning supply",null,null,null,null,null,null,null,null,null,null,null,null,null,null,null,null,null,null,null,null,null,null,null,null,null,null,null,null,null,null,null,null,null,null,null,null,null,null,null,null,null,null,null,null,null,null,null,null,null,null,null,null,null,null,null,null,null,null,null,null,null,null,null,null,null,null,null,null,null,null,null,null,null,null,null,null,null,null,null,null,null,null,null,null,null,null,null,null,"TAX_EU","D","RUT","TRA"]
["E36","E36","Water collection, treatment and supply",null,null,null,null,null,null,null,null,null,null,null,null,null,null,null,null,null,null,null,null,null,null,null,null,null,null,null,null,null,null,null,null,null,null,null,null,null,null,null,null,null,null,null,null,null,null,null,null,null,null,null,null,null,null,null,null,null,null,null,null,null,null,null,null,null,null,null,null,null,null,null,null,null,null,null,null,null,null,null,null,null,null,null,null,null,null,null,null,"TAX_EU","E36","RUT","TRA"]
["E37-E39","E37-E39","Sewerage, waste collection, treatment and disposal activities; materials recovery; remediation activities and other waste management services ",null,null,null,null,null,null,null,null,null,null,null,null,null,null,null,null,null,null,null,null,null,null,null,null,null,null,null,null,null,null,null,null,null,null,null,null,null,null,null,null,null,null,null,null,null,null,null,null,null,null,null,null,null,null,null,null,null,null,null,null,null,null,null,null,null,null,null,null,null,null,null,null,null,null,null,null,null,null,null,null,null,null,null,null,null,null,null,null,"TAX_EU","E37T39","RUT","TRA"]
["F","F41-F43","Construction ",null,null,null,null,null,null,null,null,null,null,null,null,null,null,null,null,null,null,null,null,null,null,null,null,null,null,null,null,null,null,null,null,null,null,null,null,null,null,null,null,null,null,null,null,null,null,null,null,null,null,null,null,null,null,null,null,null,null,null,null,null,null,null,null,null,null,null,null,null,null,null,null,null,null,null,null,null,null,null,null,null,null,null,null,null,null,null,null,"TAX_EU","F","RUT","TRA"]
["G45","G45","Wholesale and retail trade and repair of motor vehicles and motorcycles",null,null,null,null,null,null,null,null,null,null,null,null,null,null,null,null,null,null,null,null,null,null,null,null,null,null,null,null,null,null,null,null,null,null,null,null,null,null,null,null,null,null,null,null,null,null,null,null,null,null,null,null,null,null,null,null,null,null,null,null,null,null,null,null,null,null,null,null,null,null,null,null,null,null,null,null,null,null,null,null,null,null,null,null,null,null,null,null,"TAX_EU","G45","RUT","TRA"]
["G46","G46","Wholesale trade, except of motor vehicles and motorcycles",null,null,null,null,null,null,null,null,null,null,null,null,null,null,null,null,null,null,null,null,null,null,null,null,null,null,null,null,null,null,null,null,null,null,null,null,null,null,null,null,null,null,null,null,null,null,null,null,null,null,null,null,null,null,null,null,null,null,null,null,null,null,null,null,null,null,null,null,null,null,null,null,null,null,null,null,null,null,null,null,null,null,null,null,null,null,null,null,"TAX_EU","G46","RUT","TRA"]
["G47","G47","Retail trade, except of motor vehicles and motorcycles",null,null,null,null,null,null,null,null,null,null,null,null,null,null,null,null,null,null,null,null,null,null,null,null,null,null,null,null,null,null,null,null,null,null,null,null,null,null,null,null,null,null,null,null,null,null,null,null,null,null,null,null,null,null,null,null,null,null,null,null,null,null,null,null,null,null,null,null,null,null,null,null,null,null,null,null,null,null,null,null,null,null,null,null,null,null,null,null,"TAX_EU","G47","RUT","TRA"]
["H49","H49","Land transport and transport via pipelines",null,null,null,null,null,null,null,null,null,null,null,null,null,null,null,null,null,null,null,null,null,null,null,null,null,null,null,null,null,null,null,null,null,null,null,null,null,null,null,null,null,null,null,null,null,null,null,null,null,null,null,null,null,null,null,null,null,null,null,null,null,null,null,null,null,null,null,null,null,null,null,null,null,null,null,null,null,null,null,null,null,null,null,null,null,null,null,null,"TAX_EU","H49","RUT","TRA"]
["H50","H50","Water transport",null,null,null,null,null,null,null,null,null,null,null,null,null,null,null,null,null,null,null,null,null,null,null,null,null,null,null,null,null,null,null,null,null,null,null,null,null,null,null,null,null,null,null,null,null,null,null,null,null,null,null,null,null,null,null,null,null,null,null,null,null,null,null,null,null,null,null,null,null,null,null,null,null,null,null,null,null,null,null,null,null,null,null,null,null,null,null,null,"TAX_EU","H50","RUT","TRA"]
["H51","H51","Air transport",null,null,null,null,null,null,null,null,null,null,null,null,null,null,null,null,null,null,null,null,null,null,null,null,null,null,null,null,null,null,null,null,null,null,null,null,null,null,null,null,null,null,null,null,null,null,null,null,null,null,null,null,null,null,null,null,null,null,null,null,null,null,null,null,null,null,null,null,null,null,null,null,null,null,null,null,null,null,null,null,null,null,null,null,null,null,null,null,"TAX_EU","H51","RUT","TRA"]
["H52","H52","Warehousing and support activities for transportation",null,null,null,null,null,null,null,null,null,null,null,null,null,null,null,null,null,null,null,null,null,null,null,null,null,null,null,null,null,null,null,null,null,null,null,null,null,null,null,null,null,null,null,null,null,null,null,null,null,null,null,null,null,null,null,null,null,null,null,null,null,null,null,null,null,null,null,null,null,null,null,null,null,null,null,null,null,null,null,null,null,null,null,null,null,null,null,null,"TAX_EU","H52","RUT","TRA"]
["H53","H53","Postal and courier activities",null,null,null,null,null,null,null,null,null,null,null,null,null,null,null,null,null,null,null,null,null,null,null,null,null,null,null,null,null,null,null,null,null,null,null,null,null,null,null,null,null,null,null,null,null,null,null,null,null,null,null,null,null,null,null,null,null,null,null,null,null,null,null,null,null,null,null,null,null,null,null,null,null,null,null,null,null,null,null,null,null,null,null,null,null,null,null,null,"TAX_EU","H53","RUT","TRA"]
["I","I55-I56","Accommodation; food and beverage service activities",null,null,null,null,null,null,null,null,null,null,null,null,null,null,null,null,null,null,null,null,null,null,null,null,null,null,null,null,null,null,null,null,null,null,null,null,null,null,null,null,null,null,null,null,null,null,null,null,null,null,null,null,null,null,null,null,null,null,null,null,null,null,null,null,null,null,null,null,null,null,null,null,null,null,null,null,null,null,null,null,null,null,null,null,null,null,null,null,"TAX_EU","I","RUT","TRA"]
["J58","J58","Publishing activities",null,null,null,null,null,null,null,null,null,null,null,null,null,null,null,null,null,null,null,null,null,null,null,null,null,null,null,null,null,null,null,null,null,null,null,null,null,null,null,null,null,null,null,null,null,null,null,null,null,null,null,null,null,null,null,null,null,null,null,null,null,null,null,null,null,null,null,null,null,null,null,null,null,null,null,null,null,null,null,null,null,null,null,null,null,null,null,null,"TAX_EU","J58","RUT","TRA"]
["J59_J60","J59-J60","Motion picture, video and television programme production, sound recording and music publishing activities;  programming and broadcasting activities",null,null,null,null,null,null,null,null,null,null,null,null,null,null,null,null,null,null,null,null,null,null,null,null,null,null,null,null,null,null,null,null,null,null,null,null,null,null,null,null,null,null,null,null,null,null,null,null,null,null,null,null,null,null,null,null,null,null,null,null,null,null,null,null,null,null,null,null,null,null,null,null,null,null,null,null,null,null,null,null,null,null,null,null,null,null,null,null,"TAX_EU","J59_60","RUT","TRA"]
["J61","J61","Telecommunications",null,null,null,null,null,null,null,null,null,null,null,null,null,null,null,null,null,null,null,null,null,null,null,null,null,null,null,null,null,null,null,null,null,null,null,null,null,null,null,null,null,null,null,null,null,null,null,null,null,null,null,null,null,null,null,null,null,null,null,null,null,null,null,null,null,null,null,null,null,null,null,null,null,null,null,null,null,null,null,null,null,null,null,null,null,null,null,null,"TAX_EU","J61","RUT","TRA"]
["J62_J63","J62-J63","Computer programming, consultancy and related activities; Information services activities",null,null,null,null,null,null,null,null,null,null,null,null,null,null,null,null,null,null,null,null,null,null,null,null,null,null,null,null,null,null,null,null,null,null,null,null,null,null,null,null,null,null,null,null,null,null,null,null,null,null,null,null,null,null,null,null,null,null,null,null,null,null,null,null,null,null,null,null,null,null,null,null,null,null,null,null,null,null,null,null,null,null,null,null,null,null,null,null,"TAX_EU","J62_63","RUT","TRA"]
["K64","K64","Financial service activities, except insurance and pension funding",null,null,null,null,null,null,null,null,null,null,null,null,null,null,null,null,null,null,null,null,null,null,null,null,null,null,null,null,null,null,null,null,null,null,null,null,null,null,null,null,null,null,null,null,null,null,null,null,null,null,null,null,null,null,null,null,null,null,null,null,null,null,null,null,null,null,null,null,null,null,null,null,null,null,null,null,null,null,null,null,null,null,null,null,null,null,null,null,"TAX_EU","K64","RUT","TRA"]
["K65","K65","Insurance, reinsurance and pension funding, except compulsory social security",null,null,null,null,null,null,null,null,null,null,null,null,null,null,null,null,null,null,null,null,null,null,null,null,null,null,null,null,null,null,null,null,null,null,null,null,null,null,null,null,null,null,null,null,null,null,null,null,null,null,null,null,null,null,null,null,null,null,null,null,null,null,null,null,null,null,null,null,null,null,null,null,null,null,null,null,null,null,null,null,null,null,null,null,null,null,null,null,"TAX_EU","K65","RUT","TRA"]
["K66","K66","Activities auxiliary to financial services and insurance activities",null,null,null,null,null,null,null,null,null,null,null,null,null,null,null,null,null,null,null,null,null,null,null,null,null,null,null,null,null,null,null,null,null,null,null,null,null,null,null,null,null,null,null,null,null,null,null,null,null,null,null,null,null,null,null,null,null,null,null,null,null,null,null,null,null,null,null,null,null,null,null,null,null,null,null,null,null,null,null,null,null,null,null,null,null,null,null,null,"TAX_EU","K66","RUT","TRA"]
["L","L68","Real estate activities",null,null,null,null,null,null,null,null,null,null,null,null,null,null,null,null,null,null,null,null,null,null,null,null,null,null,null,null,null,null,null,null,null,null,null,null,null,null,null,null,null,null,null,null,null,null,null,null,null,null,null,null,null,null,null,null,null,null,null,null,null,null,null,null,null,null,null,null,null,null,null,null,null,null,null,null,null,null,null,null,null,null,null,null,null,null,null,null,"TAX_EU","L","RUT","TRA"]
["M69_M70","M69-M70","Legal and accounting activities; activities of head offices; management consultancy activities",null,null,null,null,null,null,null,null,null,null,null,null,null,null,null,null,null,null,null,null,null,null,null,null,null,null,null,null,null,null,null,null,null,null,null,null,null,null,null,null,null,null,null,null,null,null,null,null,null,null,null,null,null,null,null,null,null,null,null,null,null,null,null,null,null,null,null,null,null,null,null,null,null,null,null,null,null,null,null,null,null,null,null,null,null,null,null,null,"TAX_EU","M69_70","RUT","TRA"]
["M71","M71","Architectural and engineering activities; technical testing and analysis",null,null,null,null,null,null,null,null,null,null,null,null,null,null,null,null,null,null,null,null,null,null,null,null,null,null,null,null,null,null,null,null,null,null,null,null,null,null,null,null,null,null,null,null,null,null,null,null,null,null,null,null,null,null,null,null,null,null,null,null,null,null,null,null,null,null,null,null,null,null,null,null,null,null,null,null,null,null,null,null,null,null,null,null,null,null,null,null,"TAX_EU","M71","RUT","TRA"]
["M72","M72","Scientific research and development",null,null,null,null,null,null,null,null,null,null,null,null,null,null,null,null,null,null,null,null,null,null,null,null,null,null,null,null,null,null,null,null,null,null,null,null,null,null,null,null,null,null,null,null,null,null,null,null,null,null,null,null,null,null,null,null,null,null,null,null,null,null,null,null,null,null,null,null,null,null,null,null,null,null,null,null,null,null,null,null,null,null,null,null,null,null,null,null,"TAX_EU","M72","RUT","TRA"]
["M73","M73","Advertising and market research",null,null,null,null,null,null,null,null,null,null,null,null,null,null,null,null,null,null,null,null,null,null,null,null,null,null,null,null,null,null,null,null,null,null,null,null,null,null,null,null,null,null,null,null,null,null,null,null,null,null,null,null,null,null,null,null,null,null,null,null,null,null,null,null,null,null,null,null,null,null,null,null,null,null,null,null,null,null,null,null,null,null,null,null,null,null,null,null,"TAX_EU","M73","RUT","TRA"]
["M74_M75","M74-M75","Other professional, scientific and technical activities; veterinary activities",null,null,null,null,null,null,null,null,null,null,null,null,null,null,null,null,null,null,null,null,null,null,null,null,null,null,null,null,null,null,null,null,null,null,null,null,null,null,null,null,null,null,null,null,null,null,null,null,null,null,null,null,null,null,null,null,null,null,null,null,null,null,null,null,null,null,null,null,null,null,null,null,null,null,null,null,null,null,null,null,null,null,null,null,null,null,null,null,"TAX_EU","M74_75","RUT","TRA"]
["N77","N77","Rental and leasing activities",null,null,null,null,null,null,null,null,null,null,null,null,null,null,null,null,null,null,null,null,null,null,null,null,null,null,null,null,null,null,null,null,null,null,null,null,null,null,null,null,null,null,null,null,null,null,null,null,null,null,null,null,null,null,null,null,null,null,null,null,null,null,null,null,null,null,null,null,null,null,null,null,null,null,null,null,null,null,null,null,null,null,null,null,null,null,null,null,"TAX_EU","N77","RUT","TRA"]
["N78","N78","Employment activities",null,null,null,null,null,null,null,null,null,null,null,null,null,null,null,null,null,null,null,null,null,null,null,null,null,null,null,null,null,null,null,null,null,null,null,null,null,null,null,null,null,null,null,null,null,null,null,null,null,null,null,null,null,null,null,null,null,null,null,null,null,null,null,null,null,null,null,null,null,null,null,null,null,null,null,null,null,null,null,null,null,null,null,null,null,null,null,null,"TAX_EU","N78","RUT","TRA"]
["N79","N79","Travel agency, tour operator reservation service and related activities",null,null,null,null,null,null,null,null,null,null,null,null,null,null,null,null,null,null,null,null,null,null,null,null,null,null,null,null,null,null,null,null,null,null,null,null,null,null,null,null,null,null,null,null,null,null,null,null,null,null,null,null,null,null,null,null,null,null,null,null,null,null,null,null,null,null,null,null,null,null,null,null,null,null,null,null,null,null,null,null,null,null,null,null,null,null,null,null,"TAX_EU","N79","RUT","TRA"]
["N80-N82","N80-N82","Security and investigation activities; services to buildings and landscape activities; office administrative, office support and other business support activities",null,null,null,null,null,null,null,null,null,null,null,null,null,null,null,null,null,null,null,null,null,null,null,null,null,null,null,null,null,null,null,null,null,null,null,null,null,null,null,null,null,null,null,null,null,null,null,null,null,null,null,null,null,null,null,null,null,null,null,null,null,null,null,null,null,null,null,null,null,null,null,null,null,null,null,null,null,null,null,null,null,null,null,null,null,null,null,null,"TAX_EU","N80T82","RUT","TRA"]
["O84","O84","Public administration and defence; compulsory social security",null,null,null,null,null,null,null,null,null,null,null,null,null,null,null,null,null,null,null,null,null,null,null,null,null,null,null,null,null,null,null,null,null,null,null,null,null,null,null,null,null,null,null,null,null,null,null,null,null,null,null,null,null,null,null,null,null,null,null,null,null,null,null,null,null,null,null,null,null,null,null,null,null,null,null,null,null,null,null,null,null,null,null,null,null,null,null,null,"TAX_EU","O","RUT","TRA"]
["P85","P85","Education",null,null,null,null,null,null,null,null,null,null,null,null,null,null,null,null,null,null,null,null,null,null,null,null,null,null,null,null,null,null,null,null,null,null,null,null,null,null,null,null,null,null,null,null,null,null,null,null,null,null,null,null,null,null,null,null,null,null,null,null,null,null,null,null,null,null,null,null,null,null,null,null,null,null,null,null,null,null,null,null,null,null,null,null,null,null,null,null,"TAX_EU","P","RUT","TRA"]
["Q86","Q86","Human health activities",null,null,null,null,null,null,null,null,null,null,null,null,null,null,null,null,null,null,null,null,null,null,null,null,null,null,null,null,null,null,null,null,null,null,null,null,null,null,null,null,null,null,null,null,null,null,null,null,null,null,null,null,null,null,null,null,null,null,null,null,null,null,null,null,null,null,null,null,null,null,null,null,null,null,null,null,null,null,null,null,null,null,null,null,null,null,null,null,"TAX_EU","Q86","RUT","TRA"]
["Q87_Q88","Q87-Q88","Social work activities",null,null,null,null,null,null,null,null,null,null,null,null,null,null,null,null,null,null,null,null,null,null,null,null,null,null,null,null,null,null,null,null,null,null,null,null,null,null,null,null,null,null,null,null,null,null,null,null,null,null,null,null,null,null,null,null,null,null,null,null,null,null,null,null,null,null,null,null,null,null,null,null,null,null,null,null,null,null,null,null,null,null,null,null,null,null,null,null,"TAX_EU","Q87_88","RUT","TRA"]
["R90-R92","R90-R92","Creative, arts and entertainment activities; libraries, archives, museums and other cultural activities; gambling and betting activities",null,null,null,null,null,null,null,null,null,null,null,null,null,null,null,null,null,null,null,null,null,null,null,null,null,null,null,null,null,null,null,null,null,null,null,null,null,null,null,null,null,null,null,null,null,null,null,null,null,null,null,null,null,null,null,null,null,null,null,null,null,null,null,null,null,null,null,null,null,null,null,null,null,null,null,null,null,null,null,null,null,null,null,null,null,null,null,null,"TAX_EU","R90T92","RUT","TRA"]
["R93","R93","Sports activities and amusement and recreation activities",null,null,null,null,null,null,null,null,null,null,null,null,null,null,null,null,null,null,null,null,null,null,null,null,null,null,null,null,null,null,null,null,null,null,null,null,null,null,null,null,null,null,null,null,null,null,null,null,null,null,null,null,null,null,null,null,null,null,null,null,null,null,null,null,null,null,null,null,null,null,null,null,null,null,null,null,null,null,null,null,null,null,null,null,null,null,null,null,"TAX_EU","R93","RUT","TRA"]
["S94","S94","Activities of membership organisations",null,null,null,null,null,null,null,null,null,null,null,null,null,null,null,null,null,null,null,null,null,null,null,null,null,null,null,null,null,null,null,null,null,null,null,null,null,null,null,null,null,null,null,null,null,null,null,null,null,null,null,null,null,null,null,null,null,null,null,null,null,null,null,null,null,null,null,null,null,null,null,null,null,null,null,null,null,null,null,null,null,null,null,null,null,null,null,null,"TAX_EU","S94","RUT","TRA"]
["S95","S95","Repairs of computers and personal and household goods",null,null,null,null,null,null,null,null,null,null,null,null,null,null,null,null,null,null,null,null,null,null,null,null,null,null,null,null,null,null,null,null,null,null,null,null,null,null,null,null,null,null,null,null,null,null,null,null,null,null,null,null,null,null,null,null,null,null,null,null,null,null,null,null,null,null,null,null,null,null,null,null,null,null,null,null,null,null,null,null,null,null,null,null,null,null,null,null,"TAX_EU","S95","RUT","TRA"]
["S96","S96","Other personal service activities",null,null,null,null,null,null,null,null,null,null,null,null,null,null,null,null,null,null,null,null,null,null,null,null,null,null,null,null,null,null,null,null,null,null,null,null,null,null,null,null,null,null,null,null,null,null,null,null,null,null,null,null,null,null,null,null,null,null,null,null,null,null,null,null,null,null,null,null,null,null,null,null,null,null,null,null,null,null,null,null,null,null,null,null,null,null,null,null,"TAX_EU","S96","RUT","TRA"]
["T","T97-T98","Activities of households as employers; undifferentiated goods- and services-producing activities of households for own use",null,null,null,null,null,null,null,null,null,null,null,null,null,null,null,null,null,null,null,null,null,null,null,null,null,null,null,null,null,null,null,null,null,null,null,null,null,null,null,null,null,null,null,null,null,null,null,null,null,null,null,null,null,null,null,null,null,null,null,null,null,null,null,null,null,null,null,null,null,null,null,null,null,null,null,null,null,null,null,null,null,null,null,null,null,null,null,null,"TAX_EU","T","RUT","TRA"]
["U99","U99","Activities of extraterritorial organisations and bodies",null,null,null,null,null,null,null,null,null,null,null,null,null,null,null,null,null,null,null,null,null,null,null,null,null,null,null,null,null,null,null,null,null,null,null,null,null,null,null,null,null,null,null,null,null,null,null,null,null,null,null,null,null,null,null,null,null,null,null,null,null,null,null,null,null,null,null,null,null,null,null,null,null,null,null,null,null,null,null,null,null,null,null,null,null,null,null,null,"TAX_EU","U","RUT","TRA"]
["EP_HH","HH","Households",null,null,null,null,null,null,null,null,null,null,null,null,null,null,null,null,null,null,null,null,null,null,null,null,null,null,null,null,null,null,null,null,null,null,null,null,null,null,null,null,null,null,null,null,null,null,null,null,null,null,null,null,null,null,null,null,null,null,null,null,null,null,null,null,null,null,null,null,null,null,null,null,null,null,null,null,null,null,null,null,null,null,null,null,null,null,null,null,"TAX_EU","HH","RUT","TRA"]
["EP_NRES","NRES","Non-residents",null,null,null,null,null,null,null,null,null,null,null,null,null,null,null,null,null,null,null,null,null,null,null,null,null,null,null,null,null,null,null,null,null,null,null,null,null,null,null,null,null,null,null,null,null,null,null,null,null,null,null,null,null,null,null,null,null,null,null,null,null,null,null,null,null,null,null,null,null,null,null,null,null,null,null,null,null,null,null,null,null,null,null,null,null,null,null,null,"TAX_EU","_T","TER_NRES","TRA"]
["NAL","NAL","Not allocated",null,null,null,null,null,null,null,null,null,null,null,null,null,null,null,null,null,null,null,null,null,null,null,null,null,null,null,null,null,null,null,null,null,null,null,null,null,null,null,null,null,null,null,null,null,null,null,null,null,null,null,null,null,null,null,null,null,null,null,null,null,null,null,null,null,null,null,null,null,null,null,null,null,null,null,null,null,null,null,null,null,null,null,null,null,null,null,null,"TAX_EU","_X","RUT","TRA"]
["TOTAL_HH_NRES","TOT_TRA","Total transport taxes ",{"$f":"IF(COUNT(D5:D71)=0,\":\",SUM(D5:D71))","v":":"},null,{"$f":"IF(COUNT(F5:F71)=0,\":\",SUM(F5:F71))","v":":"},null,{"$f":"IF(COUNT(H5:H71)=0,\":\",SUM(H5:H71))","v":":"},null,{"$f":"IF(COUNT(J5:J71)=0,\":\",SUM(J5:J71))","v":":"},null,{"$f":"IF(COUNT(L5:L71)=0,\":\",SUM(L5:L71))","v":":"},null,{"$f":"IF(COUNT(N5:N71)=0,\":\",SUM(N5:N71))","v":":"},null,{"$f":"IF(COUNT(P5:P71)=0,\":\",SUM(P5:P71))","v":":"},null,{"$f":"IF(COUNT(R5:R71)=0,\":\",SUM(R5:R71))","v":":"},null,{"$f":"IF(COUNT(T5:T71)=0,\":\",SUM(T5:T71))","v":":"},null,{"$f":"IF(COUNT(V5:V71)=0,\":\",SUM(V5:V71))","v":":"},null,{"$f":"IF(COUNT(X5:X71)=0,\":\",SUM(X5:X71))","v":":"},null,{"$f":"IF(COUNT(Z5:Z71)=0,\":\",SUM(Z5:Z71))","v":":"},null,{"$f":"IF(COUNT(AB5:AB71)=0,\":\",SUM(AB5:AB71))","v":":"},null,{"$f":"IF(COUNT(AD5:AD71)=0,\":\",SUM(AD5:AD71))","v":":"},null,{"$f":"IF(COUNT(AF5:AF71)=0,\":\",SUM(AF5:AF71))","v":":"},null,{"$f":"IF(COUNT(AH5:AH71)=0,\":\",SUM(AH5:AH71))","v":":"},null,{"$f":"IF(COUNT(AJ5:AJ71)=0,\":\",SUM(AJ5:AJ71))","v":":"},null,{"$f":"IF(COUNT(AL5:AL71)=0,\":\",SUM(AL5:AL71))","v":":"},null,{"$f":"IF(COUNT(AN5:AN71)=0,\":\",SUM(AN5:AN71))","v":":"},null,{"$f":"IF(COUNT(AP5:AP71)=0,\":\",SUM(AP5:AP71))","v":":"},null,{"$f":"IF(COUNT(AR5:AR71)=0,\":\",SUM(AR5:AR71))","v":":"},null,{"$f":"IF(COUNT(AT5:AT71)=0,\":\",SUM(AT5:AT71))","v":":"},null,{"$f":"IF(COUNT(AV5:AV71)=0,\":\",SUM(AV5:AV71))","v":":"},null,{"$f":"IF(COUNT(AX5:AX71)=0,\":\",SUM(AX5:AX71))","v":":"},null,{"$f":"IF(COUNT(AZ5:AZ71)=0,\":\",SUM(AZ5:AZ71))","v":":"},null,{"$f":"IF(COUNT(BB5:BB71)=0,\":\",SUM(BB5:BB71))","v":":"},null,{"$f":"IF(COUNT(BD5:BD71)=0,\":\",SUM(BD5:BD71))","v":":"},null,{"$f":"IF(COUNT(BF5:BF71)=0,\":\",SUM(BF5:BF71))","v":":"},null,{"$f":"IF(COUNT(BH5:BH71)=0,\":\",SUM(BH5:BH71))","v":":"},null,null,null,null,null,null,null,null,null,null,null,null,null,null,null,null,null,null,null,null,null,null,null,null,null,null,null,null,null,null,null,"TAX_EU","_T","TER","TRA"]
["1","TOT_TRA_NTL","Total transport taxes from the NTL (for comparison and check)",{"$f":"IF(SUMIF('NTL_National Tax List'!$K$5:$K$300,\"T*\",'NTL_National Tax List'!L5:L300)=0,\":\",SUMIF('NTL_National Tax List'!$K$5:$K$300,\"T*\",'NTL_National Tax List'!L5:L300))","v":":"},null,{"$f":"IF(SUMIF('NTL_National Tax List'!$K$5:$K$300,\"T*\",'NTL_National Tax List'!M5:M300)=0,\":\",SUMIF('NTL_National Tax List'!$K$5:$K$300,\"T*\",'NTL_National Tax List'!M5:M300))","v":":"},null,{"$f":"IF(SUMIF('NTL_National Tax List'!$K$5:$K$300,\"T*\",'NTL_National Tax List'!N5:N300)=0,\":\",SUMIF('NTL_National Tax List'!$K$5:$K$300,\"T*\",'NTL_National Tax List'!N5:N300))","v":":"},null,{"$f":"IF(SUMIF('NTL_National Tax List'!$K$5:$K$300,\"T*\",'NTL_National Tax List'!O5:O300)=0,\":\",SUMIF('NTL_National Tax List'!$K$5:$K$300,\"T*\",'NTL_National Tax List'!O5:O300))","v":":"},null,{"$f":"IF(SUMIF('NTL_National Tax List'!$K$5:$K$300,\"T*\",'NTL_National Tax List'!P5:P300)=0,\":\",SUMIF('NTL_National Tax List'!$K$5:$K$300,\"T*\",'NTL_National Tax List'!P5:P300))","v":":"},null,{"$f":"IF(SUMIF('NTL_National Tax List'!$K$5:$K$300,\"T*\",'NTL_National Tax List'!Q5:Q300)=0,\":\",SUMIF('NTL_National Tax List'!$K$5:$K$300,\"T*\",'NTL_National Tax List'!Q5:Q300))","v":":"},null,{"$f":"IF(SUMIF('NTL_National Tax List'!$K$5:$K$300,\"T*\",'NTL_National Tax List'!R5:R300)=0,\":\",SUMIF('NTL_National Tax List'!$K$5:$K$300,\"T*\",'NTL_National Tax List'!R5:R300))","v":":"},null,{"$f":"IF(SUMIF('NTL_National Tax List'!$K$5:$K$300,\"T*\",'NTL_National Tax List'!S5:S300)=0,\":\",SUMIF('NTL_National Tax List'!$K$5:$K$300,\"T*\",'NTL_National Tax List'!S5:S300))","v":":"},null,{"$f":"IF(SUMIF('NTL_National Tax List'!$K$5:$K$300,\"T*\",'NTL_National Tax List'!T5:T300)=0,\":\",SUMIF('NTL_National Tax List'!$K$5:$K$300,\"T*\",'NTL_National Tax List'!T5:T300))","v":":"},null,{"$f":"IF(SUMIF('NTL_National Tax List'!$K$5:$K$300,\"T*\",'NTL_National Tax List'!U5:U300)=0,\":\",SUMIF('NTL_National Tax List'!$K$5:$K$300,\"T*\",'NTL_National Tax List'!U5:U300))","v":":"},null,{"$f":"IF(SUMIF('NTL_National Tax List'!$K$5:$K$300,\"T*\",'NTL_National Tax List'!V5:V300)=0,\":\",SUMIF('NTL_National Tax List'!$K$5:$K$300,\"T*\",'NTL_National Tax List'!V5:V300))","v":":"},null,{"$f":"IF(SUMIF('NTL_National Tax List'!$K$5:$K$300,\"T*\",'NTL_National Tax List'!W5:W300)=0,\":\",SUMIF('NTL_National Tax List'!$K$5:$K$300,\"T*\",'NTL_National Tax List'!W5:W300))","v":":"},null,{"$f":"IF(SUMIF('NTL_National Tax List'!$K$5:$K$300,\"T*\",'NTL_National Tax List'!X5:X300)=0,\":\",SUMIF('NTL_National Tax List'!$K$5:$K$300,\"T*\",'NTL_National Tax List'!X5:X300))","v":":"},null,{"$f":"IF(SUMIF('NTL_National Tax List'!$K$5:$K$300,\"T*\",'NTL_National Tax List'!Y5:Y300)=0,\":\",SUMIF('NTL_National Tax List'!$K$5:$K$300,\"T*\",'NTL_National Tax List'!Y5:Y300))","v":":"},null,{"$f":"IF(SUMIF('NTL_National Tax List'!$K$5:$K$300,\"T*\",'NTL_National Tax List'!Z5:Z300)=0,\":\",SUMIF('NTL_National Tax List'!$K$5:$K$300,\"T*\",'NTL_National Tax List'!Z5:Z300))","v":":"},null,{"$f":"IF(SUMIF('NTL_National Tax List'!$K$5:$K$300,\"T*\",'NTL_National Tax List'!AA5:AA300)=0,\":\",SUMIF('NTL_National Tax List'!$K$5:$K$300,\"T*\",'NTL_National Tax List'!AA5:AA300))","v":":"},null,{"$f":"IF(SUMIF('NTL_National Tax List'!$K$5:$K$300,\"T*\",'NTL_National Tax List'!AB5:AB300)=0,\":\",SUMIF('NTL_National Tax List'!$K$5:$K$300,\"T*\",'NTL_National Tax List'!AB5:AB300))","v":":"},null,{"$f":"IF(SUMIF('NTL_National Tax List'!$K$5:$K$300,\"T*\",'NTL_National Tax List'!AC5:AC300)=0,\":\",SUMIF('NTL_National Tax List'!$K$5:$K$300,\"T*\",'NTL_National Tax List'!AC5:AC300))","v":":"},null,{"$f":"IF(SUMIF('NTL_National Tax List'!$K$5:$K$300,\"T*\",'NTL_National Tax List'!AD5:AD300)=0,\":\",SUMIF('NTL_National Tax List'!$K$5:$K$300,\"T*\",'NTL_National Tax List'!AD5:AD300))","v":":"},null,{"$f":"IF(SUMIF('NTL_National Tax List'!$K$5:$K$300,\"T*\",'NTL_National Tax List'!AE5:AE300)=0,\":\",SUMIF('NTL_National Tax List'!$K$5:$K$300,\"T*\",'NTL_National Tax List'!AE5:AE300))","v":":"},null,{"$f":"IF(SUMIF('NTL_National Tax List'!$K$5:$K$300,\"T*\",'NTL_National Tax List'!AF5:AF300)=0,\":\",SUMIF('NTL_National Tax List'!$K$5:$K$300,\"T*\",'NTL_National Tax List'!AF5:AF300))","v":":"},null,{"$f":"IF(SUMIF('NTL_National Tax List'!$K$5:$K$300,\"T*\",'NTL_National Tax List'!AG5:AG300)=0,\":\",SUMIF('NTL_National Tax List'!$K$5:$K$300,\"T*\",'NTL_National Tax List'!AG5:AG300))","v":":"},null,{"$f":"IF(SUMIF('NTL_National Tax List'!$K$5:$K$300,\"T*\",'NTL_National Tax List'!AH5:AH300)=0,\":\",SUMIF('NTL_National Tax List'!$K$5:$K$300,\"T*\",'NTL_National Tax List'!AH5:AH300))","v":":"},null,{"$f":"IF(SUMIF('NTL_National Tax List'!$K$5:$K$300,\"T*\",'NTL_National Tax List'!AI5:AI300)=0,\":\",SUMIF('NTL_National Tax List'!$K$5:$K$300,\"T*\",'NTL_National Tax List'!AI5:AI300))","v":":"},null,{"$f":"IF(SUMIF('NTL_National Tax List'!$K$5:$K$300,\"T*\",'NTL_National Tax List'!AJ5:AJ300)=0,\":\",SUMIF('NTL_National Tax List'!$K$5:$K$300,\"T*\",'NTL_National Tax List'!AJ5:AJ300))","v":":"},null,{"$f":"IF(SUMIF('NTL_National Tax List'!$K$5:$K$300,\"T*\",'NTL_National Tax List'!AK5:AK300)=0,\":\",SUMIF('NTL_National Tax List'!$K$5:$K$300,\"T*\",'NTL_National Tax List'!AK5:AK300))","v":":"},null,{"$f":"IF(SUMIF('NTL_National Tax List'!$K$5:$K$300,\"T*\",'NTL_National Tax List'!AL5:AL300)=0,\":\",SUMIF('NTL_National Tax List'!$K$5:$K$300,\"T*\",'NTL_National Tax List'!AL5:AL300))","v":":"},null,{"$f":"IF(SUMIF('NTL_National Tax List'!$K$5:$K$300,\"T*\",'NTL_National Tax List'!AM5:AM300)=0,\":\",SUMIF('NTL_National Tax List'!$K$5:$K$300,\"T*\",'NTL_National Tax List'!AM5:AM300))","v":":"},null,{"$f":"IF(SUMIF('NTL_National Tax List'!$K$5:$K$300,\"E*\",'NTL_National Tax List'!AO5:AO300)=0,\":\",SUMIF('NTL_National Tax List'!$K$5:$K$300,\"E*\",'NTL_National Tax List'!AO5:AO300))","v":":"}]
["2","TOT_TRA_TRA_NTL","% diff. Between total transport taxes and total transport taxes from the NTL",{"$f":"IFERROR((D72-D73)/D73*100,IFERROR((D72-D73)/D72*100,\":\"))","v":":"},null,{"$f":"IFERROR((F72-F73)/F73*100,IFERROR((F72-F73)/F72*100,\":\"))","v":":"},null,{"$f":"IFERROR((H72-H73)/H73*100,IFERROR((H72-H73)/H72*100,\":\"))","v":":"},null,{"$f":"IFERROR((J72-J73)/J73*100,IFERROR((J72-J73)/J72*100,\":\"))","v":":"},null,{"$f":"IFERROR((L72-L73)/L73*100,IFERROR((L72-L73)/L72*100,\":\"))","v":":"},null,{"$f":"IFERROR((N72-N73)/N73*100,IFERROR((N72-N73)/N72*100,\":\"))","v":":"},null,{"$f":"IFERROR((P72-P73)/P73*100,IFERROR((P72-P73)/P72*100,\":\"))","v":":"},null,{"$f":"IFERROR((R72-R73)/R73*100,IFERROR((R72-R73)/R72*100,\":\"))","v":":"},null,{"$f":"IFERROR((T72-T73)/T73*100,IFERROR((T72-T73)/T72*100,\":\"))","v":":"},null,{"$f":"IFERROR((V72-V73)/V73*100,IFERROR((V72-V73)/V72*100,\":\"))","v":":"},null,{"$f":"IFERROR((X72-X73)/X73*100,IFERROR((X72-X73)/X72*100,\":\"))","v":":"},null,{"$f":"IFERROR((Z72-Z73)/Z73*100,IFERROR((Z72-Z73)/Z72*100,\":\"))","v":":"},null,{"$f":"IFERROR((AB72-AB73)/AB73*100,IFERROR((AB72-AB73)/AB72*100,\":\"))","v":":"},null,{"$f":"IFERROR((AD72-AD73)/AD73*100,IFERROR((AD72-AD73)/AD72*100,\":\"))","v":":"},null,{"$f":"IFERROR((AF72-AF73)/AF73*100,IFERROR((AF72-AF73)/AF72*100,\":\"))","v":":"},null,{"$f":"IFERROR((AH72-AH73)/AH73*100,IFERROR((AH72-AH73)/AH72*100,\":\"))","v":":"},null,{"$f":"IFERROR((AJ72-AJ73)/AJ73*100,IFERROR((AJ72-AJ73)/AJ72*100,\":\"))","v":":"},null,{"$f":"IFERROR((AL72-AL73)/AL73*100,IFERROR((AL72-AL73)/AL72*100,\":\"))","v":":"},null,{"$f":"IFERROR((AN72-AN73)/AN73*100,IFERROR((AN72-AN73)/AN72*100,\":\"))","v":":"},null,{"$f":"IFERROR((AP72-AP73)/AP73*100,IFERROR((AP72-AP73)/AP72*100,\":\"))","v":":"},null,{"$f":"IFERROR((AR72-AR73)/AR73*100,IFERROR((AR72-AR73)/AR72*100,\":\"))","v":":"},null,{"$f":"IFERROR((AT72-AT73)/AT73*100,IFERROR((AT72-AT73)/AT72*100,\":\"))","v":":"},null,{"$f":"IFERROR((AV72-AV73)/AV73*100,IFERROR((AV72-AV73)/AV72*100,\":\"))","v":":"},null,{"$f":"IFERROR((AX72-AX73)/AX73*100,IFERROR((AX72-AX73)/AX72*100,\":\"))","v":":"},null,{"$f":"IFERROR((AZ72-AZ73)/AZ73*100,IFERROR((AZ72-AZ73)/AZ72*100,\":\"))","v":":"},null,{"$f":"IFERROR((BB72-BB73)/BB73*100,IFERROR((BB72-BB73)/BB72*100,\":\"))","v":":"},null,{"$f":"IFERROR((BD72-BD73)/BD73*100,IFERROR((BD72-BD73)/BD72*100,\":\"))","v":":"},null,{"$f":"IFERROR((BF72-BF73)/BF73*100,IFERROR((BF72-BF73)/BF72*100,\":\"))","v":":"},null,{"$f":"IFERROR((BH72-BH73)/BH73*100,IFERROR((BH72-BH73)/BH72*100,\":\"))","v":":"}]
["3",null,"Environmental taxes for national purposes (difference between total reported above and total published for national purposes)",null,null,null,null,null,null,null,null,null,null,null,null,null,null,null,null,null,null,null,null,null,null,null,null,null,null,null,null,null,null,null,null,null,null,null,null,null,null,null,null,null,null,null,null,null,null,null,null,null,null,null,null,null,null,null,null,null,null,null,null,null,null,null,null,null,null,null,null,null,null,null,null,null,null,null,null,null,null,null,null,null,null,null,null,null,null,null,null,"TAX_NAC","_T","RUT","TRA"]
["5",null,"Other environmentally related payments to government (fees and charges)",null,null,null,null,null,null,null,null,null,null,null,null,null,null,null,null,null,null,null,null,null,null,null,null,null,null,null,null,null,null,null,null,null,null,null,null,null,null,null,null,null,null,null,null,null,null,null,null,null,null,null,null,null,null,null,null,null,null,null,null,null,null,null,null,null,null,null,null,null,null,null,null,null,null,null,null,null,null,null,null,null,null,null,null,null,null,null,null,"FEE_NAC","_T","RUT","TRA"]
[]
[null,"NACE Rev. 2 aggregated industries classification ",null,{"$f":"D4","v":1995},"footnotes",1996,"footnotes",1997,"footnotes",1998,"footnotes",1999,"footnotes",2000,"footnotes",2001,"footnotes",2002,"footnotes",2003,"footnotes",2004,"footnotes",2005,"footnotes",2006,"footnotes",2007,"footnotes",2008,"footnotes",2009,"footnotes",2010,"footnotes",2011,"footnotes",2012,"footnotes",2013,"footnotes",2014,"footnotes",2015,"footnotes",2016,"footnotes",2017,"footnotes",2018,"footnotes",2019,"footnotes",2020,"footnotes",2021,{"$f":"BE4","v":"footnotes"},{"$f":"BF4","v":2022},{"$f":"BG4","v":"footnotes"},{"$f":"BH4","v":2023},{"$f":"BI4","v":"footnotes"}]
["A","A01-A03","Agriculture, forestry and fishing",{"$f":"IF(COUNT(D5,D6,D7)=0,\":\",SUM(D5,D6,D7))","v":":"},null,{"$f":"IF(COUNT(F5,F6,F7)=0,\":\",SUM(F5,F6,F7))","v":":"},null,{"$f":"IF(COUNT(H5,H6,H7)=0,\":\",SUM(H5,H6,H7))","v":":"},null,{"$f":"IF(COUNT(J5,J6,J7)=0,\":\",SUM(J5,J6,J7))","v":":"},null,{"$f":"IF(COUNT(L5,L6,L7)=0,\":\",SUM(L5,L6,L7))","v":":"},null,{"$f":"IF(COUNT(N5,N6,N7)=0,\":\",SUM(N5,N6,N7))","v":":"},null,{"$f":"IF(COUNT(P5,P6,P7)=0,\":\",SUM(P5,P6,P7))","v":":"},null,{"$f":"IF(COUNT(R5,R6,R7)=0,\":\",SUM(R5,R6,R7))","v":":"},null,{"$f":"IF(COUNT(T5,T6,T7)=0,\":\",SUM(T5,T6,T7))","v":":"},null,{"$f":"IF(COUNT(V5,V6,V7)=0,\":\",SUM(V5,V6,V7))","v":":"},null,{"$f":"IF(COUNT(X5,X6,X7)=0,\":\",SUM(X5,X6,X7))","v":":"},null,{"$f":"IF(COUNT(Z5,Z6,Z7)=0,\":\",SUM(Z5,Z6,Z7))","v":":"},null,{"$f":"IF(COUNT(AB5,AB6,AB7)=0,\":\",SUM(AB5,AB6,AB7))","v":":"},null,{"$f":"IF(COUNT(AD5,AD6,AD7)=0,\":\",SUM(AD5,AD6,AD7))","v":":"},null,{"$f":"IF(COUNT(AF5,AF6,AF7)=0,\":\",SUM(AF5,AF6,AF7))","v":":"},null,{"$f":"IF(COUNT(AH5,AH6,AH7)=0,\":\",SUM(AH5,AH6,AH7))","v":":"},null,{"$f":"IF(COUNT(AJ5,AJ6,AJ7)=0,\":\",SUM(AJ5,AJ6,AJ7))","v":":"},null,{"$f":"IF(COUNT(AL5,AL6,AL7)=0,\":\",SUM(AL5,AL6,AL7))","v":":"},null,{"$f":"IF(COUNT(AN5,AN6,AN7)=0,\":\",SUM(AN5,AN6,AN7))","v":":"},null,{"$f":"IF(COUNT(AP5,AP6,AP7)=0,\":\",SUM(AP5,AP6,AP7))","v":":"},null,{"$f":"IF(COUNT(AR5,AR6,AR7)=0,\":\",SUM(AR5,AR6,AR7))","v":":"},null,{"$f":"IF(COUNT(AT5,AT6,AT7)=0,\":\",SUM(AT5,AT6,AT7))","v":":"},null,{"$f":"IF(COUNT(AV5,AV6,AV7)=0,\":\",SUM(AV5,AV6,AV7))","v":":"},null,{"$f":"IF(COUNT(AX5,AX6,AX7)=0,\":\",SUM(AX5,AX6,AX7))","v":":"},null,{"$f":"IF(COUNT(AZ5,AZ6,AZ7)=0,\":\",SUM(AZ5,AZ6,AZ7))","v":":"},null,{"$f":"IF(COUNT(BB5,BB6,BB7)=0,\":\",SUM(BB5,BB6,BB7))","v":":"},null,{"$f":"IF(COUNT(BD5,BD6,BD7)=0,\":\",SUM(BD5,BD6,BD7))","v":":"},null,{"$f":"IF(COUNT(BF5,BF6,BF7)=0,\":\",SUM(BF5,BF6,BF7))","v":":"},null,{"$f":"IF(COUNT(BH5,BH6,BH7)=0,\":\",SUM(BH5,BH6,BH7))","v":":"},null,null,null,null,null,null,null,null,null,null,null,null,null,null,null,null,null,null,null,null,null,null,null,null,null,null,null,null,null,null,null,"TAX_EU","A","RUT","TRA"]
[null,"B05-B09","Mining and quarrying",{"$f":"IF(COUNT(D8)=0,\":\",SUM(D8))","v":":"},null,{"$f":"IF(COUNT(F8)=0,\":\",SUM(F8))","v":":"},null,{"$f":"IF(COUNT(H8)=0,\":\",SUM(H8))","v":":"},null,{"$f":"IF(COUNT(J8)=0,\":\",SUM(J8))","v":":"},null,{"$f":"IF(COUNT(L8)=0,\":\",SUM(L8))","v":":"},null,{"$f":"IF(COUNT(N8)=0,\":\",SUM(N8))","v":":"},null,{"$f":"IF(COUNT(P8)=0,\":\",SUM(P8))","v":":"},null,{"$f":"IF(COUNT(R8)=0,\":\",SUM(R8))","v":":"},null,{"$f":"IF(COUNT(T8)=0,\":\",SUM(T8))","v":":"},null,{"$f":"IF(COUNT(V8)=0,\":\",SUM(V8))","v":":"},null,{"$f":"IF(COUNT(X8)=0,\":\",SUM(X8))","v":":"},null,{"$f":"IF(COUNT(Z8)=0,\":\",SUM(Z8))","v":":"},null,{"$f":"IF(COUNT(AB8)=0,\":\",SUM(AB8))","v":":"},null,{"$f":"IF(COUNT(AD8)=0,\":\",SUM(AD8))","v":":"},null,{"$f":"IF(COUNT(AF8)=0,\":\",SUM(AF8))","v":":"},null,{"$f":"IF(COUNT(AH8)=0,\":\",SUM(AH8))","v":":"},null,{"$f":"IF(COUNT(AJ8)=0,\":\",SUM(AJ8))","v":":"},null,{"$f":"IF(COUNT(AL8)=0,\":\",SUM(AL8))","v":":"},null,{"$f":"IF(COUNT(AN8)=0,\":\",SUM(AN8))","v":":"},null,{"$f":"IF(COUNT(AP8)=0,\":\",SUM(AP8))","v":":"},null,{"$f":"IF(COUNT(AR8)=0,\":\",SUM(AR8))","v":":"},null,{"$f":"IF(COUNT(AT8)=0,\":\",SUM(AT8))","v":":"},null,{"$f":"IF(COUNT(AV8)=0,\":\",SUM(AV8))","v":":"},null,{"$f":"IF(COUNT(AX8)=0,\":\",SUM(AX8))","v":":"},null,{"$f":"IF(COUNT(AZ8)=0,\":\",SUM(AZ8))","v":":"},null,{"$f":"IF(COUNT(BB8)=0,\":\",SUM(BB8))","v":":"},null,{"$f":"IF(COUNT(BD8)=0,\":\",SUM(BD8))","v":":"},null,{"$f":"IF(COUNT(BF8)=0,\":\",SUM(BF8))","v":":"},null,{"$f":"IF(COUNT(BH8)=0,\":\",SUM(BH8))","v":":"}]
["C","C10-C33","Manufacturing",{"$f":"IF(COUNT(D9:D27)=0,\":\",SUM(D9:D27))","v":":"},null,{"$f":"IF(COUNT(F9:F27)=0,\":\",SUM(F9:F27))","v":":"},null,{"$f":"IF(COUNT(H9:H27)=0,\":\",SUM(H9:H27))","v":":"},null,{"$f":"IF(COUNT(J9:J27)=0,\":\",SUM(J9:J27))","v":":"},null,{"$f":"IF(COUNT(L9:L27)=0,\":\",SUM(L9:L27))","v":":"},null,{"$f":"IF(COUNT(N9:N27)=0,\":\",SUM(N9:N27))","v":":"},null,{"$f":"IF(COUNT(P9:P27)=0,\":\",SUM(P9:P27))","v":":"},null,{"$f":"IF(COUNT(R9:R27)=0,\":\",SUM(R9:R27))","v":":"},null,{"$f":"IF(COUNT(T9:T27)=0,\":\",SUM(T9:T27))","v":":"},null,{"$f":"IF(COUNT(V9:V27)=0,\":\",SUM(V9:V27))","v":":"},null,{"$f":"IF(COUNT(X9:X27)=0,\":\",SUM(X9:X27))","v":":"},null,{"$f":"IF(COUNT(Z9:Z27)=0,\":\",SUM(Z9:Z27))","v":":"},null,{"$f":"IF(COUNT(AB9:AB27)=0,\":\",SUM(AB9:AB27))","v":":"},null,{"$f":"IF(COUNT(AD9:AD27)=0,\":\",SUM(AD9:AD27))","v":":"},null,{"$f":"IF(COUNT(AF9:AF27)=0,\":\",SUM(AF9:AF27))","v":":"},null,{"$f":"IF(COUNT(AH9:AH27)=0,\":\",SUM(AH9:AH27))","v":":"},null,{"$f":"IF(COUNT(AJ9:AJ27)=0,\":\",SUM(AJ9:AJ27))","v":":"},null,{"$f":"IF(COUNT(AL9:AL27)=0,\":\",SUM(AL9:AL27))","v":":"},null,{"$f":"IF(COUNT(AN9:AN27)=0,\":\",SUM(AN9:AN27))","v":":"},null,{"$f":"IF(COUNT(AP9:AP27)=0,\":\",SUM(AP9:AP27))","v":":"},null,{"$f":"IF(COUNT(AR9:AR27)=0,\":\",SUM(AR9:AR27))","v":":"},null,{"$f":"IF(COUNT(AT9:AT27)=0,\":\",SUM(AT9:AT27))","v":":"},null,{"$f":"IF(COUNT(AV9:AV27)=0,\":\",SUM(AV9:AV27))","v":":"},null,{"$f":"IF(COUNT(AX9:AX27)=0,\":\",SUM(AX9:AX27))","v":":"},null,{"$f":"IF(COUNT(AZ9:AZ27)=0,\":\",SUM(AZ9:AZ27))","v":":"},null,{"$f":"IF(COUNT(BB9:BB27)=0,\":\",SUM(BB9:BB27))","v":":"},null,{"$f":"IF(COUNT(BD9:BD27)=0,\":\",SUM(BD9:BD27))","v":":"},null,{"$f":"IF(COUNT(BF9:BF27)=0,\":\",SUM(BF9:BF27))","v":":"},null,{"$f":"IF(COUNT(BH9:BH27)=0,\":\",SUM(BH9:BH27))","v":":"},null,null,null,null,null,null,null,null,null,null,null,null,null,null,null,null,null,null,null,null,null,null,null,null,null,null,null,null,null,null,null,"TAX_EU","C","RUT","TRA"]
[null,"D35","Electricity, gas, steam and air conditioning supply",{"$f":"IF(COUNT(D28)=0,\":\",SUM(D28))","v":":"},null,{"$f":"IF(COUNT(F28)=0,\":\",SUM(F28))","v":":"},null,{"$f":"IF(COUNT(H28)=0,\":\",SUM(H28))","v":":"},null,{"$f":"IF(COUNT(J28)=0,\":\",SUM(J28))","v":":"},null,{"$f":"IF(COUNT(L28)=0,\":\",SUM(L28))","v":":"},null,{"$f":"IF(COUNT(N28)=0,\":\",SUM(N28))","v":":"},null,{"$f":"IF(COUNT(P28)=0,\":\",SUM(P28))","v":":"},null,{"$f":"IF(COUNT(R28)=0,\":\",SUM(R28))","v":":"},null,{"$f":"IF(COUNT(T28)=0,\":\",SUM(T28))","v":":"},null,{"$f":"IF(COUNT(V28)=0,\":\",SUM(V28))","v":":"},null,{"$f":"IF(COUNT(X28)=0,\":\",SUM(X28))","v":":"},null,{"$f":"IF(COUNT(Z28)=0,\":\",SUM(Z28))","v":":"},null,{"$f":"IF(COUNT(AB28)=0,\":\",SUM(AB28))","v":":"},null,{"$f":"IF(COUNT(AD28)=0,\":\",SUM(AD28))","v":":"},null,{"$f":"IF(COUNT(AF28)=0,\":\",SUM(AF28))","v":":"},null,{"$f":"IF(COUNT(AH28)=0,\":\",SUM(AH28))","v":":"},null,{"$f":"IF(COUNT(AJ28)=0,\":\",SUM(AJ28))","v":":"},null,{"$f":"IF(COUNT(AL28)=0,\":\",SUM(AL28))","v":":"},null,{"$f":"IF(COUNT(AN28)=0,\":\",SUM(AN28))","v":":"},null,{"$f":"IF(COUNT(AP28)=0,\":\",SUM(AP28))","v":":"},null,{"$f":"IF(COUNT(AR28)=0,\":\",SUM(AR28))","v":":"},null,{"$f":"IF(COUNT(AT28)=0,\":\",SUM(AT28))","v":":"},null,{"$f":"IF(COUNT(AV28)=0,\":\",SUM(AV28))","v":":"},null,{"$f":"IF(COUNT(AX28)=0,\":\",SUM(AX28))","v":":"},null,{"$f":"IF(COUNT(AZ28)=0,\":\",SUM(AZ28))","v":":"},null,{"$f":"IF(COUNT(BB28)=0,\":\",SUM(BB28))","v":":"},null,{"$f":"IF(COUNT(BD28)=0,\":\",SUM(BD28))","v":":"},null,{"$f":"IF(COUNT(BF28)=0,\":\",SUM(BF28))","v":":"},null,{"$f":"IF(COUNT(BH28)=0,\":\",SUM(BH28))","v":":"}]
["E","E36-E39","Water supply, sewerage, waste management, remediation activities",{"$f":"IF(COUNT(D29:D30)=0,\":\",SUM(D29:D30))","v":":"},null,{"$f":"IF(COUNT(F29:F30)=0,\":\",SUM(F29:F30))","v":":"},null,{"$f":"IF(COUNT(H29:H30)=0,\":\",SUM(H29:H30))","v":":"},null,{"$f":"IF(COUNT(J29:J30)=0,\":\",SUM(J29:J30))","v":":"},null,{"$f":"IF(COUNT(L29:L30)=0,\":\",SUM(L29:L30))","v":":"},null,{"$f":"IF(COUNT(N29:N30)=0,\":\",SUM(N29:N30))","v":":"},null,{"$f":"IF(COUNT(P29:P30)=0,\":\",SUM(P29:P30))","v":":"},null,{"$f":"IF(COUNT(R29:R30)=0,\":\",SUM(R29:R30))","v":":"},null,{"$f":"IF(COUNT(T29:T30)=0,\":\",SUM(T29:T30))","v":":"},null,{"$f":"IF(COUNT(V29:V30)=0,\":\",SUM(V29:V30))","v":":"},null,{"$f":"IF(COUNT(X29:X30)=0,\":\",SUM(X29:X30))","v":":"},null,{"$f":"IF(COUNT(Z29:Z30)=0,\":\",SUM(Z29:Z30))","v":":"},null,{"$f":"IF(COUNT(AB29:AB30)=0,\":\",SUM(AB29:AB30))","v":":"},null,{"$f":"IF(COUNT(AD29:AD30)=0,\":\",SUM(AD29:AD30))","v":":"},null,{"$f":"IF(COUNT(AF29:AF30)=0,\":\",SUM(AF29:AF30))","v":":"},null,{"$f":"IF(COUNT(AH29:AH30)=0,\":\",SUM(AH29:AH30))","v":":"},null,{"$f":"IF(COUNT(AJ29:AJ30)=0,\":\",SUM(AJ29:AJ30))","v":":"},null,{"$f":"IF(COUNT(AL29:AL30)=0,\":\",SUM(AL29:AL30))","v":":"},null,{"$f":"IF(COUNT(AN29:AN30)=0,\":\",SUM(AN29:AN30))","v":":"},null,{"$f":"IF(COUNT(AP29:AP30)=0,\":\",SUM(AP29:AP30))","v":":"},null,{"$f":"IF(COUNT(AR29:AR30)=0,\":\",SUM(AR29:AR30))","v":":"},null,{"$f":"IF(COUNT(AT29:AT30)=0,\":\",SUM(AT29:AT30))","v":":"},null,{"$f":"IF(COUNT(AV29:AV30)=0,\":\",SUM(AV29:AV30))","v":":"},null,{"$f":"IF(COUNT(AX29:AX30)=0,\":\",SUM(AX29:AX30))","v":":"},null,{"$f":"IF(COUNT(AZ29:AZ30)=0,\":\",SUM(AZ29:AZ30))","v":":"},null,{"$f":"IF(COUNT(BB29:BB30)=0,\":\",SUM(BB29:BB30))","v":":"},null,{"$f":"IF(COUNT(BD29:BD30)=0,\":\",SUM(BD29:BD30))","v":":"},null,{"$f":"IF(COUNT(BF29:BF30)=0,\":\",SUM(BF29:BF30))","v":":"},null,{"$f":"IF(COUNT(BH29:BH30)=0,\":\",SUM(BH29:BH30))","v":":"},null,null,null,null,null,null,null,null,null,null,null,null,null,null,null,null,null,null,null,null,null,null,null,null,null,null,null,null,null,null,null,"TAX_EU","E","RUT","TRA"]
[null,"F41-F43","Construction ",{"$f":"IF(COUNT(D31)=0,\":\",SUM(D31))","v":":"},null,{"$f":"IF(COUNT(F31)=0,\":\",SUM(F31))","v":":"},null,{"$f":"IF(COUNT(H31)=0,\":\",SUM(H31))","v":":"},null,{"$f":"IF(COUNT(J31)=0,\":\",SUM(J31))","v":":"},null,{"$f":"IF(COUNT(L31)=0,\":\",SUM(L31))","v":":"},null,{"$f":"IF(COUNT(N31)=0,\":\",SUM(N31))","v":":"},null,{"$f":"IF(COUNT(P31)=0,\":\",SUM(P31))","v":":"},null,{"$f":"IF(COUNT(R31)=0,\":\",SUM(R31))","v":":"},null,{"$f":"IF(COUNT(T31)=0,\":\",SUM(T31))","v":":"},null,{"$f":"IF(COUNT(V31)=0,\":\",SUM(V31))","v":":"},null,{"$f":"IF(COUNT(X31)=0,\":\",SUM(X31))","v":":"},null,{"$f":"IF(COUNT(Z31)=0,\":\",SUM(Z31))","v":":"},null,{"$f":"IF(COUNT(AB31)=0,\":\",SUM(AB31))","v":":"},null,{"$f":"IF(COUNT(AD31)=0,\":\",SUM(AD31))","v":":"},null,{"$f":"IF(COUNT(AF31)=0,\":\",SUM(AF31))","v":":"},null,{"$f":"IF(COUNT(AH31)=0,\":\",SUM(AH31))","v":":"},null,{"$f":"IF(COUNT(AJ31)=0,\":\",SUM(AJ31))","v":":"},null,{"$f":"IF(COUNT(AL31)=0,\":\",SUM(AL31))","v":":"},null,{"$f":"IF(COUNT(AN31)=0,\":\",SUM(AN31))","v":":"},null,{"$f":"IF(COUNT(AP31)=0,\":\",SUM(AP31))","v":":"},null,{"$f":"IF(COUNT(AR31)=0,\":\",SUM(AR31))","v":":"},null,{"$f":"IF(COUNT(AT31)=0,\":\",SUM(AT31))","v":":"},null,{"$f":"IF(COUNT(AV31)=0,\":\",SUM(AV31))","v":":"},null,{"$f":"IF(COUNT(AX31)=0,\":\",SUM(AX31))","v":":"},null,{"$f":"IF(COUNT(AZ31)=0,\":\",SUM(AZ31))","v":":"},null,{"$f":"IF(COUNT(BB31)=0,\":\",SUM(BB31))","v":":"},null,{"$f":"IF(COUNT(BD31)=0,\":\",SUM(BD31))","v":":"},null,{"$f":"IF(COUNT(BF31)=0,\":\",SUM(BF31))","v":":"},null,{"$f":"IF(COUNT(BH31)=0,\":\",SUM(BH31))","v":":"}]
["G","G45-G47","Wholesale and retail trade; repair of motor vehicles and motorcycles",{"$f":"IF(COUNT(D32:D34)=0,\":\",SUM(D32:D34))","v":":"},null,{"$f":"IF(COUNT(F32:F34)=0,\":\",SUM(F32:F34))","v":":"},null,{"$f":"IF(COUNT(H32:H34)=0,\":\",SUM(H32:H34))","v":":"},null,{"$f":"IF(COUNT(J32:J34)=0,\":\",SUM(J32:J34))","v":":"},null,{"$f":"IF(COUNT(L32:L34)=0,\":\",SUM(L32:L34))","v":":"},null,{"$f":"IF(COUNT(N32:N34)=0,\":\",SUM(N32:N34))","v":":"},null,{"$f":"IF(COUNT(P32:P34)=0,\":\",SUM(P32:P34))","v":":"},null,{"$f":"IF(COUNT(R32:R34)=0,\":\",SUM(R32:R34))","v":":"},null,{"$f":"IF(COUNT(T32:T34)=0,\":\",SUM(T32:T34))","v":":"},null,{"$f":"IF(COUNT(V32:V34)=0,\":\",SUM(V32:V34))","v":":"},null,{"$f":"IF(COUNT(X32:X34)=0,\":\",SUM(X32:X34))","v":":"},null,{"$f":"IF(COUNT(Z32:Z34)=0,\":\",SUM(Z32:Z34))","v":":"},null,{"$f":"IF(COUNT(AB32:AB34)=0,\":\",SUM(AB32:AB34))","v":":"},null,{"$f":"IF(COUNT(AD32:AD34)=0,\":\",SUM(AD32:AD34))","v":":"},null,{"$f":"IF(COUNT(AF32:AF34)=0,\":\",SUM(AF32:AF34))","v":":"},null,{"$f":"IF(COUNT(AH32:AH34)=0,\":\",SUM(AH32:AH34))","v":":"},null,{"$f":"IF(COUNT(AJ32:AJ34)=0,\":\",SUM(AJ32:AJ34))","v":":"},null,{"$f":"IF(COUNT(AL32:AL34)=0,\":\",SUM(AL32:AL34))","v":":"},null,{"$f":"IF(COUNT(AN32:AN34)=0,\":\",SUM(AN32:AN34))","v":":"},null,{"$f":"IF(COUNT(AP32:AP34)=0,\":\",SUM(AP32:AP34))","v":":"},null,{"$f":"IF(COUNT(AR32:AR34)=0,\":\",SUM(AR32:AR34))","v":":"},null,{"$f":"IF(COUNT(AT32:AT34)=0,\":\",SUM(AT32:AT34))","v":":"},null,{"$f":"IF(COUNT(AV32:AV34)=0,\":\",SUM(AV32:AV34))","v":":"},null,{"$f":"IF(COUNT(AX32:AX34)=0,\":\",SUM(AX32:AX34))","v":":"},null,{"$f":"IF(COUNT(AZ32:AZ34)=0,\":\",SUM(AZ32:AZ34))","v":":"},null,{"$f":"IF(COUNT(BB32:BB34)=0,\":\",SUM(BB32:BB34))","v":":"},null,{"$f":"IF(COUNT(BD32:BD34)=0,\":\",SUM(BD32:BD34))","v":":"},null,{"$f":"IF(COUNT(BF32:BF34)=0,\":\",SUM(BF32:BF34))","v":":"},null,{"$f":"IF(COUNT(BH32:BH34)=0,\":\",SUM(BH32:BH34))","v":":"},null,null,null,null,null,null,null,null,null,null,null,null,null,null,null,null,null,null,null,null,null,null,null,null,null,null,null,null,null,null,null,"TAX_EU","G","RUT","TRA"]
["H","H49-H53","Transport and storage",{"$f":"IF(COUNT(D35:D39)=0,\":\",SUM(D35:D39))","v":":"},null,{"$f":"IF(COUNT(F35:F39)=0,\":\",SUM(F35:F39))","v":":"},null,{"$f":"IF(COUNT(H35:H39)=0,\":\",SUM(H35:H39))","v":":"},null,{"$f":"IF(COUNT(J35:J39)=0,\":\",SUM(J35:J39))","v":":"},null,{"$f":"IF(COUNT(L35:L39)=0,\":\",SUM(L35:L39))","v":":"},null,{"$f":"IF(COUNT(N35:N39)=0,\":\",SUM(N35:N39))","v":":"},null,{"$f":"IF(COUNT(P35:P39)=0,\":\",SUM(P35:P39))","v":":"},null,{"$f":"IF(COUNT(R35:R39)=0,\":\",SUM(R35:R39))","v":":"},null,{"$f":"IF(COUNT(T35:T39)=0,\":\",SUM(T35:T39))","v":":"},null,{"$f":"IF(COUNT(V35:V39)=0,\":\",SUM(V35:V39))","v":":"},null,{"$f":"IF(COUNT(X35:X39)=0,\":\",SUM(X35:X39))","v":":"},null,{"$f":"IF(COUNT(Z35:Z39)=0,\":\",SUM(Z35:Z39))","v":":"},null,{"$f":"IF(COUNT(AB35:AB39)=0,\":\",SUM(AB35:AB39))","v":":"},null,{"$f":"IF(COUNT(AD35:AD39)=0,\":\",SUM(AD35:AD39))","v":":"},null,{"$f":"IF(COUNT(AF35:AF39)=0,\":\",SUM(AF35:AF39))","v":":"},null,{"$f":"IF(COUNT(AH35:AH39)=0,\":\",SUM(AH35:AH39))","v":":"},null,{"$f":"IF(COUNT(AJ35:AJ39)=0,\":\",SUM(AJ35:AJ39))","v":":"},null,{"$f":"IF(COUNT(AL35:AL39)=0,\":\",SUM(AL35:AL39))","v":":"},null,{"$f":"IF(COUNT(AN35:AN39)=0,\":\",SUM(AN35:AN39))","v":":"},null,{"$f":"IF(COUNT(AP35:AP39)=0,\":\",SUM(AP35:AP39))","v":":"},null,{"$f":"IF(COUNT(AR35:AR39)=0,\":\",SUM(AR35:AR39))","v":":"},null,{"$f":"IF(COUNT(AT35:AT39)=0,\":\",SUM(AT35:AT39))","v":":"},null,{"$f":"IF(COUNT(AV35:AV39)=0,\":\",SUM(AV35:AV39))","v":":"},null,{"$f":"IF(COUNT(AX35:AX39)=0,\":\",SUM(AX35:AX39))","v":":"},null,{"$f":"IF(COUNT(AZ35:AZ39)=0,\":\",SUM(AZ35:AZ39))","v":":"},null,{"$f":"IF(COUNT(BB35:BB39)=0,\":\",SUM(BB35:BB39))","v":":"},null,{"$f":"IF(COUNT(BD35:BD39)=0,\":\",SUM(BD35:BD39))","v":":"},null,{"$f":"IF(COUNT(BF35:BF39)=0,\":\",SUM(BF35:BF39))","v":":"},null,{"$f":"IF(COUNT(BH35:BH39)=0,\":\",SUM(BH35:BH39))","v":":"},null,null,null,null,null,null,null,null,null,null,null,null,null,null,null,null,null,null,null,null,null,null,null,null,null,null,null,null,null,null,null,"TAX_EU","H","RUT","TRA"]
["I-U","I-U","Services (except wholesale and retail trade, transportation and storage)",{"$f":"IF(COUNT(D40:D68)=0,\":\",SUM(D40:D68))","v":":"},null,{"$f":"IF(COUNT(F40:F68)=0,\":\",SUM(F40:F68))","v":":"},null,{"$f":"IF(COUNT(H40:H68)=0,\":\",SUM(H40:H68))","v":":"},null,{"$f":"IF(COUNT(J40:J68)=0,\":\",SUM(J40:J68))","v":":"},null,{"$f":"IF(COUNT(L40:L68)=0,\":\",SUM(L40:L68))","v":":"},null,{"$f":"IF(COUNT(N40:N68)=0,\":\",SUM(N40:N68))","v":":"},null,{"$f":"IF(COUNT(P40:P68)=0,\":\",SUM(P40:P68))","v":":"},null,{"$f":"IF(COUNT(R40:R68)=0,\":\",SUM(R40:R68))","v":":"},null,{"$f":"IF(COUNT(T40:T68)=0,\":\",SUM(T40:T68))","v":":"},null,{"$f":"IF(COUNT(V40:V68)=0,\":\",SUM(V40:V68))","v":":"},null,{"$f":"IF(COUNT(X40:X68)=0,\":\",SUM(X40:X68))","v":":"},null,{"$f":"IF(COUNT(Z40:Z68)=0,\":\",SUM(Z40:Z68))","v":":"},null,{"$f":"IF(COUNT(AB40:AB68)=0,\":\",SUM(AB40:AB68))","v":":"},null,{"$f":"IF(COUNT(AD40:AD68)=0,\":\",SUM(AD40:AD68))","v":":"},null,{"$f":"IF(COUNT(AF40:AF68)=0,\":\",SUM(AF40:AF68))","v":":"},null,{"$f":"IF(COUNT(AH40:AH68)=0,\":\",SUM(AH40:AH68))","v":":"},null,{"$f":"IF(COUNT(AJ40:AJ68)=0,\":\",SUM(AJ40:AJ68))","v":":"},null,{"$f":"IF(COUNT(AL40:AL68)=0,\":\",SUM(AL40:AL68))","v":":"},null,{"$f":"IF(COUNT(AN40:AN68)=0,\":\",SUM(AN40:AN68))","v":":"},null,{"$f":"IF(COUNT(AP40:AP68)=0,\":\",SUM(AP40:AP68))","v":":"},null,{"$f":"IF(COUNT(AR40:AR68)=0,\":\",SUM(AR40:AR68))","v":":"},null,{"$f":"IF(COUNT(AT40:AT68)=0,\":\",SUM(AT40:AT68))","v":":"},null,{"$f":"IF(COUNT(AV40:AV68)=0,\":\",SUM(AV40:AV68))","v":":"},null,{"$f":"IF(COUNT(AX40:AX68)=0,\":\",SUM(AX40:AX68))","v":":"},null,{"$f":"IF(COUNT(AZ40:AZ68)=0,\":\",SUM(AZ40:AZ68))","v":":"},null,{"$f":"IF(COUNT(BB40:BB68)=0,\":\",SUM(BB40:BB68))","v":":"},null,{"$f":"IF(COUNT(BD40:BD68)=0,\":\",SUM(BD40:BD68))","v":":"},null,{"$f":"IF(COUNT(BF40:BF68)=0,\":\",SUM(BF40:BF68))","v":":"},null,{"$f":"IF(COUNT(BH40:BH68)=0,\":\",SUM(BH40:BH68))","v":":"},null,null,null,null,null,null,null,null,null,null,null,null,null,null,null,null,null,null,null,null,null,null,null,null,null,null,null,null,null,null,null,"TAX_EU","ITU","RUT","TRA"]
["TOTAL","TOTAL","Total - All NACE activities",{"$f":"IF(COUNT(D79:D87)=0,\":\",SUM(D79:D87))","v":":"},null,{"$f":"IF(COUNT(F79:F87)=0,\":\",SUM(F79:F87))","v":":"},null,{"$f":"IF(COUNT(H79:H87)=0,\":\",SUM(H79:H87))","v":":"},null,{"$f":"IF(COUNT(J79:J87)=0,\":\",SUM(J79:J87))","v":":"},null,{"$f":"IF(COUNT(L79:L87)=0,\":\",SUM(L79:L87))","v":":"},null,{"$f":"IF(COUNT(N79:N87)=0,\":\",SUM(N79:N87))","v":":"},null,{"$f":"IF(COUNT(P79:P87)=0,\":\",SUM(P79:P87))","v":":"},null,{"$f":"IF(COUNT(R79:R87)=0,\":\",SUM(R79:R87))","v":":"},null,{"$f":"IF(COUNT(T79:T87)=0,\":\",SUM(T79:T87))","v":":"},null,{"$f":"IF(COUNT(V79:V87)=0,\":\",SUM(V79:V87))","v":":"},null,{"$f":"IF(COUNT(X79:X87)=0,\":\",SUM(X79:X87))","v":":"},null,{"$f":"IF(COUNT(Z79:Z87)=0,\":\",SUM(Z79:Z87))","v":":"},null,{"$f":"IF(COUNT(AB79:AB87)=0,\":\",SUM(AB79:AB87))","v":":"},null,{"$f":"IF(COUNT(AD79:AD87)=0,\":\",SUM(AD79:AD87))","v":":"},null,{"$f":"IF(COUNT(AF79:AF87)=0,\":\",SUM(AF79:AF87))","v":":"},null,{"$f":"IF(COUNT(AH79:AH87)=0,\":\",SUM(AH79:AH87))","v":":"},null,{"$f":"IF(COUNT(AJ79:AJ87)=0,\":\",SUM(AJ79:AJ87))","v":":"},null,{"$f":"IF(COUNT(AL79:AL87)=0,\":\",SUM(AL79:AL87))","v":":"},null,{"$f":"IF(COUNT(AN79:AN87)=0,\":\",SUM(AN79:AN87))","v":":"},null,{"$f":"IF(COUNT(AP79:AP87)=0,\":\",SUM(AP79:AP87))","v":":"},null,{"$f":"IF(COUNT(AR79:AR87)=0,\":\",SUM(AR79:AR87))","v":":"},null,{"$f":"IF(COUNT(AT79:AT87)=0,\":\",SUM(AT79:AT87))","v":":"},null,{"$f":"IF(COUNT(AV79:AV87)=0,\":\",SUM(AV79:AV87))","v":":"},null,{"$f":"IF(COUNT(AX79:AX87)=0,\":\",SUM(AX79:AX87))","v":":"},null,{"$f":"IF(COUNT(AZ79:AZ87)=0,\":\",SUM(AZ79:AZ87))","v":":"},null,{"$f":"IF(COUNT(BB79:BB87)=0,\":\",SUM(BB79:BB87))","v":":"},null,{"$f":"IF(COUNT(BD79:BD87)=0,\":\",SUM(BD79:BD87))","v":":"},null,{"$f":"IF(COUNT(BF79:BF87)=0,\":\",SUM(BF79:BF87))","v":":"},null,{"$f":"IF(COUNT(BH79:BH87)=0,\":\",SUM(BH79:BH87))","v":":"},null,null,null,null,null,null,null,null,null,null,null,null,null,null,null,null,null,null,null,null,null,null,null,null,null,null,null,null,null,null,null,"TAX_EU","ATU","RUT","TRA"]

{"sheet":"Pollution taxes","index":6,"n_rows":90,"n_cols":157,"rows_kept":90,"cut":false,"hidden":false,"merged":[[0,94,2,94],[0,95,2,95],[0,96,2,96],[3,1,3,2],[79,1,79,2],[0,91,2,91],[0,92,2,92],[0,93,2,93]]}
[null,"Country:",{"$f":"'Energy taxes'!C1","v":"AL "},null,null,null,null,null,null,null,null,null,null,null,null,null,null,null,null,null,null,null,null,null,null,null,null,null,null,null,null,null,null,null,null,null,null,null,null,null,null,null,null,null,null,null,null,null,null,null,null,null,null,null,null,null,null,null,null,null,null,null,null,null,null,null,null,null,null,null,null,null,null,null,null,null,null,null,null,null,null,null,null,null,null,null,null,null,null,null,null,"TAX_REP","INTERACTORS","BRIDGE_ITEMS","TAX","UNIT_MEASURE","UNIT_MULT"]
[null,"Pollution taxes:","POL",null,null,null,null,null,null,null,null,5]
[null,"Unit:","million national currency","MIO_NAC"]
["Ind","NACE Rev. 2 A*64 industry classification",null,"1995","footnotes",1996,"footnotes",1997,"footnotes",1998,"footnotes",1999,"footnotes",2000,"footnotes",2001,"footnotes",2002,"footnotes",2003,"footnotes",2004,"footnotes",2005,"footnotes",2006,"footnotes",2007,"footnotes",2008,"footnotes",2009,"footnotes",2010,"footnotes",2011,"footnotes",2012,"footnotes",2013,"footnotes",2014,"footnotes",2015,"footnotes",2016,"footnotes",2017,"footnotes",2018,"footnotes",2019,"footnotes",2020,"footnotes",2021,"footnotes",2022,"footnotes",2023,"footnotes",null,null,null,null,null,null,null,null,null,null,null,null,null,null,null,null,null,null,null,null,null,null,null,null,null,null,null,null,null,null,null,null,null,null,null,null,null,null,null,null,{"$f":"D4","v":"1995"},"footnotes",1996,"footnotes",1997,"footnotes",1998,"footnotes",1999,"footnotes",2000,"footnotes",2001,"footnotes",2002,"footnotes",2003,"footnotes",2004,"footnotes",2005,"footnotes",2006,"footnotes",2007,"footnotes",2008,"footnotes",2009,"footnotes",2010,"footnotes",{"$f":"AJ4","v":2011},"footnotes",2012,"footnotes",2013,"footnotes",2014,"footnotes",2015,"footnotes",2016,"footnotes",2017,"footnotes",2018,"footnotes",2019,"footnotes",2020,"footnotes",{"$f":"BF4","v":2022},{"$f":"BG4","v":"footnotes"},{"$f":"BI4","v":"footnotes"},{"$f":"#REF!","v":{"$error":"#REF!"}}]
["A01","A01","Crop and animal production, hunting and related service activities",null,null,null,null,null,null,null,null,null,null,null,null,null,null,null,null,null,null,null,null,null,null,null,null,null,null,null,null,null,null,null,null,null,null,null,null,null,null,null,null,null,null,null,null,null,null,null,null,null,null,null,null,null,null,null,null,null,null,null,null,null,null,null,null,null,null,null,null,null,null,null,null,null,null,null,null,null,null,null,null,null,null,null,null,null,null,null,null,"TAX_EU","A01","RUT","POL","XDC",6]
["A02","A02","Forestry and logging ",null,null,null,null,null,null,null,null,null,null,null,null,null,null,null,null,null,null,null,null,null,null,null,null,null,null,null,null,null,null,null,null,null,null,null,null,null,null,null,null,null,null,null,null,null,null,null,null,null,null,null,null,null,null,null,null,null,null,null,null,null,null,null,null,null,null,null,null,null,null,null,null,null,null,null,null,null,null,null,null,null,null,null,null,null,null,null,null,"TAX_EU","A02","RUT","POL"]
["A03","A03","Fishing and aquaculture",null,null,null,null,null,null,null,null,null,null,null,null,null,null,null,null,null,null,null,null,null,null,null,null,null,null,null,null,null,null,null,null,null,null,null,null,null,null,null,null,null,null,null,null,null,null,null,null,null,null,null,null,null,null,null,null,null,null,null,null,null,null,null,null,null,null,null,null,null,null,null,null,null,null,null,null,null,null,null,null,null,null,null,null,null,null,null,null,"TAX_EU","A03","RUT","POL"]
["B","B05-B09","Mining and quarrying",null,null,null,null,null,null,null,null,null,null,null,null,null,null,null,null,null,null,null,null,null,null,null,null,null,null,null,null,null,null,null,null,null,null,null,null,null,null,null,null,null,null,null,null,null,null,null,null,null,null,null,null,null,null,null,null,null,null,null,null,null,null,null,null,null,null,null,null,null,null,null,null,null,null,null,null,null,null,null,null,null,null,null,null,null,null,null,null,"TAX_EU","B","RUT","POL"]
["C10-C12","C10-C12","Manufacture of food products, beverages and tobacco products",null,null,null,null,null,null,null,null,null,null,null,null,null,null,null,null,null,null,null,null,null,null,null,null,null,null,null,null,null,null,null,null,null,null,null,null,null,null,null,null,null,null,null,null,null,null,null,null,null,null,null,null,null,null,null,null,null,null,null,null,null,null,null,null,null,null,null,null,null,null,null,null,null,null,null,null,null,null,null,null,null,null,null,null,null,null,null,null,"TAX_EU","C10T12","RUT","POL"]
["C13-C15","C13-C15","Manufacture of textiles, wearing apparel and leather products",null,null,null,null,null,null,null,null,null,null,null,null,null,null,null,null,null,null,null,null,null,null,null,null,null,null,null,null,null,null,null,null,null,null,null,null,null,null,null,null,null,null,null,null,null,null,null,null,null,null,null,null,null,null,null,null,null,null,null,null,null,null,null,null,null,null,null,null,null,null,null,null,null,null,null,null,null,null,null,null,null,null,null,null,null,null,null,null,"TAX_EU","C13T15","RUT","POL"]
["C16","C16","Manufacture of wood and of products of wood and cork, except furniture; manufacture of articles of straw and plaiting materials",null,null,null,null,null,null,null,null,null,null,null,null,null,null,null,null,null,null,null,null,null,null,null,null,null,null,null,null,null,null,null,null,null,null,null,null,null,null,null,null,null,null,null,null,null,null,null,null,null,null,null,null,null,null,null,null,null,null,null,null,null,null,null,null,null,null,null,null,null,null,null,null,null,null,null,null,null,null,null,null,null,null,null,null,null,null,null,null,"TAX_EU","C16","RUT","POL"]
["C17","C17","Manufacture of paper and paper products",null,null,null,null,null,null,null,null,null,null,null,null,null,null,null,null,null,null,null,null,null,null,null,null,null,null,null,null,null,null,null,null,null,null,null,null,null,null,null,null,null,null,null,null,null,null,null,null,null,null,null,null,null,null,null,null,null,null,null,null,null,null,null,null,null,null,null,null,null,null,null,null,null,null,null,null,null,null,null,null,null,null,null,null,null,null,null,null,"TAX_EU","C17","RUT","POL"]
["C18","C18","Printing and reproduction of recorded media",null,null,null,null,null,null,null,null,null,null,null,null,null,null,null,null,null,null,null,null,null,null,null,null,null,null,null,null,null,null,null,null,null,null,null,null,null,null,null,null,null,null,null,null,null,null,null,null,null,null,null,null,null,null,null,null,null,null,null,null,null,null,null,null,null,null,null,null,null,null,null,null,null,null,null,null,null,null,null,null,null,null,null,null,null,null,null,null,"TAX_EU","C18","RUT","POL"]
["C19","C19","Manufacture of coke and refined petroleum products ",null,null,null,null,null,null,null,null,null,null,null,null,null,null,null,null,null,null,null,null,null,null,null,null,null,null,null,null,null,null,null,null,null,null,null,null,null,null,null,null,null,null,null,null,null,null,null,null,null,null,null,null,null,null,null,null,null,null,null,null,null,null,null,null,null,null,null,null,null,null,null,null,null,null,null,null,null,null,null,null,null,null,null,null,null,null,null,null,"TAX_EU","C19","RUT","POL"]
["C20","C20","Manufacture of chemicals and chemical products",null,null,null,null,null,null,null,null,null,null,null,null,null,null,null,null,null,null,null,null,null,null,null,null,null,null,null,null,null,null,null,null,null,null,null,null,null,null,null,null,null,null,null,null,null,null,null,null,null,null,null,null,null,null,null,null,null,null,null,null,null,null,null,null,null,null,null,null,null,null,null,null,null,null,null,null,null,null,null,null,null,null,null,null,null,null,null,null,"TAX_EU","C20","RUT","POL"]
["C21","C21","Manufacture of basic pharmaceutical products and pharmaceutical preparations",null,null,null,null,null,null,null,null,null,null,null,null,null,null,null,null,null,null,null,null,null,null,null,null,null,null,null,null,null,null,null,null,null,null,null,null,null,null,null,null,null,null,null,null,null,null,null,null,null,null,null,null,null,null,null,null,null,null,null,null,null,null,null,null,null,null,null,null,null,null,null,null,null,null,null,null,null,null,null,null,null,null,null,null,null,null,null,null,"TAX_EU","C21","RUT","POL"]
["C22","C22","Manufacture of rubber and plastic products",null,null,null,null,null,null,null,null,null,null,null,null,null,null,null,null,null,null,null,null,null,null,null,null,null,null,null,null,null,null,null,null,null,null,null,null,null,null,null,null,null,null,null,null,null,null,null,null,null,null,null,null,null,null,null,null,null,null,null,null,null,null,null,null,null,null,null,null,null,null,null,null,null,null,null,null,null,null,null,null,null,null,null,null,null,null,null,null,"TAX_EU","C22","RUT","POL"]
["C23","C23","Manufacture of other non-metallic mineral products",null,null,null,null,null,null,null,null,null,null,null,null,null,null,null,null,null,null,null,null,null,null,null,null,null,null,null,null,null,null,null,null,null,null,null,null,null,null,null,null,null,null,null,null,null,null,null,null,null,null,null,null,null,null,null,null,null,null,null,null,null,null,null,null,null,null,null,null,null,null,null,null,null,null,null,null,null,null,null,null,null,null,null,null,null,null,null,null,"TAX_EU","C23","RUT","POL"]
["C24","C24","Manufacture of basic metals",null,null,null,null,null,null,null,null,null,null,null,null,null,null,null,null,null,null,null,null,null,null,null,null,null,null,null,null,null,null,null,null,null,null,null,null,null,null,null,null,null,null,null,null,null,null,null,null,null,null,null,null,null,null,null,null,null,null,null,null,null,null,null,null,null,null,null,null,null,null,null,null,null,null,null,null,null,null,null,null,null,null,null,null,null,null,null,null,"TAX_EU","C24","RUT","POL"]
["C25","C25","Manufacture of fabricated metal products, except machinery and equipment",null,null,null,null,null,null,null,null,null,null,null,null,null,null,null,null,null,null,null,null,null,null,null,null,null,null,null,null,null,null,null,null,null,null,null,null,null,null,null,null,null,null,null,null,null,null,null,null,null,null,null,null,null,null,null,null,null,null,null,null,null,null,null,null,null,null,null,null,null,null,null,null,null,null,null,null,null,null,null,null,null,null,null,null,null,null,null,null,"TAX_EU","C25","RUT","POL"]
["C26","C26","Manufacture of computer, electronic and optical products",null,null,null,null,null,null,null,null,null,null,null,null,null,null,null,null,null,null,null,null,null,null,null,null,null,null,null,null,null,null,null,null,null,null,null,null,null,null,null,null,null,null,null,null,null,null,null,null,null,null,null,null,null,null,null,null,null,null,null,null,null,null,null,null,null,null,null,null,null,null,null,null,null,null,null,null,null,null,null,null,null,null,null,null,null,null,null,null,"TAX_EU","C26","RUT","POL"]
["C27","C27","Manufacture of electrical equipment",null,null,null,null,null,null,null,null,null,null,null,null,null,null,null,null,null,null,null,null,null,null,null,null,null,null,null,null,null,null,null,null,null,null,null,null,null,null,null,null,null,null,null,null,null,null,null,null,null,null,null,null,null,null,null,null,null,null,null,null,null,null,null,null,null,null,null,null,null,null,null,null,null,null,null,null,null,null,null,null,null,null,null,null,null,null,null,null,"TAX_EU","C27","RUT","POL"]
["C28","C28","Manufacture of machinery and equipment n.e.c.",null,null,null,null,null,null,null,null,null,null,null,null,null,null,null,null,null,null,null,null,null,null,null,null,null,null,null,null,null,null,null,null,null,null,null,null,null,null,null,null,null,null,null,null,null,null,null,null,null,null,null,null,null,null,null,null,null,null,null,null,null,null,null,null,null,null,null,null,null,null,null,null,null,null,null,null,null,null,null,null,null,null,null,null,null,null,null,null,"TAX_EU","C28","RUT","POL"]
["C29","C29","Manufacture of motor vehicles, trailers and semi-trailers",null,null,null,null,null,null,null,null,null,null,null,null,null,null,null,null,null,null,null,null,null,null,null,null,null,null,null,null,null,null,null,null,null,null,null,null,null,null,null,null,null,null,null,null,null,null,null,null,null,null,null,null,null,null,null,null,null,null,null,null,null,null,null,null,null,null,null,null,null,null,null,null,null,null,null,null,null,null,null,null,null,null,null,null,null,null,null,null,"TAX_EU","C29","RUT","POL"]
["C30","C30","Manufacture of other transport equipment",null,null,null,null,null,null,null,null,null,null,null,null,null,null,null,null,null,null,null,null,null,null,null,null,null,null,null,null,null,null,null,null,null,null,null,null,null,null,null,null,null,null,null,null,null,null,null,null,null,null,null,null,null,null,null,null,null,null,null,null,null,null,null,null,null,null,null,null,null,null,null,null,null,null,null,null,null,null,null,null,null,null,null,null,null,null,null,null,"TAX_EU","C30","RUT","POL"]
["C31_C32","C31-C32","Manufacture of furniture; other manufacturing",null,null,null,null,null,null,null,null,null,null,null,null,null,null,null,null,null,null,null,null,null,null,null,null,null,null,null,null,null,null,null,null,null,null,null,null,null,null,null,null,null,null,null,null,null,null,null,null,null,null,null,null,null,null,null,null,null,null,null,null,null,null,null,null,null,null,null,null,null,null,null,null,null,null,null,null,null,null,null,null,null,null,null,null,null,null,null,null,"TAX_EU","C31_32","RUT","POL"]
["C33","C33","Repair and installation of machinery and equipment",null,null,null,null,null,null,null,null,null,null,null,null,null,null,null,null,null,null,null,null,null,null,null,null,null,null,null,null,null,null,null,null,null,null,null,null,null,null,null,null,null,null,null,null,null,null,null,null,null,null,null,null,null,null,null,null,null,null,null,null,null,null,null,null,null,null,null,null,null,null,null,null,null,null,null,null,null,null,null,null,null,null,null,null,null,null,null,null,"TAX_EU","C33","RUT","POL"]
["D35","D35","Electricity, gas, steam and air conditioning supply",null,null,null,null,null,null,null,null,null,null,null,null,null,null,null,null,null,null,null,null,null,null,null,null,null,null,null,null,null,null,null,null,null,null,null,null,null,null,null,null,null,null,null,null,null,null,null,null,null,null,null,null,null,null,null,null,null,null,null,null,null,null,null,null,null,null,null,null,null,null,null,null,null,null,null,null,null,null,null,null,null,null,null,null,null,null,null,null,"TAX_EU","D","RUT","POL"]
["E36","E36","Water collection, treatment and supply",null,null,null,null,null,null,null,null,null,null,null,null,null,null,null,null,null,null,null,null,null,null,null,null,null,null,null,null,null,null,null,null,null,null,null,null,null,null,null,null,null,null,null,null,null,null,null,null,null,null,null,null,null,null,null,null,null,null,null,null,null,null,null,null,null,null,null,null,null,null,null,null,null,null,null,null,null,null,null,null,null,null,null,null,null,null,null,null,"TAX_EU","E36","RUT","POL"]
["E37-E39","E37-E39","Sewerage, waste collection, treatment and disposal activities; materials recovery; remediation activities and other waste management services ",null,null,null,null,null,null,null,null,null,null,null,null,null,null,null,null,null,null,null,null,null,null,null,null,null,null,null,null,null,null,null,null,null,null,null,null,null,null,null,null,null,null,null,null,null,null,null,null,null,null,null,null,null,null,null,null,null,null,null,null,null,null,null,null,null,null,null,null,null,null,null,null,null,null,null,null,null,null,null,null,null,null,null,null,null,null,null,null,"TAX_EU","E37T39","RUT","POL"]
["F","F41-F43","Construction ",null,null,null,null,null,null,null,null,null,null,null,null,null,null,null,null,null,null,null,null,null,null,null,null,null,null,null,null,null,null,null,null,null,null,null,null,null,null,null,null,null,null,null,null,null,null,null,null,null,null,null,null,null,null,null,null,null,null,null,null,null,null,null,null,null,null,null,null,null,null,null,null,null,null,null,null,null,null,null,null,null,null,null,null,null,null,null,null,"TAX_EU","F","RUT","POL"]
["G45","G45","Wholesale and retail trade and repair of motor vehicles and motorcycles",null,null,null,null,null,null,null,null,null,null,null,null,null,null,null,null,null,null,null,null,null,null,null,null,null,null,null,null,null,null,null,null,null,null,null,null,null,null,null,null,null,null,null,null,null,null,null,null,null,null,null,null,null,null,null,null,null,null,null,null,null,null,null,null,null,null,null,null,null,null,null,null,null,null,null,null,null,null,null,null,null,null,null,null,null,null,null,null,"TAX_EU","G45","RUT","POL"]
["G46","G46","Wholesale trade, except of motor vehicles and motorcycles",null,null,null,null,null,null,null,null,null,null,null,null,null,null,null,null,null,null,null,null,null,null,null,null,null,null,null,null,null,null,null,null,null,null,null,null,null,null,null,null,null,null,null,null,null,null,null,null,null,null,null,null,null,null,null,null,null,null,null,null,null,null,null,null,null,null,null,null,null,null,null,null,null,null,null,null,null,null,null,null,null,null,null,null,null,null,null,null,"TAX_EU","G46","RUT","POL"]
["G47","G47","Retail trade, except of motor vehicles and motorcycles",null,null,null,null,null,null,null,null,null,null,null,null,null,null,null,null,null,null,null,null,null,null,null,null,null,null,null,null,null,null,null,null,null,null,null,null,null,null,null,null,null,null,null,null,null,null,null,null,null,null,null,null,null,null,null,null,null,null,null,null,null,null,null,null,null,null,null,null,null,null,null,null,null,null,null,null,null,null,null,null,null,null,null,null,null,null,null,null,"TAX_EU","G47","RUT","POL"]
["H49","H49","Land transport and transport via pipelines",null,null,null,null,null,null,null,null,null,null,null,null,null,null,null,null,null,null,null,null,null,null,null,null,null,null,null,null,null,null,null,null,null,null,null,null,null,null,null,null,null,null,null,null,null,null,null,null,null,null,null,null,null,null,null,null,null,null,null,null,null,null,null,null,null,null,null,null,null,null,null,null,null,null,null,null,null,null,null,null,null,null,null,null,null,null,null,null,"TAX_EU","H49","RUT","POL"]
["H50","H50","Water transport",null,null,null,null,null,null,null,null,null,null,null,null,null,null,null,null,null,null,null,null,null,null,null,null,null,null,null,null,null,null,null,null,null,null,null,null,null,null,null,null,null,null,null,null,null,null,null,null,null,null,null,null,null,null,null,null,null,null,null,null,null,null,null,null,null,null,null,null,null,null,null,null,null,null,null,null,null,null,null,null,null,null,null,null,null,null,null,null,"TAX_EU","H50","RUT","POL"]
["H51","H51","Air transport",null,null,null,null,null,null,null,null,null,null,null,null,null,null,null,null,null,null,null,null,null,null,null,null,null,null,null,null,null,null,null,null,null,null,null,null,null,null,null,null,null,null,null,null,null,null,null,null,null,null,null,null,null,null,null,null,null,null,null,null,null,null,null,null,null,null,null,null,null,null,null,null,null,null,null,null,null,null,null,null,null,null,null,null,null,null,null,null,"TAX_EU","H51","RUT","POL"]
["H52","H52","Warehousing and support activities for transportation",null,null,null,null,null,null,null,null,null,null,null,null,null,null,null,null,null,null,null,null,null,null,null,null,null,null,null,null,null,null,null,null,null,null,null,null,null,null,null,null,null,null,null,null,null,null,null,null,null,null,null,null,null,null,null,null,null,null,null,null,null,null,null,null,null,null,null,null,null,null,null,null,null,null,null,null,null,null,null,null,null,null,null,null,null,null,null,null,"TAX_EU","H52","RUT","POL"]
["H53","H53","Postal and courier activities",null,null,null,null,null,null,null,null,null,null,null,null,null,null,null,null,null,null,null,null,null,null,null,null,null,null,null,null,null,null,null,null,null,null,null,null,null,null,null,null,null,null,null,null,null,null,null,null,null,null,null,null,null,null,null,null,null,null,null,null,null,null,null,null,null,null,null,null,null,null,null,null,null,null,null,null,null,null,null,null,null,null,null,null,null,null,null,null,"TAX_EU","H53","RUT","POL"]
["I","I55-I56","Accommodation; food and beverage service activities",null,null,null,null,null,null,null,null,null,null,null,null,null,null,null,null,null,null,null,null,null,null,null,null,null,null,null,null,null,null,null,null,null,null,null,null,null,null,null,null,null,null,null,null,null,null,null,null,null,null,null,null,null,null,null,null,null,null,null,null,null,null,null,null,null,null,null,null,null,null,null,null,null,null,null,null,null,null,null,null,null,null,null,null,null,null,null,null,"TAX_EU","I","RUT","POL"]
["J58","J58","Publishing activities",null,null,null,null,null,null,null,null,null,null,null,null,null,null,null,null,null,null,null,null,null,null,null,null,null,null,null,null,null,null,null,null,null,null,null,null,null,null,null,null,null,null,null,null,null,null,null,null,null,null,null,null,null,null,null,null,null,null,null,null,null,null,null,null,null,null,null,null,null,null,null,null,null,null,null,null,null,null,null,null,null,null,null,null,null,null,null,null,"TAX_EU","J58","RUT","POL"]
["J59_J60","J59-J60","Motion picture, video and television programme production, sound recording and music publishing activities;  programming and broadcasting activities",null,null,null,null,null,null,null,null,null,null,null,null,null,null,null,null,null,null,null,null,null,null,null,null,null,null,null,null,null,null,null,null,null,null,null,null,null,null,null,null,null,null,null,null,null,null,null,null,null,null,null,null,null,null,null,null,null,null,null,null,null,null,null,null,null,null,null,null,null,null,null,null,null,null,null,null,null,null,null,null,null,null,null,null,null,null,null,null,"TAX_EU","J59_60","RUT","POL"]
["J61","J61","Telecommunications",null,null,null,null,null,null,null,null,null,null,null,null,null,null,null,null,null,null,null,null,null,null,null,null,null,null,null,null,null,null,null,null,null,null,null,null,null,null,null,null,null,null,null,null,null,null,null,null,null,null,null,null,null,null,null,null,null,null,null,null,null,null,null,null,null,null,null,null,null,null,null,null,null,null,null,null,null,null,null,null,null,null,null,null,null,null,null,null,"TAX_EU","J61","RUT","POL"]
["J62_J63","J62-J63","Computer programming, consultancy and related activities; Information services activities",null,null,null,null,null,null,null,null,null,null,null,null,null,null,null,null,null,null,null,null,null,null,null,null,null,null,null,null,null,null,null,null,null,null,null,null,null,null,null,null,null,null,null,null,null,null,null,null,null,null,null,null,null,null,null,null,null,null,null,null,null,null,null,null,null,null,null,null,null,null,null,null,null,null,null,null,null,null,null,null,null,null,null,null,null,null,null,null,"TAX_EU","J62_63","RUT","POL"]
["K64","K64","Financial service activities, except insurance and pension funding",null,null,null,null,null,null,null,null,null,null,null,null,null,null,null,null,null,null,null,null,null,null,null,null,null,null,null,null,null,null,null,null,null,null,null,null,null,null,null,null,null,null,null,null,null,null,null,null,null,null,null,null,null,null,null,null,null,null,null,null,null,null,null,null,null,null,null,null,null,null,null,null,null,null,null,null,null,null,null,null,null,null,null,null,null,null,null,null,"TAX_EU","K64","RUT","POL"]
["K65","K65","Insurance, reinsurance and pension funding, except compulsory social security",null,null,null,null,null,null,null,null,null,null,null,null,null,null,null,null,null,null,null,null,null,null,null,null,null,null,null,null,null,null,null,null,null,null,null,null,null,null,null,null,null,null,null,null,null,null,null,null,null,null,null,null,null,null,null,null,null,null,null,null,null,null,null,null,null,null,null,null,null,null,null,null,null,null,null,null,null,null,null,null,null,null,null,null,null,null,null,null,"TAX_EU","K65","RUT","POL"]
["K66","K66","Activities auxiliary to financial services and insurance activities",null,null,null,null,null,null,null,null,null,null,null,null,null,null,null,null,null,null,null,null,null,null,null,null,null,null,null,null,null,null,null,null,null,null,null,null,null,null,null,null,null,null,null,null,null,null,null,null,null,null,null,null,null,null,null,null,null,null,null,null,null,null,null,null,null,null,null,null,null,null,null,null,null,null,null,null,null,null,null,null,null,null,null,null,null,null,null,null,"TAX_EU","K66","RUT","POL"]
["L","L68","Real estate activities",null,null,null,null,null,null,null,null,null,null,null,null,null,null,null,null,null,null,null,null,null,null,null,null,null,null,null,null,null,null,null,null,null,null,null,null,null,null,null,null,null,null,null,null,null,null,null,null,null,null,null,null,null,null,null,null,null,null,null,null,null,null,null,null,null,null,null,null,null,null,null,null,null,null,null,null,null,null,null,null,null,null,null,null,null,null,null,null,"TAX_EU","L","RUT","POL"]
["M69_M70","M69-M70","Legal and accounting activities; activities of head offices; management consultancy activities",null,null,null,null,null,null,null,null,null,null,null,null,null,null,null,null,null,null,null,null,null,null,null,null,null,null,null,null,null,null,null,null,null,null,null,null,null,null,null,null,null,null,null,null,null,null,null,null,null,null,null,null,null,null,null,null,null,null,null,null,null,null,null,null,null,null,null,null,null,null,null,null,null,null,null,null,null,null,null,null,null,null,null,null,null,null,null,null,"TAX_EU","M69_70","RUT","POL"]
["M71","M71","Architectural and engineering activities; technical testing and analysis",null,null,null,null,null,null,null,null,null,null,null,null,null,null,null,null,null,null,null,null,null,null,null,null,null,null,null,null,null,null,null,null,null,null,null,null,null,null,null,null,null,null,null,null,null,null,null,null,null,null,null,null,null,null,null,null,null,null,null,null,null,null,null,null,null,null,null,null,null,null,null,null,null,null,null,null,null,null,null,null,null,null,null,null,null,null,null,null,"TAX_EU","M71","RUT","POL"]
["M72","M72","Scientific research and development",null,null,null,null,null,null,null,null,null,null,null,null,null,null,null,null,null,null,null,null,null,null,null,null,null,null,null,null,null,null,null,null,null,null,null,null,null,null,null,null,null,null,null,null,null,null,null,null,null,null,null,null,null,null,null,null,null,null,null,null,null,null,null,null,null,null,null,null,null,null,null,null,null,null,null,null,null,null,null,null,null,null,null,null,null,null,null,null,"TAX_EU","M72","RUT","POL"]
["M73","M73","Advertising and market research",null,null,null,null,null,null,null,null,null,null,null,null,null,null,null,null,null,null,null,null,null,null,null,null,null,null,null,null,null,null,null,null,null,null,null,null,null,null,null,null,null,null,null,null,null,null,null,null,null,null,null,null,null,null,null,null,null,null,null,null,null,null,null,null,null,null,null,null,null,null,null,null,null,null,null,null,null,null,null,null,null,null,null,null,null,null,null,null,"TAX_EU","M73","RUT","POL"]
["M74_M75","M74-M75","Other professional, scientific and technical activities; veterinary activities",null,null,null,null,null,null,null,null,null,null,null,null,null,null,null,null,null,null,null,null,null,null,null,null,null,null,null,null,null,null,null,null,null,null,null,null,null,null,null,null,null,null,null,null,null,null,null,null,null,null,null,null,null,null,null,null,null,null,null,null,null,null,null,null,null,null,null,null,null,null,null,null,null,null,null,null,null,null,null,null,null,null,null,null,null,null,null,null,"TAX_EU","M74_75","RUT","POL"]
["N77","N77","Rental and leasing activities",null,null,null,null,null,null,null,null,null,null,null,null,null,null,null,null,null,null,null,null,null,null,null,null,null,null,null,null,null,null,null,null,null,null,null,null,null,null,null,null,null,null,null,null,null,null,null,null,null,null,null,null,null,null,null,null,null,null,null,null,null,null,null,null,null,null,null,null,null,null,null,null,null,null,null,null,null,null,null,null,null,null,null,null,null,null,null,null,"TAX_EU","N77","RUT","POL"]
["N78","N78","Employment activities",null,null,null,null,null,null,null,null,null,null,null,null,null,null,null,null,null,null,null,null,null,null,null,null,null,null,null,null,null,null,null,null,null,null,null,null,null,null,null,null,null,null,null,null,null,null,null,null,null,null,null,null,null,null,null,null,null,null,null,null,null,null,null,null,null,null,null,null,null,null,null,null,null,null,null,null,null,null,null,null,null,null,null,null,null,null,null,null,"TAX_EU","N78","RUT","POL"]
["N79","N79","Travel agency, tour operator reservation service and related activities",null,null,null,null,null,null,null,null,null,null,null,null,null,null,null,null,null,null,null,null,null,null,null,null,null,null,null,null,null,null,null,null,null,null,null,null,null,null,null,null,null,null,null,null,null,null,null,null,null,null,null,null,null,null,null,null,null,null,null,null,null,null,null,null,null,null,null,null,null,null,null,null,null,null,null,null,null,null,null,null,null,null,null,null,null,null,null,null,"TAX_EU","N79","RUT","POL"]
["N80-N82","N80-N82","Security and investigation activities; services to buildings and landscape activities; office administrative, office support and other business support activities",null,null,null,null,null,null,null,null,null,null,null,null,null,null,null,null,null,null,null,null,null,null,null,null,null,null,null,null,null,null,null,null,null,null,null,null,null,null,null,null,null,null,null,null,null,null,null,null,null,null,null,null,null,null,null,null,null,null,null,null,null,null,null,null,null,null,null,null,null,null,null,null,null,null,null,null,null,null,null,null,null,null,null,null,null,null,null,null,"TAX_EU","N80T82","RUT","POL"]
["O84","O84","Public administration and defence; compulsory social security",null,null,null,null,null,null,null,null,null,null,null,null,null,null,null,null,null,null,null,null,null,null,null,null,null,null,null,null,null,null,null,null,null,null,null,null,null,null,null,null,null,null,null,null,null,null,null,null,null,null,null,null,null,null,null,null,null,null,null,null,null,null,null,null,null,null,null,null,null,null,null,null,null,null,null,null,null,null,null,null,null,null,null,null,null,null,null,null,"TAX_EU","O","RUT","POL"]
["P85","P85","Education",null,null,null,null,null,null,null,null,null,null,null,null,null,null,null,null,null,null,null,null,null,null,null,null,null,null,null,null,null,null,null,null,null,null,null,null,null,null,null,null,null,null,null,null,null,null,null,null,null,null,null,null,null,null,null,null,null,null,null,null,null,null,null,null,null,null,null,null,null,null,null,null,null,null,null,null,null,null,null,null,null,null,null,null,null,null,null,null,"TAX_EU","P","RUT","POL"]
["Q86","Q86","Human health activities",null,null,null,null,null,null,null,null,null,null,null,null,null,null,null,null,null,null,null,null,null,null,null,null,null,null,null,null,null,null,null,null,null,null,null,null,null,null,null,null,null,null,null,null,null,null,null,null,null,null,null,null,null,null,null,null,null,null,null,null,null,null,null,null,null,null,null,null,null,null,null,null,null,null,null,null,null,null,null,null,null,null,null,null,null,null,null,null,"TAX_EU","Q86","RUT","POL"]
["Q87_Q88","Q87-Q88","Social work activities",null,null,null,null,null,null,null,null,null,null,null,null,null,null,null,null,null,null,null,null,null,null,null,null,null,null,null,null,null,null,null,null,null,null,null,null,null,null,null,null,null,null,null,null,null,null,null,null,null,null,null,null,null,null,null,null,null,null,null,null,null,null,null,null,null,null,null,null,null,null,null,null,null,null,null,null,null,null,null,null,null,null,null,null,null,null,null,null,"TAX_EU","Q87_88","RUT","POL"]
["R90-R92","R90-R92","Creative, arts and entertainment activities; libraries, archives, museums and other cultural activities; gambling and betting activities",null,null,null,null,null,null,null,null,null,null,null,null,null,null,null,null,null,null,null,null,null,null,null,null,null,null,null,null,null,null,null,null,null,null,null,null,null,null,null,null,null,null,null,null,null,null,null,null,null,null,null,null,null,null,null,null,null,null,null,null,null,null,null,null,null,null,null,null,null,null,null,null,null,null,null,null,null,null,null,null,null,null,null,null,null,null,null,null,"TAX_EU","R90T92","RUT","POL"]
["R93","R93","Sports activities and amusement and recreation activities",null,null,null,null,null,null,null,null,null,null,null,null,null,null,null,null,null,null,null,null,null,null,null,null,null,null,null,null,null,null,null,null,null,null,null,null,null,null,null,null,null,null,null,null,null,null,null,null,null,null,null,null,null,null,null,null,null,null,null,null,null,null,null,null,null,null,null,null,null,null,null,null,null,null,null,null,null,null,null,null,null,null,null,null,null,null,null,null,"TAX_EU","R93","RUT","POL"]
["S94","S94","Activities of membership organisations",null,null,null,null,null,null,null,null,null,null,null,null,null,null,null,null,null,null,null,null,null,null,null,null,null,null,null,null,null,null,null,null,null,null,null,null,null,null,null,null,null,null,null,null,null,null,null,null,null,null,null,null,null,null,null,null,null,null,null,null,null,null,null,null,null,null,null,null,null,null,null,null,null,null,null,null,null,null,null,null,null,null,null,null,null,null,null,null,"TAX_EU","S94","RUT","POL"]
["S95","S95","Repairs of computers and personal and household goods",null,null,null,null,null,null,null,null,null,null,null,null,null,null,null,null,null,null,null,null,null,null,null,null,null,null,null,null,null,null,null,null,null,null,null,null,null,null,null,null,null,null,null,null,null,null,null,null,null,null,null,null,null,null,null,null,null,null,null,null,null,null,null,null,null,null,null,null,null,null,null,null,null,null,null,null,null,null,null,null,null,null,null,null,null,null,null,null,"TAX_EU","S95","RUT","POL"]
["S96","S96","Other personal service activities",null,null,null,null,null,null,null,null,null,null,null,null,null,null,null,null,null,null,null,null,null,null,null,null,null,null,null,null,null,null,null,null,null,null,null,null,null,null,null,null,null,null,null,null,null,null,null,null,null,null,null,null,null,null,null,null,null,null,null,null,null,null,null,null,null,null,null,null,null,null,null,null,null,null,null,null,null,null,null,null,null,null,null,null,null,null,null,null,"TAX_EU","S96","RUT","POL"]
["T","T97-T98","Activities of households as employers; undifferentiated goods- and services-producing activities of households for own use",null,null,null,null,null,null,null,null,null,null,null,null,null,null,null,null,null,null,null,null,null,null,null,null,null,null,null,null,null,null,null,null,null,null,null,null,null,null,null,null,null,null,null,null,null,null,null,null,null,null,null,null,null,null,null,null,null,null,null,null,null,null,null,null,null,null,null,null,null,null,null,null,null,null,null,null,null,null,null,null,null,null,null,null,null,null,null,null,"TAX_EU","T","RUT","POL"]
["U99","U99","Activities of extraterritorial organisations and bodies",null,null,null,null,null,null,null,null,null,null,null,null,null,null,null,null,null,null,null,null,null,null,null,null,null,null,null,null,null,null,null,null,null,null,null,null,null,null,null,null,null,null,null,null,null,null,null,null,null,null,null,null,null,null,null,null,null,null,null,null,null,null,null,null,null,null,null,null,null,null,null,null,null,null,null,null,null,null,null,null,null,null,null,null,null,null,null,null,"TAX_EU","U","RUT","POL"]
["EP_HH","HH","Households",null,null,null,null,null,null,null,null,null,null,null,null,null,null,null,null,null,null,null,null,null,null,null,null,null,null,null,null,null,null,null,null,null,null,null,null,null,null,null,null,null,null,null,null,null,null,null,null,null,null,null,null,null,null,null,null,null,null,null,null,null,null,null,null,null,null,null,null,null,null,null,null,null,null,null,null,null,null,null,null,null,null,null,null,null,null,null,null,"TAX_EU","HH","RUT","POL"]
["EP_NRES","NRES","Non-residents",null,null,null,null,null,null,null,null,null,null,null,null,null,null,null,null,null,null,null,null,null,null,null,null,null,null,null,null,null,null,null,null,null,null,null,null,null,null,null,null,null,null,null,null,null,null,null,null,null,null,null,null,null,null,null,null,null,null,null,null,null,null,null,null,null,null,null,null,null,null,null,null,null,null,null,null,null,null,null,null,null,null,null,null,null,null,null,null,"TAX_EU","_T","TER_NRES","POL"]
["NAL","NAL","Not allocated",null,null,null,null,null,null,null,null,null,null,null,null,null,null,null,null,null,null,null,null,null,null,null,null,null,null,null,null,null,null,null,null,null,null,null,null,null,null,null,null,null,null,null,null,null,null,null,null,null,null,null,null,null,null,null,null,null,null,null,null,null,null,null,null,null,null,null,null,null,null,null,null,null,null,null,null,null,null,null,null,null,null,null,null,null,null,null,null,"TAX_EU","_X","RUT","POL"]
["TOTAL_HH_NRES","TOT_POL","Total pollution taxes ",{"$f":"IF(COUNT(D5:D71)=0,\":\",SUM(D5:D71))","v":":"},null,{"$f":"IF(COUNT(F5:F71)=0,\":\",SUM(F5:F71))","v":":"},null,{"$f":"IF(COUNT(H5:H71)=0,\":\",SUM(H5:H71))","v":":"},null,{"$f":"IF(COUNT(J5:J71)=0,\":\",SUM(J5:J71))","v":":"},null,{"$f":"IF(COUNT(L5:L71)=0,\":\",SUM(L5:L71))","v":":"},null,{"$f":"IF(COUNT(N5:N71)=0,\":\",SUM(N5:N71))","v":":"},null,{"$f":"IF(COUNT(P5:P71)=0,\":\",SUM(P5:P71))","v":":"},null,{"$f":"IF(COUNT(R5:R71)=0,\":\",SUM(R5:R71))","v":":"},null,{"$f":"IF(COUNT(T5:T71)=0,\":\",SUM(T5:T71))","v":":"},null,{"$f":"IF(COUNT(V5:V71)=0,\":\",SUM(V5:V71))","v":":"},null,{"$f":"IF(COUNT(X5:X71)=0,\":\",SUM(X5:X71))","v":":"},null,{"$f":"IF(COUNT(Z5:Z71)=0,\":\",SUM(Z5:Z71))","v":":"},null,{"$f":"IF(COUNT(AB5:AB71)=0,\":\",SUM(AB5:AB71))","v":":"},null,{"$f":"IF(COUNT(AD5:AD71)=0,\":\",SUM(AD5:AD71))","v":":"},null,{"$f":"IF(COUNT(AF5:AF71)=0,\":\",SUM(AF5:AF71))","v":":"},null,{"$f":"IF(COUNT(AH5:AH71)=0,\":\",SUM(AH5:AH71))","v":":"},null,{"$f":"IF(COUNT(AJ5:AJ71)=0,\":\",SUM(AJ5:AJ71))","v":":"},null,{"$f":"IF(COUNT(AL5:AL71)=0,\":\",SUM(AL5:AL71))","v":":"},null,{"$f":"IF(COUNT(AN5:AN71)=0,\":\",SUM(AN5:AN71))","v":":"},null,{"$f":"IF(COUNT(AP5:AP71)=0,\":\",SUM(AP5:AP71))","v":":"},null,{"$f":"IF(COUNT(AR5:AR71)=0,\":\",SUM(AR5:AR71))","v":":"},null,{"$f":"IF(COUNT(AT5:AT71)=0,\":\",SUM(AT5:AT71))","v":":"},null,{"$f":"IF(COUNT(AV5:AV71)=0,\":\",SUM(AV5:AV71))","v":":"},null,{"$f":"IF(COUNT(AX5:AX71)=0,\":\",SUM(AX5:AX71))","v":":"},null,{"$f":"IF(COUNT(AZ5:AZ71)=0,\":\",SUM(AZ5:AZ71))","v":":"},null,{"$f":"IF(COUNT(BB5:BB71)=0,\":\",SUM(BB5:BB71))","v":":"},null,{"$f":"IF(COUNT(BD5:BD71)=0,\":\",SUM(BD5:BD71))","v":":"},null,{"$f":"IF(COUNT(BF5:BF71)=0,\":\",SUM(BF5:BF71))","v":":"},null,{"$f":"IF(COUNT(BH5:BH71)=0,\":\",SUM(BH5:BH71))","v":":"},null,null,null,null,null,null,null,null,null,null,null,null,null,null,null,null,null,null,null,null,null,null,null,null,null,null,null,null,null,null,null,"TAX_EU","_T","TER","POL"]
[null,"TOT_RES","Total resource taxes",{"$f":"IF(COUNT('Resource taxes'!D5:D71)=0,\":\",SUM('Resource taxes'!D5:D71))","v":":"},null,{"$f":"IF(COUNT('Resource taxes'!F5:F71)=0,\":\",SUM('Resource taxes'!F5:F71))","v":":"},null,{"$f":"IF(COUNT('Resource taxes'!H5:H71)=0,\":\",SUM('Resource taxes'!H5:H71))","v":":"},null,{"$f":"IF(COUNT('Resource taxes'!J5:J71)=0,\":\",SUM('Resource taxes'!J5:J71))","v":":"},null,{"$f":"IF(COUNT('Resource taxes'!L5:L71)=0,\":\",SUM('Resource taxes'!L5:L71))","v":":"},null,{"$f":"IF(COUNT('Resource taxes'!N5:N71)=0,\":\",SUM('Resource taxes'!N5:N71))","v":":"},null,{"$f":"IF(COUNT('Resource taxes'!P5:P71)=0,\":\",SUM('Resource taxes'!P5:P71))","v":":"},null,{"$f":"IF(COUNT('Resource taxes'!R5:R71)=0,\":\",SUM('Resource taxes'!R5:R71))","v":":"},null,{"$f":"IF(COUNT('Resource taxes'!T5:T71)=0,\":\",SUM('Resource taxes'!T5:T71))","v":":"},null,{"$f":"IF(COUNT('Resource taxes'!V5:V71)=0,\":\",SUM('Resource taxes'!V5:V71))","v":":"},null,{"$f":"IF(COUNT('Resource taxes'!X5:X71)=0,\":\",SUM('Resource taxes'!X5:X71))","v":":"},null,{"$f":"IF(COUNT('Resource taxes'!Z5:Z71)=0,\":\",SUM('Resource taxes'!Z5:Z71))","v":":"},null,{"$f":"IF(COUNT('Resource taxes'!AB5:AB71)=0,\":\",SUM('Resource taxes'!AB5:AB71))","v":":"},null,{"$f":"IF(COUNT('Resource taxes'!AD5:AD71)=0,\":\",SUM('Resource taxes'!AD5:AD71))","v":":"},null,{"$f":"IF(COUNT('Resource taxes'!AF5:AF71)=0,\":\",SUM('Resource taxes'!AF5:AF71))","v":":"},null,{"$f":"IF(COUNT('Resource taxes'!AH5:AH71)=0,\":\",SUM('Resource taxes'!AH5:AH71))","v":":"},null,{"$f":"IF(COUNT('Resource taxes'!AJ5:AJ71)=0,\":\",SUM('Resource taxes'!AJ5:AJ71))","v":":"},null,{"$f":"IF(COUNT('Resource taxes'!AL5:AL71)=0,\":\",SUM('Resource taxes'!AL5:AL71))","v":":"},null,{"$f":"IF(COUNT('Resource taxes'!AN5:AN71)=0,\":\",SUM('Resource taxes'!AN5:AN71))","v":":"},null,{"$f":"IF(COUNT('Resource taxes'!AP5:AP71)=0,\":\",SUM('Resource taxes'!AP5:AP71))","v":":"},null,{"$f":"IF(COUNT('Resource taxes'!AR5:AR71)=0,\":\",SUM('Resource taxes'!AR5:AR71))","v":":"},null,{"$f":"IF(COUNT('Resource taxes'!AT5:AT71)=0,\":\",SUM('Resource taxes'!AT5:AT71))","v":":"},null,{"$f":"IF(COUNT('Resource taxes'!AV5:AV71)=0,\":\",SUM('Resource taxes'!AV5:AV71))","v":":"},null,{"$f":"IF(COUNT('Resource taxes'!AX5:AX71)=0,\":\",SUM('Resource taxes'!AX5:AX71))","v":":"},null,{"$f":"IF(COUNT('Resource taxes'!AZ5:AZ71)=0,\":\",SUM('Resource taxes'!AZ5:AZ71))","v":":"},null,{"$f":"IF(COUNT('Resource taxes'!BB5:BB71)=0,\":\",SUM('Resource taxes'!BB5:BB71))","v":":"},null,{"$f":"IF(COUNT('Resource taxes'!BD5:BD71)=0,\":\",SUM('Resource taxes'!BD5:BD71))","v":":"},null,{"$f":"IF(COUNT('Resource taxes'!BF5:BF71)=0,\":\",SUM('Resource taxes'!BF5:BF71))","v":":"},null,{"$f":"IF(COUNT('Resource taxes'!BH5:BH71)=0,\":\",SUM('Resource taxes'!BH5:BH71))","v":":"}]
[null,"TOT_POL_RES","Total pollution and resource taxes ",{"$f":"IF(COUNT(D72,D73)=0,\":\",D72+D73)","v":":"},null,{"$f":"IF(COUNT(F72,F73)=0,\":\",F72+F73)","v":":"},null,{"$f":"IF(COUNT(H72,H73)=0,\":\",H72+H73)","v":":"},null,{"$f":"IF(COUNT(J72,J73)=0,\":\",J72+J73)","v":":"},null,{"$f":"IF(COUNT(L72,L73)=0,\":\",L72+L73)","v":":"},null,{"$f":"IF(COUNT(N72,N73)=0,\":\",N72+N73)","v":":"},null,{"$f":"IF(COUNT(P72,P73)=0,\":\",P72+P73)","v":":"},null,{"$f":"IF(COUNT(R72,R73)=0,\":\",R72+R73)","v":":"},null,{"$f":"IF(COUNT(T72,T73)=0,\":\",T72+T73)","v":":"},null,{"$f":"IF(COUNT(V72,V73)=0,\":\",V72+V73)","v":":"},null,{"$f":"IF(COUNT(X72,X73)=0,\":\",X72+X73)","v":":"},null,{"$f":"IF(COUNT(Z72,Z73)=0,\":\",Z72+Z73)","v":":"},null,{"$f":"IF(COUNT(AB72,AB73)=0,\":\",AB72+AB73)","v":":"},null,{"$f":"IF(COUNT(AD72,AD73)=0,\":\",AD72+AD73)","v":":"},null,{"$f":"IF(COUNT(AF72,AF73)=0,\":\",AF72+AF73)","v":":"},null,{"$f":"IF(COUNT(AH72,AH73)=0,\":\",AH72+AH73)","v":":"},null,{"$f":"IF(COUNT(AJ72,AJ73)=0,\":\",AJ72+AJ73)","v":":"},null,{"$f":"IF(COUNT(AL72,AL73)=0,\":\",AL72+AL73)","v":":"},null,{"$f":"IF(COUNT(AN72,AN73)=0,\":\",AN72+AN73)","v":":"},null,{"$f":"IF(COUNT(AP72,AP73)=0,\":\",AP72+AP73)","v":":"},null,{"$f":"IF(COUNT(AR72,AR73)=0,\":\",AR72+AR73)","v":":"},null,{"$f":"IF(COUNT(AT72,AT73)=0,\":\",AT72+AT73)","v":":"},null,{"$f":"IF(COUNT(AV72,AV73)=0,\":\",AV72+AV73)","v":":"},null,{"$f":"IF(COUNT(AX72,AX73)=0,\":\",AX72+AX73)","v":":"},null,{"$f":"IF(COUNT(AZ72,AZ73)=0,\":\",AZ72+AZ73)","v":":"},null,{"$f":"IF(COUNT(BB72,BB73)=0,\":\",BB72+BB73)","v":":"},null,{"$f":"IF(COUNT(BD72,BD73)=0,\":\",BD72+BD73)","v":":"},null,{"$f":"IF(COUNT(BF72,BF73)=0,\":\",BF72+BF73)","v":":"},null,{"$f":"IF(COUNT(BH72,BH73)=0,\":\",BH72+BH73)","v":":"}]
[null,"TOT_POL_RES_NTL","Total pollution and resource taxes from the NTL (for comparison and check)",{"$f":"IF(SUMIF('NTL_National Tax List'!$K$5:$K$300,\"P/RS\",'NTL_National Tax List'!L5:L300)=0,\":\",SUMIF('NTL_National Tax List'!$K$5:$K$300,\"P/RS\",'NTL_National Tax List'!L5:L300))","v":":"},null,{"$f":"IF(SUMIF('NTL_National Tax List'!$K$5:$K$300,\"P/RS\",'NTL_National Tax List'!M5:M300)=0,\":\",SUMIF('NTL_National Tax List'!$K$5:$K$300,\"P/RS\",'NTL_National Tax List'!M5:M300))","v":":"},null,{"$f":"IF(SUMIF('NTL_National Tax List'!$K$5:$K$300,\"P/RS\",'NTL_National Tax List'!N5:N300)=0,\":\",SUMIF('NTL_National Tax List'!$K$5:$K$300,\"P/RS\",'NTL_National Tax List'!N5:N300))","v":":"},null,{"$f":"IF(SUMIF('NTL_National Tax List'!$K$5:$K$300,\"P/RS\",'NTL_National Tax List'!O5:O300)=0,\":\",SUMIF('NTL_National Tax List'!$K$5:$K$300,\"P/RS\",'NTL_National Tax List'!O5:O300))","v":":"},null,{"$f":"IF(SUMIF('NTL_National Tax List'!$K$5:$K$300,\"P/RS\",'NTL_National Tax List'!P5:P300)=0,\":\",SUMIF('NTL_National Tax List'!$K$5:$K$300,\"P/RS\",'NTL_National Tax List'!P5:P300))","v":":"},null,{"$f":"IF(SUMIF('NTL_National Tax List'!$K$5:$K$300,\"P/RS\",'NTL_National Tax List'!Q5:Q300)=0,\":\",SUMIF('NTL_National Tax List'!$K$5:$K$300,\"P/RS\",'NTL_National Tax List'!Q5:Q300))","v":":"},null,{"$f":"IF(SUMIF('NTL_National Tax List'!$K$5:$K$300,\"P/RS\",'NTL_National Tax List'!R5:R300)=0,\":\",SUMIF('NTL_National Tax List'!$K$5:$K$300,\"P/RS\",'NTL_National Tax List'!R5:R300))","v":":"},null,{"$f":"IF(SUMIF('NTL_National Tax List'!$K$5:$K$300,\"P/RS\",'NTL_National Tax List'!S5:S300)=0,\":\",SUMIF('NTL_National Tax List'!$K$5:$K$300,\"P/RS\",'NTL_National Tax List'!S5:S300))","v":":"},null,{"$f":"IF(SUMIF('NTL_National Tax List'!$K$5:$K$300,\"P/RS\",'NTL_National Tax List'!T5:T300)=0,\":\",SUMIF('NTL_National Tax List'!$K$5:$K$300,\"P/RS\",'NTL_National Tax List'!T5:T300))","v":":"},null,{"$f":"IF(SUMIF('NTL_National Tax List'!$K$5:$K$300,\"P/RS\",'NTL_National Tax List'!U5:U300)=0,\":\",SUMIF('NTL_National Tax List'!$K$5:$K$300,\"P/RS\",'NTL_National Tax List'!U5:U300))","v":":"},null,{"$f":"IF(SUMIF('NTL_National Tax List'!$K$5:$K$300,\"P/RS\",'NTL_National Tax List'!V5:V300)=0,\":\",SUMIF('NTL_National Tax List'!$K$5:$K$300,\"P/RS\",'NTL_National Tax List'!V5:V300))","v":":"},null,{"$f":"IF(SUMIF('NTL_National Tax List'!$K$5:$K$300,\"P/RS\",'NTL_National Tax List'!W5:W300)=0,\":\",SUMIF('NTL_National Tax List'!$K$5:$K$300,\"P/RS\",'NTL_National Tax List'!W5:W300))","v":":"},null,{"$f":"IF(SUMIF('NTL_National Tax List'!$K$5:$K$300,\"P/RS\",'NTL_National Tax List'!X5:X300)=0,\":\",SUMIF('NTL_National Tax List'!$K$5:$K$300,\"P/RS\",'NTL_National Tax List'!X5:X300))","v":":"},null,{"$f":"IF(SUMIF('NTL_National Tax List'!$K$5:$K$300,\"P/RS\",'NTL_National Tax List'!Y5:Y300)=0,\":\",SUMIF('NTL_National Tax List'!$K$5:$K$300,\"P/RS\",'NTL_National Tax List'!Y5:Y300))","v":":"},null,{"$f":"IF(SUMIF('NTL_National Tax List'!$K$5:$K$300,\"P/RS\",'NTL_National Tax List'!Z5:Z300)=0,\":\",SUMIF('NTL_National Tax List'!$K$5:$K$300,\"P/RS\",'NTL_National Tax List'!Z5:Z300))","v":":"},null,{"$f":"IF(SUMIF('NTL_National Tax List'!$K$5:$K$300,\"P/RS\",'NTL_National Tax List'!AA5:AA300)=0,\":\",SUMIF('NTL_National Tax List'!$K$5:$K$300,\"P/RS\",'NTL_National Tax List'!AA5:AA300))","v":":"},null,{"$f":"IF(SUMIF('NTL_National Tax List'!$K$5:$K$300,\"P/RS\",'NTL_National Tax List'!AB5:AB300)=0,\":\",SUMIF('NTL_National Tax List'!$K$5:$K$300,\"P/RS\",'NTL_National Tax List'!AB5:AB300))","v":":"},null,{"$f":"IF(SUMIF('NTL_National Tax List'!$K$5:$K$300,\"P/RS\",'NTL_National Tax List'!AC5:AC300)=0,\":\",SUMIF('NTL_National Tax List'!$K$5:$K$300,\"P/RS\",'NTL_National Tax List'!AC5:AC300))","v":":"},null,{"$f":"IF(SUMIF('NTL_National Tax List'!$K$5:$K$300,\"P/RS\",'NTL_National Tax List'!AD5:AD300)=0,\":\",SUMIF('NTL_National Tax List'!$K$5:$K$300,\"P/RS\",'NTL_National Tax List'!AD5:AD300))","v":":"},null,{"$f":"IF(SUMIF('NTL_National Tax List'!$K$5:$K$300,\"P/RS\",'NTL_National Tax List'!AE5:AE300)=0,\":\",SUMIF('NTL_National Tax List'!$K$5:$K$300,\"P/RS\",'NTL_National Tax List'!AE5:AE300))","v":":"},null,{"$f":"IF(SUMIF('NTL_National Tax List'!$K$5:$K$300,\"P/RS\",'NTL_National Tax List'!AF5:AF300)=0,\":\",SUMIF('NTL_National Tax List'!$K$5:$K$300,\"P/RS\",'NTL_National Tax List'!AF5:AF300))","v":":"},null,{"$f":"IF(SUMIF('NTL_National Tax List'!$K$5:$K$300,\"P/RS\",'NTL_National Tax List'!AG5:AG300)=0,\":\",SUMIF('NTL_National Tax List'!$K$5:$K$300,\"P/RS\",'NTL_National Tax List'!AG5:AG300))","v":":"},null,{"$f":"IF(SUMIF('NTL_National Tax List'!$K$5:$K$300,\"P/RS\",'NTL_National Tax List'!AH5:AH300)=0,\":\",SUMIF('NTL_National Tax List'!$K$5:$K$300,\"P/RS\",'NTL_National Tax List'!AH5:AH300))","v":":"},null,{"$f":"IF(SUMIF('NTL_National Tax List'!$K$5:$K$300,\"P/RS\",'NTL_National Tax List'!AI5:AI300)=0,\":\",SUMIF('NTL_National Tax List'!$K$5:$K$300,\"P/RS\",'NTL_National Tax List'!AI5:AI300))","v":":"},null,{"$f":"IF(SUMIF('NTL_National Tax List'!$K$5:$K$300,\"P/RS\",'NTL_National Tax List'!AJ5:AJ300)=0,\":\",SUMIF('NTL_National Tax List'!$K$5:$K$300,\"P/RS\",'NTL_National Tax List'!AJ5:AJ300))","v":":"},null,{"$f":"IF(SUMIF('NTL_National Tax List'!$K$5:$K$300,\"P/RS\",'NTL_National Tax List'!AK5:AK300)=0,\":\",SUMIF('NTL_National Tax List'!$K$5:$K$300,\"P/RS\",'NTL_National Tax List'!AK5:AK300))","v":":"},null,{"$f":"IF(SUMIF('NTL_National Tax List'!$K$5:$K$300,\"P/RS\",'NTL_National Tax List'!AL5:AL300)=0,\":\",SUMIF('NTL_National Tax List'!$K$5:$K$300,\"P/RS\",'NTL_National Tax List'!AL5:AL300))","v":":"},null,{"$f":"IF(SUMIF('NTL_National Tax List'!$K$5:$K$300,\"P/RS\",'NTL_National Tax List'!AM5:AM300)=0,\":\",SUMIF('NTL_National Tax List'!$K$5:$K$300,\"P/RS\",'NTL_National Tax List'!AM5:AM300))","v":":"},null,{"$f":"IF(SUMIF('NTL_National Tax List'!$K$5:$K$300,\"P/RS\",'NTL_National Tax List'!AO5:AO300)=0,\":\",SUMIF('NTL_National Tax List'!$K$5:$K$300,\"P/RS\",'NTL_National Tax List'!AO5:AO300))","v":":"}]
[null,null,"% diff. between total pollution and resource taxes and total pollution and resource taxes from the NTL",{"$f":"IFERROR((D74-D75)/D75*100,IFERROR((D74-D75)/D74*100,\":\"))","v":":"},null,{"$f":"IFERROR((F74-F75)/F75*100,IFERROR((F74-F75)/F74*100,\":\"))","v":":"},null,{"$f":"IFERROR((H74-H75)/H75*100,IFERROR((H74-H75)/H74*100,\":\"))","v":":"},null,{"$f":"IFERROR((J74-J75)/J75*100,IFERROR((J74-J75)/J74*100,\":\"))","v":":"},null,{"$f":"IFERROR((L74-L75)/L75*100,IFERROR((L74-L75)/L74*100,\":\"))","v":":"},null,{"$f":"IFERROR((N74-N75)/N75*100,IFERROR((N74-N75)/N74*100,\":\"))","v":":"},null,{"$f":"IFERROR((P74-P75)/P75*100,IFERROR((P74-P75)/P74*100,\":\"))","v":":"},null,{"$f":"IFERROR((R74-R75)/R75*100,IFERROR((R74-R75)/R74*100,\":\"))","v":":"},null,{"$f":"IFERROR((T74-T75)/T75*100,IFERROR((T74-T75)/T74*100,\":\"))","v":":"},null,{"$f":"IFERROR((V74-V75)/V75*100,IFERROR((V74-V75)/V74*100,\":\"))","v":":"},null,{"$f":"IFERROR((X74-X75)/X75*100,IFERROR((X74-X75)/X74*100,\":\"))","v":":"},null,{"$f":"IFERROR((Z74-Z75)/Z75*100,IFERROR((Z74-Z75)/Z74*100,\":\"))","v":":"},null,{"$f":"IFERROR((AB74-AB75)/AB75*100,IFERROR((AB74-AB75)/AB74*100,\":\"))","v":":"},null,{"$f":"IFERROR((AD74-AD75)/AD75*100,IFERROR((AD74-AD75)/AD74*100,\":\"))","v":":"},null,{"$f":"IFERROR((AF74-AF75)/AF75*100,IFERROR((AF74-AF75)/AF74*100,\":\"))","v":":"},null,{"$f":"IFERROR((AH74-AH75)/AH75*100,IFERROR((AH74-AH75)/AH74*100,\":\"))","v":":"},null,{"$f":"IFERROR((AJ74-AJ75)/AJ75*100,IFERROR((AJ74-AJ75)/AJ74*100,\":\"))","v":":"},null,{"$f":"IFERROR((AL74-AL75)/AL75*100,IFERROR((AL74-AL75)/AL74*100,\":\"))","v":":"},null,{"$f":"IFERROR((AN74-AN75)/AN75*100,IFERROR((AN74-AN75)/AN74*100,\":\"))","v":":"},null,{"$f":"IFERROR((AP74-AP75)/AP75*100,IFERROR((AP74-AP75)/AP74*100,\":\"))","v":":"},null,{"$f":"IFERROR((AR74-AR75)/AR75*100,IFERROR((AR74-AR75)/AR74*100,\":\"))","v":":"},null,{"$f":"IFERROR((AT74-AT75)/AT75*100,IFERROR((AT74-AT75)/AT74*100,\":\"))","v":":"},null,{"$f":"IFERROR((AV74-AV75)/AV75*100,IFERROR((AV74-AV75)/AV74*100,\":\"))","v":":"},null,{"$f":"IFERROR((AX74-AX75)/AX75*100,IFERROR((AX74-AX75)/AX74*100,\":\"))","v":":"},null,{"$f":"IFERROR((AZ74-AZ75)/AZ75*100,IFERROR((AZ74-AZ75)/AZ74*100,\":\"))","v":":"},null,{"$f":"IFERROR((BB74-BB75)/BB75*100,IFERROR((BB74-BB75)/BB74*100,\":\"))","v":":"},null,{"$f":"IFERROR((BD74-BD75)/BD75*100,IFERROR((BD74-BD75)/BD74*100,\":\"))","v":":"},null,{"$f":"IFERROR((BF74-BF75)/BF75*100,IFERROR((BF74-BF75)/BF74*100,\":\"))","v":":"},null,{"$f":"IFERROR((BH74-BH75)/BH75*100,IFERROR((BH74-BH75)/BH74*100,\":\"))","v":":"}]
[null,null,"Environmental taxes for national purposes (difference between total reported above and total published for national purposes)",null,null,null,null,null,null,null,null,null,null,null,null,null,null,null,null,null,null,null,null,null,null,null,null,null,null,null,null,null,null,null,null,null,null,null,null,null,null,null,null,null,null,null,null,null,null,null,null,null,null,null,null,null,null,null,null,null,null,null,null,null,null,null,null,null,null,null,null,null,null,null,null,null,null,null,null,null,null,null,null,null,null,null,null,null,null,null,null,"TAX_NAC","_T","RUT","POL"]
[null,null,"Other environmentally related payments to government (fees and charges)",null,null,null,null,null,null,null,null,null,null,null,null,null,null,null,null,null,null,null,null,null,null,null,null,null,null,null,null,null,null,null,null,null,null,null,null,null,null,null,null,null,null,null,null,null,null,null,null,null,null,null,null,null,null,null,null,null,null,null,null,null,null,null,null,null,null,null,null,null,null,null,null,null,null,null,null,null,null,null,null,null,null,null,null,null,null,null,null,"FEE_NAC","_T","RUT","POL"]
[]
[null,"NACE Rev. 2 aggregated industries classification ",null,{"$f":"D4","v":"1995"},"footnotes",1996,"footnotes",1997,"footnotes",1998,"footnotes",1999,"footnotes",2000,"footnotes",2001,"footnotes",2002,"footnotes",2003,"footnotes",2004,"footnotes",2005,"footnotes",2006,"footnotes",2007,"footnotes",2008,"footnotes",2009,"footnotes",2010,"footnotes",2011,"footnotes",2012,"footnotes",2013,"footnotes",2014,"footnotes",2015,"footnotes",2016,"footnotes",2017,"footnotes",2018,"footnotes",2019,"footnotes",2020,"footnotes",2021,{"$f":"BE4","v":"footnotes"},{"$f":"BF4","v":2022},"footnotes",{"$f":"BH4","v":2023},{"$f":"BI4","v":"footnotes"}]
["A","A01-A03","Agriculture, forestry and fishing",{"$f":"IF(COUNT(D5,D6,D7)=0,\":\",SUM(D5,D6,D7))","v":":"},null,{"$f":"IF(COUNT(F5,F6,F7)=0,\":\",SUM(F5,F6,F7))","v":":"},null,{"$f":"IF(COUNT(H5,H6,H7)=0,\":\",SUM(H5,H6,H7))","v":":"},null,{"$f":"IF(COUNT(J5,J6,J7)=0,\":\",SUM(J5,J6,J7))","v":":"},null,{"$f":"IF(COUNT(L5,L6,L7)=0,\":\",SUM(L5,L6,L7))","v":":"},null,{"$f":"IF(COUNT(N5,N6,N7)=0,\":\",SUM(N5,N6,N7))","v":":"},null,{"$f":"IF(COUNT(P5,P6,P7)=0,\":\",SUM(P5,P6,P7))","v":":"},null,{"$f":"IF(COUNT(R5,R6,R7)=0,\":\",SUM(R5,R6,R7))","v":":"},null,{"$f":"IF(COUNT(T5,T6,T7)=0,\":\",SUM(T5,T6,T7))","v":":"},null,{"$f":"IF(COUNT(V5,V6,V7)=0,\":\",SUM(V5,V6,V7))","v":":"},null,{"$f":"IF(COUNT(X5,X6,X7)=0,\":\",SUM(X5,X6,X7))","v":":"},null,{"$f":"IF(COUNT(Z5,Z6,Z7)=0,\":\",SUM(Z5,Z6,Z7))","v":":"},null,{"$f":"IF(COUNT(AB5,AB6,AB7)=0,\":\",SUM(AB5,AB6,AB7))","v":":"},null,{"$f":"IF(COUNT(AD5,AD6,AD7)=0,\":\",SUM(AD5,AD6,AD7))","v":":"},null,{"$f":"IF(COUNT(AF5,AF6,AF7)=0,\":\",SUM(AF5,AF6,AF7))","v":":"},null,{"$f":"IF(COUNT(AH5,AH6,AH7)=0,\":\",SUM(AH5,AH6,AH7))","v":":"},null,{"$f":"IF(COUNT(AJ5,AJ6,AJ7)=0,\":\",SUM(AJ5,AJ6,AJ7))","v":":"},null,{"$f":"IF(COUNT(AL5,AL6,AL7)=0,\":\",SUM(AL5,AL6,AL7))","v":":"},null,{"$f":"IF(COUNT(AN5,AN6,AN7)=0,\":\",SUM(AN5,AN6,AN7))","v":":"},null,{"$f":"IF(COUNT(AP5,AP6,AP7)=0,\":\",SUM(AP5,AP6,AP7))","v":":"},null,{"$f":"IF(COUNT(AR5,AR6,AR7)=0,\":\",SUM(AR5,AR6,AR7))","v":":"},null,{"$f":"IF(COUNT(AT5,AT6,AT7)=0,\":\",SUM(AT5,AT6,AT7))","v":":"},null,{"$f":"IF(COUNT(AV5,AV6,AV7)=0,\":\",SUM(AV5,AV6,AV7))","v":":"},null,{"$f":"IF(COUNT(AX5,AX6,AX7)=0,\":\",SUM(AX5,AX6,AX7))","v":":"},null,{"$f":"IF(COUNT(AZ5,AZ6,AZ7)=0,\":\",SUM(AZ5,AZ6,AZ7))","v":":"},null,{"$f":"IF(COUNT(BB5,BB6,BB7)=0,\":\",SUM(BB5,BB6,BB7))","v":":"},null,{"$f":"IF(COUNT(BD5,BD6,BD7)=0,\":\",SUM(BD5,BD6,BD7))","v":":"},null,{"$f":"IF(COUNT(BF5,BF6,BF7)=0,\":\",SUM(BF5,BF6,BF7))","v":":"},null,{"$f":"IF(COUNT(BH5,BH6,BH7)=0,\":\",SUM(BH5,BH6,BH7))","v":":"},null,null,null,null,null,null,null,null,null,null,null,null,null,null,null,null,null,null,null,null,null,null,null,null,null,null,null,null,null,null,null,"TAX_EU","A","RUT","POL"]
[null,"B05-B09","Mining and quarrying",{"$f":"IF(COUNT(D8)=0,\":\",SUM(D8))","v":":"},null,{"$f":"IF(COUNT(F8)=0,\":\",SUM(F8))","v":":"},null,{"$f":"IF(COUNT(H8)=0,\":\",SUM(H8))","v":":"},null,{"$f":"IF(COUNT(J8)=0,\":\",SUM(J8))","v":":"},null,{"$f":"IF(COUNT(L8)=0,\":\",SUM(L8))","v":":"},null,{"$f":"IF(COUNT(N8)=0,\":\",SUM(N8))","v":":"},null,{"$f":"IF(COUNT(P8)=0,\":\",SUM(P8))","v":":"},null,{"$f":"IF(COUNT(R8)=0,\":\",SUM(R8))","v":":"},null,{"$f":"IF(COUNT(T8)=0,\":\",SUM(T8))","v":":"},null,{"$f":"IF(COUNT(V8)=0,\":\",SUM(V8))","v":":"},null,{"$f":"IF(COUNT(X8)=0,\":\",SUM(X8))","v":":"},null,{"$f":"IF(COUNT(Z8)=0,\":\",SUM(Z8))","v":":"},null,{"$f":"IF(COUNT(AB8)=0,\":\",SUM(AB8))","v":":"},null,{"$f":"IF(COUNT(AD8)=0,\":\",SUM(AD8))","v":":"},null,{"$f":"IF(COUNT(AF8)=0,\":\",SUM(AF8))","v":":"},null,{"$f":"IF(COUNT(AH8)=0,\":\",SUM(AH8))","v":":"},null,{"$f":"IF(COUNT(AJ8)=0,\":\",SUM(AJ8))","v":":"},null,{"$f":"IF(COUNT(AL8)=0,\":\",SUM(AL8))","v":":"},null,{"$f":"IF(COUNT(AN8)=0,\":\",SUM(AN8))","v":":"},null,{"$f":"IF(COUNT(AP8)=0,\":\",SUM(AP8))","v":":"},null,{"$f":"IF(COUNT(AR8)=0,\":\",SUM(AR8))","v":":"},null,{"$f":"IF(COUNT(AT8)=0,\":\",SUM(AT8))","v":":"},null,{"$f":"IF(COUNT(AV8)=0,\":\",SUM(AV8))","v":":"},null,{"$f":"IF(COUNT(AX8)=0,\":\",SUM(AX8))","v":":"},null,{"$f":"IF(COUNT(AZ8)=0,\":\",SUM(AZ8))","v":":"},null,{"$f":"IF(COUNT(BB8)=0,\":\",SUM(BB8))","v":":"},null,{"$f":"IF(COUNT(BD8)=0,\":\",SUM(BD8))","v":":"},null,{"$f":"IF(COUNT(BF8)=0,\":\",SUM(BF8))","v":":"},null,{"$f":"IF(COUNT(BH8)=0,\":\",SUM(BH8))","v":":"}]
["C","C10-C33","Manufacturing",{"$f":"IF(COUNT(D9:D27)=0,\":\",SUM(D9:D27))","v":":"},null,{"$f":"IF(COUNT(F9:F27)=0,\":\",SUM(F9:F27))","v":":"},null,{"$f":"IF(COUNT(H9:H27)=0,\":\",SUM(H9:H27))","v":":"},null,{"$f":"IF(COUNT(J9:J27)=0,\":\",SUM(J9:J27))","v":":"},null,{"$f":"IF(COUNT(L9:L27)=0,\":\",SUM(L9:L27))","v":":"},null,{"$f":"IF(COUNT(N9:N27)=0,\":\",SUM(N9:N27))","v":":"},null,{"$f":"IF(COUNT(P9:P27)=0,\":\",SUM(P9:P27))","v":":"},null,{"$f":"IF(COUNT(R9:R27)=0,\":\",SUM(R9:R27))","v":":"},null,{"$f":"IF(COUNT(T9:T27)=0,\":\",SUM(T9:T27))","v":":"},null,{"$f":"IF(COUNT(V9:V27)=0,\":\",SUM(V9:V27))","v":":"},null,{"$f":"IF(COUNT(X9:X27)=0,\":\",SUM(X9:X27))","v":":"},null,{"$f":"IF(COUNT(Z9:Z27)=0,\":\",SUM(Z9:Z27))","v":":"},null,{"$f":"IF(COUNT(AB9:AB27)=0,\":\",SUM(AB9:AB27))","v":":"},null,{"$f":"IF(COUNT(AD9:AD27)=0,\":\",SUM(AD9:AD27))","v":":"},null,{"$f":"IF(COUNT(AF9:AF27)=0,\":\",SUM(AF9:AF27))","v":":"},null,{"$f":"IF(COUNT(AH9:AH27)=0,\":\",SUM(AH9:AH27))","v":":"},null,{"$f":"IF(COUNT(AJ9:AJ27)=0,\":\",SUM(AJ9:AJ27))","v":":"},null,{"$f":"IF(COUNT(AL9:AL27)=0,\":\",SUM(AL9:AL27))","v":":"},null,{"$f":"IF(COUNT(AN9:AN27)=0,\":\",SUM(AN9:AN27))","v":":"},null,{"$f":"IF(COUNT(AP9:AP27)=0,\":\",SUM(AP9:AP27))","v":":"},null,{"$f":"IF(COUNT(AR9:AR27)=0,\":\",SUM(AR9:AR27))","v":":"},null,{"$f":"IF(COUNT(AT9:AT27)=0,\":\",SUM(AT9:AT27))","v":":"},null,{"$f":"IF(COUNT(AV9:AV27)=0,\":\",SUM(AV9:AV27))","v":":"},null,{"$f":"IF(COUNT(AX9:AX27)=0,\":\",SUM(AX9:AX27))","v":":"},null,{"$f":"IF(COUNT(AZ9:AZ27)=0,\":\",SUM(AZ9:AZ27))","v":":"},null,{"$f":"IF(COUNT(BB9:BB27)=0,\":\",SUM(BB9:BB27))","v":":"},null,{"$f":"IF(COUNT(BD9:BD27)=0,\":\",SUM(BD9:BD27))","v":":"},null,{"$f":"IF(COUNT(BF9:BF27)=0,\":\",SUM(BF9:BF27))","v":":"},null,{"$f":"IF(COUNT(BH9:BH27)=0,\":\",SUM(BH9:BH27))","v":":"},null,null,null,null,null,null,null,null,null,null,null,null,null,null,null,null,null,null,null,null,null,null,null,null,null,null,null,null,null,null,null,"TAX_EU","C","RUT","POL"]
[null,"D35","Electricity, gas, steam and air conditioning supply",{"$f":"IF(COUNT(D28)=0,\":\",SUM(D28))","v":":"},null,{"$f":"IF(COUNT(F28)=0,\":\",SUM(F28))","v":":"},null,{"$f":"IF(COUNT(H28)=0,\":\",SUM(H28))","v":":"},null,{"$f":"IF(COUNT(J28)=0,\":\",SUM(J28))","v":":"},null,{"$f":"IF(COUNT(L28)=0,\":\",SUM(L28))","v":":"},null,{"$f":"IF(COUNT(N28)=0,\":\",SUM(N28))","v":":"},null,{"$f":"IF(COUNT(P28)=0,\":\",SUM(P28))","v":":"},null,{"$f":"IF(COUNT(R28)=0,\":\",SUM(R28))","v":":"},null,{"$f":"IF(COUNT(T28)=0,\":\",SUM(T28))","v":":"},null,{"$f":"IF(COUNT(V28)=0,\":\",SUM(V28))","v":":"},null,{"$f":"IF(COUNT(X28)=0,\":\",SUM(X28))","v":":"},null,{"$f":"IF(COUNT(Z28)=0,\":\",SUM(Z28))","v":":"},null,{"$f":"IF(COUNT(AB28)=0,\":\",SUM(AB28))","v":":"},null,{"$f":"IF(COUNT(AD28)=0,\":\",SUM(AD28))","v":":"},null,{"$f":"IF(COUNT(AF28)=0,\":\",SUM(AF28))","v":":"},null,{"$f":"IF(COUNT(AH28)=0,\":\",SUM(AH28))","v":":"},null,{"$f":"IF(COUNT(AJ28)=0,\":\",SUM(AJ28))","v":":"},null,{"$f":"IF(COUNT(AL28)=0,\":\",SUM(AL28))","v":":"},null,{"$f":"IF(COUNT(AN28)=0,\":\",SUM(AN28))","v":":"},null,{"$f":"IF(COUNT(AP28)=0,\":\",SUM(AP28))","v":":"},null,{"$f":"IF(COUNT(AR28)=0,\":\",SUM(AR28))","v":":"},null,{"$f":"IF(COUNT(AT28)=0,\":\",SUM(AT28))","v":":"},null,{"$f":"IF(COUNT(AV28)=0,\":\",SUM(AV28))","v":":"},null,{"$f":"IF(COUNT(AX28)=0,\":\",SUM(AX28))","v":":"},null,{"$f":"IF(COUNT(AZ28)=0,\":\",SUM(AZ28))","v":":"},null,{"$f":"IF(COUNT(BB28)=0,\":\",SUM(BB28))","v":":"},null,{"$f":"IF(COUNT(BD28)=0,\":\",SUM(BD28))","v":":"},null,{"$f":"IF(COUNT(BF28)=0,\":\",SUM(BF28))","v":":"},null,{"$f":"IF(COUNT(BH28)=0,\":\",SUM(BH28))","v":":"}]
["E","E36-E39","Water supply, sewerage, waste management, remediation activities",{"$f":"IF(COUNT(D29:D30)=0,\":\",SUM(D29:D30))","v":":"},null,{"$f":"IF(COUNT(F29:F30)=0,\":\",SUM(F29:F30))","v":":"},null,{"$f":"IF(COUNT(H29:H30)=0,\":\",SUM(H29:H30))","v":":"},null,{"$f":"IF(COUNT(J29:J30)=0,\":\",SUM(J29:J30))","v":":"},null,{"$f":"IF(COUNT(L29:L30)=0,\":\",SUM(L29:L30))","v":":"},null,{"$f":"IF(COUNT(N29:N30)=0,\":\",SUM(N29:N30))","v":":"},null,{"$f":"IF(COUNT(P29:P30)=0,\":\",SUM(P29:P30))","v":":"},null,{"$f":"IF(COUNT(R29:R30)=0,\":\",SUM(R29:R30))","v":":"},null,{"$f":"IF(COUNT(T29:T30)=0,\":\",SUM(T29:T30))","v":":"},null,{"$f":"IF(COUNT(V29:V30)=0,\":\",SUM(V29:V30))","v":":"},null,{"$f":"IF(COUNT(X29:X30)=0,\":\",SUM(X29:X30))","v":":"},null,{"$f":"IF(COUNT(Z29:Z30)=0,\":\",SUM(Z29:Z30))","v":":"},null,{"$f":"IF(COUNT(AB29:AB30)=0,\":\",SUM(AB29:AB30))","v":":"},null,{"$f":"IF(COUNT(AD29:AD30)=0,\":\",SUM(AD29:AD30))","v":":"},null,{"$f":"IF(COUNT(AF29:AF30)=0,\":\",SUM(AF29:AF30))","v":":"},null,{"$f":"IF(COUNT(AH29:AH30)=0,\":\",SUM(AH29:AH30))","v":":"},null,{"$f":"IF(COUNT(AJ29:AJ30)=0,\":\",SUM(AJ29:AJ30))","v":":"},null,{"$f":"IF(COUNT(AL29:AL30)=0,\":\",SUM(AL29:AL30))","v":":"},null,{"$f":"IF(COUNT(AN29:AN30)=0,\":\",SUM(AN29:AN30))","v":":"},null,{"$f":"IF(COUNT(AP29:AP30)=0,\":\",SUM(AP29:AP30))","v":":"},null,{"$f":"IF(COUNT(AR29:AR30)=0,\":\",SUM(AR29:AR30))","v":":"},null,{"$f":"IF(COUNT(AT29:AT30)=0,\":\",SUM(AT29:AT30))","v":":"},null,{"$f":"IF(COUNT(AV29:AV30)=0,\":\",SUM(AV29:AV30))","v":":"},null,{"$f":"IF(COUNT(AX29:AX30)=0,\":\",SUM(AX29:AX30))","v":":"},null,{"$f":"IF(COUNT(AZ29:AZ30)=0,\":\",SUM(AZ29:AZ30))","v":":"},null,{"$f":"IF(COUNT(BB29:BB30)=0,\":\",SUM(BB29:BB30))","v":":"},null,{"$f":"IF(COUNT(BD29:BD30)=0,\":\",SUM(BD29:BD30))","v":":"},null,{"$f":"IF(COUNT(BF29:BF30)=0,\":\",SUM(BF29:BF30))","v":":"},null,{"$f":"IF(COUNT(BH29:BH30)=0,\":\",SUM(BH29:BH30))","v":":"},null,null,null,null,null,null,null,null,null,null,null,null,null,null,null,null,null,null,null,null,null,null,null,null,null,null,null,null,null,null,null,"TAX_EU","E","RUT","POL"]
[null,"F41-F43","Construction ",{"$f":"IF(COUNT(D31)=0,\":\",SUM(D31))","v":":"},null,{"$f":"IF(COUNT(F31)=0,\":\",SUM(F31))","v":":"},null,{"$f":"IF(COUNT(H31)=0,\":\",SUM(H31))","v":":"},null,{"$f":"IF(COUNT(J31)=0,\":\",SUM(J31))","v":":"},null,{"$f":"IF(COUNT(L31)=0,\":\",SUM(L31))","v":":"},null,{"$f":"IF(COUNT(N31)=0,\":\",SUM(N31))","v":":"},null,{"$f":"IF(COUNT(P31)=0,\":\",SUM(P31))","v":":"},null,{"$f":"IF(COUNT(R31)=0,\":\",SUM(R31))","v":":"},null,{"$f":"IF(COUNT(T31)=0,\":\",SUM(T31))","v":":"},null,{"$f":"IF(COUNT(V31)=0,\":\",SUM(V31))","v":":"},null,{"$f":"IF(COUNT(X31)=0,\":\",SUM(X31))","v":":"},null,{"$f":"IF(COUNT(Z31)=0,\":\",SUM(Z31))","v":":"},null,{"$f":"IF(COUNT(AB31)=0,\":\",SUM(AB31))","v":":"},null,{"$f":"IF(COUNT(AD31)=0,\":\",SUM(AD31))","v":":"},null,{"$f":"IF(COUNT(AF31)=0,\":\",SUM(AF31))","v":":"},null,{"$f":"IF(COUNT(AH31)=0,\":\",SUM(AH31))","v":":"},null,{"$f":"IF(COUNT(AJ31)=0,\":\",SUM(AJ31))","v":":"},null,{"$f":"IF(COUNT(AL31)=0,\":\",SUM(AL31))","v":":"},null,{"$f":"IF(COUNT(AN31)=0,\":\",SUM(AN31))","v":":"},null,{"$f":"IF(COUNT(AP31)=0,\":\",SUM(AP31))","v":":"},null,{"$f":"IF(COUNT(AR31)=0,\":\",SUM(AR31))","v":":"},null,{"$f":"IF(COUNT(AT31)=0,\":\",SUM(AT31))","v":":"},null,{"$f":"IF(COUNT(AV31)=0,\":\",SUM(AV31))","v":":"},null,{"$f":"IF(COUNT(AX31)=0,\":\",SUM(AX31))","v":":"},null,{"$f":"IF(COUNT(AZ31)=0,\":\",SUM(AZ31))","v":":"},null,{"$f":"IF(COUNT(BB31)=0,\":\",SUM(BB31))","v":":"},null,{"$f":"IF(COUNT(BD31)=0,\":\",SUM(BD31))","v":":"},null,{"$f":"IF(COUNT(BF31)=0,\":\",SUM(BF31))","v":":"},null,{"$f":"IF(COUNT(BH31)=0,\":\",SUM(BH31))","v":":"}]
["G","G45-G47","Wholesale and retail trade; repair of motor vehicles and motorcycles",{"$f":"IF(COUNT(D32:D34)=0,\":\",SUM(D32:D34))","v":":"},null,{"$f":"IF(COUNT(F32:F34)=0,\":\",SUM(F32:F34))","v":":"},null,{"$f":"IF(COUNT(H32:H34)=0,\":\",SUM(H32:H34))","v":":"},null,{"$f":"IF(COUNT(J32:J34)=0,\":\",SUM(J32:J34))","v":":"},null,{"$f":"IF(COUNT(L32:L34)=0,\":\",SUM(L32:L34))","v":":"},null,{"$f":"IF(COUNT(N32:N34)=0,\":\",SUM(N32:N34))","v":":"},null,{"$f":"IF(COUNT(P32:P34)=0,\":\",SUM(P32:P34))","v":":"},null,{"$f":"IF(COUNT(R32:R34)=0,\":\",SUM(R32:R34))","v":":"},null,{"$f":"IF(COUNT(T32:T34)=0,\":\",SUM(T32:T34))","v":":"},null,{"$f":"IF(COUNT(V32:V34)=0,\":\",SUM(V32:V34))","v":":"},null,{"$f":"IF(COUNT(X32:X34)=0,\":\",SUM(X32:X34))","v":":"},null,{"$f":"IF(COUNT(Z32:Z34)=0,\":\",SUM(Z32:Z34))","v":":"},null,{"$f":"IF(COUNT(AB32:AB34)=0,\":\",SUM(AB32:AB34))","v":":"},null,{"$f":"IF(COUNT(AD32:AD34)=0,\":\",SUM(AD32:AD34))","v":":"},null,{"$f":"IF(COUNT(AF32:AF34)=0,\":\",SUM(AF32:AF34))","v":":"},null,{"$f":"IF(COUNT(AH32:AH34)=0,\":\",SUM(AH32:AH34))","v":":"},null,{"$f":"IF(COUNT(AJ32:AJ34)=0,\":\",SUM(AJ32:AJ34))","v":":"},null,{"$f":"IF(COUNT(AL32:AL34)=0,\":\",SUM(AL32:AL34))","v":":"},null,{"$f":"IF(COUNT(AN32:AN34)=0,\":\",SUM(AN32:AN34))","v":":"},null,{"$f":"IF(COUNT(AP32:AP34)=0,\":\",SUM(AP32:AP34))","v":":"},null,{"$f":"IF(COUNT(AR32:AR34)=0,\":\",SUM(AR32:AR34))","v":":"},null,{"$f":"IF(COUNT(AT32:AT34)=0,\":\",SUM(AT32:AT34))","v":":"},null,{"$f":"IF(COUNT(AV32:AV34)=0,\":\",SUM(AV32:AV34))","v":":"},null,{"$f":"IF(COUNT(AX32:AX34)=0,\":\",SUM(AX32:AX34))","v":":"},null,{"$f":"IF(COUNT(AZ32:AZ34)=0,\":\",SUM(AZ32:AZ34))","v":":"},null,{"$f":"IF(COUNT(BB32:BB34)=0,\":\",SUM(BB32:BB34))","v":":"},null,{"$f":"IF(COUNT(BD32:BD34)=0,\":\",SUM(BD32:BD34))","v":":"},null,{"$f":"IF(COUNT(BF32:BF34)=0,\":\",SUM(BF32:BF34))","v":":"},null,{"$f":"IF(COUNT(BH32:BH34)=0,\":\",SUM(BH32:BH34))","v":":"},null,null,null,null,null,null,null,null,null,null,null,null,null,null,null,null,null,null,null,null,null,null,null,null,null,null,null,null,null,null,null,"TAX_EU","G","RUT","POL"]
["H","H49-H53","Transport and storage",{"$f":"IF(COUNT(D35:D39)=0,\":\",SUM(D35:D39))","v":":"},null,{"$f":"IF(COUNT(F35:F39)=0,\":\",SUM(F35:F39))","v":":"},null,{"$f":"IF(COUNT(H35:H39)=0,\":\",SUM(H35:H39))","v":":"},null,{"$f":"IF(COUNT(J35:J39)=0,\":\",SUM(J35:J39))","v":":"},null,{"$f":"IF(COUNT(L35:L39)=0,\":\",SUM(L35:L39))","v":":"},null,{"$f":"IF(COUNT(N35:N39)=0,\":\",SUM(N35:N39))","v":":"},null,{"$f":"IF(COUNT(P35:P39)=0,\":\",SUM(P35:P39))","v":":"},null,{"$f":"IF(COUNT(R35:R39)=0,\":\",SUM(R35:R39))","v":":"},null,{"$f":"IF(COUNT(T35:T39)=0,\":\",SUM(T35:T39))","v":":"},null,{"$f":"IF(COUNT(V35:V39)=0,\":\",SUM(V35:V39))","v":":"},null,{"$f":"IF(COUNT(X35:X39)=0,\":\",SUM(X35:X39))","v":":"},null,{"$f":"IF(COUNT(Z35:Z39)=0,\":\",SUM(Z35:Z39))","v":":"},null,{"$f":"IF(COUNT(AB35:AB39)=0,\":\",SUM(AB35:AB39))","v":":"},null,{"$f":"IF(COUNT(AD35:AD39)=0,\":\",SUM(AD35:AD39))","v":":"},null,{"$f":"IF(COUNT(AF35:AF39)=0,\":\",SUM(AF35:AF39))","v":":"},null,{"$f":"IF(COUNT(AH35:AH39)=0,\":\",SUM(AH35:AH39))","v":":"},null,{"$f":"IF(COUNT(AJ35:AJ39)=0,\":\",SUM(AJ35:AJ39))","v":":"},null,{"$f":"IF(COUNT(AL35:AL39)=0,\":\",SUM(AL35:AL39))","v":":"},null,{"$f":"IF(COUNT(AN35:AN39)=0,\":\",SUM(AN35:AN39))","v":":"},null,{"$f":"IF(COUNT(AP35:AP39)=0,\":\",SUM(AP35:AP39))","v":":"},null,{"$f":"IF(COUNT(AR35:AR39)=0,\":\",SUM(AR35:AR39))","v":":"},null,{"$f":"IF(COUNT(AT35:AT39)=0,\":\",SUM(AT35:AT39))","v":":"},null,{"$f":"IF(COUNT(AV35:AV39)=0,\":\",SUM(AV35:AV39))","v":":"},null,{"$f":"IF(COUNT(AX35:AX39)=0,\":\",SUM(AX35:AX39))","v":":"},null,{"$f":"IF(COUNT(AZ35:AZ39)=0,\":\",SUM(AZ35:AZ39))","v":":"},null,{"$f":"IF(COUNT(BB35:BB39)=0,\":\",SUM(BB35:BB39))","v":":"},null,{"$f":"IF(COUNT(BD35:BD39)=0,\":\",SUM(BD35:BD39))","v":":"},null,{"$f":"IF(COUNT(BF35:BF39)=0,\":\",SUM(BF35:BF39))","v":":"},null,{"$f":"IF(COUNT(BH35:BH39)=0,\":\",SUM(BH35:BH39))","v":":"},null,null,null,null,null,null,null,null,null,null,null,null,null,null,null,null,null,null,null,null,null,null,null,null,null,null,null,null,null,null,null,"TAX_EU","H","RUT","POL"]
["I-U","I-U","Services (except wholesale and retail trade, transportation and storage)",{"$f":"IF(COUNT(D40:D68)=0,\":\",SUM(D40:D68))","v":":"},null,{"$f":"IF(COUNT(F40:F68)=0,\":\",SUM(F40:F68))","v":":"},null,{"$f":"IF(COUNT(H40:H68)=0,\":\",SUM(H40:H68))","v":":"},null,{"$f":"IF(COUNT(J40:J68)=0,\":\",SUM(J40:J68))","v":":"},null,{"$f":"IF(COUNT(L40:L68)=0,\":\",SUM(L40:L68))","v":":"},null,{"$f":"IF(COUNT(N40:N68)=0,\":\",SUM(N40:N68))","v":":"},null,{"$f":"IF(COUNT(P40:P68)=0,\":\",SUM(P40:P68))","v":":"},null,{"$f":"IF(COUNT(R40:R68)=0,\":\",SUM(R40:R68))","v":":"},null,{"$f":"IF(COUNT(T40:T68)=0,\":\",SUM(T40:T68))","v":":"},null,{"$f":"IF(COUNT(V40:V68)=0,\":\",SUM(V40:V68))","v":":"},null,{"$f":"IF(COUNT(X40:X68)=0,\":\",SUM(X40:X68))","v":":"},null,{"$f":"IF(COUNT(Z40:Z68)=0,\":\",SUM(Z40:Z68))","v":":"},null,{"$f":"IF(COUNT(AB40:AB68)=0,\":\",SUM(AB40:AB68))","v":":"},null,{"$f":"IF(COUNT(AD40:AD68)=0,\":\",SUM(AD40:AD68))","v":":"},null,{"$f":"IF(COUNT(AF40:AF68)=0,\":\",SUM(AF40:AF68))","v":":"},null,{"$f":"IF(COUNT(AH40:AH68)=0,\":\",SUM(AH40:AH68))","v":":"},null,{"$f":"IF(COUNT(AJ40:AJ68)=0,\":\",SUM(AJ40:AJ68))","v":":"},null,{"$f":"IF(COUNT(AL40:AL68)=0,\":\",SUM(AL40:AL68))","v":":"},null,{"$f":"IF(COUNT(AN40:AN68)=0,\":\",SUM(AN40:AN68))","v":":"},null,{"$f":"IF(COUNT(AP40:AP68)=0,\":\",SUM(AP40:AP68))","v":":"},null,{"$f":"IF(COUNT(AR40:AR68)=0,\":\",SUM(AR40:AR68))","v":":"},null,{"$f":"IF(COUNT(AT40:AT68)=0,\":\",SUM(AT40:AT68))","v":":"},null,{"$f":"IF(COUNT(AV40:AV68)=0,\":\",SUM(AV40:AV68))","v":":"},null,{"$f":"IF(COUNT(AX40:AX68)=0,\":\",SUM(AX40:AX68))","v":":"},null,{"$f":"IF(COUNT(AZ40:AZ68)=0,\":\",SUM(AZ40:AZ68))","v":":"},null,{"$f":"IF(COUNT(BB40:BB68)=0,\":\",SUM(BB40:BB68))","v":":"},null,{"$f":"IF(COUNT(BD40:BD68)=0,\":\",SUM(BD40:BD68))","v":":"},null,{"$f":"IF(COUNT(BF40:BF68)=0,\":\",SUM(BF40:BF68))","v":":"},null,{"$f":"IF(COUNT(BH40:BH68)=0,\":\",SUM(BH40:BH68))","v":":"},null,null,null,null,null,null,null,null,null,null,null,null,null,null,null,null,null,null,null,null,null,null,null,null,null,null,null,null,null,null,null,"TAX_EU","ITU","RUT","POL"]
["TOTAL","TOTAL","Total - All NACE activities",{"$f":"IF(COUNT(D81:D89)=0,\":\",SUM(D81:D89))","v":":"},null,{"$f":"IF(COUNT(F81:F89)=0,\":\",SUM(F81:F89))","v":":"},null,{"$f":"IF(COUNT(H81:H89)=0,\":\",SUM(H81:H89))","v":":"},null,{"$f":"IF(COUNT(J81:J89)=0,\":\",SUM(J81:J89))","v":":"},null,{"$f":"IF(COUNT(L81:L89)=0,\":\",SUM(L81:L89))","v":":"},null,{"$f":"IF(COUNT(N81:N89)=0,\":\",SUM(N81:N89))","v":":"},null,{"$f":"IF(COUNT(P81:P89)=0,\":\",SUM(P81:P89))","v":":"},null,{"$f":"IF(COUNT(R81:R89)=0,\":\",SUM(R81:R89))","v":":"},null,{"$f":"IF(COUNT(T81:T89)=0,\":\",SUM(T81:T89))","v":":"},null,{"$f":"IF(COUNT(V81:V89)=0,\":\",SUM(V81:V89))","v":":"},null,{"$f":"IF(COUNT(X81:X89)=0,\":\",SUM(X81:X89))","v":":"},null,{"$f":"IF(COUNT(Z81:Z89)=0,\":\",SUM(Z81:Z89))","v":":"},null,{"$f":"IF(COUNT(AB81:AB89)=0,\":\",SUM(AB81:AB89))","v":":"},null,{"$f":"IF(COUNT(AD81:AD89)=0,\":\",SUM(AD81:AD89))","v":":"},null,{"$f":"IF(COUNT(AF81:AF89)=0,\":\",SUM(AF81:AF89))","v":":"},null,{"$f":"IF(COUNT(AH81:AH89)=0,\":\",SUM(AH81:AH89))","v":":"},null,{"$f":"IF(COUNT(AJ81:AJ89)=0,\":\",SUM(AJ81:AJ89))","v":":"},null,{"$f":"IF(COUNT(AL81:AL89)=0,\":\",SUM(AL81:AL89))","v":":"},null,{"$f":"IF(COUNT(AN81:AN89)=0,\":\",SUM(AN81:AN89))","v":":"},null,{"$f":"IF(COUNT(AP81:AP89)=0,\":\",SUM(AP81:AP89))","v":":"},null,{"$f":"IF(COUNT(AR81:AR89)=0,\":\",SUM(AR81:AR89))","v":":"},null,{"$f":"IF(COUNT(AT81:AT89)=0,\":\",SUM(AT81:AT89))","v":":"},null,{"$f":"IF(COUNT(AV81:AV89)=0,\":\",SUM(AV81:AV89))","v":":"},null,{"$f":"IF(COUNT(AX81:AX89)=0,\":\",SUM(AX81:AX89))","v":":"},null,{"$f":"IF(COUNT(AZ81:AZ89)=0,\":\",SUM(AZ81:AZ89))","v":":"},null,{"$f":"IF(COUNT(BB81:BB89)=0,\":\",SUM(BB81:BB89))","v":":"},null,{"$f":"IF(COUNT(BD81:BD89)=0,\":\",SUM(BD81:BD89))","v":":"},null,{"$f":"IF(COUNT(BF81:BF89)=0,\":\",SUM(BF81:BF89))","v":":"},null,{"$f":"IF(COUNT(BH81:BH89)=0,\":\",SUM(BH81:BH89))","v":":"},null,null,null,null,null,null,null,null,null,null,null,null,null,null,null,null,null,null,null,null,null,null,null,null,null,null,null,null,null,null,null,"TAX_EU","ATU","RUT","POL"]

{"sheet":"Resource taxes","index":7,"n_rows":90,"n_cols":157,"rows_kept":90,"cut":false,"hidden":false,"merged":[[0,94,2,94],[0,95,2,95],[0,96,2,96],[79,1,79,2],[0,91,2,91],[0,92,2,92],[0,93,2,93],[3,1,3,2]]}
[null,"Country:",{"$f":"'Energy taxes'!C1","v":"AL "},null,null,null,null,null,null,null,null,"Tolerance",null,null,null,null,null,null,null,null,null,null,null,null,null,null,null,null,null,null,null,null,null,null,null,null,null,null,null,null,null,null,null,null,null,null,null,null,null,null,null,null,null,null,null,null,null,null,null,null,null,null,null,null,null,null,null,null,null,null,null,null,null,null,null,null,null,null,null,null,null,null,null,null,null,null,null,null,null,null,null,"TAX_REP","INTERACTORS","BRIDGE_ITEMS","TAX","UNIT_MEASURE","UNIT_MULT"]
[null,"Resource taxes:","RES",null,null,null,null,null,null,null,null,{"$f":"5","v":5}]
[null,"Unit:","million national currency","MIO_NAC"]
["Ind","NACE Rev. 2 A*64 industry classification",null,1995,"footnotes",1996,"footnotes",1997,"footnotes",1998,"footnotes",1999,"footnotes",2000,"footnotes",2001,"footnotes",2002,"footnotes",2003,"footnotes",2004,"footnotes",2005,"footnotes",2006,"footnotes",2007,"footnotes",2008,"footnotes",2009,"footnotes",2010,"footnotes",2011,"footnotes",2012,"footnotes",2013,"footnotes",2014,"footnotes",2015,"footnotes",2016,"footnotes",2017,"footnotes",2018,"footnotes",2019,"footnotes",2020,"footnotes",2021,"footnotes",2022,"footnotes",2023,"footnotes",null,null,null,null,null,null,null,null,null,null,null,null,null,null,null,null,null,null,null,null,null,null,null,null,null,null,null,null,null,null,null,null,null,null,null,null,null,null,null,null,{"$f":"D4","v":1995},"footnotes",1996,"footnotes",1997,"footnotes",1998,"footnotes",1999,"footnotes",2000,"footnotes",2001,"footnotes",2002,"footnotes",2003,"footnotes",2004,"footnotes",2005,"footnotes",2006,"footnotes",2007,"footnotes",2008,"footnotes",2009,"footnotes",2010,"footnotes",{"$f":"AJ4","v":2011},"footnotes",2012,"footnotes",2013,"footnotes",2014,"footnotes",2015,"footnotes",2016,"footnotes",2017,"footnotes",2018,"footnotes",2019,"footnotes",2020,"footnotes",2021,{"$f":"BE4","v":"footnotes"},{"$f":"BH4","v":2023},{"$f":"BI4","v":"footnotes"}]
["A01","A01","Crop and animal production, hunting and related service activities",null,null,null,null,null,null,null,null,null,null,null,null,null,null,null,null,null,null,null,null,null,null,null,null,null,null,null,null,null,null,null,null,null,null,null,null,null,null,null,null,null,null,null,null,null,null,null,null,null,null,null,null,null,null,null,null,null,null,null,null,null,null,null,null,null,null,null,null,null,null,null,null,null,null,null,null,null,null,null,null,null,null,null,null,null,null,null,null,"TAX_EU","A01","RUT","RES","XDC",6]
["A02","A02","Forestry and logging ",null,null,null,null,null,null,null,null,null,null,null,null,null,null,null,null,null,null,null,null,null,null,null,null,null,null,null,null,null,null,null,null,null,null,null,null,null,null,null,null,null,null,null,null,null,null,null,null,null,null,null,null,null,null,null,null,null,null,null,null,null,null,null,null,null,null,null,null,null,null,null,null,null,null,null,null,null,null,null,null,null,null,null,null,null,null,null,null,"TAX_EU","A02","RUT","RES"]
["A03","A03","Fishing and aquaculture",null,null,null,null,null,null,null,null,null,null,null,null,null,null,null,null,null,null,null,null,null,null,null,null,null,null,null,null,null,null,null,null,null,null,null,null,null,null,null,null,null,null,null,null,null,null,null,null,null,null,null,null,null,null,null,null,null,null,null,null,null,null,null,null,null,null,null,null,null,null,null,null,null,null,null,null,null,null,null,null,null,null,null,null,null,null,null,null,"TAX_EU","A03","RUT","RES"]
["B","B05-B09","Mining and quarrying",null,null,null,null,null,null,null,null,null,null,null,null,null,null,null,null,null,null,null,null,null,null,null,null,null,null,null,null,null,null,null,null,null,null,null,null,null,null,null,null,null,null,null,null,null,null,null,null,null,null,null,null,null,null,null,null,null,null,null,null,null,null,null,null,null,null,null,null,null,null,null,null,null,null,null,null,null,null,null,null,null,null,null,null,null,null,null,null,"TAX_EU","B","RUT","RES"]
["C10-C12","C10-C12","Manufacture of food products, beverages and tobacco products",null,null,null,null,null,null,null,null,null,null,null,null,null,null,null,null,null,null,null,null,null,null,null,null,null,null,null,null,null,null,null,null,null,null,null,null,null,null,null,null,null,null,null,null,null,null,null,null,null,null,null,null,null,null,null,null,null,null,null,null,null,null,null,null,null,null,null,null,null,null,null,null,null,null,null,null,null,null,null,null,null,null,null,null,null,null,null,null,"TAX_EU","C10T12","RUT","RES"]
["C13-C15","C13-C15","Manufacture of textiles, wearing apparel and leather products",null,null,null,null,null,null,null,null,null,null,null,null,null,null,null,null,null,null,null,null,null,null,null,null,null,null,null,null,null,null,null,null,null,null,null,null,null,null,null,null,null,null,null,null,null,null,null,null,null,null,null,null,null,null,null,null,null,null,null,null,null,null,null,null,null,null,null,null,null,null,null,null,null,null,null,null,null,null,null,null,null,null,null,null,null,null,null,null,"TAX_EU","C13T15","RUT","RES"]
["C16","C16","Manufacture of wood and of products of wood and cork, except furniture; manufacture of articles of straw and plaiting materials",null,null,null,null,null,null,null,null,null,null,null,null,null,null,null,null,null,null,null,null,null,null,null,null,null,null,null,null,null,null,null,null,null,null,null,null,null,null,null,null,null,null,null,null,null,null,null,null,null,null,null,null,null,null,null,null,null,null,null,null,null,null,null,null,null,null,null,null,null,null,null,null,null,null,null,null,null,null,null,null,null,null,null,null,null,null,null,null,"TAX_EU","C16","RUT","RES"]
["C17","C17","Manufacture of paper and paper products",null,null,null,null,null,null,null,null,null,null,null,null,null,null,null,null,null,null,null,null,null,null,null,null,null,null,null,null,null,null,null,null,null,null,null,null,null,null,null,null,null,null,null,null,null,null,null,null,null,null,null,null,null,null,null,null,null,null,null,null,null,null,null,null,null,null,null,null,null,null,null,null,null,null,null,null,null,null,null,null,null,null,null,null,null,null,null,null,"TAX_EU","C17","RUT","RES"]
["C18","C18","Printing and reproduction of recorded media",null,null,null,null,null,null,null,null,null,null,null,null,null,null,null,null,null,null,null,null,null,null,null,null,null,null,null,null,null,null,null,null,null,null,null,null,null,null,null,null,null,null,null,null,null,null,null,null,null,null,null,null,null,null,null,null,null,null,null,null,null,null,null,null,null,null,null,null,null,null,null,null,null,null,null,null,null,null,null,null,null,null,null,null,null,null,null,null,"TAX_EU","C18","RUT","RES"]
["C19","C19","Manufacture of coke and refined petroleum products ",null,null,null,null,null,null,null,null,null,null,null,null,null,null,null,null,null,null,null,null,null,null,null,null,null,null,null,null,null,null,null,null,null,null,null,null,null,null,null,null,null,null,null,null,null,null,null,null,null,null,null,null,null,null,null,null,null,null,null,null,null,null,null,null,null,null,null,null,null,null,null,null,null,null,null,null,null,null,null,null,null,null,null,null,null,null,null,null,"TAX_EU","C19","RUT","RES"]
["C20","C20","Manufacture of chemicals and chemical products",null,null,null,null,null,null,null,null,null,null,null,null,null,null,null,null,null,null,null,null,null,null,null,null,null,null,null,null,null,null,null,null,null,null,null,null,null,null,null,null,null,null,null,null,null,null,null,null,null,null,null,null,null,null,null,null,null,null,null,null,null,null,null,null,null,null,null,null,null,null,null,null,null,null,null,null,null,null,null,null,null,null,null,null,null,null,null,null,"TAX_EU","C20","RUT","RES"]
["C21","C21","Manufacture of basic pharmaceutical products and pharmaceutical preparations",null,null,null,null,null,null,null,null,null,null,null,null,null,null,null,null,null,null,null,null,null,null,null,null,null,null,null,null,null,null,null,null,null,null,null,null,null,null,null,null,null,null,null,null,null,null,null,null,null,null,null,null,null,null,null,null,null,null,null,null,null,null,null,null,null,null,null,null,null,null,null,null,null,null,null,null,null,null,null,null,null,null,null,null,null,null,null,null,"TAX_EU","C21","RUT","RES"]
["C22","C22","Manufacture of rubber and plastic products",null,null,null,null,null,null,null,null,null,null,null,null,null,null,null,null,null,null,null,null,null,null,null,null,null,null,null,null,null,null,null,null,null,null,null,null,null,null,null,null,null,null,null,null,null,null,null,null,null,null,null,null,null,null,null,null,null,null,null,null,null,null,null,null,null,null,null,null,null,null,null,null,null,null,null,null,null,null,null,null,null,null,null,null,null,null,null,null,"TAX_EU","C22","RUT","RES"]
["C23","C23","Manufacture of other non-metallic mineral products",null,null,null,null,null,null,null,null,null,null,null,null,null,null,null,null,null,null,null,null,null,null,null,null,null,null,null,null,null,null,null,null,null,null,null,null,null,null,null,null,null,null,null,null,null,null,null,null,null,null,null,null,null,null,null,null,null,null,null,null,null,null,null,null,null,null,null,null,null,null,null,null,null,null,null,null,null,null,null,null,null,null,null,null,null,null,null,null,"TAX_EU","C23","RUT","RES"]
["C24","C24","Manufacture of basic metals",null,null,null,null,null,null,null,null,null,null,null,null,null,null,null,null,null,null,null,null,null,null,null,null,null,null,null,null,null,null,null,null,null,null,null,null,null,null,null,null,null,null,null,null,null,null,null,null,null,null,null,null,null,null,null,null,null,null,null,null,null,null,null,null,null,null,null,null,null,null,null,null,null,null,null,null,null,null,null,null,null,null,null,null,null,null,null,null,"TAX_EU","C24","RUT","RES"]
["C25","C25","Manufacture of fabricated metal products, except machinery and equipment",null,null,null,null,null,null,null,null,null,null,null,null,null,null,null,null,null,null,null,null,null,null,null,null,null,null,null,null,null,null,null,null,null,null,null,null,null,null,null,null,null,null,null,null,null,null,null,null,null,null,null,null,null,null,null,null,null,null,null,null,null,null,null,null,null,null,null,null,null,null,null,null,null,null,null,null,null,null,null,null,null,null,null,null,null,null,null,null,"TAX_EU","C25","RUT","RES"]
["C26","C26","Manufacture of computer, electronic and optical products",null,null,null,null,null,null,null,null,null,null,null,null,null,null,null,null,null,null,null,null,null,null,null,null,null,null,null,null,null,null,null,null,null,null,null,null,null,null,null,null,null,null,null,null,null,null,null,null,null,null,null,null,null,null,null,null,null,null,null,null,null,null,null,null,null,null,null,null,null,null,null,null,null,null,null,null,null,null,null,null,null,null,null,null,null,null,null,null,"TAX_EU","C26","RUT","RES"]
["C27","C27","Manufacture of electrical equipment",null,null,null,null,null,null,null,null,null,null,null,null,null,null,null,null,null,null,null,null,null,null,null,null,null,null,null,null,null,null,null,null,null,null,null,null,null,null,null,null,null,null,null,null,null,null,null,null,null,null,null,null,null,null,null,null,null,null,null,null,null,null,null,null,null,null,null,null,null,null,null,null,null,null,null,null,null,null,null,null,null,null,null,null,null,null,null,null,"TAX_EU","C27","RUT","RES"]
["C28","C28","Manufacture of machinery and equipment n.e.c.",null,null,null,null,null,null,null,null,null,null,null,null,null,null,null,null,null,null,null,null,null,null,null,null,null,null,null,null,null,null,null,null,null,null,null,null,null,null,null,null,null,null,null,null,null,null,null,null,null,null,null,null,null,null,null,null,null,null,null,null,null,null,null,null,null,null,null,null,null,null,null,null,null,null,null,null,null,null,null,null,null,null,null,null,null,null,null,null,"TAX_EU","C28","RUT","RES"]
["C29","C29","Manufacture of motor vehicles, trailers and semi-trailers",null,null,null,null,null,null,null,null,null,null,null,null,null,null,null,null,null,null,null,null,null,null,null,null,null,null,null,null,null,null,null,null,null,null,null,null,null,null,null,null,null,null,null,null,null,null,null,null,null,null,null,null,null,null,null,null,null,null,null,null,null,null,null,null,null,null,null,null,null,null,null,null,null,null,null,null,null,null,null,null,null,null,null,null,null,null,null,null,"TAX_EU","C29","RUT","RES"]
["C30","C30","Manufacture of other transport equipment",null,null,null,null,null,null,null,null,null,null,null,null,null,null,null,null,null,null,null,null,null,null,null,null,null,null,null,null,null,null,null,null,null,null,null,null,null,null,null,null,null,null,null,null,null,null,null,null,null,null,null,null,null,null,null,null,null,null,null,null,null,null,null,null,null,null,null,null,null,null,null,null,null,null,null,null,null,null,null,null,null,null,null,null,null,null,null,null,"TAX_EU","C30","RUT","RES"]
["C31_C32","C31-C32","Manufacture of furniture; other manufacturing",null,null,null,null,null,null,null,null,null,null,null,null,null,null,null,null,null,null,null,null,null,null,null,null,null,null,null,null,null,null,null,null,null,null,null,null,null,null,null,null,null,null,null,null,null,null,null,null,null,null,null,null,null,null,null,null,null,null,null,null,null,null,null,null,null,null,null,null,null,null,null,null,null,null,null,null,null,null,null,null,null,null,null,null,null,null,null,null,"TAX_EU","C31_32","RUT","RES"]
["C33","C33","Repair and installation of machinery and equipment",null,null,null,null,null,null,null,null,null,null,null,null,null,null,null,null,null,null,null,null,null,null,null,null,null,null,null,null,null,null,null,null,null,null,null,null,null,null,null,null,null,null,null,null,null,null,null,null,null,null,null,null,null,null,null,null,null,null,null,null,null,null,null,null,null,null,null,null,null,null,null,null,null,null,null,null,null,null,null,null,null,null,null,null,null,null,null,null,"TAX_EU","C33","RUT","RES"]
["D35","D35","Electricity, gas, steam and air conditioning supply",null,null,null,null,null,null,null,null,null,null,null,null,null,null,null,null,null,null,null,null,null,null,null,null,null,null,null,null,null,null,null,null,null,null,null,null,null,null,null,null,null,null,null,null,null,null,null,null,null,null,null,null,null,null,null,null,null,null,null,null,null,null,null,null,null,null,null,null,null,null,null,null,null,null,null,null,null,null,null,null,null,null,null,null,null,null,null,null,"TAX_EU","D","RUT","RES"]
["E36","E36","Water collection, treatment and supply",null,null,null,null,null,null,null,null,null,null,null,null,null,null,null,null,null,null,null,null,null,null,null,null,null,null,null,null,null,null,null,null,null,null,null,null,null,null,null,null,null,null,null,null,null,null,null,null,null,null,null,null,null,null,null,null,null,null,null,null,null,null,null,null,null,null,null,null,null,null,null,null,null,null,null,null,null,null,null,null,null,null,null,null,null,null,null,null,"TAX_EU","E36","RUT","RES"]
["E37-E39","E37-E39","Sewerage, waste collection, treatment and disposal activities; materials recovery; remediation activities and other waste management services ",null,null,null,null,null,null,null,null,null,null,null,null,null,null,null,null,null,null,null,null,null,null,null,null,null,null,null,null,null,null,null,null,null,null,null,null,null,null,null,null,null,null,null,null,null,null,null,null,null,null,null,null,null,null,null,null,null,null,null,null,null,null,null,null,null,null,null,null,null,null,null,null,null,null,null,null,null,null,null,null,null,null,null,null,null,null,null,null,"TAX_EU","E37T39","RUT","RES"]
["F","F41-F43","Construction ",null,null,null,null,null,null,null,null,null,null,null,null,null,null,null,null,null,null,null,null,null,null,null,null,null,null,null,null,null,null,null,null,null,null,null,null,null,null,null,null,null,null,null,null,null,null,null,null,null,null,null,null,null,null,null,null,null,null,null,null,null,null,null,null,null,null,null,null,null,null,null,null,null,null,null,null,null,null,null,null,null,null,null,null,null,null,null,null,"TAX_EU","F","RUT","RES"]
["G45","G45","Wholesale and retail trade and repair of motor vehicles and motorcycles",null,null,null,null,null,null,null,null,null,null,null,null,null,null,null,null,null,null,null,null,null,null,null,null,null,null,null,null,null,null,null,null,null,null,null,null,null,null,null,null,null,null,null,null,null,null,null,null,null,null,null,null,null,null,null,null,null,null,null,null,null,null,null,null,null,null,null,null,null,null,null,null,null,null,null,null,null,null,null,null,null,null,null,null,null,null,null,null,"TAX_EU","G45","RUT","RES"]
["G46","G46","Wholesale trade, except of motor vehicles and motorcycles",null,null,null,null,null,null,null,null,null,null,null,null,null,null,null,null,null,null,null,null,null,null,null,null,null,null,null,null,null,null,null,null,null,null,null,null,null,null,null,null,null,null,null,null,null,null,null,null,null,null,null,null,null,null,null,null,null,null,null,null,null,null,null,null,null,null,null,null,null,null,null,null,null,null,null,null,null,null,null,null,null,null,null,null,null,null,null,null,"TAX_EU","G46","RUT","RES"]
["G47","G47","Retail trade, except of motor vehicles and motorcycles",null,null,null,null,null,null,null,null,null,null,null,null,null,null,null,null,null,null,null,null,null,null,null,null,null,null,null,null,null,null,null,null,null,null,null,null,null,null,null,null,null,null,null,null,null,null,null,null,null,null,null,null,null,null,null,null,null,null,null,null,null,null,null,null,null,null,null,null,null,null,null,null,null,null,null,null,null,null,null,null,null,null,null,null,null,null,null,null,"TAX_EU","G47","RUT","RES"]
["H49","H49","Land transport and transport via pipelines",null,null,null,null,null,null,null,null,null,null,null,null,null,null,null,null,null,null,null,null,null,null,null,null,null,null,null,null,null,null,null,null,null,null,null,null,null,null,null,null,null,null,null,null,null,null,null,null,null,null,null,null,null,null,null,null,null,null,null,null,null,null,null,null,null,null,null,null,null,null,null,null,null,null,null,null,null,null,null,null,null,null,null,null,null,null,null,null,"TAX_EU","H49","RUT","RES"]
["H50","H50","Water transport",null,null,null,null,null,null,null,null,null,null,null,null,null,null,null,null,null,null,null,null,null,null,null,null,null,null,null,null,null,null,null,null,null,null,null,null,null,null,null,null,null,null,null,null,null,null,null,null,null,null,null,null,null,null,null,null,null,null,null,null,null,null,null,null,null,null,null,null,null,null,null,null,null,null,null,null,null,null,null,null,null,null,null,null,null,null,null,null,"TAX_EU","H50","RUT","RES"]
["H51","H51","Air transport",null,null,null,null,null,null,null,null,null,null,null,null,null,null,null,null,null,null,null,null,null,null,null,null,null,null,null,null,null,null,null,null,null,null,null,null,null,null,null,null,null,null,null,null,null,null,null,null,null,null,null,null,null,null,null,null,null,null,null,null,null,null,null,null,null,null,null,null,null,null,null,null,null,null,null,null,null,null,null,null,null,null,null,null,null,null,null,null,"TAX_EU","H51","RUT","RES"]
["H52","H52","Warehousing and support activities for transportation",null,null,null,null,null,null,null,null,null,null,null,null,null,null,null,null,null,null,null,null,null,null,null,null,null,null,null,null,null,null,null,null,null,null,null,null,null,null,null,null,null,null,null,null,null,null,null,null,null,null,null,null,null,null,null,null,null,null,null,null,null,null,null,null,null,null,null,null,null,null,null,null,null,null,null,null,null,null,null,null,null,null,null,null,null,null,null,null,"TAX_EU","H52","RUT","RES"]
["H53","H53","Postal and courier activities",null,null,null,null,null,null,null,null,null,null,null,null,null,null,null,null,null,null,null,null,null,null,null,null,null,null,null,null,null,null,null,null,null,null,null,null,null,null,null,null,null,null,null,null,null,null,null,null,null,null,null,null,null,null,null,null,null,null,null,null,null,null,null,null,null,null,null,null,null,null,null,null,null,null,null,null,null,null,null,null,null,null,null,null,null,null,null,null,"TAX_EU","H53","RUT","RES"]
["I","I55-I56","Accommodation; food and beverage service activities",null,null,null,null,null,null,null,null,null,null,null,null,null,null,null,null,null,null,null,null,null,null,null,null,null,null,null,null,null,null,null,null,null,null,null,null,null,null,null,null,null,null,null,null,null,null,null,null,null,null,null,null,null,null,null,null,null,null,null,null,null,null,null,null,null,null,null,null,null,null,null,null,null,null,null,null,null,null,null,null,null,null,null,null,null,null,null,null,"TAX_EU","I","RUT","RES"]
["J58","J58","Publishing activities",null,null,null,null,null,null,null,null,null,null,null,null,null,null,null,null,null,null,null,null,null,null,null,null,null,null,null,null,null,null,null,null,null,null,null,null,null,null,null,null,null,null,null,null,null,null,null,null,null,null,null,null,null,null,null,null,null,null,null,null,null,null,null,null,null,null,null,null,null,null,null,null,null,null,null,null,null,null,null,null,null,null,null,null,null,null,null,null,"TAX_EU","J58","RUT","RES"]
["J59_J60","J59-J60","Motion picture, video and television programme production, sound recording and music publishing activities;  programming and broadcasting activities",null,null,null,null,null,null,null,null,null,null,null,null,null,null,null,null,null,null,null,null,null,null,null,null,null,null,null,null,null,null,null,null,null,null,null,null,null,null,null,null,null,null,null,null,null,null,null,null,null,null,null,null,null,null,null,null,null,null,null,null,null,null,null,null,null,null,null,null,null,null,null,null,null,null,null,null,null,null,null,null,null,null,null,null,null,null,null,null,"TAX_EU","J59_60","RUT","RES"]
["J61","J61","Telecommunications",null,null,null,null,null,null,null,null,null,null,null,null,null,null,null,null,null,null,null,null,null,null,null,null,null,null,null,null,null,null,null,null,null,null,null,null,null,null,null,null,null,null,null,null,null,null,null,null,null,null,null,null,null,null,null,null,null,null,null,null,null,null,null,null,null,null,null,null,null,null,null,null,null,null,null,null,null,null,null,null,null,null,null,null,null,null,null,null,"TAX_EU","J61","RUT","RES"]
["J62_J63","J62-J63","Computer programming, consultancy and related activities; Information services activities",null,null,null,null,null,null,null,null,null,null,null,null,null,null,null,null,null,null,null,null,null,null,null,null,null,null,null,null,null,null,null,null,null,null,null,null,null,null,null,null,null,null,null,null,null,null,null,null,null,null,null,null,null,null,null,null,null,null,null,null,null,null,null,null,null,null,null,null,null,null,null,null,null,null,null,null,null,null,null,null,null,null,null,null,null,null,null,null,"TAX_EU","J62_63","RUT","RES"]
["K64","K64","Financial service activities, except insurance and pension funding",null,null,null,null,null,null,null,null,null,null,null,null,null,null,null,null,null,null,null,null,null,null,null,null,null,null,null,null,null,null,null,null,null,null,null,null,null,null,null,null,null,null,null,null,null,null,null,null,null,null,null,null,null,null,null,null,null,null,null,null,null,null,null,null,null,null,null,null,null,null,null,null,null,null,null,null,null,null,null,null,null,null,null,null,null,null,null,null,"TAX_EU","K64","RUT","RES"]
["K65","K65","Insurance, reinsurance and pension funding, except compulsory social security",null,null,null,null,null,null,null,null,null,null,null,null,null,null,null,null,null,null,null,null,null,null,null,null,null,null,null,null,null,null,null,null,null,null,null,null,null,null,null,null,null,null,null,null,null,null,null,null,null,null,null,null,null,null,null,null,null,null,null,null,null,null,null,null,null,null,null,null,null,null,null,null,null,null,null,null,null,null,null,null,null,null,null,null,null,null,null,null,"TAX_EU","K65","RUT","RES"]
["K66","K66","Activities auxiliary to financial services and insurance activities",null,null,null,null,null,null,null,null,null,null,null,null,null,null,null,null,null,null,null,null,null,null,null,null,null,null,null,null,null,null,null,null,null,null,null,null,null,null,null,null,null,null,null,null,null,null,null,null,null,null,null,null,null,null,null,null,null,null,null,null,null,null,null,null,null,null,null,null,null,null,null,null,null,null,null,null,null,null,null,null,null,null,null,null,null,null,null,null,"TAX_EU","K66","RUT","RES"]
["L","L68","Real estate activities",null,null,null,null,null,null,null,null,null,null,null,null,null,null,null,null,null,null,null,null,null,null,null,null,null,null,null,null,null,null,null,null,null,null,null,null,null,null,null,null,null,null,null,null,null,null,null,null,null,null,null,null,null,null,null,null,null,null,null,null,null,null,null,null,null,null,null,null,null,null,null,null,null,null,null,null,null,null,null,null,null,null,null,null,null,null,null,null,"TAX_EU","L","RUT","RES"]
["M69_M70","M69-M70","Legal and accounting activities; activities of head offices; management consultancy activities",null,null,null,null,null,null,null,null,null,null,null,null,null,null,null,null,null,null,null,null,null,null,null,null,null,null,null,null,null,null,null,null,null,null,null,null,null,null,null,null,null,null,null,null,null,null,null,null,null,null,null,null,null,null,null,null,null,null,null,null,null,null,null,null,null,null,null,null,null,null,null,null,null,null,null,null,null,null,null,null,null,null,null,null,null,null,null,null,"TAX_EU","M69_70","RUT","RES"]
["M71","M71","Architectural and engineering activities; technical testing and analysis",null,null,null,null,null,null,null,null,null,null,null,null,null,null,null,null,null,null,null,null,null,null,null,null,null,null,null,null,null,null,null,null,null,null,null,null,null,null,null,null,null,null,null,null,null,null,null,null,null,null,null,null,null,null,null,null,null,null,null,null,null,null,null,null,null,null,null,null,null,null,null,null,null,null,null,null,null,null,null,null,null,null,null,null,null,null,null,null,"TAX_EU","M71","RUT","RES"]
["M72","M72","Scientific research and development",null,null,null,null,null,null,null,null,null,null,null,null,null,null,null,null,null,null,null,null,null,null,null,null,null,null,null,null,null,null,null,null,null,null,null,null,null,null,null,null,null,null,null,null,null,null,null,null,null,null,null,null,null,null,null,null,null,null,null,null,null,null,null,null,null,null,null,null,null,null,null,null,null,null,null,null,null,null,null,null,null,null,null,null,null,null,null,null,"TAX_EU","M72","RUT","RES"]
["M73","M73","Advertising and market research",null,null,null,null,null,null,null,null,null,null,null,null,null,null,null,null,null,null,null,null,null,null,null,null,null,null,null,null,null,null,null,null,null,null,null,null,null,null,null,null,null,null,null,null,null,null,null,null,null,null,null,null,null,null,null,null,null,null,null,null,null,null,null,null,null,null,null,null,null,null,null,null,null,null,null,null,null,null,null,null,null,null,null,null,null,null,null,null,"TAX_EU","M73","RUT","RES"]
["M74_M75","M74-M75","Other professional, scientific and technical activities; veterinary activities",null,null,null,null,null,null,null,null,null,null,null,null,null,null,null,null,null,null,null,null,null,null,null,null,null,null,null,null,null,null,null,null,null,null,null,null,null,null,null,null,null,null,null,null,null,null,null,null,null,null,null,null,null,null,null,null,null,null,null,null,null,null,null,null,null,null,null,null,null,null,null,null,null,null,null,null,null,null,null,null,null,null,null,null,null,null,null,null,"TAX_EU","M74_75","RUT","RES"]
["N77","N77","Rental and leasing activities",null,null,null,null,null,null,null,null,null,null,null,null,null,null,null,null,null,null,null,null,null,null,null,null,null,null,null,null,null,null,null,null,null,null,null,null,null,null,null,null,null,null,null,null,null,null,null,null,null,null,null,null,null,null,null,null,null,null,null,null,null,null,null,null,null,null,null,null,null,null,null,null,null,null,null,null,null,null,null,null,null,null,null,null,null,null,null,null,"TAX_EU","N77","RUT","RES"]
["N78","N78","Employment activities",null,null,null,null,null,null,null,null,null,null,null,null,null,null,null,null,null,null,null,null,null,null,null,null,null,null,null,null,null,null,null,null,null,null,null,null,null,null,null,null,null,null,null,null,null,null,null,null,null,null,null,null,null,null,null,null,null,null,null,null,null,null,null,null,null,null,null,null,null,null,null,null,null,null,null,null,null,null,null,null,null,null,null,null,null,null,null,null,"TAX_EU","N78","RUT","RES"]
["N79","N79","Travel agency, tour operator reservation service and related activities",null,null,null,null,null,null,null,null,null,null,null,null,null,null,null,null,null,null,null,null,null,null,null,null,null,null,null,null,null,null,null,null,null,null,null,null,null,null,null,null,null,null,null,null,null,null,null,null,null,null,null,null,null,null,null,null,null,null,null,null,null,null,null,null,null,null,null,null,null,null,null,null,null,null,null,null,null,null,null,null,null,null,null,null,null,null,null,null,"TAX_EU","N79","RUT","RES"]
["N80-N82","N80-N82","Security and investigation activities; services to buildings and landscape activities; office administrative, office support and other business support activities",null,null,null,null,null,null,null,null,null,null,null,null,null,null,null,null,null,null,null,null,null,null,null,null,null,null,null,null,null,null,null,null,null,null,null,null,null,null,null,null,null,null,null,null,null,null,null,null,null,null,null,null,null,null,null,null,null,null,null,null,null,null,null,null,null,null,null,null,null,null,null,null,null,null,null,null,null,null,null,null,null,null,null,null,null,null,null,null,"TAX_EU","N80T82","RUT","RES"]
["O84","O84","Public administration and defence; compulsory social security",null,null,null,null,null,null,null,null,null,null,null,null,null,null,null,null,null,null,null,null,null,null,null,null,null,null,null,null,null,null,null,null,null,null,null,null,null,null,null,null,null,null,null,null,null,null,null,null,null,null,null,null,null,null,null,null,null,null,null,null,null,null,null,null,null,null,null,null,null,null,null,null,null,null,null,null,null,null,null,null,null,null,null,null,null,null,null,null,"TAX_EU","O","RUT","RES"]
["P85","P85","Education",null,null,null,null,null,null,null,null,null,null,null,null,null,null,null,null,null,null,null,null,null,null,null,null,null,null,null,null,null,null,null,null,null,null,null,null,null,null,null,null,null,null,null,null,null,null,null,null,null,null,null,null,null,null,null,null,null,null,null,null,null,null,null,null,null,null,null,null,null,null,null,null,null,null,null,null,null,null,null,null,null,null,null,null,null,null,null,null,"TAX_EU","P","RUT","RES"]
["Q86","Q86","Human health activities",null,null,null,null,null,null,null,null,null,null,null,null,null,null,null,null,null,null,null,null,null,null,null,null,null,null,null,null,null,null,null,null,null,null,null,null,null,null,null,null,null,null,null,null,null,null,null,null,null,null,null,null,null,null,null,null,null,null,null,null,null,null,null,null,null,null,null,null,null,null,null,null,null,null,null,null,null,null,null,null,null,null,null,null,null,null,null,null,"TAX_EU","Q86","RUT","RES"]
["Q87_Q88","Q87-Q88","Social work activities",null,null,null,null,null,null,null,null,null,null,null,null,null,null,null,null,null,null,null,null,null,null,null,null,null,null,null,null,null,null,null,null,null,null,null,null,null,null,null,null,null,null,null,null,null,null,null,null,null,null,null,null,null,null,null,null,null,null,null,null,null,null,null,null,null,null,null,null,null,null,null,null,null,null,null,null,null,null,null,null,null,null,null,null,null,null,null,null,"TAX_EU","Q87_88","RUT","RES"]
["R90-R92","R90-R92","Creative, arts and entertainment activities; libraries, archives, museums and other cultural activities; gambling and betting activities",null,null,null,null,null,null,null,null,null,null,null,null,null,null,null,null,null,null,null,null,null,null,null,null,null,null,null,null,null,null,null,null,null,null,null,null,null,null,null,null,null,null,null,null,null,null,null,null,null,null,null,null,null,null,null,null,null,null,null,null,null,null,null,null,null,null,null,null,null,null,null,null,null,null,null,null,null,null,null,null,null,null,null,null,null,null,null,null,"TAX_EU","R90T92","RUT","RES"]
["R93","R93","Sports activities and amusement and recreation activities",null,null,null,null,null,null,null,null,null,null,null,null,null,null,null,null,null,null,null,null,null,null,null,null,null,null,null,null,null,null,null,null,null,null,null,null,null,null,null,null,null,null,null,null,null,null,null,null,null,null,null,null,null,null,null,null,null,null,null,null,null,null,null,null,null,null,null,null,null,null,null,null,null,null,null,null,null,null,null,null,null,null,null,null,null,null,null,null,"TAX_EU","R93","RUT","RES"]
["S94","S94","Activities of membership organisations",null,null,null,null,null,null,null,null,null,null,null,null,null,null,null,null,null,null,null,null,null,null,null,null,null,null,null,null,null,null,null,null,null,null,null,null,null,null,null,null,null,null,null,null,null,null,null,null,null,null,null,null,null,null,null,null,null,null,null,null,null,null,null,null,null,null,null,null,null,null,null,null,null,null,null,null,null,null,null,null,null,null,null,null,null,null,null,null,"TAX_EU","S94","RUT","RES"]
["S95","S95","Repairs of computers and personal and household goods",null,null,null,null,null,null,null,null,null,null,null,null,null,null,null,null,null,null,null,null,null,null,null,null,null,null,null,null,null,null,null,null,null,null,null,null,null,null,null,null,null,null,null,null,null,null,null,null,null,null,null,null,null,null,null,null,null,null,null,null,null,null,null,null,null,null,null,null,null,null,null,null,null,null,null,null,null,null,null,null,null,null,null,null,null,null,null,null,"TAX_EU","S95","RUT","RES"]
["S96","S96","Other personal service activities",null,null,null,null,null,null,null,null,null,null,null,null,null,null,null,null,null,null,null,null,null,null,null,null,null,null,null,null,null,null,null,null,null,null,null,null,null,null,null,null,null,null,null,null,null,null,null,null,null,null,null,null,null,null,null,null,null,null,null,null,null,null,null,null,null,null,null,null,null,null,null,null,null,null,null,null,null,null,null,null,null,null,null,null,null,null,null,null,"TAX_EU","S96","RUT","RES"]
["T","T97-T98","Activities of households as employers; undifferentiated goods- and services-producing activities of households for own use",null,null,null,null,null,null,null,null,null,null,null,null,null,null,null,null,null,null,null,null,null,null,null,null,null,null,null,null,null,null,null,null,null,null,null,null,null,null,null,null,null,null,null,null,null,null,null,null,null,null,null,null,null,null,null,null,null,null,null,null,null,null,null,null,null,null,null,null,null,null,null,null,null,null,null,null,null,null,null,null,null,null,null,null,null,null,null,null,"TAX_EU","T","RUT","RES"]
["U99","U99","Activities of extraterritorial organisations and bodies",null,null,null,null,null,null,null,null,null,null,null,null,null,null,null,null,null,null,null,null,null,null,null,null,null,null,null,null,null,null,null,null,null,null,null,null,null,null,null,null,null,null,null,null,null,null,null,null,null,null,null,null,null,null,null,null,null,null,null,null,null,null,null,null,null,null,null,null,null,null,null,null,null,null,null,null,null,null,null,null,null,null,null,null,null,null,null,null,"TAX_EU","U","RUT","RES"]
["EP_HH","HH","Households",null,null,null,null,null,null,null,null,null,null,null,null,null,null,null,null,null,null,null,null,null,null,null,null,null,null,null,null,null,null,null,null,null,null,null,null,null,null,null,null,null,null,null,null,null,null,null,null,null,null,null,null,null,null,null,null,null,null,null,null,null,null,null,null,null,null,null,null,null,null,null,null,null,null,null,null,null,null,null,null,null,null,null,null,null,null,null,null,"TAX_EU","HH","RUT","RES"]
["EP_NRES","NRES","Non-residents",null,null,null,null,null,null,null,null,null,null,null,null,null,null,null,null,null,null,null,null,null,null,null,null,null,null,null,null,null,null,null,null,null,null,null,null,null,null,null,null,null,null,null,null,null,null,null,null,null,null,null,null,null,null,null,null,null,null,null,null,null,null,null,null,null,null,null,null,null,null,null,null,null,null,null,null,null,null,null,null,null,null,null,null,null,null,null,null,"TAX_EU","_T","TER_NRES","RES"]
["NAL","NAL","Not allocated",null,null,null,null,null,null,null,null,null,null,null,null,null,null,null,null,null,null,null,null,null,null,null,null,null,null,null,null,null,null,null,null,null,null,null,null,null,null,null,null,null,null,null,null,null,null,null,null,null,null,null,null,null,null,null,null,null,null,null,null,null,null,null,null,null,null,null,null,null,null,null,null,null,null,null,null,null,null,null,null,null,null,null,null,null,null,null,null,"TAX_EU","_X","RUT","RES"]
["TOTAL_HH_NRES","TOT_RES","Total resource taxes ",{"$f":"IF(COUNT(D5:D71)=0,\":\",SUM(D5:D71))","v":":"},null,{"$f":"IF(COUNT(F5:F71)=0,\":\",SUM(F5:F71))","v":":"},null,{"$f":"IF(COUNT(H5:H71)=0,\":\",SUM(H5:H71))","v":":"},null,{"$f":"IF(COUNT(J5:J71)=0,\":\",SUM(J5:J71))","v":":"},null,{"$f":"IF(COUNT(L5:L71)=0,\":\",SUM(L5:L71))","v":":"},null,{"$f":"IF(COUNT(N5:N71)=0,\":\",SUM(N5:N71))","v":":"},null,{"$f":"IF(COUNT(P5:P71)=0,\":\",SUM(P5:P71))","v":":"},null,{"$f":"IF(COUNT(R5:R71)=0,\":\",SUM(R5:R71))","v":":"},null,{"$f":"IF(COUNT(T5:T71)=0,\":\",SUM(T5:T71))","v":":"},null,{"$f":"IF(COUNT(V5:V71)=0,\":\",SUM(V5:V71))","v":":"},null,{"$f":"IF(COUNT(X5:X71)=0,\":\",SUM(X5:X71))","v":":"},null,{"$f":"IF(COUNT(Z5:Z71)=0,\":\",SUM(Z5:Z71))","v":":"},null,{"$f":"IF(COUNT(AB5:AB71)=0,\":\",SUM(AB5:AB71))","v":":"},null,{"$f":"IF(COUNT(AD5:AD71)=0,\":\",SUM(AD5:AD71))","v":":"},null,{"$f":"IF(COUNT(AF5:AF71)=0,\":\",SUM(AF5:AF71))","v":":"},null,{"$f":"IF(COUNT(AH5:AH71)=0,\":\",SUM(AH5:AH71))","v":":"},null,{"$f":"IF(COUNT(AJ5:AJ71)=0,\":\",SUM(AJ5:AJ71))","v":":"},null,{"$f":"IF(COUNT(AL5:AL71)=0,\":\",SUM(AL5:AL71))","v":":"},null,{"$f":"IF(COUNT(AN5:AN71)=0,\":\",SUM(AN5:AN71))","v":":"},null,{"$f":"IF(COUNT(AP5:AP71)=0,\":\",SUM(AP5:AP71))","v":":"},null,{"$f":"IF(COUNT(AR5:AR71)=0,\":\",SUM(AR5:AR71))","v":":"},null,{"$f":"IF(COUNT(AT5:AT71)=0,\":\",SUM(AT5:AT71))","v":":"},null,{"$f":"IF(COUNT(AV5:AV71)=0,\":\",SUM(AV5:AV71))","v":":"},null,{"$f":"IF(COUNT(AX5:AX71)=0,\":\",SUM(AX5:AX71))","v":":"},null,{"$f":"IF(COUNT(AZ5:AZ71)=0,\":\",SUM(AZ5:AZ71))","v":":"},null,{"$f":"IF(COUNT(BB5:BB71)=0,\":\",SUM(BB5:BB71))","v":":"},null,{"$f":"IF(COUNT(BD5:BD71)=0,\":\",SUM(BD5:BD71))","v":":"},null,{"$f":"IF(COUNT(BF5:BF71)=0,\":\",SUM(BF5:BF71))","v":":"},null,{"$f":"IF(COUNT(BH5:BH71)=0,\":\",SUM(BH5:BH71))","v":":"},null,null,null,null,null,null,null,null,null,null,null,null,null,null,null,null,null,null,null,null,null,null,null,null,null,null,null,null,null,null,null,"TAX_EU","_T","TER","RES"]
[null,"TOT_POL","Total pollution taxes",{"$f":"IF(COUNT('Pollution taxes'!D5:D71)=0,\":\",SUM('Pollution taxes'!D5:D71))","v":":"},null,{"$f":"IF(COUNT('Pollution taxes'!F5:F71)=0,\":\",SUM('Pollution taxes'!F5:F71))","v":":"},null,{"$f":"IF(COUNT('Pollution taxes'!H5:H71)=0,\":\",SUM('Pollution taxes'!H5:H71))","v":":"},null,{"$f":"IF(COUNT('Pollution taxes'!J5:J71)=0,\":\",SUM('Pollution taxes'!J5:J71))","v":":"},null,{"$f":"IF(COUNT('Pollution taxes'!L5:L71)=0,\":\",SUM('Pollution taxes'!L5:L71))","v":":"},null,{"$f":"IF(COUNT('Pollution taxes'!N5:N71)=0,\":\",SUM('Pollution taxes'!N5:N71))","v":":"},null,{"$f":"IF(COUNT('Pollution taxes'!P5:P71)=0,\":\",SUM('Pollution taxes'!P5:P71))","v":":"},null,{"$f":"IF(COUNT('Pollution taxes'!R5:R71)=0,\":\",SUM('Pollution taxes'!R5:R71))","v":":"},null,{"$f":"IF(COUNT('Pollution taxes'!T5:T71)=0,\":\",SUM('Pollution taxes'!T5:T71))","v":":"},null,{"$f":"IF(COUNT('Pollution taxes'!V5:V71)=0,\":\",SUM('Pollution taxes'!V5:V71))","v":":"},null,{"$f":"IF(COUNT('Pollution taxes'!X5:X71)=0,\":\",SUM('Pollution taxes'!X5:X71))","v":":"},null,{"$f":"IF(COUNT('Pollution taxes'!Z5:Z71)=0,\":\",SUM('Pollution taxes'!Z5:Z71))","v":":"},null,{"$f":"IF(COUNT('Pollution taxes'!AB5:AB71)=0,\":\",SUM('Pollution taxes'!AB5:AB71))","v":":"},null,{"$f":"IF(COUNT('Pollution taxes'!AD5:AD71)=0,\":\",SUM('Pollution taxes'!AD5:AD71))","v":":"},null,{"$f":"IF(COUNT('Pollution taxes'!AF5:AF71)=0,\":\",SUM('Pollution taxes'!AF5:AF71))","v":":"},null,{"$f":"IF(COUNT('Pollution taxes'!AH5:AH71)=0,\":\",SUM('Pollution taxes'!AH5:AH71))","v":":"},null,{"$f":"IF(COUNT('Pollution taxes'!AJ5:AJ71)=0,\":\",SUM('Pollution taxes'!AJ5:AJ71))","v":":"},null,{"$f":"IF(COUNT('Pollution taxes'!AL5:AL71)=0,\":\",SUM('Pollution taxes'!AL5:AL71))","v":":"},null,{"$f":"IF(COUNT('Pollution taxes'!AN5:AN71)=0,\":\",SUM('Pollution taxes'!AN5:AN71))","v":":"},null,{"$f":"IF(COUNT('Pollution taxes'!AP5:AP71)=0,\":\",SUM('Pollution taxes'!AP5:AP71))","v":":"},null,{"$f":"IF(COUNT('Pollution taxes'!AR5:AR71)=0,\":\",SUM('Pollution taxes'!AR5:AR71))","v":":"},null,{"$f":"IF(COUNT('Pollution taxes'!AT5:AT71)=0,\":\",SUM('Pollution taxes'!AT5:AT71))","v":":"},null,{"$f":"IF(COUNT('Pollution taxes'!AV5:AV71)=0,\":\",SUM('Pollution taxes'!AV5:AV71))","v":":"},null,{"$f":"IF(COUNT('Pollution taxes'!AX5:AX71)=0,\":\",SUM('Pollution taxes'!AX5:AX71))","v":":"},null,{"$f":"IF(COUNT('Pollution taxes'!AZ5:AZ71)=0,\":\",SUM('Pollution taxes'!AZ5:AZ71))","v":":"},null,{"$f":"IF(COUNT('Pollution taxes'!BB5:BB71)=0,\":\",SUM('Pollution taxes'!BB5:BB71))","v":":"},null,{"$f":"IF(COUNT('Pollution taxes'!BD5:BD71)=0,\":\",SUM('Pollution taxes'!BD5:BD71))","v":":"},null,{"$f":"IF(COUNT('Resource taxes'!BF5:BF71)=0,\":\",SUM('Resource taxes'!BF5:BF71))","v":":"},null,{"$f":"IF(COUNT('Resource taxes'!BH5:BH71)=0,\":\",SUM('Resource taxes'!BH5:BH71))","v":":"}]
[null,"TOT_POL_RES","Total pollution and resource taxes ",{"$f":"IF(COUNT(D72,D73)=0,\":\",D72+D73)","v":":"},null,{"$f":"IF(COUNT(F72,F73)=0,\":\",F72+F73)","v":":"},null,{"$f":"IF(COUNT(H72,H73)=0,\":\",H72+H73)","v":":"},null,{"$f":"IF(COUNT(J72,J73)=0,\":\",J72+J73)","v":":"},null,{"$f":"IF(COUNT(L72,L73)=0,\":\",L72+L73)","v":":"},null,{"$f":"IF(COUNT(N72,N73)=0,\":\",N72+N73)","v":":"},null,{"$f":"IF(COUNT(P72,P73)=0,\":\",P72+P73)","v":":"},null,{"$f":"IF(COUNT(R72,R73)=0,\":\",R72+R73)","v":":"},null,{"$f":"IF(COUNT(T72,T73)=0,\":\",T72+T73)","v":":"},null,{"$f":"IF(COUNT(V72,V73)=0,\":\",V72+V73)","v":":"},null,{"$f":"IF(COUNT(X72,X73)=0,\":\",X72+X73)","v":":"},null,{"$f":"IF(COUNT(Z72,Z73)=0,\":\",Z72+Z73)","v":":"},null,{"$f":"IF(COUNT(AB72,AB73)=0,\":\",AB72+AB73)","v":":"},null,{"$f":"IF(COUNT(AD72,AD73)=0,\":\",AD72+AD73)","v":":"},null,{"$f":"IF(COUNT(AF72,AF73)=0,\":\",AF72+AF73)","v":":"},null,{"$f":"IF(COUNT(AH72,AH73)=0,\":\",AH72+AH73)","v":":"},null,{"$f":"IF(COUNT(AJ72,AJ73)=0,\":\",AJ72+AJ73)","v":":"},null,{"$f":"IF(COUNT(AL72,AL73)=0,\":\",AL72+AL73)","v":":"},null,{"$f":"IF(COUNT(AN72,AN73)=0,\":\",AN72+AN73)","v":":"},null,{"$f":"IF(COUNT(AP72,AP73)=0,\":\",AP72+AP73)","v":":"},null,{"$f":"IF(COUNT(AR72,AR73)=0,\":\",AR72+AR73)","v":":"},null,{"$f":"IF(COUNT(AT72,AT73)=0,\":\",AT72+AT73)","v":":"},null,{"$f":"IF(COUNT(AV72,AV73)=0,\":\",AV72+AV73)","v":":"},null,{"$f":"IF(COUNT(AX72,AX73)=0,\":\",AX72+AX73)","v":":"},null,{"$f":"IF(COUNT(AZ72,AZ73)=0,\":\",AZ72+AZ73)","v":":"},null,{"$f":"IF(COUNT(BB72,BB73)=0,\":\",BB72+BB73)","v":":"},null,{"$f":"IF(COUNT(BD72,BD73)=0,\":\",BD72+BD73)","v":":"},null,{"$f":"IF(COUNT(BF72,BF73)=0,\":\",BF72+BF73)","v":":"},null,{"$f":"IF(COUNT(BH72,BH73)=0,\":\",BH72+BH73)","v":":"}]
[null,"TOT_POL_RES_NTL","Total pollution and resource taxes from the NTL (for comparison and check)",{"$f":"IF(SUMIF('NTL_National Tax List'!$K$5:$K$300,\"P/RS\",'NTL_National Tax List'!L5:L300)=0,\":\",SUMIF('NTL_National Tax List'!$K$5:$K$300,\"P/RS\",'NTL_National Tax List'!L5:L300))","v":":"},null,{"$f":"IF(SUMIF('NTL_National Tax List'!$K$5:$K$300,\"P/RS\",'NTL_National Tax List'!M5:M300)=0,\":\",SUMIF('NTL_National Tax List'!$K$5:$K$300,\"P/RS\",'NTL_National Tax List'!M5:M300))","v":":"},null,{"$f":"IF(SUMIF('NTL_National Tax List'!$K$5:$K$300,\"P/RS\",'NTL_National Tax List'!N5:N300)=0,\":\",SUMIF('NTL_National Tax List'!$K$5:$K$300,\"P/RS\",'NTL_National Tax List'!N5:N300))","v":":"},null,{"$f":"IF(SUMIF('NTL_National Tax List'!$K$5:$K$300,\"P/RS\",'NTL_National Tax List'!O5:O300)=0,\":\",SUMIF('NTL_National Tax List'!$K$5:$K$300,\"P/RS\",'NTL_National Tax List'!O5:O300))","v":":"},null,{"$f":"IF(SUMIF('NTL_National Tax List'!$K$5:$K$300,\"P/RS\",'NTL_National Tax List'!P5:P300)=0,\":\",SUMIF('NTL_National Tax List'!$K$5:$K$300,\"P/RS\",'NTL_National Tax List'!P5:P300))","v":":"},null,{"$f":"IF(SUMIF('NTL_National Tax List'!$K$5:$K$300,\"P/RS\",'NTL_National Tax List'!Q5:Q300)=0,\":\",SUMIF('NTL_National Tax List'!$K$5:$K$300,\"P/RS\",'NTL_National Tax List'!Q5:Q300))","v":":"},null,{"$f":"IF(SUMIF('NTL_National Tax List'!$K$5:$K$300,\"P/RS\",'NTL_National Tax List'!R5:R300)=0,\":\",SUMIF('NTL_National Tax List'!$K$5:$K$300,\"P/RS\",'NTL_National Tax List'!R5:R300))","v":":"},null,{"$f":"IF(SUMIF('NTL_National Tax List'!$K$5:$K$300,\"P/RS\",'NTL_National Tax List'!S5:S300)=0,\":\",SUMIF('NTL_National Tax List'!$K$5:$K$300,\"P/RS\",'NTL_National Tax List'!S5:S300))","v":":"},null,{"$f":"IF(SUMIF('NTL_National Tax List'!$K$5:$K$300,\"P/RS\",'NTL_National Tax List'!T5:T300)=0,\":\",SUMIF('NTL_National Tax List'!$K$5:$K$300,\"P/RS\",'NTL_National Tax List'!T5:T300))","v":":"},null,{"$f":"IF(SUMIF('NTL_National Tax List'!$K$5:$K$300,\"P/RS\",'NTL_National Tax List'!U5:U300)=0,\":\",SUMIF('NTL_National Tax List'!$K$5:$K$300,\"P/RS\",'NTL_National Tax List'!U5:U300))","v":":"},null,{"$f":"IF(SUMIF('NTL_National Tax List'!$K$5:$K$300,\"P/RS\",'NTL_National Tax List'!V5:V300)=0,\":\",SUMIF('NTL_National Tax List'!$K$5:$K$300,\"P/RS\",'NTL_National Tax List'!V5:V300))","v":":"},null,{"$f":"IF(SUMIF('NTL_National Tax List'!$K$5:$K$300,\"P/RS\",'NTL_National Tax List'!W5:W300)=0,\":\",SUMIF('NTL_National Tax List'!$K$5:$K$300,\"P/RS\",'NTL_National Tax List'!W5:W300))","v":":"},null,{"$f":"IF(SUMIF('NTL_National Tax List'!$K$5:$K$300,\"P/RS\",'NTL_National Tax List'!X5:X300)=0,\":\",SUMIF('NTL_National Tax List'!$K$5:$K$300,\"P/RS\",'NTL_National Tax List'!X5:X300))","v":":"},null,{"$f":"IF(SUMIF('NTL_National Tax List'!$K$5:$K$300,\"P/RS\",'NTL_National Tax List'!Y5:Y300)=0,\":\",SUMIF('NTL_National Tax List'!$K$5:$K$300,\"P/RS\",'NTL_National Tax List'!Y5:Y300))","v":":"},null,{"$f":"IF(SUMIF('NTL_National Tax List'!$K$5:$K$300,\"P/RS\",'NTL_National Tax List'!Z5:Z300)=0,\":\",SUMIF('NTL_National Tax List'!$K$5:$K$300,\"P/RS\",'NTL_National Tax List'!Z5:Z300))","v":":"},null,{"$f":"IF(SUMIF('NTL_National Tax List'!$K$5:$K$300,\"P/RS\",'NTL_National Tax List'!AA5:AA300)=0,\":\",SUMIF('NTL_National Tax List'!$K$5:$K$300,\"P/RS\",'NTL_National Tax List'!AA5:AA300))","v":":"},null,{"$f":"IF(SUMIF('NTL_National Tax List'!$K$5:$K$300,\"P/RS\",'NTL_National Tax List'!AB5:AB300)=0,\":\",SUMIF('NTL_National Tax List'!$K$5:$K$300,\"P/RS\",'NTL_National Tax List'!AB5:AB300))","v":":"},null,{"$f":"IF(SUMIF('NTL_National Tax List'!$K$5:$K$300,\"P/RS\",'NTL_National Tax List'!AC5:AC300)=0,\":\",SUMIF('NTL_National Tax List'!$K$5:$K$300,\"P/RS\",'NTL_National Tax List'!AC5:AC300))","v":":"},null,{"$f":"IF(SUMIF('NTL_National Tax List'!$K$5:$K$300,\"P/RS\",'NTL_National Tax List'!AD5:AD300)=0,\":\",SUMIF('NTL_National Tax List'!$K$5:$K$300,\"P/RS\",'NTL_National Tax List'!AD5:AD300))","v":":"},null,{"$f":"IF(SUMIF('NTL_National Tax List'!$K$5:$K$300,\"P/RS\",'NTL_National Tax List'!AE5:AE300)=0,\":\",SUMIF('NTL_National Tax List'!$K$5:$K$300,\"P/RS\",'NTL_National Tax List'!AE5:AE300))","v":":"},null,{"$f":"IF(SUMIF('NTL_National Tax List'!$K$5:$K$300,\"P/RS\",'NTL_National Tax List'!AF5:AF300)=0,\":\",SUMIF('NTL_National Tax List'!$K$5:$K$300,\"P/RS\",'NTL_National Tax List'!AF5:AF300))","v":":"},null,{"$f":"IF(SUMIF('NTL_National Tax List'!$K$5:$K$300,\"P/RS\",'NTL_National Tax List'!AG5:AG300)=0,\":\",SUMIF('NTL_National Tax List'!$K$5:$K$300,\"P/RS\",'NTL_National Tax List'!AG5:AG300))","v":":"},null,{"$f":"IF(SUMIF('NTL_National Tax List'!$K$5:$K$300,\"P/RS\",'NTL_National Tax List'!AH5:AH300)=0,\":\",SUMIF('NTL_National Tax List'!$K$5:$K$300,\"P/RS\",'NTL_National Tax List'!AH5:AH300))","v":":"},null,{"$f":"IF(SUMIF('NTL_National Tax List'!$K$5:$K$300,\"P/RS\",'NTL_National Tax List'!AI5:AI300)=0,\":\",SUMIF('NTL_National Tax List'!$K$5:$K$300,\"P/RS\",'NTL_National Tax List'!AI5:AI300))","v":":"},null,{"$f":"IF(SUMIF('NTL_National Tax List'!$K$5:$K$300,\"P/RS\",'NTL_National Tax List'!AJ5:AJ300)=0,\":\",SUMIF('NTL_National Tax List'!$K$5:$K$300,\"P/RS\",'NTL_National Tax List'!AJ5:AJ300))","v":":"},null,{"$f":"IF(SUMIF('NTL_National Tax List'!$K$5:$K$300,\"P/RS\",'NTL_National Tax List'!AK5:AK300)=0,\":\",SUMIF('NTL_National Tax List'!$K$5:$K$300,\"P/RS\",'NTL_National Tax List'!AK5:AK300))","v":":"},null,{"$f":"IF(SUMIF('NTL_National Tax List'!$K$5:$K$300,\"P/RS\",'NTL_National Tax List'!AL5:AL300)=0,\":\",SUMIF('NTL_National Tax List'!$K$5:$K$300,\"P/RS\",'NTL_National Tax List'!AL5:AL300))","v":":"},null,{"$f":"IF(SUMIF('NTL_National Tax List'!$K$5:$K$300,\"P/RS\",'NTL_National Tax List'!AM5:AM300)=0,\":\",SUMIF('NTL_National Tax List'!$K$5:$K$300,\"P/RS\",'NTL_National Tax List'!AM5:AM300))","v":":"},null,{"$f":"IF(SUMIF('NTL_National Tax List'!$K$5:$K$300,\"P/RS\",'NTL_National Tax List'!AO5:AO300)=0,\":\",SUMIF('NTL_National Tax List'!$K$5:$K$300,\"P/RS\",'NTL_National Tax List'!AO5:AO300))","v":":"}]
[null,null,"% diff. between total pollution and resource taxes and total pollution and resource taxes from the NTL",{"$f":"IFERROR((D74-D75)/D75*100,IFERROR((D74-D75)/D74*100,\":\"))","v":":"},null,{"$f":"IFERROR((F74-F75)/F75*100,IFERROR((F74-F75)/F74*100,\":\"))","v":":"},null,{"$f":"IFERROR((H74-H75)/H75*100,IFERROR((H74-H75)/H74*100,\":\"))","v":":"},null,{"$f":"IFERROR((J74-J75)/J75*100,IFERROR((J74-J75)/J74*100,\":\"))","v":":"},null,{"$f":"IFERROR((L74-L75)/L75*100,IFERROR((L74-L75)/L74*100,\":\"))","v":":"},null,{"$f":"IFERROR((N74-N75)/N75*100,IFERROR((N74-N75)/N74*100,\":\"))","v":":"},null,{"$f":"IFERROR((P74-P75)/P75*100,IFERROR((P74-P75)/P74*100,\":\"))","v":":"},null,{"$f":"IFERROR((R74-R75)/R75*100,IFERROR((R74-R75)/R74*100,\":\"))","v":":"},null,{"$f":"IFERROR((T74-T75)/T75*100,IFERROR((T74-T75)/T74*100,\":\"))","v":":"},null,{"$f":"IFERROR((V74-V75)/V75*100,IFERROR((V74-V75)/V74*100,\":\"))","v":":"},null,{"$f":"IFERROR((X74-X75)/X75*100,IFERROR((X74-X75)/X74*100,\":\"))","v":":"},null,{"$f":"IFERROR((Z74-Z75)/Z75*100,IFERROR((Z74-Z75)/Z74*100,\":\"))","v":":"},null,{"$f":"IFERROR((AB74-AB75)/AB75*100,IFERROR((AB74-AB75)/AB74*100,\":\"))","v":":"},null,{"$f":"IFERROR((AD74-AD75)/AD75*100,IFERROR((AD74-AD75)/AD74*100,\":\"))","v":":"},null,{"$f":"IFERROR((AF74-AF75)/AF75*100,IFERROR((AF74-AF75)/AF74*100,\":\"))","v":":"},null,{"$f":"IFERROR((AH74-AH75)/AH75*100,IFERROR((AH74-AH75)/AH74*100,\":\"))","v":":"},null,{"$f":"IFERROR((AJ74-AJ75)/AJ75*100,IFERROR((AJ74-AJ75)/AJ74*100,\":\"))","v":":"},null,{"$f":"IFERROR((AL74-AL75)/AL75*100,IFERROR((AL74-AL75)/AL74*100,\":\"))","v":":"},null,{"$f":"IFERROR((AN74-AN75)/AN75*100,IFERROR((AN74-AN75)/AN74*100,\":\"))","v":":"},null,{"$f":"IFERROR((AP74-AP75)/AP75*100,IFERROR((AP74-AP75)/AP74*100,\":\"))","v":":"},null,{"$f":"IFERROR((AR74-AR75)/AR75*100,IFERROR((AR74-AR75)/AR74*100,\":\"))","v":":"},null,{"$f":"IFERROR((AT74-AT75)/AT75*100,IFERROR((AT74-AT75)/AT74*100,\":\"))","v":":"},null,{"$f":"IFERROR((AV74-AV75)/AV75*100,IFERROR((AV74-AV75)/AV74*100,\":\"))","v":":"},null,{"$f":"IFERROR((AX74-AX75)/AX75*100,IFERROR((AX74-AX75)/AX74*100,\":\"))","v":":"},null,{"$f":"IFERROR((AZ74-AZ75)/AZ75*100,IFERROR((AZ74-AZ75)/AZ74*100,\":\"))","v":":"},null,{"$f":"IFERROR((BB74-BB75)/BB75*100,IFERROR((BB74-BB75)/BB74*100,\":\"))","v":":"},null,{"$f":"IFERROR((BD74-BD75)/BD75*100,IFERROR((BD74-BD75)/BD74*100,\":\"))","v":":"},null,{"$f":"IFERROR((BD74-BD75)/BD75*100,IFERROR((BD74-BD75)/BD74*100,\":\"))","v":":"},null,{"$f":"IFERROR((BF74-BF75)/BF75*100,IFERROR((BF74-BF75)/BF74*100,\":\"))","v":":"}]
[null,null,"Environmental taxes for national purposes (difference between total reported above and total published for national purposes)",null,null,null,null,null,null,null,null,null,null,null,null,null,null,null,null,null,null,null,null,null,null,null,null,null,null,null,null,null,null,null,null,null,null,null,null,null,null,null,null,null,null,null,null,null,null,null,null,null,null,null,null,null,null,null,null,null,null,null,null,null,null,null,null,null,null,null,null,null,null,null,null,null,null,null,null,null,null,null,null,null,null,null,null,null,null,null,null,"TAX_NAC","_T","RUT","RES"]
[null,null,"Other environmentally related payments to government (fees and charges)",null,null,null,null,null,null,null,null,null,null,null,null,null,null,null,null,null,null,null,null,null,null,null,null,null,null,null,null,null,null,null,null,null,null,null,null,null,null,null,null,null,null,null,null,null,null,null,null,null,null,null,null,null,null,null,null,null,null,null,null,null,null,null,null,null,null,null,null,null,null,null,null,null,null,null,null,null,null,null,null,null,null,null,null,null,null,null,null,"FEE_NAC","_T","RUT","RES"]
[]
[null,"NACE rev. 2 aggregated industries classification",null,{"$f":"D4","v":1995},"footnotes",1996,"footnotes",1997,"footnotes",1998,"footnotes",1999,"footnotes",2000,"footnotes",2001,"footnotes",2002,"footnotes",2003,"footnotes",2004,"footnotes",2005,"footnotes",2006,"footnotes",2007,"footnotes",2008,"footnotes",2009,"footnotes",2010,"footnotes",2011,"footnotes",2012,"footnotes",2013,"footnotes",2014,"footnotes",2015,"footnotes",2016,"footnotes",2017,"footnotes",2018,"footnotes",2019,"footnotes",2020,"footnotes",2021,"footnotes",{"$f":"BF4","v":2022},"footnotes",{"$f":"BH4","v":2023},{"$f":"BI4","v":"footnotes"}]
["A","A01-A03","Agriculture, forestry and fishing",{"$f":"IF(COUNT(D5:D7)=0,\":\",SUM(D5:D7))","v":":"},null,{"$f":"IF(COUNT(F5:F7)=0,\":\",SUM(F5:F7))","v":":"},null,{"$f":"IF(COUNT(H5:H7)=0,\":\",SUM(H5:H7))","v":":"},null,{"$f":"IF(COUNT(J5:J7)=0,\":\",SUM(J5:J7))","v":":"},null,{"$f":"IF(COUNT(L5:L7)=0,\":\",SUM(L5:L7))","v":":"},null,{"$f":"IF(COUNT(N5:N7)=0,\":\",SUM(N5:N7))","v":":"},null,{"$f":"IF(COUNT(P5:P7)=0,\":\",SUM(P5:P7))","v":":"},null,{"$f":"IF(COUNT(R5:R7)=0,\":\",SUM(R5:R7))","v":":"},null,{"$f":"IF(COUNT(T5:T7)=0,\":\",SUM(T5:T7))","v":":"},null,{"$f":"IF(COUNT(V5:V7)=0,\":\",SUM(V5:V7))","v":":"},null,{"$f":"IF(COUNT(X5:X7)=0,\":\",SUM(X5:X7))","v":":"},null,{"$f":"IF(COUNT(Z5:Z7)=0,\":\",SUM(Z5:Z7))","v":":"},null,{"$f":"IF(COUNT(AB5:AB7)=0,\":\",SUM(AB5:AB7))","v":":"},null,{"$f":"IF(COUNT(AD5:AD7)=0,\":\",SUM(AD5:AD7))","v":":"},null,{"$f":"IF(COUNT(AF5:AF7)=0,\":\",SUM(AF5:AF7))","v":":"},null,{"$f":"IF(COUNT(AH5:AH7)=0,\":\",SUM(AH5:AH7))","v":":"},null,{"$f":"IF(COUNT(AJ5:AJ7)=0,\":\",SUM(AJ5:AJ7))","v":":"},null,{"$f":"IF(COUNT(AL5:AL7)=0,\":\",SUM(AL5:AL7))","v":":"},null,{"$f":"IF(COUNT(AN5:AN7)=0,\":\",SUM(AN5:AN7))","v":":"},null,{"$f":"IF(COUNT(AP5:AP7)=0,\":\",SUM(AP5:AP7))","v":":"},null,{"$f":"IF(COUNT(AR5:AR7)=0,\":\",SUM(AR5:AR7))","v":":"},null,{"$f":"IF(COUNT(AT5:AT7)=0,\":\",SUM(AT5:AT7))","v":":"},null,{"$f":"IF(COUNT(AV5:AV7)=0,\":\",SUM(AV5:AV7))","v":":"},null,{"$f":"IF(COUNT(AX5:AX7)=0,\":\",SUM(AX5:AX7))","v":":"},null,{"$f":"IF(COUNT(AZ5:AZ7)=0,\":\",SUM(AZ5:AZ7))","v":":"},null,{"$f":"IF(COUNT(BB5:BB7)=0,\":\",SUM(BB5:BB7))","v":":"},null,{"$f":"IF(COUNT(BD5:BD7)=0,\":\",SUM(BD5:BD7))","v":":"},null,{"$f":"IF(COUNT(BF5,BF6,BF7)=0,\":\",SUM(BF5,BF6,BF7))","v":":"},null,{"$f":"IF(COUNT(BH5,BH6,BH7)=0,\":\",SUM(BH5,BH6,BH7))","v":":"},null,null,null,null,null,null,null,null,null,null,null,null,null,null,null,null,null,null,null,null,null,null,null,null,null,null,null,null,null,null,null,"TAX_EU","A","RUT","RES"]
[null,"B05-B09","Mining and quarrying",{"$f":"IF(COUNT(D8)=0,\":\",SUM(D8))","v":":"},null,{"$f":"IF(COUNT(F8)=0,\":\",SUM(F8))","v":":"},null,{"$f":"IF(COUNT(H8)=0,\":\",SUM(H8))","v":":"},null,{"$f":"IF(COUNT(J8)=0,\":\",SUM(J8))","v":":"},null,{"$f":"IF(COUNT(L8)=0,\":\",SUM(L8))","v":":"},null,{"$f":"IF(COUNT(N8)=0,\":\",SUM(N8))","v":":"},null,{"$f":"IF(COUNT(P8)=0,\":\",SUM(P8))","v":":"},null,{"$f":"IF(COUNT(R8)=0,\":\",SUM(R8))","v":":"},null,{"$f":"IF(COUNT(T8)=0,\":\",SUM(T8))","v":":"},null,{"$f":"IF(COUNT(V8)=0,\":\",SUM(V8))","v":":"},null,{"$f":"IF(COUNT(X8)=0,\":\",SUM(X8))","v":":"},null,{"$f":"IF(COUNT(Z8)=0,\":\",SUM(Z8))","v":":"},null,{"$f":"IF(COUNT(AB8)=0,\":\",SUM(AB8))","v":":"},null,{"$f":"IF(COUNT(AD8)=0,\":\",SUM(AD8))","v":":"},null,{"$f":"IF(COUNT(AF8)=0,\":\",SUM(AF8))","v":":"},null,{"$f":"IF(COUNT(AH8)=0,\":\",SUM(AH8))","v":":"},null,{"$f":"IF(COUNT(AJ8)=0,\":\",SUM(AJ8))","v":":"},null,{"$f":"IF(COUNT(AL8)=0,\":\",SUM(AL8))","v":":"},null,{"$f":"IF(COUNT(AN8)=0,\":\",SUM(AN8))","v":":"},null,{"$f":"IF(COUNT(AP8)=0,\":\",SUM(AP8))","v":":"},null,{"$f":"IF(COUNT(AR8)=0,\":\",SUM(AR8))","v":":"},null,{"$f":"IF(COUNT(AT8)=0,\":\",SUM(AT8))","v":":"},null,{"$f":"IF(COUNT(AV8)=0,\":\",SUM(AV8))","v":":"},null,{"$f":"IF(COUNT(AX8)=0,\":\",SUM(AX8))","v":":"},null,{"$f":"IF(COUNT(AZ8)=0,\":\",SUM(AZ8))","v":":"},null,{"$f":"IF(COUNT(BB8)=0,\":\",SUM(BB8))","v":":"},null,{"$f":"IF(COUNT(BD8)=0,\":\",SUM(BD8))","v":":"},null,{"$f":"IF(COUNT(BF8)=0,\":\",SUM(BF8))","v":":"},null,{"$f":"IF(COUNT(BH8)=0,\":\",SUM(BH8))","v":":"}]
["C","C10-C33","Manufacturing",{"$f":"IF(COUNT(D9:D27)=0,\":\",SUM(D9:D27))","v":":"},null,{"$f":"IF(COUNT(F9:F27)=0,\":\",SUM(F9:F27))","v":":"},null,{"$f":"IF(COUNT(H9:H27)=0,\":\",SUM(H9:H27))","v":":"},null,{"$f":"IF(COUNT(J9:J27)=0,\":\",SUM(J9:J27))","v":":"},null,{"$f":"IF(COUNT(L9:L27)=0,\":\",SUM(L9:L27))","v":":"},null,{"$f":"IF(COUNT(N9:N27)=0,\":\",SUM(N9:N27))","v":":"},null,{"$f":"IF(COUNT(P9:P27)=0,\":\",SUM(P9:P27))","v":":"},null,{"$f":"IF(COUNT(R9:R27)=0,\":\",SUM(R9:R27))","v":":"},null,{"$f":"IF(COUNT(T9:T27)=0,\":\",SUM(T9:T27))","v":":"},null,{"$f":"IF(COUNT(V9:V27)=0,\":\",SUM(V9:V27))","v":":"},null,{"$f":"IF(COUNT(X9:X27)=0,\":\",SUM(X9:X27))","v":":"},null,{"$f":"IF(COUNT(Z9:Z27)=0,\":\",SUM(Z9:Z27))","v":":"},null,{"$f":"IF(COUNT(AB9:AB27)=0,\":\",SUM(AB9:AB27))","v":":"},null,{"$f":"IF(COUNT(AD9:AD27)=0,\":\",SUM(AD9:AD27))","v":":"},null,{"$f":"IF(COUNT(AF9:AF27)=0,\":\",SUM(AF9:AF27))","v":":"},null,{"$f":"IF(COUNT(AH9:AH27)=0,\":\",SUM(AH9:AH27))","v":":"},null,{"$f":"IF(COUNT(AJ9:AJ27)=0,\":\",SUM(AJ9:AJ27))","v":":"},null,{"$f":"IF(COUNT(AL9:AL27)=0,\":\",SUM(AL9:AL27))","v":":"},null,{"$f":"IF(COUNT(AN9:AN27)=0,\":\",SUM(AN9:AN27))","v":":"},null,{"$f":"IF(COUNT(AP9:AP27)=0,\":\",SUM(AP9:AP27))","v":":"},null,{"$f":"IF(COUNT(AR9:AR27)=0,\":\",SUM(AR9:AR27))","v":":"},null,{"$f":"IF(COUNT(AT9:AT27)=0,\":\",SUM(AT9:AT27))","v":":"},null,{"$f":"IF(COUNT(AV9:AV27)=0,\":\",SUM(AV9:AV27))","v":":"},null,{"$f":"IF(COUNT(AX9:AX27)=0,\":\",SUM(AX9:AX27))","v":":"},null,{"$f":"IF(COUNT(AZ9:AZ27)=0,\":\",SUM(AZ9:AZ27))","v":":"},null,{"$f":"IF(COUNT(BB9:BB27)=0,\":\",SUM(BB9:BB27))","v":":"},null,{"$f":"IF(COUNT(BD9:BD27)=0,\":\",SUM(BD9:BD27))","v":":"},null,{"$f":"IF(COUNT(BF9:BF27)=0,\":\",SUM(BF9:BF27))","v":":"},null,{"$f":"IF(COUNT(BH9:BH27)=0,\":\",SUM(BH9:BH27))","v":":"},null,null,null,null,null,null,null,null,null,null,null,null,null,null,null,null,null,null,null,null,null,null,null,null,null,null,null,null,null,null,null,"TAX_EU","C","RUT","RES"]
[null,"D35","Electricity, gas, steam and air conditioning supply",{"$f":"IF(COUNT(D28)=0,\":\",SUM(D28))","v":":"},null,{"$f":"IF(COUNT(F28)=0,\":\",SUM(F28))","v":":"},null,{"$f":"IF(COUNT(H28)=0,\":\",SUM(H28))","v":":"},null,{"$f":"IF(COUNT(J28)=0,\":\",SUM(J28))","v":":"},null,{"$f":"IF(COUNT(L28)=0,\":\",SUM(L28))","v":":"},null,{"$f":"IF(COUNT(N28)=0,\":\",SUM(N28))","v":":"},null,{"$f":"IF(COUNT(P28)=0,\":\",SUM(P28))","v":":"},null,{"$f":"IF(COUNT(R28)=0,\":\",SUM(R28))","v":":"},null,{"$f":"IF(COUNT(T28)=0,\":\",SUM(T28))","v":":"},null,{"$f":"IF(COUNT(V28)=0,\":\",SUM(V28))","v":":"},null,{"$f":"IF(COUNT(X28)=0,\":\",SUM(X28))","v":":"},null,{"$f":"IF(COUNT(Z28)=0,\":\",SUM(Z28))","v":":"},null,{"$f":"IF(COUNT(AB28)=0,\":\",SUM(AB28))","v":":"},null,{"$f":"IF(COUNT(AD28)=0,\":\",SUM(AD28))","v":":"},null,{"$f":"IF(COUNT(AF28)=0,\":\",SUM(AF28))","v":":"},null,{"$f":"IF(COUNT(AH28)=0,\":\",SUM(AH28))","v":":"},null,{"$f":"IF(COUNT(AJ28)=0,\":\",SUM(AJ28))","v":":"},null,{"$f":"IF(COUNT(AL28)=0,\":\",SUM(AL28))","v":":"},null,{"$f":"IF(COUNT(AN28)=0,\":\",SUM(AN28))","v":":"},null,{"$f":"IF(COUNT(AP28)=0,\":\",SUM(AP28))","v":":"},null,{"$f":"IF(COUNT(AR28)=0,\":\",SUM(AR28))","v":":"},null,{"$f":"IF(COUNT(AT28)=0,\":\",SUM(AT28))","v":":"},null,{"$f":"IF(COUNT(AV28)=0,\":\",SUM(AV28))","v":":"},null,{"$f":"IF(COUNT(AX28)=0,\":\",SUM(AX28))","v":":"},null,{"$f":"IF(COUNT(AZ28)=0,\":\",SUM(AZ28))","v":":"},null,{"$f":"IF(COUNT(BB28)=0,\":\",SUM(BB28))","v":":"},null,{"$f":"IF(COUNT(BD28)=0,\":\",SUM(BD28))","v":":"},null,{"$f":"IF(COUNT(BF28)=0,\":\",SUM(BF28))","v":":"},null,{"$f":"IF(COUNT(BH28)=0,\":\",SUM(BH28))","v":":"}]
["E","E36-E39","Water supply, sewerage, waste management, remediation activities",{"$f":"IF(COUNT(D29:D30)=0,\":\",SUM(D29:D30))","v":":"},null,{"$f":"IF(COUNT(F29:F30)=0,\":\",SUM(F29:F30))","v":":"},null,{"$f":"IF(COUNT(H29:H30)=0,\":\",SUM(H29:H30))","v":":"},null,{"$f":"IF(COUNT(J29:J30)=0,\":\",SUM(J29:J30))","v":":"},null,{"$f":"IF(COUNT(L29:L30)=0,\":\",SUM(L29:L30))","v":":"},null,{"$f":"IF(COUNT(N29:N30)=0,\":\",SUM(N29:N30))","v":":"},null,{"$f":"IF(COUNT(P29:P30)=0,\":\",SUM(P29:P30))","v":":"},null,{"$f":"IF(COUNT(R29:R30)=0,\":\",SUM(R29:R30))","v":":"},null,{"$f":"IF(COUNT(T29:T30)=0,\":\",SUM(T29:T30))","v":":"},null,{"$f":"IF(COUNT(V29:V30)=0,\":\",SUM(V29:V30))","v":":"},null,{"$f":"IF(COUNT(X29:X30)=0,\":\",SUM(X29:X30))","v":":"},null,{"$f":"IF(COUNT(Z29:Z30)=0,\":\",SUM(Z29:Z30))","v":":"},null,{"$f":"IF(COUNT(AB29:AB30)=0,\":\",SUM(AB29:AB30))","v":":"},null,{"$f":"IF(COUNT(AD29:AD30)=0,\":\",SUM(AD29:AD30))","v":":"},null,{"$f":"IF(COUNT(AF29:AF30)=0,\":\",SUM(AF29:AF30))","v":":"},null,{"$f":"IF(COUNT(AH29:AH30)=0,\":\",SUM(AH29:AH30))","v":":"},null,{"$f":"IF(COUNT(AJ29:AJ30)=0,\":\",SUM(AJ29:AJ30))","v":":"},null,{"$f":"IF(COUNT(AL29:AL30)=0,\":\",SUM(AL29:AL30))","v":":"},null,{"$f":"IF(COUNT(AN29:AN30)=0,\":\",SUM(AN29:AN30))","v":":"},null,{"$f":"IF(COUNT(AP29:AP30)=0,\":\",SUM(AP29:AP30))","v":":"},null,{"$f":"IF(COUNT(AR29:AR30)=0,\":\",SUM(AR29:AR30))","v":":"},null,{"$f":"IF(COUNT(AT29:AT30)=0,\":\",SUM(AT29:AT30))","v":":"},null,{"$f":"IF(COUNT(AV29:AV30)=0,\":\",SUM(AV29:AV30))","v":":"},null,{"$f":"IF(COUNT(AX29:AX30)=0,\":\",SUM(AX29:AX30))","v":":"},null,{"$f":"IF(COUNT(AZ29:AZ30)=0,\":\",SUM(AZ29:AZ30))","v":":"},null,{"$f":"IF(COUNT(BB29:BB30)=0,\":\",SUM(BB29:BB30))","v":":"},null,{"$f":"IF(COUNT(BD29:BD30)=0,\":\",SUM(BD29:BD30))","v":":"},null,{"$f":"IF(COUNT(BF29:BF30)=0,\":\",SUM(BF29:BF30))","v":":"},null,{"$f":"IF(COUNT(BH29:BH30)=0,\":\",SUM(BH29:BH30))","v":":"},null,null,null,null,null,null,null,null,null,null,null,null,null,null,null,null,null,null,null,null,null,null,null,null,null,null,null,null,null,null,null,"TAX_EU","E","RUT","RES"]
[null,"F41-F43","Construction ",{"$f":"IF(COUNT(D31)=0,\":\",SUM(D31))","v":":"},null,{"$f":"IF(COUNT(F31)=0,\":\",SUM(F31))","v":":"},null,{"$f":"IF(COUNT(H31)=0,\":\",SUM(H31))","v":":"},null,{"$f":"IF(COUNT(J31)=0,\":\",SUM(J31))","v":":"},null,{"$f":"IF(COUNT(L31)=0,\":\",SUM(L31))","v":":"},null,{"$f":"IF(COUNT(N31)=0,\":\",SUM(N31))","v":":"},null,{"$f":"IF(COUNT(P31)=0,\":\",SUM(P31))","v":":"},null,{"$f":"IF(COUNT(R31)=0,\":\",SUM(R31))","v":":"},null,{"$f":"IF(COUNT(T31)=0,\":\",SUM(T31))","v":":"},null,{"$f":"IF(COUNT(V31)=0,\":\",SUM(V31))","v":":"},null,{"$f":"IF(COUNT(X31)=0,\":\",SUM(X31))","v":":"},null,{"$f":"IF(COUNT(Z31)=0,\":\",SUM(Z31))","v":":"},null,{"$f":"IF(COUNT(AB31)=0,\":\",SUM(AB31))","v":":"},null,{"$f":"IF(COUNT(AD31)=0,\":\",SUM(AD31))","v":":"},null,{"$f":"IF(COUNT(AF31)=0,\":\",SUM(AF31))","v":":"},null,{"$f":"IF(COUNT(AH31)=0,\":\",SUM(AH31))","v":":"},null,{"$f":"IF(COUNT(AJ31)=0,\":\",SUM(AJ31))","v":":"},null,{"$f":"IF(COUNT(AL31)=0,\":\",SUM(AL31))","v":":"},null,{"$f":"IF(COUNT(AN31)=0,\":\",SUM(AN31))","v":":"},null,{"$f":"IF(COUNT(AP31)=0,\":\",SUM(AP31))","v":":"},null,{"$f":"IF(COUNT(AR31)=0,\":\",SUM(AR31))","v":":"},null,{"$f":"IF(COUNT(AT31)=0,\":\",SUM(AT31))","v":":"},null,{"$f":"IF(COUNT(AV31)=0,\":\",SUM(AV31))","v":":"},null,{"$f":"IF(COUNT(AX31)=0,\":\",SUM(AX31))","v":":"},null,{"$f":"IF(COUNT(AZ31)=0,\":\",SUM(AZ31))","v":":"},null,{"$f":"IF(COUNT(BB31)=0,\":\",SUM(BB31))","v":":"},null,{"$f":"IF(COUNT(BD31)=0,\":\",SUM(BD31))","v":":"},null,{"$f":"IF(COUNT(BF31)=0,\":\",SUM(BF31))","v":":"},null,{"$f":"IF(COUNT(BH31)=0,\":\",SUM(BH31))","v":":"}]
["G","G45-G47","Wholesale and retail trade; repair of motor vehicles and motorcycles",{"$f":"IF(COUNT(D32:D43)=0,\":\",SUM(D32:D34))","v":":"},null,{"$f":"IF(COUNT(F32:F43)=0,\":\",SUM(F32:F34))","v":":"},null,{"$f":"IF(COUNT(H32:H43)=0,\":\",SUM(H32:H34))","v":":"},null,{"$f":"IF(COUNT(J32:J43)=0,\":\",SUM(J32:J34))","v":":"},null,{"$f":"IF(COUNT(L32:L43)=0,\":\",SUM(L32:L34))","v":":"},null,{"$f":"IF(COUNT(N32:N43)=0,\":\",SUM(N32:N34))","v":":"},null,{"$f":"IF(COUNT(P32:P43)=0,\":\",SUM(P32:P34))","v":":"},null,{"$f":"IF(COUNT(R32:R43)=0,\":\",SUM(R32:R34))","v":":"},null,{"$f":"IF(COUNT(T32:T43)=0,\":\",SUM(T32:T34))","v":":"},null,{"$f":"IF(COUNT(V32:V43)=0,\":\",SUM(V32:V34))","v":":"},null,{"$f":"IF(COUNT(X32:X43)=0,\":\",SUM(X32:X34))","v":":"},null,{"$f":"IF(COUNT(Z32:Z43)=0,\":\",SUM(Z32:Z34))","v":":"},null,{"$f":"IF(COUNT(AB32:AB43)=0,\":\",SUM(AB32:AB34))","v":":"},null,{"$f":"IF(COUNT(AD32:AD43)=0,\":\",SUM(AD32:AD34))","v":":"},null,{"$f":"IF(COUNT(AF32:AF43)=0,\":\",SUM(AF32:AF34))","v":":"},null,{"$f":"IF(COUNT(AH32:AH43)=0,\":\",SUM(AH32:AH34))","v":":"},null,{"$f":"IF(COUNT(AJ32:AJ43)=0,\":\",SUM(AJ32:AJ34))","v":":"},null,{"$f":"IF(COUNT(AL32:AL43)=0,\":\",SUM(AL32:AL34))","v":":"},null,{"$f":"IF(COUNT(AN32:AN43)=0,\":\",SUM(AN32:AN34))","v":":"},null,{"$f":"IF(COUNT(AP32:AP43)=0,\":\",SUM(AP32:AP34))","v":":"},null,{"$f":"IF(COUNT(AR32:AR43)=0,\":\",SUM(AR32:AR34))","v":":"},null,{"$f":"IF(COUNT(AT32:AT43)=0,\":\",SUM(AT32:AT34))","v":":"},null,{"$f":"IF(COUNT(AV32:AV43)=0,\":\",SUM(AV32:AV34))","v":":"},null,{"$f":"IF(COUNT(AX32:AX43)=0,\":\",SUM(AX32:AX34))","v":":"},null,{"$f":"IF(COUNT(AZ32:AZ43)=0,\":\",SUM(AZ32:AZ34))","v":":"},null,{"$f":"IF(COUNT(BB32:BB43)=0,\":\",SUM(BB32:BB34))","v":":"},null,{"$f":"IF(COUNT(BD32:BD43)=0,\":\",SUM(BD32:BD34))","v":":"},null,{"$f":"IF(COUNT(BF32:BF34)=0,\":\",SUM(BF32:BF34))","v":":"},null,{"$f":"IF(COUNT(BH32:BH34)=0,\":\",SUM(BH32:BH34))","v":":"},null,null,null,null,null,null,null,null,null,null,null,null,null,null,null,null,null,null,null,null,null,null,null,null,null,null,null,null,null,null,null,"TAX_EU","G","RUT","RES"]
["H","H49-H53","Transport and storage",{"$f":"IF(COUNT(D35:D39)=0,\":\",SUM(D35:D39))","v":":"},null,{"$f":"IF(COUNT(F35:F39)=0,\":\",SUM(F35:F39))","v":":"},null,{"$f":"IF(COUNT(H35:H39)=0,\":\",SUM(H35:H39))","v":":"},null,{"$f":"IF(COUNT(J35:J39)=0,\":\",SUM(J35:J39))","v":":"},null,{"$f":"IF(COUNT(L35:L39)=0,\":\",SUM(L35:L39))","v":":"},null,{"$f":"IF(COUNT(N35:N39)=0,\":\",SUM(N35:N39))","v":":"},null,{"$f":"IF(COUNT(P35:P39)=0,\":\",SUM(P35:P39))","v":":"},null,{"$f":"IF(COUNT(R35:R39)=0,\":\",SUM(R35:R39))","v":":"},null,{"$f":"IF(COUNT(T35:T39)=0,\":\",SUM(T35:T39))","v":":"},null,{"$f":"IF(COUNT(V35:V39)=0,\":\",SUM(V35:V39))","v":":"},null,{"$f":"IF(COUNT(X35:X39)=0,\":\",SUM(X35:X39))","v":":"},null,{"$f":"IF(COUNT(Z35:Z39)=0,\":\",SUM(Z35:Z39))","v":":"},null,{"$f":"IF(COUNT(AB35:AB39)=0,\":\",SUM(AB35:AB39))","v":":"},null,{"$f":"IF(COUNT(AD35:AD39)=0,\":\",SUM(AD35:AD39))","v":":"},null,{"$f":"IF(COUNT(AF35:AF39)=0,\":\",SUM(AF35:AF39))","v":":"},null,{"$f":"IF(COUNT(AH35:AH39)=0,\":\",SUM(AH35:AH39))","v":":"},null,{"$f":"IF(COUNT(AJ35:AJ39)=0,\":\",SUM(AJ35:AJ39))","v":":"},null,{"$f":"IF(COUNT(AL35:AL39)=0,\":\",SUM(AL35:AL39))","v":":"},null,{"$f":"IF(COUNT(AN35:AN39)=0,\":\",SUM(AN35:AN39))","v":":"},null,{"$f":"IF(COUNT(AP35:AP39)=0,\":\",SUM(AP35:AP39))","v":":"},null,{"$f":"IF(COUNT(AR35:AR39)=0,\":\",SUM(AR35:AR39))","v":":"},null,{"$f":"IF(COUNT(AT35:AT39)=0,\":\",SUM(AT35:AT39))","v":":"},null,{"$f":"IF(COUNT(AV35:AV39)=0,\":\",SUM(AV35:AV39))","v":":"},null,{"$f":"IF(COUNT(AX35:AX39)=0,\":\",SUM(AX35:AX39))","v":":"},null,{"$f":"IF(COUNT(AZ35:AZ39)=0,\":\",SUM(AZ35:AZ39))","v":":"},null,{"$f":"IF(COUNT(BB35:BB39)=0,\":\",SUM(BB35:BB39))","v":":"},null,{"$f":"IF(COUNT(BD35:BD39)=0,\":\",SUM(BD35:BD39))","v":":"},null,{"$f":"IF(COUNT(BF35:BF39)=0,\":\",SUM(BF35:BF39))","v":":"},null,{"$f":"IF(COUNT(BH35:BH39)=0,\":\",SUM(BH35:BH39))","v":":"},null,null,null,null,null,null,null,null,null,null,null,null,null,null,null,null,null,null,null,null,null,null,null,null,null,null,null,null,null,null,null,"TAX_EU","H","RUT","RES"]
["I-U","I-U","Services (except wholesale and retail trade, transportation and storage)",{"$f":"IF(COUNT(D40:D68)=0,\":\",SUM(D40:D68))","v":":"},null,{"$f":"IF(COUNT(F40:F68)=0,\":\",SUM(F40:F68))","v":":"},null,{"$f":"IF(COUNT(H40:H68)=0,\":\",SUM(H40:H68))","v":":"},null,{"$f":"IF(COUNT(J40:J68)=0,\":\",SUM(J40:J68))","v":":"},null,{"$f":"IF(COUNT(L40:L68)=0,\":\",SUM(L40:L68))","v":":"},null,{"$f":"IF(COUNT(N40:N68)=0,\":\",SUM(N40:N68))","v":":"},null,{"$f":"IF(COUNT(P40:P68)=0,\":\",SUM(P40:P68))","v":":"},null,{"$f":"IF(COUNT(R40:R68)=0,\":\",SUM(R40:R68))","v":":"},null,{"$f":"IF(COUNT(T40:T68)=0,\":\",SUM(T40:T68))","v":":"},null,{"$f":"IF(COUNT(V40:V68)=0,\":\",SUM(V40:V68))","v":":"},null,{"$f":"IF(COUNT(X40:X68)=0,\":\",SUM(X40:X68))","v":":"},null,{"$f":"IF(COUNT(Z40:Z68)=0,\":\",SUM(Z40:Z68))","v":":"},null,{"$f":"IF(COUNT(AB40:AB68)=0,\":\",SUM(AB40:AB68))","v":":"},null,{"$f":"IF(COUNT(AD40:AD68)=0,\":\",SUM(AD40:AD68))","v":":"},null,{"$f":"IF(COUNT(AF40:AF68)=0,\":\",SUM(AF40:AF68))","v":":"},null,{"$f":"IF(COUNT(AH40:AH68)=0,\":\",SUM(AH40:AH68))","v":":"},null,{"$f":"IF(COUNT(AJ40:AJ68)=0,\":\",SUM(AJ40:AJ68))","v":":"},null,{"$f":"IF(COUNT(AL40:AL68)=0,\":\",SUM(AL40:AL68))","v":":"},null,{"$f":"IF(COUNT(AN40:AN68)=0,\":\",SUM(AN40:AN68))","v":":"},null,{"$f":"IF(COUNT(AP40:AP68)=0,\":\",SUM(AP40:AP68))","v":":"},null,{"$f":"IF(COUNT(AR40:AR68)=0,\":\",SUM(AR40:AR68))","v":":"},null,{"$f":"IF(COUNT(AT40:AT68)=0,\":\",SUM(AT40:AT68))","v":":"},null,{"$f":"IF(COUNT(AV40:AV68)=0,\":\",SUM(AV40:AV68))","v":":"},null,{"$f":"IF(COUNT(AX40:AX68)=0,\":\",SUM(AX40:AX68))","v":":"},null,{"$f":"IF(COUNT(AZ40:AZ68)=0,\":\",SUM(AZ40:AZ68))","v":":"},null,{"$f":"IF(COUNT(BB40:BB68)=0,\":\",SUM(BB40:BB68))","v":":"},null,{"$f":"IF(COUNT(BD40:BD68)=0,\":\",SUM(BD40:BD68))","v":":"},null,{"$f":"IF(COUNT(BF40:BF68)=0,\":\",SUM(BF40:BF68))","v":":"},null,{"$f":"IF(COUNT(BH40:BH68)=0,\":\",SUM(BH40:BH68))","v":":"},null,null,null,null,null,null,null,null,null,null,null,null,null,null,null,null,null,null,null,null,null,null,null,null,null,null,null,null,null,null,null,"TAX_EU","ITU","RUT","RES"]
["TOTAL","TOTAL","Total - All NACE activities",{"$f":"IF(COUNT(D81:D89)=0,\":\",SUM(D81:D89))","v":":"},null,{"$f":"IF(COUNT(F81:F89)=0,\":\",SUM(F81:F89))","v":":"},null,{"$f":"IF(COUNT(H81:H89)=0,\":\",SUM(H81:H89))","v":":"},null,{"$f":"IF(COUNT(J81:J89)=0,\":\",SUM(J81:J89))","v":":"},null,{"$f":"IF(COUNT(L81:L89)=0,\":\",SUM(L81:L89))","v":":"},null,{"$f":"IF(COUNT(N81:N89)=0,\":\",SUM(N81:N89))","v":":"},null,{"$f":"IF(COUNT(P81:P89)=0,\":\",SUM(P81:P89))","v":":"},null,{"$f":"IF(COUNT(R81:R89)=0,\":\",SUM(R81:R89))","v":":"},null,{"$f":"IF(COUNT(T81:T89)=0,\":\",SUM(T81:T89))","v":":"},null,{"$f":"IF(COUNT(V81:V89)=0,\":\",SUM(V81:V89))","v":":"},null,{"$f":"IF(COUNT(X81:X89)=0,\":\",SUM(X81:X89))","v":":"},null,{"$f":"IF(COUNT(Z81:Z89)=0,\":\",SUM(Z81:Z89))","v":":"},null,{"$f":"IF(COUNT(AB81:AB89)=0,\":\",SUM(AB81:AB89))","v":":"},null,{"$f":"IF(COUNT(AD81:AD89)=0,\":\",SUM(AD81:AD89))","v":":"},null,{"$f":"IF(COUNT(AF81:AF89)=0,\":\",SUM(AF81:AF89))","v":":"},null,{"$f":"IF(COUNT(AH81:AH89)=0,\":\",SUM(AH81:AH89))","v":":"},null,{"$f":"IF(COUNT(AJ81:AJ89)=0,\":\",SUM(AJ81:AJ89))","v":":"},null,{"$f":"IF(COUNT(AL81:AL89)=0,\":\",SUM(AL81:AL89))","v":":"},null,{"$f":"IF(COUNT(AN81:AN89)=0,\":\",SUM(AN81:AN89))","v":":"},null,{"$f":"IF(COUNT(AP81:AP89)=0,\":\",SUM(AP81:AP89))","v":":"},null,{"$f":"IF(COUNT(AR81:AR89)=0,\":\",SUM(AR81:AR89))","v":":"},null,{"$f":"IF(COUNT(AT81:AT89)=0,\":\",SUM(AT81:AT89))","v":":"},null,{"$f":"IF(COUNT(AV81:AV89)=0,\":\",SUM(AV81:AV89))","v":":"},null,{"$f":"IF(COUNT(AX81:AX89)=0,\":\",SUM(AX81:AX89))","v":":"},null,{"$f":"IF(COUNT(AZ81:AZ89)=0,\":\",SUM(AZ81:AZ89))","v":":"},null,{"$f":"IF(COUNT(BB81:BB89)=0,\":\",SUM(BB81:BB89))","v":":"},null,{"$f":"IF(COUNT(BD81:BD89)=0,\":\",SUM(BD81:BD89))","v":":"},null,{"$f":"IF(COUNT(BF81:BF89)=0,\":\",SUM(BF81:BF89))","v":":"},null,{"$f":"IF(COUNT(BH81:BH89)=0,\":\",SUM(BH81:BH89))","v":":"},null,null,null,null,null,null,null,null,null,null,null,null,null,null,null,null,null,null,null,null,null,null,null,null,null,null,null,null,null,null,null,"TAX_EU","ATU","RUT","RES"]

{"sheet":"NTL_National Tax List","index":8,"n_rows":4,"n_cols":40,"rows_kept":4,"cut":false,"hidden":false,"merged":[[1,0,1,19],[3,2,3,4],[3,5,3,8],[2,0,2,19]]}
["NTL (national tax list) - Detailed list of taxes and social contributions according to national classification"]
["Eurostat remarks:\n1) This is the version of the NTL provided by the national accounts department of your country (together with table 9 of ESA2010 transmission programme) in September 2021 and published by Eurostat after validation in October 2021. \n2) The use of the table by the environmental accountants: how to identify the relevant tax items? You can use the filter in column K (Alcohol, Tobacco, environmental and property tax) to separate the environmental taxes for specific categories: E - energy, P / RS - pollution or resource and T - transport taxes. In case it is not working go to the main Windows menu and select Data -> Filter\nPlease note that – for your convenience – the relevant taxes have been shaded in color (energy taxes-green, transport taxes-mauve, pollution or resource taxes-turquoise). "]
["Unit: all data in the NTL are expressed in million national currency. For euro area countries, data are expressed in million euro for all years. \nFor the years before your country joined the euro area, the data are converted into euro at the irrevocably fixed conversion rate ('euro-fixed'). "]
["STO ▼","DETAILS ▼","Tax name according to national classification\n(in one of national languages)",null,null,"Tax name according to national classification\n(in English) CUST_BREAKDOWN_LB ▼",null,null,null,"Economic \nfunction ▼","Alcohol, tobacco,\nenvironmental and property tax▼ TIME►\n",1995,1996,1997,1998,1999,2000,2001,2002,2003,2004,2005,2006,2007,2008,2009,2010,2011,2012,2013,2014,2015,2016,2017,2018,2019,2020,2021,2022,2023]

{"sheet":"Energy Log","index":9,"n_rows":1,"n_cols":7,"rows_kept":1,"cut":false,"hidden":false,"merged":[]}
["Action done","Message","Activity","Year","Value","Control value","Cell"]

{"sheet":"ETS CO2 Log","index":10,"n_rows":1,"n_cols":7,"rows_kept":1,"cut":false,"hidden":false,"merged":[]}
["Action done","Message","Activity","Year","Value","Control value","Cell"]

{"sheet":"Other CO2 Log","index":11,"n_rows":1,"n_cols":7,"rows_kept":1,"cut":false,"hidden":false,"merged":[]}
["Action done","Message","Activity","Year","Value","Control value","Cell"]

{"sheet":"Transport Log","index":12,"n_rows":1,"n_cols":7,"rows_kept":1,"cut":false,"hidden":false,"merged":[]}
["Action done","Message","Activity","Year","Value","Control value","Cell"]

{"sheet":"Pollution Log","index":13,"n_rows":1,"n_cols":7,"rows_kept":1,"cut":false,"hidden":false,"merged":[]}
["Action done","Message","Activity","Year","Value","Control value","Cell"]

{"sheet":"Resource Log","index":14,"n_rows":1,"n_cols":7,"rows_kept":1,"cut":false,"hidden":false,"merged":[]}
["Action done","Message","Activity","Year","Value","Control value","Cell"]

{"sheet":"Confidentiality Logs","index":15,"n_rows":0,"n_cols":0,"rows_kept":0,"cut":false,"hidden":false,"merged":[]}

{"sheet":"Parameter_mapping","index":16,"n_rows":6,"n_cols":2,"rows_kept":6,"cut":false,"hidden":true,"merged":[]}
["Data Sheet","Parameter Sheet"]
["Energy taxes","Parameters_SDMX_Converter"]
["Transport taxes","Parameters_SDMX_Converter"]
["Pollution taxes","Parameters_SDMX_Converter"]
["Resource taxes","Parameters_SDMX_Converter"]
["ETS CO2 taxes","Parameters_SDMX_Converter"]

{"sheet":"Parameters_SDMX_Converter","index":17,"n_rows":16,"n_cols":7,"rows_kept":16,"cut":false,"hidden":true,"merged":[]}
["Element","Type","PosType","Position",null,"DataStart","D5"]
["FREQ","DIM","FIX","A",null,"DataEnd","AX104"]
["REF_AREA","DIM","CELL","C1",null,"TranscodingSheet","Transcoding"]
["TAX","DIM","COLUMN","CM",null,"ConceptSeparator",")"]
["TAX_REP","DIM","COLUMN","CJ",null,"DefaultValue","null"]
["INTERACTORS","DIM","COLUMN","CK",null,"SkipIncompleteKeys","true"]
["BRIDGE_ITEMS","DIM","COLUMN","CL"]
["UNIT_MEASURE","DIM","CELL","CN5"]
["UNIT_MULT","DIM","CELL","CO5"]
["TIME_PERIOD","DIM","ROW","4"]
["OBS_STATUS_1","ATT","OBS_LEVEL","1/3"]
["OBS_STATUS_2","ATT","OBS_LEVEL","1/4"]
["OBS_STATUS_3","ATT","OBS_LEVEL","1/5"]
["OBS_STATUS_4","ATT","OBS_LEVEL","1/6"]
["CONF_STATUS","ATT","OBS_LEVEL","1/2"]
["COMMENT_OBS","ATT","OBS_LEVEL","1/1"]

{"sheet":"Transcoding","index":18,"n_rows":123,"n_cols":3,"rows_kept":123,"cut":false,"hidden":true,"merged":[]}
["Text","Dimension","Value"]
[":","OBS_VALUE","NaN"]
["b","OBS_STATUS_1","B"]
["e","OBS_STATUS_1","E"]
["p","OBS_STATUS_1","P"]
["l","OBS_STATUS_1","L"]
["s","OBS_STATUS_1","S"]
["b","OBS_STATUS_2","B"]
["e","OBS_STATUS_2","E"]
["p","OBS_STATUS_2","P"]
["l","OBS_STATUS_2","L"]
["s","OBS_STATUS_2","S"]
["b","OBS_STATUS_3","B"]
["e","OBS_STATUS_3","E"]
["p","OBS_STATUS_3","P"]
["l","OBS_STATUS_3","L"]
["s","OBS_STATUS_3","S"]
["b","OBS_STATUS_4","B"]
["e","OBS_STATUS_4","E"]
["p","OBS_STATUS_4","P"]
["l","OBS_STATUS_4","L"]
["s","OBS_STATUS_4","S"]
["c","CONF_STATUS","C"]
["d","CONF_STATUS","D"]
[1,"COMMENT_OBS",{"$f":"IF(ISBLANK(Footnotes!D25),\"\",Footnotes!D25)","v":""}]
[2,"COMMENT_OBS",{"$f":"IF(ISBLANK(Footnotes!D26),\"\",Footnotes!D26)","v":""}]
[3,"COMMENT_OBS",{"$f":"IF(ISBLANK(Footnotes!D27),\"\",Footnotes!D27)","v":""}]
[4,"COMMENT_OBS",{"$f":"IF(ISBLANK(Footnotes!D28),\"\",Footnotes!D28)","v":""}]
[5,"COMMENT_OBS",{"$f":"IF(ISBLANK(Footnotes!D29),\"\",Footnotes!D29)","v":""}]
[6,"COMMENT_OBS",{"$f":"IF(ISBLANK(Footnotes!D30),\"\",Footnotes!D30)","v":""}]
[7,"COMMENT_OBS",{"$f":"IF(ISBLANK(Footnotes!D31),\"\",Footnotes!D31)","v":""}]
[8,"COMMENT_OBS",{"$f":"IF(ISBLANK(Footnotes!D32),\"\",Footnotes!D32)","v":""}]
[9,"COMMENT_OBS",{"$f":"IF(ISBLANK(Footnotes!D33),\"\",Footnotes!D33)","v":""}]
[10,"COMMENT_OBS",{"$f":"IF(ISBLANK(Footnotes!D34),\"\",Footnotes!D34)","v":""}]
[11,"COMMENT_OBS",{"$f":"IF(ISBLANK(Footnotes!D35),\"\",Footnotes!D35)","v":""}]
[12,"COMMENT_OBS",{"$f":"IF(ISBLANK(Footnotes!D36),\"\",Footnotes!D36)","v":""}]
[13,"COMMENT_OBS",{"$f":"IF(ISBLANK(Footnotes!D37),\"\",Footnotes!D37)","v":""}]
[14,"COMMENT_OBS",{"$f":"IF(ISBLANK(Footnotes!D38),\"\",Footnotes!D38)","v":""}]
[15,"COMMENT_OBS",{"$f":"IF(ISBLANK(Footnotes!D39),\"\",Footnotes!D39)","v":""}]
[16,"COMMENT_OBS",{"$f":"IF(ISBLANK(Footnotes!D40),\"\",Footnotes!D40)","v":""}]
[17,"COMMENT_OBS",{"$f":"IF(ISBLANK(Footnotes!D41),\"\",Footnotes!D41)","v":""}]
[18,"COMMENT_OBS",{"$f":"IF(ISBLANK(Footnotes!D42),\"\",Footnotes!D42)","v":""}]
[19,"COMMENT_OBS",{"$f":"IF(ISBLANK(Footnotes!D43),\"\",Footnotes!D43)","v":""}]
[20,"COMMENT_OBS",{"$f":"IF(ISBLANK(Footnotes!D44),\"\",Footnotes!D44)","v":""}]
[21,"COMMENT_OBS",{"$f":"IF(ISBLANK(Footnotes!D45),\"\",Footnotes!D45)","v":""}]
[22,"COMMENT_OBS",{"$f":"IF(ISBLANK(Footnotes!D46),\"\",Footnotes!D46)","v":""}]
[23,"COMMENT_OBS",{"$f":"IF(ISBLANK(Footnotes!D47),\"\",Footnotes!D47)","v":""}]
[24,"COMMENT_OBS",{"$f":"IF(ISBLANK(Footnotes!D48),\"\",Footnotes!D48)","v":""}]
[25,"COMMENT_OBS",{"$f":"IF(ISBLANK(Footnotes!D49),\"\",Footnotes!D49)","v":""}]
[26,"COMMENT_OBS",{"$f":"IF(ISBLANK(Footnotes!D50),\"\",Footnotes!D50)","v":""}]
[27,"COMMENT_OBS",{"$f":"IF(ISBLANK(Footnotes!D51),\"\",Footnotes!D51)","v":""}]
[28,"COMMENT_OBS",{"$f":"IF(ISBLANK(Footnotes!D52),\"\",Footnotes!D52)","v":""}]
[29,"COMMENT_OBS",{"$f":"IF(ISBLANK(Footnotes!D53),\"\",Footnotes!D53)","v":""}]
[30,"COMMENT_OBS",{"$f":"IF(ISBLANK(Footnotes!D54),\"\",Footnotes!D54)","v":""}]
[31,"COMMENT_OBS",{"$f":"IF(ISBLANK(Footnotes!D55),\"\",Footnotes!D55)","v":""}]
[32,"COMMENT_OBS",{"$f":"IF(ISBLANK(Footnotes!D56),\"\",Footnotes!D56)","v":""}]
[33,"COMMENT_OBS",{"$f":"IF(ISBLANK(Footnotes!D57),\"\",Footnotes!D57)","v":""}]
[34,"COMMENT_OBS",{"$f":"IF(ISBLANK(Footnotes!D58),\"\",Footnotes!D58)","v":""}]
[35,"COMMENT_OBS",{"$f":"IF(ISBLANK(Footnotes!D59),\"\",Footnotes!D59)","v":""}]
[36,"COMMENT_OBS",{"$f":"IF(ISBLANK(Footnotes!D60),\"\",Footnotes!D60)","v":""}]
[37,"COMMENT_OBS",{"$f":"IF(ISBLANK(Footnotes!D61),\"\",Footnotes!D61)","v":""}]
[38,"COMMENT_OBS",{"$f":"IF(ISBLANK(Footnotes!D62),\"\",Footnotes!D62)","v":""}]
[39,"COMMENT_OBS",{"$f":"IF(ISBLANK(Footnotes!D63),\"\",Footnotes!D63)","v":""}]
[40,"COMMENT_OBS",{"$f":"IF(ISBLANK(Footnotes!D64),\"\",Footnotes!D64)","v":""}]
[41,"COMMENT_OBS",{"$f":"IF(ISBLANK(Footnotes!D65),\"\",Footnotes!D65)","v":""}]
[42,"COMMENT_OBS",{"$f":"IF(ISBLANK(Footnotes!D66),\"\",Footnotes!D66)","v":""}]
[43,"COMMENT_OBS",{"$f":"IF(ISBLANK(Footnotes!D67),\"\",Footnotes!D67)","v":""}]
[44,"COMMENT_OBS",{"$f":"IF(ISBLANK(Footnotes!D68),\"\",Footnotes!D68)","v":""}]
[45,"COMMENT_OBS",{"$f":"IF(ISBLANK(Footnotes!D69),\"\",Footnotes!D69)","v":""}]
[46,"COMMENT_OBS",{"$f":"IF(ISBLANK(Footnotes!D70),\"\",Footnotes!D70)","v":""}]
[47,"COMMENT_OBS",{"$f":"IF(ISBLANK(Footnotes!D71),\"\",Footnotes!D71)","v":""}]
[48,"COMMENT_OBS",{"$f":"IF(ISBLANK(Footnotes!D72),\"\",Footnotes!D72)","v":""}]
[49,"COMMENT_OBS",{"$f":"IF(ISBLANK(Footnotes!D73),\"\",Footnotes!D73)","v":""}]
[50,"COMMENT_OBS",{"$f":"IF(ISBLANK(Footnotes!D74),\"\",Footnotes!D74)","v":""}]
[51,"COMMENT_OBS",{"$f":"IF(ISBLANK(Footnotes!D75),\"\",Footnotes!D75)","v":""}]
[52,"COMMENT_OBS",{"$f":"IF(ISBLANK(Footnotes!D76),\"\",Footnotes!D76)","v":""}]
[53,"COMMENT_OBS",{"$f":"IF(ISBLANK(Footnotes!D77),\"\",Footnotes!D77)","v":""}]
[54,"COMMENT_OBS",{"$f":"IF(ISBLANK(Footnotes!D78),\"\",Footnotes!D78)","v":""}]
[55,"COMMENT_OBS",{"$f":"IF(ISBLANK(Footnotes!D79),\"\",Footnotes!D79)","v":""}]
[56,"COMMENT_OBS",{"$f":"IF(ISBLANK(Footnotes!D80),\"\",Footnotes!D80)","v":""}]
[57,"COMMENT_OBS",{"$f":"IF(ISBLANK(Footnotes!D81),\"\",Footnotes!D81)","v":""}]
[58,"COMMENT_OBS",{"$f":"IF(ISBLANK(Footnotes!D82),\"\",Footnotes!D82)","v":""}]
[59,"COMMENT_OBS",{"$f":"IF(ISBLANK(Footnotes!D83),\"\",Footnotes!D83)","v":""}]
[60,"COMMENT_OBS",{"$f":"IF(ISBLANK(Footnotes!D84),\"\",Footnotes!D84)","v":""}]
[61,"COMMENT_OBS",{"$f":"IF(ISBLANK(Footnotes!D85),\"\",Footnotes!D85)","v":""}]
[62,"COMMENT_OBS",{"$f":"IF(ISBLANK(Footnotes!D86),\"\",Footnotes!D86)","v":""}]
[63,"COMMENT_OBS",{"$f":"IF(ISBLANK(Footnotes!D87),\"\",Footnotes!D87)","v":""}]
[64,"COMMENT_OBS",{"$f":"IF(ISBLANK(Footnotes!D88),\"\",Footnotes!D88)","v":""}]
[65,"COMMENT_OBS",{"$f":"IF(ISBLANK(Footnotes!D89),\"\",Footnotes!D89)","v":""}]
[66,"COMMENT_OBS",{"$f":"IF(ISBLANK(Footnotes!D90),\"\",Footnotes!D90)","v":""}]
[67,"COMMENT_OBS",{"$f":"IF(ISBLANK(Footnotes!D91),\"\",Footnotes!D91)","v":""}]
[68,"COMMENT_OBS",{"$f":"IF(ISBLANK(Footnotes!D92),\"\",Footnotes!D92)","v":""}]
[69,"COMMENT_OBS",{"$f":"IF(ISBLANK(Footnotes!D93),\"\",Footnotes!D93)","v":""}]
[70,"COMMENT_OBS",{"$f":"IF(ISBLANK(Footnotes!D94),\"\",Footnotes!D94)","v":""}]
[71,"COMMENT_OBS",{"$f":"IF(ISBLANK(Footnotes!D95),\"\",Footnotes!D95)","v":""}]
[72,"COMMENT_OBS",{"$f":"IF(ISBLANK(Footnotes!D96),\"\",Footnotes!D96)","v":""}]
[73,"COMMENT_OBS",{"$f":"IF(ISBLANK(Footnotes!D97),\"\",Footnotes!D97)","v":""}]
[74,"COMMENT_OBS",{"$f":"IF(ISBLANK(Footnotes!D98),\"\",Footnotes!D98)","v":""}]
[75,"COMMENT_OBS",{"$f":"IF(ISBLANK(Footnotes!D99),\"\",Footnotes!D99)","v":""}]
[76,"COMMENT_OBS",{"$f":"IF(ISBLANK(Footnotes!D100),\"\",Footnotes!D100)","v":""}]
[77,"COMMENT_OBS",{"$f":"IF(ISBLANK(Footnotes!D101),\"\",Footnotes!D101)","v":""}]
[78,"COMMENT_OBS",{"$f":"IF(ISBLANK(Footnotes!D102),\"\",Footnotes!D102)","v":""}]
[79,"COMMENT_OBS",{"$f":"IF(ISBLANK(Footnotes!D103),\"\",Footnotes!D103)","v":""}]
[80,"COMMENT_OBS",{"$f":"IF(ISBLANK(Footnotes!D104),\"\",Footnotes!D104)","v":""}]
[81,"COMMENT_OBS",{"$f":"IF(ISBLANK(Footnotes!D105),\"\",Footnotes!D105)","v":""}]
[82,"COMMENT_OBS",{"$f":"IF(ISBLANK(Footnotes!D106),\"\",Footnotes!D106)","v":""}]
[83,"COMMENT_OBS",{"$f":"IF(ISBLANK(Footnotes!D107),\"\",Footnotes!D107)","v":""}]
[84,"COMMENT_OBS",{"$f":"IF(ISBLANK(Footnotes!D108),\"\",Footnotes!D108)","v":""}]
[85,"COMMENT_OBS",{"$f":"IF(ISBLANK(Footnotes!D109),\"\",Footnotes!D109)","v":""}]
[86,"COMMENT_OBS",{"$f":"IF(ISBLANK(Footnotes!D110),\"\",Footnotes!D110)","v":""}]
[87,"COMMENT_OBS",{"$f":"IF(ISBLANK(Footnotes!D111),\"\",Footnotes!D111)","v":""}]
[88,"COMMENT_OBS",{"$f":"IF(ISBLANK(Footnotes!D112),\"\",Footnotes!D112)","v":""}]
[89,"COMMENT_OBS",{"$f":"IF(ISBLANK(Footnotes!D113),\"\",Footnotes!D113)","v":""}]
[90,"COMMENT_OBS",{"$f":"IF(ISBLANK(Footnotes!D114),\"\",Footnotes!D114)","v":""}]
[91,"COMMENT_OBS",{"$f":"IF(ISBLANK(Footnotes!D115),\"\",Footnotes!D115)","v":""}]
[92,"COMMENT_OBS",{"$f":"IF(ISBLANK(Footnotes!D116),\"\",Footnotes!D116)","v":""}]
[93,"COMMENT_OBS",{"$f":"IF(ISBLANK(Footnotes!D117),\"\",Footnotes!D117)","v":""}]
[94,"COMMENT_OBS",{"$f":"IF(ISBLANK(Footnotes!D118),\"\",Footnotes!D118)","v":""}]
[95,"COMMENT_OBS",{"$f":"IF(ISBLANK(Footnotes!D119),\"\",Footnotes!D119)","v":""}]
[96,"COMMENT_OBS",{"$f":"IF(ISBLANK(Footnotes!D120),\"\",Footnotes!D120)","v":""}]
[97,"COMMENT_OBS",{"$f":"IF(ISBLANK(Footnotes!D121),\"\",Footnotes!D121)","v":""}]
[98,"COMMENT_OBS",{"$f":"IF(ISBLANK(Footnotes!D122),\"\",Footnotes!D122)","v":""}]
[99,"COMMENT_OBS",{"$f":"IF(ISBLANK(Footnotes!D123),\"\",Footnotes!D123)","v":""}]

{"sheet":"Countries codes","index":19,"n_rows":44,"n_cols":8,"rows_kept":44,"cut":false,"hidden":true,"merged":[[3,5,3,7],[8,5,8,7]]}
[]
[]
["Country","Code"]
["Albania ","AL ",null,{"$f":"IF(Cover!C25=\"\",\"\",LOOKUP(Cover!C25,'Countries codes'!A4:B40))","v":"AL "},null,"2022 CHANGES"]
["Austria","AT",null,null,null,"United Kingdom","UK","DELETED"]
["Belgium","BE",null,null,null,"Czech Republic","CZ","Changed to Czechia "]
["Bosnia ","BA",null,null,null,"FYR of Macedonia ","MK ","Changed to North Macedonia"]
["Bulgaria","BG"]
["Croatia","HR",null,null,null,"2023 CHANGES"]
["Cyprus","CY",null,null,null,"Kosovo","XK","Added"]
["Czechia ","CZ",null,null,null,"Republic of Moldova","MD","Added"]
["Denmark","DK",null,null,null,"Montenegro","ME","Added"]
["Estonia","EE",null,null,null,"Ukraine","UA","Added"]
["Finland","FI",null,null,null,"Türkiye","TR","Changed"]
["France","FR"]
["Georgia","GE"]
["North Macedonia","MK "]
["Germany","DE"]
["Greece","EL"]
["Hungary","HU"]
["Iceland","IS"]
["Ireland","IE"]
["Italy","IT"]
["Latvia","LV"]
["Liechtenstein","LI"]
["Lithuania","LT"]
["Luxembourg","LU"]
["Malta","MT"]
["Netherlands","NL"]
["Norway","NO"]
["Poland","PL"]
["Portugal","PT"]
["Romania","RO"]
["Serbia","RS"]
["Slovak Republic","SK"]
["Slovenia","SI"]
["Spain","ES"]
["Sweden","SE"]
["Switzerland","CH"]
["Türkiye","TR"]
["Kosovo","XK"]
["Republic of Moldova","MD"]
["Montenegro","ME"]
["Ukraine","UA"]

{"sheet":"Country Absolute Thresholds","index":20,"n_rows":32,"n_cols":16,"rows_kept":32,"cut":false,"hidden":true,"merged":[[0,1,0,3],[0,4,0,6],[0,7,0,9],[0,10,0,12]]}
[null,"Energy",null,null,"Transport",null,null,"Pollution",null,null,"Resources"]
[null,"Total Energy tax revenue 2018","Absolute threshold (AT) selected","AT/Total energy tax revenue","Total transport tax revenue 2018","Absolute threshold (AT) selected","AT/Total transport tax revenue","Total pollution tax revenue 2018","Absolute threshold (AT) selected","AT/Total pollution tax revenue","Total pollution tax revenue 2018","Absolute threshold (AT) selected","AT/Total pollution tax revenue"]
["BE",8807.5,5,{"$f":"C3/B3","v":5.676979846721544E-4},3015.7999999999997,5,{"$f":"F3/E3","v":1.6579348763180583E-3},505.26031766000006,5,{"$f":"I3/H3","v":9.8958889610733323E-3},78.680995680000009,5,{"$f":"L3/K3","v":6.3547746908736116E-2},{"$f":"C3=F3","v":true},{"$f":"I3=C3","v":true},{"$f":"L3=C3","v":true}]
["BG",2820.2103139999995,5,{"$f":"C4/B4","v":1.772917422214633E-3},340.66273436679978,5,{"$f":"F4/E4","v":1.4677273137297076E-2},8.3606580392093335,5,{"$f":"I4/H4","v":0.59803905105929311},54.100840110790656,5,{"$f":"L4/K4","v":9.2420006598062557E-2},{"$f":"C4=F4","v":true},{"$f":"I4=C4","v":true},{"$f":"L4=C4","v":true}]
["CZ",98519,5,5.0751631664958027E-5,6739,5,7.4194984419053268E-4,642,5,7.7881619937694704E-3,0,5,{"$error":"#DIV/0!"},true,true,true]
["DK",43929.65286200001,100,2.2763667246390173E-3,33643.667000000045,100,2.9723276003177615E-3,2102.2440000000006,100,4.7568217580832656E-2,1813.3610000000042,100,5.5146217438226459E-2,true,true,true]
["DE",49474,30,6.0637910821845816E-4,10249.999999999998,30,2.9268292682926834E-3,0,30,{"$error":"#DIV/0!"},0,30,{"$error":"#DIV/0!"},true,true,true]
["IE",3176.0408863333346,100,3.1485740763069231E-2,1917.1067770000004,100,5.2161935474708293E-2,25.081000000000003,100,3.9870818547904783,1.0750580000000003,100,93.018237155576699,true,true,true]
["EL",5350.05,25,4.6728535247334132E-3,1455,25,1.7182130584192441E-2,18,25,1.3888888888888888,0,25,{"$error":"#DIV/0!"},true,true,true]
["ES",18253,40,2.1914205883964278E-3,2864.996226415094,40,1.3961623973952352E-2,768.6,40,5.2042674993494666E-2,188.4,40,0.21231422505307854,true,true,true]
["FR",46692.999999999993,90,1.9274837770115439E-3,6808,90,1.3219741480611046E-2,2321.9999999999968,90,3.8759689922480675E-2,427.00000000000057,90,0.2107728337236531,true,true,true]
["HR",10588.529999999999,18,1.6999526846502775E-3,3084.12,18,5.8363487802031051E-3,4.9865988700000026,18,3.6096747441006802,70.897996999999975,18,0.2538858749422781,true,true,true]
["IT",47128,1,2.1218808351722967E-5,10877,1,9.1937115013330888E-5,569.98552369654021,1,1.7544305222256822E-3,0,1,{"$error":"#DIV/0!"},true,true,true]
["CY",496.87420218999989,1,2.0125818478650046E-3,123.42389619999997,1,8.1021587454958351E-3,0,1,{"$error":"#DIV/0!"},9.7365702299999999,1,0.10270557048095159,true,true,true]
["LV",849.27300000000002,3,3.5324330339007596E-3,115.79900000000001,3,2.5906959472879729E-2,17.490999999999996,3,0.17151678005831575,13.905999999999997,3,0.21573421544656987,true,true,true]
["HU",755776.57800000021,100,1.3231423533212479E-4,174179.00000000003,100,5.7412202389495854E-4,91972.953214802954,100,1.087276166575296E-3,7555,100,1.3236267372600927E-2,true,true,true]
["MT",161.7376474050686,1,6.1828523911660509E-3,130.73037327,1,7.6493317886783697E-3,29.277252579999999,1,3.4156210432229023E-2,0,1,{"$error":"#DIV/0!"},true,true,true]
["NL",14487,30,2.0708221163802027E-3,8077,30,3.7142503404729477E-3,3025,30,9.9173553719008271E-3,288,30,0.10416666666666667,true,true,true]
["AT",5457.077678891148,10,1.8324826195312565E-3,3294.7328434470992,10,3.0351474535754912E-3,79.336581120000034,10,0.12604526006577677,24.688179999999999,10,0.40505213426020065,true,true,true]
["PL",50237.979999999996,100,1.9905258929598683E-3,4888,100,2.0458265139116204E-2,2242.0200000000004,100,4.46026351236831E-2,52.97999999999999,100,1.8875047187617973,true,true,true]
["PT",3800.0179999999996,8,2.105253185642805E-3,1435.0219999999999,8,5.5748274242485487E-3,15.454000000000001,8,0.51766532936456577,21.409999999999997,8,0.37365716954694073,true,true,true]
["RO",17420.201417654815,35,2.0091616142008913E-3,1307.2999999999997,35,2.6772737703664045E-2,23.900000000000009,35,1.4644351464435141,20.100000000000001,35,1.7412935323383083,true,true,true]
["SI",1355.009,3,2.2140074346369653E-3,198.559,3,1.5108859331483338E-2,24.79,3,0.12101653892698669,30.684999999999999,3,9.7767638911520294E-2,true,true,true]
["SK",1941.5070000000001,10,5.1506381383121464E-3,232.57299999999998,10,4.2997252475566815E-2,28.585000000000001,10,0.34983382893125764,0,10,{"$error":"#DIV/0!"},true,true,true]
["FI",4538.8460210160192,15,3.3048047742853929E-3,2212.5413917619549,15,6.7795341844677382E-3,38,15,0.39473684210526316,27,15,0.55555555555555558,true,true,true]
["SE",73206.999999869702,1,1.3659895911617467E-5,21102.999999881802,1,4.7386627493986686E-5,2403,1,4.1614648356221392E-4,147,1,6.8027210884353739E-3,true,true,true]
["UK",37367.000000000007,20,5.3523162148419717E-4,11599.998,20,1.7241382282996945E-3,841.99799999999993,20,2.3753025541628368E-2,387,20,5.1679586563307491E-2,true,true,true]
["CH",7073.0105532999951,1,1.4138251208086185E-4,2703.3660414699975,1,3.6990921120553632E-4,272.30651202999985,1,3.6723323013657144E-3,0,1,{"$error":"#DIV/0!"},true,true,true]
["LI",21.219176000000001,1,4.7127183449536397E-2,28.680612000000004,1,3.4866759468033665E-2,0.40682299999999999,1,2.4580714463046585,0,1,{"$error":"#DIV/0!"},true,true,true]
["RS",182389.8029999999,440,2.4124155668943854E-3,14769.551000000019,440,2.9791020729066132E-2,11612.412008053363,440,3.7890491630408404E-2,3053.7049999999999,440,0.14408726448691017,true,true,true]
["TR",57720.668289079978,25,4.3312041840530254E-4,31142.369695160018,25,8.0276485844573884E-4,403.97588020999973,25,6.1884882797963559E-2,1870.7892082576927,25,1.3363344138211622E-2,true,true,true]
["IS",31499.250000000004,100,3.1746787621927501E-3,18715.789999999997,100,5.3430819644802608E-3,9826.84,100,1.0176211274427995E-2,98.95,100,1.010611419909045,true,true,true]

{"sheet":"Parameters","index":21,"n_rows":2,"n_cols":3,"rows_kept":2,"cut":false,"hidden":true,"merged":[]}
["Parameter","Value","Comment"]
["Footnote Disable Time series Plausibility","No","if Yes, no comparison with previous year value when footnote"]

{"sheet":"LOG","index":22,"n_rows":0,"n_cols":0,"rows_kept":0,"cut":false,"hidden":true,"merged":[]}

{"sheet":"Versions","index":23,"n_rows":29,"n_cols":3,"rows_kept":29,"cut":false,"hidden":false,"merged":[]}
[]
[]
[]
[]
[]
["Who","Version","Description"]
["ICEDD","v1","Add option explicit and correct debug errors"]
["ICEDD","v2","Add  version sheet and versions where updated"]
["ICEDD","v3","Bug Clean Log"]
["ICEDD","v4","Replace values with constants and simplify/improve coding and checks  (ICEDD_Declare)"]
["ICEDD","v5","Remove Conditional formating"]
["ICEDD","v6","Check footnote pattern for SDMX"]
["ICEDD","v7","Code and checks updated - Major update"]
["ICEDD","v8","correct bug in 2017 line 73 - AF replaced by AH for NTL comparison"]
["ICEDD","v9"]
["ICEDD","v10","Remove rounded & absolute comprarison, add function RelDiff, check SDMX Threshold"]
["ICEDD","v11","Bug in footnotes completeness"]
["ICEDD","2019/v1","Add optional year 2020 and  comments with several errors"]
["ICEDD","2019/v2","Bug % Revision in cell note"]
["ICEDD","2019/v3","Update Check Footnotes"]
["ICEDD","2019/v4","Update Absolute Threshold"]
["ICEDD","2021/v6","Update to new questionnaire with ETS and OTH CO2 Taxes"]
["GAUSS","2023/v8","Update columns for validate new years and clarifying instructions for do it in future years"]
["GAUSS","2023/v9","Update reporting year macro in order to acomplish the new requeriments of the questionaire"]
[null,null,"Automatically get last year's column"]
[null,null,"Update of some country names"]
["GAUSS","2024/v1","Changes in Year Management"]
[null,null,"Some countries added"]
[null,null,"Management of Confidentiality"]