{"text_format":"1","workbook":"xlsx","n_sheets":28,"sheets":["intro","structure","scheme","instructions","footnote instructions","parameters","NotApp","PEFA indicators","PEFA Columns","PEFA rows","PEFA bridging items","footnote_list","Table_A","Table_B","Table_B.1","Table_B.2","Table_C","Table_D","Table_E","Check Report","Parameter_mapping","Parameters_Table_A","Parameters_Table_B","Parameters_Table_B.1","Parameters_Table_B.2","Parameters_Table_C","Parameters_Table_E","Transcoding"],"not_rendered":{"charts":0,"images":2,"macros":1,"external_links":4,"defined_names":17,"comments":5,"pivot_tables":0},"unopened":[],"bounds":{"document_bytes":16777216,"sheet_cells":100000,"rows_first":2000,"rows_last":500,"rows_between":2000,"halvings":0,"cell_chars":16384,"cell_head_chars":4096},"cells_cut":0,"cells_raw":0,"read":"whole","date_system":"1900"}

{"sheet":"intro","index":0,"n_rows":32,"n_cols":9,"rows_kept":32,"cut":false,"hidden":false,"merged":[[7,1,7,9],[28,1,28,9],[1,0,1,10],[4,1,4,10],[3,0,3,10],[37,1,37,9],[36,1,36,9],[35,1,35,9],[34,1,34,9],[33,1,33,9]]}
[]
["Physical Energy Flow Accounts (PEFA)"]
[null,null,null,null,"PEFA-questionnaire",2024]
["INTRODUCTION",null,null,null,null,null,null,null,true]
[null,"version 19 March 2024"]
[null,"This is Eurostat's electronic questionnaire for Physical Energy Flow Accounts (PEFA-questionnaire). "]
[null,"The PEFA-questionnaire includes seven data sheets (Tables A to E) - see also sheet 'scheme'."]
[null,"It is designed to accomodate data for one year only, i.e. data for all reference years, including the mandatory reference period (2020, 2021 and 2022), have to be reported in separate workbooks!"]
[]
[null,"You are kindly invited to fill in your country name and the year for which you report data here:"]
[]
[null,"Please select your country:",null,{"$f":"IF(E12=\"\",\"\",VLOOKUP(E12,parameters!B27:C67,2,FALSE))","v":""}]
[]
[null,"Please select the reference year:"]
[]
[null,"Please do not forget to provide a primary contact person for PEFA, also below on this sheet."]
[]
[null,"The sheet 'instructions' provides you with detailed instruction on filling in the questionnaire."]
[null,"Methodological questions related to the compilation of PEFA should be addressed to: estat-pefa@ec.europa.eu"]
[]
[null,"Please save separate files for each year you are reporting (file format: *.xlsm)."]
[null,"Deadline for returning back this electronic questionnaire is",null,null,null,{"$f":"\"30 September \"&F3","v":"30 September 2024"}]
[null,"Please transmit your PEFA-questionnaires for ALL reference years to Eurostat using the EDAMIS reporting system."]
[null,"Please use the following EDAMIS-parameters:"]
[null,"Domain name   new!  :","ENVDATA"]
[null,"Data set name  new!  :   ","ENVDATA_PEFA_A"]
[null,"End of reference period:  ","(reference year)   (i.e. year for which data are reported)"]
[null,"The EDAMIS system has been installed in all National Statistical Institutes and your local EDAMIS coordinator will give you a user-ID and password."]
[null,"Should you have any questions regarding data transmission do not hesitate to contact your local EDAMIS coordinator or the Eurostat EDAMIS helpdesk at: estat-support-edamis@ec.europa.eu or call (+352) 4301 33213."]
[]
[]
[null,"Who is the primary contact point for physical energy flow accounts (PEFA) in your country? (institution, unit, name, email, telephone)"]

{"sheet":"structure","index":1,"n_rows":19,"n_cols":9,"rows_kept":19,"cut":false,"hidden":false,"merged":[[2,0,2,7],[4,1,4,2],[1,4,1,5]]}
[null,null,null,null,"Physical Energy Flow Accounts (PEFA)"]
[null,null,null,null,{"$f":"intro!E3","v":"PEFA-questionnaire"}]
["Table of content of the PEFA questionnaire"]
[null,{"$f":"\"Overview of the PEFA-questionnaire \"&intro!F3","v":"Overview of the PEFA-questionnaire 2024"},null,null,null,null,null,null,false]
[null,"Sheet name and hyperlink",null,"Title","Content","Status"]
[null,1,"intro",{"$f":"\"Physical Energy Flow Accounts questionnaire \"&intro!F3&\" - introduction\"","v":"Physical Energy Flow Accounts questionnaire 2024 - introduction"},{"$f":"\"General information about the Eurostat \"&intro!F3&\" data collection of PEFA.\"","v":"General information about the Eurostat 2024 data collection of PEFA."},"to be filled in (country, year and contact point)"]
[null,{"$f":"B6+1","v":2},"structure",{"$f":"A3","v":"Table of content of the PEFA questionnaire"},"Provides an overview of this electronic EXCEL workbook","for information"]
[null,{"$f":"B7+1","v":3},"scheme",{"$f":"scheme!A3","v":"Scheme and description of the seven PEFA tables (A to E)"},"Explaining the content of the various PEFA tables","for information"]
[null,4,"instructions",{"$f":"instructions!B5","v":"Instructions for completing the PEFA questionnaire and overview of the checking rules"},"Explaining how to use and fill in the questionnaire","for information"]
[null,5,"footnote instructions",{"$f":"'footnote instructions'!B5","v":"Instructions for SDMX compliant reporting of footnotes in the EXCEL questionnaire (.xlsm)"},"Provides instructions for SDMX compliant reporting of footnotes  ","for information"]
[null,6,"footnotes list",{"$f":"footnote_list!C7","v":"List of footnotes"},"Please insert footnote texts for each footnote symbol you use in tables A to E","to be filled in"]
[null,7,"Table A",{"$f":"Table_A!E4","v":"Table A - Physical supply table for energy flows"},{"$f":"scheme!B44","v":"This table records the supply of energy flows (row-wise) by supplier (column-wise)."},"to be filled in"]
[null,8,"Table B",{"$f":"Table_B!E4","v":"Table B - Physical use table for energy flows"},{"$f":"scheme!B50","v":"This table records the use of energy flows (row-wise) by user (column-wise). It is automatically calculated through the sum of sub-tables B.1 and B.2. If detailed data for B.1 and B.2 is not available, please fill in directly table B by 'overwriting' the existing formulas (the same applies to the memo item 'own use of energy products')."},"to be filled in"]
[null,9,"Table B.1",{"$f":"Table_B.1!E4","v":"Table B.1 - Transformation use of energy flows"},{"$f":"scheme!B58","v":"Table B.1 is a sub-table of Table B and records the transformation use of energy flows (row-wise) by user (column-wise). If detailed data for table B.1 is not available, please fill in directly table B."},"to be filled in"]
[null,10,"Table B.2",{"$f":"Table_B.2!E4","v":"Table B.2 - End use of energy flows (including non-energy use)"},{"$f":"scheme!B62","v":"Table B.2 is a sub-table of Table B and records the end use of energy flows (row-wise) by user (column-wise). If detailed data for table B.2 is not available, please fill in directly table B."},"to be filled in"]
[null,11,"Table C",{"$f":"Table_C!E4","v":"Table C - Physical use table of emission-relevant use of energy flows (related to fuel combustion)"},{"$f":"scheme!B66","v":"This table records the emission-relevant use of energy flows (row-wise) by user (column-wise). Notably, it includes only fuel combustion related use of energy flows."},"to be filled in"]
[null,12,"Table D",{"$f":"Table_D!E4","v":"Table D - Vectors of key energy indicators"},{"$f":"scheme!B72","v":"This table contains vectors of key energy indicators in a breakdown by production, consumption and accumulation. It is automatically calculated from tables A and B."},"Checking results:\r\n    - 1 Missing country error\r\n    - 1 Missing reference year error"]
[null,13,"Table E",{"$f":"Table_E!D4","v":"Table E - Bridge table"},{"$f":"scheme!B75","v":"This table shows the changeover or 'bridge' from the key energy indicator derived from PEFA (residence principle) towards the energy statistics key indicator (territory principle). Note: this table reports for the entire national economy (no column-wise breakdown)."},"Checking results:\r\n    - 1 Missing country error\r\n    - 1 Missing reference year error"]
[null,14,"Check report","Check report","This sheet includes the results from various checking procedures.","to be consulted after running the macros"]

{"sheet":"scheme","index":2,"n_rows":75,"n_cols":16,"rows_kept":75,"cut":false,"hidden":false,"merged":[[46,1,46,15],[53,1,53,15],[51,1,51,15],[52,1,52,15],[44,1,44,15],[49,1,49,15],[50,1,50,15],[33,1,33,4],[34,1,34,4],[35,1,35,4],[45,1,45,15],[0,8,0,16],[1,8,1,16],[2,0,2,16],[32,1,32,4],[43,1,43,15],[74,1,74,15],[75,1,75,15],[66,1,66,15],[67,1,67,15],[71,1,71,15],[54,1,54,15],[65,1,65,15],[68,1,68,15],[57,1,57,15],[61,1,61,15],[62,1,62,15],[58,1,58,15]]}
[null,null,null,null,null,null,null,null,{"$f":"structure!E1","v":"Physical Energy Flow Accounts (PEFA)"}]
[null,null,null,null,null,null,null,null,{"$f":"intro!E3","v":"PEFA-questionnaire"}]
["Scheme and description of the seven PEFA tables (A to E)"]
["1.","Scheme providing an overview on the set of reporting tables"]
[]
[null,null,null,null,null,null,null,null,null,{"$f":"structure!D14","v":"Table B.1 - Transformation use of energy flows"}]
[null,null,null,null,null,null,null,null,null,null,"industries","households","accumulation","rest of world","environment","Total"]
[null,null,null,null,null,null,null,null,null,"natural energy inputs","B.trans",null,null,null,null,"TTUNI"]
[null,null,null,null,null,null,null,null,null,"energy products","E.trans",null,null,null,null,"TTUP"]
[null,null,null,null,null,null,null,null,null,"energy residuals","N.trans",null,null,null,"Q.trans","TTUR"]
[null,null,null,null,null,null,null,null,null,null,null,"+"]
[null,null,null,null,null,null,null,null,null,{"$f":"structure!D15","v":"Table B.2 - End use of energy flows (including non-energy use)"}]
[null,null,null,null,null,null,null,null,null,null,"industries","households","accumulation","rest of world","environment","Total"]
[null,null,null,null,null,null,null,null,null,"natural energy inputs",null,null,null,null,null,"TEUNI"]
[null,null,null,null,null,null,null,null,null,"energy products","E.end","F.end","G.end","H.end",null,"TEUP"]
[null,null,null,null,null,null,null,null,null,"energy residuals","N.end",null,"O.end","P.end","Q.end","TEUR"]
[]
[null,{"$f":"structure!D12","v":"Table A - Physical supply table for energy flows"},null,null,null,null,null,null,null,{"$f":"structure!D13","v":"Table B - Physical use table for energy flows"}]
[null,null,"industries","households","accumulation","rest of world","environment","Total",null,null,"industries","households","accumulation","rest of world","environment","Total"]
[null,"natural energy inputs",null,null,null,null,"A.","TSNI",null,"natural energy inputs","B.",null,null,null,null,"TUNI"]
[null,"energy products","C.",null,null,"D.",null,"TSP",null,"energy products","E.","F.","G.","H.",null,"TUP"]
[null,"energy residuals","I.","J.","K.","L.","M.","TSR",null,"energy residuals","N.",null,"O.","P.","Q.","TUR"]
[]
[]
[null,{"$f":"structure!D17","v":"Table D - Vectors of key energy indicators"},null,null,null,null,null,null,null,{"$f":"structure!D16","v":"Table C - Physical use table of emission-relevant use of energy flows (related to fuel combustion)"}]
[null,null,"industries","households","accumulation",null,null,null,null,null,"industries","households","accumulation","rest of world","environment","Total"]
[null,"energy key indicator 1",null,null,null,null,null,null,null,"natural energy inputs","B.er",null,null,null,null,"TUNIer"]
[null,"…",null,null,null,null,null,null,null,"energy products","E.er","F.er",null,null,null,"TUPer"]
[null,"energy key indicator 24",null,null,null,null,null,null,null,"energy residuals","N.er",null,null,null,null,"TURer"]
[]
[]
[null,{"$f":"structure!D18","v":"Table E - Bridge table"},null,null,null,null,null,null,null,"Legend:"]
[null,"energy key indicator (residence principle)",null,null,null,null,null,null,null,null,"grey cells denote logically impossible cases for PEFA"]
[null,"- energy use by resident units abroad",null,null,null,null,null,null,null,null,"white cells: contain numbers or symbol ':' (not available)"]
[null,"+ energy use by non-residents on territory",null,null,null,null,null,null,null,"R.","capital letters denote sub-matrices (cells) in accordance with SEEA-CF"]
[null,"= energy key indicator (territory principle)"]
[]
[]
[]
[]
["2.","Brief description of the set of reporting tables"]
[]
["2.1",{"$f":"B18","v":"Table A - Physical supply table for energy flows"}]
[null,"This table records the supply of energy flows (row-wise) by supplier (column-wise)."]
[null,"By definition, natural energy inputs can only be provided (supplied) by the environment (sub-matrix A.)."]
[null,"Energy products (incl. sale of recycled and reused products) are provided by domestic industries (sub-matrix C.), and the rest of the world, i.e. imports (sub-matrix D.)."]
[null,"Energy residuals result from activities by industries (sub-matrix I.) and households (sub-matrix J.). Accumulation also supplies energy residuals in form of storage losses, waste and (end-of-life) products incorporating energy (sub-matrix K.). Energy residuals in form of waste for energetic uses may also be imported from the rest of the world (sub-matrix L.)."]
[]
["2.2",{"$f":"J18","v":"Table B - Physical use table for energy flows"}]
[null,"This table records the use of energy flows (row-wise) by user (column-wise). It is automatically calculated through the sum of sub-tables B.1 and B.2. If detailed data for B.1 and B.2 is not available, please fill in directly table B by 'overwriting' the existing formulas (the same applies to the memo item 'own use of energy products')."]
[null,"Natural energy inputs are used, i.e. extracted, by industries only (sub-matrix B.). If households should extract, these flows have to be recorded under the respective industry column typically extracting this type of natural energy input."]
[null,"Energy products are used by industries (sub-matrix E.) as intermediate use, households (sub-matrix F.) as final consumption, accumulation (sub-matrix G.) as net inventory changes, and rest of the world (sub-matrix H.) as exports."]
[null,"Energy residuals are used by the environment (sub-matrix Q.), i.e. absorption of energy residuals in form of losses and dissipative heat."]
[null,"The accumulation column (sub-matrix O.) records the 'storage' of energy amounts incorporated in products for non-energy purposes (e.g. plastic products).  "]
[null,"Certain industries use energy residuals (sub-matrix N.), i.e. waste. In seldom cases, households may also use waste as an energy source. Energy residuals in form of waste for energetic purposes may also be exported to the rest of the world (sub-matrix P.). "]
[]
["2.2.1",{"$f":"J6","v":"Table B.1 - Transformation use of energy flows"}]
[null,"Table B.1 is a sub-table of Table B and records the transformation use of energy flows (row-wise) by user (column-wise). If detailed data for table B.1 is not available, please fill in directly table B."]
[null,"Transformation use includes all use of natural energy inputs (sub-matrix B.trans) to create energy products. Transformation use further includes the use of energy products by industries (sub-matrix E.trans) to create other so-called secondary energy products. Finally, transformation use includes the use of certain energy residuals, namely waste to produce electricity and heat (sub-matrix N.trans). Sub-matrix Q.trans records the uptake of transformation losses by the environment."]
[]
["2.2.2",{"$f":"J12","v":"Table B.2 - End use of energy flows (including non-energy use)"}]
[null,"Table B.2 is a sub-table of Table B and records the end use of energy flows (row-wise) by user (column-wise). If detailed data for table B.2 is not available, please fill in directly table B."]
[null,"End use includes energy and non-energy use of energy products by industries (sub-matrix E.end), households (sub-matrix F.end), accumulation (sub-matrix G.emd), and rest of the world (sub-matrix H.end). Notably, it includes the 'non-transformative' uses of energy products in the so-called energy sector which support the transformation activities. End use further includes the use of energy residuals by industries (sub-matrix N.end), accumulation (sub-matrix O.end), and the environment (sub-matrix Q.end). In seldom cases also households may use waste as a energy source. Sub-matrix Q.end records the uptake of end use losses by the environment."]
[]
["2.3",{"$f":"J25","v":"Table C - Physical use table of emission-relevant use of energy flows (related to fuel combustion)"}]
[null,"This table records the emission-relevant use of energy flows (row-wise) by user (column-wise). Notably, it includes only fuel combustion related use of energy flows."]
[null,"It relates to emissions resulting from use of energy products for combustion in production and consumption activities of industries and households (sub-matrices E.er and F.er)."]
[null,"There are a few cases where the use of natural energy inputs may be emission-relevant also (B.er), namely the flaring of natural gas."]
[null,"The use of energy residuals may be emission-relevant (N.er), namely in the case of using waste for energy recovery."]
[]
["2.4",{"$f":"B25","v":"Table D - Vectors of key energy indicators"}]
[null,"This table contains vectors of key energy indicators in a breakdown by production, consumption and accumulation. It is automatically calculated from tables A and B."]
[]
["2.5",{"$f":"B32","v":"Table E - Bridge table"}]
[null,"This table shows the changeover or 'bridge' from the key energy indicator derived from PEFA (residence principle) towards the energy statistics key indicator (territory principle). Note: this table reports for the entire national economy (no column-wise breakdown)."]

{"sheet":"instructions","index":3,"n_rows":113,"n_cols":13,"rows_kept":113,"cut":false,"hidden":false,"merged":[[113,1,113,13],[114,1,114,13],[96,1,96,11],[104,1,104,11],[100,2,100,11],[110,2,110,11],[112,1,112,6],[85,1,85,13],[79,1,79,13],[80,1,80,13],[81,1,81,13],[82,1,82,13],[83,1,83,13],[84,1,84,13],[86,1,86,11],[90,1,90,11],[98,2,98,11],[106,2,106,11],[108,2,108,11],[102,1,102,6],[94,1,94,8],[93,1,93,12],[91,1,91,4],[88,1,88,9],[78,1,78,13],[66,1,66,13],[67,1,67,13],[68,1,68,13],[69,1,69,13],[70,1,70,13],[71,1,71,13],[73,1,73,13],[74,1,74,13],[75,1,75,13],[76,1,76,13],[77,1,77,13],[64,1,64,13],[59,1,59,13],[60,1,60,13],[61,1,61,13],[62,1,62,13],[63,1,63,13],[58,1,58,13],[52,1,52,13],[53,2,53,13],[54,1,54,13],[55,2,55,13],[56,1,56,13],[57,2,57,13],[34,1,34,13],[48,1,48,13],[49,1,49,13],[50,1,50,13],[51,2,51,13],[26,1,26,13],[27,2,27,13],[33,1,33,13],[28,2,28,13],[31,5,31,13],[19,2,19,13],[20,1,20,13],[21,2,21,13],[46,2,46,13],[47,1,47,13],[37,1,37,13],[38,2,38,13],[39,1,39,13],[40,2,40,13],[41,1,41,13],[42,2,42,13],[43,1,43,13],[44,2,44,13],[45,1,45,13],[35,1,35,13],[36,2,36,13],[65,1,65,13],[12,1,12,13],[14,1,14,13],[15,1,15,13],[4,1,4,13],[6,1,6,13],[7,1,7,13],[8,1,8,13],[10,1,10,6],[9,1,9,11],[13,1,13,13],[23,2,23,13],[25,2,25,13],[16,1,16,13],[17,1,17,13],[18,1,18,13]]}
[]
[]
[]
[]
[null,"Instructions for completing the PEFA questionnaire and overview of the checking rules"]
[]
[null,"1. INSTRUCTIONS for completing the PEFA questionnaire"]
[]
[null,"The following technical instructions relate to the handling of the electronic EXCEL questionnaire."]
[null,"Further information on concepts and methods for PEFA, as well as compilation guidelines, can be found on Eurostat's website -  ",null,null,null,null,null,null,null,null,null,null,"here."]
[]
[null,"Please note the following issues:"]
[null,"- Eurostat changed in the 2020 data collection the policy for reporting footnotes (following the SDMX syntax) - see next worksheet 'footnote instructions';"]
[null,"- Should you have problems enabling the macros whilst opening this file, please check your local Excel settings related to macros;"]
[null,"- Cells are distinguished between non-mandatory (reference years outside of the mandatory reference period; tables B.1 and B.2; memo items; NACE L68A) and mandatory (all the remaining cells). Symbol colon (':') for 'not available' can only be reported for non-mandatory cells;"]
[null,"- Pre-defined footnotes 'n' ('not to be published') and 's' ('Eurostat estimate') are to be set exclusively by Eurostat."]
[]
[null,"1.A) Getting started"]
[]
[null,null,"1. Please select your country code and reference year from the drop-down menus in the first sheet 'intro'. Do not forget to provide a contact point in your country."]
[]
[null,null,"2. Tables A to D have a nested hierachical classification of columns (industries, households, accumulation, rest of the world, environment)."]
[]
[null,null,"3. As a general rule we ask you to report the most detailed level for which data is available."]
[]
[null,null,"4. Complete the data sheets for tables A, B.1, B.2, C and E."]
[]
[null,null,"5. Table B is automatically calculated based on the sum of tables B.1 and B.2 (in case detailed data for tables B.1 and B.2 is not available, please fill out directly table B by 'overwriting' the existing formulas). \nTable D is automatically derived from tables A and B."]
[null,null,"6. Table E includes the indicator 'gross inland consumption (GIC)', which needs to be reported as compiled and published by Eurostat (internationally harmonised)."]
[null,null,null,"When to extract:",null,"extract as late as possible"]
[null,null,null,"Source for extraction: ",null,"https://ec.europa.eu/eurostat/web/energy/database"]
[null,null,null,"Pathway:",null,"Energy > Energy statistics - quantitites > Energy statistics - quantities, annual data (nrg_quanta) > Energy balances (nrg_bal)> Simplified energy balances (nrg_bal_s)"]
[null,null,null,"Dimensions:",null,"NRG_BAL = GIC; SIEC = TOTAL; UNIT = TJ"]
[]
[null,"1.B) How to correctly report figures and symbols?"]
[]
[null,null,"7. Figures have to be reported in the white cells of the data sheets."]
[]
[null,null,"8. Please report exact figures, not rounded values. The maximum number of significant figures is fifteen (default in Excel)."]
[]
[null,null,"9. Please report positive figures. Negative figures are only accepted in the two columns 'changes in inventories and produced assets' and 'statistical differences'."]
[]
[null,null,"10. Please report real zero ('0') if there is no supply/use of a certain natural energy input, energy product or energy residual."]
[]
[null,null,"11. Please report colon (':') for data not available, i.e. if the supply/use of a certain natural energy input, energy product or energy residual is not known.  Note that, in such case, the superior sub-total or total cannot be derived. Please notice that 'not available' should not be reported for any cell that is considered mandatory."]
[]
[null,null,"12. Empty cells are not allowed, except in grey cells. Grey cells denote 'logically not possible' cells."]
[]
[]
[null,"1.C) What to do in case of confidentiality?"]
[]
[null,null,"13. Report the confidential figure in the white value cell and add one of the following pre-defined footnote symbols: 'c) Confidential' or 'd) Secondary confidentiality'."]
[]
[null,null,"14. The footnote symbol 'c) Confidential' should be used for primary confidentiality; i.e. in cases where the value indeed has to be protected due to confidentiality."]
[]
[null,null,"15. The footnote symbol 'd) Secondary confidentiality' is used to hide non-confidential values in order to prevent third parties to indirectly deduce the observation of a cell genuinely flagged as confidential."]
[]
[null,null,"16. If possible, do not use any confidentiality flags at 1 letter NACE level. This enables Eurostat to publish EU totals at least at 1-letter NACE level."]
[]
[]
[null,"2. THE BUILT-IN CHECKING TOOL"]
[]
[null,"There is a checking tool built in the questionnaire, please use it! To reduce the validation time, Eurostat appreciates receiving error-free questionnaires."]
[]
[null,"The tool checks empty cells, valid/invalid symbols, errors in footnotes, inconsistencies, plausibility issues and identifies incorrect use of confidentiality flags. The detailed validation rules for PEFA are available at: "]
[null,"https://ec.europa.eu/eurostat/web/environment/methodology"]
[]
[null,"2.A) How to use the checking tool?"]
[]
[]
[]
[null,"The tool is activated manually:"]
[]
[null," - to check individual data sheets by pressing the 'Check' button at the top of each data sheet. Alternatively, the check can also be made in two steps, pressing two other buttons: the button \"Check rows\" verifies data consistency and confidentiality only row-wise, while \"Check columns\" makes the same check only column-wise. This might simplify the interpretation of the results. Symbols and footnotes are checked equally for all three buttons."]
[null," - to check the whole questionnaire by pressing the 'Check questionnaire' button in the 'intro' sheet and 'structure' sheet. Please note that the speed of the checks may vary, depending on the capacities of your computer!"]
[]
[null," 2.B) What is checked and how are errors/warnings displayed?"]
[]
[null,"Errors and warnings are visualised in the data sheets through cells highlighted in different colours. In addition, by hovering the mouse over the highlighted cell a comment appears with detailed explanation of the detected problem."]
[]
[null,"Eurostat kindly asks you to address each highlighted cell. If correctly done, after the next check the highlight will disappear from the concerned cell."]
[]
[null,"The checking tool produces an error report which you find in the sheet 'Check Report'. It provides a list of all cells with links where errors or other issues were detected."]
[]
[null,"The below list details the checks performed and the display of the error messages."]
[]
[null,"Symbols check: verifies if the symbols used in the questionnaire are permitted. The problematic cells are highlighted in red."]
[]
[null,"Whenever a mandatory cell is reported as not available (':'), the cell is highlighted in yellow."]
[]
[null,"Footnote check: verifies if footnotes are used correctly. It also verifies that a 'free text' footnote symbol has a footnote text associated in the sheet footnotes_list. "]
[null,"Otherwise, the cell is highlighted in red."]
[]
[null,"Consistency checks: concern the sum of components which has to equal the corresponding total or subtotal. For example, the sum of A01, A02, A03 should be equal to the value reported in A, and A31_A32 + A33 should be equal to A31-A33. "]
[null,"When problems occur, the cell corresponding to the total or subtotal is highlighted in blue."]
[]
[null,"Cross-table consistency checks: checks if figures are reported consistently across tables, based on the following rules:"]
[]
[null,null,"- Figures in table B need to equal the sum of the corresponding figures (i.e. same cell) in tables B.1 and B.2;"]
[]
[null,null,"- Figures in table C cannot be superior to the corresponding figures in table B."]
[]
[null,"If the above criteria are not followed, the font is diplayed in red.",null,null,null,null,null,"red"]
[]
[null,"Confidentiality check: verifies that certain confidentiality rules are applied:"]
[]
[null,null,"- Avoid confidentiality at 1 digit NACE level;"]
[]
[null,null,"- Cells with zero or 'not available' cannot be confidential;"]
[]
[null,null,"- Ensure that the figure flagged as confidential cannot be derived through calculation."]
[]
[null,"If the above criteria are not followed, cells are highlighted in purple."]

{"sheet":"footnote instructions","index":4,"n_rows":79,"n_cols":10,"rows_kept":79,"cut":false,"hidden":false,"merged":[[4,1,4,13],[6,1,6,13],[7,1,7,13],[8,1,8,13],[9,1,9,6],[9,7,9,12],[21,1,21,13],[22,1,23,13],[24,2,24,13],[25,1,25,13],[26,2,26,13],[27,1,27,13],[10,1,10,13],[12,1,12,13],[14,1,14,13],[16,1,16,13],[17,1,17,13],[18,1,18,13],[33,2,33,4],[33,5,33,12],[34,2,34,4],[34,5,34,12],[35,2,35,4],[35,5,35,12],[28,1,28,13],[29,1,29,13],[30,2,30,13],[31,1,31,13],[32,2,32,4],[32,5,32,12],[41,1,41,13],[42,1,42,13],[43,1,43,13],[44,1,44,13],[46,1,46,13],[48,1,48,13],[36,2,36,4],[36,5,36,12],[37,2,37,4],[37,5,37,12],[39,1,39,13],[40,1,40,13],[55,1,55,13],[56,1,56,13],[57,1,57,13],[58,2,58,13],[59,2,59,4],[59,5,59,12],[49,1,49,13],[50,2,50,13],[51,1,51,13],[52,2,52,13],[53,1,53,13],[54,2,54,13],[63,2,63,13],[64,1,64,13],[65,2,65,13],[66,1,66,2],[66,3,66,12],[67,3,67,5],[67,6,67,8],[67,9,67,12],[60,2,60,4],[60,5,60,12],[61,2,61,4],[61,5,61,12],[62,2,62,4],[62,5,62,12],[70,3,70,5],[70,6,70,8],[70,9,70,12],[71,3,71,5],[71,6,71,8],[71,9,71,12],[68,3,68,5],[68,6,68,8],[68,9,68,12],[69,3,69,5],[69,6,69,8],[69,9,69,12],[74,3,74,5],[74,6,74,8],[74,9,74,12],[75,3,75,5],[75,6,75,8],[75,9,75,12],[72,3,72,5],[72,6,72,8],[72,9,72,12],[73,3,73,5],[73,6,73,8],[73,9,73,12],[78,3,78,5],[78,6,78,8],[78,9,78,12],[83,1,83,13],[84,1,84,13],[76,3,76,5],[76,6,76,8],[76,9,76,12],[77,3,77,5],[77,6,77,8],[77,9,77,12]]}
[]
[]
[]
[]
[null,"Instructions for SDMX compliant reporting of footnotes in the EXCEL questionnaire (.xlsm)"]
[]
[]
[null,"In 2020 Eurostat introduced a revised way of reporting footnotes in EXCEL questionnaires (.xlsm). "]
[null,"The revised footnote syntax has been introduced for all EXCEL questionnaires used in the domain of environmental economic accounts. It must be used for all EDAMIS transmission channels – be it SDMX or not. "]
[]
[]
[]
[null,"How to report footnotes?"]
[]
[null,"In this questionnaire reporting of footnotes includes two components: \t"]
[]
[null,"(1) a footnote symbol reported in the data sheet next to a reported value, and"]
[]
[null,"(2) a footnote content associated with the symbol, displayed in the sheet entitled 'footnote_list'"]
[]
[]
[null,"Footnote symbols are reported in the so-called footnote-symbol-cell, i.e. yellow cells next to the white value cells. "]
[null,"There are two types of footnote symbols – letters with a closing bracket for pre-defined footnotes (e.g. ‘p)’) and numbers with a closing bracket for 'free text' footnotes (e.g. ‘2)’)."]
[]
[]
[null,"Pre-defined footnotes with standard meanings"]
[]
[null,"So called 'pre-defined footnotes' are footnotes with standard meanings. "]
[null,"The following table shows the letter-symbols, labels and meanings of 'pre-defined footnotes' that users may employ in this questionnaire."]
[]
[]
[]
[null,"Symbol ","Label ",null,null,"Meaning "]
[null,"b)","Break in time series",null,null,"Break occurring when there is a change in the standards for defining and observing a variable over time.\nThe flag 'b' is to be attached to the first time period after the break.\nWhere possible, further details should be provided in the national quality report via ESS-MH, under the sub-concept 15.2 Comparability - over time."]
[null,"c)","Confidential",null,null,"Confidential data are data which are subject to confidentiality clauses.\nWhere possible, further details should be provided in the national quality report via ESS-MH, under the concept 7. ‘Confidentiality’."]
[null,"d)","Secondary confidentiality",null,null,"Secondary confidential data are data made confidential in order to prevent third parties to indirectly calculate the data points genuinely flagged as confidential.\nPlease note that this footnote converts into confidential (c) when published in Eurostat’s online database."]
[null,"e)","Estimated data",null,null,"The ‘e’ (estimate) flag shall be used only if one or several data points have been calculated using a significantly different methodology and/or sources than the rest of the data points in the questionnaire. "]
[null,"p)","Provisional ",null,null,"The ‘p’ (provisional) flag shall be used when a data point value is expected to be revised and submitted to Eurostat before the next data collection. In the case of early estimates, the flag ‘e’ is deemed sufficient and the ‘p’ flag can be omitted. Notice all ‘p’ (provisional) flags sent during a given data collection will be systematically removed during the subsequent data collection, unless the ‘p’ flags are again resubmitted."]
[]
[null,"Free text' footnotes"]
[]
[null,"A 'free text' footnote is used for any meaning beyond the pre-defined footnotes. "]
[null,"The symbol for 'free text' footnotes are numbers followed by a closing bracket (e.g. '1)')."]
[null,"The content of 'free text' footnotes must be specified by the user in the sheet 'footnote_list'."]
[null,"Note that one and only one 'free text' footnote symbol can be associated to a reported value (data point). "]
[]
[null,"Specific order of footnote symbols must be respected!"]
[]
[null,"It is possible to associate more than one footnote to a value-cell (data point). "]
[null,"In case of multiple footnote symbols, a specific order must be followed!\t"]
[]
[null,"1st position - First must come the 'free text' footnote symbol. The first position is always reserved for this! You must put a bracket even if you do not have any 'free text' footnote in case of further pre-defined footnote symbols should follow."]
[]
[null,"2nd position - Secondly, footnote symbol for confidentiality: this can be c) or d). The second position is always reserved for one and only one footnote symbol expressing confidentiality. You must put a bracket without letter if you do not have to express any confidentiality in case further pre-defined footnote symbols should follow.  "]
[]
[null,"3rd and more position - Finally, the third and possibly fourth, fifth and sixth positions are reserved for other pre-defined footnote symbols, namely b), e), and p). "]
[]
[null,"The following table summarises the specific order for reporting footnote symbols:"]
[]
[null,"Position ","Footnote type ",null,null,"What to do if  'empty'"]
[null,"1st","free text', number followed by right bracket: e.g. ‘1)’ (Note: only one is possible!)",null,null,"A right bracket without number must be set in case pre-defined symbols should follow."]
[null,"2nd","Confidentiality related predefined footnote symbol: c) or d)     (only one!)",null,null,"A right bracket without letter must be set in case further pre-defined symbols should follow."]
[null,"3rd and more","Other pre-defined footnote symbols: b)e)p)",null,null,"No brackets to be set."]
[]
[null,"Examples (use cases) for footnote reporting"]
[]
[null,"Example",null,"Meaning"]
[null,"No. ","Symbols","1st position 'free text'",null,null,"2nd position confidentiality",null,null,"3rd & more position"]
[null,1,"1)","Free text' footnote is given in separate sheet ",null,null,"empty ",null,null,"empty"]
[null,2,"1)d)","Free text' footnote is given in separate sheet ",null,null,"Secondary' confidentiality",null,null,"empty"]
[null,3,"1)c)p)","Free text' footnote is given in separate sheet",null,null,"Primary' confidentiality'",null,null,"Provisional value"]
[null,4,"1)c)b)p)","Free text' footnote is given in separate sheet",null,null,"Primary' confidentiality",null,null,"Break in series and provisional value"]
[null,5,"1))b)","Free text' footnote is given in separate sheet",null,null,"empty",null,null,"Break in series"]
[null,6,"))b)p)","empty",null,null,"empty",null,null,"Break in series and provisional value"]
[null,7,")c)p)","empty",null,null,"Primary' confidentiality",null,null,"Provisional value"]
[null,8,")d)b)p)","empty",null,null,"Secondary' confidentiality",null,null,"Break in series and provisional value"]
[null,9,")d)","empty",null,null,"Secondary' confidentiality",null,null,"empty"]
[null,10,"))b)","empty",null,null,"empty",null,null,"Break in series"]
[null,11,"))b)p)","empty",null,null,"empty",null,null,"Break in series and provisional value"]

{"sheet":"parameters","index":5,"n_rows":183,"n_cols":34,"rows_kept":183,"cut":false,"hidden":true,"merged":[[77,10,77,13],[78,10,78,13],[79,10,79,13],[73,10,73,13],[74,10,74,13],[75,10,75,13],[76,10,76,13],[68,10,68,13],[69,10,69,13],[70,10,70,13],[71,10,71,13],[72,10,72,13],[1,28,1,33],[28,9,28,12],[29,10,29,12],[30,10,30,12],[32,10,32,12],[19,28,19,31],[19,16,19,26],[59,10,59,13],[60,10,60,13],[61,10,61,13],[62,10,62,13],[66,10,66,13],[87,6,87,8],[19,4,19,10],[65,10,65,13],[52,10,52,13],[53,10,53,13],[54,10,54,13],[55,10,55,13],[56,10,56,13],[45,10,45,13],[46,10,46,13],[47,10,47,13],[67,10,67,13],[34,10,34,12],[49,10,49,13],[42,6,42,13],[43,10,43,13],[1,1,1,2],[84,6,84,8],[85,6,85,8],[86,6,86,8],[1,4,1,23],[44,10,44,13],[33,10,33,12],[31,10,31,12],[51,10,51,13],[50,10,50,13],[48,10,48,13],[83,6,83,9],[63,10,63,13],[64,10,64,13],[57,10,57,13],[58,10,58,13]]}
[]
[null,"General parameters",null,null,"Parameters for the tables",null,null,null,null,null,null,null,null,null,null,null,null,null,null,null,null,null,null,null,null,null,null,null,"Flags"]
[null,"Current Country",{"$f":"IFERROR(VLOOKUP(intro!E12,parameters!B27:C65,2,TRUE),\"\")","v":""},null,"Table","Eurobase","Unit","Worksheet","Label","Unit Label","Code list row","Code list Column","Row in \"structure\"","Start Row","Start Column","Nr of row for column label","Nr of column for row label","NA Start Row","NA Start Column","Of Which","Hierarchy","Nr of decimals to display","Disable hierarchy test","Mandatory Table",null,null,null,null,"Code","Label","Semantic","Request Value","Disable Plausibility\n(Unused)","Eurostat flag"]
[null,"Current Year",{"$f":"\"\" & intro!E14","v":""},null,"A",null,"TJ","Table_A","Table A - Physical supply table for energy flows","Terajoules",2,5,12,9,8,6,5,{"$f":"ROW(NotApp!F15)","v":15},{"$f":"COLUMN(NotApp!F15)","v":6},null,null,"1 decimal",0,"X",null,null,null,null,"b","Break in series","Standard","Yes","Yes","No"]
[null,"Number of tables",7,null,"B",null,"TJ","Table_B","Table B - Physical use table for energy flows","Terajoules",2,5,13,9,8,6,5,{"$f":"ROW(NotApp!F55)","v":55},{"$f":"COLUMN(NotApp!F55)","v":6},null,null,"1 decimal",{"$f":"IF(AND(COUNT(Table_B.1!H9:FY44)=0,COUNT(Table_B.2!H9:FY44)=0),1,0)","v":0},"X",null,null,null,null,"c","Confidential","Confidentiality","No","No","No"]
[null,"Number of codeLists",6,null,"B.1",null,"TJ","Table_B.1","Table B.1 - Transformation use of energy flows","Terajoules",2,5,14,9,8,6,5,{"$f":"ROW(NotApp!F95)","v":95},{"$f":"COLUMN(NotApp!F95)","v":6},null,"B","1 decimal",0,null,null,null,null,null,"d","Secondary confidentiality","Confidentiality","No","No","No"]
[null,"Number of indicators",{"$f":"COUNTA(Q22:Q183)","v":162},null,"B.2",null,"TJ","Table_B.2","Table B.2 - End use of energy flows (including non-energy use)","Terajoules",2,5,15,9,8,6,5,{"$f":"ROW(NotApp!F135)","v":135},{"$f":"COLUMN(NotApp!F135)","v":6},null,"B","1 decimal",0,null,null,null,null,null,"e","Estimated data","Standard","Yes","No","No"]
[null,"Number of equations",{"$f":"COUNTA(AC22:AC23)","v":2},null,"C",null,"TJ","Table_C","Table C - Physical use table of emission-relevant use of energy flows (related to fuel combustion)","Terajoules",1,5,16,9,8,6,5,{"$f":"ROW(NotApp!F175)","v":175},{"$f":"COLUMN(NotApp!F175)","v":6},"B",null,"1 decimal",0,"X",null,null,null,null,"n","Not to be published","Confidentiality","No","No","Yes"]
[null,"Number of fixed flags",7,null,"D",null,"TJ","Table_D","Table D - Vectors of key energy indicators","Terajoules",3,5,17,9,8,6,5,{"$f":"ROW(NotApp!F214)","v":214},{"$f":"COLUMN(NotApp!F214)","v":6},null,null,"1 decimal",0,"X",null,null,null,null,"p","Provisional","Standard","Yes","No","No"]
[null,"Number of footnotes",99,null,"E",null,"TJ","Table_E","Table E - Bridge table","Terajoules",4,6,18,8,5,7,4,{"$f":"ROW(NotApp!F241)","v":241},{"$f":"COLUMN(NotApp!F214)","v":6},null,null,"1 decimal",0,"X",null,null,null,null,"s","Eurostat estimate","Standard","Yes","No","Yes"]
[null,"Number of check types/colors",36]
[null,"Flags and footnotes start row",10]
[null,"Item can have many NA sub-items"]
[null,"Not Applicable Cells","Color"]
[null,"Highlight color 1"]
[null,"Highlight color 2"]
[null,"Rounding method","ROUND(SUM(V))"]
[null,"\"Not available\" symbol",":"]
[null,"Flags and footnotes coding system","SDMX Flags"]
[null,"Accept use of Eurostat flags",null,null,"Code list",null,null,null,null,null,null,null,null,null,null,null,"Parameters for the row/column classification",null,null,null,null,null,null,null,null,null,null,null,"Consistency check using equations"]
[null,"Reported year is mandatory",{"$f":"IF(C4=\"\",\"\",IF(AND(C4>=\"2017\",C4<=\"2019\"),\"X\",\"\"))","v":""},null,"Code list","Label","Start Items","Number of items","UseHi-Consistency Checks","Equations - start","Nb of equations",null,null,null,null,null,"Code",null,"Label","Type of character","Row/column","Parent","Mandatory",null,null,"2ndConf","3rdConf",null,"Text to be displayed","Equation","Row/Col to display message","When rule can be applied"]
[null,null,null,null,1,"Products",0,36,"X",0,0,null,null,null,null,null,"N00",null,"NATURAL ENERGY INPUTS",0,9,44,"X",null,null,1,1,null,"Memo item >= total supply","OR(#44=\":\",#45=\":\",ROUND(SUM(#44),2)>=ROUND(SUM(#45), 2))",45,true]
[null,null,null,null,2,"Products",0,37,"X",{"$f":"J22+K22","v":0},1,null,null,null,null,null,"N01",null,"Fossil non-renewable natural energy inputs",0,10,9,"X",null,null,1,1,null,"Inconsistency in the territory-residence conversion","OR(#20=\":\",ROUND(SUM(#10,#11,#12,#13,#20),2)=ROUND(SUM(#8,#15,#16,#17,#18), 2))",20,true]
[null,null,null,null,3,"Key Indicators",{"$f":"G23+H23","v":37},24,null,{"$f":"J23+K23","v":1},0,null,null,null,null,null,"N02",null,"Nuclear non-renewable natural energy inputs",0,11,9,"X",null,null,1,1]
[null,null,null,null,4,"Bridging Items",{"$f":"G24+H24","v":61},13,"X",1,1,null,null,null,null,null,"N03",null,"Hydro based renewable natural energy inputs",0,12,9,"X",null,null,1,1]
[null,"Country label","Country code",null,5,"Sectors",{"$f":"G25+H25","v":74},87,"X",2,0,null,null,null,null,null,"N04",null,"Wind based renewable natural energy inputs",0,13,9,"X",null,null,1,1]
[null,"Austria","AT",null,6,"Empty",161,1,null,2,0,null,null,null,null,null,"N05",null,"Solar based renewable natural energy inputs",0,14,9,"X",null,null,1,1]
[null,"Belgium","BE",null,null,null,null,null,null,null,null,null,null,null,null,null,"N06",null,"Biomass based renewable natural energy inputs",0,15,9,"X",null,null,1,1]
[null,"Bulgaria","BG",null,null,null,null,null,null,"Type of character accepted",null,null,null,null,null,null,"N07",null,"Other renewable natural energy inputs",0,16,9,"X",null,null,1,1]
[null,"Croatia","HR",null,null,null,null,null,null,0,"Positive only",null,null,null,null,null,"P00",null,"ENERGY PRODUCTS",0,17,44,"X",null,null,1,1]
[null,"Cyprus","CY",null,null,null,null,null,null,1,"Any value",null,null,null,null,null,"P08",null,"Hard coal",0,18,17,"X",null,null,1,1]
[null,"Czechia","CZ",null,null,null,null,null,null,2,"Year",null,null,null,null,null,"P09",null,"Brown coal and peat",0,19,17,"X",null,null,1,1]
[null,"Denmark","DK",null,null,null,null,null,null,3,"Frozen",null,null,null,null,null,"P10",null,"Derived gases (= manufactured gases excl. biogas) ",0,20,17,"X",null,null,1,1]
[null,"Estonia","EE",null,null,null,null,null,null,4,"Percentage",null,null,null,null,null,"P11",null,"Secondary coal products (coke, coal tar, patent fuel, BKB and peat products)",0,21,17,"X",null,null,1,1]
[null,"Finland","FI",null,null,null,null,null,null,5,"Of which: total > sum(sub-totals)",null,null,null,null,null,"P12",null,"Crude oil, NGL, and other hydrocarbons (excl. bio)",0,22,17,"X",null,null,1,1]
[null,"France","FR",null,null,null,null,null,null,null,null,null,null,null,null,null,"P13",null,"Natural gas (without bio)",0,23,17,"X",null,null,1,1]
[null,"Germany","DE",null,null,null,null,null,null,null,null,null,null,null,null,null,"P14",null,"Motor spirit (without bio)",0,24,17,"X",null,null,1,1]
[null,"Greece","EL",null,"Number of decimals",null,null,null,null,null,null,null,null,null,null,null,"P15",null,"Kerosenes and jet fuels (without bio)",0,25,17,"X",null,null,1,1]
[null,"Hungary","HU",null,"0 decimals",null,null,null,null,null,null,null,null,null,null,null,"P16",null,"Naphtha",0,26,17,"X",null,null,1,1]
[null,"Ireland","IE",null,"1 decimal",null,null,null,null,null,null,null,null,null,null,null,"P17",null,"Transport diesel (without bio)",0,27,17,"X",null,null,1,1]
[null,"Italy","IT",null,"2 decimals",null,null,null,null,null,null,null,null,null,null,null,"P18",null,"Heating and other gasoil (without bio)",0,28,17,"X",null,null,1,1]
[null,"Latvia","LV",null,"3 decimals",null,null,null,null,null,null,null,null,null,null,null,"P19",null,"Residual fuel oil",0,29,17,"X",null,null,1,1]
[null,"Lithuania","LT",null,"4 decimals",null,"Warnings",null,null,null,null,null,null,null,null,null,"P20",null,"Refinery gas, ethane and LPG",0,30,17,"X",null,null,1,1]
[null,"Luxembourg","LU",null,"5 decimals",null,"Color","Description of the issue","Text to be displayed","Display message","Description",null,null,null,null,null,"P21",null,"Other petroleum products incl. additives/oxygenates and refinery feedstocks",0,31,17,"X",null,null,1,1]
[null,"Malta","MT",null,"6 decimals",null,123.456,"Default Value",null,null,"Default display for a data cell.",null,null,null,null,null,"P22",null,"Nuclear fuel",0,32,17,"X",null,null,1,1]
[null,"Netherlands","NL",null,"7 decimals",null,123.456,"Illegal Symbol","[@1]",null,"This error occurs when an illegal symbol is reported.",null,null,null,null,null,"P23",null,"Wood, wood waste and other solid biomass, charcoal",0,33,17,"X",null,null,1,1]
[null,"Poland","PL",null,null,null,123.456,"Consistency (Total <> Subtotal)","Reported total or sub-total does not equal sum of sub-items; the calculated sum of sub-items  = @1.","X","This consistency error is highlighted when all sub-items are reported and  the reported total or sub-total does not equal the sum of the sub-items and it calculates the correct total or sub-total based on the reported figures. ",null,null,null,null,null,"P24",null,"Liquid biofuels",0,34,17,"X",null,null,1,1]
[null,"Portugal","PT",null,null,null,123.456,"Consistency (Sub Sectors)","The reported total or sub-total cannot be calculated as one item is 'not available'.","X","This consistency error is highlighted when the total or the sub-total is reported and it is equal with the sum of the reported sub-items and one of the sub-items is 'not available'. The message is displayed in the total.",null,null,null,null,null,"P25",null,"Biogas",0,35,17,"X",null,null,1,1]
[null,"Romania","RO",null,null,null,123.456,"Consistency (Sub Sectors)","Calculated value = @1.",null,"This consistency error occurs when all figures are reported except one, which is reported as \"not available\". If all figures are correctly reported, the missing figure can be calculated from the remaining figures. The message is displayed in the cell where the symbol \":\" is reported.",null,null,null,null,null,"P26",null,"Electrical energy",0,36,17,"X",null,null,1,1]
[null,"Slovakia","SK",null,null,null,123.456,"Consistency (Total <= SubTotal)","The reported total or sub-total cannot be calculated as more than one sub-item is indicated as 'not available'.","X","This consistency error is highlighted when the total or the sub-total is reported and it is smaller or equal with the sum of the sub-items and several sub-items are 'not available'. ",null,null,null,null,null,"P27",null,"Heat",0,37,17,"X",null,null,1,1]
[null,"Slovenia","SI",null,null,null,123.456,"Consistency (Sub Sectors)","The reported total is equal to the sum-of the sub-items and more of the sub-items are 'not available'.","X","This consistency error is highlighted when the total or the sub-total is reported and it is equal to the sum of the sub-items, while several sub-items are 'not available'.\nCurrently activated; In order to deactivate this check, add an \"x\" to cell C15 in this parameter sheet.",null,null,null,null,null,"R00",null,"ENERGY RESIDUALS",0,38,44,"X",null,null,1,1]
[null,"Spain","ES",null,"Types of rounding",null,123.456,"Consistency (Equation)","@1","X","This message is displayed when the equations (see column AD in this sheet) are not verified. The message to be displayed is available in column AC.",null,null,null,null,null,"R28",null,"Renewable waste",0,39,38,"X",null,null,1,1]
[null,"Sweden","SE",null,"SUM(ROUND(V))",null,123.456,"Plausibility","Growth rate = @1 (Threshold +/-@2)","X","Plausibility issue",null,null,null,null,null,"R29",null,"Non-renewable waste",0,40,38,"X",null,null,1,1]
[null,"Iceland","IS",null,"ROUND(SUM(V))",null,123.456,"Plausibility and consistency","Growth rate = @1 (Threshold +/-@2)","X","Simultaneous plausibility and consistency issue.",null,null,null,null,null,"R30",null,"Energy losses all kinds of (during extraction, distribution, storage and transformation, and dissipative heat from end use)",0,41,38,"X",null,null,1,1]
[null,"Liechtenstein","LI",null,null,null,"c)10)","Default Footnote",null,null,"Default display of the footnotes.",null,null,null,null,null,"R31",null,"Energy incorporated in products for non-energy use",0,42,38,"X",null,null,1,1]
[null,"Norway","NO",null,null,null,"a)21)","Illegal footnote","@1) No footnote description.",null,"This error occurs when a footnote is included, but there is not text in the footnote area.",null,null,null,null,null,"STADIF",null,"Statistical Differences",1,43,44,"X",null,null,1,1]
[null,"Switzerland","CH",null,null,null,"a)21)","Illegal footnote","@1) Wrong footnote number.",null,"This error occurs when the footnote includes a number that does not exist in the footnote area.",null,null,null,null,null,"TOTAL",null,"TOTAL SUPPLY",1,44,0,"X",null,null,1,1]
[null,"United Kingdom","UK",null,null,null,"a)21)","Illegal footnote","@1) Wrong footnote letter.",null,"This error occurs when the footnote includes a letter that does not exist in the footnote area.",null,null,null,null,null,"P00w",null,"of which (memo): Supply of ENERGY PRODUCTS for own use",0,45,0,null,null,null,1,1]
[null,"Bosnia and Herzegovina","BA",null,null,null,"a)21)","Illegal footnote","Wrong footnote ending [@1].",null,"This error occurs when the footnote does not have a parenthesis at the end.",null,null,null,null,null,"PEFA_IND01",null,"Extraction of natural energy inputs by economic activities",0,9,0,"X",null,null,1,1]
[null,"Montenegro","ME",null,null,null,"a)21)","Illegal footnote","'@1' flag not allowed with value '@2'.",null,"This error occurs when the footnote cannot be used together with what was reported in the data cell.",null,null,null,null,null,"PEFA_IND02",null,"Domestic production of energy products",0,10,0,"X",null,null,1,1]
[null,"Moldova","MD",null,null,null,"a)21)","Illegal footnote","@1","X","This check is done for all footnotes and, depending on the error, one of the above five messages (cell I56-I60) will be displayed.",null,null,null,null,null,"PEFA_IND03",null,"Intermediate consumption of energy products",0,11,0,"X",null,null,1,1]
[null,"North Macedonia","MK",null,null,null,"c)","Confidentiality error","Secondary confidentiality required under sector @1 (see 'instructions' sheet).","X","This confidentiality error is highlighted when only one sub-item (i.e. this highlighted one) is flagged confidential. In such a case it is recommended to flag additional sub-items (secondary confidentiality flag 'd') on the same hierarchical MF-level in order to enable displaying the total or sub-total. ",null,null,null,null,null,"PEFA_IND04",null,"Household consumption of energy products",0,12,0,"X",null,null,1,1]
[null,"Albania ","AL ",null,null,null,"c)","Confidentiality warning","Confidentiality not correctly applied (see 'instructions' sheet).","X","This confidentiality error is highlighted when a total or sub-total is flagged confidential although it should not because one or two sub-items are flagged confidential. In such cases it is recommended to flag additional sub-items (secondary confidentiality) in order to enable displaying the total or sub-total. Also this confidentiality error is highlighted when the c) flag is used for zero or 'not available' cells.   ",null,null,null,null,null,"PEFA_IND05",null,"Use of waste for energetic purposes",0,13,0,"X",null,null,1,1]
[null,"Serbia","RS",null,null,null,"c)","Frozen row",null,null,"Not evaluated.",null,null,null,null,null,"PEFA_IND06",null,"Net domestic energy use",0,14,0,"X",null,null,1,1]
[null,"Türkiye","TR",null,null,null,123.456,"Of which","Value should be smaller or equal to the value (@2) in sheet '@1'.","X","An error is displayed if the \"of which\" value is bigger than the one to be compared with (e.g. if PM2.5>PM10)",null,null,null,null,null,"PEFA_IND06a",null,"    Net domestic energy use for energy purposes",0,15,0,"X",null,null,1,1]
[null,"Ukraine","UA",null,null,null,123.456,"Not applicable","This cell is supposed to be 'not applicable'.","X","Cells flagged as 'not applicable'",null,null,null,null,null,"PEFA_IND06b",null,"    Net domestic energy use for non-energy purposes",0,16,0,"X",null,null,1,1]
[null,"Kosovo*","XK",null,null,null,"c)10)","Eurostat reserved flag","@1","X","Raised only if option 'accept Eurostat flag use' option (cell C20) is activated. Does not take the lead on standard footnote error. The display message is added as comment.",null,null,null,null,null,"PEFA_IND07",null,"Total energy input/output",0,17,0,"X",null,null,1,1]
[null,null,null,null,null,null,123.456,"Mandatory cell","This cell is mandatory ('not available' symbol is not allowed)","X","This error occurs when a 'not available' symbol is used on a mandatory cell.",null,null,null,null,null,"PEFA_IND08",null,"Emission-relevant use of energy",0,18,0,"X",null,null,1,1]
[null,"year code","year label",null,null,null,"a)21)","SDMX footnote syntax","@1) is not a valid ‘free-text’ footnote symbol ",null,"Occurs when a non numeric or extra numeric (<0 or >100) is used as ‘free-text’ footnote symbol on the first position of the SDMX format(1st position = ‘free-text’ footnote)",null,null,null,null,null,"PEFA_IND09",null,"Direct energy input (DEI)",0,19,0,"X",null,null,1,1]
[null,2000,2000,null,null,null,"a)21)","SDMX footnote syntax","@1) is not a valid pre-defined footnote symbol expressing confidentiality ",null,"Occurs when a non-confidential pre-defined footnote symbol is used in second position of the SDMX format BUT PRE-DEFINED FOOTNOTE SYMBOL DOES EXIST",null,null,null,null,null,"PEFA_IND10",null,"Direct energy outputs",0,20,0,"X",null,null,1,1]
[null,2001,2001,null,null,null,"a)21)","SDMX footnote syntax","@1) is not a valid pre-defined footnote symbol",null,"Occurs when a non-valid footnote symbol is used in second position of SDMX format AND pre-defined footnote symbol does not exist at all",null,null,null,null,null,"PEFA_IND11",null,"Net additions to stock (calculated)",1,21,0,"X",null,null,1,1]
[null,2002,2002,null,null,null,"a)21)","Illegal footnote","Wrong use of brackets (footnote separators)",null,"Occurs when flag is coditied like this: c))b)",null,null,null,null,null,"PEFA_IND12",null,"Net additions to stock (reported)",1,22,0,"X",null,null,1,1]
[null,2003,2003,null,null,null,"a)21)","SDMX footnote syntax","@1) is not a valid pre-defined footnote symbol for the third (and more) position",null,"Occurs when a pre-defined footnote symbol expressing confidentiality is used in third position of SDMX format like ))c)",null,null,null,null,null,"PEFA_IND13",null,"Domestic energy consumption",1,23,0,"X",null,null,1,1]
[null,2004,2004,null,null,null,"a)21)","SDMX footnote syntax","@1) is not a valid footnote symbol for the third (and more) position",null,"Occurs when the footnote symbol (letter or number) is not allowed for the third position of SDMX format",null,null,null,null,null,"PEFA_IND14",null,"Imports of energy products and energy residuals (waste for energetic use)",0,24,0,"X",null,null,1,1]
[null,2005,2005,null,null,null,"a)21)","Illegal footnote","@1) is duplicated",null,"Occurs when a footnote symbol is used twice. (does not apply when an Excel formula is used)",null,null,null,null,null,"PEFA_IND14a",null,"Imports of energy products",0,25,0,"X",null,null,1,1]
[null,2006,2006,null,null,null,"a)21)","Classical Flag syntax","@1) other confidential flag used (@2)",null,"Occurs when more than one confidential flag is used (c, d or n)",null,null,null,null,null,"PEFA_IND14b",null,"Imports of energy residuals (waste for energetic use)",0,26,0,"X",null,null,1,1]
[null,2007,2007,null,null,null,"a)21)","Illegal footnote","@1) is a pre-defined footnote symbol that can be set by Eurostat only",null,"Occurs when a n) or s) footnote symbol is used directly by MS (and respective option/switch disabled)",null,null,null,null,null,"PEFA_IND15",null,"Domestic processed output",0,27,0,"X",null,null,1,1]
[null,2008,2008,null,null,null,123.456,"Missing country code","Country is not selected on the 'intro' sheet.","X","Occurs when no country is selected on the 'intro' sheet.",null,null,null,null,null,"PEFA_IND16",null,"Exports of energy products and residuals",0,28,0,"X",null,null,1,1]
[null,2009,2009,null,null,null,123.456,"Missing reference year","Reference year is not selected on the 'intro' sheet.","X","Occurs when no reference year is selected on the 'intro' sheet.",null,null,null,null,null,"PEFA_IND17",null,"Net changes (use minus supply) of energy products and residuals in inventories and produced assets",1,29,0,"X",null,null,1,1]
[null,2010,2010,null,null,null,123.456,"Missing responsible person","Responsible person is not specified on the 'intro' sheet.","X","Occurs when no responsible person is not specified on the 'intro' sheet.",null,null,null,null,null,"PEFA_IND17a",null,"Supply of energy residuals from stock",1,30,0,"X",null,null,1,1]
[null,2011,2011,null,null,null,null,null,null,null,null,null,null,null,null,null,"PEFA_IND17b",null,"Additions (use) of energy products and residuals to stocks",1,31,0,"X",null,null,1,1]
[null,2012,2012,null,null,null,null,null,null,null,null,null,null,null,null,null,"PEFA_IND18",null,"Statistical discrepancy between supply and use of energy products and residuals",1,32,0,"X",null,null,1,1]
[null,2013,2013,null,null,null,null,null,null,null,null,null,null,null,null,null,"DEU_RES",null,"Energy use by resident units (domestic energy use) – residence principle",0,8,0,"X",null,null,1,1]
[null,2014,2014,null,null,null,"File Export Parameters",null,null,null,null,null,null,null,null,null,"TOT_NRA",null,"(−) Energy use by resident units, fuel purchased abroad – total",1,9,0,"X",null,null,1,1]
[null,2015,2015,null,null,null,"Flat File separator",null,null,"<TAB>"," -> Type <TAB> for tabulation",null,null,null,null,null,"NRA_FISH",null,"      Energy use by resident units, fuel purchased abroad – fishing vessels",1,10,9,"X",null,null,1,1]
[null,2016,2016,null,null,null,"File Extension",null,null,".txt"," -> Do not forget the \".\"",null,null,null,null,null,"NRA_I60",null,"      Energy use by resident units, fuel purchased abroad – land transport",1,11,9,"X",null,null,1,1]
[null,2017,2017,null,null,null,"Text Footnotes Separator",null,null,"|",null,null,null,null,null,null,"NRA_I61",null,"      Energy use by resident units, fuel purchased abroad – water transport",1,12,9,"X",null,null,1,1]
[null,2018,2018,null,null,null,"Add Empty Lines",null,null,"X"," -> X to activate, empty otherwise",null,null,null,null,null,"NRA_I62",null,"      Energy use by resident units, fuel purchased abroad – air transport",1,13,9,"X",null,null,1,1]
[null,2019,2019,null,null,null,"Add M flag",null,null,"X"," -> X to activate, empty otherwise",null,null,null,null,null,"TOT_NRES",null,"(+) Energy use by non-resident units (only if included in gross inland energy consumption), fuel purchased on the territory – total",0,14,0,"X",null,null,1,1]
[null,2020,2020,null,null,null,"Export with missing codes (Debug)",null,null,"X"," -> X to activate, empty otherwise",null,null,null,null,null,"NRES_I60",null,"      Energy use by non-resident units (only if included in gross inland energy consumption), fuel purchased on the territory – land transport",0,15,14,"X",null,null,1,1]
[null,2021,2021,null,null,null,null,null,null,null,null,null,null,null,null,null,"NRES_I61",null,"      Energy use by non-resident units (only if included in gross inland energy consumption), fuel purchased on the territory – water transport",0,16,14,"X",null,null,1,1]
[null,2022,2022,null,null,null,null,null,null,null,null,null,null,null,null,null,"NRES_I62",null,"      Energy use by non-resident units (only if included in gross inland energy consumption), fuel purchased on the territory – air transport",0,17,14,"X",null,null,1,1]
[null,2023,2023,null,null,null,null,null,null,null,null,null,null,null,null,null,"ADJ_OTH",null,"(+) Other adjustments and statistical differences",1,18,0,"X",null,null,1,1]
[null,null,null,null,null,null,null,null,null,null,null,null,null,null,null,null,"MEMO_BEYO5AQ",null,"         of which (memo): energy flows not reported in energy statistics but included in PEFA (bridging item 1)",0,19,0,null,null,null,1,1]
[null,null,null,null,null,null,null,null,null,null,null,null,null,null,null,null,"GIEC_TER",null,"(=) Gross inland consumption - territory principle",0,20,0,"X",null,null,1,1]
[null,null,null,null,null,null,null,null,null,null,null,null,null,null,null,null,"A_U   01-99",null,"Total NACE industries",0,8,180,"X",null,null,1,1]
[null,null,null,null,null,null,null,null,null,null,null,null,null,null,null,null,"A",null,"Agriculture, forestry and fishing",0,10,8,"X",null,null,1,1]
[null,null,null,null,null,null,null,null,null,null,null,null,null,null,null,null,"A01",null,"Crop and animal production, hunting and related service activities",0,12,10,"X",null,null,1,1]
[null,null,null,null,null,null,null,null,null,null,null,null,null,null,null,null,"A02",null,"Forestry and logging",0,14,10,"X",null,null,1,1]
[null,null,null,null,null,null,null,null,null,null,null,null,null,null,null,null,"A03",null,"Fishing and aquaculture",0,16,10,"X",null,null,1,1]
[null,null,null,null,null,null,null,null,null,null,null,null,null,null,null,null,"B",null,"Mining and quarrying",0,18,8,"X",null,null,1,1]
[null,null,null,null,null,null,null,null,null,null,null,null,null,null,null,null,"C",null,"Manufacturing",0,20,8,"X",null,null,1,1]
[null,null,null,null,null,null,null,null,null,null,null,null,null,null,null,null,"C10-C12",null,"Manufacture of food products, beverages and tobacco\nproducts",0,22,20,"X",null,null,1,1]
[null,null,null,null,null,null,null,null,null,null,null,null,null,null,null,null,"C13-C15",null,"Manufacture of textiles, wearing apparel and leather products",0,24,20,"X",null,null,1,1]
[null,null,null,null,null,null,null,null,null,null,null,null,null,null,null,null,"C16",null,"Manufacture of wood and of products of wood and cork, except furniture; manufacture of articles of straw and plaiting materials",0,26,20,"X",null,null,1,1]
[null,null,null,null,null,null,null,null,null,null,null,null,null,null,null,null,"C17",null,"Manufacture of paper and paper products",0,28,20,"X",null,null,1,1]
[null,null,null,null,null,null,null,null,null,null,null,null,null,null,null,null,"C18",null,"Printing and reproduction of recorded media",0,30,20,"X",null,null,1,1]
[null,null,null,null,null,null,null,null,null,null,null,null,null,null,null,null,"C19",null,"Manufacture of coke and refined petroleum products",0,32,20,"X",null,null,1,1]
[null,null,null,null,null,null,null,null,null,null,null,null,null,null,null,null,"C20",null,"Manufacture of chemicals and chemical products",0,34,20,"X",null,null,1,1]
[null,null,null,null,null,null,null,null,null,null,null,null,null,null,null,null,"C21",null,"Manufacture of basic pharmaceutical products and pharmaceutical preparations",0,36,20,"X",null,null,1,1]
[null,null,null,null,null,null,null,null,null,null,null,null,null,null,null,null,"C22",null,"Manufacture of rubber and plastic products",0,38,20,"X",null,null,1,1]
[null,null,null,null,null,null,null,null,null,null,null,null,null,null,null,null,"C23",null,"Manufacture of other non-metallic mineral products",0,40,20,"X",null,null,1,1]
[null,null,null,null,null,null,null,null,null,null,null,null,null,null,null,null,"C24",null,"Manufacture of basic metals",0,42,20,"X",null,null,1,1]
[null,null,null,null,null,null,null,null,null,null,null,null,null,null,null,null,"C25",null,"Manufacture of fabricated metal products, except machinery and equipment",0,44,20,"X",null,null,1,1]
[null,null,null,null,null,null,null,null,null,null,null,null,null,null,null,null,"C26",null,"Manufacture of computer, electronic and optical products",0,46,20,"X",null,null,1,1]
[null,null,null,null,null,null,null,null,null,null,null,null,null,null,null,null,"C27",null,"Manufacture of electrical equipment",0,48,20,"X",null,null,1,1]
[null,null,null,null,null,null,null,null,null,null,null,null,null,null,null,null,"C28",null,"Manufacture of machinery and equipment n.e.c.",0,50,20,"X",null,null,1,1]
[null,null,null,null,null,null,null,null,null,null,null,null,null,null,null,null,"C29",null,"Manufacture of motor vehicles, trailers and semi-trailers",0,52,20,"X",null,null,1,1]
[null,null,null,null,null,null,null,null,null,null,null,null,null,null,null,null,"C30",null,"Manufacture of other transport equipment",0,54,20,"X",null,null,1,1]
[null,null,null,null,null,null,null,null,null,null,null,null,null,null,null,null,"C31_C32",null,"Manufacture of furniture; other manufacturing",0,56,20,"X",null,null,1,1]
[null,null,null,null,null,null,null,null,null,null,null,null,null,null,null,null,"C33",null,"Repair and installation of machinery and equipment",0,58,20,"X",null,null,1,1]
[null,null,null,null,null,null,null,null,null,null,null,null,null,null,null,null,"D",null,"Electricity, gas, steam and air conditioning supply",0,60,8,"X",null,null,1,1]
[null,null,null,null,null,null,null,null,null,null,null,null,null,null,null,null,"E",null,"Water supply; sewerage, waste management and remediation activities",0,62,8,"X",null,null,1,1]
[null,null,null,null,null,null,null,null,null,null,null,null,null,null,null,null,"E36",null,"Water collection, treatment and supply",0,64,62,"X",null,null,1,1]
[null,null,null,null,null,null,null,null,null,null,null,null,null,null,null,null,"E37-E39",null,"Sewerage, waste management, remediation activities",0,66,62,"X",null,null,1,1]
[null,null,null,null,null,null,null,null,null,null,null,null,null,null,null,null,"F",null,"Construction",0,68,8,"X",null,null,1,1]
[null,null,null,null,null,null,null,null,null,null,null,null,null,null,null,null,"G",null,"Wholesale and retail trade; repair of motor vehicles and motorcycles",0,70,8,"X",null,null,1,1]
[null,null,null,null,null,null,null,null,null,null,null,null,null,null,null,null,"G45",null,"Wholesale and retail trade and repair of motor vehicles and motorcycles",0,72,70,"X",null,null,1,1]
[null,null,null,null,null,null,null,null,null,null,null,null,null,null,null,null,"G46",null,"Wholesale trade, except of motor vehicles and motorcycles",0,74,70,"X",null,null,1,1]
[null,null,null,null,null,null,null,null,null,null,null,null,null,null,null,null,"G47",null,"Retail trade, except of motor vehicles and motorcycles",0,76,70,"X",null,null,1,1]
[null,null,null,null,null,null,null,null,null,null,null,null,null,null,null,null,"H",null,"Transportation and storage",0,78,8,"X",null,null,1,1]
[null,null,null,null,null,null,null,null,null,null,null,null,null,null,null,null,"H49",null,"Land transport and transport via pipelines",0,80,78,"X",null,null,1,1]
[null,null,null,null,null,null,null,null,null,null,null,null,null,null,null,null,"H50",null,"Water transport",0,82,78,"X",null,null,1,1]
[null,null,null,null,null,null,null,null,null,null,null,null,null,null,null,null,"H51",null,"Air transport",0,84,78,"X",null,null,1,1]
[null,null,null,null,null,null,null,null,null,null,null,null,null,null,null,null,"H52",null,"Warehousing and support activities for transportation",0,86,78,"X",null,null,1,1]
[null,null,null,null,null,null,null,null,null,null,null,null,null,null,null,null,"H53",null,"Postal and courier activities",0,88,78,"X",null,null,1,1]
[null,null,null,null,null,null,null,null,null,null,null,null,null,null,null,null,"I",null,"Accommodation and food service activities",0,90,8,"X",null,null,1,1]
[null,null,null,null,null,null,null,null,null,null,null,null,null,null,null,null,"J",null,"Information and communication",0,92,8,"X",null,null,1,1]
[null,null,null,null,null,null,null,null,null,null,null,null,null,null,null,null,"J58",null,"Publishing activities",0,94,92,"X",null,null,1,1]
[null,null,null,null,null,null,null,null,null,null,null,null,null,null,null,null,"J59_J60",null,"Motion picture, video, television programme production; programming and broadcasting activities",0,96,92,"X",null,null,1,1]
[null,null,null,null,null,null,null,null,null,null,null,null,null,null,null,null,"J61",null,"Telecommunications",0,98,92,"X",null,null,1,1]
[null,null,null,null,null,null,null,null,null,null,null,null,null,null,null,null,"J62_J63",null,"Computer programming, consultancy, and information service activities",0,100,92,"X",null,null,1,1]
[null,null,null,null,null,null,null,null,null,null,null,null,null,null,null,null,"K",null,"Financial and insurance activities",0,102,8,"X",null,null,1,1]
[null,null,null,null,null,null,null,null,null,null,null,null,null,null,null,null,"K64",null,"Financial service activities, except insurance and pension funding",0,104,102,"X",null,null,1,1]
[null,null,null,null,null,null,null,null,null,null,null,null,null,null,null,null,"K65",null,"Insurance, reinsurance and pension funding, except compulsory social security",0,106,102,"X",null,null,1,1]
[null,null,null,null,null,null,null,null,null,null,null,null,null,null,null,null,"K66",null,"Activities auxiliary to financial services and insurance activities",0,108,102,"X",null,null,1,1]
[null,null,null,null,null,null,null,null,null,null,null,null,null,null,null,null,"L",null,"Real estate activities",5,110,8,"X",null,null,1,1]
[null,null,null,null,null,null,null,null,null,null,null,null,null,null,null,null,"L68A",null,"Of which: Imputed rents of owner-occupied dwellings",0,112,110,null,null,null,1,1]
[null,null,null,null,null,null,null,null,null,null,null,null,null,null,null,null,"M",null,"Professional, scientific and technical activities",0,114,8,"X",null,null,1,1]
[null,null,null,null,null,null,null,null,null,null,null,null,null,null,null,null,"M69_M70",null,"Legal and accounting activities; activities of head offices; management consultancy activities",0,116,114,"X",null,null,1,1]
[null,null,null,null,null,null,null,null,null,null,null,null,null,null,null,null,"M71",null,"Architectural and engineering activities; technical testing and analysis",0,118,114,"X",null,null,1,1]
[null,null,null,null,null,null,null,null,null,null,null,null,null,null,null,null,"M72",null,"Scientific research and development",0,120,114,"X",null,null,1,1]
[null,null,null,null,null,null,null,null,null,null,null,null,null,null,null,null,"M73",null,"Advertising and market research",0,122,114,"X",null,null,1,1]
[null,null,null,null,null,null,null,null,null,null,null,null,null,null,null,null,"M74_M75",null,"Other professional, scientific and technical activities; veterinary activities",0,124,114,"X",null,null,1,1]
[null,null,null,null,null,null,null,null,null,null,null,null,null,null,null,null,"N",null,"Administrative and support service activities",0,126,8,"X",null,null,1,1]
[null,null,null,null,null,null,null,null,null,null,null,null,null,null,null,null,"N77",null,"Rental and leasing activities",0,128,126,"X",null,null,1,1]
[null,null,null,null,null,null,null,null,null,null,null,null,null,null,null,null,"N78",null,"Employment activities",0,130,126,"X",null,null,1,1]
[null,null,null,null,null,null,null,null,null,null,null,null,null,null,null,null,"N79",null,"Travel agency, tour operator reservation service and related activities",0,132,126,"X",null,null,1,1]
[null,null,null,null,null,null,null,null,null,null,null,null,null,null,null,null,"N80-N82",null,"Security and investigation, service and landscape, office administrative and support activities",0,134,126,"X",null,null,1,1]
[null,null,null,null,null,null,null,null,null,null,null,null,null,null,null,null,"O",null,"Public administration and defence; compulsory social security",0,136,8,"X",null,null,1,1]
[null,null,null,null,null,null,null,null,null,null,null,null,null,null,null,null,"P",null,"Education",0,138,8,"X",null,null,1,1]
[null,null,null,null,null,null,null,null,null,null,null,null,null,null,null,null,"Q",null,"Human health and social work activities",0,140,8,"X",null,null,1,1]
[null,null,null,null,null,null,null,null,null,null,null,null,null,null,null,null,"Q86",null,"Human health activities",0,142,140,"X",null,null,1,1]
[null,null,null,null,null,null,null,null,null,null,null,null,null,null,null,null,"Q87_Q88",null,"Residential care activities and social work activities without accommodation",0,144,140,"X",null,null,1,1]
[null,null,null,null,null,null,null,null,null,null,null,null,null,null,null,null,"R",null,"Arts, entertainment and recreation",0,146,8,"X",null,null,1,1]
[null,null,null,null,null,null,null,null,null,null,null,null,null,null,null,null,"R90-R92",null,"Creative, arts and entertainment activities; libraries, archives, museums and other cultural activities; gambling and betting activities",0,148,146,"X",null,null,1,1]
[null,null,null,null,null,null,null,null,null,null,null,null,null,null,null,null,"R93",null,"Sports activities and amusement and recreation activities",0,150,146,"X",null,null,1,1]
[null,null,null,null,null,null,null,null,null,null,null,null,null,null,null,null,"S",null,"Other service activities",0,152,8,"X",null,null,1,1]
[null,null,null,null,null,null,null,null,null,null,null,null,null,null,null,null,"S94",null,"Activities of membership organisations",0,154,152,"X",null,null,1,1]
[null,null,null,null,null,null,null,null,null,null,null,null,null,null,null,null,"S95",null,"Repair of computers and personal and household goods",0,156,152,"X",null,null,1,1]
[null,null,null,null,null,null,null,null,null,null,null,null,null,null,null,null,"S96",null,"Other personal service activities",0,158,152,"X",null,null,1,1]
[null,null,null,null,null,null,null,null,null,null,null,null,null,null,null,null,"T",null,"Activities of households as employers; undifferentiated goods- and services-producing activities of households for own use",0,160,8,"X",null,null,1,1]
[null,null,null,null,null,null,null,null,null,null,null,null,null,null,null,null,"U",null,"Activities of extraterritorial organisations and bodies",0,162,8,"X",null,null,1,1]
[null,null,null,null,null,null,null,null,null,null,null,null,null,null,null,null,"HH",null,"Total activities by households",0,164,180,"X",null,null,1,1]
[null,null,null,null,null,null,null,null,null,null,null,null,null,null,null,null,"HH_HEAT",null,"Heating/cooling activities by households",0,166,164,"X",null,null,1,1]
[null,null,null,null,null,null,null,null,null,null,null,null,null,null,null,null,"HH_TRA",null,"Transport activities by households",0,168,164,"X",null,null,1,1]
[null,null,null,null,null,null,null,null,null,null,null,null,null,null,null,null,"HH_OTH",null,"Other activities by households",0,170,164,"X",null,null,1,1]
[null,null,null,null,null,null,null,null,null,null,null,null,null,null,null,null,"CHINV_PA",null,"Changes in inventories and produced assets",1,172,180,"X",null,null,1,1]
[null,null,null,null,null,null,null,null,null,null,null,null,null,null,null,null,"STADIF",null,"Statistical Differences",1,174,180,"X",null,null,1,1]
[null,null,null,null,null,null,null,null,null,null,null,null,null,null,null,null,"ROW_ACT",null,"Rest of the World - economic activities",0,176,180,"X",null,null,1,1]
[null,null,null,null,null,null,null,null,null,null,null,null,null,null,null,null,"ENV",null,"Environment",0,178,180,"X",null,null,1,1]
[null,null,null,null,null,null,null,null,null,null,null,null,null,null,null,null,"TSUE",null,"TOTAL SUPPLY OF NATURAL INPUTS, PRODUCTS, AND RESIDUALS",1,180,0,"X",null,null,1,1]
[null,null,null,null,null,null,null,null,null,null,null,null,null,null,null,null,"BRG",null,"Bridging Items",null,5,0,"X",null,null,1,1]

{"sheet":"NotApp","index":6,"n_rows":253,"n_cols":92,"rows_kept":253,"cut":false,"hidden":true,"merged":[[90,2,90,3],[130,2,130,3],[170,2,170,3],[231,2,231,3],[122,2,122,3],[123,2,123,3],[124,2,124,3],[125,2,125,3],[126,2,126,3],[127,2,127,3],[128,2,128,3],[129,2,129,3],[149,2,149,3],[150,2,150,3],[151,2,151,3],[152,2,152,3],[153,2,153,3],[154,2,154,3],[143,2,143,3],[144,2,144,3],[145,2,145,3],[146,2,146,3],[147,2,147,3],[148,2,148,3],[113,2,113,3],[114,2,114,3],[115,2,115,3],[116,2,116,3],[117,2,117,3],[118,2,118,3],[119,2,119,3],[120,2,120,3],[121,2,121,3],[86,2,86,3],[87,2,87,3],[88,2,88,3],[89,2,89,3],[94,0,129,0],[94,2,94,3],[95,2,95,3],[96,2,96,3],[97,2,97,3],[98,2,98,3],[99,2,99,3],[100,2,100,3],[101,2,101,3],[102,2,102,3],[103,2,103,3],[104,2,104,3],[105,2,105,3],[106,2,106,3],[107,2,107,3],[108,2,108,3],[109,2,109,3],[110,2,110,3],[111,2,111,3],[112,2,112,3],[77,2,77,3],[78,2,78,3],[79,2,79,3],[80,2,80,3],[81,2,81,3],[82,2,82,3],[83,2,83,3],[84,2,84,3],[85,2,85,3],[54,0,89,0],[54,2,54,3],[55,2,55,3],[56,2,56,3],[57,2,57,3],[58,2,58,3],[59,2,59,3],[60,2,60,3],[61,2,61,3],[62,2,62,3],[63,2,63,3],[64,2,64,3],[65,2,65,3],[66,2,66,3],[67,2,67,3],[68,2,68,3],[69,2,69,3],[70,2,70,3],[71,2,71,3],[72,2,72,3],[73,2,73,3],[74,2,74,3],[75,2,75,3],[76,2,76,3],[5,5,13,5],[5,6,13,6],[5,7,13,7],[5,8,13,8],[5,9,13,9],[5,10,13,10],[5,17,13,17],[5,18,13,18],[5,19,13,19],[5,20,13,20],[5,21,13,21],[5,22,13,22],[5,11,13,11],[5,12,13,12],[5,13,13,13],[5,14,13,14],[5,15,13,15],[5,16,13,16],[5,29,13,29],[5,30,13,30],[5,31,13,31],[5,32,13,32],[5,33,13,33],[5,34,13,34],[5,23,13,23],[5,24,13,24],[5,25,13,25],[5,26,13,26],[5,27,13,27],[5,28,13,28],[5,41,13,41],[5,42,13,42],[5,43,13,43],[5,44,13,44],[5,45,13,45],[5,46,13,46],[5,35,13,35],[5,36,13,36],[5,37,13,37],[5,38,13,38],[5,39,13,39],[5,40,13,40],[5,56,13,56],[5,57,13,57],[5,58,13,58],[5,47,13,47],[5,48,13,48],[5,49,13,49],[5,50,13,50],[5,51,13,51],[5,52,13,52],[14,2,14,3],[15,2,15,3],[16,2,16,3],[17,2,17,3],[18,2,18,3],[19,2,19,3],[5,83,13,83],[5,84,13,84],[5,77,13,77],[5,78,13,78],[5,79,13,79],[5,80,13,80],[5,81,13,81],[5,82,13,82],[5,71,13,71],[5,72,13,72],[5,73,13,73],[5,74,13,74],[5,75,13,75],[5,76,13,76],[5,65,13,65],[5,66,13,66],[5,67,13,67],[5,55,13,55],[20,2,20,3],[21,2,21,3],[22,2,22,3],[23,2,23,3],[24,2,24,3],[25,2,25,3],[5,89,13,89],[5,90,13,90],[5,91,13,91],[5,85,13,85],[5,86,13,86],[5,87,13,87],[5,88,13,88],[5,68,13,68],[5,69,13,69],[5,70,13,70],[5,59,13,59],[5,60,13,60],[5,61,13,61],[5,62,13,62],[5,63,13,63],[5,64,13,64],[5,53,13,53],[5,54,13,54],[32,2,32,3],[33,2,33,3],[34,2,34,3],[35,2,35,3],[36,2,36,3],[37,2,37,3],[26,2,26,3],[27,2,27,3],[28,2,28,3],[29,2,29,3],[30,2,30,3],[31,2,31,3],[44,2,44,3],[45,2,45,3],[46,2,46,3],[47,2,47,3],[48,2,48,3],[49,2,49,3],[38,2,38,3],[39,2,39,3],[40,2,40,3],[41,2,41,3],[42,2,42,3],[43,2,43,3],[164,2,164,3],[165,2,165,3],[166,2,166,3],[155,2,155,3],[156,2,156,3],[157,2,157,3],[158,2,158,3],[159,2,159,3],[160,2,160,3],[161,2,161,3],[162,2,162,3],[163,2,163,3],[198,2,198,3],[167,2,167,3],[168,2,168,3],[169,2,169,3],[174,0,209,0],[174,2,174,3],[175,2,175,3],[176,2,176,3],[177,2,177,3],[178,2,178,3],[179,2,179,3],[134,0,169,0],[134,2,134,3],[135,2,135,3],[136,2,136,3],[137,2,137,3],[138,2,138,3],[139,2,139,3],[140,2,140,3],[141,2,141,3],[142,2,142,3],[186,2,186,3],[187,2,187,3],[188,2,188,3],[192,2,192,3],[193,2,193,3],[194,2,194,3],[195,2,195,3],[196,2,196,3],[197,2,197,3],[190,2,190,3],[191,2,191,3],[180,2,180,3],[181,2,181,3],[182,2,182,3],[183,2,183,3],[184,2,184,3],[185,2,185,3],[189,2,189,3],[236,2,236,3],[204,2,204,3],[205,2,205,3],[206,2,206,3],[207,2,207,3],[208,2,208,3],[209,2,209,3],[199,2,199,3],[200,2,200,3],[201,2,201,3],[202,2,202,3],[203,2,203,3],[221,2,221,3],[219,2,219,3],[222,2,222,3],[223,2,223,3],[224,2,224,3],[225,2,225,3],[235,2,235,3],[226,2,226,3],[227,2,227,3],[228,2,228,3],[229,2,229,3],[230,2,230,3],[14,0,50,0],[50,2,50,3],[249,2,249,3],[250,2,250,3],[252,2,252,3],[240,0,252,0],[240,2,240,3],[241,2,241,3],[242,2,242,3],[243,2,243,3],[244,2,244,3],[245,2,245,3],[246,2,246,3],[247,2,247,3],[248,2,248,3],[251,2,251,3],[213,0,236,0],[213,2,213,3],[214,2,214,3],[215,2,215,3],[216,2,216,3],[217,2,217,3],[218,2,218,3],[220,2,220,3]]}
[]
[]
[]
[null,null,null,null,null," ",null,null,null,null,null,null,"INDUSTRIES (NACE rev 2)",null,null,null,null,null,null,null,"INDUSTRIES (NACE rev 2)",null,null,null,null,null,null,null,null,null,null,null,"INDUSTRIES (NACE rev 2)",null,null,null,null,null,null,null,"INDUSTRIES (NACE rev 2)",null,null,null,null,null,null,null,null,"INDUSTRIES (NACE rev 2)",null,null,null,null,null,null,"INDUSTRIES (NACE rev 2)",null,null,null,null,null,null,null,null,null,null,null,null,null,null,null,"INDUSTRIES (NACE rev 2)",null,null,null,null,null,null,null,null,null,null,"HOUSEHOLDS",null,null,null,"ACCUMULATION","STADIF","REST OF THE WORLD","ENVIRONMENT"]
[null,null,null,null,null,"A_U","A","A01","A02","A03","B","C","C10-C12","C13-C15","C16","C17","C18","C19","C20","C21","C22","C23","C24","C25","C26","C27","C28","C29","C30","C31_C32","C33","D","E","E36","E37-E39","F","G","G45","G46","G47","H","H49","H50","H51","H52","H53","I","J","J58","J59_J60","J61","J62_J63","K","K64","K65","K66","L","L68A","M","M69_M70","M71","M72","M73","M74_M75","N","N77","N78","N79","N80-N82","O","P","Q","Q86","Q87_Q88","R","R90-R92","R93","S","S94","S95","S96","T","U","HH","HH_HEAT","HH_TRA","HH_OTH","CHINV_PA","STADIF","ROW_ACT","ENV","TSUE"]
[null,null,null,null,null,"Total NACE industries","Agriculture, forestry and fishing","Crop and animal production, hunting and related service activities","Forestry and logging","Fishing and aquaculture","Mining and quarrying","Manufacturing","Manufacture of food products, beverages and tobacco\nproducts","Manufacture of textiles, wearing apparel and leather products","Manufacture of wood and of products of wood and cork, except furniture; manufacture of articles of straw and plaiting materials","Manufacture of paper and paper products","Printing and reproduction of recorded media","Manufacture of coke and refined petroleum products","Manufacture of chemicals and chemical products","Manufacture of basic pharmaceutical products and pharmaceutical preparations","Manufacture of rubber and plastic products","Manufacture of other non-metallic mineral products","Manufacture of basic metals","Manufacture of fabricated metal products, except machinery and equipment","Manufacture of computer, electronic and optical products","Manufacture of electrical equipment","Manufacture of machinery and equipment n.e.c.","Manufacture of motor vehicles, trailers and semi-trailers","Manufacture of other transport equipment","Manufacture of furniture; other manufacturing","Repair and installation of machinery and equipment","Electricity, gas, steam and air conditioning supply","Water supply; sewerage, waste management and remediation activities","Water collection, treatment and supply","Sewerage, waste management, remediation activities","Construction","Wholesale and retail trade; repair of motor vehicles and motorcycles","Wholesale and retail trade and repair of motor vehicles and motorcycles","Wholesale trade, except of motor vehicles and motorcycles","Retail trade, except of motor vehicles and motorcycles","Transportation and storage","Land transport and transport via pipelines","Water transport","Air transport","Warehousing and support activities for transportation","Postal and courier activities","Accommodation and food service activities","Information and communication","Publishing activities","Motion picture, video, television programme production; programming and broadcasting activities","Telecommunications","Computer programming, consultancy, and information service activities","Financial and insurance activities","Financial service activities, except insurance and pension funding","Insurance, reinsurance and pension funding, except compulsory social security","Activities auxiliary to financial services and insurance activities","Real estate activities","Of which: Imputed rents of owner-occupied dwellings","Professional, scientific and technical activities","Legal and accounting activities; activities of head offices; management consultancy activities","Architectural and engineering activities; technical testing and analysis","Scientific research and development","Advertising and market research","Other professional, scientific and technical activities; veterinary activities","Administrative and support service activities","Rental and leasing activities","Employment activities","Travel agency, tour operator reservation service and related activities","Security and investigation, service and landscape, office administrative and support activities","Public administration and defence; compulsory social security","Education","Human health and social work activities","Human health activities","Residential care activities and social work activities without accommodation","Arts, entertainment and recreation","Creative, arts and entertainment activities; libraries, archives, museums and other cultural activities; gambling and betting activities","Sports activities and amusement and recreation activities","Other service activities","Activities of membership organisations","Repair of computers and personal and household goods","Other personal service activities","Activities of households as employers; undifferentiated goods- and services-producing activities of households for own use","Activities of extraterritorial organisations and bodies","Total activities by households","Heating/cooling activities by households","Transport activities by households","Other activities by households","Changes in inventories and produced assets","Statistical Differences","Rest of the World - economic activities","Environment","TOTAL USE OF NATURAL INPUTS, PRODUCTS, AND RESIDUALS"]
[]
[]
[]
[]
[]
[]
[]
[]
["TABLE A ENERGY SUPPLY",{"$f":"'PEFA rows'!C3","v":"N00"},{"$f":"'PEFA rows'!D3","v":"NATURAL ENERGY INPUTS"},{"$f":"'PEFA rows'!E3","v":0}]
[null,{"$f":"'PEFA rows'!C4","v":"N01"},{"$f":"'PEFA rows'!D4","v":"Fossil non-renewable natural energy inputs"},{"$f":"'PEFA rows'!E4","v":0}]
[null,{"$f":"'PEFA rows'!C5","v":"N02"},{"$f":"'PEFA rows'!D5","v":"Nuclear non-renewable natural energy inputs"},{"$f":"'PEFA rows'!E5","v":0}]
[null,{"$f":"'PEFA rows'!C6","v":"N03"},{"$f":"'PEFA rows'!D6","v":"Hydro based renewable natural energy inputs"},{"$f":"'PEFA rows'!E6","v":0}]
[null,{"$f":"'PEFA rows'!C7","v":"N04"},{"$f":"'PEFA rows'!D7","v":"Wind based renewable natural energy inputs"},{"$f":"'PEFA rows'!E7","v":0}]
[null,{"$f":"'PEFA rows'!C8","v":"N05"},{"$f":"'PEFA rows'!D8","v":"Solar based renewable natural energy inputs"},{"$f":"'PEFA rows'!E8","v":0}]
[null,{"$f":"'PEFA rows'!C9","v":"N06"},{"$f":"'PEFA rows'!D9","v":"Biomass based renewable natural energy inputs"},{"$f":"'PEFA rows'!E9","v":0}]
[null,{"$f":"'PEFA rows'!C10","v":"N07"},{"$f":"'PEFA rows'!D10","v":"Other renewable natural energy inputs"},{"$f":"'PEFA rows'!E10","v":0}]
[null,{"$f":"'PEFA rows'!C11","v":"P00"},{"$f":"'PEFA rows'!D11","v":"ENERGY PRODUCTS"},{"$f":"'PEFA rows'!E11","v":0}]
[null,{"$f":"'PEFA rows'!C12","v":"P08"},{"$f":"'PEFA rows'!D12","v":"Hard coal"},{"$f":"'PEFA rows'!E12","v":0}]
[null,{"$f":"'PEFA rows'!C13","v":"P09"},{"$f":"'PEFA rows'!D13","v":"Brown coal and peat"},{"$f":"'PEFA rows'!E13","v":0}]
[null,{"$f":"'PEFA rows'!C14","v":"P10"},{"$f":"'PEFA rows'!D14","v":"Derived gases (= manufactured gases excl. biogas) "},{"$f":"'PEFA rows'!E14","v":0}]
[null,{"$f":"'PEFA rows'!C15","v":"P11"},{"$f":"'PEFA rows'!D15","v":"Secondary coal products (coke, coal tar, patent fuel, BKB and peat products)"},{"$f":"'PEFA rows'!E15","v":0}]
[null,{"$f":"'PEFA rows'!C16","v":"P12"},{"$f":"'PEFA rows'!D16","v":"Crude oil, NGL, and other hydrocarbons (excl. bio)"},{"$f":"'PEFA rows'!E16","v":0}]
[null,{"$f":"'PEFA rows'!C17","v":"P13"},{"$f":"'PEFA rows'!D17","v":"Natural gas (without bio)"},{"$f":"'PEFA rows'!E17","v":0}]
[null,{"$f":"'PEFA rows'!C18","v":"P14"},{"$f":"'PEFA rows'!D18","v":"Motor spirit (without bio)"},{"$f":"'PEFA rows'!E18","v":0}]
[null,{"$f":"'PEFA rows'!C19","v":"P15"},{"$f":"'PEFA rows'!D19","v":"Kerosenes and jet fuels (without bio)"},{"$f":"'PEFA rows'!E19","v":0}]
[null,{"$f":"'PEFA rows'!C20","v":"P16"},{"$f":"'PEFA rows'!D20","v":"Naphtha"},{"$f":"'PEFA rows'!E20","v":0}]
[null,{"$f":"'PEFA rows'!C21","v":"P17"},{"$f":"'PEFA rows'!D21","v":"Transport diesel (without bio)"},{"$f":"'PEFA rows'!E21","v":0}]
[null,{"$f":"'PEFA rows'!C22","v":"P18"},{"$f":"'PEFA rows'!D22","v":"Heating and other gasoil (without bio)"},{"$f":"'PEFA rows'!E22","v":0}]
[null,{"$f":"'PEFA rows'!C23","v":"P19"},{"$f":"'PEFA rows'!D23","v":"Residual fuel oil"},{"$f":"'PEFA rows'!E23","v":0}]
[null,{"$f":"'PEFA rows'!C24","v":"P20"},{"$f":"'PEFA rows'!D24","v":"Refinery gas, ethane and LPG"},{"$f":"'PEFA rows'!E24","v":0}]
[null,{"$f":"'PEFA rows'!C25","v":"P21"},{"$f":"'PEFA rows'!D25","v":"Other petroleum products incl. additives/oxygenates and refinery feedstocks"},{"$f":"'PEFA rows'!E25","v":0}]
[null,{"$f":"'PEFA rows'!C26","v":"P22"},{"$f":"'PEFA rows'!D26","v":"Nuclear fuel"},{"$f":"'PEFA rows'!E26","v":0}]
[null,{"$f":"'PEFA rows'!C27","v":"P23"},{"$f":"'PEFA rows'!D27","v":"Wood, wood waste and other solid biomass, charcoal"},{"$f":"'PEFA rows'!E27","v":0}]
[null,{"$f":"'PEFA rows'!C28","v":"P24"},{"$f":"'PEFA rows'!D28","v":"Liquid biofuels"},{"$f":"'PEFA rows'!E28","v":0}]
[null,{"$f":"'PEFA rows'!C29","v":"P25"},{"$f":"'PEFA rows'!D29","v":"Biogas"},{"$f":"'PEFA rows'!E29","v":0}]
[null,{"$f":"'PEFA rows'!C30","v":"P26"},{"$f":"'PEFA rows'!D30","v":"Electrical energy"},{"$f":"'PEFA rows'!E30","v":0}]
[null,{"$f":"'PEFA rows'!C31","v":"P27"},{"$f":"'PEFA rows'!D31","v":"Heat"},{"$f":"'PEFA rows'!E31","v":0}]
[null,{"$f":"'PEFA rows'!C32","v":"R00"},{"$f":"'PEFA rows'!D32","v":"ENERGY RESIDUALS"},{"$f":"'PEFA rows'!E32","v":0}]
[null,{"$f":"'PEFA rows'!C33","v":"R28"},{"$f":"'PEFA rows'!D33","v":"Renewable waste"},{"$f":"'PEFA rows'!E33","v":0}]
[null,{"$f":"'PEFA rows'!C34","v":"R29"},{"$f":"'PEFA rows'!D34","v":"Non-renewable waste"},{"$f":"'PEFA rows'!E34","v":0}]
[null,{"$f":"'PEFA rows'!C35","v":"R30"},{"$f":"'PEFA rows'!D35","v":"Energy losses all kinds of (during extraction, distribution, storage and transformation, and dissipative heat from end use)"},{"$f":"'PEFA rows'!E35","v":0}]
[null,{"$f":"'PEFA rows'!C36","v":"R31"},{"$f":"'PEFA rows'!D36","v":"Energy incorporated in products for non-energy use"},{"$f":"'PEFA rows'!E36","v":0}]
[null,{"$f":"'PEFA rows'!C37","v":"STADIF"},{"$f":"'PEFA rows'!D37","v":"Statistical Differences"},{"$f":"'PEFA rows'!E37","v":0}]
[null,null,"TOTAL USE"]
[null,"P00w","of which (memo): Supply of ENERGY PRODUCTS for own use"]
[]
[]
[]
["TABLE B ENERGY USE",{"$f":"'PEFA rows'!C3","v":"N00"},{"$f":"'PEFA rows'!D3","v":"NATURAL ENERGY INPUTS"},{"$f":"'PEFA rows'!E3","v":0}]
[null,{"$f":"'PEFA rows'!C4","v":"N01"},{"$f":"'PEFA rows'!D4","v":"Fossil non-renewable natural energy inputs"},{"$f":"'PEFA rows'!E4","v":0}]
[null,{"$f":"'PEFA rows'!C5","v":"N02"},{"$f":"'PEFA rows'!D5","v":"Nuclear non-renewable natural energy inputs"},{"$f":"'PEFA rows'!E5","v":0}]
[null,{"$f":"'PEFA rows'!C6","v":"N03"},{"$f":"'PEFA rows'!D6","v":"Hydro based renewable natural energy inputs"},{"$f":"'PEFA rows'!E6","v":0}]
[null,{"$f":"'PEFA rows'!C7","v":"N04"},{"$f":"'PEFA rows'!D7","v":"Wind based renewable natural energy inputs"},{"$f":"'PEFA rows'!E7","v":0}]
[null,{"$f":"'PEFA rows'!C8","v":"N05"},{"$f":"'PEFA rows'!D8","v":"Solar based renewable natural energy inputs"},{"$f":"'PEFA rows'!E8","v":0}]
[null,{"$f":"'PEFA rows'!C9","v":"N06"},{"$f":"'PEFA rows'!D9","v":"Biomass based renewable natural energy inputs"},{"$f":"'PEFA rows'!E9","v":0}]
[null,{"$f":"'PEFA rows'!C10","v":"N07"},{"$f":"'PEFA rows'!D10","v":"Other renewable natural energy inputs"},{"$f":"'PEFA rows'!E10","v":0}]
[null,{"$f":"'PEFA rows'!C11","v":"P00"},{"$f":"'PEFA rows'!D11","v":"ENERGY PRODUCTS"},{"$f":"'PEFA rows'!E11","v":0}]
[null,{"$f":"'PEFA rows'!C12","v":"P08"},{"$f":"'PEFA rows'!D12","v":"Hard coal"},{"$f":"'PEFA rows'!E12","v":0}]
[null,{"$f":"'PEFA rows'!C13","v":"P09"},{"$f":"'PEFA rows'!D13","v":"Brown coal and peat"},{"$f":"'PEFA rows'!E13","v":0}]
[null,{"$f":"'PEFA rows'!C14","v":"P10"},{"$f":"'PEFA rows'!D14","v":"Derived gases (= manufactured gases excl. biogas) "},{"$f":"'PEFA rows'!E14","v":0}]
[null,{"$f":"'PEFA rows'!C15","v":"P11"},{"$f":"'PEFA rows'!D15","v":"Secondary coal products (coke, coal tar, patent fuel, BKB and peat products)"},{"$f":"'PEFA rows'!E15","v":0}]
[null,{"$f":"'PEFA rows'!C16","v":"P12"},{"$f":"'PEFA rows'!D16","v":"Crude oil, NGL, and other hydrocarbons (excl. bio)"},{"$f":"'PEFA rows'!E16","v":0}]
[null,{"$f":"'PEFA rows'!C17","v":"P13"},{"$f":"'PEFA rows'!D17","v":"Natural gas (without bio)"},{"$f":"'PEFA rows'!E17","v":0}]
[null,{"$f":"'PEFA rows'!C18","v":"P14"},{"$f":"'PEFA rows'!D18","v":"Motor spirit (without bio)"},{"$f":"'PEFA rows'!E18","v":0}]
[null,{"$f":"'PEFA rows'!C19","v":"P15"},{"$f":"'PEFA rows'!D19","v":"Kerosenes and jet fuels (without bio)"},{"$f":"'PEFA rows'!E19","v":0}]
[null,{"$f":"'PEFA rows'!C20","v":"P16"},{"$f":"'PEFA rows'!D20","v":"Naphtha"},{"$f":"'PEFA rows'!E20","v":0}]
[null,{"$f":"'PEFA rows'!C21","v":"P17"},{"$f":"'PEFA rows'!D21","v":"Transport diesel (without bio)"},{"$f":"'PEFA rows'!E21","v":0}]
[null,{"$f":"'PEFA rows'!C22","v":"P18"},{"$f":"'PEFA rows'!D22","v":"Heating and other gasoil (without bio)"},{"$f":"'PEFA rows'!E22","v":0}]
[null,{"$f":"'PEFA rows'!C23","v":"P19"},{"$f":"'PEFA rows'!D23","v":"Residual fuel oil"},{"$f":"'PEFA rows'!E23","v":0}]
[null,{"$f":"'PEFA rows'!C24","v":"P20"},{"$f":"'PEFA rows'!D24","v":"Refinery gas, ethane and LPG"},{"$f":"'PEFA rows'!E24","v":0}]
[null,{"$f":"'PEFA rows'!C25","v":"P21"},{"$f":"'PEFA rows'!D25","v":"Other petroleum products incl. additives/oxygenates and refinery feedstocks"},{"$f":"'PEFA rows'!E25","v":0}]
[null,{"$f":"'PEFA rows'!C26","v":"P22"},{"$f":"'PEFA rows'!D26","v":"Nuclear fuel"},{"$f":"'PEFA rows'!E26","v":0}]
[null,{"$f":"'PEFA rows'!C27","v":"P23"},{"$f":"'PEFA rows'!D27","v":"Wood, wood waste and other solid biomass, charcoal"},{"$f":"'PEFA rows'!E27","v":0}]
[null,{"$f":"'PEFA rows'!C28","v":"P24"},{"$f":"'PEFA rows'!D28","v":"Liquid biofuels"},{"$f":"'PEFA rows'!E28","v":0}]
[null,{"$f":"'PEFA rows'!C29","v":"P25"},{"$f":"'PEFA rows'!D29","v":"Biogas"},{"$f":"'PEFA rows'!E29","v":0}]
[null,{"$f":"'PEFA rows'!C30","v":"P26"},{"$f":"'PEFA rows'!D30","v":"Electrical energy"},{"$f":"'PEFA rows'!E30","v":0}]
[null,{"$f":"'PEFA rows'!C31","v":"P27"},{"$f":"'PEFA rows'!D31","v":"Heat"},{"$f":"'PEFA rows'!E31","v":0}]
[null,{"$f":"'PEFA rows'!C32","v":"R00"},{"$f":"'PEFA rows'!D32","v":"ENERGY RESIDUALS"},{"$f":"'PEFA rows'!E32","v":0}]
[null,{"$f":"'PEFA rows'!C33","v":"R28"},{"$f":"'PEFA rows'!D33","v":"Renewable waste"},{"$f":"'PEFA rows'!E33","v":0}]
[null,{"$f":"'PEFA rows'!C34","v":"R29"},{"$f":"'PEFA rows'!D34","v":"Non-renewable waste"},{"$f":"'PEFA rows'!E34","v":0}]
[null,{"$f":"'PEFA rows'!C35","v":"R30"},{"$f":"'PEFA rows'!D35","v":"Energy losses all kinds of (during extraction, distribution, storage and transformation, and dissipative heat from end use)"},{"$f":"'PEFA rows'!E35","v":0}]
[null,{"$f":"'PEFA rows'!C36","v":"R31"},{"$f":"'PEFA rows'!D36","v":"Energy incorporated in products for non-energy use"},{"$f":"'PEFA rows'!E36","v":0}]
[null,{"$f":"'PEFA rows'!C37","v":"STADIF"},{"$f":"'PEFA rows'!D37","v":"Statistical Differences"},{"$f":"'PEFA rows'!E37","v":0}]
[null,null,"TOTAL USE"]
[null,"P00w","of which (memo):  Own use of ENERGY PRODUCTS"]
[]
[]
[]
["TABLE B.1 TRANSFORM USE",{"$f":"'PEFA rows'!C3","v":"N00"},{"$f":"'PEFA rows'!D3","v":"NATURAL ENERGY INPUTS"},{"$f":"'PEFA rows'!E3","v":0}]
[null,{"$f":"'PEFA rows'!C4","v":"N01"},{"$f":"'PEFA rows'!D4","v":"Fossil non-renewable natural energy inputs"},{"$f":"'PEFA rows'!E4","v":0}]
[null,{"$f":"'PEFA rows'!C5","v":"N02"},{"$f":"'PEFA rows'!D5","v":"Nuclear non-renewable natural energy inputs"},{"$f":"'PEFA rows'!E5","v":0}]
[null,{"$f":"'PEFA rows'!C6","v":"N03"},{"$f":"'PEFA rows'!D6","v":"Hydro based renewable natural energy inputs"},{"$f":"'PEFA rows'!E6","v":0}]
[null,{"$f":"'PEFA rows'!C7","v":"N04"},{"$f":"'PEFA rows'!D7","v":"Wind based renewable natural energy inputs"},{"$f":"'PEFA rows'!E7","v":0}]
[null,{"$f":"'PEFA rows'!C8","v":"N05"},{"$f":"'PEFA rows'!D8","v":"Solar based renewable natural energy inputs"},{"$f":"'PEFA rows'!E8","v":0}]
[null,{"$f":"'PEFA rows'!C9","v":"N06"},{"$f":"'PEFA rows'!D9","v":"Biomass based renewable natural energy inputs"},{"$f":"'PEFA rows'!E9","v":0}]
[null,{"$f":"'PEFA rows'!C10","v":"N07"},{"$f":"'PEFA rows'!D10","v":"Other renewable natural energy inputs"},{"$f":"'PEFA rows'!E10","v":0}]
[null,{"$f":"'PEFA rows'!C11","v":"P00"},{"$f":"'PEFA rows'!D11","v":"ENERGY PRODUCTS"},{"$f":"'PEFA rows'!E11","v":0}]
[null,{"$f":"'PEFA rows'!C12","v":"P08"},{"$f":"'PEFA rows'!D12","v":"Hard coal"},{"$f":"'PEFA rows'!E12","v":0}]
[null,{"$f":"'PEFA rows'!C13","v":"P09"},{"$f":"'PEFA rows'!D13","v":"Brown coal and peat"},{"$f":"'PEFA rows'!E13","v":0}]
[null,{"$f":"'PEFA rows'!C14","v":"P10"},{"$f":"'PEFA rows'!D14","v":"Derived gases (= manufactured gases excl. biogas) "},{"$f":"'PEFA rows'!E14","v":0}]
[null,{"$f":"'PEFA rows'!C15","v":"P11"},{"$f":"'PEFA rows'!D15","v":"Secondary coal products (coke, coal tar, patent fuel, BKB and peat products)"},{"$f":"'PEFA rows'!E15","v":0}]
[null,{"$f":"'PEFA rows'!C16","v":"P12"},{"$f":"'PEFA rows'!D16","v":"Crude oil, NGL, and other hydrocarbons (excl. bio)"},{"$f":"'PEFA rows'!E16","v":0}]
[null,{"$f":"'PEFA rows'!C17","v":"P13"},{"$f":"'PEFA rows'!D17","v":"Natural gas (without bio)"},{"$f":"'PEFA rows'!E17","v":0}]
[null,{"$f":"'PEFA rows'!C18","v":"P14"},{"$f":"'PEFA rows'!D18","v":"Motor spirit (without bio)"},{"$f":"'PEFA rows'!E18","v":0}]
[null,{"$f":"'PEFA rows'!C19","v":"P15"},{"$f":"'PEFA rows'!D19","v":"Kerosenes and jet fuels (without bio)"},{"$f":"'PEFA rows'!E19","v":0}]
[null,{"$f":"'PEFA rows'!C20","v":"P16"},{"$f":"'PEFA rows'!D20","v":"Naphtha"},{"$f":"'PEFA rows'!E20","v":0}]
[null,{"$f":"'PEFA rows'!C21","v":"P17"},{"$f":"'PEFA rows'!D21","v":"Transport diesel (without bio)"},{"$f":"'PEFA rows'!E21","v":0}]
[null,{"$f":"'PEFA rows'!C22","v":"P18"},{"$f":"'PEFA rows'!D22","v":"Heating and other gasoil (without bio)"},{"$f":"'PEFA rows'!E22","v":0}]
[null,{"$f":"'PEFA rows'!C23","v":"P19"},{"$f":"'PEFA rows'!D23","v":"Residual fuel oil"},{"$f":"'PEFA rows'!E23","v":0}]
[null,{"$f":"'PEFA rows'!C24","v":"P20"},{"$f":"'PEFA rows'!D24","v":"Refinery gas, ethane and LPG"},{"$f":"'PEFA rows'!E24","v":0}]
[null,{"$f":"'PEFA rows'!C25","v":"P21"},{"$f":"'PEFA rows'!D25","v":"Other petroleum products incl. additives/oxygenates and refinery feedstocks"},{"$f":"'PEFA rows'!E25","v":0}]
[null,{"$f":"'PEFA rows'!C26","v":"P22"},{"$f":"'PEFA rows'!D26","v":"Nuclear fuel"},{"$f":"'PEFA rows'!E26","v":0}]
[null,{"$f":"'PEFA rows'!C27","v":"P23"},{"$f":"'PEFA rows'!D27","v":"Wood, wood waste and other solid biomass, charcoal"},{"$f":"'PEFA rows'!E27","v":0}]
[null,{"$f":"'PEFA rows'!C28","v":"P24"},{"$f":"'PEFA rows'!D28","v":"Liquid biofuels"},{"$f":"'PEFA rows'!E28","v":0}]
[null,{"$f":"'PEFA rows'!C29","v":"P25"},{"$f":"'PEFA rows'!D29","v":"Biogas"},{"$f":"'PEFA rows'!E29","v":0}]
[null,{"$f":"'PEFA rows'!C30","v":"P26"},{"$f":"'PEFA rows'!D30","v":"Electrical energy"},{"$f":"'PEFA rows'!E30","v":0}]
[null,{"$f":"'PEFA rows'!C31","v":"P27"},{"$f":"'PEFA rows'!D31","v":"Heat"},{"$f":"'PEFA rows'!E31","v":0}]
[null,{"$f":"'PEFA rows'!C32","v":"R00"},{"$f":"'PEFA rows'!D32","v":"ENERGY RESIDUALS"},{"$f":"'PEFA rows'!E32","v":0}]
[null,{"$f":"'PEFA rows'!C33","v":"R28"},{"$f":"'PEFA rows'!D33","v":"Renewable waste"},{"$f":"'PEFA rows'!E33","v":0}]
[null,{"$f":"'PEFA rows'!C34","v":"R29"},{"$f":"'PEFA rows'!D34","v":"Non-renewable waste"},{"$f":"'PEFA rows'!E34","v":0}]
[null,{"$f":"'PEFA rows'!C35","v":"R30"},{"$f":"'PEFA rows'!D35","v":"Energy losses all kinds of (during extraction, distribution, storage and transformation, and dissipative heat from end use)"},{"$f":"'PEFA rows'!E35","v":0}]
[null,{"$f":"'PEFA rows'!C36","v":"R31"},{"$f":"'PEFA rows'!D36","v":"Energy incorporated in products for non-energy use"},{"$f":"'PEFA rows'!E36","v":0}]
[null,{"$f":"'PEFA rows'!C37","v":"STADIF"},{"$f":"'PEFA rows'!D37","v":"Statistical Differences"},{"$f":"'PEFA rows'!E37","v":0}]
[null,null,"TOTAL USE"]
[null,"P00w","of which (memo):  Own use of ENERGY PRODUCTS (transformation)"]
[]
[]
[]
["TABLE B.2 END USE",{"$f":"'PEFA rows'!C3","v":"N00"},{"$f":"'PEFA rows'!D3","v":"NATURAL ENERGY INPUTS"},{"$f":"'PEFA rows'!E3","v":0}]
[null,{"$f":"'PEFA rows'!C4","v":"N01"},{"$f":"'PEFA rows'!D4","v":"Fossil non-renewable natural energy inputs"},{"$f":"'PEFA rows'!E4","v":0}]
[null,{"$f":"'PEFA rows'!C5","v":"N02"},{"$f":"'PEFA rows'!D5","v":"Nuclear non-renewable natural energy inputs"},{"$f":"'PEFA rows'!E5","v":0}]
[null,{"$f":"'PEFA rows'!C6","v":"N03"},{"$f":"'PEFA rows'!D6","v":"Hydro based renewable natural energy inputs"},{"$f":"'PEFA rows'!E6","v":0}]
[null,{"$f":"'PEFA rows'!C7","v":"N04"},{"$f":"'PEFA rows'!D7","v":"Wind based renewable natural energy inputs"},{"$f":"'PEFA rows'!E7","v":0}]
[null,{"$f":"'PEFA rows'!C8","v":"N05"},{"$f":"'PEFA rows'!D8","v":"Solar based renewable natural energy inputs"},{"$f":"'PEFA rows'!E8","v":0}]
[null,{"$f":"'PEFA rows'!C9","v":"N06"},{"$f":"'PEFA rows'!D9","v":"Biomass based renewable natural energy inputs"},{"$f":"'PEFA rows'!E9","v":0}]
[null,{"$f":"'PEFA rows'!C10","v":"N07"},{"$f":"'PEFA rows'!D10","v":"Other renewable natural energy inputs"},{"$f":"'PEFA rows'!E10","v":0}]
[null,{"$f":"'PEFA rows'!C11","v":"P00"},{"$f":"'PEFA rows'!D11","v":"ENERGY PRODUCTS"},{"$f":"'PEFA rows'!E11","v":0}]
[null,{"$f":"'PEFA rows'!C12","v":"P08"},{"$f":"'PEFA rows'!D12","v":"Hard coal"},{"$f":"'PEFA rows'!E12","v":0}]
[null,{"$f":"'PEFA rows'!C13","v":"P09"},{"$f":"'PEFA rows'!D13","v":"Brown coal and peat"},{"$f":"'PEFA rows'!E13","v":0}]
[null,{"$f":"'PEFA rows'!C14","v":"P10"},{"$f":"'PEFA rows'!D14","v":"Derived gases (= manufactured gases excl. biogas) "},{"$f":"'PEFA rows'!E14","v":0}]
[null,{"$f":"'PEFA rows'!C15","v":"P11"},{"$f":"'PEFA rows'!D15","v":"Secondary coal products (coke, coal tar, patent fuel, BKB and peat products)"},{"$f":"'PEFA rows'!E15","v":0}]
[null,{"$f":"'PEFA rows'!C16","v":"P12"},{"$f":"'PEFA rows'!D16","v":"Crude oil, NGL, and other hydrocarbons (excl. bio)"},{"$f":"'PEFA rows'!E16","v":0}]
[null,{"$f":"'PEFA rows'!C17","v":"P13"},{"$f":"'PEFA rows'!D17","v":"Natural gas (without bio)"},{"$f":"'PEFA rows'!E17","v":0}]
[null,{"$f":"'PEFA rows'!C18","v":"P14"},{"$f":"'PEFA rows'!D18","v":"Motor spirit (without bio)"},{"$f":"'PEFA rows'!E18","v":0}]
[null,{"$f":"'PEFA rows'!C19","v":"P15"},{"$f":"'PEFA rows'!D19","v":"Kerosenes and jet fuels (without bio)"},{"$f":"'PEFA rows'!E19","v":0}]
[null,{"$f":"'PEFA rows'!C20","v":"P16"},{"$f":"'PEFA rows'!D20","v":"Naphtha"},{"$f":"'PEFA rows'!E20","v":0}]
[null,{"$f":"'PEFA rows'!C21","v":"P17"},{"$f":"'PEFA rows'!D21","v":"Transport diesel (without bio)"},{"$f":"'PEFA rows'!E21","v":0}]
[null,{"$f":"'PEFA rows'!C22","v":"P18"},{"$f":"'PEFA rows'!D22","v":"Heating and other gasoil (without bio)"},{"$f":"'PEFA rows'!E22","v":0}]
[null,{"$f":"'PEFA rows'!C23","v":"P19"},{"$f":"'PEFA rows'!D23","v":"Residual fuel oil"},{"$f":"'PEFA rows'!E23","v":0}]
[null,{"$f":"'PEFA rows'!C24","v":"P20"},{"$f":"'PEFA rows'!D24","v":"Refinery gas, ethane and LPG"},{"$f":"'PEFA rows'!E24","v":0}]
[null,{"$f":"'PEFA rows'!C25","v":"P21"},{"$f":"'PEFA rows'!D25","v":"Other petroleum products incl. additives/oxygenates and refinery feedstocks"},{"$f":"'PEFA rows'!E25","v":0}]
[null,{"$f":"'PEFA rows'!C26","v":"P22"},{"$f":"'PEFA rows'!D26","v":"Nuclear fuel"},{"$f":"'PEFA rows'!E26","v":0}]
[null,{"$f":"'PEFA rows'!C27","v":"P23"},{"$f":"'PEFA rows'!D27","v":"Wood, wood waste and other solid biomass, charcoal"},{"$f":"'PEFA rows'!E27","v":0}]
[null,{"$f":"'PEFA rows'!C28","v":"P24"},{"$f":"'PEFA rows'!D28","v":"Liquid biofuels"},{"$f":"'PEFA rows'!E28","v":0}]
[null,{"$f":"'PEFA rows'!C29","v":"P25"},{"$f":"'PEFA rows'!D29","v":"Biogas"},{"$f":"'PEFA rows'!E29","v":0}]
[null,{"$f":"'PEFA rows'!C30","v":"P26"},{"$f":"'PEFA rows'!D30","v":"Electrical energy"},{"$f":"'PEFA rows'!E30","v":0}]
[null,{"$f":"'PEFA rows'!C31","v":"P27"},{"$f":"'PEFA rows'!D31","v":"Heat"},{"$f":"'PEFA rows'!E31","v":0}]
[null,{"$f":"'PEFA rows'!C32","v":"R00"},{"$f":"'PEFA rows'!D32","v":"ENERGY RESIDUALS"},{"$f":"'PEFA rows'!E32","v":0}]
[null,{"$f":"'PEFA rows'!C33","v":"R28"},{"$f":"'PEFA rows'!D33","v":"Renewable waste"},{"$f":"'PEFA rows'!E33","v":0}]
[null,{"$f":"'PEFA rows'!C34","v":"R29"},{"$f":"'PEFA rows'!D34","v":"Non-renewable waste"},{"$f":"'PEFA rows'!E34","v":0}]
[null,{"$f":"'PEFA rows'!C35","v":"R30"},{"$f":"'PEFA rows'!D35","v":"Energy losses all kinds of (during extraction, distribution, storage and transformation, and dissipative heat from end use)"},{"$f":"'PEFA rows'!E35","v":0}]
[null,{"$f":"'PEFA rows'!C36","v":"R31"},{"$f":"'PEFA rows'!D36","v":"Energy incorporated in products for non-energy use"},{"$f":"'PEFA rows'!E36","v":0}]
[null,{"$f":"'PEFA rows'!C37","v":"STADIF"},{"$f":"'PEFA rows'!D37","v":"Statistical Differences"},{"$f":"'PEFA rows'!E37","v":0}]
[null,null,"TOTAL USE"]
[null,"P00w","of which (memo):  Own use of ENERGY PRODUCTS (end use)"]
[]
[]
[]
["TABLE C EMISSIONS",{"$f":"'PEFA rows'!C3","v":"N00"},{"$f":"'PEFA rows'!D3","v":"NATURAL ENERGY INPUTS"},{"$f":"'PEFA rows'!E3","v":0}]
[null,{"$f":"'PEFA rows'!C4","v":"N01"},{"$f":"'PEFA rows'!D4","v":"Fossil non-renewable natural energy inputs"},{"$f":"'PEFA rows'!E4","v":0}]
[null,{"$f":"'PEFA rows'!C5","v":"N02"},{"$f":"'PEFA rows'!D5","v":"Nuclear non-renewable natural energy inputs"},{"$f":"'PEFA rows'!E5","v":0}]
[null,{"$f":"'PEFA rows'!C6","v":"N03"},{"$f":"'PEFA rows'!D6","v":"Hydro based renewable natural energy inputs"},{"$f":"'PEFA rows'!E6","v":0}]
[null,{"$f":"'PEFA rows'!C7","v":"N04"},{"$f":"'PEFA rows'!D7","v":"Wind based renewable natural energy inputs"},{"$f":"'PEFA rows'!E7","v":0}]
[null,{"$f":"'PEFA rows'!C8","v":"N05"},{"$f":"'PEFA rows'!D8","v":"Solar based renewable natural energy inputs"},{"$f":"'PEFA rows'!E8","v":0}]
[null,{"$f":"'PEFA rows'!C9","v":"N06"},{"$f":"'PEFA rows'!D9","v":"Biomass based renewable natural energy inputs"},{"$f":"'PEFA rows'!E9","v":0}]
[null,{"$f":"'PEFA rows'!C10","v":"N07"},{"$f":"'PEFA rows'!D10","v":"Other renewable natural energy inputs"},{"$f":"'PEFA rows'!E10","v":0}]
[null,{"$f":"'PEFA rows'!C11","v":"P00"},{"$f":"'PEFA rows'!D11","v":"ENERGY PRODUCTS"},{"$f":"'PEFA rows'!E11","v":0}]
[null,{"$f":"'PEFA rows'!C12","v":"P08"},{"$f":"'PEFA rows'!D12","v":"Hard coal"},{"$f":"'PEFA rows'!E12","v":0}]
[null,{"$f":"'PEFA rows'!C13","v":"P09"},{"$f":"'PEFA rows'!D13","v":"Brown coal and peat"},{"$f":"'PEFA rows'!E13","v":0}]
[null,{"$f":"'PEFA rows'!C14","v":"P10"},{"$f":"'PEFA rows'!D14","v":"Derived gases (= manufactured gases excl. biogas) "},{"$f":"'PEFA rows'!E14","v":0}]
[null,{"$f":"'PEFA rows'!C15","v":"P11"},{"$f":"'PEFA rows'!D15","v":"Secondary coal products (coke, coal tar, patent fuel, BKB and peat products)"},{"$f":"'PEFA rows'!E15","v":0}]
[null,{"$f":"'PEFA rows'!C16","v":"P12"},{"$f":"'PEFA rows'!D16","v":"Crude oil, NGL, and other hydrocarbons (excl. bio)"},{"$f":"'PEFA rows'!E16","v":0}]
[null,{"$f":"'PEFA rows'!C17","v":"P13"},{"$f":"'PEFA rows'!D17","v":"Natural gas (without bio)"},{"$f":"'PEFA rows'!E17","v":0}]
[null,{"$f":"'PEFA rows'!C18","v":"P14"},{"$f":"'PEFA rows'!D18","v":"Motor spirit (without bio)"},{"$f":"'PEFA rows'!E18","v":0}]
[null,{"$f":"'PEFA rows'!C19","v":"P15"},{"$f":"'PEFA rows'!D19","v":"Kerosenes and jet fuels (without bio)"},{"$f":"'PEFA rows'!E19","v":0}]
[null,{"$f":"'PEFA rows'!C20","v":"P16"},{"$f":"'PEFA rows'!D20","v":"Naphtha"},{"$f":"'PEFA rows'!E20","v":0}]
[null,{"$f":"'PEFA rows'!C21","v":"P17"},{"$f":"'PEFA rows'!D21","v":"Transport diesel (without bio)"},{"$f":"'PEFA rows'!E21","v":0}]
[null,{"$f":"'PEFA rows'!C22","v":"P18"},{"$f":"'PEFA rows'!D22","v":"Heating and other gasoil (without bio)"},{"$f":"'PEFA rows'!E22","v":0}]
[null,{"$f":"'PEFA rows'!C23","v":"P19"},{"$f":"'PEFA rows'!D23","v":"Residual fuel oil"},{"$f":"'PEFA rows'!E23","v":0}]
[null,{"$f":"'PEFA rows'!C24","v":"P20"},{"$f":"'PEFA rows'!D24","v":"Refinery gas, ethane and LPG"},{"$f":"'PEFA rows'!E24","v":0}]
[null,{"$f":"'PEFA rows'!C25","v":"P21"},{"$f":"'PEFA rows'!D25","v":"Other petroleum products incl. additives/oxygenates and refinery feedstocks"},{"$f":"'PEFA rows'!E25","v":0}]
[null,{"$f":"'PEFA rows'!C26","v":"P22"},{"$f":"'PEFA rows'!D26","v":"Nuclear fuel"},{"$f":"'PEFA rows'!E26","v":0}]
[null,{"$f":"'PEFA rows'!C27","v":"P23"},{"$f":"'PEFA rows'!D27","v":"Wood, wood waste and other solid biomass, charcoal"},{"$f":"'PEFA rows'!E27","v":0}]
[null,{"$f":"'PEFA rows'!C28","v":"P24"},{"$f":"'PEFA rows'!D28","v":"Liquid biofuels"},{"$f":"'PEFA rows'!E28","v":0}]
[null,{"$f":"'PEFA rows'!C29","v":"P25"},{"$f":"'PEFA rows'!D29","v":"Biogas"},{"$f":"'PEFA rows'!E29","v":0}]
[null,{"$f":"'PEFA rows'!C30","v":"P26"},{"$f":"'PEFA rows'!D30","v":"Electrical energy"},{"$f":"'PEFA rows'!E30","v":0}]
[null,{"$f":"'PEFA rows'!C31","v":"P27"},{"$f":"'PEFA rows'!D31","v":"Heat"},{"$f":"'PEFA rows'!E31","v":0}]
[null,{"$f":"'PEFA rows'!C32","v":"R00"},{"$f":"'PEFA rows'!D32","v":"ENERGY RESIDUALS"},{"$f":"'PEFA rows'!E32","v":0}]
[null,{"$f":"'PEFA rows'!C33","v":"R28"},{"$f":"'PEFA rows'!D33","v":"Renewable waste"},{"$f":"'PEFA rows'!E33","v":0}]
[null,{"$f":"'PEFA rows'!C34","v":"R29"},{"$f":"'PEFA rows'!D34","v":"Non-renewable waste"},{"$f":"'PEFA rows'!E34","v":0}]
[null,{"$f":"'PEFA rows'!C35","v":"R30"},{"$f":"'PEFA rows'!D35","v":"Energy losses all kinds of (during extraction, distribution, storage and transformation, and dissipative heat from end use)"},{"$f":"'PEFA rows'!E35","v":0}]
[null,{"$f":"'PEFA rows'!C36","v":"R31"},{"$f":"'PEFA rows'!D36","v":"Energy incorporated in products for non-energy use"},{"$f":"'PEFA rows'!E36","v":0}]
[null,{"$f":"'PEFA rows'!C37","v":"STADIF"},{"$f":"'PEFA rows'!D37","v":"Statistical Differences"},{"$f":"'PEFA rows'!E37","v":0}]
[null,null,"TOTAL USE"]
[]
[]
[]
["KEY",{"$f":"'PEFA indicators'!B3","v":"PEFA_IND01"},{"$f":"'PEFA indicators'!C3","v":"Extraction of natural energy inputs by economic activities"}]
[null,{"$f":"'PEFA indicators'!B4","v":"PEFA_IND02"},{"$f":"'PEFA indicators'!C4","v":"Domestic production of energy products"}]
[null,{"$f":"'PEFA indicators'!B5","v":"PEFA_IND03"},{"$f":"'PEFA indicators'!C5","v":"Intermediate consumption of energy products"}]
[null,{"$f":"'PEFA indicators'!B6","v":"PEFA_IND04"},{"$f":"'PEFA indicators'!C6","v":"Household consumption of energy products"}]
[null,{"$f":"'PEFA indicators'!B7","v":"PEFA_IND05"},{"$f":"'PEFA indicators'!C7","v":"Use of waste for energetic purposes"}]
[null,{"$f":"'PEFA indicators'!B8","v":"PEFA_IND06"},{"$f":"'PEFA indicators'!C8","v":"Net domestic energy use"}]
[null,{"$f":"'PEFA indicators'!B9","v":"PEFA_IND06a"},{"$f":"'PEFA indicators'!C9","v":"    Net domestic energy use for energy purposes"}]
[null,{"$f":"'PEFA indicators'!B10","v":"PEFA_IND06b"},{"$f":"'PEFA indicators'!C10","v":"    Net domestic energy use for non-energy purposes"}]
[null,{"$f":"'PEFA indicators'!B11","v":"PEFA_IND07"},{"$f":"'PEFA indicators'!C11","v":"Total energy input/output"}]
[null,{"$f":"'PEFA indicators'!B12","v":"PEFA_IND08"},{"$f":"'PEFA indicators'!C12","v":"Emission-relevant use of energy"}]
[null,{"$f":"'PEFA indicators'!B13","v":"PEFA_IND09"},{"$f":"'PEFA indicators'!C13","v":"Direct energy input (DEI)"}]
[null,{"$f":"'PEFA indicators'!B14","v":"PEFA_IND10"},{"$f":"'PEFA indicators'!C14","v":"Direct energy outputs"}]
[null,{"$f":"'PEFA indicators'!B15","v":"PEFA_IND11"},{"$f":"'PEFA indicators'!C15","v":"Net additions to stock (calculated)"}]
[null,{"$f":"'PEFA indicators'!B16","v":"PEFA_IND12"},{"$f":"'PEFA indicators'!C16","v":"Net additions to stock (reported)"}]
[null,{"$f":"'PEFA indicators'!B17","v":"PEFA_IND13"},{"$f":"'PEFA indicators'!C17","v":"Domestic energy consumption"}]
[null,{"$f":"'PEFA indicators'!B18","v":"PEFA_IND14"},{"$f":"'PEFA indicators'!C18","v":"Imports of energy products and energy residuals (waste for energetic use)"}]
[null,{"$f":"'PEFA indicators'!B19","v":"PEFA_IND14a"},{"$f":"'PEFA indicators'!C19","v":"Imports of energy products"}]
[null,{"$f":"'PEFA indicators'!B20","v":"PEFA_IND14b"},{"$f":"'PEFA indicators'!C20","v":"Imports of energy residuals (waste for energetic use)"}]
[null,{"$f":"'PEFA indicators'!B21","v":"PEFA_IND15"},{"$f":"'PEFA indicators'!C21","v":"Domestic processed output"}]
[null,{"$f":"'PEFA indicators'!B22","v":"PEFA_IND16"},{"$f":"'PEFA indicators'!C22","v":"Exports of energy products and residuals"}]
[null,{"$f":"'PEFA indicators'!B23","v":"PEFA_IND17"},{"$f":"'PEFA indicators'!C23","v":"Net changes (use minus supply) of energy products and residuals in inventories and produced assets"}]
[null,{"$f":"'PEFA indicators'!B24","v":"PEFA_IND17a"},{"$f":"'PEFA indicators'!C24","v":"Supply of energy residuals from stock"}]
[null,{"$f":"'PEFA indicators'!B25","v":"PEFA_IND17b"},{"$f":"'PEFA indicators'!C25","v":"Additions (use) of energy products and residuals to stocks"}]
[null,{"$f":"'PEFA indicators'!B26","v":"PEFA_IND18"},{"$f":"'PEFA indicators'!C26","v":"Statistical discrepancy between supply and use of energy products and residuals"}]
[]
[]
[]
["BRIDGING ITEMS",{"$f":"'PEFA bridging items'!B3","v":"DEU_RES"},{"$f":"'PEFA bridging items'!C3","v":"Energy use by resident units (domestic energy use) – residence principle"},{"$f":"'PEFA bridging items'!D3","v":0}]
[null,{"$f":"'PEFA bridging items'!B4","v":"TOT_NRA"},{"$f":"'PEFA bridging items'!C4","v":"(−) Energy use by resident units, fuel purchased abroad – total"},{"$f":"'PEFA bridging items'!D4","v":0}]
[null,{"$f":"'PEFA bridging items'!B5","v":"NRA_FISH"},{"$f":"'PEFA bridging items'!C5","v":"      Energy use by resident units, fuel purchased abroad – fishing vessels"},{"$f":"'PEFA bridging items'!D5","v":0}]
[null,{"$f":"'PEFA bridging items'!B6","v":"NRA_I60"},{"$f":"'PEFA bridging items'!C6","v":"      Energy use by resident units, fuel purchased abroad – land transport"},{"$f":"'PEFA bridging items'!D6","v":0}]
[null,{"$f":"'PEFA bridging items'!B7","v":"NRA_I61"},{"$f":"'PEFA bridging items'!C7","v":"      Energy use by resident units, fuel purchased abroad – water transport"},{"$f":"'PEFA bridging items'!D7","v":0}]
[null,{"$f":"'PEFA bridging items'!B8","v":"NRA_I62"},{"$f":"'PEFA bridging items'!C8","v":"      Energy use by resident units, fuel purchased abroad – air transport"},{"$f":"'PEFA bridging items'!D8","v":0}]
[null,{"$f":"'PEFA bridging items'!B9","v":"TOT_NRES"},{"$f":"'PEFA bridging items'!C9","v":"(+) Energy use by non-resident units (only if included in gross inland energy consumption), fuel purchased on the territory – total"},{"$f":"'PEFA bridging items'!D9","v":0}]
[null,{"$f":"'PEFA bridging items'!B10","v":"NRES_I60"},{"$f":"'PEFA bridging items'!C10","v":"      Energy use by non-resident units (only if included in gross inland energy consumption), fuel purchased on the territory – land transport"},{"$f":"'PEFA bridging items'!D10","v":0}]
[null,{"$f":"'PEFA bridging items'!B11","v":"NRES_I61"},{"$f":"'PEFA bridging items'!C11","v":"      Energy use by non-resident units (only if included in gross inland energy consumption), fuel purchased on the territory – water transport"},{"$f":"'PEFA bridging items'!D11","v":0}]
[null,{"$f":"'PEFA bridging items'!B12","v":"NRES_I62"},{"$f":"'PEFA bridging items'!C12","v":"      Energy use by non-resident units (only if included in gross inland energy consumption), fuel purchased on the territory – air transport"},{"$f":"'PEFA bridging items'!D12","v":0}]
[null,{"$f":"'PEFA bridging items'!B13","v":"ADJ_OTH"},{"$f":"'PEFA bridging items'!C13","v":"(+) Other adjustments and statistical differences"},{"$f":"'PEFA bridging items'!D13","v":"Sign changed from (+/-) to (+) by Stephan, 23 April 2021"}]
[null,{"$f":"'PEFA bridging items'!B14","v":"MEMO_BEYO5AQ"},{"$f":"'PEFA bridging items'!C14","v":"         of which (memo): energy flows not reported in energy statistics but included in PEFA (bridging item 1)"},{"$f":"'PEFA bridging items'!D14","v":" Sign (-) deleted by Stephan 23 April 2021"}]
[null,{"$f":"'PEFA bridging items'!B15","v":"GIC_TER"},{"$f":"'PEFA bridging items'!C15","v":"(=) Gross inland consumption - territory principle"},{"$f":"'PEFA bridging items'!D15","v":0}]

{"sheet":"PEFA indicators","index":7,"n_rows":26,"n_cols":3,"rows_kept":26,"cut":false,"hidden":true,"merged":[]}
[null,"PEFA indicators"]
[null,"code","label"]
[null,"PEFA_IND01","Extraction of natural energy inputs by economic activities"]
[null,"PEFA_IND02","Domestic production of energy products"]
[null,"PEFA_IND03","Intermediate consumption of energy products"]
[null,"PEFA_IND04","Household consumption of energy products"]
[null,"PEFA_IND05","Use of waste for energetic purposes"]
[null,"PEFA_IND06","Net domestic energy use"]
[null,"PEFA_IND06a","    Net domestic energy use for energy purposes"]
[null,"PEFA_IND06b","    Net domestic energy use for non-energy purposes"]
[null,"PEFA_IND07","Total energy input/output"]
[null,"PEFA_IND08","Emission-relevant use of energy"]
[null,"PEFA_IND09","Direct energy input (DEI)"]
[null,"PEFA_IND10","Direct energy outputs"]
[null,"PEFA_IND11","Net additions to stock (calculated)"]
[null,"PEFA_IND12","Net additions to stock (reported)"]
[null,"PEFA_IND13","Domestic energy consumption"]
[null,"PEFA_IND14","Imports of energy products and energy residuals (waste for energetic use)"]
[null,"PEFA_IND14a","Imports of energy products"]
[null,"PEFA_IND14b","Imports of energy residuals (waste for energetic use)"]
[null,"PEFA_IND15","Domestic processed output"]
[null,"PEFA_IND16","Exports of energy products and residuals"]
[null,"PEFA_IND17","Net changes (use minus supply) of energy products and residuals in inventories and produced assets"]
[null,"PEFA_IND17a","Supply of energy residuals from stock"]
[null,"PEFA_IND17b","Additions (use) of energy products and residuals to stocks"]
[null,"PEFA_IND18","Statistical discrepancy between supply and use of energy products and residuals"]

{"sheet":"PEFA Columns","index":8,"n_rows":8,"n_cols":176,"rows_kept":8,"cut":false,"hidden":true,"merged":[]}
[]
[null,null,"level",1,null,2,null,3,null,3,null,3,null,2,null,2,null,3,null,3,null,3,null,3,null,3,null,3,null,3,null,3,null,3,null,3,null,3,null,3,null,3,null,3,null,3,null,3,null,3,null,3,null,3,null,2,null,2,null,3,null,3,null,2,null,2,null,3,null,3,null,3,null,2,null,3,null,3,null,3,null,3,null,3,null,2,null,2,null,3,null,3,null,3,null,3,null,2,null,3,null,3,null,3,null,2,null,3,null,2,null,3,null,3,null,3,null,3,null,3,null,2,null,3,null,3,null,3,null,3,null,2,null,2,null,2,null,3,null,3,null,2,null,3,null,3,null,2,null,3,null,3,null,3,null,2,null,2,null,1,null,2,null,2,null,2,null,1,null,1,null,1,null,1,null,0]
[null,null,"code","A_U   01-99",null,"A",null,"A01",null,"A02",null,"A03",null,"B",null,"C",null,"C10-C12",null,"C13-C15",null,"C16",null,"C17",null,"C18",null,"C19",null,"C20",null,"C21",null,"C22",null,"C23",null,"C24",null,"C25",null,"C26",null,"C27",null,"C28",null,"C29",null,"C30",null,"C31_C32",null,"C33",null,"D",null,"E",null,"E36",null,"E37-E39",null,"F",null,"G",null,"G45",null,"G46",null,"G47",null,"H",null,"H49",null,"H50",null,"H51",null,"H52",null,"H53",null,"I",null,"J",null,"J58",null,"J59_J60",null,"J61",null,"J62_J63",null,"K",null,"K64",null,"K65",null,"K66",null,"L",null,"L68A",null,"M",null,"M69_M70",null,"M71",null,"M72",null,"M73",null,"M74_M75",null,"N",null,"N77",null,"N78",null,"N79",null,"N80-N82",null,"O",null,"P",null,"Q",null,"Q86",null,"Q87_Q88",null,"R",null,"R90-R92",null,"R93",null,"S",null,"S94",null,"S95",null,"S96",null,"T",null,"U",null,"HH",null,"HH_HEAT",null,"HH_TRA",null,"HH_OTH",null,"CHINV_PA",null,"STADIF",null,"ROW_ACT",null,"ENV",null,"TSUE"]
[null,"TABLE SUPPLY","label","Total NACE industries",null,"Agriculture, forestry and fishing",null,"Crop and animal production, hunting and related service activities",null,"Forestry and logging",null,"Fishing and aquaculture",null,"Mining and quarrying",null,"Manufacturing",null,"Manufacture of food products, beverages and tobacco\nproducts",null,"Manufacture of textiles, wearing apparel and leather products",null,"Manufacture of wood and of products of wood and cork, except furniture; manufacture of articles of straw and plaiting materials",null,"Manufacture of paper and paper products",null,"Printing and reproduction of recorded media",null,"Manufacture of coke and refined petroleum products",null,"Manufacture of chemicals and chemical products",null,"Manufacture of basic pharmaceutical products and pharmaceutical preparations",null,"Manufacture of rubber and plastic products",null,"Manufacture of other non-metallic mineral products",null,"Manufacture of basic metals",null,"Manufacture of fabricated metal products, except machinery and equipment",null,"Manufacture of computer, electronic and optical products",null,"Manufacture of electrical equipment",null,"Manufacture of machinery and equipment n.e.c.",null,"Manufacture of motor vehicles, trailers and semi-trailers",null,"Manufacture of other transport equipment",null,"Manufacture of furniture; other manufacturing",null,"Repair and installation of machinery and equipment",null,"Electricity, gas, steam and air conditioning supply",null,"Water supply; sewerage, waste management and remediation activities",null,"Water collection, treatment and supply",null,"Sewerage, waste management, remediation activities",null,"Construction",null,"Wholesale and retail trade; repair of motor vehicles and motorcycles",null,"Wholesale and retail trade and repair of motor vehicles and motorcycles",null,"Wholesale trade, except of motor vehicles and motorcycles",null,"Retail trade, except of motor vehicles and motorcycles",null,"Transportation and storage",null,"Land transport and transport via pipelines",null,"Water transport",null,"Air transport",null,"Warehousing and support activities for transportation",null,"Postal and courier activities",null,"Accommodation and food service activities",null,"Information and communication",null,"Publishing activities",null,"Motion picture, video, television programme production; programming and broadcasting activities",null,"Telecommunications",null,"Computer programming, consultancy, and information service activities",null,"Financial and insurance activities",null,"Financial service activities, except insurance and pension funding",null,"Insurance, reinsurance and pension funding, except compulsory social security",null,"Activities auxiliary to financial services and insurance activities",null,"Real estate activities",null,"Of which: Imputed rents of owner-occupied dwellings",null,"Professional, scientific and technical activities",null,"Legal and accounting activities; activities of head offices; management consultancy activities",null,"Architectural and engineering activities; technical testing and analysis",null,"Scientific research and development",null,"Advertising and market research",null,"Other professional, scientific and technical activities; veterinary activities",null,"Administrative and support service activities",null,"Rental and leasing activities",null,"Employment activities",null,"Travel agency, tour operator reservation service and related activities",null,"Security and investigation, service and landscape, office administrative and support activities",null,"Public administration and defence; compulsory social security",null,"Education",null,"Human health and social work activities",null,"Human health activities",null,"Residential care activities and social work activities without accommodation",null,"Arts, entertainment and recreation",null,"Creative, arts and entertainment activities; libraries, archives, museums and other cultural activities; gambling and betting activities",null,"Sports activities and amusement and recreation activities",null,"Other service activities",null,"Activities of membership organisations",null,"Repair of computers and personal and household goods",null,"Other personal service activities",null,"Activities of households as employers; undifferentiated goods- and services-producing activities of households for own use",null,"Activities of extraterritorial organisations and bodies",null,"Total activities by households",null,"Heating/cooling activities by households",null,"Transport activities by households",null,"Other activities by households",null,"Changes in inventories and produced assets",null,"Statistical Differences",null,"Rest of the World - economic activities",null,"Environment",null,"TOTAL SUPPLY OF NATURAL INPUTS, PRODUCTS, AND RESIDUALS"]
[]
[null,null,"level",1,null,2,null,3,null,3,null,3,null,2,null,2,null,3,null,3,null,3,null,3,null,3,null,3,null,3,null,3,null,3,null,3,null,3,null,3,null,3,null,3,null,3,null,3,null,3,null,3,null,3,null,2,null,2,null,3,null,3,null,2,null,2,null,3,null,3,null,3,null,2,null,3,null,3,null,3,null,3,null,3,null,2,null,2,null,3,null,3,null,3,null,3,null,2,null,3,null,3,null,3,null,2,null,3,null,2,null,3,null,3,null,3,null,3,null,3,null,2,null,3,null,3,null,3,null,3,null,2,null,2,null,2,null,3,null,3,null,2,null,3,null,3,null,2,null,3,null,3,null,3,null,2,null,2,null,1,null,2,null,2,null,2,null,1,null,1,null,1,null,1,null,0]
[null,null,"code","A_U   01-99",null,"A",null,"A01",null,"A02",null,"A03",null,"B",null,"C",null,"C10-C12",null,"C13-C15",null,"C16",null,"C17",null,"C18",null,"C19",null,"C20",null,"C21",null,"C22",null,"C23",null,"C24",null,"C25",null,"C26",null,"C27",null,"C28",null,"C29",null,"C30",null,"C31_C32",null,"C33",null,"D",null,"E",null,"E36",null,"E37-E39",null,"F",null,"G",null,"G45",null,"G46",null,"G47",null,"H",null,"H49",null,"H50",null,"H51",null,"H52",null,"H53",null,"I",null,"J",null,"J58",null,"J59_J60",null,"J61",null,"J62_J63",null,"K",null,"K64",null,"K65",null,"K66",null,"L",null,"L68A",null,"M",null,"M69_M70",null,"M71",null,"M72",null,"M73",null,"M74_M75",null,"N",null,"N77",null,"N78",null,"N79",null,"N80-N82",null,"O",null,"P",null,"Q",null,"Q86",null,"Q87_Q88",null,"R",null,"R90-R92",null,"R93",null,"S",null,"S94",null,"S95",null,"S96",null,"T",null,"U",null,"HH",null,"HH_HEAT",null,"HH_TRA",null,"HH_OTH",null,"CHINV_PA",null,"STADIF",null,"ROW_ACT",null,"ENV",null,"TSUE"]
[null,"TABLE USE","label","Total NACE industries",null,"Agriculture, forestry and fishing",null,"Crop and animal production, hunting and related service activities",null,"Forestry and logging",null,"Fishing and aquaculture",null,"Mining and quarrying",null,"Manufacturing",null,"Manufacture of food products, beverages and tobacco\nproducts",null,"Manufacture of textiles, wearing apparel and leather products",null,"Manufacture of wood and of products of wood and cork, except furniture; manufacture of articles of straw and plaiting materials",null,"Manufacture of paper and paper products",null,"Printing and reproduction of recorded media",null,"Manufacture of coke and refined petroleum products",null,"Manufacture of chemicals and chemical products",null,"Manufacture of basic pharmaceutical products and pharmaceutical preparations",null,"Manufacture of rubber and plastic products",null,"Manufacture of other non-metallic mineral products",null,"Manufacture of basic metals",null,"Manufacture of fabricated metal products, except machinery and equipment",null,"Manufacture of computer, electronic and optical products",null,"Manufacture of electrical equipment",null,"Manufacture of machinery and equipment n.e.c.",null,"Manufacture of motor vehicles, trailers and semi-trailers",null,"Manufacture of other transport equipment",null,"Manufacture of furniture; other manufacturing",null,"Repair and installation of machinery and equipment",null,"Electricity, gas, steam and air conditioning supply",null,"Water supply; sewerage, waste management and remediation activities",null,"Water collection, treatment and supply",null,"Sewerage, waste management, remediation activities",null,"Construction",null,"Wholesale and retail trade; repair of motor vehicles and motorcycles",null,"Wholesale and retail trade and repair of motor vehicles and motorcycles",null,"Wholesale trade, except of motor vehicles and motorcycles",null,"Retail trade, except of motor vehicles and motorcycles",null,"Transportation and storage",null,"Land transport and transport via pipelines",null,"Water transport",null,"Air transport",null,"Warehousing and support activities for transportation",null,"Postal and courier activities",null,"Accommodation and food service activities",null,"Information and communication",null,"Publishing activities",null,"Motion picture, video, television programme production; programming and broadcasting activities",null,"Telecommunications",null,"Computer programming, consultancy, and information service activities",null,"Financial and insurance activities",null,"Financial service activities, except insurance and pension funding",null,"Insurance, reinsurance and pension funding, except compulsory social security",null,"Activities auxiliary to financial services and insurance activities",null,"Real estate activities",null,"Of which: Imputed rents of owner-occupied dwellings",null,"Professional, scientific and technical activities",null,"Legal and accounting activities; activities of head offices; management consultancy activities",null,"Architectural and engineering activities; technical testing and analysis",null,"Scientific research and development",null,"Advertising and market research",null,"Other professional, scientific and technical activities; veterinary activities",null,"Administrative and support service activities",null,"Rental and leasing activities",null,"Employment activities",null,"Travel agency, tour operator reservation service and related activities",null,"Security and investigation, service and landscape, office administrative and support activities",null,"Public administration and defence; compulsory social security",null,"Education",null,"Human health and social work activities",null,"Human health activities",null,"Residential care activities and social work activities without accommodation",null,"Arts, entertainment and recreation",null,"Creative, arts and entertainment activities; libraries, archives, museums and other cultural activities; gambling and betting activities",null,"Sports activities and amusement and recreation activities",null,"Other service activities",null,"Activities of membership organisations",null,"Repair of computers and personal and household goods",null,"Other personal service activities",null,"Activities of households as employers; undifferentiated goods- and services-producing activities of households for own use",null,"Activities of extraterritorial organisations and bodies",null,"Total activities by households",null,"Heating/cooling activities by households",null,"Transport activities by households",null,"Other activities by households",null,"Changes in inventories and produced assets",null,"Statistical Differences",null,"Rest of the World - economic activities",null,"Environment",null,"TOTAL USE OF NATURAL INPUTS, PRODUCTS, AND RESIDUALS"]

{"sheet":"PEFA rows","index":9,"n_rows":38,"n_cols":6,"rows_kept":38,"cut":false,"hidden":true,"merged":[]}
[null,"PEFA rows",null,null,null,"Stephan's changes, 7 July 2015"]
[null,"level","code","label",null,"Stephan's changes, 16 July 2015"]
[null,1,"N00","NATURAL ENERGY INPUTS"]
[null,2,"N01","Fossil non-renewable natural energy inputs"]
[null,2,"N02","Nuclear non-renewable natural energy inputs"]
[null,2,"N03","Hydro based renewable natural energy inputs"]
[null,2,"N04","Wind based renewable natural energy inputs"]
[null,2,"N05","Solar based renewable natural energy inputs"]
[null,2,"N06","Biomass based renewable natural energy inputs"]
[null,2,"N07","Other renewable natural energy inputs"]
[null,1,"P00","ENERGY PRODUCTS"]
[null,2,"P08","Hard coal"]
[null,2,"P09","Brown coal and peat"]
[null,2,"P10","Derived gases (= manufactured gases excl. biogas) "]
[null,2,"P11","Secondary coal products (coke, coal tar, patent fuel, BKB and peat products)"]
[null,2,"P12","Crude oil, NGL, and other hydrocarbons (excl. bio)"]
[null,2,"P13","Natural gas (without bio)"]
[null,2,"P14","Motor spirit (without bio)"]
[null,2,"P15","Kerosenes and jet fuels (without bio)"]
[null,2,"P16","Naphtha"]
[null,2,"P17","Transport diesel (without bio)"]
[null,2,"P18","Heating and other gasoil (without bio)"]
[null,2,"P19","Residual fuel oil"]
[null,2,"P20","Refinery gas, ethane and LPG"]
[null,2,"P21","Other petroleum products incl. additives/oxygenates and refinery feedstocks"]
[null,2,"P22","Nuclear fuel"]
[null,2,"P23","Wood, wood waste and other solid biomass, charcoal"]
[null,2,"P24","Liquid biofuels"]
[null,2,"P25","Biogas"]
[null,2,"P26","Electrical energy"]
[null,2,"P27","Heat"]
[null,1,"R00","ENERGY RESIDUALS"]
[null,2,"R28","Renewable waste"]
[null,2,"R29","Non-renewable waste"]
[null,2,"R30","Energy losses all kinds of (during extraction, distribution, storage and transformation, and dissipative heat from end use)"]
[null,2,"R31","Energy incorporated in products for non-energy use"]
[null,1,"STADIF","Statistical Differences"]
[null,0,"NPR","TOTAL SUPPLY / TOTAL USE"]

{"sheet":"PEFA bridging items","index":10,"n_rows":15,"n_cols":4,"rows_kept":15,"cut":false,"hidden":true,"merged":[]}
[null,"PEFA bridging items"]
[null,"code","label","Labels changed on 22 April 2022 by Annamaria based Stephan's request to be alinged with Eurobase codes"]
[1,"DEU_RES","Energy use by resident units (domestic energy use) – residence principle"]
[2,"TOT_NRA","(−) Energy use by resident units, fuel purchased abroad – total"]
[2.1,"NRA_FISH","      Energy use by resident units, fuel purchased abroad – fishing vessels"]
[2.2000000000000002,"NRA_I60","      Energy use by resident units, fuel purchased abroad – land transport"]
[2.2999999999999998,"NRA_I61","      Energy use by resident units, fuel purchased abroad – water transport"]
[2.4,"NRA_I62","      Energy use by resident units, fuel purchased abroad – air transport"]
[3,"TOT_NRES","(+) Energy use by non-resident units (only if included in gross inland energy consumption), fuel purchased on the territory – total"]
[3.1,"NRES_I60","      Energy use by non-resident units (only if included in gross inland energy consumption), fuel purchased on the territory – land transport"]
[3.2,"NRES_I61","      Energy use by non-resident units (only if included in gross inland energy consumption), fuel purchased on the territory – water transport"]
[3.3,"NRES_I62","      Energy use by non-resident units (only if included in gross inland energy consumption), fuel purchased on the territory – air transport"]
[4,"ADJ_OTH","(+) Other adjustments and statistical differences","Sign changed from (+/-) to (+) by Stephan, 23 April 2021"]
["4m","MEMO_BEYO5AQ","         of which (memo): energy flows not reported in energy statistics but included in PEFA (bridging item 1)"," Sign (-) deleted by Stephan 23 April 2021"]
[5,"GIC_TER","(=) Gross inland consumption - territory principle"]

{"sheet":"footnote_list","index":11,"n_rows":115,"n_cols":6,"rows_kept":115,"cut":false,"hidden":false,"merged":[[1,5,1,6],[2,5,2,6],[6,2,6,3],[1,1,1,2],[2,1,2,2],[4,1,4,2],[3,1,3,2]]}
[null,null,null,null,null," "]
[null,"Country :",null,{"$f":"IF(intro!D12=\"\",\"\",intro!D12)","v":""},null,"Flags Mode"]
[null,"Year :",null,{"$f":"IF(intro!E14=\"\",\"\",intro!E14)","v":""},null,{"$f":"parameters!C19","v":"SDMX Flags"}]
[null,"Type:",null,"Text"]
[null,"Content:",null,"Footnotes (associating symbols to text)"]
[]
[null,null,"List of footnotes"]
[]
[null,null,"footnote symbol","footnote text associated to symbol"]
[null,null,"b)","Break in series"]
[null,null,"c)","Confidential"]
[null,null,"d)","Secondary confidentiality"]
[null,null,"e)","Estimated data"]
[null,null,"n)","Not to be published (only to be set by Eurostat!)"]
[null,null,"p)","Provisional "]
[null,null,"s)","Eurostat estimate (only to be set by Eurostat!)"]
[null,null,"1)"]
[null,null,"2)"]
[null,null,"3)"]
[null,null,"4)"]
[null,null,"5)"]
[null,null,"6)"]
[null,null,"7)"]
[null,null,"8)"]
[null,null,"9)"]
[null,null,"10)"]
[null,null,"11)"]
[null,null,"12)"]
[null,null,"13)"]
[null,null,"14)"]
[null,null,"15)"]
[null,null,"16)"]
[null,null,"17)"]
[null,null,"18)"]
[null,null,"19)"]
[null,null,"20)"]
[null,null,"21)"]
[null,null,"22)"]
[null,null,"23)"]
[null,null,"24)"]
[null,null,"25)"]
[null,null,"26)"]
[null,null,"27)"]
[null,null,"28)"]
[null,null,"29)"]
[null,null,"30)"]
[null,null,"31)"]
[null,null,"32)"]
[null,null,"33)"]
[null,null,"34)"]
[null,null,"35)"]
[null,null,"36)"]
[null,null,"37)"]
[null,null,"38)"]
[null,null,"39)"]
[null,null,"40)"]
[null,null,"41)"]
[null,null,"42)"]
[null,null,"43)"]
[null,null,"44)"]
[null,null,"45)"]
[null,null,"46)"]
[null,null,"47)"]
[null,null,"48)"]
[null,null,"49)"]
[null,null,"50)"]
[null,null,"51)"]
[null,null,"52)"]
[null,null,"53)"]
[null,null,"54)"]
[null,null,"55)"]
[null,null,"56)"]
[null,null,"57)"]
[null,null,"58)"]
[null,null,"59)"]
[null,null,"60)"]
[null,null,"61)"]
[null,null,"62)"]
[null,null,"63)"]
[null,null,"64)"]
[null,null,"65)"]
[null,null,"66)"]
[null,null,"67)"]
[null,null,"68)"]
[null,null,"69)"]
[null,null,"70)"]
[null,null,"71)"]
[null,null,"72)"]
[null,null,"73)"]
[null,null,"74)"]
[null,null,"75)"]
[null,null,"76)"]
[null,null,"77)"]
[null,null,"78)"]
[null,null,"79)"]
[null,null,"80)"]
[null,null,"81)"]
[null,null,"82)"]
[null,null,"83)"]
[null,null,"84)"]
[null,null,"85)"]
[null,null,"86)"]
[null,null,"87)"]
[null,null,"88)"]
[null,null,"89)"]
[null,null,"90)"]
[null,null,"91)"]
[null,null,"92)"]
[null,null,"93)"]
[null,null,"94)"]
[null,null,"95)"]
[null,null,"96)"]
[null,null,"97)"]
[null,null,"98)"]
[null,null,"99)"]

{"sheet":"Table_A","index":12,"n_rows":50,"n_cols":190,"rows_kept":50,"cut":false,"hidden":false,"merged":[[4,187,6,187],[2,5,2,6],[3,5,3,6],[4,5,4,6],[3,177,3,178],[5,177,6,178],[4,177,4,178],[5,175,6,176],[4,175,4,176],[4,173,4,174],[5,173,6,174],[3,173,3,174],[3,175,3,176],[5,47,6,48],[5,45,6,46],[5,43,6,44],[4,45,4,46],[5,85,6,86],[5,93,6,94],[5,83,6,84],[5,65,6,66],[5,63,6,64],[5,61,6,62],[5,59,6,60],[1,1,1,3],[2,1,2,3],[3,1,3,3],[4,1,4,3],[5,1,5,3],[5,25,6,26],[5,37,6,38],[5,35,6,36],[5,33,6,34],[5,31,6,32],[5,29,6,30],[5,27,6,28],[5,13,6,14],[4,11,4,12],[4,13,4,14],[4,15,4,16],[4,17,4,18],[4,19,4,20],[6,1,6,4],[5,17,6,18],[5,15,6,16],[1,7,1,8],[1,9,1,10],[1,5,1,6],[5,179,6,180],[5,21,6,22],[5,19,6,20],[5,169,6,170],[5,133,6,134],[5,131,6,132],[5,129,6,130],[5,153,6,154],[5,151,6,152],[5,149,6,150],[5,39,6,40],[5,125,6,126],[5,137,6,138],[5,135,6,136],[5,79,6,80],[5,101,6,102],[5,99,6,100],[5,97,6,98],[5,95,6,96],[5,119,6,120],[5,121,6,122],[5,123,6,124],[5,171,6,172],[5,167,6,168],[5,165,6,166],[5,163,6,164],[5,161,6,162],[5,159,6,160],[5,41,6,42],[5,53,6,54],[5,67,6,68],[5,55,6,56],[5,77,6,78],[5,75,6,76],[5,73,6,74],[5,71,6,72],[5,69,6,70],[5,49,6,50],[5,91,6,92],[5,89,6,90],[5,87,6,88],[41,4,41,5],[43,4,43,5],[39,4,39,5],[37,4,37,5],[42,4,42,5],[4,7,4,8],[4,9,4,10],[35,4,35,5],[36,4,36,5],[32,4,32,5],[33,4,33,5],[24,4,24,5],[25,4,25,5],[26,4,26,5],[27,4,27,5],[28,4,28,5],[29,4,29,5],[30,4,30,5],[31,4,31,5],[20,4,20,5],[21,4,21,5],[22,4,22,5],[7,4,7,6],[14,4,14,5],[40,4,40,5],[5,57,6,58],[5,51,6,52],[5,81,6,82],[4,77,4,78],[4,75,4,76],[4,73,4,74],[4,71,4,72],[4,69,4,70],[38,4,38,5],[5,23,6,24],[34,4,34,5],[16,4,16,5],[17,4,17,5],[18,4,18,5],[19,4,19,5],[15,4,15,5],[8,4,8,5],[9,4,9,5],[5,11,6,12],[5,9,6,10],[5,7,6,8],[13,4,13,5],[12,4,12,5],[11,4,11,5],[10,4,10,5],[5,5,6,6],[23,4,23,5],[4,41,4,42],[4,39,4,40],[4,37,4,38],[4,35,4,36],[4,31,4,32],[4,29,4,30],[4,27,4,28],[4,25,4,26],[4,23,4,24],[4,21,4,22],[4,33,4,34],[4,49,4,50],[4,47,4,48],[4,43,4,44],[4,101,4,102],[4,99,4,100],[4,97,4,98],[4,95,4,96],[4,93,4,94],[4,91,4,92],[4,89,4,90],[4,87,4,88],[4,67,4,68],[4,65,4,66],[4,63,4,64],[4,61,4,62],[4,59,4,60],[4,57,4,58],[4,55,4,56],[4,53,4,54],[4,51,4,52],[4,85,4,86],[4,83,4,84],[4,81,4,82],[4,79,4,80],[4,179,4,180],[4,171,4,172],[4,169,4,170],[4,167,4,168],[4,165,4,166],[4,163,4,164],[4,161,4,162],[4,159,4,160],[4,157,4,158],[4,155,4,156],[4,153,4,154],[4,151,4,152],[4,149,4,150],[4,147,4,148],[4,145,4,146],[4,143,4,144],[4,111,4,112],[4,109,4,110],[4,107,4,108],[4,141,4,142],[4,139,4,140],[4,137,4,138],[4,135,4,136],[4,133,4,134],[4,131,4,132],[4,129,4,130],[4,127,4,128],[4,125,4,126],[4,105,4,106],[4,103,4,104],[5,127,6,128],[5,157,6,158],[5,155,6,156],[5,147,6,148],[5,145,6,146],[5,143,6,144],[5,141,6,142],[5,139,6,140],[5,111,6,112],[5,109,6,110],[5,107,6,108],[5,105,6,106],[5,103,6,104],[5,117,6,118],[5,115,6,116],[5,113,6,114],[4,123,4,124],[4,121,4,122],[4,119,4,120],[4,117,4,118],[4,115,4,116],[4,113,4,114],[1,11,1,12],[1,13,1,14],[1,15,1,16],[1,17,1,18],[1,19,1,20],[1,21,1,22],[1,23,1,24],[1,25,1,26],[1,27,1,28],[1,29,1,30],[1,31,1,32],[1,33,1,34],[1,35,1,36],[1,37,1,38],[1,39,1,40],[1,41,1,42],[1,43,1,44],[1,45,1,46],[1,47,1,48],[1,49,1,50],[1,51,1,52],[1,53,1,54],[1,55,1,56],[1,57,1,58],[1,59,1,60],[1,61,1,62],[1,63,1,64],[1,65,1,66],[1,67,1,68],[1,69,1,70],[1,71,1,72],[1,73,1,74],[1,75,1,76],[1,77,1,78],[1,79,1,80],[1,81,1,82],[1,83,1,84],[1,85,1,86],[1,87,1,88],[1,89,1,90],[1,91,1,92],[1,93,1,94],[1,95,1,96],[1,97,1,98],[1,99,1,100],[1,101,1,102],[1,103,1,104],[1,105,1,106],[1,107,1,108],[1,109,1,110],[1,111,1,112],[1,113,1,114],[1,115,1,116],[1,117,1,118],[1,119,1,120],[1,121,1,122],[1,123,1,124],[1,125,1,126],[1,127,1,128],[1,129,1,130],[1,131,1,132],[1,133,1,134],[1,135,1,136],[1,137,1,138],[1,139,1,140],[1,141,1,142],[1,143,1,144],[1,145,1,146],[1,147,1,148],[1,149,1,150],[1,151,1,152],[1,153,1,154],[1,155,1,156],[1,157,1,158],[1,159,1,160],[1,161,1,162],[1,163,1,164],[1,165,1,166],[1,167,1,168],[1,169,1,170],[1,171,1,172],[1,173,1,174],[1,175,1,176],[1,177,1,178],[1,179,1,180],[2,7,2,8],[2,9,2,10],[2,11,2,12],[2,13,2,14],[2,15,2,16],[2,17,2,18],[2,19,2,20],[2,21,2,22],[2,23,2,24],[2,25,2,26],[2,27,2,28],[2,29,2,30],[2,31,2,32],[2,33,2,34],[2,35,2,36],[2,61,2,62],[2,59,2,60],[2,57,2,58],[2,55,2,56],[2,53,2,54],[2,51,2,52],[2,49,2,50],[2,47,2,48],[2,41,2,42],[2,39,2,40],[2,37,2,38],[2,85,2,86],[2,83,2,84],[2,81,2,82],[2,79,2,80],[2,77,2,78],[2,71,2,72],[2,69,2,70],[2,67,2,68],[2,65,2,66],[2,45,2,46],[2,43,2,44],[2,63,2,64],[2,87,2,88],[2,75,2,76],[2,73,2,74],[2,99,2,100],[2,97,2,98],[2,95,2,96],[2,93,2,94],[2,91,2,92],[2,89,2,90],[2,115,2,116],[2,113,2,114],[2,111,2,112],[2,109,2,110],[2,107,2,108],[2,105,2,106],[2,103,2,104],[2,101,2,102],[2,135,2,136],[2,133,2,134],[2,131,2,132],[2,129,2,130],[2,127,2,128],[2,125,2,126],[2,123,2,124],[2,121,2,122],[2,119,2,120],[44,4,44,5],[2,179,2,180],[2,177,2,178],[2,175,2,176],[2,173,2,174],[2,137,2,138],[2,171,2,172],[2,169,2,170],[2,167,2,168],[2,165,2,166],[2,163,2,164],[2,161,2,162],[2,159,2,160],[2,157,2,158],[2,155,2,156],[2,153,2,154],[2,151,2,152],[2,149,2,150],[2,147,2,148],[2,145,2,146],[2,143,2,144],[2,141,2,142],[2,139,2,140],[2,117,2,118]]}
["DATAENTRY"]
[null,"Country :",null,null,{"$f":"IF(intro!D12=\"\",\"\",intro!D12)","v":""},"no",null,1,null,{"$f":"H2+1","v":2},null,{"$f":"J2+1","v":3},null,{"$f":"L2+1","v":4},null,{"$f":"N2+1","v":5},null,{"$f":"P2+1","v":6},null,{"$f":"R2+1","v":7},null,{"$f":"T2+1","v":8},null,{"$f":"V2+1","v":9},null,{"$f":"X2+1","v":10},null,{"$f":"Z2+1","v":11},null,{"$f":"AB2+1","v":12},null,{"$f":"AD2+1","v":13},null,{"$f":"AF2+1","v":14},null,{"$f":"AH2+1","v":15},null,{"$f":"AJ2+1","v":16},null,{"$f":"AL2+1","v":17},null,{"$f":"AN2+1","v":18},null,{"$f":"AP2+1","v":19},null,{"$f":"AR2+1","v":20},null,{"$f":"AT2+1","v":21},null,{"$f":"AV2+1","v":22},null,{"$f":"AX2+1","v":23},null,{"$f":"AZ2+1","v":24},null,{"$f":"BB2+1","v":25},null,{"$f":"BD2+1","v":26},null,{"$f":"BF2+1","v":27},null,{"$f":"BH2+1","v":28},null,{"$f":"BJ2+1","v":29},null,{"$f":"BL2+1","v":30},null,{"$f":"BN2+1","v":31},null,{"$f":"BP2+1","v":32},null,{"$f":"BR2+1","v":33},null,{"$f":"BT2+1","v":34},null,{"$f":"BV2+1","v":35},null,{"$f":"BX2+1","v":36},null,{"$f":"BZ2+1","v":37},null,{"$f":"CB2+1","v":38},null,{"$f":"CD2+1","v":39},null,{"$f":"CF2+1","v":40},null,{"$f":"CH2+1","v":41},null,{"$f":"CJ2+1","v":42},null,{"$f":"CL2+1","v":43},null,{"$f":"CN2+1","v":44},null,{"$f":"CP2+1","v":45},null,{"$f":"CR2+1","v":46},null,{"$f":"CT2+1","v":47},null,{"$f":"CV2+1","v":48},null,{"$f":"CX2+1","v":49},null,{"$f":"CZ2+1","v":50},null,{"$f":"DB2+1","v":51},null,{"$f":"DD2+1","v":52},null,{"$f":"DF2+1","v":53},null,{"$f":"DH2+1","v":54},null,{"$f":"DJ2+1","v":55},null,{"$f":"DL2+1","v":56},null,{"$f":"DN2+1","v":57},null,{"$f":"DP2+1","v":58},null,{"$f":"DR2+1","v":59},null,{"$f":"DT2+1","v":60},null,{"$f":"DV2+1","v":61},null,{"$f":"DX2+1","v":62},null,{"$f":"DZ2+1","v":63},null,{"$f":"EB2+1","v":64},null,{"$f":"ED2+1","v":65},null,{"$f":"EF2+1","v":66},null,{"$f":"EH2+1","v":67},null,{"$f":"EJ2+1","v":68},null,{"$f":"EL2+1","v":69},null,{"$f":"EN2+1","v":70},null,{"$f":"EP2+1","v":71},null,{"$f":"ER2+1","v":72},null,{"$f":"ET2+1","v":73},null,{"$f":"EV2+1","v":74},null,{"$f":"EX2+1","v":75},null,{"$f":"EZ2+1","v":76},null,{"$f":"FB2+1","v":77},null,{"$f":"FD2+1","v":78},null,{"$f":"FF2+1","v":79},null,{"$f":"FH2+1","v":80},null,{"$f":"FJ2+1","v":81},null,{"$f":"FL2+1","v":82},null,{"$f":"FN2+1","v":83},null,{"$f":"FP2+1","v":84},null,{"$f":"FR2+1","v":85},null,{"$f":"FT2+1","v":86},null,{"$f":"FV2+1","v":87}]
[null,"Year :",null,null,{"$f":"IF(intro!E14=\"\",\"\",intro!E14)","v":""},"Level",null,{"$f":"'PEFA Columns'!D2","v":1},null,{"$f":"'PEFA Columns'!F2","v":2},null,{"$f":"'PEFA Columns'!H2","v":3},null,{"$f":"'PEFA Columns'!J2","v":3},null,{"$f":"'PEFA Columns'!L2","v":3},null,{"$f":"'PEFA Columns'!N2","v":2},null,{"$f":"'PEFA Columns'!P2","v":2},null,{"$f":"'PEFA Columns'!R2","v":3},null,{"$f":"'PEFA Columns'!T2","v":3},null,{"$f":"'PEFA Columns'!V2","v":3},null,{"$f":"'PEFA Columns'!X2","v":3},null,{"$f":"'PEFA Columns'!Z2","v":3},null,{"$f":"'PEFA Columns'!AB2","v":3},null,{"$f":"'PEFA Columns'!AD2","v":3},null,{"$f":"'PEFA Columns'!AF2","v":3},null,{"$f":"'PEFA Columns'!AH2","v":3},null,{"$f":"'PEFA Columns'!AJ2","v":3},null,{"$f":"'PEFA Columns'!AL2","v":3},null,{"$f":"'PEFA Columns'!AN2","v":3},null,{"$f":"'PEFA Columns'!AP2","v":3},null,{"$f":"'PEFA Columns'!AR2","v":3},null,{"$f":"'PEFA Columns'!AT2","v":3},null,{"$f":"'PEFA Columns'!AV2","v":3},null,{"$f":"'PEFA Columns'!AX2","v":3},null,{"$f":"'PEFA Columns'!AZ2","v":3},null,{"$f":"'PEFA Columns'!BB2","v":3},null,{"$f":"'PEFA Columns'!BD2","v":2},null,{"$f":"'PEFA Columns'!BF2","v":2},null,{"$f":"'PEFA Columns'!BH2","v":3},null,{"$f":"'PEFA Columns'!BJ2","v":3},null,{"$f":"'PEFA Columns'!BL2","v":2},null,{"$f":"'PEFA Columns'!BN2","v":2},null,{"$f":"'PEFA Columns'!BP2","v":3},null,{"$f":"'PEFA Columns'!BR2","v":3},null,{"$f":"'PEFA Columns'!BT2","v":3},null,{"$f":"'PEFA Columns'!BV2","v":2},null,{"$f":"'PEFA Columns'!BX2","v":3},null,{"$f":"'PEFA Columns'!BZ2","v":3},null,{"$f":"'PEFA Columns'!CB2","v":3},null,{"$f":"'PEFA Columns'!CD2","v":3},null,{"$f":"'PEFA Columns'!CF2","v":3},null,{"$f":"'PEFA Columns'!CH2","v":2},null,{"$f":"'PEFA Columns'!CJ2","v":2},null,{"$f":"'PEFA Columns'!CL2","v":3},null,{"$f":"'PEFA Columns'!CN2","v":3},null,{"$f":"'PEFA Columns'!CP2","v":3},null,{"$f":"'PEFA Columns'!CR2","v":3},null,{"$f":"'PEFA Columns'!CT2","v":2},null,{"$f":"'PEFA Columns'!CV2","v":3},null,{"$f":"'PEFA Columns'!CX2","v":3},null,{"$f":"'PEFA Columns'!CZ2","v":3},null,{"$f":"'PEFA Columns'!DB2","v":2},null,{"$f":"'PEFA Columns'!DD2","v":3},null,{"$f":"'PEFA Columns'!DF2","v":2},null,{"$f":"'PEFA Columns'!DH2","v":3},null,{"$f":"'PEFA Columns'!DJ2","v":3},null,{"$f":"'PEFA Columns'!DL2","v":3},null,{"$f":"'PEFA Columns'!DN2","v":3},null,{"$f":"'PEFA Columns'!DP2","v":3},null,{"$f":"'PEFA Columns'!DR2","v":2},null,{"$f":"'PEFA Columns'!DT2","v":3},null,{"$f":"'PEFA Columns'!DV2","v":3},null,{"$f":"'PEFA Columns'!DX2","v":3},null,{"$f":"'PEFA Columns'!DZ2","v":3},null,{"$f":"'PEFA Columns'!EB2","v":2},null,{"$f":"'PEFA Columns'!ED2","v":2},null,{"$f":"'PEFA Columns'!EF2","v":2},null,{"$f":"'PEFA Columns'!EH2","v":3},null,{"$f":"'PEFA Columns'!EJ2","v":3},null,{"$f":"'PEFA Columns'!EL2","v":2},null,{"$f":"'PEFA Columns'!EN2","v":3},null,{"$f":"'PEFA Columns'!EP2","v":3},null,{"$f":"'PEFA Columns'!ER2","v":2},null,{"$f":"'PEFA Columns'!ET2","v":3},null,{"$f":"'PEFA Columns'!EV2","v":3},null,{"$f":"'PEFA Columns'!EX2","v":3},null,{"$f":"'PEFA Columns'!EZ2","v":2},null,{"$f":"'PEFA Columns'!FB2","v":2},null,{"$f":"'PEFA Columns'!FD2","v":1},null,{"$f":"'PEFA Columns'!FF2","v":2},null,{"$f":"'PEFA Columns'!FH2","v":2},null,{"$f":"'PEFA Columns'!FJ2","v":2},null,{"$f":"'PEFA Columns'!FL2","v":1},null,{"$f":"'PEFA Columns'!FN2","v":1},null,{"$f":"'PEFA Columns'!FP2","v":1},null,{"$f":"'PEFA Columns'!FR2","v":1},null,{"$f":"'PEFA Columns'!FT2","v":0}]
[null,"Number and Type:",null,null,"Table A - Physical supply table for energy flows",null,null," ",null,null,null,null,null,null,null,null,null,null,null,null,null,"INDUSTRIES (NACE rev 2)",null,null,null,null,null,null,null,null,null,null,null,null,null,null,null,"INDUSTRIES (NACE rev 2)",null,null,null,null,null,null,null,null,null,null,null,null,null,null,null,null,null,null,null,null,null,null,null,"INDUSTRIES (NACE rev 2)",null,null,null,null,null,null,null,null,null,null,null,null,null,null,null,"INDUSTRIES (NACE rev 2)",null,null,null,null,null,null,null,null,null,null,null,null,null,null,null,null,null,"INDUSTRIES (NACE rev 2)",null,null,null,null,null,null,null,null,null,null,null,null,null,"INDUSTRIES (NACE rev 2)",null,null,null,null,null,null,null,null,null,null,null,null,null,null,null,null,null,null,null,null,null,null,null,null,null,null,null,null,null,null,null,"INDUSTRIES (NACE rev 2)",null,null,null,null,null,null,null,null,null,null,null,null,null,null,null,null,null,null,null,null,null,"HOUSEHOLDS",null,null,null,null,null,null,null,"ACCUMULATION",null,"STADIF",null,"REST OF THE WORLD",null,"ENVIRONMENT"]
[null,"Content:",null,null,"Energy Flows","Code",null,{"$f":"'PEFA Columns'!D3","v":"A_U   01-99"},null,{"$f":"'PEFA Columns'!F3","v":"A"},null,{"$f":"'PEFA Columns'!H3","v":"A01"},null,{"$f":"'PEFA Columns'!J3","v":"A02"},null,{"$f":"'PEFA Columns'!L3","v":"A03"},null,{"$f":"'PEFA Columns'!N3","v":"B"},null,{"$f":"'PEFA Columns'!P3","v":"C"},null,{"$f":"'PEFA Columns'!R3","v":"C10-C12"},null,{"$f":"'PEFA Columns'!T3","v":"C13-C15"},null,{"$f":"'PEFA Columns'!V3","v":"C16"},null,{"$f":"'PEFA Columns'!X3","v":"C17"},null,{"$f":"'PEFA Columns'!Z3","v":"C18"},null,{"$f":"'PEFA Columns'!AB3","v":"C19"},null,{"$f":"'PEFA Columns'!AD3","v":"C20"},null,{"$f":"'PEFA Columns'!AF3","v":"C21"},null,{"$f":"'PEFA Columns'!AH3","v":"C22"},null,{"$f":"'PEFA Columns'!AJ3","v":"C23"},null,{"$f":"'PEFA Columns'!AL3","v":"C24"},null,{"$f":"'PEFA Columns'!AN3","v":"C25"},null,{"$f":"'PEFA Columns'!AP3","v":"C26"},null,{"$f":"'PEFA Columns'!AR3","v":"C27"},null,{"$f":"'PEFA Columns'!AT3","v":"C28"},null,{"$f":"'PEFA Columns'!AV3","v":"C29"},null,{"$f":"'PEFA Columns'!AX3","v":"C30"},null,{"$f":"'PEFA Columns'!AZ3","v":"C31_C32"},null,{"$f":"'PEFA Columns'!BB3","v":"C33"},null,{"$f":"'PEFA Columns'!BD3","v":"D"},null,{"$f":"'PEFA Columns'!BF3","v":"E"},null,{"$f":"'PEFA Columns'!BH3","v":"E36"},null,{"$f":"'PEFA Columns'!BJ3","v":"E37-E39"},null,{"$f":"'PEFA Columns'!BL3","v":"F"},null,{"$f":"'PEFA Columns'!BN3","v":"G"},null,{"$f":"'PEFA Columns'!BP3","v":"G45"},null,{"$f":"'PEFA Columns'!BR3","v":"G46"},null,{"$f":"'PEFA Columns'!BT3","v":"G47"},null,{"$f":"'PEFA Columns'!BV3","v":"H"},null,{"$f":"'PEFA Columns'!BX3","v":"H49"},null,{"$f":"'PEFA Columns'!BZ3","v":"H50"},null,{"$f":"'PEFA Columns'!CB3","v":"H51"},null,{"$f":"'PEFA Columns'!CD3","v":"H52"},null,{"$f":"'PEFA Columns'!CF3","v":"H53"},null,{"$f":"'PEFA Columns'!CH3","v":"I"},null,{"$f":"'PEFA Columns'!CJ3","v":"J"},null,{"$f":"'PEFA Columns'!CL3","v":"J58"},null,{"$f":"'PEFA Columns'!CN3","v":"J59_J60"},null,{"$f":"'PEFA Columns'!CP3","v":"J61"},null,{"$f":"'PEFA Columns'!CR3","v":"J62_J63"},null,{"$f":"'PEFA Columns'!CT3","v":"K"},null,{"$f":"'PEFA Columns'!CV3","v":"K64"},null,{"$f":"'PEFA Columns'!CX3","v":"K65"},null,{"$f":"'PEFA Columns'!CZ3","v":"K66"},null,{"$f":"'PEFA Columns'!DB3","v":"L"},null,{"$f":"'PEFA Columns'!DD3","v":"L68A"},null,{"$f":"'PEFA Columns'!DF3","v":"M"},null,{"$f":"'PEFA Columns'!DH3","v":"M69_M70"},null,{"$f":"'PEFA Columns'!DJ3","v":"M71"},null,{"$f":"'PEFA Columns'!DL3","v":"M72"},null,{"$f":"'PEFA Columns'!DN3","v":"M73"},null,{"$f":"'PEFA Columns'!DP3","v":"M74_M75"},null,{"$f":"'PEFA Columns'!DR3","v":"N"},null,{"$f":"'PEFA Columns'!DT3","v":"N77"},null,{"$f":"'PEFA Columns'!DV3","v":"N78"},null,{"$f":"'PEFA Columns'!DX3","v":"N79"},null,{"$f":"'PEFA Columns'!DZ3","v":"N80-N82"},null,{"$f":"'PEFA Columns'!EB3","v":"O"},null,{"$f":"'PEFA Columns'!ED3","v":"P"},null,{"$f":"'PEFA Columns'!EF3","v":"Q"},null,{"$f":"'PEFA Columns'!EH3","v":"Q86"},null,{"$f":"'PEFA Columns'!EJ3","v":"Q87_Q88"},null,{"$f":"'PEFA Columns'!EL3","v":"R"},null,{"$f":"'PEFA Columns'!EN3","v":"R90-R92"},null,{"$f":"'PEFA Columns'!EP3","v":"R93"},null,{"$f":"'PEFA Columns'!ER3","v":"S"},null,{"$f":"'PEFA Columns'!ET3","v":"S94"},null,{"$f":"'PEFA Columns'!EV3","v":"S95"},null,{"$f":"'PEFA Columns'!EX3","v":"S96"},null,{"$f":"'PEFA Columns'!EZ3","v":"T"},null,{"$f":"'PEFA Columns'!FB3","v":"U"},null,{"$f":"'PEFA Columns'!FD3","v":"HH"},null,{"$f":"'PEFA Columns'!FF3","v":"HH_HEAT"},null,{"$f":"'PEFA Columns'!FH3","v":"HH_TRA"},null,{"$f":"'PEFA Columns'!FJ3","v":"HH_OTH"},null,{"$f":"'PEFA Columns'!FL3","v":"CHINV_PA"},null,{"$f":"'PEFA Columns'!FN3","v":"STADIF"},null,{"$f":"'PEFA Columns'!FP3","v":"ROW_ACT"},null,{"$f":"'PEFA Columns'!FR3","v":"ENV"},null,{"$f":"'PEFA Columns'!FT3","v":"TSUE"},null,null,null,null,null,null,null,"PROD_NRG"]
[null,"Unit :",null,null,"TJ","Label",null,{"$f":"'PEFA Columns'!D4","v":"Total NACE industries"},null,{"$f":"'PEFA Columns'!F4","v":"Agriculture, forestry and fishing"},null,{"$f":"'PEFA Columns'!H4","v":"Crop and animal production, hunting and related service activities"},null,{"$f":"'PEFA Columns'!J4","v":"Forestry and logging"},null,{"$f":"'PEFA Columns'!L4","v":"Fishing and aquaculture"},null,{"$f":"'PEFA Columns'!N4","v":"Mining and quarrying"},null,{"$f":"'PEFA Columns'!P4","v":"Manufacturing"},null,{"$f":"'PEFA Columns'!R4","v":"Manufacture of food products, beverages and tobacco\nproducts"},null,{"$f":"'PEFA Columns'!T4","v":"Manufacture of textiles, wearing apparel and leather products"},null,{"$f":"'PEFA Columns'!V4","v":"Manufacture of wood and of products of wood and cork, except furniture; manufacture of articles of straw and plaiting materials"},null,{"$f":"'PEFA Columns'!X4","v":"Manufacture of paper and paper products"},null,{"$f":"'PEFA Columns'!Z4","v":"Printing and reproduction of recorded media"},null,{"$f":"'PEFA Columns'!AB4","v":"Manufacture of coke and refined petroleum products"},null,{"$f":"'PEFA Columns'!AD4","v":"Manufacture of chemicals and chemical products"},null,{"$f":"'PEFA Columns'!AF4","v":"Manufacture of basic pharmaceutical products and pharmaceutical preparations"},null,{"$f":"'PEFA Columns'!AH4","v":"Manufacture of rubber and plastic products"},null,{"$f":"'PEFA Columns'!AJ4","v":"Manufacture of other non-metallic mineral products"},null,{"$f":"'PEFA Columns'!AL4","v":"Manufacture of basic metals"},null,{"$f":"'PEFA Columns'!AN4","v":"Manufacture of fabricated metal products, except machinery and equipment"},null,{"$f":"'PEFA Columns'!AP4","v":"Manufacture of computer, electronic and optical products"},null,{"$f":"'PEFA Columns'!AR4","v":"Manufacture of electrical equipment"},null,{"$f":"'PEFA Columns'!AT4","v":"Manufacture of machinery and equipment n.e.c."},null,{"$f":"'PEFA Columns'!AV4","v":"Manufacture of motor vehicles, trailers and semi-trailers"},null,{"$f":"'PEFA Columns'!AX4","v":"Manufacture of other transport equipment"},null,{"$f":"'PEFA Columns'!AZ4","v":"Manufacture of furniture; other manufacturing"},null,{"$f":"'PEFA Columns'!BB4","v":"Repair and installation of machinery and equipment"},null,{"$f":"'PEFA Columns'!BD4","v":"Electricity, gas, steam and air conditioning supply"},null,{"$f":"'PEFA Columns'!BF4","v":"Water supply; sewerage, waste management and remediation activities"},null,{"$f":"'PEFA Columns'!BH4","v":"Water collection, treatment and supply"},null,{"$f":"'PEFA Columns'!BJ4","v":"Sewerage, waste management, remediation activities"},null,{"$f":"'PEFA Columns'!BL4","v":"Construction"},null,{"$f":"'PEFA Columns'!BN4","v":"Wholesale and retail trade; repair of motor vehicles and motorcycles"},null,{"$f":"'PEFA Columns'!BP4","v":"Wholesale and retail trade and repair of motor vehicles and motorcycles"},null,{"$f":"'PEFA Columns'!BR4","v":"Wholesale trade, except of motor vehicles and motorcycles"},null,{"$f":"'PEFA Columns'!BT4","v":"Retail trade, except of motor vehicles and motorcycles"},null,{"$f":"'PEFA Columns'!BV4","v":"Transportation and storage"},null,{"$f":"'PEFA Columns'!BX4","v":"Land transport and transport via pipelines"},null,{"$f":"'PEFA Columns'!BZ4","v":"Water transport"},null,{"$f":"'PEFA Columns'!CB4","v":"Air transport"},null,{"$f":"'PEFA Columns'!CD4","v":"Warehousing and support activities for transportation"},null,{"$f":"'PEFA Columns'!CF4","v":"Postal and courier activities"},null,{"$f":"'PEFA Columns'!CH4","v":"Accommodation and food service activities"},null,{"$f":"'PEFA Columns'!CJ4","v":"Information and communication"},null,{"$f":"'PEFA Columns'!CL4","v":"Publishing activities"},null,{"$f":"'PEFA Columns'!CN4","v":"Motion picture, video, television programme production; programming and broadcasting activities"},null,{"$f":"'PEFA Columns'!CP4","v":"Telecommunications"},null,{"$f":"'PEFA Columns'!CR4","v":"Computer programming, consultancy, and information service activities"},null,{"$f":"'PEFA Columns'!CT4","v":"Financial and insurance activities"},null,{"$f":"'PEFA Columns'!CV4","v":"Financial service activities, except insurance and pension funding"},null,{"$f":"'PEFA Columns'!CX4","v":"Insurance, reinsurance and pension funding, except compulsory social security"},null,{"$f":"'PEFA Columns'!CZ4","v":"Activities auxiliary to financial services and insurance activities"},null,{"$f":"'PEFA Columns'!DB4","v":"Real estate activities"},null,{"$f":"'PEFA Columns'!DD4","v":"Of which: Imputed rents of owner-occupied dwellings"},null,{"$f":"'PEFA Columns'!DF4","v":"Professional, scientific and technical activities"},null,{"$f":"'PEFA Columns'!DH4","v":"Legal and accounting activities; activities of head offices; management consultancy activities"},null,{"$f":"'PEFA Columns'!DJ4","v":"Architectural and engineering activities; technical testing and analysis"},null,{"$f":"'PEFA Columns'!DL4","v":"Scientific research and development"},null,{"$f":"'PEFA Columns'!DN4","v":"Advertising and market research"},null,{"$f":"'PEFA Columns'!DP4","v":"Other professional, scientific and technical activities; veterinary activities"},null,{"$f":"'PEFA Columns'!DR4","v":"Administrative and support service activities"},null,{"$f":"'PEFA Columns'!DT4","v":"Rental and leasing activities"},null,{"$f":"'PEFA Columns'!DV4","v":"Employment activities"},null,{"$f":"'PEFA Columns'!DX4","v":"Travel agency, tour operator reservation service and related activities"},null,{"$f":"'PEFA Columns'!DZ4","v":"Security and investigation, service and landscape, office administrative and support activities"},null,{"$f":"'PEFA Columns'!EB4","v":"Public administration and defence; compulsory social security"},null,{"$f":"'PEFA Columns'!ED4","v":"Education"},null,{"$f":"'PEFA Columns'!EF4","v":"Human health and social work activities"},null,{"$f":"'PEFA Columns'!EH4","v":"Human health activities"},null,{"$f":"'PEFA Columns'!EJ4","v":"Residential care activities and social work activities without accommodation"},null,{"$f":"'PEFA Columns'!EL4","v":"Arts, entertainment and recreation"},null,{"$f":"'PEFA Columns'!EN4","v":"Creative, arts and entertainment activities; libraries, archives, museums and other cultural activities; gambling and betting activities"},null,{"$f":"'PEFA Columns'!EP4","v":"Sports activities and amusement and recreation activities"},null,{"$f":"'PEFA Columns'!ER4","v":"Other service activities"},null,{"$f":"'PEFA Columns'!ET4","v":"Activities of membership organisations"},null,{"$f":"'PEFA Columns'!EV4","v":"Repair of computers and personal and household goods"},null,{"$f":"'PEFA Columns'!EX4","v":"Other personal service activities"},null,{"$f":"'PEFA Columns'!EZ4","v":"Activities of households as employers; undifferentiated goods- and services-producing activities of households for own use"},null,{"$f":"'PEFA Columns'!FB4","v":"Activities of extraterritorial organisations and bodies"},null,{"$f":"'PEFA Columns'!FD4","v":"Total activities by households"},null,{"$f":"'PEFA Columns'!FF4","v":"Heating/cooling activities by households"},null,{"$f":"'PEFA Columns'!FH4","v":"Transport activities by households"},null,{"$f":"'PEFA Columns'!FJ4","v":"Other activities by households"},null,{"$f":"'PEFA Columns'!FL4","v":"Changes in inventories and produced assets"},null,{"$f":"'PEFA Columns'!FN4","v":"Statistical Differences"},null,{"$f":"'PEFA Columns'!FP4","v":"Rest of the World - economic activities"},null,{"$f":"'PEFA Columns'!FR4","v":"Environment"},null,{"$f":"'PEFA Columns'!FT4","v":"TOTAL SUPPLY OF NATURAL INPUTS, PRODUCTS, AND RESIDUALS"}]
[null,null,null,null,null,null,null,null,null,null,null,null,null,null,null,null,null,null,null,null,null,null,null,null,null,null,null,null,null,null,null,null,null,null,null,null,null,null,null,null,null,null,null,null,null,null,null,null,null,null,null,null,null,null,null,null,null,null,null,null,null,null,null,null,null,null,null,null,null,null,null,null,null,null,null,null,null,null,null,null,null,null,null,null,null,null,null,null,null,null,null,null,null,null,null,null,null,null,null,null,null,null,null,null,null,null,null,null,null,null,null,null,null,null,null,null,null,null,null,null,null,null,null,null,null,null,null,null,null,null,null,null,null,null,null,null,null,null,null,null,null,null,null,null,null,null,null,null,null,null,null,null,null,null,null,null,null,null,null,null,null,null,null,null,null,null,null,null,null,null,null,null,null,null,null,null,null,null,null,null,null,null,null,null,null,"UNIT_MEASURE","UNIT_MULT",null,"STK_FLOW","INDIC_PEFA"]
[null,"no","Level","Code","Label"]
[null,1,{"$f":"'PEFA rows'!B3","v":1},{"$f":"'PEFA rows'!C3","v":"N00"},{"$f":"'PEFA rows'!D3","v":"NATURAL ENERGY INPUTS"},null,null,null,null,null,null,null,null,null,null,null,null,null,null,null,null,null,null,null,null,null,null,null,null,null,null,null,null,null,null,null,null,null,null,null,null,null,null,null,null,null,null,null,null,null,null,null,null,null,null,null,null,null,null,null,null,null,null,null,null,null,null,null,null,null,null,null,null,null,null,null,null,null,null,null,null,null,null,null,null,null,null,null,null,null,null,null,null,null,null,null,null,null,null,null,null,null,null,null,null,null,null,null,null,null,null,null,null,null,null,null,null,null,null,null,null,null,null,null,null,null,null,null,null,null,null,null,null,null,null,null,null,null,null,null,null,null,null,null,null,null,null,null,null,null,null,null,null,null,null,null,null,null,null,null,null,null,null,null,null,null,null,null,null,null,null,null,null,null,null,null,null,{"$f":"SUM(FV10:FV16)","v":0},null,{"$f":"SUM(FX10:FX16)","v":0},null,{"$f":"IF(ROUND(SUM(FX9),1)>ROUND(SUM(Table_B!FX9),1),\"Supply > Use\",IF(ROUND(SUM(FX9),1)<ROUND(SUM(Table_B!FX9),1),\"Supply < Use\",\"\"))","v":""},null,null,null,"TJ",0,"N00","SUP","NAP"]
[null,{"$f":"B9+1","v":2},{"$f":"'PEFA rows'!B4","v":2},{"$f":"'PEFA rows'!C4","v":"N01"},{"$f":"'PEFA rows'!D4","v":"Fossil non-renewable natural energy inputs"},null,null,null,null,null,null,null,null,null,null,null,null,null,null,null,null,null,null,null,null,null,null,null,null,null,null,null,null,null,null,null,null,null,null,null,null,null,null,null,null,null,null,null,null,null,null,null,null,null,null,null,null,null,null,null,null,null,null,null,null,null,null,null,null,null,null,null,null,null,null,null,null,null,null,null,null,null,null,null,null,null,null,null,null,null,null,null,null,null,null,null,null,null,null,null,null,null,null,null,null,null,null,null,null,null,null,null,null,null,null,null,null,null,null,null,null,null,null,null,null,null,null,null,null,null,null,null,null,null,null,null,null,null,null,null,null,null,null,null,null,null,null,null,null,null,null,null,null,null,null,null,null,null,null,null,null,null,null,null,null,null,null,null,null,null,null,null,null,null,null,null,null,0,null,{"$f":"SUM(H10,FH10,FP10,FR10,FT10,FV10)","v":0},null,{"$f":"IF(ROUND(SUM(FX10),1)>ROUND(SUM(Table_B!FX10),1),\"Supply > Use\",IF(ROUND(SUM(FX10),1)<ROUND(SUM(Table_B!FX10),1),\"Supply < Use\",\"\"))","v":""},null,null,null,null,null,"N01"]
[null,{"$f":"B10+1","v":3},{"$f":"'PEFA rows'!B5","v":2},{"$f":"'PEFA rows'!C5","v":"N02"},{"$f":"'PEFA rows'!D5","v":"Nuclear non-renewable natural energy inputs"},null,null,null,null,null,null,null,null,null,null,null,null,null,null,null,null,null,null,null,null,null,null,null,null,null,null,null,null,null,null,null,null,null,null,null,null,null,null,null,null,null,null,null,null,null,null,null,null,null,null,null,null,null,null,null,null,null,null,null,null,null,null,null,null,null,null,null,null,null,null,null,null,null,null,null,null,null,null,null,null,null,null,null,null,null,null,null,null,null,null,null,null,null,null,null,null,null,null,null,null,null,null,null,null,null,null,null,null,null,null,null,null,null,null,null,null,null,null,null,null,null,null,null,null,null,null,null,null,null,null,null,null,null,null,null,null,null,null,null,null,null,null,null,null,null,null,null,null,null,null,null,null,null,null,null,null,null,null,null,null,null,null,null,null,null,null,null,null,null,null,null,null,0,null,0,null,{"$f":"IF(ROUND(SUM(FX11),1)>ROUND(SUM(Table_B!FX11),1),\"Supply > Use\",IF(ROUND(SUM(FX11),1)<ROUND(SUM(Table_B!FX11),1),\"Supply < Use\",\"\"))","v":""},null,null,null,null,null,"N02"]
[null,4,{"$f":"'PEFA rows'!B6","v":2},{"$f":"'PEFA rows'!C6","v":"N03"},{"$f":"'PEFA rows'!D6","v":"Hydro based renewable natural energy inputs"},null,null,null,null,null,null,null,null,null,null,null,null,null,null,null,null,null,null,null,null,null,null,null,null,null,null,null,null,null,null,null,null,null,null,null,null,null,null,null,null,null,null,null,null,null,null,null,null,null,null,null,null,null,null,null,null,null,null,null,null,null,null,null,null,null,null,null,null,null,null,null,null,null,null,null,null,null,null,null,null,null,null,null,null,null,null,null,null,null,null,null,null,null,null,null,null,null,null,null,null,null,null,null,null,null,null,null,null,null,null,null,null,null,null,null,null,null,null,null,null,null,null,null,null,null,null,null,null,null,null,null,null,null,null,null,null,null,null,null,null,null,null,null,null,null,null,null,null,null,null,null,null,null,null,null,null,null,null,null,null,null,null,null,null,null,null,null,null,null,null,null,null,0,null,0,null,{"$f":"IF(ROUND(SUM(FX12),1)>ROUND(SUM(Table_B!FX12),1),\"Supply > Use\",IF(ROUND(SUM(FX12),1)<ROUND(SUM(Table_B!FX12),1),\"Supply < Use\",\"\"))","v":""},null,null,null,null,null,"N03"]
[null,5,{"$f":"'PEFA rows'!B7","v":2},{"$f":"'PEFA rows'!C7","v":"N04"},{"$f":"'PEFA rows'!D7","v":"Wind based renewable natural energy inputs"},null,null,null,null,null,null,null,null,null,null,null,null,null,null,null,null,null,null,null,null,null,null,null,null,null,null,null,null,null,null,null,null,null,null,null,null,null,null,null,null,null,null,null,null,null,null,null,null,null,null,null,null,null,null,null,null,null,null,null,null,null,null,null,null,null,null,null,null,null,null,null,null,null,null,null,null,null,null,null,null,null,null,null,null,null,null,null,null,null,null,null,null,null,null,null,null,null,null,null,null,null,null,null,null,null,null,null,null,null,null,null,null,null,null,null,null,null,null,null,null,null,null,null,null,null,null,null,null,null,null,null,null,null,null,null,null,null,null,null,null,null,null,null,null,null,null,null,null,null,null,null,null,null,null,null,null,null,null,null,null,null,null,null,null,null,null,null,null,null,null,null,null,0,null,0,null,{"$f":"IF(ROUND(SUM(FX13),1)>ROUND(SUM(Table_B!FX13),1),\"Supply > Use\",IF(ROUND(SUM(FX13),1)<ROUND(SUM(Table_B!FX13),1),\"Supply < Use\",\"\"))","v":""},null,null,null,null,null,"N04"]
[null,6,{"$f":"'PEFA rows'!B8","v":2},{"$f":"'PEFA rows'!C8","v":"N05"},{"$f":"'PEFA rows'!D8","v":"Solar based renewable natural energy inputs"},null,null,null,null,null,null,null,null,null,null,null,null,null,null,null,null,null,null,null,null,null,null,null,null,null,null,null,null,null,null,null,null,null,null,null,null,null,null,null,null,null,null,null,null,null,null,null,null,null,null,null,null,null,null,null,null,null,null,null,null,null,null,null,null,null,null,null,null,null,null,null,null,null,null,null,null,null,null,null,null,null,null,null,null,null,null,null,null,null,null,null,null,null,null,null,null,null,null,null,null,null,null,null,null,null,null,null,null,null,null,null,null,null,null,null,null,null,null,null,null,null,null,null,null,null,null,null,null,null,null,null,null,null,null,null,null,null,null,null,null,null,null,null,null,null,null,null,null,null,null,null,null,null,null,null,null,null,null,null,null,null,null,null,null,null,null,null,null,null,null,null,null,0,null,0,null,{"$f":"IF(ROUND(SUM(FX14),1)>ROUND(SUM(Table_B!FX14),1),\"Supply > Use\",IF(ROUND(SUM(FX14),1)<ROUND(SUM(Table_B!FX14),1),\"Supply < Use\",\"\"))","v":""},null,null,null,null,null,"N05"]
[null,7,{"$f":"'PEFA rows'!B9","v":2},{"$f":"'PEFA rows'!C9","v":"N06"},{"$f":"'PEFA rows'!D9","v":"Biomass based renewable natural energy inputs"},null,null,null,null,null,null,null,null,null,null,null,null,null,null,null,null,null,null,null,null,null,null,null,null,null,null,null,null,null,null,null,null,null,null,null,null,null,null,null,null,null,null,null,null,null,null,null,null,null,null,null,null,null,null,null,null,null,null,null,null,null,null,null,null,null,null,null,null,null,null,null,null,null,null,null,null,null,null,null,null,null,null,null,null,null,null,null,null,null,null,null,null,null,null,null,null,null,null,null,null,null,null,null,null,null,null,null,null,null,null,null,null,null,null,null,null,null,null,null,null,null,null,null,null,null,null,null,null,null,null,null,null,null,null,null,null,null,null,null,null,null,null,null,null,null,null,null,null,null,null,null,null,null,null,null,null,null,null,null,null,null,null,null,null,null,null,null,null,null,null,null,null,0,null,0,null,{"$f":"IF(ROUND(SUM(FX15),1)>ROUND(SUM(Table_B!FX15),1),\"Supply > Use\",IF(ROUND(SUM(FX15),1)<ROUND(SUM(Table_B!FX15),1),\"Supply < Use\",\"\"))","v":""},null,null,null,null,null,"N06"]
[null,8,{"$f":"'PEFA rows'!B10","v":2},{"$f":"'PEFA rows'!C10","v":"N07"},{"$f":"'PEFA rows'!D10","v":"Other renewable natural energy inputs"},null,null,null,null,null,null,null,null,null,null,null,null,null,null,null,null,null,null,null,null,null,null,null,null,null,null,null,null,null,null,null,null,null,null,null,null,null,null,null,null,null,null,null,null,null,null,null,null,null,null,null,null,null,null,null,null,null,null,null,null,null,null,null,null,null,null,null,null,null,null,null,null,null,null,null,null,null,null,null,null,null,null,null,null,null,null,null,null,null,null,null,null,null,null,null,null,null,null,null,null,null,null,null,null,null,null,null,null,null,null,null,null,null,null,null,null,null,null,null,null,null,null,null,null,null,null,null,null,null,null,null,null,null,null,null,null,null,null,null,null,null,null,null,null,null,null,null,null,null,null,null,null,null,null,null,null,null,null,null,null,null,null,null,null,null,null,null,null,null,null,null,null,0,null,0,null,{"$f":"IF(ROUND(SUM(FX16),1)>ROUND(SUM(Table_B!FX16),1),\"Supply > Use\",IF(ROUND(SUM(FX16),1)<ROUND(SUM(Table_B!FX16),1),\"Supply < Use\",\"\"))","v":""},null,null,null,null,null,"N07"]
[null,9,{"$f":"'PEFA rows'!B11","v":1},{"$f":"'PEFA rows'!C11","v":"P00"},{"$f":"'PEFA rows'!D11","v":"ENERGY PRODUCTS"},null,null,{"$f":"SUM(H18:H37)","v":0},null,{"$f":"SUM(J18:J37)","v":0},null,{"$f":"SUM(L18:L37)","v":0},null,{"$f":"SUM(N18:N37)","v":0},null,{"$f":"SUM(P18:P37)","v":0},null,{"$f":"SUM(R18:R37)","v":0},null,{"$f":"SUM(T18:T37)","v":0},null,{"$f":"SUM(V18:V37)","v":0},null,{"$f":"SUM(X18:X37)","v":0},null,{"$f":"SUM(Z18:Z37)","v":0},null,{"$f":"SUM(AB18:AB37)","v":0},null,{"$f":"SUM(AD18:AD37)","v":0},null,{"$f":"SUM(AF18:AF37)","v":0},null,{"$f":"SUM(AH18:AH37)","v":0},null,{"$f":"SUM(AJ18:AJ37)","v":0},null,{"$f":"SUM(AL18:AL37)","v":0},null,{"$f":"SUM(AN18:AN37)","v":0},null,{"$f":"SUM(AP18:AP37)","v":0},null,{"$f":"SUM(AR18:AR37)","v":0},null,{"$f":"SUM(AT18:AT37)","v":0},null,{"$f":"SUM(AV18:AV37)","v":0},null,{"$f":"SUM(AX18:AX37)","v":0},null,{"$f":"SUM(AZ18:AZ37)","v":0},null,{"$f":"SUM(BB18:BB37)","v":0},null,{"$f":"SUM(BD18:BD37)","v":0},null,{"$f":"SUM(BF18:BF37)","v":0},null,{"$f":"SUM(BH18:BH37)","v":0},null,{"$f":"SUM(BJ18:BJ37)","v":0},null,{"$f":"SUM(BL18:BL37)","v":0},null,{"$f":"SUM(BN18:BN37)","v":0},null,{"$f":"SUM(BP18:BP37)","v":0},null,{"$f":"SUM(BR18:BR37)","v":0},null,{"$f":"SUM(BT18:BT37)","v":0},null,{"$f":"SUM(BV18:BV37)","v":0},null,{"$f":"SUM(BX18:BX37)","v":0},null,{"$f":"SUM(BZ18:BZ37)","v":0},null,{"$f":"SUM(CB18:CB37)","v":0},null,{"$f":"SUM(CD18:CD37)","v":0},null,{"$f":"SUM(CF18:CF37)","v":0},null,{"$f":"SUM(CH18:CH37)","v":0},null,{"$f":"SUM(CJ18:CJ37)","v":0},null,{"$f":"SUM(CL18:CL37)","v":0},null,{"$f":"SUM(CN18:CN37)","v":0},null,{"$f":"SUM(CP18:CP37)","v":0},null,{"$f":"SUM(CR18:CR37)","v":0},null,{"$f":"SUM(CT18:CT37)","v":0},null,{"$f":"SUM(CV18:CV37)","v":0},null,{"$f":"SUM(CX18:CX37)","v":0},null,{"$f":"SUM(CZ18:CZ37)","v":0},null,{"$f":"SUM(DB18:DB37)","v":0},null,{"$f":"SUM(DD18:DD37)","v":0},null,{"$f":"SUM(DF18:DF37)","v":0},null,{"$f":"SUM(DH18:DH37)","v":0},null,{"$f":"SUM(DJ18:DJ37)","v":0},null,{"$f":"SUM(DL18:DL37)","v":0},null,{"$f":"SUM(DN18:DN37)","v":0},null,{"$f":"SUM(DP18:DP37)","v":0},null,{"$f":"SUM(DR18:DR37)","v":0},null,{"$f":"SUM(DT18:DT37)","v":0},null,{"$f":"SUM(DV18:DV37)","v":0},null,{"$f":"SUM(DX18:DX37)","v":0},null,{"$f":"SUM(DZ18:DZ37)","v":0},null,{"$f":"SUM(EB18:EB37)","v":0},null,{"$f":"SUM(ED18:ED37)","v":0},null,{"$f":"SUM(EF18:EF37)","v":0},null,{"$f":"SUM(EH18:EH37)","v":0},null,{"$f":"SUM(EJ18:EJ37)","v":0},null,{"$f":"SUM(EL18:EL37)","v":0},null,{"$f":"SUM(EN18:EN37)","v":0},null,{"$f":"SUM(EP18:EP37)","v":0},null,{"$f":"SUM(ER18:ER37)","v":0},null,{"$f":"SUM(ET18:ET37)","v":0},null,{"$f":"SUM(EV18:EV37)","v":0},null,{"$f":"SUM(EX18:EX37)","v":0},null,{"$f":"SUM(EZ18:EZ37)","v":0},null,{"$f":"SUM(FB18:FB37)","v":0},null,{"$f":"SUM(FD18:FD37)","v":0},null,{"$f":"SUM(FF18:FF37)","v":0},null,null,null,null,null,null,null,null,null,null,null,null,null,{"$f":"SUM(FT18:FT37)","v":0},null,null,null,{"$f":"SUM(FX18:FX37)","v":0},null,{"$f":"IF(ROUND(SUM(FX17),1)>ROUND(SUM(Table_B!FX17),1),\"Supply > Use\",IF(ROUND(SUM(FX17),1)<ROUND(SUM(Table_B!FX17),1),\"Supply < Use\",\"\"))","v":""},null,null,null,null,null,"P00"]
[null,10,{"$f":"'PEFA rows'!B12","v":2},{"$f":"'PEFA rows'!C12","v":"P08"},{"$f":"'PEFA rows'!D12","v":"Hard coal"},null,null,{"$f":"SUM(J18,R18,T18,BH18,BJ18,BP18,BR18,BZ18,CL18,CN18,CX18,DF18,DJ18,DV18,EF18,EH18,EJ18,EP18,EV18,FD18,FF18)","v":0},null,{"$f":"SUM(L18,N18,P18)","v":0},null,0,null,0,null,0,null,0,null,{"$f":"SUM(V18,X18,Z18,AB18,AD18,AF18,AH18,AJ18,AL18,AN18,AP18,AR18,AT18,AV18,AX18,AZ18,BB18,BD18,BF18)","v":0},null,0,null,0,null,0,null,0,null,0,null,0,null,0,null,0,null,0,null,0,null,0,null,0,null,0,null,0,null,0,null,0,null,0,null,0,null,0,null,0,null,{"$f":"SUM(BL18,BN18)","v":0},null,0,null,0,null,0,null,{"$f":"SUM(BT18,BV18,BX18)","v":0},null,0,null,0,null,0,null,{"$f":"SUM(CB18,CD18,CF18,CH18,CJ18)","v":0},null,0,null,0,null,0,null,0,null,0,null,0,null,{"$f":"SUM(CP18,CR18,CT18,CV18)","v":0},null,0,null,0,null,0,null,0,null,{"$f":"SUM(CZ18,DB18,DD18)","v":0},null,0,null,0,null,0,null,0,null,0,null,{"$f":"SUM(DL18,DN18,DP18,DR18,DT18)","v":0},null,0,null,0,null,0,null,0,null,0,null,{"$f":"SUM(DX18,DZ18,EB18,ED18)","v":0},null,0,null,0,null,0,null,0,null,0,null,0,null,{"$f":"SUM(EL18,EN18)","v":0},null,0,null,0,null,{"$f":"SUM(ER18,ET18)","v":0},null,0,null,0,null,{"$f":"SUM(EX18,EZ18,FB18)","v":0},null,0,null,0,null,0,null,0,null,0,null,null,null,null,null,null,null,null,null,null,null,null,null,0,null,null,null,{"$f":"SUM(H18,FH18,FP18,FR18,FT18,FV18)","v":0},null,{"$f":"IF(ROUND(SUM(FX18),1)>ROUND(SUM(Table_B!FX18),1),\"Supply > Use\",IF(ROUND(SUM(FX18),1)<ROUND(SUM(Table_B!FX18),1),\"Supply < Use\",\"\"))","v":""},null,null,null,null,null,"P08"]
[null,11,{"$f":"'PEFA rows'!B13","v":2},{"$f":"'PEFA rows'!C13","v":"P09"},{"$f":"'PEFA rows'!D13","v":"Brown coal and peat"},null,null,{"$f":"SUM(J19,R19,T19,BH19,BJ19,BP19,BR19,BZ19,CL19,CN19,CX19,DF19,DJ19,DV19,EF19,EH19,EJ19,EP19,EV19,FD19,FF19)","v":0},null,0,null,0,null,0,null,0,null,0,null,{"$f":"SUM(V19,X19,Z19,AB19,AD19,AF19,AH19,AJ19,AL19,AN19,AP19,AR19,AT19,AV19,AX19,AZ19,BB19,BD19,BF19)","v":0},null,0,null,0,null,0,null,0,null,0,null,0,null,0,null,0,null,0,null,0,null,0,null,0,null,0,null,0,null,0,null,0,null,0,null,0,null,0,null,0,null,{"$f":"SUM(BL19,BN19)","v":0},null,0,null,0,null,0,null,{"$f":"SUM(BT19,BV19,BX19)","v":0},null,0,null,0,null,0,null,{"$f":"SUM(CB19,CD19,CF19,CH19,CJ19)","v":0},null,0,null,0,null,0,null,0,null,0,null,0,null,{"$f":"SUM(CP19,CR19,CT19,CV19)","v":0},null,0,null,0,null,0,null,0,null,{"$f":"SUM(CZ19,DB19,DD19)","v":0},null,0,null,0,null,0,null,0,null,0,null,{"$f":"SUM(DL19,DN19,DP19,DR19,DT19)","v":0},null,0,null,0,null,0,null,0,null,0,null,{"$f":"SUM(DX19,DZ19,EB19,ED19)","v":0},null,0,null,0,null,0,null,0,null,0,null,0,null,{"$f":"SUM(EL19,EN19)","v":0},null,0,null,0,null,{"$f":"SUM(ER19,ET19)","v":0},null,0,null,0,null,{"$f":"SUM(EX19,EZ19,FB19)","v":0},null,0,null,0,null,0,null,0,null,0,null,null,null,null,null,null,null,null,null,null,null,null,null,0,null,null,null,{"$f":"SUM(H19,FH19,FP19,FR19,FT19,FV19)","v":0},null,{"$f":"IF(ROUND(SUM(FX19),1)>ROUND(SUM(Table_B!FX19),1),\"Supply > Use\",IF(ROUND(SUM(FX19),1)<ROUND(SUM(Table_B!FX19),1),\"Supply < Use\",\"\"))","v":""},null,null,null,null,null,"P09"]
[null,12,{"$f":"'PEFA rows'!B14","v":2},{"$f":"'PEFA rows'!C14","v":"P10"},{"$f":"'PEFA rows'!D14","v":"Derived gases (= manufactured gases excl. biogas) "},null,null,0,null,0,null,0,null,0,null,0,null,0,null,0,null,0,null,0,null,0,null,0,null,0,null,0,null,0,null,0,null,0,null,0,null,0,null,0,null,0,null,0,null,0,null,0,null,0,null,0,null,0,null,0,null,0,null,0,null,0,null,0,null,0,null,0,null,0,null,0,null,0,null,0,null,0,null,0,null,0,null,0,null,0,null,0,null,0,null,0,null,0,null,0,null,0,null,0,null,0,null,0,null,0,null,0,null,0,null,0,null,0,null,0,null,0,null,0,null,0,null,0,null,0,null,0,null,0,null,0,null,0,null,0,null,0,null,0,null,0,null,0,null,0,null,0,null,0,null,0,null,0,null,0,null,0,null,null,null,null,null,null,null,null,null,null,null,null,null,0,null,null,null,0,null,{"$f":"IF(ROUND(SUM(FX20),1)>ROUND(SUM(Table_B!FX20),1),\"Supply > Use\",IF(ROUND(SUM(FX20),1)<ROUND(SUM(Table_B!FX20),1),\"Supply < Use\",\"\"))","v":""},null,null,null,null,null,"P10"]
[null,13,{"$f":"'PEFA rows'!B15","v":2},{"$f":"'PEFA rows'!C15","v":"P11"},{"$f":"'PEFA rows'!D15","v":"Secondary coal products (coke, coal tar, patent fuel, BKB and peat products)"},null,null,0,null,0,null,0,null,0,null,0,null,0,null,0,null,0,null,0,null,0,null,0,null,0,null,0,null,0,null,0,null,0,null,0,null,0,null,0,null,0,null,0,null,0,null,0,null,0,null,0,null,0,null,0,null,0,null,0,null,0,null,0,null,0,null,0,null,0,null,0,null,0,null,0,null,0,null,0,null,0,null,0,null,0,null,0,null,0,null,0,null,0,null,0,null,0,null,0,null,0,null,0,null,0,null,0,null,0,null,0,null,0,null,0,null,0,null,0,null,0,null,0,null,0,null,0,null,0,null,0,null,0,null,0,null,0,null,0,null,0,null,0,null,0,null,0,null,0,null,0,null,0,null,0,null,0,null,null,null,null,null,null,null,null,null,null,null,null,null,0,null,null,null,0,null,{"$f":"IF(ROUND(SUM(FX21),1)>ROUND(SUM(Table_B!FX21),1),\"Supply > Use\",IF(ROUND(SUM(FX21),1)<ROUND(SUM(Table_B!FX21),1),\"Supply < Use\",\"\"))","v":""},null,null,null,null,null,"P11"]
[null,14,{"$f":"'PEFA rows'!B16","v":2},{"$f":"'PEFA rows'!C16","v":"P12"},{"$f":"'PEFA rows'!D16","v":"Crude oil, NGL, and other hydrocarbons (excl. bio)"},null,null,0,null,0,null,0,null,0,null,0,null,0,null,0,null,0,null,0,null,0,null,0,null,0,null,0,null,0,null,0,null,0,null,0,null,0,null,0,null,0,null,0,null,0,null,0,null,0,null,0,null,0,null,0,null,0,null,0,null,0,null,0,null,0,null,0,null,0,null,0,null,0,null,0,null,0,null,0,null,0,null,0,null,0,null,0,null,0,null,0,null,0,null,0,null,0,null,0,null,0,null,0,null,0,null,0,null,0,null,0,null,0,null,0,null,0,null,0,null,0,null,0,null,0,null,0,null,0,null,0,null,0,null,0,null,0,null,0,null,0,null,0,null,0,null,0,null,0,null,0,null,0,null,0,null,0,null,null,null,null,null,null,null,null,null,null,null,null,null,0,null,null,null,0,null,{"$f":"IF(ROUND(SUM(FX22),1)>ROUND(SUM(Table_B!FX22),1),\"Supply > Use\",IF(ROUND(SUM(FX22),1)<ROUND(SUM(Table_B!FX22),1),\"Supply < Use\",\"\"))","v":""},null,null,null,null,null,"P12"]
[null,15,{"$f":"'PEFA rows'!B17","v":2},{"$f":"'PEFA rows'!C17","v":"P13"},{"$f":"'PEFA rows'!D17","v":"Natural gas (without bio)"},null,null,0,null,0,null,0,null,0,null,0,null,0,null,0,null,0,null,0,null,0,null,0,null,0,null,0,null,0,null,0,null,0,null,0,null,0,null,0,null,0,null,0,null,0,null,0,null,0,null,0,null,0,null,0,null,0,null,0,null,0,null,0,null,0,null,0,null,0,null,0,null,0,null,0,null,0,null,0,null,0,null,0,null,0,null,0,null,0,null,0,null,0,null,0,null,0,null,0,null,0,null,0,null,0,null,0,null,0,null,0,null,0,null,0,null,0,null,0,null,0,null,0,null,0,null,0,null,0,null,0,null,0,null,0,null,0,null,0,null,0,null,0,null,0,null,0,null,0,null,0,null,0,null,0,null,0,null,null,null,null,null,null,null,null,null,null,null,null,null,0,null,null,null,0,null,{"$f":"IF(ROUND(SUM(FX23),1)>ROUND(SUM(Table_B!FX23),1),\"Supply > Use\",IF(ROUND(SUM(FX23),1)<ROUND(SUM(Table_B!FX23),1),\"Supply < Use\",\"\"))","v":""},null,null,null,null,null,"P13"]
[null,16,{"$f":"'PEFA rows'!B18","v":2},{"$f":"'PEFA rows'!C18","v":"P14"},{"$f":"'PEFA rows'!D18","v":"Motor spirit (without bio)"},null,null,0,null,0,null,0,null,0,null,0,null,0,null,0,null,0,null,0,null,0,null,0,null,0,null,0,null,0,null,0,null,0,null,0,null,0,null,0,null,0,null,0,null,0,null,0,null,0,null,0,null,0,null,0,null,0,null,0,null,0,null,0,null,0,null,0,null,0,null,0,null,0,null,0,null,0,null,0,null,0,null,0,null,0,null,0,null,0,null,0,null,0,null,0,null,0,null,0,null,0,null,0,null,0,null,0,null,0,null,0,null,0,null,0,null,0,null,0,null,0,null,0,null,0,null,0,null,0,null,0,null,0,null,0,null,0,null,0,null,0,null,0,null,0,null,0,null,0,null,0,null,0,null,0,null,0,null,null,null,null,null,null,null,null,null,null,null,null,null,0,null,null,null,0,null,{"$f":"IF(ROUND(SUM(FX24),1)>ROUND(SUM(Table_B!FX24),1),\"Supply > Use\",IF(ROUND(SUM(FX24),1)<ROUND(SUM(Table_B!FX24),1),\"Supply < Use\",\"\"))","v":""},null,null,null,null,null,"P14"]
[null,17,{"$f":"'PEFA rows'!B19","v":2},{"$f":"'PEFA rows'!C19","v":"P15"},{"$f":"'PEFA rows'!D19","v":"Kerosenes and jet fuels (without bio)"},null,null,0,null,0,null,0,null,0,null,0,null,0,null,0,null,0,null,0,null,0,null,0,null,0,null,0,null,0,null,0,null,0,null,0,null,0,null,0,null,0,null,0,null,0,null,0,null,0,null,0,null,0,null,0,null,0,null,0,null,0,null,0,null,0,null,0,null,0,null,0,null,0,null,0,null,0,null,0,null,0,null,0,null,0,null,0,null,0,null,0,null,0,null,0,null,0,null,0,null,0,null,0,null,0,null,0,null,0,null,0,null,0,null,0,null,0,null,0,null,0,null,0,null,0,null,0,null,0,null,0,null,0,null,0,null,0,null,0,null,0,null,0,null,0,null,0,null,0,null,0,null,0,null,0,null,0,null,null,null,null,null,null,null,null,null,null,null,null,null,0,null,null,null,0,null,{"$f":"IF(ROUND(SUM(FX25),1)>ROUND(SUM(Table_B!FX25),1),\"Supply > Use\",IF(ROUND(SUM(FX25),1)<ROUND(SUM(Table_B!FX25),1),\"Supply < Use\",\"\"))","v":""},null,null,null,null,null,"P15"]
[null,18,{"$f":"'PEFA rows'!B20","v":2},{"$f":"'PEFA rows'!C20","v":"P16"},{"$f":"'PEFA rows'!D20","v":"Naphtha"},null,null,0,null,0,null,0,null,0,null,0,null,0,null,0,null,0,null,0,null,0,null,0,null,0,null,0,null,0,null,0,null,0,null,0,null,0,null,0,null,0,null,0,null,0,null,0,null,0,null,0,null,0,null,0,null,0,null,0,null,0,null,0,null,0,null,0,null,0,null,0,null,0,null,0,null,0,null,0,null,0,null,0,null,0,null,0,null,0,null,0,null,0,null,0,null,0,null,0,null,0,null,0,null,0,null,0,null,0,null,0,null,0,null,0,null,0,null,0,null,0,null,0,null,0,null,0,null,0,null,0,null,0,null,0,null,0,null,0,null,0,null,0,null,0,null,0,null,0,null,0,null,0,null,0,null,0,null,null,null,null,null,null,null,null,null,null,null,null,null,0,null,null,null,0,null,{"$f":"IF(ROUND(SUM(FX26),1)>ROUND(SUM(Table_B!FX26),1),\"Supply > Use\",IF(ROUND(SUM(FX26),1)<ROUND(SUM(Table_B!FX26),1),\"Supply < Use\",\"\"))","v":""},null,null,null,null,null,"P16"]
[null,19,{"$f":"'PEFA rows'!B21","v":2},{"$f":"'PEFA rows'!C21","v":"P17"},{"$f":"'PEFA rows'!D21","v":"Transport diesel (without bio)"},null,null,0,null,0,null,0,null,0,null,0,null,0,null,0,null,0,null,0,null,0,null,0,null,0,null,0,null,0,null,0,null,0,null,0,null,0,null,0,null,0,null,0,null,0,null,0,null,0,null,0,null,0,null,0,null,0,null,0,null,0,null,0,null,0,null,0,null,0,null,0,null,0,null,0,null,0,null,0,null,0,null,0,null,0,null,0,null,0,null,0,null,0,null,0,null,0,null,0,null,0,null,0,null,0,null,0,null,0,null,0,null,0,null,0,null,0,null,0,null,0,null,0,null,0,null,0,null,0,null,0,null,0,null,0,null,0,null,0,null,0,null,0,null,0,null,0,null,0,null,0,null,0,null,0,null,0,null,null,null,null,null,null,null,null,null,null,null,null,null,0,null,null,null,0,null,{"$f":"IF(ROUND(SUM(FX27),1)>ROUND(SUM(Table_B!FX27),1),\"Supply > Use\",IF(ROUND(SUM(FX27),1)<ROUND(SUM(Table_B!FX27),1),\"Supply < Use\",\"\"))","v":""},null,null,null,null,null,"P17"]
[null,20,{"$f":"'PEFA rows'!B22","v":2},{"$f":"'PEFA rows'!C22","v":"P18"},{"$f":"'PEFA rows'!D22","v":"Heating and other gasoil (without bio)"},null,null,0,null,0,null,0,null,0,null,0,null,0,null,0,null,0,null,0,null,0,null,0,null,0,null,0,null,0,null,0,null,0,null,0,null,0,null,0,null,0,null,0,null,0,null,0,null,0,null,0,null,0,null,0,null,0,null,0,null,0,null,0,null,0,null,0,null,0,null,0,null,0,null,0,null,0,null,0,null,0,null,0,null,0,null,0,null,0,null,0,null,0,null,0,null,0,null,0,null,0,null,0,null,0,null,0,null,0,null,0,null,0,null,0,null,0,null,0,null,0,null,0,null,0,null,0,null,0,null,0,null,0,null,0,null,0,null,0,null,0,null,0,null,0,null,0,null,0,null,0,null,0,null,0,null,0,null,null,null,null,null,null,null,null,null,null,null,null,null,0,null,null,null,0,null,{"$f":"IF(ROUND(SUM(FX28),1)>ROUND(SUM(Table_B!FX28),1),\"Supply > Use\",IF(ROUND(SUM(FX28),1)<ROUND(SUM(Table_B!FX28),1),\"Supply < Use\",\"\"))","v":""},null,null,null,null,null,"P18"]
[null,21,{"$f":"'PEFA rows'!B23","v":2},{"$f":"'PEFA rows'!C23","v":"P19"},{"$f":"'PEFA rows'!D23","v":"Residual fuel oil"},null,null,0,null,0,null,0,null,0,null,0,null,0,null,0,null,0,null,0,null,0,null,0,null,0,null,0,null,0,null,0,null,0,null,0,null,0,null,0,null,0,null,0,null,0,null,0,null,0,null,0,null,0,null,0,null,0,null,0,null,0,null,0,null,0,null,0,null,0,null,0,null,0,null,0,null,0,null,0,null,0,null,0,null,0,null,0,null,0,null,0,null,0,null,0,null,0,null,0,null,0,null,0,null,0,null,0,null,0,null,0,null,0,null,0,null,0,null,0,null,0,null,0,null,0,null,0,null,0,null,0,null,0,null,0,null,0,null,0,null,0,null,0,null,0,null,0,null,0,null,0,null,0,null,0,null,0,null,null,null,null,null,null,null,null,null,null,null,null,null,0,null,null,null,0,null,{"$f":"IF(ROUND(SUM(FX29),1)>ROUND(SUM(Table_B!FX29),1),\"Supply > Use\",IF(ROUND(SUM(FX29),1)<ROUND(SUM(Table_B!FX29),1),\"Supply < Use\",\"\"))","v":""},null,null,null,null,null,"P19"]
[null,22,{"$f":"'PEFA rows'!B24","v":2},{"$f":"'PEFA rows'!C24","v":"P20"},{"$f":"'PEFA rows'!D24","v":"Refinery gas, ethane and LPG"},null,null,0,null,0,null,0,null,0,null,0,null,0,null,0,null,0,null,0,null,0,null,0,null,0,null,0,null,0,null,0,null,0,null,0,null,0,null,0,null,0,null,0,null,0,null,0,null,0,null,0,null,0,null,0,null,0,null,0,null,0,null,0,null,0,null,0,null,0,null,0,null,0,null,0,null,0,null,0,null,0,null,0,null,0,null,0,null,0,null,0,null,0,null,0,null,0,null,0,null,0,null,0,null,0,null,0,null,0,null,0,null,0,null,0,null,0,null,0,null,0,null,0,null,0,null,0,null,0,null,0,null,0,null,0,null,0,null,0,null,0,null,0,null,0,null,0,null,0,null,0,null,0,null,0,null,0,null,null,null,null,null,null,null,null,null,null,null,null,null,0,null,null,null,0,null,{"$f":"IF(ROUND(SUM(FX30),1)>ROUND(SUM(Table_B!FX30),1),\"Supply > Use\",IF(ROUND(SUM(FX30),1)<ROUND(SUM(Table_B!FX30),1),\"Supply < Use\",\"\"))","v":""},null,null,null,null,null,"P20"]
[null,23,{"$f":"'PEFA rows'!B25","v":2},{"$f":"'PEFA rows'!C25","v":"P21"},{"$f":"'PEFA rows'!D25","v":"Other petroleum products incl. additives/oxygenates and refinery feedstocks"},null,null,0,null,{"$f":"SUM(L31,N31,P31)","v":0},null,0,null,0,null,0,null,0,null,0,null,0,null,0,null,0,null,0,null,0,null,0,null,0,null,0,null,0,null,0,null,0,null,0,null,0,null,0,null,0,null,0,null,0,null,0,null,0,null,0,null,0,null,0,null,0,null,0,null,0,null,0,null,0,null,0,null,0,null,0,null,0,null,0,null,0,null,0,null,0,null,0,null,0,null,0,null,0,null,0,null,0,null,0,null,0,null,0,null,0,null,0,null,0,null,0,null,0,null,0,null,0,null,0,null,0,null,0,null,0,null,0,null,0,null,0,null,0,null,0,null,0,null,0,null,0,null,0,null,0,null,0,null,0,null,0,null,0,null,0,null,0,null,null,null,null,null,null,null,null,null,null,null,null,null,0,null,null,null,0,null,{"$f":"IF(ROUND(SUM(FX31),1)>ROUND(SUM(Table_B!FX31),1),\"Supply > Use\",IF(ROUND(SUM(FX31),1)<ROUND(SUM(Table_B!FX31),1),\"Supply < Use\",\"\"))","v":""},null,null,null,null,null,"P21"]
[null,24,{"$f":"'PEFA rows'!B26","v":2},{"$f":"'PEFA rows'!C26","v":"P22"},{"$f":"'PEFA rows'!D26","v":"Nuclear fuel"},null,null,0,null,0,null,0,null,0,null,0,null,0,null,0,null,0,null,0,null,0,null,0,null,0,null,0,null,0,null,0,null,0,null,0,null,0,null,0,null,0,null,0,null,0,null,0,null,0,null,0,null,0,null,0,null,0,null,0,null,0,null,0,null,0,null,0,null,0,null,0,null,0,null,0,null,0,null,0,null,0,null,0,null,0,null,0,null,0,null,0,null,0,null,0,null,0,null,0,null,0,null,0,null,0,null,0,null,0,null,0,null,0,null,0,null,0,null,0,null,0,null,0,null,0,null,0,null,0,null,0,null,0,null,0,null,0,null,0,null,0,null,0,null,0,null,0,null,0,null,0,null,0,null,0,null,0,null,null,null,null,null,null,null,null,null,null,null,null,null,0,null,null,null,0,null,{"$f":"IF(ROUND(SUM(FX32),1)>ROUND(SUM(Table_B!FX32),1),\"Supply > Use\",IF(ROUND(SUM(FX32),1)<ROUND(SUM(Table_B!FX32),1),\"Supply < Use\",\"\"))","v":""},null,null,null,null,null,"P22"]
[null,25,{"$f":"'PEFA rows'!B27","v":2},{"$f":"'PEFA rows'!C27","v":"P23"},{"$f":"'PEFA rows'!D27","v":"Wood, wood waste and other solid biomass, charcoal"},null,null,0,null,0,null,0,null,0,null,0,null,0,null,0,null,0,null,0,null,0,null,0,null,0,null,0,null,0,null,0,null,0,null,0,null,0,null,0,null,0,null,0,null,0,null,0,null,0,null,0,null,0,null,0,null,0,null,0,null,0,null,0,null,0,null,0,null,0,null,0,null,0,null,0,null,0,null,0,null,0,null,0,null,0,null,0,null,0,null,0,null,0,null,0,null,0,null,0,null,0,null,0,null,0,null,0,null,0,null,0,null,0,null,0,null,0,null,0,null,0,null,0,null,0,null,0,null,0,null,0,null,0,null,0,null,0,null,0,null,0,null,0,null,0,null,0,null,0,null,0,null,0,null,0,null,0,null,null,null,null,null,null,null,null,null,null,null,null,null,0,null,null,null,0,null,{"$f":"IF(ROUND(SUM(FX33),1)>ROUND(SUM(Table_B!FX33),1),\"Supply > Use\",IF(ROUND(SUM(FX33),1)<ROUND(SUM(Table_B!FX33),1),\"Supply < Use\",\"\"))","v":""},null,null,null,null,null,"P23"]
[null,26,{"$f":"'PEFA rows'!B28","v":2},{"$f":"'PEFA rows'!C28","v":"P24"},{"$f":"'PEFA rows'!D28","v":"Liquid biofuels"},null,null,0,null,0,null,0,null,0,null,0,null,0,null,0,null,0,null,0,null,0,null,0,null,0,null,0,null,0,null,0,null,0,null,0,null,0,null,0,null,0,null,0,null,0,null,0,null,0,null,0,null,0,null,0,null,0,null,0,null,0,null,0,null,0,null,0,null,0,null,0,null,0,null,0,null,0,null,0,null,0,null,0,null,0,null,0,null,0,null,0,null,0,null,0,null,0,null,0,null,0,null,0,null,0,null,0,null,0,null,0,null,0,null,0,null,0,null,0,null,0,null,0,null,0,null,0,null,0,null,0,null,0,null,0,null,0,null,0,null,0,null,0,null,0,null,0,null,0,null,0,null,0,null,0,null,0,null,null,null,null,null,null,null,null,null,null,null,null,null,0,null,null,null,0,null,{"$f":"IF(ROUND(SUM(FX34),1)>ROUND(SUM(Table_B!FX34),1),\"Supply > Use\",IF(ROUND(SUM(FX34),1)<ROUND(SUM(Table_B!FX34),1),\"Supply < Use\",\"\"))","v":""},null,null,null,null,null,"P24"]
[null,27,{"$f":"'PEFA rows'!B29","v":2},{"$f":"'PEFA rows'!C29","v":"P25"},{"$f":"'PEFA rows'!D29","v":"Biogas"},null,null,0,null,0,null,0,null,0,null,0,null,0,null,0,null,0,null,0,null,0,null,0,null,0,null,0,null,0,null,0,null,0,null,0,null,0,null,0,null,0,null,0,null,0,null,0,null,0,null,0,null,0,null,0,null,0,null,0,null,0,null,0,null,0,null,0,null,0,null,0,null,0,null,0,null,0,null,0,null,0,null,0,null,0,null,0,null,0,null,0,null,0,null,0,null,0,null,0,null,0,null,0,null,0,null,0,null,0,null,0,null,0,null,0,null,0,null,0,null,0,null,0,null,0,null,0,null,0,null,0,null,0,null,0,null,0,null,0,null,0,null,0,null,0,null,0,null,0,null,0,null,0,null,0,null,0,null,null,null,null,null,null,null,null,null,null,null,null,null,0,null,null,null,0,null,{"$f":"IF(ROUND(SUM(FX35),1)>ROUND(SUM(Table_B!FX35),1),\"Supply > Use\",IF(ROUND(SUM(FX35),1)<ROUND(SUM(Table_B!FX35),1),\"Supply < Use\",\"\"))","v":""},null,null,null,null,null,"P25"]
[null,28,{"$f":"'PEFA rows'!B30","v":2},{"$f":"'PEFA rows'!C30","v":"P26"},{"$f":"'PEFA rows'!D30","v":"Electrical energy"},null,null,0,null,0,null,0,null,0,null,0,null,0,null,0,null,0,null,0,null,0,null,0,null,0,null,0,null,0,null,0,null,0,null,0,null,0,null,0,null,0,null,0,null,0,null,0,null,0,null,0,null,0,null,0,null,0,null,0,null,0,null,0,null,0,null,0,null,0,null,0,null,0,null,0,null,0,null,0,null,0,null,0,null,0,null,0,null,0,null,0,null,0,null,0,null,0,null,0,null,0,null,0,null,0,null,0,null,0,null,0,null,0,null,0,null,0,null,0,null,0,null,0,null,0,null,0,null,0,null,0,null,0,null,0,null,0,null,0,null,0,null,0,null,0,null,0,null,0,null,0,null,0,null,0,null,0,null,null,null,null,null,null,null,null,null,null,null,null,null,0,null,null,null,0,null,{"$f":"IF(ROUND(SUM(FX36),1)>ROUND(SUM(Table_B!FX36),1),\"Supply > Use\",IF(ROUND(SUM(FX36),1)<ROUND(SUM(Table_B!FX36),1),\"Supply < Use\",\"\"))","v":""},null,null,null,null,null,"P26"]
[null,29,{"$f":"'PEFA rows'!B31","v":2},{"$f":"'PEFA rows'!C31","v":"P27"},{"$f":"'PEFA rows'!D31","v":"Heat"},null,null,0,null,0,null,0,null,0,null,0,null,0,null,0,null,0,null,0,null,0,null,0,null,0,null,0,null,0,null,0,null,0,null,0,null,0,null,0,null,0,null,0,null,0,null,0,null,0,null,0,null,0,null,0,null,0,null,0,null,0,null,0,null,0,null,0,null,0,null,0,null,0,null,0,null,0,null,0,null,0,null,0,null,0,null,0,null,0,null,0,null,0,null,0,null,0,null,0,null,0,null,0,null,0,null,0,null,0,null,0,null,0,null,0,null,0,null,0,null,0,null,0,null,0,null,0,null,0,null,0,null,0,null,0,null,0,null,0,null,0,null,0,null,0,null,0,null,0,null,0,null,0,null,0,null,0,null,null,null,null,null,null,null,null,null,null,null,null,null,0,null,null,null,0,null,{"$f":"IF(ROUND(SUM(FX37),1)>ROUND(SUM(Table_B!FX37),1),\"Supply > Use\",IF(ROUND(SUM(FX37),1)<ROUND(SUM(Table_B!FX37),1),\"Supply < Use\",\"\"))","v":""},null,null,null,null,null,"P27"]
[null,30,{"$f":"'PEFA rows'!B32","v":1},{"$f":"'PEFA rows'!C32","v":"R00"},{"$f":"'PEFA rows'!D32","v":"ENERGY RESIDUALS"},null,null,{"$f":"SUM(H39:H42)","v":0},null,{"$f":"SUM(J39:J42)","v":0},null,{"$f":"SUM(L39:L42)","v":0},null,{"$f":"SUM(N39:N42)","v":0},null,{"$f":"SUM(P39:P42)","v":0},null,{"$f":"SUM(R39:R42)","v":0},null,{"$f":"SUM(T39:T42)","v":0},null,{"$f":"SUM(V39:V42)","v":0},null,{"$f":"SUM(X39:X42)","v":0},null,{"$f":"SUM(Z39:Z42)","v":0},null,{"$f":"SUM(AB39:AB42)","v":0},null,{"$f":"SUM(AD39:AD42)","v":0},null,{"$f":"SUM(AF39:AF42)","v":0},null,{"$f":"SUM(AH39:AH42)","v":0},null,{"$f":"SUM(AJ39:AJ42)","v":0},null,{"$f":"SUM(AL39:AL42)","v":0},null,{"$f":"SUM(AN39:AN42)","v":0},null,{"$f":"SUM(AP39:AP42)","v":0},null,{"$f":"SUM(AR39:AR42)","v":0},null,{"$f":"SUM(AT39:AT42)","v":0},null,{"$f":"SUM(AV39:AV42)","v":0},null,{"$f":"SUM(AX39:AX42)","v":0},null,{"$f":"SUM(AZ39:AZ42)","v":0},null,{"$f":"SUM(BB39:BB42)","v":0},null,{"$f":"SUM(BD39:BD42)","v":0},null,{"$f":"SUM(BF39:BF42)","v":0},null,{"$f":"SUM(BH39:BH42)","v":0},null,{"$f":"SUM(BJ39:BJ42)","v":0},null,{"$f":"SUM(BL39:BL42)","v":0},null,{"$f":"SUM(BN39:BN42)","v":0},null,{"$f":"SUM(BP39:BP42)","v":0},null,{"$f":"SUM(BR39:BR42)","v":0},null,{"$f":"SUM(BT39:BT42)","v":0},null,{"$f":"SUM(BV39:BV42)","v":0},null,{"$f":"SUM(BX39:BX42)","v":0},null,{"$f":"SUM(BZ39:BZ42)","v":0},null,{"$f":"SUM(CB39:CB42)","v":0},null,{"$f":"SUM(CD39:CD42)","v":0},null,{"$f":"SUM(CF39:CF42)","v":0},null,{"$f":"SUM(CH39:CH42)","v":0},null,{"$f":"SUM(CJ39:CJ42)","v":0},null,{"$f":"SUM(CL39:CL42)","v":0},null,{"$f":"SUM(CN39:CN42)","v":0},null,{"$f":"SUM(CP39:CP42)","v":0},null,{"$f":"SUM(CR39:CR42)","v":0},null,{"$f":"SUM(CT39:CT42)","v":0},null,{"$f":"SUM(CV39:CV42)","v":0},null,{"$f":"SUM(CX39:CX42)","v":0},null,{"$f":"SUM(CZ39:CZ42)","v":0},null,{"$f":"SUM(DB39:DB42)","v":0},null,{"$f":"SUM(DD39:DD42)","v":0},null,{"$f":"SUM(DF39:DF42)","v":0},null,{"$f":"SUM(DH39:DH42)","v":0},null,{"$f":"SUM(DJ39:DJ42)","v":0},null,{"$f":"SUM(DL39:DL42)","v":0},null,{"$f":"SUM(DN39:DN42)","v":0},null,{"$f":"SUM(DP39:DP42)","v":0},null,{"$f":"SUM(DR39:DR42)","v":0},null,{"$f":"SUM(DT39:DT42)","v":0},null,{"$f":"SUM(DV39:DV42)","v":0},null,{"$f":"SUM(DX39:DX42)","v":0},null,{"$f":"SUM(DZ39:DZ42)","v":0},null,{"$f":"SUM(EB39:EB42)","v":0},null,{"$f":"SUM(ED39:ED42)","v":0},null,{"$f":"SUM(EF39:EF42)","v":0},null,{"$f":"SUM(EH39:EH42)","v":0},null,{"$f":"SUM(EJ39:EJ42)","v":0},null,{"$f":"SUM(EL39:EL42)","v":0},null,{"$f":"SUM(EN39:EN42)","v":0},null,{"$f":"SUM(EP39:EP42)","v":0},null,{"$f":"SUM(ER39:ER42)","v":0},null,{"$f":"SUM(ET39:ET42)","v":0},null,{"$f":"SUM(EV39:EV42)","v":0},null,{"$f":"SUM(EX39:EX42)","v":0},null,{"$f":"SUM(EZ39:EZ42)","v":0},null,{"$f":"SUM(FB39:FB42)","v":0},null,{"$f":"SUM(FD39:FD42)","v":0},null,{"$f":"SUM(FF39:FF42)","v":0},null,{"$f":"SUM(FH39:FH42)","v":0},null,{"$f":"SUM(FJ39:FJ42)","v":0},null,{"$f":"SUM(FL39:FL42)","v":0},null,{"$f":"SUM(FN39:FN42)","v":0},null,{"$f":"SUM(FP39:FP42)","v":0},null,null,null,{"$f":"SUM(FT39:FT42)","v":0},null,null,null,{"$f":"SUM(FX39:FX42)","v":0},null,{"$f":"IF(ROUND(SUM(FX38),1)>ROUND(SUM(Table_B!FX38),1),\"Supply > Use\",IF(ROUND(SUM(FX38),1)<ROUND(SUM(Table_B!FX38),1),\"Supply < Use\",\"\"))","v":""},null,null,null,null,null,"R00"]
[null,31,{"$f":"'PEFA rows'!B33","v":2},{"$f":"'PEFA rows'!C33","v":"R28"},{"$f":"'PEFA rows'!D33","v":"Renewable waste"},null,null,null,null,null,null,null,null,null,null,null,null,null,null,null,null,null,null,null,null,null,null,null,null,null,null,null,null,null,null,null,null,null,null,null,null,null,null,null,null,null,null,null,null,null,null,null,null,null,null,null,null,null,null,null,null,null,null,null,null,null,null,null,null,null,null,null,null,null,null,null,null,null,null,null,null,null,null,null,null,null,null,null,null,null,null,null,null,null,null,null,null,null,null,null,null,null,null,null,null,null,null,null,null,null,null,null,null,null,null,null,null,null,null,null,null,null,null,null,null,null,null,null,null,null,null,null,null,null,null,null,null,null,null,null,null,null,null,null,null,null,null,null,null,null,null,null,null,null,null,null,null,null,null,null,null,null,null,null,null,null,null,null,null,null,null,0,null,null,null,0,null,null,null,{"$f":"SUM(H39,FH39,FP39,FR39,FT39,FV39)","v":0},null,{"$f":"IF(ROUND(SUM(FX39),1)>ROUND(SUM(Table_B!FX39),1),\"Supply > Use\",IF(ROUND(SUM(FX39),1)<ROUND(SUM(Table_B!FX39),1),\"Supply < Use\",\"\"))","v":""},null,null,null,null,null,"R28"]
[null,32,{"$f":"'PEFA rows'!B34","v":2},{"$f":"'PEFA rows'!C34","v":"R29"},{"$f":"'PEFA rows'!D34","v":"Non-renewable waste"},null,null,null,null,null,null,null,null,null,null,null,null,null,null,null,null,null,null,null,null,null,null,null,null,null,null,null,null,null,null,null,null,null,null,null,null,null,null,null,null,null,null,null,null,null,null,null,null,null,null,null,null,null,null,null,null,null,null,null,null,null,null,null,null,null,null,null,null,null,null,null,null,null,null,null,null,null,null,null,null,null,null,null,null,null,null,null,null,null,null,null,null,null,null,null,null,null,null,null,null,null,null,null,null,null,null,null,null,null,null,null,null,null,null,null,null,null,null,null,null,null,null,null,null,null,null,null,null,null,null,null,null,null,null,null,null,null,null,null,null,null,null,null,null,null,null,null,null,null,null,null,null,null,null,null,null,null,null,null,null,null,null,null,null,null,null,0,null,null,null,0,null,null,null,{"$f":"SUM(H40,FH40,FP40,FR40,FT40,FV40)","v":0},null,{"$f":"IF(ROUND(SUM(FX40),1)>ROUND(SUM(Table_B!FX40),1),\"Supply > Use\",IF(ROUND(SUM(FX40),1)<ROUND(SUM(Table_B!FX40),1),\"Supply < Use\",\"\"))","v":""},null,null,null,null,null,"R29"]
[null,33,{"$f":"'PEFA rows'!B35","v":2},{"$f":"'PEFA rows'!C35","v":"R30"},{"$f":"'PEFA rows'!D35","v":"Energy losses all kinds of (during extraction, distribution, storage and transformation, and dissipative heat from end use)"},null,null,{"$f":"SUM(J41,R41,T41,BH41,BJ41,BP41,BR41,BZ41,CL41,CN41,CX41,DF41,DJ41,DV41,EF41,EH41,EJ41,EP41,EV41,FD41,FF41)","v":0},null,{"$f":"SUM(L41,N41,P41)","v":0},null,0,null,0,null,0,null,0,null,{"$f":"SUM(V41,X41,Z41,AB41,AD41,AF41,AH41,AJ41,AL41,AN41,AP41,AR41,AT41,AV41,AX41,AZ41,BB41,BD41,BF41)","v":0},null,0,null,0,null,0,null,0,null,0,null,0,null,0,null,0,null,0,null,0,null,0,null,0,null,0,null,0,null,0,null,0,null,0,null,0,null,0,null,0,null,{"$f":"SUM(BL41,BN41)","v":0},null,0,null,0,null,0,null,{"$f":"SUM(BT41,BV41,BX41)","v":0},null,0,null,0,null,0,null,{"$f":"SUM(CB41,CD41,CF41,CH41,CJ41)","v":0},null,0,null,0,null,0,null,0,null,0,null,0,null,{"$f":"SUM(CP41,CR41,CT41,CV41)","v":0},null,0,null,0,null,0,null,0,null,{"$f":"SUM(CZ41,DB41,DD41)","v":0},null,0,null,0,null,0,null,0,null,0,null,{"$f":"SUM(DL41,DN41,DP41,DR41,DT41)","v":0},null,0,null,0,null,0,null,0,null,0,null,{"$f":"SUM(DX41,DZ41,EB41,ED41)","v":0},null,0,null,0,null,0,null,0,null,0,null,0,null,{"$f":"SUM(EL41,EN41)","v":0},null,0,null,0,null,{"$f":"SUM(ER41,ET41)","v":0},null,0,null,0,null,{"$f":"SUM(EX41,EZ41,FB41)","v":0},null,0,null,0,null,0,null,0,null,0,null,{"$f":"SUM(FJ41,FL41,FN41)","v":0},null,0,null,0,null,0,null,0,null,null,null,null,null,null,null,{"$f":"SUM(H41,FH41,FP41,FR41,FT41,FV41)","v":0},null,{"$f":"IF(ROUND(SUM(FX41),1)>ROUND(SUM(Table_B!FX41),1),\"Supply > Use\",IF(ROUND(SUM(FX41),1)<ROUND(SUM(Table_B!FX41),1),\"Supply < Use\",\"\"))","v":""},null,null,null,null,null,"R30"]
[null,34,{"$f":"'PEFA rows'!B36","v":2},{"$f":"'PEFA rows'!C36","v":"R31"},{"$f":"'PEFA rows'!D36","v":"Energy incorporated in products for non-energy use"},null,null,{"$f":"SUM(J42,R42,T42,BH42,BJ42,BP42,BR42,BZ42,CL42,CN42,CX42,DF42,DJ42,DV42,EF42,EH42,EJ42,EP42,EV42,FD42,FF42)","v":0},null,0,null,0,null,0,null,0,null,0,null,{"$f":"SUM(V42,X42,Z42,AB42,AD42,AF42,AH42,AJ42,AL42,AN42,AP42,AR42,AT42,AV42,AX42,AZ42,BB42,BD42,BF42)","v":0},null,0,null,0,null,0,null,0,null,0,null,0,null,0,null,0,null,0,null,0,null,0,null,0,null,0,null,0,null,0,null,0,null,0,null,0,null,0,null,0,null,{"$f":"SUM(BL42,BN42)","v":0},null,0,null,0,null,0,null,{"$f":"SUM(BT42,BV42,BX42)","v":0},null,0,null,0,null,0,null,{"$f":"SUM(CB42,CD42,CF42,CH42,CJ42)","v":0},null,0,null,0,null,0,null,0,null,0,null,0,null,{"$f":"SUM(CP42,CR42,CT42,CV42)","v":0},null,0,null,0,null,0,null,0,null,{"$f":"SUM(CZ42,DB42,DD42)","v":0},null,0,null,0,null,0,null,0,null,0,null,{"$f":"SUM(DL42,DN42,DP42,DR42,DT42)","v":0},null,0,null,0,null,0,null,0,null,0,null,{"$f":"SUM(DX42,DZ42,EB42,ED42)","v":0},null,0,null,0,null,0,null,0,null,0,null,0,null,{"$f":"SUM(EL42,EN42)","v":0},null,0,null,0,null,{"$f":"SUM(ER42,ET42)","v":0},null,0,null,0,null,{"$f":"SUM(EX42,EZ42,FB42)","v":0},null,0,null,0,null,0,null,0,null,0,null,{"$f":"SUM(FJ42,FL42,FN42)","v":0},null,0,null,0,null,0,null,0,null,null,null,null,null,null,null,{"$f":"SUM(H42,FH42,FP42,FR42,FT42,FV42)","v":0},null,{"$f":"IF(ROUND(SUM(FX42),1)>ROUND(SUM(Table_B!FX42),1),\"Supply > Use\",IF(ROUND(SUM(FX42),1)<ROUND(SUM(Table_B!FX42),1),\"Supply < Use\",\"\"))","v":""},null,null,null,null,null,"R31"]
[null,35,{"$f":"'PEFA rows'!B37","v":1},{"$f":"'PEFA rows'!C37","v":"STADIF"},{"$f":"'PEFA rows'!D37","v":"Statistical Differences"},null,null,null,null,null,null,null,null,null,null,null,null,null,null,null,null,null,null,null,null,null,null,null,null,null,null,null,null,null,null,null,null,null,null,null,null,null,null,null,null,null,null,null,null,null,null,null,null,null,null,null,null,null,null,null,null,null,null,null,null,null,null,null,null,null,null,null,null,null,null,null,null,null,null,null,null,null,null,null,null,null,null,null,null,null,null,null,null,null,null,null,null,null,null,null,null,null,null,null,null,null,null,null,null,null,null,null,null,null,null,null,null,null,null,null,null,null,null,null,null,null,null,null,null,null,null,null,null,null,null,null,null,null,null,null,null,null,null,null,null,null,null,null,null,null,null,null,null,null,null,null,null,null,null,null,null,null,null,null,null,null,null,null,null,null,null,null,null,null,null,null,null,null,null,null,null,null,null,null,null,null,null,"SD_IO"]
[null,36,{"$f":"'PEFA rows'!B38","v":0},{"$f":"'PEFA rows'!C38","v":"NPR"},"TOTAL SUPPLY",null,null,{"$f":"SUM(H9,H17,H38,H43)","v":0},null,{"$f":"SUM(J9,J17,J38,J43)","v":0},null,{"$f":"SUM(L9,L17,L38,L43)","v":0},null,{"$f":"SUM(N9,N17,N38,N43)","v":0},null,{"$f":"SUM(P9,P17,P38,P43)","v":0},null,{"$f":"SUM(R9,R17,R38,R43)","v":0},null,{"$f":"SUM(T9,T17,T38,T43)","v":0},null,{"$f":"SUM(V9,V17,V38,V43)","v":0},null,{"$f":"SUM(X9,X17,X38,X43)","v":0},null,{"$f":"SUM(Z9,Z17,Z38,Z43)","v":0},null,{"$f":"SUM(AB9,AB17,AB38,AB43)","v":0},null,{"$f":"SUM(AD9,AD17,AD38,AD43)","v":0},null,{"$f":"SUM(AF9,AF17,AF38,AF43)","v":0},null,{"$f":"SUM(AH9,AH17,AH38,AH43)","v":0},null,{"$f":"SUM(AJ9,AJ17,AJ38,AJ43)","v":0},null,{"$f":"SUM(AL9,AL17,AL38,AL43)","v":0},null,{"$f":"SUM(AN9,AN17,AN38,AN43)","v":0},null,{"$f":"SUM(AP9,AP17,AP38,AP43)","v":0},null,{"$f":"SUM(AR9,AR17,AR38,AR43)","v":0},null,{"$f":"SUM(AT9,AT17,AT38,AT43)","v":0},null,{"$f":"SUM(AV9,AV17,AV38,AV43)","v":0},null,{"$f":"SUM(AX9,AX17,AX38,AX43)","v":0},null,{"$f":"SUM(AZ9,AZ17,AZ38,AZ43)","v":0},null,{"$f":"SUM(BB9,BB17,BB38,BB43)","v":0},null,{"$f":"SUM(BD9,BD17,BD38,BD43)","v":0},null,{"$f":"SUM(BF9,BF17,BF38,BF43)","v":0},null,{"$f":"SUM(BH9,BH17,BH38,BH43)","v":0},null,{"$f":"SUM(BJ9,BJ17,BJ38,BJ43)","v":0},null,{"$f":"SUM(BL9,BL17,BL38,BL43)","v":0},null,{"$f":"SUM(BN9,BN17,BN38,BN43)","v":0},null,{"$f":"SUM(BP9,BP17,BP38,BP43)","v":0},null,{"$f":"SUM(BR9,BR17,BR38,BR43)","v":0},null,{"$f":"SUM(BT9,BT17,BT38,BT43)","v":0},null,{"$f":"SUM(BV9,BV17,BV38,BV43)","v":0},null,{"$f":"SUM(BX9,BX17,BX38,BX43)","v":0},null,{"$f":"SUM(BZ9,BZ17,BZ38,BZ43)","v":0},null,{"$f":"SUM(CB9,CB17,CB38,CB43)","v":0},null,{"$f":"SUM(CD9,CD17,CD38,CD43)","v":0},null,{"$f":"SUM(CF9,CF17,CF38,CF43)","v":0},null,{"$f":"SUM(CH9,CH17,CH38,CH43)","v":0},null,{"$f":"SUM(CJ9,CJ17,CJ38,CJ43)","v":0},null,{"$f":"SUM(CL9,CL17,CL38,CL43)","v":0},null,{"$f":"SUM(CN9,CN17,CN38,CN43)","v":0},null,{"$f":"SUM(CP9,CP17,CP38,CP43)","v":0},null,{"$f":"SUM(CR9,CR17,CR38,CR43)","v":0},null,{"$f":"SUM(CT9,CT17,CT38,CT43)","v":0},null,{"$f":"SUM(CV9,CV17,CV38,CV43)","v":0},null,{"$f":"SUM(CX9,CX17,CX38,CX43)","v":0},null,{"$f":"SUM(CZ9,CZ17,CZ38,CZ43)","v":0},null,{"$f":"SUM(DB9,DB17,DB38,DB43)","v":0},null,{"$f":"SUM(DD9,DD17,DD38,DD43)","v":0},null,{"$f":"SUM(DF9,DF17,DF38,DF43)","v":0},null,{"$f":"SUM(DH9,DH17,DH38,DH43)","v":0},null,{"$f":"SUM(DJ9,DJ17,DJ38,DJ43)","v":0},null,{"$f":"SUM(DL9,DL17,DL38,DL43)","v":0},null,{"$f":"SUM(DN9,DN17,DN38,DN43)","v":0},null,{"$f":"SUM(DP9,DP17,DP38,DP43)","v":0},null,{"$f":"SUM(DR9,DR17,DR38,DR43)","v":0},null,{"$f":"SUM(DT9,DT17,DT38,DT43)","v":0},null,{"$f":"SUM(DV9,DV17,DV38,DV43)","v":0},null,{"$f":"SUM(DX9,DX17,DX38,DX43)","v":0},null,{"$f":"SUM(DZ9,DZ17,DZ38,DZ43)","v":0},null,{"$f":"SUM(EB9,EB17,EB38,EB43)","v":0},null,{"$f":"SUM(ED9,ED17,ED38,ED43)","v":0},null,{"$f":"SUM(EF9,EF17,EF38,EF43)","v":0},null,{"$f":"SUM(EH9,EH17,EH38,EH43)","v":0},null,{"$f":"SUM(EJ9,EJ17,EJ38,EJ43)","v":0},null,{"$f":"SUM(EL9,EL17,EL38,EL43)","v":0},null,{"$f":"SUM(EN9,EN17,EN38,EN43)","v":0},null,{"$f":"SUM(EP9,EP17,EP38,EP43)","v":0},null,{"$f":"SUM(ER9,ER17,ER38,ER43)","v":0},null,{"$f":"SUM(ET9,ET17,ET38,ET43)","v":0},null,{"$f":"SUM(EV9,EV17,EV38,EV43)","v":0},null,{"$f":"SUM(EX9,EX17,EX38,EX43)","v":0},null,{"$f":"SUM(EZ9,EZ17,EZ38,EZ43)","v":0},null,{"$f":"SUM(FB9,FB17,FB38,FB43)","v":0},null,{"$f":"SUM(FD9,FD17,FD38,FD43)","v":0},null,{"$f":"SUM(FF9,FF17,FF38,FF43)","v":0},null,{"$f":"SUM(FH9,FH17,FH38,FH43)","v":0},null,{"$f":"SUM(FJ9,FJ17,FJ38,FJ43)","v":0},null,{"$f":"SUM(FL9,FL17,FL38,FL43)","v":0},null,{"$f":"SUM(FN9,FN17,FN38,FN43)","v":0},null,{"$f":"SUM(FP9,FP17,FP38,FP43)","v":0},null,null,null,{"$f":"SUM(FT9,FT17,FT38,FT43)","v":0},null,{"$f":"SUM(FV9,FV17,FV38,FV43)","v":0},null,{"$f":"SUM(FX9,FX17,FX38,FX43)","v":0},null,{"$f":"IF(ROUND(SUM(FX44),1)>ROUND(SUM(Table_B!FX44),1),\"Supply > Use\",IF(ROUND(SUM(FX44),1)<ROUND(SUM(Table_B!FX44),1),\"Supply < Use\",\"\"))","v":""},null,null,null,null,null,"N00_P00_R00"]
[null,{"$f":"B44+1","v":37},"2w","P00w","of which (memo): Supply of ENERGY PRODUCTS for own use",null,null,{"$f":"SUM(J45,R45,T45,BH45,BJ45,BP45,BR45,BZ45,CL45,CN45,CX45,DF45,DJ45,DV45,EF45,EH45,EJ45,EP45,EV45,FD45,FF45)","v":0},null,{"$f":"SUM(L45,N45,P45)","v":0},null,0,null,0,null,0,null,0,null,{"$f":"SUM(V45,X45,Z45,AB45,AD45,AF45,AH45,AJ45,AL45,AN45,AP45,AR45,AT45,AV45,AX45,AZ45,BB45,BD45,BF45)","v":0},null,0,null,0,null,0,null,0,null,0,null,0,null,0,null,0,null,0,null,0,null,0,null,0,null,0,null,0,null,0,null,0,null,0,null,0,null,0,null,0,null,{"$f":"SUM(BL45,BN45)","v":0},null,0,null,0,null,0,null,{"$f":"SUM(BT45,BV45,BX45)","v":0},null,0,null,0,null,0,null,{"$f":"SUM(CB45,CD45,CF45,CH45,CJ45)","v":0},null,0,null,0,null,0,null,0,null,0,null,0,null,{"$f":"SUM(CP45,CR45,CT45,CV45)","v":0},null,0,null,0,null,0,null,0,null,{"$f":"SUM(CZ45,DB45,DD45)","v":0},null,0,null,0,null,0,null,0,null,0,null,{"$f":"SUM(DL45,DN45,DP45,DR45,DT45)","v":0},null,0,null,0,null,0,null,0,null,0,null,{"$f":"SUM(DX45,DZ45,EB45,ED45)","v":0},null,0,null,0,null,0,null,0,null,0,null,0,null,{"$f":"SUM(EL45,EN45)","v":0},null,0,null,0,null,{"$f":"SUM(ER45,ET45)","v":0},null,0,null,0,null,{"$f":"SUM(EX45,EZ45,FB45)","v":0},null,0,null,0,null,0,null,0,null,0,null,null,null,null,null,null,null,null,null,null,null,null,null,null,null,null,null,{"$f":"SUM(H45,FH45,FP45,FR45,FT45,FV45)","v":0},null,null,null,null,null,null,null,"EPRD_OUSE"]
[null,null,null,null,null,null,null,{"$f":"IF(ROUND(SUM(H44),1)>ROUND(SUM(Table_B!H44),1),\"Supply > Use\",IF(ROUND(SUM(H44),1)<ROUND(SUM(Table_B!H44),1),\"Supply < Use\",\"\"))","v":""},null,{"$f":"IF(ROUND(SUM(J44),1)>ROUND(SUM(Table_B!J44),1),\"Supply > Use\",IF(ROUND(SUM(J44),1)<ROUND(SUM(Table_B!J44),1),\"Supply < Use\",\"\"))","v":""},null,{"$f":"IF(ROUND(SUM(L44),1)>ROUND(SUM(Table_B!L44),1),\"Supply > Use\",IF(ROUND(SUM(L44),1)<ROUND(SUM(Table_B!L44),1),\"Supply < Use\",\"\"))","v":""},null,{"$f":"IF(ROUND(SUM(N44),1)>ROUND(SUM(Table_B!N44),1),\"Supply > Use\",IF(ROUND(SUM(N44),1)<ROUND(SUM(Table_B!N44),1),\"Supply < Use\",\"\"))","v":""},null,{"$f":"IF(ROUND(SUM(P44),1)>ROUND(SUM(Table_B!P44),1),\"Supply > Use\",IF(ROUND(SUM(P44),1)<ROUND(SUM(Table_B!P44),1),\"Supply < Use\",\"\"))","v":""},null,{"$f":"IF(ROUND(SUM(R44),1)>ROUND(SUM(Table_B!R44),1),\"Supply > Use\",IF(ROUND(SUM(R44),1)<ROUND(SUM(Table_B!R44),1),\"Supply < Use\",\"\"))","v":""},null,{"$f":"IF(ROUND(SUM(T44),1)>ROUND(SUM(Table_B!T44),1),\"Supply > Use\",IF(ROUND(SUM(T44),1)<ROUND(SUM(Table_B!T44),1),\"Supply < Use\",\"\"))","v":""},null,{"$f":"IF(ROUND(SUM(V44),1)>ROUND(SUM(Table_B!V44),1),\"Supply > Use\",IF(ROUND(SUM(V44),1)<ROUND(SUM(Table_B!V44),1),\"Supply < Use\",\"\"))","v":""},null,{"$f":"IF(ROUND(SUM(X44),1)>ROUND(SUM(Table_B!X44),1),\"Supply > Use\",IF(ROUND(SUM(X44),1)<ROUND(SUM(Table_B!X44),1),\"Supply < Use\",\"\"))","v":""},null,{"$f":"IF(ROUND(SUM(Z44),1)>ROUND(SUM(Table_B!Z44),1),\"Supply > Use\",IF(ROUND(SUM(Z44),1)<ROUND(SUM(Table_B!Z44),1),\"Supply < Use\",\"\"))","v":""},null,{"$f":"IF(ROUND(SUM(AB44),1)>ROUND(SUM(Table_B!AB44),1),\"Supply > Use\",IF(ROUND(SUM(AB44),1)<ROUND(SUM(Table_B!AB44),1),\"Supply < Use\",\"\"))","v":""},null,{"$f":"IF(ROUND(SUM(AD44),1)>ROUND(SUM(Table_B!AD44),1),\"Supply > Use\",IF(ROUND(SUM(AD44),1)<ROUND(SUM(Table_B!AD44),1),\"Supply < Use\",\"\"))","v":""},null,{"$f":"IF(ROUND(SUM(AF44),1)>ROUND(SUM(Table_B!AF44),1),\"Supply > Use\",IF(ROUND(SUM(AF44),1)<ROUND(SUM(Table_B!AF44),1),\"Supply < Use\",\"\"))","v":""},null,{"$f":"IF(ROUND(SUM(AH44),1)>ROUND(SUM(Table_B!AH44),1),\"Supply > Use\",IF(ROUND(SUM(AH44),1)<ROUND(SUM(Table_B!AH44),1),\"Supply < Use\",\"\"))","v":""},null,{"$f":"IF(ROUND(SUM(AJ44),1)>ROUND(SUM(Table_B!AJ44),1),\"Supply > Use\",IF(ROUND(SUM(AJ44),1)<ROUND(SUM(Table_B!AJ44),1),\"Supply < Use\",\"\"))","v":""},null,{"$f":"IF(ROUND(SUM(AL44),1)>ROUND(SUM(Table_B!AL44),1),\"Supply > Use\",IF(ROUND(SUM(AL44),1)<ROUND(SUM(Table_B!AL44),1),\"Supply < Use\",\"\"))","v":""},null,{"$f":"IF(ROUND(SUM(AN44),1)>ROUND(SUM(Table_B!AN44),1),\"Supply > Use\",IF(ROUND(SUM(AN44),1)<ROUND(SUM(Table_B!AN44),1),\"Supply < Use\",\"\"))","v":""},null,{"$f":"IF(ROUND(SUM(AP44),1)>ROUND(SUM(Table_B!AP44),1),\"Supply > Use\",IF(ROUND(SUM(AP44),1)<ROUND(SUM(Table_B!AP44),1),\"Supply < Use\",\"\"))","v":""},null,{"$f":"IF(ROUND(SUM(AR44),1)>ROUND(SUM(Table_B!AR44),1),\"Supply > Use\",IF(ROUND(SUM(AR44),1)<ROUND(SUM(Table_B!AR44),1),\"Supply < Use\",\"\"))","v":""},null,{"$f":"IF(ROUND(SUM(AT44),1)>ROUND(SUM(Table_B!AT44),1),\"Supply > Use\",IF(ROUND(SUM(AT44),1)<ROUND(SUM(Table_B!AT44),1),\"Supply < Use\",\"\"))","v":""},null,{"$f":"IF(ROUND(SUM(AV44),1)>ROUND(SUM(Table_B!AV44),1),\"Supply > Use\",IF(ROUND(SUM(AV44),1)<ROUND(SUM(Table_B!AV44),1),\"Supply < Use\",\"\"))","v":""},null,{"$f":"IF(ROUND(SUM(AX44),1)>ROUND(SUM(Table_B!AX44),1),\"Supply > Use\",IF(ROUND(SUM(AX44),1)<ROUND(SUM(Table_B!AX44),1),\"Supply < Use\",\"\"))","v":""},null,{"$f":"IF(ROUND(SUM(AZ44),1)>ROUND(SUM(Table_B!AZ44),1),\"Supply > Use\",IF(ROUND(SUM(AZ44),1)<ROUND(SUM(Table_B!AZ44),1),\"Supply < Use\",\"\"))","v":""},null,{"$f":"IF(ROUND(SUM(BB44),1)>ROUND(SUM(Table_B!BB44),1),\"Supply > Use\",IF(ROUND(SUM(BB44),1)<ROUND(SUM(Table_B!BB44),1),\"Supply < Use\",\"\"))","v":""},null,{"$f":"IF(ROUND(SUM(BD44),1)>ROUND(SUM(Table_B!BD44),1),\"Supply > Use\",IF(ROUND(SUM(BD44),1)<ROUND(SUM(Table_B!BD44),1),\"Supply < Use\",\"\"))","v":""},null,{"$f":"IF(ROUND(SUM(BF44),1)>ROUND(SUM(Table_B!BF44),1),\"Supply > Use\",IF(ROUND(SUM(BF44),1)<ROUND(SUM(Table_B!BF44),1),\"Supply < Use\",\"\"))","v":""},null,{"$f":"IF(ROUND(SUM(BH44),1)>ROUND(SUM(Table_B!BH44),1),\"Supply > Use\",IF(ROUND(SUM(BH44),1)<ROUND(SUM(Table_B!BH44),1),\"Supply < Use\",\"\"))","v":""},null,{"$f":"IF(ROUND(SUM(BJ44),1)>ROUND(SUM(Table_B!BJ44),1),\"Supply > Use\",IF(ROUND(SUM(BJ44),1)<ROUND(SUM(Table_B!BJ44),1),\"Supply < Use\",\"\"))","v":""},null,{"$f":"IF(ROUND(SUM(BL44),1)>ROUND(SUM(Table_B!BL44),1),\"Supply > Use\",IF(ROUND(SUM(BL44),1)<ROUND(SUM(Table_B!BL44),1),\"Supply < Use\",\"\"))","v":""},null,{"$f":"IF(ROUND(SUM(BN44),1)>ROUND(SUM(Table_B!BN44),1),\"Supply > Use\",IF(ROUND(SUM(BN44),1)<ROUND(SUM(Table_B!BN44),1),\"Supply < Use\",\"\"))","v":""},null,{"$f":"IF(ROUND(SUM(BP44),1)>ROUND(SUM(Table_B!BP44),1),\"Supply > Use\",IF(ROUND(SUM(BP44),1)<ROUND(SUM(Table_B!BP44),1),\"Supply < Use\",\"\"))","v":""},null,{"$f":"IF(ROUND(SUM(BR44),1)>ROUND(SUM(Table_B!BR44),1),\"Supply > Use\",IF(ROUND(SUM(BR44),1)<ROUND(SUM(Table_B!BR44),1),\"Supply < Use\",\"\"))","v":""},null,{"$f":"IF(ROUND(SUM(BT44),1)>ROUND(SUM(Table_B!BT44),1),\"Supply > Use\",IF(ROUND(SUM(BT44),1)<ROUND(SUM(Table_B!BT44),1),\"Supply < Use\",\"\"))","v":""},null,{"$f":"IF(ROUND(SUM(BV44),1)>ROUND(SUM(Table_B!BV44),1),\"Supply > Use\",IF(ROUND(SUM(BV44),1)<ROUND(SUM(Table_B!BV44),1),\"Supply < Use\",\"\"))","v":""},null,{"$f":"IF(ROUND(SUM(BX44),1)>ROUND(SUM(Table_B!BX44),1),\"Supply > Use\",IF(ROUND(SUM(BX44),1)<ROUND(SUM(Table_B!BX44),1),\"Supply < Use\",\"\"))","v":""},null,{"$f":"IF(ROUND(SUM(BZ44),1)>ROUND(SUM(Table_B!BZ44),1),\"Supply > Use\",IF(ROUND(SUM(BZ44),1)<ROUND(SUM(Table_B!BZ44),1),\"Supply < Use\",\"\"))","v":""},null,{"$f":"IF(ROUND(SUM(CB44),1)>ROUND(SUM(Table_B!CB44),1),\"Supply > Use\",IF(ROUND(SUM(CB44),1)<ROUND(SUM(Table_B!CB44),1),\"Supply < Use\",\"\"))","v":""},null,{"$f":"IF(ROUND(SUM(CD44),1)>ROUND(SUM(Table_B!CD44),1),\"Supply > Use\",IF(ROUND(SUM(CD44),1)<ROUND(SUM(Table_B!CD44),1),\"Supply < Use\",\"\"))","v":""},null,{"$f":"IF(ROUND(SUM(CF44),1)>ROUND(SUM(Table_B!CF44),1),\"Supply > Use\",IF(ROUND(SUM(CF44),1)<ROUND(SUM(Table_B!CF44),1),\"Supply < Use\",\"\"))","v":""},null,{"$f":"IF(ROUND(SUM(CH44),1)>ROUND(SUM(Table_B!CH44),1),\"Supply > Use\",IF(ROUND(SUM(CH44),1)<ROUND(SUM(Table_B!CH44),1),\"Supply < Use\",\"\"))","v":""},null,{"$f":"IF(ROUND(SUM(CJ44),1)>ROUND(SUM(Table_B!CJ44),1),\"Supply > Use\",IF(ROUND(SUM(CJ44),1)<ROUND(SUM(Table_B!CJ44),1),\"Supply < Use\",\"\"))","v":""},null,{"$f":"IF(ROUND(SUM(CL44),1)>ROUND(SUM(Table_B!CL44),1),\"Supply > Use\",IF(ROUND(SUM(CL44),1)<ROUND(SUM(Table_B!CL44),1),\"Supply < Use\",\"\"))","v":""},null,{"$f":"IF(ROUND(SUM(CN44),1)>ROUND(SUM(Table_B!CN44),1),\"Supply > Use\",IF(ROUND(SUM(CN44),1)<ROUND(SUM(Table_B!CN44),1),\"Supply < Use\",\"\"))","v":""},null,{"$f":"IF(ROUND(SUM(CP44),1)>ROUND(SUM(Table_B!CP44),1),\"Supply > Use\",IF(ROUND(SUM(CP44),1)<ROUND(SUM(Table_B!CP44),1),\"Supply < Use\",\"\"))","v":""},null,{"$f":"IF(ROUND(SUM(CR44),1)>ROUND(SUM(Table_B!CR44),1),\"Supply > Use\",IF(ROUND(SUM(CR44),1)<ROUND(SUM(Table_B!CR44),1),\"Supply < Use\",\"\"))","v":""},null,{"$f":"IF(ROUND(SUM(CT44),1)>ROUND(SUM(Table_B!CT44),1),\"Supply > Use\",IF(ROUND(SUM(CT44),1)<ROUND(SUM(Table_B!CT44),1),\"Supply < Use\",\"\"))","v":""},null,{"$f":"IF(ROUND(SUM(CV44),1)>ROUND(SUM(Table_B!CV44),1),\"Supply > Use\",IF(ROUND(SUM(CV44),1)<ROUND(SUM(Table_B!CV44),1),\"Supply < Use\",\"\"))","v":""},null,{"$f":"IF(ROUND(SUM(CX44),1)>ROUND(SUM(Table_B!CX44),1),\"Supply > Use\",IF(ROUND(SUM(CX44),1)<ROUND(SUM(Table_B!CX44),1),\"Supply < Use\",\"\"))","v":""},null,{"$f":"IF(ROUND(SUM(CZ44),1)>ROUND(SUM(Table_B!CZ44),1),\"Supply > Use\",IF(ROUND(SUM(CZ44),1)<ROUND(SUM(Table_B!CZ44),1),\"Supply < Use\",\"\"))","v":""},null,{"$f":"IF(ROUND(SUM(DB44),1)>ROUND(SUM(Table_B!DB44),1),\"Supply > Use\",IF(ROUND(SUM(DB44),1)<ROUND(SUM(Table_B!DB44),1),\"Supply < Use\",\"\"))","v":""},null,{"$f":"IF(ROUND(SUM(DD44),1)>ROUND(SUM(Table_B!DD44),1),\"Supply > Use\",IF(ROUND(SUM(DD44),1)<ROUND(SUM(Table_B!DD44),1),\"Supply < Use\",\"\"))","v":""},null,{"$f":"IF(ROUND(SUM(DF44),1)>ROUND(SUM(Table_B!DF44),1),\"Supply > Use\",IF(ROUND(SUM(DF44),1)<ROUND(SUM(Table_B!DF44),1),\"Supply < Use\",\"\"))","v":""},null,{"$f":"IF(ROUND(SUM(DH44),1)>ROUND(SUM(Table_B!DH44),1),\"Supply > Use\",IF(ROUND(SUM(DH44),1)<ROUND(SUM(Table_B!DH44),1),\"Supply < Use\",\"\"))","v":""},null,{"$f":"IF(ROUND(SUM(DJ44),1)>ROUND(SUM(Table_B!DJ44),1),\"Supply > Use\",IF(ROUND(SUM(DJ44),1)<ROUND(SUM(Table_B!DJ44),1),\"Supply < Use\",\"\"))","v":""},null,{"$f":"IF(ROUND(SUM(DL44),1)>ROUND(SUM(Table_B!DL44),1),\"Supply > Use\",IF(ROUND(SUM(DL44),1)<ROUND(SUM(Table_B!DL44),1),\"Supply < Use\",\"\"))","v":""},null,{"$f":"IF(ROUND(SUM(DN44),1)>ROUND(SUM(Table_B!DN44),1),\"Supply > Use\",IF(ROUND(SUM(DN44),1)<ROUND(SUM(Table_B!DN44),1),\"Supply < Use\",\"\"))","v":""},null,{"$f":"IF(ROUND(SUM(DP44),1)>ROUND(SUM(Table_B!DP44),1),\"Supply > Use\",IF(ROUND(SUM(DP44),1)<ROUND(SUM(Table_B!DP44),1),\"Supply < Use\",\"\"))","v":""},null,{"$f":"IF(ROUND(SUM(DR44),1)>ROUND(SUM(Table_B!DR44),1),\"Supply > Use\",IF(ROUND(SUM(DR44),1)<ROUND(SUM(Table_B!DR44),1),\"Supply < Use\",\"\"))","v":""},null,{"$f":"IF(ROUND(SUM(DT44),1)>ROUND(SUM(Table_B!DT44),1),\"Supply > Use\",IF(ROUND(SUM(DT44),1)<ROUND(SUM(Table_B!DT44),1),\"Supply < Use\",\"\"))","v":""},null,{"$f":"IF(ROUND(SUM(DV44),1)>ROUND(SUM(Table_B!DV44),1),\"Supply > Use\",IF(ROUND(SUM(DV44),1)<ROUND(SUM(Table_B!DV44),1),\"Supply < Use\",\"\"))","v":""},null,{"$f":"IF(ROUND(SUM(DX44),1)>ROUND(SUM(Table_B!DX44),1),\"Supply > Use\",IF(ROUND(SUM(DX44),1)<ROUND(SUM(Table_B!DX44),1),\"Supply < Use\",\"\"))","v":""},null,{"$f":"IF(ROUND(SUM(DZ44),1)>ROUND(SUM(Table_B!DZ44),1),\"Supply > Use\",IF(ROUND(SUM(DZ44),1)<ROUND(SUM(Table_B!DZ44),1),\"Supply < Use\",\"\"))","v":""},null,{"$f":"IF(ROUND(SUM(EB44),1)>ROUND(SUM(Table_B!EB44),1),\"Supply > Use\",IF(ROUND(SUM(EB44),1)<ROUND(SUM(Table_B!EB44),1),\"Supply < Use\",\"\"))","v":""},null,{"$f":"IF(ROUND(SUM(ED44),1)>ROUND(SUM(Table_B!ED44),1),\"Supply > Use\",IF(ROUND(SUM(ED44),1)<ROUND(SUM(Table_B!ED44),1),\"Supply < Use\",\"\"))","v":""},null,{"$f":"IF(ROUND(SUM(EF44),1)>ROUND(SUM(Table_B!EF44),1),\"Supply > Use\",IF(ROUND(SUM(EF44),1)<ROUND(SUM(Table_B!EF44),1),\"Supply < Use\",\"\"))","v":""},null,{"$f":"IF(ROUND(SUM(EH44),1)>ROUND(SUM(Table_B!EH44),1),\"Supply > Use\",IF(ROUND(SUM(EH44),1)<ROUND(SUM(Table_B!EH44),1),\"Supply < Use\",\"\"))","v":""},null,{"$f":"IF(ROUND(SUM(EJ44),1)>ROUND(SUM(Table_B!EJ44),1),\"Supply > Use\",IF(ROUND(SUM(EJ44),1)<ROUND(SUM(Table_B!EJ44),1),\"Supply < Use\",\"\"))","v":""},null,{"$f":"IF(ROUND(SUM(EL44),1)>ROUND(SUM(Table_B!EL44),1),\"Supply > Use\",IF(ROUND(SUM(EL44),1)<ROUND(SUM(Table_B!EL44),1),\"Supply < Use\",\"\"))","v":""},null,{"$f":"IF(ROUND(SUM(EN44),1)>ROUND(SUM(Table_B!EN44),1),\"Supply > Use\",IF(ROUND(SUM(EN44),1)<ROUND(SUM(Table_B!EN44),1),\"Supply < Use\",\"\"))","v":""},null,{"$f":"IF(ROUND(SUM(EP44),1)>ROUND(SUM(Table_B!EP44),1),\"Supply > Use\",IF(ROUND(SUM(EP44),1)<ROUND(SUM(Table_B!EP44),1),\"Supply < Use\",\"\"))","v":""},null,{"$f":"IF(ROUND(SUM(ER44),1)>ROUND(SUM(Table_B!ER44),1),\"Supply > Use\",IF(ROUND(SUM(ER44),1)<ROUND(SUM(Table_B!ER44),1),\"Supply < Use\",\"\"))","v":""},null,{"$f":"IF(ROUND(SUM(ET44),1)>ROUND(SUM(Table_B!ET44),1),\"Supply > Use\",IF(ROUND(SUM(ET44),1)<ROUND(SUM(Table_B!ET44),1),\"Supply < Use\",\"\"))","v":""},null,{"$f":"IF(ROUND(SUM(EV44),1)>ROUND(SUM(Table_B!EV44),1),\"Supply > Use\",IF(ROUND(SUM(EV44),1)<ROUND(SUM(Table_B!EV44),1),\"Supply < Use\",\"\"))","v":""},null,{"$f":"IF(ROUND(SUM(EX44),1)>ROUND(SUM(Table_B!EX44),1),\"Supply > Use\",IF(ROUND(SUM(EX44),1)<ROUND(SUM(Table_B!EX44),1),\"Supply < Use\",\"\"))","v":""},null,{"$f":"IF(ROUND(SUM(EZ44),1)>ROUND(SUM(Table_B!EZ44),1),\"Supply > Use\",IF(ROUND(SUM(EZ44),1)<ROUND(SUM(Table_B!EZ44),1),\"Supply < Use\",\"\"))","v":""},null,{"$f":"IF(ROUND(SUM(FB44),1)>ROUND(SUM(Table_B!FB44),1),\"Supply > Use\",IF(ROUND(SUM(FB44),1)<ROUND(SUM(Table_B!FB44),1),\"Supply < Use\",\"\"))","v":""},null,{"$f":"IF(ROUND(SUM(FD44),1)>ROUND(SUM(Table_B!FD44),1),\"Supply > Use\",IF(ROUND(SUM(FD44),1)<ROUND(SUM(Table_B!FD44),1),\"Supply < Use\",\"\"))","v":""},null,{"$f":"IF(ROUND(SUM(FF44),1)>ROUND(SUM(Table_B!FF44),1),\"Supply > Use\",IF(ROUND(SUM(FF44),1)<ROUND(SUM(Table_B!FF44),1),\"Supply < Use\",\"\"))","v":""},null,{"$f":"IF(ROUND(SUM(FH44),1)>ROUND(SUM(Table_B!FH44),1),\"Supply > Use\",IF(ROUND(SUM(FH44),1)<ROUND(SUM(Table_B!FH44),1),\"Supply < Use\",\"\"))","v":""},null,{"$f":"IF(ROUND(SUM(FJ44),1)>ROUND(SUM(Table_B!FJ44),1),\"Supply > Use\",IF(ROUND(SUM(FJ44),1)<ROUND(SUM(Table_B!FJ44),1),\"Supply < Use\",\"\"))","v":""},null,{"$f":"IF(ROUND(SUM(FL44),1)>ROUND(SUM(Table_B!FL44),1),\"Supply > Use\",IF(ROUND(SUM(FL44),1)<ROUND(SUM(Table_B!FL44),1),\"Supply < Use\",\"\"))","v":""},null,{"$f":"IF(ROUND(SUM(FN44),1)>ROUND(SUM(Table_B!FN44),1),\"Supply > Use\",IF(ROUND(SUM(FN44),1)<ROUND(SUM(Table_B!FN44),1),\"Supply < Use\",\"\"))","v":""},null,null,null,null,null,null,null,null,null,{"$f":"IF(ROUND(SUM(FX44),1)>ROUND(SUM(Table_B!FX44),1),\"Supply > Use\",IF(ROUND(SUM(FX44),1)<ROUND(SUM(Table_B!FX44),1),\"Supply < Use\",\"\"))","v":""}]
[]
[]
[]
[null,null,null,null,"NACE_R2",null,null,"TOTAL",null,"A",null,"A01",null,"A02",null,"A03",null,"B",null,"C",null,"C10-C12",null,"C13-C15",null,"C16",null,"C17",null,"C18",null,"C19",null,"C20",null,"C21",null,"C22",null,"C23",null,"C24",null,"C25",null,"C26",null,"C27",null,"C28",null,"C29",null,"C30",null,"C31_C32",null,"C33",null,"D",null,"E",null,"E36",null,"E37-E39",null,"F",null,"G",null,"G45",null,"G46",null,"G47",null,"H",null,"H49",null,"H50",null,"H51",null,"H52",null,"H53",null,"I",null,"J",null,"J58",null,"J59_J60",null,"J61",null,"J62_J63",null,"K",null,"K64",null,"K65",null,"K66",null,"L",null,"L68A",null,"M",null,"M69_M70",null,"M71",null,"M72",null,"M73",null,"M74_M75",null,"N",null,"N77",null,"N78",null,"N79",null,"N80-N82",null,"O",null,"P",null,"Q",null,"Q86",null,"Q87_Q88",null,"R",null,"R90-R92",null,"R93",null,"S",null,"S94",null,"S95",null,"S96",null,"T",null,"U",null,"HH",null,"HH_HEAT",null,"HH_TRA",null,"HH_OTH",null,"CH_INV_PA",null,"SD_SU",null,"ROW_ACT",null,"ENV",null,"NRG_FLOW"]

{"sheet":"Table_B","index":13,"n_rows":50,"n_cols":190,"rows_kept":50,"cut":false,"hidden":false,"merged":[[4,187,6,187],[44,4,44,5],[1,1,1,3],[1,5,1,6],[1,7,1,8],[1,9,1,10],[1,11,1,12],[1,13,1,14],[1,15,1,16],[1,17,1,18],[2,1,2,3],[2,5,2,6],[2,7,2,8],[2,9,2,10],[2,11,2,12],[2,13,2,14],[2,15,2,16],[2,17,2,18],[3,1,3,3],[3,5,3,6],[7,4,7,6],[8,4,8,5],[9,4,9,5],[10,4,10,5],[11,4,11,5],[1,19,1,20],[1,21,1,22],[1,23,1,24],[1,25,1,26],[1,27,1,28],[1,29,1,30],[1,31,1,32],[1,33,1,34],[5,21,6,22],[5,23,6,24],[5,25,6,26],[5,27,6,28],[5,29,6,30],[5,31,6,32],[5,33,6,34],[1,35,1,36],[1,37,1,38],[1,39,1,40],[1,41,1,42],[1,43,1,44],[1,45,1,46],[1,47,1,48],[1,49,1,50],[1,51,1,52],[1,53,1,54],[1,55,1,56],[1,57,1,58],[1,59,1,60],[1,61,1,62],[1,63,1,64],[1,65,1,66],[1,67,1,68],[1,69,1,70],[1,71,1,72],[1,73,1,74],[1,75,1,76],[1,77,1,78],[1,79,1,80],[1,81,1,82],[1,83,1,84],[1,85,1,86],[1,87,1,88],[1,89,1,90],[1,91,1,92],[1,93,1,94],[1,95,1,96],[1,97,1,98],[1,99,1,100],[1,101,1,102],[1,103,1,104],[1,105,1,106],[1,107,1,108],[1,109,1,110],[1,111,1,112],[1,113,1,114],[1,115,1,116],[1,117,1,118],[1,119,1,120],[1,121,1,122],[1,123,1,124],[1,125,1,126],[1,127,1,128],[1,129,1,130],[1,131,1,132],[1,133,1,134],[1,135,1,136],[1,137,1,138],[1,139,1,140],[1,141,1,142],[1,143,1,144],[1,145,1,146],[1,147,1,148],[1,149,1,150],[1,151,1,152],[1,153,1,154],[1,155,1,156],[1,157,1,158],[1,159,1,160],[1,161,1,162],[1,163,1,164],[1,165,1,166],[1,167,1,168],[1,169,1,170],[1,171,1,172],[1,173,1,174],[1,175,1,176],[1,177,1,178],[1,179,1,180],[2,19,2,20],[2,21,2,22],[2,23,2,24],[2,25,2,26],[2,27,2,28],[2,29,2,30],[2,31,2,32],[2,33,2,34],[2,35,2,36],[2,37,2,38],[2,39,2,40],[2,41,2,42],[2,43,2,44],[2,45,2,46],[2,47,2,48],[2,49,2,50],[2,51,2,52],[2,53,2,54],[2,55,2,56],[2,57,2,58],[2,59,2,60],[2,61,2,62],[2,63,2,64],[2,65,2,66],[2,67,2,68],[2,69,2,70],[2,71,2,72],[2,73,2,74],[2,75,2,76],[2,77,2,78],[2,79,2,80],[2,81,2,82],[2,83,2,84],[2,85,2,86],[2,87,2,88],[2,89,2,90],[2,91,2,92],[2,93,2,94],[2,95,2,96],[2,97,2,98],[2,99,2,100],[2,101,2,102],[2,103,2,104],[2,105,2,106],[2,107,2,108],[2,109,2,110],[2,111,2,112],[2,113,2,114],[2,115,2,116],[2,117,2,118],[2,119,2,120],[2,121,2,122],[2,123,2,124],[2,125,2,126],[2,127,2,128],[2,129,2,130],[2,131,2,132],[2,133,2,134],[2,135,2,136],[2,137,2,138],[2,139,2,140],[2,141,2,142],[2,143,2,144],[2,145,2,146],[2,147,2,148],[2,149,2,150],[2,151,2,152],[2,153,2,154],[2,155,2,156],[2,157,2,158],[2,159,2,160],[2,161,2,162],[2,163,2,164],[2,165,2,166],[2,167,2,168],[2,169,2,170],[2,171,2,172],[2,173,2,174],[2,175,2,176],[2,177,2,178],[2,179,2,180],[3,173,3,174],[3,175,3,176],[3,177,3,178],[4,1,4,3],[4,5,4,6],[4,7,4,8],[4,9,4,10],[4,11,4,12],[4,13,4,14],[4,15,4,16],[4,17,4,18],[4,19,4,20],[4,21,4,22],[4,23,4,24],[4,25,4,26],[4,27,4,28],[4,29,4,30],[4,31,4,32],[4,33,4,34],[4,35,4,36],[4,37,4,38],[4,39,4,40],[4,41,4,42],[4,43,4,44],[4,45,4,46],[4,47,4,48],[4,49,4,50],[4,51,4,52],[4,53,4,54],[4,55,4,56],[4,57,4,58],[4,59,4,60],[4,61,4,62],[4,63,4,64],[4,65,4,66],[4,67,4,68],[4,69,4,70],[4,71,4,72],[4,73,4,74],[4,75,4,76],[4,77,4,78],[4,79,4,80],[4,81,4,82],[4,83,4,84],[4,85,4,86],[4,87,4,88],[4,89,4,90],[4,91,4,92],[4,93,4,94],[4,95,4,96],[4,97,4,98],[4,99,4,100],[4,101,4,102],[4,103,4,104],[4,105,4,106],[4,107,4,108],[4,109,4,110],[4,111,4,112],[4,113,4,114],[4,115,4,116],[4,117,4,118],[4,119,4,120],[4,121,4,122],[4,123,4,124],[4,125,4,126],[4,127,4,128],[4,129,4,130],[4,131,4,132],[4,133,4,134],[4,135,4,136],[4,137,4,138],[4,139,4,140],[4,141,4,142],[4,143,4,144],[4,145,4,146],[4,147,4,148],[4,149,4,150],[4,151,4,152],[4,153,4,154],[4,155,4,156],[4,157,4,158],[4,159,4,160],[4,161,4,162],[4,163,4,164],[4,165,4,166],[4,167,4,168],[4,169,4,170],[4,171,4,172],[4,173,4,174],[4,175,4,176],[4,177,4,178],[4,179,4,180],[5,1,5,3],[5,5,6,6],[5,7,6,8],[5,9,6,10],[5,11,6,12],[5,13,6,14],[5,15,6,16],[5,17,6,18],[5,19,6,20],[5,35,6,36],[5,37,6,38],[5,39,6,40],[5,41,6,42],[5,43,6,44],[5,45,6,46],[5,47,6,48],[5,49,6,50],[5,51,6,52],[5,53,6,54],[5,55,6,56],[5,57,6,58],[5,59,6,60],[5,61,6,62],[5,63,6,64],[5,65,6,66],[5,67,6,68],[5,69,6,70],[5,71,6,72],[5,73,6,74],[5,75,6,76],[5,77,6,78],[5,79,6,80],[5,81,6,82],[5,83,6,84],[5,85,6,86],[5,87,6,88],[5,89,6,90],[5,91,6,92],[5,93,6,94],[5,95,6,96],[5,97,6,98],[5,99,6,100],[5,101,6,102],[5,103,6,104],[5,105,6,106],[5,133,6,134],[5,135,6,136],[5,137,6,138],[5,139,6,140],[5,141,6,142],[5,107,6,108],[5,109,6,110],[5,111,6,112],[5,113,6,114],[5,115,6,116],[5,117,6,118],[5,119,6,120],[5,121,6,122],[5,123,6,124],[5,171,6,172],[5,173,6,174],[5,175,6,176],[5,177,6,178],[5,179,6,180],[6,1,6,4],[5,159,6,160],[5,161,6,162],[5,163,6,164],[5,165,6,166],[5,143,6,144],[5,145,6,146],[5,167,6,168],[5,169,6,170],[5,147,6,148],[5,149,6,150],[5,151,6,152],[5,153,6,154],[5,155,6,156],[5,157,6,158],[5,125,6,126],[5,127,6,128],[5,129,6,130],[5,131,6,132],[12,4,12,5],[13,4,13,5],[14,4,14,5],[15,4,15,5],[16,4,16,5],[17,4,17,5],[18,4,18,5],[19,4,19,5],[20,4,20,5],[21,4,21,5],[22,4,22,5],[23,4,23,5],[24,4,24,5],[25,4,25,5],[26,4,26,5],[27,4,27,5],[28,4,28,5],[29,4,29,5],[39,4,39,5],[40,4,40,5],[41,4,41,5],[43,4,43,5],[42,4,42,5],[30,4,30,5],[31,4,31,5],[32,4,32,5],[33,4,33,5],[34,4,34,5],[35,4,35,5],[36,4,36,5],[37,4,37,5],[38,4,38,5]]}
["DATAENTRY"]
[null,"Country :",null,null,{"$f":"IF(intro!D12=\"\",\"\",intro!D12)","v":""},"no",null,1,null,{"$f":"H2+1","v":2},null,{"$f":"J2+1","v":3},null,{"$f":"L2+1","v":4},null,{"$f":"N2+1","v":5},null,{"$f":"P2+1","v":6},null,{"$f":"R2+1","v":7},null,{"$f":"T2+1","v":8},null,{"$f":"V2+1","v":9},null,{"$f":"X2+1","v":10},null,{"$f":"Z2+1","v":11},null,{"$f":"AB2+1","v":12},null,{"$f":"AD2+1","v":13},null,{"$f":"AF2+1","v":14},null,{"$f":"AH2+1","v":15},null,{"$f":"AJ2+1","v":16},null,{"$f":"AL2+1","v":17},null,{"$f":"AN2+1","v":18},null,{"$f":"AP2+1","v":19},null,{"$f":"AR2+1","v":20},null,{"$f":"AT2+1","v":21},null,{"$f":"AV2+1","v":22},null,{"$f":"AX2+1","v":23},null,{"$f":"AZ2+1","v":24},null,{"$f":"BB2+1","v":25},null,{"$f":"BD2+1","v":26},null,{"$f":"BF2+1","v":27},null,{"$f":"BH2+1","v":28},null,{"$f":"BJ2+1","v":29},null,{"$f":"BL2+1","v":30},null,{"$f":"BN2+1","v":31},null,{"$f":"BP2+1","v":32},null,{"$f":"BR2+1","v":33},null,{"$f":"BT2+1","v":34},null,{"$f":"BV2+1","v":35},null,{"$f":"BX2+1","v":36},null,{"$f":"BZ2+1","v":37},null,{"$f":"CB2+1","v":38},null,{"$f":"CD2+1","v":39},null,{"$f":"CF2+1","v":40},null,{"$f":"CH2+1","v":41},null,{"$f":"CJ2+1","v":42},null,{"$f":"CL2+1","v":43},null,{"$f":"CN2+1","v":44},null,{"$f":"CP2+1","v":45},null,{"$f":"CR2+1","v":46},null,{"$f":"CT2+1","v":47},null,{"$f":"CV2+1","v":48},null,{"$f":"CX2+1","v":49},null,{"$f":"CZ2+1","v":50},null,{"$f":"DB2+1","v":51},null,{"$f":"DD2+1","v":52},null,{"$f":"DF2+1","v":53},null,{"$f":"DH2+1","v":54},null,{"$f":"DJ2+1","v":55},null,{"$f":"DL2+1","v":56},null,{"$f":"DN2+1","v":57},null,{"$f":"DP2+1","v":58},null,{"$f":"DR2+1","v":59},null,{"$f":"DT2+1","v":60},null,{"$f":"DV2+1","v":61},null,{"$f":"DX2+1","v":62},null,{"$f":"DZ2+1","v":63},null,{"$f":"EB2+1","v":64},null,{"$f":"ED2+1","v":65},null,{"$f":"EF2+1","v":66},null,{"$f":"EH2+1","v":67},null,{"$f":"EJ2+1","v":68},null,{"$f":"EL2+1","v":69},null,{"$f":"EN2+1","v":70},null,{"$f":"EP2+1","v":71},null,{"$f":"ER2+1","v":72},null,{"$f":"ET2+1","v":73},null,{"$f":"EV2+1","v":74},null,{"$f":"EX2+1","v":75},null,{"$f":"EZ2+1","v":76},null,{"$f":"FB2+1","v":77},null,{"$f":"FD2+1","v":78},null,{"$f":"FF2+1","v":79},null,{"$f":"FH2+1","v":80},null,{"$f":"FJ2+1","v":81},null,{"$f":"FL2+1","v":82},null,{"$f":"FN2+1","v":83},null,{"$f":"FP2+1","v":84},null,{"$f":"FR2+1","v":85},null,{"$f":"FT2+1","v":86},null,{"$f":"FV2+1","v":87}]
[null,"Year :",null,null,{"$f":"IF(intro!E14=\"\",\"\",intro!E14)","v":""},"Level",null,{"$f":"'PEFA Columns'!D2","v":1},null,{"$f":"'PEFA Columns'!F6","v":2},null,{"$f":"'PEFA Columns'!H6","v":3},null,{"$f":"'PEFA Columns'!J6","v":3},null,{"$f":"'PEFA Columns'!L6","v":3},null,{"$f":"'PEFA Columns'!N6","v":2},null,{"$f":"'PEFA Columns'!P6","v":2},null,{"$f":"'PEFA Columns'!R6","v":3},null,{"$f":"'PEFA Columns'!T6","v":3},null,{"$f":"'PEFA Columns'!V6","v":3},null,{"$f":"'PEFA Columns'!X6","v":3},null,{"$f":"'PEFA Columns'!Z6","v":3},null,{"$f":"'PEFA Columns'!AB6","v":3},null,{"$f":"'PEFA Columns'!AD6","v":3},null,{"$f":"'PEFA Columns'!AF6","v":3},null,{"$f":"'PEFA Columns'!AH6","v":3},null,{"$f":"'PEFA Columns'!AJ6","v":3},null,{"$f":"'PEFA Columns'!AL6","v":3},null,{"$f":"'PEFA Columns'!AN6","v":3},null,{"$f":"'PEFA Columns'!AP6","v":3},null,{"$f":"'PEFA Columns'!AR6","v":3},null,{"$f":"'PEFA Columns'!AT6","v":3},null,{"$f":"'PEFA Columns'!AV6","v":3},null,{"$f":"'PEFA Columns'!AX6","v":3},null,{"$f":"'PEFA Columns'!AZ6","v":3},null,{"$f":"'PEFA Columns'!BB6","v":3},null,{"$f":"'PEFA Columns'!BD6","v":2},null,{"$f":"'PEFA Columns'!BF6","v":2},null,{"$f":"'PEFA Columns'!BH6","v":3},null,{"$f":"'PEFA Columns'!BJ6","v":3},null,{"$f":"'PEFA Columns'!BL6","v":2},null,{"$f":"'PEFA Columns'!BN6","v":2},null,{"$f":"'PEFA Columns'!BP6","v":3},null,{"$f":"'PEFA Columns'!BR6","v":3},null,{"$f":"'PEFA Columns'!BT6","v":3},null,{"$f":"'PEFA Columns'!BV6","v":2},null,{"$f":"'PEFA Columns'!BX6","v":3},null,{"$f":"'PEFA Columns'!BZ6","v":3},null,{"$f":"'PEFA Columns'!CB6","v":3},null,{"$f":"'PEFA Columns'!CD6","v":3},null,{"$f":"'PEFA Columns'!CF6","v":3},null,{"$f":"'PEFA Columns'!CH6","v":2},null,{"$f":"'PEFA Columns'!CJ6","v":2},null,{"$f":"'PEFA Columns'!CL6","v":3},null,{"$f":"'PEFA Columns'!CN6","v":3},null,{"$f":"'PEFA Columns'!CP6","v":3},null,{"$f":"'PEFA Columns'!CR6","v":3},null,{"$f":"'PEFA Columns'!CT6","v":2},null,{"$f":"'PEFA Columns'!CV6","v":3},null,{"$f":"'PEFA Columns'!CX6","v":3},null,{"$f":"'PEFA Columns'!CZ6","v":3},null,{"$f":"'PEFA Columns'!DB6","v":2},null,{"$f":"'PEFA Columns'!DD6","v":3},null,{"$f":"'PEFA Columns'!DF6","v":2},null,{"$f":"'PEFA Columns'!DH6","v":3},null,{"$f":"'PEFA Columns'!DJ6","v":3},null,{"$f":"'PEFA Columns'!DL6","v":3},null,{"$f":"'PEFA Columns'!DN6","v":3},null,{"$f":"'PEFA Columns'!DP6","v":3},null,{"$f":"'PEFA Columns'!DR6","v":2},null,{"$f":"'PEFA Columns'!DT6","v":3},null,{"$f":"'PEFA Columns'!DV6","v":3},null,{"$f":"'PEFA Columns'!DX6","v":3},null,{"$f":"'PEFA Columns'!DZ6","v":3},null,{"$f":"'PEFA Columns'!EB6","v":2},null,{"$f":"'PEFA Columns'!ED6","v":2},null,{"$f":"'PEFA Columns'!EF6","v":2},null,{"$f":"'PEFA Columns'!EH6","v":3},null,{"$f":"'PEFA Columns'!EJ6","v":3},null,{"$f":"'PEFA Columns'!EL6","v":2},null,{"$f":"'PEFA Columns'!EN6","v":3},null,{"$f":"'PEFA Columns'!EP6","v":3},null,{"$f":"'PEFA Columns'!ER6","v":2},null,{"$f":"'PEFA Columns'!ET6","v":3},null,{"$f":"'PEFA Columns'!EV6","v":3},null,{"$f":"'PEFA Columns'!EX6","v":3},null,{"$f":"'PEFA Columns'!EZ6","v":2},null,{"$f":"'PEFA Columns'!FB6","v":2},null,{"$f":"'PEFA Columns'!FD6","v":1},null,{"$f":"'PEFA Columns'!FF6","v":2},null,{"$f":"'PEFA Columns'!FH6","v":2},null,{"$f":"'PEFA Columns'!FJ6","v":2},null,{"$f":"'PEFA Columns'!FL6","v":1},null,{"$f":"'PEFA Columns'!FN6","v":1},null,{"$f":"'PEFA Columns'!FP6","v":1},null,{"$f":"'PEFA Columns'!FR6","v":1},null,{"$f":"'PEFA Columns'!FT6","v":0}]
[null,"Number and Type:",null,null,"Table B - Physical use table for energy flows",null,null," ",null,null,null,null,null,null,null,null,null,null,null,null,null,"INDUSTRIES (NACE rev 2)",null,null,null,null,null,null,null,null,null,null,null,null,null,null,null,"INDUSTRIES (NACE rev 2)",null,null,null,null,null,null,null,null,null,null,null,null,null,null,null,null,null,null,null,null,null,null,null,"INDUSTRIES (NACE rev 2)",null,null,null,null,null,null,null,null,null,null,null,null,null,null,null,"INDUSTRIES (NACE rev 2)",null,null,null,null,null,null,null,null,null,null,null,null,null,null,null,null,null,"INDUSTRIES (NACE rev 2)",null,null,null,null,null,null,null,null,null,null,null,null,null,"INDUSTRIES (NACE rev 2)",null,null,null,null,null,null,null,null,null,null,null,null,null,null,null,null,null,null,null,null,null,null,null,null,null,null,null,null,null,null,null,"INDUSTRIES (NACE rev 2)",null,null,null,null,null,null,null,null,null,null,null,null,null,null,null,null,null,null,null,null,null,"HOUSEHOLDS",null,null,null,null,null,null,null,"ACCUMULATION",null,"STADIF",null,"REST OF THE WORLD",null,"ENVIRONMENT"]
[null,"Content:",null,null,"Energy Flows","Code",null,{"$f":"'PEFA Columns'!D7","v":"A_U   01-99"},null,{"$f":"'PEFA Columns'!F7","v":"A"},null,{"$f":"'PEFA Columns'!H7","v":"A01"},null,{"$f":"'PEFA Columns'!J7","v":"A02"},null,{"$f":"'PEFA Columns'!L7","v":"A03"},null,{"$f":"'PEFA Columns'!N7","v":"B"},null,{"$f":"'PEFA Columns'!P7","v":"C"},null,{"$f":"'PEFA Columns'!R7","v":"C10-C12"},null,{"$f":"'PEFA Columns'!T7","v":"C13-C15"},null,{"$f":"'PEFA Columns'!V7","v":"C16"},null,{"$f":"'PEFA Columns'!X7","v":"C17"},null,{"$f":"'PEFA Columns'!Z7","v":"C18"},null,{"$f":"'PEFA Columns'!AB7","v":"C19"},null,{"$f":"'PEFA Columns'!AD7","v":"C20"},null,{"$f":"'PEFA Columns'!AF7","v":"C21"},null,{"$f":"'PEFA Columns'!AH7","v":"C22"},null,{"$f":"'PEFA Columns'!AJ7","v":"C23"},null,{"$f":"'PEFA Columns'!AL7","v":"C24"},null,{"$f":"'PEFA Columns'!AN7","v":"C25"},null,{"$f":"'PEFA Columns'!AP7","v":"C26"},null,{"$f":"'PEFA Columns'!AR7","v":"C27"},null,{"$f":"'PEFA Columns'!AT7","v":"C28"},null,{"$f":"'PEFA Columns'!AV7","v":"C29"},null,{"$f":"'PEFA Columns'!AX7","v":"C30"},null,{"$f":"'PEFA Columns'!AZ7","v":"C31_C32"},null,{"$f":"'PEFA Columns'!BB7","v":"C33"},null,{"$f":"'PEFA Columns'!BD7","v":"D"},null,{"$f":"'PEFA Columns'!BF7","v":"E"},null,{"$f":"'PEFA Columns'!BH7","v":"E36"},null,{"$f":"'PEFA Columns'!BJ7","v":"E37-E39"},null,{"$f":"'PEFA Columns'!BL7","v":"F"},null,{"$f":"'PEFA Columns'!BN7","v":"G"},null,{"$f":"'PEFA Columns'!BP7","v":"G45"},null,{"$f":"'PEFA Columns'!BR7","v":"G46"},null,{"$f":"'PEFA Columns'!BT7","v":"G47"},null,{"$f":"'PEFA Columns'!BV7","v":"H"},null,{"$f":"'PEFA Columns'!BX7","v":"H49"},null,{"$f":"'PEFA Columns'!BZ7","v":"H50"},null,{"$f":"'PEFA Columns'!CB7","v":"H51"},null,{"$f":"'PEFA Columns'!CD7","v":"H52"},null,{"$f":"'PEFA Columns'!CF7","v":"H53"},null,{"$f":"'PEFA Columns'!CH7","v":"I"},null,{"$f":"'PEFA Columns'!CJ7","v":"J"},null,{"$f":"'PEFA Columns'!CL7","v":"J58"},null,{"$f":"'PEFA Columns'!CN7","v":"J59_J60"},null,{"$f":"'PEFA Columns'!CP7","v":"J61"},null,{"$f":"'PEFA Columns'!CR7","v":"J62_J63"},null,{"$f":"'PEFA Columns'!CT7","v":"K"},null,{"$f":"'PEFA Columns'!CV7","v":"K64"},null,{"$f":"'PEFA Columns'!CX7","v":"K65"},null,{"$f":"'PEFA Columns'!CZ7","v":"K66"},null,{"$f":"'PEFA Columns'!DB7","v":"L"},null,{"$f":"'PEFA Columns'!DD7","v":"L68A"},null,{"$f":"'PEFA Columns'!DF7","v":"M"},null,{"$f":"'PEFA Columns'!DH7","v":"M69_M70"},null,{"$f":"'PEFA Columns'!DJ7","v":"M71"},null,{"$f":"'PEFA Columns'!DL7","v":"M72"},null,{"$f":"'PEFA Columns'!DN7","v":"M73"},null,{"$f":"'PEFA Columns'!DP7","v":"M74_M75"},null,{"$f":"'PEFA Columns'!DR7","v":"N"},null,{"$f":"'PEFA Columns'!DT7","v":"N77"},null,{"$f":"'PEFA Columns'!DV7","v":"N78"},null,{"$f":"'PEFA Columns'!DX7","v":"N79"},null,{"$f":"'PEFA Columns'!DZ7","v":"N80-N82"},null,{"$f":"'PEFA Columns'!EB7","v":"O"},null,{"$f":"'PEFA Columns'!ED7","v":"P"},null,{"$f":"'PEFA Columns'!EF7","v":"Q"},null,{"$f":"'PEFA Columns'!EH7","v":"Q86"},null,{"$f":"'PEFA Columns'!EJ7","v":"Q87_Q88"},null,{"$f":"'PEFA Columns'!EL7","v":"R"},null,{"$f":"'PEFA Columns'!EN7","v":"R90-R92"},null,{"$f":"'PEFA Columns'!EP7","v":"R93"},null,{"$f":"'PEFA Columns'!ER7","v":"S"},null,{"$f":"'PEFA Columns'!ET7","v":"S94"},null,{"$f":"'PEFA Columns'!EV7","v":"S95"},null,{"$f":"'PEFA Columns'!EX7","v":"S96"},null,{"$f":"'PEFA Columns'!EZ7","v":"T"},null,{"$f":"'PEFA Columns'!FB7","v":"U"},null,{"$f":"'PEFA Columns'!FD7","v":"HH"},null,{"$f":"'PEFA Columns'!FF7","v":"HH_HEAT"},null,{"$f":"'PEFA Columns'!FH7","v":"HH_TRA"},null,{"$f":"'PEFA Columns'!FJ7","v":"HH_OTH"},null,{"$f":"'PEFA Columns'!FL7","v":"CHINV_PA"},null,{"$f":"'PEFA Columns'!FN7","v":"STADIF"},null,{"$f":"'PEFA Columns'!FP7","v":"ROW_ACT"},null,{"$f":"'PEFA Columns'!FR7","v":"ENV"},null,{"$f":"'PEFA Columns'!FT7","v":"TSUE"},null,null,null,null,null,null,null,"PROD_NRG"]
[null,"Unit :",null,null,"TJ","Label",null,{"$f":"'PEFA Columns'!D8","v":"Total NACE industries"},null,{"$f":"'PEFA Columns'!F8","v":"Agriculture, forestry and fishing"},null,{"$f":"'PEFA Columns'!H8","v":"Crop and animal production, hunting and related service activities"},null,{"$f":"'PEFA Columns'!J8","v":"Forestry and logging"},null,{"$f":"'PEFA Columns'!L8","v":"Fishing and aquaculture"},null,{"$f":"'PEFA Columns'!N8","v":"Mining and quarrying"},null,{"$f":"'PEFA Columns'!P8","v":"Manufacturing"},null,{"$f":"'PEFA Columns'!R8","v":"Manufacture of food products, beverages and tobacco\nproducts"},null,{"$f":"'PEFA Columns'!T8","v":"Manufacture of textiles, wearing apparel and leather products"},null,{"$f":"'PEFA Columns'!V8","v":"Manufacture of wood and of products of wood and cork, except furniture; manufacture of articles of straw and plaiting materials"},null,{"$f":"'PEFA Columns'!X8","v":"Manufacture of paper and paper products"},null,{"$f":"'PEFA Columns'!Z8","v":"Printing and reproduction of recorded media"},null,{"$f":"'PEFA Columns'!AB8","v":"Manufacture of coke and refined petroleum products"},null,{"$f":"'PEFA Columns'!AD8","v":"Manufacture of chemicals and chemical products"},null,{"$f":"'PEFA Columns'!AF8","v":"Manufacture of basic pharmaceutical products and pharmaceutical preparations"},null,{"$f":"'PEFA Columns'!AH8","v":"Manufacture of rubber and plastic products"},null,{"$f":"'PEFA Columns'!AJ8","v":"Manufacture of other non-metallic mineral products"},null,{"$f":"'PEFA Columns'!AL8","v":"Manufacture of basic metals"},null,{"$f":"'PEFA Columns'!AN8","v":"Manufacture of fabricated metal products, except machinery and equipment"},null,{"$f":"'PEFA Columns'!AP8","v":"Manufacture of computer, electronic and optical products"},null,{"$f":"'PEFA Columns'!AR8","v":"Manufacture of electrical equipment"},null,{"$f":"'PEFA Columns'!AT8","v":"Manufacture of machinery and equipment n.e.c."},null,{"$f":"'PEFA Columns'!AV8","v":"Manufacture of motor vehicles, trailers and semi-trailers"},null,{"$f":"'PEFA Columns'!AX8","v":"Manufacture of other transport equipment"},null,{"$f":"'PEFA Columns'!AZ8","v":"Manufacture of furniture; other manufacturing"},null,{"$f":"'PEFA Columns'!BB8","v":"Repair and installation of machinery and equipment"},null,{"$f":"'PEFA Columns'!BD8","v":"Electricity, gas, steam and air conditioning supply"},null,{"$f":"'PEFA Columns'!BF8","v":"Water supply; sewerage, waste management and remediation activities"},null,{"$f":"'PEFA Columns'!BH8","v":"Water collection, treatment and supply"},null,{"$f":"'PEFA Columns'!BJ8","v":"Sewerage, waste management, remediation activities"},null,{"$f":"'PEFA Columns'!BL8","v":"Construction"},null,{"$f":"'PEFA Columns'!BN8","v":"Wholesale and retail trade; repair of motor vehicles and motorcycles"},null,{"$f":"'PEFA Columns'!BP8","v":"Wholesale and retail trade and repair of motor vehicles and motorcycles"},null,{"$f":"'PEFA Columns'!BR8","v":"Wholesale trade, except of motor vehicles and motorcycles"},null,{"$f":"'PEFA Columns'!BT8","v":"Retail trade, except of motor vehicles and motorcycles"},null,{"$f":"'PEFA Columns'!BV8","v":"Transportation and storage"},null,{"$f":"'PEFA Columns'!BX8","v":"Land transport and transport via pipelines"},null,{"$f":"'PEFA Columns'!BZ8","v":"Water transport"},null,{"$f":"'PEFA Columns'!CB8","v":"Air transport"},null,{"$f":"'PEFA Columns'!CD8","v":"Warehousing and support activities for transportation"},null,{"$f":"'PEFA Columns'!CF8","v":"Postal and courier activities"},null,{"$f":"'PEFA Columns'!CH8","v":"Accommodation and food service activities"},null,{"$f":"'PEFA Columns'!CJ8","v":"Information and communication"},null,{"$f":"'PEFA Columns'!CL8","v":"Publishing activities"},null,{"$f":"'PEFA Columns'!CN8","v":"Motion picture, video, television programme production; programming and broadcasting activities"},null,{"$f":"'PEFA Columns'!CP8","v":"Telecommunications"},null,{"$f":"'PEFA Columns'!CR8","v":"Computer programming, consultancy, and information service activities"},null,{"$f":"'PEFA Columns'!CT8","v":"Financial and insurance activities"},null,{"$f":"'PEFA Columns'!CV8","v":"Financial service activities, except insurance and pension funding"},null,{"$f":"'PEFA Columns'!CX8","v":"Insurance, reinsurance and pension funding, except compulsory social security"},null,{"$f":"'PEFA Columns'!CZ8","v":"Activities auxiliary to financial services and insurance activities"},null,{"$f":"'PEFA Columns'!DB8","v":"Real estate activities"},null,{"$f":"'PEFA Columns'!DD8","v":"Of which: Imputed rents of owner-occupied dwellings"},null,{"$f":"'PEFA Columns'!DF8","v":"Professional, scientific and technical activities"},null,{"$f":"'PEFA Columns'!DH8","v":"Legal and accounting activities; activities of head offices; management consultancy activities"},null,{"$f":"'PEFA Columns'!DJ8","v":"Architectural and engineering activities; technical testing and analysis"},null,{"$f":"'PEFA Columns'!DL8","v":"Scientific research and development"},null,{"$f":"'PEFA Columns'!DN8","v":"Advertising and market research"},null,{"$f":"'PEFA Columns'!DP8","v":"Other professional, scientific and technical activities; veterinary activities"},null,{"$f":"'PEFA Columns'!DR8","v":"Administrative and support service activities"},null,{"$f":"'PEFA Columns'!DT8","v":"Rental and leasing activities"},null,{"$f":"'PEFA Columns'!DV8","v":"Employment activities"},null,{"$f":"'PEFA Columns'!DX8","v":"Travel agency, tour operator reservation service and related activities"},null,{"$f":"'PEFA Columns'!DZ8","v":"Security and investigation, service and landscape, office administrative and support activities"},null,{"$f":"'PEFA Columns'!EB8","v":"Public administration and defence; compulsory social security"},null,{"$f":"'PEFA Columns'!ED8","v":"Education"},null,{"$f":"'PEFA Columns'!EF8","v":"Human health and social work activities"},null,{"$f":"'PEFA Columns'!EH8","v":"Human health activities"},null,{"$f":"'PEFA Columns'!EJ8","v":"Residential care activities and social work activities without accommodation"},null,{"$f":"'PEFA Columns'!EL8","v":"Arts, entertainment and recreation"},null,{"$f":"'PEFA Columns'!EN8","v":"Creative, arts and entertainment activities; libraries, archives, museums and other cultural activities; gambling and betting activities"},null,{"$f":"'PEFA Columns'!EP8","v":"Sports activities and amusement and recreation activities"},null,{"$f":"'PEFA Columns'!ER8","v":"Other service activities"},null,{"$f":"'PEFA Columns'!ET8","v":"Activities of membership organisations"},null,{"$f":"'PEFA Columns'!EV8","v":"Repair of computers and personal and household goods"},null,{"$f":"'PEFA Columns'!EX8","v":"Other personal service activities"},null,{"$f":"'PEFA Columns'!EZ8","v":"Activities of households as employers; undifferentiated goods- and services-producing activities of households for own use"},null,{"$f":"'PEFA Columns'!FB8","v":"Activities of extraterritorial organisations and bodies"},null,{"$f":"'PEFA Columns'!FD8","v":"Total activities by households"},null,{"$f":"'PEFA Columns'!FF8","v":"Heating/cooling activities by households"},null,{"$f":"'PEFA Columns'!FH8","v":"Transport activities by households"},null,{"$f":"'PEFA Columns'!FJ8","v":"Other activities by households"},null,{"$f":"'PEFA Columns'!FL8","v":"Changes in inventories and produced assets"},null,{"$f":"'PEFA Columns'!FN8","v":"Statistical Differences"},null,{"$f":"'PEFA Columns'!FP8","v":"Rest of the World - economic activities"},null,{"$f":"'PEFA Columns'!FR8","v":"Environment"},null,{"$f":"'PEFA Columns'!FT8","v":"TOTAL USE OF NATURAL INPUTS, PRODUCTS, AND RESIDUALS"}]
[null,null,null,null,null,null,null,null,null,null,null,null,null,null,null,null,null,null,null,null,null,null,null,null,null,null,null,null,null,null,null,null,null,null,null,null,null,null,null,null,null,null,null,null,null,null,null,null,null,null,null,null,null,null,null,null,null,null,null,null,null,null,null,null,null,null,null,null,null,null,null,null,null,null,null,null,null,null,null,null,null,null,null,null,null,null,null,null,null,null,null,null,null,null,null,null,null,null,null,null,null,null,null,null,null,null,null,null,null,null,null,null,null,null,null,null,null,null,null,null,null,null,null,null,null,null,null,null,null,null,null,null,null,null,null,null,null,null,null,null,null,null,null,null,null,null,null,null,null,null,null,null,null,null,null,null,null,null,null,null,null,null,null,null,null,null,null,null,null,null,null,null,null,null,null,null,null,null,null,null,null,null,null,null,null,"UNIT_MEASURE","UNIT_MULT",null,"STK_FLOW","INDIC_PEFA"]
[null,"no","Level","Code","Label"]
[null,1,{"$f":"'PEFA rows'!B3","v":1},{"$f":"'PEFA rows'!C3","v":"N00"},{"$f":"'PEFA rows'!D3","v":"NATURAL ENERGY INPUTS"},null,null,{"$f":"SUM(H10:H16)","v":0},null,{"$f":"SUM(J10:J16)","v":0},null,{"$f":"SUM(L10:L16)","v":0},null,{"$f":"SUM(N10:N16)","v":0},null,{"$f":"SUM(P10:P16)","v":0},null,{"$f":"SUM(R10:R16)","v":0},null,{"$f":"SUM(T10:T16)","v":0},null,{"$f":"SUM(V10:V16)","v":0},null,{"$f":"SUM(X10:X16)","v":0},null,{"$f":"SUM(Z10:Z16)","v":0},null,{"$f":"SUM(AB10:AB16)","v":0},null,{"$f":"SUM(AD10:AD16)","v":0},null,{"$f":"SUM(AF10:AF16)","v":0},null,{"$f":"SUM(AH10:AH16)","v":0},null,{"$f":"SUM(AJ10:AJ16)","v":0},null,{"$f":"SUM(AL10:AL16)","v":0},null,{"$f":"SUM(AN10:AN16)","v":0},null,{"$f":"SUM(AP10:AP16)","v":0},null,{"$f":"SUM(AR10:AR16)","v":0},null,{"$f":"SUM(AT10:AT16)","v":0},null,{"$f":"SUM(AV10:AV16)","v":0},null,{"$f":"SUM(AX10:AX16)","v":0},null,{"$f":"SUM(AZ10:AZ16)","v":0},null,{"$f":"SUM(BB10:BB16)","v":0},null,{"$f":"SUM(BD10:BD16)","v":0},null,{"$f":"SUM(BF10:BF16)","v":0},null,{"$f":"SUM(BH10:BH16)","v":0},null,{"$f":"SUM(BJ10:BJ16)","v":0},null,{"$f":"SUM(BL10:BL16)","v":0},null,{"$f":"SUM(BN10:BN16)","v":0},null,{"$f":"SUM(BP10:BP16)","v":0},null,{"$f":"SUM(BR10:BR16)","v":0},null,{"$f":"SUM(BT10:BT16)","v":0},null,{"$f":"SUM(BV10:BV16)","v":0},null,{"$f":"SUM(BX10:BX16)","v":0},null,{"$f":"SUM(BZ10:BZ16)","v":0},null,{"$f":"SUM(CB10:CB16)","v":0},null,{"$f":"SUM(CD10:CD16)","v":0},null,{"$f":"SUM(CF10:CF16)","v":0},null,{"$f":"SUM(CH10:CH16)","v":0},null,{"$f":"SUM(CJ10:CJ16)","v":0},null,{"$f":"SUM(CL10:CL16)","v":0},null,{"$f":"SUM(CN10:CN16)","v":0},null,{"$f":"SUM(CP10:CP16)","v":0},null,{"$f":"SUM(CR10:CR16)","v":0},null,{"$f":"SUM(CT10:CT16)","v":0},null,{"$f":"SUM(CV10:CV16)","v":0},null,{"$f":"SUM(CX10:CX16)","v":0},null,{"$f":"SUM(CZ10:CZ16)","v":0},null,{"$f":"SUM(DB10:DB16)","v":0},null,{"$f":"SUM(DD10:DD16)","v":0},null,{"$f":"SUM(DF10:DF16)","v":0},null,{"$f":"SUM(DH10:DH16)","v":0},null,{"$f":"SUM(DJ10:DJ16)","v":0},null,{"$f":"SUM(DL10:DL16)","v":0},null,{"$f":"SUM(DN10:DN16)","v":0},null,{"$f":"SUM(DP10:DP16)","v":0},null,{"$f":"SUM(DR10:DR16)","v":0},null,{"$f":"SUM(DT10:DT16)","v":0},null,{"$f":"SUM(DV10:DV16)","v":0},null,{"$f":"SUM(DX10:DX16)","v":0},null,{"$f":"SUM(DZ10:DZ16)","v":0},null,{"$f":"SUM(EB10:EB16)","v":0},null,{"$f":"SUM(ED10:ED16)","v":0},null,{"$f":"SUM(EF10:EF16)","v":0},null,{"$f":"SUM(EH10:EH16)","v":0},null,{"$f":"SUM(EJ10:EJ16)","v":0},null,{"$f":"SUM(EL10:EL16)","v":0},null,{"$f":"SUM(EN10:EN16)","v":0},null,{"$f":"SUM(EP10:EP16)","v":0},null,{"$f":"SUM(ER10:ER16)","v":0},null,{"$f":"SUM(ET10:ET16)","v":0},null,{"$f":"SUM(EV10:EV16)","v":0},null,{"$f":"SUM(EX10:EX16)","v":0},null,{"$f":"SUM(EZ10:EZ16)","v":0},null,{"$f":"SUM(FB10:FB16)","v":0},null,{"$f":"SUM(FD10:FD16)","v":0},null,{"$f":"SUM(FF10:FF16)","v":0},null,null,null,null,null,null,null,null,null,null,null,{"$f":"SUM(FR10:FR16)","v":0},null,null,null,null,null,{"$f":"SUM(FX10:FX16)","v":0},null,{"$f":"IF(ROUND(SUM(FX9),1)>ROUND(SUM(Table_A!FX9),1),\"Supply < Use\",IF(ROUND(SUM(FX9),1)<ROUND(SUM(Table_A!FX9),1),\"Supply > Use\",\"\"))","v":""},null,null,null,"TJ",0,"N00","USE","NAP"]
[null,{"$f":"B9+1","v":2},{"$f":"'PEFA rows'!B4","v":2},{"$f":"'PEFA rows'!C4","v":"N01"},{"$f":"'PEFA rows'!D4","v":"Fossil non-renewable natural energy inputs"},null,null,{"$f":"SUM(J10,R10,T10,BH10,BJ10,BP10,BR10,BZ10,CL10,CN10,CX10,DF10,DJ10,DV10,EF10,EH10,EJ10,EP10,EV10,FD10,FF10)","v":0},null,{"$f":"SUM(L10,N10,P10)","v":0},null,{"$f":"SUM(Table_B.1!L10,Table_B.2!L10)","v":0},null,{"$f":"SUM(Table_B.1!N10,Table_B.2!N10)","v":0},null,{"$f":"SUM(Table_B.1!P10,Table_B.2!P10)","v":0},null,{"$f":"SUM(Table_B.1!R10,Table_B.2!R10)","v":0},null,{"$f":"SUM(V10,X10,Z10,AB10,AD10,AF10,AH10,AJ10,AL10,AN10,AP10,AR10,AT10,AV10,AX10,AZ10,BB10,BD10,BF10)","v":0},null,{"$f":"SUM(Table_B.1!V10,Table_B.2!V10)","v":0},null,{"$f":"SUM(Table_B.1!X10,Table_B.2!X10)","v":0},null,{"$f":"SUM(Table_B.1!Z10,Table_B.2!Z10)","v":0},null,{"$f":"SUM(Table_B.1!AB10,Table_B.2!AB10)","v":0},null,{"$f":"SUM(Table_B.1!AD10,Table_B.2!AD10)","v":0},null,{"$f":"SUM(Table_B.1!AF10,Table_B.2!AF10)","v":0},null,{"$f":"SUM(Table_B.1!AH10,Table_B.2!AH10)","v":0},null,{"$f":"SUM(Table_B.1!AJ10,Table_B.2!AJ10)","v":0},null,{"$f":"SUM(Table_B.1!AL10,Table_B.2!AL10)","v":0},null,{"$f":"SUM(Table_B.1!AN10,Table_B.2!AN10)","v":0},null,{"$f":"SUM(Table_B.1!AP10,Table_B.2!AP10)","v":0},null,{"$f":"SUM(Table_B.1!AR10,Table_B.2!AR10)","v":0},null,{"$f":"SUM(Table_B.1!AT10,Table_B.2!AT10)","v":0},null,{"$f":"SUM(Table_B.1!AV10,Table_B.2!AV10)","v":0},null,{"$f":"SUM(Table_B.1!AX10,Table_B.2!AX10)","v":0},null,{"$f":"SUM(Table_B.1!AZ10,Table_B.2!AZ10)","v":0},null,{"$f":"SUM(Table_B.1!BB10,Table_B.2!BB10)","v":0},null,{"$f":"SUM(Table_B.1!BD10,Table_B.2!BD10)","v":0},null,{"$f":"SUM(Table_B.1!BF10,Table_B.2!BF10)","v":0},null,{"$f":"SUM(Table_B.1!BH10,Table_B.2!BH10)","v":0},null,{"$f":"SUM(BL10,BN10)","v":0},null,{"$f":"SUM(Table_B.1!BL10,Table_B.2!BL10)","v":0},null,{"$f":"SUM(Table_B.1!BN10,Table_B.2!BN10)","v":0},null,{"$f":"SUM(Table_B.1!BP10,Table_B.2!BP10)","v":0},null,{"$f":"SUM(BT10,BV10,BX10)","v":0},null,{"$f":"SUM(Table_B.1!BT10,Table_B.2!BT10)","v":0},null,{"$f":"SUM(Table_B.1!BV10,Table_B.2!BV10)","v":0},null,{"$f":"SUM(Table_B.1!BX10,Table_B.2!BX10)","v":0},null,{"$f":"SUM(CB10,CD10,CF10,CH10,CJ10)","v":0},null,{"$f":"SUM(Table_B.1!CB10,Table_B.2!CB10)","v":0},null,{"$f":"SUM(Table_B.1!CD10,Table_B.2!CD10)","v":0},null,{"$f":"SUM(Table_B.1!CF10,Table_B.2!CF10)","v":0},null,{"$f":"SUM(Table_B.1!CH10,Table_B.2!CH10)","v":0},null,{"$f":"SUM(Table_B.1!CJ10,Table_B.2!CJ10)","v":0},null,{"$f":"SUM(Table_B.1!CL10,Table_B.2!CL10)","v":0},null,{"$f":"SUM(CP10,CR10,CT10,CV10)","v":0},null,{"$f":"SUM(Table_B.1!CP10,Table_B.2!CP10)","v":0},null,{"$f":"SUM(Table_B.1!CR10,Table_B.2!CR10)","v":0},null,{"$f":"SUM(Table_B.1!CT10,Table_B.2!CT10)","v":0},null,{"$f":"SUM(Table_B.1!CV10,Table_B.2!CV10)","v":0},null,{"$f":"SUM(CZ10,DB10,DD10)","v":0},null,{"$f":"SUM(Table_B.1!CZ10,Table_B.2!CZ10)","v":0},null,{"$f":"SUM(Table_B.1!DB10,Table_B.2!DB10)","v":0},null,{"$f":"SUM(Table_B.1!DD10,Table_B.2!DD10)","v":0},null,{"$f":"SUM(Table_B.1!DF10,Table_B.2!DF10)","v":0},null,{"$f":"SUM(Table_B.1!DH10,Table_B.2!DH10)","v":0},null,{"$f":"SUM(DL10,DN10,DP10,DR10,DT10)","v":0},null,{"$f":"SUM(Table_B.1!DL10,Table_B.2!DL10)","v":0},null,{"$f":"SUM(Table_B.1!DN10,Table_B.2!DN10)","v":0},null,{"$f":"SUM(Table_B.1!DP10,Table_B.2!DP10)","v":0},null,{"$f":"SUM(Table_B.1!DR10,Table_B.2!DR10)","v":0},null,{"$f":"SUM(Table_B.1!DT10,Table_B.2!DT10)","v":0},null,{"$f":"SUM(DX10,DZ10,EB10,ED10)","v":0},null,{"$f":"SUM(Table_B.1!DX10,Table_B.2!DX10)","v":0},null,{"$f":"SUM(Table_B.1!DZ10,Table_B.2!DZ10)","v":0},null,{"$f":"SUM(Table_B.1!EB10,Table_B.2!EB10)","v":0},null,{"$f":"SUM(Table_B.1!ED10,Table_B.2!ED10)","v":0},null,{"$f":"SUM(Table_B.1!EF10,Table_B.2!EF10)","v":0},null,{"$f":"SUM(Table_B.1!EH10,Table_B.2!EH10)","v":0},null,{"$f":"SUM(EL10,EN10)","v":0},null,{"$f":"SUM(Table_B.1!EL10,Table_B.2!EL10)","v":0},null,{"$f":"SUM(Table_B.1!EN10,Table_B.2!EN10)","v":0},null,{"$f":"SUM(ER10,ET10)","v":0},null,{"$f":"SUM(Table_B.1!ER10,Table_B.2!ER10)","v":0},null,{"$f":"SUM(Table_B.1!ET10,Table_B.2!ET10)","v":0},null,{"$f":"SUM(EX10,EZ10,FB10)","v":0},null,{"$f":"SUM(Table_B.1!EX10,Table_B.2!EX10)","v":0},null,{"$f":"SUM(Table_B.1!EZ10,Table_B.2!EZ10)","v":0},null,{"$f":"SUM(Table_B.1!FB10,Table_B.2!FB10)","v":0},null,{"$f":"SUM(Table_B.1!FD10,Table_B.2!FD10)","v":0},null,{"$f":"SUM(Table_B.1!FF10,Table_B.2!FF10)","v":0},null,null,null,null,null,null,null,null,null,null,null,{"$f":"SUM(Table_B.1!FR10,Table_B.2!FR10)","v":0},null,null,null,null,null,{"$f":"SUM(H10,FH10,FP10,FR10,FT10,FV10)","v":0},null,{"$f":"IF(ROUND(SUM(FX10),1)>ROUND(SUM(Table_A!FX10),1),\"Supply < Use\",IF(ROUND(SUM(FX10),1)<ROUND(SUM(Table_A!FX10),1),\"Supply > Use\",\"\"))","v":""},null,null,null,null,null,"N01"]
[null,{"$f":"B10+1","v":3},{"$f":"'PEFA rows'!B5","v":2},{"$f":"'PEFA rows'!C5","v":"N02"},{"$f":"'PEFA rows'!D5","v":"Nuclear non-renewable natural energy inputs"},null,null,0,null,0,null,{"$f":"SUM(Table_B.1!L11,Table_B.2!L11)","v":0},null,{"$f":"SUM(Table_B.1!N11,Table_B.2!N11)","v":0},null,{"$f":"SUM(Table_B.1!P11,Table_B.2!P11)","v":0},null,{"$f":"SUM(Table_B.1!R11,Table_B.2!R11)","v":0},null,0,null,{"$f":"SUM(Table_B.1!V11,Table_B.2!V11)","v":0},null,{"$f":"SUM(Table_B.1!X11,Table_B.2!X11)","v":0},null,{"$f":"SUM(Table_B.1!Z11,Table_B.2!Z11)","v":0},null,{"$f":"SUM(Table_B.1!AB11,Table_B.2!AB11)","v":0},null,{"$f":"SUM(Table_B.1!AD11,Table_B.2!AD11)","v":0},null,{"$f":"SUM(Table_B.1!AF11,Table_B.2!AF11)","v":0},null,{"$f":"SUM(Table_B.1!AH11,Table_B.2!AH11)","v":0},null,{"$f":"SUM(Table_B.1!AJ11,Table_B.2!AJ11)","v":0},null,{"$f":"SUM(Table_B.1!AL11,Table_B.2!AL11)","v":0},null,{"$f":"SUM(Table_B.1!AN11,Table_B.2!AN11)","v":0},null,{"$f":"SUM(Table_B.1!AP11,Table_B.2!AP11)","v":0},null,{"$f":"SUM(Table_B.1!AR11,Table_B.2!AR11)","v":0},null,{"$f":"SUM(Table_B.1!AT11,Table_B.2!AT11)","v":0},null,{"$f":"SUM(Table_B.1!AV11,Table_B.2!AV11)","v":0},null,{"$f":"SUM(Table_B.1!AX11,Table_B.2!AX11)","v":0},null,{"$f":"SUM(Table_B.1!AZ11,Table_B.2!AZ11)","v":0},null,{"$f":"SUM(Table_B.1!BB11,Table_B.2!BB11)","v":0},null,{"$f":"SUM(Table_B.1!BD11,Table_B.2!BD11)","v":0},null,{"$f":"SUM(Table_B.1!BF11,Table_B.2!BF11)","v":0},null,{"$f":"SUM(Table_B.1!BH11,Table_B.2!BH11)","v":0},null,0,null,{"$f":"SUM(Table_B.1!BL11,Table_B.2!BL11)","v":0},null,{"$f":"SUM(Table_B.1!BN11,Table_B.2!BN11)","v":0},null,{"$f":"SUM(Table_B.1!BP11,Table_B.2!BP11)","v":0},null,0,null,{"$f":"SUM(Table_B.1!BT11,Table_B.2!BT11)","v":0},null,{"$f":"SUM(Table_B.1!BV11,Table_B.2!BV11)","v":0},null,{"$f":"SUM(Table_B.1!BX11,Table_B.2!BX11)","v":0},null,0,null,{"$f":"SUM(Table_B.1!CB11,Table_B.2!CB11)","v":0},null,{"$f":"SUM(Table_B.1!CD11,Table_B.2!CD11)","v":0},null,{"$f":"SUM(Table_B.1!CF11,Table_B.2!CF11)","v":0},null,{"$f":"SUM(Table_B.1!CH11,Table_B.2!CH11)","v":0},null,{"$f":"SUM(Table_B.1!CJ11,Table_B.2!CJ11)","v":0},null,{"$f":"SUM(Table_B.1!CL11,Table_B.2!CL11)","v":0},null,0,null,{"$f":"SUM(Table_B.1!CP11,Table_B.2!CP11)","v":0},null,{"$f":"SUM(Table_B.1!CR11,Table_B.2!CR11)","v":0},null,{"$f":"SUM(Table_B.1!CT11,Table_B.2!CT11)","v":0},null,{"$f":"SUM(Table_B.1!CV11,Table_B.2!CV11)","v":0},null,0,null,{"$f":"SUM(Table_B.1!CZ11,Table_B.2!CZ11)","v":0},null,{"$f":"SUM(Table_B.1!DB11,Table_B.2!DB11)","v":0},null,{"$f":"SUM(Table_B.1!DD11,Table_B.2!DD11)","v":0},null,{"$f":"SUM(Table_B.1!DF11,Table_B.2!DF11)","v":0},null,{"$f":"SUM(Table_B.1!DH11,Table_B.2!DH11)","v":0},null,0,null,{"$f":"SUM(Table_B.1!DL11,Table_B.2!DL11)","v":0},null,{"$f":"SUM(Table_B.1!DN11,Table_B.2!DN11)","v":0},null,{"$f":"SUM(Table_B.1!DP11,Table_B.2!DP11)","v":0},null,{"$f":"SUM(Table_B.1!DR11,Table_B.2!DR11)","v":0},null,{"$f":"SUM(Table_B.1!DT11,Table_B.2!DT11)","v":0},null,0,null,{"$f":"SUM(Table_B.1!DX11,Table_B.2!DX11)","v":0},null,{"$f":"SUM(Table_B.1!DZ11,Table_B.2!DZ11)","v":0},null,{"$f":"SUM(Table_B.1!EB11,Table_B.2!EB11)","v":0},null,{"$f":"SUM(Table_B.1!ED11,Table_B.2!ED11)","v":0},null,{"$f":"SUM(Table_B.1!EF11,Table_B.2!EF11)","v":0},null,{"$f":"SUM(Table_B.1!EH11,Table_B.2!EH11)","v":0},null,0,null,{"$f":"SUM(Table_B.1!EL11,Table_B.2!EL11)","v":0},null,{"$f":"SUM(Table_B.1!EN11,Table_B.2!EN11)","v":0},null,0,null,{"$f":"SUM(Table_B.1!ER11,Table_B.2!ER11)","v":0},null,{"$f":"SUM(Table_B.1!ET11,Table_B.2!ET11)","v":0},null,0,null,{"$f":"SUM(Table_B.1!EX11,Table_B.2!EX11)","v":0},null,{"$f":"SUM(Table_B.1!EZ11,Table_B.2!EZ11)","v":0},null,{"$f":"SUM(Table_B.1!FB11,Table_B.2!FB11)","v":0},null,{"$f":"SUM(Table_B.1!FD11,Table_B.2!FD11)","v":0},null,{"$f":"SUM(Table_B.1!FF11,Table_B.2!FF11)","v":0},null,null,null,null,null,null,null,null,null,null,null,{"$f":"SUM(Table_B.1!FR11,Table_B.2!FR11)","v":0},null,null,null,null,null,0,null,{"$f":"IF(ROUND(SUM(FX11),1)>ROUND(SUM(Table_A!FX11),1),\"Supply < Use\",IF(ROUND(SUM(FX11),1)<ROUND(SUM(Table_A!FX11),1),\"Supply > Use\",\"\"))","v":""},null,null,null,null,null,"N02"]
[null,4,{"$f":"'PEFA rows'!B6","v":2},{"$f":"'PEFA rows'!C6","v":"N03"},{"$f":"'PEFA rows'!D6","v":"Hydro based renewable natural energy inputs"},null,null,0,null,0,null,{"$f":"SUM(Table_B.1!L12,Table_B.2!L12)","v":0},null,{"$f":"SUM(Table_B.1!N12,Table_B.2!N12)","v":0},null,{"$f":"SUM(Table_B.1!P12,Table_B.2!P12)","v":0},null,{"$f":"SUM(Table_B.1!R12,Table_B.2!R12)","v":0},null,0,null,{"$f":"SUM(Table_B.1!V12,Table_B.2!V12)","v":0},null,{"$f":"SUM(Table_B.1!X12,Table_B.2!X12)","v":0},null,{"$f":"SUM(Table_B.1!Z12,Table_B.2!Z12)","v":0},null,{"$f":"SUM(Table_B.1!AB12,Table_B.2!AB12)","v":0},null,{"$f":"SUM(Table_B.1!AD12,Table_B.2!AD12)","v":0},null,{"$f":"SUM(Table_B.1!AF12,Table_B.2!AF12)","v":0},null,{"$f":"SUM(Table_B.1!AH12,Table_B.2!AH12)","v":0},null,{"$f":"SUM(Table_B.1!AJ12,Table_B.2!AJ12)","v":0},null,{"$f":"SUM(Table_B.1!AL12,Table_B.2!AL12)","v":0},null,{"$f":"SUM(Table_B.1!AN12,Table_B.2!AN12)","v":0},null,{"$f":"SUM(Table_B.1!AP12,Table_B.2!AP12)","v":0},null,{"$f":"SUM(Table_B.1!AR12,Table_B.2!AR12)","v":0},null,{"$f":"SUM(Table_B.1!AT12,Table_B.2!AT12)","v":0},null,{"$f":"SUM(Table_B.1!AV12,Table_B.2!AV12)","v":0},null,{"$f":"SUM(Table_B.1!AX12,Table_B.2!AX12)","v":0},null,{"$f":"SUM(Table_B.1!AZ12,Table_B.2!AZ12)","v":0},null,{"$f":"SUM(Table_B.1!BB12,Table_B.2!BB12)","v":0},null,{"$f":"SUM(Table_B.1!BD12,Table_B.2!BD12)","v":0},null,{"$f":"SUM(Table_B.1!BF12,Table_B.2!BF12)","v":0},null,{"$f":"SUM(Table_B.1!BH12,Table_B.2!BH12)","v":0},null,0,null,{"$f":"SUM(Table_B.1!BL12,Table_B.2!BL12)","v":0},null,{"$f":"SUM(Table_B.1!BN12,Table_B.2!BN12)","v":0},null,{"$f":"SUM(Table_B.1!BP12,Table_B.2!BP12)","v":0},null,0,null,{"$f":"SUM(Table_B.1!BT12,Table_B.2!BT12)","v":0},null,{"$f":"SUM(Table_B.1!BV12,Table_B.2!BV12)","v":0},null,{"$f":"SUM(Table_B.1!BX12,Table_B.2!BX12)","v":0},null,0,null,{"$f":"SUM(Table_B.1!CB12,Table_B.2!CB12)","v":0},null,{"$f":"SUM(Table_B.1!CD12,Table_B.2!CD12)","v":0},null,{"$f":"SUM(Table_B.1!CF12,Table_B.2!CF12)","v":0},null,{"$f":"SUM(Table_B.1!CH12,Table_B.2!CH12)","v":0},null,{"$f":"SUM(Table_B.1!CJ12,Table_B.2!CJ12)","v":0},null,{"$f":"SUM(Table_B.1!CL12,Table_B.2!CL12)","v":0},null,0,null,{"$f":"SUM(Table_B.1!CP12,Table_B.2!CP12)","v":0},null,{"$f":"SUM(Table_B.1!CR12,Table_B.2!CR12)","v":0},null,{"$f":"SUM(Table_B.1!CT12,Table_B.2!CT12)","v":0},null,{"$f":"SUM(Table_B.1!CV12,Table_B.2!CV12)","v":0},null,0,null,{"$f":"SUM(Table_B.1!CZ12,Table_B.2!CZ12)","v":0},null,{"$f":"SUM(Table_B.1!DB12,Table_B.2!DB12)","v":0},null,{"$f":"SUM(Table_B.1!DD12,Table_B.2!DD12)","v":0},null,{"$f":"SUM(Table_B.1!DF12,Table_B.2!DF12)","v":0},null,{"$f":"SUM(Table_B.1!DH12,Table_B.2!DH12)","v":0},null,0,null,{"$f":"SUM(Table_B.1!DL12,Table_B.2!DL12)","v":0},null,{"$f":"SUM(Table_B.1!DN12,Table_B.2!DN12)","v":0},null,{"$f":"SUM(Table_B.1!DP12,Table_B.2!DP12)","v":0},null,{"$f":"SUM(Table_B.1!DR12,Table_B.2!DR12)","v":0},null,{"$f":"SUM(Table_B.1!DT12,Table_B.2!DT12)","v":0},null,0,null,{"$f":"SUM(Table_B.1!DX12,Table_B.2!DX12)","v":0},null,{"$f":"SUM(Table_B.1!DZ12,Table_B.2!DZ12)","v":0},null,{"$f":"SUM(Table_B.1!EB12,Table_B.2!EB12)","v":0},null,{"$f":"SUM(Table_B.1!ED12,Table_B.2!ED12)","v":0},null,{"$f":"SUM(Table_B.1!EF12,Table_B.2!EF12)","v":0},null,{"$f":"SUM(Table_B.1!EH12,Table_B.2!EH12)","v":0},null,0,null,{"$f":"SUM(Table_B.1!EL12,Table_B.2!EL12)","v":0},null,{"$f":"SUM(Table_B.1!EN12,Table_B.2!EN12)","v":0},null,0,null,{"$f":"SUM(Table_B.1!ER12,Table_B.2!ER12)","v":0},null,{"$f":"SUM(Table_B.1!ET12,Table_B.2!ET12)","v":0},null,0,null,{"$f":"SUM(Table_B.1!EX12,Table_B.2!EX12)","v":0},null,{"$f":"SUM(Table_B.1!EZ12,Table_B.2!EZ12)","v":0},null,{"$f":"SUM(Table_B.1!FB12,Table_B.2!FB12)","v":0},null,{"$f":"SUM(Table_B.1!FD12,Table_B.2!FD12)","v":0},null,{"$f":"SUM(Table_B.1!FF12,Table_B.2!FF12)","v":0},null,null,null,null,null,null,null,null,null,null,null,{"$f":"SUM(Table_B.1!FR12,Table_B.2!FR12)","v":0},null,null,null,null,null,0,null,{"$f":"IF(ROUND(SUM(FX12),1)>ROUND(SUM(Table_A!FX12),1),\"Supply < Use\",IF(ROUND(SUM(FX12),1)<ROUND(SUM(Table_A!FX12),1),\"Supply > Use\",\"\"))","v":""},null,null,null,null,null,"N03"]
[null,5,{"$f":"'PEFA rows'!B7","v":2},{"$f":"'PEFA rows'!C7","v":"N04"},{"$f":"'PEFA rows'!D7","v":"Wind based renewable natural energy inputs"},null,null,0,null,0,null,{"$f":"SUM(Table_B.1!L13,Table_B.2!L13)","v":0},null,{"$f":"SUM(Table_B.1!N13,Table_B.2!N13)","v":0},null,{"$f":"SUM(Table_B.1!P13,Table_B.2!P13)","v":0},null,{"$f":"SUM(Table_B.1!R13,Table_B.2!R13)","v":0},null,0,null,{"$f":"SUM(Table_B.1!V13,Table_B.2!V13)","v":0},null,{"$f":"SUM(Table_B.1!X13,Table_B.2!X13)","v":0},null,{"$f":"SUM(Table_B.1!Z13,Table_B.2!Z13)","v":0},null,{"$f":"SUM(Table_B.1!AB13,Table_B.2!AB13)","v":0},null,{"$f":"SUM(Table_B.1!AD13,Table_B.2!AD13)","v":0},null,{"$f":"SUM(Table_B.1!AF13,Table_B.2!AF13)","v":0},null,{"$f":"SUM(Table_B.1!AH13,Table_B.2!AH13)","v":0},null,{"$f":"SUM(Table_B.1!AJ13,Table_B.2!AJ13)","v":0},null,{"$f":"SUM(Table_B.1!AL13,Table_B.2!AL13)","v":0},null,{"$f":"SUM(Table_B.1!AN13,Table_B.2!AN13)","v":0},null,{"$f":"SUM(Table_B.1!AP13,Table_B.2!AP13)","v":0},null,{"$f":"SUM(Table_B.1!AR13,Table_B.2!AR13)","v":0},null,{"$f":"SUM(Table_B.1!AT13,Table_B.2!AT13)","v":0},null,{"$f":"SUM(Table_B.1!AV13,Table_B.2!AV13)","v":0},null,{"$f":"SUM(Table_B.1!AX13,Table_B.2!AX13)","v":0},null,{"$f":"SUM(Table_B.1!AZ13,Table_B.2!AZ13)","v":0},null,{"$f":"SUM(Table_B.1!BB13,Table_B.2!BB13)","v":0},null,{"$f":"SUM(Table_B.1!BD13,Table_B.2!BD13)","v":0},null,{"$f":"SUM(Table_B.1!BF13,Table_B.2!BF13)","v":0},null,{"$f":"SUM(Table_B.1!BH13,Table_B.2!BH13)","v":0},null,0,null,{"$f":"SUM(Table_B.1!BL13,Table_B.2!BL13)","v":0},null,{"$f":"SUM(Table_B.1!BN13,Table_B.2!BN13)","v":0},null,{"$f":"SUM(Table_B.1!BP13,Table_B.2!BP13)","v":0},null,0,null,{"$f":"SUM(Table_B.1!BT13,Table_B.2!BT13)","v":0},null,{"$f":"SUM(Table_B.1!BV13,Table_B.2!BV13)","v":0},null,{"$f":"SUM(Table_B.1!BX13,Table_B.2!BX13)","v":0},null,0,null,{"$f":"SUM(Table_B.1!CB13,Table_B.2!CB13)","v":0},null,{"$f":"SUM(Table_B.1!CD13,Table_B.2!CD13)","v":0},null,{"$f":"SUM(Table_B.1!CF13,Table_B.2!CF13)","v":0},null,{"$f":"SUM(Table_B.1!CH13,Table_B.2!CH13)","v":0},null,{"$f":"SUM(Table_B.1!CJ13,Table_B.2!CJ13)","v":0},null,{"$f":"SUM(Table_B.1!CL13,Table_B.2!CL13)","v":0},null,0,null,{"$f":"SUM(Table_B.1!CP13,Table_B.2!CP13)","v":0},null,{"$f":"SUM(Table_B.1!CR13,Table_B.2!CR13)","v":0},null,{"$f":"SUM(Table_B.1!CT13,Table_B.2!CT13)","v":0},null,{"$f":"SUM(Table_B.1!CV13,Table_B.2!CV13)","v":0},null,0,null,{"$f":"SUM(Table_B.1!CZ13,Table_B.2!CZ13)","v":0},null,{"$f":"SUM(Table_B.1!DB13,Table_B.2!DB13)","v":0},null,{"$f":"SUM(Table_B.1!DD13,Table_B.2!DD13)","v":0},null,{"$f":"SUM(Table_B.1!DF13,Table_B.2!DF13)","v":0},null,{"$f":"SUM(Table_B.1!DH13,Table_B.2!DH13)","v":0},null,0,null,{"$f":"SUM(Table_B.1!DL13,Table_B.2!DL13)","v":0},null,{"$f":"SUM(Table_B.1!DN13,Table_B.2!DN13)","v":0},null,{"$f":"SUM(Table_B.1!DP13,Table_B.2!DP13)","v":0},null,{"$f":"SUM(Table_B.1!DR13,Table_B.2!DR13)","v":0},null,{"$f":"SUM(Table_B.1!DT13,Table_B.2!DT13)","v":0},null,0,null,{"$f":"SUM(Table_B.1!DX13,Table_B.2!DX13)","v":0},null,{"$f":"SUM(Table_B.1!DZ13,Table_B.2!DZ13)","v":0},null,{"$f":"SUM(Table_B.1!EB13,Table_B.2!EB13)","v":0},null,{"$f":"SUM(Table_B.1!ED13,Table_B.2!ED13)","v":0},null,{"$f":"SUM(Table_B.1!EF13,Table_B.2!EF13)","v":0},null,{"$f":"SUM(Table_B.1!EH13,Table_B.2!EH13)","v":0},null,0,null,{"$f":"SUM(Table_B.1!EL13,Table_B.2!EL13)","v":0},null,{"$f":"SUM(Table_B.1!EN13,Table_B.2!EN13)","v":0},null,0,null,{"$f":"SUM(Table_B.1!ER13,Table_B.2!ER13)","v":0},null,{"$f":"SUM(Table_B.1!ET13,Table_B.2!ET13)","v":0},null,0,null,{"$f":"SUM(Table_B.1!EX13,Table_B.2!EX13)","v":0},null,{"$f":"SUM(Table_B.1!EZ13,Table_B.2!EZ13)","v":0},null,{"$f":"SUM(Table_B.1!FB13,Table_B.2!FB13)","v":0},null,{"$f":"SUM(Table_B.1!FD13,Table_B.2!FD13)","v":0},null,{"$f":"SUM(Table_B.1!FF13,Table_B.2!FF13)","v":0},null,null,null,null,null,null,null,null,null,null,null,{"$f":"SUM(Table_B.1!FR13,Table_B.2!FR13)","v":0},null,null,null,null,null,0,null,{"$f":"IF(ROUND(SUM(FX13),1)>ROUND(SUM(Table_A!FX13),1),\"Supply < Use\",IF(ROUND(SUM(FX13),1)<ROUND(SUM(Table_A!FX13),1),\"Supply > Use\",\"\"))","v":""},null,null,null,null,null,"N04"]
[null,6,{"$f":"'PEFA rows'!B8","v":2},{"$f":"'PEFA rows'!C8","v":"N05"},{"$f":"'PEFA rows'!D8","v":"Solar based renewable natural energy inputs"},null,null,0,null,0,null,{"$f":"SUM(Table_B.1!L14,Table_B.2!L14)","v":0},null,{"$f":"SUM(Table_B.1!N14,Table_B.2!N14)","v":0},null,{"$f":"SUM(Table_B.1!P14,Table_B.2!P14)","v":0},null,{"$f":"SUM(Table_B.1!R14,Table_B.2!R14)","v":0},null,0,null,{"$f":"SUM(Table_B.1!V14,Table_B.2!V14)","v":0},null,{"$f":"SUM(Table_B.1!X14,Table_B.2!X14)","v":0},null,{"$f":"SUM(Table_B.1!Z14,Table_B.2!Z14)","v":0},null,{"$f":"SUM(Table_B.1!AB14,Table_B.2!AB14)","v":0},null,{"$f":"SUM(Table_B.1!AD14,Table_B.2!AD14)","v":0},null,{"$f":"SUM(Table_B.1!AF14,Table_B.2!AF14)","v":0},null,{"$f":"SUM(Table_B.1!AH14,Table_B.2!AH14)","v":0},null,{"$f":"SUM(Table_B.1!AJ14,Table_B.2!AJ14)","v":0},null,{"$f":"SUM(Table_B.1!AL14,Table_B.2!AL14)","v":0},null,{"$f":"SUM(Table_B.1!AN14,Table_B.2!AN14)","v":0},null,{"$f":"SUM(Table_B.1!AP14,Table_B.2!AP14)","v":0},null,{"$f":"SUM(Table_B.1!AR14,Table_B.2!AR14)","v":0},null,{"$f":"SUM(Table_B.1!AT14,Table_B.2!AT14)","v":0},null,{"$f":"SUM(Table_B.1!AV14,Table_B.2!AV14)","v":0},null,{"$f":"SUM(Table_B.1!AX14,Table_B.2!AX14)","v":0},null,{"$f":"SUM(Table_B.1!AZ14,Table_B.2!AZ14)","v":0},null,{"$f":"SUM(Table_B.1!BB14,Table_B.2!BB14)","v":0},null,{"$f":"SUM(Table_B.1!BD14,Table_B.2!BD14)","v":0},null,{"$f":"SUM(Table_B.1!BF14,Table_B.2!BF14)","v":0},null,{"$f":"SUM(Table_B.1!BH14,Table_B.2!BH14)","v":0},null,0,null,{"$f":"SUM(Table_B.1!BL14,Table_B.2!BL14)","v":0},null,{"$f":"SUM(Table_B.1!BN14,Table_B.2!BN14)","v":0},null,{"$f":"SUM(Table_B.1!BP14,Table_B.2!BP14)","v":0},null,0,null,{"$f":"SUM(Table_B.1!BT14,Table_B.2!BT14)","v":0},null,{"$f":"SUM(Table_B.1!BV14,Table_B.2!BV14)","v":0},null,{"$f":"SUM(Table_B.1!BX14,Table_B.2!BX14)","v":0},null,0,null,{"$f":"SUM(Table_B.1!CB14,Table_B.2!CB14)","v":0},null,{"$f":"SUM(Table_B.1!CD14,Table_B.2!CD14)","v":0},null,{"$f":"SUM(Table_B.1!CF14,Table_B.2!CF14)","v":0},null,{"$f":"SUM(Table_B.1!CH14,Table_B.2!CH14)","v":0},null,{"$f":"SUM(Table_B.1!CJ14,Table_B.2!CJ14)","v":0},null,{"$f":"SUM(Table_B.1!CL14,Table_B.2!CL14)","v":0},null,0,null,{"$f":"SUM(Table_B.1!CP14,Table_B.2!CP14)","v":0},null,{"$f":"SUM(Table_B.1!CR14,Table_B.2!CR14)","v":0},null,{"$f":"SUM(Table_B.1!CT14,Table_B.2!CT14)","v":0},null,{"$f":"SUM(Table_B.1!CV14,Table_B.2!CV14)","v":0},null,0,null,{"$f":"SUM(Table_B.1!CZ14,Table_B.2!CZ14)","v":0},null,{"$f":"SUM(Table_B.1!DB14,Table_B.2!DB14)","v":0},null,{"$f":"SUM(Table_B.1!DD14,Table_B.2!DD14)","v":0},null,{"$f":"SUM(Table_B.1!DF14,Table_B.2!DF14)","v":0},null,{"$f":"SUM(Table_B.1!DH14,Table_B.2!DH14)","v":0},null,0,null,{"$f":"SUM(Table_B.1!DL14,Table_B.2!DL14)","v":0},null,{"$f":"SUM(Table_B.1!DN14,Table_B.2!DN14)","v":0},null,{"$f":"SUM(Table_B.1!DP14,Table_B.2!DP14)","v":0},null,{"$f":"SUM(Table_B.1!DR14,Table_B.2!DR14)","v":0},null,{"$f":"SUM(Table_B.1!DT14,Table_B.2!DT14)","v":0},null,0,null,{"$f":"SUM(Table_B.1!DX14,Table_B.2!DX14)","v":0},null,{"$f":"SUM(Table_B.1!DZ14,Table_B.2!DZ14)","v":0},null,{"$f":"SUM(Table_B.1!EB14,Table_B.2!EB14)","v":0},null,{"$f":"SUM(Table_B.1!ED14,Table_B.2!ED14)","v":0},null,{"$f":"SUM(Table_B.1!EF14,Table_B.2!EF14)","v":0},null,{"$f":"SUM(Table_B.1!EH14,Table_B.2!EH14)","v":0},null,0,null,{"$f":"SUM(Table_B.1!EL14,Table_B.2!EL14)","v":0},null,{"$f":"SUM(Table_B.1!EN14,Table_B.2!EN14)","v":0},null,0,null,{"$f":"SUM(Table_B.1!ER14,Table_B.2!ER14)","v":0},null,{"$f":"SUM(Table_B.1!ET14,Table_B.2!ET14)","v":0},null,0,null,{"$f":"SUM(Table_B.1!EX14,Table_B.2!EX14)","v":0},null,{"$f":"SUM(Table_B.1!EZ14,Table_B.2!EZ14)","v":0},null,{"$f":"SUM(Table_B.1!FB14,Table_B.2!FB14)","v":0},null,{"$f":"SUM(Table_B.1!FD14,Table_B.2!FD14)","v":0},null,{"$f":"SUM(Table_B.1!FF14,Table_B.2!FF14)","v":0},null,null,null,null,null,null,null,null,null,null,null,{"$f":"SUM(Table_B.1!FR14,Table_B.2!FR14)","v":0},null,null,null,null,null,0,null,{"$f":"IF(ROUND(SUM(FX14),1)>ROUND(SUM(Table_A!FX14),1),\"Supply < Use\",IF(ROUND(SUM(FX14),1)<ROUND(SUM(Table_A!FX14),1),\"Supply > Use\",\"\"))","v":""},null,null,null,null,null,"N05"]
[null,7,{"$f":"'PEFA rows'!B9","v":2},{"$f":"'PEFA rows'!C9","v":"N06"},{"$f":"'PEFA rows'!D9","v":"Biomass based renewable natural energy inputs"},null,null,0,null,0,null,{"$f":"SUM(Table_B.1!L15,Table_B.2!L15)","v":0},null,{"$f":"SUM(Table_B.1!N15,Table_B.2!N15)","v":0},null,{"$f":"SUM(Table_B.1!P15,Table_B.2!P15)","v":0},null,{"$f":"SUM(Table_B.1!R15,Table_B.2!R15)","v":0},null,0,null,{"$f":"SUM(Table_B.1!V15,Table_B.2!V15)","v":0},null,{"$f":"SUM(Table_B.1!X15,Table_B.2!X15)","v":0},null,{"$f":"SUM(Table_B.1!Z15,Table_B.2!Z15)","v":0},null,{"$f":"SUM(Table_B.1!AB15,Table_B.2!AB15)","v":0},null,{"$f":"SUM(Table_B.1!AD15,Table_B.2!AD15)","v":0},null,{"$f":"SUM(Table_B.1!AF15,Table_B.2!AF15)","v":0},null,{"$f":"SUM(Table_B.1!AH15,Table_B.2!AH15)","v":0},null,{"$f":"SUM(Table_B.1!AJ15,Table_B.2!AJ15)","v":0},null,{"$f":"SUM(Table_B.1!AL15,Table_B.2!AL15)","v":0},null,{"$f":"SUM(Table_B.1!AN15,Table_B.2!AN15)","v":0},null,{"$f":"SUM(Table_B.1!AP15,Table_B.2!AP15)","v":0},null,{"$f":"SUM(Table_B.1!AR15,Table_B.2!AR15)","v":0},null,{"$f":"SUM(Table_B.1!AT15,Table_B.2!AT15)","v":0},null,{"$f":"SUM(Table_B.1!AV15,Table_B.2!AV15)","v":0},null,{"$f":"SUM(Table_B.1!AX15,Table_B.2!AX15)","v":0},null,{"$f":"SUM(Table_B.1!AZ15,Table_B.2!AZ15)","v":0},null,{"$f":"SUM(Table_B.1!BB15,Table_B.2!BB15)","v":0},null,{"$f":"SUM(Table_B.1!BD15,Table_B.2!BD15)","v":0},null,{"$f":"SUM(Table_B.1!BF15,Table_B.2!BF15)","v":0},null,{"$f":"SUM(Table_B.1!BH15,Table_B.2!BH15)","v":0},null,0,null,{"$f":"SUM(Table_B.1!BL15,Table_B.2!BL15)","v":0},null,{"$f":"SUM(Table_B.1!BN15,Table_B.2!BN15)","v":0},null,{"$f":"SUM(Table_B.1!BP15,Table_B.2!BP15)","v":0},null,0,null,{"$f":"SUM(Table_B.1!BT15,Table_B.2!BT15)","v":0},null,{"$f":"SUM(Table_B.1!BV15,Table_B.2!BV15)","v":0},null,{"$f":"SUM(Table_B.1!BX15,Table_B.2!BX15)","v":0},null,0,null,{"$f":"SUM(Table_B.1!CB15,Table_B.2!CB15)","v":0},null,{"$f":"SUM(Table_B.1!CD15,Table_B.2!CD15)","v":0},null,{"$f":"SUM(Table_B.1!CF15,Table_B.2!CF15)","v":0},null,{"$f":"SUM(Table_B.1!CH15,Table_B.2!CH15)","v":0},null,{"$f":"SUM(Table_B.1!CJ15,Table_B.2!CJ15)","v":0},null,{"$f":"SUM(Table_B.1!CL15,Table_B.2!CL15)","v":0},null,0,null,{"$f":"SUM(Table_B.1!CP15,Table_B.2!CP15)","v":0},null,{"$f":"SUM(Table_B.1!CR15,Table_B.2!CR15)","v":0},null,{"$f":"SUM(Table_B.1!CT15,Table_B.2!CT15)","v":0},null,{"$f":"SUM(Table_B.1!CV15,Table_B.2!CV15)","v":0},null,0,null,{"$f":"SUM(Table_B.1!CZ15,Table_B.2!CZ15)","v":0},null,{"$f":"SUM(Table_B.1!DB15,Table_B.2!DB15)","v":0},null,{"$f":"SUM(Table_B.1!DD15,Table_B.2!DD15)","v":0},null,{"$f":"SUM(Table_B.1!DF15,Table_B.2!DF15)","v":0},null,{"$f":"SUM(Table_B.1!DH15,Table_B.2!DH15)","v":0},null,0,null,{"$f":"SUM(Table_B.1!DL15,Table_B.2!DL15)","v":0},null,{"$f":"SUM(Table_B.1!DN15,Table_B.2!DN15)","v":0},null,{"$f":"SUM(Table_B.1!DP15,Table_B.2!DP15)","v":0},null,{"$f":"SUM(Table_B.1!DR15,Table_B.2!DR15)","v":0},null,{"$f":"SUM(Table_B.1!DT15,Table_B.2!DT15)","v":0},null,0,null,{"$f":"SUM(Table_B.1!DX15,Table_B.2!DX15)","v":0},null,{"$f":"SUM(Table_B.1!DZ15,Table_B.2!DZ15)","v":0},null,{"$f":"SUM(Table_B.1!EB15,Table_B.2!EB15)","v":0},null,{"$f":"SUM(Table_B.1!ED15,Table_B.2!ED15)","v":0},null,{"$f":"SUM(Table_B.1!EF15,Table_B.2!EF15)","v":0},null,{"$f":"SUM(Table_B.1!EH15,Table_B.2!EH15)","v":0},null,0,null,{"$f":"SUM(Table_B.1!EL15,Table_B.2!EL15)","v":0},null,{"$f":"SUM(Table_B.1!EN15,Table_B.2!EN15)","v":0},null,0,null,{"$f":"SUM(Table_B.1!ER15,Table_B.2!ER15)","v":0},null,{"$f":"SUM(Table_B.1!ET15,Table_B.2!ET15)","v":0},null,0,null,{"$f":"SUM(Table_B.1!EX15,Table_B.2!EX15)","v":0},null,{"$f":"SUM(Table_B.1!EZ15,Table_B.2!EZ15)","v":0},null,{"$f":"SUM(Table_B.1!FB15,Table_B.2!FB15)","v":0},null,{"$f":"SUM(Table_B.1!FD15,Table_B.2!FD15)","v":0},null,{"$f":"SUM(Table_B.1!FF15,Table_B.2!FF15)","v":0},null,null,null,null,null,null,null,null,null,null,null,{"$f":"SUM(Table_B.1!FR15,Table_B.2!FR15)","v":0},null,null,null,null,null,0,null,{"$f":"IF(ROUND(SUM(FX15),1)>ROUND(SUM(Table_A!FX15),1),\"Supply < Use\",IF(ROUND(SUM(FX15),1)<ROUND(SUM(Table_A!FX15),1),\"Supply > Use\",\"\"))","v":""},null,null,null,null,null,"N06"]
[null,8,{"$f":"'PEFA rows'!B10","v":2},{"$f":"'PEFA rows'!C10","v":"N07"},{"$f":"'PEFA rows'!D10","v":"Other renewable natural energy inputs"},null,null,0,null,0,null,{"$f":"SUM(Table_B.1!L16,Table_B.2!L16)","v":0},null,{"$f":"SUM(Table_B.1!N16,Table_B.2!N16)","v":0},null,{"$f":"SUM(Table_B.1!P16,Table_B.2!P16)","v":0},null,{"$f":"SUM(Table_B.1!R16,Table_B.2!R16)","v":0},null,0,null,{"$f":"SUM(Table_B.1!V16,Table_B.2!V16)","v":0},null,{"$f":"SUM(Table_B.1!X16,Table_B.2!X16)","v":0},null,{"$f":"SUM(Table_B.1!Z16,Table_B.2!Z16)","v":0},null,{"$f":"SUM(Table_B.1!AB16,Table_B.2!AB16)","v":0},null,{"$f":"SUM(Table_B.1!AD16,Table_B.2!AD16)","v":0},null,{"$f":"SUM(Table_B.1!AF16,Table_B.2!AF16)","v":0},null,{"$f":"SUM(Table_B.1!AH16,Table_B.2!AH16)","v":0},null,{"$f":"SUM(Table_B.1!AJ16,Table_B.2!AJ16)","v":0},null,{"$f":"SUM(Table_B.1!AL16,Table_B.2!AL16)","v":0},null,{"$f":"SUM(Table_B.1!AN16,Table_B.2!AN16)","v":0},null,{"$f":"SUM(Table_B.1!AP16,Table_B.2!AP16)","v":0},null,{"$f":"SUM(Table_B.1!AR16,Table_B.2!AR16)","v":0},null,{"$f":"SUM(Table_B.1!AT16,Table_B.2!AT16)","v":0},null,{"$f":"SUM(Table_B.1!AV16,Table_B.2!AV16)","v":0},null,{"$f":"SUM(Table_B.1!AX16,Table_B.2!AX16)","v":0},null,{"$f":"SUM(Table_B.1!AZ16,Table_B.2!AZ16)","v":0},null,{"$f":"SUM(Table_B.1!BB16,Table_B.2!BB16)","v":0},null,{"$f":"SUM(Table_B.1!BD16,Table_B.2!BD16)","v":0},null,{"$f":"SUM(Table_B.1!BF16,Table_B.2!BF16)","v":0},null,{"$f":"SUM(Table_B.1!BH16,Table_B.2!BH16)","v":0},null,0,null,{"$f":"SUM(Table_B.1!BL16,Table_B.2!BL16)","v":0},null,{"$f":"SUM(Table_B.1!BN16,Table_B.2!BN16)","v":0},null,{"$f":"SUM(Table_B.1!BP16,Table_B.2!BP16)","v":0},null,0,null,{"$f":"SUM(Table_B.1!BT16,Table_B.2!BT16)","v":0},null,{"$f":"SUM(Table_B.1!BV16,Table_B.2!BV16)","v":0},null,{"$f":"SUM(Table_B.1!BX16,Table_B.2!BX16)","v":0},null,0,null,{"$f":"SUM(Table_B.1!CB16,Table_B.2!CB16)","v":0},null,{"$f":"SUM(Table_B.1!CD16,Table_B.2!CD16)","v":0},null,{"$f":"SUM(Table_B.1!CF16,Table_B.2!CF16)","v":0},null,{"$f":"SUM(Table_B.1!CH16,Table_B.2!CH16)","v":0},null,{"$f":"SUM(Table_B.1!CJ16,Table_B.2!CJ16)","v":0},null,{"$f":"SUM(Table_B.1!CL16,Table_B.2!CL16)","v":0},null,0,null,{"$f":"SUM(Table_B.1!CP16,Table_B.2!CP16)","v":0},null,{"$f":"SUM(Table_B.1!CR16,Table_B.2!CR16)","v":0},null,{"$f":"SUM(Table_B.1!CT16,Table_B.2!CT16)","v":0},null,{"$f":"SUM(Table_B.1!CV16,Table_B.2!CV16)","v":0},null,0,null,{"$f":"SUM(Table_B.1!CZ16,Table_B.2!CZ16)","v":0},null,{"$f":"SUM(Table_B.1!DB16,Table_B.2!DB16)","v":0},null,{"$f":"SUM(Table_B.1!DD16,Table_B.2!DD16)","v":0},null,{"$f":"SUM(Table_B.1!DF16,Table_B.2!DF16)","v":0},null,{"$f":"SUM(Table_B.1!DH16,Table_B.2!DH16)","v":0},null,0,null,{"$f":"SUM(Table_B.1!DL16,Table_B.2!DL16)","v":0},null,{"$f":"SUM(Table_B.1!DN16,Table_B.2!DN16)","v":0},null,{"$f":"SUM(Table_B.1!DP16,Table_B.2!DP16)","v":0},null,{"$f":"SUM(Table_B.1!DR16,Table_B.2!DR16)","v":0},null,{"$f":"SUM(Table_B.1!DT16,Table_B.2!DT16)","v":0},null,0,null,{"$f":"SUM(Table_B.1!DX16,Table_B.2!DX16)","v":0},null,{"$f":"SUM(Table_B.1!DZ16,Table_B.2!DZ16)","v":0},null,{"$f":"SUM(Table_B.1!EB16,Table_B.2!EB16)","v":0},null,{"$f":"SUM(Table_B.1!ED16,Table_B.2!ED16)","v":0},null,{"$f":"SUM(Table_B.1!EF16,Table_B.2!EF16)","v":0},null,{"$f":"SUM(Table_B.1!EH16,Table_B.2!EH16)","v":0},null,0,null,{"$f":"SUM(Table_B.1!EL16,Table_B.2!EL16)","v":0},null,{"$f":"SUM(Table_B.1!EN16,Table_B.2!EN16)","v":0},null,0,null,{"$f":"SUM(Table_B.1!ER16,Table_B.2!ER16)","v":0},null,{"$f":"SUM(Table_B.1!ET16,Table_B.2!ET16)","v":0},null,0,null,{"$f":"SUM(Table_B.1!EX16,Table_B.2!EX16)","v":0},null,{"$f":"SUM(Table_B.1!EZ16,Table_B.2!EZ16)","v":0},null,{"$f":"SUM(Table_B.1!FB16,Table_B.2!FB16)","v":0},null,{"$f":"SUM(Table_B.1!FD16,Table_B.2!FD16)","v":0},null,{"$f":"SUM(Table_B.1!FF16,Table_B.2!FF16)","v":0},null,null,null,null,null,null,null,null,null,null,null,{"$f":"SUM(Table_B.1!FR16,Table_B.2!FR16)","v":0},null,null,null,null,null,0,null,{"$f":"IF(ROUND(SUM(FX16),1)>ROUND(SUM(Table_A!FX16),1),\"Supply < Use\",IF(ROUND(SUM(FX16),1)<ROUND(SUM(Table_A!FX16),1),\"Supply > Use\",\"\"))","v":""},null,null,null,null,null,"N07"]
[null,9,{"$f":"'PEFA rows'!B11","v":1},{"$f":"'PEFA rows'!C11","v":"P00"},{"$f":"'PEFA rows'!D11","v":"ENERGY PRODUCTS"},null,null,{"$f":"SUM(H18:H37)","v":0},null,{"$f":"SUM(J18:J37)","v":0},null,{"$f":"SUM(L18:L37)","v":0},null,{"$f":"SUM(N18:N37)","v":0},null,{"$f":"SUM(P18:P37)","v":0},null,{"$f":"SUM(R18:R37)","v":0},null,{"$f":"SUM(T18:T37)","v":0},null,{"$f":"SUM(V18:V37)","v":0},null,{"$f":"SUM(X18:X37)","v":0},null,{"$f":"SUM(Z18:Z37)","v":0},null,{"$f":"SUM(AB18:AB37)","v":0},null,{"$f":"SUM(AD18:AD37)","v":0},null,{"$f":"SUM(AF18:AF37)","v":0},null,{"$f":"SUM(AH18:AH37)","v":0},null,{"$f":"SUM(AJ18:AJ37)","v":0},null,{"$f":"SUM(AL18:AL37)","v":0},null,{"$f":"SUM(AN18:AN37)","v":0},null,{"$f":"SUM(AP18:AP37)","v":0},null,{"$f":"SUM(AR18:AR37)","v":0},null,{"$f":"SUM(AT18:AT37)","v":0},null,{"$f":"SUM(AV18:AV37)","v":0},null,{"$f":"SUM(AX18:AX37)","v":0},null,{"$f":"SUM(AZ18:AZ37)","v":0},null,{"$f":"SUM(BB18:BB37)","v":0},null,{"$f":"SUM(BD18:BD37)","v":0},null,{"$f":"SUM(BF18:BF37)","v":0},null,{"$f":"SUM(BH18:BH37)","v":0},null,{"$f":"SUM(BJ18:BJ37)","v":0},null,{"$f":"SUM(BL18:BL37)","v":0},null,{"$f":"SUM(BN18:BN37)","v":0},null,{"$f":"SUM(BP18:BP37)","v":0},null,{"$f":"SUM(BR18:BR37)","v":0},null,{"$f":"SUM(BT18:BT37)","v":0},null,{"$f":"SUM(BV18:BV37)","v":0},null,{"$f":"SUM(BX18:BX37)","v":0},null,{"$f":"SUM(BZ18:BZ37)","v":0},null,{"$f":"SUM(CB18:CB37)","v":0},null,{"$f":"SUM(CD18:CD37)","v":0},null,{"$f":"SUM(CF18:CF37)","v":0},null,{"$f":"SUM(CH18:CH37)","v":0},null,{"$f":"SUM(CJ18:CJ37)","v":0},null,{"$f":"SUM(CL18:CL37)","v":0},null,{"$f":"SUM(CN18:CN37)","v":0},null,{"$f":"SUM(CP18:CP37)","v":0},null,{"$f":"SUM(CR18:CR37)","v":0},null,{"$f":"SUM(CT18:CT37)","v":0},null,{"$f":"SUM(CV18:CV37)","v":0},null,{"$f":"SUM(CX18:CX37)","v":0},null,{"$f":"SUM(CZ18:CZ37)","v":0},null,{"$f":"SUM(DB18:DB37)","v":0},null,{"$f":"SUM(DD18:DD37)","v":0},null,{"$f":"SUM(DF18:DF37)","v":0},null,{"$f":"SUM(DH18:DH37)","v":0},null,{"$f":"SUM(DJ18:DJ37)","v":0},null,{"$f":"SUM(DL18:DL37)","v":0},null,{"$f":"SUM(DN18:DN37)","v":0},null,{"$f":"SUM(DP18:DP37)","v":0},null,{"$f":"SUM(DR18:DR37)","v":0},null,{"$f":"SUM(DT18:DT37)","v":0},null,{"$f":"SUM(DV18:DV37)","v":0},null,{"$f":"SUM(DX18:DX37)","v":0},null,{"$f":"SUM(DZ18:DZ37)","v":0},null,{"$f":"SUM(EB18:EB37)","v":0},null,{"$f":"SUM(ED18:ED37)","v":0},null,{"$f":"SUM(EF18:EF37)","v":0},null,{"$f":"SUM(EH18:EH37)","v":0},null,{"$f":"SUM(EJ18:EJ37)","v":0},null,{"$f":"SUM(EL18:EL37)","v":0},null,{"$f":"SUM(EN18:EN37)","v":0},null,{"$f":"SUM(EP18:EP37)","v":0},null,{"$f":"SUM(ER18:ER37)","v":0},null,{"$f":"SUM(ET18:ET37)","v":0},null,{"$f":"SUM(EV18:EV37)","v":0},null,{"$f":"SUM(EX18:EX37)","v":0},null,{"$f":"SUM(EZ18:EZ37)","v":0},null,{"$f":"SUM(FB18:FB37)","v":0},null,{"$f":"SUM(FD18:FD37)","v":0},null,{"$f":"SUM(FF18:FF37)","v":0},null,{"$f":"SUM(FH18:FH37)","v":0},null,{"$f":"SUM(FJ18:FJ37)","v":0},null,{"$f":"SUM(FL18:FL37)","v":0},null,{"$f":"SUM(FN18:FN37)","v":0},null,{"$f":"SUM(FP18:FP37)","v":0},null,{"$f":"SUM(FR18:FR37)","v":0},null,{"$f":"SUM(FT18:FT37)","v":0},null,null,null,{"$f":"SUM(FX18:FX37)","v":0},null,{"$f":"IF(ROUND(SUM(FX17),1)>ROUND(SUM(Table_A!FX17),1),\"Supply < Use\",IF(ROUND(SUM(FX17),1)<ROUND(SUM(Table_A!FX17),1),\"Supply > Use\",\"\"))","v":""},null,null,null,null,null,"P00"]
[null,10,{"$f":"'PEFA rows'!B12","v":2},{"$f":"'PEFA rows'!C12","v":"P08"},{"$f":"'PEFA rows'!D12","v":"Hard coal"},null,null,{"$f":"SUM(J18,R18,T18,BH18,BJ18,BP18,BR18,BZ18,CL18,CN18,CX18,DF18,DJ18,DV18,EF18,EH18,EJ18,EP18,EV18,FD18,FF18)","v":0},null,{"$f":"SUM(L18,N18,P18)","v":0},null,{"$f":"SUM(Table_B.1!L18,Table_B.2!L18)","v":0},null,{"$f":"SUM(Table_B.1!N18,Table_B.2!N18)","v":0},null,{"$f":"SUM(Table_B.1!P18,Table_B.2!P18)","v":0},null,{"$f":"SUM(Table_B.1!R18,Table_B.2!R18)","v":0},null,{"$f":"SUM(V18,X18,Z18,AB18,AD18,AF18,AH18,AJ18,AL18,AN18,AP18,AR18,AT18,AV18,AX18,AZ18,BB18,BD18,BF18)","v":0},null,{"$f":"SUM(Table_B.1!V18,Table_B.2!V18)","v":0},null,{"$f":"SUM(Table_B.1!X18,Table_B.2!X18)","v":0},null,{"$f":"SUM(Table_B.1!Z18,Table_B.2!Z18)","v":0},null,{"$f":"SUM(Table_B.1!AB18,Table_B.2!AB18)","v":0},null,{"$f":"SUM(Table_B.1!AD18,Table_B.2!AD18)","v":0},null,{"$f":"SUM(Table_B.1!AF18,Table_B.2!AF18)","v":0},null,{"$f":"SUM(Table_B.1!AH18,Table_B.2!AH18)","v":0},null,{"$f":"SUM(Table_B.1!AJ18,Table_B.2!AJ18)","v":0},null,{"$f":"SUM(Table_B.1!AL18,Table_B.2!AL18)","v":0},null,{"$f":"SUM(Table_B.1!AN18,Table_B.2!AN18)","v":0},null,{"$f":"SUM(Table_B.1!AP18,Table_B.2!AP18)","v":0},null,{"$f":"SUM(Table_B.1!AR18,Table_B.2!AR18)","v":0},null,{"$f":"SUM(Table_B.1!AT18,Table_B.2!AT18)","v":0},null,{"$f":"SUM(Table_B.1!AV18,Table_B.2!AV18)","v":0},null,{"$f":"SUM(Table_B.1!AX18,Table_B.2!AX18)","v":0},null,{"$f":"SUM(Table_B.1!AZ18,Table_B.2!AZ18)","v":0},null,{"$f":"SUM(Table_B.1!BB18,Table_B.2!BB18)","v":0},null,{"$f":"SUM(Table_B.1!BD18,Table_B.2!BD18)","v":0},null,{"$f":"SUM(Table_B.1!BF18,Table_B.2!BF18)","v":0},null,{"$f":"SUM(Table_B.1!BH18,Table_B.2!BH18)","v":0},null,{"$f":"SUM(BL18,BN18)","v":0},null,{"$f":"SUM(Table_B.1!BL18,Table_B.2!BL18)","v":0},null,{"$f":"SUM(Table_B.1!BN18,Table_B.2!BN18)","v":0},null,{"$f":"SUM(Table_B.1!BP18,Table_B.2!BP18)","v":0},null,{"$f":"SUM(BT18,BV18,BX18)","v":0},null,{"$f":"SUM(Table_B.1!BT18,Table_B.2!BT18)","v":0},null,{"$f":"SUM(Table_B.1!BV18,Table_B.2!BV18)","v":0},null,{"$f":"SUM(Table_B.1!BX18,Table_B.2!BX18)","v":0},null,{"$f":"SUM(CB18,CD18,CF18,CH18,CJ18)","v":0},null,{"$f":"SUM(Table_B.1!CB18,Table_B.2!CB18)","v":0},null,{"$f":"SUM(Table_B.1!CD18,Table_B.2!CD18)","v":0},null,{"$f":"SUM(Table_B.1!CF18,Table_B.2!CF18)","v":0},null,{"$f":"SUM(Table_B.1!CH18,Table_B.2!CH18)","v":0},null,{"$f":"SUM(Table_B.1!CJ18,Table_B.2!CJ18)","v":0},null,{"$f":"SUM(Table_B.1!CL18,Table_B.2!CL18)","v":0},null,{"$f":"SUM(CP18,CR18,CT18,CV18)","v":0},null,{"$f":"SUM(Table_B.1!CP18,Table_B.2!CP18)","v":0},null,{"$f":"SUM(Table_B.1!CR18,Table_B.2!CR18)","v":0},null,{"$f":"SUM(Table_B.1!CT18,Table_B.2!CT18)","v":0},null,{"$f":"SUM(Table_B.1!CV18,Table_B.2!CV18)","v":0},null,{"$f":"SUM(CZ18,DB18,DD18)","v":0},null,{"$f":"SUM(Table_B.1!CZ18,Table_B.2!CZ18)","v":0},null,{"$f":"SUM(Table_B.1!DB18,Table_B.2!DB18)","v":0},null,{"$f":"SUM(Table_B.1!DD18,Table_B.2!DD18)","v":0},null,{"$f":"SUM(Table_B.1!DF18,Table_B.2!DF18)","v":0},null,{"$f":"SUM(Table_B.1!DH18,Table_B.2!DH18)","v":0},null,{"$f":"SUM(DL18,DN18,DP18,DR18,DT18)","v":0},null,{"$f":"SUM(Table_B.1!DL18,Table_B.2!DL18)","v":0},null,{"$f":"SUM(Table_B.1!DN18,Table_B.2!DN18)","v":0},null,{"$f":"SUM(Table_B.1!DP18,Table_B.2!DP18)","v":0},null,{"$f":"SUM(Table_B.1!DR18,Table_B.2!DR18)","v":0},null,{"$f":"SUM(Table_B.1!DT18,Table_B.2!DT18)","v":0},null,{"$f":"SUM(DX18,DZ18,EB18,ED18)","v":0},null,{"$f":"SUM(Table_B.1!DX18,Table_B.2!DX18)","v":0},null,{"$f":"SUM(Table_B.1!DZ18,Table_B.2!DZ18)","v":0},null,{"$f":"SUM(Table_B.1!EB18,Table_B.2!EB18)","v":0},null,{"$f":"SUM(Table_B.1!ED18,Table_B.2!ED18)","v":0},null,{"$f":"SUM(Table_B.1!EF18,Table_B.2!EF18)","v":0},null,{"$f":"SUM(Table_B.1!EH18,Table_B.2!EH18)","v":0},null,{"$f":"SUM(EL18,EN18)","v":0},null,{"$f":"SUM(Table_B.1!EL18,Table_B.2!EL18)","v":0},null,{"$f":"SUM(Table_B.1!EN18,Table_B.2!EN18)","v":0},null,{"$f":"SUM(ER18,ET18)","v":0},null,{"$f":"SUM(Table_B.1!ER18,Table_B.2!ER18)","v":0},null,{"$f":"SUM(Table_B.1!ET18,Table_B.2!ET18)","v":0},null,{"$f":"SUM(EX18,EZ18,FB18)","v":0},null,{"$f":"SUM(Table_B.1!EX18,Table_B.2!EX18)","v":0},null,{"$f":"SUM(Table_B.1!EZ18,Table_B.2!EZ18)","v":0},null,{"$f":"SUM(Table_B.1!FB18,Table_B.2!FB18)","v":0},null,{"$f":"SUM(Table_B.1!FD18,Table_B.2!FD18)","v":0},null,{"$f":"SUM(Table_B.1!FF18,Table_B.2!FF18)","v":0},null,{"$f":"SUM(FJ18,FL18,FN18)","v":0},null,{"$f":"SUM(Table_B.1!FJ18,Table_B.2!FJ18)","v":0},null,{"$f":"SUM(Table_B.1!FL18,Table_B.2!FL18)","v":0},null,{"$f":"SUM(Table_B.1!FN18,Table_B.2!FN18)","v":0},null,{"$f":"SUM(Table_B.1!FP18,Table_B.2!FP18)","v":0},null,{"$f":"SUM(Table_B.1!FR18,Table_B.2!FR18)","v":0},null,{"$f":"SUM(Table_B.1!FT18,Table_B.2!FT18)","v":0},null,null,null,{"$f":"SUM(H18,FH18,FP18,FR18,FT18,FV18)","v":0},null,{"$f":"IF(ROUND(SUM(FX18),1)>ROUND(SUM(Table_A!FX18),1),\"Supply < Use\",IF(ROUND(SUM(FX18),1)<ROUND(SUM(Table_A!FX18),1),\"Supply > Use\",\"\"))","v":""},null,null,null,null,null,"P08"]
[null,11,{"$f":"'PEFA rows'!B13","v":2},{"$f":"'PEFA rows'!C13","v":"P09"},{"$f":"'PEFA rows'!D13","v":"Brown coal and peat"},null,null,{"$f":"SUM(J19,R19,T19,BH19,BJ19,BP19,BR19,BZ19,CL19,CN19,CX19,DF19,DJ19,DV19,EF19,EH19,EJ19,EP19,EV19,FD19,FF19)","v":0},null,{"$f":"SUM(L19,N19,P19)","v":0},null,{"$f":"SUM(Table_B.1!L19,Table_B.2!L19)","v":0},null,{"$f":"SUM(Table_B.1!N19,Table_B.2!N19)","v":0},null,{"$f":"SUM(Table_B.1!P19,Table_B.2!P19)","v":0},null,{"$f":"SUM(Table_B.1!R19,Table_B.2!R19)","v":0},null,{"$f":"SUM(V19,X19,Z19,AB19,AD19,AF19,AH19,AJ19,AL19,AN19,AP19,AR19,AT19,AV19,AX19,AZ19,BB19,BD19,BF19)","v":0},null,{"$f":"SUM(Table_B.1!V19,Table_B.2!V19)","v":0},null,{"$f":"SUM(Table_B.1!X19,Table_B.2!X19)","v":0},null,{"$f":"SUM(Table_B.1!Z19,Table_B.2!Z19)","v":0},null,{"$f":"SUM(Table_B.1!AB19,Table_B.2!AB19)","v":0},null,{"$f":"SUM(Table_B.1!AD19,Table_B.2!AD19)","v":0},null,{"$f":"SUM(Table_B.1!AF19,Table_B.2!AF19)","v":0},null,{"$f":"SUM(Table_B.1!AH19,Table_B.2!AH19)","v":0},null,{"$f":"SUM(Table_B.1!AJ19,Table_B.2!AJ19)","v":0},null,{"$f":"SUM(Table_B.1!AL19,Table_B.2!AL19)","v":0},null,{"$f":"SUM(Table_B.1!AN19,Table_B.2!AN19)","v":0},null,{"$f":"SUM(Table_B.1!AP19,Table_B.2!AP19)","v":0},null,{"$f":"SUM(Table_B.1!AR19,Table_B.2!AR19)","v":0},null,{"$f":"SUM(Table_B.1!AT19,Table_B.2!AT19)","v":0},null,{"$f":"SUM(Table_B.1!AV19,Table_B.2!AV19)","v":0},null,{"$f":"SUM(Table_B.1!AX19,Table_B.2!AX19)","v":0},null,{"$f":"SUM(Table_B.1!AZ19,Table_B.2!AZ19)","v":0},null,{"$f":"SUM(Table_B.1!BB19,Table_B.2!BB19)","v":0},null,{"$f":"SUM(Table_B.1!BD19,Table_B.2!BD19)","v":0},null,{"$f":"SUM(Table_B.1!BF19,Table_B.2!BF19)","v":0},null,{"$f":"SUM(Table_B.1!BH19,Table_B.2!BH19)","v":0},null,{"$f":"SUM(BL19,BN19)","v":0},null,{"$f":"SUM(Table_B.1!BL19,Table_B.2!BL19)","v":0},null,{"$f":"SUM(Table_B.1!BN19,Table_B.2!BN19)","v":0},null,{"$f":"SUM(Table_B.1!BP19,Table_B.2!BP19)","v":0},null,{"$f":"SUM(BT19,BV19,BX19)","v":0},null,{"$f":"SUM(Table_B.1!BT19,Table_B.2!BT19)","v":0},null,{"$f":"SUM(Table_B.1!BV19,Table_B.2!BV19)","v":0},null,{"$f":"SUM(Table_B.1!BX19,Table_B.2!BX19)","v":0},null,{"$f":"SUM(CB19,CD19,CF19,CH19,CJ19)","v":0},null,{"$f":"SUM(Table_B.1!CB19,Table_B.2!CB19)","v":0},null,{"$f":"SUM(Table_B.1!CD19,Table_B.2!CD19)","v":0},null,{"$f":"SUM(Table_B.1!CF19,Table_B.2!CF19)","v":0},null,{"$f":"SUM(Table_B.1!CH19,Table_B.2!CH19)","v":0},null,{"$f":"SUM(Table_B.1!CJ19,Table_B.2!CJ19)","v":0},null,{"$f":"SUM(Table_B.1!CL19,Table_B.2!CL19)","v":0},null,{"$f":"SUM(CP19,CR19,CT19,CV19)","v":0},null,{"$f":"SUM(Table_B.1!CP19,Table_B.2!CP19)","v":0},null,{"$f":"SUM(Table_B.1!CR19,Table_B.2!CR19)","v":0},null,{"$f":"SUM(Table_B.1!CT19,Table_B.2!CT19)","v":0},null,{"$f":"SUM(Table_B.1!CV19,Table_B.2!CV19)","v":0},null,{"$f":"SUM(CZ19,DB19,DD19)","v":0},null,{"$f":"SUM(Table_B.1!CZ19,Table_B.2!CZ19)","v":0},null,{"$f":"SUM(Table_B.1!DB19,Table_B.2!DB19)","v":0},null,{"$f":"SUM(Table_B.1!DD19,Table_B.2!DD19)","v":0},null,{"$f":"SUM(Table_B.1!DF19,Table_B.2!DF19)","v":0},null,{"$f":"SUM(Table_B.1!DH19,Table_B.2!DH19)","v":0},null,{"$f":"SUM(DL19,DN19,DP19,DR19,DT19)","v":0},null,{"$f":"SUM(Table_B.1!DL19,Table_B.2!DL19)","v":0},null,{"$f":"SUM(Table_B.1!DN19,Table_B.2!DN19)","v":0},null,{"$f":"SUM(Table_B.1!DP19,Table_B.2!DP19)","v":0},null,{"$f":"SUM(Table_B.1!DR19,Table_B.2!DR19)","v":0},null,{"$f":"SUM(Table_B.1!DT19,Table_B.2!DT19)","v":0},null,{"$f":"SUM(DX19,DZ19,EB19,ED19)","v":0},null,{"$f":"SUM(Table_B.1!DX19,Table_B.2!DX19)","v":0},null,{"$f":"SUM(Table_B.1!DZ19,Table_B.2!DZ19)","v":0},null,{"$f":"SUM(Table_B.1!EB19,Table_B.2!EB19)","v":0},null,{"$f":"SUM(Table_B.1!ED19,Table_B.2!ED19)","v":0},null,{"$f":"SUM(Table_B.1!EF19,Table_B.2!EF19)","v":0},null,{"$f":"SUM(Table_B.1!EH19,Table_B.2!EH19)","v":0},null,{"$f":"SUM(EL19,EN19)","v":0},null,{"$f":"SUM(Table_B.1!EL19,Table_B.2!EL19)","v":0},null,{"$f":"SUM(Table_B.1!EN19,Table_B.2!EN19)","v":0},null,{"$f":"SUM(ER19,ET19)","v":0},null,{"$f":"SUM(Table_B.1!ER19,Table_B.2!ER19)","v":0},null,{"$f":"SUM(Table_B.1!ET19,Table_B.2!ET19)","v":0},null,{"$f":"SUM(EX19,EZ19,FB19)","v":0},null,{"$f":"SUM(Table_B.1!EX19,Table_B.2!EX19)","v":0},null,{"$f":"SUM(Table_B.1!EZ19,Table_B.2!EZ19)","v":0},null,{"$f":"SUM(Table_B.1!FB19,Table_B.2!FB19)","v":0},null,{"$f":"SUM(Table_B.1!FD19,Table_B.2!FD19)","v":0},null,{"$f":"SUM(Table_B.1!FF19,Table_B.2!FF19)","v":0},null,{"$f":"SUM(FJ19,FL19,FN19)","v":0},null,{"$f":"SUM(Table_B.1!FJ19,Table_B.2!FJ19)","v":0},null,{"$f":"SUM(Table_B.1!FL19,Table_B.2!FL19)","v":0},null,{"$f":"SUM(Table_B.1!FN19,Table_B.2!FN19)","v":0},null,{"$f":"SUM(Table_B.1!FP19,Table_B.2!FP19)","v":0},null,{"$f":"SUM(Table_B.1!FR19,Table_B.2!FR19)","v":0},null,{"$f":"SUM(Table_B.1!FT19,Table_B.2!FT19)","v":0},null,null,null,{"$f":"SUM(H19,FH19,FP19,FR19,FT19,FV19)","v":0},null,{"$f":"IF(ROUND(SUM(FX19),1)>ROUND(SUM(Table_A!FX19),1),\"Supply < Use\",IF(ROUND(SUM(FX19),1)<ROUND(SUM(Table_A!FX19),1),\"Supply > Use\",\"\"))","v":""},null,null,null,null,null,"P09"]
[null,12,{"$f":"'PEFA rows'!B14","v":2},{"$f":"'PEFA rows'!C14","v":"P10"},{"$f":"'PEFA rows'!D14","v":"Derived gases (= manufactured gases excl. biogas) "},null,null,0,null,0,null,{"$f":"SUM(Table_B.1!L20,Table_B.2!L20)","v":0},null,{"$f":"SUM(Table_B.1!N20,Table_B.2!N20)","v":0},null,{"$f":"SUM(Table_B.1!P20,Table_B.2!P20)","v":0},null,{"$f":"SUM(Table_B.1!R20,Table_B.2!R20)","v":0},null,0,null,{"$f":"SUM(Table_B.1!V20,Table_B.2!V20)","v":0},null,{"$f":"SUM(Table_B.1!X20,Table_B.2!X20)","v":0},null,{"$f":"SUM(Table_B.1!Z20,Table_B.2!Z20)","v":0},null,{"$f":"SUM(Table_B.1!AB20,Table_B.2!AB20)","v":0},null,{"$f":"SUM(Table_B.1!AD20,Table_B.2!AD20)","v":0},null,{"$f":"SUM(Table_B.1!AF20,Table_B.2!AF20)","v":0},null,{"$f":"SUM(Table_B.1!AH20,Table_B.2!AH20)","v":0},null,{"$f":"SUM(Table_B.1!AJ20,Table_B.2!AJ20)","v":0},null,{"$f":"SUM(Table_B.1!AL20,Table_B.2!AL20)","v":0},null,{"$f":"SUM(Table_B.1!AN20,Table_B.2!AN20)","v":0},null,{"$f":"SUM(Table_B.1!AP20,Table_B.2!AP20)","v":0},null,{"$f":"SUM(Table_B.1!AR20,Table_B.2!AR20)","v":0},null,{"$f":"SUM(Table_B.1!AT20,Table_B.2!AT20)","v":0},null,{"$f":"SUM(Table_B.1!AV20,Table_B.2!AV20)","v":0},null,{"$f":"SUM(Table_B.1!AX20,Table_B.2!AX20)","v":0},null,{"$f":"SUM(Table_B.1!AZ20,Table_B.2!AZ20)","v":0},null,{"$f":"SUM(Table_B.1!BB20,Table_B.2!BB20)","v":0},null,{"$f":"SUM(Table_B.1!BD20,Table_B.2!BD20)","v":0},null,{"$f":"SUM(Table_B.1!BF20,Table_B.2!BF20)","v":0},null,{"$f":"SUM(Table_B.1!BH20,Table_B.2!BH20)","v":0},null,0,null,{"$f":"SUM(Table_B.1!BL20,Table_B.2!BL20)","v":0},null,{"$f":"SUM(Table_B.1!BN20,Table_B.2!BN20)","v":0},null,{"$f":"SUM(Table_B.1!BP20,Table_B.2!BP20)","v":0},null,0,null,{"$f":"SUM(Table_B.1!BT20,Table_B.2!BT20)","v":0},null,{"$f":"SUM(Table_B.1!BV20,Table_B.2!BV20)","v":0},null,{"$f":"SUM(Table_B.1!BX20,Table_B.2!BX20)","v":0},null,0,null,{"$f":"SUM(Table_B.1!CB20,Table_B.2!CB20)","v":0},null,{"$f":"SUM(Table_B.1!CD20,Table_B.2!CD20)","v":0},null,{"$f":"SUM(Table_B.1!CF20,Table_B.2!CF20)","v":0},null,{"$f":"SUM(Table_B.1!CH20,Table_B.2!CH20)","v":0},null,{"$f":"SUM(Table_B.1!CJ20,Table_B.2!CJ20)","v":0},null,{"$f":"SUM(Table_B.1!CL20,Table_B.2!CL20)","v":0},null,0,null,{"$f":"SUM(Table_B.1!CP20,Table_B.2!CP20)","v":0},null,{"$f":"SUM(Table_B.1!CR20,Table_B.2!CR20)","v":0},null,{"$f":"SUM(Table_B.1!CT20,Table_B.2!CT20)","v":0},null,{"$f":"SUM(Table_B.1!CV20,Table_B.2!CV20)","v":0},null,0,null,{"$f":"SUM(Table_B.1!CZ20,Table_B.2!CZ20)","v":0},null,{"$f":"SUM(Table_B.1!DB20,Table_B.2!DB20)","v":0},null,{"$f":"SUM(Table_B.1!DD20,Table_B.2!DD20)","v":0},null,{"$f":"SUM(Table_B.1!DF20,Table_B.2!DF20)","v":0},null,{"$f":"SUM(Table_B.1!DH20,Table_B.2!DH20)","v":0},null,0,null,{"$f":"SUM(Table_B.1!DL20,Table_B.2!DL20)","v":0},null,{"$f":"SUM(Table_B.1!DN20,Table_B.2!DN20)","v":0},null,{"$f":"SUM(Table_B.1!DP20,Table_B.2!DP20)","v":0},null,{"$f":"SUM(Table_B.1!DR20,Table_B.2!DR20)","v":0},null,{"$f":"SUM(Table_B.1!DT20,Table_B.2!DT20)","v":0},null,0,null,{"$f":"SUM(Table_B.1!DX20,Table_B.2!DX20)","v":0},null,{"$f":"SUM(Table_B.1!DZ20,Table_B.2!DZ20)","v":0},null,{"$f":"SUM(Table_B.1!EB20,Table_B.2!EB20)","v":0},null,{"$f":"SUM(Table_B.1!ED20,Table_B.2!ED20)","v":0},null,{"$f":"SUM(Table_B.1!EF20,Table_B.2!EF20)","v":0},null,{"$f":"SUM(Table_B.1!EH20,Table_B.2!EH20)","v":0},null,0,null,{"$f":"SUM(Table_B.1!EL20,Table_B.2!EL20)","v":0},null,{"$f":"SUM(Table_B.1!EN20,Table_B.2!EN20)","v":0},null,0,null,{"$f":"SUM(Table_B.1!ER20,Table_B.2!ER20)","v":0},null,{"$f":"SUM(Table_B.1!ET20,Table_B.2!ET20)","v":0},null,0,null,{"$f":"SUM(Table_B.1!EX20,Table_B.2!EX20)","v":0},null,{"$f":"SUM(Table_B.1!EZ20,Table_B.2!EZ20)","v":0},null,{"$f":"SUM(Table_B.1!FB20,Table_B.2!FB20)","v":0},null,{"$f":"SUM(Table_B.1!FD20,Table_B.2!FD20)","v":0},null,{"$f":"SUM(Table_B.1!FF20,Table_B.2!FF20)","v":0},null,0,null,{"$f":"SUM(Table_B.1!FJ20,Table_B.2!FJ20)","v":0},null,{"$f":"SUM(Table_B.1!FL20,Table_B.2!FL20)","v":0},null,{"$f":"SUM(Table_B.1!FN20,Table_B.2!FN20)","v":0},null,{"$f":"SUM(Table_B.1!FP20,Table_B.2!FP20)","v":0},null,{"$f":"SUM(Table_B.1!FR20,Table_B.2!FR20)","v":0},null,{"$f":"SUM(Table_B.1!FT20,Table_B.2!FT20)","v":0},null,null,null,0,null,{"$f":"IF(ROUND(SUM(FX20),1)>ROUND(SUM(Table_A!FX20),1),\"Supply < Use\",IF(ROUND(SUM(FX20),1)<ROUND(SUM(Table_A!FX20),1),\"Supply > Use\",\"\"))","v":""},null,null,null,null,null,"P10"]
[null,13,{"$f":"'PEFA rows'!B15","v":2},{"$f":"'PEFA rows'!C15","v":"P11"},{"$f":"'PEFA rows'!D15","v":"Secondary coal products (coke, coal tar, patent fuel, BKB and peat products)"},null,null,0,null,0,null,{"$f":"SUM(Table_B.1!L21,Table_B.2!L21)","v":0},null,{"$f":"SUM(Table_B.1!N21,Table_B.2!N21)","v":0},null,{"$f":"SUM(Table_B.1!P21,Table_B.2!P21)","v":0},null,{"$f":"SUM(Table_B.1!R21,Table_B.2!R21)","v":0},null,0,null,{"$f":"SUM(Table_B.1!V21,Table_B.2!V21)","v":0},null,{"$f":"SUM(Table_B.1!X21,Table_B.2!X21)","v":0},null,{"$f":"SUM(Table_B.1!Z21,Table_B.2!Z21)","v":0},null,{"$f":"SUM(Table_B.1!AB21,Table_B.2!AB21)","v":0},null,{"$f":"SUM(Table_B.1!AD21,Table_B.2!AD21)","v":0},null,{"$f":"SUM(Table_B.1!AF21,Table_B.2!AF21)","v":0},null,{"$f":"SUM(Table_B.1!AH21,Table_B.2!AH21)","v":0},null,{"$f":"SUM(Table_B.1!AJ21,Table_B.2!AJ21)","v":0},null,{"$f":"SUM(Table_B.1!AL21,Table_B.2!AL21)","v":0},null,{"$f":"SUM(Table_B.1!AN21,Table_B.2!AN21)","v":0},null,{"$f":"SUM(Table_B.1!AP21,Table_B.2!AP21)","v":0},null,{"$f":"SUM(Table_B.1!AR21,Table_B.2!AR21)","v":0},null,{"$f":"SUM(Table_B.1!AT21,Table_B.2!AT21)","v":0},null,{"$f":"SUM(Table_B.1!AV21,Table_B.2!AV21)","v":0},null,{"$f":"SUM(Table_B.1!AX21,Table_B.2!AX21)","v":0},null,{"$f":"SUM(Table_B.1!AZ21,Table_B.2!AZ21)","v":0},null,{"$f":"SUM(Table_B.1!BB21,Table_B.2!BB21)","v":0},null,{"$f":"SUM(Table_B.1!BD21,Table_B.2!BD21)","v":0},null,{"$f":"SUM(Table_B.1!BF21,Table_B.2!BF21)","v":0},null,{"$f":"SUM(Table_B.1!BH21,Table_B.2!BH21)","v":0},null,0,null,{"$f":"SUM(Table_B.1!BL21,Table_B.2!BL21)","v":0},null,{"$f":"SUM(Table_B.1!BN21,Table_B.2!BN21)","v":0},null,{"$f":"SUM(Table_B.1!BP21,Table_B.2!BP21)","v":0},null,0,null,{"$f":"SUM(Table_B.1!BT21,Table_B.2!BT21)","v":0},null,{"$f":"SUM(Table_B.1!BV21,Table_B.2!BV21)","v":0},null,{"$f":"SUM(Table_B.1!BX21,Table_B.2!BX21)","v":0},null,0,null,{"$f":"SUM(Table_B.1!CB21,Table_B.2!CB21)","v":0},null,{"$f":"SUM(Table_B.1!CD21,Table_B.2!CD21)","v":0},null,{"$f":"SUM(Table_B.1!CF21,Table_B.2!CF21)","v":0},null,{"$f":"SUM(Table_B.1!CH21,Table_B.2!CH21)","v":0},null,{"$f":"SUM(Table_B.1!CJ21,Table_B.2!CJ21)","v":0},null,{"$f":"SUM(Table_B.1!CL21,Table_B.2!CL21)","v":0},null,0,null,{"$f":"SUM(Table_B.1!CP21,Table_B.2!CP21)","v":0},null,{"$f":"SUM(Table_B.1!CR21,Table_B.2!CR21)","v":0},null,{"$f":"SUM(Table_B.1!CT21,Table_B.2!CT21)","v":0},null,{"$f":"SUM(Table_B.1!CV21,Table_B.2!CV21)","v":0},null,0,null,{"$f":"SUM(Table_B.1!CZ21,Table_B.2!CZ21)","v":0},null,{"$f":"SUM(Table_B.1!DB21,Table_B.2!DB21)","v":0},null,{"$f":"SUM(Table_B.1!DD21,Table_B.2!DD21)","v":0},null,{"$f":"SUM(Table_B.1!DF21,Table_B.2!DF21)","v":0},null,{"$f":"SUM(Table_B.1!DH21,Table_B.2!DH21)","v":0},null,0,null,{"$f":"SUM(Table_B.1!DL21,Table_B.2!DL21)","v":0},null,{"$f":"SUM(Table_B.1!DN21,Table_B.2!DN21)","v":0},null,{"$f":"SUM(Table_B.1!DP21,Table_B.2!DP21)","v":0},null,{"$f":"SUM(Table_B.1!DR21,Table_B.2!DR21)","v":0},null,{"$f":"SUM(Table_B.1!DT21,Table_B.2!DT21)","v":0},null,0,null,{"$f":"SUM(Table_B.1!DX21,Table_B.2!DX21)","v":0},null,{"$f":"SUM(Table_B.1!DZ21,Table_B.2!DZ21)","v":0},null,{"$f":"SUM(Table_B.1!EB21,Table_B.2!EB21)","v":0},null,{"$f":"SUM(Table_B.1!ED21,Table_B.2!ED21)","v":0},null,{"$f":"SUM(Table_B.1!EF21,Table_B.2!EF21)","v":0},null,{"$f":"SUM(Table_B.1!EH21,Table_B.2!EH21)","v":0},null,0,null,{"$f":"SUM(Table_B.1!EL21,Table_B.2!EL21)","v":0},null,{"$f":"SUM(Table_B.1!EN21,Table_B.2!EN21)","v":0},null,0,null,{"$f":"SUM(Table_B.1!ER21,Table_B.2!ER21)","v":0},null,{"$f":"SUM(Table_B.1!ET21,Table_B.2!ET21)","v":0},null,0,null,{"$f":"SUM(Table_B.1!EX21,Table_B.2!EX21)","v":0},null,{"$f":"SUM(Table_B.1!EZ21,Table_B.2!EZ21)","v":0},null,{"$f":"SUM(Table_B.1!FB21,Table_B.2!FB21)","v":0},null,{"$f":"SUM(Table_B.1!FD21,Table_B.2!FD21)","v":0},null,{"$f":"SUM(Table_B.1!FF21,Table_B.2!FF21)","v":0},null,0,null,{"$f":"SUM(Table_B.1!FJ21,Table_B.2!FJ21)","v":0},null,{"$f":"SUM(Table_B.1!FL21,Table_B.2!FL21)","v":0},null,{"$f":"SUM(Table_B.1!FN21,Table_B.2!FN21)","v":0},null,{"$f":"SUM(Table_B.1!FP21,Table_B.2!FP21)","v":0},null,{"$f":"SUM(Table_B.1!FR21,Table_B.2!FR21)","v":0},null,{"$f":"SUM(Table_B.1!FT21,Table_B.2!FT21)","v":0},null,null,null,0,null,{"$f":"IF(ROUND(SUM(FX21),1)>ROUND(SUM(Table_A!FX21),1),\"Supply < Use\",IF(ROUND(SUM(FX21),1)<ROUND(SUM(Table_A!FX21),1),\"Supply > Use\",\"\"))","v":""},null,null,null,null,null,"P11"]
[null,14,{"$f":"'PEFA rows'!B16","v":2},{"$f":"'PEFA rows'!C16","v":"P12"},{"$f":"'PEFA rows'!D16","v":"Crude oil, NGL, and other hydrocarbons (excl. bio)"},null,null,0,null,0,null,{"$f":"SUM(Table_B.1!L22,Table_B.2!L22)","v":0},null,{"$f":"SUM(Table_B.1!N22,Table_B.2!N22)","v":0},null,{"$f":"SUM(Table_B.1!P22,Table_B.2!P22)","v":0},null,{"$f":"SUM(Table_B.1!R22,Table_B.2!R22)","v":0},null,0,null,{"$f":"SUM(Table_B.1!V22,Table_B.2!V22)","v":0},null,{"$f":"SUM(Table_B.1!X22,Table_B.2!X22)","v":0},null,{"$f":"SUM(Table_B.1!Z22,Table_B.2!Z22)","v":0},null,{"$f":"SUM(Table_B.1!AB22,Table_B.2!AB22)","v":0},null,{"$f":"SUM(Table_B.1!AD22,Table_B.2!AD22)","v":0},null,{"$f":"SUM(Table_B.1!AF22,Table_B.2!AF22)","v":0},null,{"$f":"SUM(Table_B.1!AH22,Table_B.2!AH22)","v":0},null,{"$f":"SUM(Table_B.1!AJ22,Table_B.2!AJ22)","v":0},null,{"$f":"SUM(Table_B.1!AL22,Table_B.2!AL22)","v":0},null,{"$f":"SUM(Table_B.1!AN22,Table_B.2!AN22)","v":0},null,{"$f":"SUM(Table_B.1!AP22,Table_B.2!AP22)","v":0},null,{"$f":"SUM(Table_B.1!AR22,Table_B.2!AR22)","v":0},null,{"$f":"SUM(Table_B.1!AT22,Table_B.2!AT22)","v":0},null,{"$f":"SUM(Table_B.1!AV22,Table_B.2!AV22)","v":0},null,{"$f":"SUM(Table_B.1!AX22,Table_B.2!AX22)","v":0},null,{"$f":"SUM(Table_B.1!AZ22,Table_B.2!AZ22)","v":0},null,{"$f":"SUM(Table_B.1!BB22,Table_B.2!BB22)","v":0},null,{"$f":"SUM(Table_B.1!BD22,Table_B.2!BD22)","v":0},null,{"$f":"SUM(Table_B.1!BF22,Table_B.2!BF22)","v":0},null,{"$f":"SUM(Table_B.1!BH22,Table_B.2!BH22)","v":0},null,0,null,{"$f":"SUM(Table_B.1!BL22,Table_B.2!BL22)","v":0},null,{"$f":"SUM(Table_B.1!BN22,Table_B.2!BN22)","v":0},null,{"$f":"SUM(Table_B.1!BP22,Table_B.2!BP22)","v":0},null,0,null,{"$f":"SUM(Table_B.1!BT22,Table_B.2!BT22)","v":0},null,{"$f":"SUM(Table_B.1!BV22,Table_B.2!BV22)","v":0},null,{"$f":"SUM(Table_B.1!BX22,Table_B.2!BX22)","v":0},null,0,null,{"$f":"SUM(Table_B.1!CB22,Table_B.2!CB22)","v":0},null,{"$f":"SUM(Table_B.1!CD22,Table_B.2!CD22)","v":0},null,{"$f":"SUM(Table_B.1!CF22,Table_B.2!CF22)","v":0},null,{"$f":"SUM(Table_B.1!CH22,Table_B.2!CH22)","v":0},null,{"$f":"SUM(Table_B.1!CJ22,Table_B.2!CJ22)","v":0},null,{"$f":"SUM(Table_B.1!CL22,Table_B.2!CL22)","v":0},null,0,null,{"$f":"SUM(Table_B.1!CP22,Table_B.2!CP22)","v":0},null,{"$f":"SUM(Table_B.1!CR22,Table_B.2!CR22)","v":0},null,{"$f":"SUM(Table_B.1!CT22,Table_B.2!CT22)","v":0},null,{"$f":"SUM(Table_B.1!CV22,Table_B.2!CV22)","v":0},null,0,null,{"$f":"SUM(Table_B.1!CZ22,Table_B.2!CZ22)","v":0},null,{"$f":"SUM(Table_B.1!DB22,Table_B.2!DB22)","v":0},null,{"$f":"SUM(Table_B.1!DD22,Table_B.2!DD22)","v":0},null,{"$f":"SUM(Table_B.1!DF22,Table_B.2!DF22)","v":0},null,{"$f":"SUM(Table_B.1!DH22,Table_B.2!DH22)","v":0},null,0,null,{"$f":"SUM(Table_B.1!DL22,Table_B.2!DL22)","v":0},null,{"$f":"SUM(Table_B.1!DN22,Table_B.2!DN22)","v":0},null,{"$f":"SUM(Table_B.1!DP22,Table_B.2!DP22)","v":0},null,{"$f":"SUM(Table_B.1!DR22,Table_B.2!DR22)","v":0},null,{"$f":"SUM(Table_B.1!DT22,Table_B.2!DT22)","v":0},null,0,null,{"$f":"SUM(Table_B.1!DX22,Table_B.2!DX22)","v":0},null,{"$f":"SUM(Table_B.1!DZ22,Table_B.2!DZ22)","v":0},null,{"$f":"SUM(Table_B.1!EB22,Table_B.2!EB22)","v":0},null,{"$f":"SUM(Table_B.1!ED22,Table_B.2!ED22)","v":0},null,{"$f":"SUM(Table_B.1!EF22,Table_B.2!EF22)","v":0},null,{"$f":"SUM(Table_B.1!EH22,Table_B.2!EH22)","v":0},null,0,null,{"$f":"SUM(Table_B.1!EL22,Table_B.2!EL22)","v":0},null,{"$f":"SUM(Table_B.1!EN22,Table_B.2!EN22)","v":0},null,0,null,{"$f":"SUM(Table_B.1!ER22,Table_B.2!ER22)","v":0},null,{"$f":"SUM(Table_B.1!ET22,Table_B.2!ET22)","v":0},null,0,null,{"$f":"SUM(Table_B.1!EX22,Table_B.2!EX22)","v":0},null,{"$f":"SUM(Table_B.1!EZ22,Table_B.2!EZ22)","v":0},null,{"$f":"SUM(Table_B.1!FB22,Table_B.2!FB22)","v":0},null,{"$f":"SUM(Table_B.1!FD22,Table_B.2!FD22)","v":0},null,{"$f":"SUM(Table_B.1!FF22,Table_B.2!FF22)","v":0},null,0,null,{"$f":"SUM(Table_B.1!FJ22,Table_B.2!FJ22)","v":0},null,{"$f":"SUM(Table_B.1!FL22,Table_B.2!FL22)","v":0},null,{"$f":"SUM(Table_B.1!FN22,Table_B.2!FN22)","v":0},null,{"$f":"SUM(Table_B.1!FP22,Table_B.2!FP22)","v":0},null,{"$f":"SUM(Table_B.1!FR22,Table_B.2!FR22)","v":0},null,{"$f":"SUM(Table_B.1!FT22,Table_B.2!FT22)","v":0},null,null,null,0,null,{"$f":"IF(ROUND(SUM(FX22),1)>ROUND(SUM(Table_A!FX22),1),\"Supply < Use\",IF(ROUND(SUM(FX22),1)<ROUND(SUM(Table_A!FX22),1),\"Supply > Use\",\"\"))","v":""},null,null,null,null,null,"P12"]
[null,15,{"$f":"'PEFA rows'!B17","v":2},{"$f":"'PEFA rows'!C17","v":"P13"},{"$f":"'PEFA rows'!D17","v":"Natural gas (without bio)"},null,null,0,null,0,null,{"$f":"SUM(Table_B.1!L23,Table_B.2!L23)","v":0},null,{"$f":"SUM(Table_B.1!N23,Table_B.2!N23)","v":0},null,{"$f":"SUM(Table_B.1!P23,Table_B.2!P23)","v":0},null,{"$f":"SUM(Table_B.1!R23,Table_B.2!R23)","v":0},null,0,null,{"$f":"SUM(Table_B.1!V23,Table_B.2!V23)","v":0},null,{"$f":"SUM(Table_B.1!X23,Table_B.2!X23)","v":0},null,{"$f":"SUM(Table_B.1!Z23,Table_B.2!Z23)","v":0},null,{"$f":"SUM(Table_B.1!AB23,Table_B.2!AB23)","v":0},null,{"$f":"SUM(Table_B.1!AD23,Table_B.2!AD23)","v":0},null,{"$f":"SUM(Table_B.1!AF23,Table_B.2!AF23)","v":0},null,{"$f":"SUM(Table_B.1!AH23,Table_B.2!AH23)","v":0},null,{"$f":"SUM(Table_B.1!AJ23,Table_B.2!AJ23)","v":0},null,{"$f":"SUM(Table_B.1!AL23,Table_B.2!AL23)","v":0},null,{"$f":"SUM(Table_B.1!AN23,Table_B.2!AN23)","v":0},null,{"$f":"SUM(Table_B.1!AP23,Table_B.2!AP23)","v":0},null,{"$f":"SUM(Table_B.1!AR23,Table_B.2!AR23)","v":0},null,{"$f":"SUM(Table_B.1!AT23,Table_B.2!AT23)","v":0},null,{"$f":"SUM(Table_B.1!AV23,Table_B.2!AV23)","v":0},null,{"$f":"SUM(Table_B.1!AX23,Table_B.2!AX23)","v":0},null,{"$f":"SUM(Table_B.1!AZ23,Table_B.2!AZ23)","v":0},null,{"$f":"SUM(Table_B.1!BB23,Table_B.2!BB23)","v":0},null,{"$f":"SUM(Table_B.1!BD23,Table_B.2!BD23)","v":0},null,{"$f":"SUM(Table_B.1!BF23,Table_B.2!BF23)","v":0},null,{"$f":"SUM(Table_B.1!BH23,Table_B.2!BH23)","v":0},null,0,null,{"$f":"SUM(Table_B.1!BL23,Table_B.2!BL23)","v":0},null,{"$f":"SUM(Table_B.1!BN23,Table_B.2!BN23)","v":0},null,{"$f":"SUM(Table_B.1!BP23,Table_B.2!BP23)","v":0},null,0,null,{"$f":"SUM(Table_B.1!BT23,Table_B.2!BT23)","v":0},null,{"$f":"SUM(Table_B.1!BV23,Table_B.2!BV23)","v":0},null,{"$f":"SUM(Table_B.1!BX23,Table_B.2!BX23)","v":0},null,0,null,{"$f":"SUM(Table_B.1!CB23,Table_B.2!CB23)","v":0},null,{"$f":"SUM(Table_B.1!CD23,Table_B.2!CD23)","v":0},null,{"$f":"SUM(Table_B.1!CF23,Table_B.2!CF23)","v":0},null,{"$f":"SUM(Table_B.1!CH23,Table_B.2!CH23)","v":0},null,{"$f":"SUM(Table_B.1!CJ23,Table_B.2!CJ23)","v":0},null,{"$f":"SUM(Table_B.1!CL23,Table_B.2!CL23)","v":0},null,0,null,{"$f":"SUM(Table_B.1!CP23,Table_B.2!CP23)","v":0},null,{"$f":"SUM(Table_B.1!CR23,Table_B.2!CR23)","v":0},null,{"$f":"SUM(Table_B.1!CT23,Table_B.2!CT23)","v":0},null,{"$f":"SUM(Table_B.1!CV23,Table_B.2!CV23)","v":0},null,0,null,{"$f":"SUM(Table_B.1!CZ23,Table_B.2!CZ23)","v":0},null,{"$f":"SUM(Table_B.1!DB23,Table_B.2!DB23)","v":0},null,{"$f":"SUM(Table_B.1!DD23,Table_B.2!DD23)","v":0},null,{"$f":"SUM(Table_B.1!DF23,Table_B.2!DF23)","v":0},null,{"$f":"SUM(Table_B.1!DH23,Table_B.2!DH23)","v":0},null,0,null,{"$f":"SUM(Table_B.1!DL23,Table_B.2!DL23)","v":0},null,{"$f":"SUM(Table_B.1!DN23,Table_B.2!DN23)","v":0},null,{"$f":"SUM(Table_B.1!DP23,Table_B.2!DP23)","v":0},null,{"$f":"SUM(Table_B.1!DR23,Table_B.2!DR23)","v":0},null,{"$f":"SUM(Table_B.1!DT23,Table_B.2!DT23)","v":0},null,0,null,{"$f":"SUM(Table_B.1!DX23,Table_B.2!DX23)","v":0},null,{"$f":"SUM(Table_B.1!DZ23,Table_B.2!DZ23)","v":0},null,{"$f":"SUM(Table_B.1!EB23,Table_B.2!EB23)","v":0},null,{"$f":"SUM(Table_B.1!ED23,Table_B.2!ED23)","v":0},null,{"$f":"SUM(Table_B.1!EF23,Table_B.2!EF23)","v":0},null,{"$f":"SUM(Table_B.1!EH23,Table_B.2!EH23)","v":0},null,0,null,{"$f":"SUM(Table_B.1!EL23,Table_B.2!EL23)","v":0},null,{"$f":"SUM(Table_B.1!EN23,Table_B.2!EN23)","v":0},null,0,null,{"$f":"SUM(Table_B.1!ER23,Table_B.2!ER23)","v":0},null,{"$f":"SUM(Table_B.1!ET23,Table_B.2!ET23)","v":0},null,0,null,{"$f":"SUM(Table_B.1!EX23,Table_B.2!EX23)","v":0},null,{"$f":"SUM(Table_B.1!EZ23,Table_B.2!EZ23)","v":0},null,{"$f":"SUM(Table_B.1!FB23,Table_B.2!FB23)","v":0},null,{"$f":"SUM(Table_B.1!FD23,Table_B.2!FD23)","v":0},null,{"$f":"SUM(Table_B.1!FF23,Table_B.2!FF23)","v":0},null,0,null,{"$f":"SUM(Table_B.1!FJ23,Table_B.2!FJ23)","v":0},null,{"$f":"SUM(Table_B.1!FL23,Table_B.2!FL23)","v":0},null,{"$f":"SUM(Table_B.1!FN23,Table_B.2!FN23)","v":0},null,{"$f":"SUM(Table_B.1!FP23,Table_B.2!FP23)","v":0},null,{"$f":"SUM(Table_B.1!FR23,Table_B.2!FR23)","v":0},null,{"$f":"SUM(Table_B.1!FT23,Table_B.2!FT23)","v":0},null,null,null,0,null,{"$f":"IF(ROUND(SUM(FX23),1)>ROUND(SUM(Table_A!FX23),1),\"Supply < Use\",IF(ROUND(SUM(FX23),1)<ROUND(SUM(Table_A!FX23),1),\"Supply > Use\",\"\"))","v":""},null,null,null,null,null,"P13"]
[null,16,{"$f":"'PEFA rows'!B18","v":2},{"$f":"'PEFA rows'!C18","v":"P14"},{"$f":"'PEFA rows'!D18","v":"Motor spirit (without bio)"},null,null,0,null,0,null,{"$f":"SUM(Table_B.1!L24,Table_B.2!L24)","v":0},null,{"$f":"SUM(Table_B.1!N24,Table_B.2!N24)","v":0},null,{"$f":"SUM(Table_B.1!P24,Table_B.2!P24)","v":0},null,{"$f":"SUM(Table_B.1!R24,Table_B.2!R24)","v":0},null,0,null,{"$f":"SUM(Table_B.1!V24,Table_B.2!V24)","v":0},null,{"$f":"SUM(Table_B.1!X24,Table_B.2!X24)","v":0},null,{"$f":"SUM(Table_B.1!Z24,Table_B.2!Z24)","v":0},null,{"$f":"SUM(Table_B.1!AB24,Table_B.2!AB24)","v":0},null,{"$f":"SUM(Table_B.1!AD24,Table_B.2!AD24)","v":0},null,{"$f":"SUM(Table_B.1!AF24,Table_B.2!AF24)","v":0},null,{"$f":"SUM(Table_B.1!AH24,Table_B.2!AH24)","v":0},null,{"$f":"SUM(Table_B.1!AJ24,Table_B.2!AJ24)","v":0},null,{"$f":"SUM(Table_B.1!AL24,Table_B.2!AL24)","v":0},null,{"$f":"SUM(Table_B.1!AN24,Table_B.2!AN24)","v":0},null,{"$f":"SUM(Table_B.1!AP24,Table_B.2!AP24)","v":0},null,{"$f":"SUM(Table_B.1!AR24,Table_B.2!AR24)","v":0},null,{"$f":"SUM(Table_B.1!AT24,Table_B.2!AT24)","v":0},null,{"$f":"SUM(Table_B.1!AV24,Table_B.2!AV24)","v":0},null,{"$f":"SUM(Table_B.1!AX24,Table_B.2!AX24)","v":0},null,{"$f":"SUM(Table_B.1!AZ24,Table_B.2!AZ24)","v":0},null,{"$f":"SUM(Table_B.1!BB24,Table_B.2!BB24)","v":0},null,{"$f":"SUM(Table_B.1!BD24,Table_B.2!BD24)","v":0},null,{"$f":"SUM(Table_B.1!BF24,Table_B.2!BF24)","v":0},null,{"$f":"SUM(Table_B.1!BH24,Table_B.2!BH24)","v":0},null,0,null,{"$f":"SUM(Table_B.1!BL24,Table_B.2!BL24)","v":0},null,{"$f":"SUM(Table_B.1!BN24,Table_B.2!BN24)","v":0},null,{"$f":"SUM(Table_B.1!BP24,Table_B.2!BP24)","v":0},null,0,null,{"$f":"SUM(Table_B.1!BT24,Table_B.2!BT24)","v":0},null,{"$f":"SUM(Table_B.1!BV24,Table_B.2!BV24)","v":0},null,{"$f":"SUM(Table_B.1!BX24,Table_B.2!BX24)","v":0},null,0,null,{"$f":"SUM(Table_B.1!CB24,Table_B.2!CB24)","v":0},null,{"$f":"SUM(Table_B.1!CD24,Table_B.2!CD24)","v":0},null,{"$f":"SUM(Table_B.1!CF24,Table_B.2!CF24)","v":0},null,{"$f":"SUM(Table_B.1!CH24,Table_B.2!CH24)","v":0},null,{"$f":"SUM(Table_B.1!CJ24,Table_B.2!CJ24)","v":0},null,{"$f":"SUM(Table_B.1!CL24,Table_B.2!CL24)","v":0},null,0,null,{"$f":"SUM(Table_B.1!CP24,Table_B.2!CP24)","v":0},null,{"$f":"SUM(Table_B.1!CR24,Table_B.2!CR24)","v":0},null,{"$f":"SUM(Table_B.1!CT24,Table_B.2!CT24)","v":0},null,{"$f":"SUM(Table_B.1!CV24,Table_B.2!CV24)","v":0},null,0,null,{"$f":"SUM(Table_B.1!CZ24,Table_B.2!CZ24)","v":0},null,{"$f":"SUM(Table_B.1!DB24,Table_B.2!DB24)","v":0},null,{"$f":"SUM(Table_B.1!DD24,Table_B.2!DD24)","v":0},null,{"$f":"SUM(Table_B.1!DF24,Table_B.2!DF24)","v":0},null,{"$f":"SUM(Table_B.1!DH24,Table_B.2!DH24)","v":0},null,0,null,{"$f":"SUM(Table_B.1!DL24,Table_B.2!DL24)","v":0},null,{"$f":"SUM(Table_B.1!DN24,Table_B.2!DN24)","v":0},null,{"$f":"SUM(Table_B.1!DP24,Table_B.2!DP24)","v":0},null,{"$f":"SUM(Table_B.1!DR24,Table_B.2!DR24)","v":0},null,{"$f":"SUM(Table_B.1!DT24,Table_B.2!DT24)","v":0},null,0,null,{"$f":"SUM(Table_B.1!DX24,Table_B.2!DX24)","v":0},null,{"$f":"SUM(Table_B.1!DZ24,Table_B.2!DZ24)","v":0},null,{"$f":"SUM(Table_B.1!EB24,Table_B.2!EB24)","v":0},null,{"$f":"SUM(Table_B.1!ED24,Table_B.2!ED24)","v":0},null,{"$f":"SUM(Table_B.1!EF24,Table_B.2!EF24)","v":0},null,{"$f":"SUM(Table_B.1!EH24,Table_B.2!EH24)","v":0},null,0,null,{"$f":"SUM(Table_B.1!EL24,Table_B.2!EL24)","v":0},null,{"$f":"SUM(Table_B.1!EN24,Table_B.2!EN24)","v":0},null,0,null,{"$f":"SUM(Table_B.1!ER24,Table_B.2!ER24)","v":0},null,{"$f":"SUM(Table_B.1!ET24,Table_B.2!ET24)","v":0},null,0,null,{"$f":"SUM(Table_B.1!EX24,Table_B.2!EX24)","v":0},null,{"$f":"SUM(Table_B.1!EZ24,Table_B.2!EZ24)","v":0},null,{"$f":"SUM(Table_B.1!FB24,Table_B.2!FB24)","v":0},null,{"$f":"SUM(Table_B.1!FD24,Table_B.2!FD24)","v":0},null,{"$f":"SUM(Table_B.1!FF24,Table_B.2!FF24)","v":0},null,0,null,{"$f":"SUM(Table_B.1!FJ24,Table_B.2!FJ24)","v":0},null,{"$f":"SUM(Table_B.1!FL24,Table_B.2!FL24)","v":0},null,{"$f":"SUM(Table_B.1!FN24,Table_B.2!FN24)","v":0},null,{"$f":"SUM(Table_B.1!FP24,Table_B.2!FP24)","v":0},null,{"$f":"SUM(Table_B.1!FR24,Table_B.2!FR24)","v":0},null,{"$f":"SUM(Table_B.1!FT24,Table_B.2!FT24)","v":0},null,null,null,0,null,{"$f":"IF(ROUND(SUM(FX24),1)>ROUND(SUM(Table_A!FX24),1),\"Supply < Use\",IF(ROUND(SUM(FX24),1)<ROUND(SUM(Table_A!FX24),1),\"Supply > Use\",\"\"))","v":""},null,null,null,null,null,"P14"]
[null,17,{"$f":"'PEFA rows'!B19","v":2},{"$f":"'PEFA rows'!C19","v":"P15"},{"$f":"'PEFA rows'!D19","v":"Kerosenes and jet fuels (without bio)"},null,null,0,null,0,null,{"$f":"SUM(Table_B.1!L25,Table_B.2!L25)","v":0},null,{"$f":"SUM(Table_B.1!N25,Table_B.2!N25)","v":0},null,{"$f":"SUM(Table_B.1!P25,Table_B.2!P25)","v":0},null,{"$f":"SUM(Table_B.1!R25,Table_B.2!R25)","v":0},null,0,null,{"$f":"SUM(Table_B.1!V25,Table_B.2!V25)","v":0},null,{"$f":"SUM(Table_B.1!X25,Table_B.2!X25)","v":0},null,{"$f":"SUM(Table_B.1!Z25,Table_B.2!Z25)","v":0},null,{"$f":"SUM(Table_B.1!AB25,Table_B.2!AB25)","v":0},null,{"$f":"SUM(Table_B.1!AD25,Table_B.2!AD25)","v":0},null,{"$f":"SUM(Table_B.1!AF25,Table_B.2!AF25)","v":0},null,{"$f":"SUM(Table_B.1!AH25,Table_B.2!AH25)","v":0},null,{"$f":"SUM(Table_B.1!AJ25,Table_B.2!AJ25)","v":0},null,{"$f":"SUM(Table_B.1!AL25,Table_B.2!AL25)","v":0},null,{"$f":"SUM(Table_B.1!AN25,Table_B.2!AN25)","v":0},null,{"$f":"SUM(Table_B.1!AP25,Table_B.2!AP25)","v":0},null,{"$f":"SUM(Table_B.1!AR25,Table_B.2!AR25)","v":0},null,{"$f":"SUM(Table_B.1!AT25,Table_B.2!AT25)","v":0},null,{"$f":"SUM(Table_B.1!AV25,Table_B.2!AV25)","v":0},null,{"$f":"SUM(Table_B.1!AX25,Table_B.2!AX25)","v":0},null,{"$f":"SUM(Table_B.1!AZ25,Table_B.2!AZ25)","v":0},null,{"$f":"SUM(Table_B.1!BB25,Table_B.2!BB25)","v":0},null,{"$f":"SUM(Table_B.1!BD25,Table_B.2!BD25)","v":0},null,{"$f":"SUM(Table_B.1!BF25,Table_B.2!BF25)","v":0},null,{"$f":"SUM(Table_B.1!BH25,Table_B.2!BH25)","v":0},null,0,null,{"$f":"SUM(Table_B.1!BL25,Table_B.2!BL25)","v":0},null,{"$f":"SUM(Table_B.1!BN25,Table_B.2!BN25)","v":0},null,{"$f":"SUM(Table_B.1!BP25,Table_B.2!BP25)","v":0},null,0,null,{"$f":"SUM(Table_B.1!BT25,Table_B.2!BT25)","v":0},null,{"$f":"SUM(Table_B.1!BV25,Table_B.2!BV25)","v":0},null,{"$f":"SUM(Table_B.1!BX25,Table_B.2!BX25)","v":0},null,0,null,{"$f":"SUM(Table_B.1!CB25,Table_B.2!CB25)","v":0},null,{"$f":"SUM(Table_B.1!CD25,Table_B.2!CD25)","v":0},null,{"$f":"SUM(Table_B.1!CF25,Table_B.2!CF25)","v":0},null,{"$f":"SUM(Table_B.1!CH25,Table_B.2!CH25)","v":0},null,{"$f":"SUM(Table_B.1!CJ25,Table_B.2!CJ25)","v":0},null,{"$f":"SUM(Table_B.1!CL25,Table_B.2!CL25)","v":0},null,0,null,{"$f":"SUM(Table_B.1!CP25,Table_B.2!CP25)","v":0},null,{"$f":"SUM(Table_B.1!CR25,Table_B.2!CR25)","v":0},null,{"$f":"SUM(Table_B.1!CT25,Table_B.2!CT25)","v":0},null,{"$f":"SUM(Table_B.1!CV25,Table_B.2!CV25)","v":0},null,0,null,{"$f":"SUM(Table_B.1!CZ25,Table_B.2!CZ25)","v":0},null,{"$f":"SUM(Table_B.1!DB25,Table_B.2!DB25)","v":0},null,{"$f":"SUM(Table_B.1!DD25,Table_B.2!DD25)","v":0},null,{"$f":"SUM(Table_B.1!DF25,Table_B.2!DF25)","v":0},null,{"$f":"SUM(Table_B.1!DH25,Table_B.2!DH25)","v":0},null,0,null,{"$f":"SUM(Table_B.1!DL25,Table_B.2!DL25)","v":0},null,{"$f":"SUM(Table_B.1!DN25,Table_B.2!DN25)","v":0},null,{"$f":"SUM(Table_B.1!DP25,Table_B.2!DP25)","v":0},null,{"$f":"SUM(Table_B.1!DR25,Table_B.2!DR25)","v":0},null,{"$f":"SUM(Table_B.1!DT25,Table_B.2!DT25)","v":0},null,0,null,{"$f":"SUM(Table_B.1!DX25,Table_B.2!DX25)","v":0},null,{"$f":"SUM(Table_B.1!DZ25,Table_B.2!DZ25)","v":0},null,{"$f":"SUM(Table_B.1!EB25,Table_B.2!EB25)","v":0},null,{"$f":"SUM(Table_B.1!ED25,Table_B.2!ED25)","v":0},null,{"$f":"SUM(Table_B.1!EF25,Table_B.2!EF25)","v":0},null,{"$f":"SUM(Table_B.1!EH25,Table_B.2!EH25)","v":0},null,0,null,{"$f":"SUM(Table_B.1!EL25,Table_B.2!EL25)","v":0},null,{"$f":"SUM(Table_B.1!EN25,Table_B.2!EN25)","v":0},null,0,null,{"$f":"SUM(Table_B.1!ER25,Table_B.2!ER25)","v":0},null,{"$f":"SUM(Table_B.1!ET25,Table_B.2!ET25)","v":0},null,0,null,{"$f":"SUM(Table_B.1!EX25,Table_B.2!EX25)","v":0},null,{"$f":"SUM(Table_B.1!EZ25,Table_B.2!EZ25)","v":0},null,{"$f":"SUM(Table_B.1!FB25,Table_B.2!FB25)","v":0},null,{"$f":"SUM(Table_B.1!FD25,Table_B.2!FD25)","v":0},null,{"$f":"SUM(Table_B.1!FF25,Table_B.2!FF25)","v":0},null,0,null,{"$f":"SUM(Table_B.1!FJ25,Table_B.2!FJ25)","v":0},null,{"$f":"SUM(Table_B.1!FL25,Table_B.2!FL25)","v":0},null,{"$f":"SUM(Table_B.1!FN25,Table_B.2!FN25)","v":0},null,{"$f":"SUM(Table_B.1!FP25,Table_B.2!FP25)","v":0},null,{"$f":"SUM(Table_B.1!FR25,Table_B.2!FR25)","v":0},null,{"$f":"SUM(Table_B.1!FT25,Table_B.2!FT25)","v":0},null,null,null,0,null,{"$f":"IF(ROUND(SUM(FX25),1)>ROUND(SUM(Table_A!FX25),1),\"Supply < Use\",IF(ROUND(SUM(FX25),1)<ROUND(SUM(Table_A!FX25),1),\"Supply > Use\",\"\"))","v":""},null,null,null,null,null,"P15"]
[null,18,{"$f":"'PEFA rows'!B20","v":2},{"$f":"'PEFA rows'!C20","v":"P16"},{"$f":"'PEFA rows'!D20","v":"Naphtha"},null,null,0,null,0,null,{"$f":"SUM(Table_B.1!L26,Table_B.2!L26)","v":0},null,{"$f":"SUM(Table_B.1!N26,Table_B.2!N26)","v":0},null,{"$f":"SUM(Table_B.1!P26,Table_B.2!P26)","v":0},null,{"$f":"SUM(Table_B.1!R26,Table_B.2!R26)","v":0},null,0,null,{"$f":"SUM(Table_B.1!V26,Table_B.2!V26)","v":0},null,{"$f":"SUM(Table_B.1!X26,Table_B.2!X26)","v":0},null,{"$f":"SUM(Table_B.1!Z26,Table_B.2!Z26)","v":0},null,{"$f":"SUM(Table_B.1!AB26,Table_B.2!AB26)","v":0},null,{"$f":"SUM(Table_B.1!AD26,Table_B.2!AD26)","v":0},null,{"$f":"SUM(Table_B.1!AF26,Table_B.2!AF26)","v":0},null,{"$f":"SUM(Table_B.1!AH26,Table_B.2!AH26)","v":0},null,{"$f":"SUM(Table_B.1!AJ26,Table_B.2!AJ26)","v":0},null,{"$f":"SUM(Table_B.1!AL26,Table_B.2!AL26)","v":0},null,{"$f":"SUM(Table_B.1!AN26,Table_B.2!AN26)","v":0},null,{"$f":"SUM(Table_B.1!AP26,Table_B.2!AP26)","v":0},null,{"$f":"SUM(Table_B.1!AR26,Table_B.2!AR26)","v":0},null,{"$f":"SUM(Table_B.1!AT26,Table_B.2!AT26)","v":0},null,{"$f":"SUM(Table_B.1!AV26,Table_B.2!AV26)","v":0},null,{"$f":"SUM(Table_B.1!AX26,Table_B.2!AX26)","v":0},null,{"$f":"SUM(Table_B.1!AZ26,Table_B.2!AZ26)","v":0},null,{"$f":"SUM(Table_B.1!BB26,Table_B.2!BB26)","v":0},null,{"$f":"SUM(Table_B.1!BD26,Table_B.2!BD26)","v":0},null,{"$f":"SUM(Table_B.1!BF26,Table_B.2!BF26)","v":0},null,{"$f":"SUM(Table_B.1!BH26,Table_B.2!BH26)","v":0},null,0,null,{"$f":"SUM(Table_B.1!BL26,Table_B.2!BL26)","v":0},null,{"$f":"SUM(Table_B.1!BN26,Table_B.2!BN26)","v":0},null,{"$f":"SUM(Table_B.1!BP26,Table_B.2!BP26)","v":0},null,0,null,{"$f":"SUM(Table_B.1!BT26,Table_B.2!BT26)","v":0},null,{"$f":"SUM(Table_B.1!BV26,Table_B.2!BV26)","v":0},null,{"$f":"SUM(Table_B.1!BX26,Table_B.2!BX26)","v":0},null,0,null,{"$f":"SUM(Table_B.1!CB26,Table_B.2!CB26)","v":0},null,{"$f":"SUM(Table_B.1!CD26,Table_B.2!CD26)","v":0},null,{"$f":"SUM(Table_B.1!CF26,Table_B.2!CF26)","v":0},null,{"$f":"SUM(Table_B.1!CH26,Table_B.2!CH26)","v":0},null,{"$f":"SUM(Table_B.1!CJ26,Table_B.2!CJ26)","v":0},null,{"$f":"SUM(Table_B.1!CL26,Table_B.2!CL26)","v":0},null,0,null,{"$f":"SUM(Table_B.1!CP26,Table_B.2!CP26)","v":0},null,{"$f":"SUM(Table_B.1!CR26,Table_B.2!CR26)","v":0},null,{"$f":"SUM(Table_B.1!CT26,Table_B.2!CT26)","v":0},null,{"$f":"SUM(Table_B.1!CV26,Table_B.2!CV26)","v":0},null,0,null,{"$f":"SUM(Table_B.1!CZ26,Table_B.2!CZ26)","v":0},null,{"$f":"SUM(Table_B.1!DB26,Table_B.2!DB26)","v":0},null,{"$f":"SUM(Table_B.1!DD26,Table_B.2!DD26)","v":0},null,{"$f":"SUM(Table_B.1!DF26,Table_B.2!DF26)","v":0},null,{"$f":"SUM(Table_B.1!DH26,Table_B.2!DH26)","v":0},null,0,null,{"$f":"SUM(Table_B.1!DL26,Table_B.2!DL26)","v":0},null,{"$f":"SUM(Table_B.1!DN26,Table_B.2!DN26)","v":0},null,{"$f":"SUM(Table_B.1!DP26,Table_B.2!DP26)","v":0},null,{"$f":"SUM(Table_B.1!DR26,Table_B.2!DR26)","v":0},null,{"$f":"SUM(Table_B.1!DT26,Table_B.2!DT26)","v":0},null,0,null,{"$f":"SUM(Table_B.1!DX26,Table_B.2!DX26)","v":0},null,{"$f":"SUM(Table_B.1!DZ26,Table_B.2!DZ26)","v":0},null,{"$f":"SUM(Table_B.1!EB26,Table_B.2!EB26)","v":0},null,{"$f":"SUM(Table_B.1!ED26,Table_B.2!ED26)","v":0},null,{"$f":"SUM(Table_B.1!EF26,Table_B.2!EF26)","v":0},null,{"$f":"SUM(Table_B.1!EH26,Table_B.2!EH26)","v":0},null,0,null,{"$f":"SUM(Table_B.1!EL26,Table_B.2!EL26)","v":0},null,{"$f":"SUM(Table_B.1!EN26,Table_B.2!EN26)","v":0},null,0,null,{"$f":"SUM(Table_B.1!ER26,Table_B.2!ER26)","v":0},null,{"$f":"SUM(Table_B.1!ET26,Table_B.2!ET26)","v":0},null,0,null,{"$f":"SUM(Table_B.1!EX26,Table_B.2!EX26)","v":0},null,{"$f":"SUM(Table_B.1!EZ26,Table_B.2!EZ26)","v":0},null,{"$f":"SUM(Table_B.1!FB26,Table_B.2!FB26)","v":0},null,{"$f":"SUM(Table_B.1!FD26,Table_B.2!FD26)","v":0},null,{"$f":"SUM(Table_B.1!FF26,Table_B.2!FF26)","v":0},null,0,null,{"$f":"SUM(Table_B.1!FJ26,Table_B.2!FJ26)","v":0},null,{"$f":"SUM(Table_B.1!FL26,Table_B.2!FL26)","v":0},null,{"$f":"SUM(Table_B.1!FN26,Table_B.2!FN26)","v":0},null,{"$f":"SUM(Table_B.1!FP26,Table_B.2!FP26)","v":0},null,{"$f":"SUM(Table_B.1!FR26,Table_B.2!FR26)","v":0},null,{"$f":"SUM(Table_B.1!FT26,Table_B.2!FT26)","v":0},null,null,null,0,null,{"$f":"IF(ROUND(SUM(FX26),1)>ROUND(SUM(Table_A!FX26),1),\"Supply < Use\",IF(ROUND(SUM(FX26),1)<ROUND(SUM(Table_A!FX26),1),\"Supply > Use\",\"\"))","v":""},null,null,null,null,null,"P16"]
[null,19,{"$f":"'PEFA rows'!B21","v":2},{"$f":"'PEFA rows'!C21","v":"P17"},{"$f":"'PEFA rows'!D21","v":"Transport diesel (without bio)"},null,null,0,null,0,null,{"$f":"SUM(Table_B.1!L27,Table_B.2!L27)","v":0},null,{"$f":"SUM(Table_B.1!N27,Table_B.2!N27)","v":0},null,{"$f":"SUM(Table_B.1!P27,Table_B.2!P27)","v":0},null,{"$f":"SUM(Table_B.1!R27,Table_B.2!R27)","v":0},null,0,null,{"$f":"SUM(Table_B.1!V27,Table_B.2!V27)","v":0},null,{"$f":"SUM(Table_B.1!X27,Table_B.2!X27)","v":0},null,{"$f":"SUM(Table_B.1!Z27,Table_B.2!Z27)","v":0},null,{"$f":"SUM(Table_B.1!AB27,Table_B.2!AB27)","v":0},null,{"$f":"SUM(Table_B.1!AD27,Table_B.2!AD27)","v":0},null,{"$f":"SUM(Table_B.1!AF27,Table_B.2!AF27)","v":0},null,{"$f":"SUM(Table_B.1!AH27,Table_B.2!AH27)","v":0},null,{"$f":"SUM(Table_B.1!AJ27,Table_B.2!AJ27)","v":0},null,{"$f":"SUM(Table_B.1!AL27,Table_B.2!AL27)","v":0},null,{"$f":"SUM(Table_B.1!AN27,Table_B.2!AN27)","v":0},null,{"$f":"SUM(Table_B.1!AP27,Table_B.2!AP27)","v":0},null,{"$f":"SUM(Table_B.1!AR27,Table_B.2!AR27)","v":0},null,{"$f":"SUM(Table_B.1!AT27,Table_B.2!AT27)","v":0},null,{"$f":"SUM(Table_B.1!AV27,Table_B.2!AV27)","v":0},null,{"$f":"SUM(Table_B.1!AX27,Table_B.2!AX27)","v":0},null,{"$f":"SUM(Table_B.1!AZ27,Table_B.2!AZ27)","v":0},null,{"$f":"SUM(Table_B.1!BB27,Table_B.2!BB27)","v":0},null,{"$f":"SUM(Table_B.1!BD27,Table_B.2!BD27)","v":0},null,{"$f":"SUM(Table_B.1!BF27,Table_B.2!BF27)","v":0},null,{"$f":"SUM(Table_B.1!BH27,Table_B.2!BH27)","v":0},null,0,null,{"$f":"SUM(Table_B.1!BL27,Table_B.2!BL27)","v":0},null,{"$f":"SUM(Table_B.1!BN27,Table_B.2!BN27)","v":0},null,{"$f":"SUM(Table_B.1!BP27,Table_B.2!BP27)","v":0},null,0,null,{"$f":"SUM(Table_B.1!BT27,Table_B.2!BT27)","v":0},null,{"$f":"SUM(Table_B.1!BV27,Table_B.2!BV27)","v":0},null,{"$f":"SUM(Table_B.1!BX27,Table_B.2!BX27)","v":0},null,0,null,{"$f":"SUM(Table_B.1!CB27,Table_B.2!CB27)","v":0},null,{"$f":"SUM(Table_B.1!CD27,Table_B.2!CD27)","v":0},null,{"$f":"SUM(Table_B.1!CF27,Table_B.2!CF27)","v":0},null,{"$f":"SUM(Table_B.1!CH27,Table_B.2!CH27)","v":0},null,{"$f":"SUM(Table_B.1!CJ27,Table_B.2!CJ27)","v":0},null,{"$f":"SUM(Table_B.1!CL27,Table_B.2!CL27)","v":0},null,0,null,{"$f":"SUM(Table_B.1!CP27,Table_B.2!CP27)","v":0},null,{"$f":"SUM(Table_B.1!CR27,Table_B.2!CR27)","v":0},null,{"$f":"SUM(Table_B.1!CT27,Table_B.2!CT27)","v":0},null,{"$f":"SUM(Table_B.1!CV27,Table_B.2!CV27)","v":0},null,0,null,{"$f":"SUM(Table_B.1!CZ27,Table_B.2!CZ27)","v":0},null,{"$f":"SUM(Table_B.1!DB27,Table_B.2!DB27)","v":0},null,{"$f":"SUM(Table_B.1!DD27,Table_B.2!DD27)","v":0},null,{"$f":"SUM(Table_B.1!DF27,Table_B.2!DF27)","v":0},null,{"$f":"SUM(Table_B.1!DH27,Table_B.2!DH27)","v":0},null,0,null,{"$f":"SUM(Table_B.1!DL27,Table_B.2!DL27)","v":0},null,{"$f":"SUM(Table_B.1!DN27,Table_B.2!DN27)","v":0},null,{"$f":"SUM(Table_B.1!DP27,Table_B.2!DP27)","v":0},null,{"$f":"SUM(Table_B.1!DR27,Table_B.2!DR27)","v":0},null,{"$f":"SUM(Table_B.1!DT27,Table_B.2!DT27)","v":0},null,0,null,{"$f":"SUM(Table_B.1!DX27,Table_B.2!DX27)","v":0},null,{"$f":"SUM(Table_B.1!DZ27,Table_B.2!DZ27)","v":0},null,{"$f":"SUM(Table_B.1!EB27,Table_B.2!EB27)","v":0},null,{"$f":"SUM(Table_B.1!ED27,Table_B.2!ED27)","v":0},null,{"$f":"SUM(Table_B.1!EF27,Table_B.2!EF27)","v":0},null,{"$f":"SUM(Table_B.1!EH27,Table_B.2!EH27)","v":0},null,0,null,{"$f":"SUM(Table_B.1!EL27,Table_B.2!EL27)","v":0},null,{"$f":"SUM(Table_B.1!EN27,Table_B.2!EN27)","v":0},null,0,null,{"$f":"SUM(Table_B.1!ER27,Table_B.2!ER27)","v":0},null,{"$f":"SUM(Table_B.1!ET27,Table_B.2!ET27)","v":0},null,0,null,{"$f":"SUM(Table_B.1!EX27,Table_B.2!EX27)","v":0},null,{"$f":"SUM(Table_B.1!EZ27,Table_B.2!EZ27)","v":0},null,{"$f":"SUM(Table_B.1!FB27,Table_B.2!FB27)","v":0},null,{"$f":"SUM(Table_B.1!FD27,Table_B.2!FD27)","v":0},null,{"$f":"SUM(Table_B.1!FF27,Table_B.2!FF27)","v":0},null,0,null,{"$f":"SUM(Table_B.1!FJ27,Table_B.2!FJ27)","v":0},null,{"$f":"SUM(Table_B.1!FL27,Table_B.2!FL27)","v":0},null,{"$f":"SUM(Table_B.1!FN27,Table_B.2!FN27)","v":0},null,{"$f":"SUM(Table_B.1!FP27,Table_B.2!FP27)","v":0},null,{"$f":"SUM(Table_B.1!FR27,Table_B.2!FR27)","v":0},null,{"$f":"SUM(Table_B.1!FT27,Table_B.2!FT27)","v":0},null,null,null,0,null,{"$f":"IF(ROUND(SUM(FX27),1)>ROUND(SUM(Table_A!FX27),1),\"Supply < Use\",IF(ROUND(SUM(FX27),1)<ROUND(SUM(Table_A!FX27),1),\"Supply > Use\",\"\"))","v":""},null,null,null,null,null,"P17"]
[null,20,{"$f":"'PEFA rows'!B22","v":2},{"$f":"'PEFA rows'!C22","v":"P18"},{"$f":"'PEFA rows'!D22","v":"Heating and other gasoil (without bio)"},null,null,0,null,0,null,{"$f":"SUM(Table_B.1!L28,Table_B.2!L28)","v":0},null,{"$f":"SUM(Table_B.1!N28,Table_B.2!N28)","v":0},null,{"$f":"SUM(Table_B.1!P28,Table_B.2!P28)","v":0},null,{"$f":"SUM(Table_B.1!R28,Table_B.2!R28)","v":0},null,0,null,{"$f":"SUM(Table_B.1!V28,Table_B.2!V28)","v":0},null,{"$f":"SUM(Table_B.1!X28,Table_B.2!X28)","v":0},null,{"$f":"SUM(Table_B.1!Z28,Table_B.2!Z28)","v":0},null,{"$f":"SUM(Table_B.1!AB28,Table_B.2!AB28)","v":0},null,{"$f":"SUM(Table_B.1!AD28,Table_B.2!AD28)","v":0},null,{"$f":"SUM(Table_B.1!AF28,Table_B.2!AF28)","v":0},null,{"$f":"SUM(Table_B.1!AH28,Table_B.2!AH28)","v":0},null,{"$f":"SUM(Table_B.1!AJ28,Table_B.2!AJ28)","v":0},null,{"$f":"SUM(Table_B.1!AL28,Table_B.2!AL28)","v":0},null,{"$f":"SUM(Table_B.1!AN28,Table_B.2!AN28)","v":0},null,{"$f":"SUM(Table_B.1!AP28,Table_B.2!AP28)","v":0},null,{"$f":"SUM(Table_B.1!AR28,Table_B.2!AR28)","v":0},null,{"$f":"SUM(Table_B.1!AT28,Table_B.2!AT28)","v":0},null,{"$f":"SUM(Table_B.1!AV28,Table_B.2!AV28)","v":0},null,{"$f":"SUM(Table_B.1!AX28,Table_B.2!AX28)","v":0},null,{"$f":"SUM(Table_B.1!AZ28,Table_B.2!AZ28)","v":0},null,{"$f":"SUM(Table_B.1!BB28,Table_B.2!BB28)","v":0},null,{"$f":"SUM(Table_B.1!BD28,Table_B.2!BD28)","v":0},null,{"$f":"SUM(Table_B.1!BF28,Table_B.2!BF28)","v":0},null,{"$f":"SUM(Table_B.1!BH28,Table_B.2!BH28)","v":0},null,0,null,{"$f":"SUM(Table_B.1!BL28,Table_B.2!BL28)","v":0},null,{"$f":"SUM(Table_B.1!BN28,Table_B.2!BN28)","v":0},null,{"$f":"SUM(Table_B.1!BP28,Table_B.2!BP28)","v":0},null,0,null,{"$f":"SUM(Table_B.1!BT28,Table_B.2!BT28)","v":0},null,{"$f":"SUM(Table_B.1!BV28,Table_B.2!BV28)","v":0},null,{"$f":"SUM(Table_B.1!BX28,Table_B.2!BX28)","v":0},null,0,null,{"$f":"SUM(Table_B.1!CB28,Table_B.2!CB28)","v":0},null,{"$f":"SUM(Table_B.1!CD28,Table_B.2!CD28)","v":0},null,{"$f":"SUM(Table_B.1!CF28,Table_B.2!CF28)","v":0},null,{"$f":"SUM(Table_B.1!CH28,Table_B.2!CH28)","v":0},null,{"$f":"SUM(Table_B.1!CJ28,Table_B.2!CJ28)","v":0},null,{"$f":"SUM(Table_B.1!CL28,Table_B.2!CL28)","v":0},null,0,null,{"$f":"SUM(Table_B.1!CP28,Table_B.2!CP28)","v":0},null,{"$f":"SUM(Table_B.1!CR28,Table_B.2!CR28)","v":0},null,{"$f":"SUM(Table_B.1!CT28,Table_B.2!CT28)","v":0},null,{"$f":"SUM(Table_B.1!CV28,Table_B.2!CV28)","v":0},null,0,null,{"$f":"SUM(Table_B.1!CZ28,Table_B.2!CZ28)","v":0},null,{"$f":"SUM(Table_B.1!DB28,Table_B.2!DB28)","v":0},null,{"$f":"SUM(Table_B.1!DD28,Table_B.2!DD28)","v":0},null,{"$f":"SUM(Table_B.1!DF28,Table_B.2!DF28)","v":0},null,{"$f":"SUM(Table_B.1!DH28,Table_B.2!DH28)","v":0},null,0,null,{"$f":"SUM(Table_B.1!DL28,Table_B.2!DL28)","v":0},null,{"$f":"SUM(Table_B.1!DN28,Table_B.2!DN28)","v":0},null,{"$f":"SUM(Table_B.1!DP28,Table_B.2!DP28)","v":0},null,{"$f":"SUM(Table_B.1!DR28,Table_B.2!DR28)","v":0},null,{"$f":"SUM(Table_B.1!DT28,Table_B.2!DT28)","v":0},null,0,null,{"$f":"SUM(Table_B.1!DX28,Table_B.2!DX28)","v":0},null,{"$f":"SUM(Table_B.1!DZ28,Table_B.2!DZ28)","v":0},null,{"$f":"SUM(Table_B.1!EB28,Table_B.2!EB28)","v":0},null,{"$f":"SUM(Table_B.1!ED28,Table_B.2!ED28)","v":0},null,{"$f":"SUM(Table_B.1!EF28,Table_B.2!EF28)","v":0},null,{"$f":"SUM(Table_B.1!EH28,Table_B.2!EH28)","v":0},null,0,null,{"$f":"SUM(Table_B.1!EL28,Table_B.2!EL28)","v":0},null,{"$f":"SUM(Table_B.1!EN28,Table_B.2!EN28)","v":0},null,0,null,{"$f":"SUM(Table_B.1!ER28,Table_B.2!ER28)","v":0},null,{"$f":"SUM(Table_B.1!ET28,Table_B.2!ET28)","v":0},null,0,null,{"$f":"SUM(Table_B.1!EX28,Table_B.2!EX28)","v":0},null,{"$f":"SUM(Table_B.1!EZ28,Table_B.2!EZ28)","v":0},null,{"$f":"SUM(Table_B.1!FB28,Table_B.2!FB28)","v":0},null,{"$f":"SUM(Table_B.1!FD28,Table_B.2!FD28)","v":0},null,{"$f":"SUM(Table_B.1!FF28,Table_B.2!FF28)","v":0},null,0,null,{"$f":"SUM(Table_B.1!FJ28,Table_B.2!FJ28)","v":0},null,{"$f":"SUM(Table_B.1!FL28,Table_B.2!FL28)","v":0},null,{"$f":"SUM(Table_B.1!FN28,Table_B.2!FN28)","v":0},null,{"$f":"SUM(Table_B.1!FP28,Table_B.2!FP28)","v":0},null,{"$f":"SUM(Table_B.1!FR28,Table_B.2!FR28)","v":0},null,{"$f":"SUM(Table_B.1!FT28,Table_B.2!FT28)","v":0},null,null,null,0,null,{"$f":"IF(ROUND(SUM(FX28),1)>ROUND(SUM(Table_A!FX28),1),\"Supply < Use\",IF(ROUND(SUM(FX28),1)<ROUND(SUM(Table_A!FX28),1),\"Supply > Use\",\"\"))","v":""},null,null,null,null,null,"P18"]
[null,21,{"$f":"'PEFA rows'!B23","v":2},{"$f":"'PEFA rows'!C23","v":"P19"},{"$f":"'PEFA rows'!D23","v":"Residual fuel oil"},null,null,0,null,0,null,{"$f":"SUM(Table_B.1!L29,Table_B.2!L29)","v":0},null,{"$f":"SUM(Table_B.1!N29,Table_B.2!N29)","v":0},null,{"$f":"SUM(Table_B.1!P29,Table_B.2!P29)","v":0},null,{"$f":"SUM(Table_B.1!R29,Table_B.2!R29)","v":0},null,0,null,{"$f":"SUM(Table_B.1!V29,Table_B.2!V29)","v":0},null,{"$f":"SUM(Table_B.1!X29,Table_B.2!X29)","v":0},null,{"$f":"SUM(Table_B.1!Z29,Table_B.2!Z29)","v":0},null,{"$f":"SUM(Table_B.1!AB29,Table_B.2!AB29)","v":0},null,{"$f":"SUM(Table_B.1!AD29,Table_B.2!AD29)","v":0},null,{"$f":"SUM(Table_B.1!AF29,Table_B.2!AF29)","v":0},null,{"$f":"SUM(Table_B.1!AH29,Table_B.2!AH29)","v":0},null,{"$f":"SUM(Table_B.1!AJ29,Table_B.2!AJ29)","v":0},null,{"$f":"SUM(Table_B.1!AL29,Table_B.2!AL29)","v":0},null,{"$f":"SUM(Table_B.1!AN29,Table_B.2!AN29)","v":0},null,{"$f":"SUM(Table_B.1!AP29,Table_B.2!AP29)","v":0},null,{"$f":"SUM(Table_B.1!AR29,Table_B.2!AR29)","v":0},null,{"$f":"SUM(Table_B.1!AT29,Table_B.2!AT29)","v":0},null,{"$f":"SUM(Table_B.1!AV29,Table_B.2!AV29)","v":0},null,{"$f":"SUM(Table_B.1!AX29,Table_B.2!AX29)","v":0},null,{"$f":"SUM(Table_B.1!AZ29,Table_B.2!AZ29)","v":0},null,{"$f":"SUM(Table_B.1!BB29,Table_B.2!BB29)","v":0},null,{"$f":"SUM(Table_B.1!BD29,Table_B.2!BD29)","v":0},null,{"$f":"SUM(Table_B.1!BF29,Table_B.2!BF29)","v":0},null,{"$f":"SUM(Table_B.1!BH29,Table_B.2!BH29)","v":0},null,0,null,{"$f":"SUM(Table_B.1!BL29,Table_B.2!BL29)","v":0},null,{"$f":"SUM(Table_B.1!BN29,Table_B.2!BN29)","v":0},null,{"$f":"SUM(Table_B.1!BP29,Table_B.2!BP29)","v":0},null,0,null,{"$f":"SUM(Table_B.1!BT29,Table_B.2!BT29)","v":0},null,{"$f":"SUM(Table_B.1!BV29,Table_B.2!BV29)","v":0},null,{"$f":"SUM(Table_B.1!BX29,Table_B.2!BX29)","v":0},null,0,null,{"$f":"SUM(Table_B.1!CB29,Table_B.2!CB29)","v":0},null,{"$f":"SUM(Table_B.1!CD29,Table_B.2!CD29)","v":0},null,{"$f":"SUM(Table_B.1!CF29,Table_B.2!CF29)","v":0},null,{"$f":"SUM(Table_B.1!CH29,Table_B.2!CH29)","v":0},null,{"$f":"SUM(Table_B.1!CJ29,Table_B.2!CJ29)","v":0},null,{"$f":"SUM(Table_B.1!CL29,Table_B.2!CL29)","v":0},null,0,null,{"$f":"SUM(Table_B.1!CP29,Table_B.2!CP29)","v":0},null,{"$f":"SUM(Table_B.1!CR29,Table_B.2!CR29)","v":0},null,{"$f":"SUM(Table_B.1!CT29,Table_B.2!CT29)","v":0},null,{"$f":"SUM(Table_B.1!CV29,Table_B.2!CV29)","v":0},null,0,null,{"$f":"SUM(Table_B.1!CZ29,Table_B.2!CZ29)","v":0},null,{"$f":"SUM(Table_B.1!DB29,Table_B.2!DB29)","v":0},null,{"$f":"SUM(Table_B.1!DD29,Table_B.2!DD29)","v":0},null,{"$f":"SUM(Table_B.1!DF29,Table_B.2!DF29)","v":0},null,{"$f":"SUM(Table_B.1!DH29,Table_B.2!DH29)","v":0},null,0,null,{"$f":"SUM(Table_B.1!DL29,Table_B.2!DL29)","v":0},null,{"$f":"SUM(Table_B.1!DN29,Table_B.2!DN29)","v":0},null,{"$f":"SUM(Table_B.1!DP29,Table_B.2!DP29)","v":0},null,{"$f":"SUM(Table_B.1!DR29,Table_B.2!DR29)","v":0},null,{"$f":"SUM(Table_B.1!DT29,Table_B.2!DT29)","v":0},null,0,null,{"$f":"SUM(Table_B.1!DX29,Table_B.2!DX29)","v":0},null,{"$f":"SUM(Table_B.1!DZ29,Table_B.2!DZ29)","v":0},null,{"$f":"SUM(Table_B.1!EB29,Table_B.2!EB29)","v":0},null,{"$f":"SUM(Table_B.1!ED29,Table_B.2!ED29)","v":0},null,{"$f":"SUM(Table_B.1!EF29,Table_B.2!EF29)","v":0},null,{"$f":"SUM(Table_B.1!EH29,Table_B.2!EH29)","v":0},null,0,null,{"$f":"SUM(Table_B.1!EL29,Table_B.2!EL29)","v":0},null,{"$f":"SUM(Table_B.1!EN29,Table_B.2!EN29)","v":0},null,0,null,{"$f":"SUM(Table_B.1!ER29,Table_B.2!ER29)","v":0},null,{"$f":"SUM(Table_B.1!ET29,Table_B.2!ET29)","v":0},null,0,null,{"$f":"SUM(Table_B.1!EX29,Table_B.2!EX29)","v":0},null,{"$f":"SUM(Table_B.1!EZ29,Table_B.2!EZ29)","v":0},null,{"$f":"SUM(Table_B.1!FB29,Table_B.2!FB29)","v":0},null,{"$f":"SUM(Table_B.1!FD29,Table_B.2!FD29)","v":0},null,{"$f":"SUM(Table_B.1!FF29,Table_B.2!FF29)","v":0},null,0,null,{"$f":"SUM(Table_B.1!FJ29,Table_B.2!FJ29)","v":0},null,{"$f":"SUM(Table_B.1!FL29,Table_B.2!FL29)","v":0},null,{"$f":"SUM(Table_B.1!FN29,Table_B.2!FN29)","v":0},null,{"$f":"SUM(Table_B.1!FP29,Table_B.2!FP29)","v":0},null,{"$f":"SUM(Table_B.1!FR29,Table_B.2!FR29)","v":0},null,{"$f":"SUM(Table_B.1!FT29,Table_B.2!FT29)","v":0},null,null,null,0,null,{"$f":"IF(ROUND(SUM(FX29),1)>ROUND(SUM(Table_A!FX29),1),\"Supply < Use\",IF(ROUND(SUM(FX29),1)<ROUND(SUM(Table_A!FX29),1),\"Supply > Use\",\"\"))","v":""},null,null,null,null,null,"P19"]
[null,22,{"$f":"'PEFA rows'!B24","v":2},{"$f":"'PEFA rows'!C24","v":"P20"},{"$f":"'PEFA rows'!D24","v":"Refinery gas, ethane and LPG"},null,null,0,null,0,null,{"$f":"SUM(Table_B.1!L30,Table_B.2!L30)","v":0},null,{"$f":"SUM(Table_B.1!N30,Table_B.2!N30)","v":0},null,{"$f":"SUM(Table_B.1!P30,Table_B.2!P30)","v":0},null,{"$f":"SUM(Table_B.1!R30,Table_B.2!R30)","v":0},null,0,null,{"$f":"SUM(Table_B.1!V30,Table_B.2!V30)","v":0},null,{"$f":"SUM(Table_B.1!X30,Table_B.2!X30)","v":0},null,{"$f":"SUM(Table_B.1!Z30,Table_B.2!Z30)","v":0},null,{"$f":"SUM(Table_B.1!AB30,Table_B.2!AB30)","v":0},null,{"$f":"SUM(Table_B.1!AD30,Table_B.2!AD30)","v":0},null,{"$f":"SUM(Table_B.1!AF30,Table_B.2!AF30)","v":0},null,{"$f":"SUM(Table_B.1!AH30,Table_B.2!AH30)","v":0},null,{"$f":"SUM(Table_B.1!AJ30,Table_B.2!AJ30)","v":0},null,{"$f":"SUM(Table_B.1!AL30,Table_B.2!AL30)","v":0},null,{"$f":"SUM(Table_B.1!AN30,Table_B.2!AN30)","v":0},null,{"$f":"SUM(Table_B.1!AP30,Table_B.2!AP30)","v":0},null,{"$f":"SUM(Table_B.1!AR30,Table_B.2!AR30)","v":0},null,{"$f":"SUM(Table_B.1!AT30,Table_B.2!AT30)","v":0},null,{"$f":"SUM(Table_B.1!AV30,Table_B.2!AV30)","v":0},null,{"$f":"SUM(Table_B.1!AX30,Table_B.2!AX30)","v":0},null,{"$f":"SUM(Table_B.1!AZ30,Table_B.2!AZ30)","v":0},null,{"$f":"SUM(Table_B.1!BB30,Table_B.2!BB30)","v":0},null,{"$f":"SUM(Table_B.1!BD30,Table_B.2!BD30)","v":0},null,{"$f":"SUM(Table_B.1!BF30,Table_B.2!BF30)","v":0},null,{"$f":"SUM(Table_B.1!BH30,Table_B.2!BH30)","v":0},null,0,null,{"$f":"SUM(Table_B.1!BL30,Table_B.2!BL30)","v":0},null,{"$f":"SUM(Table_B.1!BN30,Table_B.2!BN30)","v":0},null,{"$f":"SUM(Table_B.1!BP30,Table_B.2!BP30)","v":0},null,0,null,{"$f":"SUM(Table_B.1!BT30,Table_B.2!BT30)","v":0},null,{"$f":"SUM(Table_B.1!BV30,Table_B.2!BV30)","v":0},null,{"$f":"SUM(Table_B.1!BX30,Table_B.2!BX30)","v":0},null,0,null,{"$f":"SUM(Table_B.1!CB30,Table_B.2!CB30)","v":0},null,{"$f":"SUM(Table_B.1!CD30,Table_B.2!CD30)","v":0},null,{"$f":"SUM(Table_B.1!CF30,Table_B.2!CF30)","v":0},null,{"$f":"SUM(Table_B.1!CH30,Table_B.2!CH30)","v":0},null,{"$f":"SUM(Table_B.1!CJ30,Table_B.2!CJ30)","v":0},null,{"$f":"SUM(Table_B.1!CL30,Table_B.2!CL30)","v":0},null,0,null,{"$f":"SUM(Table_B.1!CP30,Table_B.2!CP30)","v":0},null,{"$f":"SUM(Table_B.1!CR30,Table_B.2!CR30)","v":0},null,{"$f":"SUM(Table_B.1!CT30,Table_B.2!CT30)","v":0},null,{"$f":"SUM(Table_B.1!CV30,Table_B.2!CV30)","v":0},null,0,null,{"$f":"SUM(Table_B.1!CZ30,Table_B.2!CZ30)","v":0},null,{"$f":"SUM(Table_B.1!DB30,Table_B.2!DB30)","v":0},null,{"$f":"SUM(Table_B.1!DD30,Table_B.2!DD30)","v":0},null,{"$f":"SUM(Table_B.1!DF30,Table_B.2!DF30)","v":0},null,{"$f":"SUM(Table_B.1!DH30,Table_B.2!DH30)","v":0},null,0,null,{"$f":"SUM(Table_B.1!DL30,Table_B.2!DL30)","v":0},null,{"$f":"SUM(Table_B.1!DN30,Table_B.2!DN30)","v":0},null,{"$f":"SUM(Table_B.1!DP30,Table_B.2!DP30)","v":0},null,{"$f":"SUM(Table_B.1!DR30,Table_B.2!DR30)","v":0},null,{"$f":"SUM(Table_B.1!DT30,Table_B.2!DT30)","v":0},null,0,null,{"$f":"SUM(Table_B.1!DX30,Table_B.2!DX30)","v":0},null,{"$f":"SUM(Table_B.1!DZ30,Table_B.2!DZ30)","v":0},null,{"$f":"SUM(Table_B.1!EB30,Table_B.2!EB30)","v":0},null,{"$f":"SUM(Table_B.1!ED30,Table_B.2!ED30)","v":0},null,{"$f":"SUM(Table_B.1!EF30,Table_B.2!EF30)","v":0},null,{"$f":"SUM(Table_B.1!EH30,Table_B.2!EH30)","v":0},null,0,null,{"$f":"SUM(Table_B.1!EL30,Table_B.2!EL30)","v":0},null,{"$f":"SUM(Table_B.1!EN30,Table_B.2!EN30)","v":0},null,0,null,{"$f":"SUM(Table_B.1!ER30,Table_B.2!ER30)","v":0},null,{"$f":"SUM(Table_B.1!ET30,Table_B.2!ET30)","v":0},null,0,null,{"$f":"SUM(Table_B.1!EX30,Table_B.2!EX30)","v":0},null,{"$f":"SUM(Table_B.1!EZ30,Table_B.2!EZ30)","v":0},null,{"$f":"SUM(Table_B.1!FB30,Table_B.2!FB30)","v":0},null,{"$f":"SUM(Table_B.1!FD30,Table_B.2!FD30)","v":0},null,{"$f":"SUM(Table_B.1!FF30,Table_B.2!FF30)","v":0},null,0,null,{"$f":"SUM(Table_B.1!FJ30,Table_B.2!FJ30)","v":0},null,{"$f":"SUM(Table_B.1!FL30,Table_B.2!FL30)","v":0},null,{"$f":"SUM(Table_B.1!FN30,Table_B.2!FN30)","v":0},null,{"$f":"SUM(Table_B.1!FP30,Table_B.2!FP30)","v":0},null,{"$f":"SUM(Table_B.1!FR30,Table_B.2!FR30)","v":0},null,{"$f":"SUM(Table_B.1!FT30,Table_B.2!FT30)","v":0},null,null,null,0,null,{"$f":"IF(ROUND(SUM(FX30),1)>ROUND(SUM(Table_A!FX30),1),\"Supply < Use\",IF(ROUND(SUM(FX30),1)<ROUND(SUM(Table_A!FX30),1),\"Supply > Use\",\"\"))","v":""},null,null,null,null,null,"P20"]
[null,23,{"$f":"'PEFA rows'!B25","v":2},{"$f":"'PEFA rows'!C25","v":"P21"},{"$f":"'PEFA rows'!D25","v":"Other petroleum products incl. additives/oxygenates and refinery feedstocks"},null,null,0,null,0,null,{"$f":"SUM(Table_B.1!L31,Table_B.2!L31)","v":0},null,{"$f":"SUM(Table_B.1!N31,Table_B.2!N31)","v":0},null,{"$f":"SUM(Table_B.1!P31,Table_B.2!P31)","v":0},null,{"$f":"SUM(Table_B.1!R31,Table_B.2!R31)","v":0},null,0,null,{"$f":"SUM(Table_B.1!V31,Table_B.2!V31)","v":0},null,{"$f":"SUM(Table_B.1!X31,Table_B.2!X31)","v":0},null,{"$f":"SUM(Table_B.1!Z31,Table_B.2!Z31)","v":0},null,{"$f":"SUM(Table_B.1!AB31,Table_B.2!AB31)","v":0},null,{"$f":"SUM(Table_B.1!AD31,Table_B.2!AD31)","v":0},null,{"$f":"SUM(Table_B.1!AF31,Table_B.2!AF31)","v":0},null,{"$f":"SUM(Table_B.1!AH31,Table_B.2!AH31)","v":0},null,{"$f":"SUM(Table_B.1!AJ31,Table_B.2!AJ31)","v":0},null,{"$f":"SUM(Table_B.1!AL31,Table_B.2!AL31)","v":0},null,{"$f":"SUM(Table_B.1!AN31,Table_B.2!AN31)","v":0},null,{"$f":"SUM(Table_B.1!AP31,Table_B.2!AP31)","v":0},null,{"$f":"SUM(Table_B.1!AR31,Table_B.2!AR31)","v":0},null,{"$f":"SUM(Table_B.1!AT31,Table_B.2!AT31)","v":0},null,{"$f":"SUM(Table_B.1!AV31,Table_B.2!AV31)","v":0},null,{"$f":"SUM(Table_B.1!AX31,Table_B.2!AX31)","v":0},null,{"$f":"SUM(Table_B.1!AZ31,Table_B.2!AZ31)","v":0},null,{"$f":"SUM(Table_B.1!BB31,Table_B.2!BB31)","v":0},null,{"$f":"SUM(Table_B.1!BD31,Table_B.2!BD31)","v":0},null,{"$f":"SUM(Table_B.1!BF31,Table_B.2!BF31)","v":0},null,{"$f":"SUM(Table_B.1!BH31,Table_B.2!BH31)","v":0},null,0,null,{"$f":"SUM(Table_B.1!BL31,Table_B.2!BL31)","v":0},null,{"$f":"SUM(Table_B.1!BN31,Table_B.2!BN31)","v":0},null,{"$f":"SUM(Table_B.1!BP31,Table_B.2!BP31)","v":0},null,0,null,{"$f":"SUM(Table_B.1!BT31,Table_B.2!BT31)","v":0},null,{"$f":"SUM(Table_B.1!BV31,Table_B.2!BV31)","v":0},null,{"$f":"SUM(Table_B.1!BX31,Table_B.2!BX31)","v":0},null,0,null,{"$f":"SUM(Table_B.1!CB31,Table_B.2!CB31)","v":0},null,{"$f":"SUM(Table_B.1!CD31,Table_B.2!CD31)","v":0},null,{"$f":"SUM(Table_B.1!CF31,Table_B.2!CF31)","v":0},null,{"$f":"SUM(Table_B.1!CH31,Table_B.2!CH31)","v":0},null,{"$f":"SUM(Table_B.1!CJ31,Table_B.2!CJ31)","v":0},null,{"$f":"SUM(Table_B.1!CL31,Table_B.2!CL31)","v":0},null,0,null,{"$f":"SUM(Table_B.1!CP31,Table_B.2!CP31)","v":0},null,{"$f":"SUM(Table_B.1!CR31,Table_B.2!CR31)","v":0},null,{"$f":"SUM(Table_B.1!CT31,Table_B.2!CT31)","v":0},null,{"$f":"SUM(Table_B.1!CV31,Table_B.2!CV31)","v":0},null,0,null,{"$f":"SUM(Table_B.1!CZ31,Table_B.2!CZ31)","v":0},null,{"$f":"SUM(Table_B.1!DB31,Table_B.2!DB31)","v":0},null,{"$f":"SUM(Table_B.1!DD31,Table_B.2!DD31)","v":0},null,{"$f":"SUM(Table_B.1!DF31,Table_B.2!DF31)","v":0},null,{"$f":"SUM(Table_B.1!DH31,Table_B.2!DH31)","v":0},null,0,null,{"$f":"SUM(Table_B.1!DL31,Table_B.2!DL31)","v":0},null,{"$f":"SUM(Table_B.1!DN31,Table_B.2!DN31)","v":0},null,{"$f":"SUM(Table_B.1!DP31,Table_B.2!DP31)","v":0},null,{"$f":"SUM(Table_B.1!DR31,Table_B.2!DR31)","v":0},null,{"$f":"SUM(Table_B.1!DT31,Table_B.2!DT31)","v":0},null,0,null,{"$f":"SUM(Table_B.1!DX31,Table_B.2!DX31)","v":0},null,{"$f":"SUM(Table_B.1!DZ31,Table_B.2!DZ31)","v":0},null,{"$f":"SUM(Table_B.1!EB31,Table_B.2!EB31)","v":0},null,{"$f":"SUM(Table_B.1!ED31,Table_B.2!ED31)","v":0},null,{"$f":"SUM(Table_B.1!EF31,Table_B.2!EF31)","v":0},null,{"$f":"SUM(Table_B.1!EH31,Table_B.2!EH31)","v":0},null,0,null,{"$f":"SUM(Table_B.1!EL31,Table_B.2!EL31)","v":0},null,{"$f":"SUM(Table_B.1!EN31,Table_B.2!EN31)","v":0},null,0,null,{"$f":"SUM(Table_B.1!ER31,Table_B.2!ER31)","v":0},null,{"$f":"SUM(Table_B.1!ET31,Table_B.2!ET31)","v":0},null,0,null,{"$f":"SUM(Table_B.1!EX31,Table_B.2!EX31)","v":0},null,{"$f":"SUM(Table_B.1!EZ31,Table_B.2!EZ31)","v":0},null,{"$f":"SUM(Table_B.1!FB31,Table_B.2!FB31)","v":0},null,{"$f":"SUM(Table_B.1!FD31,Table_B.2!FD31)","v":0},null,{"$f":"SUM(Table_B.1!FF31,Table_B.2!FF31)","v":0},null,0,null,{"$f":"SUM(Table_B.1!FJ31,Table_B.2!FJ31)","v":0},null,{"$f":"SUM(Table_B.1!FL31,Table_B.2!FL31)","v":0},null,{"$f":"SUM(Table_B.1!FN31,Table_B.2!FN31)","v":0},null,{"$f":"SUM(Table_B.1!FP31,Table_B.2!FP31)","v":0},null,{"$f":"SUM(Table_B.1!FR31,Table_B.2!FR31)","v":0},null,{"$f":"SUM(Table_B.1!FT31,Table_B.2!FT31)","v":0},null,null,null,0,null,{"$f":"IF(ROUND(SUM(FX31),1)>ROUND(SUM(Table_A!FX31),1),\"Supply < Use\",IF(ROUND(SUM(FX31),1)<ROUND(SUM(Table_A!FX31),1),\"Supply > Use\",\"\"))","v":""},null,null,null,null,null,"P21"]
[null,24,{"$f":"'PEFA rows'!B26","v":2},{"$f":"'PEFA rows'!C26","v":"P22"},{"$f":"'PEFA rows'!D26","v":"Nuclear fuel"},null,null,0,null,0,null,{"$f":"SUM(Table_B.1!L32,Table_B.2!L32)","v":0},null,{"$f":"SUM(Table_B.1!N32,Table_B.2!N32)","v":0},null,{"$f":"SUM(Table_B.1!P32,Table_B.2!P32)","v":0},null,{"$f":"SUM(Table_B.1!R32,Table_B.2!R32)","v":0},null,0,null,{"$f":"SUM(Table_B.1!V32,Table_B.2!V32)","v":0},null,{"$f":"SUM(Table_B.1!X32,Table_B.2!X32)","v":0},null,{"$f":"SUM(Table_B.1!Z32,Table_B.2!Z32)","v":0},null,{"$f":"SUM(Table_B.1!AB32,Table_B.2!AB32)","v":0},null,{"$f":"SUM(Table_B.1!AD32,Table_B.2!AD32)","v":0},null,{"$f":"SUM(Table_B.1!AF32,Table_B.2!AF32)","v":0},null,{"$f":"SUM(Table_B.1!AH32,Table_B.2!AH32)","v":0},null,{"$f":"SUM(Table_B.1!AJ32,Table_B.2!AJ32)","v":0},null,{"$f":"SUM(Table_B.1!AL32,Table_B.2!AL32)","v":0},null,{"$f":"SUM(Table_B.1!AN32,Table_B.2!AN32)","v":0},null,{"$f":"SUM(Table_B.1!AP32,Table_B.2!AP32)","v":0},null,{"$f":"SUM(Table_B.1!AR32,Table_B.2!AR32)","v":0},null,{"$f":"SUM(Table_B.1!AT32,Table_B.2!AT32)","v":0},null,{"$f":"SUM(Table_B.1!AV32,Table_B.2!AV32)","v":0},null,{"$f":"SUM(Table_B.1!AX32,Table_B.2!AX32)","v":0},null,{"$f":"SUM(Table_B.1!AZ32,Table_B.2!AZ32)","v":0},null,{"$f":"SUM(Table_B.1!BB32,Table_B.2!BB32)","v":0},null,{"$f":"SUM(Table_B.1!BD32,Table_B.2!BD32)","v":0},null,{"$f":"SUM(Table_B.1!BF32,Table_B.2!BF32)","v":0},null,{"$f":"SUM(Table_B.1!BH32,Table_B.2!BH32)","v":0},null,0,null,{"$f":"SUM(Table_B.1!BL32,Table_B.2!BL32)","v":0},null,{"$f":"SUM(Table_B.1!BN32,Table_B.2!BN32)","v":0},null,{"$f":"SUM(Table_B.1!BP32,Table_B.2!BP32)","v":0},null,0,null,{"$f":"SUM(Table_B.1!BT32,Table_B.2!BT32)","v":0},null,{"$f":"SUM(Table_B.1!BV32,Table_B.2!BV32)","v":0},null,{"$f":"SUM(Table_B.1!BX32,Table_B.2!BX32)","v":0},null,0,null,{"$f":"SUM(Table_B.1!CB32,Table_B.2!CB32)","v":0},null,{"$f":"SUM(Table_B.1!CD32,Table_B.2!CD32)","v":0},null,{"$f":"SUM(Table_B.1!CF32,Table_B.2!CF32)","v":0},null,{"$f":"SUM(Table_B.1!CH32,Table_B.2!CH32)","v":0},null,{"$f":"SUM(Table_B.1!CJ32,Table_B.2!CJ32)","v":0},null,{"$f":"SUM(Table_B.1!CL32,Table_B.2!CL32)","v":0},null,0,null,{"$f":"SUM(Table_B.1!CP32,Table_B.2!CP32)","v":0},null,{"$f":"SUM(Table_B.1!CR32,Table_B.2!CR32)","v":0},null,{"$f":"SUM(Table_B.1!CT32,Table_B.2!CT32)","v":0},null,{"$f":"SUM(Table_B.1!CV32,Table_B.2!CV32)","v":0},null,0,null,{"$f":"SUM(Table_B.1!CZ32,Table_B.2!CZ32)","v":0},null,{"$f":"SUM(Table_B.1!DB32,Table_B.2!DB32)","v":0},null,{"$f":"SUM(Table_B.1!DD32,Table_B.2!DD32)","v":0},null,{"$f":"SUM(Table_B.1!DF32,Table_B.2!DF32)","v":0},null,{"$f":"SUM(Table_B.1!DH32,Table_B.2!DH32)","v":0},null,0,null,{"$f":"SUM(Table_B.1!DL32,Table_B.2!DL32)","v":0},null,{"$f":"SUM(Table_B.1!DN32,Table_B.2!DN32)","v":0},null,{"$f":"SUM(Table_B.1!DP32,Table_B.2!DP32)","v":0},null,{"$f":"SUM(Table_B.1!DR32,Table_B.2!DR32)","v":0},null,{"$f":"SUM(Table_B.1!DT32,Table_B.2!DT32)","v":0},null,0,null,{"$f":"SUM(Table_B.1!DX32,Table_B.2!DX32)","v":0},null,{"$f":"SUM(Table_B.1!DZ32,Table_B.2!DZ32)","v":0},null,{"$f":"SUM(Table_B.1!EB32,Table_B.2!EB32)","v":0},null,{"$f":"SUM(Table_B.1!ED32,Table_B.2!ED32)","v":0},null,{"$f":"SUM(Table_B.1!EF32,Table_B.2!EF32)","v":0},null,{"$f":"SUM(Table_B.1!EH32,Table_B.2!EH32)","v":0},null,0,null,{"$f":"SUM(Table_B.1!EL32,Table_B.2!EL32)","v":0},null,{"$f":"SUM(Table_B.1!EN32,Table_B.2!EN32)","v":0},null,0,null,{"$f":"SUM(Table_B.1!ER32,Table_B.2!ER32)","v":0},null,{"$f":"SUM(Table_B.1!ET32,Table_B.2!ET32)","v":0},null,0,null,{"$f":"SUM(Table_B.1!EX32,Table_B.2!EX32)","v":0},null,{"$f":"SUM(Table_B.1!EZ32,Table_B.2!EZ32)","v":0},null,{"$f":"SUM(Table_B.1!FB32,Table_B.2!FB32)","v":0},null,{"$f":"SUM(Table_B.1!FD32,Table_B.2!FD32)","v":0},null,{"$f":"SUM(Table_B.1!FF32,Table_B.2!FF32)","v":0},null,0,null,{"$f":"SUM(Table_B.1!FJ32,Table_B.2!FJ32)","v":0},null,{"$f":"SUM(Table_B.1!FL32,Table_B.2!FL32)","v":0},null,{"$f":"SUM(Table_B.1!FN32,Table_B.2!FN32)","v":0},null,{"$f":"SUM(Table_B.1!FP32,Table_B.2!FP32)","v":0},null,{"$f":"SUM(Table_B.1!FR32,Table_B.2!FR32)","v":0},null,{"$f":"SUM(Table_B.1!FT32,Table_B.2!FT32)","v":0},null,null,null,0,null,{"$f":"IF(ROUND(SUM(FX32),1)>ROUND(SUM(Table_A!FX32),1),\"Supply < Use\",IF(ROUND(SUM(FX32),1)<ROUND(SUM(Table_A!FX32),1),\"Supply > Use\",\"\"))","v":""},null,null,null,null,null,"P22"]
[null,25,{"$f":"'PEFA rows'!B27","v":2},{"$f":"'PEFA rows'!C27","v":"P23"},{"$f":"'PEFA rows'!D27","v":"Wood, wood waste and other solid biomass, charcoal"},null,null,0,null,0,null,{"$f":"SUM(Table_B.1!L33,Table_B.2!L33)","v":0},null,{"$f":"SUM(Table_B.1!N33,Table_B.2!N33)","v":0},null,{"$f":"SUM(Table_B.1!P33,Table_B.2!P33)","v":0},null,{"$f":"SUM(Table_B.1!R33,Table_B.2!R33)","v":0},null,0,null,{"$f":"SUM(Table_B.1!V33,Table_B.2!V33)","v":0},null,{"$f":"SUM(Table_B.1!X33,Table_B.2!X33)","v":0},null,{"$f":"SUM(Table_B.1!Z33,Table_B.2!Z33)","v":0},null,{"$f":"SUM(Table_B.1!AB33,Table_B.2!AB33)","v":0},null,{"$f":"SUM(Table_B.1!AD33,Table_B.2!AD33)","v":0},null,{"$f":"SUM(Table_B.1!AF33,Table_B.2!AF33)","v":0},null,{"$f":"SUM(Table_B.1!AH33,Table_B.2!AH33)","v":0},null,{"$f":"SUM(Table_B.1!AJ33,Table_B.2!AJ33)","v":0},null,{"$f":"SUM(Table_B.1!AL33,Table_B.2!AL33)","v":0},null,{"$f":"SUM(Table_B.1!AN33,Table_B.2!AN33)","v":0},null,{"$f":"SUM(Table_B.1!AP33,Table_B.2!AP33)","v":0},null,{"$f":"SUM(Table_B.1!AR33,Table_B.2!AR33)","v":0},null,{"$f":"SUM(Table_B.1!AT33,Table_B.2!AT33)","v":0},null,{"$f":"SUM(Table_B.1!AV33,Table_B.2!AV33)","v":0},null,{"$f":"SUM(Table_B.1!AX33,Table_B.2!AX33)","v":0},null,{"$f":"SUM(Table_B.1!AZ33,Table_B.2!AZ33)","v":0},null,{"$f":"SUM(Table_B.1!BB33,Table_B.2!BB33)","v":0},null,{"$f":"SUM(Table_B.1!BD33,Table_B.2!BD33)","v":0},null,{"$f":"SUM(Table_B.1!BF33,Table_B.2!BF33)","v":0},null,{"$f":"SUM(Table_B.1!BH33,Table_B.2!BH33)","v":0},null,0,null,{"$f":"SUM(Table_B.1!BL33,Table_B.2!BL33)","v":0},null,{"$f":"SUM(Table_B.1!BN33,Table_B.2!BN33)","v":0},null,{"$f":"SUM(Table_B.1!BP33,Table_B.2!BP33)","v":0},null,0,null,{"$f":"SUM(Table_B.1!BT33,Table_B.2!BT33)","v":0},null,{"$f":"SUM(Table_B.1!BV33,Table_B.2!BV33)","v":0},null,{"$f":"SUM(Table_B.1!BX33,Table_B.2!BX33)","v":0},null,0,null,{"$f":"SUM(Table_B.1!CB33,Table_B.2!CB33)","v":0},null,{"$f":"SUM(Table_B.1!CD33,Table_B.2!CD33)","v":0},null,{"$f":"SUM(Table_B.1!CF33,Table_B.2!CF33)","v":0},null,{"$f":"SUM(Table_B.1!CH33,Table_B.2!CH33)","v":0},null,{"$f":"SUM(Table_B.1!CJ33,Table_B.2!CJ33)","v":0},null,{"$f":"SUM(Table_B.1!CL33,Table_B.2!CL33)","v":0},null,0,null,{"$f":"SUM(Table_B.1!CP33,Table_B.2!CP33)","v":0},null,{"$f":"SUM(Table_B.1!CR33,Table_B.2!CR33)","v":0},null,{"$f":"SUM(Table_B.1!CT33,Table_B.2!CT33)","v":0},null,{"$f":"SUM(Table_B.1!CV33,Table_B.2!CV33)","v":0},null,0,null,{"$f":"SUM(Table_B.1!CZ33,Table_B.2!CZ33)","v":0},null,{"$f":"SUM(Table_B.1!DB33,Table_B.2!DB33)","v":0},null,{"$f":"SUM(Table_B.1!DD33,Table_B.2!DD33)","v":0},null,{"$f":"SUM(Table_B.1!DF33,Table_B.2!DF33)","v":0},null,{"$f":"SUM(Table_B.1!DH33,Table_B.2!DH33)","v":0},null,0,null,{"$f":"SUM(Table_B.1!DL33,Table_B.2!DL33)","v":0},null,{"$f":"SUM(Table_B.1!DN33,Table_B.2!DN33)","v":0},null,{"$f":"SUM(Table_B.1!DP33,Table_B.2!DP33)","v":0},null,{"$f":"SUM(Table_B.1!DR33,Table_B.2!DR33)","v":0},null,{"$f":"SUM(Table_B.1!DT33,Table_B.2!DT33)","v":0},null,0,null,{"$f":"SUM(Table_B.1!DX33,Table_B.2!DX33)","v":0},null,{"$f":"SUM(Table_B.1!DZ33,Table_B.2!DZ33)","v":0},null,{"$f":"SUM(Table_B.1!EB33,Table_B.2!EB33)","v":0},null,{"$f":"SUM(Table_B.1!ED33,Table_B.2!ED33)","v":0},null,{"$f":"SUM(Table_B.1!EF33,Table_B.2!EF33)","v":0},null,{"$f":"SUM(Table_B.1!EH33,Table_B.2!EH33)","v":0},null,0,null,{"$f":"SUM(Table_B.1!EL33,Table_B.2!EL33)","v":0},null,{"$f":"SUM(Table_B.1!EN33,Table_B.2!EN33)","v":0},null,0,null,{"$f":"SUM(Table_B.1!ER33,Table_B.2!ER33)","v":0},null,{"$f":"SUM(Table_B.1!ET33,Table_B.2!ET33)","v":0},null,0,null,{"$f":"SUM(Table_B.1!EX33,Table_B.2!EX33)","v":0},null,{"$f":"SUM(Table_B.1!EZ33,Table_B.2!EZ33)","v":0},null,{"$f":"SUM(Table_B.1!FB33,Table_B.2!FB33)","v":0},null,{"$f":"SUM(Table_B.1!FD33,Table_B.2!FD33)","v":0},null,{"$f":"SUM(Table_B.1!FF33,Table_B.2!FF33)","v":0},null,0,null,{"$f":"SUM(Table_B.1!FJ33,Table_B.2!FJ33)","v":0},null,{"$f":"SUM(Table_B.1!FL33,Table_B.2!FL33)","v":0},null,{"$f":"SUM(Table_B.1!FN33,Table_B.2!FN33)","v":0},null,{"$f":"SUM(Table_B.1!FP33,Table_B.2!FP33)","v":0},null,{"$f":"SUM(Table_B.1!FR33,Table_B.2!FR33)","v":0},null,{"$f":"SUM(Table_B.1!FT33,Table_B.2!FT33)","v":0},null,null,null,0,null,{"$f":"IF(ROUND(SUM(FX33),1)>ROUND(SUM(Table_A!FX33),1),\"Supply < Use\",IF(ROUND(SUM(FX33),1)<ROUND(SUM(Table_A!FX33),1),\"Supply > Use\",\"\"))","v":""},null,null,null,null,null,"P23"]
[null,26,{"$f":"'PEFA rows'!B28","v":2},{"$f":"'PEFA rows'!C28","v":"P24"},{"$f":"'PEFA rows'!D28","v":"Liquid biofuels"},null,null,0,null,0,null,{"$f":"SUM(Table_B.1!L34,Table_B.2!L34)","v":0},null,{"$f":"SUM(Table_B.1!N34,Table_B.2!N34)","v":0},null,{"$f":"SUM(Table_B.1!P34,Table_B.2!P34)","v":0},null,{"$f":"SUM(Table_B.1!R34,Table_B.2!R34)","v":0},null,0,null,{"$f":"SUM(Table_B.1!V34,Table_B.2!V34)","v":0},null,{"$f":"SUM(Table_B.1!X34,Table_B.2!X34)","v":0},null,{"$f":"SUM(Table_B.1!Z34,Table_B.2!Z34)","v":0},null,{"$f":"SUM(Table_B.1!AB34,Table_B.2!AB34)","v":0},null,{"$f":"SUM(Table_B.1!AD34,Table_B.2!AD34)","v":0},null,{"$f":"SUM(Table_B.1!AF34,Table_B.2!AF34)","v":0},null,{"$f":"SUM(Table_B.1!AH34,Table_B.2!AH34)","v":0},null,{"$f":"SUM(Table_B.1!AJ34,Table_B.2!AJ34)","v":0},null,{"$f":"SUM(Table_B.1!AL34,Table_B.2!AL34)","v":0},null,{"$f":"SUM(Table_B.1!AN34,Table_B.2!AN34)","v":0},null,{"$f":"SUM(Table_B.1!AP34,Table_B.2!AP34)","v":0},null,{"$f":"SUM(Table_B.1!AR34,Table_B.2!AR34)","v":0},null,{"$f":"SUM(Table_B.1!AT34,Table_B.2!AT34)","v":0},null,{"$f":"SUM(Table_B.1!AV34,Table_B.2!AV34)","v":0},null,{"$f":"SUM(Table_B.1!AX34,Table_B.2!AX34)","v":0},null,{"$f":"SUM(Table_B.1!AZ34,Table_B.2!AZ34)","v":0},null,{"$f":"SUM(Table_B.1!BB34,Table_B.2!BB34)","v":0},null,{"$f":"SUM(Table_B.1!BD34,Table_B.2!BD34)","v":0},null,{"$f":"SUM(Table_B.1!BF34,Table_B.2!BF34)","v":0},null,{"$f":"SUM(Table_B.1!BH34,Table_B.2!BH34)","v":0},null,0,null,{"$f":"SUM(Table_B.1!BL34,Table_B.2!BL34)","v":0},null,{"$f":"SUM(Table_B.1!BN34,Table_B.2!BN34)","v":0},null,{"$f":"SUM(Table_B.1!BP34,Table_B.2!BP34)","v":0},null,0,null,{"$f":"SUM(Table_B.1!BT34,Table_B.2!BT34)","v":0},null,{"$f":"SUM(Table_B.1!BV34,Table_B.2!BV34)","v":0},null,{"$f":"SUM(Table_B.1!BX34,Table_B.2!BX34)","v":0},null,0,null,{"$f":"SUM(Table_B.1!CB34,Table_B.2!CB34)","v":0},null,{"$f":"SUM(Table_B.1!CD34,Table_B.2!CD34)","v":0},null,{"$f":"SUM(Table_B.1!CF34,Table_B.2!CF34)","v":0},null,{"$f":"SUM(Table_B.1!CH34,Table_B.2!CH34)","v":0},null,{"$f":"SUM(Table_B.1!CJ34,Table_B.2!CJ34)","v":0},null,{"$f":"SUM(Table_B.1!CL34,Table_B.2!CL34)","v":0},null,0,null,{"$f":"SUM(Table_B.1!CP34,Table_B.2!CP34)","v":0},null,{"$f":"SUM(Table_B.1!CR34,Table_B.2!CR34)","v":0},null,{"$f":"SUM(Table_B.1!CT34,Table_B.2!CT34)","v":0},null,{"$f":"SUM(Table_B.1!CV34,Table_B.2!CV34)","v":0},null,0,null,{"$f":"SUM(Table_B.1!CZ34,Table_B.2!CZ34)","v":0},null,{"$f":"SUM(Table_B.1!DB34,Table_B.2!DB34)","v":0},null,{"$f":"SUM(Table_B.1!DD34,Table_B.2!DD34)","v":0},null,{"$f":"SUM(Table_B.1!DF34,Table_B.2!DF34)","v":0},null,{"$f":"SUM(Table_B.1!DH34,Table_B.2!DH34)","v":0},null,0,null,{"$f":"SUM(Table_B.1!DL34,Table_B.2!DL34)","v":0},null,{"$f":"SUM(Table_B.1!DN34,Table_B.2!DN34)","v":0},null,{"$f":"SUM(Table_B.1!DP34,Table_B.2!DP34)","v":0},null,{"$f":"SUM(Table_B.1!DR34,Table_B.2!DR34)","v":0},null,{"$f":"SUM(Table_B.1!DT34,Table_B.2!DT34)","v":0},null,0,null,{"$f":"SUM(Table_B.1!DX34,Table_B.2!DX34)","v":0},null,{"$f":"SUM(Table_B.1!DZ34,Table_B.2!DZ34)","v":0},null,{"$f":"SUM(Table_B.1!EB34,Table_B.2!EB34)","v":0},null,{"$f":"SUM(Table_B.1!ED34,Table_B.2!ED34)","v":0},null,{"$f":"SUM(Table_B.1!EF34,Table_B.2!EF34)","v":0},null,{"$f":"SUM(Table_B.1!EH34,Table_B.2!EH34)","v":0},null,0,null,{"$f":"SUM(Table_B.1!EL34,Table_B.2!EL34)","v":0},null,{"$f":"SUM(Table_B.1!EN34,Table_B.2!EN34)","v":0},null,0,null,{"$f":"SUM(Table_B.1!ER34,Table_B.2!ER34)","v":0},null,{"$f":"SUM(Table_B.1!ET34,Table_B.2!ET34)","v":0},null,0,null,{"$f":"SUM(Table_B.1!EX34,Table_B.2!EX34)","v":0},null,{"$f":"SUM(Table_B.1!EZ34,Table_B.2!EZ34)","v":0},null,{"$f":"SUM(Table_B.1!FB34,Table_B.2!FB34)","v":0},null,{"$f":"SUM(Table_B.1!FD34,Table_B.2!FD34)","v":0},null,{"$f":"SUM(Table_B.1!FF34,Table_B.2!FF34)","v":0},null,0,null,{"$f":"SUM(Table_B.1!FJ34,Table_B.2!FJ34)","v":0},null,{"$f":"SUM(Table_B.1!FL34,Table_B.2!FL34)","v":0},null,{"$f":"SUM(Table_B.1!FN34,Table_B.2!FN34)","v":0},null,{"$f":"SUM(Table_B.1!FP34,Table_B.2!FP34)","v":0},null,{"$f":"SUM(Table_B.1!FR34,Table_B.2!FR34)","v":0},null,{"$f":"SUM(Table_B.1!FT34,Table_B.2!FT34)","v":0},null,null,null,0,null,{"$f":"IF(ROUND(SUM(FX34),1)>ROUND(SUM(Table_A!FX34),1),\"Supply < Use\",IF(ROUND(SUM(FX34),1)<ROUND(SUM(Table_A!FX34),1),\"Supply > Use\",\"\"))","v":""},null,null,null,null,null,"P24"]
[null,27,{"$f":"'PEFA rows'!B29","v":2},{"$f":"'PEFA rows'!C29","v":"P25"},{"$f":"'PEFA rows'!D29","v":"Biogas"},null,null,0,null,0,null,{"$f":"SUM(Table_B.1!L35,Table_B.2!L35)","v":0},null,{"$f":"SUM(Table_B.1!N35,Table_B.2!N35)","v":0},null,{"$f":"SUM(Table_B.1!P35,Table_B.2!P35)","v":0},null,{"$f":"SUM(Table_B.1!R35,Table_B.2!R35)","v":0},null,0,null,{"$f":"SUM(Table_B.1!V35,Table_B.2!V35)","v":0},null,{"$f":"SUM(Table_B.1!X35,Table_B.2!X35)","v":0},null,{"$f":"SUM(Table_B.1!Z35,Table_B.2!Z35)","v":0},null,{"$f":"SUM(Table_B.1!AB35,Table_B.2!AB35)","v":0},null,{"$f":"SUM(Table_B.1!AD35,Table_B.2!AD35)","v":0},null,{"$f":"SUM(Table_B.1!AF35,Table_B.2!AF35)","v":0},null,{"$f":"SUM(Table_B.1!AH35,Table_B.2!AH35)","v":0},null,{"$f":"SUM(Table_B.1!AJ35,Table_B.2!AJ35)","v":0},null,{"$f":"SUM(Table_B.1!AL35,Table_B.2!AL35)","v":0},null,{"$f":"SUM(Table_B.1!AN35,Table_B.2!AN35)","v":0},null,{"$f":"SUM(Table_B.1!AP35,Table_B.2!AP35)","v":0},null,{"$f":"SUM(Table_B.1!AR35,Table_B.2!AR35)","v":0},null,{"$f":"SUM(Table_B.1!AT35,Table_B.2!AT35)","v":0},null,{"$f":"SUM(Table_B.1!AV35,Table_B.2!AV35)","v":0},null,{"$f":"SUM(Table_B.1!AX35,Table_B.2!AX35)","v":0},null,{"$f":"SUM(Table_B.1!AZ35,Table_B.2!AZ35)","v":0},null,{"$f":"SUM(Table_B.1!BB35,Table_B.2!BB35)","v":0},null,{"$f":"SUM(Table_B.1!BD35,Table_B.2!BD35)","v":0},null,{"$f":"SUM(Table_B.1!BF35,Table_B.2!BF35)","v":0},null,{"$f":"SUM(Table_B.1!BH35,Table_B.2!BH35)","v":0},null,0,null,{"$f":"SUM(Table_B.1!BL35,Table_B.2!BL35)","v":0},null,{"$f":"SUM(Table_B.1!BN35,Table_B.2!BN35)","v":0},null,{"$f":"SUM(Table_B.1!BP35,Table_B.2!BP35)","v":0},null,0,null,{"$f":"SUM(Table_B.1!BT35,Table_B.2!BT35)","v":0},null,{"$f":"SUM(Table_B.1!BV35,Table_B.2!BV35)","v":0},null,{"$f":"SUM(Table_B.1!BX35,Table_B.2!BX35)","v":0},null,0,null,{"$f":"SUM(Table_B.1!CB35,Table_B.2!CB35)","v":0},null,{"$f":"SUM(Table_B.1!CD35,Table_B.2!CD35)","v":0},null,{"$f":"SUM(Table_B.1!CF35,Table_B.2!CF35)","v":0},null,{"$f":"SUM(Table_B.1!CH35,Table_B.2!CH35)","v":0},null,{"$f":"SUM(Table_B.1!CJ35,Table_B.2!CJ35)","v":0},null,{"$f":"SUM(Table_B.1!CL35,Table_B.2!CL35)","v":0},null,0,null,{"$f":"SUM(Table_B.1!CP35,Table_B.2!CP35)","v":0},null,{"$f":"SUM(Table_B.1!CR35,Table_B.2!CR35)","v":0},null,{"$f":"SUM(Table_B.1!CT35,Table_B.2!CT35)","v":0},null,{"$f":"SUM(Table_B.1!CV35,Table_B.2!CV35)","v":0},null,0,null,{"$f":"SUM(Table_B.1!CZ35,Table_B.2!CZ35)","v":0},null,{"$f":"SUM(Table_B.1!DB35,Table_B.2!DB35)","v":0},null,{"$f":"SUM(Table_B.1!DD35,Table_B.2!DD35)","v":0},null,{"$f":"SUM(Table_B.1!DF35,Table_B.2!DF35)","v":0},null,{"$f":"SUM(Table_B.1!DH35,Table_B.2!DH35)","v":0},null,0,null,{"$f":"SUM(Table_B.1!DL35,Table_B.2!DL35)","v":0},null,{"$f":"SUM(Table_B.1!DN35,Table_B.2!DN35)","v":0},null,{"$f":"SUM(Table_B.1!DP35,Table_B.2!DP35)","v":0},null,{"$f":"SUM(Table_B.1!DR35,Table_B.2!DR35)","v":0},null,{"$f":"SUM(Table_B.1!DT35,Table_B.2!DT35)","v":0},null,0,null,{"$f":"SUM(Table_B.1!DX35,Table_B.2!DX35)","v":0},null,{"$f":"SUM(Table_B.1!DZ35,Table_B.2!DZ35)","v":0},null,{"$f":"SUM(Table_B.1!EB35,Table_B.2!EB35)","v":0},null,{"$f":"SUM(Table_B.1!ED35,Table_B.2!ED35)","v":0},null,{"$f":"SUM(Table_B.1!EF35,Table_B.2!EF35)","v":0},null,{"$f":"SUM(Table_B.1!EH35,Table_B.2!EH35)","v":0},null,0,null,{"$f":"SUM(Table_B.1!EL35,Table_B.2!EL35)","v":0},null,{"$f":"SUM(Table_B.1!EN35,Table_B.2!EN35)","v":0},null,0,null,{"$f":"SUM(Table_B.1!ER35,Table_B.2!ER35)","v":0},null,{"$f":"SUM(Table_B.1!ET35,Table_B.2!ET35)","v":0},null,0,null,{"$f":"SUM(Table_B.1!EX35,Table_B.2!EX35)","v":0},null,{"$f":"SUM(Table_B.1!EZ35,Table_B.2!EZ35)","v":0},null,{"$f":"SUM(Table_B.1!FB35,Table_B.2!FB35)","v":0},null,{"$f":"SUM(Table_B.1!FD35,Table_B.2!FD35)","v":0},null,{"$f":"SUM(Table_B.1!FF35,Table_B.2!FF35)","v":0},null,0,null,{"$f":"SUM(Table_B.1!FJ35,Table_B.2!FJ35)","v":0},null,{"$f":"SUM(Table_B.1!FL35,Table_B.2!FL35)","v":0},null,{"$f":"SUM(Table_B.1!FN35,Table_B.2!FN35)","v":0},null,{"$f":"SUM(Table_B.1!FP35,Table_B.2!FP35)","v":0},null,{"$f":"SUM(Table_B.1!FR35,Table_B.2!FR35)","v":0},null,{"$f":"SUM(Table_B.1!FT35,Table_B.2!FT35)","v":0},null,null,null,0,null,{"$f":"IF(ROUND(SUM(FX35),1)>ROUND(SUM(Table_A!FX35),1),\"Supply < Use\",IF(ROUND(SUM(FX35),1)<ROUND(SUM(Table_A!FX35),1),\"Supply > Use\",\"\"))","v":""},null,null,null,null,null,"P25"]
[null,28,{"$f":"'PEFA rows'!B30","v":2},{"$f":"'PEFA rows'!C30","v":"P26"},{"$f":"'PEFA rows'!D30","v":"Electrical energy"},null,null,0,null,0,null,{"$f":"SUM(Table_B.1!L36,Table_B.2!L36)","v":0},null,{"$f":"SUM(Table_B.1!N36,Table_B.2!N36)","v":0},null,{"$f":"SUM(Table_B.1!P36,Table_B.2!P36)","v":0},null,{"$f":"SUM(Table_B.1!R36,Table_B.2!R36)","v":0},null,0,null,{"$f":"SUM(Table_B.1!V36,Table_B.2!V36)","v":0},null,{"$f":"SUM(Table_B.1!X36,Table_B.2!X36)","v":0},null,{"$f":"SUM(Table_B.1!Z36,Table_B.2!Z36)","v":0},null,{"$f":"SUM(Table_B.1!AB36,Table_B.2!AB36)","v":0},null,{"$f":"SUM(Table_B.1!AD36,Table_B.2!AD36)","v":0},null,{"$f":"SUM(Table_B.1!AF36,Table_B.2!AF36)","v":0},null,{"$f":"SUM(Table_B.1!AH36,Table_B.2!AH36)","v":0},null,{"$f":"SUM(Table_B.1!AJ36,Table_B.2!AJ36)","v":0},null,{"$f":"SUM(Table_B.1!AL36,Table_B.2!AL36)","v":0},null,{"$f":"SUM(Table_B.1!AN36,Table_B.2!AN36)","v":0},null,{"$f":"SUM(Table_B.1!AP36,Table_B.2!AP36)","v":0},null,{"$f":"SUM(Table_B.1!AR36,Table_B.2!AR36)","v":0},null,{"$f":"SUM(Table_B.1!AT36,Table_B.2!AT36)","v":0},null,{"$f":"SUM(Table_B.1!AV36,Table_B.2!AV36)","v":0},null,{"$f":"SUM(Table_B.1!AX36,Table_B.2!AX36)","v":0},null,{"$f":"SUM(Table_B.1!AZ36,Table_B.2!AZ36)","v":0},null,{"$f":"SUM(Table_B.1!BB36,Table_B.2!BB36)","v":0},null,{"$f":"SUM(Table_B.1!BD36,Table_B.2!BD36)","v":0},null,{"$f":"SUM(Table_B.1!BF36,Table_B.2!BF36)","v":0},null,{"$f":"SUM(Table_B.1!BH36,Table_B.2!BH36)","v":0},null,0,null,{"$f":"SUM(Table_B.1!BL36,Table_B.2!BL36)","v":0},null,{"$f":"SUM(Table_B.1!BN36,Table_B.2!BN36)","v":0},null,{"$f":"SUM(Table_B.1!BP36,Table_B.2!BP36)","v":0},null,0,null,{"$f":"SUM(Table_B.1!BT36,Table_B.2!BT36)","v":0},null,{"$f":"SUM(Table_B.1!BV36,Table_B.2!BV36)","v":0},null,{"$f":"SUM(Table_B.1!BX36,Table_B.2!BX36)","v":0},null,0,null,{"$f":"SUM(Table_B.1!CB36,Table_B.2!CB36)","v":0},null,{"$f":"SUM(Table_B.1!CD36,Table_B.2!CD36)","v":0},null,{"$f":"SUM(Table_B.1!CF36,Table_B.2!CF36)","v":0},null,{"$f":"SUM(Table_B.1!CH36,Table_B.2!CH36)","v":0},null,{"$f":"SUM(Table_B.1!CJ36,Table_B.2!CJ36)","v":0},null,{"$f":"SUM(Table_B.1!CL36,Table_B.2!CL36)","v":0},null,0,null,{"$f":"SUM(Table_B.1!CP36,Table_B.2!CP36)","v":0},null,{"$f":"SUM(Table_B.1!CR36,Table_B.2!CR36)","v":0},null,{"$f":"SUM(Table_B.1!CT36,Table_B.2!CT36)","v":0},null,{"$f":"SUM(Table_B.1!CV36,Table_B.2!CV36)","v":0},null,0,null,{"$f":"SUM(Table_B.1!CZ36,Table_B.2!CZ36)","v":0},null,{"$f":"SUM(Table_B.1!DB36,Table_B.2!DB36)","v":0},null,{"$f":"SUM(Table_B.1!DD36,Table_B.2!DD36)","v":0},null,{"$f":"SUM(Table_B.1!DF36,Table_B.2!DF36)","v":0},null,{"$f":"SUM(Table_B.1!DH36,Table_B.2!DH36)","v":0},null,0,null,{"$f":"SUM(Table_B.1!DL36,Table_B.2!DL36)","v":0},null,{"$f":"SUM(Table_B.1!DN36,Table_B.2!DN36)","v":0},null,{"$f":"SUM(Table_B.1!DP36,Table_B.2!DP36)","v":0},null,{"$f":"SUM(Table_B.1!DR36,Table_B.2!DR36)","v":0},null,{"$f":"SUM(Table_B.1!DT36,Table_B.2!DT36)","v":0},null,0,null,{"$f":"SUM(Table_B.1!DX36,Table_B.2!DX36)","v":0},null,{"$f":"SUM(Table_B.1!DZ36,Table_B.2!DZ36)","v":0},null,{"$f":"SUM(Table_B.1!EB36,Table_B.2!EB36)","v":0},null,{"$f":"SUM(Table_B.1!ED36,Table_B.2!ED36)","v":0},null,{"$f":"SUM(Table_B.1!EF36,Table_B.2!EF36)","v":0},null,{"$f":"SUM(Table_B.1!EH36,Table_B.2!EH36)","v":0},null,0,null,{"$f":"SUM(Table_B.1!EL36,Table_B.2!EL36)","v":0},null,{"$f":"SUM(Table_B.1!EN36,Table_B.2!EN36)","v":0},null,0,null,{"$f":"SUM(Table_B.1!ER36,Table_B.2!ER36)","v":0},null,{"$f":"SUM(Table_B.1!ET36,Table_B.2!ET36)","v":0},null,0,null,{"$f":"SUM(Table_B.1!EX36,Table_B.2!EX36)","v":0},null,{"$f":"SUM(Table_B.1!EZ36,Table_B.2!EZ36)","v":0},null,{"$f":"SUM(Table_B.1!FB36,Table_B.2!FB36)","v":0},null,{"$f":"SUM(Table_B.1!FD36,Table_B.2!FD36)","v":0},null,{"$f":"SUM(Table_B.1!FF36,Table_B.2!FF36)","v":0},null,0,null,{"$f":"SUM(Table_B.1!FJ36,Table_B.2!FJ36)","v":0},null,{"$f":"SUM(Table_B.1!FL36,Table_B.2!FL36)","v":0},null,{"$f":"SUM(Table_B.1!FN36,Table_B.2!FN36)","v":0},null,{"$f":"SUM(Table_B.1!FP36,Table_B.2!FP36)","v":0},null,{"$f":"SUM(Table_B.1!FR36,Table_B.2!FR36)","v":0},null,{"$f":"SUM(Table_B.1!FT36,Table_B.2!FT36)","v":0},null,null,null,0,null,{"$f":"IF(ROUND(SUM(FX36),1)>ROUND(SUM(Table_A!FX36),1),\"Supply < Use\",IF(ROUND(SUM(FX36),1)<ROUND(SUM(Table_A!FX36),1),\"Supply > Use\",\"\"))","v":""},null,null,null,null,null,"P26"]
[null,29,{"$f":"'PEFA rows'!B31","v":2},{"$f":"'PEFA rows'!C31","v":"P27"},{"$f":"'PEFA rows'!D31","v":"Heat"},null,null,0,null,0,null,{"$f":"SUM(Table_B.1!L37,Table_B.2!L37)","v":0},null,{"$f":"SUM(Table_B.1!N37,Table_B.2!N37)","v":0},null,{"$f":"SUM(Table_B.1!P37,Table_B.2!P37)","v":0},null,{"$f":"SUM(Table_B.1!R37,Table_B.2!R37)","v":0},null,0,null,{"$f":"SUM(Table_B.1!V37,Table_B.2!V37)","v":0},null,{"$f":"SUM(Table_B.1!X37,Table_B.2!X37)","v":0},null,{"$f":"SUM(Table_B.1!Z37,Table_B.2!Z37)","v":0},null,{"$f":"SUM(Table_B.1!AB37,Table_B.2!AB37)","v":0},null,{"$f":"SUM(Table_B.1!AD37,Table_B.2!AD37)","v":0},null,{"$f":"SUM(Table_B.1!AF37,Table_B.2!AF37)","v":0},null,{"$f":"SUM(Table_B.1!AH37,Table_B.2!AH37)","v":0},null,{"$f":"SUM(Table_B.1!AJ37,Table_B.2!AJ37)","v":0},null,{"$f":"SUM(Table_B.1!AL37,Table_B.2!AL37)","v":0},null,{"$f":"SUM(Table_B.1!AN37,Table_B.2!AN37)","v":0},null,{"$f":"SUM(Table_B.1!AP37,Table_B.2!AP37)","v":0},null,{"$f":"SUM(Table_B.1!AR37,Table_B.2!AR37)","v":0},null,{"$f":"SUM(Table_B.1!AT37,Table_B.2!AT37)","v":0},null,{"$f":"SUM(Table_B.1!AV37,Table_B.2!AV37)","v":0},null,{"$f":"SUM(Table_B.1!AX37,Table_B.2!AX37)","v":0},null,{"$f":"SUM(Table_B.1!AZ37,Table_B.2!AZ37)","v":0},null,{"$f":"SUM(Table_B.1!BB37,Table_B.2!BB37)","v":0},null,{"$f":"SUM(Table_B.1!BD37,Table_B.2!BD37)","v":0},null,{"$f":"SUM(Table_B.1!BF37,Table_B.2!BF37)","v":0},null,{"$f":"SUM(Table_B.1!BH37,Table_B.2!BH37)","v":0},null,0,null,{"$f":"SUM(Table_B.1!BL37,Table_B.2!BL37)","v":0},null,{"$f":"SUM(Table_B.1!BN37,Table_B.2!BN37)","v":0},null,{"$f":"SUM(Table_B.1!BP37,Table_B.2!BP37)","v":0},null,0,null,{"$f":"SUM(Table_B.1!BT37,Table_B.2!BT37)","v":0},null,{"$f":"SUM(Table_B.1!BV37,Table_B.2!BV37)","v":0},null,{"$f":"SUM(Table_B.1!BX37,Table_B.2!BX37)","v":0},null,0,null,{"$f":"SUM(Table_B.1!CB37,Table_B.2!CB37)","v":0},null,{"$f":"SUM(Table_B.1!CD37,Table_B.2!CD37)","v":0},null,{"$f":"SUM(Table_B.1!CF37,Table_B.2!CF37)","v":0},null,{"$f":"SUM(Table_B.1!CH37,Table_B.2!CH37)","v":0},null,{"$f":"SUM(Table_B.1!CJ37,Table_B.2!CJ37)","v":0},null,{"$f":"SUM(Table_B.1!CL37,Table_B.2!CL37)","v":0},null,0,null,{"$f":"SUM(Table_B.1!CP37,Table_B.2!CP37)","v":0},null,{"$f":"SUM(Table_B.1!CR37,Table_B.2!CR37)","v":0},null,{"$f":"SUM(Table_B.1!CT37,Table_B.2!CT37)","v":0},null,{"$f":"SUM(Table_B.1!CV37,Table_B.2!CV37)","v":0},null,0,null,{"$f":"SUM(Table_B.1!CZ37,Table_B.2!CZ37)","v":0},null,{"$f":"SUM(Table_B.1!DB37,Table_B.2!DB37)","v":0},null,{"$f":"SUM(Table_B.1!DD37,Table_B.2!DD37)","v":0},null,{"$f":"SUM(Table_B.1!DF37,Table_B.2!DF37)","v":0},null,{"$f":"SUM(Table_B.1!DH37,Table_B.2!DH37)","v":0},null,0,null,{"$f":"SUM(Table_B.1!DL37,Table_B.2!DL37)","v":0},null,{"$f":"SUM(Table_B.1!DN37,Table_B.2!DN37)","v":0},null,{"$f":"SUM(Table_B.1!DP37,Table_B.2!DP37)","v":0},null,{"$f":"SUM(Table_B.1!DR37,Table_B.2!DR37)","v":0},null,{"$f":"SUM(Table_B.1!DT37,Table_B.2!DT37)","v":0},null,0,null,{"$f":"SUM(Table_B.1!DX37,Table_B.2!DX37)","v":0},null,{"$f":"SUM(Table_B.1!DZ37,Table_B.2!DZ37)","v":0},null,{"$f":"SUM(Table_B.1!EB37,Table_B.2!EB37)","v":0},null,{"$f":"SUM(Table_B.1!ED37,Table_B.2!ED37)","v":0},null,{"$f":"SUM(Table_B.1!EF37,Table_B.2!EF37)","v":0},null,{"$f":"SUM(Table_B.1!EH37,Table_B.2!EH37)","v":0},null,0,null,{"$f":"SUM(Table_B.1!EL37,Table_B.2!EL37)","v":0},null,{"$f":"SUM(Table_B.1!EN37,Table_B.2!EN37)","v":0},null,0,null,{"$f":"SUM(Table_B.1!ER37,Table_B.2!ER37)","v":0},null,{"$f":"SUM(Table_B.1!ET37,Table_B.2!ET37)","v":0},null,0,null,{"$f":"SUM(Table_B.1!EX37,Table_B.2!EX37)","v":0},null,{"$f":"SUM(Table_B.1!EZ37,Table_B.2!EZ37)","v":0},null,{"$f":"SUM(Table_B.1!FB37,Table_B.2!FB37)","v":0},null,{"$f":"SUM(Table_B.1!FD37,Table_B.2!FD37)","v":0},null,{"$f":"SUM(Table_B.1!FF37,Table_B.2!FF37)","v":0},null,0,null,{"$f":"SUM(Table_B.1!FJ37,Table_B.2!FJ37)","v":0},null,{"$f":"SUM(Table_B.1!FL37,Table_B.2!FL37)","v":0},null,{"$f":"SUM(Table_B.1!FN37,Table_B.2!FN37)","v":0},null,{"$f":"SUM(Table_B.1!FP37,Table_B.2!FP37)","v":0},null,{"$f":"SUM(Table_B.1!FR37,Table_B.2!FR37)","v":0},null,{"$f":"SUM(Table_B.1!FT37,Table_B.2!FT37)","v":0},null,null,null,0,null,{"$f":"IF(ROUND(SUM(FX37),1)>ROUND(SUM(Table_A!FX37),1),\"Supply < Use\",IF(ROUND(SUM(FX37),1)<ROUND(SUM(Table_A!FX37),1),\"Supply > Use\",\"\"))","v":""},null,null,null,null,null,"P27"]
[null,30,{"$f":"'PEFA rows'!B32","v":1},{"$f":"'PEFA rows'!C32","v":"R00"},{"$f":"'PEFA rows'!D32","v":"ENERGY RESIDUALS"},null,null,{"$f":"SUM(H39:H42)","v":0},null,{"$f":"SUM(J39:J42)","v":0},null,{"$f":"SUM(L39:L42)","v":0},null,{"$f":"SUM(N39:N42)","v":0},null,{"$f":"SUM(P39:P42)","v":0},null,{"$f":"SUM(R39:R42)","v":0},null,{"$f":"SUM(T39:T42)","v":0},null,{"$f":"SUM(V39:V42)","v":0},null,{"$f":"SUM(X39:X42)","v":0},null,{"$f":"SUM(Z39:Z42)","v":0},null,{"$f":"SUM(AB39:AB42)","v":0},null,{"$f":"SUM(AD39:AD42)","v":0},null,{"$f":"SUM(AF39:AF42)","v":0},null,{"$f":"SUM(AH39:AH42)","v":0},null,{"$f":"SUM(AJ39:AJ42)","v":0},null,{"$f":"SUM(AL39:AL42)","v":0},null,{"$f":"SUM(AN39:AN42)","v":0},null,{"$f":"SUM(AP39:AP42)","v":0},null,{"$f":"SUM(AR39:AR42)","v":0},null,{"$f":"SUM(AT39:AT42)","v":0},null,{"$f":"SUM(AV39:AV42)","v":0},null,{"$f":"SUM(AX39:AX42)","v":0},null,{"$f":"SUM(AZ39:AZ42)","v":0},null,{"$f":"SUM(BB39:BB42)","v":0},null,{"$f":"SUM(BD39:BD42)","v":0},null,{"$f":"SUM(BF39:BF42)","v":0},null,{"$f":"SUM(BH39:BH42)","v":0},null,{"$f":"SUM(BJ39:BJ42)","v":0},null,{"$f":"SUM(BL39:BL42)","v":0},null,{"$f":"SUM(BN39:BN42)","v":0},null,{"$f":"SUM(BP39:BP42)","v":0},null,{"$f":"SUM(BR39:BR42)","v":0},null,{"$f":"SUM(BT39:BT42)","v":0},null,{"$f":"SUM(BV39:BV42)","v":0},null,{"$f":"SUM(BX39:BX42)","v":0},null,{"$f":"SUM(BZ39:BZ42)","v":0},null,{"$f":"SUM(CB39:CB42)","v":0},null,{"$f":"SUM(CD39:CD42)","v":0},null,{"$f":"SUM(CF39:CF42)","v":0},null,{"$f":"SUM(CH39:CH42)","v":0},null,{"$f":"SUM(CJ39:CJ42)","v":0},null,{"$f":"SUM(CL39:CL42)","v":0},null,{"$f":"SUM(CN39:CN42)","v":0},null,{"$f":"SUM(CP39:CP42)","v":0},null,{"$f":"SUM(CR39:CR42)","v":0},null,{"$f":"SUM(CT39:CT42)","v":0},null,{"$f":"SUM(CV39:CV42)","v":0},null,{"$f":"SUM(CX39:CX42)","v":0},null,{"$f":"SUM(CZ39:CZ42)","v":0},null,{"$f":"SUM(DB39:DB42)","v":0},null,{"$f":"SUM(DD39:DD42)","v":0},null,{"$f":"SUM(DF39:DF42)","v":0},null,{"$f":"SUM(DH39:DH42)","v":0},null,{"$f":"SUM(DJ39:DJ42)","v":0},null,{"$f":"SUM(DL39:DL42)","v":0},null,{"$f":"SUM(DN39:DN42)","v":0},null,{"$f":"SUM(DP39:DP42)","v":0},null,{"$f":"SUM(DR39:DR42)","v":0},null,{"$f":"SUM(DT39:DT42)","v":0},null,{"$f":"SUM(DV39:DV42)","v":0},null,{"$f":"SUM(DX39:DX42)","v":0},null,{"$f":"SUM(DZ39:DZ42)","v":0},null,{"$f":"SUM(EB39:EB42)","v":0},null,{"$f":"SUM(ED39:ED42)","v":0},null,{"$f":"SUM(EF39:EF42)","v":0},null,{"$f":"SUM(EH39:EH42)","v":0},null,{"$f":"SUM(EJ39:EJ42)","v":0},null,{"$f":"SUM(EL39:EL42)","v":0},null,{"$f":"SUM(EN39:EN42)","v":0},null,{"$f":"SUM(EP39:EP42)","v":0},null,{"$f":"SUM(ER39:ER42)","v":0},null,{"$f":"SUM(ET39:ET42)","v":0},null,{"$f":"SUM(EV39:EV42)","v":0},null,{"$f":"SUM(EX39:EX42)","v":0},null,{"$f":"SUM(EZ39:EZ42)","v":0},null,{"$f":"SUM(FB39:FB42)","v":0},null,{"$f":"SUM(FD39:FD42)","v":0},null,{"$f":"SUM(FF39:FF42)","v":0},null,{"$f":"SUM(FH39:FH42)","v":0},null,{"$f":"SUM(FJ39:FJ42)","v":0},null,{"$f":"SUM(FL39:FL42)","v":0},null,{"$f":"SUM(FN39:FN42)","v":0},null,{"$f":"SUM(FP39:FP42)","v":0},null,{"$f":"SUM(FR39:FR42)","v":0},null,{"$f":"SUM(FT39:FT42)","v":0},null,{"$f":"SUM(FV39:FV42)","v":0},null,{"$f":"SUM(FX39:FX42)","v":0},null,{"$f":"IF(ROUND(SUM(FX38),1)>ROUND(SUM(Table_A!FX38),1),\"Supply < Use\",IF(ROUND(SUM(FX38),1)<ROUND(SUM(Table_A!FX38),1),\"Supply > Use\",\"\"))","v":""},null,null,null,null,null,"R00"]
[null,31,{"$f":"'PEFA rows'!B33","v":2},{"$f":"'PEFA rows'!C33","v":"R28"},{"$f":"'PEFA rows'!D33","v":"Renewable waste"},null,null,{"$f":"SUM(J39,R39,T39,BH39,BJ39,BP39,BR39,BZ39,CL39,CN39,CX39,DF39,DJ39,DV39,EF39,EH39,EJ39,EP39,EV39,FD39,FF39)","v":0},null,{"$f":"SUM(L39,N39,P39)","v":0},null,{"$f":"SUM(Table_B.1!L39,Table_B.2!L39)","v":0},null,{"$f":"SUM(Table_B.1!N39,Table_B.2!N39)","v":0},null,{"$f":"SUM(Table_B.1!P39,Table_B.2!P39)","v":0},null,{"$f":"SUM(Table_B.1!R39,Table_B.2!R39)","v":0},null,{"$f":"SUM(V39,X39,Z39,AB39,AD39,AF39,AH39,AJ39,AL39,AN39,AP39,AR39,AT39,AV39,AX39,AZ39,BB39,BD39,BF39)","v":0},null,{"$f":"SUM(Table_B.1!V39,Table_B.2!V39)","v":0},null,{"$f":"SUM(Table_B.1!X39,Table_B.2!X39)","v":0},null,{"$f":"SUM(Table_B.1!Z39,Table_B.2!Z39)","v":0},null,{"$f":"SUM(Table_B.1!AB39,Table_B.2!AB39)","v":0},null,{"$f":"SUM(Table_B.1!AD39,Table_B.2!AD39)","v":0},null,{"$f":"SUM(Table_B.1!AF39,Table_B.2!AF39)","v":0},null,{"$f":"SUM(Table_B.1!AH39,Table_B.2!AH39)","v":0},null,{"$f":"SUM(Table_B.1!AJ39,Table_B.2!AJ39)","v":0},null,{"$f":"SUM(Table_B.1!AL39,Table_B.2!AL39)","v":0},null,{"$f":"SUM(Table_B.1!AN39,Table_B.2!AN39)","v":0},null,{"$f":"SUM(Table_B.1!AP39,Table_B.2!AP39)","v":0},null,{"$f":"SUM(Table_B.1!AR39,Table_B.2!AR39)","v":0},null,{"$f":"SUM(Table_B.1!AT39,Table_B.2!AT39)","v":0},null,{"$f":"SUM(Table_B.1!AV39,Table_B.2!AV39)","v":0},null,{"$f":"SUM(Table_B.1!AX39,Table_B.2!AX39)","v":0},null,{"$f":"SUM(Table_B.1!AZ39,Table_B.2!AZ39)","v":0},null,{"$f":"SUM(Table_B.1!BB39,Table_B.2!BB39)","v":0},null,{"$f":"SUM(Table_B.1!BD39,Table_B.2!BD39)","v":0},null,{"$f":"SUM(Table_B.1!BF39,Table_B.2!BF39)","v":0},null,{"$f":"SUM(Table_B.1!BH39,Table_B.2!BH39)","v":0},null,{"$f":"SUM(BL39,BN39)","v":0},null,{"$f":"SUM(Table_B.1!BL39,Table_B.2!BL39)","v":0},null,{"$f":"SUM(Table_B.1!BN39,Table_B.2!BN39)","v":0},null,{"$f":"SUM(Table_B.1!BP39,Table_B.2!BP39)","v":0},null,{"$f":"SUM(BT39,BV39,BX39)","v":0},null,{"$f":"SUM(Table_B.1!BT39,Table_B.2!BT39)","v":0},null,{"$f":"SUM(Table_B.1!BV39,Table_B.2!BV39)","v":0},null,{"$f":"SUM(Table_B.1!BX39,Table_B.2!BX39)","v":0},null,{"$f":"SUM(CB39,CD39,CF39,CH39,CJ39)","v":0},null,{"$f":"SUM(Table_B.1!CB39,Table_B.2!CB39)","v":0},null,{"$f":"SUM(Table_B.1!CD39,Table_B.2!CD39)","v":0},null,{"$f":"SUM(Table_B.1!CF39,Table_B.2!CF39)","v":0},null,{"$f":"SUM(Table_B.1!CH39,Table_B.2!CH39)","v":0},null,{"$f":"SUM(Table_B.1!CJ39,Table_B.2!CJ39)","v":0},null,{"$f":"SUM(Table_B.1!CL39,Table_B.2!CL39)","v":0},null,{"$f":"SUM(CP39,CR39,CT39,CV39)","v":0},null,{"$f":"SUM(Table_B.1!CP39,Table_B.2!CP39)","v":0},null,{"$f":"SUM(Table_B.1!CR39,Table_B.2!CR39)","v":0},null,{"$f":"SUM(Table_B.1!CT39,Table_B.2!CT39)","v":0},null,{"$f":"SUM(Table_B.1!CV39,Table_B.2!CV39)","v":0},null,{"$f":"SUM(CZ39,DB39,DD39)","v":0},null,{"$f":"SUM(Table_B.1!CZ39,Table_B.2!CZ39)","v":0},null,{"$f":"SUM(Table_B.1!DB39,Table_B.2!DB39)","v":0},null,{"$f":"SUM(Table_B.1!DD39,Table_B.2!DD39)","v":0},null,{"$f":"SUM(Table_B.1!DF39,Table_B.2!DF39)","v":0},null,{"$f":"SUM(Table_B.1!DH39,Table_B.2!DH39)","v":0},null,{"$f":"SUM(DL39,DN39,DP39,DR39,DT39)","v":0},null,{"$f":"SUM(Table_B.1!DL39,Table_B.2!DL39)","v":0},null,{"$f":"SUM(Table_B.1!DN39,Table_B.2!DN39)","v":0},null,{"$f":"SUM(Table_B.1!DP39,Table_B.2!DP39)","v":0},null,{"$f":"SUM(Table_B.1!DR39,Table_B.2!DR39)","v":0},null,{"$f":"SUM(Table_B.1!DT39,Table_B.2!DT39)","v":0},null,{"$f":"SUM(DX39,DZ39,EB39,ED39)","v":0},null,{"$f":"SUM(Table_B.1!DX39,Table_B.2!DX39)","v":0},null,{"$f":"SUM(Table_B.1!DZ39,Table_B.2!DZ39)","v":0},null,{"$f":"SUM(Table_B.1!EB39,Table_B.2!EB39)","v":0},null,{"$f":"SUM(Table_B.1!ED39,Table_B.2!ED39)","v":0},null,{"$f":"SUM(Table_B.1!EF39,Table_B.2!EF39)","v":0},null,{"$f":"SUM(Table_B.1!EH39,Table_B.2!EH39)","v":0},null,{"$f":"SUM(EL39,EN39)","v":0},null,{"$f":"SUM(Table_B.1!EL39,Table_B.2!EL39)","v":0},null,{"$f":"SUM(Table_B.1!EN39,Table_B.2!EN39)","v":0},null,{"$f":"SUM(ER39,ET39)","v":0},null,{"$f":"SUM(Table_B.1!ER39,Table_B.2!ER39)","v":0},null,{"$f":"SUM(Table_B.1!ET39,Table_B.2!ET39)","v":0},null,{"$f":"SUM(EX39,EZ39,FB39)","v":0},null,{"$f":"SUM(Table_B.1!EX39,Table_B.2!EX39)","v":0},null,{"$f":"SUM(Table_B.1!EZ39,Table_B.2!EZ39)","v":0},null,{"$f":"SUM(Table_B.1!FB39,Table_B.2!FB39)","v":0},null,{"$f":"SUM(Table_B.1!FD39,Table_B.2!FD39)","v":0},null,{"$f":"SUM(Table_B.1!FF39,Table_B.2!FF39)","v":0},null,{"$f":"SUM(FJ39,FL39,FN39)","v":0},null,{"$f":"SUM(Table_B.1!FJ39,Table_B.2!FJ39)","v":0},null,{"$f":"SUM(Table_B.1!FL39,Table_B.2!FL39)","v":0},null,{"$f":"SUM(Table_B.1!FN39,Table_B.2!FN39)","v":0},null,{"$f":"SUM(Table_B.1!FP39,Table_B.2!FP39)","v":0},null,{"$f":"SUM(Table_B.1!FR39,Table_B.2!FR39)","v":0},null,{"$f":"SUM(Table_B.1!FT39,Table_B.2!FT39)","v":0},null,null,null,{"$f":"SUM(H39,FH39,FP39,FR39,FT39,FV39)","v":0},null,{"$f":"IF(ROUND(SUM(FX39),1)>ROUND(SUM(Table_A!FX39),1),\"Supply < Use\",IF(ROUND(SUM(FX39),1)<ROUND(SUM(Table_A!FX39),1),\"Supply > Use\",\"\"))","v":""},null,null,null,null,null,"R28"]
[null,32,{"$f":"'PEFA rows'!B34","v":2},{"$f":"'PEFA rows'!C34","v":"R29"},{"$f":"'PEFA rows'!D34","v":"Non-renewable waste"},null,null,{"$f":"SUM(J40,R40,T40,BH40,BJ40,BP40,BR40,BZ40,CL40,CN40,CX40,DF40,DJ40,DV40,EF40,EH40,EJ40,EP40,EV40,FD40,FF40)","v":0},null,{"$f":"SUM(L40,N40,P40)","v":0},null,{"$f":"SUM(Table_B.1!L40,Table_B.2!L40)","v":0},null,{"$f":"SUM(Table_B.1!N40,Table_B.2!N40)","v":0},null,{"$f":"SUM(Table_B.1!P40,Table_B.2!P40)","v":0},null,{"$f":"SUM(Table_B.1!R40,Table_B.2!R40)","v":0},null,{"$f":"SUM(V40,X40,Z40,AB40,AD40,AF40,AH40,AJ40,AL40,AN40,AP40,AR40,AT40,AV40,AX40,AZ40,BB40,BD40,BF40)","v":0},null,{"$f":"SUM(Table_B.1!V40,Table_B.2!V40)","v":0},null,{"$f":"SUM(Table_B.1!X40,Table_B.2!X40)","v":0},null,{"$f":"SUM(Table_B.1!Z40,Table_B.2!Z40)","v":0},null,{"$f":"SUM(Table_B.1!AB40,Table_B.2!AB40)","v":0},null,{"$f":"SUM(Table_B.1!AD40,Table_B.2!AD40)","v":0},null,{"$f":"SUM(Table_B.1!AF40,Table_B.2!AF40)","v":0},null,{"$f":"SUM(Table_B.1!AH40,Table_B.2!AH40)","v":0},null,{"$f":"SUM(Table_B.1!AJ40,Table_B.2!AJ40)","v":0},null,{"$f":"SUM(Table_B.1!AL40,Table_B.2!AL40)","v":0},null,{"$f":"SUM(Table_B.1!AN40,Table_B.2!AN40)","v":0},null,{"$f":"SUM(Table_B.1!AP40,Table_B.2!AP40)","v":0},null,{"$f":"SUM(Table_B.1!AR40,Table_B.2!AR40)","v":0},null,{"$f":"SUM(Table_B.1!AT40,Table_B.2!AT40)","v":0},null,{"$f":"SUM(Table_B.1!AV40,Table_B.2!AV40)","v":0},null,{"$f":"SUM(Table_B.1!AX40,Table_B.2!AX40)","v":0},null,{"$f":"SUM(Table_B.1!AZ40,Table_B.2!AZ40)","v":0},null,{"$f":"SUM(Table_B.1!BB40,Table_B.2!BB40)","v":0},null,{"$f":"SUM(Table_B.1!BD40,Table_B.2!BD40)","v":0},null,{"$f":"SUM(Table_B.1!BF40,Table_B.2!BF40)","v":0},null,{"$f":"SUM(Table_B.1!BH40,Table_B.2!BH40)","v":0},null,{"$f":"SUM(BL40,BN40)","v":0},null,{"$f":"SUM(Table_B.1!BL40,Table_B.2!BL40)","v":0},null,{"$f":"SUM(Table_B.1!BN40,Table_B.2!BN40)","v":0},null,{"$f":"SUM(Table_B.1!BP40,Table_B.2!BP40)","v":0},null,{"$f":"SUM(BT40,BV40,BX40)","v":0},null,{"$f":"SUM(Table_B.1!BT40,Table_B.2!BT40)","v":0},null,{"$f":"SUM(Table_B.1!BV40,Table_B.2!BV40)","v":0},null,{"$f":"SUM(Table_B.1!BX40,Table_B.2!BX40)","v":0},null,{"$f":"SUM(CB40,CD40,CF40,CH40,CJ40)","v":0},null,{"$f":"SUM(Table_B.1!CB40,Table_B.2!CB40)","v":0},null,{"$f":"SUM(Table_B.1!CD40,Table_B.2!CD40)","v":0},null,{"$f":"SUM(Table_B.1!CF40,Table_B.2!CF40)","v":0},null,{"$f":"SUM(Table_B.1!CH40,Table_B.2!CH40)","v":0},null,{"$f":"SUM(Table_B.1!CJ40,Table_B.2!CJ40)","v":0},null,{"$f":"SUM(Table_B.1!CL40,Table_B.2!CL40)","v":0},null,{"$f":"SUM(CP40,CR40,CT40,CV40)","v":0},null,{"$f":"SUM(Table_B.1!CP40,Table_B.2!CP40)","v":0},null,{"$f":"SUM(Table_B.1!CR40,Table_B.2!CR40)","v":0},null,{"$f":"SUM(Table_B.1!CT40,Table_B.2!CT40)","v":0},null,{"$f":"SUM(Table_B.1!CV40,Table_B.2!CV40)","v":0},null,{"$f":"SUM(CZ40,DB40,DD40)","v":0},null,{"$f":"SUM(Table_B.1!CZ40,Table_B.2!CZ40)","v":0},null,{"$f":"SUM(Table_B.1!DB40,Table_B.2!DB40)","v":0},null,{"$f":"SUM(Table_B.1!DD40,Table_B.2!DD40)","v":0},null,{"$f":"SUM(Table_B.1!DF40,Table_B.2!DF40)","v":0},null,{"$f":"SUM(Table_B.1!DH40,Table_B.2!DH40)","v":0},null,{"$f":"SUM(DL40,DN40,DP40,DR40,DT40)","v":0},null,{"$f":"SUM(Table_B.1!DL40,Table_B.2!DL40)","v":0},null,{"$f":"SUM(Table_B.1!DN40,Table_B.2!DN40)","v":0},null,{"$f":"SUM(Table_B.1!DP40,Table_B.2!DP40)","v":0},null,{"$f":"SUM(Table_B.1!DR40,Table_B.2!DR40)","v":0},null,{"$f":"SUM(Table_B.1!DT40,Table_B.2!DT40)","v":0},null,{"$f":"SUM(DX40,DZ40,EB40,ED40)","v":0},null,{"$f":"SUM(Table_B.1!DX40,Table_B.2!DX40)","v":0},null,{"$f":"SUM(Table_B.1!DZ40,Table_B.2!DZ40)","v":0},null,{"$f":"SUM(Table_B.1!EB40,Table_B.2!EB40)","v":0},null,{"$f":"SUM(Table_B.1!ED40,Table_B.2!ED40)","v":0},null,{"$f":"SUM(Table_B.1!EF40,Table_B.2!EF40)","v":0},null,{"$f":"SUM(Table_B.1!EH40,Table_B.2!EH40)","v":0},null,{"$f":"SUM(EL40,EN40)","v":0},null,{"$f":"SUM(Table_B.1!EL40,Table_B.2!EL40)","v":0},null,{"$f":"SUM(Table_B.1!EN40,Table_B.2!EN40)","v":0},null,{"$f":"SUM(ER40,ET40)","v":0},null,{"$f":"SUM(Table_B.1!ER40,Table_B.2!ER40)","v":0},null,{"$f":"SUM(Table_B.1!ET40,Table_B.2!ET40)","v":0},null,{"$f":"SUM(EX40,EZ40,FB40)","v":0},null,{"$f":"SUM(Table_B.1!EX40,Table_B.2!EX40)","v":0},null,{"$f":"SUM(Table_B.1!EZ40,Table_B.2!EZ40)","v":0},null,{"$f":"SUM(Table_B.1!FB40,Table_B.2!FB40)","v":0},null,{"$f":"SUM(Table_B.1!FD40,Table_B.2!FD40)","v":0},null,{"$f":"SUM(Table_B.1!FF40,Table_B.2!FF40)","v":0},null,{"$f":"SUM(FJ40,FL40,FN40)","v":0},null,{"$f":"SUM(Table_B.1!FJ40,Table_B.2!FJ40)","v":0},null,{"$f":"SUM(Table_B.1!FL40,Table_B.2!FL40)","v":0},null,{"$f":"SUM(Table_B.1!FN40,Table_B.2!FN40)","v":0},null,{"$f":"SUM(Table_B.1!FP40,Table_B.2!FP40)","v":0},null,{"$f":"SUM(Table_B.1!FR40,Table_B.2!FR40)","v":0},null,{"$f":"SUM(Table_B.1!FT40,Table_B.2!FT40)","v":0},null,null,null,{"$f":"SUM(H40,FH40,FP40,FR40,FT40,FV40)","v":0},null,{"$f":"IF(ROUND(SUM(FX40),1)>ROUND(SUM(Table_A!FX40),1),\"Supply < Use\",IF(ROUND(SUM(FX40),1)<ROUND(SUM(Table_A!FX40),1),\"Supply > Use\",\"\"))","v":""},null,null,null,null,null,"R29"]
[null,33,{"$f":"'PEFA rows'!B35","v":2},{"$f":"'PEFA rows'!C35","v":"R30"},{"$f":"'PEFA rows'!D35","v":"Energy losses all kinds of (during extraction, distribution, storage and transformation, and dissipative heat from end use)"},null,null,null,null,null,null,null,null,null,null,null,null,null,null,null,null,null,null,null,null,null,null,null,null,null,null,null,null,null,null,null,null,null,null,null,null,null,null,null,null,null,null,null,null,null,null,null,null,null,null,null,null,null,null,null,null,null,null,null,null,null,null,null,null,null,null,null,null,null,null,null,null,null,null,null,null,null,null,null,null,null,null,null,null,null,null,null,null,null,null,null,null,null,null,null,null,null,null,null,null,null,null,null,null,null,null,null,null,null,null,null,null,null,null,null,null,null,null,null,null,null,null,null,null,null,null,null,null,null,null,null,null,null,null,null,null,null,null,null,null,null,null,null,null,null,null,null,null,null,null,null,null,null,null,null,null,null,null,null,null,null,null,null,null,null,null,null,null,{"$f":"SUM(Table_B.1!FR41,Table_B.2!FR41)","v":0},null,null,null,{"$f":"SUM(Table_B.1!FV41,Table_B.2!FV41)","v":0},null,{"$f":"SUM(H41,FH41,FP41,FR41,FT41,FV41)","v":0},null,{"$f":"IF(ROUND(SUM(FX41),1)>ROUND(SUM(Table_A!FX41),1),\"Supply < Use\",IF(ROUND(SUM(FX41),1)<ROUND(SUM(Table_A!FX41),1),\"Supply > Use\",\"\"))","v":""},null,null,null,null,null,"R30"]
[null,34,{"$f":"'PEFA rows'!B36","v":2},{"$f":"'PEFA rows'!C36","v":"R31"},{"$f":"'PEFA rows'!D36","v":"Energy incorporated in products for non-energy use"},null,null,{"$f":"SUM(J42,R42,T42,BH42,BJ42,BP42,BR42,BZ42,CL42,CN42,CX42,DF42,DJ42,DV42,EF42,EH42,EJ42,EP42,EV42,FD42,FF42)","v":0},null,null,null,null,null,null,null,null,null,null,null,{"$f":"SUM(V42,X42,Z42,AB42,AD42,AF42,AH42,AJ42,AL42,AN42,AP42,AR42,AT42,AV42,AX42,AZ42,BB42,BD42,BF42)","v":0},null,null,null,null,null,null,null,null,null,null,null,null,null,{"$f":"SUM(Table_B.1!AH42,Table_B.2!AH42)","v":0},null,null,null,null,null,null,null,null,null,null,null,null,null,null,null,null,null,null,null,null,null,null,null,null,null,{"$f":"SUM(Table_B.1!BH42,Table_B.2!BH42)","v":0},null,null,null,null,null,null,null,null,null,null,null,null,null,null,null,null,null,null,null,null,null,null,null,null,null,null,null,null,null,null,null,null,null,null,null,null,null,null,null,null,null,null,null,null,null,null,null,null,null,null,null,null,null,null,null,null,null,null,null,null,null,null,null,null,null,null,null,null,null,null,null,null,null,null,null,null,null,null,null,null,null,null,null,null,null,null,null,null,null,null,null,null,null,null,null,null,null,null,null,null,null,null,null,null,null,null,null,null,null,null,null,{"$f":"SUM(Table_B.1!FP42,Table_B.2!FP42)","v":0},null,{"$f":"SUM(Table_B.1!FR42,Table_B.2!FR42)","v":0},null,null,null,null,null,{"$f":"SUM(H42,FH42,FP42,FR42,FT42,FV42)","v":0},null,{"$f":"IF(ROUND(SUM(FX42),1)>ROUND(SUM(Table_A!FX42),1),\"Supply < Use\",IF(ROUND(SUM(FX42),1)<ROUND(SUM(Table_A!FX42),1),\"Supply > Use\",\"\"))","v":""},null,null,null,null,null,"R31"]
[null,35,{"$f":"'PEFA rows'!B37","v":1},{"$f":"'PEFA rows'!C37","v":"STADIF"},{"$f":"'PEFA rows'!D37","v":"Statistical Differences"},null,null,{"$f":"SUM(J43,R43,T43,BH43,BJ43,BP43,BR43,BZ43,CL43,CN43,CX43,DF43,DJ43,DV43,EF43,EH43,EJ43,EP43,EV43,FD43,FF43)","v":0},null,{"$f":"SUM(L43,N43,P43)","v":0},null,{"$f":"SUM(Table_B.1!L43,Table_B.2!L43)","v":0},null,{"$f":"SUM(Table_B.1!N43,Table_B.2!N43)","v":0},null,{"$f":"SUM(Table_B.1!P43,Table_B.2!P43)","v":0},null,{"$f":"SUM(Table_B.1!R43,Table_B.2!R43)","v":0},null,{"$f":"SUM(V43,X43,Z43,AB43,AD43,AF43,AH43,AJ43,AL43,AN43,AP43,AR43,AT43,AV43,AX43,AZ43,BB43,BD43,BF43)","v":0},null,{"$f":"SUM(Table_B.1!V43,Table_B.2!V43)","v":0},null,{"$f":"SUM(Table_B.1!X43,Table_B.2!X43)","v":0},null,{"$f":"SUM(Table_B.1!Z43,Table_B.2!Z43)","v":0},null,{"$f":"SUM(Table_B.1!AB43,Table_B.2!AB43)","v":0},null,{"$f":"SUM(Table_B.1!AD43,Table_B.2!AD43)","v":0},null,{"$f":"SUM(Table_B.1!AF43,Table_B.2!AF43)","v":0},null,{"$f":"SUM(Table_B.1!AH43,Table_B.2!AH43)","v":0},null,{"$f":"SUM(Table_B.1!AJ43,Table_B.2!AJ43)","v":0},null,{"$f":"SUM(Table_B.1!AL43,Table_B.2!AL43)","v":0},null,{"$f":"SUM(Table_B.1!AN43,Table_B.2!AN43)","v":0},null,{"$f":"SUM(Table_B.1!AP43,Table_B.2!AP43)","v":0},null,{"$f":"SUM(Table_B.1!AR43,Table_B.2!AR43)","v":0},null,{"$f":"SUM(Table_B.1!AT43,Table_B.2!AT43)","v":0},null,{"$f":"SUM(Table_B.1!AV43,Table_B.2!AV43)","v":0},null,{"$f":"SUM(Table_B.1!AX43,Table_B.2!AX43)","v":0},null,{"$f":"SUM(Table_B.1!AZ43,Table_B.2!AZ43)","v":0},null,{"$f":"SUM(Table_B.1!BB43,Table_B.2!BB43)","v":0},null,{"$f":"SUM(Table_B.1!BD43,Table_B.2!BD43)","v":0},null,{"$f":"SUM(Table_B.1!BF43,Table_B.2!BF43)","v":0},null,{"$f":"SUM(Table_B.1!BH43,Table_B.2!BH43)","v":0},null,{"$f":"SUM(BL43,BN43)","v":0},null,{"$f":"SUM(Table_B.1!BL43,Table_B.2!BL43)","v":0},null,{"$f":"SUM(Table_B.1!BN43,Table_B.2!BN43)","v":0},null,{"$f":"SUM(Table_B.1!BP43,Table_B.2!BP43)","v":0},null,{"$f":"SUM(BT43,BV43,BX43)","v":0},null,{"$f":"SUM(Table_B.1!BT43,Table_B.2!BT43)","v":0},null,{"$f":"SUM(Table_B.1!BV43,Table_B.2!BV43)","v":0},null,{"$f":"SUM(Table_B.1!BX43,Table_B.2!BX43)","v":0},null,{"$f":"SUM(CB43,CD43,CF43,CH43,CJ43)","v":0},null,{"$f":"SUM(Table_B.1!CB43,Table_B.2!CB43)","v":0},null,{"$f":"SUM(Table_B.1!CD43,Table_B.2!CD43)","v":0},null,{"$f":"SUM(Table_B.1!CF43,Table_B.2!CF43)","v":0},null,{"$f":"SUM(Table_B.1!CH43,Table_B.2!CH43)","v":0},null,{"$f":"SUM(Table_B.1!CJ43,Table_B.2!CJ43)","v":0},null,{"$f":"SUM(Table_B.1!CL43,Table_B.2!CL43)","v":0},null,{"$f":"SUM(CP43,CR43,CT43,CV43)","v":0},null,{"$f":"SUM(Table_B.1!CP43,Table_B.2!CP43)","v":0},null,{"$f":"SUM(Table_B.1!CR43,Table_B.2!CR43)","v":0},null,{"$f":"SUM(Table_B.1!CT43,Table_B.2!CT43)","v":0},null,{"$f":"SUM(Table_B.1!CV43,Table_B.2!CV43)","v":0},null,{"$f":"SUM(CZ43,DB43,DD43)","v":0},null,{"$f":"SUM(Table_B.1!CZ43,Table_B.2!CZ43)","v":0},null,{"$f":"SUM(Table_B.1!DB43,Table_B.2!DB43)","v":0},null,{"$f":"SUM(Table_B.1!DD43,Table_B.2!DD43)","v":0},null,{"$f":"SUM(Table_B.1!DF43,Table_B.2!DF43)","v":0},null,{"$f":"SUM(Table_B.1!DH43,Table_B.2!DH43)","v":0},null,{"$f":"SUM(DL43,DN43,DP43,DR43,DT43)","v":0},null,{"$f":"SUM(Table_B.1!DL43,Table_B.2!DL43)","v":0},null,{"$f":"SUM(Table_B.1!DN43,Table_B.2!DN43)","v":0},null,{"$f":"SUM(Table_B.1!DP43,Table_B.2!DP43)","v":0},null,{"$f":"SUM(Table_B.1!DR43,Table_B.2!DR43)","v":0},null,{"$f":"SUM(Table_B.1!DT43,Table_B.2!DT43)","v":0},null,{"$f":"SUM(DX43,DZ43,EB43,ED43)","v":0},null,{"$f":"SUM(Table_B.1!DX43,Table_B.2!DX43)","v":0},null,{"$f":"SUM(Table_B.1!DZ43,Table_B.2!DZ43)","v":0},null,{"$f":"SUM(Table_B.1!EB43,Table_B.2!EB43)","v":0},null,{"$f":"SUM(Table_B.1!ED43,Table_B.2!ED43)","v":0},null,{"$f":"SUM(Table_B.1!EF43,Table_B.2!EF43)","v":0},null,{"$f":"SUM(Table_B.1!EH43,Table_B.2!EH43)","v":0},null,{"$f":"SUM(EL43,EN43)","v":0},null,{"$f":"SUM(Table_B.1!EL43,Table_B.2!EL43)","v":0},null,{"$f":"SUM(Table_B.1!EN43,Table_B.2!EN43)","v":0},null,{"$f":"SUM(ER43,ET43)","v":0},null,{"$f":"SUM(Table_B.1!ER43,Table_B.2!ER43)","v":0},null,{"$f":"SUM(Table_B.1!ET43,Table_B.2!ET43)","v":0},null,{"$f":"SUM(EX43,EZ43,FB43)","v":0},null,{"$f":"SUM(Table_B.1!EX43,Table_B.2!EX43)","v":0},null,{"$f":"SUM(Table_B.1!EZ43,Table_B.2!EZ43)","v":0},null,{"$f":"SUM(Table_B.1!FB43,Table_B.2!FB43)","v":0},null,{"$f":"SUM(Table_B.1!FD43,Table_B.2!FD43)","v":0},null,{"$f":"SUM(Table_B.1!FF43,Table_B.2!FF43)","v":0},null,{"$f":"SUM(FJ43,FL43,FN43)","v":0},null,{"$f":"SUM(Table_B.1!FJ43,Table_B.2!FJ43)","v":0},null,{"$f":"SUM(Table_B.1!FL43,Table_B.2!FL43)","v":0},null,{"$f":"SUM(Table_B.1!FN43,Table_B.2!FN43)","v":0},null,{"$f":"SUM(Table_B.1!FP43,Table_B.2!FP43)","v":0},null,{"$f":"SUM(Table_B.1!FR43,Table_B.2!FR43)","v":0},null,{"$f":"SUM(Table_B.1!FT43,Table_B.2!FT43)","v":0},null,{"$f":"SUM(Table_B.1!FV43,Table_B.2!FV43)","v":0},null,{"$f":"SUM(H43,FH43,FP43,FR43,FT43,FV43)","v":0},null,null,null,null,null,null,null,"SD_IO"]
[null,36,{"$f":"'PEFA rows'!B38","v":0},{"$f":"'PEFA rows'!C38","v":"NPR"},"TOTAL USE",null,null,{"$f":"SUM(H9,H17,H38,H43)","v":0},null,{"$f":"SUM(J9,J17,J38,J43)","v":0},null,{"$f":"SUM(L9,L17,L38,L43)","v":0},null,{"$f":"SUM(N9,N17,N38,N43)","v":0},null,{"$f":"SUM(P9,P17,P38,P43)","v":0},null,{"$f":"SUM(R9,R17,R38,R43)","v":0},null,{"$f":"SUM(T9,T17,T38,T43)","v":0},null,{"$f":"SUM(V9,V17,V38,V43)","v":0},null,{"$f":"SUM(X9,X17,X38,X43)","v":0},null,{"$f":"SUM(Z9,Z17,Z38,Z43)","v":0},null,{"$f":"SUM(AB9,AB17,AB38,AB43)","v":0},null,{"$f":"SUM(AD9,AD17,AD38,AD43)","v":0},null,{"$f":"SUM(AF9,AF17,AF38,AF43)","v":0},null,{"$f":"SUM(AH9,AH17,AH38,AH43)","v":0},null,{"$f":"SUM(AJ9,AJ17,AJ38,AJ43)","v":0},null,{"$f":"SUM(AL9,AL17,AL38,AL43)","v":0},null,{"$f":"SUM(AN9,AN17,AN38,AN43)","v":0},null,{"$f":"SUM(AP9,AP17,AP38,AP43)","v":0},null,{"$f":"SUM(AR9,AR17,AR38,AR43)","v":0},null,{"$f":"SUM(AT9,AT17,AT38,AT43)","v":0},null,{"$f":"SUM(AV9,AV17,AV38,AV43)","v":0},null,{"$f":"SUM(AX9,AX17,AX38,AX43)","v":0},null,{"$f":"SUM(AZ9,AZ17,AZ38,AZ43)","v":0},null,{"$f":"SUM(BB9,BB17,BB38,BB43)","v":0},null,{"$f":"SUM(BD9,BD17,BD38,BD43)","v":0},null,{"$f":"SUM(BF9,BF17,BF38,BF43)","v":0},null,{"$f":"SUM(BH9,BH17,BH38,BH43)","v":0},null,{"$f":"SUM(BJ9,BJ17,BJ38,BJ43)","v":0},null,{"$f":"SUM(BL9,BL17,BL38,BL43)","v":0},null,{"$f":"SUM(BN9,BN17,BN38,BN43)","v":0},null,{"$f":"SUM(BP9,BP17,BP38,BP43)","v":0},null,{"$f":"SUM(BR9,BR17,BR38,BR43)","v":0},null,{"$f":"SUM(BT9,BT17,BT38,BT43)","v":0},null,{"$f":"SUM(BV9,BV17,BV38,BV43)","v":0},null,{"$f":"SUM(BX9,BX17,BX38,BX43)","v":0},null,{"$f":"SUM(BZ9,BZ17,BZ38,BZ43)","v":0},null,{"$f":"SUM(CB9,CB17,CB38,CB43)","v":0},null,{"$f":"SUM(CD9,CD17,CD38,CD43)","v":0},null,{"$f":"SUM(CF9,CF17,CF38,CF43)","v":0},null,{"$f":"SUM(CH9,CH17,CH38,CH43)","v":0},null,{"$f":"SUM(CJ9,CJ17,CJ38,CJ43)","v":0},null,{"$f":"SUM(CL9,CL17,CL38,CL43)","v":0},null,{"$f":"SUM(CN9,CN17,CN38,CN43)","v":0},null,{"$f":"SUM(CP9,CP17,CP38,CP43)","v":0},null,{"$f":"SUM(CR9,CR17,CR38,CR43)","v":0},null,{"$f":"SUM(CT9,CT17,CT38,CT43)","v":0},null,{"$f":"SUM(CV9,CV17,CV38,CV43)","v":0},null,{"$f":"SUM(CX9,CX17,CX38,CX43)","v":0},null,{"$f":"SUM(CZ9,CZ17,CZ38,CZ43)","v":0},null,{"$f":"SUM(DB9,DB17,DB38,DB43)","v":0},null,{"$f":"SUM(DD9,DD17,DD38,DD43)","v":0},null,{"$f":"SUM(DF9,DF17,DF38,DF43)","v":0},null,{"$f":"SUM(DH9,DH17,DH38,DH43)","v":0},null,{"$f":"SUM(DJ9,DJ17,DJ38,DJ43)","v":0},null,{"$f":"SUM(DL9,DL17,DL38,DL43)","v":0},null,{"$f":"SUM(DN9,DN17,DN38,DN43)","v":0},null,{"$f":"SUM(DP9,DP17,DP38,DP43)","v":0},null,{"$f":"SUM(DR9,DR17,DR38,DR43)","v":0},null,{"$f":"SUM(DT9,DT17,DT38,DT43)","v":0},null,{"$f":"SUM(DV9,DV17,DV38,DV43)","v":0},null,{"$f":"SUM(DX9,DX17,DX38,DX43)","v":0},null,{"$f":"SUM(DZ9,DZ17,DZ38,DZ43)","v":0},null,{"$f":"SUM(EB9,EB17,EB38,EB43)","v":0},null,{"$f":"SUM(ED9,ED17,ED38,ED43)","v":0},null,{"$f":"SUM(EF9,EF17,EF38,EF43)","v":0},null,{"$f":"SUM(EH9,EH17,EH38,EH43)","v":0},null,{"$f":"SUM(EJ9,EJ17,EJ38,EJ43)","v":0},null,{"$f":"SUM(EL9,EL17,EL38,EL43)","v":0},null,{"$f":"SUM(EN9,EN17,EN38,EN43)","v":0},null,{"$f":"SUM(EP9,EP17,EP38,EP43)","v":0},null,{"$f":"SUM(ER9,ER17,ER38,ER43)","v":0},null,{"$f":"SUM(ET9,ET17,ET38,ET43)","v":0},null,{"$f":"SUM(EV9,EV17,EV38,EV43)","v":0},null,{"$f":"SUM(EX9,EX17,EX38,EX43)","v":0},null,{"$f":"SUM(EZ9,EZ17,EZ38,EZ43)","v":0},null,{"$f":"SUM(FB9,FB17,FB38,FB43)","v":0},null,{"$f":"SUM(FD9,FD17,FD38,FD43)","v":0},null,{"$f":"SUM(FF9,FF17,FF38,FF43)","v":0},null,{"$f":"SUM(FH9,FH17,FH38,FH43)","v":0},null,{"$f":"SUM(FJ9,FJ17,FJ38,FJ43)","v":0},null,{"$f":"SUM(FL9,FL17,FL38,FL43)","v":0},null,{"$f":"SUM(FN9,FN17,FN38,FN43)","v":0},null,{"$f":"SUM(FP9,FP17,FP38,FP43)","v":0},null,{"$f":"SUM(FR9,FR17,FR38,FR43)","v":0},null,{"$f":"SUM(FT9,FT17,FT38,FT43)","v":0},null,{"$f":"SUM(FV9,FV17,FV38,FV43)","v":0},null,{"$f":"SUM(FX9,FX17,FX38,FX43)","v":0},null,{"$f":"IF(ROUND(SUM(FX44),1)>ROUND(SUM(Table_A!FX44),1),\"Supply < Use\",IF(ROUND(SUM(FX44),1)<ROUND(SUM(Table_A!FX44),1),\"Supply > Use\",\"\"))","v":""},null,null,null,null,null,"N00_P00_R00"]
[null,37,"2w","P00w","of which (memo): Own use of ENERGY PRODUCTS",null,null,{"$f":"SUM(J45,R45,T45,BH45,BJ45,BP45,BR45,BZ45,CL45,CN45,CX45,DF45,DJ45,DV45,EF45,EH45,EJ45,EP45,EV45,FD45,FF45)","v":0},null,{"$f":"SUM(L45,N45,P45)","v":0},null,{"$f":"SUM(Table_B.1!L45,Table_B.2!L45)","v":0},null,{"$f":"SUM(Table_B.1!N45,Table_B.2!N45)","v":0},null,{"$f":"SUM(Table_B.1!P45,Table_B.2!P45)","v":0},null,{"$f":"SUM(Table_B.1!R45,Table_B.2!R45)","v":0},null,{"$f":"SUM(V45,X45,Z45,AB45,AD45,AF45,AH45,AJ45,AL45,AN45,AP45,AR45,AT45,AV45,AX45,AZ45,BB45,BD45,BF45)","v":0},null,{"$f":"SUM(Table_B.1!V45,Table_B.2!V45)","v":0},null,{"$f":"SUM(Table_B.1!X45,Table_B.2!X45)","v":0},null,{"$f":"SUM(Table_B.1!Z45,Table_B.2!Z45)","v":0},null,{"$f":"SUM(Table_B.1!AB45,Table_B.2!AB45)","v":0},null,{"$f":"SUM(Table_B.1!AD45,Table_B.2!AD45)","v":0},null,{"$f":"SUM(Table_B.1!AF45,Table_B.2!AF45)","v":0},null,{"$f":"SUM(Table_B.1!AH45,Table_B.2!AH45)","v":0},null,{"$f":"SUM(Table_B.1!AJ45,Table_B.2!AJ45)","v":0},null,{"$f":"SUM(Table_B.1!AL45,Table_B.2!AL45)","v":0},null,{"$f":"SUM(Table_B.1!AN45,Table_B.2!AN45)","v":0},null,{"$f":"SUM(Table_B.1!AP45,Table_B.2!AP45)","v":0},null,{"$f":"SUM(Table_B.1!AR45,Table_B.2!AR45)","v":0},null,{"$f":"SUM(Table_B.1!AT45,Table_B.2!AT45)","v":0},null,{"$f":"SUM(Table_B.1!AV45,Table_B.2!AV45)","v":0},null,{"$f":"SUM(Table_B.1!AX45,Table_B.2!AX45)","v":0},null,{"$f":"SUM(Table_B.1!AZ45,Table_B.2!AZ45)","v":0},null,{"$f":"SUM(Table_B.1!BB45,Table_B.2!BB45)","v":0},null,{"$f":"SUM(Table_B.1!BD45,Table_B.2!BD45)","v":0},null,{"$f":"SUM(Table_B.1!BF45,Table_B.2!BF45)","v":0},null,{"$f":"SUM(Table_B.1!BH45,Table_B.2!BH45)","v":0},null,{"$f":"SUM(BL45,BN45)","v":0},null,{"$f":"SUM(Table_B.1!BL45,Table_B.2!BL45)","v":0},null,{"$f":"SUM(Table_B.1!BN45,Table_B.2!BN45)","v":0},null,{"$f":"SUM(Table_B.1!BP45,Table_B.2!BP45)","v":0},null,{"$f":"SUM(BT45,BV45,BX45)","v":0},null,{"$f":"SUM(Table_B.1!BT45,Table_B.2!BT45)","v":0},null,{"$f":"SUM(Table_B.1!BV45,Table_B.2!BV45)","v":0},null,{"$f":"SUM(Table_B.1!BX45,Table_B.2!BX45)","v":0},null,{"$f":"SUM(CB45,CD45,CF45,CH45,CJ45)","v":0},null,{"$f":"SUM(Table_B.1!CB45,Table_B.2!CB45)","v":0},null,{"$f":"SUM(Table_B.1!CD45,Table_B.2!CD45)","v":0},null,{"$f":"SUM(Table_B.1!CF45,Table_B.2!CF45)","v":0},null,{"$f":"SUM(Table_B.1!CH45,Table_B.2!CH45)","v":0},null,{"$f":"SUM(Table_B.1!CJ45,Table_B.2!CJ45)","v":0},null,{"$f":"SUM(Table_B.1!CL45,Table_B.2!CL45)","v":0},null,{"$f":"SUM(CP45,CR45,CT45,CV45)","v":0},null,{"$f":"SUM(Table_B.1!CP45,Table_B.2!CP45)","v":0},null,{"$f":"SUM(Table_B.1!CR45,Table_B.2!CR45)","v":0},null,{"$f":"SUM(Table_B.1!CT45,Table_B.2!CT45)","v":0},null,{"$f":"SUM(Table_B.1!CV45,Table_B.2!CV45)","v":0},null,{"$f":"SUM(CZ45,DB45,DD45)","v":0},null,{"$f":"SUM(Table_B.1!CZ45,Table_B.2!CZ45)","v":0},null,{"$f":"SUM(Table_B.1!DB45,Table_B.2!DB45)","v":0},null,{"$f":"SUM(Table_B.1!DD45,Table_B.2!DD45)","v":0},null,{"$f":"SUM(Table_B.1!DF45,Table_B.2!DF45)","v":0},null,{"$f":"SUM(Table_B.1!DH45,Table_B.2!DH45)","v":0},null,{"$f":"SUM(DL45,DN45,DP45,DR45,DT45)","v":0},null,{"$f":"SUM(Table_B.1!DL45,Table_B.2!DL45)","v":0},null,{"$f":"SUM(Table_B.1!DN45,Table_B.2!DN45)","v":0},null,{"$f":"SUM(Table_B.1!DP45,Table_B.2!DP45)","v":0},null,{"$f":"SUM(Table_B.1!DR45,Table_B.2!DR45)","v":0},null,{"$f":"SUM(Table_B.1!DT45,Table_B.2!DT45)","v":0},null,{"$f":"SUM(DX45,DZ45,EB45,ED45)","v":0},null,{"$f":"SUM(Table_B.1!DX45,Table_B.2!DX45)","v":0},null,{"$f":"SUM(Table_B.1!DZ45,Table_B.2!DZ45)","v":0},null,{"$f":"SUM(Table_B.1!EB45,Table_B.2!EB45)","v":0},null,{"$f":"SUM(Table_B.1!ED45,Table_B.2!ED45)","v":0},null,{"$f":"SUM(Table_B.1!EF45,Table_B.2!EF45)","v":0},null,{"$f":"SUM(Table_B.1!EH45,Table_B.2!EH45)","v":0},null,{"$f":"SUM(EL45,EN45)","v":0},null,{"$f":"SUM(Table_B.1!EL45,Table_B.2!EL45)","v":0},null,{"$f":"SUM(Table_B.1!EN45,Table_B.2!EN45)","v":0},null,{"$f":"SUM(ER45,ET45)","v":0},null,{"$f":"SUM(Table_B.1!ER45,Table_B.2!ER45)","v":0},null,{"$f":"SUM(Table_B.1!ET45,Table_B.2!ET45)","v":0},null,{"$f":"SUM(EX45,EZ45,FB45)","v":0},null,{"$f":"SUM(Table_B.1!EX45,Table_B.2!EX45)","v":0},null,{"$f":"SUM(Table_B.1!EZ45,Table_B.2!EZ45)","v":0},null,{"$f":"SUM(Table_B.1!FB45,Table_B.2!FB45)","v":0},null,{"$f":"SUM(Table_B.1!FD45,Table_B.2!FD45)","v":0},null,{"$f":"SUM(Table_B.1!FF45,Table_B.2!FF45)","v":0},null,{"$f":"SUM(FJ45,FL45,FN45)","v":0},null,{"$f":"SUM(Table_B.1!FJ45,Table_B.2!FJ45)","v":0},null,{"$f":"SUM(Table_B.1!FL45,Table_B.2!FL45)","v":0},null,{"$f":"SUM(Table_B.1!FN45,Table_B.2!FN45)","v":0},null,null,null,null,null,null,null,null,null,{"$f":"SUM(H45,FH45,FP45,FR45,FT45,FV45)","v":0},null,null,null,null,null,null,null,"EPRD_OUSE"]
[null,null,null,null,null,null,null,{"$f":"IF(ROUND(SUM(H44),1)>ROUND(SUM(Table_A!H44),1),\"Supply < Use\",IF(ROUND(SUM(H44),1)<ROUND(SUM(Table_A!H44),1),\"Supply > Use\",\"\"))","v":""},null,{"$f":"IF(ROUND(SUM(J44),1)>ROUND(SUM(Table_A!J44),1),\"Supply < Use\",IF(ROUND(SUM(J44),1)<ROUND(SUM(Table_A!J44),1),\"Supply > Use\",\"\"))","v":""},null,{"$f":"IF(ROUND(SUM(L44),1)>ROUND(SUM(Table_A!L44),1),\"Supply < Use\",IF(ROUND(SUM(L44),1)<ROUND(SUM(Table_A!L44),1),\"Supply > Use\",\"\"))","v":""},null,{"$f":"IF(ROUND(SUM(N44),1)>ROUND(SUM(Table_A!N44),1),\"Supply < Use\",IF(ROUND(SUM(N44),1)<ROUND(SUM(Table_A!N44),1),\"Supply > Use\",\"\"))","v":""},null,{"$f":"IF(ROUND(SUM(P44),1)>ROUND(SUM(Table_A!P44),1),\"Supply < Use\",IF(ROUND(SUM(P44),1)<ROUND(SUM(Table_A!P44),1),\"Supply > Use\",\"\"))","v":""},null,{"$f":"IF(ROUND(SUM(R44),1)>ROUND(SUM(Table_A!R44),1),\"Supply < Use\",IF(ROUND(SUM(R44),1)<ROUND(SUM(Table_A!R44),1),\"Supply > Use\",\"\"))","v":""},null,{"$f":"IF(ROUND(SUM(T44),1)>ROUND(SUM(Table_A!T44),1),\"Supply < Use\",IF(ROUND(SUM(T44),1)<ROUND(SUM(Table_A!T44),1),\"Supply > Use\",\"\"))","v":""},null,{"$f":"IF(ROUND(SUM(V44),1)>ROUND(SUM(Table_A!V44),1),\"Supply < Use\",IF(ROUND(SUM(V44),1)<ROUND(SUM(Table_A!V44),1),\"Supply > Use\",\"\"))","v":""},null,{"$f":"IF(ROUND(SUM(X44),1)>ROUND(SUM(Table_A!X44),1),\"Supply < Use\",IF(ROUND(SUM(X44),1)<ROUND(SUM(Table_A!X44),1),\"Supply > Use\",\"\"))","v":""},null,{"$f":"IF(ROUND(SUM(Z44),1)>ROUND(SUM(Table_A!Z44),1),\"Supply < Use\",IF(ROUND(SUM(Z44),1)<ROUND(SUM(Table_A!Z44),1),\"Supply > Use\",\"\"))","v":""},null,{"$f":"IF(ROUND(SUM(AB44),1)>ROUND(SUM(Table_A!AB44),1),\"Supply < Use\",IF(ROUND(SUM(AB44),1)<ROUND(SUM(Table_A!AB44),1),\"Supply > Use\",\"\"))","v":""},null,{"$f":"IF(ROUND(SUM(AD44),1)>ROUND(SUM(Table_A!AD44),1),\"Supply < Use\",IF(ROUND(SUM(AD44),1)<ROUND(SUM(Table_A!AD44),1),\"Supply > Use\",\"\"))","v":""},null,{"$f":"IF(ROUND(SUM(AF44),1)>ROUND(SUM(Table_A!AF44),1),\"Supply < Use\",IF(ROUND(SUM(AF44),1)<ROUND(SUM(Table_A!AF44),1),\"Supply > Use\",\"\"))","v":""},null,{"$f":"IF(ROUND(SUM(AH44),1)>ROUND(SUM(Table_A!AH44),1),\"Supply < Use\",IF(ROUND(SUM(AH44),1)<ROUND(SUM(Table_A!AH44),1),\"Supply > Use\",\"\"))","v":""},null,{"$f":"IF(ROUND(SUM(AJ44),1)>ROUND(SUM(Table_A!AJ44),1),\"Supply < Use\",IF(ROUND(SUM(AJ44),1)<ROUND(SUM(Table_A!AJ44),1),\"Supply > Use\",\"\"))","v":""},null,{"$f":"IF(ROUND(SUM(AL44),1)>ROUND(SUM(Table_A!AL44),1),\"Supply < Use\",IF(ROUND(SUM(AL44),1)<ROUND(SUM(Table_A!AL44),1),\"Supply > Use\",\"\"))","v":""},null,{"$f":"IF(ROUND(SUM(AN44),1)>ROUND(SUM(Table_A!AN44),1),\"Supply < Use\",IF(ROUND(SUM(AN44),1)<ROUND(SUM(Table_A!AN44),1),\"Supply > Use\",\"\"))","v":""},null,{"$f":"IF(ROUND(SUM(AP44),1)>ROUND(SUM(Table_A!AP44),1),\"Supply < Use\",IF(ROUND(SUM(AP44),1)<ROUND(SUM(Table_A!AP44),1),\"Supply > Use\",\"\"))","v":""},null,{"$f":"IF(ROUND(SUM(AR44),1)>ROUND(SUM(Table_A!AR44),1),\"Supply < Use\",IF(ROUND(SUM(AR44),1)<ROUND(SUM(Table_A!AR44),1),\"Supply > Use\",\"\"))","v":""},null,{"$f":"IF(ROUND(SUM(AT44),1)>ROUND(SUM(Table_A!AT44),1),\"Supply < Use\",IF(ROUND(SUM(AT44),1)<ROUND(SUM(Table_A!AT44),1),\"Supply > Use\",\"\"))","v":""},null,{"$f":"IF(ROUND(SUM(AV44),1)>ROUND(SUM(Table_A!AV44),1),\"Supply < Use\",IF(ROUND(SUM(AV44),1)<ROUND(SUM(Table_A!AV44),1),\"Supply > Use\",\"\"))","v":""},null,{"$f":"IF(ROUND(SUM(AX44),1)>ROUND(SUM(Table_A!AX44),1),\"Supply < Use\",IF(ROUND(SUM(AX44),1)<ROUND(SUM(Table_A!AX44),1),\"Supply > Use\",\"\"))","v":""},null,{"$f":"IF(ROUND(SUM(AZ44),1)>ROUND(SUM(Table_A!AZ44),1),\"Supply < Use\",IF(ROUND(SUM(AZ44),1)<ROUND(SUM(Table_A!AZ44),1),\"Supply > Use\",\"\"))","v":""},null,{"$f":"IF(ROUND(SUM(BB44),1)>ROUND(SUM(Table_A!BB44),1),\"Supply < Use\",IF(ROUND(SUM(BB44),1)<ROUND(SUM(Table_A!BB44),1),\"Supply > Use\",\"\"))","v":""},null,{"$f":"IF(ROUND(SUM(BD44),1)>ROUND(SUM(Table_A!BD44),1),\"Supply < Use\",IF(ROUND(SUM(BD44),1)<ROUND(SUM(Table_A!BD44),1),\"Supply > Use\",\"\"))","v":""},null,{"$f":"IF(ROUND(SUM(BF44),1)>ROUND(SUM(Table_A!BF44),1),\"Supply < Use\",IF(ROUND(SUM(BF44),1)<ROUND(SUM(Table_A!BF44),1),\"Supply > Use\",\"\"))","v":""},null,{"$f":"IF(ROUND(SUM(BH44),1)>ROUND(SUM(Table_A!BH44),1),\"Supply < Use\",IF(ROUND(SUM(BH44),1)<ROUND(SUM(Table_A!BH44),1),\"Supply > Use\",\"\"))","v":""},null,{"$f":"IF(ROUND(SUM(BJ44),1)>ROUND(SUM(Table_A!BJ44),1),\"Supply < Use\",IF(ROUND(SUM(BJ44),1)<ROUND(SUM(Table_A!BJ44),1),\"Supply > Use\",\"\"))","v":""},null,{"$f":"IF(ROUND(SUM(BL44),1)>ROUND(SUM(Table_A!BL44),1),\"Supply < Use\",IF(ROUND(SUM(BL44),1)<ROUND(SUM(Table_A!BL44),1),\"Supply > Use\",\"\"))","v":""},null,{"$f":"IF(ROUND(SUM(BN44),1)>ROUND(SUM(Table_A!BN44),1),\"Supply < Use\",IF(ROUND(SUM(BN44),1)<ROUND(SUM(Table_A!BN44),1),\"Supply > Use\",\"\"))","v":""},null,{"$f":"IF(ROUND(SUM(BP44),1)>ROUND(SUM(Table_A!BP44),1),\"Supply < Use\",IF(ROUND(SUM(BP44),1)<ROUND(SUM(Table_A!BP44),1),\"Supply > Use\",\"\"))","v":""},null,{"$f":"IF(ROUND(SUM(BR44),1)>ROUND(SUM(Table_A!BR44),1),\"Supply < Use\",IF(ROUND(SUM(BR44),1)<ROUND(SUM(Table_A!BR44),1),\"Supply > Use\",\"\"))","v":""},null,{"$f":"IF(ROUND(SUM(BT44),1)>ROUND(SUM(Table_A!BT44),1),\"Supply < Use\",IF(ROUND(SUM(BT44),1)<ROUND(SUM(Table_A!BT44),1),\"Supply > Use\",\"\"))","v":""},null,{"$f":"IF(ROUND(SUM(BV44),1)>ROUND(SUM(Table_A!BV44),1),\"Supply < Use\",IF(ROUND(SUM(BV44),1)<ROUND(SUM(Table_A!BV44),1),\"Supply > Use\",\"\"))","v":""},null,{"$f":"IF(ROUND(SUM(BX44),1)>ROUND(SUM(Table_A!BX44),1),\"Supply < Use\",IF(ROUND(SUM(BX44),1)<ROUND(SUM(Table_A!BX44),1),\"Supply > Use\",\"\"))","v":""},null,{"$f":"IF(ROUND(SUM(BZ44),1)>ROUND(SUM(Table_A!BZ44),1),\"Supply < Use\",IF(ROUND(SUM(BZ44),1)<ROUND(SUM(Table_A!BZ44),1),\"Supply > Use\",\"\"))","v":""},null,{"$f":"IF(ROUND(SUM(CB44),1)>ROUND(SUM(Table_A!CB44),1),\"Supply < Use\",IF(ROUND(SUM(CB44),1)<ROUND(SUM(Table_A!CB44),1),\"Supply > Use\",\"\"))","v":""},null,{"$f":"IF(ROUND(SUM(CD44),1)>ROUND(SUM(Table_A!CD44),1),\"Supply < Use\",IF(ROUND(SUM(CD44),1)<ROUND(SUM(Table_A!CD44),1),\"Supply > Use\",\"\"))","v":""},null,{"$f":"IF(ROUND(SUM(CF44),1)>ROUND(SUM(Table_A!CF44),1),\"Supply < Use\",IF(ROUND(SUM(CF44),1)<ROUND(SUM(Table_A!CF44),1),\"Supply > Use\",\"\"))","v":""},null,{"$f":"IF(ROUND(SUM(CH44),1)>ROUND(SUM(Table_A!CH44),1),\"Supply < Use\",IF(ROUND(SUM(CH44),1)<ROUND(SUM(Table_A!CH44),1),\"Supply > Use\",\"\"))","v":""},null,{"$f":"IF(ROUND(SUM(CJ44),1)>ROUND(SUM(Table_A!CJ44),1),\"Supply < Use\",IF(ROUND(SUM(CJ44),1)<ROUND(SUM(Table_A!CJ44),1),\"Supply > Use\",\"\"))","v":""},null,{"$f":"IF(ROUND(SUM(CL44),1)>ROUND(SUM(Table_A!CL44),1),\"Supply < Use\",IF(ROUND(SUM(CL44),1)<ROUND(SUM(Table_A!CL44),1),\"Supply > Use\",\"\"))","v":""},null,{"$f":"IF(ROUND(SUM(CN44),1)>ROUND(SUM(Table_A!CN44),1),\"Supply < Use\",IF(ROUND(SUM(CN44),1)<ROUND(SUM(Table_A!CN44),1),\"Supply > Use\",\"\"))","v":""},null,{"$f":"IF(ROUND(SUM(CP44),1)>ROUND(SUM(Table_A!CP44),1),\"Supply < Use\",IF(ROUND(SUM(CP44),1)<ROUND(SUM(Table_A!CP44),1),\"Supply > Use\",\"\"))","v":""},null,{"$f":"IF(ROUND(SUM(CR44),1)>ROUND(SUM(Table_A!CR44),1),\"Supply < Use\",IF(ROUND(SUM(CR44),1)<ROUND(SUM(Table_A!CR44),1),\"Supply > Use\",\"\"))","v":""},null,{"$f":"IF(ROUND(SUM(CT44),1)>ROUND(SUM(Table_A!CT44),1),\"Supply < Use\",IF(ROUND(SUM(CT44),1)<ROUND(SUM(Table_A!CT44),1),\"Supply > Use\",\"\"))","v":""},null,{"$f":"IF(ROUND(SUM(CV44),1)>ROUND(SUM(Table_A!CV44),1),\"Supply < Use\",IF(ROUND(SUM(CV44),1)<ROUND(SUM(Table_A!CV44),1),\"Supply > Use\",\"\"))","v":""},null,{"$f":"IF(ROUND(SUM(CX44),1)>ROUND(SUM(Table_A!CX44),1),\"Supply < Use\",IF(ROUND(SUM(CX44),1)<ROUND(SUM(Table_A!CX44),1),\"Supply > Use\",\"\"))","v":""},null,{"$f":"IF(ROUND(SUM(CZ44),1)>ROUND(SUM(Table_A!CZ44),1),\"Supply < Use\",IF(ROUND(SUM(CZ44),1)<ROUND(SUM(Table_A!CZ44),1),\"Supply > Use\",\"\"))","v":""},null,{"$f":"IF(ROUND(SUM(DB44),1)>ROUND(SUM(Table_A!DB44),1),\"Supply < Use\",IF(ROUND(SUM(DB44),1)<ROUND(SUM(Table_A!DB44),1),\"Supply > Use\",\"\"))","v":""},null,{"$f":"IF(ROUND(SUM(DD44),1)>ROUND(SUM(Table_A!DD44),1),\"Supply < Use\",IF(ROUND(SUM(DD44),1)<ROUND(SUM(Table_A!DD44),1),\"Supply > Use\",\"\"))","v":""},null,{"$f":"IF(ROUND(SUM(DF44),1)>ROUND(SUM(Table_A!DF44),1),\"Supply < Use\",IF(ROUND(SUM(DF44),1)<ROUND(SUM(Table_A!DF44),1),\"Supply > Use\",\"\"))","v":""},null,{"$f":"IF(ROUND(SUM(DH44),1)>ROUND(SUM(Table_A!DH44),1),\"Supply < Use\",IF(ROUND(SUM(DH44),1)<ROUND(SUM(Table_A!DH44),1),\"Supply > Use\",\"\"))","v":""},null,{"$f":"IF(ROUND(SUM(DJ44),1)>ROUND(SUM(Table_A!DJ44),1),\"Supply < Use\",IF(ROUND(SUM(DJ44),1)<ROUND(SUM(Table_A!DJ44),1),\"Supply > Use\",\"\"))","v":""},null,{"$f":"IF(ROUND(SUM(DL44),1)>ROUND(SUM(Table_A!DL44),1),\"Supply < Use\",IF(ROUND(SUM(DL44),1)<ROUND(SUM(Table_A!DL44),1),\"Supply > Use\",\"\"))","v":""},null,{"$f":"IF(ROUND(SUM(DN44),1)>ROUND(SUM(Table_A!DN44),1),\"Supply < Use\",IF(ROUND(SUM(DN44),1)<ROUND(SUM(Table_A!DN44),1),\"Supply > Use\",\"\"))","v":""},null,{"$f":"IF(ROUND(SUM(DP44),1)>ROUND(SUM(Table_A!DP44),1),\"Supply < Use\",IF(ROUND(SUM(DP44),1)<ROUND(SUM(Table_A!DP44),1),\"Supply > Use\",\"\"))","v":""},null,{"$f":"IF(ROUND(SUM(DR44),1)>ROUND(SUM(Table_A!DR44),1),\"Supply < Use\",IF(ROUND(SUM(DR44),1)<ROUND(SUM(Table_A!DR44),1),\"Supply > Use\",\"\"))","v":""},null,{"$f":"IF(ROUND(SUM(DT44),1)>ROUND(SUM(Table_A!DT44),1),\"Supply < Use\",IF(ROUND(SUM(DT44),1)<ROUND(SUM(Table_A!DT44),1),\"Supply > Use\",\"\"))","v":""},null,{"$f":"IF(ROUND(SUM(DV44),1)>ROUND(SUM(Table_A!DV44),1),\"Supply < Use\",IF(ROUND(SUM(DV44),1)<ROUND(SUM(Table_A!DV44),1),\"Supply > Use\",\"\"))","v":""},null,{"$f":"IF(ROUND(SUM(DX44),1)>ROUND(SUM(Table_A!DX44),1),\"Supply < Use\",IF(ROUND(SUM(DX44),1)<ROUND(SUM(Table_A!DX44),1),\"Supply > Use\",\"\"))","v":""},null,{"$f":"IF(ROUND(SUM(DZ44),1)>ROUND(SUM(Table_A!DZ44),1),\"Supply < Use\",IF(ROUND(SUM(DZ44),1)<ROUND(SUM(Table_A!DZ44),1),\"Supply > Use\",\"\"))","v":""},null,{"$f":"IF(ROUND(SUM(EB44),1)>ROUND(SUM(Table_A!EB44),1),\"Supply < Use\",IF(ROUND(SUM(EB44),1)<ROUND(SUM(Table_A!EB44),1),\"Supply > Use\",\"\"))","v":""},null,{"$f":"IF(ROUND(SUM(ED44),1)>ROUND(SUM(Table_A!ED44),1),\"Supply < Use\",IF(ROUND(SUM(ED44),1)<ROUND(SUM(Table_A!ED44),1),\"Supply > Use\",\"\"))","v":""},null,{"$f":"IF(ROUND(SUM(EF44),1)>ROUND(SUM(Table_A!EF44),1),\"Supply < Use\",IF(ROUND(SUM(EF44),1)<ROUND(SUM(Table_A!EF44),1),\"Supply > Use\",\"\"))","v":""},null,{"$f":"IF(ROUND(SUM(EH44),1)>ROUND(SUM(Table_A!EH44),1),\"Supply < Use\",IF(ROUND(SUM(EH44),1)<ROUND(SUM(Table_A!EH44),1),\"Supply > Use\",\"\"))","v":""},null,{"$f":"IF(ROUND(SUM(EJ44),1)>ROUND(SUM(Table_A!EJ44),1),\"Supply < Use\",IF(ROUND(SUM(EJ44),1)<ROUND(SUM(Table_A!EJ44),1),\"Supply > Use\",\"\"))","v":""},null,{"$f":"IF(ROUND(SUM(EL44),1)>ROUND(SUM(Table_A!EL44),1),\"Supply < Use\",IF(ROUND(SUM(EL44),1)<ROUND(SUM(Table_A!EL44),1),\"Supply > Use\",\"\"))","v":""},null,{"$f":"IF(ROUND(SUM(EN44),1)>ROUND(SUM(Table_A!EN44),1),\"Supply < Use\",IF(ROUND(SUM(EN44),1)<ROUND(SUM(Table_A!EN44),1),\"Supply > Use\",\"\"))","v":""},null,{"$f":"IF(ROUND(SUM(EP44),1)>ROUND(SUM(Table_A!EP44),1),\"Supply < Use\",IF(ROUND(SUM(EP44),1)<ROUND(SUM(Table_A!EP44),1),\"Supply > Use\",\"\"))","v":""},null,{"$f":"IF(ROUND(SUM(ER44),1)>ROUND(SUM(Table_A!ER44),1),\"Supply < Use\",IF(ROUND(SUM(ER44),1)<ROUND(SUM(Table_A!ER44),1),\"Supply > Use\",\"\"))","v":""},null,{"$f":"IF(ROUND(SUM(ET44),1)>ROUND(SUM(Table_A!ET44),1),\"Supply < Use\",IF(ROUND(SUM(ET44),1)<ROUND(SUM(Table_A!ET44),1),\"Supply > Use\",\"\"))","v":""},null,{"$f":"IF(ROUND(SUM(EV44),1)>ROUND(SUM(Table_A!EV44),1),\"Supply < Use\",IF(ROUND(SUM(EV44),1)<ROUND(SUM(Table_A!EV44),1),\"Supply > Use\",\"\"))","v":""},null,{"$f":"IF(ROUND(SUM(EX44),1)>ROUND(SUM(Table_A!EX44),1),\"Supply < Use\",IF(ROUND(SUM(EX44),1)<ROUND(SUM(Table_A!EX44),1),\"Supply > Use\",\"\"))","v":""},null,{"$f":"IF(ROUND(SUM(EZ44),1)>ROUND(SUM(Table_A!EZ44),1),\"Supply < Use\",IF(ROUND(SUM(EZ44),1)<ROUND(SUM(Table_A!EZ44),1),\"Supply > Use\",\"\"))","v":""},null,{"$f":"IF(ROUND(SUM(FB44),1)>ROUND(SUM(Table_A!FB44),1),\"Supply < Use\",IF(ROUND(SUM(FB44),1)<ROUND(SUM(Table_A!FB44),1),\"Supply > Use\",\"\"))","v":""},null,{"$f":"IF(ROUND(SUM(FD44),1)>ROUND(SUM(Table_A!FD44),1),\"Supply < Use\",IF(ROUND(SUM(FD44),1)<ROUND(SUM(Table_A!FD44),1),\"Supply > Use\",\"\"))","v":""},null,{"$f":"IF(ROUND(SUM(FF44),1)>ROUND(SUM(Table_A!FF44),1),\"Supply < Use\",IF(ROUND(SUM(FF44),1)<ROUND(SUM(Table_A!FF44),1),\"Supply > Use\",\"\"))","v":""},null,{"$f":"IF(ROUND(SUM(FH44),1)>ROUND(SUM(Table_A!FH44),1),\"Supply < Use\",IF(ROUND(SUM(FH44),1)<ROUND(SUM(Table_A!FH44),1),\"Supply > Use\",\"\"))","v":""},null,{"$f":"IF(ROUND(SUM(FJ44),1)>ROUND(SUM(Table_A!FJ44),1),\"Supply < Use\",IF(ROUND(SUM(FJ44),1)<ROUND(SUM(Table_A!FJ44),1),\"Supply > Use\",\"\"))","v":""},null,{"$f":"IF(ROUND(SUM(FL44),1)>ROUND(SUM(Table_A!FL44),1),\"Supply < Use\",IF(ROUND(SUM(FL44),1)<ROUND(SUM(Table_A!FL44),1),\"Supply > Use\",\"\"))","v":""},null,{"$f":"IF(ROUND(SUM(FN44),1)>ROUND(SUM(Table_A!FN44),1),\"Supply < Use\",IF(ROUND(SUM(FN44),1)<ROUND(SUM(Table_A!FN44),1),\"Supply > Use\",\"\"))","v":""},null,null,null,null,null,null,null,null,null,{"$f":"IF(ROUND(SUM(FX44),1)>ROUND(SUM(Table_A!FX44),1),\"Supply < Use\",IF(ROUND(SUM(FX44),1)<ROUND(SUM(Table_A!FX44),1),\"Supply > Use\",\"\"))","v":""}]
[]
[]
[]
[null,null,null,null,"NACE_R2",null,null,"TOTAL",null,"A",null,"A01",null,"A02",null,"A03",null,"B",null,"C",null,"C10-C12",null,"C13-C15",null,"C16",null,"C17",null,"C18",null,"C19",null,"C20",null,"C21",null,"C22",null,"C23",null,"C24",null,"C25",null,"C26",null,"C27",null,"C28",null,"C29",null,"C30",null,"C31_C32",null,"C33",null,"D",null,"E",null,"E36",null,"E37-E39",null,"F",null,"G",null,"G45",null,"G46",null,"G47",null,"H",null,"H49",null,"H50",null,"H51",null,"H52",null,"H53",null,"I",null,"J",null,"J58",null,"J59_J60",null,"J61",null,"J62_J63",null,"K",null,"K64",null,"K65",null,"K66",null,"L",null,"L68A",null,"M",null,"M69_M70",null,"M71",null,"M72",null,"M73",null,"M74_M75",null,"N",null,"N77",null,"N78",null,"N79",null,"N80-N82",null,"O",null,"P",null,"Q",null,"Q86",null,"Q87_Q88",null,"R",null,"R90-R92",null,"R93",null,"S",null,"S94",null,"S95",null,"S96",null,"T",null,"U",null,"HH",null,"HH_HEAT",null,"HH_TRA",null,"HH_OTH",null,"CH_INV_PA",null,"SD_SU",null,"ROW_ACT",null,"ENV",null,"NRG_FLOW"]

{"sheet":"Table_B.1","index":14,"n_rows":50,"n_cols":190,"rows_kept":50,"cut":false,"hidden":false,"merged":[[4,187,6,187],[44,4,44,5],[1,15,1,16],[1,17,1,18],[1,19,1,20],[1,21,1,22],[1,23,1,24],[1,25,1,26],[1,41,1,42],[1,43,1,44],[1,45,1,46],[1,47,1,48],[1,49,1,50],[1,63,1,64],[1,65,1,66],[1,67,1,68],[1,69,1,70],[1,71,1,72],[1,73,1,74],[1,51,1,52],[1,53,1,54],[1,55,1,56],[1,57,1,58],[1,59,1,60],[1,1,1,3],[1,5,1,6],[1,7,1,8],[1,9,1,10],[1,11,1,12],[1,13,1,14],[2,25,2,26],[3,1,3,3],[3,5,3,6],[2,21,2,22],[2,23,2,24],[5,1,5,3],[5,5,6,6],[5,7,6,8],[5,9,6,10],[5,11,6,12],[5,13,6,14],[13,4,13,5],[14,4,14,5],[1,39,1,40],[1,27,1,28],[1,29,1,30],[1,31,1,32],[1,33,1,34],[1,35,1,36],[1,37,1,38],[2,27,2,28],[2,29,2,30],[2,31,2,32],[2,33,2,34],[2,35,2,36],[2,13,2,14],[2,15,2,16],[2,17,2,18],[2,19,2,20],[1,61,1,62],[1,87,1,88],[1,89,1,90],[1,91,1,92],[1,93,1,94],[1,95,1,96],[1,97,1,98],[1,75,1,76],[1,77,1,78],[1,79,1,80],[1,81,1,82],[1,83,1,84],[1,85,1,86],[1,111,1,112],[1,113,1,114],[1,115,1,116],[1,117,1,118],[1,119,1,120],[1,121,1,122],[1,99,1,100],[1,101,1,102],[1,103,1,104],[1,105,1,106],[1,107,1,108],[1,109,1,110],[1,139,1,140],[1,141,1,142],[1,143,1,144],[1,145,1,146],[1,123,1,124],[1,125,1,126],[1,127,1,128],[1,129,1,130],[1,131,1,132],[1,133,1,134],[1,171,1,172],[1,173,1,174],[1,175,1,176],[1,177,1,178],[1,179,1,180],[2,1,2,3],[2,5,2,6],[2,7,2,8],[2,9,2,10],[2,11,2,12],[1,159,1,160],[1,161,1,162],[1,163,1,164],[1,165,1,166],[1,167,1,168],[1,169,1,170],[1,147,1,148],[1,149,1,150],[1,151,1,152],[1,153,1,154],[1,155,1,156],[1,157,1,158],[1,135,1,136],[1,137,1,138],[2,49,2,50],[2,51,2,52],[2,53,2,54],[2,55,2,56],[2,57,2,58],[2,59,2,60],[2,37,2,38],[2,39,2,40],[2,41,2,42],[2,43,2,44],[2,45,2,46],[2,47,2,48],[2,73,2,74],[2,75,2,76],[2,77,2,78],[2,79,2,80],[2,81,2,82],[2,83,2,84],[2,61,2,62],[2,63,2,64],[2,65,2,66],[2,67,2,68],[2,69,2,70],[2,71,2,72],[2,97,2,98],[2,99,2,100],[2,101,2,102],[2,103,2,104],[2,105,2,106],[2,107,2,108],[2,85,2,86],[2,87,2,88],[2,89,2,90],[2,91,2,92],[2,93,2,94],[2,95,2,96],[2,121,2,122],[2,123,2,124],[2,125,2,126],[2,127,2,128],[2,129,2,130],[2,131,2,132],[2,109,2,110],[2,111,2,112],[2,113,2,114],[2,115,2,116],[2,117,2,118],[2,119,2,120],[2,145,2,146],[2,147,2,148],[2,149,2,150],[2,151,2,152],[2,153,2,154],[2,155,2,156],[2,133,2,134],[2,135,2,136],[2,137,2,138],[2,139,2,140],[2,141,2,142],[2,143,2,144],[2,169,2,170],[2,171,2,172],[2,173,2,174],[2,175,2,176],[2,177,2,178],[2,179,2,180],[2,157,2,158],[2,159,2,160],[2,161,2,162],[2,163,2,164],[2,165,2,166],[2,167,2,168],[3,173,3,174],[3,175,3,176],[3,177,3,178],[4,1,4,3],[4,5,4,6],[4,7,4,8],[4,9,4,10],[4,11,4,12],[4,25,4,26],[4,27,4,28],[4,29,4,30],[4,31,4,32],[4,33,4,34],[4,35,4,36],[4,13,4,14],[4,15,4,16],[4,17,4,18],[4,19,4,20],[4,21,4,22],[4,23,4,24],[4,49,4,50],[4,51,4,52],[4,53,4,54],[4,55,4,56],[4,57,4,58],[4,59,4,60],[4,37,4,38],[4,39,4,40],[4,41,4,42],[4,43,4,44],[4,45,4,46],[4,47,4,48],[4,73,4,74],[4,75,4,76],[4,77,4,78],[4,79,4,80],[4,81,4,82],[4,83,4,84],[4,61,4,62],[4,63,4,64],[4,65,4,66],[4,67,4,68],[4,69,4,70],[4,71,4,72],[4,97,4,98],[4,99,4,100],[4,101,4,102],[4,103,4,104],[4,105,4,106],[4,107,4,108],[4,85,4,86],[4,87,4,88],[4,89,4,90],[4,91,4,92],[4,93,4,94],[4,95,4,96],[4,127,4,128],[4,129,4,130],[4,131,4,132],[4,109,4,110],[4,111,4,112],[4,113,4,114],[4,115,4,116],[4,117,4,118],[4,119,4,120],[4,121,4,122],[4,123,4,124],[4,125,4,126],[4,175,4,176],[4,177,4,178],[4,179,4,180],[4,157,4,158],[4,159,4,160],[4,161,4,162],[4,163,4,164],[4,165,4,166],[4,167,4,168],[4,169,4,170],[4,171,4,172],[4,173,4,174],[4,145,4,146],[4,147,4,148],[4,149,4,150],[4,151,4,152],[4,153,4,154],[4,155,4,156],[4,133,4,134],[4,135,4,136],[4,137,4,138],[4,139,4,140],[4,141,4,142],[4,143,4,144],[5,27,6,28],[5,29,6,30],[5,31,6,32],[5,33,6,34],[5,35,6,36],[5,37,6,38],[5,15,6,16],[5,17,6,18],[5,19,6,20],[5,21,6,22],[5,23,6,24],[5,25,6,26],[5,51,6,52],[5,53,6,54],[5,55,6,56],[5,57,6,58],[5,59,6,60],[5,61,6,62],[5,39,6,40],[5,41,6,42],[5,43,6,44],[5,45,6,46],[5,47,6,48],[5,49,6,50],[5,75,6,76],[5,77,6,78],[5,79,6,80],[5,81,6,82],[5,83,6,84],[5,85,6,86],[5,63,6,64],[5,65,6,66],[5,67,6,68],[5,69,6,70],[5,71,6,72],[5,73,6,74],[5,99,6,100],[5,101,6,102],[5,103,6,104],[5,105,6,106],[5,107,6,108],[5,109,6,110],[5,87,6,88],[5,89,6,90],[5,91,6,92],[5,93,6,94],[5,95,6,96],[5,97,6,98],[5,123,6,124],[5,125,6,126],[5,127,6,128],[5,129,6,130],[5,131,6,132],[5,133,6,134],[5,111,6,112],[5,113,6,114],[5,115,6,116],[5,117,6,118],[5,119,6,120],[5,121,6,122],[5,171,6,172],[5,173,6,174],[5,175,6,176],[5,177,6,178],[5,179,6,180],[6,1,6,4],[5,159,6,160],[5,161,6,162],[5,163,6,164],[5,165,6,166],[5,167,6,168],[5,169,6,170],[5,147,6,148],[5,149,6,150],[5,151,6,152],[5,153,6,154],[5,155,6,156],[5,157,6,158],[5,135,6,136],[5,137,6,138],[5,139,6,140],[5,141,6,142],[5,143,6,144],[5,145,6,146],[15,4,15,5],[16,4,16,5],[17,4,17,5],[18,4,18,5],[7,4,7,6],[8,4,8,5],[9,4,9,5],[10,4,10,5],[11,4,11,5],[12,4,12,5],[25,4,25,5],[26,4,26,5],[27,4,27,5],[28,4,28,5],[29,4,29,5],[30,4,30,5],[19,4,19,5],[20,4,20,5],[21,4,21,5],[22,4,22,5],[23,4,23,5],[24,4,24,5],[43,4,43,5],[37,4,37,5],[38,4,38,5],[39,4,39,5],[40,4,40,5],[41,4,41,5],[42,4,42,5],[31,4,31,5],[32,4,32,5],[33,4,33,5],[34,4,34,5],[35,4,35,5],[36,4,36,5]]}
["DATAENTRY"]
[null,"Country :",null,null,{"$f":"IF(intro!D12=\"\",\"\",intro!D12)","v":""},"no",null,1,null,{"$f":"H2+1","v":2},null,{"$f":"J2+1","v":3},null,{"$f":"L2+1","v":4},null,{"$f":"N2+1","v":5},null,{"$f":"P2+1","v":6},null,{"$f":"R2+1","v":7},null,{"$f":"T2+1","v":8},null,{"$f":"V2+1","v":9},null,{"$f":"X2+1","v":10},null,{"$f":"Z2+1","v":11},null,{"$f":"AB2+1","v":12},null,{"$f":"AD2+1","v":13},null,{"$f":"AF2+1","v":14},null,{"$f":"AH2+1","v":15},null,{"$f":"AJ2+1","v":16},null,{"$f":"AL2+1","v":17},null,{"$f":"AN2+1","v":18},null,{"$f":"AP2+1","v":19},null,{"$f":"AR2+1","v":20},null,{"$f":"AT2+1","v":21},null,{"$f":"AV2+1","v":22},null,{"$f":"AX2+1","v":23},null,{"$f":"AZ2+1","v":24},null,{"$f":"BB2+1","v":25},null,{"$f":"BD2+1","v":26},null,{"$f":"BF2+1","v":27},null,{"$f":"BH2+1","v":28},null,{"$f":"BJ2+1","v":29},null,{"$f":"BL2+1","v":30},null,{"$f":"BN2+1","v":31},null,{"$f":"BP2+1","v":32},null,{"$f":"BR2+1","v":33},null,{"$f":"BT2+1","v":34},null,{"$f":"BV2+1","v":35},null,{"$f":"BX2+1","v":36},null,{"$f":"BZ2+1","v":37},null,{"$f":"CB2+1","v":38},null,{"$f":"CD2+1","v":39},null,{"$f":"CF2+1","v":40},null,{"$f":"CH2+1","v":41},null,{"$f":"CJ2+1","v":42},null,{"$f":"CL2+1","v":43},null,{"$f":"CN2+1","v":44},null,{"$f":"CP2+1","v":45},null,{"$f":"CR2+1","v":46},null,{"$f":"CT2+1","v":47},null,{"$f":"CV2+1","v":48},null,{"$f":"CX2+1","v":49},null,{"$f":"CZ2+1","v":50},null,{"$f":"DB2+1","v":51},null,{"$f":"DD2+1","v":52},null,{"$f":"DF2+1","v":53},null,{"$f":"DH2+1","v":54},null,{"$f":"DJ2+1","v":55},null,{"$f":"DL2+1","v":56},null,{"$f":"DN2+1","v":57},null,{"$f":"DP2+1","v":58},null,{"$f":"DR2+1","v":59},null,{"$f":"DT2+1","v":60},null,{"$f":"DV2+1","v":61},null,{"$f":"DX2+1","v":62},null,{"$f":"DZ2+1","v":63},null,{"$f":"EB2+1","v":64},null,{"$f":"ED2+1","v":65},null,{"$f":"EF2+1","v":66},null,{"$f":"EH2+1","v":67},null,{"$f":"EJ2+1","v":68},null,{"$f":"EL2+1","v":69},null,{"$f":"EN2+1","v":70},null,{"$f":"EP2+1","v":71},null,{"$f":"ER2+1","v":72},null,{"$f":"ET2+1","v":73},null,{"$f":"EV2+1","v":74},null,{"$f":"EX2+1","v":75},null,{"$f":"EZ2+1","v":76},null,{"$f":"FB2+1","v":77},null,{"$f":"FD2+1","v":78},null,{"$f":"FF2+1","v":79},null,{"$f":"FH2+1","v":80},null,{"$f":"FJ2+1","v":81},null,{"$f":"FL2+1","v":82},null,{"$f":"FN2+1","v":83},null,{"$f":"FP2+1","v":84},null,{"$f":"FR2+1","v":85},null,{"$f":"FT2+1","v":86},null,{"$f":"FV2+1","v":87}]
[null,"Year :",null,null,{"$f":"IF(intro!E14=\"\",\"\",intro!E14)","v":""},"Level",null,{"$f":"'PEFA Columns'!D2","v":1},null,{"$f":"'PEFA Columns'!F6","v":2},null,{"$f":"'PEFA Columns'!H6","v":3},null,{"$f":"'PEFA Columns'!J6","v":3},null,{"$f":"'PEFA Columns'!L6","v":3},null,{"$f":"'PEFA Columns'!N6","v":2},null,{"$f":"'PEFA Columns'!P6","v":2},null,{"$f":"'PEFA Columns'!R6","v":3},null,{"$f":"'PEFA Columns'!T6","v":3},null,{"$f":"'PEFA Columns'!V6","v":3},null,{"$f":"'PEFA Columns'!X6","v":3},null,{"$f":"'PEFA Columns'!Z6","v":3},null,{"$f":"'PEFA Columns'!AB6","v":3},null,{"$f":"'PEFA Columns'!AD6","v":3},null,{"$f":"'PEFA Columns'!AF6","v":3},null,{"$f":"'PEFA Columns'!AH6","v":3},null,{"$f":"'PEFA Columns'!AJ6","v":3},null,{"$f":"'PEFA Columns'!AL6","v":3},null,{"$f":"'PEFA Columns'!AN6","v":3},null,{"$f":"'PEFA Columns'!AP6","v":3},null,{"$f":"'PEFA Columns'!AR6","v":3},null,{"$f":"'PEFA Columns'!AT6","v":3},null,{"$f":"'PEFA Columns'!AV6","v":3},null,{"$f":"'PEFA Columns'!AX6","v":3},null,{"$f":"'PEFA Columns'!AZ6","v":3},null,{"$f":"'PEFA Columns'!BB6","v":3},null,{"$f":"'PEFA Columns'!BD6","v":2},null,{"$f":"'PEFA Columns'!BF6","v":2},null,{"$f":"'PEFA Columns'!BH6","v":3},null,{"$f":"'PEFA Columns'!BJ6","v":3},null,{"$f":"'PEFA Columns'!BL6","v":2},null,{"$f":"'PEFA Columns'!BN6","v":2},null,{"$f":"'PEFA Columns'!BP6","v":3},null,{"$f":"'PEFA Columns'!BR6","v":3},null,{"$f":"'PEFA Columns'!BT6","v":3},null,{"$f":"'PEFA Columns'!BV6","v":2},null,{"$f":"'PEFA Columns'!BX6","v":3},null,{"$f":"'PEFA Columns'!BZ6","v":3},null,{"$f":"'PEFA Columns'!CB6","v":3},null,{"$f":"'PEFA Columns'!CD6","v":3},null,{"$f":"'PEFA Columns'!CF6","v":3},null,{"$f":"'PEFA Columns'!CH6","v":2},null,{"$f":"'PEFA Columns'!CJ6","v":2},null,{"$f":"'PEFA Columns'!CL6","v":3},null,{"$f":"'PEFA Columns'!CN6","v":3},null,{"$f":"'PEFA Columns'!CP6","v":3},null,{"$f":"'PEFA Columns'!CR6","v":3},null,{"$f":"'PEFA Columns'!CT6","v":2},null,{"$f":"'PEFA Columns'!CV6","v":3},null,{"$f":"'PEFA Columns'!CX6","v":3},null,{"$f":"'PEFA Columns'!CZ6","v":3},null,{"$f":"'PEFA Columns'!DB6","v":2},null,{"$f":"'PEFA Columns'!DD6","v":3},null,{"$f":"'PEFA Columns'!DF6","v":2},null,{"$f":"'PEFA Columns'!DH6","v":3},null,{"$f":"'PEFA Columns'!DJ6","v":3},null,{"$f":"'PEFA Columns'!DL6","v":3},null,{"$f":"'PEFA Columns'!DN6","v":3},null,{"$f":"'PEFA Columns'!DP6","v":3},null,{"$f":"'PEFA Columns'!DR6","v":2},null,{"$f":"'PEFA Columns'!DT6","v":3},null,{"$f":"'PEFA Columns'!DV6","v":3},null,{"$f":"'PEFA Columns'!DX6","v":3},null,{"$f":"'PEFA Columns'!DZ6","v":3},null,{"$f":"'PEFA Columns'!EB6","v":2},null,{"$f":"'PEFA Columns'!ED6","v":2},null,{"$f":"'PEFA Columns'!EF6","v":2},null,{"$f":"'PEFA Columns'!EH6","v":3},null,{"$f":"'PEFA Columns'!EJ6","v":3},null,{"$f":"'PEFA Columns'!EL6","v":2},null,{"$f":"'PEFA Columns'!EN6","v":3},null,{"$f":"'PEFA Columns'!EP6","v":3},null,{"$f":"'PEFA Columns'!ER6","v":2},null,{"$f":"'PEFA Columns'!ET6","v":3},null,{"$f":"'PEFA Columns'!EV6","v":3},null,{"$f":"'PEFA Columns'!EX6","v":3},null,{"$f":"'PEFA Columns'!EZ6","v":2},null,{"$f":"'PEFA Columns'!FB6","v":2},null,{"$f":"'PEFA Columns'!FD6","v":1},null,{"$f":"'PEFA Columns'!FF6","v":2},null,{"$f":"'PEFA Columns'!FH6","v":2},null,{"$f":"'PEFA Columns'!FJ6","v":2},null,{"$f":"'PEFA Columns'!FL6","v":1},null,{"$f":"'PEFA Columns'!FN6","v":1},null,{"$f":"'PEFA Columns'!FP6","v":1},null,{"$f":"'PEFA Columns'!FR6","v":1},null,{"$f":"'PEFA Columns'!FT6","v":0}]
[null,"Number and Type:",null,null,"Table B.1 - Transformation use of energy flows",null,null," ",null,null,null,null,null,null,null,null,null,null,null,null,null,"INDUSTRIES (NACE rev 2)",null,null,null,null,null,null,null,null,null,null,null,null,null,null,null,"INDUSTRIES (NACE rev 2)",null,null,null,null,null,null,null,null,null,null,null,null,null,null,null,null,null,null,null,null,null,null,null,"INDUSTRIES (NACE rev 2)",null,null,null,null,null,null,null,null,null,null,null,null,null,null,null,"INDUSTRIES (NACE rev 2)",null,null,null,null,null,null,null,null,null,null,null,null,null,null,null,null,null,"INDUSTRIES (NACE rev 2)",null,null,null,null,null,null,null,null,null,null,null,null,null,"INDUSTRIES (NACE rev 2)",null,null,null,null,null,null,null,null,null,null,null,null,null,null,null,null,null,null,null,null,null,null,null,null,null,null,null,null,null,null,null,"INDUSTRIES (NACE rev 2)",null,null,null,null,null,null,null,null,null,null,null,null,null,null,null,null,null,null,null,null,null,"HOUSEHOLDS",null,null,null,null,null,null,null,"ACCUMULATION",null,"STADIF",null,"REST OF THE WORLD",null,"ENVIRONMENT"]
[null,"Content:",null,null,"Energy Flows","Code",null,{"$f":"'PEFA Columns'!D7","v":"A_U   01-99"},null,{"$f":"'PEFA Columns'!F7","v":"A"},null,{"$f":"'PEFA Columns'!H7","v":"A01"},null,{"$f":"'PEFA Columns'!J7","v":"A02"},null,{"$f":"'PEFA Columns'!L7","v":"A03"},null,{"$f":"'PEFA Columns'!N7","v":"B"},null,{"$f":"'PEFA Columns'!P7","v":"C"},null,{"$f":"'PEFA Columns'!R7","v":"C10-C12"},null,{"$f":"'PEFA Columns'!T7","v":"C13-C15"},null,{"$f":"'PEFA Columns'!V7","v":"C16"},null,{"$f":"'PEFA Columns'!X7","v":"C17"},null,{"$f":"'PEFA Columns'!Z7","v":"C18"},null,{"$f":"'PEFA Columns'!AB7","v":"C19"},null,{"$f":"'PEFA Columns'!AD7","v":"C20"},null,{"$f":"'PEFA Columns'!AF7","v":"C21"},null,{"$f":"'PEFA Columns'!AH7","v":"C22"},null,{"$f":"'PEFA Columns'!AJ7","v":"C23"},null,{"$f":"'PEFA Columns'!AL7","v":"C24"},null,{"$f":"'PEFA Columns'!AN7","v":"C25"},null,{"$f":"'PEFA Columns'!AP7","v":"C26"},null,{"$f":"'PEFA Columns'!AR7","v":"C27"},null,{"$f":"'PEFA Columns'!AT7","v":"C28"},null,{"$f":"'PEFA Columns'!AV7","v":"C29"},null,{"$f":"'PEFA Columns'!AX7","v":"C30"},null,{"$f":"'PEFA Columns'!AZ7","v":"C31_C32"},null,{"$f":"'PEFA Columns'!BB7","v":"C33"},null,{"$f":"'PEFA Columns'!BD7","v":"D"},null,{"$f":"'PEFA Columns'!BF7","v":"E"},null,{"$f":"'PEFA Columns'!BH7","v":"E36"},null,{"$f":"'PEFA Columns'!BJ7","v":"E37-E39"},null,{"$f":"'PEFA Columns'!BL7","v":"F"},null,{"$f":"'PEFA Columns'!BN7","v":"G"},null,{"$f":"'PEFA Columns'!BP7","v":"G45"},null,{"$f":"'PEFA Columns'!BR7","v":"G46"},null,{"$f":"'PEFA Columns'!BT7","v":"G47"},null,{"$f":"'PEFA Columns'!BV7","v":"H"},null,{"$f":"'PEFA Columns'!BX7","v":"H49"},null,{"$f":"'PEFA Columns'!BZ7","v":"H50"},null,{"$f":"'PEFA Columns'!CB7","v":"H51"},null,{"$f":"'PEFA Columns'!CD7","v":"H52"},null,{"$f":"'PEFA Columns'!CF7","v":"H53"},null,{"$f":"'PEFA Columns'!CH7","v":"I"},null,{"$f":"'PEFA Columns'!CJ7","v":"J"},null,{"$f":"'PEFA Columns'!CL7","v":"J58"},null,{"$f":"'PEFA Columns'!CN7","v":"J59_J60"},null,{"$f":"'PEFA Columns'!CP7","v":"J61"},null,{"$f":"'PEFA Columns'!CR7","v":"J62_J63"},null,{"$f":"'PEFA Columns'!CT7","v":"K"},null,{"$f":"'PEFA Columns'!CV7","v":"K64"},null,{"$f":"'PEFA Columns'!CX7","v":"K65"},null,{"$f":"'PEFA Columns'!CZ7","v":"K66"},null,{"$f":"'PEFA Columns'!DB7","v":"L"},null,{"$f":"'PEFA Columns'!DD7","v":"L68A"},null,{"$f":"'PEFA Columns'!DF7","v":"M"},null,{"$f":"'PEFA Columns'!DH7","v":"M69_M70"},null,{"$f":"'PEFA Columns'!DJ7","v":"M71"},null,{"$f":"'PEFA Columns'!DL7","v":"M72"},null,{"$f":"'PEFA Columns'!DN7","v":"M73"},null,{"$f":"'PEFA Columns'!DP7","v":"M74_M75"},null,{"$f":"'PEFA Columns'!DR7","v":"N"},null,{"$f":"'PEFA Columns'!DT7","v":"N77"},null,{"$f":"'PEFA Columns'!DV7","v":"N78"},null,{"$f":"'PEFA Columns'!DX7","v":"N79"},null,{"$f":"'PEFA Columns'!DZ7","v":"N80-N82"},null,{"$f":"'PEFA Columns'!EB7","v":"O"},null,{"$f":"'PEFA Columns'!ED7","v":"P"},null,{"$f":"'PEFA Columns'!EF7","v":"Q"},null,{"$f":"'PEFA Columns'!EH7","v":"Q86"},null,{"$f":"'PEFA Columns'!EJ7","v":"Q87_Q88"},null,{"$f":"'PEFA Columns'!EL7","v":"R"},null,{"$f":"'PEFA Columns'!EN7","v":"R90-R92"},null,{"$f":"'PEFA Columns'!EP7","v":"R93"},null,{"$f":"'PEFA Columns'!ER7","v":"S"},null,{"$f":"'PEFA Columns'!ET7","v":"S94"},null,{"$f":"'PEFA Columns'!EV7","v":"S95"},null,{"$f":"'PEFA Columns'!EX7","v":"S96"},null,{"$f":"'PEFA Columns'!EZ7","v":"T"},null,{"$f":"'PEFA Columns'!FB7","v":"U"},null,{"$f":"'PEFA Columns'!FD7","v":"HH"},null,{"$f":"'PEFA Columns'!FF7","v":"HH_HEAT"},null,{"$f":"'PEFA Columns'!FH7","v":"HH_TRA"},null,{"$f":"'PEFA Columns'!FJ7","v":"HH_OTH"},null,{"$f":"'PEFA Columns'!FL7","v":"CHINV_PA"},null,{"$f":"'PEFA Columns'!FN7","v":"STADIF"},null,{"$f":"'PEFA Columns'!FP7","v":"ROW_ACT"},null,{"$f":"'PEFA Columns'!FR7","v":"ENV"},null,{"$f":"'PEFA Columns'!FT7","v":"TSUE"},null,null,null,null,null,null,null,"PROD_NRG"]
[null,"Unit :",null,null,"TJ","Label",null,{"$f":"'PEFA Columns'!D8","v":"Total NACE industries"},null,{"$f":"'PEFA Columns'!F8","v":"Agriculture, forestry and fishing"},null,{"$f":"'PEFA Columns'!H8","v":"Crop and animal production, hunting and related service activities"},null,{"$f":"'PEFA Columns'!J8","v":"Forestry and logging"},null,{"$f":"'PEFA Columns'!L8","v":"Fishing and aquaculture"},null,{"$f":"'PEFA Columns'!N8","v":"Mining and quarrying"},null,{"$f":"'PEFA Columns'!P8","v":"Manufacturing"},null,{"$f":"'PEFA Columns'!R8","v":"Manufacture of food products, beverages and tobacco\nproducts"},null,{"$f":"'PEFA Columns'!T8","v":"Manufacture of textiles, wearing apparel and leather products"},null,{"$f":"'PEFA Columns'!V8","v":"Manufacture of wood and of products of wood and cork, except furniture; manufacture of articles of straw and plaiting materials"},null,{"$f":"'PEFA Columns'!X8","v":"Manufacture of paper and paper products"},null,{"$f":"'PEFA Columns'!Z8","v":"Printing and reproduction of recorded media"},null,{"$f":"'PEFA Columns'!AB8","v":"Manufacture of coke and refined petroleum products"},null,{"$f":"'PEFA Columns'!AD8","v":"Manufacture of chemicals and chemical products"},null,{"$f":"'PEFA Columns'!AF8","v":"Manufacture of basic pharmaceutical products and pharmaceutical preparations"},null,{"$f":"'PEFA Columns'!AH8","v":"Manufacture of rubber and plastic products"},null,{"$f":"'PEFA Columns'!AJ8","v":"Manufacture of other non-metallic mineral products"},null,{"$f":"'PEFA Columns'!AL8","v":"Manufacture of basic metals"},null,{"$f":"'PEFA Columns'!AN8","v":"Manufacture of fabricated metal products, except machinery and equipment"},null,{"$f":"'PEFA Columns'!AP8","v":"Manufacture of computer, electronic and optical products"},null,{"$f":"'PEFA Columns'!AR8","v":"Manufacture of electrical equipment"},null,{"$f":"'PEFA Columns'!AT8","v":"Manufacture of machinery and equipment n.e.c."},null,{"$f":"'PEFA Columns'!AV8","v":"Manufacture of motor vehicles, trailers and semi-trailers"},null,{"$f":"'PEFA Columns'!AX8","v":"Manufacture of other transport equipment"},null,{"$f":"'PEFA Columns'!AZ8","v":"Manufacture of furniture; other manufacturing"},null,{"$f":"'PEFA Columns'!BB8","v":"Repair and installation of machinery and equipment"},null,{"$f":"'PEFA Columns'!BD8","v":"Electricity, gas, steam and air conditioning supply"},null,{"$f":"'PEFA Columns'!BF8","v":"Water supply; sewerage, waste management and remediation activities"},null,{"$f":"'PEFA Columns'!BH8","v":"Water collection, treatment and supply"},null,{"$f":"'PEFA Columns'!BJ8","v":"Sewerage, waste management, remediation activities"},null,{"$f":"'PEFA Columns'!BL8","v":"Construction"},null,{"$f":"'PEFA Columns'!BN8","v":"Wholesale and retail trade; repair of motor vehicles and motorcycles"},null,{"$f":"'PEFA Columns'!BP8","v":"Wholesale and retail trade and repair of motor vehicles and motorcycles"},null,{"$f":"'PEFA Columns'!BR8","v":"Wholesale trade, except of motor vehicles and motorcycles"},null,{"$f":"'PEFA Columns'!BT8","v":"Retail trade, except of motor vehicles and motorcycles"},null,{"$f":"'PEFA Columns'!BV8","v":"Transportation and storage"},null,{"$f":"'PEFA Columns'!BX8","v":"Land transport and transport via pipelines"},null,{"$f":"'PEFA Columns'!BZ8","v":"Water transport"},null,{"$f":"'PEFA Columns'!CB8","v":"Air transport"},null,{"$f":"'PEFA Columns'!CD8","v":"Warehousing and support activities for transportation"},null,{"$f":"'PEFA Columns'!CF8","v":"Postal and courier activities"},null,{"$f":"'PEFA Columns'!CH8","v":"Accommodation and food service activities"},null,{"$f":"'PEFA Columns'!CJ8","v":"Information and communication"},null,{"$f":"'PEFA Columns'!CL8","v":"Publishing activities"},null,{"$f":"'PEFA Columns'!CN8","v":"Motion picture, video, television programme production; programming and broadcasting activities"},null,{"$f":"'PEFA Columns'!CP8","v":"Telecommunications"},null,{"$f":"'PEFA Columns'!CR8","v":"Computer programming, consultancy, and information service activities"},null,{"$f":"'PEFA Columns'!CT8","v":"Financial and insurance activities"},null,{"$f":"'PEFA Columns'!CV8","v":"Financial service activities, except insurance and pension funding"},null,{"$f":"'PEFA Columns'!CX8","v":"Insurance, reinsurance and pension funding, except compulsory social security"},null,{"$f":"'PEFA Columns'!CZ8","v":"Activities auxiliary to financial services and insurance activities"},null,{"$f":"'PEFA Columns'!DB8","v":"Real estate activities"},null,{"$f":"'PEFA Columns'!DD8","v":"Of which: Imputed rents of owner-occupied dwellings"},null,{"$f":"'PEFA Columns'!DF8","v":"Professional, scientific and technical activities"},null,{"$f":"'PEFA Columns'!DH8","v":"Legal and accounting activities; activities of head offices; management consultancy activities"},null,{"$f":"'PEFA Columns'!DJ8","v":"Architectural and engineering activities; technical testing and analysis"},null,{"$f":"'PEFA Columns'!DL8","v":"Scientific research and development"},null,{"$f":"'PEFA Columns'!DN8","v":"Advertising and market research"},null,{"$f":"'PEFA Columns'!DP8","v":"Other professional, scientific and technical activities; veterinary activities"},null,{"$f":"'PEFA Columns'!DR8","v":"Administrative and support service activities"},null,{"$f":"'PEFA Columns'!DT8","v":"Rental and leasing activities"},null,{"$f":"'PEFA Columns'!DV8","v":"Employment activities"},null,{"$f":"'PEFA Columns'!DX8","v":"Travel agency, tour operator reservation service and related activities"},null,{"$f":"'PEFA Columns'!DZ8","v":"Security and investigation, service and landscape, office administrative and support activities"},null,{"$f":"'PEFA Columns'!EB8","v":"Public administration and defence; compulsory social security"},null,{"$f":"'PEFA Columns'!ED8","v":"Education"},null,{"$f":"'PEFA Columns'!EF8","v":"Human health and social work activities"},null,{"$f":"'PEFA Columns'!EH8","v":"Human health activities"},null,{"$f":"'PEFA Columns'!EJ8","v":"Residential care activities and social work activities without accommodation"},null,{"$f":"'PEFA Columns'!EL8","v":"Arts, entertainment and recreation"},null,{"$f":"'PEFA Columns'!EN8","v":"Creative, arts and entertainment activities; libraries, archives, museums and other cultural activities; gambling and betting activities"},null,{"$f":"'PEFA Columns'!EP8","v":"Sports activities and amusement and recreation activities"},null,{"$f":"'PEFA Columns'!ER8","v":"Other service activities"},null,{"$f":"'PEFA Columns'!ET8","v":"Activities of membership organisations"},null,{"$f":"'PEFA Columns'!EV8","v":"Repair of computers and personal and household goods"},null,{"$f":"'PEFA Columns'!EX8","v":"Other personal service activities"},null,{"$f":"'PEFA Columns'!EZ8","v":"Activities of households as employers; undifferentiated goods- and services-producing activities of households for own use"},null,{"$f":"'PEFA Columns'!FB8","v":"Activities of extraterritorial organisations and bodies"},null,{"$f":"'PEFA Columns'!FD8","v":"Total activities by households"},null,{"$f":"'PEFA Columns'!FF8","v":"Heating/cooling activities by households"},null,{"$f":"'PEFA Columns'!FH8","v":"Transport activities by households"},null,{"$f":"'PEFA Columns'!FJ8","v":"Other activities by households"},null,{"$f":"'PEFA Columns'!FL8","v":"Changes in inventories and produced assets"},null,{"$f":"'PEFA Columns'!FN8","v":"Statistical Differences"},null,{"$f":"'PEFA Columns'!FP8","v":"Rest of the World - economic activities"},null,{"$f":"'PEFA Columns'!FR8","v":"Environment"},null,{"$f":"'PEFA Columns'!FT8","v":"TOTAL USE OF NATURAL INPUTS, PRODUCTS, AND RESIDUALS"}]
[null,null,null,null,null,null,null,null,null,null,null,null,null,null,null,null,null,null,null,null,null,null,null,null,null,null,null,null,null,null,null,null,null,null,null,null,null,null,null,null,null,null,null,null,null,null,null,null,null,null,null,null,null,null,null,null,null,null,null,null,null,null,null,null,null,null,null,null,null,null,null,null,null,null,null,null,null,null,null,null,null,null,null,null,null,null,null,null,null,null,null,null,null,null,null,null,null,null,null,null,null,null,null,null,null,null,null,null,null,null,null,null,null,null,null,null,null,null,null,null,null,null,null,null,null,null,null,null,null,null,null,null,null,null,null,null,null,null,null,null,null,null,null,null,null,null,null,null,null,null,null,null,null,null,null,null,null,null,null,null,null,null,null,null,null,null,null,null,null,null,null,null,null,null,null,null,null,null,null,null,null,null,null,null,null,"UNIT_MEASURE","UNIT_MULT",null,"STK_FLOW","INDIC_PEFA"]
[null,"no","Level","Code","Label"]
[null,1,{"$f":"'PEFA rows'!B3","v":1},{"$f":"'PEFA rows'!C3","v":"N00"},{"$f":"'PEFA rows'!D3","v":"NATURAL ENERGY INPUTS"},null,null,{"$f":"SUM(H10:H16)","v":0},null,{"$f":"SUM(J10:J16)","v":0},null,{"$f":"SUM(L10:L16)","v":0},null,{"$f":"SUM(N10:N16)","v":0},null,{"$f":"SUM(P10:P16)","v":0},null,{"$f":"SUM(R10:R16)","v":0},null,{"$f":"SUM(T10:T16)","v":0},null,{"$f":"SUM(V10:V16)","v":0},null,{"$f":"SUM(X10:X16)","v":0},null,{"$f":"SUM(Z10:Z16)","v":0},null,{"$f":"SUM(AB10:AB16)","v":0},null,{"$f":"SUM(AD10:AD16)","v":0},null,{"$f":"SUM(AF10:AF16)","v":0},null,{"$f":"SUM(AH10:AH16)","v":0},null,{"$f":"SUM(AJ10:AJ16)","v":0},null,{"$f":"SUM(AL10:AL16)","v":0},null,{"$f":"SUM(AN10:AN16)","v":0},null,{"$f":"SUM(AP10:AP16)","v":0},null,{"$f":"SUM(AR10:AR16)","v":0},null,{"$f":"SUM(AT10:AT16)","v":0},null,{"$f":"SUM(AV10:AV16)","v":0},null,{"$f":"SUM(AX10:AX16)","v":0},null,{"$f":"SUM(AZ10:AZ16)","v":0},null,{"$f":"SUM(BB10:BB16)","v":0},null,{"$f":"SUM(BD10:BD16)","v":0},null,{"$f":"SUM(BF10:BF16)","v":0},null,{"$f":"SUM(BH10:BH16)","v":0},null,{"$f":"SUM(BJ10:BJ16)","v":0},null,{"$f":"SUM(BL10:BL16)","v":0},null,{"$f":"SUM(BN10:BN16)","v":0},null,{"$f":"SUM(BP10:BP16)","v":0},null,{"$f":"SUM(BR10:BR16)","v":0},null,{"$f":"SUM(BT10:BT16)","v":0},null,{"$f":"SUM(BV10:BV16)","v":0},null,{"$f":"SUM(BX10:BX16)","v":0},null,{"$f":"SUM(BZ10:BZ16)","v":0},null,{"$f":"SUM(CB10:CB16)","v":0},null,{"$f":"SUM(CD10:CD16)","v":0},null,{"$f":"SUM(CF10:CF16)","v":0},null,{"$f":"SUM(CH10:CH16)","v":0},null,{"$f":"SUM(CJ10:CJ16)","v":0},null,{"$f":"SUM(CL10:CL16)","v":0},null,{"$f":"SUM(CN10:CN16)","v":0},null,{"$f":"SUM(CP10:CP16)","v":0},null,{"$f":"SUM(CR10:CR16)","v":0},null,{"$f":"SUM(CT10:CT16)","v":0},null,{"$f":"SUM(CV10:CV16)","v":0},null,{"$f":"SUM(CX10:CX16)","v":0},null,{"$f":"SUM(CZ10:CZ16)","v":0},null,{"$f":"SUM(DB10:DB16)","v":0},null,{"$f":"SUM(DD10:DD16)","v":0},null,{"$f":"SUM(DF10:DF16)","v":0},null,{"$f":"SUM(DH10:DH16)","v":0},null,{"$f":"SUM(DJ10:DJ16)","v":0},null,{"$f":"SUM(DL10:DL16)","v":0},null,{"$f":"SUM(DN10:DN16)","v":0},null,{"$f":"SUM(DP10:DP16)","v":0},null,{"$f":"SUM(DR10:DR16)","v":0},null,{"$f":"SUM(DT10:DT16)","v":0},null,{"$f":"SUM(DV10:DV16)","v":0},null,{"$f":"SUM(DX10:DX16)","v":0},null,{"$f":"SUM(DZ10:DZ16)","v":0},null,{"$f":"SUM(EB10:EB16)","v":0},null,{"$f":"SUM(ED10:ED16)","v":0},null,{"$f":"SUM(EF10:EF16)","v":0},null,{"$f":"SUM(EH10:EH16)","v":0},null,{"$f":"SUM(EJ10:EJ16)","v":0},null,{"$f":"SUM(EL10:EL16)","v":0},null,{"$f":"SUM(EN10:EN16)","v":0},null,{"$f":"SUM(EP10:EP16)","v":0},null,{"$f":"SUM(ER10:ER16)","v":0},null,{"$f":"SUM(ET10:ET16)","v":0},null,{"$f":"SUM(EV10:EV16)","v":0},null,{"$f":"SUM(EX10:EX16)","v":0},null,{"$f":"SUM(EZ10:EZ16)","v":0},null,{"$f":"SUM(FB10:FB16)","v":0},null,{"$f":"SUM(FD10:FD16)","v":0},null,{"$f":"SUM(FF10:FF16)","v":0},null,null,null,null,null,null,null,null,null,null,null,null,null,null,null,null,null,{"$f":"SUM(FX10:FX16)","v":0},null,null,null,null,null,"TJ",0,"N00","USE_TRS","NAP"]
[null,{"$f":"B9+1","v":2},{"$f":"'PEFA rows'!B4","v":2},{"$f":"'PEFA rows'!C4","v":"N01"},{"$f":"'PEFA rows'!D4","v":"Fossil non-renewable natural energy inputs"},null,null,{"$f":"SUM(J10,R10,T10,BH10,BJ10,BP10,BR10,BZ10,CL10,CN10,CX10,DF10,DJ10,DV10,EF10,EH10,EJ10,EP10,EV10,FD10,FF10)","v":0},null,{"$f":"SUM(L10,N10,P10)","v":0},null,0,null,0,null,0,null,0,null,{"$f":"SUM(V10,X10,Z10,AB10,AD10,AF10,AH10,AJ10,AL10,AN10,AP10,AR10,AT10,AV10,AX10,AZ10,BB10,BD10,BF10)","v":0},null,0,null,0,null,0,null,0,null,0,null,0,null,0,null,0,null,0,null,0,null,0,null,0,null,0,null,0,null,0,null,0,null,0,null,0,null,0,null,0,null,{"$f":"SUM(BL10,BN10)","v":0},null,0,null,0,null,0,null,{"$f":"SUM(BT10,BV10,BX10)","v":0},null,0,null,0,null,0,null,{"$f":"SUM(CB10,CD10,CF10,CH10,CJ10)","v":0},null,0,null,0,null,0,null,0,null,0,null,0,null,{"$f":"SUM(CP10,CR10,CT10,CV10)","v":0},null,0,null,0,null,0,null,0,null,{"$f":"SUM(CZ10,DB10,DD10)","v":0},null,0,null,0,null,0,null,0,null,0,null,{"$f":"SUM(DL10,DN10,DP10,DR10,DT10)","v":0},null,0,null,0,null,0,null,0,null,0,null,{"$f":"SUM(DX10,DZ10,EB10,ED10)","v":0},null,0,null,0,null,0,null,0,null,0,null,0,null,{"$f":"SUM(EL10,EN10)","v":0},null,0,null,0,null,{"$f":"SUM(ER10,ET10)","v":0},null,0,null,0,null,{"$f":"SUM(EX10,EZ10,FB10)","v":0},null,0,null,0,null,0,null,0,null,0,null,null,null,null,null,null,null,null,null,null,null,null,null,null,null,null,null,{"$f":"SUM(H10,FH10,FP10,FR10,FT10,FV10)","v":0},null,null,null,null,null,null,null,"N01"]
[null,{"$f":"B10+1","v":3},{"$f":"'PEFA rows'!B5","v":2},{"$f":"'PEFA rows'!C5","v":"N02"},{"$f":"'PEFA rows'!D5","v":"Nuclear non-renewable natural energy inputs"},null,null,0,null,0,null,0,null,0,null,0,null,0,null,0,null,0,null,0,null,0,null,0,null,0,null,0,null,0,null,0,null,0,null,0,null,0,null,0,null,0,null,0,null,0,null,0,null,0,null,0,null,0,null,0,null,0,null,0,null,0,null,0,null,0,null,0,null,0,null,0,null,0,null,0,null,0,null,0,null,0,null,0,null,0,null,0,null,0,null,0,null,0,null,0,null,0,null,0,null,0,null,0,null,0,null,0,null,0,null,0,null,0,null,0,null,0,null,0,null,0,null,0,null,0,null,0,null,0,null,0,null,0,null,0,null,0,null,0,null,0,null,0,null,0,null,0,null,0,null,0,null,0,null,0,null,0,null,null,null,null,null,null,null,null,null,null,null,null,null,null,null,null,null,0,null,null,null,null,null,null,null,"N02"]
[null,4,{"$f":"'PEFA rows'!B6","v":2},{"$f":"'PEFA rows'!C6","v":"N03"},{"$f":"'PEFA rows'!D6","v":"Hydro based renewable natural energy inputs"},null,null,0,null,0,null,0,null,0,null,0,null,0,null,0,null,0,null,0,null,0,null,0,null,0,null,0,null,0,null,0,null,0,null,0,null,0,null,0,null,0,null,0,null,0,null,0,null,0,null,0,null,0,null,0,null,0,null,0,null,0,null,0,null,0,null,0,null,0,null,0,null,0,null,0,null,0,null,0,null,0,null,0,null,0,null,0,null,0,null,0,null,0,null,0,null,0,null,0,null,0,null,0,null,0,null,0,null,0,null,0,null,0,null,0,null,0,null,0,null,0,null,0,null,0,null,0,null,0,null,0,null,0,null,0,null,0,null,0,null,0,null,0,null,0,null,0,null,0,null,0,null,0,null,0,null,0,null,null,null,null,null,null,null,null,null,null,null,null,null,null,null,null,null,0,null,null,null,null,null,null,null,"N03"]
[null,5,{"$f":"'PEFA rows'!B7","v":2},{"$f":"'PEFA rows'!C7","v":"N04"},{"$f":"'PEFA rows'!D7","v":"Wind based renewable natural energy inputs"},null,null,0,null,0,null,0,null,0,null,0,null,0,null,0,null,0,null,0,null,0,null,0,null,0,null,0,null,0,null,0,null,0,null,0,null,0,null,0,null,0,null,0,null,0,null,0,null,0,null,0,null,0,null,0,null,0,null,0,null,0,null,0,null,0,null,0,null,0,null,0,null,0,null,0,null,0,null,0,null,0,null,0,null,0,null,0,null,0,null,0,null,0,null,0,null,0,null,0,null,0,null,0,null,0,null,0,null,0,null,0,null,0,null,0,null,0,null,0,null,0,null,0,null,0,null,0,null,0,null,0,null,0,null,0,null,0,null,0,null,0,null,0,null,0,null,0,null,0,null,0,null,0,null,0,null,0,null,null,null,null,null,null,null,null,null,null,null,null,null,null,null,null,null,0,null,null,null,null,null,null,null,"N04"]
[null,6,{"$f":"'PEFA rows'!B8","v":2},{"$f":"'PEFA rows'!C8","v":"N05"},{"$f":"'PEFA rows'!D8","v":"Solar based renewable natural energy inputs"},null,null,0,null,0,null,0,null,0,null,0,null,0,null,0,null,0,null,0,null,0,null,0,null,0,null,0,null,0,null,0,null,0,null,0,null,0,null,0,null,0,null,0,null,0,null,0,null,0,null,0,null,0,null,0,null,0,null,0,null,0,null,0,null,0,null,0,null,0,null,0,null,0,null,0,null,0,null,0,null,0,null,0,null,0,null,0,null,0,null,0,null,0,null,0,null,0,null,0,null,0,null,0,null,0,null,0,null,0,null,0,null,0,null,0,null,0,null,0,null,0,null,0,null,0,null,0,null,0,null,0,null,0,null,0,null,0,null,0,null,0,null,0,null,0,null,0,null,0,null,0,null,0,null,0,null,0,null,null,null,null,null,null,null,null,null,null,null,null,null,null,null,null,null,0,null,null,null,null,null,null,null,"N05"]
[null,7,{"$f":"'PEFA rows'!B9","v":2},{"$f":"'PEFA rows'!C9","v":"N06"},{"$f":"'PEFA rows'!D9","v":"Biomass based renewable natural energy inputs"},null,null,0,null,0,null,0,null,0,null,0,null,0,null,0,null,0,null,0,null,0,null,0,null,0,null,0,null,0,null,0,null,0,null,0,null,0,null,0,null,0,null,0,null,0,null,0,null,0,null,0,null,0,null,0,null,0,null,0,null,0,null,0,null,0,null,0,null,0,null,0,null,0,null,0,null,0,null,0,null,0,null,0,null,0,null,0,null,0,null,0,null,0,null,0,null,0,null,0,null,0,null,0,null,0,null,0,null,0,null,0,null,0,null,0,null,0,null,0,null,0,null,0,null,0,null,0,null,0,null,0,null,0,null,0,null,0,null,0,null,0,null,0,null,0,null,0,null,0,null,0,null,0,null,0,null,0,null,null,null,null,null,null,null,null,null,null,null,null,null,null,null,null,null,0,null,null,null,null,null,null,null,"N06"]
[null,8,{"$f":"'PEFA rows'!B10","v":2},{"$f":"'PEFA rows'!C10","v":"N07"},{"$f":"'PEFA rows'!D10","v":"Other renewable natural energy inputs"},null,null,0,null,0,null,0,null,0,null,0,null,0,null,0,null,0,null,0,null,0,null,0,null,0,null,0,null,0,null,0,null,0,null,0,null,0,null,0,null,0,null,0,null,0,null,0,null,0,null,0,null,0,null,0,null,0,null,0,null,0,null,0,null,0,null,0,null,0,null,0,null,0,null,0,null,0,null,0,null,0,null,0,null,0,null,0,null,0,null,0,null,0,null,0,null,0,null,0,null,0,null,0,null,0,null,0,null,0,null,0,null,0,null,0,null,0,null,0,null,0,null,0,null,0,null,0,null,0,null,0,null,0,null,0,null,0,null,0,null,0,null,0,null,0,null,0,null,0,null,0,null,0,null,0,null,0,null,null,null,null,null,null,null,null,null,null,null,null,null,null,null,null,null,0,null,null,null,null,null,null,null,"N07"]
[null,9,{"$f":"'PEFA rows'!B11","v":1},{"$f":"'PEFA rows'!C11","v":"P00"},{"$f":"'PEFA rows'!D11","v":"ENERGY PRODUCTS"},null,null,{"$f":"SUM(H18:H37)","v":0},null,{"$f":"SUM(J18:J37)","v":0},null,{"$f":"SUM(L18:L37)","v":0},null,{"$f":"SUM(N18:N37)","v":0},null,{"$f":"SUM(P18:P37)","v":0},null,{"$f":"SUM(R18:R37)","v":0},null,{"$f":"SUM(T18:T37)","v":0},null,{"$f":"SUM(V18:V37)","v":0},null,{"$f":"SUM(X18:X37)","v":0},null,{"$f":"SUM(Z18:Z37)","v":0},null,{"$f":"SUM(AB18:AB37)","v":0},null,{"$f":"SUM(AD18:AD37)","v":0},null,{"$f":"SUM(AF18:AF37)","v":0},null,{"$f":"SUM(AH18:AH37)","v":0},null,{"$f":"SUM(AJ18:AJ37)","v":0},null,{"$f":"SUM(AL18:AL37)","v":0},null,{"$f":"SUM(AN18:AN37)","v":0},null,{"$f":"SUM(AP18:AP37)","v":0},null,{"$f":"SUM(AR18:AR37)","v":0},null,{"$f":"SUM(AT18:AT37)","v":0},null,{"$f":"SUM(AV18:AV37)","v":0},null,{"$f":"SUM(AX18:AX37)","v":0},null,{"$f":"SUM(AZ18:AZ37)","v":0},null,{"$f":"SUM(BB18:BB37)","v":0},null,{"$f":"SUM(BD18:BD37)","v":0},null,{"$f":"SUM(BF18:BF37)","v":0},null,{"$f":"SUM(BH18:BH37)","v":0},null,{"$f":"SUM(BJ18:BJ37)","v":0},null,{"$f":"SUM(BL18:BL37)","v":0},null,{"$f":"SUM(BN18:BN37)","v":0},null,{"$f":"SUM(BP18:BP37)","v":0},null,{"$f":"SUM(BR18:BR37)","v":0},null,{"$f":"SUM(BT18:BT37)","v":0},null,{"$f":"SUM(BV18:BV37)","v":0},null,{"$f":"SUM(BX18:BX37)","v":0},null,{"$f":"SUM(BZ18:BZ37)","v":0},null,{"$f":"SUM(CB18:CB37)","v":0},null,{"$f":"SUM(CD18:CD37)","v":0},null,{"$f":"SUM(CF18:CF37)","v":0},null,{"$f":"SUM(CH18:CH37)","v":0},null,{"$f":"SUM(CJ18:CJ37)","v":0},null,{"$f":"SUM(CL18:CL37)","v":0},null,{"$f":"SUM(CN18:CN37)","v":0},null,{"$f":"SUM(CP18:CP37)","v":0},null,{"$f":"SUM(CR18:CR37)","v":0},null,{"$f":"SUM(CT18:CT37)","v":0},null,{"$f":"SUM(CV18:CV37)","v":0},null,{"$f":"SUM(CX18:CX37)","v":0},null,{"$f":"SUM(CZ18:CZ37)","v":0},null,{"$f":"SUM(DB18:DB37)","v":0},null,{"$f":"SUM(DD18:DD37)","v":0},null,{"$f":"SUM(DF18:DF37)","v":0},null,{"$f":"SUM(DH18:DH37)","v":0},null,{"$f":"SUM(DJ18:DJ37)","v":0},null,{"$f":"SUM(DL18:DL37)","v":0},null,{"$f":"SUM(DN18:DN37)","v":0},null,{"$f":"SUM(DP18:DP37)","v":0},null,{"$f":"SUM(DR18:DR37)","v":0},null,{"$f":"SUM(DT18:DT37)","v":0},null,{"$f":"SUM(DV18:DV37)","v":0},null,{"$f":"SUM(DX18:DX37)","v":0},null,{"$f":"SUM(DZ18:DZ37)","v":0},null,{"$f":"SUM(EB18:EB37)","v":0},null,{"$f":"SUM(ED18:ED37)","v":0},null,{"$f":"SUM(EF18:EF37)","v":0},null,{"$f":"SUM(EH18:EH37)","v":0},null,{"$f":"SUM(EJ18:EJ37)","v":0},null,{"$f":"SUM(EL18:EL37)","v":0},null,{"$f":"SUM(EN18:EN37)","v":0},null,{"$f":"SUM(EP18:EP37)","v":0},null,{"$f":"SUM(ER18:ER37)","v":0},null,{"$f":"SUM(ET18:ET37)","v":0},null,{"$f":"SUM(EV18:EV37)","v":0},null,{"$f":"SUM(EX18:EX37)","v":0},null,{"$f":"SUM(EZ18:EZ37)","v":0},null,{"$f":"SUM(FB18:FB37)","v":0},null,{"$f":"SUM(FD18:FD37)","v":0},null,{"$f":"SUM(FF18:FF37)","v":0},null,null,null,null,null,null,null,null,null,null,null,null,null,null,null,null,null,{"$f":"SUM(FX18:FX37)","v":0},null,null,null,null,null,null,null,"P00"]
[null,10,{"$f":"'PEFA rows'!B12","v":2},{"$f":"'PEFA rows'!C12","v":"P08"},{"$f":"'PEFA rows'!D12","v":"Hard coal"},null,null,{"$f":"SUM(J18,R18,T18,BH18,BJ18,BP18,BR18,BZ18,CL18,CN18,CX18,DF18,DJ18,DV18,EF18,EH18,EJ18,EP18,EV18,FD18,FF18)","v":0},null,{"$f":"SUM(L18,N18,P18)","v":0},null,0,null,0,null,0,null,0,null,{"$f":"SUM(V18,X18,Z18,AB18,AD18,AF18,AH18,AJ18,AL18,AN18,AP18,AR18,AT18,AV18,AX18,AZ18,BB18,BD18,BF18)","v":0},null,0,null,0,null,0,null,0,null,0,null,0,null,0,null,0,null,0,null,0,null,0,null,0,null,0,null,0,null,0,null,0,null,0,null,0,null,0,null,0,null,{"$f":"SUM(BL18,BN18)","v":0},null,0,null,0,null,0,null,{"$f":"SUM(BT18,BV18,BX18)","v":0},null,0,null,0,null,0,null,{"$f":"SUM(CB18,CD18,CF18,CH18,CJ18)","v":0},null,0,null,0,null,0,null,0,null,0,null,0,null,{"$f":"SUM(CP18,CR18,CT18,CV18)","v":0},null,0,null,0,null,0,null,0,null,{"$f":"SUM(CZ18,DB18,DD18)","v":0},null,0,null,0,null,0,null,0,null,0,null,{"$f":"SUM(DL18,DN18,DP18,DR18,DT18)","v":0},null,0,null,0,null,0,null,0,null,0,null,{"$f":"SUM(DX18,DZ18,EB18,ED18)","v":0},null,0,null,0,null,0,null,0,null,0,null,0,null,{"$f":"SUM(EL18,EN18)","v":0},null,0,null,0,null,{"$f":"SUM(ER18,ET18)","v":0},null,0,null,0,null,{"$f":"SUM(EX18,EZ18,FB18)","v":0},null,0,null,0,null,0,null,0,null,0,null,null,null,null,null,null,null,null,null,null,null,null,null,null,null,null,null,{"$f":"SUM(H18,FH18,FP18,FR18,FT18,FV18)","v":0},null,null,null,null,null,null,null,"P08"]
[null,11,{"$f":"'PEFA rows'!B13","v":2},{"$f":"'PEFA rows'!C13","v":"P09"},{"$f":"'PEFA rows'!D13","v":"Brown coal and peat"},null,null,{"$f":"SUM(J19,R19,T19,BH19,BJ19,BP19,BR19,BZ19,CL19,CN19,CX19,DF19,DJ19,DV19,EF19,EH19,EJ19,EP19,EV19,FD19,FF19)","v":0},null,{"$f":"SUM(L19,N19,P19)","v":0},null,0,null,0,null,0,null,0,null,{"$f":"SUM(V19,X19,Z19,AB19,AD19,AF19,AH19,AJ19,AL19,AN19,AP19,AR19,AT19,AV19,AX19,AZ19,BB19,BD19,BF19)","v":0},null,0,null,0,null,0,null,0,null,0,null,0,null,0,null,0,null,0,null,0,null,0,null,0,null,0,null,0,null,0,null,0,null,0,null,0,null,0,null,0,null,{"$f":"SUM(BL19,BN19)","v":0},null,0,null,0,null,0,null,{"$f":"SUM(BT19,BV19,BX19)","v":0},null,0,null,0,null,0,null,{"$f":"SUM(CB19,CD19,CF19,CH19,CJ19)","v":0},null,0,null,0,null,0,null,0,null,0,null,0,null,{"$f":"SUM(CP19,CR19,CT19,CV19)","v":0},null,0,null,0,null,0,null,0,null,{"$f":"SUM(CZ19,DB19,DD19)","v":0},null,0,null,0,null,0,null,0,null,0,null,{"$f":"SUM(DL19,DN19,DP19,DR19,DT19)","v":0},null,0,null,0,null,0,null,0,null,0,null,{"$f":"SUM(DX19,DZ19,EB19,ED19)","v":0},null,0,null,0,null,0,null,0,null,0,null,0,null,{"$f":"SUM(EL19,EN19)","v":0},null,0,null,0,null,{"$f":"SUM(ER19,ET19)","v":0},null,0,null,0,null,{"$f":"SUM(EX19,EZ19,FB19)","v":0},null,0,null,0,null,0,null,0,null,0,null,null,null,null,null,null,null,null,null,null,null,null,null,null,null,null,null,{"$f":"SUM(H19,FH19,FP19,FR19,FT19,FV19)","v":0},null,null,null,null,null,null,null,"P09"]
[null,12,{"$f":"'PEFA rows'!B14","v":2},{"$f":"'PEFA rows'!C14","v":"P10"},{"$f":"'PEFA rows'!D14","v":"Derived gases (= manufactured gases excl. biogas) "},null,null,0,null,0,null,0,null,0,null,0,null,0,null,0,null,0,null,0,null,0,null,0,null,0,null,0,null,0,null,0,null,0,null,0,null,0,null,0,null,0,null,0,null,0,null,0,null,0,null,0,null,0,null,0,null,0,null,0,null,0,null,0,null,0,null,0,null,0,null,0,null,0,null,0,null,0,null,0,null,0,null,0,null,0,null,0,null,0,null,0,null,0,null,0,null,0,null,0,null,0,null,0,null,0,null,0,null,0,null,0,null,0,null,0,null,0,null,0,null,0,null,0,null,0,null,0,null,0,null,0,null,0,null,0,null,0,null,0,null,0,null,0,null,0,null,0,null,0,null,0,null,0,null,0,null,0,null,null,null,null,null,null,null,null,null,null,null,null,null,null,null,null,null,0,null,null,null,null,null,null,null,"P10"]
[null,13,{"$f":"'PEFA rows'!B15","v":2},{"$f":"'PEFA rows'!C15","v":"P11"},{"$f":"'PEFA rows'!D15","v":"Secondary coal products (coke, coal tar, patent fuel, BKB and peat products)"},null,null,0,null,0,null,0,null,0,null,0,null,0,null,0,null,0,null,0,null,0,null,0,null,0,null,0,null,0,null,0,null,0,null,0,null,0,null,0,null,0,null,0,null,0,null,0,null,0,null,0,null,0,null,0,null,0,null,0,null,0,null,0,null,0,null,0,null,0,null,0,null,0,null,0,null,0,null,0,null,0,null,0,null,0,null,0,null,0,null,0,null,0,null,0,null,0,null,0,null,0,null,0,null,0,null,0,null,0,null,0,null,0,null,0,null,0,null,0,null,0,null,0,null,0,null,0,null,0,null,0,null,0,null,0,null,0,null,0,null,0,null,0,null,0,null,0,null,0,null,0,null,0,null,0,null,0,null,null,null,null,null,null,null,null,null,null,null,null,null,null,null,null,null,0,null,null,null,null,null,null,null,"P11"]
[null,14,{"$f":"'PEFA rows'!B16","v":2},{"$f":"'PEFA rows'!C16","v":"P12"},{"$f":"'PEFA rows'!D16","v":"Crude oil, NGL, and other hydrocarbons (excl. bio)"},null,null,0,null,0,null,0,null,0,null,0,null,0,null,0,null,0,null,0,null,0,null,0,null,0,null,0,null,0,null,0,null,0,null,0,null,0,null,0,null,0,null,0,null,0,null,0,null,0,null,0,null,0,null,0,null,0,null,0,null,0,null,0,null,0,null,0,null,0,null,0,null,0,null,0,null,0,null,0,null,0,null,0,null,0,null,0,null,0,null,0,null,0,null,0,null,0,null,0,null,0,null,0,null,0,null,0,null,0,null,0,null,0,null,0,null,0,null,0,null,0,null,0,null,0,null,0,null,0,null,0,null,0,null,0,null,0,null,0,null,0,null,0,null,0,null,0,null,0,null,0,null,0,null,0,null,0,null,null,null,null,null,null,null,null,null,null,null,null,null,null,null,null,null,0,null,null,null,null,null,null,null,"P12"]
[null,15,{"$f":"'PEFA rows'!B17","v":2},{"$f":"'PEFA rows'!C17","v":"P13"},{"$f":"'PEFA rows'!D17","v":"Natural gas (without bio)"},null,null,0,null,0,null,0,null,0,null,0,null,0,null,0,null,0,null,0,null,0,null,0,null,0,null,0,null,0,null,0,null,0,null,0,null,0,null,0,null,0,null,0,null,0,null,0,null,0,null,0,null,0,null,0,null,0,null,0,null,0,null,0,null,0,null,0,null,0,null,0,null,0,null,0,null,0,null,0,null,0,null,0,null,0,null,0,null,0,null,0,null,0,null,0,null,0,null,0,null,0,null,0,null,0,null,0,null,0,null,0,null,0,null,0,null,0,null,0,null,0,null,0,null,0,null,0,null,0,null,0,null,0,null,0,null,0,null,0,null,0,null,0,null,0,null,0,null,0,null,0,null,0,null,0,null,0,null,null,null,null,null,null,null,null,null,null,null,null,null,null,null,null,null,0,null,null,null,null,null,null,null,"P13"]
[null,16,{"$f":"'PEFA rows'!B18","v":2},{"$f":"'PEFA rows'!C18","v":"P14"},{"$f":"'PEFA rows'!D18","v":"Motor spirit (without bio)"},null,null,0,null,0,null,0,null,0,null,0,null,0,null,0,null,0,null,0,null,0,null,0,null,0,null,0,null,0,null,0,null,0,null,0,null,0,null,0,null,0,null,0,null,0,null,0,null,0,null,0,null,0,null,0,null,0,null,0,null,0,null,0,null,0,null,0,null,0,null,0,null,0,null,0,null,0,null,0,null,0,null,0,null,0,null,0,null,0,null,0,null,0,null,0,null,0,null,0,null,0,null,0,null,0,null,0,null,0,null,0,null,0,null,0,null,0,null,0,null,0,null,0,null,0,null,0,null,0,null,0,null,0,null,0,null,0,null,0,null,0,null,0,null,0,null,0,null,0,null,0,null,0,null,0,null,0,null,null,null,null,null,null,null,null,null,null,null,null,null,null,null,null,null,0,null,null,null,null,null,null,null,"P14"]
[null,17,{"$f":"'PEFA rows'!B19","v":2},{"$f":"'PEFA rows'!C19","v":"P15"},{"$f":"'PEFA rows'!D19","v":"Kerosenes and jet fuels (without bio)"},null,null,0,null,0,null,0,null,0,null,0,null,0,null,0,null,0,null,0,null,0,null,0,null,0,null,0,null,0,null,0,null,0,null,0,null,0,null,0,null,0,null,0,null,0,null,0,null,0,null,0,null,0,null,0,null,0,null,0,null,0,null,0,null,0,null,0,null,0,null,0,null,0,null,0,null,0,null,0,null,0,null,0,null,0,null,0,null,0,null,0,null,0,null,0,null,0,null,0,null,0,null,0,null,0,null,0,null,0,null,0,null,0,null,0,null,0,null,0,null,0,null,0,null,0,null,0,null,0,null,0,null,0,null,0,null,0,null,0,null,0,null,0,null,0,null,0,null,0,null,0,null,0,null,0,null,0,null,null,null,null,null,null,null,null,null,null,null,null,null,null,null,null,null,0,null,null,null,null,null,null,null,"P15"]
[null,18,{"$f":"'PEFA rows'!B20","v":2},{"$f":"'PEFA rows'!C20","v":"P16"},{"$f":"'PEFA rows'!D20","v":"Naphtha"},null,null,0,null,0,null,0,null,0,null,0,null,0,null,0,null,0,null,0,null,0,null,0,null,0,null,0,null,0,null,0,null,0,null,0,null,0,null,0,null,0,null,0,null,0,null,0,null,0,null,0,null,0,null,0,null,0,null,0,null,0,null,0,null,0,null,0,null,0,null,0,null,0,null,0,null,0,null,0,null,0,null,0,null,0,null,0,null,0,null,0,null,0,null,0,null,0,null,0,null,0,null,0,null,0,null,0,null,0,null,0,null,0,null,0,null,0,null,0,null,0,null,0,null,0,null,0,null,0,null,0,null,0,null,0,null,0,null,0,null,0,null,0,null,0,null,0,null,0,null,0,null,0,null,0,null,0,null,null,null,null,null,null,null,null,null,null,null,null,null,null,null,null,null,0,null,null,null,null,null,null,null,"P16"]
[null,19,{"$f":"'PEFA rows'!B21","v":2},{"$f":"'PEFA rows'!C21","v":"P17"},{"$f":"'PEFA rows'!D21","v":"Transport diesel (without bio)"},null,null,0,null,0,null,0,null,0,null,0,null,0,null,0,null,0,null,0,null,0,null,0,null,0,null,0,null,0,null,0,null,0,null,0,null,0,null,0,null,0,null,0,null,0,null,0,null,0,null,0,null,0,null,0,null,0,null,0,null,0,null,0,null,0,null,0,null,0,null,0,null,0,null,0,null,0,null,0,null,0,null,0,null,0,null,0,null,0,null,0,null,0,null,0,null,0,null,0,null,0,null,0,null,0,null,0,null,0,null,0,null,0,null,0,null,0,null,0,null,0,null,0,null,0,null,0,null,0,null,0,null,0,null,0,null,0,null,0,null,0,null,0,null,0,null,0,null,0,null,0,null,0,null,0,null,0,null,null,null,null,null,null,null,null,null,null,null,null,null,null,null,null,null,0,null,null,null,null,null,null,null,"P17"]
[null,20,{"$f":"'PEFA rows'!B22","v":2},{"$f":"'PEFA rows'!C22","v":"P18"},{"$f":"'PEFA rows'!D22","v":"Heating and other gasoil (without bio)"},null,null,0,null,0,null,0,null,0,null,0,null,0,null,0,null,0,null,0,null,0,null,0,null,0,null,0,null,0,null,0,null,0,null,0,null,0,null,0,null,0,null,0,null,0,null,0,null,0,null,0,null,0,null,0,null,0,null,0,null,0,null,0,null,0,null,0,null,0,null,0,null,0,null,0,null,0,null,0,null,0,null,0,null,0,null,0,null,0,null,0,null,0,null,0,null,0,null,0,null,0,null,0,null,0,null,0,null,0,null,0,null,0,null,0,null,0,null,0,null,0,null,0,null,0,null,0,null,0,null,0,null,0,null,0,null,0,null,0,null,0,null,0,null,0,null,0,null,0,null,0,null,0,null,0,null,0,null,null,null,null,null,null,null,null,null,null,null,null,null,null,null,null,null,0,null,null,null,null,null,null,null,"P18"]
[null,21,{"$f":"'PEFA rows'!B23","v":2},{"$f":"'PEFA rows'!C23","v":"P19"},{"$f":"'PEFA rows'!D23","v":"Residual fuel oil"},null,null,0,null,0,null,0,null,0,null,0,null,0,null,0,null,0,null,0,null,0,null,0,null,0,null,0,null,0,null,0,null,0,null,0,null,0,null,0,null,0,null,0,null,0,null,0,null,0,null,0,null,0,null,0,null,0,null,0,null,0,null,0,null,0,null,0,null,0,null,0,null,0,null,0,null,0,null,0,null,0,null,0,null,0,null,0,null,0,null,0,null,0,null,0,null,0,null,0,null,0,null,0,null,0,null,0,null,0,null,0,null,0,null,0,null,0,null,0,null,0,null,0,null,0,null,0,null,0,null,0,null,0,null,0,null,0,null,0,null,0,null,0,null,0,null,0,null,0,null,0,null,0,null,0,null,0,null,null,null,null,null,null,null,null,null,null,null,null,null,null,null,null,null,0,null,null,null,null,null,null,null,"P19"]
[null,22,{"$f":"'PEFA rows'!B24","v":2},{"$f":"'PEFA rows'!C24","v":"P20"},{"$f":"'PEFA rows'!D24","v":"Refinery gas, ethane and LPG"},null,null,0,null,0,null,0,null,0,null,0,null,0,null,0,null,0,null,0,null,0,null,0,null,0,null,0,null,0,null,0,null,0,null,0,null,0,null,0,null,0,null,0,null,0,null,0,null,0,null,0,null,0,null,0,null,0,null,0,null,0,null,0,null,0,null,0,null,0,null,0,null,0,null,0,null,0,null,0,null,0,null,0,null,0,null,0,null,0,null,0,null,0,null,0,null,0,null,0,null,0,null,0,null,0,null,0,null,0,null,0,null,0,null,0,null,0,null,0,null,0,null,0,null,0,null,0,null,0,null,0,null,0,null,0,null,0,null,0,null,0,null,0,null,0,null,0,null,0,null,0,null,0,null,0,null,0,null,null,null,null,null,null,null,null,null,null,null,null,null,null,null,null,null,0,null,null,null,null,null,null,null,"P20"]
[null,23,{"$f":"'PEFA rows'!B25","v":2},{"$f":"'PEFA rows'!C25","v":"P21"},{"$f":"'PEFA rows'!D25","v":"Other petroleum products incl. additives/oxygenates and refinery feedstocks"},null,null,0,null,0,null,0,null,0,null,0,null,0,null,0,null,0,null,0,null,0,null,0,null,0,null,0,null,0,null,0,null,0,null,0,null,0,null,0,null,0,null,0,null,0,null,0,null,0,null,0,null,0,null,0,null,0,null,0,null,0,null,0,null,0,null,0,null,0,null,0,null,0,null,0,null,0,null,0,null,0,null,0,null,0,null,0,null,0,null,0,null,0,null,0,null,0,null,0,null,0,null,0,null,0,null,0,null,0,null,0,null,0,null,0,null,0,null,0,null,0,null,0,null,0,null,0,null,0,null,0,null,0,null,0,null,0,null,0,null,0,null,0,null,0,null,0,null,0,null,0,null,0,null,0,null,0,null,null,null,null,null,null,null,null,null,null,null,null,null,null,null,null,null,0,null,null,null,null,null,null,null,"P21"]
[null,24,{"$f":"'PEFA rows'!B26","v":2},{"$f":"'PEFA rows'!C26","v":"P22"},{"$f":"'PEFA rows'!D26","v":"Nuclear fuel"},null,null,0,null,0,null,0,null,0,null,0,null,0,null,0,null,0,null,0,null,0,null,0,null,0,null,0,null,0,null,0,null,0,null,0,null,0,null,0,null,0,null,0,null,0,null,0,null,0,null,0,null,0,null,0,null,0,null,0,null,0,null,0,null,0,null,0,null,0,null,0,null,0,null,0,null,0,null,0,null,0,null,0,null,0,null,0,null,0,null,0,null,0,null,0,null,0,null,0,null,0,null,0,null,0,null,0,null,0,null,0,null,0,null,0,null,0,null,0,null,0,null,0,null,0,null,0,null,0,null,0,null,0,null,0,null,0,null,0,null,0,null,0,null,0,null,0,null,0,null,0,null,0,null,0,null,0,null,null,null,null,null,null,null,null,null,null,null,null,null,null,null,null,null,0,null,null,null,null,null,null,null,"P22"]
[null,25,{"$f":"'PEFA rows'!B27","v":2},{"$f":"'PEFA rows'!C27","v":"P23"},{"$f":"'PEFA rows'!D27","v":"Wood, wood waste and other solid biomass, charcoal"},null,null,0,null,0,null,0,null,0,null,0,null,0,null,0,null,0,null,0,null,0,null,0,null,0,null,0,null,0,null,0,null,0,null,0,null,0,null,0,null,0,null,0,null,0,null,0,null,0,null,0,null,0,null,0,null,0,null,0,null,0,null,0,null,0,null,0,null,0,null,0,null,0,null,0,null,0,null,0,null,0,null,0,null,0,null,0,null,0,null,0,null,0,null,0,null,0,null,0,null,0,null,0,null,0,null,0,null,0,null,0,null,0,null,0,null,0,null,0,null,0,null,0,null,0,null,0,null,0,null,0,null,0,null,0,null,0,null,0,null,0,null,0,null,0,null,0,null,0,null,0,null,0,null,0,null,0,null,null,null,null,null,null,null,null,null,null,null,null,null,null,null,null,null,0,null,null,null,null,null,null,null,"P23"]
[null,26,{"$f":"'PEFA rows'!B28","v":2},{"$f":"'PEFA rows'!C28","v":"P24"},{"$f":"'PEFA rows'!D28","v":"Liquid biofuels"},null,null,0,null,0,null,0,null,0,null,0,null,0,null,0,null,0,null,0,null,0,null,0,null,0,null,0,null,0,null,0,null,0,null,0,null,0,null,0,null,0,null,0,null,0,null,0,null,0,null,0,null,0,null,0,null,0,null,0,null,0,null,0,null,0,null,0,null,0,null,0,null,0,null,0,null,0,null,0,null,0,null,0,null,0,null,0,null,0,null,0,null,0,null,0,null,0,null,0,null,0,null,0,null,0,null,0,null,0,null,0,null,0,null,0,null,0,null,0,null,0,null,0,null,0,null,0,null,0,null,0,null,0,null,0,null,0,null,0,null,0,null,0,null,0,null,0,null,0,null,0,null,0,null,0,null,0,null,null,null,null,null,null,null,null,null,null,null,null,null,null,null,null,null,0,null,null,null,null,null,null,null,"P24"]
[null,27,{"$f":"'PEFA rows'!B29","v":2},{"$f":"'PEFA rows'!C29","v":"P25"},{"$f":"'PEFA rows'!D29","v":"Biogas"},null,null,0,null,0,null,0,null,0,null,0,null,0,null,0,null,0,null,0,null,0,null,0,null,0,null,0,null,0,null,0,null,0,null,0,null,0,null,0,null,0,null,0,null,0,null,0,null,0,null,0,null,0,null,0,null,0,null,0,null,0,null,0,null,0,null,0,null,0,null,0,null,0,null,0,null,0,null,0,null,0,null,0,null,0,null,0,null,0,null,0,null,0,null,0,null,0,null,0,null,0,null,0,null,0,null,0,null,0,null,0,null,0,null,0,null,0,null,0,null,0,null,0,null,0,null,0,null,0,null,0,null,0,null,0,null,0,null,0,null,0,null,0,null,0,null,0,null,0,null,0,null,0,null,0,null,0,null,null,null,null,null,null,null,null,null,null,null,null,null,null,null,null,null,0,null,null,null,null,null,null,null,"P25"]
[null,28,{"$f":"'PEFA rows'!B30","v":2},{"$f":"'PEFA rows'!C30","v":"P26"},{"$f":"'PEFA rows'!D30","v":"Electrical energy"},null,null,0,null,0,null,0,null,0,null,0,null,0,null,0,null,0,null,0,null,0,null,0,null,0,null,0,null,0,null,0,null,0,null,0,null,0,null,0,null,0,null,0,null,0,null,0,null,0,null,0,null,0,null,0,null,0,null,0,null,0,null,0,null,0,null,0,null,0,null,0,null,0,null,0,null,0,null,0,null,0,null,0,null,0,null,0,null,0,null,0,null,0,null,0,null,0,null,0,null,0,null,0,null,0,null,0,null,0,null,0,null,0,null,0,null,0,null,0,null,0,null,0,null,0,null,0,null,0,null,0,null,0,null,0,null,0,null,0,null,0,null,0,null,0,null,0,null,0,null,0,null,0,null,0,null,0,null,null,null,null,null,null,null,null,null,null,null,null,null,null,null,null,null,0,null,null,null,null,null,null,null,"P26"]
[null,29,{"$f":"'PEFA rows'!B31","v":2},{"$f":"'PEFA rows'!C31","v":"P27"},{"$f":"'PEFA rows'!D31","v":"Heat"},null,null,0,null,0,null,0,null,0,null,0,null,0,null,0,null,0,null,0,null,0,null,0,null,0,null,0,null,0,null,0,null,0,null,0,null,0,null,0,null,0,null,0,null,0,null,0,null,0,null,0,null,0,null,0,null,0,null,0,null,0,null,0,null,0,null,0,null,0,null,0,null,0,null,0,null,0,null,0,null,0,null,0,null,0,null,0,null,0,null,0,null,0,null,0,null,0,null,0,null,0,null,0,null,0,null,0,null,0,null,0,null,0,null,0,null,0,null,0,null,0,null,0,null,0,null,0,null,0,null,0,null,0,null,0,null,0,null,0,null,0,null,0,null,0,null,0,null,0,null,0,null,0,null,0,null,0,null,null,null,null,null,null,null,null,null,null,null,null,null,null,null,null,null,0,null,null,null,null,null,null,null,"P27"]
[null,30,{"$f":"'PEFA rows'!B32","v":1},{"$f":"'PEFA rows'!C32","v":"R00"},{"$f":"'PEFA rows'!D32","v":"ENERGY RESIDUALS"},null,null,{"$f":"SUM(H39:H42)","v":0},null,{"$f":"SUM(J39:J42)","v":0},null,{"$f":"SUM(L39:L42)","v":0},null,{"$f":"SUM(N39:N42)","v":0},null,{"$f":"SUM(P39:P42)","v":0},null,{"$f":"SUM(R39:R42)","v":0},null,{"$f":"SUM(T39:T42)","v":0},null,{"$f":"SUM(V39:V42)","v":0},null,{"$f":"SUM(X39:X42)","v":0},null,{"$f":"SUM(Z39:Z42)","v":0},null,{"$f":"SUM(AB39:AB42)","v":0},null,{"$f":"SUM(AD39:AD42)","v":0},null,{"$f":"SUM(AF39:AF42)","v":0},null,{"$f":"SUM(AH39:AH42)","v":0},null,{"$f":"SUM(AJ39:AJ42)","v":0},null,{"$f":"SUM(AL39:AL42)","v":0},null,{"$f":"SUM(AN39:AN42)","v":0},null,{"$f":"SUM(AP39:AP42)","v":0},null,{"$f":"SUM(AR39:AR42)","v":0},null,{"$f":"SUM(AT39:AT42)","v":0},null,{"$f":"SUM(AV39:AV42)","v":0},null,{"$f":"SUM(AX39:AX42)","v":0},null,{"$f":"SUM(AZ39:AZ42)","v":0},null,{"$f":"SUM(BB39:BB42)","v":0},null,{"$f":"SUM(BD39:BD42)","v":0},null,{"$f":"SUM(BF39:BF42)","v":0},null,{"$f":"SUM(BH39:BH42)","v":0},null,{"$f":"SUM(BJ39:BJ42)","v":0},null,{"$f":"SUM(BL39:BL42)","v":0},null,{"$f":"SUM(BN39:BN42)","v":0},null,{"$f":"SUM(BP39:BP42)","v":0},null,{"$f":"SUM(BR39:BR42)","v":0},null,{"$f":"SUM(BT39:BT42)","v":0},null,{"$f":"SUM(BV39:BV42)","v":0},null,{"$f":"SUM(BX39:BX42)","v":0},null,{"$f":"SUM(BZ39:BZ42)","v":0},null,{"$f":"SUM(CB39:CB42)","v":0},null,{"$f":"SUM(CD39:CD42)","v":0},null,{"$f":"SUM(CF39:CF42)","v":0},null,{"$f":"SUM(CH39:CH42)","v":0},null,{"$f":"SUM(CJ39:CJ42)","v":0},null,{"$f":"SUM(CL39:CL42)","v":0},null,{"$f":"SUM(CN39:CN42)","v":0},null,{"$f":"SUM(CP39:CP42)","v":0},null,{"$f":"SUM(CR39:CR42)","v":0},null,{"$f":"SUM(CT39:CT42)","v":0},null,{"$f":"SUM(CV39:CV42)","v":0},null,{"$f":"SUM(CX39:CX42)","v":0},null,{"$f":"SUM(CZ39:CZ42)","v":0},null,{"$f":"SUM(DB39:DB42)","v":0},null,{"$f":"SUM(DD39:DD42)","v":0},null,{"$f":"SUM(DF39:DF42)","v":0},null,{"$f":"SUM(DH39:DH42)","v":0},null,{"$f":"SUM(DJ39:DJ42)","v":0},null,{"$f":"SUM(DL39:DL42)","v":0},null,{"$f":"SUM(DN39:DN42)","v":0},null,{"$f":"SUM(DP39:DP42)","v":0},null,{"$f":"SUM(DR39:DR42)","v":0},null,{"$f":"SUM(DT39:DT42)","v":0},null,{"$f":"SUM(DV39:DV42)","v":0},null,{"$f":"SUM(DX39:DX42)","v":0},null,{"$f":"SUM(DZ39:DZ42)","v":0},null,{"$f":"SUM(EB39:EB42)","v":0},null,{"$f":"SUM(ED39:ED42)","v":0},null,{"$f":"SUM(EF39:EF42)","v":0},null,{"$f":"SUM(EH39:EH42)","v":0},null,{"$f":"SUM(EJ39:EJ42)","v":0},null,{"$f":"SUM(EL39:EL42)","v":0},null,{"$f":"SUM(EN39:EN42)","v":0},null,{"$f":"SUM(EP39:EP42)","v":0},null,{"$f":"SUM(ER39:ER42)","v":0},null,{"$f":"SUM(ET39:ET42)","v":0},null,{"$f":"SUM(EV39:EV42)","v":0},null,{"$f":"SUM(EX39:EX42)","v":0},null,{"$f":"SUM(EZ39:EZ42)","v":0},null,{"$f":"SUM(FB39:FB42)","v":0},null,{"$f":"SUM(FD39:FD42)","v":0},null,{"$f":"SUM(FF39:FF42)","v":0},null,null,null,null,null,null,null,null,null,null,null,null,null,null,null,{"$f":"SUM(FV39:FV42)","v":0},null,{"$f":"SUM(FX39:FX42)","v":0},null,null,null,null,null,null,null,"R00"]
[null,31,{"$f":"'PEFA rows'!B33","v":2},{"$f":"'PEFA rows'!C33","v":"R28"},{"$f":"'PEFA rows'!D33","v":"Renewable waste"},null,null,{"$f":"SUM(J39,R39,T39,BH39,BJ39,BP39,BR39,BZ39,CL39,CN39,CX39,DF39,DJ39,DV39,EF39,EH39,EJ39,EP39,EV39,FD39,FF39)","v":0},null,{"$f":"SUM(L39,N39,P39)","v":0},null,0,null,0,null,0,null,0,null,{"$f":"SUM(V39,X39,Z39,AB39,AD39,AF39,AH39,AJ39,AL39,AN39,AP39,AR39,AT39,AV39,AX39,AZ39,BB39,BD39,BF39)","v":0},null,0,null,0,null,0,null,0,null,0,null,0,null,0,null,0,null,0,null,0,null,0,null,0,null,0,null,0,null,0,null,0,null,0,null,0,null,0,null,0,null,{"$f":"SUM(BL39,BN39)","v":0},null,0,null,0,null,0,null,{"$f":"SUM(BT39,BV39,BX39)","v":0},null,0,null,0,null,0,null,{"$f":"SUM(CB39,CD39,CF39,CH39,CJ39)","v":0},null,0,null,0,null,0,null,0,null,0,null,0,null,{"$f":"SUM(CP39,CR39,CT39,CV39)","v":0},null,0,null,0,null,0,null,0,null,{"$f":"SUM(CZ39,DB39,DD39)","v":0},null,0,null,0,null,0,null,0,null,0,null,{"$f":"SUM(DL39,DN39,DP39,DR39,DT39)","v":0},null,0,null,0,null,0,null,0,null,0,null,{"$f":"SUM(DX39,DZ39,EB39,ED39)","v":0},null,0,null,0,null,0,null,0,null,0,null,0,null,{"$f":"SUM(EL39,EN39)","v":0},null,0,null,0,null,{"$f":"SUM(ER39,ET39)","v":0},null,0,null,0,null,{"$f":"SUM(EX39,EZ39,FB39)","v":0},null,0,null,0,null,0,null,0,null,0,null,null,null,null,null,null,null,null,null,null,null,null,null,null,null,null,null,{"$f":"SUM(H39,FH39,FP39,FR39,FT39,FV39)","v":0},null,null,null,null,null,null,null,"R28"]
[null,32,{"$f":"'PEFA rows'!B34","v":2},{"$f":"'PEFA rows'!C34","v":"R29"},{"$f":"'PEFA rows'!D34","v":"Non-renewable waste"},null,null,{"$f":"SUM(J40,R40,T40,BH40,BJ40,BP40,BR40,BZ40,CL40,CN40,CX40,DF40,DJ40,DV40,EF40,EH40,EJ40,EP40,EV40,FD40,FF40)","v":0},null,{"$f":"SUM(L40,N40,P40)","v":0},null,0,null,0,null,0,null,0,null,{"$f":"SUM(V40,X40,Z40,AB40,AD40,AF40,AH40,AJ40,AL40,AN40,AP40,AR40,AT40,AV40,AX40,AZ40,BB40,BD40,BF40)","v":0},null,0,null,0,null,0,null,0,null,0,null,0,null,0,null,0,null,0,null,0,null,0,null,0,null,0,null,0,null,0,null,0,null,0,null,0,null,0,null,0,null,{"$f":"SUM(BL40,BN40)","v":0},null,0,null,0,null,0,null,{"$f":"SUM(BT40,BV40,BX40)","v":0},null,0,null,0,null,0,null,{"$f":"SUM(CB40,CD40,CF40,CH40,CJ40)","v":0},null,0,null,0,null,0,null,0,null,0,null,0,null,{"$f":"SUM(CP40,CR40,CT40,CV40)","v":0},null,0,null,0,null,0,null,0,null,{"$f":"SUM(CZ40,DB40,DD40)","v":0},null,0,null,0,null,0,null,0,null,0,null,{"$f":"SUM(DL40,DN40,DP40,DR40,DT40)","v":0},null,0,null,0,null,0,null,0,null,0,null,{"$f":"SUM(DX40,DZ40,EB40,ED40)","v":0},null,0,null,0,null,0,null,0,null,0,null,0,null,{"$f":"SUM(EL40,EN40)","v":0},null,0,null,0,null,{"$f":"SUM(ER40,ET40)","v":0},null,0,null,0,null,{"$f":"SUM(EX40,EZ40,FB40)","v":0},null,0,null,0,null,0,null,0,null,0,null,null,null,null,null,null,null,null,null,null,null,null,null,null,null,null,null,{"$f":"SUM(H40,FH40,FP40,FR40,FT40,FV40)","v":0},null,null,null,null,null,null,null,"R29"]
[null,33,{"$f":"'PEFA rows'!B35","v":2},{"$f":"'PEFA rows'!C35","v":"R30"},{"$f":"'PEFA rows'!D35","v":"Energy losses all kinds of (during extraction, distribution, storage and transformation, and dissipative heat from end use)"},null,null,null,null,null,null,null,null,null,null,null,null,null,null,null,null,null,null,null,null,null,null,null,null,null,null,null,null,null,null,null,null,null,null,null,null,null,null,null,null,null,null,null,null,null,null,null,null,null,null,null,null,null,null,null,null,null,null,null,null,null,null,null,null,null,null,null,null,null,null,null,null,null,null,null,null,null,null,null,null,null,null,null,null,null,null,null,null,null,null,null,null,null,null,null,null,null,null,null,null,null,null,null,null,null,null,null,null,null,null,null,null,null,null,null,null,null,null,null,null,null,null,null,null,null,null,null,null,null,null,null,null,null,null,null,null,null,null,null,null,null,null,null,null,null,null,null,null,null,null,null,null,null,null,null,null,null,null,null,null,null,null,null,null,null,null,null,null,null,null,null,null,0,null,{"$f":"SUM(H41,FH41,FP41,FR41,FT41,FV41)","v":0},null,null,null,null,null,null,null,"R30"]
[null,34,{"$f":"'PEFA rows'!B36","v":2},{"$f":"'PEFA rows'!C36","v":"R31"},{"$f":"'PEFA rows'!D36","v":"Energy incorporated in products for non-energy use"},null,null,{"$f":"SUM(J42,R42,T42,BH42,BJ42,BP42,BR42,BZ42,CL42,CN42,CX42,DF42,DJ42,DV42,EF42,EH42,EJ42,EP42,EV42,FD42,FF42)","v":0},null,null,null,null,null,null,null,null,null,null,null,{"$f":"SUM(V42,X42,Z42,AB42,AD42,AF42,AH42,AJ42,AL42,AN42,AP42,AR42,AT42,AV42,AX42,AZ42,BB42,BD42,BF42)","v":0},null,null,null,null,null,null,null,null,null,null,null,null,null,0,null,null,null,null,null,null,null,null,null,null,null,null,null,null,null,null,null,null,null,null,null,null,null,null,null,0,null,null,null,null,null,null,null,null,null,null,null,null,null,null,null,null,null,null,null,null,null,null,null,null,null,null,null,null,null,null,null,null,null,null,null,null,null,null,null,null,null,null,null,null,null,null,null,null,null,null,null,null,null,null,null,null,null,null,null,null,null,null,null,null,null,null,null,null,null,null,null,null,null,null,null,null,null,null,null,null,null,null,null,null,null,null,null,null,null,null,null,null,null,null,null,null,null,null,null,null,null,null,null,null,null,null,null,null,null,null,null,null,null,null,null,null,null,null,null,{"$f":"SUM(H42,FH42,FP42,FR42,FT42,FV42)","v":0},null,null,null,null,null,null,null,"R31"]
[null,35,{"$f":"'PEFA rows'!B37","v":1},{"$f":"'PEFA rows'!C37","v":"STADIF"},{"$f":"'PEFA rows'!D37","v":"Statistical Differences"},null,null,null,null,null,null,null,null,null,null,null,null,null,null,null,null,null,null,null,null,null,null,null,null,null,null,null,null,null,null,null,null,null,null,null,null,null,null,null,null,null,null,null,null,null,null,null,null,null,null,null,null,null,null,null,null,null,null,null,null,null,null,null,null,null,null,null,null,null,null,null,null,null,null,null,null,null,null,null,null,null,null,null,null,null,null,null,null,null,null,null,null,null,null,null,null,null,null,null,null,null,null,null,null,null,null,null,null,null,null,null,null,null,null,null,null,null,null,null,null,null,null,null,null,null,null,null,null,null,null,null,null,null,null,null,null,null,null,null,null,null,null,null,null,null,null,null,null,null,null,null,null,null,null,null,null,null,null,null,null,null,null,null,null,null,null,null,null,null,null,null,null,null,null,null,null,null,null,null,null,null,null,"SD_IO"]
[null,36,{"$f":"'PEFA rows'!B38","v":0},{"$f":"'PEFA rows'!C38","v":"NPR"},"TOTAL USE",null,null,{"$f":"SUM(H9,H17,H38,H43)","v":0},null,{"$f":"SUM(J9,J17,J38,J43)","v":0},null,{"$f":"SUM(L9,L17,L38,L43)","v":0},null,{"$f":"SUM(N9,N17,N38,N43)","v":0},null,{"$f":"SUM(P9,P17,P38,P43)","v":0},null,{"$f":"SUM(R9,R17,R38,R43)","v":0},null,{"$f":"SUM(T9,T17,T38,T43)","v":0},null,{"$f":"SUM(V9,V17,V38,V43)","v":0},null,{"$f":"SUM(X9,X17,X38,X43)","v":0},null,{"$f":"SUM(Z9,Z17,Z38,Z43)","v":0},null,{"$f":"SUM(AB9,AB17,AB38,AB43)","v":0},null,{"$f":"SUM(AD9,AD17,AD38,AD43)","v":0},null,{"$f":"SUM(AF9,AF17,AF38,AF43)","v":0},null,{"$f":"SUM(AH9,AH17,AH38,AH43)","v":0},null,{"$f":"SUM(AJ9,AJ17,AJ38,AJ43)","v":0},null,{"$f":"SUM(AL9,AL17,AL38,AL43)","v":0},null,{"$f":"SUM(AN9,AN17,AN38,AN43)","v":0},null,{"$f":"SUM(AP9,AP17,AP38,AP43)","v":0},null,{"$f":"SUM(AR9,AR17,AR38,AR43)","v":0},null,{"$f":"SUM(AT9,AT17,AT38,AT43)","v":0},null,{"$f":"SUM(AV9,AV17,AV38,AV43)","v":0},null,{"$f":"SUM(AX9,AX17,AX38,AX43)","v":0},null,{"$f":"SUM(AZ9,AZ17,AZ38,AZ43)","v":0},null,{"$f":"SUM(BB9,BB17,BB38,BB43)","v":0},null,{"$f":"SUM(BD9,BD17,BD38,BD43)","v":0},null,{"$f":"SUM(BF9,BF17,BF38,BF43)","v":0},null,{"$f":"SUM(BH9,BH17,BH38,BH43)","v":0},null,{"$f":"SUM(BJ9,BJ17,BJ38,BJ43)","v":0},null,{"$f":"SUM(BL9,BL17,BL38,BL43)","v":0},null,{"$f":"SUM(BN9,BN17,BN38,BN43)","v":0},null,{"$f":"SUM(BP9,BP17,BP38,BP43)","v":0},null,{"$f":"SUM(BR9,BR17,BR38,BR43)","v":0},null,{"$f":"SUM(BT9,BT17,BT38,BT43)","v":0},null,{"$f":"SUM(BV9,BV17,BV38,BV43)","v":0},null,{"$f":"SUM(BX9,BX17,BX38,BX43)","v":0},null,{"$f":"SUM(BZ9,BZ17,BZ38,BZ43)","v":0},null,{"$f":"SUM(CB9,CB17,CB38,CB43)","v":0},null,{"$f":"SUM(CD9,CD17,CD38,CD43)","v":0},null,{"$f":"SUM(CF9,CF17,CF38,CF43)","v":0},null,{"$f":"SUM(CH9,CH17,CH38,CH43)","v":0},null,{"$f":"SUM(CJ9,CJ17,CJ38,CJ43)","v":0},null,{"$f":"SUM(CL9,CL17,CL38,CL43)","v":0},null,{"$f":"SUM(CN9,CN17,CN38,CN43)","v":0},null,{"$f":"SUM(CP9,CP17,CP38,CP43)","v":0},null,{"$f":"SUM(CR9,CR17,CR38,CR43)","v":0},null,{"$f":"SUM(CT9,CT17,CT38,CT43)","v":0},null,{"$f":"SUM(CV9,CV17,CV38,CV43)","v":0},null,{"$f":"SUM(CX9,CX17,CX38,CX43)","v":0},null,{"$f":"SUM(CZ9,CZ17,CZ38,CZ43)","v":0},null,{"$f":"SUM(DB9,DB17,DB38,DB43)","v":0},null,{"$f":"SUM(DD9,DD17,DD38,DD43)","v":0},null,{"$f":"SUM(DF9,DF17,DF38,DF43)","v":0},null,{"$f":"SUM(DH9,DH17,DH38,DH43)","v":0},null,{"$f":"SUM(DJ9,DJ17,DJ38,DJ43)","v":0},null,{"$f":"SUM(DL9,DL17,DL38,DL43)","v":0},null,{"$f":"SUM(DN9,DN17,DN38,DN43)","v":0},null,{"$f":"SUM(DP9,DP17,DP38,DP43)","v":0},null,{"$f":"SUM(DR9,DR17,DR38,DR43)","v":0},null,{"$f":"SUM(DT9,DT17,DT38,DT43)","v":0},null,{"$f":"SUM(DV9,DV17,DV38,DV43)","v":0},null,{"$f":"SUM(DX9,DX17,DX38,DX43)","v":0},null,{"$f":"SUM(DZ9,DZ17,DZ38,DZ43)","v":0},null,{"$f":"SUM(EB9,EB17,EB38,EB43)","v":0},null,{"$f":"SUM(ED9,ED17,ED38,ED43)","v":0},null,{"$f":"SUM(EF9,EF17,EF38,EF43)","v":0},null,{"$f":"SUM(EH9,EH17,EH38,EH43)","v":0},null,{"$f":"SUM(EJ9,EJ17,EJ38,EJ43)","v":0},null,{"$f":"SUM(EL9,EL17,EL38,EL43)","v":0},null,{"$f":"SUM(EN9,EN17,EN38,EN43)","v":0},null,{"$f":"SUM(EP9,EP17,EP38,EP43)","v":0},null,{"$f":"SUM(ER9,ER17,ER38,ER43)","v":0},null,{"$f":"SUM(ET9,ET17,ET38,ET43)","v":0},null,{"$f":"SUM(EV9,EV17,EV38,EV43)","v":0},null,{"$f":"SUM(EX9,EX17,EX38,EX43)","v":0},null,{"$f":"SUM(EZ9,EZ17,EZ38,EZ43)","v":0},null,{"$f":"SUM(FB9,FB17,FB38,FB43)","v":0},null,{"$f":"SUM(FD9,FD17,FD38,FD43)","v":0},null,{"$f":"SUM(FF9,FF17,FF38,FF43)","v":0},null,null,null,null,null,null,null,null,null,null,null,null,null,null,null,{"$f":"SUM(FV9,FV17,FV38,FV43)","v":0},null,{"$f":"SUM(FX9,FX17,FX38,FX43)","v":0},null,null,null,null,null,null,null,"N00_P00_R00"]
[null,{"$f":"B44+1","v":37},"2w","P00w","of which (memo): Own use of ENERGY PRODUCTS (transformation)",null,null,{"$f":"SUM(J45,R45,T45,BH45,BJ45,BP45,BR45,BZ45,CL45,CN45,CX45,DF45,DJ45,DV45,EF45,EH45,EJ45,EP45,EV45,FD45,FF45)","v":0},null,{"$f":"SUM(L45,N45,P45)","v":0},null,0,null,0,null,0,null,0,null,{"$f":"SUM(V45,X45,Z45,AB45,AD45,AF45,AH45,AJ45,AL45,AN45,AP45,AR45,AT45,AV45,AX45,AZ45,BB45,BD45,BF45)","v":0},null,0,null,0,null,0,null,0,null,0,null,0,null,0,null,0,null,0,null,0,null,0,null,0,null,0,null,0,null,0,null,0,null,0,null,0,null,0,null,0,null,{"$f":"SUM(BL45,BN45)","v":0},null,0,null,0,null,0,null,{"$f":"SUM(BT45,BV45,BX45)","v":0},null,0,null,0,null,0,null,{"$f":"SUM(CB45,CD45,CF45,CH45,CJ45)","v":0},null,0,null,0,null,0,null,0,null,0,null,0,null,{"$f":"SUM(CP45,CR45,CT45,CV45)","v":0},null,0,null,0,null,0,null,0,null,{"$f":"SUM(CZ45,DB45,DD45)","v":0},null,0,null,0,null,0,null,0,null,0,null,{"$f":"SUM(DL45,DN45,DP45,DR45,DT45)","v":0},null,0,null,0,null,0,null,0,null,0,null,{"$f":"SUM(DX45,DZ45,EB45,ED45)","v":0},null,0,null,0,null,0,null,0,null,0,null,0,null,{"$f":"SUM(EL45,EN45)","v":0},null,0,null,0,null,{"$f":"SUM(ER45,ET45)","v":0},null,0,null,0,null,{"$f":"SUM(EX45,EZ45,FB45)","v":0},null,0,null,0,null,0,null,0,null,0,null,null,null,null,null,null,null,null,null,null,null,null,null,null,null,null,null,{"$f":"SUM(H45,FH45,FP45,FR45,FT45,FV45)","v":0},null,null,null,null,null,null,null,"EPRD_OUSE"]
[]
[]
[]
[]
[null,null,null,null,"NACE_R2",null,null,"TOTAL",null,"A",null,"A01",null,"A02",null,"A03",null,"B",null,"C",null,"C10-C12",null,"C13-C15",null,"C16",null,"C17",null,"C18",null,"C19",null,"C20",null,"C21",null,"C22",null,"C23",null,"C24",null,"C25",null,"C26",null,"C27",null,"C28",null,"C29",null,"C30",null,"C31_C32",null,"C33",null,"D",null,"E",null,"E36",null,"E37-E39",null,"F",null,"G",null,"G45",null,"G46",null,"G47",null,"H",null,"H49",null,"H50",null,"H51",null,"H52",null,"H53",null,"I",null,"J",null,"J58",null,"J59_J60",null,"J61",null,"J62_J63",null,"K",null,"K64",null,"K65",null,"K66",null,"L",null,"L68A",null,"M",null,"M69_M70",null,"M71",null,"M72",null,"M73",null,"M74_M75",null,"N",null,"N77",null,"N78",null,"N79",null,"N80-N82",null,"O",null,"P",null,"Q",null,"Q86",null,"Q87_Q88",null,"R",null,"R90-R92",null,"R93",null,"S",null,"S94",null,"S95",null,"S96",null,"T",null,"U",null,"HH",null,"HH_HEAT",null,"HH_TRA",null,"HH_OTH",null,"CH_INV_PA",null,"SD_SU",null,"ROW_ACT",null,"ENV",null,"NRG_FLOW"]

{"sheet":"Table_B.2","index":15,"n_rows":50,"n_cols":190,"rows_kept":50,"cut":false,"hidden":false,"merged":[[4,187,6,187],[44,4,44,5],[43,4,43,5],[37,4,37,5],[38,4,38,5],[39,4,39,5],[40,4,40,5],[41,4,41,5],[42,4,42,5],[31,4,31,5],[32,4,32,5],[33,4,33,5],[34,4,34,5],[35,4,35,5],[36,4,36,5],[25,4,25,5],[26,4,26,5],[27,4,27,5],[28,4,28,5],[29,4,29,5],[30,4,30,5],[19,4,19,5],[20,4,20,5],[21,4,21,5],[22,4,22,5],[23,4,23,5],[24,4,24,5],[13,4,13,5],[14,4,14,5],[15,4,15,5],[16,4,16,5],[17,4,17,5],[18,4,18,5],[7,4,7,6],[8,4,8,5],[9,4,9,5],[10,4,10,5],[11,4,11,5],[12,4,12,5],[5,171,6,172],[5,173,6,174],[5,175,6,176],[5,129,6,130],[5,131,6,132],[5,133,6,134],[5,111,6,112],[5,113,6,114],[5,115,6,116],[5,117,6,118],[5,119,6,120],[5,121,6,122],[5,99,6,100],[5,101,6,102],[5,103,6,104],[5,105,6,106],[5,107,6,108],[5,109,6,110],[5,177,6,178],[5,179,6,180],[6,1,6,4],[5,159,6,160],[5,161,6,162],[5,163,6,164],[5,165,6,166],[5,167,6,168],[5,169,6,170],[5,147,6,148],[5,149,6,150],[5,151,6,152],[5,153,6,154],[5,155,6,156],[5,157,6,158],[5,135,6,136],[5,137,6,138],[5,139,6,140],[5,141,6,142],[5,143,6,144],[5,145,6,146],[5,123,6,124],[5,125,6,126],[5,127,6,128],[5,87,6,88],[5,89,6,90],[5,91,6,92],[5,93,6,94],[5,95,6,96],[5,97,6,98],[5,75,6,76],[5,77,6,78],[5,79,6,80],[5,81,6,82],[5,83,6,84],[5,85,6,86],[5,63,6,64],[5,65,6,66],[5,67,6,68],[5,69,6,70],[5,71,6,72],[5,73,6,74],[5,51,6,52],[5,53,6,54],[5,55,6,56],[5,57,6,58],[5,59,6,60],[5,61,6,62],[5,39,6,40],[5,41,6,42],[5,43,6,44],[5,45,6,46],[5,47,6,48],[5,49,6,50],[5,27,6,28],[5,29,6,30],[5,31,6,32],[5,33,6,34],[5,35,6,36],[5,37,6,38],[5,15,6,16],[5,17,6,18],[5,19,6,20],[5,21,6,22],[5,23,6,24],[5,25,6,26],[5,1,5,3],[5,5,6,6],[5,7,6,8],[5,9,6,10],[5,11,6,12],[5,13,6,14],[4,179,4,180],[4,157,4,158],[4,159,4,160],[4,161,4,162],[4,163,4,164],[4,165,4,166],[4,167,4,168],[4,133,4,134],[4,135,4,136],[4,137,4,138],[4,139,4,140],[4,141,4,142],[4,143,4,144],[4,169,4,170],[4,171,4,172],[4,173,4,174],[4,145,4,146],[4,147,4,148],[4,149,4,150],[4,151,4,152],[4,153,4,154],[4,155,4,156],[4,119,4,120],[4,97,4,98],[4,99,4,100],[4,101,4,102],[4,103,4,104],[4,105,4,106],[4,107,4,108],[4,175,4,176],[4,177,4,178],[4,121,4,122],[4,123,4,124],[4,125,4,126],[4,127,4,128],[4,129,4,130],[4,131,4,132],[4,77,4,78],[4,79,4,80],[4,81,4,82],[4,83,4,84],[4,109,4,110],[4,111,4,112],[4,113,4,114],[4,115,4,116],[4,117,4,118],[4,43,4,44],[4,45,4,46],[4,47,4,48],[3,1,3,3],[3,5,3,6],[3,173,3,174],[4,61,4,62],[4,63,4,64],[4,65,4,66],[4,67,4,68],[4,69,4,70],[4,71,4,72],[4,53,4,54],[4,55,4,56],[4,57,4,58],[4,59,4,60],[4,85,4,86],[4,87,4,88],[4,89,4,90],[4,91,4,92],[4,93,4,94],[4,95,4,96],[4,73,4,74],[4,75,4,76],[3,175,3,176],[3,177,3,178],[4,1,4,3],[4,5,4,6],[4,7,4,8],[4,9,4,10],[4,11,4,12],[4,25,4,26],[4,27,4,28],[4,29,4,30],[4,31,4,32],[4,33,4,34],[4,35,4,36],[4,13,4,14],[4,15,4,16],[4,17,4,18],[4,19,4,20],[4,21,4,22],[4,23,4,24],[4,49,4,50],[4,51,4,52],[4,37,4,38],[4,39,4,40],[4,41,4,42],[2,169,2,170],[2,171,2,172],[2,173,2,174],[2,175,2,176],[2,177,2,178],[2,179,2,180],[2,157,2,158],[2,159,2,160],[2,161,2,162],[2,163,2,164],[2,165,2,166],[2,167,2,168],[2,145,2,146],[2,147,2,148],[2,149,2,150],[2,151,2,152],[2,153,2,154],[2,155,2,156],[2,133,2,134],[2,135,2,136],[2,137,2,138],[2,139,2,140],[2,141,2,142],[2,143,2,144],[2,121,2,122],[2,123,2,124],[2,125,2,126],[2,127,2,128],[2,129,2,130],[2,131,2,132],[2,109,2,110],[2,111,2,112],[2,113,2,114],[2,115,2,116],[2,117,2,118],[2,119,2,120],[2,97,2,98],[2,99,2,100],[2,101,2,102],[2,103,2,104],[2,105,2,106],[2,107,2,108],[2,85,2,86],[2,87,2,88],[2,89,2,90],[2,91,2,92],[2,93,2,94],[2,95,2,96],[2,73,2,74],[2,75,2,76],[2,77,2,78],[2,79,2,80],[2,81,2,82],[2,83,2,84],[2,61,2,62],[2,63,2,64],[2,65,2,66],[2,67,2,68],[2,69,2,70],[2,71,2,72],[2,49,2,50],[2,51,2,52],[2,53,2,54],[2,55,2,56],[2,57,2,58],[2,59,2,60],[2,37,2,38],[2,39,2,40],[2,41,2,42],[2,43,2,44],[2,45,2,46],[2,47,2,48],[2,25,2,26],[2,27,2,28],[2,29,2,30],[2,31,2,32],[2,33,2,34],[2,35,2,36],[2,13,2,14],[2,15,2,16],[2,17,2,18],[2,19,2,20],[2,21,2,22],[2,23,2,24],[1,171,1,172],[1,173,1,174],[1,175,1,176],[1,177,1,178],[1,179,1,180],[2,1,2,3],[2,5,2,6],[2,7,2,8],[2,9,2,10],[2,11,2,12],[1,159,1,160],[1,161,1,162],[1,163,1,164],[1,165,1,166],[1,167,1,168],[1,169,1,170],[1,147,1,148],[1,149,1,150],[1,151,1,152],[1,153,1,154],[1,155,1,156],[1,157,1,158],[1,135,1,136],[1,137,1,138],[1,139,1,140],[1,141,1,142],[1,143,1,144],[1,145,1,146],[1,123,1,124],[1,125,1,126],[1,127,1,128],[1,129,1,130],[1,131,1,132],[1,133,1,134],[1,111,1,112],[1,113,1,114],[1,115,1,116],[1,117,1,118],[1,119,1,120],[1,121,1,122],[1,99,1,100],[1,101,1,102],[1,103,1,104],[1,105,1,106],[1,107,1,108],[1,109,1,110],[1,87,1,88],[1,89,1,90],[1,91,1,92],[1,93,1,94],[1,95,1,96],[1,97,1,98],[1,75,1,76],[1,77,1,78],[1,79,1,80],[1,81,1,82],[1,83,1,84],[1,85,1,86],[1,63,1,64],[1,65,1,66],[1,67,1,68],[1,69,1,70],[1,71,1,72],[1,73,1,74],[1,51,1,52],[1,53,1,54],[1,55,1,56],[1,57,1,58],[1,59,1,60],[1,61,1,62],[1,39,1,40],[1,41,1,42],[1,43,1,44],[1,45,1,46],[1,47,1,48],[1,49,1,50],[1,27,1,28],[1,29,1,30],[1,31,1,32],[1,33,1,34],[1,35,1,36],[1,37,1,38],[1,15,1,16],[1,17,1,18],[1,19,1,20],[1,21,1,22],[1,23,1,24],[1,25,1,26],[1,1,1,3],[1,5,1,6],[1,7,1,8],[1,9,1,10],[1,11,1,12],[1,13,1,14]]}
["DATAENTRY"]
[null,"Country :",null,null,{"$f":"IF(intro!D12=\"\",\"\",intro!D12)","v":""},"no",null,1,null,{"$f":"H2+1","v":2},null,{"$f":"J2+1","v":3},null,{"$f":"L2+1","v":4},null,{"$f":"N2+1","v":5},null,{"$f":"P2+1","v":6},null,{"$f":"R2+1","v":7},null,{"$f":"T2+1","v":8},null,{"$f":"V2+1","v":9},null,{"$f":"X2+1","v":10},null,{"$f":"Z2+1","v":11},null,{"$f":"AB2+1","v":12},null,{"$f":"AD2+1","v":13},null,{"$f":"AF2+1","v":14},null,{"$f":"AH2+1","v":15},null,{"$f":"AJ2+1","v":16},null,{"$f":"AL2+1","v":17},null,{"$f":"AN2+1","v":18},null,{"$f":"AP2+1","v":19},null,{"$f":"AR2+1","v":20},null,{"$f":"AT2+1","v":21},null,{"$f":"AV2+1","v":22},null,{"$f":"AX2+1","v":23},null,{"$f":"AZ2+1","v":24},null,{"$f":"BB2+1","v":25},null,{"$f":"BD2+1","v":26},null,{"$f":"BF2+1","v":27},null,{"$f":"BH2+1","v":28},null,{"$f":"BJ2+1","v":29},null,{"$f":"BL2+1","v":30},null,{"$f":"BN2+1","v":31},null,{"$f":"BP2+1","v":32},null,{"$f":"BR2+1","v":33},null,{"$f":"BT2+1","v":34},null,{"$f":"BV2+1","v":35},null,{"$f":"BX2+1","v":36},null,{"$f":"BZ2+1","v":37},null,{"$f":"CB2+1","v":38},null,{"$f":"CD2+1","v":39},null,{"$f":"CF2+1","v":40},null,{"$f":"CH2+1","v":41},null,{"$f":"CJ2+1","v":42},null,{"$f":"CL2+1","v":43},null,{"$f":"CN2+1","v":44},null,{"$f":"CP2+1","v":45},null,{"$f":"CR2+1","v":46},null,{"$f":"CT2+1","v":47},null,{"$f":"CV2+1","v":48},null,{"$f":"CX2+1","v":49},null,{"$f":"CZ2+1","v":50},null,{"$f":"DB2+1","v":51},null,{"$f":"DD2+1","v":52},null,{"$f":"DF2+1","v":53},null,{"$f":"DH2+1","v":54},null,{"$f":"DJ2+1","v":55},null,{"$f":"DL2+1","v":56},null,{"$f":"DN2+1","v":57},null,{"$f":"DP2+1","v":58},null,{"$f":"DR2+1","v":59},null,{"$f":"DT2+1","v":60},null,{"$f":"DV2+1","v":61},null,{"$f":"DX2+1","v":62},null,{"$f":"DZ2+1","v":63},null,{"$f":"EB2+1","v":64},null,{"$f":"ED2+1","v":65},null,{"$f":"EF2+1","v":66},null,{"$f":"EH2+1","v":67},null,{"$f":"EJ2+1","v":68},null,{"$f":"EL2+1","v":69},null,{"$f":"EN2+1","v":70},null,{"$f":"EP2+1","v":71},null,{"$f":"ER2+1","v":72},null,{"$f":"ET2+1","v":73},null,{"$f":"EV2+1","v":74},null,{"$f":"EX2+1","v":75},null,{"$f":"EZ2+1","v":76},null,{"$f":"FB2+1","v":77},null,{"$f":"FD2+1","v":78},null,{"$f":"FF2+1","v":79},null,{"$f":"FH2+1","v":80},null,{"$f":"FJ2+1","v":81},null,{"$f":"FL2+1","v":82},null,{"$f":"FN2+1","v":83},null,{"$f":"FP2+1","v":84},null,{"$f":"FR2+1","v":85},null,{"$f":"FT2+1","v":86},null,{"$f":"FV2+1","v":87}]
[null,"Year :",null,null,{"$f":"IF(intro!E14=\"\",\"\",intro!E14)","v":""},"Level",null,{"$f":"'PEFA Columns'!D2","v":1},null,{"$f":"'PEFA Columns'!F6","v":2},null,{"$f":"'PEFA Columns'!H6","v":3},null,{"$f":"'PEFA Columns'!J6","v":3},null,{"$f":"'PEFA Columns'!L6","v":3},null,{"$f":"'PEFA Columns'!N6","v":2},null,{"$f":"'PEFA Columns'!P6","v":2},null,{"$f":"'PEFA Columns'!R6","v":3},null,{"$f":"'PEFA Columns'!T6","v":3},null,{"$f":"'PEFA Columns'!V6","v":3},null,{"$f":"'PEFA Columns'!X6","v":3},null,{"$f":"'PEFA Columns'!Z6","v":3},null,{"$f":"'PEFA Columns'!AB6","v":3},null,{"$f":"'PEFA Columns'!AD6","v":3},null,{"$f":"'PEFA Columns'!AF6","v":3},null,{"$f":"'PEFA Columns'!AH6","v":3},null,{"$f":"'PEFA Columns'!AJ6","v":3},null,{"$f":"'PEFA Columns'!AL6","v":3},null,{"$f":"'PEFA Columns'!AN6","v":3},null,{"$f":"'PEFA Columns'!AP6","v":3},null,{"$f":"'PEFA Columns'!AR6","v":3},null,{"$f":"'PEFA Columns'!AT6","v":3},null,{"$f":"'PEFA Columns'!AV6","v":3},null,{"$f":"'PEFA Columns'!AX6","v":3},null,{"$f":"'PEFA Columns'!AZ6","v":3},null,{"$f":"'PEFA Columns'!BB6","v":3},null,{"$f":"'PEFA Columns'!BD6","v":2},null,{"$f":"'PEFA Columns'!BF6","v":2},null,{"$f":"'PEFA Columns'!BH6","v":3},null,{"$f":"'PEFA Columns'!BJ6","v":3},null,{"$f":"'PEFA Columns'!BL6","v":2},null,{"$f":"'PEFA Columns'!BN6","v":2},null,{"$f":"'PEFA Columns'!BP6","v":3},null,{"$f":"'PEFA Columns'!BR6","v":3},null,{"$f":"'PEFA Columns'!BT6","v":3},null,{"$f":"'PEFA Columns'!BV6","v":2},null,{"$f":"'PEFA Columns'!BX6","v":3},null,{"$f":"'PEFA Columns'!BZ6","v":3},null,{"$f":"'PEFA Columns'!CB6","v":3},null,{"$f":"'PEFA Columns'!CD6","v":3},null,{"$f":"'PEFA Columns'!CF6","v":3},null,{"$f":"'PEFA Columns'!CH6","v":2},null,{"$f":"'PEFA Columns'!CJ6","v":2},null,{"$f":"'PEFA Columns'!CL6","v":3},null,{"$f":"'PEFA Columns'!CN6","v":3},null,{"$f":"'PEFA Columns'!CP6","v":3},null,{"$f":"'PEFA Columns'!CR6","v":3},null,{"$f":"'PEFA Columns'!CT6","v":2},null,{"$f":"'PEFA Columns'!CV6","v":3},null,{"$f":"'PEFA Columns'!CX6","v":3},null,{"$f":"'PEFA Columns'!CZ6","v":3},null,{"$f":"'PEFA Columns'!DB6","v":2},null,{"$f":"'PEFA Columns'!DD6","v":3},null,{"$f":"'PEFA Columns'!DF6","v":2},null,{"$f":"'PEFA Columns'!DH6","v":3},null,{"$f":"'PEFA Columns'!DJ6","v":3},null,{"$f":"'PEFA Columns'!DL6","v":3},null,{"$f":"'PEFA Columns'!DN6","v":3},null,{"$f":"'PEFA Columns'!DP6","v":3},null,{"$f":"'PEFA Columns'!DR6","v":2},null,{"$f":"'PEFA Columns'!DT6","v":3},null,{"$f":"'PEFA Columns'!DV6","v":3},null,{"$f":"'PEFA Columns'!DX6","v":3},null,{"$f":"'PEFA Columns'!DZ6","v":3},null,{"$f":"'PEFA Columns'!EB6","v":2},null,{"$f":"'PEFA Columns'!ED6","v":2},null,{"$f":"'PEFA Columns'!EF6","v":2},null,{"$f":"'PEFA Columns'!EH6","v":3},null,{"$f":"'PEFA Columns'!EJ6","v":3},null,{"$f":"'PEFA Columns'!EL6","v":2},null,{"$f":"'PEFA Columns'!EN6","v":3},null,{"$f":"'PEFA Columns'!EP6","v":3},null,{"$f":"'PEFA Columns'!ER6","v":2},null,{"$f":"'PEFA Columns'!ET6","v":3},null,{"$f":"'PEFA Columns'!EV6","v":3},null,{"$f":"'PEFA Columns'!EX6","v":3},null,{"$f":"'PEFA Columns'!EZ6","v":2},null,{"$f":"'PEFA Columns'!FB6","v":2},null,{"$f":"'PEFA Columns'!FD6","v":1},null,{"$f":"'PEFA Columns'!FF6","v":2},null,{"$f":"'PEFA Columns'!FH6","v":2},null,{"$f":"'PEFA Columns'!FJ6","v":2},null,{"$f":"'PEFA Columns'!FL6","v":1},null,{"$f":"'PEFA Columns'!FN6","v":1},null,{"$f":"'PEFA Columns'!FP6","v":1},null,{"$f":"'PEFA Columns'!FR6","v":1},null,{"$f":"'PEFA Columns'!FT6","v":0}]
[null,"Number and Type:",null,null,"Table B.2 - End use of energy flows (including non-energy use)",null,null," ",null,null,null,null,null,null,null,null,null,null,null,null,null,"INDUSTRIES (NACE rev 2)",null,null,null,null,null,null,null,null,null,null,null,null,null,null,null,"INDUSTRIES (NACE rev 2)",null,null,null,null,null,null,null,null,null,null,null,null,null,null,null,null,null,null,null,null,null,null,null,"INDUSTRIES (NACE rev 2)",null,null,null,null,null,null,null,null,null,null,null,null,null,null,null,"INDUSTRIES (NACE rev 2)",null,null,null,null,null,null,null,null,null,null,null,null,null,null,null,null,null,"INDUSTRIES (NACE rev 2)",null,null,null,null,null,null,null,null,null,null,null,null,null,"INDUSTRIES (NACE rev 2)",null,null,null,null,null,null,null,null,null,null,null,null,null,null,null,null,null,null,null,null,null,null,null,null,null,null,null,null,null,null,null,"INDUSTRIES (NACE rev 2)",null,null,null,null,null,null,null,null,null,null,null,null,null,null,null,null,null,null,null,null,null,"HOUSEHOLDS",null,null,null,null,null,null,null,"ACCUMULATION",null,"STADIF",null,"REST OF THE WORLD",null,"ENVIRONMENT"]
[null,"Content:",null,null,"Energy Flows","Code",null,{"$f":"'PEFA Columns'!D7","v":"A_U   01-99"},null,{"$f":"'PEFA Columns'!F7","v":"A"},null,{"$f":"'PEFA Columns'!H7","v":"A01"},null,{"$f":"'PEFA Columns'!J7","v":"A02"},null,{"$f":"'PEFA Columns'!L7","v":"A03"},null,{"$f":"'PEFA Columns'!N7","v":"B"},null,{"$f":"'PEFA Columns'!P7","v":"C"},null,{"$f":"'PEFA Columns'!R7","v":"C10-C12"},null,{"$f":"'PEFA Columns'!T7","v":"C13-C15"},null,{"$f":"'PEFA Columns'!V7","v":"C16"},null,{"$f":"'PEFA Columns'!X7","v":"C17"},null,{"$f":"'PEFA Columns'!Z7","v":"C18"},null,{"$f":"'PEFA Columns'!AB7","v":"C19"},null,{"$f":"'PEFA Columns'!AD7","v":"C20"},null,{"$f":"'PEFA Columns'!AF7","v":"C21"},null,{"$f":"'PEFA Columns'!AH7","v":"C22"},null,{"$f":"'PEFA Columns'!AJ7","v":"C23"},null,{"$f":"'PEFA Columns'!AL7","v":"C24"},null,{"$f":"'PEFA Columns'!AN7","v":"C25"},null,{"$f":"'PEFA Columns'!AP7","v":"C26"},null,{"$f":"'PEFA Columns'!AR7","v":"C27"},null,{"$f":"'PEFA Columns'!AT7","v":"C28"},null,{"$f":"'PEFA Columns'!AV7","v":"C29"},null,{"$f":"'PEFA Columns'!AX7","v":"C30"},null,{"$f":"'PEFA Columns'!AZ7","v":"C31_C32"},null,{"$f":"'PEFA Columns'!BB7","v":"C33"},null,{"$f":"'PEFA Columns'!BD7","v":"D"},null,{"$f":"'PEFA Columns'!BF7","v":"E"},null,{"$f":"'PEFA Columns'!BH7","v":"E36"},null,{"$f":"'PEFA Columns'!BJ7","v":"E37-E39"},null,{"$f":"'PEFA Columns'!BL7","v":"F"},null,{"$f":"'PEFA Columns'!BN7","v":"G"},null,{"$f":"'PEFA Columns'!BP7","v":"G45"},null,{"$f":"'PEFA Columns'!BR7","v":"G46"},null,{"$f":"'PEFA Columns'!BT7","v":"G47"},null,{"$f":"'PEFA Columns'!BV7","v":"H"},null,{"$f":"'PEFA Columns'!BX7","v":"H49"},null,{"$f":"'PEFA Columns'!BZ7","v":"H50"},null,{"$f":"'PEFA Columns'!CB7","v":"H51"},null,{"$f":"'PEFA Columns'!CD7","v":"H52"},null,{"$f":"'PEFA Columns'!CF7","v":"H53"},null,{"$f":"'PEFA Columns'!CH7","v":"I"},null,{"$f":"'PEFA Columns'!CJ7","v":"J"},null,{"$f":"'PEFA Columns'!CL7","v":"J58"},null,{"$f":"'PEFA Columns'!CN7","v":"J59_J60"},null,{"$f":"'PEFA Columns'!CP7","v":"J61"},null,{"$f":"'PEFA Columns'!CR7","v":"J62_J63"},null,{"$f":"'PEFA Columns'!CT7","v":"K"},null,{"$f":"'PEFA Columns'!CV7","v":"K64"},null,{"$f":"'PEFA Columns'!CX7","v":"K65"},null,{"$f":"'PEFA Columns'!CZ7","v":"K66"},null,{"$f":"'PEFA Columns'!DB7","v":"L"},null,{"$f":"'PEFA Columns'!DD7","v":"L68A"},null,{"$f":"'PEFA Columns'!DF7","v":"M"},null,{"$f":"'PEFA Columns'!DH7","v":"M69_M70"},null,{"$f":"'PEFA Columns'!DJ7","v":"M71"},null,{"$f":"'PEFA Columns'!DL7","v":"M72"},null,{"$f":"'PEFA Columns'!DN7","v":"M73"},null,{"$f":"'PEFA Columns'!DP7","v":"M74_M75"},null,{"$f":"'PEFA Columns'!DR7","v":"N"},null,{"$f":"'PEFA Columns'!DT7","v":"N77"},null,{"$f":"'PEFA Columns'!DV7","v":"N78"},null,{"$f":"'PEFA Columns'!DX7","v":"N79"},null,{"$f":"'PEFA Columns'!DZ7","v":"N80-N82"},null,{"$f":"'PEFA Columns'!EB7","v":"O"},null,{"$f":"'PEFA Columns'!ED7","v":"P"},null,{"$f":"'PEFA Columns'!EF7","v":"Q"},null,{"$f":"'PEFA Columns'!EH7","v":"Q86"},null,{"$f":"'PEFA Columns'!EJ7","v":"Q87_Q88"},null,{"$f":"'PEFA Columns'!EL7","v":"R"},null,{"$f":"'PEFA Columns'!EN7","v":"R90-R92"},null,{"$f":"'PEFA Columns'!EP7","v":"R93"},null,{"$f":"'PEFA Columns'!ER7","v":"S"},null,{"$f":"'PEFA Columns'!ET7","v":"S94"},null,{"$f":"'PEFA Columns'!EV7","v":"S95"},null,{"$f":"'PEFA Columns'!EX7","v":"S96"},null,{"$f":"'PEFA Columns'!EZ7","v":"T"},null,{"$f":"'PEFA Columns'!FB7","v":"U"},null,{"$f":"'PEFA Columns'!FD7","v":"HH"},null,{"$f":"'PEFA Columns'!FF7","v":"HH_HEAT"},null,{"$f":"'PEFA Columns'!FH7","v":"HH_TRA"},null,{"$f":"'PEFA Columns'!FJ7","v":"HH_OTH"},null,{"$f":"'PEFA Columns'!FL7","v":"CHINV_PA"},null,{"$f":"'PEFA Columns'!FN7","v":"STADIF"},null,{"$f":"'PEFA Columns'!FP7","v":"ROW_ACT"},null,{"$f":"'PEFA Columns'!FR7","v":"ENV"},null,{"$f":"'PEFA Columns'!FT7","v":"TSUE"},null,null,null,null,null,null,null,"PROD_NRG"]
[null,"Unit :",null,null,"TJ","Label",null,{"$f":"'PEFA Columns'!D8","v":"Total NACE industries"},null,{"$f":"'PEFA Columns'!F8","v":"Agriculture, forestry and fishing"},null,{"$f":"'PEFA Columns'!H8","v":"Crop and animal production, hunting and related service activities"},null,{"$f":"'PEFA Columns'!J8","v":"Forestry and logging"},null,{"$f":"'PEFA Columns'!L8","v":"Fishing and aquaculture"},null,{"$f":"'PEFA Columns'!N8","v":"Mining and quarrying"},null,{"$f":"'PEFA Columns'!P8","v":"Manufacturing"},null,{"$f":"'PEFA Columns'!R8","v":"Manufacture of food products, beverages and tobacco\nproducts"},null,{"$f":"'PEFA Columns'!T8","v":"Manufacture of textiles, wearing apparel and leather products"},null,{"$f":"'PEFA Columns'!V8","v":"Manufacture of wood and of products of wood and cork, except furniture; manufacture of articles of straw and plaiting materials"},null,{"$f":"'PEFA Columns'!X8","v":"Manufacture of paper and paper products"},null,{"$f":"'PEFA Columns'!Z8","v":"Printing and reproduction of recorded media"},null,{"$f":"'PEFA Columns'!AB8","v":"Manufacture of coke and refined petroleum products"},null,{"$f":"'PEFA Columns'!AD8","v":"Manufacture of chemicals and chemical products"},null,{"$f":"'PEFA Columns'!AF8","v":"Manufacture of basic pharmaceutical products and pharmaceutical preparations"},null,{"$f":"'PEFA Columns'!AH8","v":"Manufacture of rubber and plastic products"},null,{"$f":"'PEFA Columns'!AJ8","v":"Manufacture of other non-metallic mineral products"},null,{"$f":"'PEFA Columns'!AL8","v":"Manufacture of basic metals"},null,{"$f":"'PEFA Columns'!AN8","v":"Manufacture of fabricated metal products, except machinery and equipment"},null,{"$f":"'PEFA Columns'!AP8","v":"Manufacture of computer, electronic and optical products"},null,{"$f":"'PEFA Columns'!AR8","v":"Manufacture of electrical equipment"},null,{"$f":"'PEFA Columns'!AT8","v":"Manufacture of machinery and equipment n.e.c."},null,{"$f":"'PEFA Columns'!AV8","v":"Manufacture of motor vehicles, trailers and semi-trailers"},null,{"$f":"'PEFA Columns'!AX8","v":"Manufacture of other transport equipment"},null,{"$f":"'PEFA Columns'!AZ8","v":"Manufacture of furniture; other manufacturing"},null,{"$f":"'PEFA Columns'!BB8","v":"Repair and installation of machinery and equipment"},null,{"$f":"'PEFA Columns'!BD8","v":"Electricity, gas, steam and air conditioning supply"},null,{"$f":"'PEFA Columns'!BF8","v":"Water supply; sewerage, waste management and remediation activities"},null,{"$f":"'PEFA Columns'!BH8","v":"Water collection, treatment and supply"},null,{"$f":"'PEFA Columns'!BJ8","v":"Sewerage, waste management, remediation activities"},null,{"$f":"'PEFA Columns'!BL8","v":"Construction"},null,{"$f":"'PEFA Columns'!BN8","v":"Wholesale and retail trade; repair of motor vehicles and motorcycles"},null,{"$f":"'PEFA Columns'!BP8","v":"Wholesale and retail trade and repair of motor vehicles and motorcycles"},null,{"$f":"'PEFA Columns'!BR8","v":"Wholesale trade, except of motor vehicles and motorcycles"},null,{"$f":"'PEFA Columns'!BT8","v":"Retail trade, except of motor vehicles and motorcycles"},null,{"$f":"'PEFA Columns'!BV8","v":"Transportation and storage"},null,{"$f":"'PEFA Columns'!BX8","v":"Land transport and transport via pipelines"},null,{"$f":"'PEFA Columns'!BZ8","v":"Water transport"},null,{"$f":"'PEFA Columns'!CB8","v":"Air transport"},null,{"$f":"'PEFA Columns'!CD8","v":"Warehousing and support activities for transportation"},null,{"$f":"'PEFA Columns'!CF8","v":"Postal and courier activities"},null,{"$f":"'PEFA Columns'!CH8","v":"Accommodation and food service activities"},null,{"$f":"'PEFA Columns'!CJ8","v":"Information and communication"},null,{"$f":"'PEFA Columns'!CL8","v":"Publishing activities"},null,{"$f":"'PEFA Columns'!CN8","v":"Motion picture, video, television programme production; programming and broadcasting activities"},null,{"$f":"'PEFA Columns'!CP8","v":"Telecommunications"},null,{"$f":"'PEFA Columns'!CR8","v":"Computer programming, consultancy, and information service activities"},null,{"$f":"'PEFA Columns'!CT8","v":"Financial and insurance activities"},null,{"$f":"'PEFA Columns'!CV8","v":"Financial service activities, except insurance and pension funding"},null,{"$f":"'PEFA Columns'!CX8","v":"Insurance, reinsurance and pension funding, except compulsory social security"},null,{"$f":"'PEFA Columns'!CZ8","v":"Activities auxiliary to financial services and insurance activities"},null,{"$f":"'PEFA Columns'!DB8","v":"Real estate activities"},null,{"$f":"'PEFA Columns'!DD8","v":"Of which: Imputed rents of owner-occupied dwellings"},null,{"$f":"'PEFA Columns'!DF8","v":"Professional, scientific and technical activities"},null,{"$f":"'PEFA Columns'!DH8","v":"Legal and accounting activities; activities of head offices; management consultancy activities"},null,{"$f":"'PEFA Columns'!DJ8","v":"Architectural and engineering activities; technical testing and analysis"},null,{"$f":"'PEFA Columns'!DL8","v":"Scientific research and development"},null,{"$f":"'PEFA Columns'!DN8","v":"Advertising and market research"},null,{"$f":"'PEFA Columns'!DP8","v":"Other professional, scientific and technical activities; veterinary activities"},null,{"$f":"'PEFA Columns'!DR8","v":"Administrative and support service activities"},null,{"$f":"'PEFA Columns'!DT8","v":"Rental and leasing activities"},null,{"$f":"'PEFA Columns'!DV8","v":"Employment activities"},null,{"$f":"'PEFA Columns'!DX8","v":"Travel agency, tour operator reservation service and related activities"},null,{"$f":"'PEFA Columns'!DZ8","v":"Security and investigation, service and landscape, office administrative and support activities"},null,{"$f":"'PEFA Columns'!EB8","v":"Public administration and defence; compulsory social security"},null,{"$f":"'PEFA Columns'!ED8","v":"Education"},null,{"$f":"'PEFA Columns'!EF8","v":"Human health and social work activities"},null,{"$f":"'PEFA Columns'!EH8","v":"Human health activities"},null,{"$f":"'PEFA Columns'!EJ8","v":"Residential care activities and social work activities without accommodation"},null,{"$f":"'PEFA Columns'!EL8","v":"Arts, entertainment and recreation"},null,{"$f":"'PEFA Columns'!EN8","v":"Creative, arts and entertainment activities; libraries, archives, museums and other cultural activities; gambling and betting activities"},null,{"$f":"'PEFA Columns'!EP8","v":"Sports activities and amusement and recreation activities"},null,{"$f":"'PEFA Columns'!ER8","v":"Other service activities"},null,{"$f":"'PEFA Columns'!ET8","v":"Activities of membership organisations"},null,{"$f":"'PEFA Columns'!EV8","v":"Repair of computers and personal and household goods"},null,{"$f":"'PEFA Columns'!EX8","v":"Other personal service activities"},null,{"$f":"'PEFA Columns'!EZ8","v":"Activities of households as employers; undifferentiated goods- and services-producing activities of households for own use"},null,{"$f":"'PEFA Columns'!FB8","v":"Activities of extraterritorial organisations and bodies"},null,{"$f":"'PEFA Columns'!FD8","v":"Total activities by households"},null,{"$f":"'PEFA Columns'!FF8","v":"Heating/cooling activities by households"},null,{"$f":"'PEFA Columns'!FH8","v":"Transport activities by households"},null,{"$f":"'PEFA Columns'!FJ8","v":"Other activities by households"},null,{"$f":"'PEFA Columns'!FL8","v":"Changes in inventories and produced assets"},null,{"$f":"'PEFA Columns'!FN8","v":"Statistical Differences"},null,{"$f":"'PEFA Columns'!FP8","v":"Rest of the World - economic activities"},null,{"$f":"'PEFA Columns'!FR8","v":"Environment"},null,{"$f":"'PEFA Columns'!FT8","v":"TOTAL USE OF NATURAL INPUTS, PRODUCTS, AND RESIDUALS"}]
[null,null,null,null,null,null,null,null,null,null,null,null,null,null,null,null,null,null,null,null,null,null,null,null,null,null,null,null,null,null,null,null,null,null,null,null,null,null,null,null,null,null,null,null,null,null,null,null,null,null,null,null,null,null,null,null,null,null,null,null,null,null,null,null,null,null,null,null,null,null,null,null,null,null,null,null,null,null,null,null,null,null,null,null,null,null,null,null,null,null,null,null,null,null,null,null,null,null,null,null,null,null,null,null,null,null,null,null,null,null,null,null,null,null,null,null,null,null,null,null,null,null,null,null,null,null,null,null,null,null,null,null,null,null,null,null,null,null,null,null,null,null,null,null,null,null,null,null,null,null,null,null,null,null,null,null,null,null,null,null,null,null,null,null,null,null,null,null,null,null,null,null,null,null,null,null,null,null,null,null,null,null,null,null,null,"UNIT_MEASURE","UNIT_MULT",null,"STK_FLOW","INDIC_PEFA"]
[null,"no","Level","Code","Label"]
[null,1,{"$f":"'PEFA rows'!B3","v":1},{"$f":"'PEFA rows'!C3","v":"N00"},{"$f":"'PEFA rows'!D3","v":"NATURAL ENERGY INPUTS"},null,null,null,null,null,null,null,null,null,null,null,null,null,null,null,null,null,null,null,null,null,null,null,null,null,null,null,null,null,null,null,null,null,null,null,null,null,null,null,null,null,null,null,null,null,null,null,null,null,null,null,null,null,null,null,null,null,null,null,null,null,null,null,null,null,null,null,null,null,null,null,null,null,null,null,null,null,null,null,null,null,null,null,null,null,null,null,null,null,null,null,null,null,null,null,null,null,null,null,null,null,null,null,null,null,null,null,null,null,null,null,null,null,null,null,null,null,null,null,null,null,null,null,null,null,null,null,null,null,null,null,null,null,null,null,null,null,null,null,null,null,null,null,null,null,null,null,null,null,null,null,null,null,null,null,null,null,null,null,null,null,null,null,null,null,null,null,null,{"$f":"SUM(FR10:FR16)","v":0},null,null,null,null,null,{"$f":"SUM(FX10:FX16)","v":0},null,null,null,null,null,"TJ",0,"N00","USE_END","NAP"]
[null,{"$f":"B9+1","v":2},{"$f":"'PEFA rows'!B4","v":2},{"$f":"'PEFA rows'!C4","v":"N01"},{"$f":"'PEFA rows'!D4","v":"Fossil non-renewable natural energy inputs"},null,null,null,null,null,null,null,null,null,null,null,null,null,null,null,null,null,null,null,null,null,null,null,null,null,null,null,null,null,null,null,null,null,null,null,null,null,null,null,null,null,null,null,null,null,null,null,null,null,null,null,null,null,null,null,null,null,null,null,null,null,null,null,null,null,null,null,null,null,null,null,null,null,null,null,null,null,null,null,null,null,null,null,null,null,null,null,null,null,null,null,null,null,null,null,null,null,null,null,null,null,null,null,null,null,null,null,null,null,null,null,null,null,null,null,null,null,null,null,null,null,null,null,null,null,null,null,null,null,null,null,null,null,null,null,null,null,null,null,null,null,null,null,null,null,null,null,null,null,null,null,null,null,null,null,null,null,null,null,null,null,null,null,null,null,null,null,null,0,null,null,null,null,null,{"$f":"SUM(H10,FH10,FP10,FR10,FT10,FV10)","v":0},null,null,null,null,null,null,null,"N01"]
[null,{"$f":"B10+1","v":3},{"$f":"'PEFA rows'!B5","v":2},{"$f":"'PEFA rows'!C5","v":"N02"},{"$f":"'PEFA rows'!D5","v":"Nuclear non-renewable natural energy inputs"},null,null,null,null,null,null,null,null,null,null,null,null,null,null,null,null,null,null,null,null,null,null,null,null,null,null,null,null,null,null,null,null,null,null,null,null,null,null,null,null,null,null,null,null,null,null,null,null,null,null,null,null,null,null,null,null,null,null,null,null,null,null,null,null,null,null,null,null,null,null,null,null,null,null,null,null,null,null,null,null,null,null,null,null,null,null,null,null,null,null,null,null,null,null,null,null,null,null,null,null,null,null,null,null,null,null,null,null,null,null,null,null,null,null,null,null,null,null,null,null,null,null,null,null,null,null,null,null,null,null,null,null,null,null,null,null,null,null,null,null,null,null,null,null,null,null,null,null,null,null,null,null,null,null,null,null,null,null,null,null,null,null,null,null,null,null,null,null,0,null,null,null,null,null,{"$f":"SUM(H11,FH11,FP11,FR11,FT11,FV11)","v":0},null,null,null,null,null,null,null,"N02"]
[null,4,{"$f":"'PEFA rows'!B6","v":2},{"$f":"'PEFA rows'!C6","v":"N03"},{"$f":"'PEFA rows'!D6","v":"Hydro based renewable natural energy inputs"},null,null,null,null,null,null,null,null,null,null,null,null,null,null,null,null,null,null,null,null,null,null,null,null,null,null,null,null,null,null,null,null,null,null,null,null,null,null,null,null,null,null,null,null,null,null,null,null,null,null,null,null,null,null,null,null,null,null,null,null,null,null,null,null,null,null,null,null,null,null,null,null,null,null,null,null,null,null,null,null,null,null,null,null,null,null,null,null,null,null,null,null,null,null,null,null,null,null,null,null,null,null,null,null,null,null,null,null,null,null,null,null,null,null,null,null,null,null,null,null,null,null,null,null,null,null,null,null,null,null,null,null,null,null,null,null,null,null,null,null,null,null,null,null,null,null,null,null,null,null,null,null,null,null,null,null,null,null,null,null,null,null,null,null,null,null,null,null,0,null,null,null,null,null,0,null,null,null,null,null,null,null,"N03"]
[null,5,{"$f":"'PEFA rows'!B7","v":2},{"$f":"'PEFA rows'!C7","v":"N04"},{"$f":"'PEFA rows'!D7","v":"Wind based renewable natural energy inputs"},null,null,null,null,null,null,null,null,null,null,null,null,null,null,null,null,null,null,null,null,null,null,null,null,null,null,null,null,null,null,null,null,null,null,null,null,null,null,null,null,null,null,null,null,null,null,null,null,null,null,null,null,null,null,null,null,null,null,null,null,null,null,null,null,null,null,null,null,null,null,null,null,null,null,null,null,null,null,null,null,null,null,null,null,null,null,null,null,null,null,null,null,null,null,null,null,null,null,null,null,null,null,null,null,null,null,null,null,null,null,null,null,null,null,null,null,null,null,null,null,null,null,null,null,null,null,null,null,null,null,null,null,null,null,null,null,null,null,null,null,null,null,null,null,null,null,null,null,null,null,null,null,null,null,null,null,null,null,null,null,null,null,null,null,null,null,null,null,0,null,null,null,null,null,0,null,null,null,null,null,null,null,"N04"]
[null,6,{"$f":"'PEFA rows'!B8","v":2},{"$f":"'PEFA rows'!C8","v":"N05"},{"$f":"'PEFA rows'!D8","v":"Solar based renewable natural energy inputs"},null,null,null,null,null,null,null,null,null,null,null,null,null,null,null,null,null,null,null,null,null,null,null,null,null,null,null,null,null,null,null,null,null,null,null,null,null,null,null,null,null,null,null,null,null,null,null,null,null,null,null,null,null,null,null,null,null,null,null,null,null,null,null,null,null,null,null,null,null,null,null,null,null,null,null,null,null,null,null,null,null,null,null,null,null,null,null,null,null,null,null,null,null,null,null,null,null,null,null,null,null,null,null,null,null,null,null,null,null,null,null,null,null,null,null,null,null,null,null,null,null,null,null,null,null,null,null,null,null,null,null,null,null,null,null,null,null,null,null,null,null,null,null,null,null,null,null,null,null,null,null,null,null,null,null,null,null,null,null,null,null,null,null,null,null,null,null,null,0,null,null,null,null,null,0,null,null,null,null,null,null,null,"N05"]
[null,7,{"$f":"'PEFA rows'!B9","v":2},{"$f":"'PEFA rows'!C9","v":"N06"},{"$f":"'PEFA rows'!D9","v":"Biomass based renewable natural energy inputs"},null,null,null,null,null,null,null,null,null,null,null,null,null,null,null,null,null,null,null,null,null,null,null,null,null,null,null,null,null,null,null,null,null,null,null,null,null,null,null,null,null,null,null,null,null,null,null,null,null,null,null,null,null,null,null,null,null,null,null,null,null,null,null,null,null,null,null,null,null,null,null,null,null,null,null,null,null,null,null,null,null,null,null,null,null,null,null,null,null,null,null,null,null,null,null,null,null,null,null,null,null,null,null,null,null,null,null,null,null,null,null,null,null,null,null,null,null,null,null,null,null,null,null,null,null,null,null,null,null,null,null,null,null,null,null,null,null,null,null,null,null,null,null,null,null,null,null,null,null,null,null,null,null,null,null,null,null,null,null,null,null,null,null,null,null,null,null,null,0,null,null,null,null,null,{"$f":"SUM(H15,FH15,FP15,FR15,FT15,FV15)","v":0},null,null,null,null,null,null,null,"N06"]
[null,8,{"$f":"'PEFA rows'!B10","v":2},{"$f":"'PEFA rows'!C10","v":"N07"},{"$f":"'PEFA rows'!D10","v":"Other renewable natural energy inputs"},null,null,null,null,null,null,null,null,null,null,null,null,null,null,null,null,null,null,null,null,null,null,null,null,null,null,null,null,null,null,null,null,null,null,null,null,null,null,null,null,null,null,null,null,null,null,null,null,null,null,null,null,null,null,null,null,null,null,null,null,null,null,null,null,null,null,null,null,null,null,null,null,null,null,null,null,null,null,null,null,null,null,null,null,null,null,null,null,null,null,null,null,null,null,null,null,null,null,null,null,null,null,null,null,null,null,null,null,null,null,null,null,null,null,null,null,null,null,null,null,null,null,null,null,null,null,null,null,null,null,null,null,null,null,null,null,null,null,null,null,null,null,null,null,null,null,null,null,null,null,null,null,null,null,null,null,null,null,null,null,null,null,null,null,null,null,null,null,0,null,null,null,null,null,0,null,null,null,null,null,null,null,"N07"]
[null,9,{"$f":"'PEFA rows'!B11","v":1},{"$f":"'PEFA rows'!C11","v":"P00"},{"$f":"'PEFA rows'!D11","v":"ENERGY PRODUCTS"},null,null,{"$f":"SUM(H18:H37)","v":0},null,{"$f":"SUM(J18:J37)","v":0},null,{"$f":"SUM(L18:L37)","v":0},null,{"$f":"SUM(N18:N37)","v":0},null,{"$f":"SUM(P18:P37)","v":0},null,{"$f":"SUM(R18:R37)","v":0},null,{"$f":"SUM(T18:T37)","v":0},null,{"$f":"SUM(V18:V37)","v":0},null,{"$f":"SUM(X18:X37)","v":0},null,{"$f":"SUM(Z18:Z37)","v":0},null,{"$f":"SUM(AB18:AB37)","v":0},null,{"$f":"SUM(AD18:AD37)","v":0},null,{"$f":"SUM(AF18:AF37)","v":0},null,{"$f":"SUM(AH18:AH37)","v":0},null,{"$f":"SUM(AJ18:AJ37)","v":0},null,{"$f":"SUM(AL18:AL37)","v":0},null,{"$f":"SUM(AN18:AN37)","v":0},null,{"$f":"SUM(AP18:AP37)","v":0},null,{"$f":"SUM(AR18:AR37)","v":0},null,{"$f":"SUM(AT18:AT37)","v":0},null,{"$f":"SUM(AV18:AV37)","v":0},null,{"$f":"SUM(AX18:AX37)","v":0},null,{"$f":"SUM(AZ18:AZ37)","v":0},null,{"$f":"SUM(BB18:BB37)","v":0},null,{"$f":"SUM(BD18:BD37)","v":0},null,{"$f":"SUM(BF18:BF37)","v":0},null,{"$f":"SUM(BH18:BH37)","v":0},null,{"$f":"SUM(BJ18:BJ37)","v":0},null,{"$f":"SUM(BL18:BL37)","v":0},null,{"$f":"SUM(BN18:BN37)","v":0},null,{"$f":"SUM(BP18:BP37)","v":0},null,{"$f":"SUM(BR18:BR37)","v":0},null,{"$f":"SUM(BT18:BT37)","v":0},null,{"$f":"SUM(BV18:BV37)","v":0},null,{"$f":"SUM(BX18:BX37)","v":0},null,{"$f":"SUM(BZ18:BZ37)","v":0},null,{"$f":"SUM(CB18:CB37)","v":0},null,{"$f":"SUM(CD18:CD37)","v":0},null,{"$f":"SUM(CF18:CF37)","v":0},null,{"$f":"SUM(CH18:CH37)","v":0},null,{"$f":"SUM(CJ18:CJ37)","v":0},null,{"$f":"SUM(CL18:CL37)","v":0},null,{"$f":"SUM(CN18:CN37)","v":0},null,{"$f":"SUM(CP18:CP37)","v":0},null,{"$f":"SUM(CR18:CR37)","v":0},null,{"$f":"SUM(CT18:CT37)","v":0},null,{"$f":"SUM(CV18:CV37)","v":0},null,{"$f":"SUM(CX18:CX37)","v":0},null,{"$f":"SUM(CZ18:CZ37)","v":0},null,{"$f":"SUM(DB18:DB37)","v":0},null,{"$f":"SUM(DD18:DD37)","v":0},null,{"$f":"SUM(DF18:DF37)","v":0},null,{"$f":"SUM(DH18:DH37)","v":0},null,{"$f":"SUM(DJ18:DJ37)","v":0},null,{"$f":"SUM(DL18:DL37)","v":0},null,{"$f":"SUM(DN18:DN37)","v":0},null,{"$f":"SUM(DP18:DP37)","v":0},null,{"$f":"SUM(DR18:DR37)","v":0},null,{"$f":"SUM(DT18:DT37)","v":0},null,{"$f":"SUM(DV18:DV37)","v":0},null,{"$f":"SUM(DX18:DX37)","v":0},null,{"$f":"SUM(DZ18:DZ37)","v":0},null,{"$f":"SUM(EB18:EB37)","v":0},null,{"$f":"SUM(ED18:ED37)","v":0},null,{"$f":"SUM(EF18:EF37)","v":0},null,{"$f":"SUM(EH18:EH37)","v":0},null,{"$f":"SUM(EJ18:EJ37)","v":0},null,{"$f":"SUM(EL18:EL37)","v":0},null,{"$f":"SUM(EN18:EN37)","v":0},null,{"$f":"SUM(EP18:EP37)","v":0},null,{"$f":"SUM(ER18:ER37)","v":0},null,{"$f":"SUM(ET18:ET37)","v":0},null,{"$f":"SUM(EV18:EV37)","v":0},null,{"$f":"SUM(EX18:EX37)","v":0},null,{"$f":"SUM(EZ18:EZ37)","v":0},null,{"$f":"SUM(FB18:FB37)","v":0},null,{"$f":"SUM(FD18:FD37)","v":0},null,{"$f":"SUM(FF18:FF37)","v":0},null,{"$f":"SUM(FH18:FH37)","v":0},null,{"$f":"SUM(FJ18:FJ37)","v":0},null,{"$f":"SUM(FL18:FL37)","v":0},null,{"$f":"SUM(FN18:FN37)","v":0},null,{"$f":"SUM(FP18:FP37)","v":0},null,{"$f":"SUM(FR18:FR37)","v":0},null,{"$f":"SUM(FT18:FT37)","v":0},null,null,null,{"$f":"SUM(FX18:FX37)","v":0},null,null,null,null,null,null,null,"P00"]
[null,10,{"$f":"'PEFA rows'!B12","v":2},{"$f":"'PEFA rows'!C12","v":"P08"},{"$f":"'PEFA rows'!D12","v":"Hard coal"},null,null,{"$f":"SUM(J18,R18,T18,BH18,BJ18,BP18,BR18,BZ18,CL18,CN18,CX18,DF18,DJ18,DV18,EF18,EH18,EJ18,EP18,EV18,FD18,FF18)","v":0},null,{"$f":"SUM(L18,N18,P18)","v":0},null,0,null,0,null,0,null,0,null,{"$f":"SUM(V18,X18,Z18,AB18,AD18,AF18,AH18,AJ18,AL18,AN18,AP18,AR18,AT18,AV18,AX18,AZ18,BB18,BD18,BF18)","v":0},null,0,null,0,null,0,null,0,null,0,null,0,null,0,null,0,null,0,null,0,null,0,null,0,null,0,null,0,null,0,null,0,null,0,null,0,null,0,null,0,null,{"$f":"SUM(BL18,BN18)","v":0},null,0,null,0,null,0,null,{"$f":"SUM(BT18,BV18,BX18)","v":0},null,0,null,0,null,0,null,{"$f":"SUM(CB18,CD18,CF18,CH18,CJ18)","v":0},null,0,null,0,null,0,null,0,null,0,null,0,null,{"$f":"SUM(CP18,CR18,CT18,CV18)","v":0},null,0,null,0,null,0,null,0,null,{"$f":"SUM(CZ18,DB18,DD18)","v":0},null,0,null,0,null,0,null,0,null,0,null,{"$f":"SUM(DL18,DN18,DP18,DR18,DT18)","v":0},null,0,null,0,null,0,null,0,null,0,null,{"$f":"SUM(DX18,DZ18,EB18,ED18)","v":0},null,0,null,0,null,0,null,0,null,0,null,0,null,{"$f":"SUM(EL18,EN18)","v":0},null,0,null,0,null,{"$f":"SUM(ER18,ET18)","v":0},null,0,null,0,null,{"$f":"SUM(EX18,EZ18,FB18)","v":0},null,0,null,0,null,0,null,0,null,0,null,{"$f":"SUM(FJ18,FL18,FN18)","v":0},null,0,null,0,null,0,null,0,null,0,null,0,null,null,null,{"$f":"SUM(H18,FH18,FP18,FR18,FT18,FV18)","v":0},null,null,null,null,null,null,null,"P08"]
[null,11,{"$f":"'PEFA rows'!B13","v":2},{"$f":"'PEFA rows'!C13","v":"P09"},{"$f":"'PEFA rows'!D13","v":"Brown coal and peat"},null,null,{"$f":"SUM(J19,R19,T19,BH19,BJ19,BP19,BR19,BZ19,CL19,CN19,CX19,DF19,DJ19,DV19,EF19,EH19,EJ19,EP19,EV19,FD19,FF19)","v":0},null,{"$f":"SUM(L19,N19,P19)","v":0},null,0,null,0,null,0,null,0,null,{"$f":"SUM(V19,X19,Z19,AB19,AD19,AF19,AH19,AJ19,AL19,AN19,AP19,AR19,AT19,AV19,AX19,AZ19,BB19,BD19,BF19)","v":0},null,0,null,0,null,0,null,0,null,0,null,0,null,0,null,0,null,0,null,0,null,0,null,0,null,0,null,0,null,0,null,0,null,0,null,0,null,0,null,0,null,{"$f":"SUM(BL19,BN19)","v":0},null,0,null,0,null,0,null,{"$f":"SUM(BT19,BV19,BX19)","v":0},null,0,null,0,null,0,null,{"$f":"SUM(CB19,CD19,CF19,CH19,CJ19)","v":0},null,0,null,0,null,0,null,0,null,0,null,0,null,{"$f":"SUM(CP19,CR19,CT19,CV19)","v":0},null,0,null,0,null,0,null,0,null,{"$f":"SUM(CZ19,DB19,DD19)","v":0},null,0,null,0,null,0,null,0,null,0,null,{"$f":"SUM(DL19,DN19,DP19,DR19,DT19)","v":0},null,0,null,0,null,0,null,0,null,0,null,{"$f":"SUM(DX19,DZ19,EB19,ED19)","v":0},null,0,null,0,null,0,null,0,null,0,null,0,null,{"$f":"SUM(EL19,EN19)","v":0},null,0,null,0,null,{"$f":"SUM(ER19,ET19)","v":0},null,0,null,0,null,{"$f":"SUM(EX19,EZ19,FB19)","v":0},null,0,null,0,null,0,null,0,null,0,null,{"$f":"SUM(FJ19,FL19,FN19)","v":0},null,0,null,0,null,0,null,0,null,0,null,0,null,null,null,{"$f":"SUM(H19,FH19,FP19,FR19,FT19,FV19)","v":0},null,null,null,null,null,null,null,"P09"]
[null,12,{"$f":"'PEFA rows'!B14","v":2},{"$f":"'PEFA rows'!C14","v":"P10"},{"$f":"'PEFA rows'!D14","v":"Derived gases (= manufactured gases excl. biogas) "},null,null,0,null,0,null,0,null,0,null,0,null,0,null,0,null,0,null,0,null,0,null,0,null,0,null,0,null,0,null,0,null,0,null,0,null,0,null,0,null,0,null,0,null,0,null,0,null,0,null,0,null,0,null,0,null,0,null,0,null,0,null,0,null,0,null,0,null,0,null,0,null,0,null,0,null,0,null,0,null,0,null,0,null,0,null,0,null,0,null,0,null,0,null,0,null,0,null,0,null,0,null,0,null,0,null,0,null,0,null,0,null,0,null,0,null,0,null,0,null,0,null,0,null,0,null,0,null,0,null,0,null,0,null,0,null,0,null,0,null,0,null,0,null,0,null,0,null,0,null,0,null,0,null,0,null,0,null,0,null,0,null,0,null,0,null,0,null,0,null,0,null,null,null,0,null,null,null,null,null,null,null,"P10"]
[null,13,{"$f":"'PEFA rows'!B15","v":2},{"$f":"'PEFA rows'!C15","v":"P11"},{"$f":"'PEFA rows'!D15","v":"Secondary coal products (coke, coal tar, patent fuel, BKB and peat products)"},null,null,0,null,0,null,0,null,0,null,0,null,0,null,0,null,0,null,0,null,0,null,0,null,0,null,0,null,0,null,0,null,0,null,0,null,0,null,0,null,0,null,0,null,0,null,0,null,0,null,0,null,0,null,0,null,0,null,0,null,0,null,0,null,0,null,0,null,0,null,0,null,0,null,0,null,0,null,0,null,0,null,0,null,0,null,0,null,0,null,0,null,0,null,0,null,0,null,0,null,0,null,0,null,0,null,0,null,0,null,0,null,0,null,0,null,0,null,0,null,0,null,0,null,0,null,0,null,0,null,0,null,0,null,0,null,0,null,0,null,0,null,0,null,0,null,0,null,0,null,0,null,0,null,0,null,0,null,0,null,0,null,0,null,0,null,0,null,0,null,0,null,null,null,0,null,null,null,null,null,null,null,"P11"]
[null,14,{"$f":"'PEFA rows'!B16","v":2},{"$f":"'PEFA rows'!C16","v":"P12"},{"$f":"'PEFA rows'!D16","v":"Crude oil, NGL, and other hydrocarbons (excl. bio)"},null,null,0,null,0,null,0,null,0,null,0,null,0,null,0,null,0,null,0,null,0,null,0,null,0,null,0,null,0,null,0,null,0,null,0,null,0,null,0,null,0,null,0,null,0,null,0,null,0,null,0,null,0,null,0,null,0,null,0,null,0,null,0,null,0,null,0,null,0,null,0,null,0,null,0,null,0,null,0,null,0,null,0,null,0,null,0,null,0,null,0,null,0,null,0,null,0,null,0,null,0,null,0,null,0,null,0,null,0,null,0,null,0,null,0,null,0,null,0,null,0,null,0,null,0,null,0,null,0,null,0,null,0,null,0,null,0,null,0,null,0,null,0,null,0,null,0,null,0,null,0,null,0,null,0,null,0,null,0,null,0,null,0,null,0,null,0,null,0,null,0,null,null,null,0,null,null,null,null,null,null,null,"P12"]
[null,15,{"$f":"'PEFA rows'!B17","v":2},{"$f":"'PEFA rows'!C17","v":"P13"},{"$f":"'PEFA rows'!D17","v":"Natural gas (without bio)"},null,null,0,null,0,null,0,null,0,null,0,null,0,null,0,null,0,null,0,null,0,null,0,null,0,null,0,null,0,null,0,null,0,null,0,null,0,null,0,null,0,null,0,null,0,null,0,null,0,null,0,null,0,null,0,null,0,null,0,null,0,null,0,null,0,null,0,null,0,null,0,null,0,null,0,null,0,null,0,null,0,null,0,null,0,null,0,null,0,null,0,null,0,null,0,null,0,null,0,null,0,null,0,null,0,null,0,null,0,null,0,null,0,null,0,null,0,null,0,null,0,null,0,null,0,null,0,null,0,null,0,null,0,null,0,null,0,null,0,null,0,null,0,null,0,null,0,null,0,null,0,null,0,null,0,null,0,null,0,null,0,null,0,null,0,null,0,null,0,null,0,null,null,null,0,null,null,null,null,null,null,null,"P13"]
[null,16,{"$f":"'PEFA rows'!B18","v":2},{"$f":"'PEFA rows'!C18","v":"P14"},{"$f":"'PEFA rows'!D18","v":"Motor spirit (without bio)"},null,null,0,null,0,null,0,null,0,null,0,null,0,null,0,null,0,null,0,null,0,null,0,null,0,null,0,null,0,null,0,null,0,null,0,null,0,null,0,null,0,null,0,null,0,null,0,null,0,null,0,null,0,null,0,null,0,null,0,null,0,null,0,null,0,null,0,null,0,null,0,null,0,null,0,null,0,null,0,null,0,null,0,null,0,null,0,null,0,null,0,null,0,null,0,null,0,null,0,null,0,null,0,null,0,null,0,null,0,null,0,null,0,null,0,null,0,null,0,null,0,null,0,null,0,null,0,null,0,null,0,null,0,null,0,null,0,null,0,null,0,null,0,null,0,null,0,null,0,null,0,null,0,null,0,null,0,null,0,null,0,null,0,null,0,null,0,null,0,null,0,null,null,null,0,null,null,null,null,null,null,null,"P14"]
[null,17,{"$f":"'PEFA rows'!B19","v":2},{"$f":"'PEFA rows'!C19","v":"P15"},{"$f":"'PEFA rows'!D19","v":"Kerosenes and jet fuels (without bio)"},null,null,0,null,0,null,0,null,0,null,0,null,0,null,0,null,0,null,0,null,0,null,0,null,0,null,0,null,0,null,0,null,0,null,0,null,0,null,0,null,0,null,0,null,0,null,0,null,0,null,0,null,0,null,0,null,0,null,0,null,0,null,0,null,0,null,0,null,0,null,0,null,0,null,0,null,0,null,0,null,0,null,0,null,0,null,0,null,0,null,0,null,0,null,0,null,0,null,0,null,0,null,0,null,0,null,0,null,0,null,0,null,0,null,0,null,0,null,0,null,0,null,0,null,0,null,0,null,0,null,0,null,0,null,0,null,0,null,0,null,0,null,0,null,0,null,0,null,0,null,0,null,0,null,0,null,0,null,0,null,0,null,0,null,0,null,0,null,0,null,0,null,null,null,0,null,null,null,null,null,null,null,"P15"]
[null,18,{"$f":"'PEFA rows'!B20","v":2},{"$f":"'PEFA rows'!C20","v":"P16"},{"$f":"'PEFA rows'!D20","v":"Naphtha"},null,null,0,null,0,null,0,null,0,null,0,null,0,null,0,null,0,null,0,null,0,null,0,null,0,null,0,null,0,null,0,null,0,null,0,null,0,null,0,null,0,null,0,null,0,null,0,null,0,null,0,null,0,null,0,null,0,null,0,null,0,null,0,null,0,null,0,null,0,null,0,null,0,null,0,null,0,null,0,null,0,null,0,null,0,null,0,null,0,null,0,null,0,null,0,null,0,null,0,null,0,null,0,null,0,null,0,null,0,null,0,null,0,null,0,null,0,null,0,null,0,null,0,null,0,null,0,null,0,null,0,null,0,null,0,null,0,null,0,null,0,null,0,null,0,null,0,null,0,null,0,null,0,null,0,null,0,null,0,null,0,null,0,null,0,null,0,null,0,null,0,null,null,null,0,null,null,null,null,null,null,null,"P16"]
[null,19,{"$f":"'PEFA rows'!B21","v":2},{"$f":"'PEFA rows'!C21","v":"P17"},{"$f":"'PEFA rows'!D21","v":"Transport diesel (without bio)"},null,null,0,null,0,null,0,null,0,null,0,null,0,null,0,null,0,null,0,null,0,null,0,null,0,null,0,null,0,null,0,null,0,null,0,null,0,null,0,null,0,null,0,null,0,null,0,null,0,null,0,null,0,null,0,null,0,null,0,null,0,null,0,null,0,null,0,null,0,null,0,null,0,null,0,null,0,null,0,null,0,null,0,null,0,null,0,null,0,null,0,null,0,null,0,null,0,null,0,null,0,null,0,null,0,null,0,null,0,null,0,null,0,null,0,null,0,null,0,null,0,null,0,null,0,null,0,null,0,null,0,null,0,null,0,null,0,null,0,null,0,null,0,null,0,null,0,null,0,null,0,null,0,null,0,null,0,null,0,null,0,null,0,null,0,null,0,null,0,null,0,null,null,null,0,null,null,null,null,null,null,null,"P17"]
[null,20,{"$f":"'PEFA rows'!B22","v":2},{"$f":"'PEFA rows'!C22","v":"P18"},{"$f":"'PEFA rows'!D22","v":"Heating and other gasoil (without bio)"},null,null,0,null,0,null,0,null,0,null,0,null,0,null,0,null,0,null,0,null,0,null,0,null,0,null,0,null,0,null,0,null,0,null,0,null,0,null,0,null,0,null,0,null,0,null,0,null,0,null,0,null,0,null,0,null,0,null,0,null,0,null,0,null,0,null,0,null,0,null,0,null,0,null,0,null,0,null,0,null,0,null,0,null,0,null,0,null,0,null,0,null,0,null,0,null,0,null,0,null,0,null,0,null,0,null,0,null,0,null,0,null,0,null,0,null,0,null,0,null,0,null,0,null,0,null,0,null,0,null,0,null,0,null,0,null,0,null,0,null,0,null,0,null,0,null,0,null,0,null,0,null,0,null,0,null,0,null,0,null,0,null,0,null,0,null,0,null,0,null,0,null,null,null,0,null,null,null,null,null,null,null,"P18"]
[null,21,{"$f":"'PEFA rows'!B23","v":2},{"$f":"'PEFA rows'!C23","v":"P19"},{"$f":"'PEFA rows'!D23","v":"Residual fuel oil"},null,null,0,null,0,null,0,null,0,null,0,null,0,null,0,null,0,null,0,null,0,null,0,null,0,null,0,null,0,null,0,null,0,null,0,null,0,null,0,null,0,null,0,null,0,null,0,null,0,null,0,null,0,null,0,null,0,null,0,null,0,null,0,null,0,null,0,null,0,null,0,null,0,null,0,null,0,null,0,null,0,null,0,null,0,null,0,null,0,null,0,null,0,null,0,null,0,null,0,null,0,null,0,null,0,null,0,null,0,null,0,null,0,null,0,null,0,null,0,null,0,null,0,null,0,null,0,null,0,null,0,null,0,null,0,null,0,null,0,null,0,null,0,null,0,null,0,null,0,null,0,null,0,null,0,null,0,null,0,null,0,null,0,null,0,null,0,null,0,null,0,null,null,null,0,null,null,null,null,null,null,null,"P19"]
[null,22,{"$f":"'PEFA rows'!B24","v":2},{"$f":"'PEFA rows'!C24","v":"P20"},{"$f":"'PEFA rows'!D24","v":"Refinery gas, ethane and LPG"},null,null,0,null,0,null,0,null,0,null,0,null,0,null,0,null,0,null,0,null,0,null,0,null,0,null,0,null,0,null,0,null,0,null,0,null,0,null,0,null,0,null,0,null,0,null,0,null,0,null,0,null,0,null,0,null,0,null,0,null,0,null,0,null,0,null,0,null,0,null,0,null,0,null,0,null,0,null,0,null,0,null,0,null,0,null,0,null,0,null,0,null,0,null,0,null,0,null,0,null,0,null,0,null,0,null,0,null,0,null,0,null,0,null,0,null,0,null,0,null,0,null,0,null,0,null,0,null,0,null,0,null,0,null,0,null,0,null,0,null,0,null,0,null,0,null,0,null,0,null,0,null,0,null,0,null,0,null,0,null,0,null,0,null,0,null,0,null,0,null,0,null,null,null,0,null,null,null,null,null,null,null,"P20"]
[null,23,{"$f":"'PEFA rows'!B25","v":2},{"$f":"'PEFA rows'!C25","v":"P21"},{"$f":"'PEFA rows'!D25","v":"Other petroleum products incl. additives/oxygenates and refinery feedstocks"},null,null,0,null,0,null,0,null,0,null,0,null,0,null,0,null,0,null,0,null,0,null,0,null,0,null,0,null,0,null,0,null,0,null,0,null,0,null,0,null,0,null,0,null,0,null,0,null,0,null,0,null,0,null,0,null,0,null,0,null,0,null,0,null,0,null,0,null,0,null,0,null,0,null,0,null,0,null,0,null,0,null,0,null,0,null,0,null,0,null,0,null,0,null,0,null,0,null,0,null,0,null,0,null,0,null,0,null,0,null,0,null,0,null,0,null,0,null,0,null,0,null,0,null,0,null,0,null,0,null,0,null,0,null,0,null,0,null,0,null,0,null,0,null,0,null,0,null,0,null,0,null,0,null,0,null,0,null,0,null,0,null,0,null,0,null,0,null,0,null,0,null,null,null,0,null,null,null,null,null,null,null,"P21"]
[null,24,{"$f":"'PEFA rows'!B26","v":2},{"$f":"'PEFA rows'!C26","v":"P22"},{"$f":"'PEFA rows'!D26","v":"Nuclear fuel"},null,null,0,null,0,null,0,null,0,null,0,null,0,null,0,null,0,null,0,null,0,null,0,null,0,null,0,null,0,null,0,null,0,null,0,null,0,null,0,null,0,null,0,null,0,null,0,null,0,null,0,null,0,null,0,null,0,null,0,null,0,null,0,null,0,null,0,null,0,null,0,null,0,null,0,null,0,null,0,null,0,null,0,null,0,null,0,null,0,null,0,null,0,null,0,null,0,null,0,null,0,null,0,null,0,null,0,null,0,null,0,null,0,null,0,null,0,null,0,null,0,null,0,null,0,null,0,null,0,null,0,null,0,null,0,null,0,null,0,null,0,null,0,null,0,null,0,null,0,null,0,null,0,null,0,null,0,null,0,null,0,null,0,null,0,null,0,null,0,null,0,null,null,null,0,null,null,null,null,null,null,null,"P22"]
[null,25,{"$f":"'PEFA rows'!B27","v":2},{"$f":"'PEFA rows'!C27","v":"P23"},{"$f":"'PEFA rows'!D27","v":"Wood, wood waste and other solid biomass, charcoal"},null,null,0,null,0,null,0,null,0,null,0,null,0,null,0,null,0,null,0,null,0,null,0,null,0,null,0,null,0,null,0,null,0,null,0,null,0,null,0,null,0,null,0,null,0,null,0,null,0,null,0,null,0,null,0,null,0,null,0,null,0,null,0,null,0,null,0,null,0,null,0,null,0,null,0,null,0,null,0,null,0,null,0,null,0,null,0,null,0,null,0,null,0,null,0,null,0,null,0,null,0,null,0,null,0,null,0,null,0,null,0,null,0,null,0,null,0,null,0,null,0,null,0,null,0,null,0,null,0,null,0,null,0,null,0,null,0,null,0,null,0,null,0,null,0,null,0,null,0,null,0,null,0,null,0,null,0,null,0,null,0,null,0,null,0,null,0,null,0,null,0,null,null,null,0,null,null,null,null,null,null,null,"P23"]
[null,26,{"$f":"'PEFA rows'!B28","v":2},{"$f":"'PEFA rows'!C28","v":"P24"},{"$f":"'PEFA rows'!D28","v":"Liquid biofuels"},null,null,0,null,0,null,0,null,0,null,0,null,0,null,0,null,0,null,0,null,0,null,0,null,0,null,0,null,0,null,0,null,0,null,0,null,0,null,0,null,0,null,0,null,0,null,0,null,0,null,0,null,0,null,0,null,0,null,0,null,0,null,0,null,0,null,0,null,0,null,0,null,0,null,0,null,0,null,0,null,0,null,0,null,0,null,0,null,0,null,0,null,0,null,0,null,0,null,0,null,0,null,0,null,0,null,0,null,0,null,0,null,0,null,0,null,0,null,0,null,0,null,0,null,0,null,0,null,0,null,0,null,0,null,0,null,0,null,0,null,0,null,0,null,0,null,0,null,0,null,0,null,0,null,0,null,0,null,0,null,0,null,0,null,0,null,0,null,0,null,0,null,null,null,0,null,null,null,null,null,null,null,"P24"]
[null,27,{"$f":"'PEFA rows'!B29","v":2},{"$f":"'PEFA rows'!C29","v":"P25"},{"$f":"'PEFA rows'!D29","v":"Biogas"},null,null,0,null,0,null,0,null,0,null,0,null,0,null,0,null,0,null,0,null,0,null,0,null,0,null,0,null,0,null,0,null,0,null,0,null,0,null,0,null,0,null,0,null,0,null,0,null,0,null,0,null,0,null,0,null,0,null,0,null,0,null,0,null,0,null,0,null,0,null,0,null,0,null,0,null,0,null,0,null,0,null,0,null,0,null,0,null,0,null,0,null,0,null,0,null,0,null,0,null,0,null,0,null,0,null,0,null,0,null,0,null,0,null,0,null,0,null,0,null,0,null,0,null,0,null,0,null,0,null,0,null,0,null,0,null,0,null,0,null,0,null,0,null,0,null,0,null,0,null,0,null,0,null,0,null,0,null,0,null,0,null,0,null,0,null,0,null,0,null,0,null,null,null,0,null,null,null,null,null,null,null,"P25"]
[null,28,{"$f":"'PEFA rows'!B30","v":2},{"$f":"'PEFA rows'!C30","v":"P26"},{"$f":"'PEFA rows'!D30","v":"Electrical energy"},null,null,0,null,0,null,0,null,0,null,0,null,0,null,0,null,0,null,0,null,0,null,0,null,0,null,0,null,0,null,0,null,0,null,0,null,0,null,0,null,0,null,0,null,0,null,0,null,0,null,0,null,0,null,0,null,0,null,0,null,0,null,0,null,0,null,0,null,0,null,0,null,0,null,0,null,0,null,0,null,0,null,0,null,0,null,0,null,0,null,0,null,0,null,0,null,0,null,0,null,0,null,0,null,0,null,0,null,0,null,0,null,0,null,0,null,0,null,0,null,0,null,0,null,0,null,0,null,0,null,0,null,0,null,0,null,0,null,0,null,0,null,0,null,0,null,0,null,0,null,0,null,0,null,0,null,0,null,0,null,0,null,0,null,0,null,0,null,0,null,0,null,null,null,0,null,null,null,null,null,null,null,"P26"]
[null,29,{"$f":"'PEFA rows'!B31","v":2},{"$f":"'PEFA rows'!C31","v":"P27"},{"$f":"'PEFA rows'!D31","v":"Heat"},null,null,0,null,0,null,0,null,0,null,0,null,0,null,0,null,0,null,0,null,0,null,0,null,0,null,0,null,0,null,0,null,0,null,0,null,0,null,0,null,0,null,0,null,0,null,0,null,0,null,0,null,0,null,0,null,0,null,0,null,0,null,0,null,0,null,0,null,0,null,0,null,0,null,0,null,0,null,0,null,0,null,0,null,0,null,0,null,0,null,0,null,0,null,0,null,0,null,0,null,0,null,0,null,0,null,0,null,0,null,0,null,0,null,0,null,0,null,0,null,0,null,0,null,0,null,0,null,0,null,0,null,0,null,0,null,0,null,0,null,0,null,0,null,0,null,0,null,0,null,0,null,0,null,0,null,0,null,0,null,0,null,0,null,0,null,0,null,0,null,0,null,null,null,0,null,null,null,null,null,null,null,"P27"]
[null,30,{"$f":"'PEFA rows'!B32","v":1},{"$f":"'PEFA rows'!C32","v":"R00"},{"$f":"'PEFA rows'!D32","v":"ENERGY RESIDUALS"},null,null,{"$f":"SUM(H39:H42)","v":0},null,{"$f":"SUM(J39:J42)","v":0},null,{"$f":"SUM(L39:L42)","v":0},null,{"$f":"SUM(N39:N42)","v":0},null,{"$f":"SUM(P39:P42)","v":0},null,{"$f":"SUM(R39:R42)","v":0},null,{"$f":"SUM(T39:T42)","v":0},null,{"$f":"SUM(V39:V42)","v":0},null,{"$f":"SUM(X39:X42)","v":0},null,{"$f":"SUM(Z39:Z42)","v":0},null,{"$f":"SUM(AB39:AB42)","v":0},null,{"$f":"SUM(AD39:AD42)","v":0},null,{"$f":"SUM(AF39:AF42)","v":0},null,{"$f":"SUM(AH39:AH42)","v":0},null,{"$f":"SUM(AJ39:AJ42)","v":0},null,{"$f":"SUM(AL39:AL42)","v":0},null,{"$f":"SUM(AN39:AN42)","v":0},null,{"$f":"SUM(AP39:AP42)","v":0},null,{"$f":"SUM(AR39:AR42)","v":0},null,{"$f":"SUM(AT39:AT42)","v":0},null,{"$f":"SUM(AV39:AV42)","v":0},null,{"$f":"SUM(AX39:AX42)","v":0},null,{"$f":"SUM(AZ39:AZ42)","v":0},null,{"$f":"SUM(BB39:BB42)","v":0},null,{"$f":"SUM(BD39:BD42)","v":0},null,{"$f":"SUM(BF39:BF42)","v":0},null,{"$f":"SUM(BH39:BH42)","v":0},null,{"$f":"SUM(BJ39:BJ42)","v":0},null,{"$f":"SUM(BL39:BL42)","v":0},null,{"$f":"SUM(BN39:BN42)","v":0},null,{"$f":"SUM(BP39:BP42)","v":0},null,{"$f":"SUM(BR39:BR42)","v":0},null,{"$f":"SUM(BT39:BT42)","v":0},null,{"$f":"SUM(BV39:BV42)","v":0},null,{"$f":"SUM(BX39:BX42)","v":0},null,{"$f":"SUM(BZ39:BZ42)","v":0},null,{"$f":"SUM(CB39:CB42)","v":0},null,{"$f":"SUM(CD39:CD42)","v":0},null,{"$f":"SUM(CF39:CF42)","v":0},null,{"$f":"SUM(CH39:CH42)","v":0},null,{"$f":"SUM(CJ39:CJ42)","v":0},null,{"$f":"SUM(CL39:CL42)","v":0},null,{"$f":"SUM(CN39:CN42)","v":0},null,{"$f":"SUM(CP39:CP42)","v":0},null,{"$f":"SUM(CR39:CR42)","v":0},null,{"$f":"SUM(CT39:CT42)","v":0},null,{"$f":"SUM(CV39:CV42)","v":0},null,{"$f":"SUM(CX39:CX42)","v":0},null,{"$f":"SUM(CZ39:CZ42)","v":0},null,{"$f":"SUM(DB39:DB42)","v":0},null,{"$f":"SUM(DD39:DD42)","v":0},null,{"$f":"SUM(DF39:DF42)","v":0},null,{"$f":"SUM(DH39:DH42)","v":0},null,{"$f":"SUM(DJ39:DJ42)","v":0},null,{"$f":"SUM(DL39:DL42)","v":0},null,{"$f":"SUM(DN39:DN42)","v":0},null,{"$f":"SUM(DP39:DP42)","v":0},null,{"$f":"SUM(DR39:DR42)","v":0},null,{"$f":"SUM(DT39:DT42)","v":0},null,{"$f":"SUM(DV39:DV42)","v":0},null,{"$f":"SUM(DX39:DX42)","v":0},null,{"$f":"SUM(DZ39:DZ42)","v":0},null,{"$f":"SUM(EB39:EB42)","v":0},null,{"$f":"SUM(ED39:ED42)","v":0},null,{"$f":"SUM(EF39:EF42)","v":0},null,{"$f":"SUM(EH39:EH42)","v":0},null,{"$f":"SUM(EJ39:EJ42)","v":0},null,{"$f":"SUM(EL39:EL42)","v":0},null,{"$f":"SUM(EN39:EN42)","v":0},null,{"$f":"SUM(EP39:EP42)","v":0},null,{"$f":"SUM(ER39:ER42)","v":0},null,{"$f":"SUM(ET39:ET42)","v":0},null,{"$f":"SUM(EV39:EV42)","v":0},null,{"$f":"SUM(EX39:EX42)","v":0},null,{"$f":"SUM(EZ39:EZ42)","v":0},null,{"$f":"SUM(FB39:FB42)","v":0},null,{"$f":"SUM(FD39:FD42)","v":0},null,{"$f":"SUM(FF39:FF42)","v":0},null,{"$f":"SUM(FH39:FH42)","v":0},null,{"$f":"SUM(FJ39:FJ42)","v":0},null,{"$f":"SUM(FL39:FL42)","v":0},null,{"$f":"SUM(FN39:FN42)","v":0},null,{"$f":"SUM(FP39:FP42)","v":0},null,{"$f":"SUM(FR39:FR42)","v":0},null,{"$f":"SUM(FT39:FT42)","v":0},null,{"$f":"SUM(FV39:FV42)","v":0},null,{"$f":"SUM(FX39:FX42)","v":0},null,null,null,null,null,null,null,"R00"]
[null,31,{"$f":"'PEFA rows'!B33","v":2},{"$f":"'PEFA rows'!C33","v":"R28"},{"$f":"'PEFA rows'!D33","v":"Renewable waste"},null,null,{"$f":"SUM(J39,R39,T39,BH39,BJ39,BP39,BR39,BZ39,CL39,CN39,CX39,DF39,DJ39,DV39,EF39,EH39,EJ39,EP39,EV39,FD39,FF39)","v":0},null,{"$f":"SUM(L39,N39,P39)","v":0},null,0,null,0,null,0,null,0,null,{"$f":"SUM(V39,X39,Z39,AB39,AD39,AF39,AH39,AJ39,AL39,AN39,AP39,AR39,AT39,AV39,AX39,AZ39,BB39,BD39,BF39)","v":0},null,0,null,0,null,0,null,0,null,0,null,0,null,0,null,0,null,0,null,0,null,0,null,0,null,0,null,0,null,0,null,0,null,0,null,0,null,0,null,0,null,{"$f":"SUM(BL39,BN39)","v":0},null,0,null,0,null,0,null,{"$f":"SUM(BT39,BV39,BX39)","v":0},null,0,null,0,null,0,null,{"$f":"SUM(CB39,CD39,CF39,CH39,CJ39)","v":0},null,0,null,0,null,0,null,0,null,0,null,0,null,{"$f":"SUM(CP39,CR39,CT39,CV39)","v":0},null,0,null,0,null,0,null,0,null,{"$f":"SUM(CZ39,DB39,DD39)","v":0},null,0,null,0,null,0,null,0,null,0,null,{"$f":"SUM(DL39,DN39,DP39,DR39,DT39)","v":0},null,0,null,0,null,0,null,0,null,0,null,{"$f":"SUM(DX39,DZ39,EB39,ED39)","v":0},null,0,null,0,null,0,null,0,null,0,null,0,null,{"$f":"SUM(EL39,EN39)","v":0},null,0,null,0,null,{"$f":"SUM(ER39,ET39)","v":0},null,0,null,0,null,{"$f":"SUM(EX39,EZ39,FB39)","v":0},null,0,null,0,null,0,null,0,null,0,null,{"$f":"SUM(FJ39,FL39,FN39)","v":0},null,0,null,0,null,0,null,0,null,0,null,0,null,null,null,{"$f":"SUM(H39,FH39,FP39,FR39,FT39,FV39)","v":0},null,null,null,null,null,null,null,"R28"]
[null,32,{"$f":"'PEFA rows'!B34","v":2},{"$f":"'PEFA rows'!C34","v":"R29"},{"$f":"'PEFA rows'!D34","v":"Non-renewable waste"},null,null,{"$f":"SUM(J40,R40,T40,BH40,BJ40,BP40,BR40,BZ40,CL40,CN40,CX40,DF40,DJ40,DV40,EF40,EH40,EJ40,EP40,EV40,FD40,FF40)","v":0},null,{"$f":"SUM(L40,N40,P40)","v":0},null,0,null,0,null,0,null,0,null,{"$f":"SUM(V40,X40,Z40,AB40,AD40,AF40,AH40,AJ40,AL40,AN40,AP40,AR40,AT40,AV40,AX40,AZ40,BB40,BD40,BF40)","v":0},null,0,null,0,null,0,null,0,null,0,null,0,null,0,null,0,null,0,null,0,null,0,null,0,null,0,null,0,null,0,null,0,null,0,null,0,null,0,null,0,null,{"$f":"SUM(BL40,BN40)","v":0},null,0,null,0,null,0,null,{"$f":"SUM(BT40,BV40,BX40)","v":0},null,0,null,0,null,0,null,{"$f":"SUM(CB40,CD40,CF40,CH40,CJ40)","v":0},null,0,null,0,null,0,null,0,null,0,null,0,null,{"$f":"SUM(CP40,CR40,CT40,CV40)","v":0},null,0,null,0,null,0,null,0,null,{"$f":"SUM(CZ40,DB40,DD40)","v":0},null,0,null,0,null,0,null,0,null,0,null,{"$f":"SUM(DL40,DN40,DP40,DR40,DT40)","v":0},null,0,null,0,null,0,null,0,null,0,null,{"$f":"SUM(DX40,DZ40,EB40,ED40)","v":0},null,0,null,0,null,0,null,0,null,0,null,0,null,{"$f":"SUM(EL40,EN40)","v":0},null,0,null,0,null,{"$f":"SUM(ER40,ET40)","v":0},null,0,null,0,null,{"$f":"SUM(EX40,EZ40,FB40)","v":0},null,0,null,0,null,0,null,0,null,0,null,0,null,0,null,0,null,0,null,0,null,0,null,0,null,null,null,{"$f":"SUM(H40,FH40,FP40,FR40,FT40,FV40)","v":0},null,null,null,null,null,null,null,"R29"]
[null,33,{"$f":"'PEFA rows'!B35","v":2},{"$f":"'PEFA rows'!C35","v":"R30"},{"$f":"'PEFA rows'!D35","v":"Energy losses all kinds of (during extraction, distribution, storage and transformation, and dissipative heat from end use)"},null,null,null,null,null,null,null,null,null,null,null,null,null,null,null,null,null,null,null,null,null,null,null,null,null,null,null,null,null,null,null,null,null,null,null,null,null,null,null,null,null,null,null,null,null,null,null,null,null,null,null,null,null,null,null,null,null,null,null,null,null,null,null,null,null,null,null,null,null,null,null,null,null,null,null,null,null,null,null,null,null,null,null,null,null,null,null,null,null,null,null,null,null,null,null,null,null,null,null,null,null,null,null,null,null,null,null,null,null,null,null,null,null,null,null,null,null,null,null,null,null,null,null,null,null,null,null,null,null,null,null,null,null,null,null,null,null,null,null,null,null,null,null,null,null,null,null,null,null,null,null,null,null,null,null,null,null,null,null,null,null,null,null,null,null,null,null,null,0,null,null,null,0,null,{"$f":"SUM(H41,FH41,FP41,FR41,FT41,FV41)","v":0},null,null,null,null,null,null,null,"R30"]
[null,34,{"$f":"'PEFA rows'!B36","v":2},{"$f":"'PEFA rows'!C36","v":"R31"},{"$f":"'PEFA rows'!D36","v":"Energy incorporated in products for non-energy use"},null,null,{"$f":"SUM(J42,R42,T42,BH42,BJ42,BP42,BR42,BZ42,CL42,CN42,CX42,DF42,DJ42,DV42,EF42,EH42,EJ42,EP42,EV42,FD42,FF42)","v":0},null,null,null,null,null,null,null,null,null,null,null,null,null,null,null,null,null,null,null,null,null,null,null,null,null,null,null,null,null,null,null,null,null,null,null,null,null,null,null,null,null,null,null,null,null,null,null,null,null,null,null,0,null,null,null,null,null,null,null,null,null,null,null,null,null,null,null,null,null,null,null,null,null,null,null,null,null,null,null,null,null,null,null,null,null,null,null,null,null,null,null,null,null,null,null,null,null,null,null,null,null,null,null,null,null,null,null,null,null,null,null,null,null,null,null,null,null,null,null,null,null,null,null,null,null,null,null,null,null,null,null,null,null,null,null,null,null,null,null,null,null,null,null,null,null,null,null,null,null,null,null,null,null,null,null,null,null,null,null,null,null,null,null,0,null,0,null,null,null,null,null,{"$f":"SUM(H42,FH42,FP42,FR42,FT42,FV42)","v":0},null,null,null,null,null,null,null,"R31"]
[null,35,{"$f":"'PEFA rows'!B37","v":1},{"$f":"'PEFA rows'!C37","v":"STADIF"},{"$f":"'PEFA rows'!D37","v":"Statistical Differences"},null,null,{"$f":"SUM(J43,R43,T43,BH43,BJ43,BP43,BR43,BZ43,CL43,CN43,CX43,DF43,DJ43,DV43,EF43,EH43,EJ43,EP43,EV43,FD43,FF43)","v":0},null,{"$f":"SUM(L43,N43,P43)","v":0},null,0,null,0,null,0,null,0,null,{"$f":"SUM(V43,X43,Z43,AB43,AD43,AF43,AH43,AJ43,AL43,AN43,AP43,AR43,AT43,AV43,AX43,AZ43,BB43,BD43,BF43)","v":0},null,0,null,0,null,0,null,0,null,0,null,0,null,0,null,0,null,0,null,0,null,0,null,0,null,0,null,0,null,0,null,0,null,0,null,0,null,0,null,0,null,{"$f":"SUM(BL43,BN43)","v":0},null,0,null,0,null,0,null,{"$f":"SUM(BT43,BV43,BX43)","v":0},null,0,null,0,null,0,null,{"$f":"SUM(CB43,CD43,CF43,CH43,CJ43)","v":0},null,0,null,0,null,0,null,0,null,0,null,0,null,{"$f":"SUM(CP43,CR43,CT43,CV43)","v":0},null,0,null,0,null,0,null,0,null,{"$f":"SUM(CZ43,DB43,DD43)","v":0},null,0,null,0,null,0,null,0,null,0,null,{"$f":"SUM(DL43,DN43,DP43,DR43,DT43)","v":0},null,0,null,0,null,0,null,0,null,0,null,{"$f":"SUM(DX43,DZ43,EB43,ED43)","v":0},null,0,null,0,null,0,null,0,null,0,null,0,null,{"$f":"SUM(EL43,EN43)","v":0},null,0,null,0,null,{"$f":"SUM(ER43,ET43)","v":0},null,0,null,0,null,{"$f":"SUM(EX43,EZ43,FB43)","v":0},null,0,null,0,null,0,null,0,null,0,null,{"$f":"SUM(FJ43,FL43,FN43)","v":0},null,0,null,0,null,0,null,0,null,0,null,0,null,0,null,{"$f":"SUM(H43,FH43,FP43,FR43,FT43,FV43)","v":0},null,null,null,null,null,null,null,"SD_IO"]
[null,36,{"$f":"'PEFA rows'!B38","v":0},{"$f":"'PEFA rows'!C38","v":"NPR"},"TOTAL USE",null,null,{"$f":"SUM(H9,H17,H38,H43)","v":0},null,{"$f":"SUM(J9,J17,J38,J43)","v":0},null,{"$f":"SUM(L9,L17,L38,L43)","v":0},null,{"$f":"SUM(N9,N17,N38,N43)","v":0},null,{"$f":"SUM(P9,P17,P38,P43)","v":0},null,{"$f":"SUM(R9,R17,R38,R43)","v":0},null,{"$f":"SUM(T9,T17,T38,T43)","v":0},null,{"$f":"SUM(V9,V17,V38,V43)","v":0},null,{"$f":"SUM(X9,X17,X38,X43)","v":0},null,{"$f":"SUM(Z9,Z17,Z38,Z43)","v":0},null,{"$f":"SUM(AB9,AB17,AB38,AB43)","v":0},null,{"$f":"SUM(AD9,AD17,AD38,AD43)","v":0},null,{"$f":"SUM(AF9,AF17,AF38,AF43)","v":0},null,{"$f":"SUM(AH9,AH17,AH38,AH43)","v":0},null,{"$f":"SUM(AJ9,AJ17,AJ38,AJ43)","v":0},null,{"$f":"SUM(AL9,AL17,AL38,AL43)","v":0},null,{"$f":"SUM(AN9,AN17,AN38,AN43)","v":0},null,{"$f":"SUM(AP9,AP17,AP38,AP43)","v":0},null,{"$f":"SUM(AR9,AR17,AR38,AR43)","v":0},null,{"$f":"SUM(AT9,AT17,AT38,AT43)","v":0},null,{"$f":"SUM(AV9,AV17,AV38,AV43)","v":0},null,{"$f":"SUM(AX9,AX17,AX38,AX43)","v":0},null,{"$f":"SUM(AZ9,AZ17,AZ38,AZ43)","v":0},null,{"$f":"SUM(BB9,BB17,BB38,BB43)","v":0},null,{"$f":"SUM(BD9,BD17,BD38,BD43)","v":0},null,{"$f":"SUM(BF9,BF17,BF38,BF43)","v":0},null,{"$f":"SUM(BH9,BH17,BH38,BH43)","v":0},null,{"$f":"SUM(BJ9,BJ17,BJ38,BJ43)","v":0},null,{"$f":"SUM(BL9,BL17,BL38,BL43)","v":0},null,{"$f":"SUM(BN9,BN17,BN38,BN43)","v":0},null,{"$f":"SUM(BP9,BP17,BP38,BP43)","v":0},null,{"$f":"SUM(BR9,BR17,BR38,BR43)","v":0},null,{"$f":"SUM(BT9,BT17,BT38,BT43)","v":0},null,{"$f":"SUM(BV9,BV17,BV38,BV43)","v":0},null,{"$f":"SUM(BX9,BX17,BX38,BX43)","v":0},null,{"$f":"SUM(BZ9,BZ17,BZ38,BZ43)","v":0},null,{"$f":"SUM(CB9,CB17,CB38,CB43)","v":0},null,{"$f":"SUM(CD9,CD17,CD38,CD43)","v":0},null,{"$f":"SUM(CF9,CF17,CF38,CF43)","v":0},null,{"$f":"SUM(CH9,CH17,CH38,CH43)","v":0},null,{"$f":"SUM(CJ9,CJ17,CJ38,CJ43)","v":0},null,{"$f":"SUM(CL9,CL17,CL38,CL43)","v":0},null,{"$f":"SUM(CN9,CN17,CN38,CN43)","v":0},null,{"$f":"SUM(CP9,CP17,CP38,CP43)","v":0},null,{"$f":"SUM(CR9,CR17,CR38,CR43)","v":0},null,{"$f":"SUM(CT9,CT17,CT38,CT43)","v":0},null,{"$f":"SUM(CV9,CV17,CV38,CV43)","v":0},null,{"$f":"SUM(CX9,CX17,CX38,CX43)","v":0},null,{"$f":"SUM(CZ9,CZ17,CZ38,CZ43)","v":0},null,{"$f":"SUM(DB9,DB17,DB38,DB43)","v":0},null,{"$f":"SUM(DD9,DD17,DD38,DD43)","v":0},null,{"$f":"SUM(DF9,DF17,DF38,DF43)","v":0},null,{"$f":"SUM(DH9,DH17,DH38,DH43)","v":0},null,{"$f":"SUM(DJ9,DJ17,DJ38,DJ43)","v":0},null,{"$f":"SUM(DL9,DL17,DL38,DL43)","v":0},null,{"$f":"SUM(DN9,DN17,DN38,DN43)","v":0},null,{"$f":"SUM(DP9,DP17,DP38,DP43)","v":0},null,{"$f":"SUM(DR9,DR17,DR38,DR43)","v":0},null,{"$f":"SUM(DT9,DT17,DT38,DT43)","v":0},null,{"$f":"SUM(DV9,DV17,DV38,DV43)","v":0},null,{"$f":"SUM(DX9,DX17,DX38,DX43)","v":0},null,{"$f":"SUM(DZ9,DZ17,DZ38,DZ43)","v":0},null,{"$f":"SUM(EB9,EB17,EB38,EB43)","v":0},null,{"$f":"SUM(ED9,ED17,ED38,ED43)","v":0},null,{"$f":"SUM(EF9,EF17,EF38,EF43)","v":0},null,{"$f":"SUM(EH9,EH17,EH38,EH43)","v":0},null,{"$f":"SUM(EJ9,EJ17,EJ38,EJ43)","v":0},null,{"$f":"SUM(EL9,EL17,EL38,EL43)","v":0},null,{"$f":"SUM(EN9,EN17,EN38,EN43)","v":0},null,{"$f":"SUM(EP9,EP17,EP38,EP43)","v":0},null,{"$f":"SUM(ER9,ER17,ER38,ER43)","v":0},null,{"$f":"SUM(ET9,ET17,ET38,ET43)","v":0},null,{"$f":"SUM(EV9,EV17,EV38,EV43)","v":0},null,{"$f":"SUM(EX9,EX17,EX38,EX43)","v":0},null,{"$f":"SUM(EZ9,EZ17,EZ38,EZ43)","v":0},null,{"$f":"SUM(FB9,FB17,FB38,FB43)","v":0},null,{"$f":"SUM(FD9,FD17,FD38,FD43)","v":0},null,{"$f":"SUM(FF9,FF17,FF38,FF43)","v":0},null,{"$f":"SUM(FH9,FH17,FH38,FH43)","v":0},null,{"$f":"SUM(FJ9,FJ17,FJ38,FJ43)","v":0},null,{"$f":"SUM(FL9,FL17,FL38,FL43)","v":0},null,{"$f":"SUM(FN9,FN17,FN38,FN43)","v":0},null,{"$f":"SUM(FP9,FP17,FP38,FP43)","v":0},null,{"$f":"SUM(FR9,FR17,FR38,FR43)","v":0},null,{"$f":"SUM(FT9,FT17,FT38,FT43)","v":0},null,{"$f":"SUM(FV9,FV17,FV38,FV43)","v":0},null,{"$f":"SUM(FX9,FX17,FX38,FX43)","v":0},null,null,null,null,null,null,null,"N00_P00_R00"]
[null,{"$f":"B44+1","v":37},"2w","P00w","of which (memo): Own use of ENERGY PRODUCTS (end use)",null,null,{"$f":"SUM(J45,R45,T45,BH45,BJ45,BP45,BR45,BZ45,CL45,CN45,CX45,DF45,DJ45,DV45,EF45,EH45,EJ45,EP45,EV45,FD45,FF45)","v":0},null,{"$f":"SUM(L45,N45,P45)","v":0},null,0,null,0,null,0,null,0,null,{"$f":"SUM(V45,X45,Z45,AB45,AD45,AF45,AH45,AJ45,AL45,AN45,AP45,AR45,AT45,AV45,AX45,AZ45,BB45,BD45,BF45)","v":0},null,0,null,0,null,0,null,0,null,0,null,0,null,0,null,0,null,0,null,0,null,0,null,0,null,0,null,0,null,0,null,0,null,0,null,0,null,0,null,0,null,{"$f":"SUM(BL45,BN45)","v":0},null,0,null,0,null,0,null,{"$f":"SUM(BT45,BV45,BX45)","v":0},null,0,null,0,null,0,null,{"$f":"SUM(CB45,CD45,CF45,CH45,CJ45)","v":0},null,0,null,0,null,0,null,0,null,0,null,0,null,{"$f":"SUM(CP45,CR45,CT45,CV45)","v":0},null,0,null,0,null,0,null,0,null,{"$f":"SUM(CZ45,DB45,DD45)","v":0},null,0,null,0,null,0,null,0,null,0,null,{"$f":"SUM(DL45,DN45,DP45,DR45,DT45)","v":0},null,0,null,0,null,0,null,0,null,0,null,{"$f":"SUM(DX45,DZ45,EB45,ED45)","v":0},null,0,null,0,null,0,null,0,null,0,null,0,null,{"$f":"SUM(EL45,EN45)","v":0},null,0,null,0,null,{"$f":"SUM(ER45,ET45)","v":0},null,0,null,0,null,{"$f":"SUM(EX45,EZ45,FB45)","v":0},null,0,null,0,null,0,null,0,null,0,null,{"$f":"SUM(FJ45,FL45,FN45)","v":0},null,0,null,0,null,0,null,null,null,null,null,null,null,null,null,{"$f":"SUM(H45,FH45,FP45,FR45,FT45,FV45)","v":0},null,null,null,null,null,null,null,"EPRD_OUSE"]
[]
[]
[]
[]
[null,null,null,null,"NACE_R2",null,null,"TOTAL",null,"A",null,"A01",null,"A02",null,"A03",null,"B",null,"C",null,"C10-C12",null,"C13-C15",null,"C16",null,"C17",null,"C18",null,"C19",null,"C20",null,"C21",null,"C22",null,"C23",null,"C24",null,"C25",null,"C26",null,"C27",null,"C28",null,"C29",null,"C30",null,"C31_C32",null,"C33",null,"D",null,"E",null,"E36",null,"E37-E39",null,"F",null,"G",null,"G45",null,"G46",null,"G47",null,"H",null,"H49",null,"H50",null,"H51",null,"H52",null,"H53",null,"I",null,"J",null,"J58",null,"J59_J60",null,"J61",null,"J62_J63",null,"K",null,"K64",null,"K65",null,"K66",null,"L",null,"L68A",null,"M",null,"M69_M70",null,"M71",null,"M72",null,"M73",null,"M74_M75",null,"N",null,"N77",null,"N78",null,"N79",null,"N80-N82",null,"O",null,"P",null,"Q",null,"Q86",null,"Q87_Q88",null,"R",null,"R90-R92",null,"R93",null,"S",null,"S94",null,"S95",null,"S96",null,"T",null,"U",null,"HH",null,"HH_HEAT",null,"HH_TRA",null,"HH_OTH",null,"CH_INV_PA",null,"SD_SU",null,"ROW_ACT",null,"ENV",null,"NRG_FLOW"]

{"sheet":"Table_C","index":16,"n_rows":50,"n_cols":190,"rows_kept":50,"cut":false,"hidden":false,"merged":[[4,187,6,187],[37,4,37,5],[38,4,38,5],[39,4,39,5],[40,4,40,5],[41,4,41,5],[43,4,43,5],[31,4,31,5],[32,4,32,5],[33,4,33,5],[34,4,34,5],[35,4,35,5],[36,4,36,5],[25,4,25,5],[26,4,26,5],[27,4,27,5],[28,4,28,5],[29,4,29,5],[30,4,30,5],[19,4,19,5],[20,4,20,5],[21,4,21,5],[22,4,22,5],[23,4,23,5],[24,4,24,5],[13,4,13,5],[14,4,14,5],[15,4,15,5],[16,4,16,5],[17,4,17,5],[18,4,18,5],[7,4,7,6],[8,4,8,5],[9,4,9,5],[10,4,10,5],[11,4,11,5],[12,4,12,5],[5,171,6,172],[5,173,6,174],[5,175,6,176],[5,177,6,178],[5,179,6,180],[6,1,6,4],[5,159,6,160],[5,161,6,162],[5,163,6,164],[5,165,6,166],[5,167,6,168],[5,169,6,170],[5,147,6,148],[5,149,6,150],[5,151,6,152],[5,153,6,154],[5,155,6,156],[5,157,6,158],[5,135,6,136],[5,137,6,138],[5,139,6,140],[5,141,6,142],[5,143,6,144],[5,145,6,146],[5,123,6,124],[5,125,6,126],[5,127,6,128],[5,129,6,130],[5,131,6,132],[5,133,6,134],[5,111,6,112],[5,113,6,114],[5,115,6,116],[5,117,6,118],[5,119,6,120],[5,121,6,122],[5,99,6,100],[5,101,6,102],[5,103,6,104],[5,105,6,106],[5,107,6,108],[5,109,6,110],[5,87,6,88],[5,89,6,90],[5,91,6,92],[5,93,6,94],[5,95,6,96],[5,97,6,98],[5,75,6,76],[5,77,6,78],[5,79,6,80],[5,81,6,82],[5,83,6,84],[5,85,6,86],[5,63,6,64],[5,65,6,66],[5,67,6,68],[5,69,6,70],[5,71,6,72],[5,73,6,74],[5,51,6,52],[5,53,6,54],[5,55,6,56],[5,57,6,58],[5,59,6,60],[5,61,6,62],[5,39,6,40],[5,41,6,42],[5,43,6,44],[5,45,6,46],[5,47,6,48],[5,49,6,50],[5,27,6,28],[5,29,6,30],[5,31,6,32],[5,33,6,34],[5,35,6,36],[5,37,6,38],[5,15,6,16],[5,17,6,18],[5,19,6,20],[5,21,6,22],[5,23,6,24],[5,25,6,26],[5,1,5,3],[5,5,6,6],[5,7,6,8],[5,9,6,10],[5,11,6,12],[5,13,6,14],[4,169,4,170],[4,171,4,172],[4,173,4,174],[4,145,4,146],[4,147,4,148],[4,149,4,150],[4,151,4,152],[4,153,4,154],[4,155,4,156],[4,133,4,134],[4,135,4,136],[4,137,4,138],[4,139,4,140],[4,141,4,142],[4,143,4,144],[4,121,4,122],[4,123,4,124],[4,125,4,126],[4,175,4,176],[4,177,4,178],[4,179,4,180],[4,157,4,158],[4,159,4,160],[4,161,4,162],[4,163,4,164],[4,165,4,166],[4,167,4,168],[4,127,4,128],[4,129,4,130],[4,131,4,132],[4,109,4,110],[4,111,4,112],[4,113,4,114],[4,115,4,116],[4,117,4,118],[4,119,4,120],[4,97,4,98],[4,99,4,100],[4,101,4,102],[4,103,4,104],[4,105,4,106],[4,107,4,108],[4,85,4,86],[4,87,4,88],[4,89,4,90],[4,91,4,92],[4,93,4,94],[4,95,4,96],[4,73,4,74],[4,75,4,76],[4,77,4,78],[4,79,4,80],[4,81,4,82],[4,83,4,84],[4,61,4,62],[4,63,4,64],[4,65,4,66],[4,67,4,68],[4,69,4,70],[4,71,4,72],[4,53,4,54],[4,55,4,56],[4,57,4,58],[4,59,4,60],[4,37,4,38],[4,39,4,40],[4,41,4,42],[4,43,4,44],[4,45,4,46],[4,47,4,48],[3,1,3,3],[3,5,3,6],[3,173,3,174],[3,175,3,176],[3,177,3,178],[4,1,4,3],[4,5,4,6],[4,7,4,8],[4,9,4,10],[4,11,4,12],[4,25,4,26],[4,27,4,28],[4,29,4,30],[4,31,4,32],[4,33,4,34],[4,35,4,36],[4,13,4,14],[4,15,4,16],[4,17,4,18],[4,19,4,20],[4,21,4,22],[4,23,4,24],[4,49,4,50],[4,51,4,52],[2,169,2,170],[2,171,2,172],[2,173,2,174],[2,175,2,176],[2,177,2,178],[2,179,2,180],[2,157,2,158],[2,159,2,160],[2,161,2,162],[2,163,2,164],[2,165,2,166],[2,167,2,168],[2,145,2,146],[2,147,2,148],[2,149,2,150],[2,151,2,152],[2,153,2,154],[2,155,2,156],[2,133,2,134],[2,135,2,136],[2,137,2,138],[2,139,2,140],[2,141,2,142],[2,143,2,144],[2,121,2,122],[2,123,2,124],[2,125,2,126],[2,127,2,128],[2,129,2,130],[2,131,2,132],[2,109,2,110],[2,111,2,112],[2,113,2,114],[2,115,2,116],[2,117,2,118],[2,119,2,120],[2,97,2,98],[2,99,2,100],[2,101,2,102],[2,103,2,104],[2,105,2,106],[2,107,2,108],[2,85,2,86],[2,87,2,88],[2,89,2,90],[2,91,2,92],[2,93,2,94],[2,95,2,96],[2,73,2,74],[2,75,2,76],[2,77,2,78],[2,79,2,80],[2,81,2,82],[2,83,2,84],[2,61,2,62],[2,63,2,64],[2,65,2,66],[2,67,2,68],[2,69,2,70],[2,71,2,72],[2,49,2,50],[2,51,2,52],[2,53,2,54],[2,55,2,56],[2,57,2,58],[2,59,2,60],[2,37,2,38],[2,39,2,40],[2,41,2,42],[2,43,2,44],[2,45,2,46],[2,47,2,48],[2,25,2,26],[2,27,2,28],[2,29,2,30],[2,31,2,32],[2,33,2,34],[2,35,2,36],[2,13,2,14],[2,15,2,16],[2,17,2,18],[2,19,2,20],[2,21,2,22],[2,23,2,24],[1,171,1,172],[1,173,1,174],[1,175,1,176],[1,177,1,178],[1,179,1,180],[2,1,2,3],[2,5,2,6],[2,7,2,8],[2,9,2,10],[2,11,2,12],[1,159,1,160],[1,161,1,162],[1,163,1,164],[1,165,1,166],[1,167,1,168],[1,169,1,170],[1,147,1,148],[1,149,1,150],[1,151,1,152],[1,153,1,154],[1,155,1,156],[1,157,1,158],[1,135,1,136],[1,137,1,138],[1,139,1,140],[1,141,1,142],[1,143,1,144],[1,145,1,146],[1,123,1,124],[1,125,1,126],[1,127,1,128],[1,129,1,130],[1,131,1,132],[1,133,1,134],[1,111,1,112],[1,113,1,114],[1,115,1,116],[1,117,1,118],[1,119,1,120],[1,121,1,122],[1,99,1,100],[1,101,1,102],[1,103,1,104],[1,105,1,106],[1,107,1,108],[1,109,1,110],[1,87,1,88],[1,89,1,90],[1,91,1,92],[1,93,1,94],[1,95,1,96],[1,97,1,98],[1,75,1,76],[1,77,1,78],[1,79,1,80],[1,81,1,82],[1,83,1,84],[1,85,1,86],[1,63,1,64],[1,65,1,66],[1,67,1,68],[1,69,1,70],[1,71,1,72],[1,73,1,74],[1,51,1,52],[1,53,1,54],[1,55,1,56],[1,57,1,58],[1,59,1,60],[1,61,1,62],[1,39,1,40],[1,41,1,42],[1,43,1,44],[1,45,1,46],[1,47,1,48],[1,49,1,50],[1,27,1,28],[1,29,1,30],[1,31,1,32],[1,33,1,34],[1,35,1,36],[1,37,1,38],[1,15,1,16],[1,17,1,18],[1,19,1,20],[1,21,1,22],[1,23,1,24],[1,25,1,26],[1,1,1,3],[1,5,1,6],[1,7,1,8],[1,9,1,10],[1,11,1,12],[1,13,1,14]]}
["DATAENTRY"]
[null,"Country :",null,null,{"$f":"IF(intro!D12=\"\",\"\",intro!D12)","v":""},"no",null,1,null,{"$f":"H2+1","v":2},null,{"$f":"J2+1","v":3},null,{"$f":"L2+1","v":4},null,{"$f":"N2+1","v":5},null,{"$f":"P2+1","v":6},null,{"$f":"R2+1","v":7},null,{"$f":"T2+1","v":8},null,{"$f":"V2+1","v":9},null,{"$f":"X2+1","v":10},null,{"$f":"Z2+1","v":11},null,{"$f":"AB2+1","v":12},null,{"$f":"AD2+1","v":13},null,{"$f":"AF2+1","v":14},null,{"$f":"AH2+1","v":15},null,{"$f":"AJ2+1","v":16},null,{"$f":"AL2+1","v":17},null,{"$f":"AN2+1","v":18},null,{"$f":"AP2+1","v":19},null,{"$f":"AR2+1","v":20},null,{"$f":"AT2+1","v":21},null,{"$f":"AV2+1","v":22},null,{"$f":"AX2+1","v":23},null,{"$f":"AZ2+1","v":24},null,{"$f":"BB2+1","v":25},null,{"$f":"BD2+1","v":26},null,{"$f":"BF2+1","v":27},null,{"$f":"BH2+1","v":28},null,{"$f":"BJ2+1","v":29},null,{"$f":"BL2+1","v":30},null,{"$f":"BN2+1","v":31},null,{"$f":"BP2+1","v":32},null,{"$f":"BR2+1","v":33},null,{"$f":"BT2+1","v":34},null,{"$f":"BV2+1","v":35},null,{"$f":"BX2+1","v":36},null,{"$f":"BZ2+1","v":37},null,{"$f":"CB2+1","v":38},null,{"$f":"CD2+1","v":39},null,{"$f":"CF2+1","v":40},null,{"$f":"CH2+1","v":41},null,{"$f":"CJ2+1","v":42},null,{"$f":"CL2+1","v":43},null,{"$f":"CN2+1","v":44},null,{"$f":"CP2+1","v":45},null,{"$f":"CR2+1","v":46},null,{"$f":"CT2+1","v":47},null,{"$f":"CV2+1","v":48},null,{"$f":"CX2+1","v":49},null,{"$f":"CZ2+1","v":50},null,{"$f":"DB2+1","v":51},null,{"$f":"DD2+1","v":52},null,{"$f":"DF2+1","v":53},null,{"$f":"DH2+1","v":54},null,{"$f":"DJ2+1","v":55},null,{"$f":"DL2+1","v":56},null,{"$f":"DN2+1","v":57},null,{"$f":"DP2+1","v":58},null,{"$f":"DR2+1","v":59},null,{"$f":"DT2+1","v":60},null,{"$f":"DV2+1","v":61},null,{"$f":"DX2+1","v":62},null,{"$f":"DZ2+1","v":63},null,{"$f":"EB2+1","v":64},null,{"$f":"ED2+1","v":65},null,{"$f":"EF2+1","v":66},null,{"$f":"EH2+1","v":67},null,{"$f":"EJ2+1","v":68},null,{"$f":"EL2+1","v":69},null,{"$f":"EN2+1","v":70},null,{"$f":"EP2+1","v":71},null,{"$f":"ER2+1","v":72},null,{"$f":"ET2+1","v":73},null,{"$f":"EV2+1","v":74},null,{"$f":"EX2+1","v":75},null,{"$f":"EZ2+1","v":76},null,{"$f":"FB2+1","v":77},null,{"$f":"FD2+1","v":78},null,{"$f":"FF2+1","v":79},null,{"$f":"FH2+1","v":80},null,{"$f":"FJ2+1","v":81},null,{"$f":"FL2+1","v":82},null,{"$f":"FN2+1","v":83},null,{"$f":"FP2+1","v":84},null,{"$f":"FR2+1","v":85},null,{"$f":"FT2+1","v":86},null,{"$f":"FV2+1","v":87}]
[null,"Year :",null,null,{"$f":"IF(intro!E14=\"\",\"\",intro!E14)","v":""},"Level",null,{"$f":"'PEFA Columns'!D6","v":1},null,{"$f":"'PEFA Columns'!F6","v":2},null,{"$f":"'PEFA Columns'!H6","v":3},null,{"$f":"'PEFA Columns'!J6","v":3},null,{"$f":"'PEFA Columns'!L6","v":3},null,{"$f":"'PEFA Columns'!N6","v":2},null,{"$f":"'PEFA Columns'!P6","v":2},null,{"$f":"'PEFA Columns'!R6","v":3},null,{"$f":"'PEFA Columns'!T6","v":3},null,{"$f":"'PEFA Columns'!V6","v":3},null,{"$f":"'PEFA Columns'!X6","v":3},null,{"$f":"'PEFA Columns'!Z6","v":3},null,{"$f":"'PEFA Columns'!AB6","v":3},null,{"$f":"'PEFA Columns'!AD6","v":3},null,{"$f":"'PEFA Columns'!AF6","v":3},null,{"$f":"'PEFA Columns'!AH6","v":3},null,{"$f":"'PEFA Columns'!AJ6","v":3},null,{"$f":"'PEFA Columns'!AL6","v":3},null,{"$f":"'PEFA Columns'!AN6","v":3},null,{"$f":"'PEFA Columns'!AP6","v":3},null,{"$f":"'PEFA Columns'!AR6","v":3},null,{"$f":"'PEFA Columns'!AT6","v":3},null,{"$f":"'PEFA Columns'!AV6","v":3},null,{"$f":"'PEFA Columns'!AX6","v":3},null,{"$f":"'PEFA Columns'!AZ6","v":3},null,{"$f":"'PEFA Columns'!BB6","v":3},null,{"$f":"'PEFA Columns'!BD6","v":2},null,{"$f":"'PEFA Columns'!BF6","v":2},null,{"$f":"'PEFA Columns'!BH6","v":3},null,{"$f":"'PEFA Columns'!BJ6","v":3},null,{"$f":"'PEFA Columns'!BL6","v":2},null,{"$f":"'PEFA Columns'!BN6","v":2},null,{"$f":"'PEFA Columns'!BP6","v":3},null,{"$f":"'PEFA Columns'!BR6","v":3},null,{"$f":"'PEFA Columns'!BT6","v":3},null,{"$f":"'PEFA Columns'!BV6","v":2},null,{"$f":"'PEFA Columns'!BX6","v":3},null,{"$f":"'PEFA Columns'!BZ6","v":3},null,{"$f":"'PEFA Columns'!CB6","v":3},null,{"$f":"'PEFA Columns'!CD6","v":3},null,{"$f":"'PEFA Columns'!CF6","v":3},null,{"$f":"'PEFA Columns'!CH6","v":2},null,{"$f":"'PEFA Columns'!CJ6","v":2},null,{"$f":"'PEFA Columns'!CL6","v":3},null,{"$f":"'PEFA Columns'!CN6","v":3},null,{"$f":"'PEFA Columns'!CP6","v":3},null,{"$f":"'PEFA Columns'!CR6","v":3},null,{"$f":"'PEFA Columns'!CT6","v":2},null,{"$f":"'PEFA Columns'!CV6","v":3},null,{"$f":"'PEFA Columns'!CX6","v":3},null,{"$f":"'PEFA Columns'!CZ6","v":3},null,{"$f":"'PEFA Columns'!DB6","v":2},null,{"$f":"'PEFA Columns'!DD6","v":3},null,{"$f":"'PEFA Columns'!DF6","v":2},null,{"$f":"'PEFA Columns'!DH6","v":3},null,{"$f":"'PEFA Columns'!DJ6","v":3},null,{"$f":"'PEFA Columns'!DL6","v":3},null,{"$f":"'PEFA Columns'!DN6","v":3},null,{"$f":"'PEFA Columns'!DP6","v":3},null,{"$f":"'PEFA Columns'!DR6","v":2},null,{"$f":"'PEFA Columns'!DT6","v":3},null,{"$f":"'PEFA Columns'!DV6","v":3},null,{"$f":"'PEFA Columns'!DX6","v":3},null,{"$f":"'PEFA Columns'!DZ6","v":3},null,{"$f":"'PEFA Columns'!EB6","v":2},null,{"$f":"'PEFA Columns'!ED6","v":2},null,{"$f":"'PEFA Columns'!EF6","v":2},null,{"$f":"'PEFA Columns'!EH6","v":3},null,{"$f":"'PEFA Columns'!EJ6","v":3},null,{"$f":"'PEFA Columns'!EL6","v":2},null,{"$f":"'PEFA Columns'!EN6","v":3},null,{"$f":"'PEFA Columns'!EP6","v":3},null,{"$f":"'PEFA Columns'!ER6","v":2},null,{"$f":"'PEFA Columns'!ET6","v":3},null,{"$f":"'PEFA Columns'!EV6","v":3},null,{"$f":"'PEFA Columns'!EX6","v":3},null,{"$f":"'PEFA Columns'!EZ6","v":2},null,{"$f":"'PEFA Columns'!FB6","v":2},null,{"$f":"'PEFA Columns'!FD6","v":1},null,{"$f":"'PEFA Columns'!FF6","v":2},null,{"$f":"'PEFA Columns'!FH6","v":2},null,{"$f":"'PEFA Columns'!FJ6","v":2},null,{"$f":"'PEFA Columns'!FL6","v":1},null,{"$f":"'PEFA Columns'!FN6","v":1},null,{"$f":"'PEFA Columns'!FP6","v":1},null,{"$f":"'PEFA Columns'!FR6","v":1},null,{"$f":"'PEFA Columns'!FT6","v":0}]
[null,"Number and Type:",null,null,"Table C - Physical use table of emission-relevant use of energy flows (related to fuel combustion)",null,null," ",null,null,null,null,null,null,null,null,null,null,null,null,null,"INDUSTRIES (NACE rev 2)",null,null,null,null,null,null,null,null,null,null,null,null,null,null,null,"INDUSTRIES (NACE rev 2)",null,null,null,null,null,null,null,null,null,null,null,null,null,null,null,null,null,null,null,null,null,null,null,"INDUSTRIES (NACE rev 2)",null,null,null,null,null,null,null,null,null,null,null,null,null,null,null,"INDUSTRIES (NACE rev 2)",null,null,null,null,null,null,null,null,null,null,null,null,null,null,null,null,null,"INDUSTRIES (NACE rev 2)",null,null,null,null,null,null,null,null,null,null,null,null,null,"INDUSTRIES (NACE rev 2)",null,null,null,null,null,null,null,null,null,null,null,null,null,null,null,null,null,null,null,null,null,null,null,null,null,null,null,null,null,null,null,"INDUSTRIES (NACE rev 2)",null,null,null,null,null,null,null,null,null,null,null,null,null,null,null,null,null,null,null,null,null,"HOUSEHOLDS",null,null,null,null,null,null,null,"ACCUMULATION",null,"STADIF",null,"REST OF THE WORLD",null,"ENVIRONMENT"]
[null,"Content:",null,null,"Energy Flows","Code",null,{"$f":"'PEFA Columns'!D7","v":"A_U   01-99"},null,{"$f":"'PEFA Columns'!F7","v":"A"},null,{"$f":"'PEFA Columns'!H7","v":"A01"},null,{"$f":"'PEFA Columns'!J7","v":"A02"},null,{"$f":"'PEFA Columns'!L7","v":"A03"},null,{"$f":"'PEFA Columns'!N7","v":"B"},null,{"$f":"'PEFA Columns'!P7","v":"C"},null,{"$f":"'PEFA Columns'!R7","v":"C10-C12"},null,{"$f":"'PEFA Columns'!T7","v":"C13-C15"},null,{"$f":"'PEFA Columns'!V7","v":"C16"},null,{"$f":"'PEFA Columns'!X7","v":"C17"},null,{"$f":"'PEFA Columns'!Z7","v":"C18"},null,{"$f":"'PEFA Columns'!AB7","v":"C19"},null,{"$f":"'PEFA Columns'!AD7","v":"C20"},null,{"$f":"'PEFA Columns'!AF7","v":"C21"},null,{"$f":"'PEFA Columns'!AH7","v":"C22"},null,{"$f":"'PEFA Columns'!AJ7","v":"C23"},null,{"$f":"'PEFA Columns'!AL7","v":"C24"},null,{"$f":"'PEFA Columns'!AN7","v":"C25"},null,{"$f":"'PEFA Columns'!AP7","v":"C26"},null,{"$f":"'PEFA Columns'!AR7","v":"C27"},null,{"$f":"'PEFA Columns'!AT7","v":"C28"},null,{"$f":"'PEFA Columns'!AV7","v":"C29"},null,{"$f":"'PEFA Columns'!AX7","v":"C30"},null,{"$f":"'PEFA Columns'!AZ7","v":"C31_C32"},null,{"$f":"'PEFA Columns'!BB7","v":"C33"},null,{"$f":"'PEFA Columns'!BD7","v":"D"},null,{"$f":"'PEFA Columns'!BF7","v":"E"},null,{"$f":"'PEFA Columns'!BH7","v":"E36"},null,{"$f":"'PEFA Columns'!BJ7","v":"E37-E39"},null,{"$f":"'PEFA Columns'!BL7","v":"F"},null,{"$f":"'PEFA Columns'!BN7","v":"G"},null,{"$f":"'PEFA Columns'!BP7","v":"G45"},null,{"$f":"'PEFA Columns'!BR7","v":"G46"},null,{"$f":"'PEFA Columns'!BT7","v":"G47"},null,{"$f":"'PEFA Columns'!BV7","v":"H"},null,{"$f":"'PEFA Columns'!BX7","v":"H49"},null,{"$f":"'PEFA Columns'!BZ7","v":"H50"},null,{"$f":"'PEFA Columns'!CB7","v":"H51"},null,{"$f":"'PEFA Columns'!CD7","v":"H52"},null,{"$f":"'PEFA Columns'!CF7","v":"H53"},null,{"$f":"'PEFA Columns'!CH7","v":"I"},null,{"$f":"'PEFA Columns'!CJ7","v":"J"},null,{"$f":"'PEFA Columns'!CL7","v":"J58"},null,{"$f":"'PEFA Columns'!CN7","v":"J59_J60"},null,{"$f":"'PEFA Columns'!CP7","v":"J61"},null,{"$f":"'PEFA Columns'!CR7","v":"J62_J63"},null,{"$f":"'PEFA Columns'!CT7","v":"K"},null,{"$f":"'PEFA Columns'!CV7","v":"K64"},null,{"$f":"'PEFA Columns'!CX7","v":"K65"},null,{"$f":"'PEFA Columns'!CZ7","v":"K66"},null,{"$f":"'PEFA Columns'!DB7","v":"L"},null,{"$f":"'PEFA Columns'!DD7","v":"L68A"},null,{"$f":"'PEFA Columns'!DF7","v":"M"},null,{"$f":"'PEFA Columns'!DH7","v":"M69_M70"},null,{"$f":"'PEFA Columns'!DJ7","v":"M71"},null,{"$f":"'PEFA Columns'!DL7","v":"M72"},null,{"$f":"'PEFA Columns'!DN7","v":"M73"},null,{"$f":"'PEFA Columns'!DP7","v":"M74_M75"},null,{"$f":"'PEFA Columns'!DR7","v":"N"},null,{"$f":"'PEFA Columns'!DT7","v":"N77"},null,{"$f":"'PEFA Columns'!DV7","v":"N78"},null,{"$f":"'PEFA Columns'!DX7","v":"N79"},null,{"$f":"'PEFA Columns'!DZ7","v":"N80-N82"},null,{"$f":"'PEFA Columns'!EB7","v":"O"},null,{"$f":"'PEFA Columns'!ED7","v":"P"},null,{"$f":"'PEFA Columns'!EF7","v":"Q"},null,{"$f":"'PEFA Columns'!EH7","v":"Q86"},null,{"$f":"'PEFA Columns'!EJ7","v":"Q87_Q88"},null,{"$f":"'PEFA Columns'!EL7","v":"R"},null,{"$f":"'PEFA Columns'!EN7","v":"R90-R92"},null,{"$f":"'PEFA Columns'!EP7","v":"R93"},null,{"$f":"'PEFA Columns'!ER7","v":"S"},null,{"$f":"'PEFA Columns'!ET7","v":"S94"},null,{"$f":"'PEFA Columns'!EV7","v":"S95"},null,{"$f":"'PEFA Columns'!EX7","v":"S96"},null,{"$f":"'PEFA Columns'!EZ7","v":"T"},null,{"$f":"'PEFA Columns'!FB7","v":"U"},null,{"$f":"'PEFA Columns'!FD7","v":"HH"},null,{"$f":"'PEFA Columns'!FF7","v":"HH_HEAT"},null,{"$f":"'PEFA Columns'!FH7","v":"HH_TRA"},null,{"$f":"'PEFA Columns'!FJ7","v":"HH_OTH"},null,{"$f":"'PEFA Columns'!FL7","v":"CHINV_PA"},null,{"$f":"'PEFA Columns'!FN7","v":"STADIF"},null,{"$f":"'PEFA Columns'!FP7","v":"ROW_ACT"},null,{"$f":"'PEFA Columns'!FR7","v":"ENV"},null,{"$f":"'PEFA Columns'!FT7","v":"TSUE"},null,null,null,null,null,null,null,"PROD_NRG"]
[null,"Unit :",null,null,"TJ","Label",null,{"$f":"'PEFA Columns'!D8","v":"Total NACE industries"},null,{"$f":"'PEFA Columns'!F8","v":"Agriculture, forestry and fishing"},null,{"$f":"'PEFA Columns'!H8","v":"Crop and animal production, hunting and related service activities"},null,{"$f":"'PEFA Columns'!J8","v":"Forestry and logging"},null,{"$f":"'PEFA Columns'!L8","v":"Fishing and aquaculture"},null,{"$f":"'PEFA Columns'!N8","v":"Mining and quarrying"},null,{"$f":"'PEFA Columns'!P8","v":"Manufacturing"},null,{"$f":"'PEFA Columns'!R8","v":"Manufacture of food products, beverages and tobacco\nproducts"},null,{"$f":"'PEFA Columns'!T8","v":"Manufacture of textiles, wearing apparel and leather products"},null,{"$f":"'PEFA Columns'!V8","v":"Manufacture of wood and of products of wood and cork, except furniture; manufacture of articles of straw and plaiting materials"},null,{"$f":"'PEFA Columns'!X8","v":"Manufacture of paper and paper products"},null,{"$f":"'PEFA Columns'!Z8","v":"Printing and reproduction of recorded media"},null,{"$f":"'PEFA Columns'!AB8","v":"Manufacture of coke and refined petroleum products"},null,{"$f":"'PEFA Columns'!AD8","v":"Manufacture of chemicals and chemical products"},null,{"$f":"'PEFA Columns'!AF8","v":"Manufacture of basic pharmaceutical products and pharmaceutical preparations"},null,{"$f":"'PEFA Columns'!AH8","v":"Manufacture of rubber and plastic products"},null,{"$f":"'PEFA Columns'!AJ8","v":"Manufacture of other non-metallic mineral products"},null,{"$f":"'PEFA Columns'!AL8","v":"Manufacture of basic metals"},null,{"$f":"'PEFA Columns'!AN8","v":"Manufacture of fabricated metal products, except machinery and equipment"},null,{"$f":"'PEFA Columns'!AP8","v":"Manufacture of computer, electronic and optical products"},null,{"$f":"'PEFA Columns'!AR8","v":"Manufacture of electrical equipment"},null,{"$f":"'PEFA Columns'!AT8","v":"Manufacture of machinery and equipment n.e.c."},null,{"$f":"'PEFA Columns'!AV8","v":"Manufacture of motor vehicles, trailers and semi-trailers"},null,{"$f":"'PEFA Columns'!AX8","v":"Manufacture of other transport equipment"},null,{"$f":"'PEFA Columns'!AZ8","v":"Manufacture of furniture; other manufacturing"},null,{"$f":"'PEFA Columns'!BB8","v":"Repair and installation of machinery and equipment"},null,{"$f":"'PEFA Columns'!BD8","v":"Electricity, gas, steam and air conditioning supply"},null,{"$f":"'PEFA Columns'!BF8","v":"Water supply; sewerage, waste management and remediation activities"},null,{"$f":"'PEFA Columns'!BH8","v":"Water collection, treatment and supply"},null,{"$f":"'PEFA Columns'!BJ8","v":"Sewerage, waste management, remediation activities"},null,{"$f":"'PEFA Columns'!BL8","v":"Construction"},null,{"$f":"'PEFA Columns'!BN8","v":"Wholesale and retail trade; repair of motor vehicles and motorcycles"},null,{"$f":"'PEFA Columns'!BP8","v":"Wholesale and retail trade and repair of motor vehicles and motorcycles"},null,{"$f":"'PEFA Columns'!BR8","v":"Wholesale trade, except of motor vehicles and motorcycles"},null,{"$f":"'PEFA Columns'!BT8","v":"Retail trade, except of motor vehicles and motorcycles"},null,{"$f":"'PEFA Columns'!BV8","v":"Transportation and storage"},null,{"$f":"'PEFA Columns'!BX8","v":"Land transport and transport via pipelines"},null,{"$f":"'PEFA Columns'!BZ8","v":"Water transport"},null,{"$f":"'PEFA Columns'!CB8","v":"Air transport"},null,{"$f":"'PEFA Columns'!CD8","v":"Warehousing and support activities for transportation"},null,{"$f":"'PEFA Columns'!CF8","v":"Postal and courier activities"},null,{"$f":"'PEFA Columns'!CH8","v":"Accommodation and food service activities"},null,{"$f":"'PEFA Columns'!CJ8","v":"Information and communication"},null,{"$f":"'PEFA Columns'!CL8","v":"Publishing activities"},null,{"$f":"'PEFA Columns'!CN8","v":"Motion picture, video, television programme production; programming and broadcasting activities"},null,{"$f":"'PEFA Columns'!CP8","v":"Telecommunications"},null,{"$f":"'PEFA Columns'!CR8","v":"Computer programming, consultancy, and information service activities"},null,{"$f":"'PEFA Columns'!CT8","v":"Financial and insurance activities"},null,{"$f":"'PEFA Columns'!CV8","v":"Financial service activities, except insurance and pension funding"},null,{"$f":"'PEFA Columns'!CX8","v":"Insurance, reinsurance and pension funding, except compulsory social security"},null,{"$f":"'PEFA Columns'!CZ8","v":"Activities auxiliary to financial services and insurance activities"},null,{"$f":"'PEFA Columns'!DB8","v":"Real estate activities"},null,{"$f":"'PEFA Columns'!DD8","v":"Of which: Imputed rents of owner-occupied dwellings"},null,{"$f":"'PEFA Columns'!DF8","v":"Professional, scientific and technical activities"},null,{"$f":"'PEFA Columns'!DH8","v":"Legal and accounting activities; activities of head offices; management consultancy activities"},null,{"$f":"'PEFA Columns'!DJ8","v":"Architectural and engineering activities; technical testing and analysis"},null,{"$f":"'PEFA Columns'!DL8","v":"Scientific research and development"},null,{"$f":"'PEFA Columns'!DN8","v":"Advertising and market research"},null,{"$f":"'PEFA Columns'!DP8","v":"Other professional, scientific and technical activities; veterinary activities"},null,{"$f":"'PEFA Columns'!DR8","v":"Administrative and support service activities"},null,{"$f":"'PEFA Columns'!DT8","v":"Rental and leasing activities"},null,{"$f":"'PEFA Columns'!DV8","v":"Employment activities"},null,{"$f":"'PEFA Columns'!DX8","v":"Travel agency, tour operator reservation service and related activities"},null,{"$f":"'PEFA Columns'!DZ8","v":"Security and investigation, service and landscape, office administrative and support activities"},null,{"$f":"'PEFA Columns'!EB8","v":"Public administration and defence; compulsory social security"},null,{"$f":"'PEFA Columns'!ED8","v":"Education"},null,{"$f":"'PEFA Columns'!EF8","v":"Human health and social work activities"},null,{"$f":"'PEFA Columns'!EH8","v":"Human health activities"},null,{"$f":"'PEFA Columns'!EJ8","v":"Residential care activities and social work activities without accommodation"},null,{"$f":"'PEFA Columns'!EL8","v":"Arts, entertainment and recreation"},null,{"$f":"'PEFA Columns'!EN8","v":"Creative, arts and entertainment activities; libraries, archives, museums and other cultural activities; gambling and betting activities"},null,{"$f":"'PEFA Columns'!EP8","v":"Sports activities and amusement and recreation activities"},null,{"$f":"'PEFA Columns'!ER8","v":"Other service activities"},null,{"$f":"'PEFA Columns'!ET8","v":"Activities of membership organisations"},null,{"$f":"'PEFA Columns'!EV8","v":"Repair of computers and personal and household goods"},null,{"$f":"'PEFA Columns'!EX8","v":"Other personal service activities"},null,{"$f":"'PEFA Columns'!EZ8","v":"Activities of households as employers; undifferentiated goods- and services-producing activities of households for own use"},null,{"$f":"'PEFA Columns'!FB8","v":"Activities of extraterritorial organisations and bodies"},null,{"$f":"'PEFA Columns'!FD8","v":"Total activities by households"},null,{"$f":"'PEFA Columns'!FF8","v":"Heating/cooling activities by households"},null,{"$f":"'PEFA Columns'!FH8","v":"Transport activities by households"},null,{"$f":"'PEFA Columns'!FJ8","v":"Other activities by households"},null,{"$f":"'PEFA Columns'!FL8","v":"Changes in inventories and produced assets"},null,{"$f":"'PEFA Columns'!FN8","v":"Statistical Differences"},null,{"$f":"'PEFA Columns'!FP8","v":"Rest of the World - economic activities"},null,{"$f":"'PEFA Columns'!FR8","v":"Environment"},null,{"$f":"'PEFA Columns'!FT8","v":"TOTAL USE OF NATURAL INPUTS, PRODUCTS, AND RESIDUALS"}]
[null,null,null,null,null,null,null,null,null,null,null,null,null,null,null,null,null,null,null,null,null,null,null,null,null,null,null,null,null,null,null,null,null,null,null,null,null,null,null,null,null,null,null,null,null,null,null,null,null,null,null,null,null,null,null,null,null,null,null,null,null,null,null,null,null,null,null,null,null,null,null,null,null,null,null,null,null,null,null,null,null,null,null,null,null,null,null,null,null,null,null,null,null,null,null,null,null,null,null,null,null,null,null,null,null,null,null,null,null,null,null,null,null,null,null,null,null,null,null,null,null,null,null,null,null,null,null,null,null,null,null,null,null,null,null,null,null,null,null,null,null,null,null,null,null,null,null,null,null,null,null,null,null,null,null,null,null,null,null,null,null,null,null,null,null,null,null,null,null,null,null,null,null,null,null,null,null,null,null,null,null,null,null,null,null,"UNIT_MEASURE","UNIT_MULT",null,"STK_FLOW","INDIC_PEFA"]
[null,"no","Level","Code","Label"]
[null,1,{"$f":"'PEFA rows'!B3","v":1},{"$f":"'PEFA rows'!C3","v":"N00"},{"$f":"'PEFA rows'!D3","v":"NATURAL ENERGY INPUTS"},null,null,{"$f":"SUM(H10:H16)","v":0},null,{"$f":"SUM(J10:J16)","v":0},null,{"$f":"SUM(L10:L16)","v":0},null,{"$f":"SUM(N10:N16)","v":0},null,{"$f":"SUM(P10:P16)","v":0},null,{"$f":"SUM(R10:R16)","v":0},null,{"$f":"SUM(T10:T16)","v":0},null,{"$f":"SUM(V10:V16)","v":0},null,{"$f":"SUM(X10:X16)","v":0},null,{"$f":"SUM(Z10:Z16)","v":0},null,{"$f":"SUM(AB10:AB16)","v":0},null,{"$f":"SUM(AD10:AD16)","v":0},null,{"$f":"SUM(AF10:AF16)","v":0},null,{"$f":"SUM(AH10:AH16)","v":0},null,{"$f":"SUM(AJ10:AJ16)","v":0},null,{"$f":"SUM(AL10:AL16)","v":0},null,{"$f":"SUM(AN10:AN16)","v":0},null,{"$f":"SUM(AP10:AP16)","v":0},null,{"$f":"SUM(AR10:AR16)","v":0},null,{"$f":"SUM(AT10:AT16)","v":0},null,{"$f":"SUM(AV10:AV16)","v":0},null,{"$f":"SUM(AX10:AX16)","v":0},null,{"$f":"SUM(AZ10:AZ16)","v":0},null,{"$f":"SUM(BB10:BB16)","v":0},null,{"$f":"SUM(BD10:BD16)","v":0},null,{"$f":"SUM(BF10:BF16)","v":0},null,{"$f":"SUM(BH10:BH16)","v":0},null,{"$f":"SUM(BJ10:BJ16)","v":0},null,{"$f":"SUM(BL10:BL16)","v":0},null,{"$f":"SUM(BN10:BN16)","v":0},null,{"$f":"SUM(BP10:BP16)","v":0},null,{"$f":"SUM(BR10:BR16)","v":0},null,{"$f":"SUM(BT10:BT16)","v":0},null,{"$f":"SUM(BV10:BV16)","v":0},null,{"$f":"SUM(BX10:BX16)","v":0},null,{"$f":"SUM(BZ10:BZ16)","v":0},null,{"$f":"SUM(CB10:CB16)","v":0},null,{"$f":"SUM(CD10:CD16)","v":0},null,{"$f":"SUM(CF10:CF16)","v":0},null,{"$f":"SUM(CH10:CH16)","v":0},null,{"$f":"SUM(CJ10:CJ16)","v":0},null,{"$f":"SUM(CL10:CL16)","v":0},null,{"$f":"SUM(CN10:CN16)","v":0},null,{"$f":"SUM(CP10:CP16)","v":0},null,{"$f":"SUM(CR10:CR16)","v":0},null,{"$f":"SUM(CT10:CT16)","v":0},null,{"$f":"SUM(CV10:CV16)","v":0},null,{"$f":"SUM(CX10:CX16)","v":0},null,{"$f":"SUM(CZ10:CZ16)","v":0},null,{"$f":"SUM(DB10:DB16)","v":0},null,{"$f":"SUM(DD10:DD16)","v":0},null,{"$f":"SUM(DF10:DF16)","v":0},null,{"$f":"SUM(DH10:DH16)","v":0},null,{"$f":"SUM(DJ10:DJ16)","v":0},null,{"$f":"SUM(DL10:DL16)","v":0},null,{"$f":"SUM(DN10:DN16)","v":0},null,{"$f":"SUM(DP10:DP16)","v":0},null,{"$f":"SUM(DR10:DR16)","v":0},null,{"$f":"SUM(DT10:DT16)","v":0},null,{"$f":"SUM(DV10:DV16)","v":0},null,{"$f":"SUM(DX10:DX16)","v":0},null,{"$f":"SUM(DZ10:DZ16)","v":0},null,{"$f":"SUM(EB10:EB16)","v":0},null,{"$f":"SUM(ED10:ED16)","v":0},null,{"$f":"SUM(EF10:EF16)","v":0},null,{"$f":"SUM(EH10:EH16)","v":0},null,{"$f":"SUM(EJ10:EJ16)","v":0},null,{"$f":"SUM(EL10:EL16)","v":0},null,{"$f":"SUM(EN10:EN16)","v":0},null,{"$f":"SUM(EP10:EP16)","v":0},null,{"$f":"SUM(ER10:ER16)","v":0},null,{"$f":"SUM(ET10:ET16)","v":0},null,{"$f":"SUM(EV10:EV16)","v":0},null,{"$f":"SUM(EX10:EX16)","v":0},null,{"$f":"SUM(EZ10:EZ16)","v":0},null,{"$f":"SUM(FB10:FB16)","v":0},null,{"$f":"SUM(FD10:FD16)","v":0},null,{"$f":"SUM(FF10:FF16)","v":0},null,null,null,null,null,null,null,null,null,null,null,{"$f":"SUM(FR10:FR16)","v":0},null,null,null,null,null,{"$f":"SUM(FX10:FX16)","v":0},null,null,null,null,null,"TJ",0,"N00","ER_USE","NAP"]
[null,{"$f":"B9+1","v":2},{"$f":"'PEFA rows'!B4","v":2},{"$f":"'PEFA rows'!C4","v":"N01"},{"$f":"'PEFA rows'!D4","v":"Fossil non-renewable natural energy inputs"},null,null,{"$f":"SUM(J10,R10,T10,BH10,BJ10,BP10,BR10,BZ10,CL10,CN10,CX10,DF10,DJ10,DV10,EF10,EH10,EJ10,EP10,EV10,FD10,FF10)","v":0},null,{"$f":"SUM(L10,N10,P10)","v":0},null,0,null,0,null,0,null,0,null,{"$f":"SUM(V10,X10,Z10,AB10,AD10,AF10,AH10,AJ10,AL10,AN10,AP10,AR10,AT10,AV10,AX10,AZ10,BB10,BD10,BF10)","v":0},null,0,null,0,null,0,null,0,null,0,null,0,null,0,null,0,null,0,null,0,null,0,null,0,null,0,null,0,null,0,null,0,null,0,null,0,null,0,null,0,null,{"$f":"SUM(BL10,BN10)","v":0},null,0,null,0,null,0,null,{"$f":"SUM(BT10,BV10,BX10)","v":0},null,0,null,0,null,0,null,{"$f":"SUM(CB10,CD10,CF10,CH10,CJ10)","v":0},null,0,null,0,null,0,null,0,null,0,null,0,null,{"$f":"SUM(CP10,CR10,CT10,CV10)","v":0},null,0,null,0,null,0,null,0,null,{"$f":"SUM(CZ10,DB10,DD10)","v":0},null,0,null,0,null,0,null,0,null,0,null,{"$f":"SUM(DL10,DN10,DP10,DR10,DT10)","v":0},null,0,null,0,null,0,null,0,null,0,null,{"$f":"SUM(DX10,DZ10,EB10,ED10)","v":0},null,0,null,0,null,0,null,0,null,0,null,0,null,{"$f":"SUM(EL10,EN10)","v":0},null,0,null,0,null,{"$f":"SUM(ER10,ET10)","v":0},null,0,null,0,null,{"$f":"SUM(EX10,EZ10,FB10)","v":0},null,0,null,0,null,0,null,0,null,0,null,null,null,null,null,null,null,null,null,null,null,0,null,null,null,null,null,{"$f":"SUM(H10,FH10,FP10,FR10,FT10,FV10)","v":0},null,null,null,null,null,null,null,"N01"]
[null,{"$f":"B10+1","v":3},{"$f":"'PEFA rows'!B5","v":2},{"$f":"'PEFA rows'!C5","v":"N02"},{"$f":"'PEFA rows'!D5","v":"Nuclear non-renewable natural energy inputs"},null,null,null,null,null,null,null,null,null,null,null,null,null,null,null,null,null,null,null,null,null,null,null,null,null,null,null,null,null,null,null,null,null,null,null,null,null,null,null,null,null,null,null,null,null,null,null,null,null,null,null,null,null,null,null,null,null,null,null,null,null,null,null,null,null,null,null,null,null,null,null,null,null,null,null,null,null,null,null,null,null,null,null,null,null,null,null,null,null,null,null,null,null,null,null,null,null,null,null,null,null,null,null,null,null,null,null,null,null,null,null,null,null,null,null,null,null,null,null,null,null,null,null,null,null,null,null,null,null,null,null,null,null,null,null,null,null,null,null,null,null,null,null,null,null,null,null,null,null,null,null,null,null,null,null,null,null,null,null,null,null,null,null,null,null,null,null,null,null,null,null,null,null,null,null,null,null,null,null,null,null,null,"N02"]
[null,4,{"$f":"'PEFA rows'!B6","v":2},{"$f":"'PEFA rows'!C6","v":"N03"},{"$f":"'PEFA rows'!D6","v":"Hydro based renewable natural energy inputs"},null,null,null,null,null,null,null,null,null,null,null,null,null,null,null,null,null,null,null,null,null,null,null,null,null,null,null,null,null,null,null,null,null,null,null,null,null,null,null,null,null,null,null,null,null,null,null,null,null,null,null,null,null,null,null,null,null,null,null,null,null,null,null,null,null,null,null,null,null,null,null,null,null,null,null,null,null,null,null,null,null,null,null,null,null,null,null,null,null,null,null,null,null,null,null,null,null,null,null,null,null,null,null,null,null,null,null,null,null,null,null,null,null,null,null,null,null,null,null,null,null,null,null,null,null,null,null,null,null,null,null,null,null,null,null,null,null,null,null,null,null,null,null,null,null,null,null,null,null,null,null,null,null,null,null,null,null,null,null,null,null,null,null,null,null,null,null,null,null,null,null,null,null,null,null,null,null,null,null,null,null,null,"N03"]
[null,5,{"$f":"'PEFA rows'!B7","v":2},{"$f":"'PEFA rows'!C7","v":"N04"},{"$f":"'PEFA rows'!D7","v":"Wind based renewable natural energy inputs"},null,null,null,null,null,null,null,null,null,null,null,null,null,null,null,null,null,null,null,null,null,null,null,null,null,null,null,null,null,null,null,null,null,null,null,null,null,null,null,null,null,null,null,null,null,null,null,null,null,null,null,null,null,null,null,null,null,null,null,null,null,null,null,null,null,null,null,null,null,null,null,null,null,null,null,null,null,null,null,null,null,null,null,null,null,null,null,null,null,null,null,null,null,null,null,null,null,null,null,null,null,null,null,null,null,null,null,null,null,null,null,null,null,null,null,null,null,null,null,null,null,null,null,null,null,null,null,null,null,null,null,null,null,null,null,null,null,null,null,null,null,null,null,null,null,null,null,null,null,null,null,null,null,null,null,null,null,null,null,null,null,null,null,null,null,null,null,null,null,null,null,null,null,null,null,null,null,null,null,null,null,null,"N04"]
[null,6,{"$f":"'PEFA rows'!B8","v":2},{"$f":"'PEFA rows'!C8","v":"N05"},{"$f":"'PEFA rows'!D8","v":"Solar based renewable natural energy inputs"},null,null,null,null,null,null,null,null,null,null,null,null,null,null,null,null,null,null,null,null,null,null,null,null,null,null,null,null,null,null,null,null,null,null,null,null,null,null,null,null,null,null,null,null,null,null,null,null,null,null,null,null,null,null,null,null,null,null,null,null,null,null,null,null,null,null,null,null,null,null,null,null,null,null,null,null,null,null,null,null,null,null,null,null,null,null,null,null,null,null,null,null,null,null,null,null,null,null,null,null,null,null,null,null,null,null,null,null,null,null,null,null,null,null,null,null,null,null,null,null,null,null,null,null,null,null,null,null,null,null,null,null,null,null,null,null,null,null,null,null,null,null,null,null,null,null,null,null,null,null,null,null,null,null,null,null,null,null,null,null,null,null,null,null,null,null,null,null,null,null,null,null,null,null,null,null,null,null,null,null,null,null,"N05"]
[null,7,{"$f":"'PEFA rows'!B9","v":2},{"$f":"'PEFA rows'!C9","v":"N06"},{"$f":"'PEFA rows'!D9","v":"Biomass based renewable natural energy inputs"},null,null,null,null,null,null,null,null,null,null,null,null,null,null,null,null,null,null,null,null,null,null,null,null,null,null,null,null,null,null,null,null,null,null,null,null,null,null,null,null,null,null,null,null,null,null,null,null,null,null,null,null,null,null,null,null,null,null,null,null,null,null,null,null,null,null,null,null,null,null,null,null,null,null,null,null,null,null,null,null,null,null,null,null,null,null,null,null,null,null,null,null,null,null,null,null,null,null,null,null,null,null,null,null,null,null,null,null,null,null,null,null,null,null,null,null,null,null,null,null,null,null,null,null,null,null,null,null,null,null,null,null,null,null,null,null,null,null,null,null,null,null,null,null,null,null,null,null,null,null,null,null,null,null,null,null,null,null,null,null,null,null,null,null,null,null,null,null,null,null,null,null,null,null,null,null,null,null,null,null,null,null,"N06"]
[null,8,{"$f":"'PEFA rows'!B10","v":2},{"$f":"'PEFA rows'!C10","v":"N07"},{"$f":"'PEFA rows'!D10","v":"Other renewable natural energy inputs"},null,null,null,null,null,null,null,null,null,null,null,null,null,null,null,null,null,null,null,null,null,null,null,null,null,null,null,null,null,null,null,null,null,null,null,null,null,null,null,null,null,null,null,null,null,null,null,null,null,null,null,null,null,null,null,null,null,null,null,null,null,null,null,null,null,null,null,null,null,null,null,null,null,null,null,null,null,null,null,null,null,null,null,null,null,null,null,null,null,null,null,null,null,null,null,null,null,null,null,null,null,null,null,null,null,null,null,null,null,null,null,null,null,null,null,null,null,null,null,null,null,null,null,null,null,null,null,null,null,null,null,null,null,null,null,null,null,null,null,null,null,null,null,null,null,null,null,null,null,null,null,null,null,null,null,null,null,null,null,null,null,null,null,null,null,null,null,null,null,null,null,null,null,null,null,null,null,null,null,null,null,null,"N07"]
[null,9,{"$f":"'PEFA rows'!B11","v":1},{"$f":"'PEFA rows'!C11","v":"P00"},{"$f":"'PEFA rows'!D11","v":"ENERGY PRODUCTS"},null,null,{"$f":"SUM(H18:H37)","v":0},null,{"$f":"SUM(J18:J37)","v":0},null,{"$f":"SUM(L18:L37)","v":0},null,{"$f":"SUM(N18:N37)","v":0},null,{"$f":"SUM(P18:P37)","v":0},null,{"$f":"SUM(R18:R37)","v":0},null,{"$f":"SUM(T18:T37)","v":0},null,{"$f":"SUM(V18:V37)","v":0},null,{"$f":"SUM(X18:X37)","v":0},null,{"$f":"SUM(Z18:Z37)","v":0},null,{"$f":"SUM(AB18:AB37)","v":0},null,{"$f":"SUM(AD18:AD37)","v":0},null,{"$f":"SUM(AF18:AF37)","v":0},null,{"$f":"SUM(AH18:AH37)","v":0},null,{"$f":"SUM(AJ18:AJ37)","v":0},null,{"$f":"SUM(AL18:AL37)","v":0},null,{"$f":"SUM(AN18:AN37)","v":0},null,{"$f":"SUM(AP18:AP37)","v":0},null,{"$f":"SUM(AR18:AR37)","v":0},null,{"$f":"SUM(AT18:AT37)","v":0},null,{"$f":"SUM(AV18:AV37)","v":0},null,{"$f":"SUM(AX18:AX37)","v":0},null,{"$f":"SUM(AZ18:AZ37)","v":0},null,{"$f":"SUM(BB18:BB37)","v":0},null,{"$f":"SUM(BD18:BD37)","v":0},null,{"$f":"SUM(BF18:BF37)","v":0},null,{"$f":"SUM(BH18:BH37)","v":0},null,{"$f":"SUM(BJ18:BJ37)","v":0},null,{"$f":"SUM(BL18:BL37)","v":0},null,{"$f":"SUM(BN18:BN37)","v":0},null,{"$f":"SUM(BP18:BP37)","v":0},null,{"$f":"SUM(BR18:BR37)","v":0},null,{"$f":"SUM(BT18:BT37)","v":0},null,{"$f":"SUM(BV18:BV37)","v":0},null,{"$f":"SUM(BX18:BX37)","v":0},null,{"$f":"SUM(BZ18:BZ37)","v":0},null,{"$f":"SUM(CB18:CB37)","v":0},null,{"$f":"SUM(CD18:CD37)","v":0},null,{"$f":"SUM(CF18:CF37)","v":0},null,{"$f":"SUM(CH18:CH37)","v":0},null,{"$f":"SUM(CJ18:CJ37)","v":0},null,{"$f":"SUM(CL18:CL37)","v":0},null,{"$f":"SUM(CN18:CN37)","v":0},null,{"$f":"SUM(CP18:CP37)","v":0},null,{"$f":"SUM(CR18:CR37)","v":0},null,{"$f":"SUM(CT18:CT37)","v":0},null,{"$f":"SUM(CV18:CV37)","v":0},null,{"$f":"SUM(CX18:CX37)","v":0},null,{"$f":"SUM(CZ18:CZ37)","v":0},null,{"$f":"SUM(DB18:DB37)","v":0},null,{"$f":"SUM(DD18:DD37)","v":0},null,{"$f":"SUM(DF18:DF37)","v":0},null,{"$f":"SUM(DH18:DH37)","v":0},null,{"$f":"SUM(DJ18:DJ37)","v":0},null,{"$f":"SUM(DL18:DL37)","v":0},null,{"$f":"SUM(DN18:DN37)","v":0},null,{"$f":"SUM(DP18:DP37)","v":0},null,{"$f":"SUM(DR18:DR37)","v":0},null,{"$f":"SUM(DT18:DT37)","v":0},null,{"$f":"SUM(DV18:DV37)","v":0},null,{"$f":"SUM(DX18:DX37)","v":0},null,{"$f":"SUM(DZ18:DZ37)","v":0},null,{"$f":"SUM(EB18:EB37)","v":0},null,{"$f":"SUM(ED18:ED37)","v":0},null,{"$f":"SUM(EF18:EF37)","v":0},null,{"$f":"SUM(EH18:EH37)","v":0},null,{"$f":"SUM(EJ18:EJ37)","v":0},null,{"$f":"SUM(EL18:EL37)","v":0},null,{"$f":"SUM(EN18:EN37)","v":0},null,{"$f":"SUM(EP18:EP37)","v":0},null,{"$f":"SUM(ER18:ER37)","v":0},null,{"$f":"SUM(ET18:ET37)","v":0},null,{"$f":"SUM(EV18:EV37)","v":0},null,{"$f":"SUM(EX18:EX37)","v":0},null,{"$f":"SUM(EZ18:EZ37)","v":0},null,{"$f":"SUM(FB18:FB37)","v":0},null,{"$f":"SUM(FD18:FD37)","v":0},null,{"$f":"SUM(FF18:FF37)","v":0},null,{"$f":"SUM(FH18:FH37)","v":0},null,{"$f":"SUM(FJ18:FJ37)","v":0},null,{"$f":"SUM(FL18:FL37)","v":0},null,{"$f":"SUM(FN18:FN37)","v":0},null,null,null,{"$f":"SUM(FR18:FR37)","v":0},null,null,null,null,null,{"$f":"SUM(FX18:FX37)","v":0},null,null,null,null,null,null,null,"P00"]
[null,10,{"$f":"'PEFA rows'!B12","v":2},{"$f":"'PEFA rows'!C12","v":"P08"},{"$f":"'PEFA rows'!D12","v":"Hard coal"},null,null,{"$f":"SUM(J18,R18,T18,BH18,BJ18,BP18,BR18,BZ18,CL18,CN18,CX18,DF18,DJ18,DV18,EF18,EH18,EJ18,EP18,EV18,FD18,FF18)","v":0},null,{"$f":"SUM(L18,N18,P18)","v":0},null,0,null,0,null,0,null,0,null,{"$f":"SUM(V18,X18,Z18,AB18,AD18,AF18,AH18,AJ18,AL18,AN18,AP18,AR18,AT18,AV18,AX18,AZ18,BB18,BD18,BF18)","v":0},null,0,null,0,null,0,null,0,null,0,null,0,null,0,null,0,null,0,null,0,null,0,null,0,null,0,null,0,null,0,null,0,null,0,null,0,null,0,null,0,null,{"$f":"SUM(BL18,BN18)","v":0},null,0,null,0,null,0,null,{"$f":"SUM(BT18,BV18,BX18)","v":0},null,0,null,0,null,0,null,{"$f":"SUM(CB18,CD18,CF18,CH18,CJ18)","v":0},null,0,null,0,null,0,null,0,null,0,null,0,null,{"$f":"SUM(CP18,CR18,CT18,CV18)","v":0},null,0,null,0,null,0,null,0,null,{"$f":"SUM(CZ18,DB18,DD18)","v":0},null,0,null,0,null,0,null,0,null,0,null,{"$f":"SUM(DL18,DN18,DP18,DR18,DT18)","v":0},null,0,null,0,null,0,null,0,null,0,null,{"$f":"SUM(DX18,DZ18,EB18,ED18)","v":0},null,0,null,0,null,0,null,0,null,0,null,0,null,{"$f":"SUM(EL18,EN18)","v":0},null,0,null,0,null,{"$f":"SUM(ER18,ET18)","v":0},null,0,null,0,null,{"$f":"SUM(EX18,EZ18,FB18)","v":0},null,0,null,0,null,0,null,0,null,0,null,{"$f":"SUM(FJ18,FL18,FN18)","v":0},null,0,null,0,null,0,null,null,null,0,null,null,null,null,null,{"$f":"SUM(H18,FH18,FP18,FR18,FT18,FV18)","v":0},null,null,null,null,null,null,null,"P08"]
[null,11,{"$f":"'PEFA rows'!B13","v":2},{"$f":"'PEFA rows'!C13","v":"P09"},{"$f":"'PEFA rows'!D13","v":"Brown coal and peat"},null,null,{"$f":"SUM(J19,R19,T19,BH19,BJ19,BP19,BR19,BZ19,CL19,CN19,CX19,DF19,DJ19,DV19,EF19,EH19,EJ19,EP19,EV19,FD19,FF19)","v":0},null,{"$f":"SUM(L19,N19,P19)","v":0},null,0,null,0,null,0,null,0,null,{"$f":"SUM(V19,X19,Z19,AB19,AD19,AF19,AH19,AJ19,AL19,AN19,AP19,AR19,AT19,AV19,AX19,AZ19,BB19,BD19,BF19)","v":0},null,0,null,0,null,0,null,0,null,0,null,0,null,0,null,0,null,0,null,0,null,0,null,0,null,0,null,0,null,0,null,0,null,0,null,0,null,0,null,0,null,{"$f":"SUM(BL19,BN19)","v":0},null,0,null,0,null,0,null,{"$f":"SUM(BT19,BV19,BX19)","v":0},null,0,null,0,null,0,null,{"$f":"SUM(CB19,CD19,CF19,CH19,CJ19)","v":0},null,0,null,0,null,0,null,0,null,0,null,0,null,{"$f":"SUM(CP19,CR19,CT19,CV19)","v":0},null,0,null,0,null,0,null,0,null,{"$f":"SUM(CZ19,DB19,DD19)","v":0},null,0,null,0,null,0,null,0,null,0,null,{"$f":"SUM(DL19,DN19,DP19,DR19,DT19)","v":0},null,0,null,0,null,0,null,0,null,0,null,{"$f":"SUM(DX19,DZ19,EB19,ED19)","v":0},null,0,null,0,null,0,null,0,null,0,null,0,null,{"$f":"SUM(EL19,EN19)","v":0},null,0,null,0,null,{"$f":"SUM(ER19,ET19)","v":0},null,0,null,0,null,{"$f":"SUM(EX19,EZ19,FB19)","v":0},null,0,null,0,null,0,null,0,null,0,null,{"$f":"SUM(FJ19,FL19,FN19)","v":0},null,0,null,0,null,0,null,null,null,0,null,null,null,null,null,{"$f":"SUM(H19,FH19,FP19,FR19,FT19,FV19)","v":0},null,null,null,null,null,null,null,"P09"]
[null,12,{"$f":"'PEFA rows'!B14","v":2},{"$f":"'PEFA rows'!C14","v":"P10"},{"$f":"'PEFA rows'!D14","v":"Derived gases (= manufactured gases excl. biogas) "},null,null,0,null,0,null,0,null,0,null,0,null,0,null,0,null,0,null,0,null,0,null,0,null,0,null,0,null,0,null,0,null,0,null,0,null,0,null,0,null,0,null,0,null,0,null,0,null,0,null,0,null,0,null,0,null,0,null,0,null,0,null,0,null,0,null,0,null,0,null,0,null,0,null,0,null,0,null,0,null,0,null,0,null,0,null,0,null,0,null,0,null,0,null,0,null,0,null,0,null,0,null,0,null,0,null,0,null,0,null,0,null,0,null,0,null,0,null,0,null,0,null,0,null,0,null,0,null,0,null,0,null,0,null,0,null,0,null,0,null,0,null,0,null,0,null,0,null,0,null,0,null,0,null,0,null,0,null,0,null,0,null,0,null,0,null,null,null,0,null,null,null,null,null,0,null,null,null,null,null,null,null,"P10"]
[null,13,{"$f":"'PEFA rows'!B15","v":2},{"$f":"'PEFA rows'!C15","v":"P11"},{"$f":"'PEFA rows'!D15","v":"Secondary coal products (coke, coal tar, patent fuel, BKB and peat products)"},null,null,0,null,0,null,0,null,0,null,0,null,0,null,0,null,0,null,0,null,0,null,0,null,0,null,0,null,0,null,0,null,0,null,0,null,0,null,0,null,0,null,0,null,0,null,0,null,0,null,0,null,0,null,0,null,0,null,0,null,0,null,0,null,0,null,0,null,0,null,0,null,0,null,0,null,0,null,0,null,0,null,0,null,0,null,0,null,0,null,0,null,0,null,0,null,0,null,0,null,0,null,0,null,0,null,0,null,0,null,0,null,0,null,0,null,0,null,0,null,0,null,0,null,0,null,0,null,0,null,0,null,0,null,0,null,0,null,0,null,0,null,0,null,0,null,0,null,0,null,0,null,0,null,0,null,0,null,0,null,0,null,0,null,0,null,null,null,0,null,null,null,null,null,0,null,null,null,null,null,null,null,"P11"]
[null,14,{"$f":"'PEFA rows'!B16","v":2},{"$f":"'PEFA rows'!C16","v":"P12"},{"$f":"'PEFA rows'!D16","v":"Crude oil, NGL, and other hydrocarbons (excl. bio)"},null,null,0,null,0,null,0,null,0,null,0,null,0,null,0,null,0,null,0,null,0,null,0,null,0,null,0,null,0,null,0,null,0,null,0,null,0,null,0,null,0,null,0,null,0,null,0,null,0,null,0,null,0,null,0,null,0,null,0,null,0,null,0,null,0,null,0,null,0,null,0,null,0,null,0,null,0,null,0,null,0,null,0,null,0,null,0,null,0,null,0,null,0,null,0,null,0,null,0,null,0,null,0,null,0,null,0,null,0,null,0,null,0,null,0,null,0,null,0,null,0,null,0,null,0,null,0,null,0,null,0,null,0,null,0,null,0,null,0,null,0,null,0,null,0,null,0,null,0,null,0,null,0,null,0,null,0,null,0,null,0,null,0,null,0,null,null,null,0,null,null,null,null,null,0,null,null,null,null,null,null,null,"P12"]
[null,15,{"$f":"'PEFA rows'!B17","v":2},{"$f":"'PEFA rows'!C17","v":"P13"},{"$f":"'PEFA rows'!D17","v":"Natural gas (without bio)"},null,null,0,null,0,null,0,null,0,null,0,null,0,null,0,null,0,null,0,null,0,null,0,null,0,null,0,null,0,null,0,null,0,null,0,null,0,null,0,null,0,null,0,null,0,null,0,null,0,null,0,null,0,null,0,null,0,null,0,null,0,null,0,null,0,null,0,null,0,null,0,null,0,null,0,null,0,null,0,null,0,null,0,null,0,null,0,null,0,null,0,null,0,null,0,null,0,null,0,null,0,null,0,null,0,null,0,null,0,null,0,null,0,null,0,null,0,null,0,null,0,null,0,null,0,null,0,null,0,null,0,null,0,null,0,null,0,null,0,null,0,null,0,null,0,null,0,null,0,null,0,null,0,null,0,null,0,null,0,null,0,null,0,null,0,null,null,null,0,null,null,null,null,null,0,null,null,null,null,null,null,null,"P13"]
[null,16,{"$f":"'PEFA rows'!B18","v":2},{"$f":"'PEFA rows'!C18","v":"P14"},{"$f":"'PEFA rows'!D18","v":"Motor spirit (without bio)"},null,null,0,null,0,null,0,null,0,null,0,null,0,null,0,null,0,null,0,null,0,null,0,null,0,null,0,null,0,null,0,null,0,null,0,null,0,null,0,null,0,null,0,null,0,null,0,null,0,null,0,null,0,null,0,null,0,null,0,null,0,null,0,null,0,null,0,null,0,null,0,null,0,null,0,null,0,null,0,null,0,null,0,null,0,null,0,null,0,null,0,null,0,null,0,null,0,null,0,null,0,null,0,null,0,null,0,null,0,null,0,null,0,null,0,null,0,null,0,null,0,null,0,null,0,null,0,null,0,null,0,null,0,null,0,null,0,null,0,null,0,null,0,null,0,null,0,null,0,null,0,null,0,null,0,null,0,null,0,null,0,null,0,null,0,null,null,null,0,null,null,null,null,null,0,null,null,null,null,null,null,null,"P14"]
[null,17,{"$f":"'PEFA rows'!B19","v":2},{"$f":"'PEFA rows'!C19","v":"P15"},{"$f":"'PEFA rows'!D19","v":"Kerosenes and jet fuels (without bio)"},null,null,0,null,0,null,0,null,0,null,0,null,0,null,0,null,0,null,0,null,0,null,0,null,0,null,0,null,0,null,0,null,0,null,0,null,0,null,0,null,0,null,0,null,0,null,0,null,0,null,0,null,0,null,0,null,0,null,0,null,0,null,0,null,0,null,0,null,0,null,0,null,0,null,0,null,0,null,0,null,0,null,0,null,0,null,0,null,0,null,0,null,0,null,0,null,0,null,0,null,0,null,0,null,0,null,0,null,0,null,0,null,0,null,0,null,0,null,0,null,0,null,0,null,0,null,0,null,0,null,0,null,0,null,0,null,0,null,0,null,0,null,0,null,0,null,0,null,0,null,0,null,0,null,0,null,0,null,0,null,0,null,0,null,0,null,null,null,0,null,null,null,null,null,0,null,null,null,null,null,null,null,"P15"]
[null,18,{"$f":"'PEFA rows'!B20","v":2},{"$f":"'PEFA rows'!C20","v":"P16"},{"$f":"'PEFA rows'!D20","v":"Naphtha"},null,null,0,null,0,null,0,null,0,null,0,null,0,null,0,null,0,null,0,null,0,null,0,null,0,null,0,null,0,null,0,null,0,null,0,null,0,null,0,null,0,null,0,null,0,null,0,null,0,null,0,null,0,null,0,null,0,null,0,null,0,null,0,null,0,null,0,null,0,null,0,null,0,null,0,null,0,null,0,null,0,null,0,null,0,null,0,null,0,null,0,null,0,null,0,null,0,null,0,null,0,null,0,null,0,null,0,null,0,null,0,null,0,null,0,null,0,null,0,null,0,null,0,null,0,null,0,null,0,null,0,null,0,null,0,null,0,null,0,null,0,null,0,null,0,null,0,null,0,null,0,null,0,null,0,null,0,null,0,null,0,null,0,null,0,null,null,null,0,null,null,null,null,null,{"$f":"SUM(H26,FH26,FP26,FR26,FT26,FV26)","v":0},null,null,null,null,null,null,null,"P16"]
[null,19,{"$f":"'PEFA rows'!B21","v":2},{"$f":"'PEFA rows'!C21","v":"P17"},{"$f":"'PEFA rows'!D21","v":"Transport diesel (without bio)"},null,null,0,null,0,null,0,null,0,null,0,null,0,null,0,null,0,null,0,null,0,null,0,null,0,null,0,null,0,null,0,null,0,null,0,null,0,null,0,null,0,null,0,null,0,null,0,null,0,null,0,null,0,null,0,null,0,null,0,null,0,null,0,null,0,null,0,null,0,null,0,null,0,null,0,null,0,null,0,null,0,null,0,null,0,null,0,null,0,null,0,null,0,null,0,null,0,null,0,null,0,null,0,null,0,null,0,null,0,null,0,null,0,null,0,null,0,null,0,null,0,null,0,null,0,null,0,null,0,null,0,null,0,null,0,null,0,null,0,null,0,null,0,null,0,null,0,null,0,null,0,null,0,null,0,null,0,null,0,null,0,null,0,null,0,null,null,null,0,null,null,null,null,null,0,null,null,null,null,null,null,null,"P17"]
[null,20,{"$f":"'PEFA rows'!B22","v":2},{"$f":"'PEFA rows'!C22","v":"P18"},{"$f":"'PEFA rows'!D22","v":"Heating and other gasoil (without bio)"},null,null,0,null,0,null,0,null,0,null,0,null,0,null,0,null,0,null,0,null,0,null,0,null,0,null,0,null,0,null,0,null,0,null,0,null,0,null,0,null,0,null,0,null,0,null,0,null,0,null,0,null,0,null,0,null,0,null,0,null,0,null,0,null,0,null,0,null,0,null,0,null,0,null,0,null,0,null,0,null,0,null,0,null,0,null,0,null,0,null,0,null,0,null,0,null,0,null,0,null,0,null,0,null,0,null,0,null,0,null,0,null,0,null,0,null,0,null,0,null,0,null,0,null,0,null,0,null,0,null,0,null,0,null,0,null,0,null,0,null,0,null,0,null,0,null,0,null,0,null,0,null,0,null,0,null,0,null,0,null,0,null,0,null,0,null,null,null,0,null,null,null,null,null,0,null,null,null,null,null,null,null,"P18"]
[null,21,{"$f":"'PEFA rows'!B23","v":2},{"$f":"'PEFA rows'!C23","v":"P19"},{"$f":"'PEFA rows'!D23","v":"Residual fuel oil"},null,null,0,null,0,null,0,null,0,null,0,null,0,null,0,null,0,null,0,null,0,null,0,null,0,null,0,null,0,null,0,null,0,null,0,null,0,null,0,null,0,null,0,null,0,null,0,null,0,null,0,null,0,null,0,null,0,null,0,null,0,null,0,null,0,null,0,null,0,null,0,null,0,null,0,null,0,null,0,null,0,null,0,null,0,null,0,null,0,null,0,null,0,null,0,null,0,null,0,null,0,null,0,null,0,null,0,null,0,null,0,null,0,null,0,null,0,null,0,null,0,null,0,null,0,null,0,null,0,null,0,null,0,null,0,null,0,null,0,null,0,null,0,null,0,null,0,null,0,null,0,null,0,null,0,null,0,null,0,null,0,null,0,null,0,null,null,null,0,null,null,null,null,null,0,null,null,null,null,null,null,null,"P19"]
[null,22,{"$f":"'PEFA rows'!B24","v":2},{"$f":"'PEFA rows'!C24","v":"P20"},{"$f":"'PEFA rows'!D24","v":"Refinery gas, ethane and LPG"},null,null,0,null,0,null,0,null,0,null,0,null,0,null,0,null,0,null,0,null,0,null,0,null,0,null,0,null,0,null,0,null,0,null,0,null,0,null,0,null,0,null,0,null,0,null,0,null,0,null,0,null,0,null,0,null,0,null,0,null,0,null,0,null,0,null,0,null,0,null,0,null,0,null,0,null,0,null,0,null,0,null,0,null,0,null,0,null,0,null,0,null,0,null,0,null,0,null,0,null,0,null,0,null,0,null,0,null,0,null,0,null,0,null,0,null,0,null,0,null,0,null,0,null,0,null,0,null,0,null,0,null,0,null,0,null,0,null,0,null,0,null,0,null,0,null,0,null,0,null,0,null,0,null,0,null,0,null,0,null,0,null,0,null,0,null,null,null,0,null,null,null,null,null,0,null,null,null,null,null,null,null,"P20"]
[null,23,{"$f":"'PEFA rows'!B25","v":2},{"$f":"'PEFA rows'!C25","v":"P21"},{"$f":"'PEFA rows'!D25","v":"Other petroleum products incl. additives/oxygenates and refinery feedstocks"},null,null,0,null,0,null,0,null,0,null,0,null,0,null,0,null,0,null,0,null,0,null,0,null,0,null,0,null,0,null,0,null,0,null,0,null,0,null,0,null,0,null,0,null,0,null,0,null,0,null,0,null,0,null,0,null,0,null,0,null,0,null,0,null,0,null,0,null,0,null,0,null,0,null,0,null,0,null,0,null,0,null,0,null,0,null,0,null,0,null,0,null,0,null,0,null,0,null,0,null,0,null,0,null,0,null,0,null,0,null,0,null,0,null,0,null,0,null,0,null,0,null,0,null,0,null,0,null,0,null,0,null,0,null,0,null,0,null,0,null,0,null,0,null,0,null,0,null,0,null,0,null,0,null,0,null,0,null,0,null,0,null,0,null,0,null,null,null,0,null,null,null,null,null,0,null,null,null,null,null,null,null,"P21"]
[null,24,{"$f":"'PEFA rows'!B26","v":2},{"$f":"'PEFA rows'!C26","v":"P22"},{"$f":"'PEFA rows'!D26","v":"Nuclear fuel"},null,null,{"$f":"SUM(J32,R32,T32,BH32,BJ32,BP32,BR32,BZ32,CL32,CN32,CX32,DF32,DJ32,DV32,EF32,EH32,EJ32,EP32,EV32,FD32,FF32)","v":0},null,{"$f":"SUM(L32,N32,P32)","v":0},null,0,null,0,null,0,null,0,null,{"$f":"SUM(V32,X32,Z32,AB32,AD32,AF32,AH32,AJ32,AL32,AN32,AP32,AR32,AT32,AV32,AX32,AZ32,BB32,BD32,BF32)","v":0},null,0,null,0,null,0,null,0,null,0,null,0,null,0,null,0,null,0,null,0,null,0,null,0,null,0,null,0,null,0,null,0,null,0,null,0,null,0,null,0,null,{"$f":"SUM(BL32,BN32)","v":0},null,0,null,0,null,0,null,{"$f":"SUM(BT32,BV32,BX32)","v":0},null,0,null,0,null,0,null,{"$f":"SUM(CB32,CD32,CF32,CH32,CJ32)","v":0},null,0,null,0,null,0,null,0,null,0,null,0,null,{"$f":"SUM(CP32,CR32,CT32,CV32)","v":0},null,0,null,0,null,0,null,0,null,{"$f":"SUM(CZ32,DB32,DD32)","v":0},null,0,null,0,null,0,null,0,null,0,null,{"$f":"SUM(DL32,DN32,DP32,DR32,DT32)","v":0},null,0,null,0,null,0,null,0,null,0,null,{"$f":"SUM(DX32,DZ32,EB32,ED32)","v":0},null,0,null,0,null,0,null,0,null,0,null,0,null,{"$f":"SUM(EL32,EN32)","v":0},null,0,null,0,null,{"$f":"SUM(ER32,ET32)","v":0},null,0,null,0,null,{"$f":"SUM(EX32,EZ32,FB32)","v":0},null,0,null,0,null,0,null,0,null,0,null,{"$f":"SUM(FJ32,FL32,FN32)","v":0},null,0,null,0,null,0,null,null,null,0,null,null,null,null,null,{"$f":"SUM(H32,FH32,FP32,FR32,FT32,FV32)","v":0},null,null,null,null,null,null,null,"P22"]
[null,25,{"$f":"'PEFA rows'!B27","v":2},{"$f":"'PEFA rows'!C27","v":"P23"},{"$f":"'PEFA rows'!D27","v":"Wood, wood waste and other solid biomass, charcoal"},null,null,{"$f":"SUM(J33,R33,T33,BH33,BJ33,BP33,BR33,BZ33,CL33,CN33,CX33,DF33,DJ33,DV33,EF33,EH33,EJ33,EP33,EV33,FD33,FF33)","v":0},null,{"$f":"SUM(L33,N33,P33)","v":0},null,0,null,0,null,0,null,0,null,{"$f":"SUM(V33,X33,Z33,AB33,AD33,AF33,AH33,AJ33,AL33,AN33,AP33,AR33,AT33,AV33,AX33,AZ33,BB33,BD33,BF33)","v":0},null,0,null,0,null,0,null,0,null,0,null,0,null,0,null,0,null,0,null,0,null,0,null,0,null,0,null,0,null,0,null,0,null,0,null,0,null,0,null,0,null,{"$f":"SUM(BL33,BN33)","v":0},null,0,null,0,null,0,null,{"$f":"SUM(BT33,BV33,BX33)","v":0},null,0,null,0,null,0,null,{"$f":"SUM(CB33,CD33,CF33,CH33,CJ33)","v":0},null,0,null,0,null,0,null,0,null,0,null,0,null,{"$f":"SUM(CP33,CR33,CT33,CV33)","v":0},null,0,null,0,null,0,null,0,null,{"$f":"SUM(CZ33,DB33,DD33)","v":0},null,0,null,0,null,0,null,0,null,0,null,{"$f":"SUM(DL33,DN33,DP33,DR33,DT33)","v":0},null,0,null,0,null,0,null,0,null,0,null,{"$f":"SUM(DX33,DZ33,EB33,ED33)","v":0},null,0,null,0,null,0,null,0,null,0,null,0,null,{"$f":"SUM(EL33,EN33)","v":0},null,0,null,0,null,{"$f":"SUM(ER33,ET33)","v":0},null,0,null,0,null,{"$f":"SUM(EX33,EZ33,FB33)","v":0},null,0,null,0,null,0,null,0,null,0,null,{"$f":"SUM(FJ33,FL33,FN33)","v":0},null,0,null,0,null,0,null,null,null,0,null,null,null,null,null,0,null,null,null,null,null,null,null,"P23"]
[null,26,{"$f":"'PEFA rows'!B28","v":2},{"$f":"'PEFA rows'!C28","v":"P24"},{"$f":"'PEFA rows'!D28","v":"Liquid biofuels"},null,null,{"$f":"SUM(J34,R34,T34,BH34,BJ34,BP34,BR34,BZ34,CL34,CN34,CX34,DF34,DJ34,DV34,EF34,EH34,EJ34,EP34,EV34,FD34,FF34)","v":0},null,{"$f":"SUM(L34,N34,P34)","v":0},null,0,null,0,null,0,null,0,null,{"$f":"SUM(V34,X34,Z34,AB34,AD34,AF34,AH34,AJ34,AL34,AN34,AP34,AR34,AT34,AV34,AX34,AZ34,BB34,BD34,BF34)","v":0},null,0,null,0,null,0,null,0,null,0,null,0,null,0,null,0,null,0,null,0,null,0,null,0,null,0,null,0,null,0,null,0,null,0,null,0,null,0,null,0,null,{"$f":"SUM(BL34,BN34)","v":0},null,0,null,0,null,0,null,{"$f":"SUM(BT34,BV34,BX34)","v":0},null,0,null,0,null,0,null,{"$f":"SUM(CB34,CD34,CF34,CH34,CJ34)","v":0},null,0,null,0,null,0,null,0,null,0,null,0,null,{"$f":"SUM(CP34,CR34,CT34,CV34)","v":0},null,0,null,0,null,0,null,0,null,{"$f":"SUM(CZ34,DB34,DD34)","v":0},null,0,null,0,null,0,null,0,null,0,null,{"$f":"SUM(DL34,DN34,DP34,DR34,DT34)","v":0},null,0,null,0,null,0,null,0,null,0,null,{"$f":"SUM(DX34,DZ34,EB34,ED34)","v":0},null,0,null,0,null,0,null,0,null,0,null,0,null,{"$f":"SUM(EL34,EN34)","v":0},null,0,null,0,null,{"$f":"SUM(ER34,ET34)","v":0},null,0,null,0,null,{"$f":"SUM(EX34,EZ34,FB34)","v":0},null,0,null,0,null,0,null,0,null,0,null,{"$f":"SUM(FJ34,FL34,FN34)","v":0},null,0,null,0,null,0,null,null,null,0,null,null,null,null,null,0,null,null,null,null,null,null,null,"P24"]
[null,27,{"$f":"'PEFA rows'!B29","v":2},{"$f":"'PEFA rows'!C29","v":"P25"},{"$f":"'PEFA rows'!D29","v":"Biogas"},null,null,{"$f":"SUM(J35,R35,T35,BH35,BJ35,BP35,BR35,BZ35,CL35,CN35,CX35,DF35,DJ35,DV35,EF35,EH35,EJ35,EP35,EV35,FD35,FF35)","v":0},null,{"$f":"SUM(L35,N35,P35)","v":0},null,0,null,0,null,0,null,0,null,{"$f":"SUM(V35,X35,Z35,AB35,AD35,AF35,AH35,AJ35,AL35,AN35,AP35,AR35,AT35,AV35,AX35,AZ35,BB35,BD35,BF35)","v":0},null,0,null,0,null,0,null,0,null,0,null,0,null,0,null,0,null,0,null,0,null,0,null,0,null,0,null,0,null,0,null,0,null,0,null,0,null,0,null,0,null,{"$f":"SUM(BL35,BN35)","v":0},null,0,null,0,null,0,null,{"$f":"SUM(BT35,BV35,BX35)","v":0},null,0,null,0,null,0,null,{"$f":"SUM(CB35,CD35,CF35,CH35,CJ35)","v":0},null,0,null,0,null,0,null,0,null,0,null,0,null,{"$f":"SUM(CP35,CR35,CT35,CV35)","v":0},null,0,null,0,null,0,null,0,null,{"$f":"SUM(CZ35,DB35,DD35)","v":0},null,0,null,0,null,0,null,0,null,0,null,{"$f":"SUM(DL35,DN35,DP35,DR35,DT35)","v":0},null,0,null,0,null,0,null,0,null,0,null,{"$f":"SUM(DX35,DZ35,EB35,ED35)","v":0},null,0,null,0,null,0,null,0,null,0,null,0,null,{"$f":"SUM(EL35,EN35)","v":0},null,0,null,0,null,{"$f":"SUM(ER35,ET35)","v":0},null,0,null,0,null,{"$f":"SUM(EX35,EZ35,FB35)","v":0},null,0,null,0,null,0,null,0,null,0,null,{"$f":"SUM(FJ35,FL35,FN35)","v":0},null,0,null,0,null,0,null,null,null,0,null,null,null,null,null,0,null,null,null,null,null,null,null,"P25"]
[null,28,{"$f":"'PEFA rows'!B30","v":2},{"$f":"'PEFA rows'!C30","v":"P26"},{"$f":"'PEFA rows'!D30","v":"Electrical energy"},null,null,null,null,null,null,null,null,null,null,null,null,null,null,null,null,null,null,null,null,null,null,null,null,null,null,null,null,null,null,null,null,null,null,null,null,null,null,null,null,null,null,null,null,null,null,null,null,null,null,null,null,null,null,null,null,null,null,null,null,null,null,null,null,null,null,null,null,null,null,null,null,null,null,null,null,null,null,null,null,null,null,null,null,null,null,null,null,null,null,null,null,null,null,null,null,null,null,null,null,null,null,null,null,null,null,null,null,null,null,null,null,null,null,null,null,null,null,null,null,null,null,null,null,null,null,null,null,null,null,null,null,null,null,null,null,null,null,null,null,null,null,null,null,null,null,null,null,null,null,null,null,null,null,null,null,null,null,null,null,null,null,null,null,null,null,null,null,null,null,null,null,null,null,null,null,null,null,null,null,null,null,"P26"]
[null,29,{"$f":"'PEFA rows'!B31","v":2},{"$f":"'PEFA rows'!C31","v":"P27"},{"$f":"'PEFA rows'!D31","v":"Heat"},null,null,null,null,null,null,null,null,null,null,null,null,null,null,null,null,null,null,null,null,null,null,null,null,null,null,null,null,null,null,null,null,null,null,null,null,null,null,null,null,null,null,null,null,null,null,null,null,null,null,null,null,null,null,null,null,null,null,null,null,null,null,null,null,null,null,null,null,null,null,null,null,null,null,null,null,null,null,null,null,null,null,null,null,null,null,null,null,null,null,null,null,null,null,null,null,null,null,null,null,null,null,null,null,null,null,null,null,null,null,null,null,null,null,null,null,null,null,null,null,null,null,null,null,null,null,null,null,null,null,null,null,null,null,null,null,null,null,null,null,null,null,null,null,null,null,null,null,null,null,null,null,null,null,null,null,null,null,null,null,null,null,null,null,null,null,null,null,null,null,null,null,null,null,null,null,null,null,null,null,null,null,"P27"]
[null,30,{"$f":"'PEFA rows'!B32","v":1},{"$f":"'PEFA rows'!C32","v":"R00"},{"$f":"'PEFA rows'!D32","v":"ENERGY RESIDUALS"},null,null,{"$f":"SUM(H39:H42)","v":0},null,{"$f":"SUM(J39:J42)","v":0},null,{"$f":"SUM(L39:L42)","v":0},null,{"$f":"SUM(N39:N42)","v":0},null,{"$f":"SUM(P39:P42)","v":0},null,{"$f":"SUM(R39:R42)","v":0},null,{"$f":"SUM(T39:T42)","v":0},null,{"$f":"SUM(V39:V42)","v":0},null,{"$f":"SUM(X39:X42)","v":0},null,{"$f":"SUM(Z39:Z42)","v":0},null,{"$f":"SUM(AB39:AB42)","v":0},null,{"$f":"SUM(AD39:AD42)","v":0},null,{"$f":"SUM(AF39:AF42)","v":0},null,{"$f":"SUM(AH39:AH42)","v":0},null,{"$f":"SUM(AJ39:AJ42)","v":0},null,{"$f":"SUM(AL39:AL42)","v":0},null,{"$f":"SUM(AN39:AN42)","v":0},null,{"$f":"SUM(AP39:AP42)","v":0},null,{"$f":"SUM(AR39:AR42)","v":0},null,{"$f":"SUM(AT39:AT42)","v":0},null,{"$f":"SUM(AV39:AV42)","v":0},null,{"$f":"SUM(AX39:AX42)","v":0},null,{"$f":"SUM(AZ39:AZ42)","v":0},null,{"$f":"SUM(BB39:BB42)","v":0},null,{"$f":"SUM(BD39:BD42)","v":0},null,{"$f":"SUM(BF39:BF42)","v":0},null,{"$f":"SUM(BH39:BH42)","v":0},null,{"$f":"SUM(BJ39:BJ42)","v":0},null,{"$f":"SUM(BL39:BL42)","v":0},null,{"$f":"SUM(BN39:BN42)","v":0},null,{"$f":"SUM(BP39:BP42)","v":0},null,{"$f":"SUM(BR39:BR42)","v":0},null,{"$f":"SUM(BT39:BT42)","v":0},null,{"$f":"SUM(BV39:BV42)","v":0},null,{"$f":"SUM(BX39:BX42)","v":0},null,{"$f":"SUM(BZ39:BZ42)","v":0},null,{"$f":"SUM(CB39:CB42)","v":0},null,{"$f":"SUM(CD39:CD42)","v":0},null,{"$f":"SUM(CF39:CF42)","v":0},null,{"$f":"SUM(CH39:CH42)","v":0},null,{"$f":"SUM(CJ39:CJ42)","v":0},null,{"$f":"SUM(CL39:CL42)","v":0},null,{"$f":"SUM(CN39:CN42)","v":0},null,{"$f":"SUM(CP39:CP42)","v":0},null,{"$f":"SUM(CR39:CR42)","v":0},null,{"$f":"SUM(CT39:CT42)","v":0},null,{"$f":"SUM(CV39:CV42)","v":0},null,{"$f":"SUM(CX39:CX42)","v":0},null,{"$f":"SUM(CZ39:CZ42)","v":0},null,{"$f":"SUM(DB39:DB42)","v":0},null,{"$f":"SUM(DD39:DD42)","v":0},null,{"$f":"SUM(DF39:DF42)","v":0},null,{"$f":"SUM(DH39:DH42)","v":0},null,{"$f":"SUM(DJ39:DJ42)","v":0},null,{"$f":"SUM(DL39:DL42)","v":0},null,{"$f":"SUM(DN39:DN42)","v":0},null,{"$f":"SUM(DP39:DP42)","v":0},null,{"$f":"SUM(DR39:DR42)","v":0},null,{"$f":"SUM(DT39:DT42)","v":0},null,{"$f":"SUM(DV39:DV42)","v":0},null,{"$f":"SUM(DX39:DX42)","v":0},null,{"$f":"SUM(DZ39:DZ42)","v":0},null,{"$f":"SUM(EB39:EB42)","v":0},null,{"$f":"SUM(ED39:ED42)","v":0},null,{"$f":"SUM(EF39:EF42)","v":0},null,{"$f":"SUM(EH39:EH42)","v":0},null,{"$f":"SUM(EJ39:EJ42)","v":0},null,{"$f":"SUM(EL39:EL42)","v":0},null,{"$f":"SUM(EN39:EN42)","v":0},null,{"$f":"SUM(EP39:EP42)","v":0},null,{"$f":"SUM(ER39:ER42)","v":0},null,{"$f":"SUM(ET39:ET42)","v":0},null,{"$f":"SUM(EV39:EV42)","v":0},null,{"$f":"SUM(EX39:EX42)","v":0},null,{"$f":"SUM(EZ39:EZ42)","v":0},null,{"$f":"SUM(FB39:FB42)","v":0},null,{"$f":"SUM(FD39:FD42)","v":0},null,{"$f":"SUM(FF39:FF42)","v":0},null,{"$f":"SUM(FH39:FH42)","v":0},null,{"$f":"SUM(FJ39:FJ42)","v":0},null,{"$f":"SUM(FL39:FL42)","v":0},null,{"$f":"SUM(FN39:FN42)","v":0},null,null,null,{"$f":"SUM(FR39:FR42)","v":0},null,null,null,null,null,{"$f":"SUM(FX39:FX42)","v":0},null,null,null,null,null,null,null,"R00"]
[null,31,{"$f":"'PEFA rows'!B33","v":2},{"$f":"'PEFA rows'!C33","v":"R28"},{"$f":"'PEFA rows'!D33","v":"Renewable waste"},null,null,{"$f":"SUM(J39,R39,T39,BH39,BJ39,BP39,BR39,BZ39,CL39,CN39,CX39,DF39,DJ39,DV39,EF39,EH39,EJ39,EP39,EV39,FD39,FF39)","v":0},null,{"$f":"SUM(L39,N39,P39)","v":0},null,0,null,0,null,0,null,0,null,{"$f":"SUM(V39,X39,Z39,AB39,AD39,AF39,AH39,AJ39,AL39,AN39,AP39,AR39,AT39,AV39,AX39,AZ39,BB39,BD39,BF39)","v":0},null,0,null,0,null,0,null,0,null,0,null,0,null,0,null,0,null,0,null,0,null,0,null,0,null,0,null,0,null,0,null,0,null,0,null,0,null,0,null,0,null,{"$f":"SUM(BL39,BN39)","v":0},null,0,null,0,null,0,null,{"$f":"SUM(BT39,BV39,BX39)","v":0},null,0,null,0,null,0,null,{"$f":"SUM(CB39,CD39,CF39,CH39,CJ39)","v":0},null,0,null,0,null,0,null,0,null,0,null,0,null,{"$f":"SUM(CP39,CR39,CT39,CV39)","v":0},null,0,null,0,null,0,null,0,null,{"$f":"SUM(CZ39,DB39,DD39)","v":0},null,0,null,0,null,0,null,0,null,0,null,{"$f":"SUM(DL39,DN39,DP39,DR39,DT39)","v":0},null,0,null,0,null,0,null,0,null,0,null,{"$f":"SUM(DX39,DZ39,EB39,ED39)","v":0},null,0,null,0,null,0,null,0,null,0,null,0,null,{"$f":"SUM(EL39,EN39)","v":0},null,0,null,0,null,{"$f":"SUM(ER39,ET39)","v":0},null,0,null,0,null,{"$f":"SUM(EX39,EZ39,FB39)","v":0},null,0,null,0,null,0,null,0,null,0,null,{"$f":"SUM(FJ39,FL39,FN39)","v":0},null,0,null,0,null,0,null,null,null,0,null,null,null,null,null,{"$f":"SUM(H39,FH39,FP39,FR39,FT39,FV39)","v":0},null,null,null,null,null,null,null,"R28"]
[null,32,{"$f":"'PEFA rows'!B34","v":2},{"$f":"'PEFA rows'!C34","v":"R29"},{"$f":"'PEFA rows'!D34","v":"Non-renewable waste"},null,null,{"$f":"SUM(J40,R40,T40,BH40,BJ40,BP40,BR40,BZ40,CL40,CN40,CX40,DF40,DJ40,DV40,EF40,EH40,EJ40,EP40,EV40,FD40,FF40)","v":0},null,{"$f":"SUM(L40,N40,P40)","v":0},null,0,null,0,null,0,null,0,null,{"$f":"SUM(V40,X40,Z40,AB40,AD40,AF40,AH40,AJ40,AL40,AN40,AP40,AR40,AT40,AV40,AX40,AZ40,BB40,BD40,BF40)","v":0},null,0,null,0,null,0,null,0,null,0,null,0,null,0,null,0,null,0,null,0,null,0,null,0,null,0,null,0,null,0,null,0,null,0,null,0,null,0,null,0,null,{"$f":"SUM(BL40,BN40)","v":0},null,0,null,0,null,0,null,{"$f":"SUM(BT40,BV40,BX40)","v":0},null,0,null,0,null,0,null,{"$f":"SUM(CB40,CD40,CF40,CH40,CJ40)","v":0},null,0,null,0,null,0,null,0,null,0,null,0,null,{"$f":"SUM(CP40,CR40,CT40,CV40)","v":0},null,0,null,0,null,0,null,0,null,{"$f":"SUM(CZ40,DB40,DD40)","v":0},null,0,null,0,null,0,null,0,null,0,null,{"$f":"SUM(DL40,DN40,DP40,DR40,DT40)","v":0},null,0,null,0,null,0,null,0,null,0,null,{"$f":"SUM(DX40,DZ40,EB40,ED40)","v":0},null,0,null,0,null,0,null,0,null,0,null,0,null,{"$f":"SUM(EL40,EN40)","v":0},null,0,null,0,null,{"$f":"SUM(ER40,ET40)","v":0},null,0,null,0,null,{"$f":"SUM(EX40,EZ40,FB40)","v":0},null,0,null,0,null,0,null,0,null,0,null,{"$f":"SUM(FJ40,FL40,FN40)","v":0},null,0,null,0,null,0,null,null,null,0,null,null,null,null,null,{"$f":"SUM(H40,FH40,FP40,FR40,FT40,FV40)","v":0},null,null,null,null,null,null,null,"R29"]
[null,33,{"$f":"'PEFA rows'!B35","v":2},{"$f":"'PEFA rows'!C35","v":"R30"},{"$f":"'PEFA rows'!D35","v":"Energy losses all kinds of (during extraction, distribution, storage and transformation, and dissipative heat from end use)"},null,null,null,null,null,null,null,null,null,null,null,null,null,null,null,null,null,null,null,null,null,null,null,null,null,null,null,null,null,null,null,null,null,null,null,null,null,null,null,null,null,null,null,null,null,null,null,null,null,null,null,null,null,null,null,null,null,null,null,null,null,null,null,null,null,null,null,null,null,null,null,null,null,null,null,null,null,null,null,null,null,null,null,null,null,null,null,null,null,null,null,null,null,null,null,null,null,null,null,null,null,null,null,null,null,null,null,null,null,null,null,null,null,null,null,null,null,null,null,null,null,null,null,null,null,null,null,null,null,null,null,null,null,null,null,null,null,null,null,null,null,null,null,null,null,null,null,null,null,null,null,null,null,null,null,null,null,null,null,null,null,null,null,null,null,null,null,null,null,null,null,null,null,null,null,null,null,null,null,null,null,null,"R30"]
[null,34,{"$f":"'PEFA rows'!B36","v":2},{"$f":"'PEFA rows'!C36","v":"R31"},{"$f":"'PEFA rows'!D36","v":"Energy incorporated in products for non-energy use"},null,null,null,null,null,null,null,null,null,null,null,null,null,null,null,null,null,null,null,null,null,null,null,null,null,null,null,null,null,null,null,null,null,null,null,null,null,null,null,null,null,null,null,null,null,null,null,null,null,null,null,null,null,null,null,null,null,null,null,null,null,null,null,null,null,null,null,null,null,null,null,null,null,null,null,null,null,null,null,null,null,null,null,null,null,null,null,null,null,null,null,null,null,null,null,null,null,null,null,null,null,null,null,null,null,null,null,null,null,null,null,null,null,null,null,null,null,null,null,null,null,null,null,null,null,null,null,null,null,null,null,null,null,null,null,null,null,null,null,null,null,null,null,null,null,null,null,null,null,null,null,null,null,null,null,null,null,null,null,null,null,null,null,null,null,null,null,null,null,null,null,null,null,null,null,null,null,null,null,null,null,null,"R31"]
[null,35,{"$f":"'PEFA rows'!B37","v":1},{"$f":"'PEFA rows'!C37","v":"STADIF"},{"$f":"'PEFA rows'!D37","v":"Statistical Differences"},null,null,null,null,null,null,null,null,null,null,null,null,null,null,null,null,null,null,null,null,null,null,null,null,null,null,null,null,null,null,null,null,null,null,null,null,null,null,null,null,null,null,null,null,null,null,null,null,null,null,null,null,null,null,null,null,null,null,null,null,null,null,null,null,null,null,null,null,null,null,null,null,null,null,null,null,null,null,null,null,null,null,null,null,null,null,null,null,null,null,null,null,null,null,null,null,null,null,null,null,null,null,null,null,null,null,null,null,null,null,null,null,null,null,null,null,null,null,null,null,null,null,null,null,null,null,null,null,null,null,null,null,null,null,null,null,null,null,null,null,null,null,null,null,null,null,null,null,null,null,null,null,null,null,null,null,null,null,null,null,null,null,null,null,null,null,null,null,null,null,null,null,null,null,null,null,null,null,null,null,null,null,"SD_IO"]
[null,36,{"$f":"'PEFA rows'!B38","v":0},{"$f":"'PEFA rows'!C38","v":"NPR"},"TOTAL USE",null,null,{"$f":"SUM(H9,H17,H38,H43)","v":0},null,{"$f":"SUM(J9,J17,J38,J43)","v":0},null,{"$f":"SUM(L9,L17,L38,L43)","v":0},null,{"$f":"SUM(N9,N17,N38,N43)","v":0},null,{"$f":"SUM(P9,P17,P38,P43)","v":0},null,{"$f":"SUM(R9,R17,R38,R43)","v":0},null,{"$f":"SUM(T9,T17,T38,T43)","v":0},null,{"$f":"SUM(V9,V17,V38,V43)","v":0},null,{"$f":"SUM(X9,X17,X38,X43)","v":0},null,{"$f":"SUM(Z9,Z17,Z38,Z43)","v":0},null,{"$f":"SUM(AB9,AB17,AB38,AB43)","v":0},null,{"$f":"SUM(AD9,AD17,AD38,AD43)","v":0},null,{"$f":"SUM(AF9,AF17,AF38,AF43)","v":0},null,{"$f":"SUM(AH9,AH17,AH38,AH43)","v":0},null,{"$f":"SUM(AJ9,AJ17,AJ38,AJ43)","v":0},null,{"$f":"SUM(AL9,AL17,AL38,AL43)","v":0},null,{"$f":"SUM(AN9,AN17,AN38,AN43)","v":0},null,{"$f":"SUM(AP9,AP17,AP38,AP43)","v":0},null,{"$f":"SUM(AR9,AR17,AR38,AR43)","v":0},null,{"$f":"SUM(AT9,AT17,AT38,AT43)","v":0},null,{"$f":"SUM(AV9,AV17,AV38,AV43)","v":0},null,{"$f":"SUM(AX9,AX17,AX38,AX43)","v":0},null,{"$f":"SUM(AZ9,AZ17,AZ38,AZ43)","v":0},null,{"$f":"SUM(BB9,BB17,BB38,BB43)","v":0},null,{"$f":"SUM(BD9,BD17,BD38,BD43)","v":0},null,{"$f":"SUM(BF9,BF17,BF38,BF43)","v":0},null,{"$f":"SUM(BH9,BH17,BH38,BH43)","v":0},null,{"$f":"SUM(BJ9,BJ17,BJ38,BJ43)","v":0},null,{"$f":"SUM(BL9,BL17,BL38,BL43)","v":0},null,{"$f":"SUM(BN9,BN17,BN38,BN43)","v":0},null,{"$f":"SUM(BP9,BP17,BP38,BP43)","v":0},null,{"$f":"SUM(BR9,BR17,BR38,BR43)","v":0},null,{"$f":"SUM(BT9,BT17,BT38,BT43)","v":0},null,{"$f":"SUM(BV9,BV17,BV38,BV43)","v":0},null,{"$f":"SUM(BX9,BX17,BX38,BX43)","v":0},null,{"$f":"SUM(BZ9,BZ17,BZ38,BZ43)","v":0},null,{"$f":"SUM(CB9,CB17,CB38,CB43)","v":0},null,{"$f":"SUM(CD9,CD17,CD38,CD43)","v":0},null,{"$f":"SUM(CF9,CF17,CF38,CF43)","v":0},null,{"$f":"SUM(CH9,CH17,CH38,CH43)","v":0},null,{"$f":"SUM(CJ9,CJ17,CJ38,CJ43)","v":0},null,{"$f":"SUM(CL9,CL17,CL38,CL43)","v":0},null,{"$f":"SUM(CN9,CN17,CN38,CN43)","v":0},null,{"$f":"SUM(CP9,CP17,CP38,CP43)","v":0},null,{"$f":"SUM(CR9,CR17,CR38,CR43)","v":0},null,{"$f":"SUM(CT9,CT17,CT38,CT43)","v":0},null,{"$f":"SUM(CV9,CV17,CV38,CV43)","v":0},null,{"$f":"SUM(CX9,CX17,CX38,CX43)","v":0},null,{"$f":"SUM(CZ9,CZ17,CZ38,CZ43)","v":0},null,{"$f":"SUM(DB9,DB17,DB38,DB43)","v":0},null,{"$f":"SUM(DD9,DD17,DD38,DD43)","v":0},null,{"$f":"SUM(DF9,DF17,DF38,DF43)","v":0},null,{"$f":"SUM(DH9,DH17,DH38,DH43)","v":0},null,{"$f":"SUM(DJ9,DJ17,DJ38,DJ43)","v":0},null,{"$f":"SUM(DL9,DL17,DL38,DL43)","v":0},null,{"$f":"SUM(DN9,DN17,DN38,DN43)","v":0},null,{"$f":"SUM(DP9,DP17,DP38,DP43)","v":0},null,{"$f":"SUM(DR9,DR17,DR38,DR43)","v":0},null,{"$f":"SUM(DT9,DT17,DT38,DT43)","v":0},null,{"$f":"SUM(DV9,DV17,DV38,DV43)","v":0},null,{"$f":"SUM(DX9,DX17,DX38,DX43)","v":0},null,{"$f":"SUM(DZ9,DZ17,DZ38,DZ43)","v":0},null,{"$f":"SUM(EB9,EB17,EB38,EB43)","v":0},null,{"$f":"SUM(ED9,ED17,ED38,ED43)","v":0},null,{"$f":"SUM(EF9,EF17,EF38,EF43)","v":0},null,{"$f":"SUM(EH9,EH17,EH38,EH43)","v":0},null,{"$f":"SUM(EJ9,EJ17,EJ38,EJ43)","v":0},null,{"$f":"SUM(EL9,EL17,EL38,EL43)","v":0},null,{"$f":"SUM(EN9,EN17,EN38,EN43)","v":0},null,{"$f":"SUM(EP9,EP17,EP38,EP43)","v":0},null,{"$f":"SUM(ER9,ER17,ER38,ER43)","v":0},null,{"$f":"SUM(ET9,ET17,ET38,ET43)","v":0},null,{"$f":"SUM(EV9,EV17,EV38,EV43)","v":0},null,{"$f":"SUM(EX9,EX17,EX38,EX43)","v":0},null,{"$f":"SUM(EZ9,EZ17,EZ38,EZ43)","v":0},null,{"$f":"SUM(FB9,FB17,FB38,FB43)","v":0},null,{"$f":"SUM(FD9,FD17,FD38,FD43)","v":0},null,{"$f":"SUM(FF9,FF17,FF38,FF43)","v":0},null,{"$f":"SUM(FH9,FH17,FH38,FH43)","v":0},null,{"$f":"SUM(FJ9,FJ17,FJ38,FJ43)","v":0},null,{"$f":"SUM(FL9,FL17,FL38,FL43)","v":0},null,{"$f":"SUM(FN9,FN17,FN38,FN43)","v":0},null,null,null,{"$f":"SUM(FR9,FR17,FR38,FR43)","v":0},null,null,null,null,null,{"$f":"SUM(FX9,FX17,FX38,FX43)","v":0},null,null,null,null,null,null,null,"N00_P00_R00"]
[]
[]
[]
[]
[]
[null,null,null,null,"NACE_R2",null,null,"TOTAL",null,"A",null,"A01",null,"A02",null,"A03",null,"B",null,"C",null,"C10-C12",null,"C13-C15",null,"C16",null,"C17",null,"C18",null,"C19",null,"C20",null,"C21",null,"C22",null,"C23",null,"C24",null,"C25",null,"C26",null,"C27",null,"C28",null,"C29",null,"C30",null,"C31_C32",null,"C33",null,"D",null,"E",null,"E36",null,"E37-E39",null,"F",null,"G",null,"G45",null,"G46",null,"G47",null,"H",null,"H49",null,"H50",null,"H51",null,"H52",null,"H53",null,"I",null,"J",null,"J58",null,"J59_J60",null,"J61",null,"J62_J63",null,"K",null,"K64",null,"K65",null,"K66",null,"L",null,"L68A",null,"M",null,"M69_M70",null,"M71",null,"M72",null,"M73",null,"M74_M75",null,"N",null,"N77",null,"N78",null,"N79",null,"N80-N82",null,"O",null,"P",null,"Q",null,"Q86",null,"Q87_Q88",null,"R",null,"R90-R92",null,"R93",null,"S",null,"S94",null,"S95",null,"S96",null,"T",null,"U",null,"HH",null,"HH_HEAT",null,"HH_TRA",null,"HH_OTH",null,"CH_INV_PA",null,"SD_SU",null,"ROW_ACT",null,"ENV",null,"NRG_FLOW"]

{"sheet":"Table_D","index":17,"n_rows":32,"n_cols":180,"rows_kept":32,"cut":false,"hidden":false,"merged":[[18,4,18,5],[19,4,19,5],[20,4,20,5],[5,155,6,156],[5,157,6,158],[5,135,6,136],[5,137,6,138],[5,139,6,140],[5,141,6,142],[5,143,6,144],[5,145,6,146],[5,123,6,124],[5,125,6,126],[5,127,6,128],[5,129,6,130],[5,91,6,92],[5,93,6,94],[5,95,6,96],[5,97,6,98],[5,75,6,76],[5,77,6,78],[5,79,6,80],[5,81,6,82],[5,83,6,84],[21,4,21,5],[22,4,22,5],[1,175,1,176],[2,175,2,176],[3,175,3,176],[4,175,4,176],[5,175,6,176],[5,105,6,106],[5,107,6,108],[5,109,6,110],[5,87,6,88],[5,89,6,90],[5,173,6,174],[6,1,6,4],[5,159,6,160],[5,161,6,162],[5,163,6,164],[5,165,6,166],[5,167,6,168],[5,169,6,170],[5,147,6,148],[5,149,6,150],[5,151,6,152],[5,153,6,154],[1,177,1,178],[2,177,2,178],[3,177,3,178],[4,177,4,178],[5,177,6,178],[10,4,10,5],[11,4,11,5],[12,4,12,5],[13,4,13,5],[8,4,8,5],[9,4,9,5],[7,4,7,6],[5,171,6,172],[5,131,6,132],[5,133,6,134],[5,111,6,112],[5,113,6,114],[5,115,6,116],[5,117,6,118],[5,119,6,120],[5,121,6,122],[5,99,6,100],[5,101,6,102],[5,103,6,104],[5,85,6,86],[5,63,6,64],[5,65,6,66],[5,67,6,68],[5,69,6,70],[5,71,6,72],[5,73,6,74],[5,51,6,52],[5,53,6,54],[5,55,6,56],[5,57,6,58],[5,59,6,60],[5,61,6,62],[5,39,6,40],[5,41,6,42],[5,43,6,44],[5,45,6,46],[5,47,6,48],[5,49,6,50],[5,27,6,28],[5,29,6,30],[5,31,6,32],[5,33,6,34],[5,35,6,36],[5,37,6,38],[5,15,6,16],[5,17,6,18],[5,19,6,20],[5,21,6,22],[5,23,6,24],[5,25,6,26],[5,1,5,3],[5,5,6,6],[5,7,6,8],[5,9,6,10],[5,11,6,12],[5,13,6,14],[4,173,4,174],[4,157,4,158],[4,159,4,160],[4,161,4,162],[4,163,4,164],[4,165,4,166],[4,167,4,168],[4,149,4,150],[4,151,4,152],[4,153,4,154],[4,155,4,156],[4,169,4,170],[4,171,4,172],[4,141,4,142],[4,143,4,144],[4,145,4,146],[4,147,4,148],[4,125,4,126],[4,127,4,128],[4,129,4,130],[4,131,4,132],[4,133,4,134],[4,135,4,136],[4,123,4,124],[4,101,4,102],[4,103,4,104],[4,105,4,106],[4,107,4,108],[4,109,4,110],[4,111,4,112],[4,137,4,138],[4,139,4,140],[4,87,4,88],[4,75,4,76],[4,53,4,54],[4,55,4,56],[4,113,4,114],[4,115,4,116],[4,117,4,118],[4,119,4,120],[4,121,4,122],[4,21,4,22],[4,23,4,24],[4,25,4,26],[4,27,4,28],[4,93,4,94],[4,95,4,96],[4,97,4,98],[4,99,4,100],[4,89,4,90],[4,91,4,92],[4,33,4,34],[4,35,4,36],[4,37,4,38],[4,39,4,40],[4,65,4,66],[4,67,4,68],[4,69,4,70],[4,71,4,72],[4,73,4,74],[4,77,4,78],[4,79,4,80],[4,81,4,82],[4,83,4,84],[4,85,4,86],[3,1,3,3],[3,5,3,6],[3,173,3,174],[4,1,4,3],[4,5,4,6],[4,7,4,8],[4,9,4,10],[4,11,4,12],[4,13,4,14],[4,15,4,16],[4,41,4,42],[4,43,4,44],[4,45,4,46],[4,47,4,48],[4,49,4,50],[4,51,4,52],[4,29,4,30],[4,31,4,32],[4,57,4,58],[4,59,4,60],[4,61,4,62],[4,63,4,64],[4,17,4,18],[4,19,4,20],[2,171,2,172],[2,173,2,174],[2,157,2,158],[2,159,2,160],[2,161,2,162],[2,163,2,164],[2,165,2,166],[2,167,2,168],[2,147,2,148],[2,149,2,150],[2,151,2,152],[2,153,2,154],[2,155,2,156],[2,169,2,170],[2,135,2,136],[2,137,2,138],[2,139,2,140],[2,141,2,142],[2,143,2,144],[2,145,2,146],[2,123,2,124],[2,125,2,126],[2,127,2,128],[2,129,2,130],[2,131,2,132],[2,133,2,134],[2,111,2,112],[2,113,2,114],[2,115,2,116],[2,117,2,118],[2,119,2,120],[2,121,2,122],[2,99,2,100],[2,101,2,102],[2,103,2,104],[2,105,2,106],[2,107,2,108],[2,109,2,110],[2,87,2,88],[2,89,2,90],[2,91,2,92],[2,93,2,94],[2,95,2,96],[2,97,2,98],[2,75,2,76],[2,77,2,78],[2,79,2,80],[2,81,2,82],[2,83,2,84],[2,85,2,86],[2,63,2,64],[2,65,2,66],[2,67,2,68],[2,69,2,70],[2,71,2,72],[2,73,2,74],[2,51,2,52],[2,53,2,54],[2,55,2,56],[2,57,2,58],[2,59,2,60],[2,61,2,62],[2,39,2,40],[2,41,2,42],[2,43,2,44],[2,45,2,46],[2,47,2,48],[2,49,2,50],[2,27,2,28],[2,29,2,30],[2,31,2,32],[2,33,2,34],[2,35,2,36],[2,37,2,38],[2,15,2,16],[2,17,2,18],[2,19,2,20],[2,21,2,22],[2,23,2,24],[2,25,2,26],[1,171,1,172],[1,173,1,174],[2,1,2,3],[2,5,2,6],[2,7,2,8],[2,9,2,10],[2,11,2,12],[1,159,1,160],[1,161,1,162],[2,13,2,14],[1,163,1,164],[1,165,1,166],[1,167,1,168],[1,169,1,170],[1,147,1,148],[1,149,1,150],[1,151,1,152],[1,153,1,154],[1,155,1,156],[1,157,1,158],[1,135,1,136],[1,137,1,138],[1,139,1,140],[1,141,1,142],[1,143,1,144],[1,145,1,146],[1,123,1,124],[1,125,1,126],[1,127,1,128],[1,129,1,130],[1,131,1,132],[1,133,1,134],[1,111,1,112],[1,113,1,114],[1,115,1,116],[1,117,1,118],[1,119,1,120],[1,121,1,122],[1,99,1,100],[1,101,1,102],[1,103,1,104],[1,105,1,106],[1,107,1,108],[1,109,1,110],[1,87,1,88],[1,89,1,90],[1,91,1,92],[1,93,1,94],[1,95,1,96],[1,97,1,98],[1,75,1,76],[1,77,1,78],[1,79,1,80],[1,81,1,82],[1,83,1,84],[1,85,1,86],[1,65,1,66],[1,67,1,68],[1,69,1,70],[1,71,1,72],[1,73,1,74],[1,51,1,52],[1,53,1,54],[1,55,1,56],[1,57,1,58],[1,59,1,60],[1,61,1,62],[1,47,1,48],[1,49,1,50],[1,27,1,28],[1,29,1,30],[1,31,1,32],[1,33,1,34],[1,35,1,36],[1,37,1,38],[1,63,1,64],[14,4,14,5],[15,4,15,5],[16,4,16,5],[17,4,17,5],[5,179,6,180],[1,1,1,3],[1,5,1,6],[1,7,1,8],[1,9,1,10],[1,11,1,12],[1,13,1,14],[1,15,1,16],[1,17,1,18],[1,19,1,20],[1,21,1,22],[1,23,1,24],[1,25,1,26],[1,179,1,180],[2,179,2,180],[4,179,4,180],[1,39,1,40],[1,41,1,42],[1,43,1,44],[1,45,1,46],[23,4,23,5],[24,4,24,5],[25,4,25,5],[26,4,26,5],[27,4,27,5],[28,4,28,5],[29,4,29,5],[30,4,30,5],[31,4,31,5]]}
["DATAENTRY"]
[null,"Country :",null,null,{"$f":"IF(intro!D12=\"\",\"\",intro!D12)","v":""},"no",null,1,null,{"$f":"H2+1","v":2},null,{"$f":"J2+1","v":3},null,{"$f":"L2+1","v":4},null,{"$f":"N2+1","v":5},null,{"$f":"P2+1","v":6},null,{"$f":"R2+1","v":7},null,{"$f":"T2+1","v":8},null,{"$f":"V2+1","v":9},null,{"$f":"X2+1","v":10},null,{"$f":"Z2+1","v":11},null,{"$f":"AB2+1","v":12},null,{"$f":"AD2+1","v":13},null,{"$f":"AF2+1","v":14},null,{"$f":"AH2+1","v":15},null,{"$f":"AJ2+1","v":16},null,{"$f":"AL2+1","v":17},null,{"$f":"AN2+1","v":18},null,{"$f":"AP2+1","v":19},null,{"$f":"AR2+1","v":20},null,{"$f":"AT2+1","v":21},null,{"$f":"AV2+1","v":22},null,{"$f":"AX2+1","v":23},null,{"$f":"AZ2+1","v":24},null,{"$f":"BB2+1","v":25},null,{"$f":"BD2+1","v":26},null,{"$f":"BF2+1","v":27},null,{"$f":"BH2+1","v":28},null,{"$f":"BJ2+1","v":29},null,{"$f":"BL2+1","v":30},null,{"$f":"BN2+1","v":31},null,{"$f":"BP2+1","v":32},null,{"$f":"BR2+1","v":33},null,{"$f":"BT2+1","v":34},null,{"$f":"BV2+1","v":35},null,{"$f":"BX2+1","v":36},null,{"$f":"BZ2+1","v":37},null,{"$f":"CB2+1","v":38},null,{"$f":"CD2+1","v":39},null,{"$f":"CF2+1","v":40},null,{"$f":"CH2+1","v":41},null,{"$f":"CJ2+1","v":42},null,{"$f":"CL2+1","v":43},null,{"$f":"CN2+1","v":44},null,{"$f":"CP2+1","v":45},null,{"$f":"CR2+1","v":46},null,{"$f":"CT2+1","v":47},null,{"$f":"CV2+1","v":48},null,{"$f":"CX2+1","v":49},null,{"$f":"CZ2+1","v":50},null,{"$f":"DB2+1","v":51},null,{"$f":"DD2+1","v":52},null,{"$f":"DF2+1","v":53},null,{"$f":"DH2+1","v":54},null,{"$f":"DJ2+1","v":55},null,{"$f":"DL2+1","v":56},null,{"$f":"DN2+1","v":57},null,{"$f":"DP2+1","v":58},null,{"$f":"DR2+1","v":59},null,{"$f":"DT2+1","v":60},null,{"$f":"DV2+1","v":61},null,{"$f":"DX2+1","v":62},null,{"$f":"DZ2+1","v":63},null,{"$f":"EB2+1","v":64},null,{"$f":"ED2+1","v":65},null,{"$f":"EF2+1","v":66},null,{"$f":"EH2+1","v":67},null,{"$f":"EJ2+1","v":68},null,{"$f":"EL2+1","v":69},null,{"$f":"EN2+1","v":70},null,{"$f":"EP2+1","v":71},null,{"$f":"ER2+1","v":72},null,{"$f":"ET2+1","v":73},null,{"$f":"EV2+1","v":74},null,{"$f":"EX2+1","v":75},null,{"$f":"EZ2+1","v":76},null,{"$f":"FB2+1","v":77},null,{"$f":"FD2+1","v":78},null,{"$f":"FF2+1","v":79},null,{"$f":"FH2+1","v":80},null,{"$f":"FJ2+1","v":81},null,{"$f":"FL2+1","v":82},null,{"$f":"FN2+1","v":83},null,{"$f":"FP2+1","v":84},null,{"$f":"FR2+1","v":85},null,{"$f":"FT2+1","v":86},null,{"$f":"FV2+1","v":87}]
[null,"Year :",null,null,{"$f":"IF(intro!E14=\"\",\"\",intro!E14)","v":""},"Level",null,{"$f":"'PEFA Columns'!D6","v":1},null,{"$f":"'PEFA Columns'!F6","v":2},null,{"$f":"'PEFA Columns'!H6","v":3},null,{"$f":"'PEFA Columns'!J6","v":3},null,{"$f":"'PEFA Columns'!L6","v":3},null,{"$f":"'PEFA Columns'!N6","v":2},null,{"$f":"'PEFA Columns'!P6","v":2},null,{"$f":"'PEFA Columns'!R6","v":3},null,{"$f":"'PEFA Columns'!T6","v":3},null,{"$f":"'PEFA Columns'!V6","v":3},null,{"$f":"'PEFA Columns'!X6","v":3},null,{"$f":"'PEFA Columns'!Z6","v":3},null,{"$f":"'PEFA Columns'!AB6","v":3},null,{"$f":"'PEFA Columns'!AD6","v":3},null,{"$f":"'PEFA Columns'!AF6","v":3},null,{"$f":"'PEFA Columns'!AH6","v":3},null,{"$f":"'PEFA Columns'!AJ6","v":3},null,{"$f":"'PEFA Columns'!AL6","v":3},null,{"$f":"'PEFA Columns'!AN6","v":3},null,{"$f":"'PEFA Columns'!AP6","v":3},null,{"$f":"'PEFA Columns'!AR6","v":3},null,{"$f":"'PEFA Columns'!AT6","v":3},null,{"$f":"'PEFA Columns'!AV6","v":3},null,{"$f":"'PEFA Columns'!AX6","v":3},null,{"$f":"'PEFA Columns'!AZ6","v":3},null,{"$f":"'PEFA Columns'!BB6","v":3},null,{"$f":"'PEFA Columns'!BD6","v":2},null,{"$f":"'PEFA Columns'!BF6","v":2},null,{"$f":"'PEFA Columns'!BH6","v":3},null,{"$f":"'PEFA Columns'!BJ6","v":3},null,{"$f":"'PEFA Columns'!BL6","v":2},null,{"$f":"'PEFA Columns'!BN6","v":2},null,{"$f":"'PEFA Columns'!BP6","v":3},null,{"$f":"'PEFA Columns'!BR6","v":3},null,{"$f":"'PEFA Columns'!BT6","v":3},null,{"$f":"'PEFA Columns'!BV6","v":2},null,{"$f":"'PEFA Columns'!BX6","v":3},null,{"$f":"'PEFA Columns'!BZ6","v":3},null,{"$f":"'PEFA Columns'!CB6","v":3},null,{"$f":"'PEFA Columns'!CD6","v":3},null,{"$f":"'PEFA Columns'!CF6","v":3},null,{"$f":"'PEFA Columns'!CH6","v":2},null,{"$f":"'PEFA Columns'!CJ6","v":2},null,{"$f":"'PEFA Columns'!CL6","v":3},null,{"$f":"'PEFA Columns'!CN6","v":3},null,{"$f":"'PEFA Columns'!CP6","v":3},null,{"$f":"'PEFA Columns'!CR6","v":3},null,{"$f":"'PEFA Columns'!CT6","v":2},null,{"$f":"'PEFA Columns'!CV6","v":3},null,{"$f":"'PEFA Columns'!CX6","v":3},null,{"$f":"'PEFA Columns'!CZ6","v":3},null,{"$f":"'PEFA Columns'!DB6","v":2},null,{"$f":"'PEFA Columns'!DD6","v":3},null,{"$f":"'PEFA Columns'!DF6","v":2},null,{"$f":"'PEFA Columns'!DH6","v":3},null,{"$f":"'PEFA Columns'!DJ6","v":3},null,{"$f":"'PEFA Columns'!DL6","v":3},null,{"$f":"'PEFA Columns'!DN6","v":3},null,{"$f":"'PEFA Columns'!DP6","v":3},null,{"$f":"'PEFA Columns'!DR6","v":2},null,{"$f":"'PEFA Columns'!DT6","v":3},null,{"$f":"'PEFA Columns'!DV6","v":3},null,{"$f":"'PEFA Columns'!DX6","v":3},null,{"$f":"'PEFA Columns'!DZ6","v":3},null,{"$f":"'PEFA Columns'!EB6","v":2},null,{"$f":"'PEFA Columns'!ED6","v":2},null,{"$f":"'PEFA Columns'!EF6","v":2},null,{"$f":"'PEFA Columns'!EH6","v":3},null,{"$f":"'PEFA Columns'!EJ6","v":3},null,{"$f":"'PEFA Columns'!EL6","v":2},null,{"$f":"'PEFA Columns'!EN6","v":3},null,{"$f":"'PEFA Columns'!EP6","v":3},null,{"$f":"'PEFA Columns'!ER6","v":2},null,{"$f":"'PEFA Columns'!ET6","v":3},null,{"$f":"'PEFA Columns'!EV6","v":3},null,{"$f":"'PEFA Columns'!EX6","v":3},null,{"$f":"'PEFA Columns'!EZ6","v":2},null,{"$f":"'PEFA Columns'!FB6","v":2},null,{"$f":"'PEFA Columns'!FD6","v":1},null,{"$f":"'PEFA Columns'!FF6","v":2},null,{"$f":"'PEFA Columns'!FH6","v":2},null,{"$f":"'PEFA Columns'!FJ6","v":2},null,{"$f":"'PEFA Columns'!FL6","v":1},null,{"$f":"'PEFA Columns'!FN6","v":1},null,{"$f":"'PEFA Columns'!FP2","v":1},null,{"$f":"'PEFA Columns'!FR6","v":1},null,{"$f":"'PEFA Columns'!FT6","v":0}]
[null,"Number and Type:",null,null,"Table D - Vectors of key energy indicators",null,null," ",null,null,null,null,null,null,null,null,null,null,null,null,null,"INDUSTRIES (NACE rev 2)",null,null,null,null,null,null,null,null,null,null,null,null,null,null,null,"INDUSTRIES (NACE rev 2)",null,null,null,null,null,null,null,null,null,null,null,null,null,null,null,null,null,null,null,null,null,null,null,"INDUSTRIES (NACE rev 2)",null,null,null,null,null,null,null,null,null,null,null,null,null,null,null,"INDUSTRIES (NACE rev 2)",null,null,null,null,null,null,null,null,null,null,null,null,null,null,null,null,null,"INDUSTRIES (NACE rev 2)",null,null,null,null,null,null,null,null,null,null,null,null,null,"INDUSTRIES (NACE rev 2)",null,null,null,null,null,null,null,null,null,null,null,null,null,null,null,null,null,null,null,null,null,null,null,null,null,null,null,null,null,null,null,"INDUSTRIES (NACE rev 2)",null,null,null,null,null,null,null,null,null,null,null,null,null,null,null,null,null,null,null,null,null,"HOUSEHOLDS",null,null,null,null,null,null,null,"ACCUMULATION",null,"STADIF",null,"REST OF THE WORLD",null,"ENVIRONMENT",null,"TOTAL"]
[null,"Content:",null,null,"Energy Flows","Code",null,{"$f":"'PEFA Columns'!D7","v":"A_U   01-99"},null,{"$f":"'PEFA Columns'!F7","v":"A"},null,{"$f":"'PEFA Columns'!H7","v":"A01"},null,{"$f":"'PEFA Columns'!J7","v":"A02"},null,{"$f":"'PEFA Columns'!L7","v":"A03"},null,{"$f":"'PEFA Columns'!N7","v":"B"},null,{"$f":"'PEFA Columns'!P7","v":"C"},null,{"$f":"'PEFA Columns'!R7","v":"C10-C12"},null,{"$f":"'PEFA Columns'!T7","v":"C13-C15"},null,{"$f":"'PEFA Columns'!V7","v":"C16"},null,{"$f":"'PEFA Columns'!X7","v":"C17"},null,{"$f":"'PEFA Columns'!Z7","v":"C18"},null,{"$f":"'PEFA Columns'!AB7","v":"C19"},null,{"$f":"'PEFA Columns'!AD7","v":"C20"},null,{"$f":"'PEFA Columns'!AF7","v":"C21"},null,{"$f":"'PEFA Columns'!AH7","v":"C22"},null,{"$f":"'PEFA Columns'!AJ7","v":"C23"},null,{"$f":"'PEFA Columns'!AL7","v":"C24"},null,{"$f":"'PEFA Columns'!AN7","v":"C25"},null,{"$f":"'PEFA Columns'!AP7","v":"C26"},null,{"$f":"'PEFA Columns'!AR7","v":"C27"},null,{"$f":"'PEFA Columns'!AT7","v":"C28"},null,{"$f":"'PEFA Columns'!AV7","v":"C29"},null,{"$f":"'PEFA Columns'!AX7","v":"C30"},null,{"$f":"'PEFA Columns'!AZ7","v":"C31_C32"},null,{"$f":"'PEFA Columns'!BB7","v":"C33"},null,{"$f":"'PEFA Columns'!BD7","v":"D"},null,{"$f":"'PEFA Columns'!BF7","v":"E"},null,{"$f":"'PEFA Columns'!BH7","v":"E36"},null,{"$f":"'PEFA Columns'!BJ7","v":"E37-E39"},null,{"$f":"'PEFA Columns'!BL7","v":"F"},null,{"$f":"'PEFA Columns'!BN7","v":"G"},null,{"$f":"'PEFA Columns'!BP7","v":"G45"},null,{"$f":"'PEFA Columns'!BR7","v":"G46"},null,{"$f":"'PEFA Columns'!BT7","v":"G47"},null,{"$f":"'PEFA Columns'!BV7","v":"H"},null,{"$f":"'PEFA Columns'!BX7","v":"H49"},null,{"$f":"'PEFA Columns'!BZ7","v":"H50"},null,{"$f":"'PEFA Columns'!CB7","v":"H51"},null,{"$f":"'PEFA Columns'!CD7","v":"H52"},null,{"$f":"'PEFA Columns'!CF7","v":"H53"},null,{"$f":"'PEFA Columns'!CH7","v":"I"},null,{"$f":"'PEFA Columns'!CJ7","v":"J"},null,{"$f":"'PEFA Columns'!CL7","v":"J58"},null,{"$f":"'PEFA Columns'!CN7","v":"J59_J60"},null,{"$f":"'PEFA Columns'!CP7","v":"J61"},null,{"$f":"'PEFA Columns'!CR7","v":"J62_J63"},null,{"$f":"'PEFA Columns'!CT7","v":"K"},null,{"$f":"'PEFA Columns'!CV7","v":"K64"},null,{"$f":"'PEFA Columns'!CX7","v":"K65"},null,{"$f":"'PEFA Columns'!CZ7","v":"K66"},null,{"$f":"'PEFA Columns'!DB7","v":"L"},null,{"$f":"'PEFA Columns'!DD7","v":"L68A"},null,{"$f":"'PEFA Columns'!DF7","v":"M"},null,{"$f":"'PEFA Columns'!DH7","v":"M69_M70"},null,{"$f":"'PEFA Columns'!DJ7","v":"M71"},null,{"$f":"'PEFA Columns'!DL7","v":"M72"},null,{"$f":"'PEFA Columns'!DN7","v":"M73"},null,{"$f":"'PEFA Columns'!DP7","v":"M74_M75"},null,{"$f":"'PEFA Columns'!DR7","v":"N"},null,{"$f":"'PEFA Columns'!DT7","v":"N77"},null,{"$f":"'PEFA Columns'!DV7","v":"N78"},null,{"$f":"'PEFA Columns'!DX7","v":"N79"},null,{"$f":"'PEFA Columns'!DZ7","v":"N80-N82"},null,{"$f":"'PEFA Columns'!EB7","v":"O"},null,{"$f":"'PEFA Columns'!ED7","v":"P"},null,{"$f":"'PEFA Columns'!EF7","v":"Q"},null,{"$f":"'PEFA Columns'!EH7","v":"Q86"},null,{"$f":"'PEFA Columns'!EJ7","v":"Q87_Q88"},null,{"$f":"'PEFA Columns'!EL7","v":"R"},null,{"$f":"'PEFA Columns'!EN7","v":"R90-R92"},null,{"$f":"'PEFA Columns'!EP7","v":"R93"},null,{"$f":"'PEFA Columns'!ER7","v":"S"},null,{"$f":"'PEFA Columns'!ET7","v":"S94"},null,{"$f":"'PEFA Columns'!EV7","v":"S95"},null,{"$f":"'PEFA Columns'!EX7","v":"S96"},null,{"$f":"'PEFA Columns'!EZ7","v":"T"},null,{"$f":"'PEFA Columns'!FB7","v":"U"},null,{"$f":"'PEFA Columns'!FD7","v":"HH"},null,{"$f":"'PEFA Columns'!FF7","v":"HH_HEAT"},null,{"$f":"'PEFA Columns'!FH7","v":"HH_TRA"},null,{"$f":"'PEFA Columns'!FJ7","v":"HH_OTH"},null,{"$f":"'PEFA Columns'!FL7","v":"CHINV_PA"},null,{"$f":"'PEFA Columns'!FN7","v":"STADIF"},null,{"$f":"'PEFA Columns'!FP7","v":"ROW_ACT"},null,{"$f":"'PEFA Columns'!FR7","v":"ENV"},null,"TOTAL"]
[null,"Unit :",null,null,"TJ","Label",null,{"$f":"'PEFA Columns'!D8","v":"Total NACE industries"},null,{"$f":"'PEFA Columns'!F8","v":"Agriculture, forestry and fishing"},null,{"$f":"'PEFA Columns'!H8","v":"Crop and animal production, hunting and related service activities"},null,{"$f":"'PEFA Columns'!J8","v":"Forestry and logging"},null,{"$f":"'PEFA Columns'!L8","v":"Fishing and aquaculture"},null,{"$f":"'PEFA Columns'!N8","v":"Mining and quarrying"},null,{"$f":"'PEFA Columns'!P8","v":"Manufacturing"},null,{"$f":"'PEFA Columns'!R8","v":"Manufacture of food products, beverages and tobacco\nproducts"},null,{"$f":"'PEFA Columns'!T8","v":"Manufacture of textiles, wearing apparel and leather products"},null,{"$f":"'PEFA Columns'!V8","v":"Manufacture of wood and of products of wood and cork, except furniture; manufacture of articles of straw and plaiting materials"},null,{"$f":"'PEFA Columns'!X8","v":"Manufacture of paper and paper products"},null,{"$f":"'PEFA Columns'!Z8","v":"Printing and reproduction of recorded media"},null,{"$f":"'PEFA Columns'!AB8","v":"Manufacture of coke and refined petroleum products"},null,{"$f":"'PEFA Columns'!AD8","v":"Manufacture of chemicals and chemical products"},null,{"$f":"'PEFA Columns'!AF8","v":"Manufacture of basic pharmaceutical products and pharmaceutical preparations"},null,{"$f":"'PEFA Columns'!AH8","v":"Manufacture of rubber and plastic products"},null,{"$f":"'PEFA Columns'!AJ8","v":"Manufacture of other non-metallic mineral products"},null,{"$f":"'PEFA Columns'!AL8","v":"Manufacture of basic metals"},null,{"$f":"'PEFA Columns'!AN8","v":"Manufacture of fabricated metal products, except machinery and equipment"},null,{"$f":"'PEFA Columns'!AP8","v":"Manufacture of computer, electronic and optical products"},null,{"$f":"'PEFA Columns'!AR8","v":"Manufacture of electrical equipment"},null,{"$f":"'PEFA Columns'!AT8","v":"Manufacture of machinery and equipment n.e.c."},null,{"$f":"'PEFA Columns'!AV8","v":"Manufacture of motor vehicles, trailers and semi-trailers"},null,{"$f":"'PEFA Columns'!AX8","v":"Manufacture of other transport equipment"},null,{"$f":"'PEFA Columns'!AZ8","v":"Manufacture of furniture; other manufacturing"},null,{"$f":"'PEFA Columns'!BB8","v":"Repair and installation of machinery and equipment"},null,{"$f":"'PEFA Columns'!BD8","v":"Electricity, gas, steam and air conditioning supply"},null,{"$f":"'PEFA Columns'!BF8","v":"Water supply; sewerage, waste management and remediation activities"},null,{"$f":"'PEFA Columns'!BH8","v":"Water collection, treatment and supply"},null,{"$f":"'PEFA Columns'!BJ8","v":"Sewerage, waste management, remediation activities"},null,{"$f":"'PEFA Columns'!BL8","v":"Construction"},null,{"$f":"'PEFA Columns'!BN8","v":"Wholesale and retail trade; repair of motor vehicles and motorcycles"},null,{"$f":"'PEFA Columns'!BP8","v":"Wholesale and retail trade and repair of motor vehicles and motorcycles"},null,{"$f":"'PEFA Columns'!BR8","v":"Wholesale trade, except of motor vehicles and motorcycles"},null,{"$f":"'PEFA Columns'!BT8","v":"Retail trade, except of motor vehicles and motorcycles"},null,{"$f":"'PEFA Columns'!BV8","v":"Transportation and storage"},null,{"$f":"'PEFA Columns'!BX8","v":"Land transport and transport via pipelines"},null,{"$f":"'PEFA Columns'!BZ8","v":"Water transport"},null,{"$f":"'PEFA Columns'!CB8","v":"Air transport"},null,{"$f":"'PEFA Columns'!CD8","v":"Warehousing and support activities for transportation"},null,{"$f":"'PEFA Columns'!CF8","v":"Postal and courier activities"},null,{"$f":"'PEFA Columns'!CH8","v":"Accommodation and food service activities"},null,{"$f":"'PEFA Columns'!CJ8","v":"Information and communication"},null,{"$f":"'PEFA Columns'!CL8","v":"Publishing activities"},null,{"$f":"'PEFA Columns'!CN8","v":"Motion picture, video, television programme production; programming and broadcasting activities"},null,{"$f":"'PEFA Columns'!CP8","v":"Telecommunications"},null,{"$f":"'PEFA Columns'!CR8","v":"Computer programming, consultancy, and information service activities"},null,{"$f":"'PEFA Columns'!CT8","v":"Financial and insurance activities"},null,{"$f":"'PEFA Columns'!CV8","v":"Financial service activities, except insurance and pension funding"},null,{"$f":"'PEFA Columns'!CX8","v":"Insurance, reinsurance and pension funding, except compulsory social security"},null,{"$f":"'PEFA Columns'!CZ8","v":"Activities auxiliary to financial services and insurance activities"},null,{"$f":"'PEFA Columns'!DB8","v":"Real estate activities"},null,{"$f":"'PEFA Columns'!DD8","v":"Of which: Imputed rents of owner-occupied dwellings"},null,{"$f":"'PEFA Columns'!DF8","v":"Professional, scientific and technical activities"},null,{"$f":"'PEFA Columns'!DH8","v":"Legal and accounting activities; activities of head offices; management consultancy activities"},null,{"$f":"'PEFA Columns'!DJ8","v":"Architectural and engineering activities; technical testing and analysis"},null,{"$f":"'PEFA Columns'!DL8","v":"Scientific research and development"},null,{"$f":"'PEFA Columns'!DN8","v":"Advertising and market research"},null,{"$f":"'PEFA Columns'!DP8","v":"Other professional, scientific and technical activities; veterinary activities"},null,{"$f":"'PEFA Columns'!DR8","v":"Administrative and support service activities"},null,{"$f":"'PEFA Columns'!DT8","v":"Rental and leasing activities"},null,{"$f":"'PEFA Columns'!DV8","v":"Employment activities"},null,{"$f":"'PEFA Columns'!DX8","v":"Travel agency, tour operator reservation service and related activities"},null,{"$f":"'PEFA Columns'!DZ8","v":"Security and investigation, service and landscape, office administrative and support activities"},null,{"$f":"'PEFA Columns'!EB8","v":"Public administration and defence; compulsory social security"},null,{"$f":"'PEFA Columns'!ED8","v":"Education"},null,{"$f":"'PEFA Columns'!EF8","v":"Human health and social work activities"},null,{"$f":"'PEFA Columns'!EH8","v":"Human health activities"},null,{"$f":"'PEFA Columns'!EJ8","v":"Residential care activities and social work activities without accommodation"},null,{"$f":"'PEFA Columns'!EL8","v":"Arts, entertainment and recreation"},null,{"$f":"'PEFA Columns'!EN8","v":"Creative, arts and entertainment activities; libraries, archives, museums and other cultural activities; gambling and betting activities"},null,{"$f":"'PEFA Columns'!EP8","v":"Sports activities and amusement and recreation activities"},null,{"$f":"'PEFA Columns'!ER8","v":"Other service activities"},null,{"$f":"'PEFA Columns'!ET8","v":"Activities of membership organisations"},null,{"$f":"'PEFA Columns'!EV8","v":"Repair of computers and personal and household goods"},null,{"$f":"'PEFA Columns'!EX8","v":"Other personal service activities"},null,{"$f":"'PEFA Columns'!EZ8","v":"Activities of households as employers; undifferentiated goods- and services-producing activities of households for own use"},null,{"$f":"'PEFA Columns'!FB8","v":"Activities of extraterritorial organisations and bodies"},null,{"$f":"'PEFA Columns'!FD8","v":"Total activities by households"},null,{"$f":"'PEFA Columns'!FF8","v":"Heating/cooling activities by households"},null,{"$f":"'PEFA Columns'!FH8","v":"Transport activities by households"},null,{"$f":"'PEFA Columns'!FJ8","v":"Other activities by households"},null,{"$f":"'PEFA Columns'!FL8","v":"Changes in inventories and produced assets"},null,{"$f":"'PEFA Columns'!FN8","v":"Statistical Differences"},null,{"$f":"'PEFA Columns'!FP8","v":"Rest of the World - economic activities"},null,{"$f":"'PEFA Columns'!FR8","v":"Environment"},null,"Totals (row-wise)"]
[]
[null,"no",null,"Code","Label"]
[null,1,null,{"$f":"'PEFA indicators'!B3","v":"PEFA_IND01"},{"$f":"'PEFA indicators'!C3","v":"Extraction of natural energy inputs by economic activities"},null,null,{"$f":"Table_B!H9","v":0},null,{"$f":"Table_B!J9","v":0},null,{"$f":"Table_B!L9","v":0},null,{"$f":"Table_B!N9","v":0},null,{"$f":"Table_B!P9","v":0},null,{"$f":"Table_B!R9","v":0},null,{"$f":"Table_B!T9","v":0},null,{"$f":"Table_B!V9","v":0},null,{"$f":"Table_B!X9","v":0},null,{"$f":"Table_B!Z9","v":0},null,{"$f":"Table_B!AB9","v":0},null,{"$f":"Table_B!AD9","v":0},null,{"$f":"Table_B!AF9","v":0},null,{"$f":"Table_B!AH9","v":0},null,{"$f":"Table_B!AJ9","v":0},null,{"$f":"Table_B!AL9","v":0},null,{"$f":"Table_B!AN9","v":0},null,{"$f":"Table_B!AP9","v":0},null,{"$f":"Table_B!AR9","v":0},null,{"$f":"Table_B!AT9","v":0},null,{"$f":"Table_B!AV9","v":0},null,{"$f":"Table_B!AX9","v":0},null,{"$f":"Table_B!AZ9","v":0},null,{"$f":"Table_B!BB9","v":0},null,{"$f":"Table_B!BD9","v":0},null,{"$f":"Table_B!BF9","v":0},null,{"$f":"Table_B!BH9","v":0},null,{"$f":"Table_B!BJ9","v":0},null,{"$f":"Table_B!BL9","v":0},null,{"$f":"Table_B!BN9","v":0},null,{"$f":"Table_B!BP9","v":0},null,{"$f":"Table_B!BR9","v":0},null,{"$f":"Table_B!BT9","v":0},null,{"$f":"Table_B!BV9","v":0},null,{"$f":"Table_B!BX9","v":0},null,{"$f":"Table_B!BZ9","v":0},null,{"$f":"Table_B!CB9","v":0},null,{"$f":"Table_B!CD9","v":0},null,{"$f":"Table_B!CF9","v":0},null,{"$f":"Table_B!CH9","v":0},null,{"$f":"Table_B!CJ9","v":0},null,{"$f":"Table_B!CL9","v":0},null,{"$f":"Table_B!CN9","v":0},null,{"$f":"Table_B!CP9","v":0},null,{"$f":"Table_B!CR9","v":0},null,{"$f":"Table_B!CT9","v":0},null,{"$f":"Table_B!CV9","v":0},null,{"$f":"Table_B!CX9","v":0},null,{"$f":"Table_B!CZ9","v":0},null,{"$f":"Table_B!DB9","v":0},null,{"$f":"Table_B!DD9","v":0},null,{"$f":"Table_B!DF9","v":0},null,{"$f":"Table_B!DH9","v":0},null,{"$f":"Table_B!DJ9","v":0},null,{"$f":"Table_B!DL9","v":0},null,{"$f":"Table_B!DN9","v":0},null,{"$f":"Table_B!DP9","v":0},null,{"$f":"Table_B!DR9","v":0},null,{"$f":"Table_B!DT9","v":0},null,{"$f":"Table_B!DV9","v":0},null,{"$f":"Table_B!DX9","v":0},null,{"$f":"Table_B!DZ9","v":0},null,{"$f":"Table_B!EB9","v":0},null,{"$f":"Table_B!ED9","v":0},null,{"$f":"Table_B!EF9","v":0},null,{"$f":"Table_B!EH9","v":0},null,{"$f":"Table_B!EJ9","v":0},null,{"$f":"Table_B!EL9","v":0},null,{"$f":"Table_B!EN9","v":0},null,{"$f":"Table_B!EP9","v":0},null,{"$f":"Table_B!ER9","v":0},null,{"$f":"Table_B!ET9","v":0},null,{"$f":"Table_B!EV9","v":0},null,{"$f":"Table_B!EX9","v":0},null,{"$f":"Table_B!EZ9","v":0},null,{"$f":"Table_B!FB9","v":0},null,{"$f":"Table_B!FD9","v":0},null,{"$f":"Table_B!FF9","v":0},null,null,null,null,null,null,null,null,null,null,null,null,null,null,null,null,null,{"$f":"SUM(FR9,FP9,FH9,H9,FT9,FV9)","v":0}]
[null,{"$f":"B9+1","v":2},null,{"$f":"'PEFA indicators'!B4","v":"PEFA_IND02"},{"$f":"'PEFA indicators'!C4","v":"Domestic production of energy products"},null,null,{"$f":"Table_A!H17","v":0},null,{"$f":"Table_A!J17","v":0},null,{"$f":"Table_A!L17","v":0},null,{"$f":"Table_A!N17","v":0},null,{"$f":"Table_A!P17","v":0},null,{"$f":"Table_A!R17","v":0},null,{"$f":"Table_A!T17","v":0},null,{"$f":"Table_A!V17","v":0},null,{"$f":"Table_A!X17","v":0},null,{"$f":"Table_A!Z17","v":0},null,{"$f":"Table_A!AB17","v":0},null,{"$f":"Table_A!AD17","v":0},null,{"$f":"Table_A!AF17","v":0},null,{"$f":"Table_A!AH17","v":0},null,{"$f":"Table_A!AJ17","v":0},null,{"$f":"Table_A!AL17","v":0},null,{"$f":"Table_A!AN17","v":0},null,{"$f":"Table_A!AP17","v":0},null,{"$f":"Table_A!AR17","v":0},null,{"$f":"Table_A!AT17","v":0},null,{"$f":"Table_A!AV17","v":0},null,{"$f":"Table_A!AX17","v":0},null,{"$f":"Table_A!AZ17","v":0},null,{"$f":"Table_A!BB17","v":0},null,{"$f":"Table_A!BD17","v":0},null,{"$f":"Table_A!BF17","v":0},null,{"$f":"Table_A!BH17","v":0},null,{"$f":"Table_A!BJ17","v":0},null,{"$f":"Table_A!BL17","v":0},null,{"$f":"Table_A!BN17","v":0},null,{"$f":"Table_A!BP17","v":0},null,{"$f":"Table_A!BR17","v":0},null,{"$f":"Table_A!BT17","v":0},null,{"$f":"Table_A!BV17","v":0},null,{"$f":"Table_A!BX17","v":0},null,{"$f":"Table_A!BZ17","v":0},null,{"$f":"Table_A!CB17","v":0},null,{"$f":"Table_A!CD17","v":0},null,{"$f":"Table_A!CF17","v":0},null,{"$f":"Table_A!CH17","v":0},null,{"$f":"Table_A!CJ17","v":0},null,{"$f":"Table_A!CL17","v":0},null,{"$f":"Table_A!CN17","v":0},null,{"$f":"Table_A!CP17","v":0},null,{"$f":"Table_A!CR17","v":0},null,{"$f":"Table_A!CT17","v":0},null,{"$f":"Table_A!CV17","v":0},null,{"$f":"Table_A!CX17","v":0},null,{"$f":"Table_A!CZ17","v":0},null,{"$f":"Table_A!DB17","v":0},null,{"$f":"Table_A!DD17","v":0},null,{"$f":"Table_A!DF17","v":0},null,{"$f":"Table_A!DH17","v":0},null,{"$f":"Table_A!DJ17","v":0},null,{"$f":"Table_A!DL17","v":0},null,{"$f":"Table_A!DN17","v":0},null,{"$f":"Table_A!DP17","v":0},null,{"$f":"Table_A!DR17","v":0},null,{"$f":"Table_A!DT17","v":0},null,{"$f":"Table_A!DV17","v":0},null,{"$f":"Table_A!DX17","v":0},null,{"$f":"Table_A!DZ17","v":0},null,{"$f":"Table_A!EB17","v":0},null,{"$f":"Table_A!ED17","v":0},null,{"$f":"Table_A!EF17","v":0},null,{"$f":"Table_A!EH17","v":0},null,{"$f":"Table_A!EJ17","v":0},null,{"$f":"Table_A!EL17","v":0},null,{"$f":"Table_A!EN17","v":0},null,{"$f":"Table_A!EP17","v":0},null,{"$f":"Table_A!ER17","v":0},null,{"$f":"Table_A!ET17","v":0},null,{"$f":"Table_A!EV17","v":0},null,{"$f":"Table_A!EX17","v":0},null,{"$f":"Table_A!EZ17","v":0},null,{"$f":"Table_A!FB17","v":0},null,{"$f":"Table_A!FD17","v":0},null,{"$f":"Table_A!FF17","v":0},null,null,null,null,null,null,null,null,null,null,null,null,null,null,null,null,null,{"$f":"SUM(FR10,FP10,FH10,H10,FT10,FV10)","v":0}]
[null,3,null,{"$f":"'PEFA indicators'!B5","v":"PEFA_IND03"},{"$f":"'PEFA indicators'!C5","v":"Intermediate consumption of energy products"},null,null,{"$f":"Table_B!H17","v":0},null,{"$f":"Table_B!J17","v":0},null,{"$f":"Table_B!L17","v":0},null,{"$f":"Table_B!N17","v":0},null,{"$f":"Table_B!P17","v":0},null,{"$f":"Table_B!R17","v":0},null,{"$f":"Table_B!T17","v":0},null,{"$f":"Table_B!V17","v":0},null,{"$f":"Table_B!X17","v":0},null,{"$f":"Table_B!Z17","v":0},null,{"$f":"Table_B!AB17","v":0},null,{"$f":"Table_B!AD17","v":0},null,{"$f":"Table_B!AF17","v":0},null,{"$f":"Table_B!AH17","v":0},null,{"$f":"Table_B!AJ17","v":0},null,{"$f":"Table_B!AL17","v":0},null,{"$f":"Table_B!AN17","v":0},null,{"$f":"Table_B!AP17","v":0},null,{"$f":"Table_B!AR17","v":0},null,{"$f":"Table_B!AT17","v":0},null,{"$f":"Table_B!AV17","v":0},null,{"$f":"Table_B!AX17","v":0},null,{"$f":"Table_B!AZ17","v":0},null,{"$f":"Table_B!BB17","v":0},null,{"$f":"Table_B!BD17","v":0},null,{"$f":"Table_B!BF17","v":0},null,{"$f":"Table_B!BH17","v":0},null,{"$f":"Table_B!BJ17","v":0},null,{"$f":"Table_B!BL17","v":0},null,{"$f":"Table_B!BN17","v":0},null,{"$f":"Table_B!BP17","v":0},null,{"$f":"Table_B!BR17","v":0},null,{"$f":"Table_B!BT17","v":0},null,{"$f":"Table_B!BV17","v":0},null,{"$f":"Table_B!BX17","v":0},null,{"$f":"Table_B!BZ17","v":0},null,{"$f":"Table_B!CB17","v":0},null,{"$f":"Table_B!CD17","v":0},null,{"$f":"Table_B!CF17","v":0},null,{"$f":"Table_B!CH17","v":0},null,{"$f":"Table_B!CJ17","v":0},null,{"$f":"Table_B!CL17","v":0},null,{"$f":"Table_B!CN17","v":0},null,{"$f":"Table_B!CP17","v":0},null,{"$f":"Table_B!CR17","v":0},null,{"$f":"Table_B!CT17","v":0},null,{"$f":"Table_B!CV17","v":0},null,{"$f":"Table_B!CX17","v":0},null,{"$f":"Table_B!CZ17","v":0},null,{"$f":"Table_B!DB17","v":0},null,{"$f":"Table_B!DD17","v":0},null,{"$f":"Table_B!DF17","v":0},null,{"$f":"Table_B!DH17","v":0},null,{"$f":"Table_B!DJ17","v":0},null,{"$f":"Table_B!DL17","v":0},null,{"$f":"Table_B!DN17","v":0},null,{"$f":"Table_B!DP17","v":0},null,{"$f":"Table_B!DR17","v":0},null,{"$f":"Table_B!DT17","v":0},null,{"$f":"Table_B!DV17","v":0},null,{"$f":"Table_B!DX17","v":0},null,{"$f":"Table_B!DZ17","v":0},null,{"$f":"Table_B!EB17","v":0},null,{"$f":"Table_B!ED17","v":0},null,{"$f":"Table_B!EF17","v":0},null,{"$f":"Table_B!EH17","v":0},null,{"$f":"Table_B!EJ17","v":0},null,{"$f":"Table_B!EL17","v":0},null,{"$f":"Table_B!EN17","v":0},null,{"$f":"Table_B!EP17","v":0},null,{"$f":"Table_B!ER17","v":0},null,{"$f":"Table_B!ET17","v":0},null,{"$f":"Table_B!EV17","v":0},null,{"$f":"Table_B!EX17","v":0},null,{"$f":"Table_B!EZ17","v":0},null,{"$f":"Table_B!FB17","v":0},null,{"$f":"Table_B!FD17","v":0},null,{"$f":"Table_B!FF17","v":0},null,null,null,null,null,null,null,null,null,null,null,null,null,null,null,null,null,0]
[null,4,null,{"$f":"'PEFA indicators'!B6","v":"PEFA_IND04"},{"$f":"'PEFA indicators'!C6","v":"Household consumption of energy products"},null,null,null,null,null,null,null,null,null,null,null,null,null,null,null,null,null,null,null,null,null,null,null,null,null,null,null,null,null,null,null,null,null,null,null,null,null,null,null,null,null,null,null,null,null,null,null,null,null,null,null,null,null,null,null,null,null,null,null,null,null,null,null,null,null,null,null,null,null,null,null,null,null,null,null,null,null,null,null,null,null,null,null,null,null,null,null,null,null,null,null,null,null,null,null,null,null,null,null,null,null,null,null,null,null,null,null,null,null,null,null,null,null,null,null,null,null,null,null,null,null,null,null,null,null,null,null,null,null,null,null,null,null,null,null,null,null,null,null,null,null,null,null,null,null,null,null,null,null,null,null,null,null,null,null,null,null,null,{"$f":"Table_B!FH17","v":0},null,{"$f":"Table_B!FJ17","v":0},null,{"$f":"Table_B!FL17","v":0},null,{"$f":"Table_B!FN17","v":0},null,null,null,null,null,null,null,null,null,0]
[null,5,null,{"$f":"'PEFA indicators'!B7","v":"PEFA_IND05"},{"$f":"'PEFA indicators'!C7","v":"Use of waste for energetic purposes"},null,null,{"$f":"IF(OR(Table_B!H39=\":\",Table_B!H40=\":\"),\":\",SUM(Table_B!H39,Table_B!H40))","v":0},null,{"$f":"IF(OR(Table_B!J39=\":\",Table_B!J40=\":\"),\":\",SUM(Table_B!J39,Table_B!J40))","v":0},null,{"$f":"IF(OR(Table_B!L39=\":\",Table_B!L40=\":\"),\":\",SUM(Table_B!L39,Table_B!L40))","v":0},null,{"$f":"IF(OR(Table_B!N39=\":\",Table_B!N40=\":\"),\":\",SUM(Table_B!N39,Table_B!N40))","v":0},null,{"$f":"IF(OR(Table_B!P39=\":\",Table_B!P40=\":\"),\":\",SUM(Table_B!P39,Table_B!P40))","v":0},null,{"$f":"IF(OR(Table_B!R39=\":\",Table_B!R40=\":\"),\":\",SUM(Table_B!R39,Table_B!R40))","v":0},null,{"$f":"IF(OR(Table_B!T39=\":\",Table_B!T40=\":\"),\":\",SUM(Table_B!T39,Table_B!T40))","v":0},null,{"$f":"IF(OR(Table_B!V39=\":\",Table_B!V40=\":\"),\":\",SUM(Table_B!V39,Table_B!V40))","v":0},null,{"$f":"IF(OR(Table_B!X39=\":\",Table_B!X40=\":\"),\":\",SUM(Table_B!X39,Table_B!X40))","v":0},null,{"$f":"IF(OR(Table_B!Z39=\":\",Table_B!Z40=\":\"),\":\",SUM(Table_B!Z39,Table_B!Z40))","v":0},null,{"$f":"IF(OR(Table_B!AB39=\":\",Table_B!AB40=\":\"),\":\",SUM(Table_B!AB39,Table_B!AB40))","v":0},null,{"$f":"IF(OR(Table_B!AD39=\":\",Table_B!AD40=\":\"),\":\",SUM(Table_B!AD39,Table_B!AD40))","v":0},null,{"$f":"IF(OR(Table_B!AF39=\":\",Table_B!AF40=\":\"),\":\",SUM(Table_B!AF39,Table_B!AF40))","v":0},null,{"$f":"IF(OR(Table_B!AH39=\":\",Table_B!AH40=\":\"),\":\",SUM(Table_B!AH39,Table_B!AH40))","v":0},null,{"$f":"IF(OR(Table_B!AJ39=\":\",Table_B!AJ40=\":\"),\":\",SUM(Table_B!AJ39,Table_B!AJ40))","v":0},null,{"$f":"IF(OR(Table_B!AL39=\":\",Table_B!AL40=\":\"),\":\",SUM(Table_B!AL39,Table_B!AL40))","v":0},null,{"$f":"IF(OR(Table_B!AN39=\":\",Table_B!AN40=\":\"),\":\",SUM(Table_B!AN39,Table_B!AN40))","v":0},null,{"$f":"IF(OR(Table_B!AP39=\":\",Table_B!AP40=\":\"),\":\",SUM(Table_B!AP39,Table_B!AP40))","v":0},null,{"$f":"IF(OR(Table_B!AR39=\":\",Table_B!AR40=\":\"),\":\",SUM(Table_B!AR39,Table_B!AR40))","v":0},null,{"$f":"IF(OR(Table_B!AT39=\":\",Table_B!AT40=\":\"),\":\",SUM(Table_B!AT39,Table_B!AT40))","v":0},null,{"$f":"IF(OR(Table_B!AV39=\":\",Table_B!AV40=\":\"),\":\",SUM(Table_B!AV39,Table_B!AV40))","v":0},null,{"$f":"IF(OR(Table_B!AX39=\":\",Table_B!AX40=\":\"),\":\",SUM(Table_B!AX39,Table_B!AX40))","v":0},null,{"$f":"IF(OR(Table_B!AZ39=\":\",Table_B!AZ40=\":\"),\":\",SUM(Table_B!AZ39,Table_B!AZ40))","v":0},null,{"$f":"IF(OR(Table_B!BB39=\":\",Table_B!BB40=\":\"),\":\",SUM(Table_B!BB39,Table_B!BB40))","v":0},null,{"$f":"IF(OR(Table_B!BD39=\":\",Table_B!BD40=\":\"),\":\",SUM(Table_B!BD39,Table_B!BD40))","v":0},null,{"$f":"IF(OR(Table_B!BF39=\":\",Table_B!BF40=\":\"),\":\",SUM(Table_B!BF39,Table_B!BF40))","v":0},null,{"$f":"IF(OR(Table_B!BH39=\":\",Table_B!BH40=\":\"),\":\",SUM(Table_B!BH39,Table_B!BH40))","v":0},null,{"$f":"IF(OR(Table_B!BJ39=\":\",Table_B!BJ40=\":\"),\":\",SUM(Table_B!BJ39,Table_B!BJ40))","v":0},null,{"$f":"IF(OR(Table_B!BL39=\":\",Table_B!BL40=\":\"),\":\",SUM(Table_B!BL39,Table_B!BL40))","v":0},null,{"$f":"IF(OR(Table_B!BN39=\":\",Table_B!BN40=\":\"),\":\",SUM(Table_B!BN39,Table_B!BN40))","v":0},null,{"$f":"IF(OR(Table_B!BP39=\":\",Table_B!BP40=\":\"),\":\",SUM(Table_B!BP39,Table_B!BP40))","v":0},null,{"$f":"IF(OR(Table_B!BR39=\":\",Table_B!BR40=\":\"),\":\",SUM(Table_B!BR39,Table_B!BR40))","v":0},null,{"$f":"IF(OR(Table_B!BT39=\":\",Table_B!BT40=\":\"),\":\",SUM(Table_B!BT39,Table_B!BT40))","v":0},null,{"$f":"IF(OR(Table_B!BV39=\":\",Table_B!BV40=\":\"),\":\",SUM(Table_B!BV39,Table_B!BV40))","v":0},null,{"$f":"IF(OR(Table_B!BX39=\":\",Table_B!BX40=\":\"),\":\",SUM(Table_B!BX39,Table_B!BX40))","v":0},null,{"$f":"IF(OR(Table_B!BZ39=\":\",Table_B!BZ40=\":\"),\":\",SUM(Table_B!BZ39,Table_B!BZ40))","v":0},null,{"$f":"IF(OR(Table_B!CB39=\":\",Table_B!CB40=\":\"),\":\",SUM(Table_B!CB39,Table_B!CB40))","v":0},null,{"$f":"IF(OR(Table_B!CD39=\":\",Table_B!CD40=\":\"),\":\",SUM(Table_B!CD39,Table_B!CD40))","v":0},null,{"$f":"IF(OR(Table_B!CF39=\":\",Table_B!CF40=\":\"),\":\",SUM(Table_B!CF39,Table_B!CF40))","v":0},null,{"$f":"IF(OR(Table_B!CH39=\":\",Table_B!CH40=\":\"),\":\",SUM(Table_B!CH39,Table_B!CH40))","v":0},null,{"$f":"IF(OR(Table_B!CJ39=\":\",Table_B!CJ40=\":\"),\":\",SUM(Table_B!CJ39,Table_B!CJ40))","v":0},null,{"$f":"IF(OR(Table_B!CL39=\":\",Table_B!CL40=\":\"),\":\",SUM(Table_B!CL39,Table_B!CL40))","v":0},null,{"$f":"IF(OR(Table_B!CN39=\":\",Table_B!CN40=\":\"),\":\",SUM(Table_B!CN39,Table_B!CN40))","v":0},null,{"$f":"IF(OR(Table_B!CP39=\":\",Table_B!CP40=\":\"),\":\",SUM(Table_B!CP39,Table_B!CP40))","v":0},null,{"$f":"IF(OR(Table_B!CR39=\":\",Table_B!CR40=\":\"),\":\",SUM(Table_B!CR39,Table_B!CR40))","v":0},null,{"$f":"IF(OR(Table_B!CT39=\":\",Table_B!CT40=\":\"),\":\",SUM(Table_B!CT39,Table_B!CT40))","v":0},null,{"$f":"IF(OR(Table_B!CV39=\":\",Table_B!CV40=\":\"),\":\",SUM(Table_B!CV39,Table_B!CV40))","v":0},null,{"$f":"IF(OR(Table_B!CX39=\":\",Table_B!CX40=\":\"),\":\",SUM(Table_B!CX39,Table_B!CX40))","v":0},null,{"$f":"IF(OR(Table_B!CZ39=\":\",Table_B!CZ40=\":\"),\":\",SUM(Table_B!CZ39,Table_B!CZ40))","v":0},null,{"$f":"IF(OR(Table_B!DB39=\":\",Table_B!DB40=\":\"),\":\",SUM(Table_B!DB39,Table_B!DB40))","v":0},null,{"$f":"IF(OR(Table_B!DD39=\":\",Table_B!DD40=\":\"),\":\",SUM(Table_B!DD39,Table_B!DD40))","v":0},null,{"$f":"IF(OR(Table_B!DF39=\":\",Table_B!DF40=\":\"),\":\",SUM(Table_B!DF39,Table_B!DF40))","v":0},null,{"$f":"IF(OR(Table_B!DH39=\":\",Table_B!DH40=\":\"),\":\",SUM(Table_B!DH39,Table_B!DH40))","v":0},null,{"$f":"IF(OR(Table_B!DJ39=\":\",Table_B!DJ40=\":\"),\":\",SUM(Table_B!DJ39,Table_B!DJ40))","v":0},null,{"$f":"IF(OR(Table_B!DL39=\":\",Table_B!DL40=\":\"),\":\",SUM(Table_B!DL39,Table_B!DL40))","v":0},null,{"$f":"IF(OR(Table_B!DN39=\":\",Table_B!DN40=\":\"),\":\",SUM(Table_B!DN39,Table_B!DN40))","v":0},null,{"$f":"IF(OR(Table_B!DP39=\":\",Table_B!DP40=\":\"),\":\",SUM(Table_B!DP39,Table_B!DP40))","v":0},null,{"$f":"IF(OR(Table_B!DR39=\":\",Table_B!DR40=\":\"),\":\",SUM(Table_B!DR39,Table_B!DR40))","v":0},null,{"$f":"IF(OR(Table_B!DT39=\":\",Table_B!DT40=\":\"),\":\",SUM(Table_B!DT39,Table_B!DT40))","v":0},null,{"$f":"IF(OR(Table_B!DV39=\":\",Table_B!DV40=\":\"),\":\",SUM(Table_B!DV39,Table_B!DV40))","v":0},null,{"$f":"IF(OR(Table_B!DX39=\":\",Table_B!DX40=\":\"),\":\",SUM(Table_B!DX39,Table_B!DX40))","v":0},null,{"$f":"IF(OR(Table_B!DZ39=\":\",Table_B!DZ40=\":\"),\":\",SUM(Table_B!DZ39,Table_B!DZ40))","v":0},null,{"$f":"IF(OR(Table_B!EB39=\":\",Table_B!EB40=\":\"),\":\",SUM(Table_B!EB39,Table_B!EB40))","v":0},null,{"$f":"IF(OR(Table_B!ED39=\":\",Table_B!ED40=\":\"),\":\",SUM(Table_B!ED39,Table_B!ED40))","v":0},null,{"$f":"IF(OR(Table_B!EF39=\":\",Table_B!EF40=\":\"),\":\",SUM(Table_B!EF39,Table_B!EF40))","v":0},null,{"$f":"IF(OR(Table_B!EH39=\":\",Table_B!EH40=\":\"),\":\",SUM(Table_B!EH39,Table_B!EH40))","v":0},null,{"$f":"IF(OR(Table_B!EJ39=\":\",Table_B!EJ40=\":\"),\":\",SUM(Table_B!EJ39,Table_B!EJ40))","v":0},null,{"$f":"IF(OR(Table_B!EL39=\":\",Table_B!EL40=\":\"),\":\",SUM(Table_B!EL39,Table_B!EL40))","v":0},null,{"$f":"IF(OR(Table_B!EN39=\":\",Table_B!EN40=\":\"),\":\",SUM(Table_B!EN39,Table_B!EN40))","v":0},null,{"$f":"IF(OR(Table_B!EP39=\":\",Table_B!EP40=\":\"),\":\",SUM(Table_B!EP39,Table_B!EP40))","v":0},null,{"$f":"IF(OR(Table_B!ER39=\":\",Table_B!ER40=\":\"),\":\",SUM(Table_B!ER39,Table_B!ER40))","v":0},null,{"$f":"IF(OR(Table_B!ET39=\":\",Table_B!ET40=\":\"),\":\",SUM(Table_B!ET39,Table_B!ET40))","v":0},null,{"$f":"IF(OR(Table_B!EV39=\":\",Table_B!EV40=\":\"),\":\",SUM(Table_B!EV39,Table_B!EV40))","v":0},null,{"$f":"IF(OR(Table_B!EX39=\":\",Table_B!EX40=\":\"),\":\",SUM(Table_B!EX39,Table_B!EX40))","v":0},null,{"$f":"IF(OR(Table_B!EZ39=\":\",Table_B!EZ40=\":\"),\":\",SUM(Table_B!EZ39,Table_B!EZ40))","v":0},null,{"$f":"IF(OR(Table_B!FB39=\":\",Table_B!FB40=\":\"),\":\",SUM(Table_B!FB39,Table_B!FB40))","v":0},null,{"$f":"IF(OR(Table_B!FD39=\":\",Table_B!FD40=\":\"),\":\",SUM(Table_B!FD39,Table_B!FD40))","v":0},null,{"$f":"IF(OR(Table_B!FF39=\":\",Table_B!FF40=\":\"),\":\",SUM(Table_B!FF39,Table_B!FF40))","v":0},null,{"$f":"IF(OR(Table_B!FH39=\":\",Table_B!FH40=\":\"),\":\",SUM(Table_B!FH39,Table_B!FH40))","v":0},null,{"$f":"IF(OR(Table_B!FJ39=\":\",Table_B!FJ40=\":\"),\":\",SUM(Table_B!FJ39,Table_B!FJ40))","v":0},null,{"$f":"IF(OR(Table_B!FL39=\":\",Table_B!FL40=\":\"),\":\",SUM(Table_B!FL39,Table_B!FL40))","v":0},null,{"$f":"IF(OR(Table_B!FN39=\":\",Table_B!FN40=\":\"),\":\",SUM(Table_B!FN39,Table_B!FN40))","v":0},null,null,null,null,null,null,null,null,null,0]
[null,6,null,{"$f":"'PEFA indicators'!B8","v":"PEFA_IND06"},{"$f":"'PEFA indicators'!C8","v":"Net domestic energy use"},null,null,{"$f":"IF(OR(Table_A!H41=\":\",Table_A!H42=\":\"),\":\",SUM(Table_A!H41:H42))","v":0},null,{"$f":"IF(OR(Table_A!J41=\":\",Table_A!J42=\":\"),\":\",SUM(Table_A!J41:J42))","v":0},null,{"$f":"IF(OR(Table_A!L41=\":\",Table_A!L42=\":\"),\":\",SUM(Table_A!L41:L42))","v":0},null,{"$f":"IF(OR(Table_A!N41=\":\",Table_A!N42=\":\"),\":\",SUM(Table_A!N41:N42))","v":0},null,{"$f":"IF(OR(Table_A!P41=\":\",Table_A!P42=\":\"),\":\",SUM(Table_A!P41:P42))","v":0},null,{"$f":"IF(OR(Table_A!R41=\":\",Table_A!R42=\":\"),\":\",SUM(Table_A!R41:R42))","v":0},null,{"$f":"IF(OR(Table_A!T41=\":\",Table_A!T42=\":\"),\":\",SUM(Table_A!T41:T42))","v":0},null,{"$f":"IF(OR(Table_A!V41=\":\",Table_A!V42=\":\"),\":\",SUM(Table_A!V41:V42))","v":0},null,{"$f":"IF(OR(Table_A!X41=\":\",Table_A!X42=\":\"),\":\",SUM(Table_A!X41:X42))","v":0},null,{"$f":"IF(OR(Table_A!Z41=\":\",Table_A!Z42=\":\"),\":\",SUM(Table_A!Z41:Z42))","v":0},null,{"$f":"IF(OR(Table_A!AB41=\":\",Table_A!AB42=\":\"),\":\",SUM(Table_A!AB41:AB42))","v":0},null,{"$f":"IF(OR(Table_A!AD41=\":\",Table_A!AD42=\":\"),\":\",SUM(Table_A!AD41:AD42))","v":0},null,{"$f":"IF(OR(Table_A!AF41=\":\",Table_A!AF42=\":\"),\":\",SUM(Table_A!AF41:AF42))","v":0},null,{"$f":"IF(OR(Table_A!AH41=\":\",Table_A!AH42=\":\"),\":\",SUM(Table_A!AH41:AH42))","v":0},null,{"$f":"IF(OR(Table_A!AJ41=\":\",Table_A!AJ42=\":\"),\":\",SUM(Table_A!AJ41:AJ42))","v":0},null,{"$f":"IF(OR(Table_A!AL41=\":\",Table_A!AL42=\":\"),\":\",SUM(Table_A!AL41:AL42))","v":0},null,{"$f":"IF(OR(Table_A!AN41=\":\",Table_A!AN42=\":\"),\":\",SUM(Table_A!AN41:AN42))","v":0},null,{"$f":"IF(OR(Table_A!AP41=\":\",Table_A!AP42=\":\"),\":\",SUM(Table_A!AP41:AP42))","v":0},null,{"$f":"IF(OR(Table_A!AR41=\":\",Table_A!AR42=\":\"),\":\",SUM(Table_A!AR41:AR42))","v":0},null,{"$f":"IF(OR(Table_A!AT41=\":\",Table_A!AT42=\":\"),\":\",SUM(Table_A!AT41:AT42))","v":0},null,{"$f":"IF(OR(Table_A!AV41=\":\",Table_A!AV42=\":\"),\":\",SUM(Table_A!AV41:AV42))","v":0},null,{"$f":"IF(OR(Table_A!AX41=\":\",Table_A!AX42=\":\"),\":\",SUM(Table_A!AX41:AX42))","v":0},null,{"$f":"IF(OR(Table_A!AZ41=\":\",Table_A!AZ42=\":\"),\":\",SUM(Table_A!AZ41:AZ42))","v":0},null,{"$f":"IF(OR(Table_A!BB41=\":\",Table_A!BB42=\":\"),\":\",SUM(Table_A!BB41:BB42))","v":0},null,{"$f":"IF(OR(Table_A!BD41=\":\",Table_A!BD42=\":\"),\":\",SUM(Table_A!BD41:BD42))","v":0},null,{"$f":"IF(OR(Table_A!BF41=\":\",Table_A!BF42=\":\"),\":\",SUM(Table_A!BF41:BF42))","v":0},null,{"$f":"IF(OR(Table_A!BH41=\":\",Table_A!BH42=\":\"),\":\",SUM(Table_A!BH41:BH42))","v":0},null,{"$f":"IF(OR(Table_A!BJ41=\":\",Table_A!BJ42=\":\"),\":\",SUM(Table_A!BJ41:BJ42))","v":0},null,{"$f":"IF(OR(Table_A!BL41=\":\",Table_A!BL42=\":\"),\":\",SUM(Table_A!BL41:BL42))","v":0},null,{"$f":"IF(OR(Table_A!BN41=\":\",Table_A!BN42=\":\"),\":\",SUM(Table_A!BN41:BN42))","v":0},null,{"$f":"IF(OR(Table_A!BP41=\":\",Table_A!BP42=\":\"),\":\",SUM(Table_A!BP41:BP42))","v":0},null,{"$f":"IF(OR(Table_A!BR41=\":\",Table_A!BR42=\":\"),\":\",SUM(Table_A!BR41:BR42))","v":0},null,{"$f":"IF(OR(Table_A!BT41=\":\",Table_A!BT42=\":\"),\":\",SUM(Table_A!BT41:BT42))","v":0},null,{"$f":"IF(OR(Table_A!BV41=\":\",Table_A!BV42=\":\"),\":\",SUM(Table_A!BV41:BV42))","v":0},null,{"$f":"IF(OR(Table_A!BX41=\":\",Table_A!BX42=\":\"),\":\",SUM(Table_A!BX41:BX42))","v":0},null,{"$f":"IF(OR(Table_A!BZ41=\":\",Table_A!BZ42=\":\"),\":\",SUM(Table_A!BZ41:BZ42))","v":0},null,{"$f":"IF(OR(Table_A!CB41=\":\",Table_A!CB42=\":\"),\":\",SUM(Table_A!CB41:CB42))","v":0},null,{"$f":"IF(OR(Table_A!CD41=\":\",Table_A!CD42=\":\"),\":\",SUM(Table_A!CD41:CD42))","v":0},null,{"$f":"IF(OR(Table_A!CF41=\":\",Table_A!CF42=\":\"),\":\",SUM(Table_A!CF41:CF42))","v":0},null,{"$f":"IF(OR(Table_A!CH41=\":\",Table_A!CH42=\":\"),\":\",SUM(Table_A!CH41:CH42))","v":0},null,{"$f":"IF(OR(Table_A!CJ41=\":\",Table_A!CJ42=\":\"),\":\",SUM(Table_A!CJ41:CJ42))","v":0},null,{"$f":"IF(OR(Table_A!CL41=\":\",Table_A!CL42=\":\"),\":\",SUM(Table_A!CL41:CL42))","v":0},null,{"$f":"IF(OR(Table_A!CN41=\":\",Table_A!CN42=\":\"),\":\",SUM(Table_A!CN41:CN42))","v":0},null,{"$f":"IF(OR(Table_A!CP41=\":\",Table_A!CP42=\":\"),\":\",SUM(Table_A!CP41:CP42))","v":0},null,{"$f":"IF(OR(Table_A!CR41=\":\",Table_A!CR42=\":\"),\":\",SUM(Table_A!CR41:CR42))","v":0},null,{"$f":"IF(OR(Table_A!CT41=\":\",Table_A!CT42=\":\"),\":\",SUM(Table_A!CT41:CT42))","v":0},null,{"$f":"IF(OR(Table_A!CV41=\":\",Table_A!CV42=\":\"),\":\",SUM(Table_A!CV41:CV42))","v":0},null,{"$f":"IF(OR(Table_A!CX41=\":\",Table_A!CX42=\":\"),\":\",SUM(Table_A!CX41:CX42))","v":0},null,{"$f":"IF(OR(Table_A!CZ41=\":\",Table_A!CZ42=\":\"),\":\",SUM(Table_A!CZ41:CZ42))","v":0},null,{"$f":"IF(OR(Table_A!DB41=\":\",Table_A!DB42=\":\"),\":\",SUM(Table_A!DB41:DB42))","v":0},null,{"$f":"IF(OR(Table_A!DD41=\":\",Table_A!DD42=\":\"),\":\",SUM(Table_A!DD41:DD42))","v":0},null,{"$f":"IF(OR(Table_A!DF41=\":\",Table_A!DF42=\":\"),\":\",SUM(Table_A!DF41:DF42))","v":0},null,{"$f":"IF(OR(Table_A!DH41=\":\",Table_A!DH42=\":\"),\":\",SUM(Table_A!DH41:DH42))","v":0},null,{"$f":"IF(OR(Table_A!DJ41=\":\",Table_A!DJ42=\":\"),\":\",SUM(Table_A!DJ41:DJ42))","v":0},null,{"$f":"IF(OR(Table_A!DL41=\":\",Table_A!DL42=\":\"),\":\",SUM(Table_A!DL41:DL42))","v":0},null,{"$f":"IF(OR(Table_A!DN41=\":\",Table_A!DN42=\":\"),\":\",SUM(Table_A!DN41:DN42))","v":0},null,{"$f":"IF(OR(Table_A!DP41=\":\",Table_A!DP42=\":\"),\":\",SUM(Table_A!DP41:DP42))","v":0},null,{"$f":"IF(OR(Table_A!DR41=\":\",Table_A!DR42=\":\"),\":\",SUM(Table_A!DR41:DR42))","v":0},null,{"$f":"IF(OR(Table_A!DT41=\":\",Table_A!DT42=\":\"),\":\",SUM(Table_A!DT41:DT42))","v":0},null,{"$f":"IF(OR(Table_A!DV41=\":\",Table_A!DV42=\":\"),\":\",SUM(Table_A!DV41:DV42))","v":0},null,{"$f":"IF(OR(Table_A!DX41=\":\",Table_A!DX42=\":\"),\":\",SUM(Table_A!DX41:DX42))","v":0},null,{"$f":"IF(OR(Table_A!DZ41=\":\",Table_A!DZ42=\":\"),\":\",SUM(Table_A!DZ41:DZ42))","v":0},null,{"$f":"IF(OR(Table_A!EB41=\":\",Table_A!EB42=\":\"),\":\",SUM(Table_A!EB41:EB42))","v":0},null,{"$f":"IF(OR(Table_A!ED41=\":\",Table_A!ED42=\":\"),\":\",SUM(Table_A!ED41:ED42))","v":0},null,{"$f":"IF(OR(Table_A!EF41=\":\",Table_A!EF42=\":\"),\":\",SUM(Table_A!EF41:EF42))","v":0},null,{"$f":"IF(OR(Table_A!EH41=\":\",Table_A!EH42=\":\"),\":\",SUM(Table_A!EH41:EH42))","v":0},null,{"$f":"IF(OR(Table_A!EJ41=\":\",Table_A!EJ42=\":\"),\":\",SUM(Table_A!EJ41:EJ42))","v":0},null,{"$f":"IF(OR(Table_A!EL41=\":\",Table_A!EL42=\":\"),\":\",SUM(Table_A!EL41:EL42))","v":0},null,{"$f":"IF(OR(Table_A!EN41=\":\",Table_A!EN42=\":\"),\":\",SUM(Table_A!EN41:EN42))","v":0},null,{"$f":"IF(OR(Table_A!EP41=\":\",Table_A!EP42=\":\"),\":\",SUM(Table_A!EP41:EP42))","v":0},null,{"$f":"IF(OR(Table_A!ER41=\":\",Table_A!ER42=\":\"),\":\",SUM(Table_A!ER41:ER42))","v":0},null,{"$f":"IF(OR(Table_A!ET41=\":\",Table_A!ET42=\":\"),\":\",SUM(Table_A!ET41:ET42))","v":0},null,{"$f":"IF(OR(Table_A!EV41=\":\",Table_A!EV42=\":\"),\":\",SUM(Table_A!EV41:EV42))","v":0},null,{"$f":"IF(OR(Table_A!EX41=\":\",Table_A!EX42=\":\"),\":\",SUM(Table_A!EX41:EX42))","v":0},null,{"$f":"IF(OR(Table_A!EZ41=\":\",Table_A!EZ42=\":\"),\":\",SUM(Table_A!EZ41:EZ42))","v":0},null,{"$f":"IF(OR(Table_A!FB41=\":\",Table_A!FB42=\":\"),\":\",SUM(Table_A!FB41:FB42))","v":0},null,{"$f":"IF(OR(Table_A!FD41=\":\",Table_A!FD42=\":\"),\":\",SUM(Table_A!FD41:FD42))","v":0},null,{"$f":"IF(OR(Table_A!FF41=\":\",Table_A!FF42=\":\"),\":\",SUM(Table_A!FF41:FF42))","v":0},null,{"$f":"IF(OR(Table_A!FH41=\":\",Table_A!FH42=\":\"),\":\",SUM(Table_A!FH41:FH42))","v":0},null,{"$f":"IF(OR(Table_A!FJ41=\":\",Table_A!FJ42=\":\"),\":\",SUM(Table_A!FJ41:FJ42))","v":0},null,{"$f":"IF(OR(Table_A!FL41=\":\",Table_A!FL42=\":\"),\":\",SUM(Table_A!FL41:FL42))","v":0},null,{"$f":"IF(OR(Table_A!FN41=\":\",Table_A!FN42=\":\"),\":\",SUM(Table_A!FN41:FN42))","v":0},null,null,null,{"$f":"IF(OR(Table_B!FR41=\":\",Table_B!FR42=\":\"),\":\",-SUM(Table_B!FR41:FR42))","v":0},null,null,null,null,null,0]
[null,7,null,{"$f":"'PEFA indicators'!B9","v":"PEFA_IND06a"},{"$f":"'PEFA indicators'!C9","v":"    Net domestic energy use for energy purposes"},null,null,{"$f":"IF(Table_A!H41=\":\",\":\",Table_A!H41)","v":0},null,{"$f":"IF(Table_A!J41=\":\",\":\",Table_A!J41)","v":0},null,{"$f":"IF(Table_A!L41=\":\",\":\",Table_A!L41)","v":0},null,{"$f":"IF(Table_A!N41=\":\",\":\",Table_A!N41)","v":0},null,{"$f":"IF(Table_A!P41=\":\",\":\",Table_A!P41)","v":0},null,{"$f":"IF(Table_A!R41=\":\",\":\",Table_A!R41)","v":0},null,{"$f":"IF(Table_A!T41=\":\",\":\",Table_A!T41)","v":0},null,{"$f":"IF(Table_A!V41=\":\",\":\",Table_A!V41)","v":0},null,{"$f":"IF(Table_A!X41=\":\",\":\",Table_A!X41)","v":0},null,{"$f":"IF(Table_A!Z41=\":\",\":\",Table_A!Z41)","v":0},null,{"$f":"IF(Table_A!AB41=\":\",\":\",Table_A!AB41)","v":0},null,{"$f":"IF(Table_A!AD41=\":\",\":\",Table_A!AD41)","v":0},null,{"$f":"IF(Table_A!AF41=\":\",\":\",Table_A!AF41)","v":0},null,{"$f":"IF(Table_A!AH41=\":\",\":\",Table_A!AH41)","v":0},null,{"$f":"IF(Table_A!AJ41=\":\",\":\",Table_A!AJ41)","v":0},null,{"$f":"IF(Table_A!AL41=\":\",\":\",Table_A!AL41)","v":0},null,{"$f":"IF(Table_A!AN41=\":\",\":\",Table_A!AN41)","v":0},null,{"$f":"IF(Table_A!AP41=\":\",\":\",Table_A!AP41)","v":0},null,{"$f":"IF(Table_A!AR41=\":\",\":\",Table_A!AR41)","v":0},null,{"$f":"IF(Table_A!AT41=\":\",\":\",Table_A!AT41)","v":0},null,{"$f":"IF(Table_A!AV41=\":\",\":\",Table_A!AV41)","v":0},null,{"$f":"IF(Table_A!AX41=\":\",\":\",Table_A!AX41)","v":0},null,{"$f":"IF(Table_A!AZ41=\":\",\":\",Table_A!AZ41)","v":0},null,{"$f":"IF(Table_A!BB41=\":\",\":\",Table_A!BB41)","v":0},null,{"$f":"IF(Table_A!BD41=\":\",\":\",Table_A!BD41)","v":0},null,{"$f":"IF(Table_A!BF41=\":\",\":\",Table_A!BF41)","v":0},null,{"$f":"IF(Table_A!BH41=\":\",\":\",Table_A!BH41)","v":0},null,{"$f":"IF(Table_A!BJ41=\":\",\":\",Table_A!BJ41)","v":0},null,{"$f":"IF(Table_A!BL41=\":\",\":\",Table_A!BL41)","v":0},null,{"$f":"IF(Table_A!BN41=\":\",\":\",Table_A!BN41)","v":0},null,{"$f":"IF(Table_A!BP41=\":\",\":\",Table_A!BP41)","v":0},null,{"$f":"IF(Table_A!BR41=\":\",\":\",Table_A!BR41)","v":0},null,{"$f":"IF(Table_A!BT41=\":\",\":\",Table_A!BT41)","v":0},null,{"$f":"IF(Table_A!BV41=\":\",\":\",Table_A!BV41)","v":0},null,{"$f":"IF(Table_A!BX41=\":\",\":\",Table_A!BX41)","v":0},null,{"$f":"IF(Table_A!BZ41=\":\",\":\",Table_A!BZ41)","v":0},null,{"$f":"IF(Table_A!CB41=\":\",\":\",Table_A!CB41)","v":0},null,{"$f":"IF(Table_A!CD41=\":\",\":\",Table_A!CD41)","v":0},null,{"$f":"IF(Table_A!CF41=\":\",\":\",Table_A!CF41)","v":0},null,{"$f":"IF(Table_A!CH41=\":\",\":\",Table_A!CH41)","v":0},null,{"$f":"IF(Table_A!CJ41=\":\",\":\",Table_A!CJ41)","v":0},null,{"$f":"IF(Table_A!CL41=\":\",\":\",Table_A!CL41)","v":0},null,{"$f":"IF(Table_A!CN41=\":\",\":\",Table_A!CN41)","v":0},null,{"$f":"IF(Table_A!CP41=\":\",\":\",Table_A!CP41)","v":0},null,{"$f":"IF(Table_A!CR41=\":\",\":\",Table_A!CR41)","v":0},null,{"$f":"IF(Table_A!CT41=\":\",\":\",Table_A!CT41)","v":0},null,{"$f":"IF(Table_A!CV41=\":\",\":\",Table_A!CV41)","v":0},null,{"$f":"IF(Table_A!CX41=\":\",\":\",Table_A!CX41)","v":0},null,{"$f":"IF(Table_A!CZ41=\":\",\":\",Table_A!CZ41)","v":0},null,{"$f":"IF(Table_A!DB41=\":\",\":\",Table_A!DB41)","v":0},null,{"$f":"IF(Table_A!DD41=\":\",\":\",Table_A!DD41)","v":0},null,{"$f":"IF(Table_A!DF41=\":\",\":\",Table_A!DF41)","v":0},null,{"$f":"IF(Table_A!DH41=\":\",\":\",Table_A!DH41)","v":0},null,{"$f":"IF(Table_A!DJ41=\":\",\":\",Table_A!DJ41)","v":0},null,{"$f":"IF(Table_A!DL41=\":\",\":\",Table_A!DL41)","v":0},null,{"$f":"IF(Table_A!DN41=\":\",\":\",Table_A!DN41)","v":0},null,{"$f":"IF(Table_A!DP41=\":\",\":\",Table_A!DP41)","v":0},null,{"$f":"IF(Table_A!DR41=\":\",\":\",Table_A!DR41)","v":0},null,{"$f":"IF(Table_A!DT41=\":\",\":\",Table_A!DT41)","v":0},null,{"$f":"IF(Table_A!DV41=\":\",\":\",Table_A!DV41)","v":0},null,{"$f":"IF(Table_A!DX41=\":\",\":\",Table_A!DX41)","v":0},null,{"$f":"IF(Table_A!DZ41=\":\",\":\",Table_A!DZ41)","v":0},null,{"$f":"IF(Table_A!EB41=\":\",\":\",Table_A!EB41)","v":0},null,{"$f":"IF(Table_A!ED41=\":\",\":\",Table_A!ED41)","v":0},null,{"$f":"IF(Table_A!EF41=\":\",\":\",Table_A!EF41)","v":0},null,{"$f":"IF(Table_A!EH41=\":\",\":\",Table_A!EH41)","v":0},null,{"$f":"IF(Table_A!EJ41=\":\",\":\",Table_A!EJ41)","v":0},null,{"$f":"IF(Table_A!EL41=\":\",\":\",Table_A!EL41)","v":0},null,{"$f":"IF(Table_A!EN41=\":\",\":\",Table_A!EN41)","v":0},null,{"$f":"IF(Table_A!EP41=\":\",\":\",Table_A!EP41)","v":0},null,{"$f":"IF(Table_A!ER41=\":\",\":\",Table_A!ER41)","v":0},null,{"$f":"IF(Table_A!ET41=\":\",\":\",Table_A!ET41)","v":0},null,{"$f":"IF(Table_A!EV41=\":\",\":\",Table_A!EV41)","v":0},null,{"$f":"IF(Table_A!EX41=\":\",\":\",Table_A!EX41)","v":0},null,{"$f":"IF(Table_A!EZ41=\":\",\":\",Table_A!EZ41)","v":0},null,{"$f":"IF(Table_A!FB41=\":\",\":\",Table_A!FB41)","v":0},null,{"$f":"IF(Table_A!FD41=\":\",\":\",Table_A!FD41)","v":0},null,{"$f":"IF(Table_A!FF41=\":\",\":\",Table_A!FF41)","v":0},null,{"$f":"IF(Table_A!FH41=\":\",\":\",Table_A!FH41)","v":0},null,{"$f":"IF(Table_A!FJ41=\":\",\":\",Table_A!FJ41)","v":0},null,{"$f":"IF(Table_A!FL41=\":\",\":\",Table_A!FL41)","v":0},null,{"$f":"IF(Table_A!FN41=\":\",\":\",Table_A!FN41)","v":0},null,null,null,{"$f":"IF(Table_B!FR41=\":\",\":\",-Table_B!FR41)","v":0},null,null,null,null,null,{"$f":"SUM(FR15,FP15,FH15,H15,FT15,FV15)","v":0}]
[null,8,null,{"$f":"'PEFA indicators'!B10","v":"PEFA_IND06b"},{"$f":"'PEFA indicators'!C10","v":"    Net domestic energy use for non-energy purposes"},null,null,{"$f":"IF(Table_A!H42=\":\",\":\",Table_A!H42)","v":0},null,{"$f":"IF(Table_A!J42=\":\",\":\",Table_A!J42)","v":0},null,{"$f":"IF(Table_A!L42=\":\",\":\",Table_A!L42)","v":0},null,{"$f":"IF(Table_A!N42=\":\",\":\",Table_A!N42)","v":0},null,{"$f":"IF(Table_A!P42=\":\",\":\",Table_A!P42)","v":0},null,{"$f":"IF(Table_A!R42=\":\",\":\",Table_A!R42)","v":0},null,{"$f":"IF(Table_A!T42=\":\",\":\",Table_A!T42)","v":0},null,{"$f":"IF(Table_A!V42=\":\",\":\",Table_A!V42)","v":0},null,{"$f":"IF(Table_A!X42=\":\",\":\",Table_A!X42)","v":0},null,{"$f":"IF(Table_A!Z42=\":\",\":\",Table_A!Z42)","v":0},null,{"$f":"IF(Table_A!AB42=\":\",\":\",Table_A!AB42)","v":0},null,{"$f":"IF(Table_A!AD42=\":\",\":\",Table_A!AD42)","v":0},null,{"$f":"IF(Table_A!AF42=\":\",\":\",Table_A!AF42)","v":0},null,{"$f":"IF(Table_A!AH42=\":\",\":\",Table_A!AH42)","v":0},null,{"$f":"IF(Table_A!AJ42=\":\",\":\",Table_A!AJ42)","v":0},null,{"$f":"IF(Table_A!AL42=\":\",\":\",Table_A!AL42)","v":0},null,{"$f":"IF(Table_A!AN42=\":\",\":\",Table_A!AN42)","v":0},null,{"$f":"IF(Table_A!AP42=\":\",\":\",Table_A!AP42)","v":0},null,{"$f":"IF(Table_A!AR42=\":\",\":\",Table_A!AR42)","v":0},null,{"$f":"IF(Table_A!AT42=\":\",\":\",Table_A!AT42)","v":0},null,{"$f":"IF(Table_A!AV42=\":\",\":\",Table_A!AV42)","v":0},null,{"$f":"IF(Table_A!AX42=\":\",\":\",Table_A!AX42)","v":0},null,{"$f":"IF(Table_A!AZ42=\":\",\":\",Table_A!AZ42)","v":0},null,{"$f":"IF(Table_A!BB42=\":\",\":\",Table_A!BB42)","v":0},null,{"$f":"IF(Table_A!BD42=\":\",\":\",Table_A!BD42)","v":0},null,{"$f":"IF(Table_A!BF42=\":\",\":\",Table_A!BF42)","v":0},null,{"$f":"IF(Table_A!BH42=\":\",\":\",Table_A!BH42)","v":0},null,{"$f":"IF(Table_A!BJ42=\":\",\":\",Table_A!BJ42)","v":0},null,{"$f":"IF(Table_A!BL42=\":\",\":\",Table_A!BL42)","v":0},null,{"$f":"IF(Table_A!BN42=\":\",\":\",Table_A!BN42)","v":0},null,{"$f":"IF(Table_A!BP42=\":\",\":\",Table_A!BP42)","v":0},null,{"$f":"IF(Table_A!BR42=\":\",\":\",Table_A!BR42)","v":0},null,{"$f":"IF(Table_A!BT42=\":\",\":\",Table_A!BT42)","v":0},null,{"$f":"IF(Table_A!BV42=\":\",\":\",Table_A!BV42)","v":0},null,{"$f":"IF(Table_A!BX42=\":\",\":\",Table_A!BX42)","v":0},null,{"$f":"IF(Table_A!BZ42=\":\",\":\",Table_A!BZ42)","v":0},null,{"$f":"IF(Table_A!CB42=\":\",\":\",Table_A!CB42)","v":0},null,{"$f":"IF(Table_A!CD42=\":\",\":\",Table_A!CD42)","v":0},null,{"$f":"IF(Table_A!CF42=\":\",\":\",Table_A!CF42)","v":0},null,{"$f":"IF(Table_A!CH42=\":\",\":\",Table_A!CH42)","v":0},null,{"$f":"IF(Table_A!CJ42=\":\",\":\",Table_A!CJ42)","v":0},null,{"$f":"IF(Table_A!CL42=\":\",\":\",Table_A!CL42)","v":0},null,{"$f":"IF(Table_A!CN42=\":\",\":\",Table_A!CN42)","v":0},null,{"$f":"IF(Table_A!CP42=\":\",\":\",Table_A!CP42)","v":0},null,{"$f":"IF(Table_A!CR42=\":\",\":\",Table_A!CR42)","v":0},null,{"$f":"IF(Table_A!CT42=\":\",\":\",Table_A!CT42)","v":0},null,{"$f":"IF(Table_A!CV42=\":\",\":\",Table_A!CV42)","v":0},null,{"$f":"IF(Table_A!CX42=\":\",\":\",Table_A!CX42)","v":0},null,{"$f":"IF(Table_A!CZ42=\":\",\":\",Table_A!CZ42)","v":0},null,{"$f":"IF(Table_A!DB42=\":\",\":\",Table_A!DB42)","v":0},null,{"$f":"IF(Table_A!DD42=\":\",\":\",Table_A!DD42)","v":0},null,{"$f":"IF(Table_A!DF42=\":\",\":\",Table_A!DF42)","v":0},null,{"$f":"IF(Table_A!DH42=\":\",\":\",Table_A!DH42)","v":0},null,{"$f":"IF(Table_A!DJ42=\":\",\":\",Table_A!DJ42)","v":0},null,{"$f":"IF(Table_A!DL42=\":\",\":\",Table_A!DL42)","v":0},null,{"$f":"IF(Table_A!DN42=\":\",\":\",Table_A!DN42)","v":0},null,{"$f":"IF(Table_A!DP42=\":\",\":\",Table_A!DP42)","v":0},null,{"$f":"IF(Table_A!DR42=\":\",\":\",Table_A!DR42)","v":0},null,{"$f":"IF(Table_A!DT42=\":\",\":\",Table_A!DT42)","v":0},null,{"$f":"IF(Table_A!DV42=\":\",\":\",Table_A!DV42)","v":0},null,{"$f":"IF(Table_A!DX42=\":\",\":\",Table_A!DX42)","v":0},null,{"$f":"IF(Table_A!DZ42=\":\",\":\",Table_A!DZ42)","v":0},null,{"$f":"IF(Table_A!EB42=\":\",\":\",Table_A!EB42)","v":0},null,{"$f":"IF(Table_A!ED42=\":\",\":\",Table_A!ED42)","v":0},null,{"$f":"IF(Table_A!EF42=\":\",\":\",Table_A!EF42)","v":0},null,{"$f":"IF(Table_A!EH42=\":\",\":\",Table_A!EH42)","v":0},null,{"$f":"IF(Table_A!EJ42=\":\",\":\",Table_A!EJ42)","v":0},null,{"$f":"IF(Table_A!EL42=\":\",\":\",Table_A!EL42)","v":0},null,{"$f":"IF(Table_A!EN42=\":\",\":\",Table_A!EN42)","v":0},null,{"$f":"IF(Table_A!EP42=\":\",\":\",Table_A!EP42)","v":0},null,{"$f":"IF(Table_A!ER42=\":\",\":\",Table_A!ER42)","v":0},null,{"$f":"IF(Table_A!ET42=\":\",\":\",Table_A!ET42)","v":0},null,{"$f":"IF(Table_A!EV42=\":\",\":\",Table_A!EV42)","v":0},null,{"$f":"IF(Table_A!EX42=\":\",\":\",Table_A!EX42)","v":0},null,{"$f":"IF(Table_A!EZ42=\":\",\":\",Table_A!EZ42)","v":0},null,{"$f":"IF(Table_A!FB42=\":\",\":\",Table_A!FB42)","v":0},null,{"$f":"IF(Table_A!FD42=\":\",\":\",Table_A!FD42)","v":0},null,{"$f":"IF(Table_A!FF42=\":\",\":\",Table_A!FF42)","v":0},null,{"$f":"IF(Table_A!FH42=\":\",\":\",Table_A!FH42)","v":0},null,{"$f":"IF(Table_A!FJ42=\":\",\":\",Table_A!FJ42)","v":0},null,{"$f":"IF(Table_A!FL42=\":\",\":\",Table_A!FL42)","v":0},null,{"$f":"IF(Table_A!FN42=\":\",\":\",Table_A!FN42)","v":0},null,null,null,{"$f":"IF(Table_B!FR42=\":\",\":\",-Table_B!FR42)","v":0},null,null,null,null,null,{"$f":"SUM(FR16,FP16,FH16,H16,FT16,FV16)","v":0}]
[null,9,null,{"$f":"'PEFA indicators'!B11","v":"PEFA_IND07"},{"$f":"'PEFA indicators'!C11","v":"Total energy input/output"},null,null,{"$f":"Table_A!H44","v":0},null,{"$f":"Table_A!J44","v":0},null,{"$f":"Table_A!L44","v":0},null,{"$f":"Table_A!N44","v":0},null,{"$f":"Table_A!P44","v":0},null,{"$f":"Table_A!R44","v":0},null,{"$f":"Table_A!T44","v":0},null,{"$f":"Table_A!V44","v":0},null,{"$f":"Table_A!X44","v":0},null,{"$f":"Table_A!Z44","v":0},null,{"$f":"Table_A!AB44","v":0},null,{"$f":"Table_A!AD44","v":0},null,{"$f":"Table_A!AF44","v":0},null,{"$f":"Table_A!AH44","v":0},null,{"$f":"Table_A!AJ44","v":0},null,{"$f":"Table_A!AL44","v":0},null,{"$f":"Table_A!AN44","v":0},null,{"$f":"Table_A!AP44","v":0},null,{"$f":"Table_A!AR44","v":0},null,{"$f":"Table_A!AT44","v":0},null,{"$f":"Table_A!AV44","v":0},null,{"$f":"Table_A!AX44","v":0},null,{"$f":"Table_A!AZ44","v":0},null,{"$f":"Table_A!BB44","v":0},null,{"$f":"Table_A!BD44","v":0},null,{"$f":"Table_A!BF44","v":0},null,{"$f":"Table_A!BH44","v":0},null,{"$f":"Table_A!BJ44","v":0},null,{"$f":"Table_A!BL44","v":0},null,{"$f":"Table_A!BN44","v":0},null,{"$f":"Table_A!BP44","v":0},null,{"$f":"Table_A!BR44","v":0},null,{"$f":"Table_A!BT44","v":0},null,{"$f":"Table_A!BV44","v":0},null,{"$f":"Table_A!BX44","v":0},null,{"$f":"Table_A!BZ44","v":0},null,{"$f":"Table_A!CB44","v":0},null,{"$f":"Table_A!CD44","v":0},null,{"$f":"Table_A!CF44","v":0},null,{"$f":"Table_A!CH44","v":0},null,{"$f":"Table_A!CJ44","v":0},null,{"$f":"Table_A!CL44","v":0},null,{"$f":"Table_A!CN44","v":0},null,{"$f":"Table_A!CP44","v":0},null,{"$f":"Table_A!CR44","v":0},null,{"$f":"Table_A!CT44","v":0},null,{"$f":"Table_A!CV44","v":0},null,{"$f":"Table_A!CX44","v":0},null,{"$f":"Table_A!CZ44","v":0},null,{"$f":"Table_A!DB44","v":0},null,{"$f":"Table_A!DD44","v":0},null,{"$f":"Table_A!DF44","v":0},null,{"$f":"Table_A!DH44","v":0},null,{"$f":"Table_A!DJ44","v":0},null,{"$f":"Table_A!DL44","v":0},null,{"$f":"Table_A!DN44","v":0},null,{"$f":"Table_A!DP44","v":0},null,{"$f":"Table_A!DR44","v":0},null,{"$f":"Table_A!DT44","v":0},null,{"$f":"Table_A!DV44","v":0},null,{"$f":"Table_A!DX44","v":0},null,{"$f":"Table_A!DZ44","v":0},null,{"$f":"Table_A!EB44","v":0},null,{"$f":"Table_A!ED44","v":0},null,{"$f":"Table_A!EF44","v":0},null,{"$f":"Table_A!EH44","v":0},null,{"$f":"Table_A!EJ44","v":0},null,{"$f":"Table_A!EL44","v":0},null,{"$f":"Table_A!EN44","v":0},null,{"$f":"Table_A!EP44","v":0},null,{"$f":"Table_A!ER44","v":0},null,{"$f":"Table_A!ET44","v":0},null,{"$f":"Table_A!EV44","v":0},null,{"$f":"Table_A!EX44","v":0},null,{"$f":"Table_A!EZ44","v":0},null,{"$f":"Table_A!FB44","v":0},null,{"$f":"Table_A!FD44","v":0},null,{"$f":"Table_A!FF44","v":0},null,{"$f":"Table_A!FH44","v":0},null,{"$f":"Table_A!FJ44","v":0},null,{"$f":"Table_A!FL44","v":0},null,{"$f":"Table_A!FN44","v":0},null,{"$f":"Table_A!FP44","v":0},null,null,null,null,null,null,null,0]
[null,10,null,{"$f":"'PEFA indicators'!B12","v":"PEFA_IND08"},{"$f":"'PEFA indicators'!C12","v":"Emission-relevant use of energy"},null,null,{"$f":"Table_C!H44","v":0},null,{"$f":"Table_C!J44","v":0},null,{"$f":"Table_C!L44","v":0},null,{"$f":"Table_C!N44","v":0},null,{"$f":"Table_C!P44","v":0},null,{"$f":"Table_C!R44","v":0},null,{"$f":"Table_C!T44","v":0},null,{"$f":"Table_C!V44","v":0},null,{"$f":"Table_C!X44","v":0},null,{"$f":"Table_C!Z44","v":0},null,{"$f":"Table_C!AB44","v":0},null,{"$f":"Table_C!AD44","v":0},null,{"$f":"Table_C!AF44","v":0},null,{"$f":"Table_C!AH44","v":0},null,{"$f":"Table_C!AJ44","v":0},null,{"$f":"Table_C!AL44","v":0},null,{"$f":"Table_C!AN44","v":0},null,{"$f":"Table_C!AP44","v":0},null,{"$f":"Table_C!AR44","v":0},null,{"$f":"Table_C!AT44","v":0},null,{"$f":"Table_C!AV44","v":0},null,{"$f":"Table_C!AX44","v":0},null,{"$f":"Table_C!AZ44","v":0},null,{"$f":"Table_C!BB44","v":0},null,{"$f":"Table_C!BD44","v":0},null,{"$f":"Table_C!BF44","v":0},null,{"$f":"Table_C!BH44","v":0},null,{"$f":"Table_C!BJ44","v":0},null,{"$f":"Table_C!BL44","v":0},null,{"$f":"Table_C!BN44","v":0},null,{"$f":"Table_C!BP44","v":0},null,{"$f":"Table_C!BR44","v":0},null,{"$f":"Table_C!BT44","v":0},null,{"$f":"Table_C!BV44","v":0},null,{"$f":"Table_C!BX44","v":0},null,{"$f":"Table_C!BZ44","v":0},null,{"$f":"Table_C!CB44","v":0},null,{"$f":"Table_C!CD44","v":0},null,{"$f":"Table_C!CF44","v":0},null,{"$f":"Table_C!CH44","v":0},null,{"$f":"Table_C!CJ44","v":0},null,{"$f":"Table_C!CL44","v":0},null,{"$f":"Table_C!CN44","v":0},null,{"$f":"Table_C!CP44","v":0},null,{"$f":"Table_C!CR44","v":0},null,{"$f":"Table_C!CT44","v":0},null,{"$f":"Table_C!CV44","v":0},null,{"$f":"Table_C!CX44","v":0},null,{"$f":"Table_C!CZ44","v":0},null,{"$f":"Table_C!DB44","v":0},null,{"$f":"Table_C!DD44","v":0},null,{"$f":"Table_C!DF44","v":0},null,{"$f":"Table_C!DH44","v":0},null,{"$f":"Table_C!DJ44","v":0},null,{"$f":"Table_C!DL44","v":0},null,{"$f":"Table_C!DN44","v":0},null,{"$f":"Table_C!DP44","v":0},null,{"$f":"Table_C!DR44","v":0},null,{"$f":"Table_C!DT44","v":0},null,{"$f":"Table_C!DV44","v":0},null,{"$f":"Table_C!DX44","v":0},null,{"$f":"Table_C!DZ44","v":0},null,{"$f":"Table_C!EB44","v":0},null,{"$f":"Table_C!ED44","v":0},null,{"$f":"Table_C!EF44","v":0},null,{"$f":"Table_C!EH44","v":0},null,{"$f":"Table_C!EJ44","v":0},null,{"$f":"Table_C!EL44","v":0},null,{"$f":"Table_C!EN44","v":0},null,{"$f":"Table_C!EP44","v":0},null,{"$f":"Table_C!ER44","v":0},null,{"$f":"Table_C!ET44","v":0},null,{"$f":"Table_C!EV44","v":0},null,{"$f":"Table_C!EX44","v":0},null,{"$f":"Table_C!EZ44","v":0},null,{"$f":"Table_C!FB44","v":0},null,{"$f":"Table_C!FD44","v":0},null,{"$f":"Table_C!FF44","v":0},null,{"$f":"Table_C!FH44","v":0},null,{"$f":"Table_C!FJ44","v":0},null,{"$f":"Table_C!FL44","v":0},null,{"$f":"Table_C!FN44","v":0},null,null,null,{"$f":"Table_C!FR44","v":0},null,null,null,null,null,{"$f":"IF(OR(H18=\":\",FH18=\":\",FP18=\":\",FR18=\":\",FT18=\":\",FV18=\":\"),\":\",SUM(FR18,FP18,FH18,H18,FT18,FV18))","v":0}]
[null,11,null,{"$f":"'PEFA indicators'!B13","v":"PEFA_IND09"},{"$f":"'PEFA indicators'!C13","v":"Direct energy input (DEI)"},null,null,null,null,null,null,null,null,null,null,null,null,null,null,null,null,null,null,null,null,null,null,null,null,null,null,null,null,null,null,null,null,null,null,null,null,null,null,null,null,null,null,null,null,null,null,null,null,null,null,null,null,null,null,null,null,null,null,null,null,null,null,null,null,null,null,null,null,null,null,null,null,null,null,null,null,null,null,null,null,null,null,null,null,null,null,null,null,null,null,null,null,null,null,null,null,null,null,null,null,null,null,null,null,null,null,null,null,null,null,null,null,null,null,null,null,null,null,null,null,null,null,null,null,null,null,null,null,null,null,null,null,null,null,null,null,null,null,null,null,null,null,null,null,null,null,null,null,null,null,null,null,null,null,null,null,null,null,null,null,null,null,null,null,null,null,null,null,null,null,null,null,null,null,{"$f":"Table_B!FX9+Table_A!FT44","v":0}]
[null,12,null,{"$f":"'PEFA indicators'!B14","v":"PEFA_IND10"},{"$f":"'PEFA indicators'!C14","v":"Direct energy outputs"},null,null,null,null,null,null,null,null,null,null,null,null,null,null,null,null,null,null,null,null,null,null,null,null,null,null,null,null,null,null,null,null,null,null,null,null,null,null,null,null,null,null,null,null,null,null,null,null,null,null,null,null,null,null,null,null,null,null,null,null,null,null,null,null,null,null,null,null,null,null,null,null,null,null,null,null,null,null,null,null,null,null,null,null,null,null,null,null,null,null,null,null,null,null,null,null,null,null,null,null,null,null,null,null,null,null,null,null,null,null,null,null,null,null,null,null,null,null,null,null,null,null,null,null,null,null,null,null,null,null,null,null,null,null,null,null,null,null,null,null,null,null,null,null,null,null,null,null,null,null,null,null,null,null,null,null,null,null,null,null,null,null,null,null,null,null,null,null,null,null,null,null,null,null,{"$f":"Table_B!FV44+Table_B!FT44","v":0}]
[null,13,null,{"$f":"'PEFA indicators'!B15","v":"PEFA_IND11"},{"$f":"'PEFA indicators'!C15","v":"Net additions to stock (calculated)"},null,null,null,null,null,null,null,null,null,null,null,null,null,null,null,null,null,null,null,null,null,null,null,null,null,null,null,null,null,null,null,null,null,null,null,null,null,null,null,null,null,null,null,null,null,null,null,null,null,null,null,null,null,null,null,null,null,null,null,null,null,null,null,null,null,null,null,null,null,null,null,null,null,null,null,null,null,null,null,null,null,null,null,null,null,null,null,null,null,null,null,null,null,null,null,null,null,null,null,null,null,null,null,null,null,null,null,null,null,null,null,null,null,null,null,null,null,null,null,null,null,null,null,null,null,null,null,null,null,null,null,null,null,null,null,null,null,null,null,null,null,null,null,null,null,null,null,null,null,null,null,null,null,null,null,null,null,null,null,null,null,null,null,null,null,null,null,null,null,null,null,null,null,null,{"$f":"FX19-FX20","v":0}]
[null,14,null,{"$f":"'PEFA indicators'!B16","v":"PEFA_IND12"},{"$f":"'PEFA indicators'!C16","v":"Net additions to stock (reported)"},null,null,null,null,null,null,null,null,null,null,null,null,null,null,null,null,null,null,null,null,null,null,null,null,null,null,null,null,null,null,null,null,null,null,null,null,null,null,null,null,null,null,null,null,null,null,null,null,null,null,null,null,null,null,null,null,null,null,null,null,null,null,null,null,null,null,null,null,null,null,null,null,null,null,null,null,null,null,null,null,null,null,null,null,null,null,null,null,null,null,null,null,null,null,null,null,null,null,null,null,null,null,null,null,null,null,null,null,null,null,null,null,null,null,null,null,null,null,null,null,null,null,null,null,null,null,null,null,null,null,null,null,null,null,null,null,null,null,null,null,null,null,null,null,null,null,null,null,null,null,null,null,null,null,null,null,null,null,null,null,null,null,null,null,null,null,null,null,null,null,null,null,null,null,{"$f":"Table_B!FP44-Table_A!FP44+Table_B!FR44","v":0}]
[null,15,null,{"$f":"'PEFA indicators'!B17","v":"PEFA_IND13"},{"$f":"'PEFA indicators'!C17","v":"Domestic energy consumption"},null,null,null,null,null,null,null,null,null,null,null,null,null,null,null,null,null,null,null,null,null,null,null,null,null,null,null,null,null,null,null,null,null,null,null,null,null,null,null,null,null,null,null,null,null,null,null,null,null,null,null,null,null,null,null,null,null,null,null,null,null,null,null,null,null,null,null,null,null,null,null,null,null,null,null,null,null,null,null,null,null,null,null,null,null,null,null,null,null,null,null,null,null,null,null,null,null,null,null,null,null,null,null,null,null,null,null,null,null,null,null,null,null,null,null,null,null,null,null,null,null,null,null,null,null,null,null,null,null,null,null,null,null,null,null,null,null,null,null,null,null,null,null,null,null,null,null,null,null,null,null,null,null,null,null,null,null,null,null,null,null,null,null,null,null,null,null,null,null,null,null,null,null,null,{"$f":"FX19-Table_B!FT44","v":0}]
[null,16,null,{"$f":"'PEFA indicators'!B18","v":"PEFA_IND14"},{"$f":"'PEFA indicators'!C18","v":"Imports of energy products and energy residuals (waste for energetic use)"},null,null,null,null,null,null,null,null,null,null,null,null,null,null,null,null,null,null,null,null,null,null,null,null,null,null,null,null,null,null,null,null,null,null,null,null,null,null,null,null,null,null,null,null,null,null,null,null,null,null,null,null,null,null,null,null,null,null,null,null,null,null,null,null,null,null,null,null,null,null,null,null,null,null,null,null,null,null,null,null,null,null,null,null,null,null,null,null,null,null,null,null,null,null,null,null,null,null,null,null,null,null,null,null,null,null,null,null,null,null,null,null,null,null,null,null,null,null,null,null,null,null,null,null,null,null,null,null,null,null,null,null,null,null,null,null,null,null,null,null,null,null,null,null,null,null,null,null,null,null,null,null,null,null,null,null,null,null,null,null,null,null,null,null,null,null,null,null,null,null,null,null,null,null,{"$f":"Table_A!FT44","v":0}]
[null,17,null,{"$f":"'PEFA indicators'!B19","v":"PEFA_IND14a"},{"$f":"'PEFA indicators'!C19","v":"Imports of energy products"},null,null,null,null,null,null,null,null,null,null,null,null,null,null,null,null,null,null,null,null,null,null,null,null,null,null,null,null,null,null,null,null,null,null,null,null,null,null,null,null,null,null,null,null,null,null,null,null,null,null,null,null,null,null,null,null,null,null,null,null,null,null,null,null,null,null,null,null,null,null,null,null,null,null,null,null,null,null,null,null,null,null,null,null,null,null,null,null,null,null,null,null,null,null,null,null,null,null,null,null,null,null,null,null,null,null,null,null,null,null,null,null,null,null,null,null,null,null,null,null,null,null,null,null,null,null,null,null,null,null,null,null,null,null,null,null,null,null,null,null,null,null,null,null,null,null,null,null,null,null,null,null,null,null,null,null,null,null,null,null,null,null,null,null,null,null,null,null,null,null,null,null,null,null,{"$f":"Table_A!FT17","v":0}]
[null,18,null,{"$f":"'PEFA indicators'!B20","v":"PEFA_IND14b"},{"$f":"'PEFA indicators'!C20","v":"Imports of energy residuals (waste for energetic use)"},null,null,null,null,null,null,null,null,null,null,null,null,null,null,null,null,null,null,null,null,null,null,null,null,null,null,null,null,null,null,null,null,null,null,null,null,null,null,null,null,null,null,null,null,null,null,null,null,null,null,null,null,null,null,null,null,null,null,null,null,null,null,null,null,null,null,null,null,null,null,null,null,null,null,null,null,null,null,null,null,null,null,null,null,null,null,null,null,null,null,null,null,null,null,null,null,null,null,null,null,null,null,null,null,null,null,null,null,null,null,null,null,null,null,null,null,null,null,null,null,null,null,null,null,null,null,null,null,null,null,null,null,null,null,null,null,null,null,null,null,null,null,null,null,null,null,null,null,null,null,null,null,null,null,null,null,null,null,null,null,null,null,null,null,null,null,null,null,null,null,null,null,null,null,{"$f":"Table_A!FT38","v":0}]
[null,19,null,{"$f":"'PEFA indicators'!B21","v":"PEFA_IND15"},{"$f":"'PEFA indicators'!C21","v":"Domestic processed output"},null,null,null,null,null,null,null,null,null,null,null,null,null,null,null,null,null,null,null,null,null,null,null,null,null,null,null,null,null,null,null,null,null,null,null,null,null,null,null,null,null,null,null,null,null,null,null,null,null,null,null,null,null,null,null,null,null,null,null,null,null,null,null,null,null,null,null,null,null,null,null,null,null,null,null,null,null,null,null,null,null,null,null,null,null,null,null,null,null,null,null,null,null,null,null,null,null,null,null,null,null,null,null,null,null,null,null,null,null,null,null,null,null,null,null,null,null,null,null,null,null,null,null,null,null,null,null,null,null,null,null,null,null,null,null,null,null,null,null,null,null,null,null,null,null,null,null,null,null,null,null,null,null,null,null,null,null,null,null,null,null,null,null,null,null,null,null,null,null,null,null,null,null,null,{"$f":"Table_B!FV44","v":0}]
[null,20,null,{"$f":"'PEFA indicators'!B22","v":"PEFA_IND16"},{"$f":"'PEFA indicators'!C22","v":"Exports of energy products and residuals"},null,null,null,null,null,null,null,null,null,null,null,null,null,null,null,null,null,null,null,null,null,null,null,null,null,null,null,null,null,null,null,null,null,null,null,null,null,null,null,null,null,null,null,null,null,null,null,null,null,null,null,null,null,null,null,null,null,null,null,null,null,null,null,null,null,null,null,null,null,null,null,null,null,null,null,null,null,null,null,null,null,null,null,null,null,null,null,null,null,null,null,null,null,null,null,null,null,null,null,null,null,null,null,null,null,null,null,null,null,null,null,null,null,null,null,null,null,null,null,null,null,null,null,null,null,null,null,null,null,null,null,null,null,null,null,null,null,null,null,null,null,null,null,null,null,null,null,null,null,null,null,null,null,null,null,null,null,null,null,null,null,null,null,null,null,null,null,null,null,null,null,null,null,null,{"$f":"Table_B!FT44","v":0}]
[null,21,null,{"$f":"'PEFA indicators'!B23","v":"PEFA_IND17"},{"$f":"'PEFA indicators'!C23","v":"Net changes (use minus supply) of energy products and residuals in inventories and produced assets"},null,null,null,null,null,null,null,null,null,null,null,null,null,null,null,null,null,null,null,null,null,null,null,null,null,null,null,null,null,null,null,null,null,null,null,null,null,null,null,null,null,null,null,null,null,null,null,null,null,null,null,null,null,null,null,null,null,null,null,null,null,null,null,null,null,null,null,null,null,null,null,null,null,null,null,null,null,null,null,null,null,null,null,null,null,null,null,null,null,null,null,null,null,null,null,null,null,null,null,null,null,null,null,null,null,null,null,null,null,null,null,null,null,null,null,null,null,null,null,null,null,null,null,null,null,null,null,null,null,null,null,null,null,null,null,null,null,null,null,null,null,null,null,null,null,null,null,null,null,null,null,null,null,null,null,null,null,null,null,null,null,null,null,null,null,null,null,null,null,null,null,null,null,null,{"$f":"FX31-FX30","v":0}]
[null,22,null,{"$f":"'PEFA indicators'!B24","v":"PEFA_IND17a"},{"$f":"'PEFA indicators'!C24","v":"Supply of energy residuals from stock"},null,null,null,null,null,null,null,null,null,null,null,null,null,null,null,null,null,null,null,null,null,null,null,null,null,null,null,null,null,null,null,null,null,null,null,null,null,null,null,null,null,null,null,null,null,null,null,null,null,null,null,null,null,null,null,null,null,null,null,null,null,null,null,null,null,null,null,null,null,null,null,null,null,null,null,null,null,null,null,null,null,null,null,null,null,null,null,null,null,null,null,null,null,null,null,null,null,null,null,null,null,null,null,null,null,null,null,null,null,null,null,null,null,null,null,null,null,null,null,null,null,null,null,null,null,null,null,null,null,null,null,null,null,null,null,null,null,null,null,null,null,null,null,null,null,null,null,null,null,null,null,null,null,null,null,null,null,null,null,null,null,null,null,null,null,null,null,null,null,null,null,null,null,null,{"$f":"Table_A!FP44","v":0}]
[null,23,null,{"$f":"'PEFA indicators'!B25","v":"PEFA_IND17b"},{"$f":"'PEFA indicators'!C25","v":"Additions (use) of energy products and residuals to stocks"},null,null,null,null,null,null,null,null,null,null,null,null,null,null,null,null,null,null,null,null,null,null,null,null,null,null,null,null,null,null,null,null,null,null,null,null,null,null,null,null,null,null,null,null,null,null,null,null,null,null,null,null,null,null,null,null,null,null,null,null,null,null,null,null,null,null,null,null,null,null,null,null,null,null,null,null,null,null,null,null,null,null,null,null,null,null,null,null,null,null,null,null,null,null,null,null,null,null,null,null,null,null,null,null,null,null,null,null,null,null,null,null,null,null,null,null,null,null,null,null,null,null,null,null,null,null,null,null,null,null,null,null,null,null,null,null,null,null,null,null,null,null,null,null,null,null,null,null,null,null,null,null,null,null,null,null,null,null,null,null,null,null,null,null,null,null,null,null,null,null,null,null,null,null,{"$f":"Table_B!FP44","v":0}]
[null,24,null,{"$f":"'PEFA indicators'!B26","v":"PEFA_IND18"},{"$f":"'PEFA indicators'!C26","v":"Statistical discrepancy between supply and use of energy products and residuals"},null,null,null,null,null,null,null,null,null,null,null,null,null,null,null,null,null,null,null,null,null,null,null,null,null,null,null,null,null,null,null,null,null,null,null,null,null,null,null,null,null,null,null,null,null,null,null,null,null,null,null,null,null,null,null,null,null,null,null,null,null,null,null,null,null,null,null,null,null,null,null,null,null,null,null,null,null,null,null,null,null,null,null,null,null,null,null,null,null,null,null,null,null,null,null,null,null,null,null,null,null,null,null,null,null,null,null,null,null,null,null,null,null,null,null,null,null,null,null,null,null,null,null,null,null,null,null,null,null,null,null,null,null,null,null,null,null,null,null,null,null,null,null,null,null,null,null,null,null,null,null,null,null,null,null,null,null,null,null,null,null,null,null,null,null,null,null,null,null,null,null,null,null,null,{"$f":"Table_B!FR44","v":0}]

{"sheet":"Table_E","index":18,"n_rows":50,"n_cols":19,"rows_kept":50,"cut":false,"hidden":false,"merged":[[1,17,5,17],[1,16,4,16],[1,13,4,13],[1,14,4,14],[33,2,33,5],[32,2,32,5],[26,2,26,5],[25,2,25,5],[24,2,24,5],[23,2,23,5],[31,2,31,5],[30,2,30,5],[29,2,29,5],[28,2,28,5],[27,2,27,5],[1,15,4,15],[4,1,4,2],[4,3,4,5],[5,1,5,2],[5,3,5,5],[1,1,1,2],[1,3,1,5],[2,1,2,2],[2,3,2,5],[3,1,3,2],[3,3,3,5]]}
["DATAENTRY"]
[null,"Country :",null,{"$f":"IF(intro!D12=\"\",\"\",intro!D12)","v":""},null,null,null,null,null,null,null,null,null,"UNIT_MEASURE","UNIT_MULT","PROD_NRG","STK_FLOW","INDIC_PEFA"]
[null,"Year :",null,{"$f":"IF(intro!E14=\"\",\"\",intro!E14)","v":""}]
[null,"Number and Type:",null,"Table E - Bridge table"]
[null,"Content:",null,"Energy accounts indicator (residence principle)  to energy statistics indicator (territory principle)"]
[null,"Unit :",null,"TJ"]
[]
[null,1,"DEU_RES","Energy use by resident units (domestic energy use) – residence principle",{"$f":"Table_D!FX14","v":0},null,null,null,null,null,null,null,null,"TJ",0,"N00_P00_R00","USE","EUSE_RES","BEWARE: Codes start in a different row than all other tables"]
[null,2,"TOT_NRA","(−) Energy use by resident units, fuel purchased abroad – total",{"$f":"SUM(E10:E13)","v":0},null,null,null,null,null,null,null,null,null,null,null,null,"EUSE_RES_ABR"]
[null,2.1,"NRA_FISH","      Energy use by resident units, fuel purchased abroad – fishing vessels",0,null,null,null,null,null,null,null,null,null,null,null,null,"EUSE_RES_ABR_FWTR"]
[null,2.2000000000000002,"NRA_I60","      Energy use by resident units, fuel purchased abroad – land transport",0,null,null,null,null,null,null,null,null,null,null,null,null,"EUSE_RES_ABR_LTR"]
[null,2.2999999999999998,"NRA_I61","      Energy use by resident units, fuel purchased abroad – water transport",0,null,null,null,null,null,null,null,null,null,null,null,null,"EUSE_RES_ABR_WTR"]
[null,2.4,"NRA_I62","      Energy use by resident units, fuel purchased abroad – air transport",0,null,null,null,null,null,null,null,null,null,null,null,null,"EUSE_RES_ABR_ATR"]
[null,3,"TOT_NRES","(+) Energy use by non-resident units (only if included in gross inland energy consumption), fuel purchased on the territory – total",{"$f":"SUM(E15:E17)","v":0},null,null,null,null,null,null,null,null,null,null,null,null,"EUSE_TER_NRES"]
[null,3.1,"NRES_I60","      Energy use by non-resident units (only if included in gross inland energy consumption), fuel purchased on the territory – land transport",0,null,null,null,null,null,null,null,null,null,null,null,null,"EUSE_TER_NRES_LTR"]
[null,3.2,"NRES_I61","      Energy use by non-resident units (only if included in gross inland energy consumption), fuel purchased on the territory – water transport",0,null,null,null,null,null,null,null,null,null,null,null,null,"EUSE_TER_NRES_WTR"]
[null,3.3,"NRES_I62","      Energy use by non-resident units (only if included in gross inland energy consumption), fuel purchased on the territory – air transport",0,null,null,null,null,null,null,null,null,null,null,null,null,"EUSE_TER_NRES_ATR"]
[null,4,"ADJ_OTH","(+) Other adjustments and statistical differences",{"$f":"E20-E8+SUM(E10:E13)-SUM(E15:E17)","v":0},null,null,null,null,null,null,null,null,null,null,null,null,"ADJ_SD"]
[null,"4.m","MEMO_BEYO5AQ","         of which (memo): energy flows not reported in energy statistics but included in PEFA (bridging item 1)",0,null,null,null,null,null,null,null,null,null,null,null,null,"ADJ_SD_DUXGIC"]
[null,5,"GIC_TER","(=) Gross inland consumption - territory principle",0,null,null,null,null,null,null,null,null,null,null,null,null,"EUSE_TER"]
[]
[]
[null,"Explanations:"]
[null,"item 1","This value is automatically sourced from Table D, sum of row 6."]
[null,"item 2.1","Fuel bunkered abroad by fishing vessels operated by resident units."]
[null,"item 2.2","Fuel purchased abroad by resident units for undertaking land transport (including rail)."]
[null,"item 2.3","Fuels purchased (1) in the rest of the world by resident units operating water transport (excl. fishing vessels); and (2) fuel purchased from international marine bunkers located in domestic ports (as reported by national energy statistics) by resident units operating water transport (excl. fishing vessels).*"]
[null,"item 2.4","Fuel bunkered by resident units abroad for undertaking international aviation and for undertaking domestic aviation abroad.*"]
[null,"item 3.1","Fuel purchased by non-resident units on the territory for undertaking land transport (including rail)."]
[null,"item 3.2","Fuel bunkered on the territory (1) by non-resident units for undertaking domestic navigation, and (2) by fishing vessels operated by non-resident units.*"]
[null,"item 3.3 ","Fuel bunkered by non-resident units on the territory for undertaking domestic and international aviation.*"]
[null,"item 4","Other adjustments and statistical discrepancies: including energy use recorded in PEFA but not recorded in energy statistics (IEA/Eurostat annual questionnaires) and hence not included in GIC (see item 4.m)."]
[null,"item 4.m","It is possible that bridging item 1 includes energy flows beyond those reported in energy statistics, and hence not included in item 5 which is derived from energy statistics.\nThese 'beyond energy statistics flows' are included in bridging item 4 and may be presented here as a separate memo item."]
[null,"item 5","Gross inland consumption (GIC) as compiled and published by Eurostat (internationally harmonised).\nNotably, GIC excludes any fuel use for international navigation ('international marine bunkers').\n"]
[null,null,"When to extract:","August - September 2023"]
[null,null,"Source for extraction: ","https://ec.europa.eu/eurostat/web/energy/data/database"]
[null,null,"Pathway:","Energy > Energy statistics - quantitites > Energy statistics - quantities, annual data (nrg_quanta) > Energy balances (nrg_bal)> Simplified energy balances (nrg_bal_s)"]
[null,null,"Dimensions:","NRG_BAL = GIC; SIEC = TOTAL; UNIT = TJ"]
[]
[null,"* see:","Short PEFA guidelines on residence adjustments for water and air transport (visual schemes) 2021"]
[]
[]
[]
[]
[]
[]
[]
[]
[]
[null,null,null,"NACE_R2","TOTAL_HH"]

{"sheet":"Check Report","index":19,"n_rows":1,"n_cols":5,"rows_kept":1,"cut":false,"hidden":false,"merged":[]}
["Table","Error type","Cell","Correct total of parts or Error Message","Click on a cell address to be directed to the detected error"]

{"sheet":"Parameter_mapping","index":20,"n_rows":7,"n_cols":2,"rows_kept":7,"cut":false,"hidden":true,"merged":[]}
["Data sheet","Parameter sheet"]
["Table_A","Parameters_Table_A"]
["Table_B","Parameters_Table_B"]
["Table_B.1","Parameters_Table_B.1"]
["Table_B.2","Parameters_Table_B.2"]
["Table_C","Parameters_Table_C"]
["Table_E","Parameters_Table_E"]

{"sheet":"Parameters_Table_A","index":21,"n_rows":16,"n_cols":7,"rows_kept":16,"cut":false,"hidden":true,"merged":[]}
["Element","Type","PosType","Position",null,"DataStart","H9"]
["FREQ","DIM","FIX","A",null,"DataEnd","FX45"]
["REF_AREA","DIM","CELL","E2",null,"TranscodingSheet","Transcoding"]
["TIME_PERIOD","DIM","CELL","E3",null,"ConceptSeparator",")"]
["NACE_R2","DIM","ROW",50,null,"DefaultValue","null"]
["PROD_NRG","DIM","COLUMN","GF",null,"SkipIncompleteKeys","true"]
["STK_FLOW","DIM","CELL","GG9"]
["INDIC_PEFA","DIM","CELL","GH9"]
["UNIT_MEASURE","DIM","CELL","GD9"]
["OBS_STATUS_1","ATT","MIXED","OBS_LEVEL","1/3","FIX","A"]
["OBS_STATUS_2","ATT","OBS_LEVEL","1/4"]
["OBS_STATUS_3","ATT","OBS_LEVEL","1/5"]
["OBS_STATUS_4","ATT","OBS_LEVEL","1/6"]
["CONF_STATUS","ATT","OBS_LEVEL","1/2"]
["COMMENT_OBS","ATT","OBS_LEVEL","1/1"]
["UNIT_MULT","ATT","CELL","GE9"]

{"sheet":"Parameters_Table_B","index":22,"n_rows":16,"n_cols":7,"rows_kept":16,"cut":false,"hidden":true,"merged":[]}
["Element","Type","PosType","Position",null,"DataStart","H9"]
["FREQ","DIM","FIX","A",null,"DataEnd","FX45"]
["REF_AREA","DIM","CELL","E2",null,"TranscodingSheet","Transcoding"]
["TIME_PERIOD","DIM","CELL","E3",null,"ConceptSeparator",")"]
["NACE_R2","DIM","ROW",50,null,"DefaultValue","null"]
["PROD_NRG","DIM","COLUMN","GF",null,"SkipIncompleteKeys","true"]
["STK_FLOW","DIM","CELL","GG9"]
["INDIC_PEFA","DIM","CELL","GH9"]
["UNIT_MEASURE","DIM","CELL","GD9"]
["OBS_STATUS_1","ATT","MIXED","OBS_LEVEL","1/3","FIX","A"]
["OBS_STATUS_2","ATT","OBS_LEVEL","1/4"]
["OBS_STATUS_3","ATT","OBS_LEVEL","1/5"]
["OBS_STATUS_4","ATT","OBS_LEVEL","1/6"]
["CONF_STATUS","ATT","OBS_LEVEL","1/2"]
["COMMENT_OBS","ATT","OBS_LEVEL","1/1"]
["UNIT_MULT","ATT","CELL","GE9"]

{"sheet":"Parameters_Table_B.1","index":23,"n_rows":16,"n_cols":7,"rows_kept":16,"cut":false,"hidden":true,"merged":[]}
["Element","Type","PosType","Position",null,"DataStart","H9"]
["FREQ","DIM","FIX","A",null,"DataEnd","FX45"]
["REF_AREA","DIM","CELL","E2",null,"TranscodingSheet","Transcoding"]
["TIME_PERIOD","DIM","CELL","E3",null,"ConceptSeparator",")"]
["NACE_R2","DIM","ROW",50,null,"DefaultValue","null"]
["PROD_NRG","DIM","COLUMN","GF",null,"SkipIncompleteKeys","true"]
["STK_FLOW","DIM","CELL","GG9"]
["INDIC_PEFA","DIM","CELL","GH9"]
["UNIT_MEASURE","DIM","CELL","GD9"]
["OBS_STATUS_1","ATT","MIXED","OBS_LEVEL","1/3","FIX","A"]
["OBS_STATUS_2","ATT","OBS_LEVEL","1/4"]
["OBS_STATUS_3","ATT","OBS_LEVEL","1/5"]
["OBS_STATUS_4","ATT","OBS_LEVEL","1/6"]
["CONF_STATUS","ATT","OBS_LEVEL","1/2"]
["COMMENT_OBS","ATT","OBS_LEVEL","1/1"]
["UNIT_MULT","ATT","CELL","GE9"]

{"sheet":"Parameters_Table_B.2","index":24,"n_rows":16,"n_cols":7,"rows_kept":16,"cut":false,"hidden":true,"merged":[]}
["Element","Type","PosType","Position",null,"DataStart","H9"]
["FREQ","DIM","FIX","A",null,"DataEnd","FX45"]
["REF_AREA","DIM","CELL","E2",null,"TranscodingSheet","Transcoding"]
["TIME_PERIOD","DIM","CELL","E3",null,"ConceptSeparator",")"]
["NACE_R2","DIM","ROW",50,null,"DefaultValue","null"]
["PROD_NRG","DIM","COLUMN","GF",null,"SkipIncompleteKeys","true"]
["STK_FLOW","DIM","CELL","GG9"]
["INDIC_PEFA","DIM","CELL","GH9"]
["UNIT_MEASURE","DIM","CELL","GD9"]
["OBS_STATUS_1","ATT","MIXED","OBS_LEVEL","1/3","FIX","A"]
["OBS_STATUS_2","ATT","OBS_LEVEL","1/4"]
["OBS_STATUS_3","ATT","OBS_LEVEL","1/5"]
["OBS_STATUS_4","ATT","OBS_LEVEL","1/6"]
["CONF_STATUS","ATT","OBS_LEVEL","1/2"]
["COMMENT_OBS","ATT","OBS_LEVEL","1/1"]
["UNIT_MULT","ATT","CELL","GE9"]

{"sheet":"Parameters_Table_C","index":25,"n_rows":16,"n_cols":7,"rows_kept":16,"cut":false,"hidden":true,"merged":[]}
["Element","Type","PosType","Position",null,"DataStart","H9"]
["FREQ","DIM","FIX","A",null,"DataEnd","FX44"]
["REF_AREA","DIM","CELL","E2",null,"TranscodingSheet","Transcoding"]
["TIME_PERIOD","DIM","CELL","E3",null,"ConceptSeparator",")"]
["NACE_R2","DIM","ROW",50,null,"DefaultValue","null"]
["PROD_NRG","DIM","COLUMN","GF",null,"SkipIncompleteKeys","true"]
["STK_FLOW","DIM","CELL","GG9"]
["INDIC_PEFA","DIM","CELL","GH9"]
["UNIT_MEASURE","DIM","CELL","GD9"]
["OBS_STATUS_1","ATT","MIXED","OBS_LEVEL","1/3","FIX","A"]
["OBS_STATUS_2","ATT","OBS_LEVEL","1/4"]
["OBS_STATUS_3","ATT","OBS_LEVEL","1/5"]
["OBS_STATUS_4","ATT","OBS_LEVEL","1/6"]
["CONF_STATUS","ATT","OBS_LEVEL","1/2"]
["COMMENT_OBS","ATT","OBS_LEVEL","1/1"]
["UNIT_MULT","ATT","CELL","GE9"]

{"sheet":"Parameters_Table_E","index":26,"n_rows":16,"n_cols":7,"rows_kept":16,"cut":false,"hidden":true,"merged":[]}
["Element","Type","PosType","Position",null,"DataStart","E8"]
["FREQ","DIM","FIX","A",null,"DataEnd","E20"]
["REF_AREA","DIM","CELL","D2",null,"TranscodingSheet","Transcoding"]
["TIME_PERIOD","DIM","CELL","D3",null,"ConceptSeparator",")"]
["NACE_R2","DIM","ROW",50,null,"DefaultValue","null"]
["PROD_NRG","DIM","CELL","P8",null,"SkipIncompleteKeys","true"]
["STK_FLOW","DIM","CELL","Q8"]
["INDIC_PEFA","DIM","COLUMN","R"]
["UNIT_MEASURE","DIM","CELL","N8"]
["OBS_STATUS_1","ATT","MIXED","OBS_LEVEL","1/3","FIX","A"]
["OBS_STATUS_2","ATT","OBS_LEVEL","1/4"]
["OBS_STATUS_3","ATT","OBS_LEVEL","1/5"]
["OBS_STATUS_4","ATT","OBS_LEVEL","1/6"]
["CONF_STATUS","ATT","OBS_LEVEL","1/2"]
["COMMENT_OBS","ATT","OBS_LEVEL","1/1"]
["UNIT_MULT","ATT","CELL","O8"]

{"sheet":"Transcoding","index":27,"n_rows":120,"n_cols":3,"rows_kept":120,"cut":false,"hidden":true,"merged":[]}
["Text","Dimension","Value"]
[":","OBS_VALUE","NaN"]
["b","OBS_STATUS_1","B"]
["e","OBS_STATUS_1","E"]
["p","OBS_STATUS_1","P"]
["s","OBS_STATUS_1","S"]
["b","OBS_STATUS_2","B"]
["e","OBS_STATUS_2","E"]
["p","OBS_STATUS_2","P"]
["s","OBS_STATUS_2","S"]
["b","OBS_STATUS_3","B"]
["e","OBS_STATUS_3","E"]
["p","OBS_STATUS_3","P"]
["s","OBS_STATUS_3","S"]
["b","OBS_STATUS_4","B"]
["e","OBS_STATUS_4","E"]
["p","OBS_STATUS_4","P"]
["s","OBS_STATUS_4","S"]
["c","CONF_STATUS","C"]
["d","CONF_STATUS","D"]
["n","CONF_STATUS","N"]
[1,"COMMENT_OBS",{"$f":"IF(ISBLANK(footnote_list!D17),\"\",footnote_list!D17)","v":""}]
[2,"COMMENT_OBS",{"$f":"IF(ISBLANK(footnote_list!D18),\"\",footnote_list!D18)","v":""}]
[3,"COMMENT_OBS",{"$f":"IF(ISBLANK(footnote_list!D19),\"\",footnote_list!D19)","v":""}]
[4,"COMMENT_OBS",{"$f":"IF(ISBLANK(footnote_list!D20),\"\",footnote_list!D20)","v":""}]
[5,"COMMENT_OBS",{"$f":"IF(ISBLANK(footnote_list!D21),\"\",footnote_list!D21)","v":""}]
[6,"COMMENT_OBS",{"$f":"IF(ISBLANK(footnote_list!D22),\"\",footnote_list!D22)","v":""}]
[7,"COMMENT_OBS",{"$f":"IF(ISBLANK(footnote_list!D23),\"\",footnote_list!D23)","v":""}]
[8,"COMMENT_OBS",{"$f":"IF(ISBLANK(footnote_list!D24),\"\",footnote_list!D24)","v":""}]
[9,"COMMENT_OBS",{"$f":"IF(ISBLANK(footnote_list!D25),\"\",footnote_list!D25)","v":""}]
[10,"COMMENT_OBS",{"$f":"IF(ISBLANK(footnote_list!D26),\"\",footnote_list!D26)","v":""}]
[11,"COMMENT_OBS",{"$f":"IF(ISBLANK(footnote_list!D27),\"\",footnote_list!D27)","v":""}]
[12,"COMMENT_OBS",{"$f":"IF(ISBLANK(footnote_list!D28),\"\",footnote_list!D28)","v":""}]
[13,"COMMENT_OBS",{"$f":"IF(ISBLANK(footnote_list!D29),\"\",footnote_list!D29)","v":""}]
[14,"COMMENT_OBS",{"$f":"IF(ISBLANK(footnote_list!D30),\"\",footnote_list!D30)","v":""}]
[15,"COMMENT_OBS",{"$f":"IF(ISBLANK(footnote_list!D31),\"\",footnote_list!D31)","v":""}]
[16,"COMMENT_OBS",{"$f":"IF(ISBLANK(footnote_list!D32),\"\",footnote_list!D32)","v":""}]
[17,"COMMENT_OBS",{"$f":"IF(ISBLANK(footnote_list!D33),\"\",footnote_list!D33)","v":""}]
[18,"COMMENT_OBS",{"$f":"IF(ISBLANK(footnote_list!D34),\"\",footnote_list!D34)","v":""}]
[19,"COMMENT_OBS",{"$f":"IF(ISBLANK(footnote_list!D35),\"\",footnote_list!D35)","v":""}]
[20,"COMMENT_OBS",{"$f":"IF(ISBLANK(footnote_list!D36),\"\",footnote_list!D36)","v":""}]
[21,"COMMENT_OBS",{"$f":"IF(ISBLANK(footnote_list!D37),\"\",footnote_list!D37)","v":""}]
[22,"COMMENT_OBS",{"$f":"IF(ISBLANK(footnote_list!D38),\"\",footnote_list!D38)","v":""}]
[23,"COMMENT_OBS",{"$f":"IF(ISBLANK(footnote_list!D39),\"\",footnote_list!D39)","v":""}]
[24,"COMMENT_OBS",{"$f":"IF(ISBLANK(footnote_list!D40),\"\",footnote_list!D40)","v":""}]
[25,"COMMENT_OBS",{"$f":"IF(ISBLANK(footnote_list!D41),\"\",footnote_list!D41)","v":""}]
[26,"COMMENT_OBS",{"$f":"IF(ISBLANK(footnote_list!D42),\"\",footnote_list!D42)","v":""}]
[27,"COMMENT_OBS",{"$f":"IF(ISBLANK(footnote_list!D43),\"\",footnote_list!D43)","v":""}]
[28,"COMMENT_OBS",{"$f":"IF(ISBLANK(footnote_list!D44),\"\",footnote_list!D44)","v":""}]
[29,"COMMENT_OBS",{"$f":"IF(ISBLANK(footnote_list!D45),\"\",footnote_list!D45)","v":""}]
[30,"COMMENT_OBS",{"$f":"IF(ISBLANK(footnote_list!D46),\"\",footnote_list!D46)","v":""}]
[31,"COMMENT_OBS",{"$f":"IF(ISBLANK(footnote_list!D47),\"\",footnote_list!D47)","v":""}]
[32,"COMMENT_OBS",{"$f":"IF(ISBLANK(footnote_list!D48),\"\",footnote_list!D48)","v":""}]
[33,"COMMENT_OBS",{"$f":"IF(ISBLANK(footnote_list!D49),\"\",footnote_list!D49)","v":""}]
[34,"COMMENT_OBS",{"$f":"IF(ISBLANK(footnote_list!D50),\"\",footnote_list!D50)","v":""}]
[35,"COMMENT_OBS",{"$f":"IF(ISBLANK(footnote_list!D51),\"\",footnote_list!D51)","v":""}]
[36,"COMMENT_OBS",{"$f":"IF(ISBLANK(footnote_list!D52),\"\",footnote_list!D52)","v":""}]
[37,"COMMENT_OBS",{"$f":"IF(ISBLANK(footnote_list!D53),\"\",footnote_list!D53)","v":""}]
[38,"COMMENT_OBS",{"$f":"IF(ISBLANK(footnote_list!D54),\"\",footnote_list!D54)","v":""}]
[39,"COMMENT_OBS",{"$f":"IF(ISBLANK(footnote_list!D55),\"\",footnote_list!D55)","v":""}]
[40,"COMMENT_OBS",{"$f":"IF(ISBLANK(footnote_list!D56),\"\",footnote_list!D56)","v":""}]
[41,"COMMENT_OBS",{"$f":"IF(ISBLANK(footnote_list!D57),\"\",footnote_list!D57)","v":""}]
[42,"COMMENT_OBS",{"$f":"IF(ISBLANK(footnote_list!D58),\"\",footnote_list!D58)","v":""}]
[43,"COMMENT_OBS",{"$f":"IF(ISBLANK(footnote_list!D59),\"\",footnote_list!D59)","v":""}]
[44,"COMMENT_OBS",{"$f":"IF(ISBLANK(footnote_list!D60),\"\",footnote_list!D60)","v":""}]
[45,"COMMENT_OBS",{"$f":"IF(ISBLANK(footnote_list!D61),\"\",footnote_list!D61)","v":""}]
[46,"COMMENT_OBS",{"$f":"IF(ISBLANK(footnote_list!D62),\"\",footnote_list!D62)","v":""}]
[47,"COMMENT_OBS",{"$f":"IF(ISBLANK(footnote_list!D63),\"\",footnote_list!D63)","v":""}]
[48,"COMMENT_OBS",{"$f":"IF(ISBLANK(footnote_list!D64),\"\",footnote_list!D64)","v":""}]
[49,"COMMENT_OBS",{"$f":"IF(ISBLANK(footnote_list!D65),\"\",footnote_list!D65)","v":""}]
[50,"COMMENT_OBS",{"$f":"IF(ISBLANK(footnote_list!D66),\"\",footnote_list!D66)","v":""}]
[51,"COMMENT_OBS",{"$f":"IF(ISBLANK(footnote_list!D67),\"\",footnote_list!D67)","v":""}]
[52,"COMMENT_OBS",{"$f":"IF(ISBLANK(footnote_list!D68),\"\",footnote_list!D68)","v":""}]
[53,"COMMENT_OBS",{"$f":"IF(ISBLANK(footnote_list!D69),\"\",footnote_list!D69)","v":""}]
[54,"COMMENT_OBS",{"$f":"IF(ISBLANK(footnote_list!D70),\"\",footnote_list!D70)","v":""}]
[55,"COMMENT_OBS",{"$f":"IF(ISBLANK(footnote_list!D71),\"\",footnote_list!D71)","v":""}]
[56,"COMMENT_OBS",{"$f":"IF(ISBLANK(footnote_list!D72),\"\",footnote_list!D72)","v":""}]
[57,"COMMENT_OBS",{"$f":"IF(ISBLANK(footnote_list!D73),\"\",footnote_list!D73)","v":""}]
[58,"COMMENT_OBS",{"$f":"IF(ISBLANK(footnote_list!D74),\"\",footnote_list!D74)","v":""}]
[59,"COMMENT_OBS",{"$f":"IF(ISBLANK(footnote_list!D75),\"\",footnote_list!D75)","v":""}]
[60,"COMMENT_OBS",{"$f":"IF(ISBLANK(footnote_list!D76),\"\",footnote_list!D76)","v":""}]
[61,"COMMENT_OBS",{"$f":"IF(ISBLANK(footnote_list!D77),\"\",footnote_list!D77)","v":""}]
[62,"COMMENT_OBS",{"$f":"IF(ISBLANK(footnote_list!D78),\"\",footnote_list!D78)","v":""}]
[63,"COMMENT_OBS",{"$f":"IF(ISBLANK(footnote_list!D79),\"\",footnote_list!D79)","v":""}]
[64,"COMMENT_OBS",{"$f":"IF(ISBLANK(footnote_list!D80),\"\",footnote_list!D80)","v":""}]
[65,"COMMENT_OBS",{"$f":"IF(ISBLANK(footnote_list!D81),\"\",footnote_list!D81)","v":""}]
[66,"COMMENT_OBS",{"$f":"IF(ISBLANK(footnote_list!D82),\"\",footnote_list!D82)","v":""}]
[67,"COMMENT_OBS",{"$f":"IF(ISBLANK(footnote_list!D83),\"\",footnote_list!D83)","v":""}]
[68,"COMMENT_OBS",{"$f":"IF(ISBLANK(footnote_list!D84),\"\",footnote_list!D84)","v":""}]
[69,"COMMENT_OBS",{"$f":"IF(ISBLANK(footnote_list!D85),\"\",footnote_list!D85)","v":""}]
[70,"COMMENT_OBS",{"$f":"IF(ISBLANK(footnote_list!D86),\"\",footnote_list!D86)","v":""}]
[71,"COMMENT_OBS",{"$f":"IF(ISBLANK(footnote_list!D87),\"\",footnote_list!D87)","v":""}]
[72,"COMMENT_OBS",{"$f":"IF(ISBLANK(footnote_list!D88),\"\",footnote_list!D88)","v":""}]
[73,"COMMENT_OBS",{"$f":"IF(ISBLANK(footnote_list!D89),\"\",footnote_list!D89)","v":""}]
[74,"COMMENT_OBS",{"$f":"IF(ISBLANK(footnote_list!D90),\"\",footnote_list!D90)","v":""}]
[75,"COMMENT_OBS",{"$f":"IF(ISBLANK(footnote_list!D91),\"\",footnote_list!D91)","v":""}]
[76,"COMMENT_OBS",{"$f":"IF(ISBLANK(footnote_list!D92),\"\",footnote_list!D92)","v":""}]
[77,"COMMENT_OBS",{"$f":"IF(ISBLANK(footnote_list!D93),\"\",footnote_list!D93)","v":""}]
[78,"COMMENT_OBS",{"$f":"IF(ISBLANK(footnote_list!D94),\"\",footnote_list!D94)","v":""}]
[79,"COMMENT_OBS",{"$f":"IF(ISBLANK(footnote_list!D95),\"\",footnote_list!D95)","v":""}]
[80,"COMMENT_OBS",{"$f":"IF(ISBLANK(footnote_list!D96),\"\",footnote_list!D96)","v":""}]
[81,"COMMENT_OBS",{"$f":"IF(ISBLANK(footnote_list!D97),\"\",footnote_list!D97)","v":""}]
[82,"COMMENT_OBS",{"$f":"IF(ISBLANK(footnote_list!D98),\"\",footnote_list!D98)","v":""}]
[83,"COMMENT_OBS",{"$f":"IF(ISBLANK(footnote_list!D99),\"\",footnote_list!D99)","v":""}]
[84,"COMMENT_OBS",{"$f":"IF(ISBLANK(footnote_list!D100),\"\",footnote_list!D100)","v":""}]
[85,"COMMENT_OBS",{"$f":"IF(ISBLANK(footnote_list!D101),\"\",footnote_list!D101)","v":""}]
[86,"COMMENT_OBS",{"$f":"IF(ISBLANK(footnote_list!D102),\"\",footnote_list!D102)","v":""}]
[87,"COMMENT_OBS",{"$f":"IF(ISBLANK(footnote_list!D103),\"\",footnote_list!D103)","v":""}]
[88,"COMMENT_OBS",{"$f":"IF(ISBLANK(footnote_list!D104),\"\",footnote_list!D104)","v":""}]
[89,"COMMENT_OBS",{"$f":"IF(ISBLANK(footnote_list!D105),\"\",footnote_list!D105)","v":""}]
[90,"COMMENT_OBS",{"$f":"IF(ISBLANK(footnote_list!D106),\"\",footnote_list!D106)","v":""}]
[91,"COMMENT_OBS",{"$f":"IF(ISBLANK(footnote_list!D107),\"\",footnote_list!D107)","v":""}]
[92,"COMMENT_OBS",{"$f":"IF(ISBLANK(footnote_list!D108),\"\",footnote_list!D108)","v":""}]
[93,"COMMENT_OBS",{"$f":"IF(ISBLANK(footnote_list!D109),\"\",footnote_list!D109)","v":""}]
[94,"COMMENT_OBS",{"$f":"IF(ISBLANK(footnote_list!D110),\"\",footnote_list!D110)","v":""}]
[95,"COMMENT_OBS",{"$f":"IF(ISBLANK(footnote_list!D111),\"\",footnote_list!D111)","v":""}]
[96,"COMMENT_OBS",{"$f":"IF(ISBLANK(footnote_list!D112),\"\",footnote_list!D112)","v":""}]
[97,"COMMENT_OBS",{"$f":"IF(ISBLANK(footnote_list!D113),\"\",footnote_list!D113)","v":""}]
[98,"COMMENT_OBS",{"$f":"IF(ISBLANK(footnote_list!D114),\"\",footnote_list!D114)","v":""}]
[99,"COMMENT_OBS",{"$f":"IF(ISBLANK(footnote_list!D115),\"\",footnote_list!D115)","v":""}]