{"text_format":"1","workbook":"xlsx","n_sheets":31,"sheets":["intro","structure","instructions","Parameter_mapping","Parameters_SDMX_Converter","Transcoding","instructions for ROAD sheets","footnote instructions","footnote_list","Model","Parameters","CO2","CO2_ROAD","Biomass CO2","N2O","CH4","HFC","PFC","SF6_NF3","NOx","NOx_ROAD","SOx","NH3","NMVOC","NMVOC_ROAD","CO","PM10","PM10_ROAD","PM2.5","PM2.5_ROAD","Check Report"],"not_rendered":{"charts":0,"images":1,"macros":1,"external_links":0,"defined_names":21,"comments":17,"pivot_tables":0},"unopened":[],"bounds":{"document_bytes":16777216,"sheet_cells":100000,"rows_first":2000,"rows_last":500,"rows_between":2000,"halvings":0,"cell_chars":16384,"cell_head_chars":4096},"cells_cut":0,"cells_raw":0,"read":"whole","date_system":"1900"}

{"sheet":"intro","index":0,"n_rows":24,"n_cols":19,"rows_kept":24,"cut":false,"hidden":false,"merged":[[4,1,4,14],[1,0,1,11],[10,1,10,14],[15,1,15,14],[9,1,9,14],[7,1,7,9],[7,10,7,11],[8,1,8,14],[2,0,2,14],[5,0,5,14],[6,6,6,7],[17,1,18,14],[21,1,22,14],[23,2,23,14],[27,2,27,14],[26,2,26,14],[25,2,25,14],[24,2,24,14]]}
[null,null,null,null,null,null,null,null,null,null,null,null,null,null,null,null,"NO","NO","NO"]
["Air Emissions Accounts Questionnaire",null,null,null,null,null,null,null,null,null,null,null,2025]
["INTRODUCTION"]
[]
[null,"This is Eurostat's electronic questionnaire for Air emissions accounts (AEA questionnaire). The questionnaire includes 14 mandatory data sheets and 5 voluntary data sheets  to be completed. For detailed instruction on filling out the questionnaire see sheet 'instructions' and 'instructions for road sheets'."]
[]
[null,"Please select your country:",null,null,null,{"$f":"IF(G7=\"\",\"\",LOOKUP(G7,Parameters!B29:C68))","v":""}]
[null,"Deadline for returning back this electronic questionnaire is:",null,null,null,null,null,null,null,null,{"$f":"\"30/09/\"&M2","v":"30/09/2025"}]
[]
[null,"Please, submit this electronic questionnaire to Eurostat using the eDAMIS reporting system. Use the following details:"]
[]
[null,"Domain name: ENVDATA",null,null,null," "]
[null,"Data set name: ENVDATA_AEA_A"]
[null,"End of (mandatory) reference period: 2023"]
[]
[null,"The eDAMIS system has been installed in the National Statistical Institutes and your local eDAMIS coordinator will give you a user-id and password."]
[]
[null,"Should you have any questions regarding data transmission do not hesitate to contact your local eDAMIS coordinator or the Eurostat eDAMIS helpdesk at: estat-support-edamis@ec.europa.eu or call (+352) 4301 33213"]
[]
[]
[]
[null,"Who is the primary contact point for air emissions accounts in your country? (institution, unit, name, email, telephone)"]
[]
[" "]

{"sheet":"structure","index":1,"n_rows":38,"n_cols":6,"rows_kept":38,"cut":false,"hidden":false,"merged":[[37,2,39,5],[9,1,9,2],[2,0,2,8],[1,0,1,8],[3,0,3,8]]}
[]
[{"$f":"\"Air Emissions Accounts Questionnaire \"&intro!M2","v":"Air Emissions Accounts Questionnaire 2025"}]
[]
["STRUCTURE OF QUESTIONNAIRE"]
[null,null,null,null,null,false]
[null,{"$f":"\"Overview of the \"&intro!M2&\" electronic questionnaire Air Emissions Accounts\"","v":"Overview of the 2025 electronic questionnaire Air Emissions Accounts"}]
[null,null,null,null,"Number of decimals shown in data tables","3 decimals"]
[null,null,null,null,"Calculation Method (based on number of decimals)","ROUND(SUM(V))"]
[]
[null,"Sheet",null,"Title","Content","Type"]
[null,1,"intro",{"$f":"\"Air Emissions Accounts – Eurostat questionnaire \"&intro!M2&\" – Introduction\"","v":"Air Emissions Accounts – Eurostat questionnaire 2025 – Introduction"},{"$f":"\"General information about the Eurostat \"&intro!M2&\" collection of Air Emissions Accounts\"","v":"General information about the Eurostat 2025 collection of Air Emissions Accounts"},"for information"]
[null,{"$f":"B11+1","v":2},"structure","Structure of questionnaire","Provides an overview of this electronic EXCEL workbook","for information"]
[null,{"$f":"B12+1","v":3},"instructions","Instructions for completing the AEA questionnaire and overview of the checking rules","Provides instructions for completing the AEA questionnaire and gives an overview of the checking rules","for information"]
[null,{"$f":"B13+1","v":4},"instructions for ROAD sheets","Instructions for completing sheets CO2_ROAD, NOx_ROAD, NMVOC_ROAD, PM10_ROAD, PM2.5_ROAD","Provide instructions for completing sheets CO2_ROAD, NOx_ROAD, NMVOC_ROAD, PM10_ROAD, PM2.5_ROAD","for information"]
[null,5,"footnote instructions","Instructions for reporting of the footnotes ","Provides instructions for SDMX compliant reporting of footnotes  ","for information"]
[null,6,"footnote_list","List of footnotes","Please insert footnote texts for each footnote symbol you use in the pollutants' tables","for information"]
[null,7,"CO2 [1]","Emissions of carbon dioxide (without emissions from biomass) by economic activity and households and bridging items between Air Emissions Accounts totals and UNFCCC totals","Data sheet for CO2-emissions (without emissions from biomass)\n[thousand tonnes]","to be filled out"]
[null,8,"CO2_ROAD [1]","Emissions of carbon dioxide (without emissions from biomass) from road transport by economic activity and households and bridging items between Air Emissions Accounts totals and UNFCCC total for road transport (CRF 1.A.3.b).","Data sheet for CO2-emissions from road transport (without emissions from biomass)\n[thousand tonnes]","to be filled out"]
[null,9,"Biomass CO2 [1]","Emissions of carbon dioxide from biomass by economic activity and households and bridging items between Air Emissions Accounts totals and UNFCCC totals","Data sheet for CO2-emissions from biomass\n[thousand tonnes]","to be filled out"]
[null,10,"N2O","Emissions of nitrous oxide by economic activity and households and bridging items between Air Emissions Accounts totals and UNFCCC totals","Data sheet for N2O-emissions\n[tonnes]","to be filled out"]
[null,11,"CH4","Emissions of methane by economic activity and households and bridging items between Air Emissions Accounts totals and UNFCCC totals","Data sheet for CH4-emissions\n[tonnes]","to be filled out"]
[null,12,"HFC","Emissions of hydrofluorocarbons (HFCs, given in CO2-equivalents) by economic activity and households and bridging items between Air Emissions Accounts totals and UNFCCC totals","Data sheet for HFCs-emissions\n[tonnes CO2-equivalents]","to be filled out"]
[null,13,"PFC","Emissions of perfluorocarbons (PFCs, given in CO2-equivalents) by economic activity and households and bridging items between Air Emissions Accounts totals and UNFCCC totals","Data sheet for PFCs-emissions\n[tonnes CO2-equivalents]","to be filled out"]
[null,14,"SF6_NF3","Emissions of sulphur hexafluorids (SF6) and nitrogen trifluoride (NF3) (given in CO2-equivalents) by economic activity and households and bridging items between Air Emissions Accounts totals and UNFCCC totals","Data sheet for SF6 and NF3-emissions\n[tonnes CO2-equivalents]","to be filled out"]
[null,15,"NOx","Emissions of nitrogen oxides by economic activity and households and bridging items between  Air Emissions Accounts totals and CLRTAP totals","Data sheet for NOx-emissions\n[tonnes NO2-equivalents]","to be filled out"]
[null,16,"NOx_ROAD","Emissions of nitrogen oxides from road transport by economic activity and households and bridging items between Air Emissions Accounts totals  (road transport) and and road transport emissions as reported to CLRTAP.","Data sheet for NOx-emissions from road transport\n[tonnes NO2-equivalents]","to be filled out"]
[null,17,"SOx","Emissions of sulphur dioxides by economic activity and households and bridging items between  Air Emissions Accounts totals and CLRTAP totals","Data sheet for SO2-emissions\n[tonnes SO2-equivalents]","to be filled out"]
[null,18,"NH3","Emissions of ammonia by economic activity and households and bridging items between Air Emissions Accounts totals and CLRTAP totals","Data sheet for NH3-emissions\n[tonnes]","to be filled out"]
[null,19,"NMVOC","Emissions of non-methane volatile organic compounds by economic activity and households and bridging items between Air Emissions Accounts totals and CLRTAP totals","Data sheet for NMVOC-emissions\n[tonnes]","to be filled out"]
[null,20," NMVOC_ROAD","Emissions of non-methane volatile organic compounds from road transport by economic activity and households and bridging items between Air Emissions Accounts totals and road transport emissions as reported to CLRTAP.","Data sheet for SO2-emissions from road transport\n[tonnes SO2-equivalents]","to be filled out"]
[null,21,"CO","Emissions of carbon monoxide by economic activity and households and bridging items between Air Emissions Accounts totals and CLRTAP totals","Data sheet for CO-emissions\n[tonnes]","to be filled out"]
[null,22,"PM10","PM10-emissions by economic activity and households and bridging items between Air Emissions Accounts totals and CLRTAP totals","Data sheet for PM10-emissions\n[tonnes]","to be filled out"]
[null,23,"PM10_ROAD","PM2.5-emissions from road transport by economic activity and households and bridging items betweenAir Emissions Accounts totals and road transport emissions as reported to CLRTAP.","Data sheet for PM2.5-emissions from road transport\n[tonnes]","to be filled out"]
[null,24,"PM2.5","PM2.5-emissions by economic activity and households and bridging items between Air Emissions Accounts totals and CLRTAP totals","Data sheet for PM2.5-emissions\n[tonnes]","to be filled out"]
[null,25,"PM2.5_ROAD","PM10-emissions from road transport by economic activity and households and bridging items between Air Emissions Accounts totals and road transport emissions as reported to CLRTAP.","Data sheet for PM10-emissions from road transport\n[tonnes]","to be filled out"]
[null,26,"Check report","Check report","Informs about data problems of empty cells, consistency and plausibility","for information"]
[]
[null," [1]","In general, Air Emissions Accounts data should include CO2 emissions from biomass used as fuel. Usually, CO2 emissions from biomass are excluded from the UNFCCC totals (though reported separately). It has been decided to include two data sheets for CO2 emissions: one without emissions from biomass and one explicitly showing those from biomass. By requesting data in this way it is clear exactly if CO2 emissions are included or not in the Air Emissions Accounts data."]

{"sheet":"instructions","index":2,"n_rows":117,"n_cols":16,"rows_kept":117,"cut":false,"hidden":false,"merged":[[11,1,11,13],[114,1,114,13],[117,1,117,13],[118,1,118,13],[105,1,105,13],[107,1,107,13],[95,1,95,13],[97,1,97,13],[94,2,94,13],[96,2,96,13],[98,2,98,13],[104,2,104,13],[106,2,106,13],[110,1,110,9],[112,1,112,12],[99,1,99,13],[101,1,101,13],[103,1,103,13],[100,2,100,13],[102,2,102,13],[116,1,116,13],[68,1,68,13],[75,1,75,13],[91,1,91,13],[92,1,92,13],[93,1,93,13],[85,1,85,13],[87,1,87,13],[88,2,88,13],[90,1,90,7],[89,1,89,13],[69,1,69,13],[71,1,71,12],[84,2,84,13],[86,2,86,13],[72,1,72,13],[73,1,73,13],[76,1,76,13],[82,1,82,13],[83,1,83,13],[70,1,70,13],[77,1,77,11],[78,2,78,11],[79,2,79,11],[80,1,80,6],[59,1,59,13],[60,1,60,13],[61,1,61,13],[27,1,27,13],[29,1,29,13],[21,1,21,13],[23,1,23,13],[25,1,25,13],[31,1,31,13],[33,1,33,13],[38,2,38,13],[35,1,35,13],[32,2,32,13],[66,1,66,13],[16,1,16,13],[18,1,18,13],[19,1,19,13],[4,1,4,13],[6,1,6,13],[7,1,7,13],[8,1,8,13],[9,1,9,13],[10,1,10,6],[10,7,10,12],[14,1,14,13],[15,1,15,13],[20,2,20,13],[22,2,22,13],[24,2,24,13],[28,2,28,13],[30,2,30,13],[26,1,26,13],[62,1,62,13],[63,1,63,13],[64,1,64,13],[57,1,57,13],[58,1,58,13],[67,1,67,12],[34,2,34,13],[88,14,90,14],[108,1,108,12],[36,2,36,13],[37,1,37,13],[40,1,40,13],[39,2,39,13],[47,1,47,13],[48,1,48,13],[41,1,41,13],[44,1,44,13],[45,1,45,13],[46,1,46,13],[42,1,42,13],[43,1,43,13],[49,1,49,13],[50,1,50,13],[51,1,51,13],[52,1,52,13],[54,1,54,13],[55,1,55,13],[56,1,56,13],[65,1,65,13]]}
[]
[]
[]
[]
[null,"Instructions for completing the AEA questionnaire and overview of the validation rules"]
[]
[null,"1. INSTRUCTIONS for completing the AEA questionnaire"]
[]
[null,"The following technical instructions relate to the handling of the electronic EXCEL questionnaire."]
[null,"The concepts and methods for the actual compilation of the data for the mandatory data sheets can be found in the "]
[null,"Manual for Air Emissions Accounts, 2015 edition', available here: ",null,null,null,null,null,"http://ec.europa.eu/eurostat/web/environment/methodology"]
[null,"For complinting the voluntary sheets see the sheet 'instructions for ROAD sheets'. "]
[]
[null,"Please note the following:"]
[null,"1) Pre-defined footnotes 'n' ('not to be published') and 's' ('Eurostat estimate') are to be set exclusively by Eurostat."]
[null,"2) The built-in checking tool is aligned to the agreed AEA validation rules."]
[null,"3) The questionnaire is an Excel file with embedded macros. Should you have problems opening the file and enabling the macros, please check your local Excel settings related to macros.\n\n"]
[]
[null,"1.A) Getting started"]
[]
[null,null,"1. Please select your country code from the drop-down menu in the 'intro' sheet. Do not forget to provide the primary contact person for AEA in your country."]
[]
[null,null,"2. Complete the data sheets for the greenhouse gases and air pollutants. Please do not change the format of the questionnaire (i.e., add/delete rows or columns) since Eurostat uses automated routines for data validation."]
[]
[null,null,"3. Each data sheet offers a time range from year 1995 until 2024. According to Regulation 691/2011 reporting data for years 2019-2023 is mandatory. If you have data available beyond this time range, please report it. Eurostat appreciates receiving data starting from 2008."]
[]
[null,"1.B) How to correctly report figures and symbols?"]
[]
[null,null,"4. Figures have to be reported in the white cells of the data sheets."]
[]
[null,null,"5. Please report exact figures, not rounded values. The maximum number of significant figures is fifteen (default in excel)."]
[]
[null,null,"6. Please report positive figures. Negative figures are only accepted in the bridging item 'national residents abroad' and in 'other adjustments and statistical discrepancy'."]
[]
[null,null,"7. Please report real zero ('0') if there are no emissions in the respective NACE industry."]
[]
[null,null,"8. Please report colon (':') for data not available, i.e. if the volume of emissions in the given industry is not known. Note, that in such case the superior sub-total or total cannot be derived."]
[]
[null,null,"9. 'Not available' (:) symbol is not allowed for mandatory cells. Mandatory cells are defined in the validation rules."]
[null,null,"10. Empty cells (white value cells) are not allowed. "]
[]
[]
[null,"2. THE BUILT-IN CHECKING TOOL"]
[]
[null,"There is a checking tool built in the questionnaire, please use it! To reduce the validation time, Eurostat appreciates receiving error-free questionnaires."]
[]
[null,"The tool checks empty cells, valid/invalid symbols, errors in footnotes, inconsistencies, plausibility issues and identifies incorrect use of confidentiality flags. The detailed validation rules for AEA are available at: https://ec.europa.eu/eurostat/web/environment/methodology."]
[]
[null,"2.A) How to use the checking tool?"]
[]
[null,"The checking macro runs automatically upon closing the questionnaire, i.e. over all data sheets. This is intended to force the checks to be done."]
[]
[null,"The tool can also be used manually:"]
[]
[null," - to check individual data sheets by pressing the 'Check' button at the top of each data sheet."]
[null," - to check the whole questionnaire by pressing the 'Check the whole' button in the 'intro' sheet and 'structure' sheet."]
[]
[null," 2.B) What is checked and how are errors/warnings displayed?"]
[]
[null,"Errors and warnings are visualised in the data sheets through cells highlighted in different colours. In addition, by hovering the mouse over the highlighted cell a comment appears with detailed explanation of the detected problem."]
[]
[null,"Eurostat kindly asks you to address each highlighted cell. If correctly done, after the next check the highlight will disappear from the concerned cell. In case of plausibility warnings (orange cells) there are two options: If the implausibility is caused by an error, please correct it. If the value is correct, please add a footnote explaining the detected implausibility."]
[]
[null,"The checking tool produces an error report which you find in the sheet 'Check Report'. It provides a list of cells with links where the errors or other issues were detected."]
[]
[null,"The below list details the performed checks and the display of the error messages.",null,null,null,null,null,null,null,null,null,null,null,null,null,"Validation rule number"]
[]
[null,"Checking for empty cells: empty cells are highlighted in light red.",null,null,null,null,null,null,null,null,null,null,null,null,null,"No. 3"]
[]
[null,"Footnote check: verifies if footnotes are used correctly. It also verifies that a 'free text' footnote symbol has a footnote text in the yellow footnote area. Otherwise, the cell is highlighted in red.",null,null,null,null,null,null,null,null,null,null,null,null,null,"No. 7, 10"]
[]
[null,"Mandatory cells check: The dataset must include all mandatory characteristics for the five mandatory reporting years. Cells with missing data for all gases and pollutants except F-gases, and except bridging items and item NACE L68A will be highlighted in yellow. ",null,null,null,null,null,null,null,null,null,null,null,null,null,"No. 1"]
[]
[null,"Consistency checks: concern the sum of components which has to equal the corresponding total or subtotal. For example, the sum of A01, A02, A03 should be equal to the value reported in A. When problems occur, the cell corresponding to the total or subtotal is highlighted in blue.                                    ",null,null,null,null,null,null,null,null,null,null,null,null,null,"No. 4"]
[]
[null,"Nace category H50 should be bigger than bridging item 'less national residents abroad - water transport'. NACE category H51 should be bigger than bridging item 'less national residents abroad - water transport'. If this is not the case, please correct the erroneous figure (either in the relevant NACE category or in the bridging item). ",null,null,null,null,null,null,null,null,null,null,null,null,null,"No.  4.20, 4.21"]
[]
[null,"Cross-table consistency checks: checks if figures are reported consistently across tables, based on the following rules:"]
[null,null,"- Figures in PM2.5 sheet cannot be superior to the corresponding figures in PM10 sheet.",null,null,null,null,null,null,null,null,null,null,null,null,"No. 4.22"]
[null,null,"- Figures in 'ROAD' sheets cannot be superior to the corresponding figures in the 'mother sheet' of the same pollutant. ",null,null,null,null,null,null,null,null,null,null,null,null,"No. 4.23, 4.24"]
[null,"If the above criteria are not followed, the font is diplayed in red.",null,null,null,null,null,null,null,null,null,null,null,null,"red"]
[]
[null,"Confidentiality check: verifies that certain confidentiality rules are applied:"]
[]
[null,null,"- Avoid confidentiality at 1 digit NACE level;",null,null,null,null,null,null,null,null,null,null,null,null,"No. 11"]
[]
[null,null,"- Cells with zero or 'not available' cannot be confidential;",null,null,null,null,null,null,null,null,null,null,null,null,"No. 12"]
[]
[null,null,"- Ensure that the figure flagged as confidential cannot be derived through calculation.",null,null,null,null,null,null,null,null,null,null,null,null,"No. 13"]
[]
[null,"If the above criteria are not followed, cells are highlighted in purple."]
[]
[null,"Plausibility checks: detect implausible changes between consecutive years in time series of the same reporting. Implausible changes are defined as follows: "]
[]
[null,null,"- Totals of one-digit NACE industries (A, B, C, etc.) mustn't vary more than 30% from one year to the next if they represent more than 10% of all industries (total A_U) of that year."]
[]
[null,null,"- NACE industries A01-A03, E36-E39 and H49-H53 mustn't vary more than 80% from one year to the next if they represent more than 30% of total A, E and H respectively."]
[]
[null,null,"- NACE industries C10-C33 mustn't vary more than 80% from one year to the next if they represent more than 5% of total C."]
[]
[null,null,"- Other two-digit NACE industries mustn't vary more than 80% from one year to the next if they represent more than 5% of all industries (total A_U) of that year."]
[]
[null,null,"- Two-digit Households positions mustn't vary more than 30% from one year to the next if they represent more than 50% of Total Households of that year."]
[]
[null,null,"- Total Households mustn't vary more than 30% from one year to the next and represent more than 10% of Total Industries plus Households of that year."]
[]
[null,null,"- Bridging items mustn't vary more than 50% from one year to the next if they contribute at least 50% to the superior total, i.e. to National residents abroad or National residents in the territory."]
[]
[null,"Implausible changes must be explained with a free text footnote or, in the case of breaks in the series, with a pre-defined footnote b) and the corresponding free text footnote."]
[]
[null,"Cells with implausible changes are highlighted in orange.",null,null,null,null,null,null,null,null,null,null,null,null,null,"No. 14"]
[]
[null,"Cells with implausible changes explained with a free text footnote or a b) footnote are highlighted in green.",null,null,null,null,null,null,null,null,null,null,null,null,null,"No. 15"]
[]
[null,"In case there are both consistency and plausibility issues, the cell is highlighted in orange and the value appears in blue."]
[]
[null,"For emissions of CO2, SOx, NOx, CO, PM2.5 and PM10, if TOT_CONV (EEA total) equals to the reported TOT_NACE_HH (Total NACE plus households), it is very likely that the residence principle was not applied to the AEA. The cell in this case is highlited in light orange. Please provide a footnote clarifying why the residence principle was not applied.",null,null,null,null,null,null,null,null,null,null,null,null,null,"No.18"]

{"sheet":"Parameter_mapping","index":3,"n_rows":15,"n_cols":2,"rows_kept":15,"cut":false,"hidden":true,"merged":[]}
["Data Sheet","Parameter Sheet"]
["CO2","Parameters_SDMX_Converter"]
["Biomass CO2","Parameters_SDMX_Converter"]
["N2O","Parameters_SDMX_Converter"]
["CH4","Parameters_SDMX_Converter"]
["HFC","Parameters_SDMX_Converter"]
["PFC","Parameters_SDMX_Converter"]
["SF6_NF3","Parameters_SDMX_Converter"]
["NOx","Parameters_SDMX_Converter"]
["SOx","Parameters_SDMX_Converter"]
["NH3","Parameters_SDMX_Converter"]
["NMVOC","Parameters_SDMX_Converter"]
["CO","Parameters_SDMX_Converter"]
["PM10","Parameters_SDMX_Converter"]
["PM2.5","Parameters_SDMX_Converter"]

{"sheet":"Parameters_SDMX_Converter","index":4,"n_rows":21,"n_cols":7,"rows_kept":21,"cut":false,"hidden":true,"merged":[]}
["Element","Type","PosType","Position",null,"DataStart","F5"]
["FREQ","DIM","FIX","A",null,"DataEnd","AV106"]
["REF_AREA","DIM","CELL","D1",null,"TranscodingSheet","Transcoding"]
["DEMAND_PROD","DIM","CELL","CJ5",null,"SkipObservationWithValue","null"]
["ACCOUNTING_ENTRY","DIM","FIX","EC",null,"ConceptSeparator",")"]
["COUNTERPART_AREA","DIM","CELL","CK5",null,"DefaultValue","null"]
["INTERACTORS","DIM","COLUMN","CL",null,"MissingObservationCharacter",":"]
["BRIDGE_ITEMS","DIM","COLUMN","CM",null,"SkipIncompleteKeys","true"]
["AIRPOL","DIM","CELL","CN5"]
["STO","DIM","CELL","CO5"]
["UNIT_MEASURE","DIM","CELL","CP5"]
["PRODUCT","DIM","CELL","CR5"]
["SECTOR","DIM","CELL","CS5"]
["TIME_PERIOD","DIM","ROW","4"]
["OBS_STATUS_1","ATT","OBS_LEVEL","1/3"]
["OBS_STATUS_2","ATT","OBS_LEVEL","1/4"]
["OBS_STATUS_3","ATT","OBS_LEVEL","1/5"]
["OBS_STATUS_4","ATT","OBS_LEVEL","1/6"]
["CONF_STATUS","ATT","OBS_LEVEL","1/2"]
["UNIT_MULT","DIM","CELL","CQ5"]
["COMMENT_OBS","ATT","OBS_LEVEL","1/1"]

{"sheet":"Transcoding","index":5,"n_rows":114,"n_cols":3,"rows_kept":114,"cut":false,"hidden":true,"merged":[]}
["Text","Dimension","Value"]
["b","OBS_STATUS_1","B"]
["e","OBS_STATUS_1","E"]
["p","OBS_STATUS_1","P"]
["b","OBS_STATUS_2","B"]
["e","OBS_STATUS_2","E"]
["p","OBS_STATUS_2","P"]
["b","OBS_STATUS_3","B"]
["e","OBS_STATUS_3","E"]
["p","OBS_STATUS_3","P"]
["b","OBS_STATUS_4","B"]
["e","OBS_STATUS_4","E"]
["p","OBS_STATUS_4","P"]
["c","CONF_STATUS","C"]
["d","CONF_STATUS","D"]
[1,"COMMENT_OBS",{"$f":"IF(ISBLANK(footnote_list!D17),\"\",footnote_list!D17)","v":""}]
[2,"COMMENT_OBS",{"$f":"IF(ISBLANK(footnote_list!D18),\"\",footnote_list!D18)","v":""}]
[3,"COMMENT_OBS",{"$f":"IF(ISBLANK(footnote_list!D19),\"\",footnote_list!D19)","v":""}]
[4,"COMMENT_OBS",{"$f":"IF(ISBLANK(footnote_list!D20),\"\",footnote_list!D20)","v":""}]
[5,"COMMENT_OBS",{"$f":"IF(ISBLANK(footnote_list!D21),\"\",footnote_list!D21)","v":""}]
[6,"COMMENT_OBS",{"$f":"IF(ISBLANK(footnote_list!D22),\"\",footnote_list!D22)","v":""}]
[7,"COMMENT_OBS",{"$f":"IF(ISBLANK(footnote_list!D23),\"\",footnote_list!D23)","v":""}]
[8,"COMMENT_OBS",{"$f":"IF(ISBLANK(footnote_list!D24),\"\",footnote_list!D24)","v":""}]
[9,"COMMENT_OBS",{"$f":"IF(ISBLANK(footnote_list!D25),\"\",footnote_list!D25)","v":""}]
[10,"COMMENT_OBS",{"$f":"IF(ISBLANK(footnote_list!D26),\"\",footnote_list!D26)","v":""}]
[11,"COMMENT_OBS",{"$f":"IF(ISBLANK(footnote_list!D27),\"\",footnote_list!D27)","v":""}]
[12,"COMMENT_OBS",{"$f":"IF(ISBLANK(footnote_list!D28),\"\",footnote_list!D28)","v":""}]
[13,"COMMENT_OBS",{"$f":"IF(ISBLANK(footnote_list!D29),\"\",footnote_list!D29)","v":""}]
[14,"COMMENT_OBS",{"$f":"IF(ISBLANK(footnote_list!D30),\"\",footnote_list!D30)","v":""}]
[15,"COMMENT_OBS",{"$f":"IF(ISBLANK(footnote_list!D31),\"\",footnote_list!D31)","v":""}]
[16,"COMMENT_OBS",{"$f":"IF(ISBLANK(footnote_list!D32),\"\",footnote_list!D32)","v":""}]
[17,"COMMENT_OBS",{"$f":"IF(ISBLANK(footnote_list!D33),\"\",footnote_list!D33)","v":""}]
[18,"COMMENT_OBS",{"$f":"IF(ISBLANK(footnote_list!D34),\"\",footnote_list!D34)","v":""}]
[19,"COMMENT_OBS",{"$f":"IF(ISBLANK(footnote_list!D35),\"\",footnote_list!D35)","v":""}]
[20,"COMMENT_OBS",{"$f":"IF(ISBLANK(footnote_list!D36),\"\",footnote_list!D36)","v":""}]
[21,"COMMENT_OBS",{"$f":"IF(ISBLANK(footnote_list!D37),\"\",footnote_list!D37)","v":""}]
[22,"COMMENT_OBS",{"$f":"IF(ISBLANK(footnote_list!D38),\"\",footnote_list!D38)","v":""}]
[23,"COMMENT_OBS",{"$f":"IF(ISBLANK(footnote_list!D39),\"\",footnote_list!D39)","v":""}]
[24,"COMMENT_OBS",{"$f":"IF(ISBLANK(footnote_list!D40),\"\",footnote_list!D40)","v":""}]
[25,"COMMENT_OBS",{"$f":"IF(ISBLANK(footnote_list!D41),\"\",footnote_list!D41)","v":""}]
[26,"COMMENT_OBS",{"$f":"IF(ISBLANK(footnote_list!D42),\"\",footnote_list!D42)","v":""}]
[27,"COMMENT_OBS",{"$f":"IF(ISBLANK(footnote_list!D43),\"\",footnote_list!D43)","v":""}]
[28,"COMMENT_OBS",{"$f":"IF(ISBLANK(footnote_list!D44),\"\",footnote_list!D44)","v":""}]
[29,"COMMENT_OBS",{"$f":"IF(ISBLANK(footnote_list!D45),\"\",footnote_list!D45)","v":""}]
[30,"COMMENT_OBS",{"$f":"IF(ISBLANK(footnote_list!D46),\"\",footnote_list!D46)","v":""}]
[31,"COMMENT_OBS",{"$f":"IF(ISBLANK(footnote_list!D47),\"\",footnote_list!D47)","v":""}]
[32,"COMMENT_OBS",{"$f":"IF(ISBLANK(footnote_list!D48),\"\",footnote_list!D48)","v":""}]
[33,"COMMENT_OBS",{"$f":"IF(ISBLANK(footnote_list!D49),\"\",footnote_list!D49)","v":""}]
[34,"COMMENT_OBS",{"$f":"IF(ISBLANK(footnote_list!D50),\"\",footnote_list!D50)","v":""}]
[35,"COMMENT_OBS",{"$f":"IF(ISBLANK(footnote_list!D51),\"\",footnote_list!D51)","v":""}]
[36,"COMMENT_OBS",{"$f":"IF(ISBLANK(footnote_list!D52),\"\",footnote_list!D52)","v":""}]
[37,"COMMENT_OBS",{"$f":"IF(ISBLANK(footnote_list!D53),\"\",footnote_list!D53)","v":""}]
[38,"COMMENT_OBS",{"$f":"IF(ISBLANK(footnote_list!D54),\"\",footnote_list!D54)","v":""}]
[39,"COMMENT_OBS",{"$f":"IF(ISBLANK(footnote_list!D55),\"\",footnote_list!D55)","v":""}]
[40,"COMMENT_OBS",{"$f":"IF(ISBLANK(footnote_list!D56),\"\",footnote_list!D56)","v":""}]
[41,"COMMENT_OBS",{"$f":"IF(ISBLANK(footnote_list!D57),\"\",footnote_list!D57)","v":""}]
[42,"COMMENT_OBS",{"$f":"IF(ISBLANK(footnote_list!D58),\"\",footnote_list!D58)","v":""}]
[43,"COMMENT_OBS",{"$f":"IF(ISBLANK(footnote_list!D59),\"\",footnote_list!D59)","v":""}]
[44,"COMMENT_OBS",{"$f":"IF(ISBLANK(footnote_list!D60),\"\",footnote_list!D60)","v":""}]
[45,"COMMENT_OBS",{"$f":"IF(ISBLANK(footnote_list!D61),\"\",footnote_list!D61)","v":""}]
[46,"COMMENT_OBS",{"$f":"IF(ISBLANK(footnote_list!D62),\"\",footnote_list!D62)","v":""}]
[47,"COMMENT_OBS",{"$f":"IF(ISBLANK(footnote_list!D63),\"\",footnote_list!D63)","v":""}]
[48,"COMMENT_OBS",{"$f":"IF(ISBLANK(footnote_list!D64),\"\",footnote_list!D64)","v":""}]
[49,"COMMENT_OBS",{"$f":"IF(ISBLANK(footnote_list!D65),\"\",footnote_list!D65)","v":""}]
[50,"COMMENT_OBS",{"$f":"IF(ISBLANK(footnote_list!D66),\"\",footnote_list!D66)","v":""}]
[51,"COMMENT_OBS",{"$f":"IF(ISBLANK(footnote_list!D67),\"\",footnote_list!D67)","v":""}]
[52,"COMMENT_OBS",{"$f":"IF(ISBLANK(footnote_list!D68),\"\",footnote_list!D68)","v":""}]
[53,"COMMENT_OBS",{"$f":"IF(ISBLANK(footnote_list!D69),\"\",footnote_list!D69)","v":""}]
[54,"COMMENT_OBS",{"$f":"IF(ISBLANK(footnote_list!D70),\"\",footnote_list!D70)","v":""}]
[55,"COMMENT_OBS",{"$f":"IF(ISBLANK(footnote_list!D71),\"\",footnote_list!D71)","v":""}]
[56,"COMMENT_OBS",{"$f":"IF(ISBLANK(footnote_list!D72),\"\",footnote_list!D72)","v":""}]
[57,"COMMENT_OBS",{"$f":"IF(ISBLANK(footnote_list!D73),\"\",footnote_list!D73)","v":""}]
[58,"COMMENT_OBS",{"$f":"IF(ISBLANK(footnote_list!D74),\"\",footnote_list!D74)","v":""}]
[59,"COMMENT_OBS",{"$f":"IF(ISBLANK(footnote_list!D75),\"\",footnote_list!D75)","v":""}]
[60,"COMMENT_OBS",{"$f":"IF(ISBLANK(footnote_list!D76),\"\",footnote_list!D76)","v":""}]
[61,"COMMENT_OBS",{"$f":"IF(ISBLANK(footnote_list!D77),\"\",footnote_list!D77)","v":""}]
[62,"COMMENT_OBS",{"$f":"IF(ISBLANK(footnote_list!D78),\"\",footnote_list!D78)","v":""}]
[63,"COMMENT_OBS",{"$f":"IF(ISBLANK(footnote_list!D79),\"\",footnote_list!D79)","v":""}]
[64,"COMMENT_OBS",{"$f":"IF(ISBLANK(footnote_list!D80),\"\",footnote_list!D80)","v":""}]
[65,"COMMENT_OBS",{"$f":"IF(ISBLANK(footnote_list!D81),\"\",footnote_list!D81)","v":""}]
[66,"COMMENT_OBS",{"$f":"IF(ISBLANK(footnote_list!D82),\"\",footnote_list!D82)","v":""}]
[67,"COMMENT_OBS",{"$f":"IF(ISBLANK(footnote_list!D83),\"\",footnote_list!D83)","v":""}]
[68,"COMMENT_OBS",{"$f":"IF(ISBLANK(footnote_list!D84),\"\",footnote_list!D84)","v":""}]
[69,"COMMENT_OBS",{"$f":"IF(ISBLANK(footnote_list!D85),\"\",footnote_list!D85)","v":""}]
[70,"COMMENT_OBS",{"$f":"IF(ISBLANK(footnote_list!D86),\"\",footnote_list!D86)","v":""}]
[71,"COMMENT_OBS",{"$f":"IF(ISBLANK(footnote_list!D87),\"\",footnote_list!D87)","v":""}]
[72,"COMMENT_OBS",{"$f":"IF(ISBLANK(footnote_list!D88),\"\",footnote_list!D88)","v":""}]
[73,"COMMENT_OBS",{"$f":"IF(ISBLANK(footnote_list!D89),\"\",footnote_list!D89)","v":""}]
[74,"COMMENT_OBS",{"$f":"IF(ISBLANK(footnote_list!D90),\"\",footnote_list!D90)","v":""}]
[75,"COMMENT_OBS",{"$f":"IF(ISBLANK(footnote_list!D91),\"\",footnote_list!D91)","v":""}]
[76,"COMMENT_OBS",{"$f":"IF(ISBLANK(footnote_list!D92),\"\",footnote_list!D92)","v":""}]
[77,"COMMENT_OBS",{"$f":"IF(ISBLANK(footnote_list!D93),\"\",footnote_list!D93)","v":""}]
[78,"COMMENT_OBS",{"$f":"IF(ISBLANK(footnote_list!D94),\"\",footnote_list!D94)","v":""}]
[79,"COMMENT_OBS",{"$f":"IF(ISBLANK(footnote_list!D95),\"\",footnote_list!D95)","v":""}]
[80,"COMMENT_OBS",{"$f":"IF(ISBLANK(footnote_list!D96),\"\",footnote_list!D96)","v":""}]
[81,"COMMENT_OBS",{"$f":"IF(ISBLANK(footnote_list!D97),\"\",footnote_list!D97)","v":""}]
[82,"COMMENT_OBS",{"$f":"IF(ISBLANK(footnote_list!D98),\"\",footnote_list!D98)","v":""}]
[83,"COMMENT_OBS",{"$f":"IF(ISBLANK(footnote_list!D99),\"\",footnote_list!D99)","v":""}]
[84,"COMMENT_OBS",{"$f":"IF(ISBLANK(footnote_list!D100),\"\",footnote_list!D100)","v":""}]
[85,"COMMENT_OBS",{"$f":"IF(ISBLANK(footnote_list!D101),\"\",footnote_list!D101)","v":""}]
[86,"COMMENT_OBS",{"$f":"IF(ISBLANK(footnote_list!D102),\"\",footnote_list!D102)","v":""}]
[87,"COMMENT_OBS",{"$f":"IF(ISBLANK(footnote_list!D103),\"\",footnote_list!D103)","v":""}]
[88,"COMMENT_OBS",{"$f":"IF(ISBLANK(footnote_list!D104),\"\",footnote_list!D104)","v":""}]
[89,"COMMENT_OBS",{"$f":"IF(ISBLANK(footnote_list!D105),\"\",footnote_list!D105)","v":""}]
[90,"COMMENT_OBS",{"$f":"IF(ISBLANK(footnote_list!D106),\"\",footnote_list!D106)","v":""}]
[91,"COMMENT_OBS",{"$f":"IF(ISBLANK(footnote_list!D107),\"\",footnote_list!D107)","v":""}]
[92,"COMMENT_OBS",{"$f":"IF(ISBLANK(footnote_list!D108),\"\",footnote_list!D108)","v":""}]
[93,"COMMENT_OBS",{"$f":"IF(ISBLANK(footnote_list!D109),\"\",footnote_list!D109)","v":""}]
[94,"COMMENT_OBS",{"$f":"IF(ISBLANK(footnote_list!D110),\"\",footnote_list!D110)","v":""}]
[95,"COMMENT_OBS",{"$f":"IF(ISBLANK(footnote_list!D111),\"\",footnote_list!D111)","v":""}]
[96,"COMMENT_OBS",{"$f":"IF(ISBLANK(footnote_list!D112),\"\",footnote_list!D112)","v":""}]
[97,"COMMENT_OBS",{"$f":"IF(ISBLANK(footnote_list!D113),\"\",footnote_list!D113)","v":""}]
[98,"COMMENT_OBS",{"$f":"IF(ISBLANK(footnote_list!D114),\"\",footnote_list!D114)","v":""}]
[99,"COMMENT_OBS",{"$f":"IF(ISBLANK(footnote_list!D115),\"\",footnote_list!D115)","v":""}]

{"sheet":"instructions for ROAD sheets","index":6,"n_rows":50,"n_cols":10,"rows_kept":50,"cut":false,"hidden":false,"merged":[[117,1,117,13],[118,1,118,13],[119,1,119,13],[4,1,4,13],[12,1,12,13],[18,1,18,13],[23,1,23,8],[24,1,24,8],[25,1,25,8],[26,1,26,8],[107,2,107,13],[108,1,108,13],[109,1,109,12],[111,1,111,9],[113,1,113,12],[115,1,115,13],[101,2,101,13],[102,1,102,13],[103,2,103,13],[104,1,104,13],[105,2,105,13],[106,1,106,13],[95,2,95,13],[96,1,96,13],[97,2,97,13],[98,1,98,13],[99,2,99,13],[100,1,100,13],[90,1,90,13],[91,1,91,7],[92,1,92,13],[93,1,93,13],[94,1,94,13],[84,1,84,13],[85,2,85,13],[86,1,86,13],[87,2,87,13],[88,1,88,13],[89,2,89,13],[77,1,77,13],[78,1,78,11],[79,2,79,11],[80,2,80,11],[81,1,81,6],[83,1,83,13],[70,1,70,13],[71,1,71,13],[72,1,72,12],[73,1,73,13],[74,1,74,13],[76,1,76,13],[64,1,64,13],[65,1,65,13],[66,1,66,13],[67,1,67,13],[68,1,68,12],[69,1,69,13],[58,1,58,13],[59,1,59,13],[60,1,60,13],[61,1,61,13],[62,1,62,13],[63,1,63,13],[51,1,51,13],[52,1,52,13],[53,1,53,13],[55,1,55,13],[56,1,56,13],[57,1,57,13],[45,1,45,13],[46,1,46,13],[50,1,50,13],[47,2,47,13],[48,2,48,13],[49,2,49,13],[40,2,40,13],[41,1,41,13],[42,1,42,13],[43,1,43,13],[44,1,44,13],[39,1,39,13],[37,2,37,13],[38,1,38,13],[33,1,33,8],[34,1,34,8],[35,1,35,8],[36,1,36,8],[28,1,28,13],[27,1,27,8],[30,1,30,8],[31,1,31,8],[32,1,32,8],[21,2,21,13],[22,1,22,13],[14,1,14,13],[15,1,15,13],[16,1,16,13],[17,1,17,13],[19,1,19,13],[20,1,20,13],[5,1,5,13],[7,1,7,13],[8,1,8,13],[9,1,9,13],[10,1,10,13],[11,1,11,6],[11,7,11,12]]}
[]
[]
[]
[]
[]
[null,"Instructions for completing sheets CO2_ROAD, NOx_ROAD, NMVOC_ROAD, PM10_ROAD, PM2.5_ROAD"]
[]
[]
[null,"At its 2021 meeting, the working group on environmental accounts agreed that Eurostat would investigate possibilities to split the AEA into stationary versus mobile emission sources; the latter including road transport emissions. Such a split could enhance significantly the potential for integrated analyses with other accounts (e.g. PEFA, ESA) and statistics (transport, energy).This split should readily be available to compilers of AEA. "]
[]
[null,"At the 2022 meeting, the working group environmental accounts agreed to add 5-7 ‘of which’ sheets for road transport emissions to the AEA questionnaire. The ‘of which’ sheets have the same format as the sheets already included in the AEA questionnaire. "]
[]
[null,"1.\tFive new sheets in the AEA questionnaire"]
[]
[null,"With the 2023 data collection Eurostat decided to add five ‘of which’ sheets for road transport emissions: CO2_ROAD, NOx_ROAD, NMVOC_ROAD, PM10_ROAD and PM2.5_ROAD. With these new sheets, you may report road transport emissions separately."]
[]
[null,"2.\tDefinition of road transport emissions"]
[]
[null,"Road transport emissions to be reported in the extended AEA questionnaire are defined exactly the same way as road transport emissions are defined in the greenhouse gas and air pollutant emission inventories (UNFCCC and CLRTAP inventories), under CRF/NFR category 1.A.3.B. Namely, all combustion and evaporative emissions arising from fuel use in road vehicles, including the use of agricultural vehicles on paved roads, as well as dissipative emissions from automobile tire and brake wear and road abrasion are included (see below the detailed list). This is also indicated in row 106 of the relevant questionnaire sheets."]
[]
[null,"Road transport emissions correspond to the following CRF and NFR categories:"]
[]
[null,"CRF codes (UNFCCC greenhouse gas emission inventories)"]
[null,"Road transportation: Cars ",null,null,null,null,null,null,null,"1.A.3.b.i "]
[null,"Road transportation: Light duty trucks ",null,null,null,null,null,null,null,"1.A.3.b.ii"]
[null,"Road transportation: Heavy-duty trucks and buses ",null,null,null,null,null,null,null,"1.A.3.b.iii"]
[null,"Road transportation: Motorcycles ",null,null,null,null,null,null,null,"1.A.3.b.iv"]
[null,"Road transportation: Other ",null,null,null,null,null,null,null,"1.A.3.b.v"]
[]
[null,"NFR codes (CLRTAP emission inventories of air pollutants)"]
[null,"Road transportation: Passenger cars ",null,null,null,null,null,null,null,"1.A.3.b.i "]
[null,"Road transportation: Light duty vehicles ",null,null,null,null,null,null,null,"1.A.3.b.ii"]
[null,"Road transportation: Heavy-duty vehicles and buses ",null,null,null,null,null,null,null,"1.A.3.b.iii"]
[null,"Road transportation: Mopeds & motorcycles ",null,null,null,null,null,null,null,"1.A.3.b.iv"]
[null,"Road transportation: Gasoline evaporation  ",null,null,null,null,null,null,null,"A.3.b.v"]
[null,"Road transportation: Automobile tyre and break wear ",null,null,null,null,null,null,null,"1.A.3.b.vi"]
[null,"Road transportation: Automobile road abrasion ",null,null,null,null,null,null,null,"1.A.3.b.vii"]
[]
[]
[null,"3.\tHow to complete the sheets related to road transport emissions"]
[]
[null,"Sheet CO2_ROAD: CO2 emissions from road transport (CRF 1.A.3.b), as reported to UNFCCC. Notably this CRF source includes only fossil fuel based CO2-emissions. Do not forget to adjust for the residence principle before you distribute to the 64 NACE divisions and households. "]
[]
[null,"Sheets NOx_ROAD, NMVOC_ROAD, PM10_ROAD, PM2.5_ROAD: Emissions from road transport (NFR 1.A.3.b), as reported to CLRTAP.  Do not forget to adjust for the residence principle before you distribute to the 64 NACE divisions and households."]
[]
[null,"Bridging items (all five sheets): "]
[]
[null,null,"- Less national residents abroad – land transport (item 2.2 in the questionnaire): Deduct emissions from road transport by resident units based on fuel purchases in the rest of the world."]
[null,null,"- Plus non-residents on the territory - land transport (item 3.1 in the questionnaire): Add emissions from road transport undertaken by non-resident units based on fuel purchases on domestic territory."]
[null,null,"- Air emissions from road transport as reported to international conventions (UNFCCC and CLRTAP inventories, territory principle): Includes all emissions from road transport undertaken by resident units and non-residents based on fuel purchases on domestic territory, i.e. this corresponds to the sum of emissions  reported under the CRF and NFR codes in the table above."]

{"sheet":"footnote instructions","index":7,"n_rows":82,"n_cols":10,"rows_kept":82,"cut":false,"hidden":false,"merged":[[81,3,81,5],[81,6,81,8],[76,6,76,8],[66,2,66,13],[67,1,67,13],[68,2,68,13],[69,1,69,2],[69,3,69,12],[70,3,70,5],[70,6,70,8],[70,9,70,12],[81,9,81,12],[73,3,73,5],[73,6,73,8],[73,9,73,12],[74,3,74,5],[74,6,74,8],[74,9,74,12],[71,3,71,5],[71,6,71,8],[71,9,71,12],[72,3,72,5],[72,6,72,8],[72,9,72,12],[86,1,86,13],[87,1,87,13],[7,1,7,13],[9,1,9,13],[11,1,11,13],[12,1,12,13],[13,1,13,13],[79,3,79,5],[79,6,79,8],[79,9,79,12],[80,3,80,5],[80,6,80,8],[80,9,80,12],[77,3,77,5],[77,6,77,8],[77,9,77,12],[78,3,78,5],[78,6,78,8],[78,9,78,12],[75,3,75,5],[75,6,75,8],[75,9,75,12],[76,3,76,5],[76,9,76,12],[60,1,60,13],[61,2,61,13],[62,2,62,4],[62,5,62,12],[63,2,63,4],[63,5,63,12],[64,2,64,4],[64,5,64,12],[65,2,65,4],[65,5,65,12],[55,2,55,13],[57,2,57,13],[59,1,59,13],[49,1,49,13],[51,1,51,13],[44,1,44,13],[45,1,45,13],[46,1,46,13],[47,1,47,13],[52,1,52,13],[56,1,56,13],[58,1,58,13],[25,1,25,13],[26,2,26,4],[26,5,26,12],[27,2,27,4],[27,5,27,12],[28,2,28,4],[28,5,28,12],[53,2,53,13],[54,1,54,13],[33,1,33,13],[34,1,34,4],[34,5,34,8],[35,1,35,4],[35,5,35,8],[36,1,36,4],[36,5,36,8],[37,1,37,4],[39,5,39,8],[40,5,40,8],[4,1,4,13],[6,1,6,13],[42,1,42,13],[43,1,43,13],[23,1,23,13],[24,2,24,13],[20,2,20,13],[21,1,21,13],[22,1,22,13],[15,1,15,13],[18,2,18,13],[19,1,19,13],[16,1,17,13],[29,2,29,4],[29,5,29,12],[30,2,30,4],[30,5,30,12],[31,2,31,4],[31,5,31,12],[38,1,38,4],[39,1,39,4],[40,1,40,4],[37,5,37,8],[38,5,38,8]]}
[]
[]
[]
[]
[null,"Instructions for SDMX compliant reporting of footnotes in the EXCEL questionnaire (.xlsm)"]
[]
[]
[null,"How to report footnotes?"]
[]
[null,"In this questionnaire reporting of footnotes includes two components: \t"]
[]
[null,"(1) a footnote symbol reported in the data sheet next to a reported value, and"]
[]
[null,"(2) a footnote content associated with the symbol, displayed in the sheet entitled 'footnote_list'"]
[]
[null,"Footnote symbols are reported in the so-called footnote-symbol-cell, i.e. yellow cells next to the white value cells. "]
[null,"There are two types of footnote symbols – letters with a closing bracket for pre-defined footnotes (e.g. ‘p)’) and numbers with a closing bracket for 'free text' footnotes (e.g. ‘2)’)."]
[]
[]
[null,"Pre-defined footnotes with standard meanings"]
[]
[null,"So called 'pre-defined footnotes' are footnotes with standard meaning. "]
[null,"The following table shows the letter-symbols, labels and meanings of 'pre-defined footnotes' that users may employ in this questionnaire."]
[]
[]
[]
[null,"Symbol ","Label ",null,null,"Meaning "]
[null,"b)","Break in time series",null,null,"Break occurring when there is a change in the standards for defining and observing a variable over time.\nThe flag 'b' is to be attached to the first time period after the break.\nWhere possible, further details should be provided in the national quality report via ESS-MH, under the sub-concept 15.2 Comparability - over time."]
[null,"c)","Confidential",null,null,"Confidential data are data which are subject to confidentiality clauses.\nWhere possible, further details should be provided in the national quality report via ESS-MH, under the concept 7. ‘Confidentiality’."]
[null,"d)","Secondary confidentiality",null,null,"Secondary confidential data are data made confidential in order to prevent third parties to indirectly calculate the data points genuinely flagged as confidential.\nPlease note that this footnote converts into confidential (c) when published in Eurostat’s online database."]
[null,"e)","Estimated data",null,null,"The ‘e’ (estimate) flag shall be used only if one or several data points have been calculated using a significantly different methodology and/or sources than the rest of the data points in the questionnaire. "]
[null,"p)","Provisional ",null,null,"The ‘p’ (provisional) flag shall be used when a data point value is expected to be revised and submitted to Eurostat before the next data collection. In the case of early estimates, the flag ‘e’ is deemed sufficient and the ‘p’ flag can be omitted. Notice all ‘p’ (provisional) flags sent during a given data collection will be systematically removed during the subsequent data collection, unless the ‘p’ flags are again resubmitted."]
[]
[null,"The following combinations of pre-defined footnotes are allowed:"]
[null,"Combinations of pre-defined footnote symbols in Excel questionnaire",null,null,null,"Combinations of pre-defined footnotes"]
[null,"))b)e)",null,null,null,"Break in time series whilst estimated data"]
[null,"))b)p)",null,null,null,"Break in time series whilst provisional"]
[null,"))b)e)p)",null,null,null,"Break in time series whilst estimated data whilst provisional"]
[null,")c)b)",null,null,null,"Confidential whilst break in time series"]
[null,")d)b)",null,null,null,"Secondary confidentiality whilst break in time series"]
[null,"))e)p)",null,null,null,"Estimated data whilst provisional"]
[]
[null,"Free text' footnotes"]
[]
[null,"A 'free text' footnote is used for any meaning beyond the pre-defined footnotes. "]
[null,"The symbol for 'free text' footnotes are numbers followed by a closing bracket (e.g. '1)')."]
[null,"The content of 'free text' footnotes must be specified by the user in the sheet 'footnote_list'."]
[null,"Note that one and only one 'free text' footnote symbol can be associated to a reported value (data point). "]
[]
[null,"Specific order of footnote symbols must be respected!"]
[]
[null,"It is possible to associate more than one footnote to a value-cell (data point). "]
[null,"In case of multiple footnote symbols, a specific order must be followed!\t"]
[]
[null,"1st position - First must come the 'free text' footnote symbol. The first position is always reserved for this! You must put a bracket even if you do not have any 'free text' footnote in case of further pre-defined footnote symbols should follow."]
[]
[null,"2nd position - Secondly, footnote symbol for confidentiality: this can be c) or d). The second position is always reserved for one and only one footnote symbol expressing confidentiality. You must put a bracket without letter if you do not have to express any confidentiality in case further pre-defined footnote symbols should follow.  "]
[]
[null,"3rd and more position - Finally, the third and possibly fourth, fifth and sixth positions are reserved for other pre-defined footnote symbols, namely b), e), and p). "]
[]
[null,"The following table summarises the specific order for reporting footnote symbols:"]
[]
[null,"Position ","Footnote type ",null,null,"What to do if  'empty'"]
[null,"1st","free text', number followed by right bracket: e.g. ‘1)’ (Note: only one is possible!)",null,null,"A right bracket without number must be set in case pre-defined symbols should follow."]
[null,"2nd","Confidentiality related predefined footnote symbol: c) or d)     (only one!)",null,null,"A right bracket without letter must be set in case further pre-defined symbols should follow."]
[null,"3rd and more","Other pre-defined footnote symbols: b)e)p)",null,null,"No brackets to be set."]
[]
[null,"Examples (use cases) for footnote reporting"]
[]
[null,"Example",null,"Meaning"]
[null,"No. ","Symbols","1st position 'free text'",null,null,"2nd position confidentiality",null,null,"3rd & more position"]
[null,1,"1)","Free text' footnote is given in separate sheet ",null,null,"empty ",null,null,"empty"]
[null,2,"1)d)","Free text' footnote is given in separate sheet ",null,null,"Secondary' confidentiality",null,null,"empty"]
[null,3,"1)c)p)","Free text' footnote is given in separate sheet",null,null,"Primary' confidentiality'",null,null,"Provisional value"]
[null,4,"1)c)b)p)","Free text' footnote is given in separate sheet",null,null,"Primary' confidentiality",null,null,"Break in series and provisional value"]
[null,5,"1))b)","Free text' footnote is given in separate sheet",null,null,"empty",null,null,"Break in series"]
[null,6,"))b)p)","empty",null,null,"empty",null,null,"Break in series and provisional value"]
[null,7,")c)p)","empty",null,null,"Primary' confidentiality",null,null,"Provisional value"]
[null,8,")d)b)p)","empty",null,null,"Secondary' confidentiality",null,null,"Break in series and provisional value"]
[null,9,")d)","empty",null,null,"Secondary' confidentiality",null,null,"empty"]
[null,10,"))b)","empty",null,null,"empty",null,null,"Break in series"]
[null,11,"))b)p)","empty",null,null,"empty",null,null,"Break in series and provisional value"]

{"sheet":"footnote_list","index":8,"n_rows":115,"n_cols":6,"rows_kept":115,"cut":false,"hidden":false,"merged":[[3,1,3,2],[6,2,6,3],[1,5,1,6],[2,5,2,6],[1,1,1,2]]}
[null,null,null,{"$f":"intro!F7","v":""}]
[null,"Country :",null,{"$f":"intro!F7","v":""},null,"Flags Mode"]
[null,"Type:",null,"Text",null,{"$f":"Parameters!C21","v":"SDMX Flags"}]
[null,"Content:",null,"Footnotes (associating symbols to text)"]
[]
[]
[null,null,"List of footnotes"]
[]
[null,null,"footnote symbol","footnote text associated to symbol"]
[null,null,"b)","Break in series"]
[null,null,"c)","Confidential"]
[null,null,"d)","Secondary confidentiality"]
[null,null,"e)","Estimated data"]
[null,null,"n)","Not to be published (only to be set by Eurostat!)"]
[null,null,"p)","Provisional "]
[null,null,"s)","Eurostat estimate (only to be set by Eurostat!)"]
[null,null,"1)"]
[null,null,"2)"]
[null,null,"3)"]
[null,null,"4)"]
[null,null,"5)"]
[null,null,"6)"]
[null,null,"7)"]
[null,null,"8)"]
[null,null,"9)"]
[null,null,"10)"]
[null,null,"11)"]
[null,null,"12)"]
[null,null,"13)"]
[null,null,"14)"]
[null,null,"15)"]
[null,null,"16)"]
[null,null,"17)"]
[null,null,"18)"]
[null,null,"19)"]
[null,null,"20)"]
[null,null,"21)"]
[null,null,"22)"]
[null,null,"23)"]
[null,null,"24)"]
[null,null,"25)"]
[null,null,"26)"]
[null,null,"27)"]
[null,null,"28)"]
[null,null,"29)"]
[null,null,"30)"]
[null,null,"31)"]
[null,null,"32)"]
[null,null,"33)"]
[null,null,"34)"]
[null,null,"35)"]
[null,null,"36)"]
[null,null,"37)"]
[null,null,"38)"]
[null,null,"39)"]
[null,null,"40)"]
[null,null,"41)"]
[null,null,"42)"]
[null,null,"43)"]
[null,null,"44)"]
[null,null,"45)"]
[null,null,"46)"]
[null,null,"47)"]
[null,null,"48)"]
[null,null,"49)"]
[null,null,"50)"]
[null,null,"51)"]
[null,null,"52)"]
[null,null,"53)"]
[null,null,"54)"]
[null,null,"55)"]
[null,null,"56)"]
[null,null,"57)"]
[null,null,"58)"]
[null,null,"59)"]
[null,null,"60)"]
[null,null,"61)"]
[null,null,"62)"]
[null,null,"63)"]
[null,null,"64)"]
[null,null,"65)"]
[null,null,"66)"]
[null,null,"67)"]
[null,null,"68)"]
[null,null,"69)"]
[null,null,"70)"]
[null,null,"71)"]
[null,null,"72)"]
[null,null,"73)"]
[null,null,"74)"]
[null,null,"75)"]
[null,null,"76)"]
[null,null,"77)"]
[null,null,"78)"]
[null,null,"79)"]
[null,null,"80)"]
[null,null,"81)"]
[null,null,"82)"]
[null,null,"83)"]
[null,null,"84)"]
[null,null,"85)"]
[null,null,"86)"]
[null,null,"87)"]
[null,null,"88)"]
[null,null,"89)"]
[null,null,"90)"]
[null,null,"91)"]
[null,null,"92)"]
[null,null,"93)"]
[null,null,"94)"]
[null,null,"95)"]
[null,null,"96)"]
[null,null,"97)"]
[null,null,"98)"]
[null,null,"99)"]

{"sheet":"Model","index":9,"n_rows":107,"n_cols":56,"rows_kept":107,"cut":false,"hidden":true,"merged":[[20,3,20,4],[21,3,21,4],[22,3,22,4],[23,3,23,4],[24,3,24,4],[13,3,13,4],[14,3,14,4],[15,3,15,4],[16,3,16,4],[17,3,17,4],[18,3,18,4],[0,11,2,12],[0,13,2,14],[7,3,7,4],[8,3,8,4],[9,3,9,4],[10,3,10,4],[11,3,11,4],[12,3,12,4],[19,3,19,4],[2,47,2,48],[3,1,3,4],[4,1,4,2],[4,3,4,4],[5,3,5,4],[6,3,6,4],[0,27,2,28],[0,29,2,30],[0,31,2,32],[0,33,2,34],[0,35,2,36],[1,1,1,2],[2,1,2,2],[2,3,2,4],[0,15,2,16],[0,17,2,18],[0,19,2,20],[0,21,2,22],[0,23,2,24],[0,25,2,26],[0,1,0,2],[0,5,2,6],[0,7,2,8],[0,9,2,10],[35,3,35,4],[36,3,36,4],[25,3,25,4],[26,3,26,4],[27,3,27,4],[28,3,28,4],[29,3,29,4],[30,3,30,4],[33,3,33,4],[31,3,31,4],[32,3,32,4],[34,3,34,4],[43,3,43,4],[44,3,44,4],[45,3,45,4],[46,3,46,4],[47,3,47,4],[48,3,48,4],[37,3,37,4],[38,3,38,4],[39,3,39,4],[40,3,40,4],[41,3,41,4],[42,3,42,4],[55,3,55,4],[56,3,56,4],[57,3,57,4],[58,3,58,4],[59,3,59,4],[60,3,60,4],[49,3,49,4],[50,3,50,4],[51,3,51,4],[52,3,52,4],[53,3,53,4],[54,3,54,4],[67,3,67,4],[68,3,68,4],[69,3,69,4],[70,3,70,4],[71,3,71,4],[72,3,72,4],[61,3,61,4],[62,3,62,4],[63,3,63,4],[64,3,64,4],[65,3,65,4],[66,3,66,4],[79,3,79,4],[80,3,80,4],[81,3,81,4],[82,3,82,4],[83,3,83,4],[84,3,84,4],[73,3,73,4],[74,3,74,4],[75,3,75,4],[76,3,76,4],[77,3,77,4],[78,3,78,4],[91,3,91,4],[92,3,92,4],[93,3,93,4],[94,1,94,4],[95,3,95,4],[96,3,96,4],[85,3,85,4],[86,3,86,4],[87,3,87,4],[88,3,88,4],[89,3,89,4],[90,1,90,4],[103,3,103,4],[104,3,104,4],[105,3,105,4],[106,3,106,4],[97,3,97,4],[98,3,98,4],[99,3,99,4],[100,3,100,4],[101,3,101,4],[102,3,102,4]]}
["DATAENTRY","Country:",null,{"$f":"intro!F7","v":""}]
[null,"Air Pollutant",null,"POL","LABEL"]
[null,"Unit","Million National Currency","UNIT LABEL"]
[null,"Air emissions by industry",null,null,null,1995,null,1996,null,1997,null,1998,null,1999,null,2000,null,2001,null,2002,null,2003,null,2004,null,2005,null,2006,null,2007,null,2008,null,2009,null,2010,null,2011,null,2012,null,2013,null,2014,null,2015,null,2016,null,2017,null,2018,null,2019,null,2020]
[null,{"$f":"Parameters!Q4","v":"A_U   01-99"},null,{"$f":"Parameters!S4","v":"Total industries"}]
[null,{"$f":"Parameters!Q5","v":"A"},null,{"$f":"Parameters!S5","v":"Agriculture, forestry and fishing"}]
[null,{"$f":"Parameters!Q6","v":"A01"},null,{"$f":"Parameters!S6","v":"Crop and animal production, hunting and related service activities"}]
[null,{"$f":"Parameters!Q7","v":"A02"},null,{"$f":"Parameters!S7","v":"Forestry and logging"}]
[null,{"$f":"Parameters!Q8","v":"A03"},null,{"$f":"Parameters!S8","v":"Fishing and aquaculture"}]
[null,{"$f":"Parameters!Q9","v":"B"},null,{"$f":"Parameters!S9","v":"Mining and quarrying"}]
[null,{"$f":"Parameters!Q10","v":"C"},null,{"$f":"Parameters!S10","v":"Manufacturing"}]
[null,{"$f":"Parameters!Q11","v":"C10-C12"},null,{"$f":"Parameters!S11","v":"Manufacture of food products, beverages and tobacco\nproducts"}]
[null,{"$f":"Parameters!Q12","v":"C13-C15"},null,{"$f":"Parameters!S12","v":"Manufacture of textiles, wearing apparel and leather products"}]
[null,{"$f":"Parameters!Q13","v":"C16-C18"},null,{"$f":"Parameters!S13","v":"Manufacture of wood, paper, printing and reproduction"}]
[null,{"$f":"Parameters!Q14","v":"C16"},null,{"$f":"Parameters!S14","v":"Manufacture of wood and of products of wood and cork, except furniture; manufacture of articles of straw and plaiting materials"}]
[null,{"$f":"Parameters!Q15","v":"C17"},null,{"$f":"Parameters!S15","v":"Manufacture of paper and paper products"}]
[null,{"$f":"Parameters!Q16","v":"C18"},null,{"$f":"Parameters!S16","v":"Printing and reproduction of recorded media"}]
[null,{"$f":"Parameters!Q17","v":"C19"},null,{"$f":"Parameters!S17","v":"Manufacture of coke and refined petroleum products"}]
[null,{"$f":"Parameters!Q18","v":"C20"},null,{"$f":"Parameters!S18","v":"Manufacture of chemicals and chemical products"}]
[null,{"$f":"Parameters!Q19","v":"C21"},null,{"$f":"Parameters!S19","v":"Manufacture of basic pharmaceutical products and pharmaceutical preparations"}]
[null,{"$f":"Parameters!Q20","v":"C22_C23"},null,{"$f":"Parameters!S20","v":"Manufacture of rubber and plastic products and other non-metallic mineral products"}]
[null,{"$f":"Parameters!Q21","v":"C22"},null,{"$f":"Parameters!S21","v":"Manufacture of rubber and plastic products"}]
[null,{"$f":"Parameters!Q22","v":"C23"},null,{"$f":"Parameters!S22","v":"Manufacture of other non-metallic mineral products"}]
[null,{"$f":"Parameters!Q23","v":"C24_C25"},null,{"$f":"Parameters!S23","v":"Manufacture of basic metals and fabricated metal products, except machinery and equipment"}]
[null,{"$f":"Parameters!Q24","v":"C24"},null,{"$f":"Parameters!S24","v":"Manufacture of basic metals"}]
[null,{"$f":"Parameters!Q25","v":"C25"},null,{"$f":"Parameters!S25","v":"Manufacture of fabricated metal products, except machinery and equipment"}]
[null,{"$f":"Parameters!Q26","v":"C26"},null,{"$f":"Parameters!S26","v":"Manufacture of computer, electronic and optical products"}]
[null,{"$f":"Parameters!Q27","v":"C27"},null,{"$f":"Parameters!S27","v":"Manufacture of electrical equipment"}]
[null,{"$f":"Parameters!Q28","v":"C28"},null,{"$f":"Parameters!S28","v":"Manufacture of machinery and equipment n.e.c."}]
[null,{"$f":"Parameters!Q29","v":"C29_C30"},null,{"$f":"Parameters!S29","v":"Manufacture of motor vehicles, trailers, semi-trailers and of other transport equipment"}]
[null,{"$f":"Parameters!Q30","v":"C29"},null,{"$f":"Parameters!S30","v":"Manufacture of motor vehicles, trailers and semi-trailers"}]
[null,{"$f":"Parameters!Q31","v":"C30"},null,{"$f":"Parameters!S31","v":"Manufacture of other transport equipment"}]
[null,{"$f":"Parameters!Q32","v":"C31-C33"},null,{"$f":"Parameters!S32","v":"Manufacture of furniture; jewellery, musical instruments, toys; repair and installation of machinery and equipment"}]
[null,{"$f":"Parameters!Q33","v":"C31_C32"},null,{"$f":"Parameters!S33","v":"Manufacture of furniture; other manufacturing"}]
[null,{"$f":"Parameters!Q34","v":"C33"},null,{"$f":"Parameters!S34","v":"Repair and installation of machinery and equipment"}]
[null,{"$f":"Parameters!Q35","v":"D"},null,{"$f":"Parameters!S35","v":"Electricity, gas, steam and air conditioning supply"}]
[null,{"$f":"Parameters!Q36","v":"E"},null,{"$f":"Parameters!S36","v":"Water supply; sewerage, waste management and remediation activities"}]
[null,{"$f":"Parameters!Q37","v":"E36"},null,{"$f":"Parameters!S37","v":"Water collection, treatment and supply"}]
[null,{"$f":"Parameters!Q38","v":"E37-E39"},null,{"$f":"Parameters!S38","v":"Sewerage, waste management, remediation activities"}]
[null,{"$f":"Parameters!Q39","v":"F"},null,{"$f":"Parameters!S39","v":"Construction"}]
[null,{"$f":"Parameters!Q40","v":"G"},null,{"$f":"Parameters!S40","v":"Wholesale and retail trade; repair of motor vehicles and motorcycles"}]
[null,{"$f":"Parameters!Q41","v":"G45"},null,{"$f":"Parameters!S41","v":"Wholesale and retail trade and repair of motor vehicles and motorcycles"}]
[null,{"$f":"Parameters!Q42","v":"G46"},null,{"$f":"Parameters!S42","v":"Wholesale trade, except of motor vehicles and motorcycles"}]
[null,{"$f":"Parameters!Q43","v":"G47"},null,{"$f":"Parameters!S43","v":"Retail trade, except of motor vehicles and motorcycles"}]
[null,{"$f":"Parameters!Q44","v":"H"},null,{"$f":"Parameters!S44","v":"Transportation and storage"}]
[null,{"$f":"Parameters!Q45","v":"H49"},null,{"$f":"Parameters!S45","v":"Land transport and transport via pipelines"}]
[null,{"$f":"Parameters!Q46","v":"H50"},null,{"$f":"Parameters!S46","v":"Water transport"}]
[null,{"$f":"Parameters!Q47","v":"H51"},null,{"$f":"Parameters!S47","v":"Air transport"}]
[null,{"$f":"Parameters!Q48","v":"H52"},null,{"$f":"Parameters!S48","v":"Warehousing and support activities for transportation"}]
[null,{"$f":"Parameters!Q49","v":"H53"},null,{"$f":"Parameters!S49","v":"Postal and courier activities"}]
[null,{"$f":"Parameters!Q50","v":"I"},null,{"$f":"Parameters!S50","v":"Accommodation and food service activities"}]
[null,{"$f":"Parameters!Q51","v":"J"},null,{"$f":"Parameters!S51","v":"Information and communication"}]
[null,{"$f":"Parameters!Q52","v":"J58-J60"},null,{"$f":"Parameters!S52","v":"Publishing, motion picture, video, television programme production; sound recording, programming and broadcasting activities"}]
[null,{"$f":"Parameters!Q53","v":"J58"},null,{"$f":"Parameters!S53","v":"Publishing activities"}]
[null,{"$f":"Parameters!Q54","v":"J59_J60"},null,{"$f":"Parameters!S54","v":"Motion picture, video, television programme production; programming and broadcasting activities"}]
[null,{"$f":"Parameters!Q55","v":"J61"},null,{"$f":"Parameters!S55","v":"Telecommunications"}]
[null,{"$f":"Parameters!Q56","v":"J62_J63"},null,{"$f":"Parameters!S56","v":"Computer programming, consultancy, and information service activities"}]
[null,{"$f":"Parameters!Q57","v":"K"},null,{"$f":"Parameters!S57","v":"Financial and insurance activities"}]
[null,{"$f":"Parameters!Q58","v":"K64"},null,{"$f":"Parameters!S58","v":"Financial service activities, except insurance and pension funding"}]
[null,{"$f":"Parameters!Q59","v":"K65"},null,{"$f":"Parameters!S59","v":"Insurance, reinsurance and pension funding, except compulsory social security"}]
[null,{"$f":"Parameters!Q60","v":"K66"},null,{"$f":"Parameters!S60","v":"Activities auxiliary to financial services and insurance activities"}]
[null,{"$f":"Parameters!Q61","v":"L"},null,{"$f":"Parameters!S61","v":"Real estate activities"}]
[null,{"$f":"Parameters!Q62","v":"L68A"},null,{"$f":"Parameters!S62","v":"Imputed rents of owner-occupied dwellings"}]
[null,{"$f":"Parameters!Q63","v":"M"},null,{"$f":"Parameters!S63","v":"Professional, scientific and technical activities"}]
[null,{"$f":"Parameters!Q64","v":"M69-M71"},null,{"$f":"Parameters!S64","v":"Legal and accounting activities; activities of head offices; management consultancy activities; architectural and engineering activities; technical testing and analysis"}]
[null,{"$f":"Parameters!Q65","v":"M69_M70"},null,{"$f":"Parameters!S65","v":"Legal and accounting activities; activities of head offices; management consultancy activities"}]
[null,{"$f":"Parameters!Q66","v":"M71"},null,{"$f":"Parameters!S66","v":"Architectural and engineering activities; technical testing and analysis"}]
[null,{"$f":"Parameters!Q67","v":"M72"},null,{"$f":"Parameters!S67","v":"Scientific research and development"}]
[null,{"$f":"Parameters!Q68","v":"M73-M75"},null,{"$f":"Parameters!S68","v":"Advertising and market research; other professional, scientific and technical activities; veterinary activities"}]
[null,{"$f":"Parameters!Q69","v":"M73"},null,{"$f":"Parameters!S69","v":"Advertising and market research"}]
[null,{"$f":"Parameters!Q70","v":"M74_M75"},null,{"$f":"Parameters!S70","v":"Other professional, scientific and technical activities; veterinary activities"}]
[null,{"$f":"Parameters!Q71","v":"N"},null,{"$f":"Parameters!S71","v":"Administrative and support service activities"}]
[null,{"$f":"Parameters!Q72","v":"N77"},null,{"$f":"Parameters!S72","v":"Rental and leasing activities"}]
[null,{"$f":"Parameters!Q73","v":"N78"},null,{"$f":"Parameters!S73","v":"Employment activities"}]
[null,{"$f":"Parameters!Q74","v":"N79"},null,{"$f":"Parameters!S74","v":"Travel agency, tour operator reservation service and related activities"}]
[null,{"$f":"Parameters!Q75","v":"N80-N82"},null,{"$f":"Parameters!S75","v":"Security and investigation, service and landscape, office administrative and support activities"}]
[null,{"$f":"Parameters!Q76","v":"O"},null,{"$f":"Parameters!S76","v":"Public administration and defence; compulsory social security"}]
[null,{"$f":"Parameters!Q77","v":"P"},null,{"$f":"Parameters!S77","v":"Education"}]
[null,{"$f":"Parameters!Q78","v":"Q"},null,{"$f":"Parameters!S78","v":"Human health and social work activities"}]
[null,{"$f":"Parameters!Q79","v":"Q86"},null,{"$f":"Parameters!S79","v":"Human health activities"}]
[null,{"$f":"Parameters!Q80","v":"Q87_Q88"},null,{"$f":"Parameters!S80","v":"Residential care activities and social work activities without accommodation"}]
[null,{"$f":"Parameters!Q81","v":"R"},null,{"$f":"Parameters!S81","v":"Arts, entertainment and recreation"}]
[null,{"$f":"Parameters!Q82","v":"R90-R92"},null,{"$f":"Parameters!S82","v":"Creative, arts and entertainment activities; libraries, archives, museums and other cultural activities; gambling and betting activities"}]
[null,{"$f":"Parameters!Q83","v":"R93"},null,{"$f":"Parameters!S83","v":"Sports activities and amusement and recreation activities"}]
[null,{"$f":"Parameters!Q84","v":"S"},null,{"$f":"Parameters!S84","v":"Other service activities"}]
[null,{"$f":"Parameters!Q85","v":"S94"},null,{"$f":"Parameters!S85","v":"Activities of membership organisations"}]
[null,{"$f":"Parameters!Q86","v":"S95"},null,{"$f":"Parameters!S86","v":"Repair of computers and personal and household goods"}]
[null,{"$f":"Parameters!Q87","v":"S96"},null,{"$f":"Parameters!S87","v":"Other personal service activities"}]
[null,{"$f":"Parameters!Q88","v":"T"},null,{"$f":"Parameters!S88","v":"Activities of households as employers; undifferentiated goods- and services-producing activities of households for own use"}]
[null,{"$f":"Parameters!Q89","v":"U"},null,{"$f":"Parameters!S89","v":"Activities of extraterritorial organisations and bodies"}]
[null,"   Household air emissions\n                                          Households, totals"]
[null,null,null,"- Transport"]
[null,null,null,"- Heating/cooling"]
[null,null,null,"- Other"]
[null,"   Bridging items\n\n                                Total Air emissions accounts (industry (row 5) + households (row 91))"]
[null,null,null,"less National residents abroad"]
[null,null,null,"-  National fishing vessels operating abroad"]
[null,null,null,"-  Land transport"]
[null,null,null,"-  Water transport"]
[null,null,null,"-  Air transport"]
[null,null,null,"plus Non-residents on the territory"]
[null,null,null,"+  Land transport"]
[null,null,null,"+ Water transport"]
[null,null,null,"+  Air transport"]
[null,null,null,"Other adjustments and statistical discrepancy"]
[null,null,null,"'Total CO2 emissions without LULUCF' as reported to UNFCCC (table 10s1)"]
[null,null,null,"Year of submission to UNFCCC"]

{"sheet":"Parameters","index":10,"n_rows":209,"n_cols":38,"rows_kept":209,"cut":false,"hidden":true,"merged":[[1,32,1,37],[68,10,68,13],[65,10,65,13],[66,10,66,13],[67,10,67,13],[42,6,42,13],[35,4,35,6],[51,10,51,13],[52,10,52,13],[43,10,43,13],[44,10,44,13],[45,10,45,13],[46,10,46,13],[47,10,47,13],[33,4,33,6],[34,4,34,6],[2,1,2,2],[29,4,29,7],[30,4,30,6],[31,4,31,6],[32,4,32,6],[24,4,24,10],[29,9,29,12],[1,28,1,30],[1,22,1,24],[1,25,1,26],[1,16,1,21],[1,4,1,15],[55,10,55,13],[56,10,56,13],[57,10,57,13],[63,10,63,13],[64,10,64,13],[58,10,58,13],[59,10,59,13],[60,10,60,13],[61,10,61,13],[62,10,62,13],[48,10,48,13],[49,10,49,13],[50,10,50,13],[53,10,53,13],[54,10,54,13],[69,10,69,13],[70,10,70,13],[71,10,71,13],[72,10,72,13],[73,10,73,13],[79,10,79,13],[78,10,78,13],[74,10,74,13],[75,10,75,13],[76,10,76,13],[77,10,77,13]]}
[]
[null,null,null,null,"Parameters for the pollutants",null,null,null,null,null,null,null,null,null,null,null,"Parameters for the row classification",null,null,null,null,null,"Plausibility check",null,null,"Confidentiality",null,null,"Consistency check using equations",null,null,null,"Flags"]
[null,"General parameters",null,null,"Pollutants","EurobasePollutant","Eurobase\nUnit","Sheet","Label","Other Label","Type of data table","Flag Row","Row in \"structure\"","Of Which","Nr of decimals for consistency check","Mandatory","Questionnaire code","Eurobase code","Label","Type of character","Row","Parent","Annual growth","Row for elephant","Share to total","2ndConf","3rdConf","Mandatory","Text to be displayed","Equation","Row to display message",null,"Code","Label","Semantic","Request Value","Disable Plausibility","Eurostat"]
[null,"Questionnaire - starting year",1995,null,"CO2","CO2","THS_T","CO2","Carbon Dioxide\n(without emissions from biomass used as a fuel)","1000 tonnes (Gg)|'''Total CO2 equivalent emissions, including indirect CO2,  without land use, land-use change and forestry' (as reported to UNFCCC table 10s2)",1,108,17,null,"5 decimals","X","A_U   01-99","TOTAL","Total industries",0,5,95,0,0,0,0,0,"X","Other adjustments = Total UNFCCC/CLRTAP - Total AEA + Residents abroad - Non-residents on the territory","OR(OR(ROUND(SUM(#106),2)=ROUND(SUM(#95,#105) + IF(#101=\":\",SUM(#102:#104),SUM(#101)) - IF(#96=\":\",SUM(#97:#100),SUM(#96)),2), COUNTIF(#95:#105, \":\")=11), COUNTIF(#106, \":\")=1)",105,null,"b","Break in series","Standard","No","Yes","No"]
[null,"Questionnaire - end year",2024,null,"Bio CO2","CO2_BIO","THS_T","Biomass CO2","Carbon Dioxide from biomass used as a fuel","1000 tonnes (Gg)|'''CO2 from biomass' as reported to UNFCCC (table 10s2: memo item)",1,108,19,null,"5 decimals","X","A","A","Agriculture, forestry and fishing",0,6,5,0.3,5,0.1,0,0,"X","Real estate activities: L >= L68A","OR(#62=\":\",SUM(#62)>=SUM(#63))",62,null,"c","Confidential","Confidentiality","No","No","No"]
[null,"Number of pollutants",19,null,"N2O","N2O","T","N2O","Nitrous oxide","tonnes (Mg)|'''Total direct N2O emissions without N2O from LULUCF (as reported to UNFCCC table 10s4)",1,108,20,null,"5 decimals","X","A01","A01","Crop and animal production, hunting and related service activities",0,7,6,0.8,6,0.3,8,9,"X","Water transport: H50 must be bigger than the bridging item 'less national residents abroad - water transport'","OR(#47=\":\",SUM(#47)>=SUM(#99))",47,null,"d","Secondary confidentiality","Confidentiality","No","No","No"]
[null,"Number of equations",5,null,"CH4","CH4","T","CH4","Methane","tonnes (Mg)|'''Total CH4 emissions without CH4 from LULUCF (as reported to UNFCCC table 10s3)",1,108,21,null,"5 decimals","X","A02","A02","Forestry and logging",0,8,6,0.8,6,0.3,7,9,"X","Air transport: H51 must be bigger than bridging item 'less national residents abroad - air transport'","OR(#48=\":\",SUM(#48)>=SUM(#100))",48,null,"e","Estimated data","Standard","Yes","No","No"]
[null,"Number of rows",206,null,"HFC","HFC","TCO2E","HFC","Hydrofluorocarbons","tonnes (Mg) CO2-equivalents|'''Emissions of HFCs (as reported to UNFCCC table 10s5)",1,108,22,null,"5 decimals",null,"A03","A03","Fishing and aquaculture",0,9,6,0.8,6,0.3,7,8,"X","Total AEA equals with inventory total, which is not plausible. ","SUM(#95)<>SUM(#106)",95,null,"n","Not to be published","Confidentiality","No","No","Yes"]
[null,"Start row",5,null,"PFC","PFC","TCO2E","PFC","Perfluorocarbons","tonnes (Mg) CO2-equivalents|'''Emissions of PFCs (as reported to UNFCCC table 10s5)",1,108,23,null,"5 decimals",null,"B","B","Mining and quarrying",0,10,5,0.3,5,0.1,0,0,"X",null,null,null,null,"p","Provisional","Standard","Yes","No","No"]
[null,"Start column",6,null,"SF6_NF3","NF3_SF6","TCO2E","SF6_NF3","Sulphur hexafluoride and nitrogen trifluoride","tonnes (Mg) CO2-equivalents|'''Emissions of SF6 and NF3 (as reported to UNFCCC table 10s5)",1,108,24,null,"5 decimals",null,"C","C","Manufacturing",0,11,5,0.3,5,0.1,0,0,"X",null,null,null,null,"s","Eurostat estimate","Eurostat","Yes","No","Yes"]
[null,"Column for codes",2,null,"NOx","NOX","TNO2E","NOx","Nitrogen oxides","tonnes (Mg) NO2-equivalents|'''National total for the entire territory' as reported to CLRTAP (Annex 1)",1,108,25,null,"5 decimals","X","C10-C12","C10-C12","Manufacture of food products, beverages and tobacco\nproducts",0,12,11,0.8,11,0.05,11,11,"X"]
[null,"Label column",4,null,"SO2","SOX","TSO2E","SOx","Sulphur oxides","tonnes (Mg) SO2-equivalents|'''National total for the entire territory' as reported to CLRTAP (Annex 1)",1,108,27,null,"5 decimals","X","C13-C15","C13-C15","Manufacture of textiles, wearing apparel and leather products",0,13,11,0.8,11,0.05,11,11,"X"]
[null,null,null,null,"NH3","NH3","T","NH3","Ammonia","tonnes (Mg)|'''National total for the entire territory' as reported to CLRTAP (Annex 1)",1,108,28,null,"5 decimals","X","C16-C18","C16-C18","Manufacture of wood, paper, printing and reproduction",3,14,0,0,0,0,0,0,"X"]
[null,null,null,null,"NMVOC","NMVOC","T","NMVOC","Non-methane volatile organic compounds","tonnes (Mg)|'''National total for the entire territory' as reported to CLRTAP (Annex 1)",1,108,29,null,"5 decimals","X","C16","C16","Manufacture of wood and of products of wood and cork, except furniture; manufacture of articles of straw and plaiting materials",0,15,11,0.8,11,0.05,11,11,"X"]
[null,"Item can have many NA sub-items",null,null,"CO","CO","T","CO","Carbon monoxide","tonnes (Mg)|'''National total for the entire territory' as reported to CLRTAP (Annex 1)",1,108,31,null,"5 decimals","X","C17","C17","Manufacture of paper and paper products",0,16,11,0.8,11,0.05,11,11,"X"]
[null,"Number of fixed flags",7,null,"PM10","PM10","T","PM10","Particulate matter \n(less than or equal to a nominal 10 microns)","tonnes (Mg)|'''National total for the entire territory' as reported to CLRTAP (Annex 1)",1,108,32,null,"5 decimals","X","C18","C18","Printing and reproduction of recorded media",0,17,11,0.8,11,0.05,11,11,"X"]
[null,"Number of footnotes",99,null,"PM2.5","PM2_5","T","PM2.5","Particulate matter\n(less than or equal to a nominal 2.5 microns)","tonnes (Mg)|'''National total for the entire territory' as reported to CLRTAP (Annex 1)",1,108,34,"PM10","5 decimals","X","C19","C19","Manufacture of coke and refined petroleum products",0,18,11,0.8,11,0.05,11,11,"X","AEA pollutants codes"]
[null,"Number of check types/colors",36,null,"CO2_ROAD","CO2_ROAD","THS_T","CO2_ROAD","Carbon dioxide from road transport\n(without emissions from biomass used as a fuel)","1000 tonnes (Gg)|'''CO2 emissions from road transport (CRF 1.A.3.b), as reported to UNFCCC (Table 1s1)",2,108,18,"CO2","5 decimals",null,"C20","C20","Manufacture of chemicals and chemical products",0,19,11,0.8,11,0.05,11,11,"X","CO2"]
[null,"Number of code list",2,null,"NOx_ROAD","NOx_ROAD","TNO2E","NOx_ROAD","Nitrogen oxides from road transport","tonnes (Mg) NO2-equivalents|'''Road transport emissions as reported to CLRTAP (Annex 1)",2,108,26,"NOx","5 decimals",null,"C21","C21","Manufacture of basic pharmaceutical products and pharmaceutical preparations",0,20,11,0.8,11,0.05,11,11,"X","NOx"]
[null,"Disable Plausibility on Footnotes","Yes",null,"NMVOC_ROAD","NMVOC_ROAD","T","NMVOC_ROAD","Non-methane volatile organic compounds from road transport","tonnes (Mg)|'''Road transport emissions as reported to CLRTAP (Annex 1)",2,108,30,"NMVOC","5 decimals",null,"C22_C23","C22_C23","Manufacture of rubber and plastic products and other non-metallic mineral products",3,21,0,0,0,0,0,0,"X","SO2"]
[null,"Flags and Footnotes Coding System","SDMX Flags",null,"PM10_ROAD","PM10_ROAD","T","PM10_ROAD","Particulate matter \n(less than or equal to a nominal 10 microns) from road transport ","tonnes (Mg)|'''Road transport emissions as reported to CLRTAP (Annex 1)",2,108,33,"PM10","5 decimals",null,"C22","C22","Manufacture of rubber and plastic products",0,22,11,0.8,11,0.05,11,11,"X","CO"]
[null,"Mandatory starting year",2019,null,"PM2.5_ROAD","PM2.5_ROAD","T","PM2.5_ROAD","Particulate matter\n(less than or equal to a nominal 2.5 microns) from road transport","tonnes (Mg)|'''Road transport emissions as reported to CLRTAP (Annex 1)",2,108,35,"PM2.5","5 decimals",null,"C23","C23","Manufacture of other non-metallic mineral products",0,23,11,0.8,11,0.05,11,11,"X","PM10"]
[null,"Mandatory end year",2023,null,null,null,null,null,null,null,null,null,null,null,null,null,"C24_C25","C24_C25","Manufacture of basic metals and fabricated metal products, except machinery and equipment",3,24,0,0,0,0,0,0,"X","PM2.5"]
[null,"Accept use of Eurostat flags",null,null,null,null,null,null,null,null,null,null,null,null,null,null,"C24","C24","Manufacture of basic metals",0,25,11,0.8,11,0.05,11,11,"X"]
[null,"AEA total codes",6,null,"Types of data tables",null,null,null,null,null,null,null,null,null,null,null,"C25","C25","Manufacture of fabricated metal products, except machinery and equipment",0,26,11,0.8,11,0.05,11,11,"X"]
[null,null,null,null,"Type of data table","Label","Start Items","Number of items","Consistency check","Equations - start","Nb of equations",null,null,null,null,null,"C26","C26","Manufacture of computer, electronic and optical products",0,27,11,0.8,11,0.05,11,11,"X"]
[null,null,null,null,1,"Nace",0,103,"X",0,5,null,null,null,null,null,"C27","C27","Manufacture of electrical equipment",0,28,11,0.8,11,0.05,11,11,"X"]
[null,"Country label","Country code",null,2,"Road",103,103,"X",0,5,null,null,null,null,null,"C28","C28","Manufacture of machinery and equipment n.e.c.",0,29,11,0.8,11,0.05,11,11,"X"]
[null,"Albania ","AL ",null,null,null,null,null,null,null,null,null,null,null,null,null,"C29_C30","C29_C30","Manufacture of motor vehicles, trailers, semi-trailers and of other transport equipment",3,30,0,0,0,0,0,0,"X"]
[null,"Austria","AT",null,"Parameters to export data in flat file",null,null,null,null,"Type of character accepted",null,null,null,null,"not used ",null,"C29","C29","Manufacture of motor vehicles, trailers and semi-trailers",0,31,11,0.8,11,0.05,11,11,"X"]
[null,"Belgium","BE",null,"Flat file separator",null,null,"<TAB>"," -> Type <TAB> for tabulation",0,"Positive only",null,null,null,"updated",null,"C30","C30","Manufacture of other transport equipment",0,32,11,0.8,11,0.05,11,11,"X"]
[null,"Bosnia and Herzegovina","BA",null,"File extension",null,null,".txt"," -> Do not forget the \".\"",1,"Any value",null,null,null,null,null,"C31-C33","C31-C33","Manufacture of furniture; jewellery, musical instruments, toys; repair and installation of machinery and equipment",3,33,0,0,0,0,0,0,"X"]
[null,"Bulgaria","BG",null,"Text footnotes separator",null,null,"|",null,2,"Year",null,null,null,null,null,"C31_C32","C31_C32","Manufacture of furniture; other manufacturing",0,34,11,0.8,11,0.05,11,11,"X"]
[null,"Croatia","HR",null,"Add empty rows",null,null,"X"," -> X to activate, empty otherwise",3,"Frozen",null,null,null,null,null,"C33","C33","Repair and installation of machinery and equipment",0,35,11,0.8,11,0.05,11,11,"X"]
[null,"Cyprus","CY",null,"Add M flag",null,null,"X"," -> X to activate, empty otherwise",4,"Percentage",null,null,null,null,null,"D","D","Electricity, gas, steam and air conditioning supply",0,36,5,0.3,5,0.1,0,0,"X"]
[null,"Czechia","CZ",null,"Round values",null,null,null," -> X to activate, empty otherwise",5,"Of which: total > sum(sub-totals)",null,null,null,null,null,"E","E","Water supply; sewerage, waste management and remediation activities",0,37,5,0.3,5,0.1,0,0,"X"]
[null,"Denmark","DK",null,null,null,null,null,null,null,null,null,null,null,null,null,"E36","E36","Water collection, treatment and supply",0,38,37,0.8,37,0.3,37,37,"X"]
[null,"Estonia","EE",null,"Number of decimals",null,null,null,null,null,null,null,null,null,null,null,"E37-E39","E37-E39","Sewerage, waste management, remediation activities",0,39,37,0.8,37,0.3,37,37,"X"]
[null,"Finland","FI",null,"0 decimals",null,null,null,null,null,null,null,null,null,null,null,"F","F","Construction",0,40,5,0.3,5,0.1,0,0,"X"]
[null,"France","FR",null,"1 decimal",null,null,null,null,null,null,null,null,null,null,null,"G","G","Wholesale and retail trade; repair of motor vehicles and motorcycles",0,41,5,0.3,5,0.1,0,0,"X"]
[null,"Germany","DE",null,"2 decimals",null,null,null,null,null,null,null,null,null,null,null,"G45","G45","Wholesale and retail trade and repair of motor vehicles and motorcycles",0,42,41,0.8,5,0.05,41,41,"X"]
[null,"Greece","EL",null,"3 decimals",null,null,null,null,null,null,null,null,null,null,null,"G46","G46","Wholesale trade, except of motor vehicles and motorcycles",0,43,41,0.8,5,0.05,41,41,"X"]
[null,"Hungary","HU",null,"4 decimals",null,"Warnings",null,null,null,null,null,null,null,null,null,"G47","G47","Retail trade, except of motor vehicles and motorcycles",0,44,41,0.8,5,0.05,41,41,"X"]
[null,"Iceland","IS",null,"5 decimals",null,"Color","Description of the issue","Text to be displayed","Display message","Description",null,null,null,null,null,"H","H","Transportation and storage",0,45,5,0.3,5,0.1,0,0,"X"]
[null,"Ireland","IE",null,"6 decimals",null,123.456,"Default Value",null,null,"Default display for a data cell.",null,null,null,null,null,"H49","H49","Land transport and transport via pipelines",0,46,45,0.8,45,0.3,45,45,"X"]
[null,"Italy","IT",null,"7 decimals",null,123.456,"Illegal Symbol","[@1]",null,"This error occurs when an illegal symbol is reported.",null,null,null,null,null,"H50","H50","Water transport",0,47,45,0.8,45,0.3,45,45,"X"]
[null,"Latvia","LV",null,null,null,123.456,"Consistency (Total <> Subtotal)","Reported total or sub-total does not equal sum of sub-items; the calculated sum of sub-items  = @1.","X","This consistency error is highlighted when all sub-items are reported and  the reported total or sub-total does not equal the sum of the sub-items and it calculates the correct total or sub-total based on the reported figures. ",null,null,null,null,null,"H51","H51","Air transport",0,48,45,0.8,45,0.3,45,45,"X"]
[null,"Liechtenstein","LI",null,null,null,123.456,"Consistency (Sub Sectors)","The reported total or sub-total cannot be calculated as one item is 'not available'.","X","This consistency error is highlighted when the total or the sub-total is reported and it is equal with the sum of the reported sub-items and one of the sub-items is 'not available'. The message is displayed in the total.",null,null,null,null,null,"H52","H52","Warehousing and support activities for transportation",0,49,45,0.8,45,0.3,45,45,"X"]
[null,"Lithuania","LT",null,null,null,123.456,"Consistency (Sub Sectors)","Calculated value = @1.",null,"This consistency error occurs when all figures are reported except one, which is reported as \"not available\". If all figures are correctly reported, the missing figure can be calculated from the remaining figures. The message is displayed in the cell where the symbol \":\" is reported.",null,null,null,null,null,"H53","H53","Postal and courier activities",0,50,45,0.8,45,0.3,45,45,"X"]
[null,"Luxembourg","LU",null,null,null,123.456,"Consistency (Total <= SubTotal)","The reported total or sub-total cannot be calculated as more than one sub-item is indicated as 'not available'.","X","This consistency error is highlighted when the total or the sub-total is reported and it is smaller or equal with the sum of the sub-items and several sub-items are 'not available'. ",null,null,null,null,null,"I","I","Accommodation and food service activities",0,51,5,0.3,5,0.1,0,0,"X"]
[null,"Malta","MT",null,null,null,123.456,"Consistency (Sub Sectors)","The reported total is equal to the sum-of the sub-items and more of the sub-items are 'not available'.","X","This consistency error is highlighted when the total or the sub-total is reported and it is equal to the sum of the sub-items, while several sub-items are 'not available'.\nCurrently activated; in order to deactivate this check, add an \"x\" to cell C15 in this parameter sheet.",null,null,null,null,null,"J","J","Information and communication",0,52,5,0.3,5,0.1,0,0,"X"]
[null,"Moldova","MD",null,"Types of rounding",null,123.456,"Consistency (Equation)","@1","X","This message is displayed when the equations (see column AC in this sheet) are not verified. The message to be displayed is available in column AB.",null,null,null,null,null,"J58-J60","J58-J60","Publishing, motion picture, video, television programme production; sound recording, programming and broadcasting activities",3,53,0,0,0,0,0,0,"X"]
[null,"Montenegro","ME",null,"SUM(ROUND(V))",null,123.456,"Plausibility","Growth rate = @1 (Threshold +/-@2)","X","Plausibility issue",null,null,null,null,null,"J58","J58","Publishing activities",0,54,52,0.8,5,0.05,52,52,"X"]
[null,"Netherlands","NL",null,"ROUND(SUM(V))",null,123.456,"Plausibility and consistency","Growth rate = @1 (Threshold +/-@2)","X","Simultaneous plausibility and consistency issue.",null,null,null,null,null,"J59_J60","J59_J60","Motion picture, video, television programme production; programming and broadcasting activities",0,55,52,0.8,5,0.05,52,52,"X"]
[null,"North Macedonia","MK",null,null,null,"c)10)","Default Footnote",null,null,"Default display of the footnotes.",null,null,null,null,null,"J61","J61","Telecommunications",0,56,52,0.8,5,0.05,52,52,"X"]
[null,"Norway","NO",null,null,null,"a)21)","Illegal footnote","@1) No footnote description.",null,"This error occurs when a footnote is included, but there is not text in the footnote area.",null,null,null,null,null,"J62_J63","J62_J63","Computer programming, consultancy, and information service activities",0,57,52,0.8,5,0.05,52,52,"X"]
[null,"Poland","PL",null,null,null,"a)21)","Illegal footnote","@1) Wrong footnote number.",null,"This error occurs when the footnote includes a number that does not exist in the footnote area.",null,null,null,null,null,"K","K","Financial and insurance activities",0,58,5,0.3,5,0.1,0,0,"X"]
[null,"Portugal","PT",null,null,null,"a)21)","Illegal footnote","@1) Wrong footnote letter.",null,"This error occurs when the footnote includes a letter that does not exist in the footnote area.",null,null,null,null,null,"K64","K64","Financial service activities, except insurance and pension funding",0,59,58,0.8,5,0.05,58,58,"X"]
[null,"Romania","RO",null,null,null,"a)21)","Illegal footnote","Wrong footnote ending [@1].",null,"This error occurs when the footnote does not have a parenthesis at the end.",null,null,null,null,null,"K65","K65","Insurance, reinsurance and pension funding, except compulsory social security",0,60,58,0.8,5,0.05,58,58,"X"]
[null,"Serbia","RS",null,null,null,"a)21)","Illegal footnote","@1) flag not allowed with value '@2'.",null,"This error occurs when the footnote cannot be used together with what was reported in the data cell.",null,null,null,null,null,"K66","K66","Activities auxiliary to financial services and insurance activities",0,61,58,0.8,5,0.05,58,58,"X"]
[null,"Slovak Republic","SK",null,null,null,"a)21)","Illegal footnote","@1","X","This check is done for all footnotes and, depending on the error, one of the above five message (cell I56-I60) will be displayed.",null,null,null,null,null,"L","L","Real estate activities",5,62,5,0.3,5,0.1,0,0,"X"]
[null,"Slovenia","SI",null,null,null,"c)","Confidentiality error","Secondary confidentiality required under sector @1 (see 'instructions' sheet).","X","This confidentiality error is highlighted when only one sub-item (i.e. this highlighted one) is flagged confidential. In such a case it is recommended to flag additional sub-items (secondary confidentiality flag 'd') on the same hierarchical MF-level in order to enable displaying the total or sub-total. ",null,null,null,null,null,"L68A","L68A","Imputed rents of owner-occupied dwellings",0,63,0,0.8,5,0.05,5,5]
[null,"Spain","ES",null,null,null,"c)","Confidentiality warning","Confidentiality not correctly applied (see 'instructions' sheet).","X","This confidentiality error is highlighted when a total or sub-total is flagged confidential although it should not because one or two sub-items are flagged confidential. In such cases it is recommended to flag additional sub-items (secondary confidentiality) in order to enable displaying the total or sub-total. Also this confidentiality error is highlighted when the c) flag is used for zero or 'not available' cells.   ",null,null,null,null,null,"M","M","Professional, scientific and technical activities",0,64,5,0.3,5,0.1,0,0,"X"]
[null,"Sweden","SE",null,null,null,"c)","Frozen row",null,null,"Not evaluated.",null,null,null,null,null,"M69-M71","M69-M71","Legal and accounting activities; activities of head offices; management consultancy activities; architectural and engineering activities; technical testing and analysis",3,65,0,0,0,0,0,0,"X"]
[null,"Switzerland","CH",null,null,"Only Font color will be used ==>",123.456,"Of which","Value should be smaller or equal to the value in the same cell of sheet '@1'.","X","An error is displayed if the \"of which\" value is bigger than the one to be compared with (e.g. if PM2.5>PM10)",null,null,null,null,null,"M69_M70","M69_M70","Legal and accounting activities; activities of head offices; management consultancy activities",0,66,64,0.8,5,0.05,64,64,"X"]
[null,"Türkiye","TR",null,null,null,123.456,"Plausibility with Footnote","Growth rate = @1 (Threshold +/-@2)","X",null,null,null,null,null,null,"M71","M71","Architectural and engineering activities; technical testing and analysis",0,67,64,0.8,5,0.05,64,64,"X"]
[null,"Ukraine","UA",null,null,null,123.456,"Plausibility with Footnote","Growth rate = @1 (Threshold +/-@2)","X",null,null,null,null,null,null,"M72","M72","Scientific research and development",0,68,64,0.8,5,0.05,64,64,"X"]
[null,"United Kingdom","UK",null,null,null,123.456,"Mandatory Cell","Reporting this cell is mandatory, not available symbol is not allowed!","X","This error occurs when a not available symbol is used on a mandatory cell",null,null,null,null,null,"M73-M75","M73-M75","Advertising and market research; other professional, scientific and technical activities; veterinary activities",3,69,0,0,0,0,0,0,"X"]
[null,null,null,null,null,null,"c)10)","Eurostat reserved flag","@1","X","Raised only is 'Accept Eurostat Flag Use' option is activated. Does not take the lead on Stadard Footnote Error (Act as Information). Use the Display message to add the message as cell Comment.",null,null,null,null,null,"M73","M73","Advertising and market research",0,70,64,0.8,5,0.05,64,64,"X"]
[null,null,null,null,null,null,"a)21)","SDMX footnote syntax","@1) is not a valid ‘free-text’ footnote symbol ",null,"Occurs when a non numeric or extra numeric (<0 or >100) is used as ‘free-text’ footnote symbol on the first position of the SDMX format(1st position = ‘free-text’ footnote)",null,null,null,null,null,"M74_M75","M74_M75","Other professional, scientific and technical activities; veterinary activities",0,71,64,0.8,5,0.05,64,64,"X"]
[null,null,null,null,null,null,"a)21)","SDMX footnote syntax","@1) is not a valid pre-defined footnote symbol expressing confidentiality ",null,"Occurs when a non-confidential pre-defined footnote symbol is used in second position of the SDMX format BUT PRE-DEFINED FOOTNOTE SYMBOL DOES EXIST",null,null,null,null,null,"N","N","Administrative and support service activities",0,72,5,0.3,5,0.1,0,0,"X"]
[null,null,null,null,null,null,"a)21)","SDMX footnote syntax","@1) is not a valid pre-defined footnote symbol",null,"Occurs when a non-valid footnote symbol is used in second position of SDMX format AND pre-defined footnote symbol does not exist at all",null,null,null,null,null,"N77","N77","Rental and leasing activities",0,73,72,0.8,5,0.05,72,72,"X"]
[null,null,null,null,null,null,"a)21)","Illegal footnote","Wrong use of brackets (footnote separators)",null,"Occurs when flag is coditied like this: c))b)",null,null,null,null,null,"N78","N78","Employment activities",0,74,72,0.8,5,0.05,72,72,"X"]
[null,null,null,null,null,null,"a)21)","SDMX footnote syntax","@1) is not a valid pre-defined footnote symbol for the third (and more) position",null,"Occurs when a pre-defined footnote symbol expressing confidentiality is used in third position of SDMX format like ))c)",null,null,null,null,null,"N79","N79","Travel agency, tour operator reservation service and related activities",0,75,72,0.8,5,0.05,72,72,"X"]
[null,null,null,null,null,null,"a)21)","SDMX footnote syntax","@1) is not a valid footnote symbol for the third (and more) position",null,"Occurs when the footnote symbol (letter or number) is not allowed for the third position of SDMX format",null,null,null,null,null,"N80-N82","N80-N82","Security and investigation, service and landscape, office administrative and support activities",0,76,72,0.8,5,0.05,72,72,"X"]
[null,null,null,null,null,null,"a)21)","Illegal footnote","@1) is duplicated",null,"Occurs when a footnote symbol is used twice. (does not apply when an Excel formula is used)",null,null,null,null,null,"O","O","Public administration and defence; compulsory social security",0,77,5,0.3,5,0.1,0,0,"X"]
[null,null,null,null,null,null,"a)21)","Classical Flag syntax","@1) other confidential flag used (@2)",null,"Occurs when more than one confidential flag is used (c, d or n)",null,null,null,null,null,"P","P","Education",0,78,5,0.3,5,0.1,0,0,"X"]
[null,null,null,null,null,null,"a)21)","Illegal footnote","@1) is a pre-defined footnote symbol that can be set by Eurostat only",null,"Occurs when a n) or s) footnote symbol is used directly by MS (and respective option/switch disabled)",null,null,null,null,null,"Q","Q","Human health and social work activities",0,79,5,0.3,5,0.1,0,0,"X"]
[null,null,null,null,null,null,123.456,"Equation Total AEA","Total AEA equals with inventory total, which is not plausible. ","X","New Message",null,null,null,null,null,"Q86","Q86","Human health activities",0,80,79,0.8,5,0.05,79,79,"X"]
[null,null,null,null,null,null,123.456,"Missing country code","Country is not selected on the 'intro' sheet.","X","Occurs when no country is selected on the 'intro' sheet.",null,null,null,null,null,"Q87_Q88","Q87_Q88","Residential care activities and social work activities without accommodation",0,81,79,0.8,5,0.05,79,79,"X"]
[null,null,null,null,null,null,null,null,null,null,null,null,null,null,null,null,"R","R","Arts, entertainment and recreation",0,82,5,0.3,5,0.1,0,0,"X"]
[null,null,null,null,null,null,null,null,null,null,null,null,null,null,null,null,"R90-R92","R90-R92","Creative, arts and entertainment activities; libraries, archives, museums and other cultural activities; gambling and betting activities",0,83,82,0.8,5,0.05,82,82,"X"]
[null,null,null,null,null,null,null,null,null,null,null,null,null,null,null,null,"R93","R93","Sports activities and amusement and recreation activities",0,84,82,0.8,5,0.05,82,82,"X"]
[null,null,null,null,null,null,null,null,null,null,null,null,null,null,null,null,"S","S","Other service activities",0,85,5,0.3,5,0.1,0,0,"X"]
[null,null,null,null,null,null,null,null,null,null,null,null,null,null,null,null,"S94","S94","Activities of membership organisations",0,86,85,0.8,5,0.05,85,85,"X"]
[null,null,null,null,null,null,null,null,null,null,null,null,null,null,null,null,"S95","S95","Repair of computers and personal and household goods",0,87,85,0.8,5,0.05,85,85,"X"]
[null,null,null,null,null,null,null,null,null,null,null,null,null,null,null,null,"S96","S96","Other personal service activities",0,88,85,0.8,5,0.05,85,85,"X"]
[null,null,null,null,null,null,null,null,null,null,null,null,null,null,null,null,"T","T","Activities of households as employers; undifferentiated goods- and services-producing activities of households for own use",0,89,5,0.3,5,0.1,0,0,"X"]
[null,null,null,null,null,null,null,null,null,null,null,null,null,null,null,null,"U","U","Activities of extraterritorial organisations and bodies",0,90,5,0.3,5,0.1,0,0,"X"]
[null,null,null,null,null,null,null,null,null,null,null,null,null,null,null,null,"ZZ","HH","Total Households",0,91,95,0.3,95,0.1,0,0,"X"]
[null,null,null,null,null,null,null,null,null,null,null,null,null,null,null,null,"ZZ1","HH_TRA","Transport",0,92,91,0.3,91,0.5,0,0,"X"]
[null,null,null,null,null,null,null,null,null,null,null,null,null,null,null,null,"ZZ2","HH_HEAT","Heating",0,93,91,0.3,91,0.5,0,0,"X"]
[null,null,null,null,null,null,null,null,null,null,null,null,null,null,null,null,"ZZ3","HH_OTH","Other",0,94,91,0.3,91,0.5,0,0,"X"]
[null,null,null,null,null,null,null,null,null,null,null,null,null,null,null,null,"TOTAL","TOT_NACE_HH","Calculated Total (Industry+Household)",0,95,0,0,0,0,0,0,"X"]
[null,null,null,null,null,null,null,null,null,null,null,null,null,null,null,null,"BIRA","TOT_NRA","less National residents abroad",1,96,0,0,0,0,0,0,"X"]
[null,null,null,null,null,null,null,null,null,null,null,null,null,null,null,null,"BIRA1","NRA_FISH","-  National fishing vessels operating abroad",1,97,96,0.5,96,0.5,0,0,"X"]
[null,null,null,null,null,null,null,null,null,null,null,null,null,null,null,null,"BIRA2","NRA_LAND","-  Land transport",1,98,96,0.5,96,0.5,0,0,"X"]
[null,null,null,null,null,null,null,null,null,null,null,null,null,null,null,null,"BIRA3","NRA_WATER","-  Water transport",1,99,96,0.5,96,0.5,0,0,"X"]
[null,null,null,null,null,null,null,null,null,null,null,null,null,null,null,null,"BIRA4","NRA_AIR","-  Air transport",1,100,96,0.5,96,0.5,0,0,"X"]
[null,null,null,null,null,null,null,null,null,null,null,null,null,null,null,null,"BINR","TOT_NRES","plus Non-residents on the territory",0,101,0,0,0,0,0,0,"X"]
[null,null,null,null,null,null,null,null,null,null,null,null,null,null,null,null,"BINR1","NRES_LAND","-  Land transport",0,102,101,0.5,101,0.5,0,0,"X"]
[null,null,null,null,null,null,null,null,null,null,null,null,null,null,null,null,"BINR2","NRES_WATER","-  Water transport",0,103,101,0.5,101,0.5,0,0,"X"]
[null,null,null,null,null,null,null,null,null,null,null,null,null,null,null,null,"BINR3","NRES_AIR","-  Air transport",0,104,101,0.5,101,0.5,0,0,"X"]
[null,null,null,null,null,null,null,null,null,null,null,null,null,null,null,null,"BISD","ADJ_OTH","Other adjustments and statistical discrepancy",1,105,0,0,0,0,0,0,"X"]
[null,null,null,null,null,null,null,null,null,null,null,null,null,null,null,null,"TOTREP","TOT_CONV","'Total CO2 emissions without LUCF' as reported to UNFCCC (table 10s1)",0,106,0,0,0,0,0,0,"X"]
[null,null,null,null,null,null,null,null,null,null,null,null,null,null,null,null,"TOTY","0_TOT_YR_SUBM","Year of submission to UNFCCC",2,112,0,0,0,0,0,0,"X"]
[null,null,null,null,null,null,null,null,null,null,null,null,null,null,null,null,"A_U   01-99","TOTAL","Total industries",0,5,95,0,0,0,0,0,"X"]
[null,null,null,null,null,null,null,null,null,null,null,null,null,null,null,null,"A","A","Agriculture, forestry and fishing",0,6,5,0.3,5,0.1,0,0,"X"]
[null,null,null,null,null,null,null,null,null,null,null,null,null,null,null,null,"A01","A01","Crop and animal production, hunting and related service activities",0,7,6,0.8,6,0.3,8,9,"X"]
[null,null,null,null,null,null,null,null,null,null,null,null,null,null,null,null,"A02","A02","Forestry and logging",0,8,6,0.8,6,0.3,7,9,"X"]
[null,null,null,null,null,null,null,null,null,null,null,null,null,null,null,null,"A03","A03","Fishing and aquaculture",0,9,6,0.8,6,0.3,7,8,"X"]
[null,null,null,null,null,null,null,null,null,null,null,null,null,null,null,null,"B","B","Mining and quarrying",0,10,5,0.3,5,0.1,0,0,"X"]
[null,null,null,null,null,null,null,null,null,null,null,null,null,null,null,null,"C","C","Manufacturing",0,11,5,0.3,5,0.1,0,0,"X"]
[null,null,null,null,null,null,null,null,null,null,null,null,null,null,null,null,"C10-C12","C10-C12","Manufacture of food products, beverages and tobacco\nproducts",0,12,11,0.8,11,0.05,11,11,"X"]
[null,null,null,null,null,null,null,null,null,null,null,null,null,null,null,null,"C13-C15","C13-C15","Manufacture of textiles, wearing apparel and leather products",0,13,11,0.8,11,0.05,11,11,"X"]
[null,null,null,null,null,null,null,null,null,null,null,null,null,null,null,null,"C16-C18","C16-C18","Manufacture of wood, paper, printing and reproduction",3,14,0,0,0,0,0,0,"X"]
[null,null,null,null,null,null,null,null,null,null,null,null,null,null,null,null,"C16","C16","Manufacture of wood and of products of wood and cork, except furniture; manufacture of articles of straw and plaiting materials",0,15,11,0.8,11,0.05,11,11,"X"]
[null,null,null,null,null,null,null,null,null,null,null,null,null,null,null,null,"C17","C17","Manufacture of paper and paper products",0,16,11,0.8,11,0.05,11,11,"X"]
[null,null,null,null,null,null,null,null,null,null,null,null,null,null,null,null,"C18","C18","Printing and reproduction of recorded media",0,17,11,0.8,11,0.05,11,11,"X"]
[null,null,null,null,null,null,null,null,null,null,null,null,null,null,null,null,"C19","C19","Manufacture of coke and refined petroleum products",0,18,11,0.8,11,0.05,11,11,"X"]
[null,null,null,null,null,null,null,null,null,null,null,null,null,null,null,null,"C20","C20","Manufacture of chemicals and chemical products",0,19,11,0.8,11,0.05,11,11,"X"]
[null,null,null,null,null,null,null,null,null,null,null,null,null,null,null,null,"C21","C21","Manufacture of basic pharmaceutical products and pharmaceutical preparations",0,20,11,0.8,11,0.05,11,11,"X"]
[null,null,null,null,null,null,null,null,null,null,null,null,null,null,null,null,"C22_C23","C22_C23","Manufacture of rubber and plastic products and other non-metallic mineral products",3,21,0,0,0,0,0,0,"X"]
[null,null,null,null,null,null,null,null,null,null,null,null,null,null,null,null,"C22","C22","Manufacture of rubber and plastic products",0,22,11,0.8,11,0.05,11,11,"X"]
[null,null,null,null,null,null,null,null,null,null,null,null,null,null,null,null,"C23","C23","Manufacture of other non-metallic mineral products",0,23,11,0.8,11,0.05,11,11,"X"]
[null,null,null,null,null,null,null,null,null,null,null,null,null,null,null,null,"C24_C25","C24_C25","Manufacture of basic metals and fabricated metal products, except machinery and equipment",3,24,0,0,0,0,0,0,"X"]
[null,null,null,null,null,null,null,null,null,null,null,null,null,null,null,null,"C24","C24","Manufacture of basic metals",0,25,11,0.8,11,0.05,11,11,"X"]
[null,null,null,null,null,null,null,null,null,null,null,null,null,null,null,null,"C25","C25","Manufacture of fabricated metal products, except machinery and equipment",0,26,11,0.8,11,0.05,11,11,"X"]
[null,null,null,null,null,null,null,null,null,null,null,null,null,null,null,null,"C26","C26","Manufacture of computer, electronic and optical products",0,27,11,0.8,11,0.05,11,11,"X"]
[null,null,null,null,null,null,null,null,null,null,null,null,null,null,null,null,"C27","C27","Manufacture of electrical equipment",0,28,11,0.8,11,0.05,11,11,"X"]
[null,null,null,null,null,null,null,null,null,null,null,null,null,null,null,null,"C28","C28","Manufacture of machinery and equipment n.e.c.",0,29,11,0.8,11,0.05,11,11,"X"]
[null,null,null,null,null,null,null,null,null,null,null,null,null,null,null,null,"C29_C30","C29_C30","Manufacture of motor vehicles, trailers, semi-trailers and of other transport equipment",3,30,0,0,0,0,0,0,"X"]
[null,null,null,null,null,null,null,null,null,null,null,null,null,null,null,null,"C29","C29","Manufacture of motor vehicles, trailers and semi-trailers",0,31,11,0.8,11,0.05,11,11,"X"]
[null,null,null,null,null,null,null,null,null,null,null,null,null,null,null,null,"C30","C30","Manufacture of other transport equipment",0,32,11,0.8,11,0.05,11,11,"X"]
[null,null,null,null,null,null,null,null,null,null,null,null,null,null,null,null,"C31-C33","C31-C33","Manufacture of furniture; jewellery, musical instruments, toys; repair and installation of machinery and equipment",3,33,0,0,0,0,0,0,"X"]
[null,null,null,null,null,null,null,null,null,null,null,null,null,null,null,null,"C31_C32","C31_C32","Manufacture of furniture; other manufacturing",0,34,11,0.8,11,0.05,11,11,"X"]
[null,null,null,null,null,null,null,null,null,null,null,null,null,null,null,null,"C33","C33","Repair and installation of machinery and equipment",0,35,11,0.8,11,0.05,11,11,"X"]
[null,null,null,null,null,null,null,null,null,null,null,null,null,null,null,null,"D","D","Electricity, gas, steam and air conditioning supply",0,36,5,0.3,5,0.1,0,0,"X"]
[null,null,null,null,null,null,null,null,null,null,null,null,null,null,null,null,"E","E","Water supply; sewerage, waste management and remediation activities",0,37,5,0.3,5,0.1,0,0,"X"]
[null,null,null,null,null,null,null,null,null,null,null,null,null,null,null,null,"E36","E36","Water collection, treatment and supply",0,38,37,0.8,37,0.3,37,37,"X"]
[null,null,null,null,null,null,null,null,null,null,null,null,null,null,null,null,"E37-E39","E37-E39","Sewerage, waste management, remediation activities",0,39,37,0.8,37,0.3,37,37,"X"]
[null,null,null,null,null,null,null,null,null,null,null,null,null,null,null,null,"F","F","Construction",0,40,5,0.3,5,0.1,0,0,"X"]
[null,null,null,null,null,null,null,null,null,null,null,null,null,null,null,null,"G","G","Wholesale and retail trade; repair of motor vehicles and motorcycles",0,41,5,0.3,5,0.1,0,0,"X"]
[null,null,null,null,null,null,null,null,null,null,null,null,null,null,null,null,"G45","G45","Wholesale and retail trade and repair of motor vehicles and motorcycles",0,42,41,0.8,5,0.05,41,41,"X"]
[null,null,null,null,null,null,null,null,null,null,null,null,null,null,null,null,"G46","G46","Wholesale trade, except of motor vehicles and motorcycles",0,43,41,0.8,5,0.05,41,41,"X"]
[null,null,null,null,null,null,null,null,null,null,null,null,null,null,null,null,"G47","G47","Retail trade, except of motor vehicles and motorcycles",0,44,41,0.8,5,0.05,41,41,"X"]
[null,null,null,null,null,null,null,null,null,null,null,null,null,null,null,null,"H","H","Transportation and storage",0,45,5,0.3,5,0.1,0,0,"X"]
[null,null,null,null,null,null,null,null,null,null,null,null,null,null,null,null,"H49","H49","Land transport and transport via pipelines",0,46,45,0.8,45,0.3,45,45,"X"]
[null,null,null,null,null,null,null,null,null,null,null,null,null,null,null,null,"H50","H50","Water transport",0,47,45,0.8,45,0.3,45,45,"X"]
[null,null,null,null,null,null,null,null,null,null,null,null,null,null,null,null,"H51","H51","Air transport",0,48,45,0.8,45,0.3,45,45,"X"]
[null,null,null,null,null,null,null,null,null,null,null,null,null,null,null,null,"H52","H52","Warehousing and support activities for transportation",0,49,45,0.8,45,0.3,45,45,"X"]
[null,null,null,null,null,null,null,null,null,null,null,null,null,null,null,null,"H53","H53","Postal and courier activities",0,50,45,0.8,45,0.3,45,45,"X"]
[null,null,null,null,null,null,null,null,null,null,null,null,null,null,null,null,"I","I","Accommodation and food service activities",0,51,5,0.3,5,0.1,0,0,"X"]
[null,null,null,null,null,null,null,null,null,null,null,null,null,null,null,null,"J","J","Information and communication",0,52,5,0.3,5,0.1,0,0,"X"]
[null,null,null,null,null,null,null,null,null,null,null,null,null,null,null,null,"J58-J60","J58-J60","Publishing, motion picture, video, television programme production; sound recording, programming and broadcasting activities",3,53,0,0,0,0,0,0,"X"]
[null,null,null,null,null,null,null,null,null,null,null,null,null,null,null,null,"J58","J58","Publishing activities",0,54,52,0.8,5,0.05,52,52,"X"]
[null,null,null,null,null,null,null,null,null,null,null,null,null,null,null,null,"J59_J60","J59_J60","Motion picture, video, television programme production; programming and broadcasting activities",0,55,52,0.8,5,0.05,52,52,"X"]
[null,null,null,null,null,null,null,null,null,null,null,null,null,null,null,null,"J61","J61","Telecommunications",0,56,52,0.8,5,0.05,52,52,"X"]
[null,null,null,null,null,null,null,null,null,null,null,null,null,null,null,null,"J62_J63","J62_J63","Computer programming, consultancy, and information service activities",0,57,52,0.8,5,0.05,52,52,"X"]
[null,null,null,null,null,null,null,null,null,null,null,null,null,null,null,null,"K","K","Financial and insurance activities",0,58,5,0.3,5,0.1,0,0,"X"]
[null,null,null,null,null,null,null,null,null,null,null,null,null,null,null,null,"K64","K64","Financial service activities, except insurance and pension funding",0,59,58,0.8,5,0.05,58,58,"X"]
[null,null,null,null,null,null,null,null,null,null,null,null,null,null,null,null,"K65","K65","Insurance, reinsurance and pension funding, except compulsory social security",0,60,58,0.8,5,0.05,58,58,"X"]
[null,null,null,null,null,null,null,null,null,null,null,null,null,null,null,null,"K66","K66","Activities auxiliary to financial services and insurance activities",0,61,58,0.8,5,0.05,58,58,"X"]
[null,null,null,null,null,null,null,null,null,null,null,null,null,null,null,null,"L","L","Real estate activities",5,62,5,0.3,5,0.1,0,0,"X"]
[null,null,null,null,null,null,null,null,null,null,null,null,null,null,null,null,"L68A","L68A","Imputed rents of owner-occupied dwellings",0,63,0,0.8,5,0.05,5,5]
[null,null,null,null,null,null,null,null,null,null,null,null,null,null,null,null,"M","M","Professional, scientific and technical activities",0,64,5,0.3,5,0.1,0,0,"X"]
[null,null,null,null,null,null,null,null,null,null,null,null,null,null,null,null,"M69-M71","M69-M71","Legal and accounting activities; activities of head offices; management consultancy activities; architectural and engineering activities; technical testing and analysis",3,65,0,0,0,0,0,0,"X"]
[null,null,null,null,null,null,null,null,null,null,null,null,null,null,null,null,"M69_M70","M69_M70","Legal and accounting activities; activities of head offices; management consultancy activities",0,66,64,0.8,5,0.05,64,64,"X"]
[null,null,null,null,null,null,null,null,null,null,null,null,null,null,null,null,"M71","M71","Architectural and engineering activities; technical testing and analysis",0,67,64,0.8,5,0.05,64,64,"X"]
[null,null,null,null,null,null,null,null,null,null,null,null,null,null,null,null,"M72","M72","Scientific research and development",0,68,64,0.8,5,0.05,64,64,"X"]
[null,null,null,null,null,null,null,null,null,null,null,null,null,null,null,null,"M73-M75","M73-M75","Advertising and market research; other professional, scientific and technical activities; veterinary activities",3,69,0,0,0,0,0,0,"X"]
[null,null,null,null,null,null,null,null,null,null,null,null,null,null,null,null,"M73","M73","Advertising and market research",0,70,64,0.8,5,0.05,64,64,"X"]
[null,null,null,null,null,null,null,null,null,null,null,null,null,null,null,null,"M74_M75","M74_M75","Other professional, scientific and technical activities; veterinary activities",0,71,64,0.8,5,0.05,64,64,"X"]
[null,null,null,null,null,null,null,null,null,null,null,null,null,null,null,null,"N","N","Administrative and support service activities",0,72,5,0.3,5,0.1,0,0,"X"]
[null,null,null,null,null,null,null,null,null,null,null,null,null,null,null,null,"N77","N77","Rental and leasing activities",0,73,72,0.8,5,0.05,72,72,"X"]
[null,null,null,null,null,null,null,null,null,null,null,null,null,null,null,null,"N78","N78","Employment activities",0,74,72,0.8,5,0.05,72,72,"X"]
[null,null,null,null,null,null,null,null,null,null,null,null,null,null,null,null,"N79","N79","Travel agency, tour operator reservation service and related activities",0,75,72,0.8,5,0.05,72,72,"X"]
[null,null,null,null,null,null,null,null,null,null,null,null,null,null,null,null,"N80-N82","N80-N82","Security and investigation, service and landscape, office administrative and support activities",0,76,72,0.8,5,0.05,72,72,"X"]
[null,null,null,null,null,null,null,null,null,null,null,null,null,null,null,null,"O","O","Public administration and defence; compulsory social security",0,77,5,0.3,5,0.1,0,0,"X"]
[null,null,null,null,null,null,null,null,null,null,null,null,null,null,null,null,"P","P","Education",0,78,5,0.3,5,0.1,0,0,"X"]
[null,null,null,null,null,null,null,null,null,null,null,null,null,null,null,null,"Q","Q","Human health and social work activities",0,79,5,0.3,5,0.1,0,0,"X"]
[null,null,null,null,null,null,null,null,null,null,null,null,null,null,null,null,"Q86","Q86","Human health activities",0,80,79,0.8,5,0.05,79,79,"X"]
[null,null,null,null,null,null,null,null,null,null,null,null,null,null,null,null,"Q87_Q88","Q87_Q88","Residential care activities and social work activities without accommodation",0,81,79,0.8,5,0.05,79,79,"X"]
[null,null,null,null,null,null,null,null,null,null,null,null,null,null,null,null,"R","R","Arts, entertainment and recreation",0,82,5,0.3,5,0.1,0,0,"X"]
[null,null,null,null,null,null,null,null,null,null,null,null,null,null,null,null,"R90-R92","R90-R92","Creative, arts and entertainment activities; libraries, archives, museums and other cultural activities; gambling and betting activities",0,83,82,0.8,5,0.05,82,82,"X"]
[null,null,null,null,null,null,null,null,null,null,null,null,null,null,null,null,"R93","R93","Sports activities and amusement and recreation activities",0,84,82,0.8,5,0.05,82,82,"X"]
[null,null,null,null,null,null,null,null,null,null,null,null,null,null,null,null,"S","S","Other service activities",0,85,5,0.3,5,0.1,0,0,"X"]
[null,null,null,null,null,null,null,null,null,null,null,null,null,null,null,null,"S94","S94","Activities of membership organisations",0,86,85,0.8,5,0.05,85,85,"X"]
[null,null,null,null,null,null,null,null,null,null,null,null,null,null,null,null,"S95","S95","Repair of computers and personal and household goods",0,87,85,0.8,5,0.05,85,85,"X"]
[null,null,null,null,null,null,null,null,null,null,null,null,null,null,null,null,"S96","S96","Other personal service activities",0,88,85,0.8,5,0.05,85,85,"X"]
[null,null,null,null,null,null,null,null,null,null,null,null,null,null,null,null,"T","T","Activities of households as employers; undifferentiated goods- and services-producing activities of households for own use",0,89,5,0.3,5,0.1,0,0,"X"]
[null,null,null,null,null,null,null,null,null,null,null,null,null,null,null,null,"U","U","Activities of extraterritorial organisations and bodies",0,90,5,0.3,5,0.1,0,0,"X"]
[null,null,null,null,null,null,null,null,null,null,null,null,null,null,null,null,"ZZ","HH","Total Households",0,91,95,0.3,95,0.1,0,0,"X"]
[null,null,null,null,null,null,null,null,null,null,null,null,null,null,null,null,"ZZ1","HH_TRA","Transport",0,92,91,0.3,91,0.5,0,0,"X"]
[null,null,null,null,null,null,null,null,null,null,null,null,null,null,null,null,"ZZ2","HH_HEAT","Heating",0,93,91,0.3,91,0.5,0,0,"X"]
[null,null,null,null,null,null,null,null,null,null,null,null,null,null,null,null,"ZZ3","HH_OTH","Other",0,94,91,0.3,91,0.5,0,0,"X"]
[null,null,null,null,null,null,null,null,null,null,null,null,null,null,null,null,"TOTAL","TOT_NACE_HH","Calculated Total (Industry+Household)",0,95,0,0,0,0,0,0,"X"]
[null,null,null,null,null,null,null,null,null,null,null,null,null,null,null,null,"BIRA","TOT_NRA","less National residents abroad",1,96,0,0,0,0,0,0,"X"]
[null,null,null,null,null,null,null,null,null,null,null,null,null,null,null,null,"BIRA1","NRA_FISH","-  National fishing vessels operating abroad",3,97,96,0.5,96,0.5,0,0,"X"]
[null,null,null,null,null,null,null,null,null,null,null,null,null,null,null,null,"BIRA2","NRA_LAND","-  Land transport",1,98,96,0.5,96,0.5,0,0,"X"]
[null,null,null,null,null,null,null,null,null,null,null,null,null,null,null,null,"BIRA3","NRA_WATER","-  Water transport",3,99,96,0.5,96,0.5,0,0,"X"]
[null,null,null,null,null,null,null,null,null,null,null,null,null,null,null,null,"BIRA4","NRA_AIR","-  Air transport",3,100,96,0.5,96,0.5,0,0,"X"]
[null,null,null,null,null,null,null,null,null,null,null,null,null,null,null,null,"BINR","TOT_NRES","plus Non-residents on the territory",0,101,0,0,0,0,0,0,"X"]
[null,null,null,null,null,null,null,null,null,null,null,null,null,null,null,null,"BINR1","NRES_LAND","-  Land transport",0,102,101,0.5,101,0.5,0,0,"X"]
[null,null,null,null,null,null,null,null,null,null,null,null,null,null,null,null,"BINR2","NRES_WATER","-  Water transport",3,103,101,0.5,101,0.5,0,0,"X"]
[null,null,null,null,null,null,null,null,null,null,null,null,null,null,null,null,"BINR3","NRES_AIR","-  Air transport",3,104,101,0.5,101,0.5,0,0,"X"]
[null,null,null,null,null,null,null,null,null,null,null,null,null,null,null,null,"BISD","ADJ_OTH","Other adjustments and statistical discrepancy",1,105,0,0,0,0,0,0,"X"]
[null,null,null,null,null,null,null,null,null,null,null,null,null,null,null,null,"TOTREP","TOT_CONV","'Total CO2 emissions without LUCF' as reported to UNFCCC (table 10s1)",0,106,0,0,0,0,0,0,"X"]
[null,null,null,null,null,null,null,null,null,null,null,null,null,null,null,null,"TOTY","0_TOT_YR_SUBM","Year of submission to UNFCCC",2,112,0,0,0,0,0,0,"X"]

{"sheet":"CO2","index":11,"n_rows":121,"n_cols":98,"rows_kept":121,"cut":false,"hidden":false,"merged":[[0,96,2,96],[0,97,2,97],[0,90,2,90],[0,91,2,91],[0,92,2,92],[0,93,2,93],[0,94,2,94],[0,95,2,95],[103,3,103,4],[80,3,80,4],[81,3,81,4],[82,3,82,4],[83,3,83,4],[84,3,84,4],[73,3,73,4],[74,3,74,4],[75,3,75,4],[76,3,76,4],[77,3,77,4],[78,3,78,4],[67,3,67,4],[68,3,68,4],[69,3,69,4],[70,3,70,4],[104,3,104,4],[105,3,105,4],[106,3,106,4],[0,87,2,87],[63,3,63,4],[64,3,64,4],[65,3,65,4],[66,3,66,4],[55,3,55,4],[56,3,56,4],[57,3,57,4],[58,3,58,4],[59,3,59,4],[60,3,60,4],[49,3,49,4],[50,3,50,4],[51,3,51,4],[52,3,52,4],[53,3,53,4],[54,3,54,4],[43,3,43,4],[44,3,44,4],[45,3,45,4],[46,3,46,4],[0,89,2,89],[97,3,97,4],[98,3,98,4],[99,3,99,4],[100,3,100,4],[101,3,101,4],[102,3,102,4],[91,3,91,4],[92,3,92,4],[93,3,93,4],[94,1,94,4],[95,3,95,4],[96,3,96,4],[85,3,85,4],[86,3,86,4],[87,3,87,4],[88,3,88,4],[89,3,89,4],[90,1,90,4],[79,3,79,4],[71,3,71,4],[72,3,72,4],[61,3,61,4],[62,3,62,4],[47,3,47,4],[48,3,48,4],[37,3,37,4],[38,3,38,4],[39,3,39,4],[40,3,40,4],[41,3,41,4],[42,3,42,4],[31,3,31,4],[32,3,32,4],[33,3,33,4],[34,3,34,4],[35,3,35,4],[36,3,36,4],[25,3,25,4],[26,3,26,4],[27,3,27,4],[28,3,28,4],[29,3,29,4],[30,3,30,4],[19,3,19,4],[20,3,20,4],[21,3,21,4],[22,3,22,4],[23,3,23,4],[24,3,24,4],[0,5,2,6],[0,7,2,8],[0,9,2,10],[13,3,13,4],[14,3,14,4],[15,3,15,4],[16,3,16,4],[17,3,17,4],[18,3,18,4],[7,3,7,4],[8,3,8,4],[9,3,9,4],[10,3,10,4],[11,3,11,4],[12,3,12,4],[0,88,2,88],[0,11,2,12],[0,13,2,14],[2,47,2,48],[3,1,3,4],[4,1,4,2],[4,3,4,4],[5,3,5,4],[6,3,6,4],[0,27,2,28],[0,29,2,30],[0,31,2,32],[0,33,2,34],[0,35,2,36],[1,1,1,2],[2,1,2,2],[2,3,2,4],[0,15,2,16],[0,17,2,18],[0,19,2,20],[0,21,2,22],[0,23,2,24],[0,25,2,26],[0,1,0,2]]}
["DATAENTRY","Country:",null,{"$f":"intro!F7","v":""},null,null,null,null,null,null,null,null,null,null,null,null,null,null,null,null,null,null,null,null,null,null,null,null,null,null,null,null,null,null,null,null,null,null,null,null,null,null,null,null,null,null,null,null,null,null,null,null,null,null,null,null,null,null,null,null,null,null,null,null,null,null,null,null,null,null,null,null,null,null,null,null,null,null,null,null,null,null,null,null,null,null,null,"DEMAND_PROD","ACCOUNTING_ENTRY","COUNTERPART_AREA","INTERACTORS","BRIDGE_ITEM","AIRPOL","STO","UNIT_MEASURE","UNIT_MULT","PRODUCT","SECTOR"]
[null,"Air Pollutant",null,"CO2","Carbon Dioxide\n(without emissions from biomass used as a fuel)"]
["THS_T","Unit","Million National Currency","1000 tonnes (Gg)"]
[null,"Air emissions by industry",null,null,null,1995,null,1996,null,1997,null,1998,null,1999,null,2000,null,2001,null,2002,null,2003,null,2004,null,2005,null,2006,null,2007,null,2008,null,2009,null,2010,null,2011,null,2012,null,2013,null,2014,null,2015,null,2016,null,2017,null,2018,null,2019,null,2020,null,2021,null,2022,null,2023,null,2024]
[null,{"$f":"Parameters!Q4","v":"A_U   01-99"},null,{"$f":"Parameters!S4","v":"Total industries"},null,null,null,null,null,null,null,null,null,null,null,null,null,null,null,null,null,null,null,null,null,null,null,null,null,null,null,null,null,null,null,null,null,null,null,null,null,null,null,null,null,null,null,null,null,null,null,null,null,null,null,null,null,null,null,null,null,null,null,null,null,null,null,null,null,null,null,null,null,null,null,null,null,null,null,null,null,null,null,null,null,null,null,"P","EC","W2","ATU","RES","CO2","_Z","TN",3,"_T","S1"]
[null,{"$f":"Parameters!Q5","v":"A"},null,{"$f":"Parameters!S5","v":"Agriculture, forestry and fishing"},null,null,null,null,null,null,null,null,null,null,null,null,null,null,null,null,null,null,null,null,null,null,null,null,null,null,null,null,null,null,null,null,null,null,null,null,null,null,null,null,null,null,null,null,null,null,null,null,null,null,null,null,null,null,null,null,null,null,null,null,null,null,null,null,null,null,null,null,null,null,null,null,null,null,null,null,null,null,null,null,null,null,null,null,null,null,"A","RES"]
[null,{"$f":"Parameters!Q6","v":"A01"},null,{"$f":"Parameters!S6","v":"Crop and animal production, hunting and related service activities"},null,null,null,null,null,null,null,null,null,null,null,null,null,null,null,null,null,null,null,null,null,null,null,null,null,null,null,null,null,null,null,null,null,null,null,null,null,null,null,null,null,null,null,null,null,null,null,null,null,null,null,null,null,null,null,null,null,null,null,null,null,null,null,null,null,null,null,null,null,null,null,null,null,null,null,null,null,null,null,null,null,null,null,null,null,null,"A01","RES"]
[null,{"$f":"Parameters!Q7","v":"A02"},null,{"$f":"Parameters!S7","v":"Forestry and logging"},null,null,null,null,null,null,null,null,null,null,null,null,null,null,null,null,null,null,null,null,null,null,null,null,null,null,null,null,null,null,null,null,null,null,null,null,null,null,null,null,null,null,null,null,null,null,null,null,null,null,null,null,null,null,null,null,null,null,null,null,null,null,null,null,null,null,null,null,null,null,null,null,null,null,null,null,null,null,null,null,null,null,null,null,null,null,"A02","RES"]
[null,{"$f":"Parameters!Q8","v":"A03"},null,{"$f":"Parameters!S8","v":"Fishing and aquaculture"},null,null,null,null,null,null,null,null,null,null,null,null,null,null,null,null,null,null,null,null,null,null,null,null,null,null,null,null,null,null,null,null,null,null,null,null,null,null,null,null,null,null,null,null,null,null,null,null,null,null,null,null,null,null,null,null,null,null,null,null,null,null,null,null,null,null,null,null,null,null,null,null,null,null,null,null,null,null,null,null,null,null,null,null,null,null,"A03","RES"]
[null,{"$f":"Parameters!Q9","v":"B"},null,{"$f":"Parameters!S9","v":"Mining and quarrying"},null,null,null,null,null,null,null,null,null,null,null,null,null,null,null,null,null,null,null,null,null,null,null,null,null,null,null,null,null,null,null,null,null,null,null,null,null,null,null,null,null,null,null,null,null,null,null,null,null,null,null,null,null,null,null,null,null,null,null,null,null,null,null,null,null,null,null,null,null,null,null,null,null,null,null,null,null,null,null,null,null,null,null,null,null,null,"B","RES"]
[null,{"$f":"Parameters!Q10","v":"C"},null,{"$f":"Parameters!S10","v":"Manufacturing"},null,null,null,null,null,null,null,null,null,null,null,null,null,null,null,null,null,null,null,null,null,null,null,null,null,null,null,null,null,null,null,null,null,null,null,null,null,null,null,null,null,null,null,null,null,null,null,null,null,null,null,null,null,null,null,null,null,null,null,null,null,null,null,null,null,null,null,null,null,null,null,null,null,null,null,null,null,null,null,null,null,null,null,null,null,null,"C","RES"]
[null,{"$f":"Parameters!Q11","v":"C10-C12"},null,{"$f":"Parameters!S11","v":"Manufacture of food products, beverages and tobacco\nproducts"},null,null,null,null,null,null,null,null,null,null,null,null,null,null,null,null,null,null,null,null,null,null,null,null,null,null,null,null,null,null,null,null,null,null,null,null,null,null,null,null,null,null,null,null,null,null,null,null,null,null,null,null,null,null,null,null,null,null,null,null,null,null,null,null,null,null,null,null,null,null,null,null,null,null,null,null,null,null,null,null,null,null,null,null,null,null,"C10T12","RES"]
[null,{"$f":"Parameters!Q12","v":"C13-C15"},null,{"$f":"Parameters!S12","v":"Manufacture of textiles, wearing apparel and leather products"},null,null,null,null,null,null,null,null,null,null,null,null,null,null,null,null,null,null,null,null,null,null,null,null,null,null,null,null,null,null,null,null,null,null,null,null,null,null,null,null,null,null,null,null,null,null,null,null,null,null,null,null,null,null,null,null,null,null,null,null,null,null,null,null,null,null,null,null,null,null,null,null,null,null,null,null,null,null,null,null,null,null,null,null,null,null,"C13T15","RES"]
[null,{"$f":"Parameters!Q13","v":"C16-C18"},null,{"$f":"Parameters!S13","v":"Manufacture of wood, paper, printing and reproduction"}]
[null,{"$f":"Parameters!Q14","v":"C16"},null,{"$f":"Parameters!S14","v":"Manufacture of wood and of products of wood and cork, except furniture; manufacture of articles of straw and plaiting materials"},null,null,null,null,null,null,null,null,null,null,null,null,null,null,null,null,null,null,null,null,null,null,null,null,null,null,null,null,null,null,null,null,null,null,null,null,null,null,null,null,null,null,null,null,null,null,null,null,null,null,null,null,null,null,null,null,null,null,null,null,null,null,null,null,null,null,null,null,null,null,null,null,null,null,null,null,null,null,null,null,null,null,null,null,null,null,"C16","RES"]
[null,{"$f":"Parameters!Q15","v":"C17"},null,{"$f":"Parameters!S15","v":"Manufacture of paper and paper products"},null,null,null,null,null,null,null,null,null,null,null,null,null,null,null,null,null,null,null,null,null,null,null,null,null,null,null,null,null,null,null,null,null,null,null,null,null,null,null,null,null,null,null,null,null,null,null,null,null,null,null,null,null,null,null,null,null,null,null,null,null,null,null,null,null,null,null,null,null,null,null,null,null,null,null,null,null,null,null,null,null,null,null,null,null,null,"C17","RES"]
[null,{"$f":"Parameters!Q16","v":"C18"},null,{"$f":"Parameters!S16","v":"Printing and reproduction of recorded media"},null,null,null,null,null,null,null,null,null,null,null,null,null,null,null,null,null,null,null,null,null,null,null,null,null,null,null,null,null,null,null,null,null,null,null,null,null,null,null,null,null,null,null,null,null,null,null,null,null,null,null,null,null,null,null,null,null,null,null,null,null,null,null,null,null,null,null,null,null,null,null,null,null,null,null,null,null,null,null,null,null,null,null,null,null,null,"C18","RES"]
[null,{"$f":"Parameters!Q17","v":"C19"},null,{"$f":"Parameters!S17","v":"Manufacture of coke and refined petroleum products"},null,null,null,null,null,null,null,null,null,null,null,null,null,null,null,null,null,null,null,null,null,null,null,null,null,null,null,null,null,null,null,null,null,null,null,null,null,null,null,null,null,null,null,null,null,null,null,null,null,null,null,null,null,null,null,null,null,null,null,null,null,null,null,null,null,null,null,null,null,null,null,null,null,null,null,null,null,null,null,null,null,null,null,null,null,null,"C19","RES"]
[null,{"$f":"Parameters!Q18","v":"C20"},null,{"$f":"Parameters!S18","v":"Manufacture of chemicals and chemical products"},null,null,null,null,null,null,null,null,null,null,null,null,null,null,null,null,null,null,null,null,null,null,null,null,null,null,null,null,null,null,null,null,null,null,null,null,null,null,null,null,null,null,null,null,null,null,null,null,null,null,null,null,null,null,null,null,null,null,null,null,null,null,null,null,null,null,null,null,null,null,null,null,null,null,null,null,null,null,null,null,null,null,null,null,null,null,"C20","RES"]
[null,{"$f":"Parameters!Q19","v":"C21"},null,{"$f":"Parameters!S19","v":"Manufacture of basic pharmaceutical products and pharmaceutical preparations"},null,null,null,null,null,null,null,null,null,null,null,null,null,null,null,null,null,null,null,null,null,null,null,null,null,null,null,null,null,null,null,null,null,null,null,null,null,null,null,null,null,null,null,null,null,null,null,null,null,null,null,null,null,null,null,null,null,null,null,null,null,null,null,null,null,null,null,null,null,null,null,null,null,null,null,null,null,null,null,null,null,null,null,null,null,null,"C21","RES"]
[null,{"$f":"Parameters!Q20","v":"C22_C23"},null,{"$f":"Parameters!S20","v":"Manufacture of rubber and plastic products and other non-metallic mineral products"}]
[null,{"$f":"Parameters!Q21","v":"C22"},null,{"$f":"Parameters!S21","v":"Manufacture of rubber and plastic products"},null,null,null,null,null,null,null,null,null,null,null,null,null,null,null,null,null,null,null,null,null,null,null,null,null,null,null,null,null,null,null,null,null,null,null,null,null,null,null,null,null,null,null,null,null,null,null,null,null,null,null,null,null,null,null,null,null,null,null,null,null,null,null,null,null,null,null,null,null,null,null,null,null,null,null,null,null,null,null,null,null,null,null,null,null,null,"C22","RES"]
[null,{"$f":"Parameters!Q22","v":"C23"},null,{"$f":"Parameters!S22","v":"Manufacture of other non-metallic mineral products"},null,null,null,null,null,null,null,null,null,null,null,null,null,null,null,null,null,null,null,null,null,null,null,null,null,null,null,null,null,null,null,null,null,null,null,null,null,null,null,null,null,null,null,null,null,null,null,null,null,null,null,null,null,null,null,null,null,null,null,null,null,null,null,null,null,null,null,null,null,null,null,null,null,null,null,null,null,null,null,null,null,null,null,null,null,null,"C23","RES"]
[null,{"$f":"Parameters!Q23","v":"C24_C25"},null,{"$f":"Parameters!S23","v":"Manufacture of basic metals and fabricated metal products, except machinery and equipment"}]
[null,{"$f":"Parameters!Q24","v":"C24"},null,{"$f":"Parameters!S24","v":"Manufacture of basic metals"},null,null,null,null,null,null,null,null,null,null,null,null,null,null,null,null,null,null,null,null,null,null,null,null,null,null,null,null,null,null,null,null,null,null,null,null,null,null,null,null,null,null,null,null,null,null,null,null,null,null,null,null,null,null,null,null,null,null,null,null,null,null,null,null,null,null,null,null,null,null,null,null,null,null,null,null,null,null,null,null,null,null,null,null,null,null,"C24","RES"]
[null,{"$f":"Parameters!Q25","v":"C25"},null,{"$f":"Parameters!S25","v":"Manufacture of fabricated metal products, except machinery and equipment"},null,null,null,null,null,null,null,null,null,null,null,null,null,null,null,null,null,null,null,null,null,null,null,null,null,null,null,null,null,null,null,null,null,null,null,null,null,null,null,null,null,null,null,null,null,null,null,null,null,null,null,null,null,null,null,null,null,null,null,null,null,null,null,null,null,null,null,null,null,null,null,null,null,null,null,null,null,null,null,null,null,null,null,null,null,null,"C25","RES"]
[null,{"$f":"Parameters!Q26","v":"C26"},null,{"$f":"Parameters!S26","v":"Manufacture of computer, electronic and optical products"},null,null,null,null,null,null,null,null,null,null,null,null,null,null,null,null,null,null,null,null,null,null,null,null,null,null,null,null,null,null,null,null,null,null,null,null,null,null,null,null,null,null,null,null,null,null,null,null,null,null,null,null,null,null,null,null,null,null,null,null,null,null,null,null,null,null,null,null,null,null,null,null,null,null,null,null,null,null,null,null,null,null,null,null,null,null,"C26","RES"]
[null,{"$f":"Parameters!Q27","v":"C27"},null,{"$f":"Parameters!S27","v":"Manufacture of electrical equipment"},null,null,null,null,null,null,null,null,null,null,null,null,null,null,null,null,null,null,null,null,null,null,null,null,null,null,null,null,null,null,null,null,null,null,null,null,null,null,null,null,null,null,null,null,null,null,null,null,null,null,null,null,null,null,null,null,null,null,null,null,null,null,null,null,null,null,null,null,null,null,null,null,null,null,null,null,null,null,null,null,null,null,null,null,null,null,"C27","RES"]
[null,{"$f":"Parameters!Q28","v":"C28"},null,{"$f":"Parameters!S28","v":"Manufacture of machinery and equipment n.e.c."},null,null,null,null,null,null,null,null,null,null,null,null,null,null,null,null,null,null,null,null,null,null,null,null,null,null,null,null,null,null,null,null,null,null,null,null,null,null,null,null,null,null,null,null,null,null,null,null,null,null,null,null,null,null,null,null,null,null,null,null,null,null,null,null,null,null,null,null,null,null,null,null,null,null,null,null,null,null,null,null,null,null,null,null,null,null,"C28","RES"]
[null,{"$f":"Parameters!Q29","v":"C29_C30"},null,{"$f":"Parameters!S29","v":"Manufacture of motor vehicles, trailers, semi-trailers and of other transport equipment"}]
[null,{"$f":"Parameters!Q30","v":"C29"},null,{"$f":"Parameters!S30","v":"Manufacture of motor vehicles, trailers and semi-trailers"},null,null,null,null,null,null,null,null,null,null,null,null,null,null,null,null,null,null,null,null,null,null,null,null,null,null,null,null,null,null,null,null,null,null,null,null,null,null,null,null,null,null,null,null,null,null,null,null,null,null,null,null,null,null,null,null,null,null,null,null,null,null,null,null,null,null,null,null,null,null,null,null,null,null,null,null,null,null,null,null,null,null,null,null,null,null,"C29","RES"]
[null,{"$f":"Parameters!Q31","v":"C30"},null,{"$f":"Parameters!S31","v":"Manufacture of other transport equipment"},null,null,null,null,null,null,null,null,null,null,null,null,null,null,null,null,null,null,null,null,null,null,null,null,null,null,null,null,null,null,null,null,null,null,null,null,null,null,null,null,null,null,null,null,null,null,null,null,null,null,null,null,null,null,null,null,null,null,null,null,null,null,null,null,null,null,null,null,null,null,null,null,null,null,null,null,null,null,null,null,null,null,null,null,null,null,"C30","RES"]
[null,{"$f":"Parameters!Q32","v":"C31-C33"},null,{"$f":"Parameters!S32","v":"Manufacture of furniture; jewellery, musical instruments, toys; repair and installation of machinery and equipment"}]
[null,{"$f":"Parameters!Q33","v":"C31_C32"},null,{"$f":"Parameters!S33","v":"Manufacture of furniture; other manufacturing"},null,null,null,null,null,null,null,null,null,null,null,null,null,null,null,null,null,null,null,null,null,null,null,null,null,null,null,null,null,null,null,null,null,null,null,null,null,null,null,null,null,null,null,null,null,null,null,null,null,null,null,null,null,null,null,null,null,null,null,null,null,null,null,null,null,null,null,null,null,null,null,null,null,null,null,null,null,null,null,null,null,null,null,null,null,null,"C31_32","RES"]
[null,{"$f":"Parameters!Q34","v":"C33"},null,{"$f":"Parameters!S34","v":"Repair and installation of machinery and equipment"},null,null,null,null,null,null,null,null,null,null,null,null,null,null,null,null,null,null,null,null,null,null,null,null,null,null,null,null,null,null,null,null,null,null,null,null,null,null,null,null,null,null,null,null,null,null,null,null,null,null,null,null,null,null,null,null,null,null,null,null,null,null,null,null,null,null,null,null,null,null,null,null,null,null,null,null,null,null,null,null,null,null,null,null,null,null,"C33","RES"]
[null,{"$f":"Parameters!Q35","v":"D"},null,{"$f":"Parameters!S35","v":"Electricity, gas, steam and air conditioning supply"},null,null,null,null,null,null,null,null,null,null,null,null,null,null,null,null,null,null,null,null,null,null,null,null,null,null,null,null,null,null,null,null,null,null,null,null,null,null,null,null,null,null,null,null,null,null,null,null,null,null,null,null,null,null,null,null,null,null,null,null,null,null,null,null,null,null,null,null,null,null,null,null,null,null,null,null,null,null,null,null,null,null,null,null,null,null,"D","RES"]
[null,{"$f":"Parameters!Q36","v":"E"},null,{"$f":"Parameters!S36","v":"Water supply; sewerage, waste management and remediation activities"},null,null,null,null,null,null,null,null,null,null,null,null,null,null,null,null,null,null,null,null,null,null,null,null,null,null,null,null,null,null,null,null,null,null,null,null,null,null,null,null,null,null,null,null,null,null,null,null,null,null,null,null,null,null,null,null,null,null,null,null,null,null,null,null,null,null,null,null,null,null,null,null,null,null,null,null,null,null,null,null,null,null,null,null,null,null,"E","RES"]
[null,{"$f":"Parameters!Q37","v":"E36"},null,{"$f":"Parameters!S37","v":"Water collection, treatment and supply"},null,null,null,null,null,null,null,null,null,null,null,null,null,null,null,null,null,null,null,null,null,null,null,null,null,null,null,null,null,null,null,null,null,null,null,null,null,null,null,null,null,null,null,null,null,null,null,null,null,null,null,null,null,null,null,null,null,null,null,null,null,null,null,null,null,null,null,null,null,null,null,null,null,null,null,null,null,null,null,null,null,null,null,null,null,null,"E36","RES"]
[null,{"$f":"Parameters!Q38","v":"E37-E39"},null,{"$f":"Parameters!S38","v":"Sewerage, waste management, remediation activities"},null,null,null,null,null,null,null,null,null,null,null,null,null,null,null,null,null,null,null,null,null,null,null,null,null,null,null,null,null,null,null,null,null,null,null,null,null,null,null,null,null,null,null,null,null,null,null,null,null,null,null,null,null,null,null,null,null,null,null,null,null,null,null,null,null,null,null,null,null,null,null,null,null,null,null,null,null,null,null,null,null,null,null,null,null,null,"E37T39","RES"]
[null,{"$f":"Parameters!Q39","v":"F"},null,{"$f":"Parameters!S39","v":"Construction"},null,null,null,null,null,null,null,null,null,null,null,null,null,null,null,null,null,null,null,null,null,null,null,null,null,null,null,null,null,null,null,null,null,null,null,null,null,null,null,null,null,null,null,null,null,null,null,null,null,null,null,null,null,null,null,null,null,null,null,null,null,null,null,null,null,null,null,null,null,null,null,null,null,null,null,null,null,null,null,null,null,null,null,null,null,null,"F","RES"]
[null,{"$f":"Parameters!Q40","v":"G"},null,{"$f":"Parameters!S40","v":"Wholesale and retail trade; repair of motor vehicles and motorcycles"},null,null,null,null,null,null,null,null,null,null,null,null,null,null,null,null,null,null,null,null,null,null,null,null,null,null,null,null,null,null,null,null,null,null,null,null,null,null,null,null,null,null,null,null,null,null,null,null,null,null,null,null,null,null,null,null,null,null,null,null,null,null,null,null,null,null,null,null,null,null,null,null,null,null,null,null,null,null,null,null,null,null,null,null,null,null,"G","RES"]
[null,{"$f":"Parameters!Q41","v":"G45"},null,{"$f":"Parameters!S41","v":"Wholesale and retail trade and repair of motor vehicles and motorcycles"},null,null,null,null,null,null,null,null,null,null,null,null,null,null,null,null,null,null,null,null,null,null,null,null,null,null,null,null,null,null,null,null,null,null,null,null,null,null,null,null,null,null,null,null,null,null,null,null,null,null,null,null,null,null,null,null,null,null,null,null,null,null,null,null,null,null,null,null,null,null,null,null,null,null,null,null,null,null,null,null,null,null,null,null,null,null,"G45","RES"]
[null,{"$f":"Parameters!Q42","v":"G46"},null,{"$f":"Parameters!S42","v":"Wholesale trade, except of motor vehicles and motorcycles"},null,null,null,null,null,null,null,null,null,null,null,null,null,null,null,null,null,null,null,null,null,null,null,null,null,null,null,null,null,null,null,null,null,null,null,null,null,null,null,null,null,null,null,null,null,null,null,null,null,null,null,null,null,null,null,null,null,null,null,null,null,null,null,null,null,null,null,null,null,null,null,null,null,null,null,null,null,null,null,null,null,null,null,null,null,null,"G46","RES"]
[null,{"$f":"Parameters!Q43","v":"G47"},null,{"$f":"Parameters!S43","v":"Retail trade, except of motor vehicles and motorcycles"},null,null,null,null,null,null,null,null,null,null,null,null,null,null,null,null,null,null,null,null,null,null,null,null,null,null,null,null,null,null,null,null,null,null,null,null,null,null,null,null,null,null,null,null,null,null,null,null,null,null,null,null,null,null,null,null,null,null,null,null,null,null,null,null,null,null,null,null,null,null,null,null,null,null,null,null,null,null,null,null,null,null,null,null,null,null,"G47","RES"]
[null,{"$f":"Parameters!Q44","v":"H"},null,{"$f":"Parameters!S44","v":"Transportation and storage"},null,null,null,null,null,null,null,null,null,null,null,null,null,null,null,null,null,null,null,null,null,null,null,null,null,null,null,null,null,null,null,null,null,null,null,null,null,null,null,null,null,null,null,null,null,null,null,null,null,null,null,null,null,null,null,null,null,null,null,null,null,null,null,null,null,null,null,null,null,null,null,null,null,null,null,null,null,null,null,null,null,null,null,null,null,null,"H","RES"]
[null,{"$f":"Parameters!Q45","v":"H49"},null,{"$f":"Parameters!S45","v":"Land transport and transport via pipelines"},null,null,null,null,null,null,null,null,null,null,null,null,null,null,null,null,null,null,null,null,null,null,null,null,null,null,null,null,null,null,null,null,null,null,null,null,null,null,null,null,null,null,null,null,null,null,null,null,null,null,null,null,null,null,null,null,null,null,null,null,null,null,null,null,null,null,null,null,null,null,null,null,null,null,null,null,null,null,null,null,null,null,null,null,null,null,"H49","RES"]
[null,{"$f":"Parameters!Q46","v":"H50"},null,{"$f":"Parameters!S46","v":"Water transport"},null,null,null,null,null,null,null,null,null,null,null,null,null,null,null,null,null,null,null,null,null,null,null,null,null,null,null,null,null,null,null,null,null,null,null,null,null,null,null,null,null,null,null,null,null,null,null,null,null,null,null,null,null,null,null,null,null,null,null,null,null,null,null,null,null,null,null,null,null,null,null,null,null,null,null,null,null,null,null,null,null,null,null,null,null,null,"H50","RES"]
[null,{"$f":"Parameters!Q47","v":"H51"},null,{"$f":"Parameters!S47","v":"Air transport"},null,null,null,null,null,null,null,null,null,null,null,null,null,null,null,null,null,null,null,null,null,null,null,null,null,null,null,null,null,null,null,null,null,null,null,null,null,null,null,null,null,null,null,null,null,null,null,null,null,null,null,null,null,null,null,null,null,null,null,null,null,null,null,null,null,null,null,null,null,null,null,null,null,null,null,null,null,null,null,null,null,null,null,null,null,null,"H51","RES"]
[null,{"$f":"Parameters!Q48","v":"H52"},null,{"$f":"Parameters!S48","v":"Warehousing and support activities for transportation"},null,null,null,null,null,null,null,null,null,null,null,null,null,null,null,null,null,null,null,null,null,null,null,null,null,null,null,null,null,null,null,null,null,null,null,null,null,null,null,null,null,null,null,null,null,null,null,null,null,null,null,null,null,null,null,null,null,null,null,null,null,null,null,null,null,null,null,null,null,null,null,null,null,null,null,null,null,null,null,null,null,null,null,null,null,null,"H52","RES"]
[null,{"$f":"Parameters!Q49","v":"H53"},null,{"$f":"Parameters!S49","v":"Postal and courier activities"},null,null,null,null,null,null,null,null,null,null,null,null,null,null,null,null,null,null,null,null,null,null,null,null,null,null,null,null,null,null,null,null,null,null,null,null,null,null,null,null,null,null,null,null,null,null,null,null,null,null,null,null,null,null,null,null,null,null,null,null,null,null,null,null,null,null,null,null,null,null,null,null,null,null,null,null,null,null,null,null,null,null,null,null,null,null,"H53","RES"]
[null,{"$f":"Parameters!Q50","v":"I"},null,{"$f":"Parameters!S50","v":"Accommodation and food service activities"},null,null,null,null,null,null,null,null,null,null,null,null,null,null,null,null,null,null,null,null,null,null,null,null,null,null,null,null,null,null,null,null,null,null,null,null,null,null,null,null,null,null,null,null,null,null,null,null,null,null,null,null,null,null,null,null,null,null,null,null,null,null,null,null,null,null,null,null,null,null,null,null,null,null,null,null,null,null,null,null,null,null,null,null,null,null,"I","RES"]
[null,{"$f":"Parameters!Q51","v":"J"},null,{"$f":"Parameters!S51","v":"Information and communication"},null,null,null,null,null,null,null,null,null,null,null,null,null,null,null,null,null,null,null,null,null,null,null,null,null,null,null,null,null,null,null,null,null,null,null,null,null,null,null,null,null,null,null,null,null,null,null,null,null,null,null,null,null,null,null,null,null,null,null,null,null,null,null,null,null,null,null,null,null,null,null,null,null,null,null,null,null,null,null,null,null,null,null,null,null,null,"J","RES"]
[null,{"$f":"Parameters!Q52","v":"J58-J60"},null,{"$f":"Parameters!S52","v":"Publishing, motion picture, video, television programme production; sound recording, programming and broadcasting activities"}]
[null,{"$f":"Parameters!Q53","v":"J58"},null,{"$f":"Parameters!S53","v":"Publishing activities"},null,null,null,null,null,null,null,null,null,null,null,null,null,null,null,null,null,null,null,null,null,null,null,null,null,null,null,null,null,null,null,null,null,null,null,null,null,null,null,null,null,null,null,null,null,null,null,null,null,null,null,null,null,null,null,null,null,null,null,null,null,null,null,null,null,null,null,null,null,null,null,null,null,null,null,null,null,null,null,null,null,null,null,null,null,null,"J58","RES"]
[null,{"$f":"Parameters!Q54","v":"J59_J60"},null,{"$f":"Parameters!S54","v":"Motion picture, video, television programme production; programming and broadcasting activities"},null,null,null,null,null,null,null,null,null,null,null,null,null,null,null,null,null,null,null,null,null,null,null,null,null,null,null,null,null,null,null,null,null,null,null,null,null,null,null,null,null,null,null,null,null,null,null,null,null,null,null,null,null,null,null,null,null,null,null,null,null,null,null,null,null,null,null,null,null,null,null,null,null,null,null,null,null,null,null,null,null,null,null,null,null,null,"J59_60","RES"]
[null,{"$f":"Parameters!Q55","v":"J61"},null,{"$f":"Parameters!S55","v":"Telecommunications"},null,null,null,null,null,null,null,null,null,null,null,null,null,null,null,null,null,null,null,null,null,null,null,null,null,null,null,null,null,null,null,null,null,null,null,null,null,null,null,null,null,null,null,null,null,null,null,null,null,null,null,null,null,null,null,null,null,null,null,null,null,null,null,null,null,null,null,null,null,null,null,null,null,null,null,null,null,null,null,null,null,null,null,null,null,null,"J61","RES"]
[null,{"$f":"Parameters!Q56","v":"J62_J63"},null,{"$f":"Parameters!S56","v":"Computer programming, consultancy, and information service activities"},null,null,null,null,null,null,null,null,null,null,null,null,null,null,null,null,null,null,null,null,null,null,null,null,null,null,null,null,null,null,null,null,null,null,null,null,null,null,null,null,null,null,null,null,null,null,null,null,null,null,null,null,null,null,null,null,null,null,null,null,null,null,null,null,null,null,null,null,null,null,null,null,null,null,null,null,null,null,null,null,null,null,null,null,null,null,"J62_63","RES"]
[null,{"$f":"Parameters!Q57","v":"K"},null,{"$f":"Parameters!S57","v":"Financial and insurance activities"},null,null,null,null,null,null,null,null,null,null,null,null,null,null,null,null,null,null,null,null,null,null,null,null,null,null,null,null,null,null,null,null,null,null,null,null,null,null,null,null,null,null,null,null,null,null,null,null,null,null,null,null,null,null,null,null,null,null,null,null,null,null,null,null,null,null,null,null,null,null,null,null,null,null,null,null,null,null,null,null,null,null,null,null,null,null,"K","RES"]
[null,{"$f":"Parameters!Q58","v":"K64"},null,{"$f":"Parameters!S58","v":"Financial service activities, except insurance and pension funding"},null,null,null,null,null,null,null,null,null,null,null,null,null,null,null,null,null,null,null,null,null,null,null,null,null,null,null,null,null,null,null,null,null,null,null,null,null,null,null,null,null,null,null,null,null,null,null,null,null,null,null,null,null,null,null,null,null,null,null,null,null,null,null,null,null,null,null,null,null,null,null,null,null,null,null,null,null,null,null,null,null,null,null,null,null,null,"K64","RES"]
[null,{"$f":"Parameters!Q59","v":"K65"},null,{"$f":"Parameters!S59","v":"Insurance, reinsurance and pension funding, except compulsory social security"},null,null,null,null,null,null,null,null,null,null,null,null,null,null,null,null,null,null,null,null,null,null,null,null,null,null,null,null,null,null,null,null,null,null,null,null,null,null,null,null,null,null,null,null,null,null,null,null,null,null,null,null,null,null,null,null,null,null,null,null,null,null,null,null,null,null,null,null,null,null,null,null,null,null,null,null,null,null,null,null,null,null,null,null,null,null,"K65","RES"]
[null,{"$f":"Parameters!Q60","v":"K66"},null,{"$f":"Parameters!S60","v":"Activities auxiliary to financial services and insurance activities"},null,null,null,null,null,null,null,null,null,null,null,null,null,null,null,null,null,null,null,null,null,null,null,null,null,null,null,null,null,null,null,null,null,null,null,null,null,null,null,null,null,null,null,null,null,null,null,null,null,null,null,null,null,null,null,null,null,null,null,null,null,null,null,null,null,null,null,null,null,null,null,null,null,null,null,null,null,null,null,null,null,null,null,null,null,null,"K66","RES"]
[null,{"$f":"Parameters!Q61","v":"L"},null,{"$f":"Parameters!S61","v":"Real estate activities"},null,null,null,null,null,null,null,null,null,null,null,null,null,null,null,null,null,null,null,null,null,null,null,null,null,null,null,null,null,null,null,null,null,null,null,null,null,null,null,null,null,null,null,null,null,null,null,null,null,null,null,null,null,null,null,null,null,null,null,null,null,null,null,null,null,null,null,null,null,null,null,null,null,null,null,null,null,null,null,null,null,null,null,null,null,null,"L","RES"]
[null,{"$f":"Parameters!Q62","v":"L68A"},null,{"$f":"Parameters!S62","v":"Imputed rents of owner-occupied dwellings"},null,null,null,null,null,null,null,null,null,null,null,null,null,null,null,null,null,null,null,null,null,null,null,null,null,null,null,null,null,null,null,null,null,null,null,null,null,null,null,null,null,null,null,null,null,null,null,null,null,null,null,null,null,null,null,null,null,null,null,null,null,null,null,null,null,null,null,null,null,null,null,null,null,null,null,null,null,null,null,null,null,null,null,null,null,null,"L68A","RES"]
[null,{"$f":"Parameters!Q63","v":"M"},null,{"$f":"Parameters!S63","v":"Professional, scientific and technical activities"},null,null,null,null,null,null,null,null,null,null,null,null,null,null,null,null,null,null,null,null,null,null,null,null,null,null,null,null,null,null,null,null,null,null,null,null,null,null,null,null,null,null,null,null,null,null,null,null,null,null,null,null,null,null,null,null,null,null,null,null,null,null,null,null,null,null,null,null,null,null,null,null,null,null,null,null,null,null,null,null,null,null,null,null,null,null,"M","RES"]
[null,{"$f":"Parameters!Q64","v":"M69-M71"},null,{"$f":"Parameters!S64","v":"Legal and accounting activities; activities of head offices; management consultancy activities; architectural and engineering activities; technical testing and analysis"}]
[null,{"$f":"Parameters!Q65","v":"M69_M70"},null,{"$f":"Parameters!S65","v":"Legal and accounting activities; activities of head offices; management consultancy activities"},null,null,null,null,null,null,null,null,null,null,null,null,null,null,null,null,null,null,null,null,null,null,null,null,null,null,null,null,null,null,null,null,null,null,null,null,null,null,null,null,null,null,null,null,null,null,null,null,null,null,null,null,null,null,null,null,null,null,null,null,null,null,null,null,null,null,null,null,null,null,null,null,null,null,null,null,null,null,null,null,null,null,null,null,null,null,"M69_70","RES"]
[null,{"$f":"Parameters!Q66","v":"M71"},null,{"$f":"Parameters!S66","v":"Architectural and engineering activities; technical testing and analysis"},null,null,null,null,null,null,null,null,null,null,null,null,null,null,null,null,null,null,null,null,null,null,null,null,null,null,null,null,null,null,null,null,null,null,null,null,null,null,null,null,null,null,null,null,null,null,null,null,null,null,null,null,null,null,null,null,null,null,null,null,null,null,null,null,null,null,null,null,null,null,null,null,null,null,null,null,null,null,null,null,null,null,null,null,null,null,"M71","RES"]
[null,{"$f":"Parameters!Q67","v":"M72"},null,{"$f":"Parameters!S67","v":"Scientific research and development"},null,null,null,null,null,null,null,null,null,null,null,null,null,null,null,null,null,null,null,null,null,null,null,null,null,null,null,null,null,null,null,null,null,null,null,null,null,null,null,null,null,null,null,null,null,null,null,null,null,null,null,null,null,null,null,null,null,null,null,null,null,null,null,null,null,null,null,null,null,null,null,null,null,null,null,null,null,null,null,null,null,null,null,null,null,null,"M72","RES"]
[null,{"$f":"Parameters!Q68","v":"M73-M75"},null,{"$f":"Parameters!S68","v":"Advertising and market research; other professional, scientific and technical activities; veterinary activities"}]
[null,{"$f":"Parameters!Q69","v":"M73"},null,{"$f":"Parameters!S69","v":"Advertising and market research"},null,null,null,null,null,null,null,null,null,null,null,null,null,null,null,null,null,null,null,null,null,null,null,null,null,null,null,null,null,null,null,null,null,null,null,null,null,null,null,null,null,null,null,null,null,null,null,null,null,null,null,null,null,null,null,null,null,null,null,null,null,null,null,null,null,null,null,null,null,null,null,null,null,null,null,null,null,null,null,null,null,null,null,null,null,null,"M73","RES"]
[null,{"$f":"Parameters!Q70","v":"M74_M75"},null,{"$f":"Parameters!S70","v":"Other professional, scientific and technical activities; veterinary activities"},null,null,null,null,null,null,null,null,null,null,null,null,null,null,null,null,null,null,null,null,null,null,null,null,null,null,null,null,null,null,null,null,null,null,null,null,null,null,null,null,null,null,null,null,null,null,null,null,null,null,null,null,null,null,null,null,null,null,null,null,null,null,null,null,null,null,null,null,null,null,null,null,null,null,null,null,null,null,null,null,null,null,null,null,null,null,"M74_75","RES"]
[null,{"$f":"Parameters!Q71","v":"N"},null,{"$f":"Parameters!S71","v":"Administrative and support service activities"},null,null,null,null,null,null,null,null,null,null,null,null,null,null,null,null,null,null,null,null,null,null,null,null,null,null,null,null,null,null,null,null,null,null,null,null,null,null,null,null,null,null,null,null,null,null,null,null,null,null,null,null,null,null,null,null,null,null,null,null,null,null,null,null,null,null,null,null,null,null,null,null,null,null,null,null,null,null,null,null,null,null,null,null,null,null,"N","RES"]
[null,{"$f":"Parameters!Q72","v":"N77"},null,{"$f":"Parameters!S72","v":"Rental and leasing activities"},null,null,null,null,null,null,null,null,null,null,null,null,null,null,null,null,null,null,null,null,null,null,null,null,null,null,null,null,null,null,null,null,null,null,null,null,null,null,null,null,null,null,null,null,null,null,null,null,null,null,null,null,null,null,null,null,null,null,null,null,null,null,null,null,null,null,null,null,null,null,null,null,null,null,null,null,null,null,null,null,null,null,null,null,null,null,"N77","RES"]
[null,{"$f":"Parameters!Q73","v":"N78"},null,{"$f":"Parameters!S73","v":"Employment activities"},null,null,null,null,null,null,null,null,null,null,null,null,null,null,null,null,null,null,null,null,null,null,null,null,null,null,null,null,null,null,null,null,null,null,null,null,null,null,null,null,null,null,null,null,null,null,null,null,null,null,null,null,null,null,null,null,null,null,null,null,null,null,null,null,null,null,null,null,null,null,null,null,null,null,null,null,null,null,null,null,null,null,null,null,null,null,"N78","RES"]
[null,{"$f":"Parameters!Q74","v":"N79"},null,{"$f":"Parameters!S74","v":"Travel agency, tour operator reservation service and related activities"},null,null,null,null,null,null,null,null,null,null,null,null,null,null,null,null,null,null,null,null,null,null,null,null,null,null,null,null,null,null,null,null,null,null,null,null,null,null,null,null,null,null,null,null,null,null,null,null,null,null,null,null,null,null,null,null,null,null,null,null,null,null,null,null,null,null,null,null,null,null,null,null,null,null,null,null,null,null,null,null,null,null,null,null,null,null,"N79","RES"]
[null,{"$f":"Parameters!Q75","v":"N80-N82"},null,{"$f":"Parameters!S75","v":"Security and investigation, service and landscape, office administrative and support activities"},null,null,null,null,null,null,null,null,null,null,null,null,null,null,null,null,null,null,null,null,null,null,null,null,null,null,null,null,null,null,null,null,null,null,null,null,null,null,null,null,null,null,null,null,null,null,null,null,null,null,null,null,null,null,null,null,null,null,null,null,null,null,null,null,null,null,null,null,null,null,null,null,null,null,null,null,null,null,null,null,null,null,null,null,null,null,"N80T82","RES"]
[null,{"$f":"Parameters!Q76","v":"O"},null,{"$f":"Parameters!S76","v":"Public administration and defence; compulsory social security"},null,null,null,null,null,null,null,null,null,null,null,null,null,null,null,null,null,null,null,null,null,null,null,null,null,null,null,null,null,null,null,null,null,null,null,null,null,null,null,null,null,null,null,null,null,null,null,null,null,null,null,null,null,null,null,null,null,null,null,null,null,null,null,null,null,null,null,null,null,null,null,null,null,null,null,null,null,null,null,null,null,null,null,null,null,null,"O","RES"]
[null,{"$f":"Parameters!Q77","v":"P"},null,{"$f":"Parameters!S77","v":"Education"},null,null,null,null,null,null,null,null,null,null,null,null,null,null,null,null,null,null,null,null,null,null,null,null,null,null,null,null,null,null,null,null,null,null,null,null,null,null,null,null,null,null,null,null,null,null,null,null,null,null,null,null,null,null,null,null,null,null,null,null,null,null,null,null,null,null,null,null,null,null,null,null,null,null,null,null,null,null,null,null,null,null,null,null,null,null,"P","RES"]
[null,{"$f":"Parameters!Q78","v":"Q"},null,{"$f":"Parameters!S78","v":"Human health and social work activities"},null,null,null,null,null,null,null,null,null,null,null,null,null,null,null,null,null,null,null,null,null,null,null,null,null,null,null,null,null,null,null,null,null,null,null,null,null,null,null,null,null,null,null,null,null,null,null,null,null,null,null,null,null,null,null,null,null,null,null,null,null,null,null,null,null,null,null,null,null,null,null,null,null,null,null,null,null,null,null,null,null,null,null,null,null,null,"Q","RES"]
[null,{"$f":"Parameters!Q79","v":"Q86"},null,{"$f":"Parameters!S79","v":"Human health activities"},null,null,null,null,null,null,null,null,null,null,null,null,null,null,null,null,null,null,null,null,null,null,null,null,null,null,null,null,null,null,null,null,null,null,null,null,null,null,null,null,null,null,null,null,null,null,null,null,null,null,null,null,null,null,null,null,null,null,null,null,null,null,null,null,null,null,null,null,null,null,null,null,null,null,null,null,null,null,null,null,null,null,null,null,null,null,"Q86","RES"]
[null,{"$f":"Parameters!Q80","v":"Q87_Q88"},null,{"$f":"Parameters!S80","v":"Residential care activities and social work activities without accommodation"},null,null,null,null,null,null,null,null,null,null,null,null,null,null,null,null,null,null,null,null,null,null,null,null,null,null,null,null,null,null,null,null,null,null,null,null,null,null,null,null,null,null,null,null,null,null,null,null,null,null,null,null,null,null,null,null,null,null,null,null,null,null,null,null,null,null,null,null,null,null,null,null,null,null,null,null,null,null,null,null,null,null,null,null,null,null,"Q87_88","RES"]
[null,{"$f":"Parameters!Q81","v":"R"},null,{"$f":"Parameters!S81","v":"Arts, entertainment and recreation"},null,null,null,null,null,null,null,null,null,null,null,null,null,null,null,null,null,null,null,null,null,null,null,null,null,null,null,null,null,null,null,null,null,null,null,null,null,null,null,null,null,null,null,null,null,null,null,null,null,null,null,null,null,null,null,null,null,null,null,null,null,null,null,null,null,null,null,null,null,null,null,null,null,null,null,null,null,null,null,null,null,null,null,null,null,null,"R","RES"]
[null,{"$f":"Parameters!Q82","v":"R90-R92"},null,{"$f":"Parameters!S82","v":"Creative, arts and entertainment activities; libraries, archives, museums and other cultural activities; gambling and betting activities"},null,null,null,null,null,null,null,null,null,null,null,null,null,null,null,null,null,null,null,null,null,null,null,null,null,null,null,null,null,null,null,null,null,null,null,null,null,null,null,null,null,null,null,null,null,null,null,null,null,null,null,null,null,null,null,null,null,null,null,null,null,null,null,null,null,null,null,null,null,null,null,null,null,null,null,null,null,null,null,null,null,null,null,null,null,null,"R90T92","RES"]
[null,{"$f":"Parameters!Q83","v":"R93"},null,{"$f":"Parameters!S83","v":"Sports activities and amusement and recreation activities"},null,null,null,null,null,null,null,null,null,null,null,null,null,null,null,null,null,null,null,null,null,null,null,null,null,null,null,null,null,null,null,null,null,null,null,null,null,null,null,null,null,null,null,null,null,null,null,null,null,null,null,null,null,null,null,null,null,null,null,null,null,null,null,null,null,null,null,null,null,null,null,null,null,null,null,null,null,null,null,null,null,null,null,null,null,null,"R93","RES"]
[null,{"$f":"Parameters!Q84","v":"S"},null,{"$f":"Parameters!S84","v":"Other service activities"},null,null,null,null,null,null,null,null,null,null,null,null,null,null,null,null,null,null,null,null,null,null,null,null,null,null,null,null,null,null,null,null,null,null,null,null,null,null,null,null,null,null,null,null,null,null,null,null,null,null,null,null,null,null,null,null,null,null,null,null,null,null,null,null,null,null,null,null,null,null,null,null,null,null,null,null,null,null,null,null,null,null,null,null,null,null,"S","RES"]
[null,{"$f":"Parameters!Q85","v":"S94"},null,{"$f":"Parameters!S85","v":"Activities of membership organisations"},null,null,null,null,null,null,null,null,null,null,null,null,null,null,null,null,null,null,null,null,null,null,null,null,null,null,null,null,null,null,null,null,null,null,null,null,null,null,null,null,null,null,null,null,null,null,null,null,null,null,null,null,null,null,null,null,null,null,null,null,null,null,null,null,null,null,null,null,null,null,null,null,null,null,null,null,null,null,null,null,null,null,null,null,null,null,"S94","RES"]
[null,{"$f":"Parameters!Q86","v":"S95"},null,{"$f":"Parameters!S86","v":"Repair of computers and personal and household goods"},null,null,null,null,null,null,null,null,null,null,null,null,null,null,null,null,null,null,null,null,null,null,null,null,null,null,null,null,null,null,null,null,null,null,null,null,null,null,null,null,null,null,null,null,null,null,null,null,null,null,null,null,null,null,null,null,null,null,null,null,null,null,null,null,null,null,null,null,null,null,null,null,null,null,null,null,null,null,null,null,null,null,null,null,null,null,"S95","RES"]
[null,{"$f":"Parameters!Q87","v":"S96"},null,{"$f":"Parameters!S87","v":"Other personal service activities"},null,null,null,null,null,null,null,null,null,null,null,null,null,null,null,null,null,null,null,null,null,null,null,null,null,null,null,null,null,null,null,null,null,null,null,null,null,null,null,null,null,null,null,null,null,null,null,null,null,null,null,null,null,null,null,null,null,null,null,null,null,null,null,null,null,null,null,null,null,null,null,null,null,null,null,null,null,null,null,null,null,null,null,null,null,null,"S96","RES"]
[null,{"$f":"Parameters!Q88","v":"T"},null,{"$f":"Parameters!S88","v":"Activities of households as employers; undifferentiated goods- and services-producing activities of households for own use"},null,null,null,null,null,null,null,null,null,null,null,null,null,null,null,null,null,null,null,null,null,null,null,null,null,null,null,null,null,null,null,null,null,null,null,null,null,null,null,null,null,null,null,null,null,null,null,null,null,null,null,null,null,null,null,null,null,null,null,null,null,null,null,null,null,null,null,null,null,null,null,null,null,null,null,null,null,null,null,null,null,null,null,null,null,null,"T","RES"]
[null,{"$f":"Parameters!Q89","v":"U"},null,{"$f":"Parameters!S89","v":"Activities of extraterritorial organisations and bodies"},null,null,null,null,null,null,null,null,null,null,null,null,null,null,null,null,null,null,null,null,null,null,null,null,null,null,null,null,null,null,null,null,null,null,null,null,null,null,null,null,null,null,null,null,null,null,null,null,null,null,null,null,null,null,null,null,null,null,null,null,null,null,null,null,null,null,null,null,null,null,null,null,null,null,null,null,null,null,null,null,null,null,null,null,null,null,"U","RES"]
[null,"   Household air emissions\n                                          Households, totals",null,null,null,null,null,null,null,null,null,null,null,null,null,null,null,null,null,null,null,null,null,null,null,null,null,null,null,null,null,null,null,null,null,null,null,null,null,null,null,null,null,null,null,null,null,null,null,null,null,null,null,null,null,null,null,null,null,null,null,null,null,null,null,null,null,null,null,null,null,null,null,null,null,null,null,null,null,null,null,null,null,null,null,null,null,null,null,null,"HH","RES"]
[null,null,null,"- Transport",null,null,null,null,null,null,null,null,null,null,null,null,null,null,null,null,null,null,null,null,null,null,null,null,null,null,null,null,null,null,null,null,null,null,null,null,null,null,null,null,null,null,null,null,null,null,null,null,null,null,null,null,null,null,null,null,null,null,null,null,null,null,null,null,null,null,null,null,null,null,null,null,null,null,null,null,null,null,null,null,null,null,null,null,null,null,"HH_TR","RES"]
[null,null,null,"- Heating/cooling",null,null,null,null,null,null,null,null,null,null,null,null,null,null,null,null,null,null,null,null,null,null,null,null,null,null,null,null,null,null,null,null,null,null,null,null,null,null,null,null,null,null,null,null,null,null,null,null,null,null,null,null,null,null,null,null,null,null,null,null,null,null,null,null,null,null,null,null,null,null,null,null,null,null,null,null,null,null,null,null,null,null,null,null,null,null,"HH_HEAT","RES"]
[null,null,null,"- Other",null,null,null,null,null,null,null,null,null,null,null,null,null,null,null,null,null,null,null,null,null,null,null,null,null,null,null,null,null,null,null,null,null,null,null,null,null,null,null,null,null,null,null,null,null,null,null,null,null,null,null,null,null,null,null,null,null,null,null,null,null,null,null,null,null,null,null,null,null,null,null,null,null,null,null,null,null,null,null,null,null,null,null,null,null,null,"HH_OTH","RES"]
[null,"   Bridging items\n\n1                               Total Air emissions accounts (industry (row 5) + households (row 91))",null,null,null,null,null,null,null,null,null,null,null,null,null,null,null,null,null,null,null,null,null,null,null,null,null,null,null,null,null,null,null,null,null,null,null,null,null,null,null,null,null,null,null,null,null,null,null,null,null,null,null,null,null,null,null,null,null,null,null,null,null,null,null,null,null,null,null,null,null,null,null,null,null,null,null,null,null,null,null,null,null,null,null,null,null,null,null,null,"ATU_HH","RES"]
[null,2,null,"less National residents abroad",null,null,null,null,null,null,null,null,null,null,null,null,null,null,null,null,null,null,null,null,null,null,null,null,null,null,null,null,null,null,null,null,null,null,null,null,null,null,null,null,null,null,null,null,null,null,null,null,null,null,null,null,null,null,null,null,null,null,null,null,null,null,null,null,null,null,null,null,null,null,null,null,null,null,null,null,null,null,null,null,null,null,null,null,null,null,"ATU_HH","RES_ABR"]
[null,2.1,null,"-  National fishing vessels operating abroad",null,null,null,null,null,null,null,null,null,null,null,null,null,null,null,null,null,null,null,null,null,null,null,null,null,null,null,null,null,null,null,null,null,null,null,null,null,null,null,null,null,null,null,null,null,null,null,null,null,null,null,null,null,null,null,null,null,null,null,null,null,null,null,null,null,null,null,null,null,null,null,null,null,null,null,null,null,null,null,null,null,null,null,null,null,null,"ATU_HH","RES_ABR_FWTR"]
[null,2.2000000000000002,null,"-  Land transport",null,null,null,null,null,null,null,null,null,null,null,null,null,null,null,null,null,null,null,null,null,null,null,null,null,null,null,null,null,null,null,null,null,null,null,null,null,null,null,null,null,null,null,null,null,null,null,null,null,null,null,null,null,null,null,null,null,null,null,null,null,null,null,null,null,null,null,null,null,null,null,null,null,null,null,null,null,null,null,null,null,null,null,null,null,null,"ATU_HH","RES_ABR_LTR"]
[null,2.2999999999999998,null,"-  Water transport",null,null,null,null,null,null,null,null,null,null,null,null,null,null,null,null,null,null,null,null,null,null,null,null,null,null,null,null,null,null,null,null,null,null,null,null,null,null,null,null,null,null,null,null,null,null,null,null,null,null,null,null,null,null,null,null,null,null,null,null,null,null,null,null,null,null,null,null,null,null,null,null,null,null,null,null,null,null,null,null,null,null,null,null,null,null,"ATU_HH","RES_ABR_WTR"]
[null,2.4,null,"-  Air transport",null,null,null,null,null,null,null,null,null,null,null,null,null,null,null,null,null,null,null,null,null,null,null,null,null,null,null,null,null,null,null,null,null,null,null,null,null,null,null,null,null,null,null,null,null,null,null,null,null,null,null,null,null,null,null,null,null,null,null,null,null,null,null,null,null,null,null,null,null,null,null,null,null,null,null,null,null,null,null,null,null,null,null,null,null,null,"ATU_HH","RES_ABR_ATR"]
[null,3,null,"plus Non-residents on the territory",null,null,null,null,null,null,null,null,null,null,null,null,null,null,null,null,null,null,null,null,null,null,null,null,null,null,null,null,null,null,null,null,null,null,null,null,null,null,null,null,null,null,null,null,null,null,null,null,null,null,null,null,null,null,null,null,null,null,null,null,null,null,null,null,null,null,null,null,null,null,null,null,null,null,null,null,null,null,null,null,null,null,null,null,null,null,"ATU_HH","TER_NRES"]
[null,3.1,null,"+  Land transport",null,null,null,null,null,null,null,null,null,null,null,null,null,null,null,null,null,null,null,null,null,null,null,null,null,null,null,null,null,null,null,null,null,null,null,null,null,null,null,null,null,null,null,null,null,null,null,null,null,null,null,null,null,null,null,null,null,null,null,null,null,null,null,null,null,null,null,null,null,null,null,null,null,null,null,null,null,null,null,null,null,null,null,null,null,null,"ATU_HH","TER_NRES_LTR"]
[null,3.2,null,"+ Water transport",null,null,null,null,null,null,null,null,null,null,null,null,null,null,null,null,null,null,null,null,null,null,null,null,null,null,null,null,null,null,null,null,null,null,null,null,null,null,null,null,null,null,null,null,null,null,null,null,null,null,null,null,null,null,null,null,null,null,null,null,null,null,null,null,null,null,null,null,null,null,null,null,null,null,null,null,null,null,null,null,null,null,null,null,null,null,"ATU_HH","TER_NRES_WTR"]
[null,3.3,null,"+  Air transport",null,null,null,null,null,null,null,null,null,null,null,null,null,null,null,null,null,null,null,null,null,null,null,null,null,null,null,null,null,null,null,null,null,null,null,null,null,null,null,null,null,null,null,null,null,null,null,null,null,null,null,null,null,null,null,null,null,null,null,null,null,null,null,null,null,null,null,null,null,null,null,null,null,null,null,null,null,null,null,null,null,null,null,null,null,null,"ATU_HH","TER_NRES_ATR"]
[null,4,null,"Other adjustments and statistical discrepancy",null,null,null,null,null,null,null,null,null,null,null,null,null,null,null,null,null,null,null,null,null,null,null,null,null,null,null,null,null,null,null,null,null,null,null,null,null,null,null,null,null,null,null,null,null,null,null,null,null,null,null,null,null,null,null,null,null,null,null,null,null,null,null,null,null,null,null,null,null,null,null,null,null,null,null,null,null,null,null,null,null,null,null,null,null,null,"ATU_HH","ADJ_SD"]
[null,5,null,"'Total CO2 equivalent emissions, including indirect CO2,  without land use, land-use change and forestry' (as reported to UNFCCC table 10s2)",null,null,null,null,null,null,null,null,null,null,null,null,null,null,null,null,null,null,null,null,null,null,null,null,null,null,null,null,null,null,null,null,null,null,null,null,null,null,null,null,null,null,null,null,null,null,null,null,null,null,null,null,null,null,null,null,null,null,null,null,null,null,null,null,null,null,null,null,null,null,null,null,null,null,null,null,null,null,null,null,null,null,null,null,null,null,"ATU_HH","TER"]
[null,null,null,"Year of submission to UNFCCC"]
[]
[null,"Explanatory notes for bridging items:"]
[null,1,"Total Air emissions accounts (industry (row 5) + households (row 91)) - residence principle"]
[]
[null,2.1,"Fishing vessels operated by resident units bunkering outside of the reporting country"]
[null,2.2000000000000002,"Land transport (incl. rail) by resident units fuelling outside of the reporting country"]
[null,2.2999999999999998,"Domestic navigation by resident units bunkering at ports outside of the reporting country and all international navigation by resident units"]
[null,2.4,"Domestic aviation by resident units bunkering at airports outside of the reporting country and all international aviation by resident units"]
[]
[null,3.1,"Land transport (incl. rail) by non-resident units fuelling on the territory of the reporting country"]
[null,3.2,"Domestic navigation by non-residents bunkering at ports of the reporting country"]
[null,3.3,"Domestic aviation by non-residents bunkering at airports of the reporting country"]
[]
[null,5,"National totals derived from UNFCCC inventories that include domestic aviation/navigation bunkering at airports/ports of the reporting country, while excluding international transport and LULUCF - territory principle"]

{"sheet":"CO2_ROAD","index":12,"n_rows":121,"n_cols":98,"rows_kept":121,"cut":false,"hidden":false,"merged":[[0,94,2,94],[0,95,2,95],[0,96,2,96],[0,97,2,97],[0,93,2,93],[1,1,1,2],[2,1,2,2],[2,3,2,4],[2,47,2,48],[0,88,2,88],[0,89,2,89],[0,90,2,90],[0,91,2,91],[0,92,2,92],[0,27,2,28],[0,29,2,30],[0,31,2,32],[0,33,2,34],[0,35,2,36],[0,87,2,87],[0,15,2,16],[0,17,2,18],[0,19,2,20],[0,21,2,22],[0,23,2,24],[0,25,2,26],[0,1,0,2],[0,5,2,6],[0,7,2,8],[8,3,8,4],[0,9,2,10],[0,11,2,12],[0,13,2,14],[9,3,9,4],[10,3,10,4],[11,3,11,4],[12,3,12,4],[13,3,13,4],[3,1,3,4],[4,1,4,2],[4,3,4,4],[5,3,5,4],[6,3,6,4],[7,3,7,4],[20,3,20,4],[21,3,21,4],[22,3,22,4],[23,3,23,4],[24,3,24,4],[25,3,25,4],[14,3,14,4],[15,3,15,4],[16,3,16,4],[17,3,17,4],[18,3,18,4],[19,3,19,4],[32,3,32,4],[33,3,33,4],[34,3,34,4],[35,3,35,4],[36,3,36,4],[37,3,37,4],[26,3,26,4],[27,3,27,4],[28,3,28,4],[29,3,29,4],[30,3,30,4],[31,3,31,4],[44,3,44,4],[45,3,45,4],[46,3,46,4],[47,3,47,4],[48,3,48,4],[49,3,49,4],[38,3,38,4],[39,3,39,4],[40,3,40,4],[41,3,41,4],[42,3,42,4],[43,3,43,4],[56,3,56,4],[57,3,57,4],[58,3,58,4],[59,3,59,4],[60,3,60,4],[61,3,61,4],[50,3,50,4],[51,3,51,4],[52,3,52,4],[53,3,53,4],[54,3,54,4],[55,3,55,4],[68,3,68,4],[69,3,69,4],[70,3,70,4],[71,3,71,4],[72,3,72,4],[73,3,73,4],[62,3,62,4],[63,3,63,4],[64,3,64,4],[65,3,65,4],[66,3,66,4],[67,3,67,4],[80,3,80,4],[81,3,81,4],[82,3,82,4],[83,3,83,4],[84,3,84,4],[85,3,85,4],[74,3,74,4],[75,3,75,4],[76,3,76,4],[77,3,77,4],[78,3,78,4],[79,3,79,4],[92,3,92,4],[93,3,93,4],[94,1,94,4],[95,3,95,4],[96,3,96,4],[97,3,97,4],[86,3,86,4],[87,3,87,4],[88,3,88,4],[89,3,89,4],[90,1,90,4],[91,3,91,4],[104,3,104,4],[105,3,105,4],[106,3,106,4],[98,3,98,4],[99,3,99,4],[100,3,100,4],[101,3,101,4],[102,3,102,4],[103,3,103,4]]}
["DATAENTRY","Country:",null,{"$f":"intro!F7","v":""},null,null,null,null,null,null,null,null,null,null,null,null,null,null,null,null,null,null,null,null,null,null,null,null,null,null,null,null,null,null,null,null,null,null,null,null,null,null,null,null,null,null,null,null,null,null,null,null,null,null,null,null,null,null,null,null,null,null,null,null,null,null,null,null,null,null,null,null,null,null,null,null,null,null,null,null,null,null,null,null,null,null,null,"DEMAND_PROD","ACCOUNTING_ENTRY","COUNTERPART_AREA","INTERACTORS","BRIDGE_ITEM","AIRPOL","STO","UNIT_MEASURE","UNIT_MULT","PRODUCT","SECTOR"]
[null,"Air Pollutant",null,"CO2_ROAD","Carbon dioxide from road transport\n(without emissions from biomass used as a fuel)"]
["THS_T","Unit","Million National Currency","1000 tonnes (Gg)"]
[null,"Road transport emissions by industry",null,null,null,1995,null,1996,null,1997,null,1998,null,1999,null,2000,null,2001,null,2002,null,2003,null,2004,null,2005,null,2006,null,2007,null,2008,null,2009,null,2010,null,2011,null,2012,null,2013,null,2014,null,2015,null,2016,null,2017,null,2018,null,2019,null,2020,null,2021,null,2022,null,2023,null,2024]
[null,{"$f":"Parameters!Q4","v":"A_U   01-99"},null,{"$f":"Parameters!S4","v":"Total industries"},null,null,null,null,null,null,null,null,null,null,null,null,null,null,null,null,null,null,null,null,null,null,null,null,null,null,null,null,null,null,null,null,null,null,null,null,null,null,null,null,null,null,null,null,null,null,null,null,null,null,null,null,null,null,null,null,null,null,null,null,null,null,null,null,null,null,null,null,null,null,null,null,null,null,null,null,null,null,null,null,null,null,null,"P","EC","W2","ATU","RES","CO2","_Z","TN",3,"_T","S1"]
[null,{"$f":"Parameters!Q5","v":"A"},null,{"$f":"Parameters!S5","v":"Agriculture, forestry and fishing"},null,null,null,null,null,null,null,null,null,null,null,null,null,null,null,null,null,null,null,null,null,null,null,null,null,null,null,null,null,null,null,null,null,null,null,null,null,null,null,null,null,null,null,null,null,null,null,null,null,null,null,null,null,null,null,null,null,null,null,null,null,null,null,null,null,null,null,null,null,null,null,null,null,null,null,null,null,null,null,null,null,null,null,null,null,null,"A","RES"]
[null,{"$f":"Parameters!Q6","v":"A01"},null,{"$f":"Parameters!S6","v":"Crop and animal production, hunting and related service activities"},null,null,null,null,null,null,null,null,null,null,null,null,null,null,null,null,null,null,null,null,null,null,null,null,null,null,null,null,null,null,null,null,null,null,null,null,null,null,null,null,null,null,null,null,null,null,null,null,null,null,null,null,null,null,null,null,null,null,null,null,null,null,null,null,null,null,null,null,null,null,null,null,null,null,null,null,null,null,null,null,null,null,null,null,null,null,"A01","RES"]
[null,{"$f":"Parameters!Q7","v":"A02"},null,{"$f":"Parameters!S7","v":"Forestry and logging"},null,null,null,null,null,null,null,null,null,null,null,null,null,null,null,null,null,null,null,null,null,null,null,null,null,null,null,null,null,null,null,null,null,null,null,null,null,null,null,null,null,null,null,null,null,null,null,null,null,null,null,null,null,null,null,null,null,null,null,null,null,null,null,null,null,null,null,null,null,null,null,null,null,null,null,null,null,null,null,null,null,null,null,null,null,null,"A02","RES"]
[null,{"$f":"Parameters!Q8","v":"A03"},null,{"$f":"Parameters!S8","v":"Fishing and aquaculture"},null,null,null,null,null,null,null,null,null,null,null,null,null,null,null,null,null,null,null,null,null,null,null,null,null,null,null,null,null,null,null,null,null,null,null,null,null,null,null,null,null,null,null,null,null,null,null,null,null,null,null,null,null,null,null,null,null,null,null,null,null,null,null,null,null,null,null,null,null,null,null,null,null,null,null,null,null,null,null,null,null,null,null,null,null,null,"A03","RES"]
[null,{"$f":"Parameters!Q9","v":"B"},null,{"$f":"Parameters!S9","v":"Mining and quarrying"},null,null,null,null,null,null,null,null,null,null,null,null,null,null,null,null,null,null,null,null,null,null,null,null,null,null,null,null,null,null,null,null,null,null,null,null,null,null,null,null,null,null,null,null,null,null,null,null,null,null,null,null,null,null,null,null,null,null,null,null,null,null,null,null,null,null,null,null,null,null,null,null,null,null,null,null,null,null,null,null,null,null,null,null,null,null,"B","RES"]
[null,{"$f":"Parameters!Q10","v":"C"},null,{"$f":"Parameters!S10","v":"Manufacturing"},null,null,null,null,null,null,null,null,null,null,null,null,null,null,null,null,null,null,null,null,null,null,null,null,null,null,null,null,null,null,null,null,null,null,null,null,null,null,null,null,null,null,null,null,null,null,null,null,null,null,null,null,null,null,null,null,null,null,null,null,null,null,null,null,null,null,null,null,null,null,null,null,null,null,null,null,null,null,null,null,null,null,null,null,null,null,"C","RES"]
[null,{"$f":"Parameters!Q11","v":"C10-C12"},null,{"$f":"Parameters!S11","v":"Manufacture of food products, beverages and tobacco\nproducts"},null,null,null,null,null,null,null,null,null,null,null,null,null,null,null,null,null,null,null,null,null,null,null,null,null,null,null,null,null,null,null,null,null,null,null,null,null,null,null,null,null,null,null,null,null,null,null,null,null,null,null,null,null,null,null,null,null,null,null,null,null,null,null,null,null,null,null,null,null,null,null,null,null,null,null,null,null,null,null,null,null,null,null,null,null,null,"C10T12","RES"]
[null,{"$f":"Parameters!Q12","v":"C13-C15"},null,{"$f":"Parameters!S12","v":"Manufacture of textiles, wearing apparel and leather products"},null,null,null,null,null,null,null,null,null,null,null,null,null,null,null,null,null,null,null,null,null,null,null,null,null,null,null,null,null,null,null,null,null,null,null,null,null,null,null,null,null,null,null,null,null,null,null,null,null,null,null,null,null,null,null,null,null,null,null,null,null,null,null,null,null,null,null,null,null,null,null,null,null,null,null,null,null,null,null,null,null,null,null,null,null,null,"C13T15","RES"]
[null,{"$f":"Parameters!Q13","v":"C16-C18"},null,{"$f":"Parameters!S13","v":"Manufacture of wood, paper, printing and reproduction"}]
[null,{"$f":"Parameters!Q14","v":"C16"},null,{"$f":"Parameters!S14","v":"Manufacture of wood and of products of wood and cork, except furniture; manufacture of articles of straw and plaiting materials"},null,null,null,null,null,null,null,null,null,null,null,null,null,null,null,null,null,null,null,null,null,null,null,null,null,null,null,null,null,null,null,null,null,null,null,null,null,null,null,null,null,null,null,null,null,null,null,null,null,null,null,null,null,null,null,null,null,null,null,null,null,null,null,null,null,null,null,null,null,null,null,null,null,null,null,null,null,null,null,null,null,null,null,null,null,null,"C16","RES"]
[null,{"$f":"Parameters!Q15","v":"C17"},null,{"$f":"Parameters!S15","v":"Manufacture of paper and paper products"},null,null,null,null,null,null,null,null,null,null,null,null,null,null,null,null,null,null,null,null,null,null,null,null,null,null,null,null,null,null,null,null,null,null,null,null,null,null,null,null,null,null,null,null,null,null,null,null,null,null,null,null,null,null,null,null,null,null,null,null,null,null,null,null,null,null,null,null,null,null,null,null,null,null,null,null,null,null,null,null,null,null,null,null,null,null,"C17","RES"]
[null,{"$f":"Parameters!Q16","v":"C18"},null,{"$f":"Parameters!S16","v":"Printing and reproduction of recorded media"},null,null,null,null,null,null,null,null,null,null,null,null,null,null,null,null,null,null,null,null,null,null,null,null,null,null,null,null,null,null,null,null,null,null,null,null,null,null,null,null,null,null,null,null,null,null,null,null,null,null,null,null,null,null,null,null,null,null,null,null,null,null,null,null,null,null,null,null,null,null,null,null,null,null,null,null,null,null,null,null,null,null,null,null,null,null,"C18","RES"]
[null,{"$f":"Parameters!Q17","v":"C19"},null,{"$f":"Parameters!S17","v":"Manufacture of coke and refined petroleum products"},null,null,null,null,null,null,null,null,null,null,null,null,null,null,null,null,null,null,null,null,null,null,null,null,null,null,null,null,null,null,null,null,null,null,null,null,null,null,null,null,null,null,null,null,null,null,null,null,null,null,null,null,null,null,null,null,null,null,null,null,null,null,null,null,null,null,null,null,null,null,null,null,null,null,null,null,null,null,null,null,null,null,null,null,null,null,"C19","RES"]
[null,{"$f":"Parameters!Q18","v":"C20"},null,{"$f":"Parameters!S18","v":"Manufacture of chemicals and chemical products"},null,null,null,null,null,null,null,null,null,null,null,null,null,null,null,null,null,null,null,null,null,null,null,null,null,null,null,null,null,null,null,null,null,null,null,null,null,null,null,null,null,null,null,null,null,null,null,null,null,null,null,null,null,null,null,null,null,null,null,null,null,null,null,null,null,null,null,null,null,null,null,null,null,null,null,null,null,null,null,null,null,null,null,null,null,null,"C20","RES"]
[null,{"$f":"Parameters!Q19","v":"C21"},null,{"$f":"Parameters!S19","v":"Manufacture of basic pharmaceutical products and pharmaceutical preparations"},null,null,null,null,null,null,null,null,null,null,null,null,null,null,null,null,null,null,null,null,null,null,null,null,null,null,null,null,null,null,null,null,null,null,null,null,null,null,null,null,null,null,null,null,null,null,null,null,null,null,null,null,null,null,null,null,null,null,null,null,null,null,null,null,null,null,null,null,null,null,null,null,null,null,null,null,null,null,null,null,null,null,null,null,null,null,"C21","RES"]
[null,{"$f":"Parameters!Q20","v":"C22_C23"},null,{"$f":"Parameters!S20","v":"Manufacture of rubber and plastic products and other non-metallic mineral products"}]
[null,{"$f":"Parameters!Q21","v":"C22"},null,{"$f":"Parameters!S21","v":"Manufacture of rubber and plastic products"},null,null,null,null,null,null,null,null,null,null,null,null,null,null,null,null,null,null,null,null,null,null,null,null,null,null,null,null,null,null,null,null,null,null,null,null,null,null,null,null,null,null,null,null,null,null,null,null,null,null,null,null,null,null,null,null,null,null,null,null,null,null,null,null,null,null,null,null,null,null,null,null,null,null,null,null,null,null,null,null,null,null,null,null,null,null,"C22","RES"]
[null,{"$f":"Parameters!Q22","v":"C23"},null,{"$f":"Parameters!S22","v":"Manufacture of other non-metallic mineral products"},null,null,null,null,null,null,null,null,null,null,null,null,null,null,null,null,null,null,null,null,null,null,null,null,null,null,null,null,null,null,null,null,null,null,null,null,null,null,null,null,null,null,null,null,null,null,null,null,null,null,null,null,null,null,null,null,null,null,null,null,null,null,null,null,null,null,null,null,null,null,null,null,null,null,null,null,null,null,null,null,null,null,null,null,null,null,"C23","RES"]
[null,{"$f":"Parameters!Q23","v":"C24_C25"},null,{"$f":"Parameters!S23","v":"Manufacture of basic metals and fabricated metal products, except machinery and equipment"}]
[null,{"$f":"Parameters!Q24","v":"C24"},null,{"$f":"Parameters!S24","v":"Manufacture of basic metals"},null,null,null,null,null,null,null,null,null,null,null,null,null,null,null,null,null,null,null,null,null,null,null,null,null,null,null,null,null,null,null,null,null,null,null,null,null,null,null,null,null,null,null,null,null,null,null,null,null,null,null,null,null,null,null,null,null,null,null,null,null,null,null,null,null,null,null,null,null,null,null,null,null,null,null,null,null,null,null,null,null,null,null,null,null,null,"C24","RES"]
[null,{"$f":"Parameters!Q25","v":"C25"},null,{"$f":"Parameters!S25","v":"Manufacture of fabricated metal products, except machinery and equipment"},null,null,null,null,null,null,null,null,null,null,null,null,null,null,null,null,null,null,null,null,null,null,null,null,null,null,null,null,null,null,null,null,null,null,null,null,null,null,null,null,null,null,null,null,null,null,null,null,null,null,null,null,null,null,null,null,null,null,null,null,null,null,null,null,null,null,null,null,null,null,null,null,null,null,null,null,null,null,null,null,null,null,null,null,null,null,"C25","RES"]
[null,{"$f":"Parameters!Q26","v":"C26"},null,{"$f":"Parameters!S26","v":"Manufacture of computer, electronic and optical products"},null,null,null,null,null,null,null,null,null,null,null,null,null,null,null,null,null,null,null,null,null,null,null,null,null,null,null,null,null,null,null,null,null,null,null,null,null,null,null,null,null,null,null,null,null,null,null,null,null,null,null,null,null,null,null,null,null,null,null,null,null,null,null,null,null,null,null,null,null,null,null,null,null,null,null,null,null,null,null,null,null,null,null,null,null,null,"C26","RES"]
[null,{"$f":"Parameters!Q27","v":"C27"},null,{"$f":"Parameters!S27","v":"Manufacture of electrical equipment"},null,null,null,null,null,null,null,null,null,null,null,null,null,null,null,null,null,null,null,null,null,null,null,null,null,null,null,null,null,null,null,null,null,null,null,null,null,null,null,null,null,null,null,null,null,null,null,null,null,null,null,null,null,null,null,null,null,null,null,null,null,null,null,null,null,null,null,null,null,null,null,null,null,null,null,null,null,null,null,null,null,null,null,null,null,null,"C27","RES"]
[null,{"$f":"Parameters!Q28","v":"C28"},null,{"$f":"Parameters!S28","v":"Manufacture of machinery and equipment n.e.c."},null,null,null,null,null,null,null,null,null,null,null,null,null,null,null,null,null,null,null,null,null,null,null,null,null,null,null,null,null,null,null,null,null,null,null,null,null,null,null,null,null,null,null,null,null,null,null,null,null,null,null,null,null,null,null,null,null,null,null,null,null,null,null,null,null,null,null,null,null,null,null,null,null,null,null,null,null,null,null,null,null,null,null,null,null,null,"C28","RES"]
[null,{"$f":"Parameters!Q29","v":"C29_C30"},null,{"$f":"Parameters!S29","v":"Manufacture of motor vehicles, trailers, semi-trailers and of other transport equipment"}]
[null,{"$f":"Parameters!Q30","v":"C29"},null,{"$f":"Parameters!S30","v":"Manufacture of motor vehicles, trailers and semi-trailers"},null,null,null,null,null,null,null,null,null,null,null,null,null,null,null,null,null,null,null,null,null,null,null,null,null,null,null,null,null,null,null,null,null,null,null,null,null,null,null,null,null,null,null,null,null,null,null,null,null,null,null,null,null,null,null,null,null,null,null,null,null,null,null,null,null,null,null,null,null,null,null,null,null,null,null,null,null,null,null,null,null,null,null,null,null,null,"C29","RES"]
[null,{"$f":"Parameters!Q31","v":"C30"},null,{"$f":"Parameters!S31","v":"Manufacture of other transport equipment"},null,null,null,null,null,null,null,null,null,null,null,null,null,null,null,null,null,null,null,null,null,null,null,null,null,null,null,null,null,null,null,null,null,null,null,null,null,null,null,null,null,null,null,null,null,null,null,null,null,null,null,null,null,null,null,null,null,null,null,null,null,null,null,null,null,null,null,null,null,null,null,null,null,null,null,null,null,null,null,null,null,null,null,null,null,null,"C30","RES"]
[null,{"$f":"Parameters!Q32","v":"C31-C33"},null,{"$f":"Parameters!S32","v":"Manufacture of furniture; jewellery, musical instruments, toys; repair and installation of machinery and equipment"}]
[null,{"$f":"Parameters!Q33","v":"C31_C32"},null,{"$f":"Parameters!S33","v":"Manufacture of furniture; other manufacturing"},null,null,null,null,null,null,null,null,null,null,null,null,null,null,null,null,null,null,null,null,null,null,null,null,null,null,null,null,null,null,null,null,null,null,null,null,null,null,null,null,null,null,null,null,null,null,null,null,null,null,null,null,null,null,null,null,null,null,null,null,null,null,null,null,null,null,null,null,null,null,null,null,null,null,null,null,null,null,null,null,null,null,null,null,null,null,"C31_32","RES"]
[null,{"$f":"Parameters!Q34","v":"C33"},null,{"$f":"Parameters!S34","v":"Repair and installation of machinery and equipment"},null,null,null,null,null,null,null,null,null,null,null,null,null,null,null,null,null,null,null,null,null,null,null,null,null,null,null,null,null,null,null,null,null,null,null,null,null,null,null,null,null,null,null,null,null,null,null,null,null,null,null,null,null,null,null,null,null,null,null,null,null,null,null,null,null,null,null,null,null,null,null,null,null,null,null,null,null,null,null,null,null,null,null,null,null,null,"C33","RES"]
[null,{"$f":"Parameters!Q35","v":"D"},null,{"$f":"Parameters!S35","v":"Electricity, gas, steam and air conditioning supply"},null,null,null,null,null,null,null,null,null,null,null,null,null,null,null,null,null,null,null,null,null,null,null,null,null,null,null,null,null,null,null,null,null,null,null,null,null,null,null,null,null,null,null,null,null,null,null,null,null,null,null,null,null,null,null,null,null,null,null,null,null,null,null,null,null,null,null,null,null,null,null,null,null,null,null,null,null,null,null,null,null,null,null,null,null,null,"D","RES"]
[null,{"$f":"Parameters!Q36","v":"E"},null,{"$f":"Parameters!S36","v":"Water supply; sewerage, waste management and remediation activities"},null,null,null,null,null,null,null,null,null,null,null,null,null,null,null,null,null,null,null,null,null,null,null,null,null,null,null,null,null,null,null,null,null,null,null,null,null,null,null,null,null,null,null,null,null,null,null,null,null,null,null,null,null,null,null,null,null,null,null,null,null,null,null,null,null,null,null,null,null,null,null,null,null,null,null,null,null,null,null,null,null,null,null,null,null,null,"E","RES"]
[null,{"$f":"Parameters!Q37","v":"E36"},null,{"$f":"Parameters!S37","v":"Water collection, treatment and supply"},null,null,null,null,null,null,null,null,null,null,null,null,null,null,null,null,null,null,null,null,null,null,null,null,null,null,null,null,null,null,null,null,null,null,null,null,null,null,null,null,null,null,null,null,null,null,null,null,null,null,null,null,null,null,null,null,null,null,null,null,null,null,null,null,null,null,null,null,null,null,null,null,null,null,null,null,null,null,null,null,null,null,null,null,null,null,"E36","RES"]
[null,{"$f":"Parameters!Q38","v":"E37-E39"},null,{"$f":"Parameters!S38","v":"Sewerage, waste management, remediation activities"},null,null,null,null,null,null,null,null,null,null,null,null,null,null,null,null,null,null,null,null,null,null,null,null,null,null,null,null,null,null,null,null,null,null,null,null,null,null,null,null,null,null,null,null,null,null,null,null,null,null,null,null,null,null,null,null,null,null,null,null,null,null,null,null,null,null,null,null,null,null,null,null,null,null,null,null,null,null,null,null,null,null,null,null,null,null,"E37T39","RES"]
[null,{"$f":"Parameters!Q39","v":"F"},null,{"$f":"Parameters!S39","v":"Construction"},null,null,null,null,null,null,null,null,null,null,null,null,null,null,null,null,null,null,null,null,null,null,null,null,null,null,null,null,null,null,null,null,null,null,null,null,null,null,null,null,null,null,null,null,null,null,null,null,null,null,null,null,null,null,null,null,null,null,null,null,null,null,null,null,null,null,null,null,null,null,null,null,null,null,null,null,null,null,null,null,null,null,null,null,null,null,"F","RES"]
[null,{"$f":"Parameters!Q40","v":"G"},null,{"$f":"Parameters!S40","v":"Wholesale and retail trade; repair of motor vehicles and motorcycles"},null,null,null,null,null,null,null,null,null,null,null,null,null,null,null,null,null,null,null,null,null,null,null,null,null,null,null,null,null,null,null,null,null,null,null,null,null,null,null,null,null,null,null,null,null,null,null,null,null,null,null,null,null,null,null,null,null,null,null,null,null,null,null,null,null,null,null,null,null,null,null,null,null,null,null,null,null,null,null,null,null,null,null,null,null,null,"G","RES"]
[null,{"$f":"Parameters!Q41","v":"G45"},null,{"$f":"Parameters!S41","v":"Wholesale and retail trade and repair of motor vehicles and motorcycles"},null,null,null,null,null,null,null,null,null,null,null,null,null,null,null,null,null,null,null,null,null,null,null,null,null,null,null,null,null,null,null,null,null,null,null,null,null,null,null,null,null,null,null,null,null,null,null,null,null,null,null,null,null,null,null,null,null,null,null,null,null,null,null,null,null,null,null,null,null,null,null,null,null,null,null,null,null,null,null,null,null,null,null,null,null,null,"G45","RES"]
[null,{"$f":"Parameters!Q42","v":"G46"},null,{"$f":"Parameters!S42","v":"Wholesale trade, except of motor vehicles and motorcycles"},null,null,null,null,null,null,null,null,null,null,null,null,null,null,null,null,null,null,null,null,null,null,null,null,null,null,null,null,null,null,null,null,null,null,null,null,null,null,null,null,null,null,null,null,null,null,null,null,null,null,null,null,null,null,null,null,null,null,null,null,null,null,null,null,null,null,null,null,null,null,null,null,null,null,null,null,null,null,null,null,null,null,null,null,null,null,"G46","RES"]
[null,{"$f":"Parameters!Q43","v":"G47"},null,{"$f":"Parameters!S43","v":"Retail trade, except of motor vehicles and motorcycles"},null,null,null,null,null,null,null,null,null,null,null,null,null,null,null,null,null,null,null,null,null,null,null,null,null,null,null,null,null,null,null,null,null,null,null,null,null,null,null,null,null,null,null,null,null,null,null,null,null,null,null,null,null,null,null,null,null,null,null,null,null,null,null,null,null,null,null,null,null,null,null,null,null,null,null,null,null,null,null,null,null,null,null,null,null,null,"G47","RES"]
[null,{"$f":"Parameters!Q44","v":"H"},null,{"$f":"Parameters!S44","v":"Transportation and storage"},null,null,null,null,null,null,null,null,null,null,null,null,null,null,null,null,null,null,null,null,null,null,null,null,null,null,null,null,null,null,null,null,null,null,null,null,null,null,null,null,null,null,null,null,null,null,null,null,null,null,null,null,null,null,null,null,null,null,null,null,null,null,null,null,null,null,null,null,null,null,null,null,null,null,null,null,null,null,null,null,null,null,null,null,null,null,"H","RES"]
[null,{"$f":"Parameters!Q45","v":"H49"},null,{"$f":"Parameters!S45","v":"Land transport and transport via pipelines"},null,null,null,null,null,null,null,null,null,null,null,null,null,null,null,null,null,null,null,null,null,null,null,null,null,null,null,null,null,null,null,null,null,null,null,null,null,null,null,null,null,null,null,null,null,null,null,null,null,null,null,null,null,null,null,null,null,null,null,null,null,null,null,null,null,null,null,null,null,null,null,null,null,null,null,null,null,null,null,null,null,null,null,null,null,null,"H49","RES"]
[null,{"$f":"Parameters!Q46","v":"H50"},null,{"$f":"Parameters!S46","v":"Water transport"},null,null,null,null,null,null,null,null,null,null,null,null,null,null,null,null,null,null,null,null,null,null,null,null,null,null,null,null,null,null,null,null,null,null,null,null,null,null,null,null,null,null,null,null,null,null,null,null,null,null,null,null,null,null,null,null,null,null,null,null,null,null,null,null,null,null,null,null,null,null,null,null,null,null,null,null,null,null,null,null,null,null,null,null,null,null,"H50","RES"]
[null,{"$f":"Parameters!Q47","v":"H51"},null,{"$f":"Parameters!S47","v":"Air transport"},null,null,null,null,null,null,null,null,null,null,null,null,null,null,null,null,null,null,null,null,null,null,null,null,null,null,null,null,null,null,null,null,null,null,null,null,null,null,null,null,null,null,null,null,null,null,null,null,null,null,null,null,null,null,null,null,null,null,null,null,null,null,null,null,null,null,null,null,null,null,null,null,null,null,null,null,null,null,null,null,null,null,null,null,null,null,"H51","RES"]
[null,{"$f":"Parameters!Q48","v":"H52"},null,{"$f":"Parameters!S48","v":"Warehousing and support activities for transportation"},null,null,null,null,null,null,null,null,null,null,null,null,null,null,null,null,null,null,null,null,null,null,null,null,null,null,null,null,null,null,null,null,null,null,null,null,null,null,null,null,null,null,null,null,null,null,null,null,null,null,null,null,null,null,null,null,null,null,null,null,null,null,null,null,null,null,null,null,null,null,null,null,null,null,null,null,null,null,null,null,null,null,null,null,null,null,"H52","RES"]
[null,{"$f":"Parameters!Q49","v":"H53"},null,{"$f":"Parameters!S49","v":"Postal and courier activities"},null,null,null,null,null,null,null,null,null,null,null,null,null,null,null,null,null,null,null,null,null,null,null,null,null,null,null,null,null,null,null,null,null,null,null,null,null,null,null,null,null,null,null,null,null,null,null,null,null,null,null,null,null,null,null,null,null,null,null,null,null,null,null,null,null,null,null,null,null,null,null,null,null,null,null,null,null,null,null,null,null,null,null,null,null,null,"H53","RES"]
[null,{"$f":"Parameters!Q50","v":"I"},null,{"$f":"Parameters!S50","v":"Accommodation and food service activities"},null,null,null,null,null,null,null,null,null,null,null,null,null,null,null,null,null,null,null,null,null,null,null,null,null,null,null,null,null,null,null,null,null,null,null,null,null,null,null,null,null,null,null,null,null,null,null,null,null,null,null,null,null,null,null,null,null,null,null,null,null,null,null,null,null,null,null,null,null,null,null,null,null,null,null,null,null,null,null,null,null,null,null,null,null,null,"I","RES"]
[null,{"$f":"Parameters!Q51","v":"J"},null,{"$f":"Parameters!S51","v":"Information and communication"},null,null,null,null,null,null,null,null,null,null,null,null,null,null,null,null,null,null,null,null,null,null,null,null,null,null,null,null,null,null,null,null,null,null,null,null,null,null,null,null,null,null,null,null,null,null,null,null,null,null,null,null,null,null,null,null,null,null,null,null,null,null,null,null,null,null,null,null,null,null,null,null,null,null,null,null,null,null,null,null,null,null,null,null,null,null,"J","RES"]
[null,{"$f":"Parameters!Q52","v":"J58-J60"},null,{"$f":"Parameters!S52","v":"Publishing, motion picture, video, television programme production; sound recording, programming and broadcasting activities"}]
[null,{"$f":"Parameters!Q53","v":"J58"},null,{"$f":"Parameters!S53","v":"Publishing activities"},null,null,null,null,null,null,null,null,null,null,null,null,null,null,null,null,null,null,null,null,null,null,null,null,null,null,null,null,null,null,null,null,null,null,null,null,null,null,null,null,null,null,null,null,null,null,null,null,null,null,null,null,null,null,null,null,null,null,null,null,null,null,null,null,null,null,null,null,null,null,null,null,null,null,null,null,null,null,null,null,null,null,null,null,null,null,"J58","RES"]
[null,{"$f":"Parameters!Q54","v":"J59_J60"},null,{"$f":"Parameters!S54","v":"Motion picture, video, television programme production; programming and broadcasting activities"},null,null,null,null,null,null,null,null,null,null,null,null,null,null,null,null,null,null,null,null,null,null,null,null,null,null,null,null,null,null,null,null,null,null,null,null,null,null,null,null,null,null,null,null,null,null,null,null,null,null,null,null,null,null,null,null,null,null,null,null,null,null,null,null,null,null,null,null,null,null,null,null,null,null,null,null,null,null,null,null,null,null,null,null,null,null,"J59_60","RES"]
[null,{"$f":"Parameters!Q55","v":"J61"},null,{"$f":"Parameters!S55","v":"Telecommunications"},null,null,null,null,null,null,null,null,null,null,null,null,null,null,null,null,null,null,null,null,null,null,null,null,null,null,null,null,null,null,null,null,null,null,null,null,null,null,null,null,null,null,null,null,null,null,null,null,null,null,null,null,null,null,null,null,null,null,null,null,null,null,null,null,null,null,null,null,null,null,null,null,null,null,null,null,null,null,null,null,null,null,null,null,null,null,"J61","RES"]
[null,{"$f":"Parameters!Q56","v":"J62_J63"},null,{"$f":"Parameters!S56","v":"Computer programming, consultancy, and information service activities"},null,null,null,null,null,null,null,null,null,null,null,null,null,null,null,null,null,null,null,null,null,null,null,null,null,null,null,null,null,null,null,null,null,null,null,null,null,null,null,null,null,null,null,null,null,null,null,null,null,null,null,null,null,null,null,null,null,null,null,null,null,null,null,null,null,null,null,null,null,null,null,null,null,null,null,null,null,null,null,null,null,null,null,null,null,null,"J62_63","RES"]
[null,{"$f":"Parameters!Q57","v":"K"},null,{"$f":"Parameters!S57","v":"Financial and insurance activities"},null,null,null,null,null,null,null,null,null,null,null,null,null,null,null,null,null,null,null,null,null,null,null,null,null,null,null,null,null,null,null,null,null,null,null,null,null,null,null,null,null,null,null,null,null,null,null,null,null,null,null,null,null,null,null,null,null,null,null,null,null,null,null,null,null,null,null,null,null,null,null,null,null,null,null,null,null,null,null,null,null,null,null,null,null,null,"K","RES"]
[null,{"$f":"Parameters!Q58","v":"K64"},null,{"$f":"Parameters!S58","v":"Financial service activities, except insurance and pension funding"},null,null,null,null,null,null,null,null,null,null,null,null,null,null,null,null,null,null,null,null,null,null,null,null,null,null,null,null,null,null,null,null,null,null,null,null,null,null,null,null,null,null,null,null,null,null,null,null,null,null,null,null,null,null,null,null,null,null,null,null,null,null,null,null,null,null,null,null,null,null,null,null,null,null,null,null,null,null,null,null,null,null,null,null,null,null,"K64","RES"]
[null,{"$f":"Parameters!Q59","v":"K65"},null,{"$f":"Parameters!S59","v":"Insurance, reinsurance and pension funding, except compulsory social security"},null,null,null,null,null,null,null,null,null,null,null,null,null,null,null,null,null,null,null,null,null,null,null,null,null,null,null,null,null,null,null,null,null,null,null,null,null,null,null,null,null,null,null,null,null,null,null,null,null,null,null,null,null,null,null,null,null,null,null,null,null,null,null,null,null,null,null,null,null,null,null,null,null,null,null,null,null,null,null,null,null,null,null,null,null,null,"K65","RES"]
[null,{"$f":"Parameters!Q60","v":"K66"},null,{"$f":"Parameters!S60","v":"Activities auxiliary to financial services and insurance activities"},null,null,null,null,null,null,null,null,null,null,null,null,null,null,null,null,null,null,null,null,null,null,null,null,null,null,null,null,null,null,null,null,null,null,null,null,null,null,null,null,null,null,null,null,null,null,null,null,null,null,null,null,null,null,null,null,null,null,null,null,null,null,null,null,null,null,null,null,null,null,null,null,null,null,null,null,null,null,null,null,null,null,null,null,null,null,"K66","RES"]
[null,{"$f":"Parameters!Q61","v":"L"},null,{"$f":"Parameters!S61","v":"Real estate activities"},null,null,null,null,null,null,null,null,null,null,null,null,null,null,null,null,null,null,null,null,null,null,null,null,null,null,null,null,null,null,null,null,null,null,null,null,null,null,null,null,null,null,null,null,null,null,null,null,null,null,null,null,null,null,null,null,null,null,null,null,null,null,null,null,null,null,null,null,null,null,null,null,null,null,null,null,null,null,null,null,null,null,null,null,null,null,"L","RES"]
[null,{"$f":"Parameters!Q62","v":"L68A"},null,{"$f":"Parameters!S62","v":"Imputed rents of owner-occupied dwellings"},null,null,null,null,null,null,null,null,null,null,null,null,null,null,null,null,null,null,null,null,null,null,null,null,null,null,null,null,null,null,null,null,null,null,null,null,null,null,null,null,null,null,null,null,null,null,null,null,null,null,null,null,null,null,null,null,null,null,null,null,null,null,null,null,null,null,null,null,null,null,null,null,null,null,null,null,null,null,null,null,null,null,null,null,null,null,"L68A","RES"]
[null,{"$f":"Parameters!Q63","v":"M"},null,{"$f":"Parameters!S63","v":"Professional, scientific and technical activities"},null,null,null,null,null,null,null,null,null,null,null,null,null,null,null,null,null,null,null,null,null,null,null,null,null,null,null,null,null,null,null,null,null,null,null,null,null,null,null,null,null,null,null,null,null,null,null,null,null,null,null,null,null,null,null,null,null,null,null,null,null,null,null,null,null,null,null,null,null,null,null,null,null,null,null,null,null,null,null,null,null,null,null,null,null,null,"M","RES"]
[null,{"$f":"Parameters!Q64","v":"M69-M71"},null,{"$f":"Parameters!S64","v":"Legal and accounting activities; activities of head offices; management consultancy activities; architectural and engineering activities; technical testing and analysis"}]
[null,{"$f":"Parameters!Q65","v":"M69_M70"},null,{"$f":"Parameters!S65","v":"Legal and accounting activities; activities of head offices; management consultancy activities"},null,null,null,null,null,null,null,null,null,null,null,null,null,null,null,null,null,null,null,null,null,null,null,null,null,null,null,null,null,null,null,null,null,null,null,null,null,null,null,null,null,null,null,null,null,null,null,null,null,null,null,null,null,null,null,null,null,null,null,null,null,null,null,null,null,null,null,null,null,null,null,null,null,null,null,null,null,null,null,null,null,null,null,null,null,null,"M69_70","RES"]
[null,{"$f":"Parameters!Q66","v":"M71"},null,{"$f":"Parameters!S66","v":"Architectural and engineering activities; technical testing and analysis"},null,null,null,null,null,null,null,null,null,null,null,null,null,null,null,null,null,null,null,null,null,null,null,null,null,null,null,null,null,null,null,null,null,null,null,null,null,null,null,null,null,null,null,null,null,null,null,null,null,null,null,null,null,null,null,null,null,null,null,null,null,null,null,null,null,null,null,null,null,null,null,null,null,null,null,null,null,null,null,null,null,null,null,null,null,null,"M71","RES"]
[null,{"$f":"Parameters!Q67","v":"M72"},null,{"$f":"Parameters!S67","v":"Scientific research and development"},null,null,null,null,null,null,null,null,null,null,null,null,null,null,null,null,null,null,null,null,null,null,null,null,null,null,null,null,null,null,null,null,null,null,null,null,null,null,null,null,null,null,null,null,null,null,null,null,null,null,null,null,null,null,null,null,null,null,null,null,null,null,null,null,null,null,null,null,null,null,null,null,null,null,null,null,null,null,null,null,null,null,null,null,null,null,"M72","RES"]
[null,{"$f":"Parameters!Q68","v":"M73-M75"},null,{"$f":"Parameters!S68","v":"Advertising and market research; other professional, scientific and technical activities; veterinary activities"}]
[null,{"$f":"Parameters!Q69","v":"M73"},null,{"$f":"Parameters!S69","v":"Advertising and market research"},null,null,null,null,null,null,null,null,null,null,null,null,null,null,null,null,null,null,null,null,null,null,null,null,null,null,null,null,null,null,null,null,null,null,null,null,null,null,null,null,null,null,null,null,null,null,null,null,null,null,null,null,null,null,null,null,null,null,null,null,null,null,null,null,null,null,null,null,null,null,null,null,null,null,null,null,null,null,null,null,null,null,null,null,null,null,"M73","RES"]
[null,{"$f":"Parameters!Q70","v":"M74_M75"},null,{"$f":"Parameters!S70","v":"Other professional, scientific and technical activities; veterinary activities"},null,null,null,null,null,null,null,null,null,null,null,null,null,null,null,null,null,null,null,null,null,null,null,null,null,null,null,null,null,null,null,null,null,null,null,null,null,null,null,null,null,null,null,null,null,null,null,null,null,null,null,null,null,null,null,null,null,null,null,null,null,null,null,null,null,null,null,null,null,null,null,null,null,null,null,null,null,null,null,null,null,null,null,null,null,null,"M74_75","RES"]
[null,{"$f":"Parameters!Q71","v":"N"},null,{"$f":"Parameters!S71","v":"Administrative and support service activities"},null,null,null,null,null,null,null,null,null,null,null,null,null,null,null,null,null,null,null,null,null,null,null,null,null,null,null,null,null,null,null,null,null,null,null,null,null,null,null,null,null,null,null,null,null,null,null,null,null,null,null,null,null,null,null,null,null,null,null,null,null,null,null,null,null,null,null,null,null,null,null,null,null,null,null,null,null,null,null,null,null,null,null,null,null,null,"N","RES"]
[null,{"$f":"Parameters!Q72","v":"N77"},null,{"$f":"Parameters!S72","v":"Rental and leasing activities"},null,null,null,null,null,null,null,null,null,null,null,null,null,null,null,null,null,null,null,null,null,null,null,null,null,null,null,null,null,null,null,null,null,null,null,null,null,null,null,null,null,null,null,null,null,null,null,null,null,null,null,null,null,null,null,null,null,null,null,null,null,null,null,null,null,null,null,null,null,null,null,null,null,null,null,null,null,null,null,null,null,null,null,null,null,null,"N77","RES"]
[null,{"$f":"Parameters!Q73","v":"N78"},null,{"$f":"Parameters!S73","v":"Employment activities"},null,null,null,null,null,null,null,null,null,null,null,null,null,null,null,null,null,null,null,null,null,null,null,null,null,null,null,null,null,null,null,null,null,null,null,null,null,null,null,null,null,null,null,null,null,null,null,null,null,null,null,null,null,null,null,null,null,null,null,null,null,null,null,null,null,null,null,null,null,null,null,null,null,null,null,null,null,null,null,null,null,null,null,null,null,null,"N78","RES"]
[null,{"$f":"Parameters!Q74","v":"N79"},null,{"$f":"Parameters!S74","v":"Travel agency, tour operator reservation service and related activities"},null,null,null,null,null,null,null,null,null,null,null,null,null,null,null,null,null,null,null,null,null,null,null,null,null,null,null,null,null,null,null,null,null,null,null,null,null,null,null,null,null,null,null,null,null,null,null,null,null,null,null,null,null,null,null,null,null,null,null,null,null,null,null,null,null,null,null,null,null,null,null,null,null,null,null,null,null,null,null,null,null,null,null,null,null,null,"N79","RES"]
[null,{"$f":"Parameters!Q75","v":"N80-N82"},null,{"$f":"Parameters!S75","v":"Security and investigation, service and landscape, office administrative and support activities"},null,null,null,null,null,null,null,null,null,null,null,null,null,null,null,null,null,null,null,null,null,null,null,null,null,null,null,null,null,null,null,null,null,null,null,null,null,null,null,null,null,null,null,null,null,null,null,null,null,null,null,null,null,null,null,null,null,null,null,null,null,null,null,null,null,null,null,null,null,null,null,null,null,null,null,null,null,null,null,null,null,null,null,null,null,null,"N80T82","RES"]
[null,{"$f":"Parameters!Q76","v":"O"},null,{"$f":"Parameters!S76","v":"Public administration and defence; compulsory social security"},null,null,null,null,null,null,null,null,null,null,null,null,null,null,null,null,null,null,null,null,null,null,null,null,null,null,null,null,null,null,null,null,null,null,null,null,null,null,null,null,null,null,null,null,null,null,null,null,null,null,null,null,null,null,null,null,null,null,null,null,null,null,null,null,null,null,null,null,null,null,null,null,null,null,null,null,null,null,null,null,null,null,null,null,null,null,"O","RES"]
[null,{"$f":"Parameters!Q77","v":"P"},null,{"$f":"Parameters!S77","v":"Education"},null,null,null,null,null,null,null,null,null,null,null,null,null,null,null,null,null,null,null,null,null,null,null,null,null,null,null,null,null,null,null,null,null,null,null,null,null,null,null,null,null,null,null,null,null,null,null,null,null,null,null,null,null,null,null,null,null,null,null,null,null,null,null,null,null,null,null,null,null,null,null,null,null,null,null,null,null,null,null,null,null,null,null,null,null,null,"P","RES"]
[null,{"$f":"Parameters!Q78","v":"Q"},null,{"$f":"Parameters!S78","v":"Human health and social work activities"},null,null,null,null,null,null,null,null,null,null,null,null,null,null,null,null,null,null,null,null,null,null,null,null,null,null,null,null,null,null,null,null,null,null,null,null,null,null,null,null,null,null,null,null,null,null,null,null,null,null,null,null,null,null,null,null,null,null,null,null,null,null,null,null,null,null,null,null,null,null,null,null,null,null,null,null,null,null,null,null,null,null,null,null,null,null,"Q","RES"]
[null,{"$f":"Parameters!Q79","v":"Q86"},null,{"$f":"Parameters!S79","v":"Human health activities"},null,null,null,null,null,null,null,null,null,null,null,null,null,null,null,null,null,null,null,null,null,null,null,null,null,null,null,null,null,null,null,null,null,null,null,null,null,null,null,null,null,null,null,null,null,null,null,null,null,null,null,null,null,null,null,null,null,null,null,null,null,null,null,null,null,null,null,null,null,null,null,null,null,null,null,null,null,null,null,null,null,null,null,null,null,null,"Q86","RES"]
[null,{"$f":"Parameters!Q80","v":"Q87_Q88"},null,{"$f":"Parameters!S80","v":"Residential care activities and social work activities without accommodation"},null,null,null,null,null,null,null,null,null,null,null,null,null,null,null,null,null,null,null,null,null,null,null,null,null,null,null,null,null,null,null,null,null,null,null,null,null,null,null,null,null,null,null,null,null,null,null,null,null,null,null,null,null,null,null,null,null,null,null,null,null,null,null,null,null,null,null,null,null,null,null,null,null,null,null,null,null,null,null,null,null,null,null,null,null,null,"Q87_88","RES"]
[null,{"$f":"Parameters!Q81","v":"R"},null,{"$f":"Parameters!S81","v":"Arts, entertainment and recreation"},null,null,null,null,null,null,null,null,null,null,null,null,null,null,null,null,null,null,null,null,null,null,null,null,null,null,null,null,null,null,null,null,null,null,null,null,null,null,null,null,null,null,null,null,null,null,null,null,null,null,null,null,null,null,null,null,null,null,null,null,null,null,null,null,null,null,null,null,null,null,null,null,null,null,null,null,null,null,null,null,null,null,null,null,null,null,"R","RES"]
[null,{"$f":"Parameters!Q82","v":"R90-R92"},null,{"$f":"Parameters!S82","v":"Creative, arts and entertainment activities; libraries, archives, museums and other cultural activities; gambling and betting activities"},null,null,null,null,null,null,null,null,null,null,null,null,null,null,null,null,null,null,null,null,null,null,null,null,null,null,null,null,null,null,null,null,null,null,null,null,null,null,null,null,null,null,null,null,null,null,null,null,null,null,null,null,null,null,null,null,null,null,null,null,null,null,null,null,null,null,null,null,null,null,null,null,null,null,null,null,null,null,null,null,null,null,null,null,null,null,"R90T92","RES"]
[null,{"$f":"Parameters!Q83","v":"R93"},null,{"$f":"Parameters!S83","v":"Sports activities and amusement and recreation activities"},null,null,null,null,null,null,null,null,null,null,null,null,null,null,null,null,null,null,null,null,null,null,null,null,null,null,null,null,null,null,null,null,null,null,null,null,null,null,null,null,null,null,null,null,null,null,null,null,null,null,null,null,null,null,null,null,null,null,null,null,null,null,null,null,null,null,null,null,null,null,null,null,null,null,null,null,null,null,null,null,null,null,null,null,null,null,"R93","RES"]
[null,{"$f":"Parameters!Q84","v":"S"},null,{"$f":"Parameters!S84","v":"Other service activities"},null,null,null,null,null,null,null,null,null,null,null,null,null,null,null,null,null,null,null,null,null,null,null,null,null,null,null,null,null,null,null,null,null,null,null,null,null,null,null,null,null,null,null,null,null,null,null,null,null,null,null,null,null,null,null,null,null,null,null,null,null,null,null,null,null,null,null,null,null,null,null,null,null,null,null,null,null,null,null,null,null,null,null,null,null,null,"S","RES"]
[null,{"$f":"Parameters!Q85","v":"S94"},null,{"$f":"Parameters!S85","v":"Activities of membership organisations"},null,null,null,null,null,null,null,null,null,null,null,null,null,null,null,null,null,null,null,null,null,null,null,null,null,null,null,null,null,null,null,null,null,null,null,null,null,null,null,null,null,null,null,null,null,null,null,null,null,null,null,null,null,null,null,null,null,null,null,null,null,null,null,null,null,null,null,null,null,null,null,null,null,null,null,null,null,null,null,null,null,null,null,null,null,null,"S94","RES"]
[null,{"$f":"Parameters!Q86","v":"S95"},null,{"$f":"Parameters!S86","v":"Repair of computers and personal and household goods"},null,null,null,null,null,null,null,null,null,null,null,null,null,null,null,null,null,null,null,null,null,null,null,null,null,null,null,null,null,null,null,null,null,null,null,null,null,null,null,null,null,null,null,null,null,null,null,null,null,null,null,null,null,null,null,null,null,null,null,null,null,null,null,null,null,null,null,null,null,null,null,null,null,null,null,null,null,null,null,null,null,null,null,null,null,null,"S95","RES"]
[null,{"$f":"Parameters!Q87","v":"S96"},null,{"$f":"Parameters!S87","v":"Other personal service activities"},null,null,null,null,null,null,null,null,null,null,null,null,null,null,null,null,null,null,null,null,null,null,null,null,null,null,null,null,null,null,null,null,null,null,null,null,null,null,null,null,null,null,null,null,null,null,null,null,null,null,null,null,null,null,null,null,null,null,null,null,null,null,null,null,null,null,null,null,null,null,null,null,null,null,null,null,null,null,null,null,null,null,null,null,null,null,"S96","RES"]
[null,{"$f":"Parameters!Q88","v":"T"},null,{"$f":"Parameters!S88","v":"Activities of households as employers; undifferentiated goods- and services-producing activities of households for own use"},null,null,null,null,null,null,null,null,null,null,null,null,null,null,null,null,null,null,null,null,null,null,null,null,null,null,null,null,null,null,null,null,null,null,null,null,null,null,null,null,null,null,null,null,null,null,null,null,null,null,null,null,null,null,null,null,null,null,null,null,null,null,null,null,null,null,null,null,null,null,null,null,null,null,null,null,null,null,null,null,null,null,null,null,null,null,"T","RES"]
[null,{"$f":"Parameters!Q89","v":"U"},null,{"$f":"Parameters!S89","v":"Activities of extraterritorial organisations and bodies"},null,null,null,null,null,null,null,null,null,null,null,null,null,null,null,null,null,null,null,null,null,null,null,null,null,null,null,null,null,null,null,null,null,null,null,null,null,null,null,null,null,null,null,null,null,null,null,null,null,null,null,null,null,null,null,null,null,null,null,null,null,null,null,null,null,null,null,null,null,null,null,null,null,null,null,null,null,null,null,null,null,null,null,null,null,null,"U","RES"]
[null,"   Household air emissions\n                                          Households, totals",null,null,null,null,null,null,null,null,null,null,null,null,null,null,null,null,null,null,null,null,null,null,null,null,null,null,null,null,null,null,null,null,null,null,null,null,null,null,null,null,null,null,null,null,null,null,null,null,null,null,null,null,null,null,null,null,null,null,null,null,null,null,null,null,null,null,null,null,null,null,null,null,null,null,null,null,null,null,null,null,null,null,null,null,null,null,null,null,"HH","RES"]
[null,null,null,"- Transport",null,null,null,null,null,null,null,null,null,null,null,null,null,null,null,null,null,null,null,null,null,null,null,null,null,null,null,null,null,null,null,null,null,null,null,null,null,null,null,null,null,null,null,null,null,null,null,null,null,null,null,null,null,null,null,null,null,null,null,null,null,null,null,null,null,null,null,null,null,null,null,null,null,null,null,null,null,null,null,null,null,null,null,null,null,null,"HH_TR","RES"]
[null,null,null,"- Heating/cooling",null,null,null,null,null,null,null,null,null,null,null,null,null,null,null,null,null,null,null,null,null,null,null,null,null,null,null,null,null,null,null,null,null,null,null,null,null,null,null,null,null,null,null,null,null,null,null,null,null,null,null,null,null,null,null,null,null,null,null,null,null,null,null,null,null,null,null,null,null,null,null,null,null,null,null,null,null,null,null,null,null,null,null,null,null,null,"HH_HEAT","RES"]
[null,null,null,"- Other",null,null,null,null,null,null,null,null,null,null,null,null,null,null,null,null,null,null,null,null,null,null,null,null,null,null,null,null,null,null,null,null,null,null,null,null,null,null,null,null,null,null,null,null,null,null,null,null,null,null,null,null,null,null,null,null,null,null,null,null,null,null,null,null,null,null,null,null,null,null,null,null,null,null,null,null,null,null,null,null,null,null,null,null,null,null,"HH_OTH","RES"]
[null,"   Bridging items\n\n1                              Total Air emissions accounts (industry (row 5) + households (row 91))",null,null,null,null,null,null,null,null,null,null,null,null,null,null,null,null,null,null,null,null,null,null,null,null,null,null,null,null,null,null,null,null,null,null,null,null,null,null,null,null,null,null,null,null,null,null,null,null,null,null,null,null,null,null,null,null,null,null,null,null,null,null,null,null,null,null,null,null,null,null,null,null,null,null,null,null,null,null,null,null,null,null,null,null,null,null,null,null,"ATU_HH","RES"]
[null,2,null,"less National residents abroad",null,null,null,null,null,null,null,null,null,null,null,null,null,null,null,null,null,null,null,null,null,null,null,null,null,null,null,null,null,null,null,null,null,null,null,null,null,null,null,null,null,null,null,null,null,null,null,null,null,null,null,null,null,null,null,null,null,null,null,null,null,null,null,null,null,null,null,null,null,null,null,null,null,null,null,null,null,null,null,null,null,null,null,null,null,null,"ATU_HH","RES_ABR"]
[null,2.1,null,"-  National fishing vessels operating abroad",null,null,null,null,null,null,null,null,null,null,null,null,null,null,null,null,null,null,null,null,null,null,null,null,null,null,null,null,null,null,null,null,null,null,null,null,null,null,null,null,null,null,null,null,null,null,null,null,null,null,null,null,null,null,null,null,null,null,null,null,null,null,null,null,null,null,null,null,null,null,null,null,null,null,null,null,null,null,null,null,null,null,null,null,null,null,"ATU_HH","RES_ABR_FWTR"]
[null,2.2000000000000002,null,"-  Land transport",null,null,null,null,null,null,null,null,null,null,null,null,null,null,null,null,null,null,null,null,null,null,null,null,null,null,null,null,null,null,null,null,null,null,null,null,null,null,null,null,null,null,null,null,null,null,null,null,null,null,null,null,null,null,null,null,null,null,null,null,null,null,null,null,null,null,null,null,null,null,null,null,null,null,null,null,null,null,null,null,null,null,null,null,null,null,"ATU_HH","RES_ABR_LTR"]
[null,2.2999999999999998,null,"-  Water transport",null,null,null,null,null,null,null,null,null,null,null,null,null,null,null,null,null,null,null,null,null,null,null,null,null,null,null,null,null,null,null,null,null,null,null,null,null,null,null,null,null,null,null,null,null,null,null,null,null,null,null,null,null,null,null,null,null,null,null,null,null,null,null,null,null,null,null,null,null,null,null,null,null,null,null,null,null,null,null,null,null,null,null,null,null,null,"ATU_HH","RES_ABR_WTR"]
[null,2.4,null,"-  Air transport",null,null,null,null,null,null,null,null,null,null,null,null,null,null,null,null,null,null,null,null,null,null,null,null,null,null,null,null,null,null,null,null,null,null,null,null,null,null,null,null,null,null,null,null,null,null,null,null,null,null,null,null,null,null,null,null,null,null,null,null,null,null,null,null,null,null,null,null,null,null,null,null,null,null,null,null,null,null,null,null,null,null,null,null,null,null,"ATU_HH","RES_ABR_ATR"]
[null,3,null,"plus Non-residents on the territory",null,null,null,null,null,null,null,null,null,null,null,null,null,null,null,null,null,null,null,null,null,null,null,null,null,null,null,null,null,null,null,null,null,null,null,null,null,null,null,null,null,null,null,null,null,null,null,null,null,null,null,null,null,null,null,null,null,null,null,null,null,null,null,null,null,null,null,null,null,null,null,null,null,null,null,null,null,null,null,null,null,null,null,null,null,null,"ATU_HH","TER_NRES"]
[null,3.1,null,"+  Land transport",null,null,null,null,null,null,null,null,null,null,null,null,null,null,null,null,null,null,null,null,null,null,null,null,null,null,null,null,null,null,null,null,null,null,null,null,null,null,null,null,null,null,null,null,null,null,null,null,null,null,null,null,null,null,null,null,null,null,null,null,null,null,null,null,null,null,null,null,null,null,null,null,null,null,null,null,null,null,null,null,null,null,null,null,null,null,"ATU_HH","TER_NRES_LTR"]
[null,3.2,null,"+ Water transport",null,null,null,null,null,null,null,null,null,null,null,null,null,null,null,null,null,null,null,null,null,null,null,null,null,null,null,null,null,null,null,null,null,null,null,null,null,null,null,null,null,null,null,null,null,null,null,null,null,null,null,null,null,null,null,null,null,null,null,null,null,null,null,null,null,null,null,null,null,null,null,null,null,null,null,null,null,null,null,null,null,null,null,null,null,null,"ATU_HH","TER_NRES_WTR"]
[null,3.3,null,"+  Air transport",null,null,null,null,null,null,null,null,null,null,null,null,null,null,null,null,null,null,null,null,null,null,null,null,null,null,null,null,null,null,null,null,null,null,null,null,null,null,null,null,null,null,null,null,null,null,null,null,null,null,null,null,null,null,null,null,null,null,null,null,null,null,null,null,null,null,null,null,null,null,null,null,null,null,null,null,null,null,null,null,null,null,null,null,null,null,"ATU_HH","TER_NRES_ATR"]
[null,4,null,"Other adjustments and statistical discrepancy",null,null,null,null,null,null,null,null,null,null,null,null,null,null,null,null,null,null,null,null,null,null,null,null,null,null,null,null,null,null,null,null,null,null,null,null,null,null,null,null,null,null,null,null,null,null,null,null,null,null,null,null,null,null,null,null,null,null,null,null,null,null,null,null,null,null,null,null,null,null,null,null,null,null,null,null,null,null,null,null,null,null,null,null,null,null,"ATU_HH","ADJ_SD"]
[null,5,null,"CO2 emissions from road transport (CRF 1.A.3.b), as reported to UNFCCC (Table 1s1)",null,null,null,null,null,null,null,null,null,null,null,null,null,null,null,null,null,null,null,null,null,null,null,null,null,null,null,null,null,null,null,null,null,null,null,null,null,null,null,null,null,null,null,null,null,null,null,null,null,null,null,null,null,null,null,null,null,null,null,null,null,null,null,null,null,null,null,null,null,null,null,null,null,null,null,null,null,null,null,null,null,null,null,null,null,null,"ATU_HH","TER"]
[null,null,null,"Year of submission to UNFCCC"]
[]
[null,"Explanatory notes for bridging items:"]
[null,1,"Total Air emissions accounts (industry (row 5) + households (row 91)) - residence principle"]
[]
[null,2.1,"Fishing vessels operated by resident units bunkering outside of the reporting country"]
[null,2.2000000000000002,"Land transport (incl. rail) by resident units fuelling outside of the reporting country"]
[null,2.2999999999999998,"Domestic navigation by resident units bunkering at ports outside of the reporting country and all international navigation by resident units"]
[null,2.4,"Domestic aviation by resident units bunkering at airports outside of the reporting country and all international aviation by resident units"]
[]
[null,3.1,"Land transport (incl. rail) by non-resident units fuelling on the territory of the reporting country"]
[null,3.2,"Domestic navigation by non-residents bunkering at ports of the reporting country"]
[null,3.3,"Domestic aviation by non-residents bunkering at airports of the reporting country"]
[]
[null,5,"National totals derived from UNFCCC inventories that include domestic aviation/navigation bunkering at airports/ports of the reporting country, while excluding international transport and LULUCF - territory principle"]

{"sheet":"Biomass CO2","index":13,"n_rows":121,"n_cols":98,"rows_kept":121,"cut":false,"hidden":false,"merged":[[0,96,2,96],[0,97,2,97],[0,90,2,90],[0,91,2,91],[0,92,2,92],[0,93,2,93],[0,94,2,94],[0,95,2,95],[103,3,103,4],[80,3,80,4],[81,3,81,4],[82,3,82,4],[83,3,83,4],[84,3,84,4],[73,3,73,4],[74,3,74,4],[75,3,75,4],[76,3,76,4],[77,3,77,4],[78,3,78,4],[67,3,67,4],[68,3,68,4],[69,3,69,4],[70,3,70,4],[104,3,104,4],[105,3,105,4],[106,3,106,4],[0,87,2,87],[0,89,2,89],[97,3,97,4],[98,3,98,4],[99,3,99,4],[100,3,100,4],[101,3,101,4],[102,3,102,4],[91,3,91,4],[92,3,92,4],[93,3,93,4],[94,1,94,4],[95,3,95,4],[96,3,96,4],[85,3,85,4],[86,3,86,4],[87,3,87,4],[88,3,88,4],[89,3,89,4],[90,1,90,4],[79,3,79,4],[71,3,71,4],[72,3,72,4],[61,3,61,4],[62,3,62,4],[63,3,63,4],[64,3,64,4],[65,3,65,4],[66,3,66,4],[55,3,55,4],[56,3,56,4],[57,3,57,4],[58,3,58,4],[59,3,59,4],[60,3,60,4],[49,3,49,4],[50,3,50,4],[51,3,51,4],[52,3,52,4],[53,3,53,4],[54,3,54,4],[43,3,43,4],[44,3,44,4],[45,3,45,4],[46,3,46,4],[47,3,47,4],[48,3,48,4],[37,3,37,4],[38,3,38,4],[39,3,39,4],[40,3,40,4],[41,3,41,4],[42,3,42,4],[31,3,31,4],[32,3,32,4],[33,3,33,4],[34,3,34,4],[35,3,35,4],[36,3,36,4],[25,3,25,4],[26,3,26,4],[27,3,27,4],[28,3,28,4],[29,3,29,4],[30,3,30,4],[19,3,19,4],[20,3,20,4],[21,3,21,4],[22,3,22,4],[23,3,23,4],[24,3,24,4],[0,5,2,6],[0,7,2,8],[0,9,2,10],[13,3,13,4],[14,3,14,4],[15,3,15,4],[16,3,16,4],[17,3,17,4],[18,3,18,4],[7,3,7,4],[8,3,8,4],[9,3,9,4],[10,3,10,4],[11,3,11,4],[12,3,12,4],[0,88,2,88],[0,11,2,12],[0,13,2,14],[2,47,2,48],[3,1,3,4],[4,1,4,2],[4,3,4,4],[5,3,5,4],[6,3,6,4],[0,27,2,28],[0,29,2,30],[0,31,2,32],[0,33,2,34],[0,35,2,36],[1,1,1,2],[2,1,2,2],[2,3,2,4],[0,15,2,16],[0,17,2,18],[0,19,2,20],[0,21,2,22],[0,23,2,24],[0,25,2,26],[0,1,0,2]]}
["DATAENTRY","Country:",null,{"$f":"intro!F7","v":""},null,null,null,null,null,null,null,null,null,null,null,null,null,null,null,null,null,null,null,null,null,null,null,null,null,null,null,null,null,null,null,null,null,null,null,null,null,null,null,null,null,null,null,null,null,null,null,null,null,null,null,null,null,null,null,null,null,null,null,null,null,null,null,null,null,null,null,null,null,null,null,null,null,null,null,null,null,null,null,null,null,null,null,"DEMAND_PROD","ACCOUNTING_ENTRY","COUNTERPART_AREA","INTERACTORS","BRIDGE_ITEM","AIRPOL","STO","UNIT_MEASURE","UNIT_MULT","PRODUCT","SECTOR"]
[null,"Air Pollutant",null,"CO2_BIO","Carbon Dioxide from biomass used as a fuel"]
["THS_T","Unit","Million National Currency","1000 tonnes (Gg)"]
[null,"Air emissions by industry",null,null,null,1995,null,1996,null,1997,null,1998,null,1999,null,2000,null,2001,null,2002,null,2003,null,2004,null,2005,null,2006,null,2007,null,2008,null,2009,null,2010,null,2011,null,2012,null,2013,null,2014,null,2015,null,2016,null,2017,null,2018,null,2019,null,2020,null,2021,null,2022,null,2023,null,2024]
[null,{"$f":"Parameters!Q4","v":"A_U   01-99"},null,{"$f":"Parameters!S4","v":"Total industries"},null,null,null,null,null,null,null,null,null,null,null,null,null,null,null,null,null,null,null,null,null,null,null,null,null,null,null,null,null,null,null,null,null,null,null,null,null,null,null,null,null,null,null,null,null,null,null,null,null,null,null,null,null,null,null,null,null,null,null,null,null,null,null,null,null,null,null,null,null,null,null,null,null,null,null,null,null,null,null,null,null,null,null,"P","EC","W2","ATU","RES","CO2_BIO","_Z","TN",3,"_T","S1"]
[null,{"$f":"Parameters!Q5","v":"A"},null,{"$f":"Parameters!S5","v":"Agriculture, forestry and fishing"},null,null,null,null,null,null,null,null,null,null,null,null,null,null,null,null,null,null,null,null,null,null,null,null,null,null,null,null,null,null,null,null,null,null,null,null,null,null,null,null,null,null,null,null,null,null,null,null,null,null,null,null,null,null,null,null,null,null,null,null,null,null,null,null,null,null,null,null,null,null,null,null,null,null,null,null,null,null,null,null,null,null,null,null,null,null,"A","RES"]
[null,{"$f":"Parameters!Q6","v":"A01"},null,{"$f":"Parameters!S6","v":"Crop and animal production, hunting and related service activities"},null,null,null,null,null,null,null,null,null,null,null,null,null,null,null,null,null,null,null,null,null,null,null,null,null,null,null,null,null,null,null,null,null,null,null,null,null,null,null,null,null,null,null,null,null,null,null,null,null,null,null,null,null,null,null,null,null,null,null,null,null,null,null,null,null,null,null,null,null,null,null,null,null,null,null,null,null,null,null,null,null,null,null,null,null,null,"A01","RES"]
[null,{"$f":"Parameters!Q7","v":"A02"},null,{"$f":"Parameters!S7","v":"Forestry and logging"},null,null,null,null,null,null,null,null,null,null,null,null,null,null,null,null,null,null,null,null,null,null,null,null,null,null,null,null,null,null,null,null,null,null,null,null,null,null,null,null,null,null,null,null,null,null,null,null,null,null,null,null,null,null,null,null,null,null,null,null,null,null,null,null,null,null,null,null,null,null,null,null,null,null,null,null,null,null,null,null,null,null,null,null,null,null,"A02","RES"]
[null,{"$f":"Parameters!Q8","v":"A03"},null,{"$f":"Parameters!S8","v":"Fishing and aquaculture"},null,null,null,null,null,null,null,null,null,null,null,null,null,null,null,null,null,null,null,null,null,null,null,null,null,null,null,null,null,null,null,null,null,null,null,null,null,null,null,null,null,null,null,null,null,null,null,null,null,null,null,null,null,null,null,null,null,null,null,null,null,null,null,null,null,null,null,null,null,null,null,null,null,null,null,null,null,null,null,null,null,null,null,null,null,null,"A03","RES"]
[null,{"$f":"Parameters!Q9","v":"B"},null,{"$f":"Parameters!S9","v":"Mining and quarrying"},null,null,null,null,null,null,null,null,null,null,null,null,null,null,null,null,null,null,null,null,null,null,null,null,null,null,null,null,null,null,null,null,null,null,null,null,null,null,null,null,null,null,null,null,null,null,null,null,null,null,null,null,null,null,null,null,null,null,null,null,null,null,null,null,null,null,null,null,null,null,null,null,null,null,null,null,null,null,null,null,null,null,null,null,null,null,"B","RES"]
[null,{"$f":"Parameters!Q10","v":"C"},null,{"$f":"Parameters!S10","v":"Manufacturing"},null,null,null,null,null,null,null,null,null,null,null,null,null,null,null,null,null,null,null,null,null,null,null,null,null,null,null,null,null,null,null,null,null,null,null,null,null,null,null,null,null,null,null,null,null,null,null,null,null,null,null,null,null,null,null,null,null,null,null,null,null,null,null,null,null,null,null,null,null,null,null,null,null,null,null,null,null,null,null,null,null,null,null,null,null,null,"C","RES"]
[null,{"$f":"Parameters!Q11","v":"C10-C12"},null,{"$f":"Parameters!S11","v":"Manufacture of food products, beverages and tobacco\nproducts"},null,null,null,null,null,null,null,null,null,null,null,null,null,null,null,null,null,null,null,null,null,null,null,null,null,null,null,null,null,null,null,null,null,null,null,null,null,null,null,null,null,null,null,null,null,null,null,null,null,null,null,null,null,null,null,null,null,null,null,null,null,null,null,null,null,null,null,null,null,null,null,null,null,null,null,null,null,null,null,null,null,null,null,null,null,null,"C10T12","RES"]
[null,{"$f":"Parameters!Q12","v":"C13-C15"},null,{"$f":"Parameters!S12","v":"Manufacture of textiles, wearing apparel and leather products"},null,null,null,null,null,null,null,null,null,null,null,null,null,null,null,null,null,null,null,null,null,null,null,null,null,null,null,null,null,null,null,null,null,null,null,null,null,null,null,null,null,null,null,null,null,null,null,null,null,null,null,null,null,null,null,null,null,null,null,null,null,null,null,null,null,null,null,null,null,null,null,null,null,null,null,null,null,null,null,null,null,null,null,null,null,null,"C13T15","RES"]
[null,{"$f":"Parameters!Q13","v":"C16-C18"},null,{"$f":"Parameters!S13","v":"Manufacture of wood, paper, printing and reproduction"}]
[null,{"$f":"Parameters!Q14","v":"C16"},null,{"$f":"Parameters!S14","v":"Manufacture of wood and of products of wood and cork, except furniture; manufacture of articles of straw and plaiting materials"},null,null,null,null,null,null,null,null,null,null,null,null,null,null,null,null,null,null,null,null,null,null,null,null,null,null,null,null,null,null,null,null,null,null,null,null,null,null,null,null,null,null,null,null,null,null,null,null,null,null,null,null,null,null,null,null,null,null,null,null,null,null,null,null,null,null,null,null,null,null,null,null,null,null,null,null,null,null,null,null,null,null,null,null,null,null,"C16","RES"]
[null,{"$f":"Parameters!Q15","v":"C17"},null,{"$f":"Parameters!S15","v":"Manufacture of paper and paper products"},null,null,null,null,null,null,null,null,null,null,null,null,null,null,null,null,null,null,null,null,null,null,null,null,null,null,null,null,null,null,null,null,null,null,null,null,null,null,null,null,null,null,null,null,null,null,null,null,null,null,null,null,null,null,null,null,null,null,null,null,null,null,null,null,null,null,null,null,null,null,null,null,null,null,null,null,null,null,null,null,null,null,null,null,null,null,"C17","RES"]
[null,{"$f":"Parameters!Q16","v":"C18"},null,{"$f":"Parameters!S16","v":"Printing and reproduction of recorded media"},null,null,null,null,null,null,null,null,null,null,null,null,null,null,null,null,null,null,null,null,null,null,null,null,null,null,null,null,null,null,null,null,null,null,null,null,null,null,null,null,null,null,null,null,null,null,null,null,null,null,null,null,null,null,null,null,null,null,null,null,null,null,null,null,null,null,null,null,null,null,null,null,null,null,null,null,null,null,null,null,null,null,null,null,null,null,"C18","RES"]
[null,{"$f":"Parameters!Q17","v":"C19"},null,{"$f":"Parameters!S17","v":"Manufacture of coke and refined petroleum products"},null,null,null,null,null,null,null,null,null,null,null,null,null,null,null,null,null,null,null,null,null,null,null,null,null,null,null,null,null,null,null,null,null,null,null,null,null,null,null,null,null,null,null,null,null,null,null,null,null,null,null,null,null,null,null,null,null,null,null,null,null,null,null,null,null,null,null,null,null,null,null,null,null,null,null,null,null,null,null,null,null,null,null,null,null,null,"C19","RES"]
[null,{"$f":"Parameters!Q18","v":"C20"},null,{"$f":"Parameters!S18","v":"Manufacture of chemicals and chemical products"},null,null,null,null,null,null,null,null,null,null,null,null,null,null,null,null,null,null,null,null,null,null,null,null,null,null,null,null,null,null,null,null,null,null,null,null,null,null,null,null,null,null,null,null,null,null,null,null,null,null,null,null,null,null,null,null,null,null,null,null,null,null,null,null,null,null,null,null,null,null,null,null,null,null,null,null,null,null,null,null,null,null,null,null,null,null,"C20","RES"]
[null,{"$f":"Parameters!Q19","v":"C21"},null,{"$f":"Parameters!S19","v":"Manufacture of basic pharmaceutical products and pharmaceutical preparations"},null,null,null,null,null,null,null,null,null,null,null,null,null,null,null,null,null,null,null,null,null,null,null,null,null,null,null,null,null,null,null,null,null,null,null,null,null,null,null,null,null,null,null,null,null,null,null,null,null,null,null,null,null,null,null,null,null,null,null,null,null,null,null,null,null,null,null,null,null,null,null,null,null,null,null,null,null,null,null,null,null,null,null,null,null,null,"C21","RES"]
[null,{"$f":"Parameters!Q20","v":"C22_C23"},null,{"$f":"Parameters!S20","v":"Manufacture of rubber and plastic products and other non-metallic mineral products"}]
[null,{"$f":"Parameters!Q21","v":"C22"},null,{"$f":"Parameters!S21","v":"Manufacture of rubber and plastic products"},null,null,null,null,null,null,null,null,null,null,null,null,null,null,null,null,null,null,null,null,null,null,null,null,null,null,null,null,null,null,null,null,null,null,null,null,null,null,null,null,null,null,null,null,null,null,null,null,null,null,null,null,null,null,null,null,null,null,null,null,null,null,null,null,null,null,null,null,null,null,null,null,null,null,null,null,null,null,null,null,null,null,null,null,null,null,"C22","RES"]
[null,{"$f":"Parameters!Q22","v":"C23"},null,{"$f":"Parameters!S22","v":"Manufacture of other non-metallic mineral products"},null,null,null,null,null,null,null,null,null,null,null,null,null,null,null,null,null,null,null,null,null,null,null,null,null,null,null,null,null,null,null,null,null,null,null,null,null,null,null,null,null,null,null,null,null,null,null,null,null,null,null,null,null,null,null,null,null,null,null,null,null,null,null,null,null,null,null,null,null,null,null,null,null,null,null,null,null,null,null,null,null,null,null,null,null,null,"C23","RES"]
[null,{"$f":"Parameters!Q23","v":"C24_C25"},null,{"$f":"Parameters!S23","v":"Manufacture of basic metals and fabricated metal products, except machinery and equipment"}]
[null,{"$f":"Parameters!Q24","v":"C24"},null,{"$f":"Parameters!S24","v":"Manufacture of basic metals"},null,null,null,null,null,null,null,null,null,null,null,null,null,null,null,null,null,null,null,null,null,null,null,null,null,null,null,null,null,null,null,null,null,null,null,null,null,null,null,null,null,null,null,null,null,null,null,null,null,null,null,null,null,null,null,null,null,null,null,null,null,null,null,null,null,null,null,null,null,null,null,null,null,null,null,null,null,null,null,null,null,null,null,null,null,null,"C24","RES"]
[null,{"$f":"Parameters!Q25","v":"C25"},null,{"$f":"Parameters!S25","v":"Manufacture of fabricated metal products, except machinery and equipment"},null,null,null,null,null,null,null,null,null,null,null,null,null,null,null,null,null,null,null,null,null,null,null,null,null,null,null,null,null,null,null,null,null,null,null,null,null,null,null,null,null,null,null,null,null,null,null,null,null,null,null,null,null,null,null,null,null,null,null,null,null,null,null,null,null,null,null,null,null,null,null,null,null,null,null,null,null,null,null,null,null,null,null,null,null,null,"C25","RES"]
[null,{"$f":"Parameters!Q26","v":"C26"},null,{"$f":"Parameters!S26","v":"Manufacture of computer, electronic and optical products"},null,null,null,null,null,null,null,null,null,null,null,null,null,null,null,null,null,null,null,null,null,null,null,null,null,null,null,null,null,null,null,null,null,null,null,null,null,null,null,null,null,null,null,null,null,null,null,null,null,null,null,null,null,null,null,null,null,null,null,null,null,null,null,null,null,null,null,null,null,null,null,null,null,null,null,null,null,null,null,null,null,null,null,null,null,null,"C26","RES"]
[null,{"$f":"Parameters!Q27","v":"C27"},null,{"$f":"Parameters!S27","v":"Manufacture of electrical equipment"},null,null,null,null,null,null,null,null,null,null,null,null,null,null,null,null,null,null,null,null,null,null,null,null,null,null,null,null,null,null,null,null,null,null,null,null,null,null,null,null,null,null,null,null,null,null,null,null,null,null,null,null,null,null,null,null,null,null,null,null,null,null,null,null,null,null,null,null,null,null,null,null,null,null,null,null,null,null,null,null,null,null,null,null,null,null,"C27","RES"]
[null,{"$f":"Parameters!Q28","v":"C28"},null,{"$f":"Parameters!S28","v":"Manufacture of machinery and equipment n.e.c."},null,null,null,null,null,null,null,null,null,null,null,null,null,null,null,null,null,null,null,null,null,null,null,null,null,null,null,null,null,null,null,null,null,null,null,null,null,null,null,null,null,null,null,null,null,null,null,null,null,null,null,null,null,null,null,null,null,null,null,null,null,null,null,null,null,null,null,null,null,null,null,null,null,null,null,null,null,null,null,null,null,null,null,null,null,null,"C28","RES"]
[null,{"$f":"Parameters!Q29","v":"C29_C30"},null,{"$f":"Parameters!S29","v":"Manufacture of motor vehicles, trailers, semi-trailers and of other transport equipment"}]
[null,{"$f":"Parameters!Q30","v":"C29"},null,{"$f":"Parameters!S30","v":"Manufacture of motor vehicles, trailers and semi-trailers"},null,null,null,null,null,null,null,null,null,null,null,null,null,null,null,null,null,null,null,null,null,null,null,null,null,null,null,null,null,null,null,null,null,null,null,null,null,null,null,null,null,null,null,null,null,null,null,null,null,null,null,null,null,null,null,null,null,null,null,null,null,null,null,null,null,null,null,null,null,null,null,null,null,null,null,null,null,null,null,null,null,null,null,null,null,null,"C29","RES"]
[null,{"$f":"Parameters!Q31","v":"C30"},null,{"$f":"Parameters!S31","v":"Manufacture of other transport equipment"},null,null,null,null,null,null,null,null,null,null,null,null,null,null,null,null,null,null,null,null,null,null,null,null,null,null,null,null,null,null,null,null,null,null,null,null,null,null,null,null,null,null,null,null,null,null,null,null,null,null,null,null,null,null,null,null,null,null,null,null,null,null,null,null,null,null,null,null,null,null,null,null,null,null,null,null,null,null,null,null,null,null,null,null,null,null,"C30","RES"]
[null,{"$f":"Parameters!Q32","v":"C31-C33"},null,{"$f":"Parameters!S32","v":"Manufacture of furniture; jewellery, musical instruments, toys; repair and installation of machinery and equipment"}]
[null,{"$f":"Parameters!Q33","v":"C31_C32"},null,{"$f":"Parameters!S33","v":"Manufacture of furniture; other manufacturing"},null,null,null,null,null,null,null,null,null,null,null,null,null,null,null,null,null,null,null,null,null,null,null,null,null,null,null,null,null,null,null,null,null,null,null,null,null,null,null,null,null,null,null,null,null,null,null,null,null,null,null,null,null,null,null,null,null,null,null,null,null,null,null,null,null,null,null,null,null,null,null,null,null,null,null,null,null,null,null,null,null,null,null,null,null,null,"C31_32","RES"]
[null,{"$f":"Parameters!Q34","v":"C33"},null,{"$f":"Parameters!S34","v":"Repair and installation of machinery and equipment"},null,null,null,null,null,null,null,null,null,null,null,null,null,null,null,null,null,null,null,null,null,null,null,null,null,null,null,null,null,null,null,null,null,null,null,null,null,null,null,null,null,null,null,null,null,null,null,null,null,null,null,null,null,null,null,null,null,null,null,null,null,null,null,null,null,null,null,null,null,null,null,null,null,null,null,null,null,null,null,null,null,null,null,null,null,null,"C33","RES"]
[null,{"$f":"Parameters!Q35","v":"D"},null,{"$f":"Parameters!S35","v":"Electricity, gas, steam and air conditioning supply"},null,null,null,null,null,null,null,null,null,null,null,null,null,null,null,null,null,null,null,null,null,null,null,null,null,null,null,null,null,null,null,null,null,null,null,null,null,null,null,null,null,null,null,null,null,null,null,null,null,null,null,null,null,null,null,null,null,null,null,null,null,null,null,null,null,null,null,null,null,null,null,null,null,null,null,null,null,null,null,null,null,null,null,null,null,null,"D","RES"]
[null,{"$f":"Parameters!Q36","v":"E"},null,{"$f":"Parameters!S36","v":"Water supply; sewerage, waste management and remediation activities"},null,null,null,null,null,null,null,null,null,null,null,null,null,null,null,null,null,null,null,null,null,null,null,null,null,null,null,null,null,null,null,null,null,null,null,null,null,null,null,null,null,null,null,null,null,null,null,null,null,null,null,null,null,null,null,null,null,null,null,null,null,null,null,null,null,null,null,null,null,null,null,null,null,null,null,null,null,null,null,null,null,null,null,null,null,null,"E","RES"]
[null,{"$f":"Parameters!Q37","v":"E36"},null,{"$f":"Parameters!S37","v":"Water collection, treatment and supply"},null,null,null,null,null,null,null,null,null,null,null,null,null,null,null,null,null,null,null,null,null,null,null,null,null,null,null,null,null,null,null,null,null,null,null,null,null,null,null,null,null,null,null,null,null,null,null,null,null,null,null,null,null,null,null,null,null,null,null,null,null,null,null,null,null,null,null,null,null,null,null,null,null,null,null,null,null,null,null,null,null,null,null,null,null,null,"E36","RES"]
[null,{"$f":"Parameters!Q38","v":"E37-E39"},null,{"$f":"Parameters!S38","v":"Sewerage, waste management, remediation activities"},null,null,null,null,null,null,null,null,null,null,null,null,null,null,null,null,null,null,null,null,null,null,null,null,null,null,null,null,null,null,null,null,null,null,null,null,null,null,null,null,null,null,null,null,null,null,null,null,null,null,null,null,null,null,null,null,null,null,null,null,null,null,null,null,null,null,null,null,null,null,null,null,null,null,null,null,null,null,null,null,null,null,null,null,null,null,"E37T39","RES"]
[null,{"$f":"Parameters!Q39","v":"F"},null,{"$f":"Parameters!S39","v":"Construction"},null,null,null,null,null,null,null,null,null,null,null,null,null,null,null,null,null,null,null,null,null,null,null,null,null,null,null,null,null,null,null,null,null,null,null,null,null,null,null,null,null,null,null,null,null,null,null,null,null,null,null,null,null,null,null,null,null,null,null,null,null,null,null,null,null,null,null,null,null,null,null,null,null,null,null,null,null,null,null,null,null,null,null,null,null,null,"F","RES"]
[null,{"$f":"Parameters!Q40","v":"G"},null,{"$f":"Parameters!S40","v":"Wholesale and retail trade; repair of motor vehicles and motorcycles"},null,null,null,null,null,null,null,null,null,null,null,null,null,null,null,null,null,null,null,null,null,null,null,null,null,null,null,null,null,null,null,null,null,null,null,null,null,null,null,null,null,null,null,null,null,null,null,null,null,null,null,null,null,null,null,null,null,null,null,null,null,null,null,null,null,null,null,null,null,null,null,null,null,null,null,null,null,null,null,null,null,null,null,null,null,null,"G","RES"]
[null,{"$f":"Parameters!Q41","v":"G45"},null,{"$f":"Parameters!S41","v":"Wholesale and retail trade and repair of motor vehicles and motorcycles"},null,null,null,null,null,null,null,null,null,null,null,null,null,null,null,null,null,null,null,null,null,null,null,null,null,null,null,null,null,null,null,null,null,null,null,null,null,null,null,null,null,null,null,null,null,null,null,null,null,null,null,null,null,null,null,null,null,null,null,null,null,null,null,null,null,null,null,null,null,null,null,null,null,null,null,null,null,null,null,null,null,null,null,null,null,null,"G45","RES"]
[null,{"$f":"Parameters!Q42","v":"G46"},null,{"$f":"Parameters!S42","v":"Wholesale trade, except of motor vehicles and motorcycles"},null,null,null,null,null,null,null,null,null,null,null,null,null,null,null,null,null,null,null,null,null,null,null,null,null,null,null,null,null,null,null,null,null,null,null,null,null,null,null,null,null,null,null,null,null,null,null,null,null,null,null,null,null,null,null,null,null,null,null,null,null,null,null,null,null,null,null,null,null,null,null,null,null,null,null,null,null,null,null,null,null,null,null,null,null,null,"G46","RES"]
[null,{"$f":"Parameters!Q43","v":"G47"},null,{"$f":"Parameters!S43","v":"Retail trade, except of motor vehicles and motorcycles"},null,null,null,null,null,null,null,null,null,null,null,null,null,null,null,null,null,null,null,null,null,null,null,null,null,null,null,null,null,null,null,null,null,null,null,null,null,null,null,null,null,null,null,null,null,null,null,null,null,null,null,null,null,null,null,null,null,null,null,null,null,null,null,null,null,null,null,null,null,null,null,null,null,null,null,null,null,null,null,null,null,null,null,null,null,null,"G47","RES"]
[null,{"$f":"Parameters!Q44","v":"H"},null,{"$f":"Parameters!S44","v":"Transportation and storage"},null,null,null,null,null,null,null,null,null,null,null,null,null,null,null,null,null,null,null,null,null,null,null,null,null,null,null,null,null,null,null,null,null,null,null,null,null,null,null,null,null,null,null,null,null,null,null,null,null,null,null,null,null,null,null,null,null,null,null,null,null,null,null,null,null,null,null,null,null,null,null,null,null,null,null,null,null,null,null,null,null,null,null,null,null,null,"H","RES"]
[null,{"$f":"Parameters!Q45","v":"H49"},null,{"$f":"Parameters!S45","v":"Land transport and transport via pipelines"},null,null,null,null,null,null,null,null,null,null,null,null,null,null,null,null,null,null,null,null,null,null,null,null,null,null,null,null,null,null,null,null,null,null,null,null,null,null,null,null,null,null,null,null,null,null,null,null,null,null,null,null,null,null,null,null,null,null,null,null,null,null,null,null,null,null,null,null,null,null,null,null,null,null,null,null,null,null,null,null,null,null,null,null,null,null,"H49","RES"]
[null,{"$f":"Parameters!Q46","v":"H50"},null,{"$f":"Parameters!S46","v":"Water transport"},null,null,null,null,null,null,null,null,null,null,null,null,null,null,null,null,null,null,null,null,null,null,null,null,null,null,null,null,null,null,null,null,null,null,null,null,null,null,null,null,null,null,null,null,null,null,null,null,null,null,null,null,null,null,null,null,null,null,null,null,null,null,null,null,null,null,null,null,null,null,null,null,null,null,null,null,null,null,null,null,null,null,null,null,null,null,"H50","RES"]
[null,{"$f":"Parameters!Q47","v":"H51"},null,{"$f":"Parameters!S47","v":"Air transport"},null,null,null,null,null,null,null,null,null,null,null,null,null,null,null,null,null,null,null,null,null,null,null,null,null,null,null,null,null,null,null,null,null,null,null,null,null,null,null,null,null,null,null,null,null,null,null,null,null,null,null,null,null,null,null,null,null,null,null,null,null,null,null,null,null,null,null,null,null,null,null,null,null,null,null,null,null,null,null,null,null,null,null,null,null,null,"H51","RES"]
[null,{"$f":"Parameters!Q48","v":"H52"},null,{"$f":"Parameters!S48","v":"Warehousing and support activities for transportation"},null,null,null,null,null,null,null,null,null,null,null,null,null,null,null,null,null,null,null,null,null,null,null,null,null,null,null,null,null,null,null,null,null,null,null,null,null,null,null,null,null,null,null,null,null,null,null,null,null,null,null,null,null,null,null,null,null,null,null,null,null,null,null,null,null,null,null,null,null,null,null,null,null,null,null,null,null,null,null,null,null,null,null,null,null,null,"H52","RES"]
[null,{"$f":"Parameters!Q49","v":"H53"},null,{"$f":"Parameters!S49","v":"Postal and courier activities"},null,null,null,null,null,null,null,null,null,null,null,null,null,null,null,null,null,null,null,null,null,null,null,null,null,null,null,null,null,null,null,null,null,null,null,null,null,null,null,null,null,null,null,null,null,null,null,null,null,null,null,null,null,null,null,null,null,null,null,null,null,null,null,null,null,null,null,null,null,null,null,null,null,null,null,null,null,null,null,null,null,null,null,null,null,null,"H53","RES"]
[null,{"$f":"Parameters!Q50","v":"I"},null,{"$f":"Parameters!S50","v":"Accommodation and food service activities"},null,null,null,null,null,null,null,null,null,null,null,null,null,null,null,null,null,null,null,null,null,null,null,null,null,null,null,null,null,null,null,null,null,null,null,null,null,null,null,null,null,null,null,null,null,null,null,null,null,null,null,null,null,null,null,null,null,null,null,null,null,null,null,null,null,null,null,null,null,null,null,null,null,null,null,null,null,null,null,null,null,null,null,null,null,null,"I","RES"]
[null,{"$f":"Parameters!Q51","v":"J"},null,{"$f":"Parameters!S51","v":"Information and communication"},null,null,null,null,null,null,null,null,null,null,null,null,null,null,null,null,null,null,null,null,null,null,null,null,null,null,null,null,null,null,null,null,null,null,null,null,null,null,null,null,null,null,null,null,null,null,null,null,null,null,null,null,null,null,null,null,null,null,null,null,null,null,null,null,null,null,null,null,null,null,null,null,null,null,null,null,null,null,null,null,null,null,null,null,null,null,"J","RES"]
[null,{"$f":"Parameters!Q52","v":"J58-J60"},null,{"$f":"Parameters!S52","v":"Publishing, motion picture, video, television programme production; sound recording, programming and broadcasting activities"}]
[null,{"$f":"Parameters!Q53","v":"J58"},null,{"$f":"Parameters!S53","v":"Publishing activities"},null,null,null,null,null,null,null,null,null,null,null,null,null,null,null,null,null,null,null,null,null,null,null,null,null,null,null,null,null,null,null,null,null,null,null,null,null,null,null,null,null,null,null,null,null,null,null,null,null,null,null,null,null,null,null,null,null,null,null,null,null,null,null,null,null,null,null,null,null,null,null,null,null,null,null,null,null,null,null,null,null,null,null,null,null,null,"J58","RES"]
[null,{"$f":"Parameters!Q54","v":"J59_J60"},null,{"$f":"Parameters!S54","v":"Motion picture, video, television programme production; programming and broadcasting activities"},null,null,null,null,null,null,null,null,null,null,null,null,null,null,null,null,null,null,null,null,null,null,null,null,null,null,null,null,null,null,null,null,null,null,null,null,null,null,null,null,null,null,null,null,null,null,null,null,null,null,null,null,null,null,null,null,null,null,null,null,null,null,null,null,null,null,null,null,null,null,null,null,null,null,null,null,null,null,null,null,null,null,null,null,null,null,"J59_60","RES"]
[null,{"$f":"Parameters!Q55","v":"J61"},null,{"$f":"Parameters!S55","v":"Telecommunications"},null,null,null,null,null,null,null,null,null,null,null,null,null,null,null,null,null,null,null,null,null,null,null,null,null,null,null,null,null,null,null,null,null,null,null,null,null,null,null,null,null,null,null,null,null,null,null,null,null,null,null,null,null,null,null,null,null,null,null,null,null,null,null,null,null,null,null,null,null,null,null,null,null,null,null,null,null,null,null,null,null,null,null,null,null,null,"J61","RES"]
[null,{"$f":"Parameters!Q56","v":"J62_J63"},null,{"$f":"Parameters!S56","v":"Computer programming, consultancy, and information service activities"},null,null,null,null,null,null,null,null,null,null,null,null,null,null,null,null,null,null,null,null,null,null,null,null,null,null,null,null,null,null,null,null,null,null,null,null,null,null,null,null,null,null,null,null,null,null,null,null,null,null,null,null,null,null,null,null,null,null,null,null,null,null,null,null,null,null,null,null,null,null,null,null,null,null,null,null,null,null,null,null,null,null,null,null,null,null,"J62_63","RES"]
[null,{"$f":"Parameters!Q57","v":"K"},null,{"$f":"Parameters!S57","v":"Financial and insurance activities"},null,null,null,null,null,null,null,null,null,null,null,null,null,null,null,null,null,null,null,null,null,null,null,null,null,null,null,null,null,null,null,null,null,null,null,null,null,null,null,null,null,null,null,null,null,null,null,null,null,null,null,null,null,null,null,null,null,null,null,null,null,null,null,null,null,null,null,null,null,null,null,null,null,null,null,null,null,null,null,null,null,null,null,null,null,null,"K","RES"]
[null,{"$f":"Parameters!Q58","v":"K64"},null,{"$f":"Parameters!S58","v":"Financial service activities, except insurance and pension funding"},null,null,null,null,null,null,null,null,null,null,null,null,null,null,null,null,null,null,null,null,null,null,null,null,null,null,null,null,null,null,null,null,null,null,null,null,null,null,null,null,null,null,null,null,null,null,null,null,null,null,null,null,null,null,null,null,null,null,null,null,null,null,null,null,null,null,null,null,null,null,null,null,null,null,null,null,null,null,null,null,null,null,null,null,null,null,"K64","RES"]
[null,{"$f":"Parameters!Q59","v":"K65"},null,{"$f":"Parameters!S59","v":"Insurance, reinsurance and pension funding, except compulsory social security"},null,null,null,null,null,null,null,null,null,null,null,null,null,null,null,null,null,null,null,null,null,null,null,null,null,null,null,null,null,null,null,null,null,null,null,null,null,null,null,null,null,null,null,null,null,null,null,null,null,null,null,null,null,null,null,null,null,null,null,null,null,null,null,null,null,null,null,null,null,null,null,null,null,null,null,null,null,null,null,null,null,null,null,null,null,null,"K65","RES"]
[null,{"$f":"Parameters!Q60","v":"K66"},null,{"$f":"Parameters!S60","v":"Activities auxiliary to financial services and insurance activities"},null,null,null,null,null,null,null,null,null,null,null,null,null,null,null,null,null,null,null,null,null,null,null,null,null,null,null,null,null,null,null,null,null,null,null,null,null,null,null,null,null,null,null,null,null,null,null,null,null,null,null,null,null,null,null,null,null,null,null,null,null,null,null,null,null,null,null,null,null,null,null,null,null,null,null,null,null,null,null,null,null,null,null,null,null,null,"K66","RES"]
[null,{"$f":"Parameters!Q61","v":"L"},null,{"$f":"Parameters!S61","v":"Real estate activities"},null,null,null,null,null,null,null,null,null,null,null,null,null,null,null,null,null,null,null,null,null,null,null,null,null,null,null,null,null,null,null,null,null,null,null,null,null,null,null,null,null,null,null,null,null,null,null,null,null,null,null,null,null,null,null,null,null,null,null,null,null,null,null,null,null,null,null,null,null,null,null,null,null,null,null,null,null,null,null,null,null,null,null,null,null,null,"L","RES"]
[null,{"$f":"Parameters!Q62","v":"L68A"},null,{"$f":"Parameters!S62","v":"Imputed rents of owner-occupied dwellings"},null,null,null,null,null,null,null,null,null,null,null,null,null,null,null,null,null,null,null,null,null,null,null,null,null,null,null,null,null,null,null,null,null,null,null,null,null,null,null,null,null,null,null,null,null,null,null,null,null,null,null,null,null,null,null,null,null,null,null,null,null,null,null,null,null,null,null,null,null,null,null,null,null,null,null,null,null,null,null,null,null,null,null,null,null,null,"L68A","RES"]
[null,{"$f":"Parameters!Q63","v":"M"},null,{"$f":"Parameters!S63","v":"Professional, scientific and technical activities"},null,null,null,null,null,null,null,null,null,null,null,null,null,null,null,null,null,null,null,null,null,null,null,null,null,null,null,null,null,null,null,null,null,null,null,null,null,null,null,null,null,null,null,null,null,null,null,null,null,null,null,null,null,null,null,null,null,null,null,null,null,null,null,null,null,null,null,null,null,null,null,null,null,null,null,null,null,null,null,null,null,null,null,null,null,null,"M","RES"]
[null,{"$f":"Parameters!Q64","v":"M69-M71"},null,{"$f":"Parameters!S64","v":"Legal and accounting activities; activities of head offices; management consultancy activities; architectural and engineering activities; technical testing and analysis"}]
[null,{"$f":"Parameters!Q65","v":"M69_M70"},null,{"$f":"Parameters!S65","v":"Legal and accounting activities; activities of head offices; management consultancy activities"},null,null,null,null,null,null,null,null,null,null,null,null,null,null,null,null,null,null,null,null,null,null,null,null,null,null,null,null,null,null,null,null,null,null,null,null,null,null,null,null,null,null,null,null,null,null,null,null,null,null,null,null,null,null,null,null,null,null,null,null,null,null,null,null,null,null,null,null,null,null,null,null,null,null,null,null,null,null,null,null,null,null,null,null,null,null,"M69_70","RES"]
[null,{"$f":"Parameters!Q66","v":"M71"},null,{"$f":"Parameters!S66","v":"Architectural and engineering activities; technical testing and analysis"},null,null,null,null,null,null,null,null,null,null,null,null,null,null,null,null,null,null,null,null,null,null,null,null,null,null,null,null,null,null,null,null,null,null,null,null,null,null,null,null,null,null,null,null,null,null,null,null,null,null,null,null,null,null,null,null,null,null,null,null,null,null,null,null,null,null,null,null,null,null,null,null,null,null,null,null,null,null,null,null,null,null,null,null,null,null,"M71","RES"]
[null,{"$f":"Parameters!Q67","v":"M72"},null,{"$f":"Parameters!S67","v":"Scientific research and development"},null,null,null,null,null,null,null,null,null,null,null,null,null,null,null,null,null,null,null,null,null,null,null,null,null,null,null,null,null,null,null,null,null,null,null,null,null,null,null,null,null,null,null,null,null,null,null,null,null,null,null,null,null,null,null,null,null,null,null,null,null,null,null,null,null,null,null,null,null,null,null,null,null,null,null,null,null,null,null,null,null,null,null,null,null,null,"M72","RES"]
[null,{"$f":"Parameters!Q68","v":"M73-M75"},null,{"$f":"Parameters!S68","v":"Advertising and market research; other professional, scientific and technical activities; veterinary activities"}]
[null,{"$f":"Parameters!Q69","v":"M73"},null,{"$f":"Parameters!S69","v":"Advertising and market research"},null,null,null,null,null,null,null,null,null,null,null,null,null,null,null,null,null,null,null,null,null,null,null,null,null,null,null,null,null,null,null,null,null,null,null,null,null,null,null,null,null,null,null,null,null,null,null,null,null,null,null,null,null,null,null,null,null,null,null,null,null,null,null,null,null,null,null,null,null,null,null,null,null,null,null,null,null,null,null,null,null,null,null,null,null,null,"M73","RES"]
[null,{"$f":"Parameters!Q70","v":"M74_M75"},null,{"$f":"Parameters!S70","v":"Other professional, scientific and technical activities; veterinary activities"},null,null,null,null,null,null,null,null,null,null,null,null,null,null,null,null,null,null,null,null,null,null,null,null,null,null,null,null,null,null,null,null,null,null,null,null,null,null,null,null,null,null,null,null,null,null,null,null,null,null,null,null,null,null,null,null,null,null,null,null,null,null,null,null,null,null,null,null,null,null,null,null,null,null,null,null,null,null,null,null,null,null,null,null,null,null,"M74_75","RES"]
[null,{"$f":"Parameters!Q71","v":"N"},null,{"$f":"Parameters!S71","v":"Administrative and support service activities"},null,null,null,null,null,null,null,null,null,null,null,null,null,null,null,null,null,null,null,null,null,null,null,null,null,null,null,null,null,null,null,null,null,null,null,null,null,null,null,null,null,null,null,null,null,null,null,null,null,null,null,null,null,null,null,null,null,null,null,null,null,null,null,null,null,null,null,null,null,null,null,null,null,null,null,null,null,null,null,null,null,null,null,null,null,null,"N","RES"]
[null,{"$f":"Parameters!Q72","v":"N77"},null,{"$f":"Parameters!S72","v":"Rental and leasing activities"},null,null,null,null,null,null,null,null,null,null,null,null,null,null,null,null,null,null,null,null,null,null,null,null,null,null,null,null,null,null,null,null,null,null,null,null,null,null,null,null,null,null,null,null,null,null,null,null,null,null,null,null,null,null,null,null,null,null,null,null,null,null,null,null,null,null,null,null,null,null,null,null,null,null,null,null,null,null,null,null,null,null,null,null,null,null,"N77","RES"]
[null,{"$f":"Parameters!Q73","v":"N78"},null,{"$f":"Parameters!S73","v":"Employment activities"},null,null,null,null,null,null,null,null,null,null,null,null,null,null,null,null,null,null,null,null,null,null,null,null,null,null,null,null,null,null,null,null,null,null,null,null,null,null,null,null,null,null,null,null,null,null,null,null,null,null,null,null,null,null,null,null,null,null,null,null,null,null,null,null,null,null,null,null,null,null,null,null,null,null,null,null,null,null,null,null,null,null,null,null,null,null,"N78","RES"]
[null,{"$f":"Parameters!Q74","v":"N79"},null,{"$f":"Parameters!S74","v":"Travel agency, tour operator reservation service and related activities"},null,null,null,null,null,null,null,null,null,null,null,null,null,null,null,null,null,null,null,null,null,null,null,null,null,null,null,null,null,null,null,null,null,null,null,null,null,null,null,null,null,null,null,null,null,null,null,null,null,null,null,null,null,null,null,null,null,null,null,null,null,null,null,null,null,null,null,null,null,null,null,null,null,null,null,null,null,null,null,null,null,null,null,null,null,null,"N79","RES"]
[null,{"$f":"Parameters!Q75","v":"N80-N82"},null,{"$f":"Parameters!S75","v":"Security and investigation, service and landscape, office administrative and support activities"},null,null,null,null,null,null,null,null,null,null,null,null,null,null,null,null,null,null,null,null,null,null,null,null,null,null,null,null,null,null,null,null,null,null,null,null,null,null,null,null,null,null,null,null,null,null,null,null,null,null,null,null,null,null,null,null,null,null,null,null,null,null,null,null,null,null,null,null,null,null,null,null,null,null,null,null,null,null,null,null,null,null,null,null,null,null,"N80T82","RES"]
[null,{"$f":"Parameters!Q76","v":"O"},null,{"$f":"Parameters!S76","v":"Public administration and defence; compulsory social security"},null,null,null,null,null,null,null,null,null,null,null,null,null,null,null,null,null,null,null,null,null,null,null,null,null,null,null,null,null,null,null,null,null,null,null,null,null,null,null,null,null,null,null,null,null,null,null,null,null,null,null,null,null,null,null,null,null,null,null,null,null,null,null,null,null,null,null,null,null,null,null,null,null,null,null,null,null,null,null,null,null,null,null,null,null,null,"O","RES"]
[null,{"$f":"Parameters!Q77","v":"P"},null,{"$f":"Parameters!S77","v":"Education"},null,null,null,null,null,null,null,null,null,null,null,null,null,null,null,null,null,null,null,null,null,null,null,null,null,null,null,null,null,null,null,null,null,null,null,null,null,null,null,null,null,null,null,null,null,null,null,null,null,null,null,null,null,null,null,null,null,null,null,null,null,null,null,null,null,null,null,null,null,null,null,null,null,null,null,null,null,null,null,null,null,null,null,null,null,null,"P","RES"]
[null,{"$f":"Parameters!Q78","v":"Q"},null,{"$f":"Parameters!S78","v":"Human health and social work activities"},null,null,null,null,null,null,null,null,null,null,null,null,null,null,null,null,null,null,null,null,null,null,null,null,null,null,null,null,null,null,null,null,null,null,null,null,null,null,null,null,null,null,null,null,null,null,null,null,null,null,null,null,null,null,null,null,null,null,null,null,null,null,null,null,null,null,null,null,null,null,null,null,null,null,null,null,null,null,null,null,null,null,null,null,null,null,"Q","RES"]
[null,{"$f":"Parameters!Q79","v":"Q86"},null,{"$f":"Parameters!S79","v":"Human health activities"},null,null,null,null,null,null,null,null,null,null,null,null,null,null,null,null,null,null,null,null,null,null,null,null,null,null,null,null,null,null,null,null,null,null,null,null,null,null,null,null,null,null,null,null,null,null,null,null,null,null,null,null,null,null,null,null,null,null,null,null,null,null,null,null,null,null,null,null,null,null,null,null,null,null,null,null,null,null,null,null,null,null,null,null,null,null,"Q86","RES"]
[null,{"$f":"Parameters!Q80","v":"Q87_Q88"},null,{"$f":"Parameters!S80","v":"Residential care activities and social work activities without accommodation"},null,null,null,null,null,null,null,null,null,null,null,null,null,null,null,null,null,null,null,null,null,null,null,null,null,null,null,null,null,null,null,null,null,null,null,null,null,null,null,null,null,null,null,null,null,null,null,null,null,null,null,null,null,null,null,null,null,null,null,null,null,null,null,null,null,null,null,null,null,null,null,null,null,null,null,null,null,null,null,null,null,null,null,null,null,null,"Q87_88","RES"]
[null,{"$f":"Parameters!Q81","v":"R"},null,{"$f":"Parameters!S81","v":"Arts, entertainment and recreation"},null,null,null,null,null,null,null,null,null,null,null,null,null,null,null,null,null,null,null,null,null,null,null,null,null,null,null,null,null,null,null,null,null,null,null,null,null,null,null,null,null,null,null,null,null,null,null,null,null,null,null,null,null,null,null,null,null,null,null,null,null,null,null,null,null,null,null,null,null,null,null,null,null,null,null,null,null,null,null,null,null,null,null,null,null,null,"R","RES"]
[null,{"$f":"Parameters!Q82","v":"R90-R92"},null,{"$f":"Parameters!S82","v":"Creative, arts and entertainment activities; libraries, archives, museums and other cultural activities; gambling and betting activities"},null,null,null,null,null,null,null,null,null,null,null,null,null,null,null,null,null,null,null,null,null,null,null,null,null,null,null,null,null,null,null,null,null,null,null,null,null,null,null,null,null,null,null,null,null,null,null,null,null,null,null,null,null,null,null,null,null,null,null,null,null,null,null,null,null,null,null,null,null,null,null,null,null,null,null,null,null,null,null,null,null,null,null,null,null,null,"R90T92","RES"]
[null,{"$f":"Parameters!Q83","v":"R93"},null,{"$f":"Parameters!S83","v":"Sports activities and amusement and recreation activities"},null,null,null,null,null,null,null,null,null,null,null,null,null,null,null,null,null,null,null,null,null,null,null,null,null,null,null,null,null,null,null,null,null,null,null,null,null,null,null,null,null,null,null,null,null,null,null,null,null,null,null,null,null,null,null,null,null,null,null,null,null,null,null,null,null,null,null,null,null,null,null,null,null,null,null,null,null,null,null,null,null,null,null,null,null,null,"R93","RES"]
[null,{"$f":"Parameters!Q84","v":"S"},null,{"$f":"Parameters!S84","v":"Other service activities"},null,null,null,null,null,null,null,null,null,null,null,null,null,null,null,null,null,null,null,null,null,null,null,null,null,null,null,null,null,null,null,null,null,null,null,null,null,null,null,null,null,null,null,null,null,null,null,null,null,null,null,null,null,null,null,null,null,null,null,null,null,null,null,null,null,null,null,null,null,null,null,null,null,null,null,null,null,null,null,null,null,null,null,null,null,null,"S","RES"]
[null,{"$f":"Parameters!Q85","v":"S94"},null,{"$f":"Parameters!S85","v":"Activities of membership organisations"},null,null,null,null,null,null,null,null,null,null,null,null,null,null,null,null,null,null,null,null,null,null,null,null,null,null,null,null,null,null,null,null,null,null,null,null,null,null,null,null,null,null,null,null,null,null,null,null,null,null,null,null,null,null,null,null,null,null,null,null,null,null,null,null,null,null,null,null,null,null,null,null,null,null,null,null,null,null,null,null,null,null,null,null,null,null,"S94","RES"]
[null,{"$f":"Parameters!Q86","v":"S95"},null,{"$f":"Parameters!S86","v":"Repair of computers and personal and household goods"},null,null,null,null,null,null,null,null,null,null,null,null,null,null,null,null,null,null,null,null,null,null,null,null,null,null,null,null,null,null,null,null,null,null,null,null,null,null,null,null,null,null,null,null,null,null,null,null,null,null,null,null,null,null,null,null,null,null,null,null,null,null,null,null,null,null,null,null,null,null,null,null,null,null,null,null,null,null,null,null,null,null,null,null,null,null,"S95","RES"]
[null,{"$f":"Parameters!Q87","v":"S96"},null,{"$f":"Parameters!S87","v":"Other personal service activities"},null,null,null,null,null,null,null,null,null,null,null,null,null,null,null,null,null,null,null,null,null,null,null,null,null,null,null,null,null,null,null,null,null,null,null,null,null,null,null,null,null,null,null,null,null,null,null,null,null,null,null,null,null,null,null,null,null,null,null,null,null,null,null,null,null,null,null,null,null,null,null,null,null,null,null,null,null,null,null,null,null,null,null,null,null,null,"S96","RES"]
[null,{"$f":"Parameters!Q88","v":"T"},null,{"$f":"Parameters!S88","v":"Activities of households as employers; undifferentiated goods- and services-producing activities of households for own use"},null,null,null,null,null,null,null,null,null,null,null,null,null,null,null,null,null,null,null,null,null,null,null,null,null,null,null,null,null,null,null,null,null,null,null,null,null,null,null,null,null,null,null,null,null,null,null,null,null,null,null,null,null,null,null,null,null,null,null,null,null,null,null,null,null,null,null,null,null,null,null,null,null,null,null,null,null,null,null,null,null,null,null,null,null,null,"T","RES"]
[null,{"$f":"Parameters!Q89","v":"U"},null,{"$f":"Parameters!S89","v":"Activities of extraterritorial organisations and bodies"},null,null,null,null,null,null,null,null,null,null,null,null,null,null,null,null,null,null,null,null,null,null,null,null,null,null,null,null,null,null,null,null,null,null,null,null,null,null,null,null,null,null,null,null,null,null,null,null,null,null,null,null,null,null,null,null,null,null,null,null,null,null,null,null,null,null,null,null,null,null,null,null,null,null,null,null,null,null,null,null,null,null,null,null,null,null,"U","RES"]
[null,"   Household air emissions\n                                          Households, totals",null,null,null,null,null,null,null,null,null,null,null,null,null,null,null,null,null,null,null,null,null,null,null,null,null,null,null,null,null,null,null,null,null,null,null,null,null,null,null,null,null,null,null,null,null,null,null,null,null,null,null,null,null,null,null,null,null,null,null,null,null,null,null,null,null,null,null,null,null,null,null,null,null,null,null,null,null,null,null,null,null,null,null,null,null,null,null,null,"HH","RES"]
[null,null,null,"- Transport",null,null,null,null,null,null,null,null,null,null,null,null,null,null,null,null,null,null,null,null,null,null,null,null,null,null,null,null,null,null,null,null,null,null,null,null,null,null,null,null,null,null,null,null,null,null,null,null,null,null,null,null,null,null,null,null,null,null,null,null,null,null,null,null,null,null,null,null,null,null,null,null,null,null,null,null,null,null,null,null,null,null,null,null,null,null,"HH_TR","RES"]
[null,null,null,"- Heating/cooling",null,null,null,null,null,null,null,null,null,null,null,null,null,null,null,null,null,null,null,null,null,null,null,null,null,null,null,null,null,null,null,null,null,null,null,null,null,null,null,null,null,null,null,null,null,null,null,null,null,null,null,null,null,null,null,null,null,null,null,null,null,null,null,null,null,null,null,null,null,null,null,null,null,null,null,null,null,null,null,null,null,null,null,null,null,null,"HH_HEAT","RES"]
[null,null,null,"- Other",null,null,null,null,null,null,null,null,null,null,null,null,null,null,null,null,null,null,null,null,null,null,null,null,null,null,null,null,null,null,null,null,null,null,null,null,null,null,null,null,null,null,null,null,null,null,null,null,null,null,null,null,null,null,null,null,null,null,null,null,null,null,null,null,null,null,null,null,null,null,null,null,null,null,null,null,null,null,null,null,null,null,null,null,null,null,"HH_OTH","RES"]
[null,"   Bridging items\n\n1                              Total Air emissions accounts (industry (row 5) + households (row 91))",null,null,null,null,null,null,null,null,null,null,null,null,null,null,null,null,null,null,null,null,null,null,null,null,null,null,null,null,null,null,null,null,null,null,null,null,null,null,null,null,null,null,null,null,null,null,null,null,null,null,null,null,null,null,null,null,null,null,null,null,null,null,null,null,null,null,null,null,null,null,null,null,null,null,null,null,null,null,null,null,null,null,null,null,null,null,null,null,"ATU_HH","RES"]
[null,2,null,"less National residents abroad",null,null,null,null,null,null,null,null,null,null,null,null,null,null,null,null,null,null,null,null,null,null,null,null,null,null,null,null,null,null,null,null,null,null,null,null,null,null,null,null,null,null,null,null,null,null,null,null,null,null,null,null,null,null,null,null,null,null,null,null,null,null,null,null,null,null,null,null,null,null,null,null,null,null,null,null,null,null,null,null,null,null,null,null,null,null,"ATU_HH","RES_ABR"]
[null,2.1,null,"-  National fishing vessels operating abroad",null,null,null,null,null,null,null,null,null,null,null,null,null,null,null,null,null,null,null,null,null,null,null,null,null,null,null,null,null,null,null,null,null,null,null,null,null,null,null,null,null,null,null,null,null,null,null,null,null,null,null,null,null,null,null,null,null,null,null,null,null,null,null,null,null,null,null,null,null,null,null,null,null,null,null,null,null,null,null,null,null,null,null,null,null,null,"ATU_HH","RES_ABR_FWTR"]
[null,2.2000000000000002,null,"-  Land transport",null,null,null,null,null,null,null,null,null,null,null,null,null,null,null,null,null,null,null,null,null,null,null,null,null,null,null,null,null,null,null,null,null,null,null,null,null,null,null,null,null,null,null,null,null,null,null,null,null,null,null,null,null,null,null,null,null,null,null,null,null,null,null,null,null,null,null,null,null,null,null,null,null,null,null,null,null,null,null,null,null,null,null,null,null,null,"ATU_HH","RES_ABR_LTR"]
[null,2.2999999999999998,null,"-  Water transport",null,null,null,null,null,null,null,null,null,null,null,null,null,null,null,null,null,null,null,null,null,null,null,null,null,null,null,null,null,null,null,null,null,null,null,null,null,null,null,null,null,null,null,null,null,null,null,null,null,null,null,null,null,null,null,null,null,null,null,null,null,null,null,null,null,null,null,null,null,null,null,null,null,null,null,null,null,null,null,null,null,null,null,null,null,null,"ATU_HH","RES_ABR_WTR"]
[null,2.4,null,"-  Air transport",null,null,null,null,null,null,null,null,null,null,null,null,null,null,null,null,null,null,null,null,null,null,null,null,null,null,null,null,null,null,null,null,null,null,null,null,null,null,null,null,null,null,null,null,null,null,null,null,null,null,null,null,null,null,null,null,null,null,null,null,null,null,null,null,null,null,null,null,null,null,null,null,null,null,null,null,null,null,null,null,null,null,null,null,null,null,"ATU_HH","RES_ABR_ATR"]
[null,3,null,"plus Non-residents on the territory",null,null,null,null,null,null,null,null,null,null,null,null,null,null,null,null,null,null,null,null,null,null,null,null,null,null,null,null,null,null,null,null,null,null,null,null,null,null,null,null,null,null,null,null,null,null,null,null,null,null,null,null,null,null,null,null,null,null,null,null,null,null,null,null,null,null,null,null,null,null,null,null,null,null,null,null,null,null,null,null,null,null,null,null,null,null,"ATU_HH","TER_NRES"]
[null,3.1,null,"+  Land transport",null,null,null,null,null,null,null,null,null,null,null,null,null,null,null,null,null,null,null,null,null,null,null,null,null,null,null,null,null,null,null,null,null,null,null,null,null,null,null,null,null,null,null,null,null,null,null,null,null,null,null,null,null,null,null,null,null,null,null,null,null,null,null,null,null,null,null,null,null,null,null,null,null,null,null,null,null,null,null,null,null,null,null,null,null,null,"ATU_HH","TER_NRES_LTR"]
[null,3.2,null,"+ Water transport",null,null,null,null,null,null,null,null,null,null,null,null,null,null,null,null,null,null,null,null,null,null,null,null,null,null,null,null,null,null,null,null,null,null,null,null,null,null,null,null,null,null,null,null,null,null,null,null,null,null,null,null,null,null,null,null,null,null,null,null,null,null,null,null,null,null,null,null,null,null,null,null,null,null,null,null,null,null,null,null,null,null,null,null,null,null,"ATU_HH","TER_NRES_WTR"]
[null,3.3,null,"+  Air transport",null,null,null,null,null,null,null,null,null,null,null,null,null,null,null,null,null,null,null,null,null,null,null,null,null,null,null,null,null,null,null,null,null,null,null,null,null,null,null,null,null,null,null,null,null,null,null,null,null,null,null,null,null,null,null,null,null,null,null,null,null,null,null,null,null,null,null,null,null,null,null,null,null,null,null,null,null,null,null,null,null,null,null,null,null,null,"ATU_HH","TER_NRES_ATR"]
[null,4,null,"Other adjustments and statistical discrepancy",null,null,null,null,null,null,null,null,null,null,null,null,null,null,null,null,null,null,null,null,null,null,null,null,null,null,null,null,null,null,null,null,null,null,null,null,null,null,null,null,null,null,null,null,null,null,null,null,null,null,null,null,null,null,null,null,null,null,null,null,null,null,null,null,null,null,null,null,null,null,null,null,null,null,null,null,null,null,null,null,null,null,null,null,null,null,"ATU_HH","ADJ_SD"]
[null,5,null,"'CO2 from biomass' as reported to UNFCCC (table 10s2: memo item)",null,null,null,null,null,null,null,null,null,null,null,null,null,null,null,null,null,null,null,null,null,null,null,null,null,null,null,null,null,null,null,null,null,null,null,null,null,null,null,null,null,null,null,null,null,null,null,null,null,null,null,null,null,null,null,null,null,null,null,null,null,null,null,null,null,null,null,null,null,null,null,null,null,null,null,null,null,null,null,null,null,null,null,null,null,null,"ATU_HH","TER"]
[null,null,null,"Year of submission to UNFCCC"]
[]
[null,"Explanatory notes for bridging items:"]
[null,1,"Total Air emissions accounts (industry (row 5) + households (row 91)) - residence principle"]
[]
[null,2.1,"Fishing vessels operated by resident units bunkering outside of the reporting country"]
[null,2.2000000000000002,"Land transport (incl. rail) by resident units fuelling outside of the reporting country"]
[null,2.2999999999999998,"Domestic navigation by resident units bunkering at ports outside of the reporting country and all international navigation by resident units"]
[null,2.4,"Domestic aviation by resident units bunkering at airports outside of the reporting country and all international aviation by resident units"]
[]
[null,3.1,"Land transport (incl. rail) by non-resident units fuelling on the territory of the reporting country"]
[null,3.2,"Domestic navigation by non-residents bunkering at ports of the reporting country"]
[null,3.3,"Domestic aviation by non-residents bunkering at airports of the reporting country"]
[]
[null,5,"National totals derived from UNFCCC inventories that include domestic aviation/navigation bunkering at airports/ports of the reporting country, while excluding international transport and LULUCF - territory principle"]

{"sheet":"N2O","index":14,"n_rows":121,"n_cols":98,"rows_kept":121,"cut":false,"hidden":false,"merged":[[106,3,106,4],[0,96,2,96],[0,97,2,97],[0,90,2,90],[0,91,2,91],[0,92,2,92],[0,93,2,93],[0,94,2,94],[0,95,2,95],[103,3,103,4],[80,3,80,4],[81,3,81,4],[82,3,82,4],[83,3,83,4],[84,3,84,4],[73,3,73,4],[74,3,74,4],[75,3,75,4],[76,3,76,4],[77,3,77,4],[78,3,78,4],[67,3,67,4],[68,3,68,4],[69,3,69,4],[70,3,70,4],[104,3,104,4],[105,3,105,4],[0,87,2,87],[63,3,63,4],[64,3,64,4],[65,3,65,4],[66,3,66,4],[55,3,55,4],[56,3,56,4],[57,3,57,4],[58,3,58,4],[59,3,59,4],[60,3,60,4],[49,3,49,4],[50,3,50,4],[51,3,51,4],[52,3,52,4],[53,3,53,4],[54,3,54,4],[43,3,43,4],[44,3,44,4],[45,3,45,4],[46,3,46,4],[0,89,2,89],[97,3,97,4],[98,3,98,4],[99,3,99,4],[100,3,100,4],[101,3,101,4],[102,3,102,4],[91,3,91,4],[92,3,92,4],[93,3,93,4],[94,1,94,4],[95,3,95,4],[96,3,96,4],[85,3,85,4],[86,3,86,4],[87,3,87,4],[88,3,88,4],[89,3,89,4],[90,1,90,4],[79,3,79,4],[71,3,71,4],[72,3,72,4],[61,3,61,4],[62,3,62,4],[47,3,47,4],[48,3,48,4],[37,3,37,4],[38,3,38,4],[39,3,39,4],[40,3,40,4],[41,3,41,4],[42,3,42,4],[31,3,31,4],[32,3,32,4],[33,3,33,4],[34,3,34,4],[35,3,35,4],[36,3,36,4],[25,3,25,4],[26,3,26,4],[27,3,27,4],[28,3,28,4],[29,3,29,4],[30,3,30,4],[19,3,19,4],[20,3,20,4],[21,3,21,4],[22,3,22,4],[23,3,23,4],[24,3,24,4],[0,5,2,6],[0,7,2,8],[0,9,2,10],[13,3,13,4],[14,3,14,4],[15,3,15,4],[16,3,16,4],[17,3,17,4],[18,3,18,4],[7,3,7,4],[8,3,8,4],[9,3,9,4],[10,3,10,4],[11,3,11,4],[12,3,12,4],[0,88,2,88],[0,11,2,12],[0,13,2,14],[2,47,2,48],[3,1,3,4],[4,1,4,2],[4,3,4,4],[5,3,5,4],[6,3,6,4],[0,27,2,28],[0,29,2,30],[0,31,2,32],[0,33,2,34],[0,35,2,36],[1,1,1,2],[2,1,2,2],[2,3,2,4],[0,15,2,16],[0,17,2,18],[0,19,2,20],[0,21,2,22],[0,23,2,24],[0,25,2,26],[0,1,0,2]]}
["DATAENTRY","Country:",null,{"$f":"intro!F7","v":""},null,null,null,null,null,null,null,null,null,null,null,null,null,null,null,null,null,null,null,null,null,null,null,null,null,null,null,null,null,null,null,null,null,null,null,null,null,null,null,null,null,null,null,null,null,null,null,null,null,null,null,null,null,null,null,null,null,null,null,null,null,null,null,null,null,null,null,null,null,null,null,null,null,null,null,null,null,null,null,null,null,null,null,"DEMAND_PROD","ACCOUNTING_ENTRY","COUNTERPART_AREA","INTERACTORS","BRIDGE_ITEM","AIRPOL","STO","UNIT_MEASURE","UNIT_MULT","PRODUCT","SECTOR"]
[null,"Air Pollutant",null,"N2O","Nitrous oxide"]
["T","Unit","Million National Currency","tonnes (Mg)"]
[null,"Air emissions by industry",null,null,null,1995,null,1996,null,1997,null,1998,null,1999,null,2000,null,2001,null,2002,null,2003,null,2004,null,2005,null,2006,null,2007,null,2008,null,2009,null,2010,null,2011,null,2012,null,2013,null,2014,null,2015,null,2016,null,2017,null,2018,null,2019,null,2020,null,2021,null,2022,null,2023,null,2024]
[null,{"$f":"Parameters!Q4","v":"A_U   01-99"},null,{"$f":"Parameters!S4","v":"Total industries"},null,null,null,null,null,null,null,null,null,null,null,null,null,null,null,null,null,null,null,null,null,null,null,null,null,null,null,null,null,null,null,null,null,null,null,null,null,null,null,null,null,null,null,null,null,null,null,null,null,null,null,null,null,null,null,null,null,null,null,null,null,null,null,null,null,null,null,null,null,null,null,null,null,null,null,null,null,null,null,null,null,null,null,"P","EC","W2","ATU","RES","N2O","_Z","TN",0,"_T","S1"]
[null,{"$f":"Parameters!Q5","v":"A"},null,{"$f":"Parameters!S5","v":"Agriculture, forestry and fishing"},null,null,null,null,null,null,null,null,null,null,null,null,null,null,null,null,null,null,null,null,null,null,null,null,null,null,null,null,null,null,null,null,null,null,null,null,null,null,null,null,null,null,null,null,null,null,null,null,null,null,null,null,null,null,null,null,null,null,null,null,null,null,null,null,null,null,null,null,null,null,null,null,null,null,null,null,null,null,null,null,null,null,null,null,null,null,"A","RES"]
[null,{"$f":"Parameters!Q6","v":"A01"},null,{"$f":"Parameters!S6","v":"Crop and animal production, hunting and related service activities"},null,null,null,null,null,null,null,null,null,null,null,null,null,null,null,null,null,null,null,null,null,null,null,null,null,null,null,null,null,null,null,null,null,null,null,null,null,null,null,null,null,null,null,null,null,null,null,null,null,null,null,null,null,null,null,null,null,null,null,null,null,null,null,null,null,null,null,null,null,null,null,null,null,null,null,null,null,null,null,null,null,null,null,null,null,null,"A01","RES"]
[null,{"$f":"Parameters!Q7","v":"A02"},null,{"$f":"Parameters!S7","v":"Forestry and logging"},null,null,null,null,null,null,null,null,null,null,null,null,null,null,null,null,null,null,null,null,null,null,null,null,null,null,null,null,null,null,null,null,null,null,null,null,null,null,null,null,null,null,null,null,null,null,null,null,null,null,null,null,null,null,null,null,null,null,null,null,null,null,null,null,null,null,null,null,null,null,null,null,null,null,null,null,null,null,null,null,null,null,null,null,null,null,"A02","RES"]
[null,{"$f":"Parameters!Q8","v":"A03"},null,{"$f":"Parameters!S8","v":"Fishing and aquaculture"},null,null,null,null,null,null,null,null,null,null,null,null,null,null,null,null,null,null,null,null,null,null,null,null,null,null,null,null,null,null,null,null,null,null,null,null,null,null,null,null,null,null,null,null,null,null,null,null,null,null,null,null,null,null,null,null,null,null,null,null,null,null,null,null,null,null,null,null,null,null,null,null,null,null,null,null,null,null,null,null,null,null,null,null,null,null,"A03","RES"]
[null,{"$f":"Parameters!Q9","v":"B"},null,{"$f":"Parameters!S9","v":"Mining and quarrying"},null,null,null,null,null,null,null,null,null,null,null,null,null,null,null,null,null,null,null,null,null,null,null,null,null,null,null,null,null,null,null,null,null,null,null,null,null,null,null,null,null,null,null,null,null,null,null,null,null,null,null,null,null,null,null,null,null,null,null,null,null,null,null,null,null,null,null,null,null,null,null,null,null,null,null,null,null,null,null,null,null,null,null,null,null,null,"B","RES"]
[null,{"$f":"Parameters!Q10","v":"C"},null,{"$f":"Parameters!S10","v":"Manufacturing"},null,null,null,null,null,null,null,null,null,null,null,null,null,null,null,null,null,null,null,null,null,null,null,null,null,null,null,null,null,null,null,null,null,null,null,null,null,null,null,null,null,null,null,null,null,null,null,null,null,null,null,null,null,null,null,null,null,null,null,null,null,null,null,null,null,null,null,null,null,null,null,null,null,null,null,null,null,null,null,null,null,null,null,null,null,null,"C","RES"]
[null,{"$f":"Parameters!Q11","v":"C10-C12"},null,{"$f":"Parameters!S11","v":"Manufacture of food products, beverages and tobacco\nproducts"},null,null,null,null,null,null,null,null,null,null,null,null,null,null,null,null,null,null,null,null,null,null,null,null,null,null,null,null,null,null,null,null,null,null,null,null,null,null,null,null,null,null,null,null,null,null,null,null,null,null,null,null,null,null,null,null,null,null,null,null,null,null,null,null,null,null,null,null,null,null,null,null,null,null,null,null,null,null,null,null,null,null,null,null,null,null,"C10T12","RES"]
[null,{"$f":"Parameters!Q12","v":"C13-C15"},null,{"$f":"Parameters!S12","v":"Manufacture of textiles, wearing apparel and leather products"},null,null,null,null,null,null,null,null,null,null,null,null,null,null,null,null,null,null,null,null,null,null,null,null,null,null,null,null,null,null,null,null,null,null,null,null,null,null,null,null,null,null,null,null,null,null,null,null,null,null,null,null,null,null,null,null,null,null,null,null,null,null,null,null,null,null,null,null,null,null,null,null,null,null,null,null,null,null,null,null,null,null,null,null,null,null,"C13T15","RES"]
[null,{"$f":"Parameters!Q13","v":"C16-C18"},null,{"$f":"Parameters!S13","v":"Manufacture of wood, paper, printing and reproduction"}]
[null,{"$f":"Parameters!Q14","v":"C16"},null,{"$f":"Parameters!S14","v":"Manufacture of wood and of products of wood and cork, except furniture; manufacture of articles of straw and plaiting materials"},null,null,null,null,null,null,null,null,null,null,null,null,null,null,null,null,null,null,null,null,null,null,null,null,null,null,null,null,null,null,null,null,null,null,null,null,null,null,null,null,null,null,null,null,null,null,null,null,null,null,null,null,null,null,null,null,null,null,null,null,null,null,null,null,null,null,null,null,null,null,null,null,null,null,null,null,null,null,null,null,null,null,null,null,null,null,"C16","RES"]
[null,{"$f":"Parameters!Q15","v":"C17"},null,{"$f":"Parameters!S15","v":"Manufacture of paper and paper products"},null,null,null,null,null,null,null,null,null,null,null,null,null,null,null,null,null,null,null,null,null,null,null,null,null,null,null,null,null,null,null,null,null,null,null,null,null,null,null,null,null,null,null,null,null,null,null,null,null,null,null,null,null,null,null,null,null,null,null,null,null,null,null,null,null,null,null,null,null,null,null,null,null,null,null,null,null,null,null,null,null,null,null,null,null,null,"C17","RES"]
[null,{"$f":"Parameters!Q16","v":"C18"},null,{"$f":"Parameters!S16","v":"Printing and reproduction of recorded media"},null,null,null,null,null,null,null,null,null,null,null,null,null,null,null,null,null,null,null,null,null,null,null,null,null,null,null,null,null,null,null,null,null,null,null,null,null,null,null,null,null,null,null,null,null,null,null,null,null,null,null,null,null,null,null,null,null,null,null,null,null,null,null,null,null,null,null,null,null,null,null,null,null,null,null,null,null,null,null,null,null,null,null,null,null,null,"C18","RES"]
[null,{"$f":"Parameters!Q17","v":"C19"},null,{"$f":"Parameters!S17","v":"Manufacture of coke and refined petroleum products"},null,null,null,null,null,null,null,null,null,null,null,null,null,null,null,null,null,null,null,null,null,null,null,null,null,null,null,null,null,null,null,null,null,null,null,null,null,null,null,null,null,null,null,null,null,null,null,null,null,null,null,null,null,null,null,null,null,null,null,null,null,null,null,null,null,null,null,null,null,null,null,null,null,null,null,null,null,null,null,null,null,null,null,null,null,null,"C19","RES"]
[null,{"$f":"Parameters!Q18","v":"C20"},null,{"$f":"Parameters!S18","v":"Manufacture of chemicals and chemical products"},null,null,null,null,null,null,null,null,null,null,null,null,null,null,null,null,null,null,null,null,null,null,null,null,null,null,null,null,null,null,null,null,null,null,null,null,null,null,null,null,null,null,null,null,null,null,null,null,null,null,null,null,null,null,null,null,null,null,null,null,null,null,null,null,null,null,null,null,null,null,null,null,null,null,null,null,null,null,null,null,null,null,null,null,null,null,"C20","RES"]
[null,{"$f":"Parameters!Q19","v":"C21"},null,{"$f":"Parameters!S19","v":"Manufacture of basic pharmaceutical products and pharmaceutical preparations"},null,null,null,null,null,null,null,null,null,null,null,null,null,null,null,null,null,null,null,null,null,null,null,null,null,null,null,null,null,null,null,null,null,null,null,null,null,null,null,null,null,null,null,null,null,null,null,null,null,null,null,null,null,null,null,null,null,null,null,null,null,null,null,null,null,null,null,null,null,null,null,null,null,null,null,null,null,null,null,null,null,null,null,null,null,null,"C21","RES"]
[null,{"$f":"Parameters!Q20","v":"C22_C23"},null,{"$f":"Parameters!S20","v":"Manufacture of rubber and plastic products and other non-metallic mineral products"}]
[null,{"$f":"Parameters!Q21","v":"C22"},null,{"$f":"Parameters!S21","v":"Manufacture of rubber and plastic products"},null,null,null,null,null,null,null,null,null,null,null,null,null,null,null,null,null,null,null,null,null,null,null,null,null,null,null,null,null,null,null,null,null,null,null,null,null,null,null,null,null,null,null,null,null,null,null,null,null,null,null,null,null,null,null,null,null,null,null,null,null,null,null,null,null,null,null,null,null,null,null,null,null,null,null,null,null,null,null,null,null,null,null,null,null,null,"C22","RES"]
[null,{"$f":"Parameters!Q22","v":"C23"},null,{"$f":"Parameters!S22","v":"Manufacture of other non-metallic mineral products"},null,null,null,null,null,null,null,null,null,null,null,null,null,null,null,null,null,null,null,null,null,null,null,null,null,null,null,null,null,null,null,null,null,null,null,null,null,null,null,null,null,null,null,null,null,null,null,null,null,null,null,null,null,null,null,null,null,null,null,null,null,null,null,null,null,null,null,null,null,null,null,null,null,null,null,null,null,null,null,null,null,null,null,null,null,null,"C23","RES"]
[null,{"$f":"Parameters!Q23","v":"C24_C25"},null,{"$f":"Parameters!S23","v":"Manufacture of basic metals and fabricated metal products, except machinery and equipment"}]
[null,{"$f":"Parameters!Q24","v":"C24"},null,{"$f":"Parameters!S24","v":"Manufacture of basic metals"},null,null,null,null,null,null,null,null,null,null,null,null,null,null,null,null,null,null,null,null,null,null,null,null,null,null,null,null,null,null,null,null,null,null,null,null,null,null,null,null,null,null,null,null,null,null,null,null,null,null,null,null,null,null,null,null,null,null,null,null,null,null,null,null,null,null,null,null,null,null,null,null,null,null,null,null,null,null,null,null,null,null,null,null,null,null,"C24","RES"]
[null,{"$f":"Parameters!Q25","v":"C25"},null,{"$f":"Parameters!S25","v":"Manufacture of fabricated metal products, except machinery and equipment"},null,null,null,null,null,null,null,null,null,null,null,null,null,null,null,null,null,null,null,null,null,null,null,null,null,null,null,null,null,null,null,null,null,null,null,null,null,null,null,null,null,null,null,null,null,null,null,null,null,null,null,null,null,null,null,null,null,null,null,null,null,null,null,null,null,null,null,null,null,null,null,null,null,null,null,null,null,null,null,null,null,null,null,null,null,null,"C25","RES"]
[null,{"$f":"Parameters!Q26","v":"C26"},null,{"$f":"Parameters!S26","v":"Manufacture of computer, electronic and optical products"},null,null,null,null,null,null,null,null,null,null,null,null,null,null,null,null,null,null,null,null,null,null,null,null,null,null,null,null,null,null,null,null,null,null,null,null,null,null,null,null,null,null,null,null,null,null,null,null,null,null,null,null,null,null,null,null,null,null,null,null,null,null,null,null,null,null,null,null,null,null,null,null,null,null,null,null,null,null,null,null,null,null,null,null,null,null,"C26","RES"]
[null,{"$f":"Parameters!Q27","v":"C27"},null,{"$f":"Parameters!S27","v":"Manufacture of electrical equipment"},null,null,null,null,null,null,null,null,null,null,null,null,null,null,null,null,null,null,null,null,null,null,null,null,null,null,null,null,null,null,null,null,null,null,null,null,null,null,null,null,null,null,null,null,null,null,null,null,null,null,null,null,null,null,null,null,null,null,null,null,null,null,null,null,null,null,null,null,null,null,null,null,null,null,null,null,null,null,null,null,null,null,null,null,null,null,"C27","RES"]
[null,{"$f":"Parameters!Q28","v":"C28"},null,{"$f":"Parameters!S28","v":"Manufacture of machinery and equipment n.e.c."},null,null,null,null,null,null,null,null,null,null,null,null,null,null,null,null,null,null,null,null,null,null,null,null,null,null,null,null,null,null,null,null,null,null,null,null,null,null,null,null,null,null,null,null,null,null,null,null,null,null,null,null,null,null,null,null,null,null,null,null,null,null,null,null,null,null,null,null,null,null,null,null,null,null,null,null,null,null,null,null,null,null,null,null,null,null,"C28","RES"]
[null,{"$f":"Parameters!Q29","v":"C29_C30"},null,{"$f":"Parameters!S29","v":"Manufacture of motor vehicles, trailers, semi-trailers and of other transport equipment"}]
[null,{"$f":"Parameters!Q30","v":"C29"},null,{"$f":"Parameters!S30","v":"Manufacture of motor vehicles, trailers and semi-trailers"},null,null,null,null,null,null,null,null,null,null,null,null,null,null,null,null,null,null,null,null,null,null,null,null,null,null,null,null,null,null,null,null,null,null,null,null,null,null,null,null,null,null,null,null,null,null,null,null,null,null,null,null,null,null,null,null,null,null,null,null,null,null,null,null,null,null,null,null,null,null,null,null,null,null,null,null,null,null,null,null,null,null,null,null,null,null,"C29","RES"]
[null,{"$f":"Parameters!Q31","v":"C30"},null,{"$f":"Parameters!S31","v":"Manufacture of other transport equipment"},null,null,null,null,null,null,null,null,null,null,null,null,null,null,null,null,null,null,null,null,null,null,null,null,null,null,null,null,null,null,null,null,null,null,null,null,null,null,null,null,null,null,null,null,null,null,null,null,null,null,null,null,null,null,null,null,null,null,null,null,null,null,null,null,null,null,null,null,null,null,null,null,null,null,null,null,null,null,null,null,null,null,null,null,null,null,"C30","RES"]
[null,{"$f":"Parameters!Q32","v":"C31-C33"},null,{"$f":"Parameters!S32","v":"Manufacture of furniture; jewellery, musical instruments, toys; repair and installation of machinery and equipment"}]
[null,{"$f":"Parameters!Q33","v":"C31_C32"},null,{"$f":"Parameters!S33","v":"Manufacture of furniture; other manufacturing"},null,null,null,null,null,null,null,null,null,null,null,null,null,null,null,null,null,null,null,null,null,null,null,null,null,null,null,null,null,null,null,null,null,null,null,null,null,null,null,null,null,null,null,null,null,null,null,null,null,null,null,null,null,null,null,null,null,null,null,null,null,null,null,null,null,null,null,null,null,null,null,null,null,null,null,null,null,null,null,null,null,null,null,null,null,null,"C31_32","RES"]
[null,{"$f":"Parameters!Q34","v":"C33"},null,{"$f":"Parameters!S34","v":"Repair and installation of machinery and equipment"},null,null,null,null,null,null,null,null,null,null,null,null,null,null,null,null,null,null,null,null,null,null,null,null,null,null,null,null,null,null,null,null,null,null,null,null,null,null,null,null,null,null,null,null,null,null,null,null,null,null,null,null,null,null,null,null,null,null,null,null,null,null,null,null,null,null,null,null,null,null,null,null,null,null,null,null,null,null,null,null,null,null,null,null,null,null,"C33","RES"]
[null,{"$f":"Parameters!Q35","v":"D"},null,{"$f":"Parameters!S35","v":"Electricity, gas, steam and air conditioning supply"},null,null,null,null,null,null,null,null,null,null,null,null,null,null,null,null,null,null,null,null,null,null,null,null,null,null,null,null,null,null,null,null,null,null,null,null,null,null,null,null,null,null,null,null,null,null,null,null,null,null,null,null,null,null,null,null,null,null,null,null,null,null,null,null,null,null,null,null,null,null,null,null,null,null,null,null,null,null,null,null,null,null,null,null,null,null,"D","RES"]
[null,{"$f":"Parameters!Q36","v":"E"},null,{"$f":"Parameters!S36","v":"Water supply; sewerage, waste management and remediation activities"},null,null,null,null,null,null,null,null,null,null,null,null,null,null,null,null,null,null,null,null,null,null,null,null,null,null,null,null,null,null,null,null,null,null,null,null,null,null,null,null,null,null,null,null,null,null,null,null,null,null,null,null,null,null,null,null,null,null,null,null,null,null,null,null,null,null,null,null,null,null,null,null,null,null,null,null,null,null,null,null,null,null,null,null,null,null,"E","RES"]
[null,{"$f":"Parameters!Q37","v":"E36"},null,{"$f":"Parameters!S37","v":"Water collection, treatment and supply"},null,null,null,null,null,null,null,null,null,null,null,null,null,null,null,null,null,null,null,null,null,null,null,null,null,null,null,null,null,null,null,null,null,null,null,null,null,null,null,null,null,null,null,null,null,null,null,null,null,null,null,null,null,null,null,null,null,null,null,null,null,null,null,null,null,null,null,null,null,null,null,null,null,null,null,null,null,null,null,null,null,null,null,null,null,null,"E36","RES"]
[null,{"$f":"Parameters!Q38","v":"E37-E39"},null,{"$f":"Parameters!S38","v":"Sewerage, waste management, remediation activities"},null,null,null,null,null,null,null,null,null,null,null,null,null,null,null,null,null,null,null,null,null,null,null,null,null,null,null,null,null,null,null,null,null,null,null,null,null,null,null,null,null,null,null,null,null,null,null,null,null,null,null,null,null,null,null,null,null,null,null,null,null,null,null,null,null,null,null,null,null,null,null,null,null,null,null,null,null,null,null,null,null,null,null,null,null,null,"E37T39","RES"]
[null,{"$f":"Parameters!Q39","v":"F"},null,{"$f":"Parameters!S39","v":"Construction"},null,null,null,null,null,null,null,null,null,null,null,null,null,null,null,null,null,null,null,null,null,null,null,null,null,null,null,null,null,null,null,null,null,null,null,null,null,null,null,null,null,null,null,null,null,null,null,null,null,null,null,null,null,null,null,null,null,null,null,null,null,null,null,null,null,null,null,null,null,null,null,null,null,null,null,null,null,null,null,null,null,null,null,null,null,null,"F","RES"]
[null,{"$f":"Parameters!Q40","v":"G"},null,{"$f":"Parameters!S40","v":"Wholesale and retail trade; repair of motor vehicles and motorcycles"},null,null,null,null,null,null,null,null,null,null,null,null,null,null,null,null,null,null,null,null,null,null,null,null,null,null,null,null,null,null,null,null,null,null,null,null,null,null,null,null,null,null,null,null,null,null,null,null,null,null,null,null,null,null,null,null,null,null,null,null,null,null,null,null,null,null,null,null,null,null,null,null,null,null,null,null,null,null,null,null,null,null,null,null,null,null,"G","RES"]
[null,{"$f":"Parameters!Q41","v":"G45"},null,{"$f":"Parameters!S41","v":"Wholesale and retail trade and repair of motor vehicles and motorcycles"},null,null,null,null,null,null,null,null,null,null,null,null,null,null,null,null,null,null,null,null,null,null,null,null,null,null,null,null,null,null,null,null,null,null,null,null,null,null,null,null,null,null,null,null,null,null,null,null,null,null,null,null,null,null,null,null,null,null,null,null,null,null,null,null,null,null,null,null,null,null,null,null,null,null,null,null,null,null,null,null,null,null,null,null,null,null,"G45","RES"]
[null,{"$f":"Parameters!Q42","v":"G46"},null,{"$f":"Parameters!S42","v":"Wholesale trade, except of motor vehicles and motorcycles"},null,null,null,null,null,null,null,null,null,null,null,null,null,null,null,null,null,null,null,null,null,null,null,null,null,null,null,null,null,null,null,null,null,null,null,null,null,null,null,null,null,null,null,null,null,null,null,null,null,null,null,null,null,null,null,null,null,null,null,null,null,null,null,null,null,null,null,null,null,null,null,null,null,null,null,null,null,null,null,null,null,null,null,null,null,null,"G46","RES"]
[null,{"$f":"Parameters!Q43","v":"G47"},null,{"$f":"Parameters!S43","v":"Retail trade, except of motor vehicles and motorcycles"},null,null,null,null,null,null,null,null,null,null,null,null,null,null,null,null,null,null,null,null,null,null,null,null,null,null,null,null,null,null,null,null,null,null,null,null,null,null,null,null,null,null,null,null,null,null,null,null,null,null,null,null,null,null,null,null,null,null,null,null,null,null,null,null,null,null,null,null,null,null,null,null,null,null,null,null,null,null,null,null,null,null,null,null,null,null,"G47","RES"]
[null,{"$f":"Parameters!Q44","v":"H"},null,{"$f":"Parameters!S44","v":"Transportation and storage"},null,null,null,null,null,null,null,null,null,null,null,null,null,null,null,null,null,null,null,null,null,null,null,null,null,null,null,null,null,null,null,null,null,null,null,null,null,null,null,null,null,null,null,null,null,null,null,null,null,null,null,null,null,null,null,null,null,null,null,null,null,null,null,null,null,null,null,null,null,null,null,null,null,null,null,null,null,null,null,null,null,null,null,null,null,null,"H","RES"]
[null,{"$f":"Parameters!Q45","v":"H49"},null,{"$f":"Parameters!S45","v":"Land transport and transport via pipelines"},null,null,null,null,null,null,null,null,null,null,null,null,null,null,null,null,null,null,null,null,null,null,null,null,null,null,null,null,null,null,null,null,null,null,null,null,null,null,null,null,null,null,null,null,null,null,null,null,null,null,null,null,null,null,null,null,null,null,null,null,null,null,null,null,null,null,null,null,null,null,null,null,null,null,null,null,null,null,null,null,null,null,null,null,null,null,"H49","RES"]
[null,{"$f":"Parameters!Q46","v":"H50"},null,{"$f":"Parameters!S46","v":"Water transport"},null,null,null,null,null,null,null,null,null,null,null,null,null,null,null,null,null,null,null,null,null,null,null,null,null,null,null,null,null,null,null,null,null,null,null,null,null,null,null,null,null,null,null,null,null,null,null,null,null,null,null,null,null,null,null,null,null,null,null,null,null,null,null,null,null,null,null,null,null,null,null,null,null,null,null,null,null,null,null,null,null,null,null,null,null,null,"H50","RES"]
[null,{"$f":"Parameters!Q47","v":"H51"},null,{"$f":"Parameters!S47","v":"Air transport"},null,null,null,null,null,null,null,null,null,null,null,null,null,null,null,null,null,null,null,null,null,null,null,null,null,null,null,null,null,null,null,null,null,null,null,null,null,null,null,null,null,null,null,null,null,null,null,null,null,null,null,null,null,null,null,null,null,null,null,null,null,null,null,null,null,null,null,null,null,null,null,null,null,null,null,null,null,null,null,null,null,null,null,null,null,null,"H51","RES"]
[null,{"$f":"Parameters!Q48","v":"H52"},null,{"$f":"Parameters!S48","v":"Warehousing and support activities for transportation"},null,null,null,null,null,null,null,null,null,null,null,null,null,null,null,null,null,null,null,null,null,null,null,null,null,null,null,null,null,null,null,null,null,null,null,null,null,null,null,null,null,null,null,null,null,null,null,null,null,null,null,null,null,null,null,null,null,null,null,null,null,null,null,null,null,null,null,null,null,null,null,null,null,null,null,null,null,null,null,null,null,null,null,null,null,null,"H52","RES"]
[null,{"$f":"Parameters!Q49","v":"H53"},null,{"$f":"Parameters!S49","v":"Postal and courier activities"},null,null,null,null,null,null,null,null,null,null,null,null,null,null,null,null,null,null,null,null,null,null,null,null,null,null,null,null,null,null,null,null,null,null,null,null,null,null,null,null,null,null,null,null,null,null,null,null,null,null,null,null,null,null,null,null,null,null,null,null,null,null,null,null,null,null,null,null,null,null,null,null,null,null,null,null,null,null,null,null,null,null,null,null,null,null,"H53","RES"]
[null,{"$f":"Parameters!Q50","v":"I"},null,{"$f":"Parameters!S50","v":"Accommodation and food service activities"},null,null,null,null,null,null,null,null,null,null,null,null,null,null,null,null,null,null,null,null,null,null,null,null,null,null,null,null,null,null,null,null,null,null,null,null,null,null,null,null,null,null,null,null,null,null,null,null,null,null,null,null,null,null,null,null,null,null,null,null,null,null,null,null,null,null,null,null,null,null,null,null,null,null,null,null,null,null,null,null,null,null,null,null,null,null,"I","RES"]
[null,{"$f":"Parameters!Q51","v":"J"},null,{"$f":"Parameters!S51","v":"Information and communication"},null,null,null,null,null,null,null,null,null,null,null,null,null,null,null,null,null,null,null,null,null,null,null,null,null,null,null,null,null,null,null,null,null,null,null,null,null,null,null,null,null,null,null,null,null,null,null,null,null,null,null,null,null,null,null,null,null,null,null,null,null,null,null,null,null,null,null,null,null,null,null,null,null,null,null,null,null,null,null,null,null,null,null,null,null,null,"J","RES"]
[null,{"$f":"Parameters!Q52","v":"J58-J60"},null,{"$f":"Parameters!S52","v":"Publishing, motion picture, video, television programme production; sound recording, programming and broadcasting activities"}]
[null,{"$f":"Parameters!Q53","v":"J58"},null,{"$f":"Parameters!S53","v":"Publishing activities"},null,null,null,null,null,null,null,null,null,null,null,null,null,null,null,null,null,null,null,null,null,null,null,null,null,null,null,null,null,null,null,null,null,null,null,null,null,null,null,null,null,null,null,null,null,null,null,null,null,null,null,null,null,null,null,null,null,null,null,null,null,null,null,null,null,null,null,null,null,null,null,null,null,null,null,null,null,null,null,null,null,null,null,null,null,null,"J58","RES"]
[null,{"$f":"Parameters!Q54","v":"J59_J60"},null,{"$f":"Parameters!S54","v":"Motion picture, video, television programme production; programming and broadcasting activities"},null,null,null,null,null,null,null,null,null,null,null,null,null,null,null,null,null,null,null,null,null,null,null,null,null,null,null,null,null,null,null,null,null,null,null,null,null,null,null,null,null,null,null,null,null,null,null,null,null,null,null,null,null,null,null,null,null,null,null,null,null,null,null,null,null,null,null,null,null,null,null,null,null,null,null,null,null,null,null,null,null,null,null,null,null,null,"J59_60","RES"]
[null,{"$f":"Parameters!Q55","v":"J61"},null,{"$f":"Parameters!S55","v":"Telecommunications"},null,null,null,null,null,null,null,null,null,null,null,null,null,null,null,null,null,null,null,null,null,null,null,null,null,null,null,null,null,null,null,null,null,null,null,null,null,null,null,null,null,null,null,null,null,null,null,null,null,null,null,null,null,null,null,null,null,null,null,null,null,null,null,null,null,null,null,null,null,null,null,null,null,null,null,null,null,null,null,null,null,null,null,null,null,null,"J61","RES"]
[null,{"$f":"Parameters!Q56","v":"J62_J63"},null,{"$f":"Parameters!S56","v":"Computer programming, consultancy, and information service activities"},null,null,null,null,null,null,null,null,null,null,null,null,null,null,null,null,null,null,null,null,null,null,null,null,null,null,null,null,null,null,null,null,null,null,null,null,null,null,null,null,null,null,null,null,null,null,null,null,null,null,null,null,null,null,null,null,null,null,null,null,null,null,null,null,null,null,null,null,null,null,null,null,null,null,null,null,null,null,null,null,null,null,null,null,null,null,"J62_63","RES"]
[null,{"$f":"Parameters!Q57","v":"K"},null,{"$f":"Parameters!S57","v":"Financial and insurance activities"},null,null,null,null,null,null,null,null,null,null,null,null,null,null,null,null,null,null,null,null,null,null,null,null,null,null,null,null,null,null,null,null,null,null,null,null,null,null,null,null,null,null,null,null,null,null,null,null,null,null,null,null,null,null,null,null,null,null,null,null,null,null,null,null,null,null,null,null,null,null,null,null,null,null,null,null,null,null,null,null,null,null,null,null,null,null,"K","RES"]
[null,{"$f":"Parameters!Q58","v":"K64"},null,{"$f":"Parameters!S58","v":"Financial service activities, except insurance and pension funding"},null,null,null,null,null,null,null,null,null,null,null,null,null,null,null,null,null,null,null,null,null,null,null,null,null,null,null,null,null,null,null,null,null,null,null,null,null,null,null,null,null,null,null,null,null,null,null,null,null,null,null,null,null,null,null,null,null,null,null,null,null,null,null,null,null,null,null,null,null,null,null,null,null,null,null,null,null,null,null,null,null,null,null,null,null,null,"K64","RES"]
[null,{"$f":"Parameters!Q59","v":"K65"},null,{"$f":"Parameters!S59","v":"Insurance, reinsurance and pension funding, except compulsory social security"},null,null,null,null,null,null,null,null,null,null,null,null,null,null,null,null,null,null,null,null,null,null,null,null,null,null,null,null,null,null,null,null,null,null,null,null,null,null,null,null,null,null,null,null,null,null,null,null,null,null,null,null,null,null,null,null,null,null,null,null,null,null,null,null,null,null,null,null,null,null,null,null,null,null,null,null,null,null,null,null,null,null,null,null,null,null,"K65","RES"]
[null,{"$f":"Parameters!Q60","v":"K66"},null,{"$f":"Parameters!S60","v":"Activities auxiliary to financial services and insurance activities"},null,null,null,null,null,null,null,null,null,null,null,null,null,null,null,null,null,null,null,null,null,null,null,null,null,null,null,null,null,null,null,null,null,null,null,null,null,null,null,null,null,null,null,null,null,null,null,null,null,null,null,null,null,null,null,null,null,null,null,null,null,null,null,null,null,null,null,null,null,null,null,null,null,null,null,null,null,null,null,null,null,null,null,null,null,null,"K66","RES"]
[null,{"$f":"Parameters!Q61","v":"L"},null,{"$f":"Parameters!S61","v":"Real estate activities"},null,null,null,null,null,null,null,null,null,null,null,null,null,null,null,null,null,null,null,null,null,null,null,null,null,null,null,null,null,null,null,null,null,null,null,null,null,null,null,null,null,null,null,null,null,null,null,null,null,null,null,null,null,null,null,null,null,null,null,null,null,null,null,null,null,null,null,null,null,null,null,null,null,null,null,null,null,null,null,null,null,null,null,null,null,null,"L","RES"]
[null,{"$f":"Parameters!Q62","v":"L68A"},null,{"$f":"Parameters!S62","v":"Imputed rents of owner-occupied dwellings"},null,null,null,null,null,null,null,null,null,null,null,null,null,null,null,null,null,null,null,null,null,null,null,null,null,null,null,null,null,null,null,null,null,null,null,null,null,null,null,null,null,null,null,null,null,null,null,null,null,null,null,null,null,null,null,null,null,null,null,null,null,null,null,null,null,null,null,null,null,null,null,null,null,null,null,null,null,null,null,null,null,null,null,null,null,null,"L68A","RES"]
[null,{"$f":"Parameters!Q63","v":"M"},null,{"$f":"Parameters!S63","v":"Professional, scientific and technical activities"},null,null,null,null,null,null,null,null,null,null,null,null,null,null,null,null,null,null,null,null,null,null,null,null,null,null,null,null,null,null,null,null,null,null,null,null,null,null,null,null,null,null,null,null,null,null,null,null,null,null,null,null,null,null,null,null,null,null,null,null,null,null,null,null,null,null,null,null,null,null,null,null,null,null,null,null,null,null,null,null,null,null,null,null,null,null,"M","RES"]
[null,{"$f":"Parameters!Q64","v":"M69-M71"},null,{"$f":"Parameters!S64","v":"Legal and accounting activities; activities of head offices; management consultancy activities; architectural and engineering activities; technical testing and analysis"}]
[null,{"$f":"Parameters!Q65","v":"M69_M70"},null,{"$f":"Parameters!S65","v":"Legal and accounting activities; activities of head offices; management consultancy activities"},null,null,null,null,null,null,null,null,null,null,null,null,null,null,null,null,null,null,null,null,null,null,null,null,null,null,null,null,null,null,null,null,null,null,null,null,null,null,null,null,null,null,null,null,null,null,null,null,null,null,null,null,null,null,null,null,null,null,null,null,null,null,null,null,null,null,null,null,null,null,null,null,null,null,null,null,null,null,null,null,null,null,null,null,null,null,"M69_70","RES"]
[null,{"$f":"Parameters!Q66","v":"M71"},null,{"$f":"Parameters!S66","v":"Architectural and engineering activities; technical testing and analysis"},null,null,null,null,null,null,null,null,null,null,null,null,null,null,null,null,null,null,null,null,null,null,null,null,null,null,null,null,null,null,null,null,null,null,null,null,null,null,null,null,null,null,null,null,null,null,null,null,null,null,null,null,null,null,null,null,null,null,null,null,null,null,null,null,null,null,null,null,null,null,null,null,null,null,null,null,null,null,null,null,null,null,null,null,null,null,"M71","RES"]
[null,{"$f":"Parameters!Q67","v":"M72"},null,{"$f":"Parameters!S67","v":"Scientific research and development"},null,null,null,null,null,null,null,null,null,null,null,null,null,null,null,null,null,null,null,null,null,null,null,null,null,null,null,null,null,null,null,null,null,null,null,null,null,null,null,null,null,null,null,null,null,null,null,null,null,null,null,null,null,null,null,null,null,null,null,null,null,null,null,null,null,null,null,null,null,null,null,null,null,null,null,null,null,null,null,null,null,null,null,null,null,null,"M72","RES"]
[null,{"$f":"Parameters!Q68","v":"M73-M75"},null,{"$f":"Parameters!S68","v":"Advertising and market research; other professional, scientific and technical activities; veterinary activities"}]
[null,{"$f":"Parameters!Q69","v":"M73"},null,{"$f":"Parameters!S69","v":"Advertising and market research"},null,null,null,null,null,null,null,null,null,null,null,null,null,null,null,null,null,null,null,null,null,null,null,null,null,null,null,null,null,null,null,null,null,null,null,null,null,null,null,null,null,null,null,null,null,null,null,null,null,null,null,null,null,null,null,null,null,null,null,null,null,null,null,null,null,null,null,null,null,null,null,null,null,null,null,null,null,null,null,null,null,null,null,null,null,null,"M73","RES"]
[null,{"$f":"Parameters!Q70","v":"M74_M75"},null,{"$f":"Parameters!S70","v":"Other professional, scientific and technical activities; veterinary activities"},null,null,null,null,null,null,null,null,null,null,null,null,null,null,null,null,null,null,null,null,null,null,null,null,null,null,null,null,null,null,null,null,null,null,null,null,null,null,null,null,null,null,null,null,null,null,null,null,null,null,null,null,null,null,null,null,null,null,null,null,null,null,null,null,null,null,null,null,null,null,null,null,null,null,null,null,null,null,null,null,null,null,null,null,null,null,"M74_75","RES"]
[null,{"$f":"Parameters!Q71","v":"N"},null,{"$f":"Parameters!S71","v":"Administrative and support service activities"},null,null,null,null,null,null,null,null,null,null,null,null,null,null,null,null,null,null,null,null,null,null,null,null,null,null,null,null,null,null,null,null,null,null,null,null,null,null,null,null,null,null,null,null,null,null,null,null,null,null,null,null,null,null,null,null,null,null,null,null,null,null,null,null,null,null,null,null,null,null,null,null,null,null,null,null,null,null,null,null,null,null,null,null,null,null,"N","RES"]
[null,{"$f":"Parameters!Q72","v":"N77"},null,{"$f":"Parameters!S72","v":"Rental and leasing activities"},null,null,null,null,null,null,null,null,null,null,null,null,null,null,null,null,null,null,null,null,null,null,null,null,null,null,null,null,null,null,null,null,null,null,null,null,null,null,null,null,null,null,null,null,null,null,null,null,null,null,null,null,null,null,null,null,null,null,null,null,null,null,null,null,null,null,null,null,null,null,null,null,null,null,null,null,null,null,null,null,null,null,null,null,null,null,"N77","RES"]
[null,{"$f":"Parameters!Q73","v":"N78"},null,{"$f":"Parameters!S73","v":"Employment activities"},null,null,null,null,null,null,null,null,null,null,null,null,null,null,null,null,null,null,null,null,null,null,null,null,null,null,null,null,null,null,null,null,null,null,null,null,null,null,null,null,null,null,null,null,null,null,null,null,null,null,null,null,null,null,null,null,null,null,null,null,null,null,null,null,null,null,null,null,null,null,null,null,null,null,null,null,null,null,null,null,null,null,null,null,null,null,"N78","RES"]
[null,{"$f":"Parameters!Q74","v":"N79"},null,{"$f":"Parameters!S74","v":"Travel agency, tour operator reservation service and related activities"},null,null,null,null,null,null,null,null,null,null,null,null,null,null,null,null,null,null,null,null,null,null,null,null,null,null,null,null,null,null,null,null,null,null,null,null,null,null,null,null,null,null,null,null,null,null,null,null,null,null,null,null,null,null,null,null,null,null,null,null,null,null,null,null,null,null,null,null,null,null,null,null,null,null,null,null,null,null,null,null,null,null,null,null,null,null,"N79","RES"]
[null,{"$f":"Parameters!Q75","v":"N80-N82"},null,{"$f":"Parameters!S75","v":"Security and investigation, service and landscape, office administrative and support activities"},null,null,null,null,null,null,null,null,null,null,null,null,null,null,null,null,null,null,null,null,null,null,null,null,null,null,null,null,null,null,null,null,null,null,null,null,null,null,null,null,null,null,null,null,null,null,null,null,null,null,null,null,null,null,null,null,null,null,null,null,null,null,null,null,null,null,null,null,null,null,null,null,null,null,null,null,null,null,null,null,null,null,null,null,null,null,"N80T82","RES"]
[null,{"$f":"Parameters!Q76","v":"O"},null,{"$f":"Parameters!S76","v":"Public administration and defence; compulsory social security"},null,null,null,null,null,null,null,null,null,null,null,null,null,null,null,null,null,null,null,null,null,null,null,null,null,null,null,null,null,null,null,null,null,null,null,null,null,null,null,null,null,null,null,null,null,null,null,null,null,null,null,null,null,null,null,null,null,null,null,null,null,null,null,null,null,null,null,null,null,null,null,null,null,null,null,null,null,null,null,null,null,null,null,null,null,null,"O","RES"]
[null,{"$f":"Parameters!Q77","v":"P"},null,{"$f":"Parameters!S77","v":"Education"},null,null,null,null,null,null,null,null,null,null,null,null,null,null,null,null,null,null,null,null,null,null,null,null,null,null,null,null,null,null,null,null,null,null,null,null,null,null,null,null,null,null,null,null,null,null,null,null,null,null,null,null,null,null,null,null,null,null,null,null,null,null,null,null,null,null,null,null,null,null,null,null,null,null,null,null,null,null,null,null,null,null,null,null,null,null,"P","RES"]
[null,{"$f":"Parameters!Q78","v":"Q"},null,{"$f":"Parameters!S78","v":"Human health and social work activities"},null,null,null,null,null,null,null,null,null,null,null,null,null,null,null,null,null,null,null,null,null,null,null,null,null,null,null,null,null,null,null,null,null,null,null,null,null,null,null,null,null,null,null,null,null,null,null,null,null,null,null,null,null,null,null,null,null,null,null,null,null,null,null,null,null,null,null,null,null,null,null,null,null,null,null,null,null,null,null,null,null,null,null,null,null,null,"Q","RES"]
[null,{"$f":"Parameters!Q79","v":"Q86"},null,{"$f":"Parameters!S79","v":"Human health activities"},null,null,null,null,null,null,null,null,null,null,null,null,null,null,null,null,null,null,null,null,null,null,null,null,null,null,null,null,null,null,null,null,null,null,null,null,null,null,null,null,null,null,null,null,null,null,null,null,null,null,null,null,null,null,null,null,null,null,null,null,null,null,null,null,null,null,null,null,null,null,null,null,null,null,null,null,null,null,null,null,null,null,null,null,null,null,"Q86","RES"]
[null,{"$f":"Parameters!Q80","v":"Q87_Q88"},null,{"$f":"Parameters!S80","v":"Residential care activities and social work activities without accommodation"},null,null,null,null,null,null,null,null,null,null,null,null,null,null,null,null,null,null,null,null,null,null,null,null,null,null,null,null,null,null,null,null,null,null,null,null,null,null,null,null,null,null,null,null,null,null,null,null,null,null,null,null,null,null,null,null,null,null,null,null,null,null,null,null,null,null,null,null,null,null,null,null,null,null,null,null,null,null,null,null,null,null,null,null,null,null,"Q87_88","RES"]
[null,{"$f":"Parameters!Q81","v":"R"},null,{"$f":"Parameters!S81","v":"Arts, entertainment and recreation"},null,null,null,null,null,null,null,null,null,null,null,null,null,null,null,null,null,null,null,null,null,null,null,null,null,null,null,null,null,null,null,null,null,null,null,null,null,null,null,null,null,null,null,null,null,null,null,null,null,null,null,null,null,null,null,null,null,null,null,null,null,null,null,null,null,null,null,null,null,null,null,null,null,null,null,null,null,null,null,null,null,null,null,null,null,null,"R","RES"]
[null,{"$f":"Parameters!Q82","v":"R90-R92"},null,{"$f":"Parameters!S82","v":"Creative, arts and entertainment activities; libraries, archives, museums and other cultural activities; gambling and betting activities"},null,null,null,null,null,null,null,null,null,null,null,null,null,null,null,null,null,null,null,null,null,null,null,null,null,null,null,null,null,null,null,null,null,null,null,null,null,null,null,null,null,null,null,null,null,null,null,null,null,null,null,null,null,null,null,null,null,null,null,null,null,null,null,null,null,null,null,null,null,null,null,null,null,null,null,null,null,null,null,null,null,null,null,null,null,null,"R90T92","RES"]
[null,{"$f":"Parameters!Q83","v":"R93"},null,{"$f":"Parameters!S83","v":"Sports activities and amusement and recreation activities"},null,null,null,null,null,null,null,null,null,null,null,null,null,null,null,null,null,null,null,null,null,null,null,null,null,null,null,null,null,null,null,null,null,null,null,null,null,null,null,null,null,null,null,null,null,null,null,null,null,null,null,null,null,null,null,null,null,null,null,null,null,null,null,null,null,null,null,null,null,null,null,null,null,null,null,null,null,null,null,null,null,null,null,null,null,null,"R93","RES"]
[null,{"$f":"Parameters!Q84","v":"S"},null,{"$f":"Parameters!S84","v":"Other service activities"},null,null,null,null,null,null,null,null,null,null,null,null,null,null,null,null,null,null,null,null,null,null,null,null,null,null,null,null,null,null,null,null,null,null,null,null,null,null,null,null,null,null,null,null,null,null,null,null,null,null,null,null,null,null,null,null,null,null,null,null,null,null,null,null,null,null,null,null,null,null,null,null,null,null,null,null,null,null,null,null,null,null,null,null,null,null,"S","RES"]
[null,{"$f":"Parameters!Q85","v":"S94"},null,{"$f":"Parameters!S85","v":"Activities of membership organisations"},null,null,null,null,null,null,null,null,null,null,null,null,null,null,null,null,null,null,null,null,null,null,null,null,null,null,null,null,null,null,null,null,null,null,null,null,null,null,null,null,null,null,null,null,null,null,null,null,null,null,null,null,null,null,null,null,null,null,null,null,null,null,null,null,null,null,null,null,null,null,null,null,null,null,null,null,null,null,null,null,null,null,null,null,null,null,"S94","RES"]
[null,{"$f":"Parameters!Q86","v":"S95"},null,{"$f":"Parameters!S86","v":"Repair of computers and personal and household goods"},null,null,null,null,null,null,null,null,null,null,null,null,null,null,null,null,null,null,null,null,null,null,null,null,null,null,null,null,null,null,null,null,null,null,null,null,null,null,null,null,null,null,null,null,null,null,null,null,null,null,null,null,null,null,null,null,null,null,null,null,null,null,null,null,null,null,null,null,null,null,null,null,null,null,null,null,null,null,null,null,null,null,null,null,null,null,"S95","RES"]
[null,{"$f":"Parameters!Q87","v":"S96"},null,{"$f":"Parameters!S87","v":"Other personal service activities"},null,null,null,null,null,null,null,null,null,null,null,null,null,null,null,null,null,null,null,null,null,null,null,null,null,null,null,null,null,null,null,null,null,null,null,null,null,null,null,null,null,null,null,null,null,null,null,null,null,null,null,null,null,null,null,null,null,null,null,null,null,null,null,null,null,null,null,null,null,null,null,null,null,null,null,null,null,null,null,null,null,null,null,null,null,null,"S96","RES"]
[null,{"$f":"Parameters!Q88","v":"T"},null,{"$f":"Parameters!S88","v":"Activities of households as employers; undifferentiated goods- and services-producing activities of households for own use"},null,null,null,null,null,null,null,null,null,null,null,null,null,null,null,null,null,null,null,null,null,null,null,null,null,null,null,null,null,null,null,null,null,null,null,null,null,null,null,null,null,null,null,null,null,null,null,null,null,null,null,null,null,null,null,null,null,null,null,null,null,null,null,null,null,null,null,null,null,null,null,null,null,null,null,null,null,null,null,null,null,null,null,null,null,null,"T","RES"]
[null,{"$f":"Parameters!Q89","v":"U"},null,{"$f":"Parameters!S89","v":"Activities of extraterritorial organisations and bodies"},null,null,null,null,null,null,null,null,null,null,null,null,null,null,null,null,null,null,null,null,null,null,null,null,null,null,null,null,null,null,null,null,null,null,null,null,null,null,null,null,null,null,null,null,null,null,null,null,null,null,null,null,null,null,null,null,null,null,null,null,null,null,null,null,null,null,null,null,null,null,null,null,null,null,null,null,null,null,null,null,null,null,null,null,null,null,"U","RES"]
[null,"   Household air emissions\n                                          Households, totals",null,null,null,null,null,null,null,null,null,null,null,null,null,null,null,null,null,null,null,null,null,null,null,null,null,null,null,null,null,null,null,null,null,null,null,null,null,null,null,null,null,null,null,null,null,null,null,null,null,null,null,null,null,null,null,null,null,null,null,null,null,null,null,null,null,null,null,null,null,null,null,null,null,null,null,null,null,null,null,null,null,null,null,null,null,null,null,null,"HH","RES"]
[null,null,null,"- Transport",null,null,null,null,null,null,null,null,null,null,null,null,null,null,null,null,null,null,null,null,null,null,null,null,null,null,null,null,null,null,null,null,null,null,null,null,null,null,null,null,null,null,null,null,null,null,null,null,null,null,null,null,null,null,null,null,null,null,null,null,null,null,null,null,null,null,null,null,null,null,null,null,null,null,null,null,null,null,null,null,null,null,null,null,null,null,"HH_TR","RES"]
[null,null,null,"- Heating/cooling",null,null,null,null,null,null,null,null,null,null,null,null,null,null,null,null,null,null,null,null,null,null,null,null,null,null,null,null,null,null,null,null,null,null,null,null,null,null,null,null,null,null,null,null,null,null,null,null,null,null,null,null,null,null,null,null,null,null,null,null,null,null,null,null,null,null,null,null,null,null,null,null,null,null,null,null,null,null,null,null,null,null,null,null,null,null,"HH_HEAT","RES"]
[null,null,null,"- Other",null,null,null,null,null,null,null,null,null,null,null,null,null,null,null,null,null,null,null,null,null,null,null,null,null,null,null,null,null,null,null,null,null,null,null,null,null,null,null,null,null,null,null,null,null,null,null,null,null,null,null,null,null,null,null,null,null,null,null,null,null,null,null,null,null,null,null,null,null,null,null,null,null,null,null,null,null,null,null,null,null,null,null,null,null,null,"HH_OTH","RES"]
[null,"   Bridging items\n\n1                              Total Air emissions accounts (industry (row 5) + households (row 91))",null,null,null,null,null,null,null,null,null,null,null,null,null,null,null,null,null,null,null,null,null,null,null,null,null,null,null,null,null,null,null,null,null,null,null,null,null,null,null,null,null,null,null,null,null,null,null,null,null,null,null,null,null,null,null,null,null,null,null,null,null,null,null,null,null,null,null,null,null,null,null,null,null,null,null,null,null,null,null,null,null,null,null,null,null,null,null,null,"ATU_HH","RES"]
[null,2,null,"less National residents abroad",null,null,null,null,null,null,null,null,null,null,null,null,null,null,null,null,null,null,null,null,null,null,null,null,null,null,null,null,null,null,null,null,null,null,null,null,null,null,null,null,null,null,null,null,null,null,null,null,null,null,null,null,null,null,null,null,null,null,null,null,null,null,null,null,null,null,null,null,null,null,null,null,null,null,null,null,null,null,null,null,null,null,null,null,null,null,"ATU_HH","RES_ABR"]
[null,2.1,null,"-  National fishing vessels operating abroad",null,null,null,null,null,null,null,null,null,null,null,null,null,null,null,null,null,null,null,null,null,null,null,null,null,null,null,null,null,null,null,null,null,null,null,null,null,null,null,null,null,null,null,null,null,null,null,null,null,null,null,null,null,null,null,null,null,null,null,null,null,null,null,null,null,null,null,null,null,null,null,null,null,null,null,null,null,null,null,null,null,null,null,null,null,null,"ATU_HH","RES_ABR_FWTR"]
[null,2.2000000000000002,null,"-  Land transport",null,null,null,null,null,null,null,null,null,null,null,null,null,null,null,null,null,null,null,null,null,null,null,null,null,null,null,null,null,null,null,null,null,null,null,null,null,null,null,null,null,null,null,null,null,null,null,null,null,null,null,null,null,null,null,null,null,null,null,null,null,null,null,null,null,null,null,null,null,null,null,null,null,null,null,null,null,null,null,null,null,null,null,null,null,null,"ATU_HH","RES_ABR_LTR"]
[null,2.2999999999999998,null,"-  Water transport",null,null,null,null,null,null,null,null,null,null,null,null,null,null,null,null,null,null,null,null,null,null,null,null,null,null,null,null,null,null,null,null,null,null,null,null,null,null,null,null,null,null,null,null,null,null,null,null,null,null,null,null,null,null,null,null,null,null,null,null,null,null,null,null,null,null,null,null,null,null,null,null,null,null,null,null,null,null,null,null,null,null,null,null,null,null,"ATU_HH","RES_ABR_WTR"]
[null,2.4,null,"-  Air transport",null,null,null,null,null,null,null,null,null,null,null,null,null,null,null,null,null,null,null,null,null,null,null,null,null,null,null,null,null,null,null,null,null,null,null,null,null,null,null,null,null,null,null,null,null,null,null,null,null,null,null,null,null,null,null,null,null,null,null,null,null,null,null,null,null,null,null,null,null,null,null,null,null,null,null,null,null,null,null,null,null,null,null,null,null,null,"ATU_HH","RES_ABR_ATR"]
[null,3,null,"plus Non-residents on the territory",null,null,null,null,null,null,null,null,null,null,null,null,null,null,null,null,null,null,null,null,null,null,null,null,null,null,null,null,null,null,null,null,null,null,null,null,null,null,null,null,null,null,null,null,null,null,null,null,null,null,null,null,null,null,null,null,null,null,null,null,null,null,null,null,null,null,null,null,null,null,null,null,null,null,null,null,null,null,null,null,null,null,null,null,null,null,"ATU_HH","TER_NRES"]
[null,3.1,null,"+  Land transport",null,null,null,null,null,null,null,null,null,null,null,null,null,null,null,null,null,null,null,null,null,null,null,null,null,null,null,null,null,null,null,null,null,null,null,null,null,null,null,null,null,null,null,null,null,null,null,null,null,null,null,null,null,null,null,null,null,null,null,null,null,null,null,null,null,null,null,null,null,null,null,null,null,null,null,null,null,null,null,null,null,null,null,null,null,null,"ATU_HH","TER_NRES_LTR"]
[null,3.2,null,"+ Water transport",null,null,null,null,null,null,null,null,null,null,null,null,null,null,null,null,null,null,null,null,null,null,null,null,null,null,null,null,null,null,null,null,null,null,null,null,null,null,null,null,null,null,null,null,null,null,null,null,null,null,null,null,null,null,null,null,null,null,null,null,null,null,null,null,null,null,null,null,null,null,null,null,null,null,null,null,null,null,null,null,null,null,null,null,null,null,"ATU_HH","TER_NRES_WTR"]
[null,3.3,null,"+  Air transport",null,null,null,null,null,null,null,null,null,null,null,null,null,null,null,null,null,null,null,null,null,null,null,null,null,null,null,null,null,null,null,null,null,null,null,null,null,null,null,null,null,null,null,null,null,null,null,null,null,null,null,null,null,null,null,null,null,null,null,null,null,null,null,null,null,null,null,null,null,null,null,null,null,null,null,null,null,null,null,null,null,null,null,null,null,null,"ATU_HH","TER_NRES_ATR"]
[null,4,null,"Other adjustments and statistical discrepancy",null,null,null,null,null,null,null,null,null,null,null,null,null,null,null,null,null,null,null,null,null,null,null,null,null,null,null,null,null,null,null,null,null,null,null,null,null,null,null,null,null,null,null,null,null,null,null,null,null,null,null,null,null,null,null,null,null,null,null,null,null,null,null,null,null,null,null,null,null,null,null,null,null,null,null,null,null,null,null,null,null,null,null,null,null,null,"ATU_HH","ADJ_SD"]
[null,5,null,"'Total direct N2O emissions without N2O from LULUCF (as reported to UNFCCC table 10s4)",null,null,null,null,null,null,null,null,null,null,null,null,null,null,null,null,null,null,null,null,null,null,null,null,null,null,null,null,null,null,null,null,null,null,null,null,null,null,null,null,null,null,null,null,null,null,null,null,null,null,null,null,null,null,null,null,null,null,null,null,null,null,null,null,null,null,null,null,null,null,null,null,null,null,null,null,null,null,null,null,null,null,null,null,null,null,"ATU_HH","TER"]
[null,null,null,"Year of submission to UNFCCC"]
[]
[null,"Explanatory notes for bridging items:"]
[null,1,"Total Air emissions accounts (industry (row 5) + households (row 91)) - residence principle"]
[]
[null,2.1,"Fishing vessels operated by resident units bunkering outside of the reporting country"]
[null,2.2000000000000002,"Land transport (incl. rail) by resident units fuelling outside of the reporting country"]
[null,2.2999999999999998,"Domestic navigation by resident units bunkering at ports outside of the reporting country and all international navigation by resident units"]
[null,2.4,"Domestic aviation by resident units bunkering at airports outside of the reporting country and all international aviation by resident units"]
[]
[null,3.1,"Land transport (incl. rail) by non-resident units fuelling on the territory of the reporting country"]
[null,3.2,"Domestic navigation by non-residents bunkering at ports of the reporting country"]
[null,3.3,"Domestic aviation by non-residents bunkering at airports of the reporting country"]
[]
[null,5,"National totals derived from UNFCCC inventories that include domestic aviation/navigation bunkering at airports/ports of the reporting country, while excluding international transport and LULUCF - territory principle"]

{"sheet":"CH4","index":15,"n_rows":121,"n_cols":98,"rows_kept":121,"cut":false,"hidden":false,"merged":[[0,96,2,96],[0,97,2,97],[0,90,2,90],[0,91,2,91],[0,92,2,92],[0,93,2,93],[0,94,2,94],[0,95,2,95],[103,3,103,4],[80,3,80,4],[81,3,81,4],[82,3,82,4],[83,3,83,4],[84,3,84,4],[73,3,73,4],[74,3,74,4],[75,3,75,4],[76,3,76,4],[77,3,77,4],[78,3,78,4],[67,3,67,4],[68,3,68,4],[69,3,69,4],[70,3,70,4],[104,3,104,4],[105,3,105,4],[0,87,2,87],[0,89,2,89],[97,3,97,4],[98,3,98,4],[99,3,99,4],[100,3,100,4],[101,3,101,4],[102,3,102,4],[91,3,91,4],[92,3,92,4],[93,3,93,4],[94,1,94,4],[95,3,95,4],[96,3,96,4],[85,3,85,4],[86,3,86,4],[87,3,87,4],[88,3,88,4],[89,3,89,4],[90,1,90,4],[79,3,79,4],[71,3,71,4],[72,3,72,4],[61,3,61,4],[62,3,62,4],[63,3,63,4],[64,3,64,4],[65,3,65,4],[66,3,66,4],[55,3,55,4],[56,3,56,4],[57,3,57,4],[58,3,58,4],[59,3,59,4],[60,3,60,4],[49,3,49,4],[50,3,50,4],[51,3,51,4],[52,3,52,4],[53,3,53,4],[54,3,54,4],[43,3,43,4],[44,3,44,4],[45,3,45,4],[46,3,46,4],[47,3,47,4],[48,3,48,4],[37,3,37,4],[38,3,38,4],[39,3,39,4],[40,3,40,4],[41,3,41,4],[42,3,42,4],[31,3,31,4],[32,3,32,4],[33,3,33,4],[34,3,34,4],[35,3,35,4],[36,3,36,4],[27,3,27,4],[28,3,28,4],[29,3,29,4],[30,3,30,4],[19,3,19,4],[20,3,20,4],[21,3,21,4],[22,3,22,4],[23,3,23,4],[24,3,24,4],[18,3,18,4],[7,3,7,4],[8,3,8,4],[9,3,9,4],[10,3,10,4],[11,3,11,4],[12,3,12,4],[25,3,25,4],[26,3,26,4],[0,1,0,2],[0,5,2,6],[0,7,2,8],[0,9,2,10],[13,3,13,4],[14,3,14,4],[15,3,15,4],[16,3,16,4],[17,3,17,4],[106,3,106,4],[0,88,2,88],[0,11,2,12],[0,13,2,14],[2,47,2,48],[3,1,3,4],[4,1,4,2],[4,3,4,4],[5,3,5,4],[6,3,6,4],[0,27,2,28],[0,29,2,30],[0,31,2,32],[0,33,2,34],[0,35,2,36],[1,1,1,2],[2,1,2,2],[2,3,2,4],[0,15,2,16],[0,17,2,18],[0,19,2,20],[0,21,2,22],[0,23,2,24],[0,25,2,26]]}
["DATAENTRY","Country:",null,{"$f":"intro!F7","v":""},null,null,null,null,null,null,null,null,null,null,null,null,null,null,null,null,null,null,null,null,null,null,null,null,null,null,null,null,null,null,null,null,null,null,null,null,null,null,null,null,null,null,null,null,null,null,null,null,null,null,null,null,null,null,null,null,null,null,null,null,null,null,null,null,null,null,null,null,null,null,null,null,null,null,null,null,null,null,null,null,null,null,null,"DEMAND_PROD","ACCOUNTING_ENTRY","COUNTERPART_AREA","INTERACTORS","BRIDGE_ITEM","AIRPOL","STO","UNIT_MEASURE","UNIT_MULT","PRODUCT","SECTOR"]
[null,"Air Pollutant",null,"CH4","Methane"]
["T","Unit","Million National Currency","tonnes (Mg)"]
[null,"Air emissions by industry",null,null,null,1995,null,1996,null,1997,null,1998,null,1999,null,2000,null,2001,null,2002,null,2003,null,2004,null,2005,null,2006,null,2007,null,2008,null,2009,null,2010,null,2011,null,2012,null,2013,null,2014,null,2015,null,2016,null,2017,null,2018,null,2019,null,2020,null,2021,null,2022,null,2023,null,2024]
[null,{"$f":"Parameters!Q4","v":"A_U   01-99"},null,{"$f":"Parameters!S4","v":"Total industries"},null,null,null,null,null,null,null,null,null,null,null,null,null,null,null,null,null,null,null,null,null,null,null,null,null,null,null,null,null,null,null,null,null,null,null,null,null,null,null,null,null,null,null,null,null,null,null,null,null,null,null,null,null,null,null,null,null,null,null,null,null,null,null,null,null,null,null,null,null,null,null,null,null,null,null,null,null,null,null,null,null,null,null,"P","EC","W2","ATU","RES","CH4","_Z","TN",0,"_T","S1"]
[null,{"$f":"Parameters!Q5","v":"A"},null,{"$f":"Parameters!S5","v":"Agriculture, forestry and fishing"},null,null,null,null,null,null,null,null,null,null,null,null,null,null,null,null,null,null,null,null,null,null,null,null,null,null,null,null,null,null,null,null,null,null,null,null,null,null,null,null,null,null,null,null,null,null,null,null,null,null,null,null,null,null,null,null,null,null,null,null,null,null,null,null,null,null,null,null,null,null,null,null,null,null,null,null,null,null,null,null,null,null,null,null,null,null,"A","RES"]
[null,{"$f":"Parameters!Q6","v":"A01"},null,{"$f":"Parameters!S6","v":"Crop and animal production, hunting and related service activities"},null,null,null,null,null,null,null,null,null,null,null,null,null,null,null,null,null,null,null,null,null,null,null,null,null,null,null,null,null,null,null,null,null,null,null,null,null,null,null,null,null,null,null,null,null,null,null,null,null,null,null,null,null,null,null,null,null,null,null,null,null,null,null,null,null,null,null,null,null,null,null,null,null,null,null,null,null,null,null,null,null,null,null,null,null,null,"A01","RES"]
[null,{"$f":"Parameters!Q7","v":"A02"},null,{"$f":"Parameters!S7","v":"Forestry and logging"},null,null,null,null,null,null,null,null,null,null,null,null,null,null,null,null,null,null,null,null,null,null,null,null,null,null,null,null,null,null,null,null,null,null,null,null,null,null,null,null,null,null,null,null,null,null,null,null,null,null,null,null,null,null,null,null,null,null,null,null,null,null,null,null,null,null,null,null,null,null,null,null,null,null,null,null,null,null,null,null,null,null,null,null,null,null,"A02","RES"]
[null,{"$f":"Parameters!Q8","v":"A03"},null,{"$f":"Parameters!S8","v":"Fishing and aquaculture"},null,null,null,null,null,null,null,null,null,null,null,null,null,null,null,null,null,null,null,null,null,null,null,null,null,null,null,null,null,null,null,null,null,null,null,null,null,null,null,null,null,null,null,null,null,null,null,null,null,null,null,null,null,null,null,null,null,null,null,null,null,null,null,null,null,null,null,null,null,null,null,null,null,null,null,null,null,null,null,null,null,null,null,null,null,null,"A03","RES"]
[null,{"$f":"Parameters!Q9","v":"B"},null,{"$f":"Parameters!S9","v":"Mining and quarrying"},null,null,null,null,null,null,null,null,null,null,null,null,null,null,null,null,null,null,null,null,null,null,null,null,null,null,null,null,null,null,null,null,null,null,null,null,null,null,null,null,null,null,null,null,null,null,null,null,null,null,null,null,null,null,null,null,null,null,null,null,null,null,null,null,null,null,null,null,null,null,null,null,null,null,null,null,null,null,null,null,null,null,null,null,null,null,"B","RES"]
[null,{"$f":"Parameters!Q10","v":"C"},null,{"$f":"Parameters!S10","v":"Manufacturing"},null,null,null,null,null,null,null,null,null,null,null,null,null,null,null,null,null,null,null,null,null,null,null,null,null,null,null,null,null,null,null,null,null,null,null,null,null,null,null,null,null,null,null,null,null,null,null,null,null,null,null,null,null,null,null,null,null,null,null,null,null,null,null,null,null,null,null,null,null,null,null,null,null,null,null,null,null,null,null,null,null,null,null,null,null,null,"C","RES"]
[null,{"$f":"Parameters!Q11","v":"C10-C12"},null,{"$f":"Parameters!S11","v":"Manufacture of food products, beverages and tobacco\nproducts"},null,null,null,null,null,null,null,null,null,null,null,null,null,null,null,null,null,null,null,null,null,null,null,null,null,null,null,null,null,null,null,null,null,null,null,null,null,null,null,null,null,null,null,null,null,null,null,null,null,null,null,null,null,null,null,null,null,null,null,null,null,null,null,null,null,null,null,null,null,null,null,null,null,null,null,null,null,null,null,null,null,null,null,null,null,null,"C10T12","RES"]
[null,{"$f":"Parameters!Q12","v":"C13-C15"},null,{"$f":"Parameters!S12","v":"Manufacture of textiles, wearing apparel and leather products"},null,null,null,null,null,null,null,null,null,null,null,null,null,null,null,null,null,null,null,null,null,null,null,null,null,null,null,null,null,null,null,null,null,null,null,null,null,null,null,null,null,null,null,null,null,null,null,null,null,null,null,null,null,null,null,null,null,null,null,null,null,null,null,null,null,null,null,null,null,null,null,null,null,null,null,null,null,null,null,null,null,null,null,null,null,null,"C13T15","RES"]
[null,{"$f":"Parameters!Q13","v":"C16-C18"},null,{"$f":"Parameters!S13","v":"Manufacture of wood, paper, printing and reproduction"}]
[null,{"$f":"Parameters!Q14","v":"C16"},null,{"$f":"Parameters!S14","v":"Manufacture of wood and of products of wood and cork, except furniture; manufacture of articles of straw and plaiting materials"},null,null,null,null,null,null,null,null,null,null,null,null,null,null,null,null,null,null,null,null,null,null,null,null,null,null,null,null,null,null,null,null,null,null,null,null,null,null,null,null,null,null,null,null,null,null,null,null,null,null,null,null,null,null,null,null,null,null,null,null,null,null,null,null,null,null,null,null,null,null,null,null,null,null,null,null,null,null,null,null,null,null,null,null,null,null,"C16","RES"]
[null,{"$f":"Parameters!Q15","v":"C17"},null,{"$f":"Parameters!S15","v":"Manufacture of paper and paper products"},null,null,null,null,null,null,null,null,null,null,null,null,null,null,null,null,null,null,null,null,null,null,null,null,null,null,null,null,null,null,null,null,null,null,null,null,null,null,null,null,null,null,null,null,null,null,null,null,null,null,null,null,null,null,null,null,null,null,null,null,null,null,null,null,null,null,null,null,null,null,null,null,null,null,null,null,null,null,null,null,null,null,null,null,null,null,"C17","RES"]
[null,{"$f":"Parameters!Q16","v":"C18"},null,{"$f":"Parameters!S16","v":"Printing and reproduction of recorded media"},null,null,null,null,null,null,null,null,null,null,null,null,null,null,null,null,null,null,null,null,null,null,null,null,null,null,null,null,null,null,null,null,null,null,null,null,null,null,null,null,null,null,null,null,null,null,null,null,null,null,null,null,null,null,null,null,null,null,null,null,null,null,null,null,null,null,null,null,null,null,null,null,null,null,null,null,null,null,null,null,null,null,null,null,null,null,"C18","RES"]
[null,{"$f":"Parameters!Q17","v":"C19"},null,{"$f":"Parameters!S17","v":"Manufacture of coke and refined petroleum products"},null,null,null,null,null,null,null,null,null,null,null,null,null,null,null,null,null,null,null,null,null,null,null,null,null,null,null,null,null,null,null,null,null,null,null,null,null,null,null,null,null,null,null,null,null,null,null,null,null,null,null,null,null,null,null,null,null,null,null,null,null,null,null,null,null,null,null,null,null,null,null,null,null,null,null,null,null,null,null,null,null,null,null,null,null,null,"C19","RES"]
[null,{"$f":"Parameters!Q18","v":"C20"},null,{"$f":"Parameters!S18","v":"Manufacture of chemicals and chemical products"},null,null,null,null,null,null,null,null,null,null,null,null,null,null,null,null,null,null,null,null,null,null,null,null,null,null,null,null,null,null,null,null,null,null,null,null,null,null,null,null,null,null,null,null,null,null,null,null,null,null,null,null,null,null,null,null,null,null,null,null,null,null,null,null,null,null,null,null,null,null,null,null,null,null,null,null,null,null,null,null,null,null,null,null,null,null,"C20","RES"]
[null,{"$f":"Parameters!Q19","v":"C21"},null,{"$f":"Parameters!S19","v":"Manufacture of basic pharmaceutical products and pharmaceutical preparations"},null,null,null,null,null,null,null,null,null,null,null,null,null,null,null,null,null,null,null,null,null,null,null,null,null,null,null,null,null,null,null,null,null,null,null,null,null,null,null,null,null,null,null,null,null,null,null,null,null,null,null,null,null,null,null,null,null,null,null,null,null,null,null,null,null,null,null,null,null,null,null,null,null,null,null,null,null,null,null,null,null,null,null,null,null,null,"C21","RES"]
[null,{"$f":"Parameters!Q20","v":"C22_C23"},null,{"$f":"Parameters!S20","v":"Manufacture of rubber and plastic products and other non-metallic mineral products"}]
[null,{"$f":"Parameters!Q21","v":"C22"},null,{"$f":"Parameters!S21","v":"Manufacture of rubber and plastic products"},null,null,null,null,null,null,null,null,null,null,null,null,null,null,null,null,null,null,null,null,null,null,null,null,null,null,null,null,null,null,null,null,null,null,null,null,null,null,null,null,null,null,null,null,null,null,null,null,null,null,null,null,null,null,null,null,null,null,null,null,null,null,null,null,null,null,null,null,null,null,null,null,null,null,null,null,null,null,null,null,null,null,null,null,null,null,"C22","RES"]
[null,{"$f":"Parameters!Q22","v":"C23"},null,{"$f":"Parameters!S22","v":"Manufacture of other non-metallic mineral products"},null,null,null,null,null,null,null,null,null,null,null,null,null,null,null,null,null,null,null,null,null,null,null,null,null,null,null,null,null,null,null,null,null,null,null,null,null,null,null,null,null,null,null,null,null,null,null,null,null,null,null,null,null,null,null,null,null,null,null,null,null,null,null,null,null,null,null,null,null,null,null,null,null,null,null,null,null,null,null,null,null,null,null,null,null,null,"C23","RES"]
[null,{"$f":"Parameters!Q23","v":"C24_C25"},null,{"$f":"Parameters!S23","v":"Manufacture of basic metals and fabricated metal products, except machinery and equipment"}]
[null,{"$f":"Parameters!Q24","v":"C24"},null,{"$f":"Parameters!S24","v":"Manufacture of basic metals"},null,null,null,null,null,null,null,null,null,null,null,null,null,null,null,null,null,null,null,null,null,null,null,null,null,null,null,null,null,null,null,null,null,null,null,null,null,null,null,null,null,null,null,null,null,null,null,null,null,null,null,null,null,null,null,null,null,null,null,null,null,null,null,null,null,null,null,null,null,null,null,null,null,null,null,null,null,null,null,null,null,null,null,null,null,null,"C24","RES"]
[null,{"$f":"Parameters!Q25","v":"C25"},null,{"$f":"Parameters!S25","v":"Manufacture of fabricated metal products, except machinery and equipment"},null,null,null,null,null,null,null,null,null,null,null,null,null,null,null,null,null,null,null,null,null,null,null,null,null,null,null,null,null,null,null,null,null,null,null,null,null,null,null,null,null,null,null,null,null,null,null,null,null,null,null,null,null,null,null,null,null,null,null,null,null,null,null,null,null,null,null,null,null,null,null,null,null,null,null,null,null,null,null,null,null,null,null,null,null,null,"C25","RES"]
[null,{"$f":"Parameters!Q26","v":"C26"},null,{"$f":"Parameters!S26","v":"Manufacture of computer, electronic and optical products"},null,null,null,null,null,null,null,null,null,null,null,null,null,null,null,null,null,null,null,null,null,null,null,null,null,null,null,null,null,null,null,null,null,null,null,null,null,null,null,null,null,null,null,null,null,null,null,null,null,null,null,null,null,null,null,null,null,null,null,null,null,null,null,null,null,null,null,null,null,null,null,null,null,null,null,null,null,null,null,null,null,null,null,null,null,null,"C26","RES"]
[null,{"$f":"Parameters!Q27","v":"C27"},null,{"$f":"Parameters!S27","v":"Manufacture of electrical equipment"},null,null,null,null,null,null,null,null,null,null,null,null,null,null,null,null,null,null,null,null,null,null,null,null,null,null,null,null,null,null,null,null,null,null,null,null,null,null,null,null,null,null,null,null,null,null,null,null,null,null,null,null,null,null,null,null,null,null,null,null,null,null,null,null,null,null,null,null,null,null,null,null,null,null,null,null,null,null,null,null,null,null,null,null,null,null,"C27","RES"]
[null,{"$f":"Parameters!Q28","v":"C28"},null,{"$f":"Parameters!S28","v":"Manufacture of machinery and equipment n.e.c."},null,null,null,null,null,null,null,null,null,null,null,null,null,null,null,null,null,null,null,null,null,null,null,null,null,null,null,null,null,null,null,null,null,null,null,null,null,null,null,null,null,null,null,null,null,null,null,null,null,null,null,null,null,null,null,null,null,null,null,null,null,null,null,null,null,null,null,null,null,null,null,null,null,null,null,null,null,null,null,null,null,null,null,null,null,null,"C28","RES"]
[null,{"$f":"Parameters!Q29","v":"C29_C30"},null,{"$f":"Parameters!S29","v":"Manufacture of motor vehicles, trailers, semi-trailers and of other transport equipment"}]
[null,{"$f":"Parameters!Q30","v":"C29"},null,{"$f":"Parameters!S30","v":"Manufacture of motor vehicles, trailers and semi-trailers"},null,null,null,null,null,null,null,null,null,null,null,null,null,null,null,null,null,null,null,null,null,null,null,null,null,null,null,null,null,null,null,null,null,null,null,null,null,null,null,null,null,null,null,null,null,null,null,null,null,null,null,null,null,null,null,null,null,null,null,null,null,null,null,null,null,null,null,null,null,null,null,null,null,null,null,null,null,null,null,null,null,null,null,null,null,null,"C29","RES"]
[null,{"$f":"Parameters!Q31","v":"C30"},null,{"$f":"Parameters!S31","v":"Manufacture of other transport equipment"},null,null,null,null,null,null,null,null,null,null,null,null,null,null,null,null,null,null,null,null,null,null,null,null,null,null,null,null,null,null,null,null,null,null,null,null,null,null,null,null,null,null,null,null,null,null,null,null,null,null,null,null,null,null,null,null,null,null,null,null,null,null,null,null,null,null,null,null,null,null,null,null,null,null,null,null,null,null,null,null,null,null,null,null,null,null,"C30","RES"]
[null,{"$f":"Parameters!Q32","v":"C31-C33"},null,{"$f":"Parameters!S32","v":"Manufacture of furniture; jewellery, musical instruments, toys; repair and installation of machinery and equipment"}]
[null,{"$f":"Parameters!Q33","v":"C31_C32"},null,{"$f":"Parameters!S33","v":"Manufacture of furniture; other manufacturing"},null,null,null,null,null,null,null,null,null,null,null,null,null,null,null,null,null,null,null,null,null,null,null,null,null,null,null,null,null,null,null,null,null,null,null,null,null,null,null,null,null,null,null,null,null,null,null,null,null,null,null,null,null,null,null,null,null,null,null,null,null,null,null,null,null,null,null,null,null,null,null,null,null,null,null,null,null,null,null,null,null,null,null,null,null,null,"C31_32","RES"]
[null,{"$f":"Parameters!Q34","v":"C33"},null,{"$f":"Parameters!S34","v":"Repair and installation of machinery and equipment"},null,null,null,null,null,null,null,null,null,null,null,null,null,null,null,null,null,null,null,null,null,null,null,null,null,null,null,null,null,null,null,null,null,null,null,null,null,null,null,null,null,null,null,null,null,null,null,null,null,null,null,null,null,null,null,null,null,null,null,null,null,null,null,null,null,null,null,null,null,null,null,null,null,null,null,null,null,null,null,null,null,null,null,null,null,null,"C33","RES"]
[null,{"$f":"Parameters!Q35","v":"D"},null,{"$f":"Parameters!S35","v":"Electricity, gas, steam and air conditioning supply"},null,null,null,null,null,null,null,null,null,null,null,null,null,null,null,null,null,null,null,null,null,null,null,null,null,null,null,null,null,null,null,null,null,null,null,null,null,null,null,null,null,null,null,null,null,null,null,null,null,null,null,null,null,null,null,null,null,null,null,null,null,null,null,null,null,null,null,null,null,null,null,null,null,null,null,null,null,null,null,null,null,null,null,null,null,null,"D","RES"]
[null,{"$f":"Parameters!Q36","v":"E"},null,{"$f":"Parameters!S36","v":"Water supply; sewerage, waste management and remediation activities"},null,null,null,null,null,null,null,null,null,null,null,null,null,null,null,null,null,null,null,null,null,null,null,null,null,null,null,null,null,null,null,null,null,null,null,null,null,null,null,null,null,null,null,null,null,null,null,null,null,null,null,null,null,null,null,null,null,null,null,null,null,null,null,null,null,null,null,null,null,null,null,null,null,null,null,null,null,null,null,null,null,null,null,null,null,null,"E","RES"]
[null,{"$f":"Parameters!Q37","v":"E36"},null,{"$f":"Parameters!S37","v":"Water collection, treatment and supply"},null,null,null,null,null,null,null,null,null,null,null,null,null,null,null,null,null,null,null,null,null,null,null,null,null,null,null,null,null,null,null,null,null,null,null,null,null,null,null,null,null,null,null,null,null,null,null,null,null,null,null,null,null,null,null,null,null,null,null,null,null,null,null,null,null,null,null,null,null,null,null,null,null,null,null,null,null,null,null,null,null,null,null,null,null,null,"E36","RES"]
[null,{"$f":"Parameters!Q38","v":"E37-E39"},null,{"$f":"Parameters!S38","v":"Sewerage, waste management, remediation activities"},null,null,null,null,null,null,null,null,null,null,null,null,null,null,null,null,null,null,null,null,null,null,null,null,null,null,null,null,null,null,null,null,null,null,null,null,null,null,null,null,null,null,null,null,null,null,null,null,null,null,null,null,null,null,null,null,null,null,null,null,null,null,null,null,null,null,null,null,null,null,null,null,null,null,null,null,null,null,null,null,null,null,null,null,null,null,"E37T39","RES"]
[null,{"$f":"Parameters!Q39","v":"F"},null,{"$f":"Parameters!S39","v":"Construction"},null,null,null,null,null,null,null,null,null,null,null,null,null,null,null,null,null,null,null,null,null,null,null,null,null,null,null,null,null,null,null,null,null,null,null,null,null,null,null,null,null,null,null,null,null,null,null,null,null,null,null,null,null,null,null,null,null,null,null,null,null,null,null,null,null,null,null,null,null,null,null,null,null,null,null,null,null,null,null,null,null,null,null,null,null,null,"F","RES"]
[null,{"$f":"Parameters!Q40","v":"G"},null,{"$f":"Parameters!S40","v":"Wholesale and retail trade; repair of motor vehicles and motorcycles"},null,null,null,null,null,null,null,null,null,null,null,null,null,null,null,null,null,null,null,null,null,null,null,null,null,null,null,null,null,null,null,null,null,null,null,null,null,null,null,null,null,null,null,null,null,null,null,null,null,null,null,null,null,null,null,null,null,null,null,null,null,null,null,null,null,null,null,null,null,null,null,null,null,null,null,null,null,null,null,null,null,null,null,null,null,null,"G","RES"]
[null,{"$f":"Parameters!Q41","v":"G45"},null,{"$f":"Parameters!S41","v":"Wholesale and retail trade and repair of motor vehicles and motorcycles"},null,null,null,null,null,null,null,null,null,null,null,null,null,null,null,null,null,null,null,null,null,null,null,null,null,null,null,null,null,null,null,null,null,null,null,null,null,null,null,null,null,null,null,null,null,null,null,null,null,null,null,null,null,null,null,null,null,null,null,null,null,null,null,null,null,null,null,null,null,null,null,null,null,null,null,null,null,null,null,null,null,null,null,null,null,null,"G45","RES"]
[null,{"$f":"Parameters!Q42","v":"G46"},null,{"$f":"Parameters!S42","v":"Wholesale trade, except of motor vehicles and motorcycles"},null,null,null,null,null,null,null,null,null,null,null,null,null,null,null,null,null,null,null,null,null,null,null,null,null,null,null,null,null,null,null,null,null,null,null,null,null,null,null,null,null,null,null,null,null,null,null,null,null,null,null,null,null,null,null,null,null,null,null,null,null,null,null,null,null,null,null,null,null,null,null,null,null,null,null,null,null,null,null,null,null,null,null,null,null,null,"G46","RES"]
[null,{"$f":"Parameters!Q43","v":"G47"},null,{"$f":"Parameters!S43","v":"Retail trade, except of motor vehicles and motorcycles"},null,null,null,null,null,null,null,null,null,null,null,null,null,null,null,null,null,null,null,null,null,null,null,null,null,null,null,null,null,null,null,null,null,null,null,null,null,null,null,null,null,null,null,null,null,null,null,null,null,null,null,null,null,null,null,null,null,null,null,null,null,null,null,null,null,null,null,null,null,null,null,null,null,null,null,null,null,null,null,null,null,null,null,null,null,null,"G47","RES"]
[null,{"$f":"Parameters!Q44","v":"H"},null,{"$f":"Parameters!S44","v":"Transportation and storage"},null,null,null,null,null,null,null,null,null,null,null,null,null,null,null,null,null,null,null,null,null,null,null,null,null,null,null,null,null,null,null,null,null,null,null,null,null,null,null,null,null,null,null,null,null,null,null,null,null,null,null,null,null,null,null,null,null,null,null,null,null,null,null,null,null,null,null,null,null,null,null,null,null,null,null,null,null,null,null,null,null,null,null,null,null,null,"H","RES"]
[null,{"$f":"Parameters!Q45","v":"H49"},null,{"$f":"Parameters!S45","v":"Land transport and transport via pipelines"},null,null,null,null,null,null,null,null,null,null,null,null,null,null,null,null,null,null,null,null,null,null,null,null,null,null,null,null,null,null,null,null,null,null,null,null,null,null,null,null,null,null,null,null,null,null,null,null,null,null,null,null,null,null,null,null,null,null,null,null,null,null,null,null,null,null,null,null,null,null,null,null,null,null,null,null,null,null,null,null,null,null,null,null,null,null,"H49","RES"]
[null,{"$f":"Parameters!Q46","v":"H50"},null,{"$f":"Parameters!S46","v":"Water transport"},null,null,null,null,null,null,null,null,null,null,null,null,null,null,null,null,null,null,null,null,null,null,null,null,null,null,null,null,null,null,null,null,null,null,null,null,null,null,null,null,null,null,null,null,null,null,null,null,null,null,null,null,null,null,null,null,null,null,null,null,null,null,null,null,null,null,null,null,null,null,null,null,null,null,null,null,null,null,null,null,null,null,null,null,null,null,"H50","RES"]
[null,{"$f":"Parameters!Q47","v":"H51"},null,{"$f":"Parameters!S47","v":"Air transport"},null,null,null,null,null,null,null,null,null,null,null,null,null,null,null,null,null,null,null,null,null,null,null,null,null,null,null,null,null,null,null,null,null,null,null,null,null,null,null,null,null,null,null,null,null,null,null,null,null,null,null,null,null,null,null,null,null,null,null,null,null,null,null,null,null,null,null,null,null,null,null,null,null,null,null,null,null,null,null,null,null,null,null,null,null,null,"H51","RES"]
[null,{"$f":"Parameters!Q48","v":"H52"},null,{"$f":"Parameters!S48","v":"Warehousing and support activities for transportation"},null,null,null,null,null,null,null,null,null,null,null,null,null,null,null,null,null,null,null,null,null,null,null,null,null,null,null,null,null,null,null,null,null,null,null,null,null,null,null,null,null,null,null,null,null,null,null,null,null,null,null,null,null,null,null,null,null,null,null,null,null,null,null,null,null,null,null,null,null,null,null,null,null,null,null,null,null,null,null,null,null,null,null,null,null,null,"H52","RES"]
[null,{"$f":"Parameters!Q49","v":"H53"},null,{"$f":"Parameters!S49","v":"Postal and courier activities"},null,null,null,null,null,null,null,null,null,null,null,null,null,null,null,null,null,null,null,null,null,null,null,null,null,null,null,null,null,null,null,null,null,null,null,null,null,null,null,null,null,null,null,null,null,null,null,null,null,null,null,null,null,null,null,null,null,null,null,null,null,null,null,null,null,null,null,null,null,null,null,null,null,null,null,null,null,null,null,null,null,null,null,null,null,null,"H53","RES"]
[null,{"$f":"Parameters!Q50","v":"I"},null,{"$f":"Parameters!S50","v":"Accommodation and food service activities"},null,null,null,null,null,null,null,null,null,null,null,null,null,null,null,null,null,null,null,null,null,null,null,null,null,null,null,null,null,null,null,null,null,null,null,null,null,null,null,null,null,null,null,null,null,null,null,null,null,null,null,null,null,null,null,null,null,null,null,null,null,null,null,null,null,null,null,null,null,null,null,null,null,null,null,null,null,null,null,null,null,null,null,null,null,null,"I","RES"]
[null,{"$f":"Parameters!Q51","v":"J"},null,{"$f":"Parameters!S51","v":"Information and communication"},null,null,null,null,null,null,null,null,null,null,null,null,null,null,null,null,null,null,null,null,null,null,null,null,null,null,null,null,null,null,null,null,null,null,null,null,null,null,null,null,null,null,null,null,null,null,null,null,null,null,null,null,null,null,null,null,null,null,null,null,null,null,null,null,null,null,null,null,null,null,null,null,null,null,null,null,null,null,null,null,null,null,null,null,null,null,"J","RES"]
[null,{"$f":"Parameters!Q52","v":"J58-J60"},null,{"$f":"Parameters!S52","v":"Publishing, motion picture, video, television programme production; sound recording, programming and broadcasting activities"}]
[null,{"$f":"Parameters!Q53","v":"J58"},null,{"$f":"Parameters!S53","v":"Publishing activities"},null,null,null,null,null,null,null,null,null,null,null,null,null,null,null,null,null,null,null,null,null,null,null,null,null,null,null,null,null,null,null,null,null,null,null,null,null,null,null,null,null,null,null,null,null,null,null,null,null,null,null,null,null,null,null,null,null,null,null,null,null,null,null,null,null,null,null,null,null,null,null,null,null,null,null,null,null,null,null,null,null,null,null,null,null,null,"J58","RES"]
[null,{"$f":"Parameters!Q54","v":"J59_J60"},null,{"$f":"Parameters!S54","v":"Motion picture, video, television programme production; programming and broadcasting activities"},null,null,null,null,null,null,null,null,null,null,null,null,null,null,null,null,null,null,null,null,null,null,null,null,null,null,null,null,null,null,null,null,null,null,null,null,null,null,null,null,null,null,null,null,null,null,null,null,null,null,null,null,null,null,null,null,null,null,null,null,null,null,null,null,null,null,null,null,null,null,null,null,null,null,null,null,null,null,null,null,null,null,null,null,null,null,"J59_60","RES"]
[null,{"$f":"Parameters!Q55","v":"J61"},null,{"$f":"Parameters!S55","v":"Telecommunications"},null,null,null,null,null,null,null,null,null,null,null,null,null,null,null,null,null,null,null,null,null,null,null,null,null,null,null,null,null,null,null,null,null,null,null,null,null,null,null,null,null,null,null,null,null,null,null,null,null,null,null,null,null,null,null,null,null,null,null,null,null,null,null,null,null,null,null,null,null,null,null,null,null,null,null,null,null,null,null,null,null,null,null,null,null,null,"J61","RES"]
[null,{"$f":"Parameters!Q56","v":"J62_J63"},null,{"$f":"Parameters!S56","v":"Computer programming, consultancy, and information service activities"},null,null,null,null,null,null,null,null,null,null,null,null,null,null,null,null,null,null,null,null,null,null,null,null,null,null,null,null,null,null,null,null,null,null,null,null,null,null,null,null,null,null,null,null,null,null,null,null,null,null,null,null,null,null,null,null,null,null,null,null,null,null,null,null,null,null,null,null,null,null,null,null,null,null,null,null,null,null,null,null,null,null,null,null,null,null,"J62_63","RES"]
[null,{"$f":"Parameters!Q57","v":"K"},null,{"$f":"Parameters!S57","v":"Financial and insurance activities"},null,null,null,null,null,null,null,null,null,null,null,null,null,null,null,null,null,null,null,null,null,null,null,null,null,null,null,null,null,null,null,null,null,null,null,null,null,null,null,null,null,null,null,null,null,null,null,null,null,null,null,null,null,null,null,null,null,null,null,null,null,null,null,null,null,null,null,null,null,null,null,null,null,null,null,null,null,null,null,null,null,null,null,null,null,null,"K","RES"]
[null,{"$f":"Parameters!Q58","v":"K64"},null,{"$f":"Parameters!S58","v":"Financial service activities, except insurance and pension funding"},null,null,null,null,null,null,null,null,null,null,null,null,null,null,null,null,null,null,null,null,null,null,null,null,null,null,null,null,null,null,null,null,null,null,null,null,null,null,null,null,null,null,null,null,null,null,null,null,null,null,null,null,null,null,null,null,null,null,null,null,null,null,null,null,null,null,null,null,null,null,null,null,null,null,null,null,null,null,null,null,null,null,null,null,null,null,"K64","RES"]
[null,{"$f":"Parameters!Q59","v":"K65"},null,{"$f":"Parameters!S59","v":"Insurance, reinsurance and pension funding, except compulsory social security"},null,null,null,null,null,null,null,null,null,null,null,null,null,null,null,null,null,null,null,null,null,null,null,null,null,null,null,null,null,null,null,null,null,null,null,null,null,null,null,null,null,null,null,null,null,null,null,null,null,null,null,null,null,null,null,null,null,null,null,null,null,null,null,null,null,null,null,null,null,null,null,null,null,null,null,null,null,null,null,null,null,null,null,null,null,null,"K65","RES"]
[null,{"$f":"Parameters!Q60","v":"K66"},null,{"$f":"Parameters!S60","v":"Activities auxiliary to financial services and insurance activities"},null,null,null,null,null,null,null,null,null,null,null,null,null,null,null,null,null,null,null,null,null,null,null,null,null,null,null,null,null,null,null,null,null,null,null,null,null,null,null,null,null,null,null,null,null,null,null,null,null,null,null,null,null,null,null,null,null,null,null,null,null,null,null,null,null,null,null,null,null,null,null,null,null,null,null,null,null,null,null,null,null,null,null,null,null,null,"K66","RES"]
[null,{"$f":"Parameters!Q61","v":"L"},null,{"$f":"Parameters!S61","v":"Real estate activities"},null,null,null,null,null,null,null,null,null,null,null,null,null,null,null,null,null,null,null,null,null,null,null,null,null,null,null,null,null,null,null,null,null,null,null,null,null,null,null,null,null,null,null,null,null,null,null,null,null,null,null,null,null,null,null,null,null,null,null,null,null,null,null,null,null,null,null,null,null,null,null,null,null,null,null,null,null,null,null,null,null,null,null,null,null,null,"L","RES"]
[null,{"$f":"Parameters!Q62","v":"L68A"},null,{"$f":"Parameters!S62","v":"Imputed rents of owner-occupied dwellings"},null,null,null,null,null,null,null,null,null,null,null,null,null,null,null,null,null,null,null,null,null,null,null,null,null,null,null,null,null,null,null,null,null,null,null,null,null,null,null,null,null,null,null,null,null,null,null,null,null,null,null,null,null,null,null,null,null,null,null,null,null,null,null,null,null,null,null,null,null,null,null,null,null,null,null,null,null,null,null,null,null,null,null,null,null,null,"L68A","RES"]
[null,{"$f":"Parameters!Q63","v":"M"},null,{"$f":"Parameters!S63","v":"Professional, scientific and technical activities"},null,null,null,null,null,null,null,null,null,null,null,null,null,null,null,null,null,null,null,null,null,null,null,null,null,null,null,null,null,null,null,null,null,null,null,null,null,null,null,null,null,null,null,null,null,null,null,null,null,null,null,null,null,null,null,null,null,null,null,null,null,null,null,null,null,null,null,null,null,null,null,null,null,null,null,null,null,null,null,null,null,null,null,null,null,null,"M","RES"]
[null,{"$f":"Parameters!Q64","v":"M69-M71"},null,{"$f":"Parameters!S64","v":"Legal and accounting activities; activities of head offices; management consultancy activities; architectural and engineering activities; technical testing and analysis"}]
[null,{"$f":"Parameters!Q65","v":"M69_M70"},null,{"$f":"Parameters!S65","v":"Legal and accounting activities; activities of head offices; management consultancy activities"},null,null,null,null,null,null,null,null,null,null,null,null,null,null,null,null,null,null,null,null,null,null,null,null,null,null,null,null,null,null,null,null,null,null,null,null,null,null,null,null,null,null,null,null,null,null,null,null,null,null,null,null,null,null,null,null,null,null,null,null,null,null,null,null,null,null,null,null,null,null,null,null,null,null,null,null,null,null,null,null,null,null,null,null,null,null,"M69_70","RES"]
[null,{"$f":"Parameters!Q66","v":"M71"},null,{"$f":"Parameters!S66","v":"Architectural and engineering activities; technical testing and analysis"},null,null,null,null,null,null,null,null,null,null,null,null,null,null,null,null,null,null,null,null,null,null,null,null,null,null,null,null,null,null,null,null,null,null,null,null,null,null,null,null,null,null,null,null,null,null,null,null,null,null,null,null,null,null,null,null,null,null,null,null,null,null,null,null,null,null,null,null,null,null,null,null,null,null,null,null,null,null,null,null,null,null,null,null,null,null,"M71","RES"]
[null,{"$f":"Parameters!Q67","v":"M72"},null,{"$f":"Parameters!S67","v":"Scientific research and development"},null,null,null,null,null,null,null,null,null,null,null,null,null,null,null,null,null,null,null,null,null,null,null,null,null,null,null,null,null,null,null,null,null,null,null,null,null,null,null,null,null,null,null,null,null,null,null,null,null,null,null,null,null,null,null,null,null,null,null,null,null,null,null,null,null,null,null,null,null,null,null,null,null,null,null,null,null,null,null,null,null,null,null,null,null,null,"M72","RES"]
[null,{"$f":"Parameters!Q68","v":"M73-M75"},null,{"$f":"Parameters!S68","v":"Advertising and market research; other professional, scientific and technical activities; veterinary activities"}]
[null,{"$f":"Parameters!Q69","v":"M73"},null,{"$f":"Parameters!S69","v":"Advertising and market research"},null,null,null,null,null,null,null,null,null,null,null,null,null,null,null,null,null,null,null,null,null,null,null,null,null,null,null,null,null,null,null,null,null,null,null,null,null,null,null,null,null,null,null,null,null,null,null,null,null,null,null,null,null,null,null,null,null,null,null,null,null,null,null,null,null,null,null,null,null,null,null,null,null,null,null,null,null,null,null,null,null,null,null,null,null,null,"M73","RES"]
[null,{"$f":"Parameters!Q70","v":"M74_M75"},null,{"$f":"Parameters!S70","v":"Other professional, scientific and technical activities; veterinary activities"},null,null,null,null,null,null,null,null,null,null,null,null,null,null,null,null,null,null,null,null,null,null,null,null,null,null,null,null,null,null,null,null,null,null,null,null,null,null,null,null,null,null,null,null,null,null,null,null,null,null,null,null,null,null,null,null,null,null,null,null,null,null,null,null,null,null,null,null,null,null,null,null,null,null,null,null,null,null,null,null,null,null,null,null,null,null,"M74_75","RES"]
[null,{"$f":"Parameters!Q71","v":"N"},null,{"$f":"Parameters!S71","v":"Administrative and support service activities"},null,null,null,null,null,null,null,null,null,null,null,null,null,null,null,null,null,null,null,null,null,null,null,null,null,null,null,null,null,null,null,null,null,null,null,null,null,null,null,null,null,null,null,null,null,null,null,null,null,null,null,null,null,null,null,null,null,null,null,null,null,null,null,null,null,null,null,null,null,null,null,null,null,null,null,null,null,null,null,null,null,null,null,null,null,null,"N","RES"]
[null,{"$f":"Parameters!Q72","v":"N77"},null,{"$f":"Parameters!S72","v":"Rental and leasing activities"},null,null,null,null,null,null,null,null,null,null,null,null,null,null,null,null,null,null,null,null,null,null,null,null,null,null,null,null,null,null,null,null,null,null,null,null,null,null,null,null,null,null,null,null,null,null,null,null,null,null,null,null,null,null,null,null,null,null,null,null,null,null,null,null,null,null,null,null,null,null,null,null,null,null,null,null,null,null,null,null,null,null,null,null,null,null,"N77","RES"]
[null,{"$f":"Parameters!Q73","v":"N78"},null,{"$f":"Parameters!S73","v":"Employment activities"},null,null,null,null,null,null,null,null,null,null,null,null,null,null,null,null,null,null,null,null,null,null,null,null,null,null,null,null,null,null,null,null,null,null,null,null,null,null,null,null,null,null,null,null,null,null,null,null,null,null,null,null,null,null,null,null,null,null,null,null,null,null,null,null,null,null,null,null,null,null,null,null,null,null,null,null,null,null,null,null,null,null,null,null,null,null,"N78","RES"]
[null,{"$f":"Parameters!Q74","v":"N79"},null,{"$f":"Parameters!S74","v":"Travel agency, tour operator reservation service and related activities"},null,null,null,null,null,null,null,null,null,null,null,null,null,null,null,null,null,null,null,null,null,null,null,null,null,null,null,null,null,null,null,null,null,null,null,null,null,null,null,null,null,null,null,null,null,null,null,null,null,null,null,null,null,null,null,null,null,null,null,null,null,null,null,null,null,null,null,null,null,null,null,null,null,null,null,null,null,null,null,null,null,null,null,null,null,null,"N79","RES"]
[null,{"$f":"Parameters!Q75","v":"N80-N82"},null,{"$f":"Parameters!S75","v":"Security and investigation, service and landscape, office administrative and support activities"},null,null,null,null,null,null,null,null,null,null,null,null,null,null,null,null,null,null,null,null,null,null,null,null,null,null,null,null,null,null,null,null,null,null,null,null,null,null,null,null,null,null,null,null,null,null,null,null,null,null,null,null,null,null,null,null,null,null,null,null,null,null,null,null,null,null,null,null,null,null,null,null,null,null,null,null,null,null,null,null,null,null,null,null,null,null,"N80T82","RES"]
[null,{"$f":"Parameters!Q76","v":"O"},null,{"$f":"Parameters!S76","v":"Public administration and defence; compulsory social security"},null,null,null,null,null,null,null,null,null,null,null,null,null,null,null,null,null,null,null,null,null,null,null,null,null,null,null,null,null,null,null,null,null,null,null,null,null,null,null,null,null,null,null,null,null,null,null,null,null,null,null,null,null,null,null,null,null,null,null,null,null,null,null,null,null,null,null,null,null,null,null,null,null,null,null,null,null,null,null,null,null,null,null,null,null,null,"O","RES"]
[null,{"$f":"Parameters!Q77","v":"P"},null,{"$f":"Parameters!S77","v":"Education"},null,null,null,null,null,null,null,null,null,null,null,null,null,null,null,null,null,null,null,null,null,null,null,null,null,null,null,null,null,null,null,null,null,null,null,null,null,null,null,null,null,null,null,null,null,null,null,null,null,null,null,null,null,null,null,null,null,null,null,null,null,null,null,null,null,null,null,null,null,null,null,null,null,null,null,null,null,null,null,null,null,null,null,null,null,null,"P","RES"]
[null,{"$f":"Parameters!Q78","v":"Q"},null,{"$f":"Parameters!S78","v":"Human health and social work activities"},null,null,null,null,null,null,null,null,null,null,null,null,null,null,null,null,null,null,null,null,null,null,null,null,null,null,null,null,null,null,null,null,null,null,null,null,null,null,null,null,null,null,null,null,null,null,null,null,null,null,null,null,null,null,null,null,null,null,null,null,null,null,null,null,null,null,null,null,null,null,null,null,null,null,null,null,null,null,null,null,null,null,null,null,null,null,"Q","RES"]
[null,{"$f":"Parameters!Q79","v":"Q86"},null,{"$f":"Parameters!S79","v":"Human health activities"},null,null,null,null,null,null,null,null,null,null,null,null,null,null,null,null,null,null,null,null,null,null,null,null,null,null,null,null,null,null,null,null,null,null,null,null,null,null,null,null,null,null,null,null,null,null,null,null,null,null,null,null,null,null,null,null,null,null,null,null,null,null,null,null,null,null,null,null,null,null,null,null,null,null,null,null,null,null,null,null,null,null,null,null,null,null,"Q86","RES"]
[null,{"$f":"Parameters!Q80","v":"Q87_Q88"},null,{"$f":"Parameters!S80","v":"Residential care activities and social work activities without accommodation"},null,null,null,null,null,null,null,null,null,null,null,null,null,null,null,null,null,null,null,null,null,null,null,null,null,null,null,null,null,null,null,null,null,null,null,null,null,null,null,null,null,null,null,null,null,null,null,null,null,null,null,null,null,null,null,null,null,null,null,null,null,null,null,null,null,null,null,null,null,null,null,null,null,null,null,null,null,null,null,null,null,null,null,null,null,null,"Q87_88","RES"]
[null,{"$f":"Parameters!Q81","v":"R"},null,{"$f":"Parameters!S81","v":"Arts, entertainment and recreation"},null,null,null,null,null,null,null,null,null,null,null,null,null,null,null,null,null,null,null,null,null,null,null,null,null,null,null,null,null,null,null,null,null,null,null,null,null,null,null,null,null,null,null,null,null,null,null,null,null,null,null,null,null,null,null,null,null,null,null,null,null,null,null,null,null,null,null,null,null,null,null,null,null,null,null,null,null,null,null,null,null,null,null,null,null,null,"R","RES"]
[null,{"$f":"Parameters!Q82","v":"R90-R92"},null,{"$f":"Parameters!S82","v":"Creative, arts and entertainment activities; libraries, archives, museums and other cultural activities; gambling and betting activities"},null,null,null,null,null,null,null,null,null,null,null,null,null,null,null,null,null,null,null,null,null,null,null,null,null,null,null,null,null,null,null,null,null,null,null,null,null,null,null,null,null,null,null,null,null,null,null,null,null,null,null,null,null,null,null,null,null,null,null,null,null,null,null,null,null,null,null,null,null,null,null,null,null,null,null,null,null,null,null,null,null,null,null,null,null,null,"R90T92","RES"]
[null,{"$f":"Parameters!Q83","v":"R93"},null,{"$f":"Parameters!S83","v":"Sports activities and amusement and recreation activities"},null,null,null,null,null,null,null,null,null,null,null,null,null,null,null,null,null,null,null,null,null,null,null,null,null,null,null,null,null,null,null,null,null,null,null,null,null,null,null,null,null,null,null,null,null,null,null,null,null,null,null,null,null,null,null,null,null,null,null,null,null,null,null,null,null,null,null,null,null,null,null,null,null,null,null,null,null,null,null,null,null,null,null,null,null,null,"R93","RES"]
[null,{"$f":"Parameters!Q84","v":"S"},null,{"$f":"Parameters!S84","v":"Other service activities"},null,null,null,null,null,null,null,null,null,null,null,null,null,null,null,null,null,null,null,null,null,null,null,null,null,null,null,null,null,null,null,null,null,null,null,null,null,null,null,null,null,null,null,null,null,null,null,null,null,null,null,null,null,null,null,null,null,null,null,null,null,null,null,null,null,null,null,null,null,null,null,null,null,null,null,null,null,null,null,null,null,null,null,null,null,null,"S","RES"]
[null,{"$f":"Parameters!Q85","v":"S94"},null,{"$f":"Parameters!S85","v":"Activities of membership organisations"},null,null,null,null,null,null,null,null,null,null,null,null,null,null,null,null,null,null,null,null,null,null,null,null,null,null,null,null,null,null,null,null,null,null,null,null,null,null,null,null,null,null,null,null,null,null,null,null,null,null,null,null,null,null,null,null,null,null,null,null,null,null,null,null,null,null,null,null,null,null,null,null,null,null,null,null,null,null,null,null,null,null,null,null,null,null,"S94","RES"]
[null,{"$f":"Parameters!Q86","v":"S95"},null,{"$f":"Parameters!S86","v":"Repair of computers and personal and household goods"},null,null,null,null,null,null,null,null,null,null,null,null,null,null,null,null,null,null,null,null,null,null,null,null,null,null,null,null,null,null,null,null,null,null,null,null,null,null,null,null,null,null,null,null,null,null,null,null,null,null,null,null,null,null,null,null,null,null,null,null,null,null,null,null,null,null,null,null,null,null,null,null,null,null,null,null,null,null,null,null,null,null,null,null,null,null,"S95","RES"]
[null,{"$f":"Parameters!Q87","v":"S96"},null,{"$f":"Parameters!S87","v":"Other personal service activities"},null,null,null,null,null,null,null,null,null,null,null,null,null,null,null,null,null,null,null,null,null,null,null,null,null,null,null,null,null,null,null,null,null,null,null,null,null,null,null,null,null,null,null,null,null,null,null,null,null,null,null,null,null,null,null,null,null,null,null,null,null,null,null,null,null,null,null,null,null,null,null,null,null,null,null,null,null,null,null,null,null,null,null,null,null,null,"S96","RES"]
[null,{"$f":"Parameters!Q88","v":"T"},null,{"$f":"Parameters!S88","v":"Activities of households as employers; undifferentiated goods- and services-producing activities of households for own use"},null,null,null,null,null,null,null,null,null,null,null,null,null,null,null,null,null,null,null,null,null,null,null,null,null,null,null,null,null,null,null,null,null,null,null,null,null,null,null,null,null,null,null,null,null,null,null,null,null,null,null,null,null,null,null,null,null,null,null,null,null,null,null,null,null,null,null,null,null,null,null,null,null,null,null,null,null,null,null,null,null,null,null,null,null,null,"T","RES"]
[null,{"$f":"Parameters!Q89","v":"U"},null,{"$f":"Parameters!S89","v":"Activities of extraterritorial organisations and bodies"},null,null,null,null,null,null,null,null,null,null,null,null,null,null,null,null,null,null,null,null,null,null,null,null,null,null,null,null,null,null,null,null,null,null,null,null,null,null,null,null,null,null,null,null,null,null,null,null,null,null,null,null,null,null,null,null,null,null,null,null,null,null,null,null,null,null,null,null,null,null,null,null,null,null,null,null,null,null,null,null,null,null,null,null,null,null,"U","RES"]
[null,"   Household air emissions\n                                          Households, totals",null,null,null,null,null,null,null,null,null,null,null,null,null,null,null,null,null,null,null,null,null,null,null,null,null,null,null,null,null,null,null,null,null,null,null,null,null,null,null,null,null,null,null,null,null,null,null,null,null,null,null,null,null,null,null,null,null,null,null,null,null,null,null,null,null,null,null,null,null,null,null,null,null,null,null,null,null,null,null,null,null,null,null,null,null,null,null,null,"HH","RES"]
[null,null,null,"- Transport",null,null,null,null,null,null,null,null,null,null,null,null,null,null,null,null,null,null,null,null,null,null,null,null,null,null,null,null,null,null,null,null,null,null,null,null,null,null,null,null,null,null,null,null,null,null,null,null,null,null,null,null,null,null,null,null,null,null,null,null,null,null,null,null,null,null,null,null,null,null,null,null,null,null,null,null,null,null,null,null,null,null,null,null,null,null,"HH_TR","RES"]
[null,null,null,"- Heating/cooling",null,null,null,null,null,null,null,null,null,null,null,null,null,null,null,null,null,null,null,null,null,null,null,null,null,null,null,null,null,null,null,null,null,null,null,null,null,null,null,null,null,null,null,null,null,null,null,null,null,null,null,null,null,null,null,null,null,null,null,null,null,null,null,null,null,null,null,null,null,null,null,null,null,null,null,null,null,null,null,null,null,null,null,null,null,null,"HH_HEAT","RES"]
[null,null,null,"- Other",null,null,null,null,null,null,null,null,null,null,null,null,null,null,null,null,null,null,null,null,null,null,null,null,null,null,null,null,null,null,null,null,null,null,null,null,null,null,null,null,null,null,null,null,null,null,null,null,null,null,null,null,null,null,null,null,null,null,null,null,null,null,null,null,null,null,null,null,null,null,null,null,null,null,null,null,null,null,null,null,null,null,null,null,null,null,"HH_OTH","RES"]
[null,"   Bridging items\n\n1                              Total Air emissions accounts (industry (row 5) + households (row 91))",null,null,null,null,null,null,null,null,null,null,null,null,null,null,null,null,null,null,null,null,null,null,null,null,null,null,null,null,null,null,null,null,null,null,null,null,null,null,null,null,null,null,null,null,null,null,null,null,null,null,null,null,null,null,null,null,null,null,null,null,null,null,null,null,null,null,null,null,null,null,null,null,null,null,null,null,null,null,null,null,null,null,null,null,null,null,null,null,"ATU_HH","RES"]
[null,2,null,"less National residents abroad",null,null,null,null,null,null,null,null,null,null,null,null,null,null,null,null,null,null,null,null,null,null,null,null,null,null,null,null,null,null,null,null,null,null,null,null,null,null,null,null,null,null,null,null,null,null,null,null,null,null,null,null,null,null,null,null,null,null,null,null,null,null,null,null,null,null,null,null,null,null,null,null,null,null,null,null,null,null,null,null,null,null,null,null,null,null,"ATU_HH","RES_ABR"]
[null,2.1,null,"-  National fishing vessels operating abroad",null,null,null,null,null,null,null,null,null,null,null,null,null,null,null,null,null,null,null,null,null,null,null,null,null,null,null,null,null,null,null,null,null,null,null,null,null,null,null,null,null,null,null,null,null,null,null,null,null,null,null,null,null,null,null,null,null,null,null,null,null,null,null,null,null,null,null,null,null,null,null,null,null,null,null,null,null,null,null,null,null,null,null,null,null,null,"ATU_HH","RES_ABR_FWTR"]
[null,2.2000000000000002,null,"-  Land transport",null,null,null,null,null,null,null,null,null,null,null,null,null,null,null,null,null,null,null,null,null,null,null,null,null,null,null,null,null,null,null,null,null,null,null,null,null,null,null,null,null,null,null,null,null,null,null,null,null,null,null,null,null,null,null,null,null,null,null,null,null,null,null,null,null,null,null,null,null,null,null,null,null,null,null,null,null,null,null,null,null,null,null,null,null,null,"ATU_HH","RES_ABR_LTR"]
[null,2.2999999999999998,null,"-  Water transport",null,null,null,null,null,null,null,null,null,null,null,null,null,null,null,null,null,null,null,null,null,null,null,null,null,null,null,null,null,null,null,null,null,null,null,null,null,null,null,null,null,null,null,null,null,null,null,null,null,null,null,null,null,null,null,null,null,null,null,null,null,null,null,null,null,null,null,null,null,null,null,null,null,null,null,null,null,null,null,null,null,null,null,null,null,null,"ATU_HH","RES_ABR_WTR"]
[null,2.4,null,"-  Air transport",null,null,null,null,null,null,null,null,null,null,null,null,null,null,null,null,null,null,null,null,null,null,null,null,null,null,null,null,null,null,null,null,null,null,null,null,null,null,null,null,null,null,null,null,null,null,null,null,null,null,null,null,null,null,null,null,null,null,null,null,null,null,null,null,null,null,null,null,null,null,null,null,null,null,null,null,null,null,null,null,null,null,null,null,null,null,"ATU_HH","RES_ABR_ATR"]
[null,3,null,"plus Non-residents on the territory",null,null,null,null,null,null,null,null,null,null,null,null,null,null,null,null,null,null,null,null,null,null,null,null,null,null,null,null,null,null,null,null,null,null,null,null,null,null,null,null,null,null,null,null,null,null,null,null,null,null,null,null,null,null,null,null,null,null,null,null,null,null,null,null,null,null,null,null,null,null,null,null,null,null,null,null,null,null,null,null,null,null,null,null,null,null,"ATU_HH","TER_NRES"]
[null,3.1,null,"+  Land transport",null,null,null,null,null,null,null,null,null,null,null,null,null,null,null,null,null,null,null,null,null,null,null,null,null,null,null,null,null,null,null,null,null,null,null,null,null,null,null,null,null,null,null,null,null,null,null,null,null,null,null,null,null,null,null,null,null,null,null,null,null,null,null,null,null,null,null,null,null,null,null,null,null,null,null,null,null,null,null,null,null,null,null,null,null,null,"ATU_HH","TER_NRES_LTR"]
[null,3.2,null,"+ Water transport",null,null,null,null,null,null,null,null,null,null,null,null,null,null,null,null,null,null,null,null,null,null,null,null,null,null,null,null,null,null,null,null,null,null,null,null,null,null,null,null,null,null,null,null,null,null,null,null,null,null,null,null,null,null,null,null,null,null,null,null,null,null,null,null,null,null,null,null,null,null,null,null,null,null,null,null,null,null,null,null,null,null,null,null,null,null,"ATU_HH","TER_NRES_WTR"]
[null,3.3,null,"+  Air transport",null,null,null,null,null,null,null,null,null,null,null,null,null,null,null,null,null,null,null,null,null,null,null,null,null,null,null,null,null,null,null,null,null,null,null,null,null,null,null,null,null,null,null,null,null,null,null,null,null,null,null,null,null,null,null,null,null,null,null,null,null,null,null,null,null,null,null,null,null,null,null,null,null,null,null,null,null,null,null,null,null,null,null,null,null,null,"ATU_HH","TER_NRES_ATR"]
[null,4,null,"Other adjustments and statistical discrepancy",null,null,null,null,null,null,null,null,null,null,null,null,null,null,null,null,null,null,null,null,null,null,null,null,null,null,null,null,null,null,null,null,null,null,null,null,null,null,null,null,null,null,null,null,null,null,null,null,null,null,null,null,null,null,null,null,null,null,null,null,null,null,null,null,null,null,null,null,null,null,null,null,null,null,null,null,null,null,null,null,null,null,null,null,null,null,"ATU_HH","ADJ_SD"]
[null,5,null,"'Total CH4 emissions without CH4 from LULUCF (as reported to UNFCCC table 10s3)",null,null,null,null,null,null,null,null,null,null,null,null,null,null,null,null,null,null,null,null,null,null,null,null,null,null,null,null,null,null,null,null,null,null,null,null,null,null,null,null,null,null,null,null,null,null,null,null,null,null,null,null,null,null,null,null,null,null,null,null,null,null,null,null,null,null,null,null,null,null,null,null,null,null,null,null,null,null,null,null,null,null,null,null,null,null,"ATU_HH","TER"]
[null,null,null,"Year of submission to UNFCCC"]
[]
[null,"Explanatory notes for bridging items:"]
[null,1,"Total Air emissions accounts (industry (row 5) + households (row 91)) - residence principle"]
[]
[null,2.1,"Fishing vessels operated by resident units bunkering outside of the reporting country"]
[null,2.2000000000000002,"Land transport (incl. rail) by resident units fuelling outside of the reporting country"]
[null,2.2999999999999998,"Domestic navigation by resident units bunkering at ports outside of the reporting country and all international navigation by resident units"]
[null,2.4,"Domestic aviation by resident units bunkering at airports outside of the reporting country and all international aviation by resident units"]
[]
[null,3.1,"Land transport (incl. rail) by non-resident units fuelling on the territory of the reporting country"]
[null,3.2,"Domestic navigation by non-residents bunkering at ports of the reporting country"]
[null,3.3,"Domestic aviation by non-residents bunkering at airports of the reporting country"]
[]
[null,5,"National totals derived from UNFCCC inventories that include domestic aviation/navigation bunkering at airports/ports of the reporting country, while excluding international transport and LULUCF - territory principle"]

{"sheet":"HFC","index":16,"n_rows":121,"n_cols":98,"rows_kept":121,"cut":false,"hidden":false,"merged":[[0,96,2,96],[0,97,2,97],[0,90,2,90],[0,91,2,91],[0,92,2,92],[0,93,2,93],[0,94,2,94],[0,95,2,95],[103,3,103,4],[80,3,80,4],[81,3,81,4],[82,3,82,4],[83,3,83,4],[84,3,84,4],[73,3,73,4],[74,3,74,4],[75,3,75,4],[76,3,76,4],[77,3,77,4],[78,3,78,4],[67,3,67,4],[68,3,68,4],[69,3,69,4],[70,3,70,4],[104,3,104,4],[105,3,105,4],[106,3,106,4],[0,87,2,87],[0,89,2,89],[97,3,97,4],[98,3,98,4],[99,3,99,4],[100,3,100,4],[101,3,101,4],[102,3,102,4],[91,3,91,4],[92,3,92,4],[93,3,93,4],[94,1,94,4],[95,3,95,4],[96,3,96,4],[85,3,85,4],[86,3,86,4],[87,3,87,4],[88,3,88,4],[89,3,89,4],[90,1,90,4],[79,3,79,4],[71,3,71,4],[72,3,72,4],[61,3,61,4],[62,3,62,4],[63,3,63,4],[64,3,64,4],[65,3,65,4],[66,3,66,4],[55,3,55,4],[56,3,56,4],[57,3,57,4],[58,3,58,4],[59,3,59,4],[60,3,60,4],[49,3,49,4],[50,3,50,4],[51,3,51,4],[52,3,52,4],[53,3,53,4],[54,3,54,4],[43,3,43,4],[44,3,44,4],[45,3,45,4],[46,3,46,4],[47,3,47,4],[48,3,48,4],[37,3,37,4],[38,3,38,4],[39,3,39,4],[40,3,40,4],[41,3,41,4],[42,3,42,4],[31,3,31,4],[32,3,32,4],[33,3,33,4],[34,3,34,4],[35,3,35,4],[36,3,36,4],[25,3,25,4],[26,3,26,4],[27,3,27,4],[28,3,28,4],[29,3,29,4],[30,3,30,4],[19,3,19,4],[20,3,20,4],[21,3,21,4],[22,3,22,4],[23,3,23,4],[24,3,24,4],[0,5,2,6],[0,7,2,8],[0,9,2,10],[13,3,13,4],[14,3,14,4],[15,3,15,4],[16,3,16,4],[17,3,17,4],[18,3,18,4],[7,3,7,4],[8,3,8,4],[9,3,9,4],[10,3,10,4],[11,3,11,4],[12,3,12,4],[0,88,2,88],[0,11,2,12],[0,13,2,14],[2,47,2,48],[3,1,3,4],[4,1,4,2],[4,3,4,4],[5,3,5,4],[6,3,6,4],[0,27,2,28],[0,29,2,30],[0,31,2,32],[0,33,2,34],[0,35,2,36],[1,1,1,2],[2,1,2,2],[2,3,2,4],[0,15,2,16],[0,17,2,18],[0,19,2,20],[0,21,2,22],[0,23,2,24],[0,25,2,26],[0,1,0,2]]}
["DATAENTRY","Country:",null,{"$f":"intro!F7","v":""},null,null,null,null,null,null,null,null,null,null,null,null,null,null,null,null,null,null,null,null,null,null,null,null,null,null,null,null,null,null,null,null,null,null,null,null,null,null,null,null,null,null,null,null,null,null,null,null,null,null,null,null,null,null,null,null,null,null,null,null,null,null,null,null,null,null,null,null,null,null,null,null,null,null,null,null,null,null,null,null,null,null,null,"DEMAND_PROD","ACCOUNTING_ENTRY","COUNTERPART_AREA","INTERACTORS","BRIDGE_ITEM","AIRPOL","STO","UNIT_MEASURE","UNIT_MULT","PRODUCT","SECTOR"]
[null,"Air Pollutant",null,"HFC","Hydrofluorocarbons"]
["TCO2E","Unit","Million National Currency","tonnes (Mg) CO2-equivalents"]
[null,"Air emissions by industry",null,null,null,1995,null,1996,null,1997,null,1998,null,1999,null,2000,null,2001,null,2002,null,2003,null,2004,null,2005,null,2006,null,2007,null,2008,null,2009,null,2010,null,2011,null,2012,null,2013,null,2014,null,2015,null,2016,null,2017,null,2018,null,2019,null,2020,null,2021,null,2022,null,2023,null,2024]
[null,{"$f":"Parameters!Q4","v":"A_U   01-99"},null,{"$f":"Parameters!S4","v":"Total industries"},null,null,null,null,null,null,null,null,null,null,null,null,null,null,null,null,null,null,null,null,null,null,null,null,null,null,null,null,null,null,null,null,null,null,null,null,null,null,null,null,null,null,null,null,null,null,null,null,null,null,null,null,null,null,null,null,null,null,null,null,null,null,null,null,null,null,null,null,null,null,null,null,null,null,null,null,null,null,null,null,null,null,null,"P","EC","W2","ATU","RES","HFC","_Z","TCO2E",0,"_T","S1"]
[null,{"$f":"Parameters!Q5","v":"A"},null,{"$f":"Parameters!S5","v":"Agriculture, forestry and fishing"},null,null,null,null,null,null,null,null,null,null,null,null,null,null,null,null,null,null,null,null,null,null,null,null,null,null,null,null,null,null,null,null,null,null,null,null,null,null,null,null,null,null,null,null,null,null,null,null,null,null,null,null,null,null,null,null,null,null,null,null,null,null,null,null,null,null,null,null,null,null,null,null,null,null,null,null,null,null,null,null,null,null,null,null,null,null,"A","RES"]
[null,{"$f":"Parameters!Q6","v":"A01"},null,{"$f":"Parameters!S6","v":"Crop and animal production, hunting and related service activities"},null,null,null,null,null,null,null,null,null,null,null,null,null,null,null,null,null,null,null,null,null,null,null,null,null,null,null,null,null,null,null,null,null,null,null,null,null,null,null,null,null,null,null,null,null,null,null,null,null,null,null,null,null,null,null,null,null,null,null,null,null,null,null,null,null,null,null,null,null,null,null,null,null,null,null,null,null,null,null,null,null,null,null,null,null,null,"A01","RES"]
[null,{"$f":"Parameters!Q7","v":"A02"},null,{"$f":"Parameters!S7","v":"Forestry and logging"},null,null,null,null,null,null,null,null,null,null,null,null,null,null,null,null,null,null,null,null,null,null,null,null,null,null,null,null,null,null,null,null,null,null,null,null,null,null,null,null,null,null,null,null,null,null,null,null,null,null,null,null,null,null,null,null,null,null,null,null,null,null,null,null,null,null,null,null,null,null,null,null,null,null,null,null,null,null,null,null,null,null,null,null,null,null,"A02","RES"]
[null,{"$f":"Parameters!Q8","v":"A03"},null,{"$f":"Parameters!S8","v":"Fishing and aquaculture"},null,null,null,null,null,null,null,null,null,null,null,null,null,null,null,null,null,null,null,null,null,null,null,null,null,null,null,null,null,null,null,null,null,null,null,null,null,null,null,null,null,null,null,null,null,null,null,null,null,null,null,null,null,null,null,null,null,null,null,null,null,null,null,null,null,null,null,null,null,null,null,null,null,null,null,null,null,null,null,null,null,null,null,null,null,null,"A03","RES"]
[null,{"$f":"Parameters!Q9","v":"B"},null,{"$f":"Parameters!S9","v":"Mining and quarrying"},null,null,null,null,null,null,null,null,null,null,null,null,null,null,null,null,null,null,null,null,null,null,null,null,null,null,null,null,null,null,null,null,null,null,null,null,null,null,null,null,null,null,null,null,null,null,null,null,null,null,null,null,null,null,null,null,null,null,null,null,null,null,null,null,null,null,null,null,null,null,null,null,null,null,null,null,null,null,null,null,null,null,null,null,null,null,"B","RES"]
[null,{"$f":"Parameters!Q10","v":"C"},null,{"$f":"Parameters!S10","v":"Manufacturing"},null,null,null,null,null,null,null,null,null,null,null,null,null,null,null,null,null,null,null,null,null,null,null,null,null,null,null,null,null,null,null,null,null,null,null,null,null,null,null,null,null,null,null,null,null,null,null,null,null,null,null,null,null,null,null,null,null,null,null,null,null,null,null,null,null,null,null,null,null,null,null,null,null,null,null,null,null,null,null,null,null,null,null,null,null,null,"C","RES"]
[null,{"$f":"Parameters!Q11","v":"C10-C12"},null,{"$f":"Parameters!S11","v":"Manufacture of food products, beverages and tobacco\nproducts"},null,null,null,null,null,null,null,null,null,null,null,null,null,null,null,null,null,null,null,null,null,null,null,null,null,null,null,null,null,null,null,null,null,null,null,null,null,null,null,null,null,null,null,null,null,null,null,null,null,null,null,null,null,null,null,null,null,null,null,null,null,null,null,null,null,null,null,null,null,null,null,null,null,null,null,null,null,null,null,null,null,null,null,null,null,null,"C10T12","RES"]
[null,{"$f":"Parameters!Q12","v":"C13-C15"},null,{"$f":"Parameters!S12","v":"Manufacture of textiles, wearing apparel and leather products"},null,null,null,null,null,null,null,null,null,null,null,null,null,null,null,null,null,null,null,null,null,null,null,null,null,null,null,null,null,null,null,null,null,null,null,null,null,null,null,null,null,null,null,null,null,null,null,null,null,null,null,null,null,null,null,null,null,null,null,null,null,null,null,null,null,null,null,null,null,null,null,null,null,null,null,null,null,null,null,null,null,null,null,null,null,null,"C13T15","RES"]
[null,{"$f":"Parameters!Q13","v":"C16-C18"},null,{"$f":"Parameters!S13","v":"Manufacture of wood, paper, printing and reproduction"}]
[null,{"$f":"Parameters!Q14","v":"C16"},null,{"$f":"Parameters!S14","v":"Manufacture of wood and of products of wood and cork, except furniture; manufacture of articles of straw and plaiting materials"},null,null,null,null,null,null,null,null,null,null,null,null,null,null,null,null,null,null,null,null,null,null,null,null,null,null,null,null,null,null,null,null,null,null,null,null,null,null,null,null,null,null,null,null,null,null,null,null,null,null,null,null,null,null,null,null,null,null,null,null,null,null,null,null,null,null,null,null,null,null,null,null,null,null,null,null,null,null,null,null,null,null,null,null,null,null,"C16","RES"]
[null,{"$f":"Parameters!Q15","v":"C17"},null,{"$f":"Parameters!S15","v":"Manufacture of paper and paper products"},null,null,null,null,null,null,null,null,null,null,null,null,null,null,null,null,null,null,null,null,null,null,null,null,null,null,null,null,null,null,null,null,null,null,null,null,null,null,null,null,null,null,null,null,null,null,null,null,null,null,null,null,null,null,null,null,null,null,null,null,null,null,null,null,null,null,null,null,null,null,null,null,null,null,null,null,null,null,null,null,null,null,null,null,null,null,"C17","RES"]
[null,{"$f":"Parameters!Q16","v":"C18"},null,{"$f":"Parameters!S16","v":"Printing and reproduction of recorded media"},null,null,null,null,null,null,null,null,null,null,null,null,null,null,null,null,null,null,null,null,null,null,null,null,null,null,null,null,null,null,null,null,null,null,null,null,null,null,null,null,null,null,null,null,null,null,null,null,null,null,null,null,null,null,null,null,null,null,null,null,null,null,null,null,null,null,null,null,null,null,null,null,null,null,null,null,null,null,null,null,null,null,null,null,null,null,"C18","RES"]
[null,{"$f":"Parameters!Q17","v":"C19"},null,{"$f":"Parameters!S17","v":"Manufacture of coke and refined petroleum products"},null,null,null,null,null,null,null,null,null,null,null,null,null,null,null,null,null,null,null,null,null,null,null,null,null,null,null,null,null,null,null,null,null,null,null,null,null,null,null,null,null,null,null,null,null,null,null,null,null,null,null,null,null,null,null,null,null,null,null,null,null,null,null,null,null,null,null,null,null,null,null,null,null,null,null,null,null,null,null,null,null,null,null,null,null,null,"C19","RES"]
[null,{"$f":"Parameters!Q18","v":"C20"},null,{"$f":"Parameters!S18","v":"Manufacture of chemicals and chemical products"},null,null,null,null,null,null,null,null,null,null,null,null,null,null,null,null,null,null,null,null,null,null,null,null,null,null,null,null,null,null,null,null,null,null,null,null,null,null,null,null,null,null,null,null,null,null,null,null,null,null,null,null,null,null,null,null,null,null,null,null,null,null,null,null,null,null,null,null,null,null,null,null,null,null,null,null,null,null,null,null,null,null,null,null,null,null,"C20","RES"]
[null,{"$f":"Parameters!Q19","v":"C21"},null,{"$f":"Parameters!S19","v":"Manufacture of basic pharmaceutical products and pharmaceutical preparations"},null,null,null,null,null,null,null,null,null,null,null,null,null,null,null,null,null,null,null,null,null,null,null,null,null,null,null,null,null,null,null,null,null,null,null,null,null,null,null,null,null,null,null,null,null,null,null,null,null,null,null,null,null,null,null,null,null,null,null,null,null,null,null,null,null,null,null,null,null,null,null,null,null,null,null,null,null,null,null,null,null,null,null,null,null,null,"C21","RES"]
[null,{"$f":"Parameters!Q20","v":"C22_C23"},null,{"$f":"Parameters!S20","v":"Manufacture of rubber and plastic products and other non-metallic mineral products"}]
[null,{"$f":"Parameters!Q21","v":"C22"},null,{"$f":"Parameters!S21","v":"Manufacture of rubber and plastic products"},null,null,null,null,null,null,null,null,null,null,null,null,null,null,null,null,null,null,null,null,null,null,null,null,null,null,null,null,null,null,null,null,null,null,null,null,null,null,null,null,null,null,null,null,null,null,null,null,null,null,null,null,null,null,null,null,null,null,null,null,null,null,null,null,null,null,null,null,null,null,null,null,null,null,null,null,null,null,null,null,null,null,null,null,null,null,"C22","RES"]
[null,{"$f":"Parameters!Q22","v":"C23"},null,{"$f":"Parameters!S22","v":"Manufacture of other non-metallic mineral products"},null,null,null,null,null,null,null,null,null,null,null,null,null,null,null,null,null,null,null,null,null,null,null,null,null,null,null,null,null,null,null,null,null,null,null,null,null,null,null,null,null,null,null,null,null,null,null,null,null,null,null,null,null,null,null,null,null,null,null,null,null,null,null,null,null,null,null,null,null,null,null,null,null,null,null,null,null,null,null,null,null,null,null,null,null,null,"C23","RES"]
[null,{"$f":"Parameters!Q23","v":"C24_C25"},null,{"$f":"Parameters!S23","v":"Manufacture of basic metals and fabricated metal products, except machinery and equipment"}]
[null,{"$f":"Parameters!Q24","v":"C24"},null,{"$f":"Parameters!S24","v":"Manufacture of basic metals"},null,null,null,null,null,null,null,null,null,null,null,null,null,null,null,null,null,null,null,null,null,null,null,null,null,null,null,null,null,null,null,null,null,null,null,null,null,null,null,null,null,null,null,null,null,null,null,null,null,null,null,null,null,null,null,null,null,null,null,null,null,null,null,null,null,null,null,null,null,null,null,null,null,null,null,null,null,null,null,null,null,null,null,null,null,null,"C24","RES"]
[null,{"$f":"Parameters!Q25","v":"C25"},null,{"$f":"Parameters!S25","v":"Manufacture of fabricated metal products, except machinery and equipment"},null,null,null,null,null,null,null,null,null,null,null,null,null,null,null,null,null,null,null,null,null,null,null,null,null,null,null,null,null,null,null,null,null,null,null,null,null,null,null,null,null,null,null,null,null,null,null,null,null,null,null,null,null,null,null,null,null,null,null,null,null,null,null,null,null,null,null,null,null,null,null,null,null,null,null,null,null,null,null,null,null,null,null,null,null,null,"C25","RES"]
[null,{"$f":"Parameters!Q26","v":"C26"},null,{"$f":"Parameters!S26","v":"Manufacture of computer, electronic and optical products"},null,null,null,null,null,null,null,null,null,null,null,null,null,null,null,null,null,null,null,null,null,null,null,null,null,null,null,null,null,null,null,null,null,null,null,null,null,null,null,null,null,null,null,null,null,null,null,null,null,null,null,null,null,null,null,null,null,null,null,null,null,null,null,null,null,null,null,null,null,null,null,null,null,null,null,null,null,null,null,null,null,null,null,null,null,null,"C26","RES"]
[null,{"$f":"Parameters!Q27","v":"C27"},null,{"$f":"Parameters!S27","v":"Manufacture of electrical equipment"},null,null,null,null,null,null,null,null,null,null,null,null,null,null,null,null,null,null,null,null,null,null,null,null,null,null,null,null,null,null,null,null,null,null,null,null,null,null,null,null,null,null,null,null,null,null,null,null,null,null,null,null,null,null,null,null,null,null,null,null,null,null,null,null,null,null,null,null,null,null,null,null,null,null,null,null,null,null,null,null,null,null,null,null,null,null,"C27","RES"]
[null,{"$f":"Parameters!Q28","v":"C28"},null,{"$f":"Parameters!S28","v":"Manufacture of machinery and equipment n.e.c."},null,null,null,null,null,null,null,null,null,null,null,null,null,null,null,null,null,null,null,null,null,null,null,null,null,null,null,null,null,null,null,null,null,null,null,null,null,null,null,null,null,null,null,null,null,null,null,null,null,null,null,null,null,null,null,null,null,null,null,null,null,null,null,null,null,null,null,null,null,null,null,null,null,null,null,null,null,null,null,null,null,null,null,null,null,null,"C28","RES"]
[null,{"$f":"Parameters!Q29","v":"C29_C30"},null,{"$f":"Parameters!S29","v":"Manufacture of motor vehicles, trailers, semi-trailers and of other transport equipment"}]
[null,{"$f":"Parameters!Q30","v":"C29"},null,{"$f":"Parameters!S30","v":"Manufacture of motor vehicles, trailers and semi-trailers"},null,null,null,null,null,null,null,null,null,null,null,null,null,null,null,null,null,null,null,null,null,null,null,null,null,null,null,null,null,null,null,null,null,null,null,null,null,null,null,null,null,null,null,null,null,null,null,null,null,null,null,null,null,null,null,null,null,null,null,null,null,null,null,null,null,null,null,null,null,null,null,null,null,null,null,null,null,null,null,null,null,null,null,null,null,null,"C29","RES"]
[null,{"$f":"Parameters!Q31","v":"C30"},null,{"$f":"Parameters!S31","v":"Manufacture of other transport equipment"},null,null,null,null,null,null,null,null,null,null,null,null,null,null,null,null,null,null,null,null,null,null,null,null,null,null,null,null,null,null,null,null,null,null,null,null,null,null,null,null,null,null,null,null,null,null,null,null,null,null,null,null,null,null,null,null,null,null,null,null,null,null,null,null,null,null,null,null,null,null,null,null,null,null,null,null,null,null,null,null,null,null,null,null,null,null,"C30","RES"]
[null,{"$f":"Parameters!Q32","v":"C31-C33"},null,{"$f":"Parameters!S32","v":"Manufacture of furniture; jewellery, musical instruments, toys; repair and installation of machinery and equipment"}]
[null,{"$f":"Parameters!Q33","v":"C31_C32"},null,{"$f":"Parameters!S33","v":"Manufacture of furniture; other manufacturing"},null,null,null,null,null,null,null,null,null,null,null,null,null,null,null,null,null,null,null,null,null,null,null,null,null,null,null,null,null,null,null,null,null,null,null,null,null,null,null,null,null,null,null,null,null,null,null,null,null,null,null,null,null,null,null,null,null,null,null,null,null,null,null,null,null,null,null,null,null,null,null,null,null,null,null,null,null,null,null,null,null,null,null,null,null,null,"C31_32","RES"]
[null,{"$f":"Parameters!Q34","v":"C33"},null,{"$f":"Parameters!S34","v":"Repair and installation of machinery and equipment"},null,null,null,null,null,null,null,null,null,null,null,null,null,null,null,null,null,null,null,null,null,null,null,null,null,null,null,null,null,null,null,null,null,null,null,null,null,null,null,null,null,null,null,null,null,null,null,null,null,null,null,null,null,null,null,null,null,null,null,null,null,null,null,null,null,null,null,null,null,null,null,null,null,null,null,null,null,null,null,null,null,null,null,null,null,null,"C33","RES"]
[null,{"$f":"Parameters!Q35","v":"D"},null,{"$f":"Parameters!S35","v":"Electricity, gas, steam and air conditioning supply"},null,null,null,null,null,null,null,null,null,null,null,null,null,null,null,null,null,null,null,null,null,null,null,null,null,null,null,null,null,null,null,null,null,null,null,null,null,null,null,null,null,null,null,null,null,null,null,null,null,null,null,null,null,null,null,null,null,null,null,null,null,null,null,null,null,null,null,null,null,null,null,null,null,null,null,null,null,null,null,null,null,null,null,null,null,null,"D","RES"]
[null,{"$f":"Parameters!Q36","v":"E"},null,{"$f":"Parameters!S36","v":"Water supply; sewerage, waste management and remediation activities"},null,null,null,null,null,null,null,null,null,null,null,null,null,null,null,null,null,null,null,null,null,null,null,null,null,null,null,null,null,null,null,null,null,null,null,null,null,null,null,null,null,null,null,null,null,null,null,null,null,null,null,null,null,null,null,null,null,null,null,null,null,null,null,null,null,null,null,null,null,null,null,null,null,null,null,null,null,null,null,null,null,null,null,null,null,null,"E","RES"]
[null,{"$f":"Parameters!Q37","v":"E36"},null,{"$f":"Parameters!S37","v":"Water collection, treatment and supply"},null,null,null,null,null,null,null,null,null,null,null,null,null,null,null,null,null,null,null,null,null,null,null,null,null,null,null,null,null,null,null,null,null,null,null,null,null,null,null,null,null,null,null,null,null,null,null,null,null,null,null,null,null,null,null,null,null,null,null,null,null,null,null,null,null,null,null,null,null,null,null,null,null,null,null,null,null,null,null,null,null,null,null,null,null,null,"E36","RES"]
[null,{"$f":"Parameters!Q38","v":"E37-E39"},null,{"$f":"Parameters!S38","v":"Sewerage, waste management, remediation activities"},null,null,null,null,null,null,null,null,null,null,null,null,null,null,null,null,null,null,null,null,null,null,null,null,null,null,null,null,null,null,null,null,null,null,null,null,null,null,null,null,null,null,null,null,null,null,null,null,null,null,null,null,null,null,null,null,null,null,null,null,null,null,null,null,null,null,null,null,null,null,null,null,null,null,null,null,null,null,null,null,null,null,null,null,null,null,"E37T39","RES"]
[null,{"$f":"Parameters!Q39","v":"F"},null,{"$f":"Parameters!S39","v":"Construction"},null,null,null,null,null,null,null,null,null,null,null,null,null,null,null,null,null,null,null,null,null,null,null,null,null,null,null,null,null,null,null,null,null,null,null,null,null,null,null,null,null,null,null,null,null,null,null,null,null,null,null,null,null,null,null,null,null,null,null,null,null,null,null,null,null,null,null,null,null,null,null,null,null,null,null,null,null,null,null,null,null,null,null,null,null,null,"F","RES"]
[null,{"$f":"Parameters!Q40","v":"G"},null,{"$f":"Parameters!S40","v":"Wholesale and retail trade; repair of motor vehicles and motorcycles"},null,null,null,null,null,null,null,null,null,null,null,null,null,null,null,null,null,null,null,null,null,null,null,null,null,null,null,null,null,null,null,null,null,null,null,null,null,null,null,null,null,null,null,null,null,null,null,null,null,null,null,null,null,null,null,null,null,null,null,null,null,null,null,null,null,null,null,null,null,null,null,null,null,null,null,null,null,null,null,null,null,null,null,null,null,null,"G","RES"]
[null,{"$f":"Parameters!Q41","v":"G45"},null,{"$f":"Parameters!S41","v":"Wholesale and retail trade and repair of motor vehicles and motorcycles"},null,null,null,null,null,null,null,null,null,null,null,null,null,null,null,null,null,null,null,null,null,null,null,null,null,null,null,null,null,null,null,null,null,null,null,null,null,null,null,null,null,null,null,null,null,null,null,null,null,null,null,null,null,null,null,null,null,null,null,null,null,null,null,null,null,null,null,null,null,null,null,null,null,null,null,null,null,null,null,null,null,null,null,null,null,null,"G45","RES"]
[null,{"$f":"Parameters!Q42","v":"G46"},null,{"$f":"Parameters!S42","v":"Wholesale trade, except of motor vehicles and motorcycles"},null,null,null,null,null,null,null,null,null,null,null,null,null,null,null,null,null,null,null,null,null,null,null,null,null,null,null,null,null,null,null,null,null,null,null,null,null,null,null,null,null,null,null,null,null,null,null,null,null,null,null,null,null,null,null,null,null,null,null,null,null,null,null,null,null,null,null,null,null,null,null,null,null,null,null,null,null,null,null,null,null,null,null,null,null,null,"G46","RES"]
[null,{"$f":"Parameters!Q43","v":"G47"},null,{"$f":"Parameters!S43","v":"Retail trade, except of motor vehicles and motorcycles"},null,null,null,null,null,null,null,null,null,null,null,null,null,null,null,null,null,null,null,null,null,null,null,null,null,null,null,null,null,null,null,null,null,null,null,null,null,null,null,null,null,null,null,null,null,null,null,null,null,null,null,null,null,null,null,null,null,null,null,null,null,null,null,null,null,null,null,null,null,null,null,null,null,null,null,null,null,null,null,null,null,null,null,null,null,null,"G47","RES"]
[null,{"$f":"Parameters!Q44","v":"H"},null,{"$f":"Parameters!S44","v":"Transportation and storage"},null,null,null,null,null,null,null,null,null,null,null,null,null,null,null,null,null,null,null,null,null,null,null,null,null,null,null,null,null,null,null,null,null,null,null,null,null,null,null,null,null,null,null,null,null,null,null,null,null,null,null,null,null,null,null,null,null,null,null,null,null,null,null,null,null,null,null,null,null,null,null,null,null,null,null,null,null,null,null,null,null,null,null,null,null,null,"H","RES"]
[null,{"$f":"Parameters!Q45","v":"H49"},null,{"$f":"Parameters!S45","v":"Land transport and transport via pipelines"},null,null,null,null,null,null,null,null,null,null,null,null,null,null,null,null,null,null,null,null,null,null,null,null,null,null,null,null,null,null,null,null,null,null,null,null,null,null,null,null,null,null,null,null,null,null,null,null,null,null,null,null,null,null,null,null,null,null,null,null,null,null,null,null,null,null,null,null,null,null,null,null,null,null,null,null,null,null,null,null,null,null,null,null,null,null,"H49","RES"]
[null,{"$f":"Parameters!Q46","v":"H50"},null,{"$f":"Parameters!S46","v":"Water transport"},null,null,null,null,null,null,null,null,null,null,null,null,null,null,null,null,null,null,null,null,null,null,null,null,null,null,null,null,null,null,null,null,null,null,null,null,null,null,null,null,null,null,null,null,null,null,null,null,null,null,null,null,null,null,null,null,null,null,null,null,null,null,null,null,null,null,null,null,null,null,null,null,null,null,null,null,null,null,null,null,null,null,null,null,null,null,"H50","RES"]
[null,{"$f":"Parameters!Q47","v":"H51"},null,{"$f":"Parameters!S47","v":"Air transport"},null,null,null,null,null,null,null,null,null,null,null,null,null,null,null,null,null,null,null,null,null,null,null,null,null,null,null,null,null,null,null,null,null,null,null,null,null,null,null,null,null,null,null,null,null,null,null,null,null,null,null,null,null,null,null,null,null,null,null,null,null,null,null,null,null,null,null,null,null,null,null,null,null,null,null,null,null,null,null,null,null,null,null,null,null,null,"H51","RES"]
[null,{"$f":"Parameters!Q48","v":"H52"},null,{"$f":"Parameters!S48","v":"Warehousing and support activities for transportation"},null,null,null,null,null,null,null,null,null,null,null,null,null,null,null,null,null,null,null,null,null,null,null,null,null,null,null,null,null,null,null,null,null,null,null,null,null,null,null,null,null,null,null,null,null,null,null,null,null,null,null,null,null,null,null,null,null,null,null,null,null,null,null,null,null,null,null,null,null,null,null,null,null,null,null,null,null,null,null,null,null,null,null,null,null,null,"H52","RES"]
[null,{"$f":"Parameters!Q49","v":"H53"},null,{"$f":"Parameters!S49","v":"Postal and courier activities"},null,null,null,null,null,null,null,null,null,null,null,null,null,null,null,null,null,null,null,null,null,null,null,null,null,null,null,null,null,null,null,null,null,null,null,null,null,null,null,null,null,null,null,null,null,null,null,null,null,null,null,null,null,null,null,null,null,null,null,null,null,null,null,null,null,null,null,null,null,null,null,null,null,null,null,null,null,null,null,null,null,null,null,null,null,null,"H53","RES"]
[null,{"$f":"Parameters!Q50","v":"I"},null,{"$f":"Parameters!S50","v":"Accommodation and food service activities"},null,null,null,null,null,null,null,null,null,null,null,null,null,null,null,null,null,null,null,null,null,null,null,null,null,null,null,null,null,null,null,null,null,null,null,null,null,null,null,null,null,null,null,null,null,null,null,null,null,null,null,null,null,null,null,null,null,null,null,null,null,null,null,null,null,null,null,null,null,null,null,null,null,null,null,null,null,null,null,null,null,null,null,null,null,null,"I","RES"]
[null,{"$f":"Parameters!Q51","v":"J"},null,{"$f":"Parameters!S51","v":"Information and communication"},null,null,null,null,null,null,null,null,null,null,null,null,null,null,null,null,null,null,null,null,null,null,null,null,null,null,null,null,null,null,null,null,null,null,null,null,null,null,null,null,null,null,null,null,null,null,null,null,null,null,null,null,null,null,null,null,null,null,null,null,null,null,null,null,null,null,null,null,null,null,null,null,null,null,null,null,null,null,null,null,null,null,null,null,null,null,"J","RES"]
[null,{"$f":"Parameters!Q52","v":"J58-J60"},null,{"$f":"Parameters!S52","v":"Publishing, motion picture, video, television programme production; sound recording, programming and broadcasting activities"}]
[null,{"$f":"Parameters!Q53","v":"J58"},null,{"$f":"Parameters!S53","v":"Publishing activities"},null,null,null,null,null,null,null,null,null,null,null,null,null,null,null,null,null,null,null,null,null,null,null,null,null,null,null,null,null,null,null,null,null,null,null,null,null,null,null,null,null,null,null,null,null,null,null,null,null,null,null,null,null,null,null,null,null,null,null,null,null,null,null,null,null,null,null,null,null,null,null,null,null,null,null,null,null,null,null,null,null,null,null,null,null,null,"J58","RES"]
[null,{"$f":"Parameters!Q54","v":"J59_J60"},null,{"$f":"Parameters!S54","v":"Motion picture, video, television programme production; programming and broadcasting activities"},null,null,null,null,null,null,null,null,null,null,null,null,null,null,null,null,null,null,null,null,null,null,null,null,null,null,null,null,null,null,null,null,null,null,null,null,null,null,null,null,null,null,null,null,null,null,null,null,null,null,null,null,null,null,null,null,null,null,null,null,null,null,null,null,null,null,null,null,null,null,null,null,null,null,null,null,null,null,null,null,null,null,null,null,null,null,"J59_60","RES"]
[null,{"$f":"Parameters!Q55","v":"J61"},null,{"$f":"Parameters!S55","v":"Telecommunications"},null,null,null,null,null,null,null,null,null,null,null,null,null,null,null,null,null,null,null,null,null,null,null,null,null,null,null,null,null,null,null,null,null,null,null,null,null,null,null,null,null,null,null,null,null,null,null,null,null,null,null,null,null,null,null,null,null,null,null,null,null,null,null,null,null,null,null,null,null,null,null,null,null,null,null,null,null,null,null,null,null,null,null,null,null,null,"J61","RES"]
[null,{"$f":"Parameters!Q56","v":"J62_J63"},null,{"$f":"Parameters!S56","v":"Computer programming, consultancy, and information service activities"},null,null,null,null,null,null,null,null,null,null,null,null,null,null,null,null,null,null,null,null,null,null,null,null,null,null,null,null,null,null,null,null,null,null,null,null,null,null,null,null,null,null,null,null,null,null,null,null,null,null,null,null,null,null,null,null,null,null,null,null,null,null,null,null,null,null,null,null,null,null,null,null,null,null,null,null,null,null,null,null,null,null,null,null,null,null,"J62_63","RES"]
[null,{"$f":"Parameters!Q57","v":"K"},null,{"$f":"Parameters!S57","v":"Financial and insurance activities"},null,null,null,null,null,null,null,null,null,null,null,null,null,null,null,null,null,null,null,null,null,null,null,null,null,null,null,null,null,null,null,null,null,null,null,null,null,null,null,null,null,null,null,null,null,null,null,null,null,null,null,null,null,null,null,null,null,null,null,null,null,null,null,null,null,null,null,null,null,null,null,null,null,null,null,null,null,null,null,null,null,null,null,null,null,null,"K","RES"]
[null,{"$f":"Parameters!Q58","v":"K64"},null,{"$f":"Parameters!S58","v":"Financial service activities, except insurance and pension funding"},null,null,null,null,null,null,null,null,null,null,null,null,null,null,null,null,null,null,null,null,null,null,null,null,null,null,null,null,null,null,null,null,null,null,null,null,null,null,null,null,null,null,null,null,null,null,null,null,null,null,null,null,null,null,null,null,null,null,null,null,null,null,null,null,null,null,null,null,null,null,null,null,null,null,null,null,null,null,null,null,null,null,null,null,null,null,"K64","RES"]
[null,{"$f":"Parameters!Q59","v":"K65"},null,{"$f":"Parameters!S59","v":"Insurance, reinsurance and pension funding, except compulsory social security"},null,null,null,null,null,null,null,null,null,null,null,null,null,null,null,null,null,null,null,null,null,null,null,null,null,null,null,null,null,null,null,null,null,null,null,null,null,null,null,null,null,null,null,null,null,null,null,null,null,null,null,null,null,null,null,null,null,null,null,null,null,null,null,null,null,null,null,null,null,null,null,null,null,null,null,null,null,null,null,null,null,null,null,null,null,null,"K65","RES"]
[null,{"$f":"Parameters!Q60","v":"K66"},null,{"$f":"Parameters!S60","v":"Activities auxiliary to financial services and insurance activities"},null,null,null,null,null,null,null,null,null,null,null,null,null,null,null,null,null,null,null,null,null,null,null,null,null,null,null,null,null,null,null,null,null,null,null,null,null,null,null,null,null,null,null,null,null,null,null,null,null,null,null,null,null,null,null,null,null,null,null,null,null,null,null,null,null,null,null,null,null,null,null,null,null,null,null,null,null,null,null,null,null,null,null,null,null,null,"K66","RES"]
[null,{"$f":"Parameters!Q61","v":"L"},null,{"$f":"Parameters!S61","v":"Real estate activities"},null,null,null,null,null,null,null,null,null,null,null,null,null,null,null,null,null,null,null,null,null,null,null,null,null,null,null,null,null,null,null,null,null,null,null,null,null,null,null,null,null,null,null,null,null,null,null,null,null,null,null,null,null,null,null,null,null,null,null,null,null,null,null,null,null,null,null,null,null,null,null,null,null,null,null,null,null,null,null,null,null,null,null,null,null,null,"L","RES"]
[null,{"$f":"Parameters!Q62","v":"L68A"},null,{"$f":"Parameters!S62","v":"Imputed rents of owner-occupied dwellings"},null,null,null,null,null,null,null,null,null,null,null,null,null,null,null,null,null,null,null,null,null,null,null,null,null,null,null,null,null,null,null,null,null,null,null,null,null,null,null,null,null,null,null,null,null,null,null,null,null,null,null,null,null,null,null,null,null,null,null,null,null,null,null,null,null,null,null,null,null,null,null,null,null,null,null,null,null,null,null,null,null,null,null,null,null,null,"L68A","RES"]
[null,{"$f":"Parameters!Q63","v":"M"},null,{"$f":"Parameters!S63","v":"Professional, scientific and technical activities"},null,null,null,null,null,null,null,null,null,null,null,null,null,null,null,null,null,null,null,null,null,null,null,null,null,null,null,null,null,null,null,null,null,null,null,null,null,null,null,null,null,null,null,null,null,null,null,null,null,null,null,null,null,null,null,null,null,null,null,null,null,null,null,null,null,null,null,null,null,null,null,null,null,null,null,null,null,null,null,null,null,null,null,null,null,null,"M","RES"]
[null,{"$f":"Parameters!Q64","v":"M69-M71"},null,{"$f":"Parameters!S64","v":"Legal and accounting activities; activities of head offices; management consultancy activities; architectural and engineering activities; technical testing and analysis"}]
[null,{"$f":"Parameters!Q65","v":"M69_M70"},null,{"$f":"Parameters!S65","v":"Legal and accounting activities; activities of head offices; management consultancy activities"},null,null,null,null,null,null,null,null,null,null,null,null,null,null,null,null,null,null,null,null,null,null,null,null,null,null,null,null,null,null,null,null,null,null,null,null,null,null,null,null,null,null,null,null,null,null,null,null,null,null,null,null,null,null,null,null,null,null,null,null,null,null,null,null,null,null,null,null,null,null,null,null,null,null,null,null,null,null,null,null,null,null,null,null,null,null,"M69_70","RES"]
[null,{"$f":"Parameters!Q66","v":"M71"},null,{"$f":"Parameters!S66","v":"Architectural and engineering activities; technical testing and analysis"},null,null,null,null,null,null,null,null,null,null,null,null,null,null,null,null,null,null,null,null,null,null,null,null,null,null,null,null,null,null,null,null,null,null,null,null,null,null,null,null,null,null,null,null,null,null,null,null,null,null,null,null,null,null,null,null,null,null,null,null,null,null,null,null,null,null,null,null,null,null,null,null,null,null,null,null,null,null,null,null,null,null,null,null,null,null,"M71","RES"]
[null,{"$f":"Parameters!Q67","v":"M72"},null,{"$f":"Parameters!S67","v":"Scientific research and development"},null,null,null,null,null,null,null,null,null,null,null,null,null,null,null,null,null,null,null,null,null,null,null,null,null,null,null,null,null,null,null,null,null,null,null,null,null,null,null,null,null,null,null,null,null,null,null,null,null,null,null,null,null,null,null,null,null,null,null,null,null,null,null,null,null,null,null,null,null,null,null,null,null,null,null,null,null,null,null,null,null,null,null,null,null,null,"M72","RES"]
[null,{"$f":"Parameters!Q68","v":"M73-M75"},null,{"$f":"Parameters!S68","v":"Advertising and market research; other professional, scientific and technical activities; veterinary activities"}]
[null,{"$f":"Parameters!Q69","v":"M73"},null,{"$f":"Parameters!S69","v":"Advertising and market research"},null,null,null,null,null,null,null,null,null,null,null,null,null,null,null,null,null,null,null,null,null,null,null,null,null,null,null,null,null,null,null,null,null,null,null,null,null,null,null,null,null,null,null,null,null,null,null,null,null,null,null,null,null,null,null,null,null,null,null,null,null,null,null,null,null,null,null,null,null,null,null,null,null,null,null,null,null,null,null,null,null,null,null,null,null,null,"M73","RES"]
[null,{"$f":"Parameters!Q70","v":"M74_M75"},null,{"$f":"Parameters!S70","v":"Other professional, scientific and technical activities; veterinary activities"},null,null,null,null,null,null,null,null,null,null,null,null,null,null,null,null,null,null,null,null,null,null,null,null,null,null,null,null,null,null,null,null,null,null,null,null,null,null,null,null,null,null,null,null,null,null,null,null,null,null,null,null,null,null,null,null,null,null,null,null,null,null,null,null,null,null,null,null,null,null,null,null,null,null,null,null,null,null,null,null,null,null,null,null,null,null,"M74_75","RES"]
[null,{"$f":"Parameters!Q71","v":"N"},null,{"$f":"Parameters!S71","v":"Administrative and support service activities"},null,null,null,null,null,null,null,null,null,null,null,null,null,null,null,null,null,null,null,null,null,null,null,null,null,null,null,null,null,null,null,null,null,null,null,null,null,null,null,null,null,null,null,null,null,null,null,null,null,null,null,null,null,null,null,null,null,null,null,null,null,null,null,null,null,null,null,null,null,null,null,null,null,null,null,null,null,null,null,null,null,null,null,null,null,null,"N","RES"]
[null,{"$f":"Parameters!Q72","v":"N77"},null,{"$f":"Parameters!S72","v":"Rental and leasing activities"},null,null,null,null,null,null,null,null,null,null,null,null,null,null,null,null,null,null,null,null,null,null,null,null,null,null,null,null,null,null,null,null,null,null,null,null,null,null,null,null,null,null,null,null,null,null,null,null,null,null,null,null,null,null,null,null,null,null,null,null,null,null,null,null,null,null,null,null,null,null,null,null,null,null,null,null,null,null,null,null,null,null,null,null,null,null,"N77","RES"]
[null,{"$f":"Parameters!Q73","v":"N78"},null,{"$f":"Parameters!S73","v":"Employment activities"},null,null,null,null,null,null,null,null,null,null,null,null,null,null,null,null,null,null,null,null,null,null,null,null,null,null,null,null,null,null,null,null,null,null,null,null,null,null,null,null,null,null,null,null,null,null,null,null,null,null,null,null,null,null,null,null,null,null,null,null,null,null,null,null,null,null,null,null,null,null,null,null,null,null,null,null,null,null,null,null,null,null,null,null,null,null,"N78","RES"]
[null,{"$f":"Parameters!Q74","v":"N79"},null,{"$f":"Parameters!S74","v":"Travel agency, tour operator reservation service and related activities"},null,null,null,null,null,null,null,null,null,null,null,null,null,null,null,null,null,null,null,null,null,null,null,null,null,null,null,null,null,null,null,null,null,null,null,null,null,null,null,null,null,null,null,null,null,null,null,null,null,null,null,null,null,null,null,null,null,null,null,null,null,null,null,null,null,null,null,null,null,null,null,null,null,null,null,null,null,null,null,null,null,null,null,null,null,null,"N79","RES"]
[null,{"$f":"Parameters!Q75","v":"N80-N82"},null,{"$f":"Parameters!S75","v":"Security and investigation, service and landscape, office administrative and support activities"},null,null,null,null,null,null,null,null,null,null,null,null,null,null,null,null,null,null,null,null,null,null,null,null,null,null,null,null,null,null,null,null,null,null,null,null,null,null,null,null,null,null,null,null,null,null,null,null,null,null,null,null,null,null,null,null,null,null,null,null,null,null,null,null,null,null,null,null,null,null,null,null,null,null,null,null,null,null,null,null,null,null,null,null,null,null,"N80T82","RES"]
[null,{"$f":"Parameters!Q76","v":"O"},null,{"$f":"Parameters!S76","v":"Public administration and defence; compulsory social security"},null,null,null,null,null,null,null,null,null,null,null,null,null,null,null,null,null,null,null,null,null,null,null,null,null,null,null,null,null,null,null,null,null,null,null,null,null,null,null,null,null,null,null,null,null,null,null,null,null,null,null,null,null,null,null,null,null,null,null,null,null,null,null,null,null,null,null,null,null,null,null,null,null,null,null,null,null,null,null,null,null,null,null,null,null,null,"O","RES"]
[null,{"$f":"Parameters!Q77","v":"P"},null,{"$f":"Parameters!S77","v":"Education"},null,null,null,null,null,null,null,null,null,null,null,null,null,null,null,null,null,null,null,null,null,null,null,null,null,null,null,null,null,null,null,null,null,null,null,null,null,null,null,null,null,null,null,null,null,null,null,null,null,null,null,null,null,null,null,null,null,null,null,null,null,null,null,null,null,null,null,null,null,null,null,null,null,null,null,null,null,null,null,null,null,null,null,null,null,null,"P","RES"]
[null,{"$f":"Parameters!Q78","v":"Q"},null,{"$f":"Parameters!S78","v":"Human health and social work activities"},null,null,null,null,null,null,null,null,null,null,null,null,null,null,null,null,null,null,null,null,null,null,null,null,null,null,null,null,null,null,null,null,null,null,null,null,null,null,null,null,null,null,null,null,null,null,null,null,null,null,null,null,null,null,null,null,null,null,null,null,null,null,null,null,null,null,null,null,null,null,null,null,null,null,null,null,null,null,null,null,null,null,null,null,null,null,"Q","RES"]
[null,{"$f":"Parameters!Q79","v":"Q86"},null,{"$f":"Parameters!S79","v":"Human health activities"},null,null,null,null,null,null,null,null,null,null,null,null,null,null,null,null,null,null,null,null,null,null,null,null,null,null,null,null,null,null,null,null,null,null,null,null,null,null,null,null,null,null,null,null,null,null,null,null,null,null,null,null,null,null,null,null,null,null,null,null,null,null,null,null,null,null,null,null,null,null,null,null,null,null,null,null,null,null,null,null,null,null,null,null,null,null,"Q86","RES"]
[null,{"$f":"Parameters!Q80","v":"Q87_Q88"},null,{"$f":"Parameters!S80","v":"Residential care activities and social work activities without accommodation"},null,null,null,null,null,null,null,null,null,null,null,null,null,null,null,null,null,null,null,null,null,null,null,null,null,null,null,null,null,null,null,null,null,null,null,null,null,null,null,null,null,null,null,null,null,null,null,null,null,null,null,null,null,null,null,null,null,null,null,null,null,null,null,null,null,null,null,null,null,null,null,null,null,null,null,null,null,null,null,null,null,null,null,null,null,null,"Q87_88","RES"]
[null,{"$f":"Parameters!Q81","v":"R"},null,{"$f":"Parameters!S81","v":"Arts, entertainment and recreation"},null,null,null,null,null,null,null,null,null,null,null,null,null,null,null,null,null,null,null,null,null,null,null,null,null,null,null,null,null,null,null,null,null,null,null,null,null,null,null,null,null,null,null,null,null,null,null,null,null,null,null,null,null,null,null,null,null,null,null,null,null,null,null,null,null,null,null,null,null,null,null,null,null,null,null,null,null,null,null,null,null,null,null,null,null,null,"R","RES"]
[null,{"$f":"Parameters!Q82","v":"R90-R92"},null,{"$f":"Parameters!S82","v":"Creative, arts and entertainment activities; libraries, archives, museums and other cultural activities; gambling and betting activities"},null,null,null,null,null,null,null,null,null,null,null,null,null,null,null,null,null,null,null,null,null,null,null,null,null,null,null,null,null,null,null,null,null,null,null,null,null,null,null,null,null,null,null,null,null,null,null,null,null,null,null,null,null,null,null,null,null,null,null,null,null,null,null,null,null,null,null,null,null,null,null,null,null,null,null,null,null,null,null,null,null,null,null,null,null,null,"R90T92","RES"]
[null,{"$f":"Parameters!Q83","v":"R93"},null,{"$f":"Parameters!S83","v":"Sports activities and amusement and recreation activities"},null,null,null,null,null,null,null,null,null,null,null,null,null,null,null,null,null,null,null,null,null,null,null,null,null,null,null,null,null,null,null,null,null,null,null,null,null,null,null,null,null,null,null,null,null,null,null,null,null,null,null,null,null,null,null,null,null,null,null,null,null,null,null,null,null,null,null,null,null,null,null,null,null,null,null,null,null,null,null,null,null,null,null,null,null,null,"R93","RES"]
[null,{"$f":"Parameters!Q84","v":"S"},null,{"$f":"Parameters!S84","v":"Other service activities"},null,null,null,null,null,null,null,null,null,null,null,null,null,null,null,null,null,null,null,null,null,null,null,null,null,null,null,null,null,null,null,null,null,null,null,null,null,null,null,null,null,null,null,null,null,null,null,null,null,null,null,null,null,null,null,null,null,null,null,null,null,null,null,null,null,null,null,null,null,null,null,null,null,null,null,null,null,null,null,null,null,null,null,null,null,null,"S","RES"]
[null,{"$f":"Parameters!Q85","v":"S94"},null,{"$f":"Parameters!S85","v":"Activities of membership organisations"},null,null,null,null,null,null,null,null,null,null,null,null,null,null,null,null,null,null,null,null,null,null,null,null,null,null,null,null,null,null,null,null,null,null,null,null,null,null,null,null,null,null,null,null,null,null,null,null,null,null,null,null,null,null,null,null,null,null,null,null,null,null,null,null,null,null,null,null,null,null,null,null,null,null,null,null,null,null,null,null,null,null,null,null,null,null,"S94","RES"]
[null,{"$f":"Parameters!Q86","v":"S95"},null,{"$f":"Parameters!S86","v":"Repair of computers and personal and household goods"},null,null,null,null,null,null,null,null,null,null,null,null,null,null,null,null,null,null,null,null,null,null,null,null,null,null,null,null,null,null,null,null,null,null,null,null,null,null,null,null,null,null,null,null,null,null,null,null,null,null,null,null,null,null,null,null,null,null,null,null,null,null,null,null,null,null,null,null,null,null,null,null,null,null,null,null,null,null,null,null,null,null,null,null,null,null,"S95","RES"]
[null,{"$f":"Parameters!Q87","v":"S96"},null,{"$f":"Parameters!S87","v":"Other personal service activities"},null,null,null,null,null,null,null,null,null,null,null,null,null,null,null,null,null,null,null,null,null,null,null,null,null,null,null,null,null,null,null,null,null,null,null,null,null,null,null,null,null,null,null,null,null,null,null,null,null,null,null,null,null,null,null,null,null,null,null,null,null,null,null,null,null,null,null,null,null,null,null,null,null,null,null,null,null,null,null,null,null,null,null,null,null,null,"S96","RES"]
[null,{"$f":"Parameters!Q88","v":"T"},null,{"$f":"Parameters!S88","v":"Activities of households as employers; undifferentiated goods- and services-producing activities of households for own use"},null,null,null,null,null,null,null,null,null,null,null,null,null,null,null,null,null,null,null,null,null,null,null,null,null,null,null,null,null,null,null,null,null,null,null,null,null,null,null,null,null,null,null,null,null,null,null,null,null,null,null,null,null,null,null,null,null,null,null,null,null,null,null,null,null,null,null,null,null,null,null,null,null,null,null,null,null,null,null,null,null,null,null,null,null,null,"T","RES"]
[null,{"$f":"Parameters!Q89","v":"U"},null,{"$f":"Parameters!S89","v":"Activities of extraterritorial organisations and bodies"},null,null,null,null,null,null,null,null,null,null,null,null,null,null,null,null,null,null,null,null,null,null,null,null,null,null,null,null,null,null,null,null,null,null,null,null,null,null,null,null,null,null,null,null,null,null,null,null,null,null,null,null,null,null,null,null,null,null,null,null,null,null,null,null,null,null,null,null,null,null,null,null,null,null,null,null,null,null,null,null,null,null,null,null,null,null,"U","RES"]
[null,"   Household air emissions\n                                          Households, totals",null,null,null,null,null,null,null,null,null,null,null,null,null,null,null,null,null,null,null,null,null,null,null,null,null,null,null,null,null,null,null,null,null,null,null,null,null,null,null,null,null,null,null,null,null,null,null,null,null,null,null,null,null,null,null,null,null,null,null,null,null,null,null,null,null,null,null,null,null,null,null,null,null,null,null,null,null,null,null,null,null,null,null,null,null,null,null,null,"HH","RES"]
[null,null,null,"- Transport",null,null,null,null,null,null,null,null,null,null,null,null,null,null,null,null,null,null,null,null,null,null,null,null,null,null,null,null,null,null,null,null,null,null,null,null,null,null,null,null,null,null,null,null,null,null,null,null,null,null,null,null,null,null,null,null,null,null,null,null,null,null,null,null,null,null,null,null,null,null,null,null,null,null,null,null,null,null,null,null,null,null,null,null,null,null,"HH_TR","RES"]
[null,null,null,"- Heating/cooling",null,null,null,null,null,null,null,null,null,null,null,null,null,null,null,null,null,null,null,null,null,null,null,null,null,null,null,null,null,null,null,null,null,null,null,null,null,null,null,null,null,null,null,null,null,null,null,null,null,null,null,null,null,null,null,null,null,null,null,null,null,null,null,null,null,null,null,null,null,null,null,null,null,null,null,null,null,null,null,null,null,null,null,null,null,null,"HH_HEAT","RES"]
[null,null,null,"- Other",null,null,null,null,null,null,null,null,null,null,null,null,null,null,null,null,null,null,null,null,null,null,null,null,null,null,null,null,null,null,null,null,null,null,null,null,null,null,null,null,null,null,null,null,null,null,null,null,null,null,null,null,null,null,null,null,null,null,null,null,null,null,null,null,null,null,null,null,null,null,null,null,null,null,null,null,null,null,null,null,null,null,null,null,null,null,"HH_OTH","RES"]
[null,"   Bridging items\n\n1                              Total Air emissions accounts (industry (row 5) + households (row 91))",null,null,null,null,null,null,null,null,null,null,null,null,null,null,null,null,null,null,null,null,null,null,null,null,null,null,null,null,null,null,null,null,null,null,null,null,null,null,null,null,null,null,null,null,null,null,null,null,null,null,null,null,null,null,null,null,null,null,null,null,null,null,null,null,null,null,null,null,null,null,null,null,null,null,null,null,null,null,null,null,null,null,null,null,null,null,null,null,"ATU_HH","RES"]
[null,2,null,"less National residents abroad",null,null,null,null,null,null,null,null,null,null,null,null,null,null,null,null,null,null,null,null,null,null,null,null,null,null,null,null,null,null,null,null,null,null,null,null,null,null,null,null,null,null,null,null,null,null,null,null,null,null,null,null,null,null,null,null,null,null,null,null,null,null,null,null,null,null,null,null,null,null,null,null,null,null,null,null,null,null,null,null,null,null,null,null,null,null,"ATU_HH","RES_ABR"]
[null,2.1,null,"-  National fishing vessels operating abroad",null,null,null,null,null,null,null,null,null,null,null,null,null,null,null,null,null,null,null,null,null,null,null,null,null,null,null,null,null,null,null,null,null,null,null,null,null,null,null,null,null,null,null,null,null,null,null,null,null,null,null,null,null,null,null,null,null,null,null,null,null,null,null,null,null,null,null,null,null,null,null,null,null,null,null,null,null,null,null,null,null,null,null,null,null,null,"ATU_HH","RES_ABR_FWTR"]
[null,2.2000000000000002,null,"-  Land transport",null,null,null,null,null,null,null,null,null,null,null,null,null,null,null,null,null,null,null,null,null,null,null,null,null,null,null,null,null,null,null,null,null,null,null,null,null,null,null,null,null,null,null,null,null,null,null,null,null,null,null,null,null,null,null,null,null,null,null,null,null,null,null,null,null,null,null,null,null,null,null,null,null,null,null,null,null,null,null,null,null,null,null,null,null,null,"ATU_HH","RES_ABR_LTR"]
[null,2.2999999999999998,null,"-  Water transport",null,null,null,null,null,null,null,null,null,null,null,null,null,null,null,null,null,null,null,null,null,null,null,null,null,null,null,null,null,null,null,null,null,null,null,null,null,null,null,null,null,null,null,null,null,null,null,null,null,null,null,null,null,null,null,null,null,null,null,null,null,null,null,null,null,null,null,null,null,null,null,null,null,null,null,null,null,null,null,null,null,null,null,null,null,null,"ATU_HH","RES_ABR_WTR"]
[null,2.4,null,"-  Air transport",null,null,null,null,null,null,null,null,null,null,null,null,null,null,null,null,null,null,null,null,null,null,null,null,null,null,null,null,null,null,null,null,null,null,null,null,null,null,null,null,null,null,null,null,null,null,null,null,null,null,null,null,null,null,null,null,null,null,null,null,null,null,null,null,null,null,null,null,null,null,null,null,null,null,null,null,null,null,null,null,null,null,null,null,null,null,"ATU_HH","RES_ABR_ATR"]
[null,3,null,"plus Non-residents on the territory",null,null,null,null,null,null,null,null,null,null,null,null,null,null,null,null,null,null,null,null,null,null,null,null,null,null,null,null,null,null,null,null,null,null,null,null,null,null,null,null,null,null,null,null,null,null,null,null,null,null,null,null,null,null,null,null,null,null,null,null,null,null,null,null,null,null,null,null,null,null,null,null,null,null,null,null,null,null,null,null,null,null,null,null,null,null,"ATU_HH","TER_NRES"]
[null,3.1,null,"+  Land transport",null,null,null,null,null,null,null,null,null,null,null,null,null,null,null,null,null,null,null,null,null,null,null,null,null,null,null,null,null,null,null,null,null,null,null,null,null,null,null,null,null,null,null,null,null,null,null,null,null,null,null,null,null,null,null,null,null,null,null,null,null,null,null,null,null,null,null,null,null,null,null,null,null,null,null,null,null,null,null,null,null,null,null,null,null,null,"ATU_HH","TER_NRES_LTR"]
[null,3.2,null,"+ Water transport",null,null,null,null,null,null,null,null,null,null,null,null,null,null,null,null,null,null,null,null,null,null,null,null,null,null,null,null,null,null,null,null,null,null,null,null,null,null,null,null,null,null,null,null,null,null,null,null,null,null,null,null,null,null,null,null,null,null,null,null,null,null,null,null,null,null,null,null,null,null,null,null,null,null,null,null,null,null,null,null,null,null,null,null,null,null,"ATU_HH","TER_NRES_WTR"]
[null,3.3,null,"+  Air transport",null,null,null,null,null,null,null,null,null,null,null,null,null,null,null,null,null,null,null,null,null,null,null,null,null,null,null,null,null,null,null,null,null,null,null,null,null,null,null,null,null,null,null,null,null,null,null,null,null,null,null,null,null,null,null,null,null,null,null,null,null,null,null,null,null,null,null,null,null,null,null,null,null,null,null,null,null,null,null,null,null,null,null,null,null,null,"ATU_HH","TER_NRES_ATR"]
[null,4,null,"Other adjustments and statistical discrepancy",null,null,null,null,null,null,null,null,null,null,null,null,null,null,null,null,null,null,null,null,null,null,null,null,null,null,null,null,null,null,null,null,null,null,null,null,null,null,null,null,null,null,null,null,null,null,null,null,null,null,null,null,null,null,null,null,null,null,null,null,null,null,null,null,null,null,null,null,null,null,null,null,null,null,null,null,null,null,null,null,null,null,null,null,null,null,"ATU_HH","ADJ_SD"]
[null,5,null,"'Emissions of HFCs (as reported to UNFCCC table 10s5)",null,null,null,null,null,null,null,null,null,null,null,null,null,null,null,null,null,null,null,null,null,null,null,null,null,null,null,null,null,null,null,null,null,null,null,null,null,null,null,null,null,null,null,null,null,null,null,null,null,null,null,null,null,null,null,null,null,null,null,null,null,null,null,null,null,null,null,null,null,null,null,null,null,null,null,null,null,null,null,null,null,null,null,null,null,null,"ATU_HH","TER"]
[null,null,null,"Year of submission to UNFCCC"]
[]
[null,"Explanatory notes for bridging items:"]
[null,1,"Total Air emissions accounts (industry (row 5) + households (row 91)) - residence principle"]
[]
[null,2.1,"Fishing vessels operated by resident units bunkering outside of the reporting country"]
[null,2.2000000000000002,"Land transport (incl. rail) by resident units fuelling outside of the reporting country"]
[null,2.2999999999999998,"Domestic navigation by resident units bunkering at ports outside of the reporting country and all international navigation by resident units"]
[null,2.4,"Domestic aviation by resident units bunkering at airports outside of the reporting country and all international aviation by resident units"]
[]
[null,3.1,"Land transport (incl. rail) by non-resident units fuelling on the territory of the reporting country"]
[null,3.2,"Domestic navigation by non-residents bunkering at ports of the reporting country"]
[null,3.3,"Domestic aviation by non-residents bunkering at airports of the reporting country"]
[]
[null,5,"National totals derived from UNFCCC inventories that include domestic aviation/navigation bunkering at airports/ports of the reporting country, while excluding international transport and LULUCF - territory principle"]

{"sheet":"PFC","index":17,"n_rows":121,"n_cols":98,"rows_kept":121,"cut":false,"hidden":false,"merged":[[0,96,2,96],[0,97,2,97],[0,90,2,90],[0,91,2,91],[0,92,2,92],[0,93,2,93],[0,94,2,94],[0,95,2,95],[103,3,103,4],[80,3,80,4],[81,3,81,4],[82,3,82,4],[83,3,83,4],[84,3,84,4],[73,3,73,4],[74,3,74,4],[75,3,75,4],[76,3,76,4],[77,3,77,4],[78,3,78,4],[67,3,67,4],[68,3,68,4],[69,3,69,4],[70,3,70,4],[104,3,104,4],[105,3,105,4],[106,3,106,4],[0,87,2,87],[0,89,2,89],[97,3,97,4],[98,3,98,4],[99,3,99,4],[100,3,100,4],[101,3,101,4],[102,3,102,4],[91,3,91,4],[92,3,92,4],[93,3,93,4],[94,1,94,4],[95,3,95,4],[96,3,96,4],[85,3,85,4],[86,3,86,4],[87,3,87,4],[88,3,88,4],[89,3,89,4],[90,1,90,4],[79,3,79,4],[71,3,71,4],[72,3,72,4],[61,3,61,4],[62,3,62,4],[63,3,63,4],[64,3,64,4],[65,3,65,4],[66,3,66,4],[55,3,55,4],[56,3,56,4],[57,3,57,4],[58,3,58,4],[59,3,59,4],[60,3,60,4],[49,3,49,4],[50,3,50,4],[51,3,51,4],[52,3,52,4],[53,3,53,4],[54,3,54,4],[43,3,43,4],[44,3,44,4],[45,3,45,4],[46,3,46,4],[47,3,47,4],[48,3,48,4],[37,3,37,4],[38,3,38,4],[39,3,39,4],[40,3,40,4],[41,3,41,4],[42,3,42,4],[31,3,31,4],[32,3,32,4],[33,3,33,4],[34,3,34,4],[35,3,35,4],[36,3,36,4],[25,3,25,4],[26,3,26,4],[27,3,27,4],[28,3,28,4],[29,3,29,4],[30,3,30,4],[19,3,19,4],[20,3,20,4],[21,3,21,4],[22,3,22,4],[23,3,23,4],[24,3,24,4],[0,5,2,6],[0,7,2,8],[0,9,2,10],[13,3,13,4],[14,3,14,4],[15,3,15,4],[16,3,16,4],[17,3,17,4],[18,3,18,4],[7,3,7,4],[8,3,8,4],[9,3,9,4],[10,3,10,4],[11,3,11,4],[12,3,12,4],[0,88,2,88],[0,11,2,12],[0,13,2,14],[2,47,2,48],[3,1,3,4],[4,1,4,2],[4,3,4,4],[5,3,5,4],[6,3,6,4],[0,27,2,28],[0,29,2,30],[0,31,2,32],[0,33,2,34],[0,35,2,36],[1,1,1,2],[2,1,2,2],[2,3,2,4],[0,15,2,16],[0,17,2,18],[0,19,2,20],[0,21,2,22],[0,23,2,24],[0,25,2,26],[0,1,0,2]]}
["DATAENTRY","Country:",null,{"$f":"intro!F7","v":""},null,null,null,null,null,null,null,null,null,null,null,null,null,null,null,null,null,null,null,null,null,null,null,null,null,null,null,null,null,null,null,null,null,null,null,null,null,null,null,null,null,null,null,null,null,null,null,null,null,null,null,null,null,null,null,null,null,null,null,null,null,null,null,null,null,null,null,null,null,null,null,null,null,null,null,null,null,null,null,null,null,null,null,"DEMAND_PROD","ACCOUNTING_ENTRY","COUNTERPART_AREA","INTERACTORS","BRIDGE_ITEM","AIRPOL","STO","UNIT_MEASURE","UNIT_MULT","PRODUCT","SECTOR"]
[null,"Air Pollutant",null,"PFC","Perfluorocarbons"]
["TCO2E","Unit","Million National Currency","tonnes (Mg) CO2-equivalents"]
[null,"Air emissions by industry",null,null,null,1995,null,1996,null,1997,null,1998,null,1999,null,2000,null,2001,null,2002,null,2003,null,2004,null,2005,null,2006,null,2007,null,2008,null,2009,null,2010,null,2011,null,2012,null,2013,null,2014,null,2015,null,2016,null,2017,null,2018,null,2019,null,2020,null,2021,null,2022,null,2023,null,2024]
[null,{"$f":"Parameters!Q4","v":"A_U   01-99"},null,{"$f":"Parameters!S4","v":"Total industries"},null,null,null,null,null,null,null,null,null,null,null,null,null,null,null,null,null,null,null,null,null,null,null,null,null,null,null,null,null,null,null,null,null,null,null,null,null,null,null,null,null,null,null,null,null,null,null,null,null,null,null,null,null,null,null,null,null,null,null,null,null,null,null,null,null,null,null,null,null,null,null,null,null,null,null,null,null,null,null,null,null,null,null,"P","EC","W2","ATU","RES","PFC","_Z","TCO2E",0,"_T","S1"]
[null,{"$f":"Parameters!Q5","v":"A"},null,{"$f":"Parameters!S5","v":"Agriculture, forestry and fishing"},null,null,null,null,null,null,null,null,null,null,null,null,null,null,null,null,null,null,null,null,null,null,null,null,null,null,null,null,null,null,null,null,null,null,null,null,null,null,null,null,null,null,null,null,null,null,null,null,null,null,null,null,null,null,null,null,null,null,null,null,null,null,null,null,null,null,null,null,null,null,null,null,null,null,null,null,null,null,null,null,null,null,null,null,null,null,"A","RES"]
[null,{"$f":"Parameters!Q6","v":"A01"},null,{"$f":"Parameters!S6","v":"Crop and animal production, hunting and related service activities"},null,null,null,null,null,null,null,null,null,null,null,null,null,null,null,null,null,null,null,null,null,null,null,null,null,null,null,null,null,null,null,null,null,null,null,null,null,null,null,null,null,null,null,null,null,null,null,null,null,null,null,null,null,null,null,null,null,null,null,null,null,null,null,null,null,null,null,null,null,null,null,null,null,null,null,null,null,null,null,null,null,null,null,null,null,null,"A01","RES"]
[null,{"$f":"Parameters!Q7","v":"A02"},null,{"$f":"Parameters!S7","v":"Forestry and logging"},null,null,null,null,null,null,null,null,null,null,null,null,null,null,null,null,null,null,null,null,null,null,null,null,null,null,null,null,null,null,null,null,null,null,null,null,null,null,null,null,null,null,null,null,null,null,null,null,null,null,null,null,null,null,null,null,null,null,null,null,null,null,null,null,null,null,null,null,null,null,null,null,null,null,null,null,null,null,null,null,null,null,null,null,null,null,"A02","RES"]
[null,{"$f":"Parameters!Q8","v":"A03"},null,{"$f":"Parameters!S8","v":"Fishing and aquaculture"},null,null,null,null,null,null,null,null,null,null,null,null,null,null,null,null,null,null,null,null,null,null,null,null,null,null,null,null,null,null,null,null,null,null,null,null,null,null,null,null,null,null,null,null,null,null,null,null,null,null,null,null,null,null,null,null,null,null,null,null,null,null,null,null,null,null,null,null,null,null,null,null,null,null,null,null,null,null,null,null,null,null,null,null,null,null,"A03","RES"]
[null,{"$f":"Parameters!Q9","v":"B"},null,{"$f":"Parameters!S9","v":"Mining and quarrying"},null,null,null,null,null,null,null,null,null,null,null,null,null,null,null,null,null,null,null,null,null,null,null,null,null,null,null,null,null,null,null,null,null,null,null,null,null,null,null,null,null,null,null,null,null,null,null,null,null,null,null,null,null,null,null,null,null,null,null,null,null,null,null,null,null,null,null,null,null,null,null,null,null,null,null,null,null,null,null,null,null,null,null,null,null,null,"B","RES"]
[null,{"$f":"Parameters!Q10","v":"C"},null,{"$f":"Parameters!S10","v":"Manufacturing"},null,null,null,null,null,null,null,null,null,null,null,null,null,null,null,null,null,null,null,null,null,null,null,null,null,null,null,null,null,null,null,null,null,null,null,null,null,null,null,null,null,null,null,null,null,null,null,null,null,null,null,null,null,null,null,null,null,null,null,null,null,null,null,null,null,null,null,null,null,null,null,null,null,null,null,null,null,null,null,null,null,null,null,null,null,null,"C","RES"]
[null,{"$f":"Parameters!Q11","v":"C10-C12"},null,{"$f":"Parameters!S11","v":"Manufacture of food products, beverages and tobacco\nproducts"},null,null,null,null,null,null,null,null,null,null,null,null,null,null,null,null,null,null,null,null,null,null,null,null,null,null,null,null,null,null,null,null,null,null,null,null,null,null,null,null,null,null,null,null,null,null,null,null,null,null,null,null,null,null,null,null,null,null,null,null,null,null,null,null,null,null,null,null,null,null,null,null,null,null,null,null,null,null,null,null,null,null,null,null,null,null,"C10T12","RES"]
[null,{"$f":"Parameters!Q12","v":"C13-C15"},null,{"$f":"Parameters!S12","v":"Manufacture of textiles, wearing apparel and leather products"},null,null,null,null,null,null,null,null,null,null,null,null,null,null,null,null,null,null,null,null,null,null,null,null,null,null,null,null,null,null,null,null,null,null,null,null,null,null,null,null,null,null,null,null,null,null,null,null,null,null,null,null,null,null,null,null,null,null,null,null,null,null,null,null,null,null,null,null,null,null,null,null,null,null,null,null,null,null,null,null,null,null,null,null,null,null,"C13T15","RES"]
[null,{"$f":"Parameters!Q13","v":"C16-C18"},null,{"$f":"Parameters!S13","v":"Manufacture of wood, paper, printing and reproduction"}]
[null,{"$f":"Parameters!Q14","v":"C16"},null,{"$f":"Parameters!S14","v":"Manufacture of wood and of products of wood and cork, except furniture; manufacture of articles of straw and plaiting materials"},null,null,null,null,null,null,null,null,null,null,null,null,null,null,null,null,null,null,null,null,null,null,null,null,null,null,null,null,null,null,null,null,null,null,null,null,null,null,null,null,null,null,null,null,null,null,null,null,null,null,null,null,null,null,null,null,null,null,null,null,null,null,null,null,null,null,null,null,null,null,null,null,null,null,null,null,null,null,null,null,null,null,null,null,null,null,"C16","RES"]
[null,{"$f":"Parameters!Q15","v":"C17"},null,{"$f":"Parameters!S15","v":"Manufacture of paper and paper products"},null,null,null,null,null,null,null,null,null,null,null,null,null,null,null,null,null,null,null,null,null,null,null,null,null,null,null,null,null,null,null,null,null,null,null,null,null,null,null,null,null,null,null,null,null,null,null,null,null,null,null,null,null,null,null,null,null,null,null,null,null,null,null,null,null,null,null,null,null,null,null,null,null,null,null,null,null,null,null,null,null,null,null,null,null,null,"C17","RES"]
[null,{"$f":"Parameters!Q16","v":"C18"},null,{"$f":"Parameters!S16","v":"Printing and reproduction of recorded media"},null,null,null,null,null,null,null,null,null,null,null,null,null,null,null,null,null,null,null,null,null,null,null,null,null,null,null,null,null,null,null,null,null,null,null,null,null,null,null,null,null,null,null,null,null,null,null,null,null,null,null,null,null,null,null,null,null,null,null,null,null,null,null,null,null,null,null,null,null,null,null,null,null,null,null,null,null,null,null,null,null,null,null,null,null,null,"C18","RES"]
[null,{"$f":"Parameters!Q17","v":"C19"},null,{"$f":"Parameters!S17","v":"Manufacture of coke and refined petroleum products"},null,null,null,null,null,null,null,null,null,null,null,null,null,null,null,null,null,null,null,null,null,null,null,null,null,null,null,null,null,null,null,null,null,null,null,null,null,null,null,null,null,null,null,null,null,null,null,null,null,null,null,null,null,null,null,null,null,null,null,null,null,null,null,null,null,null,null,null,null,null,null,null,null,null,null,null,null,null,null,null,null,null,null,null,null,null,"C19","RES"]
[null,{"$f":"Parameters!Q18","v":"C20"},null,{"$f":"Parameters!S18","v":"Manufacture of chemicals and chemical products"},null,null,null,null,null,null,null,null,null,null,null,null,null,null,null,null,null,null,null,null,null,null,null,null,null,null,null,null,null,null,null,null,null,null,null,null,null,null,null,null,null,null,null,null,null,null,null,null,null,null,null,null,null,null,null,null,null,null,null,null,null,null,null,null,null,null,null,null,null,null,null,null,null,null,null,null,null,null,null,null,null,null,null,null,null,null,"C20","RES"]
[null,{"$f":"Parameters!Q19","v":"C21"},null,{"$f":"Parameters!S19","v":"Manufacture of basic pharmaceutical products and pharmaceutical preparations"},null,null,null,null,null,null,null,null,null,null,null,null,null,null,null,null,null,null,null,null,null,null,null,null,null,null,null,null,null,null,null,null,null,null,null,null,null,null,null,null,null,null,null,null,null,null,null,null,null,null,null,null,null,null,null,null,null,null,null,null,null,null,null,null,null,null,null,null,null,null,null,null,null,null,null,null,null,null,null,null,null,null,null,null,null,null,"C21","RES"]
[null,{"$f":"Parameters!Q20","v":"C22_C23"},null,{"$f":"Parameters!S20","v":"Manufacture of rubber and plastic products and other non-metallic mineral products"}]
[null,{"$f":"Parameters!Q21","v":"C22"},null,{"$f":"Parameters!S21","v":"Manufacture of rubber and plastic products"},null,null,null,null,null,null,null,null,null,null,null,null,null,null,null,null,null,null,null,null,null,null,null,null,null,null,null,null,null,null,null,null,null,null,null,null,null,null,null,null,null,null,null,null,null,null,null,null,null,null,null,null,null,null,null,null,null,null,null,null,null,null,null,null,null,null,null,null,null,null,null,null,null,null,null,null,null,null,null,null,null,null,null,null,null,null,"C22","RES"]
[null,{"$f":"Parameters!Q22","v":"C23"},null,{"$f":"Parameters!S22","v":"Manufacture of other non-metallic mineral products"},null,null,null,null,null,null,null,null,null,null,null,null,null,null,null,null,null,null,null,null,null,null,null,null,null,null,null,null,null,null,null,null,null,null,null,null,null,null,null,null,null,null,null,null,null,null,null,null,null,null,null,null,null,null,null,null,null,null,null,null,null,null,null,null,null,null,null,null,null,null,null,null,null,null,null,null,null,null,null,null,null,null,null,null,null,null,"C23","RES"]
[null,{"$f":"Parameters!Q23","v":"C24_C25"},null,{"$f":"Parameters!S23","v":"Manufacture of basic metals and fabricated metal products, except machinery and equipment"}]
[null,{"$f":"Parameters!Q24","v":"C24"},null,{"$f":"Parameters!S24","v":"Manufacture of basic metals"},null,null,null,null,null,null,null,null,null,null,null,null,null,null,null,null,null,null,null,null,null,null,null,null,null,null,null,null,null,null,null,null,null,null,null,null,null,null,null,null,null,null,null,null,null,null,null,null,null,null,null,null,null,null,null,null,null,null,null,null,null,null,null,null,null,null,null,null,null,null,null,null,null,null,null,null,null,null,null,null,null,null,null,null,null,null,"C24","RES"]
[null,{"$f":"Parameters!Q25","v":"C25"},null,{"$f":"Parameters!S25","v":"Manufacture of fabricated metal products, except machinery and equipment"},null,null,null,null,null,null,null,null,null,null,null,null,null,null,null,null,null,null,null,null,null,null,null,null,null,null,null,null,null,null,null,null,null,null,null,null,null,null,null,null,null,null,null,null,null,null,null,null,null,null,null,null,null,null,null,null,null,null,null,null,null,null,null,null,null,null,null,null,null,null,null,null,null,null,null,null,null,null,null,null,null,null,null,null,null,null,"C25","RES"]
[null,{"$f":"Parameters!Q26","v":"C26"},null,{"$f":"Parameters!S26","v":"Manufacture of computer, electronic and optical products"},null,null,null,null,null,null,null,null,null,null,null,null,null,null,null,null,null,null,null,null,null,null,null,null,null,null,null,null,null,null,null,null,null,null,null,null,null,null,null,null,null,null,null,null,null,null,null,null,null,null,null,null,null,null,null,null,null,null,null,null,null,null,null,null,null,null,null,null,null,null,null,null,null,null,null,null,null,null,null,null,null,null,null,null,null,null,"C26","RES"]
[null,{"$f":"Parameters!Q27","v":"C27"},null,{"$f":"Parameters!S27","v":"Manufacture of electrical equipment"},null,null,null,null,null,null,null,null,null,null,null,null,null,null,null,null,null,null,null,null,null,null,null,null,null,null,null,null,null,null,null,null,null,null,null,null,null,null,null,null,null,null,null,null,null,null,null,null,null,null,null,null,null,null,null,null,null,null,null,null,null,null,null,null,null,null,null,null,null,null,null,null,null,null,null,null,null,null,null,null,null,null,null,null,null,null,"C27","RES"]
[null,{"$f":"Parameters!Q28","v":"C28"},null,{"$f":"Parameters!S28","v":"Manufacture of machinery and equipment n.e.c."},null,null,null,null,null,null,null,null,null,null,null,null,null,null,null,null,null,null,null,null,null,null,null,null,null,null,null,null,null,null,null,null,null,null,null,null,null,null,null,null,null,null,null,null,null,null,null,null,null,null,null,null,null,null,null,null,null,null,null,null,null,null,null,null,null,null,null,null,null,null,null,null,null,null,null,null,null,null,null,null,null,null,null,null,null,null,"C28","RES"]
[null,{"$f":"Parameters!Q29","v":"C29_C30"},null,{"$f":"Parameters!S29","v":"Manufacture of motor vehicles, trailers, semi-trailers and of other transport equipment"}]
[null,{"$f":"Parameters!Q30","v":"C29"},null,{"$f":"Parameters!S30","v":"Manufacture of motor vehicles, trailers and semi-trailers"},null,null,null,null,null,null,null,null,null,null,null,null,null,null,null,null,null,null,null,null,null,null,null,null,null,null,null,null,null,null,null,null,null,null,null,null,null,null,null,null,null,null,null,null,null,null,null,null,null,null,null,null,null,null,null,null,null,null,null,null,null,null,null,null,null,null,null,null,null,null,null,null,null,null,null,null,null,null,null,null,null,null,null,null,null,null,"C29","RES"]
[null,{"$f":"Parameters!Q31","v":"C30"},null,{"$f":"Parameters!S31","v":"Manufacture of other transport equipment"},null,null,null,null,null,null,null,null,null,null,null,null,null,null,null,null,null,null,null,null,null,null,null,null,null,null,null,null,null,null,null,null,null,null,null,null,null,null,null,null,null,null,null,null,null,null,null,null,null,null,null,null,null,null,null,null,null,null,null,null,null,null,null,null,null,null,null,null,null,null,null,null,null,null,null,null,null,null,null,null,null,null,null,null,null,null,"C30","RES"]
[null,{"$f":"Parameters!Q32","v":"C31-C33"},null,{"$f":"Parameters!S32","v":"Manufacture of furniture; jewellery, musical instruments, toys; repair and installation of machinery and equipment"}]
[null,{"$f":"Parameters!Q33","v":"C31_C32"},null,{"$f":"Parameters!S33","v":"Manufacture of furniture; other manufacturing"},null,null,null,null,null,null,null,null,null,null,null,null,null,null,null,null,null,null,null,null,null,null,null,null,null,null,null,null,null,null,null,null,null,null,null,null,null,null,null,null,null,null,null,null,null,null,null,null,null,null,null,null,null,null,null,null,null,null,null,null,null,null,null,null,null,null,null,null,null,null,null,null,null,null,null,null,null,null,null,null,null,null,null,null,null,null,"C31_32","RES"]
[null,{"$f":"Parameters!Q34","v":"C33"},null,{"$f":"Parameters!S34","v":"Repair and installation of machinery and equipment"},null,null,null,null,null,null,null,null,null,null,null,null,null,null,null,null,null,null,null,null,null,null,null,null,null,null,null,null,null,null,null,null,null,null,null,null,null,null,null,null,null,null,null,null,null,null,null,null,null,null,null,null,null,null,null,null,null,null,null,null,null,null,null,null,null,null,null,null,null,null,null,null,null,null,null,null,null,null,null,null,null,null,null,null,null,null,"C33","RES"]
[null,{"$f":"Parameters!Q35","v":"D"},null,{"$f":"Parameters!S35","v":"Electricity, gas, steam and air conditioning supply"},null,null,null,null,null,null,null,null,null,null,null,null,null,null,null,null,null,null,null,null,null,null,null,null,null,null,null,null,null,null,null,null,null,null,null,null,null,null,null,null,null,null,null,null,null,null,null,null,null,null,null,null,null,null,null,null,null,null,null,null,null,null,null,null,null,null,null,null,null,null,null,null,null,null,null,null,null,null,null,null,null,null,null,null,null,null,"D","RES"]
[null,{"$f":"Parameters!Q36","v":"E"},null,{"$f":"Parameters!S36","v":"Water supply; sewerage, waste management and remediation activities"},null,null,null,null,null,null,null,null,null,null,null,null,null,null,null,null,null,null,null,null,null,null,null,null,null,null,null,null,null,null,null,null,null,null,null,null,null,null,null,null,null,null,null,null,null,null,null,null,null,null,null,null,null,null,null,null,null,null,null,null,null,null,null,null,null,null,null,null,null,null,null,null,null,null,null,null,null,null,null,null,null,null,null,null,null,null,"E","RES"]
[null,{"$f":"Parameters!Q37","v":"E36"},null,{"$f":"Parameters!S37","v":"Water collection, treatment and supply"},null,null,null,null,null,null,null,null,null,null,null,null,null,null,null,null,null,null,null,null,null,null,null,null,null,null,null,null,null,null,null,null,null,null,null,null,null,null,null,null,null,null,null,null,null,null,null,null,null,null,null,null,null,null,null,null,null,null,null,null,null,null,null,null,null,null,null,null,null,null,null,null,null,null,null,null,null,null,null,null,null,null,null,null,null,null,"E36","RES"]
[null,{"$f":"Parameters!Q38","v":"E37-E39"},null,{"$f":"Parameters!S38","v":"Sewerage, waste management, remediation activities"},null,null,null,null,null,null,null,null,null,null,null,null,null,null,null,null,null,null,null,null,null,null,null,null,null,null,null,null,null,null,null,null,null,null,null,null,null,null,null,null,null,null,null,null,null,null,null,null,null,null,null,null,null,null,null,null,null,null,null,null,null,null,null,null,null,null,null,null,null,null,null,null,null,null,null,null,null,null,null,null,null,null,null,null,null,null,"E37T39","RES"]
[null,{"$f":"Parameters!Q39","v":"F"},null,{"$f":"Parameters!S39","v":"Construction"},null,null,null,null,null,null,null,null,null,null,null,null,null,null,null,null,null,null,null,null,null,null,null,null,null,null,null,null,null,null,null,null,null,null,null,null,null,null,null,null,null,null,null,null,null,null,null,null,null,null,null,null,null,null,null,null,null,null,null,null,null,null,null,null,null,null,null,null,null,null,null,null,null,null,null,null,null,null,null,null,null,null,null,null,null,null,"F","RES"]
[null,{"$f":"Parameters!Q40","v":"G"},null,{"$f":"Parameters!S40","v":"Wholesale and retail trade; repair of motor vehicles and motorcycles"},null,null,null,null,null,null,null,null,null,null,null,null,null,null,null,null,null,null,null,null,null,null,null,null,null,null,null,null,null,null,null,null,null,null,null,null,null,null,null,null,null,null,null,null,null,null,null,null,null,null,null,null,null,null,null,null,null,null,null,null,null,null,null,null,null,null,null,null,null,null,null,null,null,null,null,null,null,null,null,null,null,null,null,null,null,null,"G","RES"]
[null,{"$f":"Parameters!Q41","v":"G45"},null,{"$f":"Parameters!S41","v":"Wholesale and retail trade and repair of motor vehicles and motorcycles"},null,null,null,null,null,null,null,null,null,null,null,null,null,null,null,null,null,null,null,null,null,null,null,null,null,null,null,null,null,null,null,null,null,null,null,null,null,null,null,null,null,null,null,null,null,null,null,null,null,null,null,null,null,null,null,null,null,null,null,null,null,null,null,null,null,null,null,null,null,null,null,null,null,null,null,null,null,null,null,null,null,null,null,null,null,null,"G45","RES"]
[null,{"$f":"Parameters!Q42","v":"G46"},null,{"$f":"Parameters!S42","v":"Wholesale trade, except of motor vehicles and motorcycles"},null,null,null,null,null,null,null,null,null,null,null,null,null,null,null,null,null,null,null,null,null,null,null,null,null,null,null,null,null,null,null,null,null,null,null,null,null,null,null,null,null,null,null,null,null,null,null,null,null,null,null,null,null,null,null,null,null,null,null,null,null,null,null,null,null,null,null,null,null,null,null,null,null,null,null,null,null,null,null,null,null,null,null,null,null,null,"G46","RES"]
[null,{"$f":"Parameters!Q43","v":"G47"},null,{"$f":"Parameters!S43","v":"Retail trade, except of motor vehicles and motorcycles"},null,null,null,null,null,null,null,null,null,null,null,null,null,null,null,null,null,null,null,null,null,null,null,null,null,null,null,null,null,null,null,null,null,null,null,null,null,null,null,null,null,null,null,null,null,null,null,null,null,null,null,null,null,null,null,null,null,null,null,null,null,null,null,null,null,null,null,null,null,null,null,null,null,null,null,null,null,null,null,null,null,null,null,null,null,null,"G47","RES"]
[null,{"$f":"Parameters!Q44","v":"H"},null,{"$f":"Parameters!S44","v":"Transportation and storage"},null,null,null,null,null,null,null,null,null,null,null,null,null,null,null,null,null,null,null,null,null,null,null,null,null,null,null,null,null,null,null,null,null,null,null,null,null,null,null,null,null,null,null,null,null,null,null,null,null,null,null,null,null,null,null,null,null,null,null,null,null,null,null,null,null,null,null,null,null,null,null,null,null,null,null,null,null,null,null,null,null,null,null,null,null,null,"H","RES"]
[null,{"$f":"Parameters!Q45","v":"H49"},null,{"$f":"Parameters!S45","v":"Land transport and transport via pipelines"},null,null,null,null,null,null,null,null,null,null,null,null,null,null,null,null,null,null,null,null,null,null,null,null,null,null,null,null,null,null,null,null,null,null,null,null,null,null,null,null,null,null,null,null,null,null,null,null,null,null,null,null,null,null,null,null,null,null,null,null,null,null,null,null,null,null,null,null,null,null,null,null,null,null,null,null,null,null,null,null,null,null,null,null,null,null,"H49","RES"]
[null,{"$f":"Parameters!Q46","v":"H50"},null,{"$f":"Parameters!S46","v":"Water transport"},null,null,null,null,null,null,null,null,null,null,null,null,null,null,null,null,null,null,null,null,null,null,null,null,null,null,null,null,null,null,null,null,null,null,null,null,null,null,null,null,null,null,null,null,null,null,null,null,null,null,null,null,null,null,null,null,null,null,null,null,null,null,null,null,null,null,null,null,null,null,null,null,null,null,null,null,null,null,null,null,null,null,null,null,null,null,"H50","RES"]
[null,{"$f":"Parameters!Q47","v":"H51"},null,{"$f":"Parameters!S47","v":"Air transport"},null,null,null,null,null,null,null,null,null,null,null,null,null,null,null,null,null,null,null,null,null,null,null,null,null,null,null,null,null,null,null,null,null,null,null,null,null,null,null,null,null,null,null,null,null,null,null,null,null,null,null,null,null,null,null,null,null,null,null,null,null,null,null,null,null,null,null,null,null,null,null,null,null,null,null,null,null,null,null,null,null,null,null,null,null,null,"H51","RES"]
[null,{"$f":"Parameters!Q48","v":"H52"},null,{"$f":"Parameters!S48","v":"Warehousing and support activities for transportation"},null,null,null,null,null,null,null,null,null,null,null,null,null,null,null,null,null,null,null,null,null,null,null,null,null,null,null,null,null,null,null,null,null,null,null,null,null,null,null,null,null,null,null,null,null,null,null,null,null,null,null,null,null,null,null,null,null,null,null,null,null,null,null,null,null,null,null,null,null,null,null,null,null,null,null,null,null,null,null,null,null,null,null,null,null,null,"H52","RES"]
[null,{"$f":"Parameters!Q49","v":"H53"},null,{"$f":"Parameters!S49","v":"Postal and courier activities"},null,null,null,null,null,null,null,null,null,null,null,null,null,null,null,null,null,null,null,null,null,null,null,null,null,null,null,null,null,null,null,null,null,null,null,null,null,null,null,null,null,null,null,null,null,null,null,null,null,null,null,null,null,null,null,null,null,null,null,null,null,null,null,null,null,null,null,null,null,null,null,null,null,null,null,null,null,null,null,null,null,null,null,null,null,null,"H53","RES"]
[null,{"$f":"Parameters!Q50","v":"I"},null,{"$f":"Parameters!S50","v":"Accommodation and food service activities"},null,null,null,null,null,null,null,null,null,null,null,null,null,null,null,null,null,null,null,null,null,null,null,null,null,null,null,null,null,null,null,null,null,null,null,null,null,null,null,null,null,null,null,null,null,null,null,null,null,null,null,null,null,null,null,null,null,null,null,null,null,null,null,null,null,null,null,null,null,null,null,null,null,null,null,null,null,null,null,null,null,null,null,null,null,null,"I","RES"]
[null,{"$f":"Parameters!Q51","v":"J"},null,{"$f":"Parameters!S51","v":"Information and communication"},null,null,null,null,null,null,null,null,null,null,null,null,null,null,null,null,null,null,null,null,null,null,null,null,null,null,null,null,null,null,null,null,null,null,null,null,null,null,null,null,null,null,null,null,null,null,null,null,null,null,null,null,null,null,null,null,null,null,null,null,null,null,null,null,null,null,null,null,null,null,null,null,null,null,null,null,null,null,null,null,null,null,null,null,null,null,"J","RES"]
[null,{"$f":"Parameters!Q52","v":"J58-J60"},null,{"$f":"Parameters!S52","v":"Publishing, motion picture, video, television programme production; sound recording, programming and broadcasting activities"}]
[null,{"$f":"Parameters!Q53","v":"J58"},null,{"$f":"Parameters!S53","v":"Publishing activities"},null,null,null,null,null,null,null,null,null,null,null,null,null,null,null,null,null,null,null,null,null,null,null,null,null,null,null,null,null,null,null,null,null,null,null,null,null,null,null,null,null,null,null,null,null,null,null,null,null,null,null,null,null,null,null,null,null,null,null,null,null,null,null,null,null,null,null,null,null,null,null,null,null,null,null,null,null,null,null,null,null,null,null,null,null,null,"J58","RES"]
[null,{"$f":"Parameters!Q54","v":"J59_J60"},null,{"$f":"Parameters!S54","v":"Motion picture, video, television programme production; programming and broadcasting activities"},null,null,null,null,null,null,null,null,null,null,null,null,null,null,null,null,null,null,null,null,null,null,null,null,null,null,null,null,null,null,null,null,null,null,null,null,null,null,null,null,null,null,null,null,null,null,null,null,null,null,null,null,null,null,null,null,null,null,null,null,null,null,null,null,null,null,null,null,null,null,null,null,null,null,null,null,null,null,null,null,null,null,null,null,null,null,"J59_60","RES"]
[null,{"$f":"Parameters!Q55","v":"J61"},null,{"$f":"Parameters!S55","v":"Telecommunications"},null,null,null,null,null,null,null,null,null,null,null,null,null,null,null,null,null,null,null,null,null,null,null,null,null,null,null,null,null,null,null,null,null,null,null,null,null,null,null,null,null,null,null,null,null,null,null,null,null,null,null,null,null,null,null,null,null,null,null,null,null,null,null,null,null,null,null,null,null,null,null,null,null,null,null,null,null,null,null,null,null,null,null,null,null,null,"J61","RES"]
[null,{"$f":"Parameters!Q56","v":"J62_J63"},null,{"$f":"Parameters!S56","v":"Computer programming, consultancy, and information service activities"},null,null,null,null,null,null,null,null,null,null,null,null,null,null,null,null,null,null,null,null,null,null,null,null,null,null,null,null,null,null,null,null,null,null,null,null,null,null,null,null,null,null,null,null,null,null,null,null,null,null,null,null,null,null,null,null,null,null,null,null,null,null,null,null,null,null,null,null,null,null,null,null,null,null,null,null,null,null,null,null,null,null,null,null,null,null,"J62_63","RES"]
[null,{"$f":"Parameters!Q57","v":"K"},null,{"$f":"Parameters!S57","v":"Financial and insurance activities"},null,null,null,null,null,null,null,null,null,null,null,null,null,null,null,null,null,null,null,null,null,null,null,null,null,null,null,null,null,null,null,null,null,null,null,null,null,null,null,null,null,null,null,null,null,null,null,null,null,null,null,null,null,null,null,null,null,null,null,null,null,null,null,null,null,null,null,null,null,null,null,null,null,null,null,null,null,null,null,null,null,null,null,null,null,null,"K","RES"]
[null,{"$f":"Parameters!Q58","v":"K64"},null,{"$f":"Parameters!S58","v":"Financial service activities, except insurance and pension funding"},null,null,null,null,null,null,null,null,null,null,null,null,null,null,null,null,null,null,null,null,null,null,null,null,null,null,null,null,null,null,null,null,null,null,null,null,null,null,null,null,null,null,null,null,null,null,null,null,null,null,null,null,null,null,null,null,null,null,null,null,null,null,null,null,null,null,null,null,null,null,null,null,null,null,null,null,null,null,null,null,null,null,null,null,null,null,"K64","RES"]
[null,{"$f":"Parameters!Q59","v":"K65"},null,{"$f":"Parameters!S59","v":"Insurance, reinsurance and pension funding, except compulsory social security"},null,null,null,null,null,null,null,null,null,null,null,null,null,null,null,null,null,null,null,null,null,null,null,null,null,null,null,null,null,null,null,null,null,null,null,null,null,null,null,null,null,null,null,null,null,null,null,null,null,null,null,null,null,null,null,null,null,null,null,null,null,null,null,null,null,null,null,null,null,null,null,null,null,null,null,null,null,null,null,null,null,null,null,null,null,null,"K65","RES"]
[null,{"$f":"Parameters!Q60","v":"K66"},null,{"$f":"Parameters!S60","v":"Activities auxiliary to financial services and insurance activities"},null,null,null,null,null,null,null,null,null,null,null,null,null,null,null,null,null,null,null,null,null,null,null,null,null,null,null,null,null,null,null,null,null,null,null,null,null,null,null,null,null,null,null,null,null,null,null,null,null,null,null,null,null,null,null,null,null,null,null,null,null,null,null,null,null,null,null,null,null,null,null,null,null,null,null,null,null,null,null,null,null,null,null,null,null,null,"K66","RES"]
[null,{"$f":"Parameters!Q61","v":"L"},null,{"$f":"Parameters!S61","v":"Real estate activities"},null,null,null,null,null,null,null,null,null,null,null,null,null,null,null,null,null,null,null,null,null,null,null,null,null,null,null,null,null,null,null,null,null,null,null,null,null,null,null,null,null,null,null,null,null,null,null,null,null,null,null,null,null,null,null,null,null,null,null,null,null,null,null,null,null,null,null,null,null,null,null,null,null,null,null,null,null,null,null,null,null,null,null,null,null,null,"L","RES"]
[null,{"$f":"Parameters!Q62","v":"L68A"},null,{"$f":"Parameters!S62","v":"Imputed rents of owner-occupied dwellings"},null,null,null,null,null,null,null,null,null,null,null,null,null,null,null,null,null,null,null,null,null,null,null,null,null,null,null,null,null,null,null,null,null,null,null,null,null,null,null,null,null,null,null,null,null,null,null,null,null,null,null,null,null,null,null,null,null,null,null,null,null,null,null,null,null,null,null,null,null,null,null,null,null,null,null,null,null,null,null,null,null,null,null,null,null,null,"L68A","RES"]
[null,{"$f":"Parameters!Q63","v":"M"},null,{"$f":"Parameters!S63","v":"Professional, scientific and technical activities"},null,null,null,null,null,null,null,null,null,null,null,null,null,null,null,null,null,null,null,null,null,null,null,null,null,null,null,null,null,null,null,null,null,null,null,null,null,null,null,null,null,null,null,null,null,null,null,null,null,null,null,null,null,null,null,null,null,null,null,null,null,null,null,null,null,null,null,null,null,null,null,null,null,null,null,null,null,null,null,null,null,null,null,null,null,null,"M","RES"]
[null,{"$f":"Parameters!Q64","v":"M69-M71"},null,{"$f":"Parameters!S64","v":"Legal and accounting activities; activities of head offices; management consultancy activities; architectural and engineering activities; technical testing and analysis"}]
[null,{"$f":"Parameters!Q65","v":"M69_M70"},null,{"$f":"Parameters!S65","v":"Legal and accounting activities; activities of head offices; management consultancy activities"},null,null,null,null,null,null,null,null,null,null,null,null,null,null,null,null,null,null,null,null,null,null,null,null,null,null,null,null,null,null,null,null,null,null,null,null,null,null,null,null,null,null,null,null,null,null,null,null,null,null,null,null,null,null,null,null,null,null,null,null,null,null,null,null,null,null,null,null,null,null,null,null,null,null,null,null,null,null,null,null,null,null,null,null,null,null,"M69_70","RES"]
[null,{"$f":"Parameters!Q66","v":"M71"},null,{"$f":"Parameters!S66","v":"Architectural and engineering activities; technical testing and analysis"},null,null,null,null,null,null,null,null,null,null,null,null,null,null,null,null,null,null,null,null,null,null,null,null,null,null,null,null,null,null,null,null,null,null,null,null,null,null,null,null,null,null,null,null,null,null,null,null,null,null,null,null,null,null,null,null,null,null,null,null,null,null,null,null,null,null,null,null,null,null,null,null,null,null,null,null,null,null,null,null,null,null,null,null,null,null,"M71","RES"]
[null,{"$f":"Parameters!Q67","v":"M72"},null,{"$f":"Parameters!S67","v":"Scientific research and development"},null,null,null,null,null,null,null,null,null,null,null,null,null,null,null,null,null,null,null,null,null,null,null,null,null,null,null,null,null,null,null,null,null,null,null,null,null,null,null,null,null,null,null,null,null,null,null,null,null,null,null,null,null,null,null,null,null,null,null,null,null,null,null,null,null,null,null,null,null,null,null,null,null,null,null,null,null,null,null,null,null,null,null,null,null,null,"M72","RES"]
[null,{"$f":"Parameters!Q68","v":"M73-M75"},null,{"$f":"Parameters!S68","v":"Advertising and market research; other professional, scientific and technical activities; veterinary activities"}]
[null,{"$f":"Parameters!Q69","v":"M73"},null,{"$f":"Parameters!S69","v":"Advertising and market research"},null,null,null,null,null,null,null,null,null,null,null,null,null,null,null,null,null,null,null,null,null,null,null,null,null,null,null,null,null,null,null,null,null,null,null,null,null,null,null,null,null,null,null,null,null,null,null,null,null,null,null,null,null,null,null,null,null,null,null,null,null,null,null,null,null,null,null,null,null,null,null,null,null,null,null,null,null,null,null,null,null,null,null,null,null,null,"M73","RES"]
[null,{"$f":"Parameters!Q70","v":"M74_M75"},null,{"$f":"Parameters!S70","v":"Other professional, scientific and technical activities; veterinary activities"},null,null,null,null,null,null,null,null,null,null,null,null,null,null,null,null,null,null,null,null,null,null,null,null,null,null,null,null,null,null,null,null,null,null,null,null,null,null,null,null,null,null,null,null,null,null,null,null,null,null,null,null,null,null,null,null,null,null,null,null,null,null,null,null,null,null,null,null,null,null,null,null,null,null,null,null,null,null,null,null,null,null,null,null,null,null,"M74_75","RES"]
[null,{"$f":"Parameters!Q71","v":"N"},null,{"$f":"Parameters!S71","v":"Administrative and support service activities"},null,null,null,null,null,null,null,null,null,null,null,null,null,null,null,null,null,null,null,null,null,null,null,null,null,null,null,null,null,null,null,null,null,null,null,null,null,null,null,null,null,null,null,null,null,null,null,null,null,null,null,null,null,null,null,null,null,null,null,null,null,null,null,null,null,null,null,null,null,null,null,null,null,null,null,null,null,null,null,null,null,null,null,null,null,null,"N","RES"]
[null,{"$f":"Parameters!Q72","v":"N77"},null,{"$f":"Parameters!S72","v":"Rental and leasing activities"},null,null,null,null,null,null,null,null,null,null,null,null,null,null,null,null,null,null,null,null,null,null,null,null,null,null,null,null,null,null,null,null,null,null,null,null,null,null,null,null,null,null,null,null,null,null,null,null,null,null,null,null,null,null,null,null,null,null,null,null,null,null,null,null,null,null,null,null,null,null,null,null,null,null,null,null,null,null,null,null,null,null,null,null,null,null,"N77","RES"]
[null,{"$f":"Parameters!Q73","v":"N78"},null,{"$f":"Parameters!S73","v":"Employment activities"},null,null,null,null,null,null,null,null,null,null,null,null,null,null,null,null,null,null,null,null,null,null,null,null,null,null,null,null,null,null,null,null,null,null,null,null,null,null,null,null,null,null,null,null,null,null,null,null,null,null,null,null,null,null,null,null,null,null,null,null,null,null,null,null,null,null,null,null,null,null,null,null,null,null,null,null,null,null,null,null,null,null,null,null,null,null,"N78","RES"]
[null,{"$f":"Parameters!Q74","v":"N79"},null,{"$f":"Parameters!S74","v":"Travel agency, tour operator reservation service and related activities"},null,null,null,null,null,null,null,null,null,null,null,null,null,null,null,null,null,null,null,null,null,null,null,null,null,null,null,null,null,null,null,null,null,null,null,null,null,null,null,null,null,null,null,null,null,null,null,null,null,null,null,null,null,null,null,null,null,null,null,null,null,null,null,null,null,null,null,null,null,null,null,null,null,null,null,null,null,null,null,null,null,null,null,null,null,null,"N79","RES"]
[null,{"$f":"Parameters!Q75","v":"N80-N82"},null,{"$f":"Parameters!S75","v":"Security and investigation, service and landscape, office administrative and support activities"},null,null,null,null,null,null,null,null,null,null,null,null,null,null,null,null,null,null,null,null,null,null,null,null,null,null,null,null,null,null,null,null,null,null,null,null,null,null,null,null,null,null,null,null,null,null,null,null,null,null,null,null,null,null,null,null,null,null,null,null,null,null,null,null,null,null,null,null,null,null,null,null,null,null,null,null,null,null,null,null,null,null,null,null,null,null,"N80T82","RES"]
[null,{"$f":"Parameters!Q76","v":"O"},null,{"$f":"Parameters!S76","v":"Public administration and defence; compulsory social security"},null,null,null,null,null,null,null,null,null,null,null,null,null,null,null,null,null,null,null,null,null,null,null,null,null,null,null,null,null,null,null,null,null,null,null,null,null,null,null,null,null,null,null,null,null,null,null,null,null,null,null,null,null,null,null,null,null,null,null,null,null,null,null,null,null,null,null,null,null,null,null,null,null,null,null,null,null,null,null,null,null,null,null,null,null,null,"O","RES"]
[null,{"$f":"Parameters!Q77","v":"P"},null,{"$f":"Parameters!S77","v":"Education"},null,null,null,null,null,null,null,null,null,null,null,null,null,null,null,null,null,null,null,null,null,null,null,null,null,null,null,null,null,null,null,null,null,null,null,null,null,null,null,null,null,null,null,null,null,null,null,null,null,null,null,null,null,null,null,null,null,null,null,null,null,null,null,null,null,null,null,null,null,null,null,null,null,null,null,null,null,null,null,null,null,null,null,null,null,null,"P","RES"]
[null,{"$f":"Parameters!Q78","v":"Q"},null,{"$f":"Parameters!S78","v":"Human health and social work activities"},null,null,null,null,null,null,null,null,null,null,null,null,null,null,null,null,null,null,null,null,null,null,null,null,null,null,null,null,null,null,null,null,null,null,null,null,null,null,null,null,null,null,null,null,null,null,null,null,null,null,null,null,null,null,null,null,null,null,null,null,null,null,null,null,null,null,null,null,null,null,null,null,null,null,null,null,null,null,null,null,null,null,null,null,null,null,"Q","RES"]
[null,{"$f":"Parameters!Q79","v":"Q86"},null,{"$f":"Parameters!S79","v":"Human health activities"},null,null,null,null,null,null,null,null,null,null,null,null,null,null,null,null,null,null,null,null,null,null,null,null,null,null,null,null,null,null,null,null,null,null,null,null,null,null,null,null,null,null,null,null,null,null,null,null,null,null,null,null,null,null,null,null,null,null,null,null,null,null,null,null,null,null,null,null,null,null,null,null,null,null,null,null,null,null,null,null,null,null,null,null,null,null,"Q86","RES"]
[null,{"$f":"Parameters!Q80","v":"Q87_Q88"},null,{"$f":"Parameters!S80","v":"Residential care activities and social work activities without accommodation"},null,null,null,null,null,null,null,null,null,null,null,null,null,null,null,null,null,null,null,null,null,null,null,null,null,null,null,null,null,null,null,null,null,null,null,null,null,null,null,null,null,null,null,null,null,null,null,null,null,null,null,null,null,null,null,null,null,null,null,null,null,null,null,null,null,null,null,null,null,null,null,null,null,null,null,null,null,null,null,null,null,null,null,null,null,null,"Q87_88","RES"]
[null,{"$f":"Parameters!Q81","v":"R"},null,{"$f":"Parameters!S81","v":"Arts, entertainment and recreation"},null,null,null,null,null,null,null,null,null,null,null,null,null,null,null,null,null,null,null,null,null,null,null,null,null,null,null,null,null,null,null,null,null,null,null,null,null,null,null,null,null,null,null,null,null,null,null,null,null,null,null,null,null,null,null,null,null,null,null,null,null,null,null,null,null,null,null,null,null,null,null,null,null,null,null,null,null,null,null,null,null,null,null,null,null,null,"R","RES"]
[null,{"$f":"Parameters!Q82","v":"R90-R92"},null,{"$f":"Parameters!S82","v":"Creative, arts and entertainment activities; libraries, archives, museums and other cultural activities; gambling and betting activities"},null,null,null,null,null,null,null,null,null,null,null,null,null,null,null,null,null,null,null,null,null,null,null,null,null,null,null,null,null,null,null,null,null,null,null,null,null,null,null,null,null,null,null,null,null,null,null,null,null,null,null,null,null,null,null,null,null,null,null,null,null,null,null,null,null,null,null,null,null,null,null,null,null,null,null,null,null,null,null,null,null,null,null,null,null,null,"R90T92","RES"]
[null,{"$f":"Parameters!Q83","v":"R93"},null,{"$f":"Parameters!S83","v":"Sports activities and amusement and recreation activities"},null,null,null,null,null,null,null,null,null,null,null,null,null,null,null,null,null,null,null,null,null,null,null,null,null,null,null,null,null,null,null,null,null,null,null,null,null,null,null,null,null,null,null,null,null,null,null,null,null,null,null,null,null,null,null,null,null,null,null,null,null,null,null,null,null,null,null,null,null,null,null,null,null,null,null,null,null,null,null,null,null,null,null,null,null,null,"R93","RES"]
[null,{"$f":"Parameters!Q84","v":"S"},null,{"$f":"Parameters!S84","v":"Other service activities"},null,null,null,null,null,null,null,null,null,null,null,null,null,null,null,null,null,null,null,null,null,null,null,null,null,null,null,null,null,null,null,null,null,null,null,null,null,null,null,null,null,null,null,null,null,null,null,null,null,null,null,null,null,null,null,null,null,null,null,null,null,null,null,null,null,null,null,null,null,null,null,null,null,null,null,null,null,null,null,null,null,null,null,null,null,null,"S","RES"]
[null,{"$f":"Parameters!Q85","v":"S94"},null,{"$f":"Parameters!S85","v":"Activities of membership organisations"},null,null,null,null,null,null,null,null,null,null,null,null,null,null,null,null,null,null,null,null,null,null,null,null,null,null,null,null,null,null,null,null,null,null,null,null,null,null,null,null,null,null,null,null,null,null,null,null,null,null,null,null,null,null,null,null,null,null,null,null,null,null,null,null,null,null,null,null,null,null,null,null,null,null,null,null,null,null,null,null,null,null,null,null,null,null,"S94","RES"]
[null,{"$f":"Parameters!Q86","v":"S95"},null,{"$f":"Parameters!S86","v":"Repair of computers and personal and household goods"},null,null,null,null,null,null,null,null,null,null,null,null,null,null,null,null,null,null,null,null,null,null,null,null,null,null,null,null,null,null,null,null,null,null,null,null,null,null,null,null,null,null,null,null,null,null,null,null,null,null,null,null,null,null,null,null,null,null,null,null,null,null,null,null,null,null,null,null,null,null,null,null,null,null,null,null,null,null,null,null,null,null,null,null,null,null,"S95","RES"]
[null,{"$f":"Parameters!Q87","v":"S96"},null,{"$f":"Parameters!S87","v":"Other personal service activities"},null,null,null,null,null,null,null,null,null,null,null,null,null,null,null,null,null,null,null,null,null,null,null,null,null,null,null,null,null,null,null,null,null,null,null,null,null,null,null,null,null,null,null,null,null,null,null,null,null,null,null,null,null,null,null,null,null,null,null,null,null,null,null,null,null,null,null,null,null,null,null,null,null,null,null,null,null,null,null,null,null,null,null,null,null,null,"S96","RES"]
[null,{"$f":"Parameters!Q88","v":"T"},null,{"$f":"Parameters!S88","v":"Activities of households as employers; undifferentiated goods- and services-producing activities of households for own use"},null,null,null,null,null,null,null,null,null,null,null,null,null,null,null,null,null,null,null,null,null,null,null,null,null,null,null,null,null,null,null,null,null,null,null,null,null,null,null,null,null,null,null,null,null,null,null,null,null,null,null,null,null,null,null,null,null,null,null,null,null,null,null,null,null,null,null,null,null,null,null,null,null,null,null,null,null,null,null,null,null,null,null,null,null,null,"T","RES"]
[null,{"$f":"Parameters!Q89","v":"U"},null,{"$f":"Parameters!S89","v":"Activities of extraterritorial organisations and bodies"},null,null,null,null,null,null,null,null,null,null,null,null,null,null,null,null,null,null,null,null,null,null,null,null,null,null,null,null,null,null,null,null,null,null,null,null,null,null,null,null,null,null,null,null,null,null,null,null,null,null,null,null,null,null,null,null,null,null,null,null,null,null,null,null,null,null,null,null,null,null,null,null,null,null,null,null,null,null,null,null,null,null,null,null,null,null,"U","RES"]
[null,"   Household air emissions\n                                          Households, totals",null,null,null,null,null,null,null,null,null,null,null,null,null,null,null,null,null,null,null,null,null,null,null,null,null,null,null,null,null,null,null,null,null,null,null,null,null,null,null,null,null,null,null,null,null,null,null,null,null,null,null,null,null,null,null,null,null,null,null,null,null,null,null,null,null,null,null,null,null,null,null,null,null,null,null,null,null,null,null,null,null,null,null,null,null,null,null,null,"HH","RES"]
[null,null,null,"- Transport",null,null,null,null,null,null,null,null,null,null,null,null,null,null,null,null,null,null,null,null,null,null,null,null,null,null,null,null,null,null,null,null,null,null,null,null,null,null,null,null,null,null,null,null,null,null,null,null,null,null,null,null,null,null,null,null,null,null,null,null,null,null,null,null,null,null,null,null,null,null,null,null,null,null,null,null,null,null,null,null,null,null,null,null,null,null,"HH_TR","RES"]
[null,null,null,"- Heating/cooling",null,null,null,null,null,null,null,null,null,null,null,null,null,null,null,null,null,null,null,null,null,null,null,null,null,null,null,null,null,null,null,null,null,null,null,null,null,null,null,null,null,null,null,null,null,null,null,null,null,null,null,null,null,null,null,null,null,null,null,null,null,null,null,null,null,null,null,null,null,null,null,null,null,null,null,null,null,null,null,null,null,null,null,null,null,null,"HH_HEAT","RES"]
[null,null,null,"- Other",null,null,null,null,null,null,null,null,null,null,null,null,null,null,null,null,null,null,null,null,null,null,null,null,null,null,null,null,null,null,null,null,null,null,null,null,null,null,null,null,null,null,null,null,null,null,null,null,null,null,null,null,null,null,null,null,null,null,null,null,null,null,null,null,null,null,null,null,null,null,null,null,null,null,null,null,null,null,null,null,null,null,null,null,null,null,"HH_OTH","RES"]
[null,"   Bridging items\n\n1                              Total Air emissions accounts (industry (row 5) + households (row 91))",null,null,null,null,null,null,null,null,null,null,null,null,null,null,null,null,null,null,null,null,null,null,null,null,null,null,null,null,null,null,null,null,null,null,null,null,null,null,null,null,null,null,null,null,null,null,null,null,null,null,null,null,null,null,null,null,null,null,null,null,null,null,null,null,null,null,null,null,null,null,null,null,null,null,null,null,null,null,null,null,null,null,null,null,null,null,null,null,"ATU_HH","RES"]
[null,2,null,"less National residents abroad",null,null,null,null,null,null,null,null,null,null,null,null,null,null,null,null,null,null,null,null,null,null,null,null,null,null,null,null,null,null,null,null,null,null,null,null,null,null,null,null,null,null,null,null,null,null,null,null,null,null,null,null,null,null,null,null,null,null,null,null,null,null,null,null,null,null,null,null,null,null,null,null,null,null,null,null,null,null,null,null,null,null,null,null,null,null,"ATU_HH","RES_ABR"]
[null,2.1,null,"-  National fishing vessels operating abroad",null,null,null,null,null,null,null,null,null,null,null,null,null,null,null,null,null,null,null,null,null,null,null,null,null,null,null,null,null,null,null,null,null,null,null,null,null,null,null,null,null,null,null,null,null,null,null,null,null,null,null,null,null,null,null,null,null,null,null,null,null,null,null,null,null,null,null,null,null,null,null,null,null,null,null,null,null,null,null,null,null,null,null,null,null,null,"ATU_HH","RES_ABR_FWTR"]
[null,2.2000000000000002,null,"-  Land transport",null,null,null,null,null,null,null,null,null,null,null,null,null,null,null,null,null,null,null,null,null,null,null,null,null,null,null,null,null,null,null,null,null,null,null,null,null,null,null,null,null,null,null,null,null,null,null,null,null,null,null,null,null,null,null,null,null,null,null,null,null,null,null,null,null,null,null,null,null,null,null,null,null,null,null,null,null,null,null,null,null,null,null,null,null,null,"ATU_HH","RES_ABR_LTR"]
[null,2.2999999999999998,null,"-  Water transport",null,null,null,null,null,null,null,null,null,null,null,null,null,null,null,null,null,null,null,null,null,null,null,null,null,null,null,null,null,null,null,null,null,null,null,null,null,null,null,null,null,null,null,null,null,null,null,null,null,null,null,null,null,null,null,null,null,null,null,null,null,null,null,null,null,null,null,null,null,null,null,null,null,null,null,null,null,null,null,null,null,null,null,null,null,null,"ATU_HH","RES_ABR_WTR"]
[null,2.4,null,"-  Air transport",null,null,null,null,null,null,null,null,null,null,null,null,null,null,null,null,null,null,null,null,null,null,null,null,null,null,null,null,null,null,null,null,null,null,null,null,null,null,null,null,null,null,null,null,null,null,null,null,null,null,null,null,null,null,null,null,null,null,null,null,null,null,null,null,null,null,null,null,null,null,null,null,null,null,null,null,null,null,null,null,null,null,null,null,null,null,"ATU_HH","RES_ABR_ATR"]
[null,3,null,"plus Non-residents on the territory",null,null,null,null,null,null,null,null,null,null,null,null,null,null,null,null,null,null,null,null,null,null,null,null,null,null,null,null,null,null,null,null,null,null,null,null,null,null,null,null,null,null,null,null,null,null,null,null,null,null,null,null,null,null,null,null,null,null,null,null,null,null,null,null,null,null,null,null,null,null,null,null,null,null,null,null,null,null,null,null,null,null,null,null,null,null,"ATU_HH","TER_NRES"]
[null,3.1,null,"+  Land transport",null,null,null,null,null,null,null,null,null,null,null,null,null,null,null,null,null,null,null,null,null,null,null,null,null,null,null,null,null,null,null,null,null,null,null,null,null,null,null,null,null,null,null,null,null,null,null,null,null,null,null,null,null,null,null,null,null,null,null,null,null,null,null,null,null,null,null,null,null,null,null,null,null,null,null,null,null,null,null,null,null,null,null,null,null,null,"ATU_HH","TER_NRES_LTR"]
[null,3.2,null,"+ Water transport",null,null,null,null,null,null,null,null,null,null,null,null,null,null,null,null,null,null,null,null,null,null,null,null,null,null,null,null,null,null,null,null,null,null,null,null,null,null,null,null,null,null,null,null,null,null,null,null,null,null,null,null,null,null,null,null,null,null,null,null,null,null,null,null,null,null,null,null,null,null,null,null,null,null,null,null,null,null,null,null,null,null,null,null,null,null,"ATU_HH","TER_NRES_WTR"]
[null,3.3,null,"+  Air transport",null,null,null,null,null,null,null,null,null,null,null,null,null,null,null,null,null,null,null,null,null,null,null,null,null,null,null,null,null,null,null,null,null,null,null,null,null,null,null,null,null,null,null,null,null,null,null,null,null,null,null,null,null,null,null,null,null,null,null,null,null,null,null,null,null,null,null,null,null,null,null,null,null,null,null,null,null,null,null,null,null,null,null,null,null,null,"ATU_HH","TER_NRES_ATR"]
[null,4,null,"Other adjustments and statistical discrepancy",null,null,null,null,null,null,null,null,null,null,null,null,null,null,null,null,null,null,null,null,null,null,null,null,null,null,null,null,null,null,null,null,null,null,null,null,null,null,null,null,null,null,null,null,null,null,null,null,null,null,null,null,null,null,null,null,null,null,null,null,null,null,null,null,null,null,null,null,null,null,null,null,null,null,null,null,null,null,null,null,null,null,null,null,null,null,"ATU_HH","ADJ_SD"]
[null,5,null,"'Emissions of PFCs (as reported to UNFCCC table 10s5)",null,null,null,null,null,null,null,null,null,null,null,null,null,null,null,null,null,null,null,null,null,null,null,null,null,null,null,null,null,null,null,null,null,null,null,null,null,null,null,null,null,null,null,null,null,null,null,null,null,null,null,null,null,null,null,null,null,null,null,null,null,null,null,null,null,null,null,null,null,null,null,null,null,null,null,null,null,null,null,null,null,null,null,null,null,null,"ATU_HH","TER"]
[null,null,null,"Year of submission to UNFCCC"]
[]
[null,"Explanatory notes for bridging items:"]
[null,1,"Total Air emissions accounts (industry (row 5) + households (row 91)) - residence principle"]
[]
[null,2.1,"Fishing vessels operated by resident units bunkering outside of the reporting country"]
[null,2.2000000000000002,"Land transport (incl. rail) by resident units fuelling outside of the reporting country"]
[null,2.2999999999999998,"Domestic navigation by resident units bunkering at ports outside of the reporting country and all international navigation by resident units"]
[null,2.4,"Domestic aviation by resident units bunkering at airports outside of the reporting country and all international aviation by resident units"]
[]
[null,3.1,"Land transport (incl. rail) by non-resident units fuelling on the territory of the reporting country"]
[null,3.2,"Domestic navigation by non-residents bunkering at ports of the reporting country"]
[null,3.3,"Domestic aviation by non-residents bunkering at airports of the reporting country"]
[]
[null,5,"National totals derived from UNFCCC inventories that include domestic aviation/navigation bunkering at airports/ports of the reporting country, while excluding international transport and LULUCF - territory principle"]

{"sheet":"SF6_NF3","index":18,"n_rows":121,"n_cols":98,"rows_kept":121,"cut":false,"hidden":false,"merged":[[0,96,2,96],[0,97,2,97],[0,90,2,90],[0,91,2,91],[0,92,2,92],[0,93,2,93],[0,94,2,94],[0,95,2,95],[103,3,103,4],[80,3,80,4],[81,3,81,4],[82,3,82,4],[83,3,83,4],[84,3,84,4],[73,3,73,4],[74,3,74,4],[75,3,75,4],[76,3,76,4],[77,3,77,4],[78,3,78,4],[67,3,67,4],[68,3,68,4],[69,3,69,4],[70,3,70,4],[104,3,104,4],[105,3,105,4],[106,3,106,4],[0,87,2,87],[0,89,2,89],[97,3,97,4],[98,3,98,4],[99,3,99,4],[100,3,100,4],[101,3,101,4],[102,3,102,4],[91,3,91,4],[92,3,92,4],[93,3,93,4],[94,1,94,4],[95,3,95,4],[96,3,96,4],[85,3,85,4],[86,3,86,4],[87,3,87,4],[88,3,88,4],[89,3,89,4],[90,1,90,4],[79,3,79,4],[71,3,71,4],[72,3,72,4],[61,3,61,4],[62,3,62,4],[63,3,63,4],[64,3,64,4],[65,3,65,4],[66,3,66,4],[55,3,55,4],[56,3,56,4],[57,3,57,4],[58,3,58,4],[59,3,59,4],[60,3,60,4],[49,3,49,4],[50,3,50,4],[51,3,51,4],[52,3,52,4],[53,3,53,4],[54,3,54,4],[43,3,43,4],[44,3,44,4],[45,3,45,4],[46,3,46,4],[47,3,47,4],[48,3,48,4],[37,3,37,4],[38,3,38,4],[39,3,39,4],[40,3,40,4],[41,3,41,4],[42,3,42,4],[31,3,31,4],[32,3,32,4],[33,3,33,4],[34,3,34,4],[35,3,35,4],[36,3,36,4],[25,3,25,4],[26,3,26,4],[27,3,27,4],[28,3,28,4],[29,3,29,4],[30,3,30,4],[19,3,19,4],[20,3,20,4],[21,3,21,4],[22,3,22,4],[23,3,23,4],[24,3,24,4],[0,5,2,6],[0,7,2,8],[0,9,2,10],[13,3,13,4],[14,3,14,4],[15,3,15,4],[16,3,16,4],[17,3,17,4],[18,3,18,4],[7,3,7,4],[8,3,8,4],[9,3,9,4],[10,3,10,4],[11,3,11,4],[12,3,12,4],[0,88,2,88],[0,11,2,12],[0,13,2,14],[2,47,2,48],[3,1,3,4],[4,1,4,2],[4,3,4,4],[5,3,5,4],[6,3,6,4],[0,27,2,28],[0,29,2,30],[0,31,2,32],[0,33,2,34],[0,35,2,36],[1,1,1,2],[2,1,2,2],[2,3,2,4],[0,15,2,16],[0,17,2,18],[0,19,2,20],[0,21,2,22],[0,23,2,24],[0,25,2,26],[0,1,0,2]]}
["DATAENTRY","Country:",null,{"$f":"intro!F7","v":""},null,null,null,null,null,null,null,null,null,null,null,null,null,null,null,null,null,null,null,null,null,null,null,null,null,null,null,null,null,null,null,null,null,null,null,null,null,null,null,null,null,null,null,null,null,null,null,null,null,null,null,null,null,null,null,null,null,null,null,null,null,null,null,null,null,null,null,null,null,null,null,null,null,null,null,null,null,null,null,null,null,null,null,"DEMAND_PROD","ACCOUNTING_ENTRY","COUNTERPART_AREA","INTERACTORS","BRIDGE_ITEM","AIRPOL","STO","UNIT_MEASURE","UNIT_MULT","PRODUCT","SECTOR"]
[null,"Air Pollutant",null,"NF3_SF6","Sulphur hexafluoride and nitrogen trifluoride"]
["TCO2E","Unit","Million National Currency","tonnes (Mg) CO2-equivalents"]
[null,"Air emissions by industry",null,null,null,1995,null,1996,null,1997,null,1998,null,1999,null,2000,null,2001,null,2002,null,2003,null,2004,null,2005,null,2006,null,2007,null,2008,null,2009,null,2010,null,2011,null,2012,null,2013,null,2014,null,2015,null,2016,null,2017,null,2018,null,2019,null,2020,null,2021,null,2022,null,2023,null,2024]
[null,{"$f":"Parameters!Q4","v":"A_U   01-99"},null,{"$f":"Parameters!S4","v":"Total industries"},null,null,null,null,null,null,null,null,null,null,null,null,null,null,null,null,null,null,null,null,null,null,null,null,null,null,null,null,null,null,null,null,null,null,null,null,null,null,null,null,null,null,null,null,null,null,null,null,null,null,null,null,null,null,null,null,null,null,null,null,null,null,null,null,null,null,null,null,null,null,null,null,null,null,null,null,null,null,null,null,null,null,null,"P","EC","W2","ATU","RES","NF3_SF6","_Z","TCO2E",0,"_T","S1"]
[null,{"$f":"Parameters!Q5","v":"A"},null,{"$f":"Parameters!S5","v":"Agriculture, forestry and fishing"},null,null,null,null,null,null,null,null,null,null,null,null,null,null,null,null,null,null,null,null,null,null,null,null,null,null,null,null,null,null,null,null,null,null,null,null,null,null,null,null,null,null,null,null,null,null,null,null,null,null,null,null,null,null,null,null,null,null,null,null,null,null,null,null,null,null,null,null,null,null,null,null,null,null,null,null,null,null,null,null,null,null,null,null,null,null,"A","RES"]
[null,{"$f":"Parameters!Q6","v":"A01"},null,{"$f":"Parameters!S6","v":"Crop and animal production, hunting and related service activities"},null,null,null,null,null,null,null,null,null,null,null,null,null,null,null,null,null,null,null,null,null,null,null,null,null,null,null,null,null,null,null,null,null,null,null,null,null,null,null,null,null,null,null,null,null,null,null,null,null,null,null,null,null,null,null,null,null,null,null,null,null,null,null,null,null,null,null,null,null,null,null,null,null,null,null,null,null,null,null,null,null,null,null,null,null,null,"A01","RES"]
[null,{"$f":"Parameters!Q7","v":"A02"},null,{"$f":"Parameters!S7","v":"Forestry and logging"},null,null,null,null,null,null,null,null,null,null,null,null,null,null,null,null,null,null,null,null,null,null,null,null,null,null,null,null,null,null,null,null,null,null,null,null,null,null,null,null,null,null,null,null,null,null,null,null,null,null,null,null,null,null,null,null,null,null,null,null,null,null,null,null,null,null,null,null,null,null,null,null,null,null,null,null,null,null,null,null,null,null,null,null,null,null,"A02","RES"]
[null,{"$f":"Parameters!Q8","v":"A03"},null,{"$f":"Parameters!S8","v":"Fishing and aquaculture"},null,null,null,null,null,null,null,null,null,null,null,null,null,null,null,null,null,null,null,null,null,null,null,null,null,null,null,null,null,null,null,null,null,null,null,null,null,null,null,null,null,null,null,null,null,null,null,null,null,null,null,null,null,null,null,null,null,null,null,null,null,null,null,null,null,null,null,null,null,null,null,null,null,null,null,null,null,null,null,null,null,null,null,null,null,null,"A03","RES"]
[null,{"$f":"Parameters!Q9","v":"B"},null,{"$f":"Parameters!S9","v":"Mining and quarrying"},null,null,null,null,null,null,null,null,null,null,null,null,null,null,null,null,null,null,null,null,null,null,null,null,null,null,null,null,null,null,null,null,null,null,null,null,null,null,null,null,null,null,null,null,null,null,null,null,null,null,null,null,null,null,null,null,null,null,null,null,null,null,null,null,null,null,null,null,null,null,null,null,null,null,null,null,null,null,null,null,null,null,null,null,null,null,"B","RES"]
[null,{"$f":"Parameters!Q10","v":"C"},null,{"$f":"Parameters!S10","v":"Manufacturing"},null,null,null,null,null,null,null,null,null,null,null,null,null,null,null,null,null,null,null,null,null,null,null,null,null,null,null,null,null,null,null,null,null,null,null,null,null,null,null,null,null,null,null,null,null,null,null,null,null,null,null,null,null,null,null,null,null,null,null,null,null,null,null,null,null,null,null,null,null,null,null,null,null,null,null,null,null,null,null,null,null,null,null,null,null,null,"C","RES"]
[null,{"$f":"Parameters!Q11","v":"C10-C12"},null,{"$f":"Parameters!S11","v":"Manufacture of food products, beverages and tobacco\nproducts"},null,null,null,null,null,null,null,null,null,null,null,null,null,null,null,null,null,null,null,null,null,null,null,null,null,null,null,null,null,null,null,null,null,null,null,null,null,null,null,null,null,null,null,null,null,null,null,null,null,null,null,null,null,null,null,null,null,null,null,null,null,null,null,null,null,null,null,null,null,null,null,null,null,null,null,null,null,null,null,null,null,null,null,null,null,null,"C10T12","RES"]
[null,{"$f":"Parameters!Q12","v":"C13-C15"},null,{"$f":"Parameters!S12","v":"Manufacture of textiles, wearing apparel and leather products"},null,null,null,null,null,null,null,null,null,null,null,null,null,null,null,null,null,null,null,null,null,null,null,null,null,null,null,null,null,null,null,null,null,null,null,null,null,null,null,null,null,null,null,null,null,null,null,null,null,null,null,null,null,null,null,null,null,null,null,null,null,null,null,null,null,null,null,null,null,null,null,null,null,null,null,null,null,null,null,null,null,null,null,null,null,null,"C13T15","RES"]
[null,{"$f":"Parameters!Q13","v":"C16-C18"},null,{"$f":"Parameters!S13","v":"Manufacture of wood, paper, printing and reproduction"}]
[null,{"$f":"Parameters!Q14","v":"C16"},null,{"$f":"Parameters!S14","v":"Manufacture of wood and of products of wood and cork, except furniture; manufacture of articles of straw and plaiting materials"},null,null,null,null,null,null,null,null,null,null,null,null,null,null,null,null,null,null,null,null,null,null,null,null,null,null,null,null,null,null,null,null,null,null,null,null,null,null,null,null,null,null,null,null,null,null,null,null,null,null,null,null,null,null,null,null,null,null,null,null,null,null,null,null,null,null,null,null,null,null,null,null,null,null,null,null,null,null,null,null,null,null,null,null,null,null,"C16","RES"]
[null,{"$f":"Parameters!Q15","v":"C17"},null,{"$f":"Parameters!S15","v":"Manufacture of paper and paper products"},null,null,null,null,null,null,null,null,null,null,null,null,null,null,null,null,null,null,null,null,null,null,null,null,null,null,null,null,null,null,null,null,null,null,null,null,null,null,null,null,null,null,null,null,null,null,null,null,null,null,null,null,null,null,null,null,null,null,null,null,null,null,null,null,null,null,null,null,null,null,null,null,null,null,null,null,null,null,null,null,null,null,null,null,null,null,"C17","RES"]
[null,{"$f":"Parameters!Q16","v":"C18"},null,{"$f":"Parameters!S16","v":"Printing and reproduction of recorded media"},null,null,null,null,null,null,null,null,null,null,null,null,null,null,null,null,null,null,null,null,null,null,null,null,null,null,null,null,null,null,null,null,null,null,null,null,null,null,null,null,null,null,null,null,null,null,null,null,null,null,null,null,null,null,null,null,null,null,null,null,null,null,null,null,null,null,null,null,null,null,null,null,null,null,null,null,null,null,null,null,null,null,null,null,null,null,"C18","RES"]
[null,{"$f":"Parameters!Q17","v":"C19"},null,{"$f":"Parameters!S17","v":"Manufacture of coke and refined petroleum products"},null,null,null,null,null,null,null,null,null,null,null,null,null,null,null,null,null,null,null,null,null,null,null,null,null,null,null,null,null,null,null,null,null,null,null,null,null,null,null,null,null,null,null,null,null,null,null,null,null,null,null,null,null,null,null,null,null,null,null,null,null,null,null,null,null,null,null,null,null,null,null,null,null,null,null,null,null,null,null,null,null,null,null,null,null,null,"C19","RES"]
[null,{"$f":"Parameters!Q18","v":"C20"},null,{"$f":"Parameters!S18","v":"Manufacture of chemicals and chemical products"},null,null,null,null,null,null,null,null,null,null,null,null,null,null,null,null,null,null,null,null,null,null,null,null,null,null,null,null,null,null,null,null,null,null,null,null,null,null,null,null,null,null,null,null,null,null,null,null,null,null,null,null,null,null,null,null,null,null,null,null,null,null,null,null,null,null,null,null,null,null,null,null,null,null,null,null,null,null,null,null,null,null,null,null,null,null,"C20","RES"]
[null,{"$f":"Parameters!Q19","v":"C21"},null,{"$f":"Parameters!S19","v":"Manufacture of basic pharmaceutical products and pharmaceutical preparations"},null,null,null,null,null,null,null,null,null,null,null,null,null,null,null,null,null,null,null,null,null,null,null,null,null,null,null,null,null,null,null,null,null,null,null,null,null,null,null,null,null,null,null,null,null,null,null,null,null,null,null,null,null,null,null,null,null,null,null,null,null,null,null,null,null,null,null,null,null,null,null,null,null,null,null,null,null,null,null,null,null,null,null,null,null,null,"C21","RES"]
[null,{"$f":"Parameters!Q20","v":"C22_C23"},null,{"$f":"Parameters!S20","v":"Manufacture of rubber and plastic products and other non-metallic mineral products"}]
[null,{"$f":"Parameters!Q21","v":"C22"},null,{"$f":"Parameters!S21","v":"Manufacture of rubber and plastic products"},null,null,null,null,null,null,null,null,null,null,null,null,null,null,null,null,null,null,null,null,null,null,null,null,null,null,null,null,null,null,null,null,null,null,null,null,null,null,null,null,null,null,null,null,null,null,null,null,null,null,null,null,null,null,null,null,null,null,null,null,null,null,null,null,null,null,null,null,null,null,null,null,null,null,null,null,null,null,null,null,null,null,null,null,null,null,"C22","RES"]
[null,{"$f":"Parameters!Q22","v":"C23"},null,{"$f":"Parameters!S22","v":"Manufacture of other non-metallic mineral products"},null,null,null,null,null,null,null,null,null,null,null,null,null,null,null,null,null,null,null,null,null,null,null,null,null,null,null,null,null,null,null,null,null,null,null,null,null,null,null,null,null,null,null,null,null,null,null,null,null,null,null,null,null,null,null,null,null,null,null,null,null,null,null,null,null,null,null,null,null,null,null,null,null,null,null,null,null,null,null,null,null,null,null,null,null,null,"C23","RES"]
[null,{"$f":"Parameters!Q23","v":"C24_C25"},null,{"$f":"Parameters!S23","v":"Manufacture of basic metals and fabricated metal products, except machinery and equipment"}]
[null,{"$f":"Parameters!Q24","v":"C24"},null,{"$f":"Parameters!S24","v":"Manufacture of basic metals"},null,null,null,null,null,null,null,null,null,null,null,null,null,null,null,null,null,null,null,null,null,null,null,null,null,null,null,null,null,null,null,null,null,null,null,null,null,null,null,null,null,null,null,null,null,null,null,null,null,null,null,null,null,null,null,null,null,null,null,null,null,null,null,null,null,null,null,null,null,null,null,null,null,null,null,null,null,null,null,null,null,null,null,null,null,null,"C24","RES"]
[null,{"$f":"Parameters!Q25","v":"C25"},null,{"$f":"Parameters!S25","v":"Manufacture of fabricated metal products, except machinery and equipment"},null,null,null,null,null,null,null,null,null,null,null,null,null,null,null,null,null,null,null,null,null,null,null,null,null,null,null,null,null,null,null,null,null,null,null,null,null,null,null,null,null,null,null,null,null,null,null,null,null,null,null,null,null,null,null,null,null,null,null,null,null,null,null,null,null,null,null,null,null,null,null,null,null,null,null,null,null,null,null,null,null,null,null,null,null,null,"C25","RES"]
[null,{"$f":"Parameters!Q26","v":"C26"},null,{"$f":"Parameters!S26","v":"Manufacture of computer, electronic and optical products"},null,null,null,null,null,null,null,null,null,null,null,null,null,null,null,null,null,null,null,null,null,null,null,null,null,null,null,null,null,null,null,null,null,null,null,null,null,null,null,null,null,null,null,null,null,null,null,null,null,null,null,null,null,null,null,null,null,null,null,null,null,null,null,null,null,null,null,null,null,null,null,null,null,null,null,null,null,null,null,null,null,null,null,null,null,null,"C26","RES"]
[null,{"$f":"Parameters!Q27","v":"C27"},null,{"$f":"Parameters!S27","v":"Manufacture of electrical equipment"},null,null,null,null,null,null,null,null,null,null,null,null,null,null,null,null,null,null,null,null,null,null,null,null,null,null,null,null,null,null,null,null,null,null,null,null,null,null,null,null,null,null,null,null,null,null,null,null,null,null,null,null,null,null,null,null,null,null,null,null,null,null,null,null,null,null,null,null,null,null,null,null,null,null,null,null,null,null,null,null,null,null,null,null,null,null,"C27","RES"]
[null,{"$f":"Parameters!Q28","v":"C28"},null,{"$f":"Parameters!S28","v":"Manufacture of machinery and equipment n.e.c."},null,null,null,null,null,null,null,null,null,null,null,null,null,null,null,null,null,null,null,null,null,null,null,null,null,null,null,null,null,null,null,null,null,null,null,null,null,null,null,null,null,null,null,null,null,null,null,null,null,null,null,null,null,null,null,null,null,null,null,null,null,null,null,null,null,null,null,null,null,null,null,null,null,null,null,null,null,null,null,null,null,null,null,null,null,null,"C28","RES"]
[null,{"$f":"Parameters!Q29","v":"C29_C30"},null,{"$f":"Parameters!S29","v":"Manufacture of motor vehicles, trailers, semi-trailers and of other transport equipment"}]
[null,{"$f":"Parameters!Q30","v":"C29"},null,{"$f":"Parameters!S30","v":"Manufacture of motor vehicles, trailers and semi-trailers"},null,null,null,null,null,null,null,null,null,null,null,null,null,null,null,null,null,null,null,null,null,null,null,null,null,null,null,null,null,null,null,null,null,null,null,null,null,null,null,null,null,null,null,null,null,null,null,null,null,null,null,null,null,null,null,null,null,null,null,null,null,null,null,null,null,null,null,null,null,null,null,null,null,null,null,null,null,null,null,null,null,null,null,null,null,null,"C29","RES"]
[null,{"$f":"Parameters!Q31","v":"C30"},null,{"$f":"Parameters!S31","v":"Manufacture of other transport equipment"},null,null,null,null,null,null,null,null,null,null,null,null,null,null,null,null,null,null,null,null,null,null,null,null,null,null,null,null,null,null,null,null,null,null,null,null,null,null,null,null,null,null,null,null,null,null,null,null,null,null,null,null,null,null,null,null,null,null,null,null,null,null,null,null,null,null,null,null,null,null,null,null,null,null,null,null,null,null,null,null,null,null,null,null,null,null,"C30","RES"]
[null,{"$f":"Parameters!Q32","v":"C31-C33"},null,{"$f":"Parameters!S32","v":"Manufacture of furniture; jewellery, musical instruments, toys; repair and installation of machinery and equipment"}]
[null,{"$f":"Parameters!Q33","v":"C31_C32"},null,{"$f":"Parameters!S33","v":"Manufacture of furniture; other manufacturing"},null,null,null,null,null,null,null,null,null,null,null,null,null,null,null,null,null,null,null,null,null,null,null,null,null,null,null,null,null,null,null,null,null,null,null,null,null,null,null,null,null,null,null,null,null,null,null,null,null,null,null,null,null,null,null,null,null,null,null,null,null,null,null,null,null,null,null,null,null,null,null,null,null,null,null,null,null,null,null,null,null,null,null,null,null,null,"C31_32","RES"]
[null,{"$f":"Parameters!Q34","v":"C33"},null,{"$f":"Parameters!S34","v":"Repair and installation of machinery and equipment"},null,null,null,null,null,null,null,null,null,null,null,null,null,null,null,null,null,null,null,null,null,null,null,null,null,null,null,null,null,null,null,null,null,null,null,null,null,null,null,null,null,null,null,null,null,null,null,null,null,null,null,null,null,null,null,null,null,null,null,null,null,null,null,null,null,null,null,null,null,null,null,null,null,null,null,null,null,null,null,null,null,null,null,null,null,null,"C33","RES"]
[null,{"$f":"Parameters!Q35","v":"D"},null,{"$f":"Parameters!S35","v":"Electricity, gas, steam and air conditioning supply"},null,null,null,null,null,null,null,null,null,null,null,null,null,null,null,null,null,null,null,null,null,null,null,null,null,null,null,null,null,null,null,null,null,null,null,null,null,null,null,null,null,null,null,null,null,null,null,null,null,null,null,null,null,null,null,null,null,null,null,null,null,null,null,null,null,null,null,null,null,null,null,null,null,null,null,null,null,null,null,null,null,null,null,null,null,null,"D","RES"]
[null,{"$f":"Parameters!Q36","v":"E"},null,{"$f":"Parameters!S36","v":"Water supply; sewerage, waste management and remediation activities"},null,null,null,null,null,null,null,null,null,null,null,null,null,null,null,null,null,null,null,null,null,null,null,null,null,null,null,null,null,null,null,null,null,null,null,null,null,null,null,null,null,null,null,null,null,null,null,null,null,null,null,null,null,null,null,null,null,null,null,null,null,null,null,null,null,null,null,null,null,null,null,null,null,null,null,null,null,null,null,null,null,null,null,null,null,null,"E","RES"]
[null,{"$f":"Parameters!Q37","v":"E36"},null,{"$f":"Parameters!S37","v":"Water collection, treatment and supply"},null,null,null,null,null,null,null,null,null,null,null,null,null,null,null,null,null,null,null,null,null,null,null,null,null,null,null,null,null,null,null,null,null,null,null,null,null,null,null,null,null,null,null,null,null,null,null,null,null,null,null,null,null,null,null,null,null,null,null,null,null,null,null,null,null,null,null,null,null,null,null,null,null,null,null,null,null,null,null,null,null,null,null,null,null,null,"E36","RES"]
[null,{"$f":"Parameters!Q38","v":"E37-E39"},null,{"$f":"Parameters!S38","v":"Sewerage, waste management, remediation activities"},null,null,null,null,null,null,null,null,null,null,null,null,null,null,null,null,null,null,null,null,null,null,null,null,null,null,null,null,null,null,null,null,null,null,null,null,null,null,null,null,null,null,null,null,null,null,null,null,null,null,null,null,null,null,null,null,null,null,null,null,null,null,null,null,null,null,null,null,null,null,null,null,null,null,null,null,null,null,null,null,null,null,null,null,null,null,"E37T39","RES"]
[null,{"$f":"Parameters!Q39","v":"F"},null,{"$f":"Parameters!S39","v":"Construction"},null,null,null,null,null,null,null,null,null,null,null,null,null,null,null,null,null,null,null,null,null,null,null,null,null,null,null,null,null,null,null,null,null,null,null,null,null,null,null,null,null,null,null,null,null,null,null,null,null,null,null,null,null,null,null,null,null,null,null,null,null,null,null,null,null,null,null,null,null,null,null,null,null,null,null,null,null,null,null,null,null,null,null,null,null,null,"F","RES"]
[null,{"$f":"Parameters!Q40","v":"G"},null,{"$f":"Parameters!S40","v":"Wholesale and retail trade; repair of motor vehicles and motorcycles"},null,null,null,null,null,null,null,null,null,null,null,null,null,null,null,null,null,null,null,null,null,null,null,null,null,null,null,null,null,null,null,null,null,null,null,null,null,null,null,null,null,null,null,null,null,null,null,null,null,null,null,null,null,null,null,null,null,null,null,null,null,null,null,null,null,null,null,null,null,null,null,null,null,null,null,null,null,null,null,null,null,null,null,null,null,null,"G","RES"]
[null,{"$f":"Parameters!Q41","v":"G45"},null,{"$f":"Parameters!S41","v":"Wholesale and retail trade and repair of motor vehicles and motorcycles"},null,null,null,null,null,null,null,null,null,null,null,null,null,null,null,null,null,null,null,null,null,null,null,null,null,null,null,null,null,null,null,null,null,null,null,null,null,null,null,null,null,null,null,null,null,null,null,null,null,null,null,null,null,null,null,null,null,null,null,null,null,null,null,null,null,null,null,null,null,null,null,null,null,null,null,null,null,null,null,null,null,null,null,null,null,null,"G45","RES"]
[null,{"$f":"Parameters!Q42","v":"G46"},null,{"$f":"Parameters!S42","v":"Wholesale trade, except of motor vehicles and motorcycles"},null,null,null,null,null,null,null,null,null,null,null,null,null,null,null,null,null,null,null,null,null,null,null,null,null,null,null,null,null,null,null,null,null,null,null,null,null,null,null,null,null,null,null,null,null,null,null,null,null,null,null,null,null,null,null,null,null,null,null,null,null,null,null,null,null,null,null,null,null,null,null,null,null,null,null,null,null,null,null,null,null,null,null,null,null,null,"G46","RES"]
[null,{"$f":"Parameters!Q43","v":"G47"},null,{"$f":"Parameters!S43","v":"Retail trade, except of motor vehicles and motorcycles"},null,null,null,null,null,null,null,null,null,null,null,null,null,null,null,null,null,null,null,null,null,null,null,null,null,null,null,null,null,null,null,null,null,null,null,null,null,null,null,null,null,null,null,null,null,null,null,null,null,null,null,null,null,null,null,null,null,null,null,null,null,null,null,null,null,null,null,null,null,null,null,null,null,null,null,null,null,null,null,null,null,null,null,null,null,null,"G47","RES"]
[null,{"$f":"Parameters!Q44","v":"H"},null,{"$f":"Parameters!S44","v":"Transportation and storage"},null,null,null,null,null,null,null,null,null,null,null,null,null,null,null,null,null,null,null,null,null,null,null,null,null,null,null,null,null,null,null,null,null,null,null,null,null,null,null,null,null,null,null,null,null,null,null,null,null,null,null,null,null,null,null,null,null,null,null,null,null,null,null,null,null,null,null,null,null,null,null,null,null,null,null,null,null,null,null,null,null,null,null,null,null,null,"H","RES"]
[null,{"$f":"Parameters!Q45","v":"H49"},null,{"$f":"Parameters!S45","v":"Land transport and transport via pipelines"},null,null,null,null,null,null,null,null,null,null,null,null,null,null,null,null,null,null,null,null,null,null,null,null,null,null,null,null,null,null,null,null,null,null,null,null,null,null,null,null,null,null,null,null,null,null,null,null,null,null,null,null,null,null,null,null,null,null,null,null,null,null,null,null,null,null,null,null,null,null,null,null,null,null,null,null,null,null,null,null,null,null,null,null,null,null,"H49","RES"]
[null,{"$f":"Parameters!Q46","v":"H50"},null,{"$f":"Parameters!S46","v":"Water transport"},null,null,null,null,null,null,null,null,null,null,null,null,null,null,null,null,null,null,null,null,null,null,null,null,null,null,null,null,null,null,null,null,null,null,null,null,null,null,null,null,null,null,null,null,null,null,null,null,null,null,null,null,null,null,null,null,null,null,null,null,null,null,null,null,null,null,null,null,null,null,null,null,null,null,null,null,null,null,null,null,null,null,null,null,null,null,"H50","RES"]
[null,{"$f":"Parameters!Q47","v":"H51"},null,{"$f":"Parameters!S47","v":"Air transport"},null,null,null,null,null,null,null,null,null,null,null,null,null,null,null,null,null,null,null,null,null,null,null,null,null,null,null,null,null,null,null,null,null,null,null,null,null,null,null,null,null,null,null,null,null,null,null,null,null,null,null,null,null,null,null,null,null,null,null,null,null,null,null,null,null,null,null,null,null,null,null,null,null,null,null,null,null,null,null,null,null,null,null,null,null,null,"H51","RES"]
[null,{"$f":"Parameters!Q48","v":"H52"},null,{"$f":"Parameters!S48","v":"Warehousing and support activities for transportation"},null,null,null,null,null,null,null,null,null,null,null,null,null,null,null,null,null,null,null,null,null,null,null,null,null,null,null,null,null,null,null,null,null,null,null,null,null,null,null,null,null,null,null,null,null,null,null,null,null,null,null,null,null,null,null,null,null,null,null,null,null,null,null,null,null,null,null,null,null,null,null,null,null,null,null,null,null,null,null,null,null,null,null,null,null,null,"H52","RES"]
[null,{"$f":"Parameters!Q49","v":"H53"},null,{"$f":"Parameters!S49","v":"Postal and courier activities"},null,null,null,null,null,null,null,null,null,null,null,null,null,null,null,null,null,null,null,null,null,null,null,null,null,null,null,null,null,null,null,null,null,null,null,null,null,null,null,null,null,null,null,null,null,null,null,null,null,null,null,null,null,null,null,null,null,null,null,null,null,null,null,null,null,null,null,null,null,null,null,null,null,null,null,null,null,null,null,null,null,null,null,null,null,null,"H53","RES"]
[null,{"$f":"Parameters!Q50","v":"I"},null,{"$f":"Parameters!S50","v":"Accommodation and food service activities"},null,null,null,null,null,null,null,null,null,null,null,null,null,null,null,null,null,null,null,null,null,null,null,null,null,null,null,null,null,null,null,null,null,null,null,null,null,null,null,null,null,null,null,null,null,null,null,null,null,null,null,null,null,null,null,null,null,null,null,null,null,null,null,null,null,null,null,null,null,null,null,null,null,null,null,null,null,null,null,null,null,null,null,null,null,null,"I","RES"]
[null,{"$f":"Parameters!Q51","v":"J"},null,{"$f":"Parameters!S51","v":"Information and communication"},null,null,null,null,null,null,null,null,null,null,null,null,null,null,null,null,null,null,null,null,null,null,null,null,null,null,null,null,null,null,null,null,null,null,null,null,null,null,null,null,null,null,null,null,null,null,null,null,null,null,null,null,null,null,null,null,null,null,null,null,null,null,null,null,null,null,null,null,null,null,null,null,null,null,null,null,null,null,null,null,null,null,null,null,null,null,"J","RES"]
[null,{"$f":"Parameters!Q52","v":"J58-J60"},null,{"$f":"Parameters!S52","v":"Publishing, motion picture, video, television programme production; sound recording, programming and broadcasting activities"}]
[null,{"$f":"Parameters!Q53","v":"J58"},null,{"$f":"Parameters!S53","v":"Publishing activities"},null,null,null,null,null,null,null,null,null,null,null,null,null,null,null,null,null,null,null,null,null,null,null,null,null,null,null,null,null,null,null,null,null,null,null,null,null,null,null,null,null,null,null,null,null,null,null,null,null,null,null,null,null,null,null,null,null,null,null,null,null,null,null,null,null,null,null,null,null,null,null,null,null,null,null,null,null,null,null,null,null,null,null,null,null,null,"J58","RES"]
[null,{"$f":"Parameters!Q54","v":"J59_J60"},null,{"$f":"Parameters!S54","v":"Motion picture, video, television programme production; programming and broadcasting activities"},null,null,null,null,null,null,null,null,null,null,null,null,null,null,null,null,null,null,null,null,null,null,null,null,null,null,null,null,null,null,null,null,null,null,null,null,null,null,null,null,null,null,null,null,null,null,null,null,null,null,null,null,null,null,null,null,null,null,null,null,null,null,null,null,null,null,null,null,null,null,null,null,null,null,null,null,null,null,null,null,null,null,null,null,null,null,"J59_60","RES"]
[null,{"$f":"Parameters!Q55","v":"J61"},null,{"$f":"Parameters!S55","v":"Telecommunications"},null,null,null,null,null,null,null,null,null,null,null,null,null,null,null,null,null,null,null,null,null,null,null,null,null,null,null,null,null,null,null,null,null,null,null,null,null,null,null,null,null,null,null,null,null,null,null,null,null,null,null,null,null,null,null,null,null,null,null,null,null,null,null,null,null,null,null,null,null,null,null,null,null,null,null,null,null,null,null,null,null,null,null,null,null,null,"J61","RES"]
[null,{"$f":"Parameters!Q56","v":"J62_J63"},null,{"$f":"Parameters!S56","v":"Computer programming, consultancy, and information service activities"},null,null,null,null,null,null,null,null,null,null,null,null,null,null,null,null,null,null,null,null,null,null,null,null,null,null,null,null,null,null,null,null,null,null,null,null,null,null,null,null,null,null,null,null,null,null,null,null,null,null,null,null,null,null,null,null,null,null,null,null,null,null,null,null,null,null,null,null,null,null,null,null,null,null,null,null,null,null,null,null,null,null,null,null,null,null,"J62_63","RES"]
[null,{"$f":"Parameters!Q57","v":"K"},null,{"$f":"Parameters!S57","v":"Financial and insurance activities"},null,null,null,null,null,null,null,null,null,null,null,null,null,null,null,null,null,null,null,null,null,null,null,null,null,null,null,null,null,null,null,null,null,null,null,null,null,null,null,null,null,null,null,null,null,null,null,null,null,null,null,null,null,null,null,null,null,null,null,null,null,null,null,null,null,null,null,null,null,null,null,null,null,null,null,null,null,null,null,null,null,null,null,null,null,null,"K","RES"]
[null,{"$f":"Parameters!Q58","v":"K64"},null,{"$f":"Parameters!S58","v":"Financial service activities, except insurance and pension funding"},null,null,null,null,null,null,null,null,null,null,null,null,null,null,null,null,null,null,null,null,null,null,null,null,null,null,null,null,null,null,null,null,null,null,null,null,null,null,null,null,null,null,null,null,null,null,null,null,null,null,null,null,null,null,null,null,null,null,null,null,null,null,null,null,null,null,null,null,null,null,null,null,null,null,null,null,null,null,null,null,null,null,null,null,null,null,"K64","RES"]
[null,{"$f":"Parameters!Q59","v":"K65"},null,{"$f":"Parameters!S59","v":"Insurance, reinsurance and pension funding, except compulsory social security"},null,null,null,null,null,null,null,null,null,null,null,null,null,null,null,null,null,null,null,null,null,null,null,null,null,null,null,null,null,null,null,null,null,null,null,null,null,null,null,null,null,null,null,null,null,null,null,null,null,null,null,null,null,null,null,null,null,null,null,null,null,null,null,null,null,null,null,null,null,null,null,null,null,null,null,null,null,null,null,null,null,null,null,null,null,null,"K65","RES"]
[null,{"$f":"Parameters!Q60","v":"K66"},null,{"$f":"Parameters!S60","v":"Activities auxiliary to financial services and insurance activities"},null,null,null,null,null,null,null,null,null,null,null,null,null,null,null,null,null,null,null,null,null,null,null,null,null,null,null,null,null,null,null,null,null,null,null,null,null,null,null,null,null,null,null,null,null,null,null,null,null,null,null,null,null,null,null,null,null,null,null,null,null,null,null,null,null,null,null,null,null,null,null,null,null,null,null,null,null,null,null,null,null,null,null,null,null,null,"K66","RES"]
[null,{"$f":"Parameters!Q61","v":"L"},null,{"$f":"Parameters!S61","v":"Real estate activities"},null,null,null,null,null,null,null,null,null,null,null,null,null,null,null,null,null,null,null,null,null,null,null,null,null,null,null,null,null,null,null,null,null,null,null,null,null,null,null,null,null,null,null,null,null,null,null,null,null,null,null,null,null,null,null,null,null,null,null,null,null,null,null,null,null,null,null,null,null,null,null,null,null,null,null,null,null,null,null,null,null,null,null,null,null,null,"L","RES"]
[null,{"$f":"Parameters!Q62","v":"L68A"},null,{"$f":"Parameters!S62","v":"Imputed rents of owner-occupied dwellings"},null,null,null,null,null,null,null,null,null,null,null,null,null,null,null,null,null,null,null,null,null,null,null,null,null,null,null,null,null,null,null,null,null,null,null,null,null,null,null,null,null,null,null,null,null,null,null,null,null,null,null,null,null,null,null,null,null,null,null,null,null,null,null,null,null,null,null,null,null,null,null,null,null,null,null,null,null,null,null,null,null,null,null,null,null,null,"L68A","RES"]
[null,{"$f":"Parameters!Q63","v":"M"},null,{"$f":"Parameters!S63","v":"Professional, scientific and technical activities"},null,null,null,null,null,null,null,null,null,null,null,null,null,null,null,null,null,null,null,null,null,null,null,null,null,null,null,null,null,null,null,null,null,null,null,null,null,null,null,null,null,null,null,null,null,null,null,null,null,null,null,null,null,null,null,null,null,null,null,null,null,null,null,null,null,null,null,null,null,null,null,null,null,null,null,null,null,null,null,null,null,null,null,null,null,null,"M","RES"]
[null,{"$f":"Parameters!Q64","v":"M69-M71"},null,{"$f":"Parameters!S64","v":"Legal and accounting activities; activities of head offices; management consultancy activities; architectural and engineering activities; technical testing and analysis"}]
[null,{"$f":"Parameters!Q65","v":"M69_M70"},null,{"$f":"Parameters!S65","v":"Legal and accounting activities; activities of head offices; management consultancy activities"},null,null,null,null,null,null,null,null,null,null,null,null,null,null,null,null,null,null,null,null,null,null,null,null,null,null,null,null,null,null,null,null,null,null,null,null,null,null,null,null,null,null,null,null,null,null,null,null,null,null,null,null,null,null,null,null,null,null,null,null,null,null,null,null,null,null,null,null,null,null,null,null,null,null,null,null,null,null,null,null,null,null,null,null,null,null,"M69_70","RES"]
[null,{"$f":"Parameters!Q66","v":"M71"},null,{"$f":"Parameters!S66","v":"Architectural and engineering activities; technical testing and analysis"},null,null,null,null,null,null,null,null,null,null,null,null,null,null,null,null,null,null,null,null,null,null,null,null,null,null,null,null,null,null,null,null,null,null,null,null,null,null,null,null,null,null,null,null,null,null,null,null,null,null,null,null,null,null,null,null,null,null,null,null,null,null,null,null,null,null,null,null,null,null,null,null,null,null,null,null,null,null,null,null,null,null,null,null,null,null,"M71","RES"]
[null,{"$f":"Parameters!Q67","v":"M72"},null,{"$f":"Parameters!S67","v":"Scientific research and development"},null,null,null,null,null,null,null,null,null,null,null,null,null,null,null,null,null,null,null,null,null,null,null,null,null,null,null,null,null,null,null,null,null,null,null,null,null,null,null,null,null,null,null,null,null,null,null,null,null,null,null,null,null,null,null,null,null,null,null,null,null,null,null,null,null,null,null,null,null,null,null,null,null,null,null,null,null,null,null,null,null,null,null,null,null,null,"M72","RES"]
[null,{"$f":"Parameters!Q68","v":"M73-M75"},null,{"$f":"Parameters!S68","v":"Advertising and market research; other professional, scientific and technical activities; veterinary activities"}]
[null,{"$f":"Parameters!Q69","v":"M73"},null,{"$f":"Parameters!S69","v":"Advertising and market research"},null,null,null,null,null,null,null,null,null,null,null,null,null,null,null,null,null,null,null,null,null,null,null,null,null,null,null,null,null,null,null,null,null,null,null,null,null,null,null,null,null,null,null,null,null,null,null,null,null,null,null,null,null,null,null,null,null,null,null,null,null,null,null,null,null,null,null,null,null,null,null,null,null,null,null,null,null,null,null,null,null,null,null,null,null,null,"M73","RES"]
[null,{"$f":"Parameters!Q70","v":"M74_M75"},null,{"$f":"Parameters!S70","v":"Other professional, scientific and technical activities; veterinary activities"},null,null,null,null,null,null,null,null,null,null,null,null,null,null,null,null,null,null,null,null,null,null,null,null,null,null,null,null,null,null,null,null,null,null,null,null,null,null,null,null,null,null,null,null,null,null,null,null,null,null,null,null,null,null,null,null,null,null,null,null,null,null,null,null,null,null,null,null,null,null,null,null,null,null,null,null,null,null,null,null,null,null,null,null,null,null,"M74_75","RES"]
[null,{"$f":"Parameters!Q71","v":"N"},null,{"$f":"Parameters!S71","v":"Administrative and support service activities"},null,null,null,null,null,null,null,null,null,null,null,null,null,null,null,null,null,null,null,null,null,null,null,null,null,null,null,null,null,null,null,null,null,null,null,null,null,null,null,null,null,null,null,null,null,null,null,null,null,null,null,null,null,null,null,null,null,null,null,null,null,null,null,null,null,null,null,null,null,null,null,null,null,null,null,null,null,null,null,null,null,null,null,null,null,null,"N","RES"]
[null,{"$f":"Parameters!Q72","v":"N77"},null,{"$f":"Parameters!S72","v":"Rental and leasing activities"},null,null,null,null,null,null,null,null,null,null,null,null,null,null,null,null,null,null,null,null,null,null,null,null,null,null,null,null,null,null,null,null,null,null,null,null,null,null,null,null,null,null,null,null,null,null,null,null,null,null,null,null,null,null,null,null,null,null,null,null,null,null,null,null,null,null,null,null,null,null,null,null,null,null,null,null,null,null,null,null,null,null,null,null,null,null,"N77","RES"]
[null,{"$f":"Parameters!Q73","v":"N78"},null,{"$f":"Parameters!S73","v":"Employment activities"},null,null,null,null,null,null,null,null,null,null,null,null,null,null,null,null,null,null,null,null,null,null,null,null,null,null,null,null,null,null,null,null,null,null,null,null,null,null,null,null,null,null,null,null,null,null,null,null,null,null,null,null,null,null,null,null,null,null,null,null,null,null,null,null,null,null,null,null,null,null,null,null,null,null,null,null,null,null,null,null,null,null,null,null,null,null,"N78","RES"]
[null,{"$f":"Parameters!Q74","v":"N79"},null,{"$f":"Parameters!S74","v":"Travel agency, tour operator reservation service and related activities"},null,null,null,null,null,null,null,null,null,null,null,null,null,null,null,null,null,null,null,null,null,null,null,null,null,null,null,null,null,null,null,null,null,null,null,null,null,null,null,null,null,null,null,null,null,null,null,null,null,null,null,null,null,null,null,null,null,null,null,null,null,null,null,null,null,null,null,null,null,null,null,null,null,null,null,null,null,null,null,null,null,null,null,null,null,null,"N79","RES"]
[null,{"$f":"Parameters!Q75","v":"N80-N82"},null,{"$f":"Parameters!S75","v":"Security and investigation, service and landscape, office administrative and support activities"},null,null,null,null,null,null,null,null,null,null,null,null,null,null,null,null,null,null,null,null,null,null,null,null,null,null,null,null,null,null,null,null,null,null,null,null,null,null,null,null,null,null,null,null,null,null,null,null,null,null,null,null,null,null,null,null,null,null,null,null,null,null,null,null,null,null,null,null,null,null,null,null,null,null,null,null,null,null,null,null,null,null,null,null,null,null,"N80T82","RES"]
[null,{"$f":"Parameters!Q76","v":"O"},null,{"$f":"Parameters!S76","v":"Public administration and defence; compulsory social security"},null,null,null,null,null,null,null,null,null,null,null,null,null,null,null,null,null,null,null,null,null,null,null,null,null,null,null,null,null,null,null,null,null,null,null,null,null,null,null,null,null,null,null,null,null,null,null,null,null,null,null,null,null,null,null,null,null,null,null,null,null,null,null,null,null,null,null,null,null,null,null,null,null,null,null,null,null,null,null,null,null,null,null,null,null,null,"O","RES"]
[null,{"$f":"Parameters!Q77","v":"P"},null,{"$f":"Parameters!S77","v":"Education"},null,null,null,null,null,null,null,null,null,null,null,null,null,null,null,null,null,null,null,null,null,null,null,null,null,null,null,null,null,null,null,null,null,null,null,null,null,null,null,null,null,null,null,null,null,null,null,null,null,null,null,null,null,null,null,null,null,null,null,null,null,null,null,null,null,null,null,null,null,null,null,null,null,null,null,null,null,null,null,null,null,null,null,null,null,null,"P","RES"]
[null,{"$f":"Parameters!Q78","v":"Q"},null,{"$f":"Parameters!S78","v":"Human health and social work activities"},null,null,null,null,null,null,null,null,null,null,null,null,null,null,null,null,null,null,null,null,null,null,null,null,null,null,null,null,null,null,null,null,null,null,null,null,null,null,null,null,null,null,null,null,null,null,null,null,null,null,null,null,null,null,null,null,null,null,null,null,null,null,null,null,null,null,null,null,null,null,null,null,null,null,null,null,null,null,null,null,null,null,null,null,null,null,"Q","RES"]
[null,{"$f":"Parameters!Q79","v":"Q86"},null,{"$f":"Parameters!S79","v":"Human health activities"},null,null,null,null,null,null,null,null,null,null,null,null,null,null,null,null,null,null,null,null,null,null,null,null,null,null,null,null,null,null,null,null,null,null,null,null,null,null,null,null,null,null,null,null,null,null,null,null,null,null,null,null,null,null,null,null,null,null,null,null,null,null,null,null,null,null,null,null,null,null,null,null,null,null,null,null,null,null,null,null,null,null,null,null,null,null,"Q86","RES"]
[null,{"$f":"Parameters!Q80","v":"Q87_Q88"},null,{"$f":"Parameters!S80","v":"Residential care activities and social work activities without accommodation"},null,null,null,null,null,null,null,null,null,null,null,null,null,null,null,null,null,null,null,null,null,null,null,null,null,null,null,null,null,null,null,null,null,null,null,null,null,null,null,null,null,null,null,null,null,null,null,null,null,null,null,null,null,null,null,null,null,null,null,null,null,null,null,null,null,null,null,null,null,null,null,null,null,null,null,null,null,null,null,null,null,null,null,null,null,null,"Q87_88","RES"]
[null,{"$f":"Parameters!Q81","v":"R"},null,{"$f":"Parameters!S81","v":"Arts, entertainment and recreation"},null,null,null,null,null,null,null,null,null,null,null,null,null,null,null,null,null,null,null,null,null,null,null,null,null,null,null,null,null,null,null,null,null,null,null,null,null,null,null,null,null,null,null,null,null,null,null,null,null,null,null,null,null,null,null,null,null,null,null,null,null,null,null,null,null,null,null,null,null,null,null,null,null,null,null,null,null,null,null,null,null,null,null,null,null,null,"R","RES"]
[null,{"$f":"Parameters!Q82","v":"R90-R92"},null,{"$f":"Parameters!S82","v":"Creative, arts and entertainment activities; libraries, archives, museums and other cultural activities; gambling and betting activities"},null,null,null,null,null,null,null,null,null,null,null,null,null,null,null,null,null,null,null,null,null,null,null,null,null,null,null,null,null,null,null,null,null,null,null,null,null,null,null,null,null,null,null,null,null,null,null,null,null,null,null,null,null,null,null,null,null,null,null,null,null,null,null,null,null,null,null,null,null,null,null,null,null,null,null,null,null,null,null,null,null,null,null,null,null,null,"R90T92","RES"]
[null,{"$f":"Parameters!Q83","v":"R93"},null,{"$f":"Parameters!S83","v":"Sports activities and amusement and recreation activities"},null,null,null,null,null,null,null,null,null,null,null,null,null,null,null,null,null,null,null,null,null,null,null,null,null,null,null,null,null,null,null,null,null,null,null,null,null,null,null,null,null,null,null,null,null,null,null,null,null,null,null,null,null,null,null,null,null,null,null,null,null,null,null,null,null,null,null,null,null,null,null,null,null,null,null,null,null,null,null,null,null,null,null,null,null,null,"R93","RES"]
[null,{"$f":"Parameters!Q84","v":"S"},null,{"$f":"Parameters!S84","v":"Other service activities"},null,null,null,null,null,null,null,null,null,null,null,null,null,null,null,null,null,null,null,null,null,null,null,null,null,null,null,null,null,null,null,null,null,null,null,null,null,null,null,null,null,null,null,null,null,null,null,null,null,null,null,null,null,null,null,null,null,null,null,null,null,null,null,null,null,null,null,null,null,null,null,null,null,null,null,null,null,null,null,null,null,null,null,null,null,null,"S","RES"]
[null,{"$f":"Parameters!Q85","v":"S94"},null,{"$f":"Parameters!S85","v":"Activities of membership organisations"},null,null,null,null,null,null,null,null,null,null,null,null,null,null,null,null,null,null,null,null,null,null,null,null,null,null,null,null,null,null,null,null,null,null,null,null,null,null,null,null,null,null,null,null,null,null,null,null,null,null,null,null,null,null,null,null,null,null,null,null,null,null,null,null,null,null,null,null,null,null,null,null,null,null,null,null,null,null,null,null,null,null,null,null,null,null,"S94","RES"]
[null,{"$f":"Parameters!Q86","v":"S95"},null,{"$f":"Parameters!S86","v":"Repair of computers and personal and household goods"},null,null,null,null,null,null,null,null,null,null,null,null,null,null,null,null,null,null,null,null,null,null,null,null,null,null,null,null,null,null,null,null,null,null,null,null,null,null,null,null,null,null,null,null,null,null,null,null,null,null,null,null,null,null,null,null,null,null,null,null,null,null,null,null,null,null,null,null,null,null,null,null,null,null,null,null,null,null,null,null,null,null,null,null,null,null,"S95","RES"]
[null,{"$f":"Parameters!Q87","v":"S96"},null,{"$f":"Parameters!S87","v":"Other personal service activities"},null,null,null,null,null,null,null,null,null,null,null,null,null,null,null,null,null,null,null,null,null,null,null,null,null,null,null,null,null,null,null,null,null,null,null,null,null,null,null,null,null,null,null,null,null,null,null,null,null,null,null,null,null,null,null,null,null,null,null,null,null,null,null,null,null,null,null,null,null,null,null,null,null,null,null,null,null,null,null,null,null,null,null,null,null,null,"S96","RES"]
[null,{"$f":"Parameters!Q88","v":"T"},null,{"$f":"Parameters!S88","v":"Activities of households as employers; undifferentiated goods- and services-producing activities of households for own use"},null,null,null,null,null,null,null,null,null,null,null,null,null,null,null,null,null,null,null,null,null,null,null,null,null,null,null,null,null,null,null,null,null,null,null,null,null,null,null,null,null,null,null,null,null,null,null,null,null,null,null,null,null,null,null,null,null,null,null,null,null,null,null,null,null,null,null,null,null,null,null,null,null,null,null,null,null,null,null,null,null,null,null,null,null,null,"T","RES"]
[null,{"$f":"Parameters!Q89","v":"U"},null,{"$f":"Parameters!S89","v":"Activities of extraterritorial organisations and bodies"},null,null,null,null,null,null,null,null,null,null,null,null,null,null,null,null,null,null,null,null,null,null,null,null,null,null,null,null,null,null,null,null,null,null,null,null,null,null,null,null,null,null,null,null,null,null,null,null,null,null,null,null,null,null,null,null,null,null,null,null,null,null,null,null,null,null,null,null,null,null,null,null,null,null,null,null,null,null,null,null,null,null,null,null,null,null,"U","RES"]
[null,"   Household air emissions\n                                          Households, totals",null,null,null,null,null,null,null,null,null,null,null,null,null,null,null,null,null,null,null,null,null,null,null,null,null,null,null,null,null,null,null,null,null,null,null,null,null,null,null,null,null,null,null,null,null,null,null,null,null,null,null,null,null,null,null,null,null,null,null,null,null,null,null,null,null,null,null,null,null,null,null,null,null,null,null,null,null,null,null,null,null,null,null,null,null,null,null,null,"HH","RES"]
[null,null,null,"- Transport",null,null,null,null,null,null,null,null,null,null,null,null,null,null,null,null,null,null,null,null,null,null,null,null,null,null,null,null,null,null,null,null,null,null,null,null,null,null,null,null,null,null,null,null,null,null,null,null,null,null,null,null,null,null,null,null,null,null,null,null,null,null,null,null,null,null,null,null,null,null,null,null,null,null,null,null,null,null,null,null,null,null,null,null,null,null,"HH_TR","RES"]
[null,null,null,"- Heating/cooling",null,null,null,null,null,null,null,null,null,null,null,null,null,null,null,null,null,null,null,null,null,null,null,null,null,null,null,null,null,null,null,null,null,null,null,null,null,null,null,null,null,null,null,null,null,null,null,null,null,null,null,null,null,null,null,null,null,null,null,null,null,null,null,null,null,null,null,null,null,null,null,null,null,null,null,null,null,null,null,null,null,null,null,null,null,null,"HH_HEAT","RES"]
[null,null,null,"- Other",null,null,null,null,null,null,null,null,null,null,null,null,null,null,null,null,null,null,null,null,null,null,null,null,null,null,null,null,null,null,null,null,null,null,null,null,null,null,null,null,null,null,null,null,null,null,null,null,null,null,null,null,null,null,null,null,null,null,null,null,null,null,null,null,null,null,null,null,null,null,null,null,null,null,null,null,null,null,null,null,null,null,null,null,null,null,"HH_OTH","RES"]
[null,"   Bridging items\n\n1                              Total Air emissions accounts (industry (row 5) + households (row 91))",null,null,null,null,null,null,null,null,null,null,null,null,null,null,null,null,null,null,null,null,null,null,null,null,null,null,null,null,null,null,null,null,null,null,null,null,null,null,null,null,null,null,null,null,null,null,null,null,null,null,null,null,null,null,null,null,null,null,null,null,null,null,null,null,null,null,null,null,null,null,null,null,null,null,null,null,null,null,null,null,null,null,null,null,null,null,null,null,"ATU_HH","RES"]
[null,2,null,"less National residents abroad",null,null,null,null,null,null,null,null,null,null,null,null,null,null,null,null,null,null,null,null,null,null,null,null,null,null,null,null,null,null,null,null,null,null,null,null,null,null,null,null,null,null,null,null,null,null,null,null,null,null,null,null,null,null,null,null,null,null,null,null,null,null,null,null,null,null,null,null,null,null,null,null,null,null,null,null,null,null,null,null,null,null,null,null,null,null,"ATU_HH","RES_ABR"]
[null,2.1,null,"-  National fishing vessels operating abroad",null,null,null,null,null,null,null,null,null,null,null,null,null,null,null,null,null,null,null,null,null,null,null,null,null,null,null,null,null,null,null,null,null,null,null,null,null,null,null,null,null,null,null,null,null,null,null,null,null,null,null,null,null,null,null,null,null,null,null,null,null,null,null,null,null,null,null,null,null,null,null,null,null,null,null,null,null,null,null,null,null,null,null,null,null,null,"ATU_HH","RES_ABR_FWTR"]
[null,2.2000000000000002,null,"-  Land transport",null,null,null,null,null,null,null,null,null,null,null,null,null,null,null,null,null,null,null,null,null,null,null,null,null,null,null,null,null,null,null,null,null,null,null,null,null,null,null,null,null,null,null,null,null,null,null,null,null,null,null,null,null,null,null,null,null,null,null,null,null,null,null,null,null,null,null,null,null,null,null,null,null,null,null,null,null,null,null,null,null,null,null,null,null,null,"ATU_HH","RES_ABR_LTR"]
[null,2.2999999999999998,null,"-  Water transport",null,null,null,null,null,null,null,null,null,null,null,null,null,null,null,null,null,null,null,null,null,null,null,null,null,null,null,null,null,null,null,null,null,null,null,null,null,null,null,null,null,null,null,null,null,null,null,null,null,null,null,null,null,null,null,null,null,null,null,null,null,null,null,null,null,null,null,null,null,null,null,null,null,null,null,null,null,null,null,null,null,null,null,null,null,null,"ATU_HH","RES_ABR_WTR"]
[null,2.4,null,"-  Air transport",null,null,null,null,null,null,null,null,null,null,null,null,null,null,null,null,null,null,null,null,null,null,null,null,null,null,null,null,null,null,null,null,null,null,null,null,null,null,null,null,null,null,null,null,null,null,null,null,null,null,null,null,null,null,null,null,null,null,null,null,null,null,null,null,null,null,null,null,null,null,null,null,null,null,null,null,null,null,null,null,null,null,null,null,null,null,"ATU_HH","RES_ABR_ATR"]
[null,3,null,"plus Non-residents on the territory",null,null,null,null,null,null,null,null,null,null,null,null,null,null,null,null,null,null,null,null,null,null,null,null,null,null,null,null,null,null,null,null,null,null,null,null,null,null,null,null,null,null,null,null,null,null,null,null,null,null,null,null,null,null,null,null,null,null,null,null,null,null,null,null,null,null,null,null,null,null,null,null,null,null,null,null,null,null,null,null,null,null,null,null,null,null,"ATU_HH","TER_NRES"]
[null,3.1,null,"+  Land transport",null,null,null,null,null,null,null,null,null,null,null,null,null,null,null,null,null,null,null,null,null,null,null,null,null,null,null,null,null,null,null,null,null,null,null,null,null,null,null,null,null,null,null,null,null,null,null,null,null,null,null,null,null,null,null,null,null,null,null,null,null,null,null,null,null,null,null,null,null,null,null,null,null,null,null,null,null,null,null,null,null,null,null,null,null,null,"ATU_HH","TER_NRES_LTR"]
[null,3.2,null,"+ Water transport",null,null,null,null,null,null,null,null,null,null,null,null,null,null,null,null,null,null,null,null,null,null,null,null,null,null,null,null,null,null,null,null,null,null,null,null,null,null,null,null,null,null,null,null,null,null,null,null,null,null,null,null,null,null,null,null,null,null,null,null,null,null,null,null,null,null,null,null,null,null,null,null,null,null,null,null,null,null,null,null,null,null,null,null,null,null,"ATU_HH","TER_NRES_WTR"]
[null,3.3,null,"+  Air transport",null,null,null,null,null,null,null,null,null,null,null,null,null,null,null,null,null,null,null,null,null,null,null,null,null,null,null,null,null,null,null,null,null,null,null,null,null,null,null,null,null,null,null,null,null,null,null,null,null,null,null,null,null,null,null,null,null,null,null,null,null,null,null,null,null,null,null,null,null,null,null,null,null,null,null,null,null,null,null,null,null,null,null,null,null,null,"ATU_HH","TER_NRES_ATR"]
[null,4,null,"Other adjustments and statistical discrepancy",null,null,null,null,null,null,null,null,null,null,null,null,null,null,null,null,null,null,null,null,null,null,null,null,null,null,null,null,null,null,null,null,null,null,null,null,null,null,null,null,null,null,null,null,null,null,null,null,null,null,null,null,null,null,null,null,null,null,null,null,null,null,null,null,null,null,null,null,null,null,null,null,null,null,null,null,null,null,null,null,null,null,null,null,null,null,"ATU_HH","ADJ_SD"]
[null,5,null,"'Emissions of SF6 and NF3 (as reported to UNFCCC table 10s5)",null,null,null,null,null,null,null,null,null,null,null,null,null,null,null,null,null,null,null,null,null,null,null,null,null,null,null,null,null,null,null,null,null,null,null,null,null,null,null,null,null,null,null,null,null,null,null,null,null,null,null,null,null,null,null,null,null,null,null,null,null,null,null,null,null,null,null,null,null,null,null,null,null,null,null,null,null,null,null,null,null,null,null,null,null,null,"ATU_HH","TER"]
[null,null,null,"Year of submission to UNFCCC"]
[]
[null,"Explanatory notes for bridging items:"]
[null,1,"Total Air emissions accounts (industry (row 5) + households (row 91)) - residence principle"]
[]
[null,2.1,"Fishing vessels operated by resident units bunkering outside of the reporting country"]
[null,2.2000000000000002,"Land transport (incl. rail) by resident units fuelling outside of the reporting country"]
[null,2.2999999999999998,"Domestic navigation by resident units bunkering at ports outside of the reporting country and all international navigation by resident units"]
[null,2.4,"Domestic aviation by resident units bunkering at airports outside of the reporting country and all international aviation by resident units"]
[]
[null,3.1,"Land transport (incl. rail) by non-resident units fuelling on the territory of the reporting country"]
[null,3.2,"Domestic navigation by non-residents bunkering at ports of the reporting country"]
[null,3.3,"Domestic aviation by non-residents bunkering at airports of the reporting country"]
[]
[null,5,"National totals derived from UNFCCC inventories that include domestic aviation/navigation bunkering at airports/ports of the reporting country, while excluding international transport and LULUCF - territory principle"]

{"sheet":"NOx","index":19,"n_rows":122,"n_cols":98,"rows_kept":122,"cut":false,"hidden":false,"merged":[[0,96,2,96],[0,97,2,97],[0,90,2,90],[0,91,2,91],[0,92,2,92],[0,93,2,93],[0,94,2,94],[0,95,2,95],[103,3,103,4],[80,3,80,4],[81,3,81,4],[82,3,82,4],[83,3,83,4],[84,3,84,4],[73,3,73,4],[74,3,74,4],[75,3,75,4],[76,3,76,4],[77,3,77,4],[78,3,78,4],[67,3,67,4],[68,3,68,4],[69,3,69,4],[70,3,70,4],[104,3,104,4],[105,3,105,4],[106,3,106,4],[0,87,2,87],[0,89,2,89],[97,3,97,4],[98,3,98,4],[99,3,99,4],[100,3,100,4],[101,3,101,4],[102,3,102,4],[91,3,91,4],[92,3,92,4],[93,3,93,4],[94,1,94,4],[95,3,95,4],[96,3,96,4],[85,3,85,4],[86,3,86,4],[87,3,87,4],[88,3,88,4],[89,3,89,4],[90,1,90,4],[79,3,79,4],[71,3,71,4],[72,3,72,4],[61,3,61,4],[62,3,62,4],[63,3,63,4],[64,3,64,4],[65,3,65,4],[66,3,66,4],[55,3,55,4],[56,3,56,4],[57,3,57,4],[58,3,58,4],[59,3,59,4],[60,3,60,4],[49,3,49,4],[50,3,50,4],[51,3,51,4],[52,3,52,4],[53,3,53,4],[54,3,54,4],[43,3,43,4],[44,3,44,4],[45,3,45,4],[46,3,46,4],[47,3,47,4],[48,3,48,4],[37,3,37,4],[38,3,38,4],[39,3,39,4],[40,3,40,4],[41,3,41,4],[42,3,42,4],[31,3,31,4],[32,3,32,4],[33,3,33,4],[34,3,34,4],[35,3,35,4],[36,3,36,4],[25,3,25,4],[26,3,26,4],[27,3,27,4],[28,3,28,4],[29,3,29,4],[30,3,30,4],[19,3,19,4],[20,3,20,4],[21,3,21,4],[22,3,22,4],[23,3,23,4],[24,3,24,4],[0,5,2,6],[0,7,2,8],[0,9,2,10],[13,3,13,4],[14,3,14,4],[15,3,15,4],[16,3,16,4],[17,3,17,4],[18,3,18,4],[7,3,7,4],[8,3,8,4],[9,3,9,4],[10,3,10,4],[11,3,11,4],[12,3,12,4],[0,88,2,88],[0,11,2,12],[0,13,2,14],[2,47,2,48],[3,1,3,4],[4,1,4,2],[4,3,4,4],[5,3,5,4],[6,3,6,4],[0,27,2,28],[0,29,2,30],[0,31,2,32],[0,33,2,34],[0,35,2,36],[1,1,1,2],[2,1,2,2],[2,3,2,4],[0,15,2,16],[0,17,2,18],[0,19,2,20],[0,21,2,22],[0,23,2,24],[0,25,2,26],[0,1,0,2]]}
["DATAENTRY","Country:",null,{"$f":"intro!F7","v":""},null,null,null,null,null,null,null,null,null,null,null,null,null,null,null,null,null,null,null,null,null,null,null,null,null,null,null,null,null,null,null,null,null,null,null,null,null,null,null,null,null,null,null,null,null,null,null,null,null,null,null,null,null,null,null,null,null,null,null,null,null,null,null,null,null,null,null,null,null,null,null,null,null,null,null,null,null,null,null,null,null,null,null,"DEMAND_PROD","ACCOUNTING_ENTRY","COUNTERPART_AREA","INTERACTORS","BRIDGE_ITEM","AIRPOL","STO","UNIT_MEASURE","UNIT_MULT","PRODUCT","SECTOR"]
[null,"Air Pollutant",null,"NOX","Nitrogen oxides"]
["TNO2E","Unit","Million National Currency","tonnes (Mg) NO2-equivalents"]
[null,"Air emissions by industry",null,null,null,1995,null,1996,null,1997,null,1998,null,1999,null,2000,null,2001,null,2002,null,2003,null,2004,null,2005,null,2006,null,2007,null,2008,null,2009,null,2010,null,2011,null,2012,null,2013,null,2014,null,2015,null,2016,null,2017,null,2018,null,2019,null,2020,null,2021,null,2022,null,2023,null,2024]
[null,{"$f":"Parameters!Q4","v":"A_U   01-99"},null,{"$f":"Parameters!S4","v":"Total industries"},null,null,null,null,null,null,null,null,null,null,null,null,null,null,null,null,null,null,null,null,null,null,null,null,null,null,null,null,null,null,null,null,null,null,null,null,null,null,null,null,null,null,null,null,null,null,null,null,null,null,null,null,null,null,null,null,null,null,null,null,null,null,null,null,null,null,null,null,null,null,null,null,null,null,null,null,null,null,null,null,null,null,null,"P","EC","W2","ATU","RES","NOX","_Z","TNO2E",0,"_T","S1"]
[null,{"$f":"Parameters!Q5","v":"A"},null,{"$f":"Parameters!S5","v":"Agriculture, forestry and fishing"},null,null,null,null,null,null,null,null,null,null,null,null,null,null,null,null,null,null,null,null,null,null,null,null,null,null,null,null,null,null,null,null,null,null,null,null,null,null,null,null,null,null,null,null,null,null,null,null,null,null,null,null,null,null,null,null,null,null,null,null,null,null,null,null,null,null,null,null,null,null,null,null,null,null,null,null,null,null,null,null,null,null,null,null,null,null,"A","RES"]
[null,{"$f":"Parameters!Q6","v":"A01"},null,{"$f":"Parameters!S6","v":"Crop and animal production, hunting and related service activities"},null,null,null,null,null,null,null,null,null,null,null,null,null,null,null,null,null,null,null,null,null,null,null,null,null,null,null,null,null,null,null,null,null,null,null,null,null,null,null,null,null,null,null,null,null,null,null,null,null,null,null,null,null,null,null,null,null,null,null,null,null,null,null,null,null,null,null,null,null,null,null,null,null,null,null,null,null,null,null,null,null,null,null,null,null,null,"A01","RES"]
[null,{"$f":"Parameters!Q7","v":"A02"},null,{"$f":"Parameters!S7","v":"Forestry and logging"},null,null,null,null,null,null,null,null,null,null,null,null,null,null,null,null,null,null,null,null,null,null,null,null,null,null,null,null,null,null,null,null,null,null,null,null,null,null,null,null,null,null,null,null,null,null,null,null,null,null,null,null,null,null,null,null,null,null,null,null,null,null,null,null,null,null,null,null,null,null,null,null,null,null,null,null,null,null,null,null,null,null,null,null,null,null,"A02","RES"]
[null,{"$f":"Parameters!Q8","v":"A03"},null,{"$f":"Parameters!S8","v":"Fishing and aquaculture"},null,null,null,null,null,null,null,null,null,null,null,null,null,null,null,null,null,null,null,null,null,null,null,null,null,null,null,null,null,null,null,null,null,null,null,null,null,null,null,null,null,null,null,null,null,null,null,null,null,null,null,null,null,null,null,null,null,null,null,null,null,null,null,null,null,null,null,null,null,null,null,null,null,null,null,null,null,null,null,null,null,null,null,null,null,null,"A03","RES"]
[null,{"$f":"Parameters!Q9","v":"B"},null,{"$f":"Parameters!S9","v":"Mining and quarrying"},null,null,null,null,null,null,null,null,null,null,null,null,null,null,null,null,null,null,null,null,null,null,null,null,null,null,null,null,null,null,null,null,null,null,null,null,null,null,null,null,null,null,null,null,null,null,null,null,null,null,null,null,null,null,null,null,null,null,null,null,null,null,null,null,null,null,null,null,null,null,null,null,null,null,null,null,null,null,null,null,null,null,null,null,null,null,"B","RES"]
[null,{"$f":"Parameters!Q10","v":"C"},null,{"$f":"Parameters!S10","v":"Manufacturing"},null,null,null,null,null,null,null,null,null,null,null,null,null,null,null,null,null,null,null,null,null,null,null,null,null,null,null,null,null,null,null,null,null,null,null,null,null,null,null,null,null,null,null,null,null,null,null,null,null,null,null,null,null,null,null,null,null,null,null,null,null,null,null,null,null,null,null,null,null,null,null,null,null,null,null,null,null,null,null,null,null,null,null,null,null,null,"C","RES"]
[null,{"$f":"Parameters!Q11","v":"C10-C12"},null,{"$f":"Parameters!S11","v":"Manufacture of food products, beverages and tobacco\nproducts"},null,null,null,null,null,null,null,null,null,null,null,null,null,null,null,null,null,null,null,null,null,null,null,null,null,null,null,null,null,null,null,null,null,null,null,null,null,null,null,null,null,null,null,null,null,null,null,null,null,null,null,null,null,null,null,null,null,null,null,null,null,null,null,null,null,null,null,null,null,null,null,null,null,null,null,null,null,null,null,null,null,null,null,null,null,null,"C10T12","RES"]
[null,{"$f":"Parameters!Q12","v":"C13-C15"},null,{"$f":"Parameters!S12","v":"Manufacture of textiles, wearing apparel and leather products"},null,null,null,null,null,null,null,null,null,null,null,null,null,null,null,null,null,null,null,null,null,null,null,null,null,null,null,null,null,null,null,null,null,null,null,null,null,null,null,null,null,null,null,null,null,null,null,null,null,null,null,null,null,null,null,null,null,null,null,null,null,null,null,null,null,null,null,null,null,null,null,null,null,null,null,null,null,null,null,null,null,null,null,null,null,null,"C13T15","RES"]
[null,{"$f":"Parameters!Q13","v":"C16-C18"},null,{"$f":"Parameters!S13","v":"Manufacture of wood, paper, printing and reproduction"}]
[null,{"$f":"Parameters!Q14","v":"C16"},null,{"$f":"Parameters!S14","v":"Manufacture of wood and of products of wood and cork, except furniture; manufacture of articles of straw and plaiting materials"},null,null,null,null,null,null,null,null,null,null,null,null,null,null,null,null,null,null,null,null,null,null,null,null,null,null,null,null,null,null,null,null,null,null,null,null,null,null,null,null,null,null,null,null,null,null,null,null,null,null,null,null,null,null,null,null,null,null,null,null,null,null,null,null,null,null,null,null,null,null,null,null,null,null,null,null,null,null,null,null,null,null,null,null,null,null,"C16","RES"]
[null,{"$f":"Parameters!Q15","v":"C17"},null,{"$f":"Parameters!S15","v":"Manufacture of paper and paper products"},null,null,null,null,null,null,null,null,null,null,null,null,null,null,null,null,null,null,null,null,null,null,null,null,null,null,null,null,null,null,null,null,null,null,null,null,null,null,null,null,null,null,null,null,null,null,null,null,null,null,null,null,null,null,null,null,null,null,null,null,null,null,null,null,null,null,null,null,null,null,null,null,null,null,null,null,null,null,null,null,null,null,null,null,null,null,"C17","RES"]
[null,{"$f":"Parameters!Q16","v":"C18"},null,{"$f":"Parameters!S16","v":"Printing and reproduction of recorded media"},null,null,null,null,null,null,null,null,null,null,null,null,null,null,null,null,null,null,null,null,null,null,null,null,null,null,null,null,null,null,null,null,null,null,null,null,null,null,null,null,null,null,null,null,null,null,null,null,null,null,null,null,null,null,null,null,null,null,null,null,null,null,null,null,null,null,null,null,null,null,null,null,null,null,null,null,null,null,null,null,null,null,null,null,null,null,"C18","RES"]
[null,{"$f":"Parameters!Q17","v":"C19"},null,{"$f":"Parameters!S17","v":"Manufacture of coke and refined petroleum products"},null,null,null,null,null,null,null,null,null,null,null,null,null,null,null,null,null,null,null,null,null,null,null,null,null,null,null,null,null,null,null,null,null,null,null,null,null,null,null,null,null,null,null,null,null,null,null,null,null,null,null,null,null,null,null,null,null,null,null,null,null,null,null,null,null,null,null,null,null,null,null,null,null,null,null,null,null,null,null,null,null,null,null,null,null,null,"C19","RES"]
[null,{"$f":"Parameters!Q18","v":"C20"},null,{"$f":"Parameters!S18","v":"Manufacture of chemicals and chemical products"},null,null,null,null,null,null,null,null,null,null,null,null,null,null,null,null,null,null,null,null,null,null,null,null,null,null,null,null,null,null,null,null,null,null,null,null,null,null,null,null,null,null,null,null,null,null,null,null,null,null,null,null,null,null,null,null,null,null,null,null,null,null,null,null,null,null,null,null,null,null,null,null,null,null,null,null,null,null,null,null,null,null,null,null,null,null,"C20","RES"]
[null,{"$f":"Parameters!Q19","v":"C21"},null,{"$f":"Parameters!S19","v":"Manufacture of basic pharmaceutical products and pharmaceutical preparations"},null,null,null,null,null,null,null,null,null,null,null,null,null,null,null,null,null,null,null,null,null,null,null,null,null,null,null,null,null,null,null,null,null,null,null,null,null,null,null,null,null,null,null,null,null,null,null,null,null,null,null,null,null,null,null,null,null,null,null,null,null,null,null,null,null,null,null,null,null,null,null,null,null,null,null,null,null,null,null,null,null,null,null,null,null,null,"C21","RES"]
[null,{"$f":"Parameters!Q20","v":"C22_C23"},null,{"$f":"Parameters!S20","v":"Manufacture of rubber and plastic products and other non-metallic mineral products"}]
[null,{"$f":"Parameters!Q21","v":"C22"},null,{"$f":"Parameters!S21","v":"Manufacture of rubber and plastic products"},null,null,null,null,null,null,null,null,null,null,null,null,null,null,null,null,null,null,null,null,null,null,null,null,null,null,null,null,null,null,null,null,null,null,null,null,null,null,null,null,null,null,null,null,null,null,null,null,null,null,null,null,null,null,null,null,null,null,null,null,null,null,null,null,null,null,null,null,null,null,null,null,null,null,null,null,null,null,null,null,null,null,null,null,null,null,"C22","RES"]
[null,{"$f":"Parameters!Q22","v":"C23"},null,{"$f":"Parameters!S22","v":"Manufacture of other non-metallic mineral products"},null,null,null,null,null,null,null,null,null,null,null,null,null,null,null,null,null,null,null,null,null,null,null,null,null,null,null,null,null,null,null,null,null,null,null,null,null,null,null,null,null,null,null,null,null,null,null,null,null,null,null,null,null,null,null,null,null,null,null,null,null,null,null,null,null,null,null,null,null,null,null,null,null,null,null,null,null,null,null,null,null,null,null,null,null,null,"C23","RES"]
[null,{"$f":"Parameters!Q23","v":"C24_C25"},null,{"$f":"Parameters!S23","v":"Manufacture of basic metals and fabricated metal products, except machinery and equipment"}]
[null,{"$f":"Parameters!Q24","v":"C24"},null,{"$f":"Parameters!S24","v":"Manufacture of basic metals"},null,null,null,null,null,null,null,null,null,null,null,null,null,null,null,null,null,null,null,null,null,null,null,null,null,null,null,null,null,null,null,null,null,null,null,null,null,null,null,null,null,null,null,null,null,null,null,null,null,null,null,null,null,null,null,null,null,null,null,null,null,null,null,null,null,null,null,null,null,null,null,null,null,null,null,null,null,null,null,null,null,null,null,null,null,null,"C24","RES"]
[null,{"$f":"Parameters!Q25","v":"C25"},null,{"$f":"Parameters!S25","v":"Manufacture of fabricated metal products, except machinery and equipment"},null,null,null,null,null,null,null,null,null,null,null,null,null,null,null,null,null,null,null,null,null,null,null,null,null,null,null,null,null,null,null,null,null,null,null,null,null,null,null,null,null,null,null,null,null,null,null,null,null,null,null,null,null,null,null,null,null,null,null,null,null,null,null,null,null,null,null,null,null,null,null,null,null,null,null,null,null,null,null,null,null,null,null,null,null,null,"C25","RES"]
[null,{"$f":"Parameters!Q26","v":"C26"},null,{"$f":"Parameters!S26","v":"Manufacture of computer, electronic and optical products"},null,null,null,null,null,null,null,null,null,null,null,null,null,null,null,null,null,null,null,null,null,null,null,null,null,null,null,null,null,null,null,null,null,null,null,null,null,null,null,null,null,null,null,null,null,null,null,null,null,null,null,null,null,null,null,null,null,null,null,null,null,null,null,null,null,null,null,null,null,null,null,null,null,null,null,null,null,null,null,null,null,null,null,null,null,null,"C26","RES"]
[null,{"$f":"Parameters!Q27","v":"C27"},null,{"$f":"Parameters!S27","v":"Manufacture of electrical equipment"},null,null,null,null,null,null,null,null,null,null,null,null,null,null,null,null,null,null,null,null,null,null,null,null,null,null,null,null,null,null,null,null,null,null,null,null,null,null,null,null,null,null,null,null,null,null,null,null,null,null,null,null,null,null,null,null,null,null,null,null,null,null,null,null,null,null,null,null,null,null,null,null,null,null,null,null,null,null,null,null,null,null,null,null,null,null,"C27","RES"]
[null,{"$f":"Parameters!Q28","v":"C28"},null,{"$f":"Parameters!S28","v":"Manufacture of machinery and equipment n.e.c."},null,null,null,null,null,null,null,null,null,null,null,null,null,null,null,null,null,null,null,null,null,null,null,null,null,null,null,null,null,null,null,null,null,null,null,null,null,null,null,null,null,null,null,null,null,null,null,null,null,null,null,null,null,null,null,null,null,null,null,null,null,null,null,null,null,null,null,null,null,null,null,null,null,null,null,null,null,null,null,null,null,null,null,null,null,null,"C28","RES"]
[null,{"$f":"Parameters!Q29","v":"C29_C30"},null,{"$f":"Parameters!S29","v":"Manufacture of motor vehicles, trailers, semi-trailers and of other transport equipment"}]
[null,{"$f":"Parameters!Q30","v":"C29"},null,{"$f":"Parameters!S30","v":"Manufacture of motor vehicles, trailers and semi-trailers"},null,null,null,null,null,null,null,null,null,null,null,null,null,null,null,null,null,null,null,null,null,null,null,null,null,null,null,null,null,null,null,null,null,null,null,null,null,null,null,null,null,null,null,null,null,null,null,null,null,null,null,null,null,null,null,null,null,null,null,null,null,null,null,null,null,null,null,null,null,null,null,null,null,null,null,null,null,null,null,null,null,null,null,null,null,null,"C29","RES"]
[null,{"$f":"Parameters!Q31","v":"C30"},null,{"$f":"Parameters!S31","v":"Manufacture of other transport equipment"},null,null,null,null,null,null,null,null,null,null,null,null,null,null,null,null,null,null,null,null,null,null,null,null,null,null,null,null,null,null,null,null,null,null,null,null,null,null,null,null,null,null,null,null,null,null,null,null,null,null,null,null,null,null,null,null,null,null,null,null,null,null,null,null,null,null,null,null,null,null,null,null,null,null,null,null,null,null,null,null,null,null,null,null,null,null,"C30","RES"]
[null,{"$f":"Parameters!Q32","v":"C31-C33"},null,{"$f":"Parameters!S32","v":"Manufacture of furniture; jewellery, musical instruments, toys; repair and installation of machinery and equipment"}]
[null,{"$f":"Parameters!Q33","v":"C31_C32"},null,{"$f":"Parameters!S33","v":"Manufacture of furniture; other manufacturing"},null,null,null,null,null,null,null,null,null,null,null,null,null,null,null,null,null,null,null,null,null,null,null,null,null,null,null,null,null,null,null,null,null,null,null,null,null,null,null,null,null,null,null,null,null,null,null,null,null,null,null,null,null,null,null,null,null,null,null,null,null,null,null,null,null,null,null,null,null,null,null,null,null,null,null,null,null,null,null,null,null,null,null,null,null,null,"C31_32","RES"]
[null,{"$f":"Parameters!Q34","v":"C33"},null,{"$f":"Parameters!S34","v":"Repair and installation of machinery and equipment"},null,null,null,null,null,null,null,null,null,null,null,null,null,null,null,null,null,null,null,null,null,null,null,null,null,null,null,null,null,null,null,null,null,null,null,null,null,null,null,null,null,null,null,null,null,null,null,null,null,null,null,null,null,null,null,null,null,null,null,null,null,null,null,null,null,null,null,null,null,null,null,null,null,null,null,null,null,null,null,null,null,null,null,null,null,null,"C33","RES"]
[null,{"$f":"Parameters!Q35","v":"D"},null,{"$f":"Parameters!S35","v":"Electricity, gas, steam and air conditioning supply"},null,null,null,null,null,null,null,null,null,null,null,null,null,null,null,null,null,null,null,null,null,null,null,null,null,null,null,null,null,null,null,null,null,null,null,null,null,null,null,null,null,null,null,null,null,null,null,null,null,null,null,null,null,null,null,null,null,null,null,null,null,null,null,null,null,null,null,null,null,null,null,null,null,null,null,null,null,null,null,null,null,null,null,null,null,null,"D","RES"]
[null,{"$f":"Parameters!Q36","v":"E"},null,{"$f":"Parameters!S36","v":"Water supply; sewerage, waste management and remediation activities"},null,null,null,null,null,null,null,null,null,null,null,null,null,null,null,null,null,null,null,null,null,null,null,null,null,null,null,null,null,null,null,null,null,null,null,null,null,null,null,null,null,null,null,null,null,null,null,null,null,null,null,null,null,null,null,null,null,null,null,null,null,null,null,null,null,null,null,null,null,null,null,null,null,null,null,null,null,null,null,null,null,null,null,null,null,null,"E","RES"]
[null,{"$f":"Parameters!Q37","v":"E36"},null,{"$f":"Parameters!S37","v":"Water collection, treatment and supply"},null,null,null,null,null,null,null,null,null,null,null,null,null,null,null,null,null,null,null,null,null,null,null,null,null,null,null,null,null,null,null,null,null,null,null,null,null,null,null,null,null,null,null,null,null,null,null,null,null,null,null,null,null,null,null,null,null,null,null,null,null,null,null,null,null,null,null,null,null,null,null,null,null,null,null,null,null,null,null,null,null,null,null,null,null,null,"E36","RES"]
[null,{"$f":"Parameters!Q38","v":"E37-E39"},null,{"$f":"Parameters!S38","v":"Sewerage, waste management, remediation activities"},null,null,null,null,null,null,null,null,null,null,null,null,null,null,null,null,null,null,null,null,null,null,null,null,null,null,null,null,null,null,null,null,null,null,null,null,null,null,null,null,null,null,null,null,null,null,null,null,null,null,null,null,null,null,null,null,null,null,null,null,null,null,null,null,null,null,null,null,null,null,null,null,null,null,null,null,null,null,null,null,null,null,null,null,null,null,"E37T39","RES"]
[null,{"$f":"Parameters!Q39","v":"F"},null,{"$f":"Parameters!S39","v":"Construction"},null,null,null,null,null,null,null,null,null,null,null,null,null,null,null,null,null,null,null,null,null,null,null,null,null,null,null,null,null,null,null,null,null,null,null,null,null,null,null,null,null,null,null,null,null,null,null,null,null,null,null,null,null,null,null,null,null,null,null,null,null,null,null,null,null,null,null,null,null,null,null,null,null,null,null,null,null,null,null,null,null,null,null,null,null,null,"F","RES"]
[null,{"$f":"Parameters!Q40","v":"G"},null,{"$f":"Parameters!S40","v":"Wholesale and retail trade; repair of motor vehicles and motorcycles"},null,null,null,null,null,null,null,null,null,null,null,null,null,null,null,null,null,null,null,null,null,null,null,null,null,null,null,null,null,null,null,null,null,null,null,null,null,null,null,null,null,null,null,null,null,null,null,null,null,null,null,null,null,null,null,null,null,null,null,null,null,null,null,null,null,null,null,null,null,null,null,null,null,null,null,null,null,null,null,null,null,null,null,null,null,null,"G","RES"]
[null,{"$f":"Parameters!Q41","v":"G45"},null,{"$f":"Parameters!S41","v":"Wholesale and retail trade and repair of motor vehicles and motorcycles"},null,null,null,null,null,null,null,null,null,null,null,null,null,null,null,null,null,null,null,null,null,null,null,null,null,null,null,null,null,null,null,null,null,null,null,null,null,null,null,null,null,null,null,null,null,null,null,null,null,null,null,null,null,null,null,null,null,null,null,null,null,null,null,null,null,null,null,null,null,null,null,null,null,null,null,null,null,null,null,null,null,null,null,null,null,null,"G45","RES"]
[null,{"$f":"Parameters!Q42","v":"G46"},null,{"$f":"Parameters!S42","v":"Wholesale trade, except of motor vehicles and motorcycles"},null,null,null,null,null,null,null,null,null,null,null,null,null,null,null,null,null,null,null,null,null,null,null,null,null,null,null,null,null,null,null,null,null,null,null,null,null,null,null,null,null,null,null,null,null,null,null,null,null,null,null,null,null,null,null,null,null,null,null,null,null,null,null,null,null,null,null,null,null,null,null,null,null,null,null,null,null,null,null,null,null,null,null,null,null,null,"G46","RES"]
[null,{"$f":"Parameters!Q43","v":"G47"},null,{"$f":"Parameters!S43","v":"Retail trade, except of motor vehicles and motorcycles"},null,null,null,null,null,null,null,null,null,null,null,null,null,null,null,null,null,null,null,null,null,null,null,null,null,null,null,null,null,null,null,null,null,null,null,null,null,null,null,null,null,null,null,null,null,null,null,null,null,null,null,null,null,null,null,null,null,null,null,null,null,null,null,null,null,null,null,null,null,null,null,null,null,null,null,null,null,null,null,null,null,null,null,null,null,null,"G47","RES"]
[null,{"$f":"Parameters!Q44","v":"H"},null,{"$f":"Parameters!S44","v":"Transportation and storage"},null,null,null,null,null,null,null,null,null,null,null,null,null,null,null,null,null,null,null,null,null,null,null,null,null,null,null,null,null,null,null,null,null,null,null,null,null,null,null,null,null,null,null,null,null,null,null,null,null,null,null,null,null,null,null,null,null,null,null,null,null,null,null,null,null,null,null,null,null,null,null,null,null,null,null,null,null,null,null,null,null,null,null,null,null,null,"H","RES"]
[null,{"$f":"Parameters!Q45","v":"H49"},null,{"$f":"Parameters!S45","v":"Land transport and transport via pipelines"},null,null,null,null,null,null,null,null,null,null,null,null,null,null,null,null,null,null,null,null,null,null,null,null,null,null,null,null,null,null,null,null,null,null,null,null,null,null,null,null,null,null,null,null,null,null,null,null,null,null,null,null,null,null,null,null,null,null,null,null,null,null,null,null,null,null,null,null,null,null,null,null,null,null,null,null,null,null,null,null,null,null,null,null,null,null,"H49","RES"]
[null,{"$f":"Parameters!Q46","v":"H50"},null,{"$f":"Parameters!S46","v":"Water transport"},null,null,null,null,null,null,null,null,null,null,null,null,null,null,null,null,null,null,null,null,null,null,null,null,null,null,null,null,null,null,null,null,null,null,null,null,null,null,null,null,null,null,null,null,null,null,null,null,null,null,null,null,null,null,null,null,null,null,null,null,null,null,null,null,null,null,null,null,null,null,null,null,null,null,null,null,null,null,null,null,null,null,null,null,null,null,"H50","RES"]
[null,{"$f":"Parameters!Q47","v":"H51"},null,{"$f":"Parameters!S47","v":"Air transport"},null,null,null,null,null,null,null,null,null,null,null,null,null,null,null,null,null,null,null,null,null,null,null,null,null,null,null,null,null,null,null,null,null,null,null,null,null,null,null,null,null,null,null,null,null,null,null,null,null,null,null,null,null,null,null,null,null,null,null,null,null,null,null,null,null,null,null,null,null,null,null,null,null,null,null,null,null,null,null,null,null,null,null,null,null,null,"H51","RES"]
[null,{"$f":"Parameters!Q48","v":"H52"},null,{"$f":"Parameters!S48","v":"Warehousing and support activities for transportation"},null,null,null,null,null,null,null,null,null,null,null,null,null,null,null,null,null,null,null,null,null,null,null,null,null,null,null,null,null,null,null,null,null,null,null,null,null,null,null,null,null,null,null,null,null,null,null,null,null,null,null,null,null,null,null,null,null,null,null,null,null,null,null,null,null,null,null,null,null,null,null,null,null,null,null,null,null,null,null,null,null,null,null,null,null,null,"H52","RES"]
[null,{"$f":"Parameters!Q49","v":"H53"},null,{"$f":"Parameters!S49","v":"Postal and courier activities"},null,null,null,null,null,null,null,null,null,null,null,null,null,null,null,null,null,null,null,null,null,null,null,null,null,null,null,null,null,null,null,null,null,null,null,null,null,null,null,null,null,null,null,null,null,null,null,null,null,null,null,null,null,null,null,null,null,null,null,null,null,null,null,null,null,null,null,null,null,null,null,null,null,null,null,null,null,null,null,null,null,null,null,null,null,null,"H53","RES"]
[null,{"$f":"Parameters!Q50","v":"I"},null,{"$f":"Parameters!S50","v":"Accommodation and food service activities"},null,null,null,null,null,null,null,null,null,null,null,null,null,null,null,null,null,null,null,null,null,null,null,null,null,null,null,null,null,null,null,null,null,null,null,null,null,null,null,null,null,null,null,null,null,null,null,null,null,null,null,null,null,null,null,null,null,null,null,null,null,null,null,null,null,null,null,null,null,null,null,null,null,null,null,null,null,null,null,null,null,null,null,null,null,null,"I","RES"]
[null,{"$f":"Parameters!Q51","v":"J"},null,{"$f":"Parameters!S51","v":"Information and communication"},null,null,null,null,null,null,null,null,null,null,null,null,null,null,null,null,null,null,null,null,null,null,null,null,null,null,null,null,null,null,null,null,null,null,null,null,null,null,null,null,null,null,null,null,null,null,null,null,null,null,null,null,null,null,null,null,null,null,null,null,null,null,null,null,null,null,null,null,null,null,null,null,null,null,null,null,null,null,null,null,null,null,null,null,null,null,"J","RES"]
[null,{"$f":"Parameters!Q52","v":"J58-J60"},null,{"$f":"Parameters!S52","v":"Publishing, motion picture, video, television programme production; sound recording, programming and broadcasting activities"}]
[null,{"$f":"Parameters!Q53","v":"J58"},null,{"$f":"Parameters!S53","v":"Publishing activities"},null,null,null,null,null,null,null,null,null,null,null,null,null,null,null,null,null,null,null,null,null,null,null,null,null,null,null,null,null,null,null,null,null,null,null,null,null,null,null,null,null,null,null,null,null,null,null,null,null,null,null,null,null,null,null,null,null,null,null,null,null,null,null,null,null,null,null,null,null,null,null,null,null,null,null,null,null,null,null,null,null,null,null,null,null,null,"J58","RES"]
[null,{"$f":"Parameters!Q54","v":"J59_J60"},null,{"$f":"Parameters!S54","v":"Motion picture, video, television programme production; programming and broadcasting activities"},null,null,null,null,null,null,null,null,null,null,null,null,null,null,null,null,null,null,null,null,null,null,null,null,null,null,null,null,null,null,null,null,null,null,null,null,null,null,null,null,null,null,null,null,null,null,null,null,null,null,null,null,null,null,null,null,null,null,null,null,null,null,null,null,null,null,null,null,null,null,null,null,null,null,null,null,null,null,null,null,null,null,null,null,null,null,"J59_60","RES"]
[null,{"$f":"Parameters!Q55","v":"J61"},null,{"$f":"Parameters!S55","v":"Telecommunications"},null,null,null,null,null,null,null,null,null,null,null,null,null,null,null,null,null,null,null,null,null,null,null,null,null,null,null,null,null,null,null,null,null,null,null,null,null,null,null,null,null,null,null,null,null,null,null,null,null,null,null,null,null,null,null,null,null,null,null,null,null,null,null,null,null,null,null,null,null,null,null,null,null,null,null,null,null,null,null,null,null,null,null,null,null,null,"J61","RES"]
[null,{"$f":"Parameters!Q56","v":"J62_J63"},null,{"$f":"Parameters!S56","v":"Computer programming, consultancy, and information service activities"},null,null,null,null,null,null,null,null,null,null,null,null,null,null,null,null,null,null,null,null,null,null,null,null,null,null,null,null,null,null,null,null,null,null,null,null,null,null,null,null,null,null,null,null,null,null,null,null,null,null,null,null,null,null,null,null,null,null,null,null,null,null,null,null,null,null,null,null,null,null,null,null,null,null,null,null,null,null,null,null,null,null,null,null,null,null,"J62_63","RES"]
[null,{"$f":"Parameters!Q57","v":"K"},null,{"$f":"Parameters!S57","v":"Financial and insurance activities"},null,null,null,null,null,null,null,null,null,null,null,null,null,null,null,null,null,null,null,null,null,null,null,null,null,null,null,null,null,null,null,null,null,null,null,null,null,null,null,null,null,null,null,null,null,null,null,null,null,null,null,null,null,null,null,null,null,null,null,null,null,null,null,null,null,null,null,null,null,null,null,null,null,null,null,null,null,null,null,null,null,null,null,null,null,null,"K","RES"]
[null,{"$f":"Parameters!Q58","v":"K64"},null,{"$f":"Parameters!S58","v":"Financial service activities, except insurance and pension funding"},null,null,null,null,null,null,null,null,null,null,null,null,null,null,null,null,null,null,null,null,null,null,null,null,null,null,null,null,null,null,null,null,null,null,null,null,null,null,null,null,null,null,null,null,null,null,null,null,null,null,null,null,null,null,null,null,null,null,null,null,null,null,null,null,null,null,null,null,null,null,null,null,null,null,null,null,null,null,null,null,null,null,null,null,null,null,"K64","RES"]
[null,{"$f":"Parameters!Q59","v":"K65"},null,{"$f":"Parameters!S59","v":"Insurance, reinsurance and pension funding, except compulsory social security"},null,null,null,null,null,null,null,null,null,null,null,null,null,null,null,null,null,null,null,null,null,null,null,null,null,null,null,null,null,null,null,null,null,null,null,null,null,null,null,null,null,null,null,null,null,null,null,null,null,null,null,null,null,null,null,null,null,null,null,null,null,null,null,null,null,null,null,null,null,null,null,null,null,null,null,null,null,null,null,null,null,null,null,null,null,null,"K65","RES"]
[null,{"$f":"Parameters!Q60","v":"K66"},null,{"$f":"Parameters!S60","v":"Activities auxiliary to financial services and insurance activities"},null,null,null,null,null,null,null,null,null,null,null,null,null,null,null,null,null,null,null,null,null,null,null,null,null,null,null,null,null,null,null,null,null,null,null,null,null,null,null,null,null,null,null,null,null,null,null,null,null,null,null,null,null,null,null,null,null,null,null,null,null,null,null,null,null,null,null,null,null,null,null,null,null,null,null,null,null,null,null,null,null,null,null,null,null,null,"K66","RES"]
[null,{"$f":"Parameters!Q61","v":"L"},null,{"$f":"Parameters!S61","v":"Real estate activities"},null,null,null,null,null,null,null,null,null,null,null,null,null,null,null,null,null,null,null,null,null,null,null,null,null,null,null,null,null,null,null,null,null,null,null,null,null,null,null,null,null,null,null,null,null,null,null,null,null,null,null,null,null,null,null,null,null,null,null,null,null,null,null,null,null,null,null,null,null,null,null,null,null,null,null,null,null,null,null,null,null,null,null,null,null,null,"L","RES"]
[null,{"$f":"Parameters!Q62","v":"L68A"},null,{"$f":"Parameters!S62","v":"Imputed rents of owner-occupied dwellings"},null,null,null,null,null,null,null,null,null,null,null,null,null,null,null,null,null,null,null,null,null,null,null,null,null,null,null,null,null,null,null,null,null,null,null,null,null,null,null,null,null,null,null,null,null,null,null,null,null,null,null,null,null,null,null,null,null,null,null,null,null,null,null,null,null,null,null,null,null,null,null,null,null,null,null,null,null,null,null,null,null,null,null,null,null,null,"L68A","RES"]
[null,{"$f":"Parameters!Q63","v":"M"},null,{"$f":"Parameters!S63","v":"Professional, scientific and technical activities"},null,null,null,null,null,null,null,null,null,null,null,null,null,null,null,null,null,null,null,null,null,null,null,null,null,null,null,null,null,null,null,null,null,null,null,null,null,null,null,null,null,null,null,null,null,null,null,null,null,null,null,null,null,null,null,null,null,null,null,null,null,null,null,null,null,null,null,null,null,null,null,null,null,null,null,null,null,null,null,null,null,null,null,null,null,null,"M","RES"]
[null,{"$f":"Parameters!Q64","v":"M69-M71"},null,{"$f":"Parameters!S64","v":"Legal and accounting activities; activities of head offices; management consultancy activities; architectural and engineering activities; technical testing and analysis"}]
[null,{"$f":"Parameters!Q65","v":"M69_M70"},null,{"$f":"Parameters!S65","v":"Legal and accounting activities; activities of head offices; management consultancy activities"},null,null,null,null,null,null,null,null,null,null,null,null,null,null,null,null,null,null,null,null,null,null,null,null,null,null,null,null,null,null,null,null,null,null,null,null,null,null,null,null,null,null,null,null,null,null,null,null,null,null,null,null,null,null,null,null,null,null,null,null,null,null,null,null,null,null,null,null,null,null,null,null,null,null,null,null,null,null,null,null,null,null,null,null,null,null,"M69_70","RES"]
[null,{"$f":"Parameters!Q66","v":"M71"},null,{"$f":"Parameters!S66","v":"Architectural and engineering activities; technical testing and analysis"},null,null,null,null,null,null,null,null,null,null,null,null,null,null,null,null,null,null,null,null,null,null,null,null,null,null,null,null,null,null,null,null,null,null,null,null,null,null,null,null,null,null,null,null,null,null,null,null,null,null,null,null,null,null,null,null,null,null,null,null,null,null,null,null,null,null,null,null,null,null,null,null,null,null,null,null,null,null,null,null,null,null,null,null,null,null,"M71","RES"]
[null,{"$f":"Parameters!Q67","v":"M72"},null,{"$f":"Parameters!S67","v":"Scientific research and development"},null,null,null,null,null,null,null,null,null,null,null,null,null,null,null,null,null,null,null,null,null,null,null,null,null,null,null,null,null,null,null,null,null,null,null,null,null,null,null,null,null,null,null,null,null,null,null,null,null,null,null,null,null,null,null,null,null,null,null,null,null,null,null,null,null,null,null,null,null,null,null,null,null,null,null,null,null,null,null,null,null,null,null,null,null,null,"M72","RES"]
[null,{"$f":"Parameters!Q68","v":"M73-M75"},null,{"$f":"Parameters!S68","v":"Advertising and market research; other professional, scientific and technical activities; veterinary activities"}]
[null,{"$f":"Parameters!Q69","v":"M73"},null,{"$f":"Parameters!S69","v":"Advertising and market research"},null,null,null,null,null,null,null,null,null,null,null,null,null,null,null,null,null,null,null,null,null,null,null,null,null,null,null,null,null,null,null,null,null,null,null,null,null,null,null,null,null,null,null,null,null,null,null,null,null,null,null,null,null,null,null,null,null,null,null,null,null,null,null,null,null,null,null,null,null,null,null,null,null,null,null,null,null,null,null,null,null,null,null,null,null,null,"M73","RES"]
[null,{"$f":"Parameters!Q70","v":"M74_M75"},null,{"$f":"Parameters!S70","v":"Other professional, scientific and technical activities; veterinary activities"},null,null,null,null,null,null,null,null,null,null,null,null,null,null,null,null,null,null,null,null,null,null,null,null,null,null,null,null,null,null,null,null,null,null,null,null,null,null,null,null,null,null,null,null,null,null,null,null,null,null,null,null,null,null,null,null,null,null,null,null,null,null,null,null,null,null,null,null,null,null,null,null,null,null,null,null,null,null,null,null,null,null,null,null,null,null,"M74_75","RES"]
[null,{"$f":"Parameters!Q71","v":"N"},null,{"$f":"Parameters!S71","v":"Administrative and support service activities"},null,null,null,null,null,null,null,null,null,null,null,null,null,null,null,null,null,null,null,null,null,null,null,null,null,null,null,null,null,null,null,null,null,null,null,null,null,null,null,null,null,null,null,null,null,null,null,null,null,null,null,null,null,null,null,null,null,null,null,null,null,null,null,null,null,null,null,null,null,null,null,null,null,null,null,null,null,null,null,null,null,null,null,null,null,null,"N","RES"]
[null,{"$f":"Parameters!Q72","v":"N77"},null,{"$f":"Parameters!S72","v":"Rental and leasing activities"},null,null,null,null,null,null,null,null,null,null,null,null,null,null,null,null,null,null,null,null,null,null,null,null,null,null,null,null,null,null,null,null,null,null,null,null,null,null,null,null,null,null,null,null,null,null,null,null,null,null,null,null,null,null,null,null,null,null,null,null,null,null,null,null,null,null,null,null,null,null,null,null,null,null,null,null,null,null,null,null,null,null,null,null,null,null,"N77","RES"]
[null,{"$f":"Parameters!Q73","v":"N78"},null,{"$f":"Parameters!S73","v":"Employment activities"},null,null,null,null,null,null,null,null,null,null,null,null,null,null,null,null,null,null,null,null,null,null,null,null,null,null,null,null,null,null,null,null,null,null,null,null,null,null,null,null,null,null,null,null,null,null,null,null,null,null,null,null,null,null,null,null,null,null,null,null,null,null,null,null,null,null,null,null,null,null,null,null,null,null,null,null,null,null,null,null,null,null,null,null,null,null,"N78","RES"]
[null,{"$f":"Parameters!Q74","v":"N79"},null,{"$f":"Parameters!S74","v":"Travel agency, tour operator reservation service and related activities"},null,null,null,null,null,null,null,null,null,null,null,null,null,null,null,null,null,null,null,null,null,null,null,null,null,null,null,null,null,null,null,null,null,null,null,null,null,null,null,null,null,null,null,null,null,null,null,null,null,null,null,null,null,null,null,null,null,null,null,null,null,null,null,null,null,null,null,null,null,null,null,null,null,null,null,null,null,null,null,null,null,null,null,null,null,null,"N79","RES"]
[null,{"$f":"Parameters!Q75","v":"N80-N82"},null,{"$f":"Parameters!S75","v":"Security and investigation, service and landscape, office administrative and support activities"},null,null,null,null,null,null,null,null,null,null,null,null,null,null,null,null,null,null,null,null,null,null,null,null,null,null,null,null,null,null,null,null,null,null,null,null,null,null,null,null,null,null,null,null,null,null,null,null,null,null,null,null,null,null,null,null,null,null,null,null,null,null,null,null,null,null,null,null,null,null,null,null,null,null,null,null,null,null,null,null,null,null,null,null,null,null,"N80T82","RES"]
[null,{"$f":"Parameters!Q76","v":"O"},null,{"$f":"Parameters!S76","v":"Public administration and defence; compulsory social security"},null,null,null,null,null,null,null,null,null,null,null,null,null,null,null,null,null,null,null,null,null,null,null,null,null,null,null,null,null,null,null,null,null,null,null,null,null,null,null,null,null,null,null,null,null,null,null,null,null,null,null,null,null,null,null,null,null,null,null,null,null,null,null,null,null,null,null,null,null,null,null,null,null,null,null,null,null,null,null,null,null,null,null,null,null,null,"O","RES"]
[null,{"$f":"Parameters!Q77","v":"P"},null,{"$f":"Parameters!S77","v":"Education"},null,null,null,null,null,null,null,null,null,null,null,null,null,null,null,null,null,null,null,null,null,null,null,null,null,null,null,null,null,null,null,null,null,null,null,null,null,null,null,null,null,null,null,null,null,null,null,null,null,null,null,null,null,null,null,null,null,null,null,null,null,null,null,null,null,null,null,null,null,null,null,null,null,null,null,null,null,null,null,null,null,null,null,null,null,null,"P","RES"]
[null,{"$f":"Parameters!Q78","v":"Q"},null,{"$f":"Parameters!S78","v":"Human health and social work activities"},null,null,null,null,null,null,null,null,null,null,null,null,null,null,null,null,null,null,null,null,null,null,null,null,null,null,null,null,null,null,null,null,null,null,null,null,null,null,null,null,null,null,null,null,null,null,null,null,null,null,null,null,null,null,null,null,null,null,null,null,null,null,null,null,null,null,null,null,null,null,null,null,null,null,null,null,null,null,null,null,null,null,null,null,null,null,"Q","RES"]
[null,{"$f":"Parameters!Q79","v":"Q86"},null,{"$f":"Parameters!S79","v":"Human health activities"},null,null,null,null,null,null,null,null,null,null,null,null,null,null,null,null,null,null,null,null,null,null,null,null,null,null,null,null,null,null,null,null,null,null,null,null,null,null,null,null,null,null,null,null,null,null,null,null,null,null,null,null,null,null,null,null,null,null,null,null,null,null,null,null,null,null,null,null,null,null,null,null,null,null,null,null,null,null,null,null,null,null,null,null,null,null,"Q86","RES"]
[null,{"$f":"Parameters!Q80","v":"Q87_Q88"},null,{"$f":"Parameters!S80","v":"Residential care activities and social work activities without accommodation"},null,null,null,null,null,null,null,null,null,null,null,null,null,null,null,null,null,null,null,null,null,null,null,null,null,null,null,null,null,null,null,null,null,null,null,null,null,null,null,null,null,null,null,null,null,null,null,null,null,null,null,null,null,null,null,null,null,null,null,null,null,null,null,null,null,null,null,null,null,null,null,null,null,null,null,null,null,null,null,null,null,null,null,null,null,null,"Q87_88","RES"]
[null,{"$f":"Parameters!Q81","v":"R"},null,{"$f":"Parameters!S81","v":"Arts, entertainment and recreation"},null,null,null,null,null,null,null,null,null,null,null,null,null,null,null,null,null,null,null,null,null,null,null,null,null,null,null,null,null,null,null,null,null,null,null,null,null,null,null,null,null,null,null,null,null,null,null,null,null,null,null,null,null,null,null,null,null,null,null,null,null,null,null,null,null,null,null,null,null,null,null,null,null,null,null,null,null,null,null,null,null,null,null,null,null,null,"R","RES"]
[null,{"$f":"Parameters!Q82","v":"R90-R92"},null,{"$f":"Parameters!S82","v":"Creative, arts and entertainment activities; libraries, archives, museums and other cultural activities; gambling and betting activities"},null,null,null,null,null,null,null,null,null,null,null,null,null,null,null,null,null,null,null,null,null,null,null,null,null,null,null,null,null,null,null,null,null,null,null,null,null,null,null,null,null,null,null,null,null,null,null,null,null,null,null,null,null,null,null,null,null,null,null,null,null,null,null,null,null,null,null,null,null,null,null,null,null,null,null,null,null,null,null,null,null,null,null,null,null,null,"R90T92","RES"]
[null,{"$f":"Parameters!Q83","v":"R93"},null,{"$f":"Parameters!S83","v":"Sports activities and amusement and recreation activities"},null,null,null,null,null,null,null,null,null,null,null,null,null,null,null,null,null,null,null,null,null,null,null,null,null,null,null,null,null,null,null,null,null,null,null,null,null,null,null,null,null,null,null,null,null,null,null,null,null,null,null,null,null,null,null,null,null,null,null,null,null,null,null,null,null,null,null,null,null,null,null,null,null,null,null,null,null,null,null,null,null,null,null,null,null,null,"R93","RES"]
[null,{"$f":"Parameters!Q84","v":"S"},null,{"$f":"Parameters!S84","v":"Other service activities"},null,null,null,null,null,null,null,null,null,null,null,null,null,null,null,null,null,null,null,null,null,null,null,null,null,null,null,null,null,null,null,null,null,null,null,null,null,null,null,null,null,null,null,null,null,null,null,null,null,null,null,null,null,null,null,null,null,null,null,null,null,null,null,null,null,null,null,null,null,null,null,null,null,null,null,null,null,null,null,null,null,null,null,null,null,null,"S","RES"]
[null,{"$f":"Parameters!Q85","v":"S94"},null,{"$f":"Parameters!S85","v":"Activities of membership organisations"},null,null,null,null,null,null,null,null,null,null,null,null,null,null,null,null,null,null,null,null,null,null,null,null,null,null,null,null,null,null,null,null,null,null,null,null,null,null,null,null,null,null,null,null,null,null,null,null,null,null,null,null,null,null,null,null,null,null,null,null,null,null,null,null,null,null,null,null,null,null,null,null,null,null,null,null,null,null,null,null,null,null,null,null,null,null,"S94","RES"]
[null,{"$f":"Parameters!Q86","v":"S95"},null,{"$f":"Parameters!S86","v":"Repair of computers and personal and household goods"},null,null,null,null,null,null,null,null,null,null,null,null,null,null,null,null,null,null,null,null,null,null,null,null,null,null,null,null,null,null,null,null,null,null,null,null,null,null,null,null,null,null,null,null,null,null,null,null,null,null,null,null,null,null,null,null,null,null,null,null,null,null,null,null,null,null,null,null,null,null,null,null,null,null,null,null,null,null,null,null,null,null,null,null,null,null,"S95","RES"]
[null,{"$f":"Parameters!Q87","v":"S96"},null,{"$f":"Parameters!S87","v":"Other personal service activities"},null,null,null,null,null,null,null,null,null,null,null,null,null,null,null,null,null,null,null,null,null,null,null,null,null,null,null,null,null,null,null,null,null,null,null,null,null,null,null,null,null,null,null,null,null,null,null,null,null,null,null,null,null,null,null,null,null,null,null,null,null,null,null,null,null,null,null,null,null,null,null,null,null,null,null,null,null,null,null,null,null,null,null,null,null,null,"S96","RES"]
[null,{"$f":"Parameters!Q88","v":"T"},null,{"$f":"Parameters!S88","v":"Activities of households as employers; undifferentiated goods- and services-producing activities of households for own use"},null,null,null,null,null,null,null,null,null,null,null,null,null,null,null,null,null,null,null,null,null,null,null,null,null,null,null,null,null,null,null,null,null,null,null,null,null,null,null,null,null,null,null,null,null,null,null,null,null,null,null,null,null,null,null,null,null,null,null,null,null,null,null,null,null,null,null,null,null,null,null,null,null,null,null,null,null,null,null,null,null,null,null,null,null,null,"T","RES"]
[null,{"$f":"Parameters!Q89","v":"U"},null,{"$f":"Parameters!S89","v":"Activities of extraterritorial organisations and bodies"},null,null,null,null,null,null,null,null,null,null,null,null,null,null,null,null,null,null,null,null,null,null,null,null,null,null,null,null,null,null,null,null,null,null,null,null,null,null,null,null,null,null,null,null,null,null,null,null,null,null,null,null,null,null,null,null,null,null,null,null,null,null,null,null,null,null,null,null,null,null,null,null,null,null,null,null,null,null,null,null,null,null,null,null,null,null,"U","RES"]
[null,"   Household air emissions\n                                          Households, totals",null,null,null,null,null,null,null,null,null,null,null,null,null,null,null,null,null,null,null,null,null,null,null,null,null,null,null,null,null,null,null,null,null,null,null,null,null,null,null,null,null,null,null,null,null,null,null,null,null,null,null,null,null,null,null,null,null,null,null,null,null,null,null,null,null,null,null,null,null,null,null,null,null,null,null,null,null,null,null,null,null,null,null,null,null,null,null,null,"HH","RES"]
[null,null,null,"- Transport",null,null,null,null,null,null,null,null,null,null,null,null,null,null,null,null,null,null,null,null,null,null,null,null,null,null,null,null,null,null,null,null,null,null,null,null,null,null,null,null,null,null,null,null,null,null,null,null,null,null,null,null,null,null,null,null,null,null,null,null,null,null,null,null,null,null,null,null,null,null,null,null,null,null,null,null,null,null,null,null,null,null,null,null,null,null,"HH_TR","RES"]
[null,null,null,"- Heating/cooling",null,null,null,null,null,null,null,null,null,null,null,null,null,null,null,null,null,null,null,null,null,null,null,null,null,null,null,null,null,null,null,null,null,null,null,null,null,null,null,null,null,null,null,null,null,null,null,null,null,null,null,null,null,null,null,null,null,null,null,null,null,null,null,null,null,null,null,null,null,null,null,null,null,null,null,null,null,null,null,null,null,null,null,null,null,null,"HH_HEAT","RES"]
[null,null,null,"- Other",null,null,null,null,null,null,null,null,null,null,null,null,null,null,null,null,null,null,null,null,null,null,null,null,null,null,null,null,null,null,null,null,null,null,null,null,null,null,null,null,null,null,null,null,null,null,null,null,null,null,null,null,null,null,null,null,null,null,null,null,null,null,null,null,null,null,null,null,null,null,null,null,null,null,null,null,null,null,null,null,null,null,null,null,null,null,"HH_OTH","RES"]
[null,"   Bridging items\n\n1                              Total Air emissions accounts (industry (row 5) + households (row 91))",null,null,null,null,null,null,null,null,null,null,null,null,null,null,null,null,null,null,null,null,null,null,null,null,null,null,null,null,null,null,null,null,null,null,null,null,null,null,null,null,null,null,null,null,null,null,null,null,null,null,null,null,null,null,null,null,null,null,null,null,null,null,null,null,null,null,null,null,null,null,null,null,null,null,null,null,null,null,null,null,null,null,null,null,null,null,null,null,"ATU_HH","RES"]
[null,2,null,"less National residents abroad",null,null,null,null,null,null,null,null,null,null,null,null,null,null,null,null,null,null,null,null,null,null,null,null,null,null,null,null,null,null,null,null,null,null,null,null,null,null,null,null,null,null,null,null,null,null,null,null,null,null,null,null,null,null,null,null,null,null,null,null,null,null,null,null,null,null,null,null,null,null,null,null,null,null,null,null,null,null,null,null,null,null,null,null,null,null,"ATU_HH","RES_ABR"]
[null,2.1,null,"-  National fishing vessels operating abroad",null,null,null,null,null,null,null,null,null,null,null,null,null,null,null,null,null,null,null,null,null,null,null,null,null,null,null,null,null,null,null,null,null,null,null,null,null,null,null,null,null,null,null,null,null,null,null,null,null,null,null,null,null,null,null,null,null,null,null,null,null,null,null,null,null,null,null,null,null,null,null,null,null,null,null,null,null,null,null,null,null,null,null,null,null,null,"ATU_HH","RES_ABR_FWTR"]
[null,2.2000000000000002,null,"-  Land transport",null,null,null,null,null,null,null,null,null,null,null,null,null,null,null,null,null,null,null,null,null,null,null,null,null,null,null,null,null,null,null,null,null,null,null,null,null,null,null,null,null,null,null,null,null,null,null,null,null,null,null,null,null,null,null,null,null,null,null,null,null,null,null,null,null,null,null,null,null,null,null,null,null,null,null,null,null,null,null,null,null,null,null,null,null,null,"ATU_HH","RES_ABR_LTR"]
[null,2.2999999999999998,null,"-  Water transport",null,null,null,null,null,null,null,null,null,null,null,null,null,null,null,null,null,null,null,null,null,null,null,null,null,null,null,null,null,null,null,null,null,null,null,null,null,null,null,null,null,null,null,null,null,null,null,null,null,null,null,null,null,null,null,null,null,null,null,null,null,null,null,null,null,null,null,null,null,null,null,null,null,null,null,null,null,null,null,null,null,null,null,null,null,null,"ATU_HH","RES_ABR_WTR"]
[null,2.4,null,"-  Air transport",null,null,null,null,null,null,null,null,null,null,null,null,null,null,null,null,null,null,null,null,null,null,null,null,null,null,null,null,null,null,null,null,null,null,null,null,null,null,null,null,null,null,null,null,null,null,null,null,null,null,null,null,null,null,null,null,null,null,null,null,null,null,null,null,null,null,null,null,null,null,null,null,null,null,null,null,null,null,null,null,null,null,null,null,null,null,"ATU_HH","RES_ABR_ATR"]
[null,3,null,"plus Non-residents on the territory",null,null,null,null,null,null,null,null,null,null,null,null,null,null,null,null,null,null,null,null,null,null,null,null,null,null,null,null,null,null,null,null,null,null,null,null,null,null,null,null,null,null,null,null,null,null,null,null,null,null,null,null,null,null,null,null,null,null,null,null,null,null,null,null,null,null,null,null,null,null,null,null,null,null,null,null,null,null,null,null,null,null,null,null,null,null,"ATU_HH","TER_NRES"]
[null,3.1,null,"+  Land transport",null,null,null,null,null,null,null,null,null,null,null,null,null,null,null,null,null,null,null,null,null,null,null,null,null,null,null,null,null,null,null,null,null,null,null,null,null,null,null,null,null,null,null,null,null,null,null,null,null,null,null,null,null,null,null,null,null,null,null,null,null,null,null,null,null,null,null,null,null,null,null,null,null,null,null,null,null,null,null,null,null,null,null,null,null,null,"ATU_HH","TER_NRES_LTR"]
[null,3.2,null,"+ Water transport",null,null,null,null,null,null,null,null,null,null,null,null,null,null,null,null,null,null,null,null,null,null,null,null,null,null,null,null,null,null,null,null,null,null,null,null,null,null,null,null,null,null,null,null,null,null,null,null,null,null,null,null,null,null,null,null,null,null,null,null,null,null,null,null,null,null,null,null,null,null,null,null,null,null,null,null,null,null,null,null,null,null,null,null,null,null,"ATU_HH","TER_NRES_WTR"]
[null,3.3,null,"+  Air transport",null,null,null,null,null,null,null,null,null,null,null,null,null,null,null,null,null,null,null,null,null,null,null,null,null,null,null,null,null,null,null,null,null,null,null,null,null,null,null,null,null,null,null,null,null,null,null,null,null,null,null,null,null,null,null,null,null,null,null,null,null,null,null,null,null,null,null,null,null,null,null,null,null,null,null,null,null,null,null,null,null,null,null,null,null,null,"ATU_HH","TER_NRES_ATR"]
[null,4,null,"Other adjustments and statistical discrepancy",null,null,null,null,null,null,null,null,null,null,null,null,null,null,null,null,null,null,null,null,null,null,null,null,null,null,null,null,null,null,null,null,null,null,null,null,null,null,null,null,null,null,null,null,null,null,null,null,null,null,null,null,null,null,null,null,null,null,null,null,null,null,null,null,null,null,null,null,null,null,null,null,null,null,null,null,null,null,null,null,null,null,null,null,null,null,"ATU_HH","ADJ_SD"]
[null,5,null,"'National total for the entire territory' as reported to CLRTAP (Annex 1)",null,null,null,null,null,null,null,null,null,null,null,null,null,null,null,null,null,null,null,null,null,null,null,null,null,null,null,null,null,null,null,null,null,null,null,null,null,null,null,null,null,null,null,null,null,null,null,null,null,null,null,null,null,null,null,null,null,null,null,null,null,null,null,null,null,null,null,null,null,null,null,null,null,null,null,null,null,null,null,null,null,null,null,null,null,null,"ATU_HH","TER"]
[null,null,null,"Year of submission to CLRTAP"]
[]
[null,"Explanatory notes for bridging items:"]
[null,1,"Total Air emissions accounts (industry (row 5) + households (row 91)) - residence principle"]
[]
[null,2.1,"Fishing vessels operated by resident units bunkering outside of the reporting country"]
[null,2.2000000000000002,"Land transport (incl. rail) by resident units fuelling outside of the reporting country"]
[null,2.2999999999999998,"Any navigation by resident units bunkering at ports outside of the reporting country and international navigation by resident units bunkering at ports of the reporting country"]
[null,2.4,"Any aviation by resident units bunkering at airports outside of the reporting country and any cruise aviation by resident units bunkering at airports of the reporting country"]
[]
[null,3.1,"Land transport (incl. rail) by non-resident units fuelling on the territory of the reporting country"]
[null,3.2,"National and international inland waterways navigation by non-residents bunkering at ports of the reporting country"]
[null,3.3,"LTO (landing and take off) aviation by non-residents bunkering at  airports of the reporting country"]
[]
[null,5,"National totals in CLRTAP inventories include all LTO aviation departing from domestic airports - territory principle"]
[null,null,"National totals in CLRTAP inventories include all national and international inland waterways navigation for which the fuel is bunkered in ports of the reporting country - territory principle"]

{"sheet":"NOx_ROAD","index":20,"n_rows":122,"n_cols":98,"rows_kept":122,"cut":false,"hidden":false,"merged":[[104,3,104,4],[105,3,105,4],[106,3,106,4],[98,3,98,4],[99,3,99,4],[100,3,100,4],[101,3,101,4],[102,3,102,4],[103,3,103,4],[92,3,92,4],[93,3,93,4],[94,1,94,4],[95,3,95,4],[96,3,96,4],[97,3,97,4],[86,3,86,4],[87,3,87,4],[88,3,88,4],[89,3,89,4],[90,1,90,4],[91,3,91,4],[80,3,80,4],[81,3,81,4],[82,3,82,4],[83,3,83,4],[84,3,84,4],[85,3,85,4],[74,3,74,4],[75,3,75,4],[76,3,76,4],[77,3,77,4],[78,3,78,4],[79,3,79,4],[68,3,68,4],[69,3,69,4],[70,3,70,4],[71,3,71,4],[72,3,72,4],[73,3,73,4],[62,3,62,4],[63,3,63,4],[64,3,64,4],[65,3,65,4],[66,3,66,4],[67,3,67,4],[56,3,56,4],[57,3,57,4],[58,3,58,4],[59,3,59,4],[60,3,60,4],[61,3,61,4],[50,3,50,4],[51,3,51,4],[52,3,52,4],[53,3,53,4],[54,3,54,4],[55,3,55,4],[44,3,44,4],[45,3,45,4],[46,3,46,4],[47,3,47,4],[48,3,48,4],[49,3,49,4],[38,3,38,4],[39,3,39,4],[40,3,40,4],[41,3,41,4],[42,3,42,4],[43,3,43,4],[32,3,32,4],[33,3,33,4],[34,3,34,4],[35,3,35,4],[36,3,36,4],[37,3,37,4],[26,3,26,4],[27,3,27,4],[28,3,28,4],[29,3,29,4],[30,3,30,4],[31,3,31,4],[20,3,20,4],[21,3,21,4],[22,3,22,4],[23,3,23,4],[24,3,24,4],[25,3,25,4],[14,3,14,4],[15,3,15,4],[16,3,16,4],[17,3,17,4],[18,3,18,4],[19,3,19,4],[9,3,9,4],[10,3,10,4],[11,3,11,4],[12,3,12,4],[13,3,13,4],[3,1,3,4],[4,1,4,2],[4,3,4,4],[5,3,5,4],[6,3,6,4],[7,3,7,4],[0,23,2,24],[0,25,2,26],[0,1,0,2],[0,5,2,6],[0,7,2,8],[8,3,8,4],[0,9,2,10],[0,11,2,12],[0,13,2,14],[0,94,2,94],[0,95,2,95],[0,96,2,96],[0,97,2,97],[0,93,2,93],[1,1,1,2],[2,1,2,2],[2,3,2,4],[2,47,2,48],[0,88,2,88],[0,89,2,89],[0,90,2,90],[0,91,2,91],[0,92,2,92],[0,27,2,28],[0,29,2,30],[0,31,2,32],[0,33,2,34],[0,35,2,36],[0,87,2,87],[0,15,2,16],[0,17,2,18],[0,19,2,20],[0,21,2,22]]}
["DATAENTRY","Country:",null,{"$f":"intro!F7","v":""},null,null,null,null,null,null,null,null,null,null,null,null,null,null,null,null,null,null,null,null,null,null,null,null,null,null,null,null,null,null,null,null,null,null,null,null,null,null,null,null,null,null,null,null,null,null,null,null,null,null,null,null,null,null,null,null,null,null,null,null,null,null,null,null,null,null,null,null,null,null,null,null,null,null,null,null,null,null,null,null,null,null,null,"DEMAND_PROD","ACCOUNTING_ENTRY","COUNTERPART_AREA","INTERACTORS","BRIDGE_ITEM","AIRPOL","STO","UNIT_MEASURE","UNIT_MULT","PRODUCT","SECTOR"]
[null,"Air Pollutant",null,"NOX_ROAD","Nitrogen oxides from road transport"]
["TNO2E","Unit","Million National Currency","tonnes (Mg) NO2-equivalents"]
[null,"Air emissions by industry",null,null,null,1995,null,1996,null,1997,null,1998,null,1999,null,2000,null,2001,null,2002,null,2003,null,2004,null,2005,null,2006,null,2007,null,2008,null,2009,null,2010,null,2011,null,2012,null,2013,null,2014,null,2015,null,2016,null,2017,null,2018,null,2019,null,2020,null,2021,null,2022,null,2023,null,2024]
[null,{"$f":"Parameters!Q4","v":"A_U   01-99"},null,{"$f":"Parameters!S4","v":"Total industries"},null,null,null,null,null,null,null,null,null,null,null,null,null,null,null,null,null,null,null,null,null,null,null,null,null,null,null,null,null,null,null,null,null,null,null,null,null,null,null,null,null,null,null,null,null,null,null,null,null,null,null,null,null,null,null,null,null,null,null,null,null,null,null,null,null,null,null,null,null,null,null,null,null,null,null,null,null,null,null,null,null,null,null,"P","EC","W2","ATU","RES","NOX","_Z","TNO2E",0,"_T","S1"]
[null,{"$f":"Parameters!Q5","v":"A"},null,{"$f":"Parameters!S5","v":"Agriculture, forestry and fishing"},null,null,null,null,null,null,null,null,null,null,null,null,null,null,null,null,null,null,null,null,null,null,null,null,null,null,null,null,null,null,null,null,null,null,null,null,null,null,null,null,null,null,null,null,null,null,null,null,null,null,null,null,null,null,null,null,null,null,null,null,null,null,null,null,null,null,null,null,null,null,null,null,null,null,null,null,null,null,null,null,null,null,null,null,null,null,"A","RES"]
[null,{"$f":"Parameters!Q6","v":"A01"},null,{"$f":"Parameters!S6","v":"Crop and animal production, hunting and related service activities"},null,null,null,null,null,null,null,null,null,null,null,null,null,null,null,null,null,null,null,null,null,null,null,null,null,null,null,null,null,null,null,null,null,null,null,null,null,null,null,null,null,null,null,null,null,null,null,null,null,null,null,null,null,null,null,null,null,null,null,null,null,null,null,null,null,null,null,null,null,null,null,null,null,null,null,null,null,null,null,null,null,null,null,null,null,null,"A01","RES"]
[null,{"$f":"Parameters!Q7","v":"A02"},null,{"$f":"Parameters!S7","v":"Forestry and logging"},null,null,null,null,null,null,null,null,null,null,null,null,null,null,null,null,null,null,null,null,null,null,null,null,null,null,null,null,null,null,null,null,null,null,null,null,null,null,null,null,null,null,null,null,null,null,null,null,null,null,null,null,null,null,null,null,null,null,null,null,null,null,null,null,null,null,null,null,null,null,null,null,null,null,null,null,null,null,null,null,null,null,null,null,null,null,"A02","RES"]
[null,{"$f":"Parameters!Q8","v":"A03"},null,{"$f":"Parameters!S8","v":"Fishing and aquaculture"},null,null,null,null,null,null,null,null,null,null,null,null,null,null,null,null,null,null,null,null,null,null,null,null,null,null,null,null,null,null,null,null,null,null,null,null,null,null,null,null,null,null,null,null,null,null,null,null,null,null,null,null,null,null,null,null,null,null,null,null,null,null,null,null,null,null,null,null,null,null,null,null,null,null,null,null,null,null,null,null,null,null,null,null,null,null,"A03","RES"]
[null,{"$f":"Parameters!Q9","v":"B"},null,{"$f":"Parameters!S9","v":"Mining and quarrying"},null,null,null,null,null,null,null,null,null,null,null,null,null,null,null,null,null,null,null,null,null,null,null,null,null,null,null,null,null,null,null,null,null,null,null,null,null,null,null,null,null,null,null,null,null,null,null,null,null,null,null,null,null,null,null,null,null,null,null,null,null,null,null,null,null,null,null,null,null,null,null,null,null,null,null,null,null,null,null,null,null,null,null,null,null,null,"B","RES"]
[null,{"$f":"Parameters!Q10","v":"C"},null,{"$f":"Parameters!S10","v":"Manufacturing"},null,null,null,null,null,null,null,null,null,null,null,null,null,null,null,null,null,null,null,null,null,null,null,null,null,null,null,null,null,null,null,null,null,null,null,null,null,null,null,null,null,null,null,null,null,null,null,null,null,null,null,null,null,null,null,null,null,null,null,null,null,null,null,null,null,null,null,null,null,null,null,null,null,null,null,null,null,null,null,null,null,null,null,null,null,null,"C","RES"]
[null,{"$f":"Parameters!Q11","v":"C10-C12"},null,{"$f":"Parameters!S11","v":"Manufacture of food products, beverages and tobacco\nproducts"},null,null,null,null,null,null,null,null,null,null,null,null,null,null,null,null,null,null,null,null,null,null,null,null,null,null,null,null,null,null,null,null,null,null,null,null,null,null,null,null,null,null,null,null,null,null,null,null,null,null,null,null,null,null,null,null,null,null,null,null,null,null,null,null,null,null,null,null,null,null,null,null,null,null,null,null,null,null,null,null,null,null,null,null,null,null,"C10T12","RES"]
[null,{"$f":"Parameters!Q12","v":"C13-C15"},null,{"$f":"Parameters!S12","v":"Manufacture of textiles, wearing apparel and leather products"},null,null,null,null,null,null,null,null,null,null,null,null,null,null,null,null,null,null,null,null,null,null,null,null,null,null,null,null,null,null,null,null,null,null,null,null,null,null,null,null,null,null,null,null,null,null,null,null,null,null,null,null,null,null,null,null,null,null,null,null,null,null,null,null,null,null,null,null,null,null,null,null,null,null,null,null,null,null,null,null,null,null,null,null,null,null,"C13T15","RES"]
[null,{"$f":"Parameters!Q13","v":"C16-C18"},null,{"$f":"Parameters!S13","v":"Manufacture of wood, paper, printing and reproduction"}]
[null,{"$f":"Parameters!Q14","v":"C16"},null,{"$f":"Parameters!S14","v":"Manufacture of wood and of products of wood and cork, except furniture; manufacture of articles of straw and plaiting materials"},null,null,null,null,null,null,null,null,null,null,null,null,null,null,null,null,null,null,null,null,null,null,null,null,null,null,null,null,null,null,null,null,null,null,null,null,null,null,null,null,null,null,null,null,null,null,null,null,null,null,null,null,null,null,null,null,null,null,null,null,null,null,null,null,null,null,null,null,null,null,null,null,null,null,null,null,null,null,null,null,null,null,null,null,null,null,"C16","RES"]
[null,{"$f":"Parameters!Q15","v":"C17"},null,{"$f":"Parameters!S15","v":"Manufacture of paper and paper products"},null,null,null,null,null,null,null,null,null,null,null,null,null,null,null,null,null,null,null,null,null,null,null,null,null,null,null,null,null,null,null,null,null,null,null,null,null,null,null,null,null,null,null,null,null,null,null,null,null,null,null,null,null,null,null,null,null,null,null,null,null,null,null,null,null,null,null,null,null,null,null,null,null,null,null,null,null,null,null,null,null,null,null,null,null,null,"C17","RES"]
[null,{"$f":"Parameters!Q16","v":"C18"},null,{"$f":"Parameters!S16","v":"Printing and reproduction of recorded media"},null,null,null,null,null,null,null,null,null,null,null,null,null,null,null,null,null,null,null,null,null,null,null,null,null,null,null,null,null,null,null,null,null,null,null,null,null,null,null,null,null,null,null,null,null,null,null,null,null,null,null,null,null,null,null,null,null,null,null,null,null,null,null,null,null,null,null,null,null,null,null,null,null,null,null,null,null,null,null,null,null,null,null,null,null,null,"C18","RES"]
[null,{"$f":"Parameters!Q17","v":"C19"},null,{"$f":"Parameters!S17","v":"Manufacture of coke and refined petroleum products"},null,null,null,null,null,null,null,null,null,null,null,null,null,null,null,null,null,null,null,null,null,null,null,null,null,null,null,null,null,null,null,null,null,null,null,null,null,null,null,null,null,null,null,null,null,null,null,null,null,null,null,null,null,null,null,null,null,null,null,null,null,null,null,null,null,null,null,null,null,null,null,null,null,null,null,null,null,null,null,null,null,null,null,null,null,null,"C19","RES"]
[null,{"$f":"Parameters!Q18","v":"C20"},null,{"$f":"Parameters!S18","v":"Manufacture of chemicals and chemical products"},null,null,null,null,null,null,null,null,null,null,null,null,null,null,null,null,null,null,null,null,null,null,null,null,null,null,null,null,null,null,null,null,null,null,null,null,null,null,null,null,null,null,null,null,null,null,null,null,null,null,null,null,null,null,null,null,null,null,null,null,null,null,null,null,null,null,null,null,null,null,null,null,null,null,null,null,null,null,null,null,null,null,null,null,null,null,"C20","RES"]
[null,{"$f":"Parameters!Q19","v":"C21"},null,{"$f":"Parameters!S19","v":"Manufacture of basic pharmaceutical products and pharmaceutical preparations"},null,null,null,null,null,null,null,null,null,null,null,null,null,null,null,null,null,null,null,null,null,null,null,null,null,null,null,null,null,null,null,null,null,null,null,null,null,null,null,null,null,null,null,null,null,null,null,null,null,null,null,null,null,null,null,null,null,null,null,null,null,null,null,null,null,null,null,null,null,null,null,null,null,null,null,null,null,null,null,null,null,null,null,null,null,null,"C21","RES"]
[null,{"$f":"Parameters!Q20","v":"C22_C23"},null,{"$f":"Parameters!S20","v":"Manufacture of rubber and plastic products and other non-metallic mineral products"}]
[null,{"$f":"Parameters!Q21","v":"C22"},null,{"$f":"Parameters!S21","v":"Manufacture of rubber and plastic products"},null,null,null,null,null,null,null,null,null,null,null,null,null,null,null,null,null,null,null,null,null,null,null,null,null,null,null,null,null,null,null,null,null,null,null,null,null,null,null,null,null,null,null,null,null,null,null,null,null,null,null,null,null,null,null,null,null,null,null,null,null,null,null,null,null,null,null,null,null,null,null,null,null,null,null,null,null,null,null,null,null,null,null,null,null,null,"C22","RES"]
[null,{"$f":"Parameters!Q22","v":"C23"},null,{"$f":"Parameters!S22","v":"Manufacture of other non-metallic mineral products"},null,null,null,null,null,null,null,null,null,null,null,null,null,null,null,null,null,null,null,null,null,null,null,null,null,null,null,null,null,null,null,null,null,null,null,null,null,null,null,null,null,null,null,null,null,null,null,null,null,null,null,null,null,null,null,null,null,null,null,null,null,null,null,null,null,null,null,null,null,null,null,null,null,null,null,null,null,null,null,null,null,null,null,null,null,null,"C23","RES"]
[null,{"$f":"Parameters!Q23","v":"C24_C25"},null,{"$f":"Parameters!S23","v":"Manufacture of basic metals and fabricated metal products, except machinery and equipment"}]
[null,{"$f":"Parameters!Q24","v":"C24"},null,{"$f":"Parameters!S24","v":"Manufacture of basic metals"},null,null,null,null,null,null,null,null,null,null,null,null,null,null,null,null,null,null,null,null,null,null,null,null,null,null,null,null,null,null,null,null,null,null,null,null,null,null,null,null,null,null,null,null,null,null,null,null,null,null,null,null,null,null,null,null,null,null,null,null,null,null,null,null,null,null,null,null,null,null,null,null,null,null,null,null,null,null,null,null,null,null,null,null,null,null,"C24","RES"]
[null,{"$f":"Parameters!Q25","v":"C25"},null,{"$f":"Parameters!S25","v":"Manufacture of fabricated metal products, except machinery and equipment"},null,null,null,null,null,null,null,null,null,null,null,null,null,null,null,null,null,null,null,null,null,null,null,null,null,null,null,null,null,null,null,null,null,null,null,null,null,null,null,null,null,null,null,null,null,null,null,null,null,null,null,null,null,null,null,null,null,null,null,null,null,null,null,null,null,null,null,null,null,null,null,null,null,null,null,null,null,null,null,null,null,null,null,null,null,null,"C25","RES"]
[null,{"$f":"Parameters!Q26","v":"C26"},null,{"$f":"Parameters!S26","v":"Manufacture of computer, electronic and optical products"},null,null,null,null,null,null,null,null,null,null,null,null,null,null,null,null,null,null,null,null,null,null,null,null,null,null,null,null,null,null,null,null,null,null,null,null,null,null,null,null,null,null,null,null,null,null,null,null,null,null,null,null,null,null,null,null,null,null,null,null,null,null,null,null,null,null,null,null,null,null,null,null,null,null,null,null,null,null,null,null,null,null,null,null,null,null,"C26","RES"]
[null,{"$f":"Parameters!Q27","v":"C27"},null,{"$f":"Parameters!S27","v":"Manufacture of electrical equipment"},null,null,null,null,null,null,null,null,null,null,null,null,null,null,null,null,null,null,null,null,null,null,null,null,null,null,null,null,null,null,null,null,null,null,null,null,null,null,null,null,null,null,null,null,null,null,null,null,null,null,null,null,null,null,null,null,null,null,null,null,null,null,null,null,null,null,null,null,null,null,null,null,null,null,null,null,null,null,null,null,null,null,null,null,null,null,"C27","RES"]
[null,{"$f":"Parameters!Q28","v":"C28"},null,{"$f":"Parameters!S28","v":"Manufacture of machinery and equipment n.e.c."},null,null,null,null,null,null,null,null,null,null,null,null,null,null,null,null,null,null,null,null,null,null,null,null,null,null,null,null,null,null,null,null,null,null,null,null,null,null,null,null,null,null,null,null,null,null,null,null,null,null,null,null,null,null,null,null,null,null,null,null,null,null,null,null,null,null,null,null,null,null,null,null,null,null,null,null,null,null,null,null,null,null,null,null,null,null,"C28","RES"]
[null,{"$f":"Parameters!Q29","v":"C29_C30"},null,{"$f":"Parameters!S29","v":"Manufacture of motor vehicles, trailers, semi-trailers and of other transport equipment"}]
[null,{"$f":"Parameters!Q30","v":"C29"},null,{"$f":"Parameters!S30","v":"Manufacture of motor vehicles, trailers and semi-trailers"},null,null,null,null,null,null,null,null,null,null,null,null,null,null,null,null,null,null,null,null,null,null,null,null,null,null,null,null,null,null,null,null,null,null,null,null,null,null,null,null,null,null,null,null,null,null,null,null,null,null,null,null,null,null,null,null,null,null,null,null,null,null,null,null,null,null,null,null,null,null,null,null,null,null,null,null,null,null,null,null,null,null,null,null,null,null,"C29","RES"]
[null,{"$f":"Parameters!Q31","v":"C30"},null,{"$f":"Parameters!S31","v":"Manufacture of other transport equipment"},null,null,null,null,null,null,null,null,null,null,null,null,null,null,null,null,null,null,null,null,null,null,null,null,null,null,null,null,null,null,null,null,null,null,null,null,null,null,null,null,null,null,null,null,null,null,null,null,null,null,null,null,null,null,null,null,null,null,null,null,null,null,null,null,null,null,null,null,null,null,null,null,null,null,null,null,null,null,null,null,null,null,null,null,null,null,"C30","RES"]
[null,{"$f":"Parameters!Q32","v":"C31-C33"},null,{"$f":"Parameters!S32","v":"Manufacture of furniture; jewellery, musical instruments, toys; repair and installation of machinery and equipment"}]
[null,{"$f":"Parameters!Q33","v":"C31_C32"},null,{"$f":"Parameters!S33","v":"Manufacture of furniture; other manufacturing"},null,null,null,null,null,null,null,null,null,null,null,null,null,null,null,null,null,null,null,null,null,null,null,null,null,null,null,null,null,null,null,null,null,null,null,null,null,null,null,null,null,null,null,null,null,null,null,null,null,null,null,null,null,null,null,null,null,null,null,null,null,null,null,null,null,null,null,null,null,null,null,null,null,null,null,null,null,null,null,null,null,null,null,null,null,null,"C31_32","RES"]
[null,{"$f":"Parameters!Q34","v":"C33"},null,{"$f":"Parameters!S34","v":"Repair and installation of machinery and equipment"},null,null,null,null,null,null,null,null,null,null,null,null,null,null,null,null,null,null,null,null,null,null,null,null,null,null,null,null,null,null,null,null,null,null,null,null,null,null,null,null,null,null,null,null,null,null,null,null,null,null,null,null,null,null,null,null,null,null,null,null,null,null,null,null,null,null,null,null,null,null,null,null,null,null,null,null,null,null,null,null,null,null,null,null,null,null,"C33","RES"]
[null,{"$f":"Parameters!Q35","v":"D"},null,{"$f":"Parameters!S35","v":"Electricity, gas, steam and air conditioning supply"},null,null,null,null,null,null,null,null,null,null,null,null,null,null,null,null,null,null,null,null,null,null,null,null,null,null,null,null,null,null,null,null,null,null,null,null,null,null,null,null,null,null,null,null,null,null,null,null,null,null,null,null,null,null,null,null,null,null,null,null,null,null,null,null,null,null,null,null,null,null,null,null,null,null,null,null,null,null,null,null,null,null,null,null,null,null,"D","RES"]
[null,{"$f":"Parameters!Q36","v":"E"},null,{"$f":"Parameters!S36","v":"Water supply; sewerage, waste management and remediation activities"},null,null,null,null,null,null,null,null,null,null,null,null,null,null,null,null,null,null,null,null,null,null,null,null,null,null,null,null,null,null,null,null,null,null,null,null,null,null,null,null,null,null,null,null,null,null,null,null,null,null,null,null,null,null,null,null,null,null,null,null,null,null,null,null,null,null,null,null,null,null,null,null,null,null,null,null,null,null,null,null,null,null,null,null,null,null,"E","RES"]
[null,{"$f":"Parameters!Q37","v":"E36"},null,{"$f":"Parameters!S37","v":"Water collection, treatment and supply"},null,null,null,null,null,null,null,null,null,null,null,null,null,null,null,null,null,null,null,null,null,null,null,null,null,null,null,null,null,null,null,null,null,null,null,null,null,null,null,null,null,null,null,null,null,null,null,null,null,null,null,null,null,null,null,null,null,null,null,null,null,null,null,null,null,null,null,null,null,null,null,null,null,null,null,null,null,null,null,null,null,null,null,null,null,null,"E36","RES"]
[null,{"$f":"Parameters!Q38","v":"E37-E39"},null,{"$f":"Parameters!S38","v":"Sewerage, waste management, remediation activities"},null,null,null,null,null,null,null,null,null,null,null,null,null,null,null,null,null,null,null,null,null,null,null,null,null,null,null,null,null,null,null,null,null,null,null,null,null,null,null,null,null,null,null,null,null,null,null,null,null,null,null,null,null,null,null,null,null,null,null,null,null,null,null,null,null,null,null,null,null,null,null,null,null,null,null,null,null,null,null,null,null,null,null,null,null,null,"E37T39","RES"]
[null,{"$f":"Parameters!Q39","v":"F"},null,{"$f":"Parameters!S39","v":"Construction"},null,null,null,null,null,null,null,null,null,null,null,null,null,null,null,null,null,null,null,null,null,null,null,null,null,null,null,null,null,null,null,null,null,null,null,null,null,null,null,null,null,null,null,null,null,null,null,null,null,null,null,null,null,null,null,null,null,null,null,null,null,null,null,null,null,null,null,null,null,null,null,null,null,null,null,null,null,null,null,null,null,null,null,null,null,null,"F","RES"]
[null,{"$f":"Parameters!Q40","v":"G"},null,{"$f":"Parameters!S40","v":"Wholesale and retail trade; repair of motor vehicles and motorcycles"},null,null,null,null,null,null,null,null,null,null,null,null,null,null,null,null,null,null,null,null,null,null,null,null,null,null,null,null,null,null,null,null,null,null,null,null,null,null,null,null,null,null,null,null,null,null,null,null,null,null,null,null,null,null,null,null,null,null,null,null,null,null,null,null,null,null,null,null,null,null,null,null,null,null,null,null,null,null,null,null,null,null,null,null,null,null,"G","RES"]
[null,{"$f":"Parameters!Q41","v":"G45"},null,{"$f":"Parameters!S41","v":"Wholesale and retail trade and repair of motor vehicles and motorcycles"},null,null,null,null,null,null,null,null,null,null,null,null,null,null,null,null,null,null,null,null,null,null,null,null,null,null,null,null,null,null,null,null,null,null,null,null,null,null,null,null,null,null,null,null,null,null,null,null,null,null,null,null,null,null,null,null,null,null,null,null,null,null,null,null,null,null,null,null,null,null,null,null,null,null,null,null,null,null,null,null,null,null,null,null,null,null,"G45","RES"]
[null,{"$f":"Parameters!Q42","v":"G46"},null,{"$f":"Parameters!S42","v":"Wholesale trade, except of motor vehicles and motorcycles"},null,null,null,null,null,null,null,null,null,null,null,null,null,null,null,null,null,null,null,null,null,null,null,null,null,null,null,null,null,null,null,null,null,null,null,null,null,null,null,null,null,null,null,null,null,null,null,null,null,null,null,null,null,null,null,null,null,null,null,null,null,null,null,null,null,null,null,null,null,null,null,null,null,null,null,null,null,null,null,null,null,null,null,null,null,null,"G46","RES"]
[null,{"$f":"Parameters!Q43","v":"G47"},null,{"$f":"Parameters!S43","v":"Retail trade, except of motor vehicles and motorcycles"},null,null,null,null,null,null,null,null,null,null,null,null,null,null,null,null,null,null,null,null,null,null,null,null,null,null,null,null,null,null,null,null,null,null,null,null,null,null,null,null,null,null,null,null,null,null,null,null,null,null,null,null,null,null,null,null,null,null,null,null,null,null,null,null,null,null,null,null,null,null,null,null,null,null,null,null,null,null,null,null,null,null,null,null,null,null,"G47","RES"]
[null,{"$f":"Parameters!Q44","v":"H"},null,{"$f":"Parameters!S44","v":"Transportation and storage"},null,null,null,null,null,null,null,null,null,null,null,null,null,null,null,null,null,null,null,null,null,null,null,null,null,null,null,null,null,null,null,null,null,null,null,null,null,null,null,null,null,null,null,null,null,null,null,null,null,null,null,null,null,null,null,null,null,null,null,null,null,null,null,null,null,null,null,null,null,null,null,null,null,null,null,null,null,null,null,null,null,null,null,null,null,null,"H","RES"]
[null,{"$f":"Parameters!Q45","v":"H49"},null,{"$f":"Parameters!S45","v":"Land transport and transport via pipelines"},null,null,null,null,null,null,null,null,null,null,null,null,null,null,null,null,null,null,null,null,null,null,null,null,null,null,null,null,null,null,null,null,null,null,null,null,null,null,null,null,null,null,null,null,null,null,null,null,null,null,null,null,null,null,null,null,null,null,null,null,null,null,null,null,null,null,null,null,null,null,null,null,null,null,null,null,null,null,null,null,null,null,null,null,null,null,"H49","RES"]
[null,{"$f":"Parameters!Q46","v":"H50"},null,{"$f":"Parameters!S46","v":"Water transport"},null,null,null,null,null,null,null,null,null,null,null,null,null,null,null,null,null,null,null,null,null,null,null,null,null,null,null,null,null,null,null,null,null,null,null,null,null,null,null,null,null,null,null,null,null,null,null,null,null,null,null,null,null,null,null,null,null,null,null,null,null,null,null,null,null,null,null,null,null,null,null,null,null,null,null,null,null,null,null,null,null,null,null,null,null,null,"H50","RES"]
[null,{"$f":"Parameters!Q47","v":"H51"},null,{"$f":"Parameters!S47","v":"Air transport"},null,null,null,null,null,null,null,null,null,null,null,null,null,null,null,null,null,null,null,null,null,null,null,null,null,null,null,null,null,null,null,null,null,null,null,null,null,null,null,null,null,null,null,null,null,null,null,null,null,null,null,null,null,null,null,null,null,null,null,null,null,null,null,null,null,null,null,null,null,null,null,null,null,null,null,null,null,null,null,null,null,null,null,null,null,null,"H51","RES"]
[null,{"$f":"Parameters!Q48","v":"H52"},null,{"$f":"Parameters!S48","v":"Warehousing and support activities for transportation"},null,null,null,null,null,null,null,null,null,null,null,null,null,null,null,null,null,null,null,null,null,null,null,null,null,null,null,null,null,null,null,null,null,null,null,null,null,null,null,null,null,null,null,null,null,null,null,null,null,null,null,null,null,null,null,null,null,null,null,null,null,null,null,null,null,null,null,null,null,null,null,null,null,null,null,null,null,null,null,null,null,null,null,null,null,null,"H52","RES"]
[null,{"$f":"Parameters!Q49","v":"H53"},null,{"$f":"Parameters!S49","v":"Postal and courier activities"},null,null,null,null,null,null,null,null,null,null,null,null,null,null,null,null,null,null,null,null,null,null,null,null,null,null,null,null,null,null,null,null,null,null,null,null,null,null,null,null,null,null,null,null,null,null,null,null,null,null,null,null,null,null,null,null,null,null,null,null,null,null,null,null,null,null,null,null,null,null,null,null,null,null,null,null,null,null,null,null,null,null,null,null,null,null,"H53","RES"]
[null,{"$f":"Parameters!Q50","v":"I"},null,{"$f":"Parameters!S50","v":"Accommodation and food service activities"},null,null,null,null,null,null,null,null,null,null,null,null,null,null,null,null,null,null,null,null,null,null,null,null,null,null,null,null,null,null,null,null,null,null,null,null,null,null,null,null,null,null,null,null,null,null,null,null,null,null,null,null,null,null,null,null,null,null,null,null,null,null,null,null,null,null,null,null,null,null,null,null,null,null,null,null,null,null,null,null,null,null,null,null,null,null,"I","RES"]
[null,{"$f":"Parameters!Q51","v":"J"},null,{"$f":"Parameters!S51","v":"Information and communication"},null,null,null,null,null,null,null,null,null,null,null,null,null,null,null,null,null,null,null,null,null,null,null,null,null,null,null,null,null,null,null,null,null,null,null,null,null,null,null,null,null,null,null,null,null,null,null,null,null,null,null,null,null,null,null,null,null,null,null,null,null,null,null,null,null,null,null,null,null,null,null,null,null,null,null,null,null,null,null,null,null,null,null,null,null,null,"J","RES"]
[null,{"$f":"Parameters!Q52","v":"J58-J60"},null,{"$f":"Parameters!S52","v":"Publishing, motion picture, video, television programme production; sound recording, programming and broadcasting activities"}]
[null,{"$f":"Parameters!Q53","v":"J58"},null,{"$f":"Parameters!S53","v":"Publishing activities"},null,null,null,null,null,null,null,null,null,null,null,null,null,null,null,null,null,null,null,null,null,null,null,null,null,null,null,null,null,null,null,null,null,null,null,null,null,null,null,null,null,null,null,null,null,null,null,null,null,null,null,null,null,null,null,null,null,null,null,null,null,null,null,null,null,null,null,null,null,null,null,null,null,null,null,null,null,null,null,null,null,null,null,null,null,null,"J58","RES"]
[null,{"$f":"Parameters!Q54","v":"J59_J60"},null,{"$f":"Parameters!S54","v":"Motion picture, video, television programme production; programming and broadcasting activities"},null,null,null,null,null,null,null,null,null,null,null,null,null,null,null,null,null,null,null,null,null,null,null,null,null,null,null,null,null,null,null,null,null,null,null,null,null,null,null,null,null,null,null,null,null,null,null,null,null,null,null,null,null,null,null,null,null,null,null,null,null,null,null,null,null,null,null,null,null,null,null,null,null,null,null,null,null,null,null,null,null,null,null,null,null,null,"J59_60","RES"]
[null,{"$f":"Parameters!Q55","v":"J61"},null,{"$f":"Parameters!S55","v":"Telecommunications"},null,null,null,null,null,null,null,null,null,null,null,null,null,null,null,null,null,null,null,null,null,null,null,null,null,null,null,null,null,null,null,null,null,null,null,null,null,null,null,null,null,null,null,null,null,null,null,null,null,null,null,null,null,null,null,null,null,null,null,null,null,null,null,null,null,null,null,null,null,null,null,null,null,null,null,null,null,null,null,null,null,null,null,null,null,null,"J61","RES"]
[null,{"$f":"Parameters!Q56","v":"J62_J63"},null,{"$f":"Parameters!S56","v":"Computer programming, consultancy, and information service activities"},null,null,null,null,null,null,null,null,null,null,null,null,null,null,null,null,null,null,null,null,null,null,null,null,null,null,null,null,null,null,null,null,null,null,null,null,null,null,null,null,null,null,null,null,null,null,null,null,null,null,null,null,null,null,null,null,null,null,null,null,null,null,null,null,null,null,null,null,null,null,null,null,null,null,null,null,null,null,null,null,null,null,null,null,null,null,"J62_63","RES"]
[null,{"$f":"Parameters!Q57","v":"K"},null,{"$f":"Parameters!S57","v":"Financial and insurance activities"},null,null,null,null,null,null,null,null,null,null,null,null,null,null,null,null,null,null,null,null,null,null,null,null,null,null,null,null,null,null,null,null,null,null,null,null,null,null,null,null,null,null,null,null,null,null,null,null,null,null,null,null,null,null,null,null,null,null,null,null,null,null,null,null,null,null,null,null,null,null,null,null,null,null,null,null,null,null,null,null,null,null,null,null,null,null,"K","RES"]
[null,{"$f":"Parameters!Q58","v":"K64"},null,{"$f":"Parameters!S58","v":"Financial service activities, except insurance and pension funding"},null,null,null,null,null,null,null,null,null,null,null,null,null,null,null,null,null,null,null,null,null,null,null,null,null,null,null,null,null,null,null,null,null,null,null,null,null,null,null,null,null,null,null,null,null,null,null,null,null,null,null,null,null,null,null,null,null,null,null,null,null,null,null,null,null,null,null,null,null,null,null,null,null,null,null,null,null,null,null,null,null,null,null,null,null,null,"K64","RES"]
[null,{"$f":"Parameters!Q59","v":"K65"},null,{"$f":"Parameters!S59","v":"Insurance, reinsurance and pension funding, except compulsory social security"},null,null,null,null,null,null,null,null,null,null,null,null,null,null,null,null,null,null,null,null,null,null,null,null,null,null,null,null,null,null,null,null,null,null,null,null,null,null,null,null,null,null,null,null,null,null,null,null,null,null,null,null,null,null,null,null,null,null,null,null,null,null,null,null,null,null,null,null,null,null,null,null,null,null,null,null,null,null,null,null,null,null,null,null,null,null,"K65","RES"]
[null,{"$f":"Parameters!Q60","v":"K66"},null,{"$f":"Parameters!S60","v":"Activities auxiliary to financial services and insurance activities"},null,null,null,null,null,null,null,null,null,null,null,null,null,null,null,null,null,null,null,null,null,null,null,null,null,null,null,null,null,null,null,null,null,null,null,null,null,null,null,null,null,null,null,null,null,null,null,null,null,null,null,null,null,null,null,null,null,null,null,null,null,null,null,null,null,null,null,null,null,null,null,null,null,null,null,null,null,null,null,null,null,null,null,null,null,null,"K66","RES"]
[null,{"$f":"Parameters!Q61","v":"L"},null,{"$f":"Parameters!S61","v":"Real estate activities"},null,null,null,null,null,null,null,null,null,null,null,null,null,null,null,null,null,null,null,null,null,null,null,null,null,null,null,null,null,null,null,null,null,null,null,null,null,null,null,null,null,null,null,null,null,null,null,null,null,null,null,null,null,null,null,null,null,null,null,null,null,null,null,null,null,null,null,null,null,null,null,null,null,null,null,null,null,null,null,null,null,null,null,null,null,null,"L","RES"]
[null,{"$f":"Parameters!Q62","v":"L68A"},null,{"$f":"Parameters!S62","v":"Imputed rents of owner-occupied dwellings"},null,null,null,null,null,null,null,null,null,null,null,null,null,null,null,null,null,null,null,null,null,null,null,null,null,null,null,null,null,null,null,null,null,null,null,null,null,null,null,null,null,null,null,null,null,null,null,null,null,null,null,null,null,null,null,null,null,null,null,null,null,null,null,null,null,null,null,null,null,null,null,null,null,null,null,null,null,null,null,null,null,null,null,null,null,null,"L68A","RES"]
[null,{"$f":"Parameters!Q63","v":"M"},null,{"$f":"Parameters!S63","v":"Professional, scientific and technical activities"},null,null,null,null,null,null,null,null,null,null,null,null,null,null,null,null,null,null,null,null,null,null,null,null,null,null,null,null,null,null,null,null,null,null,null,null,null,null,null,null,null,null,null,null,null,null,null,null,null,null,null,null,null,null,null,null,null,null,null,null,null,null,null,null,null,null,null,null,null,null,null,null,null,null,null,null,null,null,null,null,null,null,null,null,null,null,"M","RES"]
[null,{"$f":"Parameters!Q64","v":"M69-M71"},null,{"$f":"Parameters!S64","v":"Legal and accounting activities; activities of head offices; management consultancy activities; architectural and engineering activities; technical testing and analysis"}]
[null,{"$f":"Parameters!Q65","v":"M69_M70"},null,{"$f":"Parameters!S65","v":"Legal and accounting activities; activities of head offices; management consultancy activities"},null,null,null,null,null,null,null,null,null,null,null,null,null,null,null,null,null,null,null,null,null,null,null,null,null,null,null,null,null,null,null,null,null,null,null,null,null,null,null,null,null,null,null,null,null,null,null,null,null,null,null,null,null,null,null,null,null,null,null,null,null,null,null,null,null,null,null,null,null,null,null,null,null,null,null,null,null,null,null,null,null,null,null,null,null,null,"M69_70","RES"]
[null,{"$f":"Parameters!Q66","v":"M71"},null,{"$f":"Parameters!S66","v":"Architectural and engineering activities; technical testing and analysis"},null,null,null,null,null,null,null,null,null,null,null,null,null,null,null,null,null,null,null,null,null,null,null,null,null,null,null,null,null,null,null,null,null,null,null,null,null,null,null,null,null,null,null,null,null,null,null,null,null,null,null,null,null,null,null,null,null,null,null,null,null,null,null,null,null,null,null,null,null,null,null,null,null,null,null,null,null,null,null,null,null,null,null,null,null,null,"M71","RES"]
[null,{"$f":"Parameters!Q67","v":"M72"},null,{"$f":"Parameters!S67","v":"Scientific research and development"},null,null,null,null,null,null,null,null,null,null,null,null,null,null,null,null,null,null,null,null,null,null,null,null,null,null,null,null,null,null,null,null,null,null,null,null,null,null,null,null,null,null,null,null,null,null,null,null,null,null,null,null,null,null,null,null,null,null,null,null,null,null,null,null,null,null,null,null,null,null,null,null,null,null,null,null,null,null,null,null,null,null,null,null,null,null,"M72","RES"]
[null,{"$f":"Parameters!Q68","v":"M73-M75"},null,{"$f":"Parameters!S68","v":"Advertising and market research; other professional, scientific and technical activities; veterinary activities"}]
[null,{"$f":"Parameters!Q69","v":"M73"},null,{"$f":"Parameters!S69","v":"Advertising and market research"},null,null,null,null,null,null,null,null,null,null,null,null,null,null,null,null,null,null,null,null,null,null,null,null,null,null,null,null,null,null,null,null,null,null,null,null,null,null,null,null,null,null,null,null,null,null,null,null,null,null,null,null,null,null,null,null,null,null,null,null,null,null,null,null,null,null,null,null,null,null,null,null,null,null,null,null,null,null,null,null,null,null,null,null,null,null,"M73","RES"]
[null,{"$f":"Parameters!Q70","v":"M74_M75"},null,{"$f":"Parameters!S70","v":"Other professional, scientific and technical activities; veterinary activities"},null,null,null,null,null,null,null,null,null,null,null,null,null,null,null,null,null,null,null,null,null,null,null,null,null,null,null,null,null,null,null,null,null,null,null,null,null,null,null,null,null,null,null,null,null,null,null,null,null,null,null,null,null,null,null,null,null,null,null,null,null,null,null,null,null,null,null,null,null,null,null,null,null,null,null,null,null,null,null,null,null,null,null,null,null,null,"M74_75","RES"]
[null,{"$f":"Parameters!Q71","v":"N"},null,{"$f":"Parameters!S71","v":"Administrative and support service activities"},null,null,null,null,null,null,null,null,null,null,null,null,null,null,null,null,null,null,null,null,null,null,null,null,null,null,null,null,null,null,null,null,null,null,null,null,null,null,null,null,null,null,null,null,null,null,null,null,null,null,null,null,null,null,null,null,null,null,null,null,null,null,null,null,null,null,null,null,null,null,null,null,null,null,null,null,null,null,null,null,null,null,null,null,null,null,"N","RES"]
[null,{"$f":"Parameters!Q72","v":"N77"},null,{"$f":"Parameters!S72","v":"Rental and leasing activities"},null,null,null,null,null,null,null,null,null,null,null,null,null,null,null,null,null,null,null,null,null,null,null,null,null,null,null,null,null,null,null,null,null,null,null,null,null,null,null,null,null,null,null,null,null,null,null,null,null,null,null,null,null,null,null,null,null,null,null,null,null,null,null,null,null,null,null,null,null,null,null,null,null,null,null,null,null,null,null,null,null,null,null,null,null,null,"N77","RES"]
[null,{"$f":"Parameters!Q73","v":"N78"},null,{"$f":"Parameters!S73","v":"Employment activities"},null,null,null,null,null,null,null,null,null,null,null,null,null,null,null,null,null,null,null,null,null,null,null,null,null,null,null,null,null,null,null,null,null,null,null,null,null,null,null,null,null,null,null,null,null,null,null,null,null,null,null,null,null,null,null,null,null,null,null,null,null,null,null,null,null,null,null,null,null,null,null,null,null,null,null,null,null,null,null,null,null,null,null,null,null,null,"N78","RES"]
[null,{"$f":"Parameters!Q74","v":"N79"},null,{"$f":"Parameters!S74","v":"Travel agency, tour operator reservation service and related activities"},null,null,null,null,null,null,null,null,null,null,null,null,null,null,null,null,null,null,null,null,null,null,null,null,null,null,null,null,null,null,null,null,null,null,null,null,null,null,null,null,null,null,null,null,null,null,null,null,null,null,null,null,null,null,null,null,null,null,null,null,null,null,null,null,null,null,null,null,null,null,null,null,null,null,null,null,null,null,null,null,null,null,null,null,null,null,"N79","RES"]
[null,{"$f":"Parameters!Q75","v":"N80-N82"},null,{"$f":"Parameters!S75","v":"Security and investigation, service and landscape, office administrative and support activities"},null,null,null,null,null,null,null,null,null,null,null,null,null,null,null,null,null,null,null,null,null,null,null,null,null,null,null,null,null,null,null,null,null,null,null,null,null,null,null,null,null,null,null,null,null,null,null,null,null,null,null,null,null,null,null,null,null,null,null,null,null,null,null,null,null,null,null,null,null,null,null,null,null,null,null,null,null,null,null,null,null,null,null,null,null,null,"N80T82","RES"]
[null,{"$f":"Parameters!Q76","v":"O"},null,{"$f":"Parameters!S76","v":"Public administration and defence; compulsory social security"},null,null,null,null,null,null,null,null,null,null,null,null,null,null,null,null,null,null,null,null,null,null,null,null,null,null,null,null,null,null,null,null,null,null,null,null,null,null,null,null,null,null,null,null,null,null,null,null,null,null,null,null,null,null,null,null,null,null,null,null,null,null,null,null,null,null,null,null,null,null,null,null,null,null,null,null,null,null,null,null,null,null,null,null,null,null,"O","RES"]
[null,{"$f":"Parameters!Q77","v":"P"},null,{"$f":"Parameters!S77","v":"Education"},null,null,null,null,null,null,null,null,null,null,null,null,null,null,null,null,null,null,null,null,null,null,null,null,null,null,null,null,null,null,null,null,null,null,null,null,null,null,null,null,null,null,null,null,null,null,null,null,null,null,null,null,null,null,null,null,null,null,null,null,null,null,null,null,null,null,null,null,null,null,null,null,null,null,null,null,null,null,null,null,null,null,null,null,null,null,"P","RES"]
[null,{"$f":"Parameters!Q78","v":"Q"},null,{"$f":"Parameters!S78","v":"Human health and social work activities"},null,null,null,null,null,null,null,null,null,null,null,null,null,null,null,null,null,null,null,null,null,null,null,null,null,null,null,null,null,null,null,null,null,null,null,null,null,null,null,null,null,null,null,null,null,null,null,null,null,null,null,null,null,null,null,null,null,null,null,null,null,null,null,null,null,null,null,null,null,null,null,null,null,null,null,null,null,null,null,null,null,null,null,null,null,null,"Q","RES"]
[null,{"$f":"Parameters!Q79","v":"Q86"},null,{"$f":"Parameters!S79","v":"Human health activities"},null,null,null,null,null,null,null,null,null,null,null,null,null,null,null,null,null,null,null,null,null,null,null,null,null,null,null,null,null,null,null,null,null,null,null,null,null,null,null,null,null,null,null,null,null,null,null,null,null,null,null,null,null,null,null,null,null,null,null,null,null,null,null,null,null,null,null,null,null,null,null,null,null,null,null,null,null,null,null,null,null,null,null,null,null,null,"Q86","RES"]
[null,{"$f":"Parameters!Q80","v":"Q87_Q88"},null,{"$f":"Parameters!S80","v":"Residential care activities and social work activities without accommodation"},null,null,null,null,null,null,null,null,null,null,null,null,null,null,null,null,null,null,null,null,null,null,null,null,null,null,null,null,null,null,null,null,null,null,null,null,null,null,null,null,null,null,null,null,null,null,null,null,null,null,null,null,null,null,null,null,null,null,null,null,null,null,null,null,null,null,null,null,null,null,null,null,null,null,null,null,null,null,null,null,null,null,null,null,null,null,"Q87_88","RES"]
[null,{"$f":"Parameters!Q81","v":"R"},null,{"$f":"Parameters!S81","v":"Arts, entertainment and recreation"},null,null,null,null,null,null,null,null,null,null,null,null,null,null,null,null,null,null,null,null,null,null,null,null,null,null,null,null,null,null,null,null,null,null,null,null,null,null,null,null,null,null,null,null,null,null,null,null,null,null,null,null,null,null,null,null,null,null,null,null,null,null,null,null,null,null,null,null,null,null,null,null,null,null,null,null,null,null,null,null,null,null,null,null,null,null,"R","RES"]
[null,{"$f":"Parameters!Q82","v":"R90-R92"},null,{"$f":"Parameters!S82","v":"Creative, arts and entertainment activities; libraries, archives, museums and other cultural activities; gambling and betting activities"},null,null,null,null,null,null,null,null,null,null,null,null,null,null,null,null,null,null,null,null,null,null,null,null,null,null,null,null,null,null,null,null,null,null,null,null,null,null,null,null,null,null,null,null,null,null,null,null,null,null,null,null,null,null,null,null,null,null,null,null,null,null,null,null,null,null,null,null,null,null,null,null,null,null,null,null,null,null,null,null,null,null,null,null,null,null,"R90T92","RES"]
[null,{"$f":"Parameters!Q83","v":"R93"},null,{"$f":"Parameters!S83","v":"Sports activities and amusement and recreation activities"},null,null,null,null,null,null,null,null,null,null,null,null,null,null,null,null,null,null,null,null,null,null,null,null,null,null,null,null,null,null,null,null,null,null,null,null,null,null,null,null,null,null,null,null,null,null,null,null,null,null,null,null,null,null,null,null,null,null,null,null,null,null,null,null,null,null,null,null,null,null,null,null,null,null,null,null,null,null,null,null,null,null,null,null,null,null,"R93","RES"]
[null,{"$f":"Parameters!Q84","v":"S"},null,{"$f":"Parameters!S84","v":"Other service activities"},null,null,null,null,null,null,null,null,null,null,null,null,null,null,null,null,null,null,null,null,null,null,null,null,null,null,null,null,null,null,null,null,null,null,null,null,null,null,null,null,null,null,null,null,null,null,null,null,null,null,null,null,null,null,null,null,null,null,null,null,null,null,null,null,null,null,null,null,null,null,null,null,null,null,null,null,null,null,null,null,null,null,null,null,null,null,"S","RES"]
[null,{"$f":"Parameters!Q85","v":"S94"},null,{"$f":"Parameters!S85","v":"Activities of membership organisations"},null,null,null,null,null,null,null,null,null,null,null,null,null,null,null,null,null,null,null,null,null,null,null,null,null,null,null,null,null,null,null,null,null,null,null,null,null,null,null,null,null,null,null,null,null,null,null,null,null,null,null,null,null,null,null,null,null,null,null,null,null,null,null,null,null,null,null,null,null,null,null,null,null,null,null,null,null,null,null,null,null,null,null,null,null,null,"S94","RES"]
[null,{"$f":"Parameters!Q86","v":"S95"},null,{"$f":"Parameters!S86","v":"Repair of computers and personal and household goods"},null,null,null,null,null,null,null,null,null,null,null,null,null,null,null,null,null,null,null,null,null,null,null,null,null,null,null,null,null,null,null,null,null,null,null,null,null,null,null,null,null,null,null,null,null,null,null,null,null,null,null,null,null,null,null,null,null,null,null,null,null,null,null,null,null,null,null,null,null,null,null,null,null,null,null,null,null,null,null,null,null,null,null,null,null,null,"S95","RES"]
[null,{"$f":"Parameters!Q87","v":"S96"},null,{"$f":"Parameters!S87","v":"Other personal service activities"},null,null,null,null,null,null,null,null,null,null,null,null,null,null,null,null,null,null,null,null,null,null,null,null,null,null,null,null,null,null,null,null,null,null,null,null,null,null,null,null,null,null,null,null,null,null,null,null,null,null,null,null,null,null,null,null,null,null,null,null,null,null,null,null,null,null,null,null,null,null,null,null,null,null,null,null,null,null,null,null,null,null,null,null,null,null,"S96","RES"]
[null,{"$f":"Parameters!Q88","v":"T"},null,{"$f":"Parameters!S88","v":"Activities of households as employers; undifferentiated goods- and services-producing activities of households for own use"},null,null,null,null,null,null,null,null,null,null,null,null,null,null,null,null,null,null,null,null,null,null,null,null,null,null,null,null,null,null,null,null,null,null,null,null,null,null,null,null,null,null,null,null,null,null,null,null,null,null,null,null,null,null,null,null,null,null,null,null,null,null,null,null,null,null,null,null,null,null,null,null,null,null,null,null,null,null,null,null,null,null,null,null,null,null,"T","RES"]
[null,{"$f":"Parameters!Q89","v":"U"},null,{"$f":"Parameters!S89","v":"Activities of extraterritorial organisations and bodies"},null,null,null,null,null,null,null,null,null,null,null,null,null,null,null,null,null,null,null,null,null,null,null,null,null,null,null,null,null,null,null,null,null,null,null,null,null,null,null,null,null,null,null,null,null,null,null,null,null,null,null,null,null,null,null,null,null,null,null,null,null,null,null,null,null,null,null,null,null,null,null,null,null,null,null,null,null,null,null,null,null,null,null,null,null,null,"U","RES"]
[null,"   Household air emissions\n                                          Households, totals",null,null,null,null,null,null,null,null,null,null,null,null,null,null,null,null,null,null,null,null,null,null,null,null,null,null,null,null,null,null,null,null,null,null,null,null,null,null,null,null,null,null,null,null,null,null,null,null,null,null,null,null,null,null,null,null,null,null,null,null,null,null,null,null,null,null,null,null,null,null,null,null,null,null,null,null,null,null,null,null,null,null,null,null,null,null,null,null,"HH","RES"]
[null,null,null,"- Transport",null,null,null,null,null,null,null,null,null,null,null,null,null,null,null,null,null,null,null,null,null,null,null,null,null,null,null,null,null,null,null,null,null,null,null,null,null,null,null,null,null,null,null,null,null,null,null,null,null,null,null,null,null,null,null,null,null,null,null,null,null,null,null,null,null,null,null,null,null,null,null,null,null,null,null,null,null,null,null,null,null,null,null,null,null,null,"HH_TR","RES"]
[null,null,null,"- Heating/cooling",null,null,null,null,null,null,null,null,null,null,null,null,null,null,null,null,null,null,null,null,null,null,null,null,null,null,null,null,null,null,null,null,null,null,null,null,null,null,null,null,null,null,null,null,null,null,null,null,null,null,null,null,null,null,null,null,null,null,null,null,null,null,null,null,null,null,null,null,null,null,null,null,null,null,null,null,null,null,null,null,null,null,null,null,null,null,"HH_HEAT","RES"]
[null,null,null,"- Other",null,null,null,null,null,null,null,null,null,null,null,null,null,null,null,null,null,null,null,null,null,null,null,null,null,null,null,null,null,null,null,null,null,null,null,null,null,null,null,null,null,null,null,null,null,null,null,null,null,null,null,null,null,null,null,null,null,null,null,null,null,null,null,null,null,null,null,null,null,null,null,null,null,null,null,null,null,null,null,null,null,null,null,null,null,null,"HH_OTH","RES"]
[null,"   Bridging items\n\n1                              Total Air emissions accounts (industry (row 5) + households (row 91))",null,null,null,null,null,null,null,null,null,null,null,null,null,null,null,null,null,null,null,null,null,null,null,null,null,null,null,null,null,null,null,null,null,null,null,null,null,null,null,null,null,null,null,null,null,null,null,null,null,null,null,null,null,null,null,null,null,null,null,null,null,null,null,null,null,null,null,null,null,null,null,null,null,null,null,null,null,null,null,null,null,null,null,null,null,null,null,null,"ATU_HH","RES"]
[null,2,null,"less National residents abroad",null,null,null,null,null,null,null,null,null,null,null,null,null,null,null,null,null,null,null,null,null,null,null,null,null,null,null,null,null,null,null,null,null,null,null,null,null,null,null,null,null,null,null,null,null,null,null,null,null,null,null,null,null,null,null,null,null,null,null,null,null,null,null,null,null,null,null,null,null,null,null,null,null,null,null,null,null,null,null,null,null,null,null,null,null,null,"ATU_HH","RES_ABR"]
[null,2.1,null,"-  National fishing vessels operating abroad",null,null,null,null,null,null,null,null,null,null,null,null,null,null,null,null,null,null,null,null,null,null,null,null,null,null,null,null,null,null,null,null,null,null,null,null,null,null,null,null,null,null,null,null,null,null,null,null,null,null,null,null,null,null,null,null,null,null,null,null,null,null,null,null,null,null,null,null,null,null,null,null,null,null,null,null,null,null,null,null,null,null,null,null,null,null,"ATU_HH","RES_ABR_FWTR"]
[null,2.2000000000000002,null,"-  Land transport",null,null,null,null,null,null,null,null,null,null,null,null,null,null,null,null,null,null,null,null,null,null,null,null,null,null,null,null,null,null,null,null,null,null,null,null,null,null,null,null,null,null,null,null,null,null,null,null,null,null,null,null,null,null,null,null,null,null,null,null,null,null,null,null,null,null,null,null,null,null,null,null,null,null,null,null,null,null,null,null,null,null,null,null,null,null,"ATU_HH","RES_ABR_LTR"]
[null,2.2999999999999998,null,"-  Water transport",null,null,null,null,null,null,null,null,null,null,null,null,null,null,null,null,null,null,null,null,null,null,null,null,null,null,null,null,null,null,null,null,null,null,null,null,null,null,null,null,null,null,null,null,null,null,null,null,null,null,null,null,null,null,null,null,null,null,null,null,null,null,null,null,null,null,null,null,null,null,null,null,null,null,null,null,null,null,null,null,null,null,null,null,null,null,"ATU_HH","RES_ABR_WTR"]
[null,2.4,null,"-  Air transport",null,null,null,null,null,null,null,null,null,null,null,null,null,null,null,null,null,null,null,null,null,null,null,null,null,null,null,null,null,null,null,null,null,null,null,null,null,null,null,null,null,null,null,null,null,null,null,null,null,null,null,null,null,null,null,null,null,null,null,null,null,null,null,null,null,null,null,null,null,null,null,null,null,null,null,null,null,null,null,null,null,null,null,null,null,null,"ATU_HH","RES_ABR_ATR"]
[null,3,null,"plus Non-residents on the territory",null,null,null,null,null,null,null,null,null,null,null,null,null,null,null,null,null,null,null,null,null,null,null,null,null,null,null,null,null,null,null,null,null,null,null,null,null,null,null,null,null,null,null,null,null,null,null,null,null,null,null,null,null,null,null,null,null,null,null,null,null,null,null,null,null,null,null,null,null,null,null,null,null,null,null,null,null,null,null,null,null,null,null,null,null,null,"ATU_HH","TER_NRES"]
[null,3.1,null,"+  Land transport",null,null,null,null,null,null,null,null,null,null,null,null,null,null,null,null,null,null,null,null,null,null,null,null,null,null,null,null,null,null,null,null,null,null,null,null,null,null,null,null,null,null,null,null,null,null,null,null,null,null,null,null,null,null,null,null,null,null,null,null,null,null,null,null,null,null,null,null,null,null,null,null,null,null,null,null,null,null,null,null,null,null,null,null,null,null,"ATU_HH","TER_NRES_LTR"]
[null,3.2,null,"+ Water transport",null,null,null,null,null,null,null,null,null,null,null,null,null,null,null,null,null,null,null,null,null,null,null,null,null,null,null,null,null,null,null,null,null,null,null,null,null,null,null,null,null,null,null,null,null,null,null,null,null,null,null,null,null,null,null,null,null,null,null,null,null,null,null,null,null,null,null,null,null,null,null,null,null,null,null,null,null,null,null,null,null,null,null,null,null,null,"ATU_HH","TER_NRES_WTR"]
[null,3.3,null,"+  Air transport",null,null,null,null,null,null,null,null,null,null,null,null,null,null,null,null,null,null,null,null,null,null,null,null,null,null,null,null,null,null,null,null,null,null,null,null,null,null,null,null,null,null,null,null,null,null,null,null,null,null,null,null,null,null,null,null,null,null,null,null,null,null,null,null,null,null,null,null,null,null,null,null,null,null,null,null,null,null,null,null,null,null,null,null,null,null,"ATU_HH","TER_NRES_ATR"]
[null,4,null,"Other adjustments and statistical discrepancy",null,null,null,null,null,null,null,null,null,null,null,null,null,null,null,null,null,null,null,null,null,null,null,null,null,null,null,null,null,null,null,null,null,null,null,null,null,null,null,null,null,null,null,null,null,null,null,null,null,null,null,null,null,null,null,null,null,null,null,null,null,null,null,null,null,null,null,null,null,null,null,null,null,null,null,null,null,null,null,null,null,null,null,null,null,null,"ATU_HH","ADJ_SD"]
[null,5,null,"Road transport emissions (NFR 1.A.3.b) as reported to CLRTAP (Annex 1)",null,null,null,null,null,null,null,null,null,null,null,null,null,null,null,null,null,null,null,null,null,null,null,null,null,null,null,null,null,null,null,null,null,null,null,null,null,null,null,null,null,null,null,null,null,null,null,null,null,null,null,null,null,null,null,null,null,null,null,null,null,null,null,null,null,null,null,null,null,null,null,null,null,null,null,null,null,null,null,null,null,null,null,null,null,null,"ATU_HH","TER"]
[null,null,null,"Year of submission to CLRTAP"]
[]
[null,"Explanatory notes for bridging items:"]
[null,1,"Total Air emissions accounts (industry (row 5) + households (row 91)) - residence principle"]
[]
[null,2.1,"Fishing vessels operated by resident units bunkering outside of the reporting country"]
[null,2.2000000000000002,"Land transport (incl. rail) by resident units fuelling outside of the reporting country"]
[null,2.2999999999999998,"Any navigation by resident units bunkering at ports outside of the reporting country and international navigation by resident units bunkering at ports of the reporting country"]
[null,2.4,"Any aviation by resident units bunkering at airports outside of the reporting country and any cruise aviation by resident units bunkering at airports of the reporting country"]
[]
[null,3.1,"Land transport (incl. rail) by non-resident units fuelling on the territory of the reporting country"]
[null,3.2,"National and international inland waterways navigation by non-residents bunkering at ports of the reporting country"]
[null,3.3,"LTO (landing and take off) aviation by non-residents bunkering at  airports of the reporting country"]
[]
[null,5,"National totals in CLRTAP inventories include all LTO aviation departing from domestic airports - territory principle"]
[null,null,"National totals in CLRTAP inventories include all national and international inland waterways navigation for which the fuel is bunkered in ports of the reporting country - territory principle"]

{"sheet":"SOx","index":21,"n_rows":122,"n_cols":98,"rows_kept":122,"cut":false,"hidden":false,"merged":[[0,96,2,96],[0,97,2,97],[0,90,2,90],[0,91,2,91],[0,92,2,92],[0,93,2,93],[0,94,2,94],[0,95,2,95],[103,3,103,4],[80,3,80,4],[81,3,81,4],[82,3,82,4],[83,3,83,4],[84,3,84,4],[73,3,73,4],[74,3,74,4],[75,3,75,4],[76,3,76,4],[77,3,77,4],[78,3,78,4],[67,3,67,4],[68,3,68,4],[69,3,69,4],[70,3,70,4],[104,3,104,4],[105,3,105,4],[106,3,106,4],[0,87,2,87],[0,89,2,89],[97,3,97,4],[98,3,98,4],[99,3,99,4],[100,3,100,4],[101,3,101,4],[102,3,102,4],[91,3,91,4],[92,3,92,4],[93,3,93,4],[94,1,94,4],[95,3,95,4],[96,3,96,4],[85,3,85,4],[86,3,86,4],[87,3,87,4],[88,3,88,4],[89,3,89,4],[90,1,90,4],[79,3,79,4],[71,3,71,4],[72,3,72,4],[61,3,61,4],[62,3,62,4],[63,3,63,4],[64,3,64,4],[65,3,65,4],[66,3,66,4],[55,3,55,4],[56,3,56,4],[57,3,57,4],[58,3,58,4],[59,3,59,4],[60,3,60,4],[49,3,49,4],[50,3,50,4],[51,3,51,4],[52,3,52,4],[53,3,53,4],[54,3,54,4],[43,3,43,4],[44,3,44,4],[45,3,45,4],[46,3,46,4],[47,3,47,4],[48,3,48,4],[37,3,37,4],[38,3,38,4],[39,3,39,4],[40,3,40,4],[41,3,41,4],[42,3,42,4],[31,3,31,4],[32,3,32,4],[33,3,33,4],[34,3,34,4],[35,3,35,4],[36,3,36,4],[25,3,25,4],[26,3,26,4],[27,3,27,4],[28,3,28,4],[29,3,29,4],[30,3,30,4],[19,3,19,4],[20,3,20,4],[21,3,21,4],[22,3,22,4],[23,3,23,4],[24,3,24,4],[0,5,2,6],[0,7,2,8],[0,9,2,10],[13,3,13,4],[14,3,14,4],[15,3,15,4],[16,3,16,4],[17,3,17,4],[18,3,18,4],[7,3,7,4],[8,3,8,4],[9,3,9,4],[10,3,10,4],[11,3,11,4],[12,3,12,4],[0,88,2,88],[0,11,2,12],[0,13,2,14],[2,47,2,48],[3,1,3,4],[4,1,4,2],[4,3,4,4],[5,3,5,4],[6,3,6,4],[0,27,2,28],[0,29,2,30],[0,31,2,32],[0,33,2,34],[0,35,2,36],[1,1,1,2],[2,1,2,2],[2,3,2,4],[0,15,2,16],[0,17,2,18],[0,19,2,20],[0,21,2,22],[0,23,2,24],[0,25,2,26],[0,1,0,2]]}
["DATAENTRY","Country:",null,{"$f":"intro!F7","v":""},null,null,null,null,null,null,null,null,null,null,null,null,null,null,null,null,null,null,null,null,null,null,null,null,null,null,null,null,null,null,null,null,null,null,null,null,null,null,null,null,null,null,null,null,null,null,null,null,null,null,null,null,null,null,null,null,null,null,null,null,null,null,null,null,null,null,null,null,null,null,null,null,null,null,null,null,null,null,null,null,null,null,null,"DEMAND_PROD","ACCOUNTING_ENTRY","COUNTERPART_AREA","INTERACTORS","BRIDGE_ITEM","AIRPOL","STO","UNIT_MEASURE","UNIT_MULT","PRODUCT","SECTOR"]
[null,"Air Pollutant",null,"SOX","Sulphur oxides"]
["TSO2E","Unit","Million National Currency","tonnes (Mg) SO2-equivalents"]
[null,"Air emissions by industry",null,null,null,1995,null,1996,null,1997,null,1998,null,1999,null,2000,null,2001,null,2002,null,2003,null,2004,null,2005,null,2006,null,2007,null,2008,null,2009,null,2010,null,2011,null,2012,null,2013,null,2014,null,2015,null,2016,null,2017,null,2018,null,2019,null,2020,null,2021,null,2022,null,2023,null,2024]
[null,{"$f":"Parameters!Q4","v":"A_U   01-99"},null,{"$f":"Parameters!S4","v":"Total industries"},null,null,null,null,null,null,null,null,null,null,null,null,null,null,null,null,null,null,null,null,null,null,null,null,null,null,null,null,null,null,null,null,null,null,null,null,null,null,null,null,null,null,null,null,null,null,null,null,null,null,null,null,null,null,null,null,null,null,null,null,null,null,null,null,null,null,null,null,null,null,null,null,null,null,null,null,null,null,null,null,null,null,null,"P","EC","W2","ATU","RES","SOX","_Z","TSO2E",0,"_T","S1"]
[null,{"$f":"Parameters!Q5","v":"A"},null,{"$f":"Parameters!S5","v":"Agriculture, forestry and fishing"},null,null,null,null,null,null,null,null,null,null,null,null,null,null,null,null,null,null,null,null,null,null,null,null,null,null,null,null,null,null,null,null,null,null,null,null,null,null,null,null,null,null,null,null,null,null,null,null,null,null,null,null,null,null,null,null,null,null,null,null,null,null,null,null,null,null,null,null,null,null,null,null,null,null,null,null,null,null,null,null,null,null,null,null,null,null,"A","RES"]
[null,{"$f":"Parameters!Q6","v":"A01"},null,{"$f":"Parameters!S6","v":"Crop and animal production, hunting and related service activities"},null,null,null,null,null,null,null,null,null,null,null,null,null,null,null,null,null,null,null,null,null,null,null,null,null,null,null,null,null,null,null,null,null,null,null,null,null,null,null,null,null,null,null,null,null,null,null,null,null,null,null,null,null,null,null,null,null,null,null,null,null,null,null,null,null,null,null,null,null,null,null,null,null,null,null,null,null,null,null,null,null,null,null,null,null,null,"A01","RES"]
[null,{"$f":"Parameters!Q7","v":"A02"},null,{"$f":"Parameters!S7","v":"Forestry and logging"},null,null,null,null,null,null,null,null,null,null,null,null,null,null,null,null,null,null,null,null,null,null,null,null,null,null,null,null,null,null,null,null,null,null,null,null,null,null,null,null,null,null,null,null,null,null,null,null,null,null,null,null,null,null,null,null,null,null,null,null,null,null,null,null,null,null,null,null,null,null,null,null,null,null,null,null,null,null,null,null,null,null,null,null,null,null,"A02","RES"]
[null,{"$f":"Parameters!Q8","v":"A03"},null,{"$f":"Parameters!S8","v":"Fishing and aquaculture"},null,null,null,null,null,null,null,null,null,null,null,null,null,null,null,null,null,null,null,null,null,null,null,null,null,null,null,null,null,null,null,null,null,null,null,null,null,null,null,null,null,null,null,null,null,null,null,null,null,null,null,null,null,null,null,null,null,null,null,null,null,null,null,null,null,null,null,null,null,null,null,null,null,null,null,null,null,null,null,null,null,null,null,null,null,null,"A03","RES"]
[null,{"$f":"Parameters!Q9","v":"B"},null,{"$f":"Parameters!S9","v":"Mining and quarrying"},null,null,null,null,null,null,null,null,null,null,null,null,null,null,null,null,null,null,null,null,null,null,null,null,null,null,null,null,null,null,null,null,null,null,null,null,null,null,null,null,null,null,null,null,null,null,null,null,null,null,null,null,null,null,null,null,null,null,null,null,null,null,null,null,null,null,null,null,null,null,null,null,null,null,null,null,null,null,null,null,null,null,null,null,null,null,"B","RES"]
[null,{"$f":"Parameters!Q10","v":"C"},null,{"$f":"Parameters!S10","v":"Manufacturing"},null,null,null,null,null,null,null,null,null,null,null,null,null,null,null,null,null,null,null,null,null,null,null,null,null,null,null,null,null,null,null,null,null,null,null,null,null,null,null,null,null,null,null,null,null,null,null,null,null,null,null,null,null,null,null,null,null,null,null,null,null,null,null,null,null,null,null,null,null,null,null,null,null,null,null,null,null,null,null,null,null,null,null,null,null,null,"C","RES"]
[null,{"$f":"Parameters!Q11","v":"C10-C12"},null,{"$f":"Parameters!S11","v":"Manufacture of food products, beverages and tobacco\nproducts"},null,null,null,null,null,null,null,null,null,null,null,null,null,null,null,null,null,null,null,null,null,null,null,null,null,null,null,null,null,null,null,null,null,null,null,null,null,null,null,null,null,null,null,null,null,null,null,null,null,null,null,null,null,null,null,null,null,null,null,null,null,null,null,null,null,null,null,null,null,null,null,null,null,null,null,null,null,null,null,null,null,null,null,null,null,null,"C10T12","RES"]
[null,{"$f":"Parameters!Q12","v":"C13-C15"},null,{"$f":"Parameters!S12","v":"Manufacture of textiles, wearing apparel and leather products"},null,null,null,null,null,null,null,null,null,null,null,null,null,null,null,null,null,null,null,null,null,null,null,null,null,null,null,null,null,null,null,null,null,null,null,null,null,null,null,null,null,null,null,null,null,null,null,null,null,null,null,null,null,null,null,null,null,null,null,null,null,null,null,null,null,null,null,null,null,null,null,null,null,null,null,null,null,null,null,null,null,null,null,null,null,null,"C13T15","RES"]
[null,{"$f":"Parameters!Q13","v":"C16-C18"},null,{"$f":"Parameters!S13","v":"Manufacture of wood, paper, printing and reproduction"}]
[null,{"$f":"Parameters!Q14","v":"C16"},null,{"$f":"Parameters!S14","v":"Manufacture of wood and of products of wood and cork, except furniture; manufacture of articles of straw and plaiting materials"},null,null,null,null,null,null,null,null,null,null,null,null,null,null,null,null,null,null,null,null,null,null,null,null,null,null,null,null,null,null,null,null,null,null,null,null,null,null,null,null,null,null,null,null,null,null,null,null,null,null,null,null,null,null,null,null,null,null,null,null,null,null,null,null,null,null,null,null,null,null,null,null,null,null,null,null,null,null,null,null,null,null,null,null,null,null,"C16","RES"]
[null,{"$f":"Parameters!Q15","v":"C17"},null,{"$f":"Parameters!S15","v":"Manufacture of paper and paper products"},null,null,null,null,null,null,null,null,null,null,null,null,null,null,null,null,null,null,null,null,null,null,null,null,null,null,null,null,null,null,null,null,null,null,null,null,null,null,null,null,null,null,null,null,null,null,null,null,null,null,null,null,null,null,null,null,null,null,null,null,null,null,null,null,null,null,null,null,null,null,null,null,null,null,null,null,null,null,null,null,null,null,null,null,null,null,"C17","RES"]
[null,{"$f":"Parameters!Q16","v":"C18"},null,{"$f":"Parameters!S16","v":"Printing and reproduction of recorded media"},null,null,null,null,null,null,null,null,null,null,null,null,null,null,null,null,null,null,null,null,null,null,null,null,null,null,null,null,null,null,null,null,null,null,null,null,null,null,null,null,null,null,null,null,null,null,null,null,null,null,null,null,null,null,null,null,null,null,null,null,null,null,null,null,null,null,null,null,null,null,null,null,null,null,null,null,null,null,null,null,null,null,null,null,null,null,"C18","RES"]
[null,{"$f":"Parameters!Q17","v":"C19"},null,{"$f":"Parameters!S17","v":"Manufacture of coke and refined petroleum products"},null,null,null,null,null,null,null,null,null,null,null,null,null,null,null,null,null,null,null,null,null,null,null,null,null,null,null,null,null,null,null,null,null,null,null,null,null,null,null,null,null,null,null,null,null,null,null,null,null,null,null,null,null,null,null,null,null,null,null,null,null,null,null,null,null,null,null,null,null,null,null,null,null,null,null,null,null,null,null,null,null,null,null,null,null,null,"C19","RES"]
[null,{"$f":"Parameters!Q18","v":"C20"},null,{"$f":"Parameters!S18","v":"Manufacture of chemicals and chemical products"},null,null,null,null,null,null,null,null,null,null,null,null,null,null,null,null,null,null,null,null,null,null,null,null,null,null,null,null,null,null,null,null,null,null,null,null,null,null,null,null,null,null,null,null,null,null,null,null,null,null,null,null,null,null,null,null,null,null,null,null,null,null,null,null,null,null,null,null,null,null,null,null,null,null,null,null,null,null,null,null,null,null,null,null,null,null,"C20","RES"]
[null,{"$f":"Parameters!Q19","v":"C21"},null,{"$f":"Parameters!S19","v":"Manufacture of basic pharmaceutical products and pharmaceutical preparations"},null,null,null,null,null,null,null,null,null,null,null,null,null,null,null,null,null,null,null,null,null,null,null,null,null,null,null,null,null,null,null,null,null,null,null,null,null,null,null,null,null,null,null,null,null,null,null,null,null,null,null,null,null,null,null,null,null,null,null,null,null,null,null,null,null,null,null,null,null,null,null,null,null,null,null,null,null,null,null,null,null,null,null,null,null,null,"C21","RES"]
[null,{"$f":"Parameters!Q20","v":"C22_C23"},null,{"$f":"Parameters!S20","v":"Manufacture of rubber and plastic products and other non-metallic mineral products"}]
[null,{"$f":"Parameters!Q21","v":"C22"},null,{"$f":"Parameters!S21","v":"Manufacture of rubber and plastic products"},null,null,null,null,null,null,null,null,null,null,null,null,null,null,null,null,null,null,null,null,null,null,null,null,null,null,null,null,null,null,null,null,null,null,null,null,null,null,null,null,null,null,null,null,null,null,null,null,null,null,null,null,null,null,null,null,null,null,null,null,null,null,null,null,null,null,null,null,null,null,null,null,null,null,null,null,null,null,null,null,null,null,null,null,null,null,"C22","RES"]
[null,{"$f":"Parameters!Q22","v":"C23"},null,{"$f":"Parameters!S22","v":"Manufacture of other non-metallic mineral products"},null,null,null,null,null,null,null,null,null,null,null,null,null,null,null,null,null,null,null,null,null,null,null,null,null,null,null,null,null,null,null,null,null,null,null,null,null,null,null,null,null,null,null,null,null,null,null,null,null,null,null,null,null,null,null,null,null,null,null,null,null,null,null,null,null,null,null,null,null,null,null,null,null,null,null,null,null,null,null,null,null,null,null,null,null,null,"C23","RES"]
[null,{"$f":"Parameters!Q23","v":"C24_C25"},null,{"$f":"Parameters!S23","v":"Manufacture of basic metals and fabricated metal products, except machinery and equipment"}]
[null,{"$f":"Parameters!Q24","v":"C24"},null,{"$f":"Parameters!S24","v":"Manufacture of basic metals"},null,null,null,null,null,null,null,null,null,null,null,null,null,null,null,null,null,null,null,null,null,null,null,null,null,null,null,null,null,null,null,null,null,null,null,null,null,null,null,null,null,null,null,null,null,null,null,null,null,null,null,null,null,null,null,null,null,null,null,null,null,null,null,null,null,null,null,null,null,null,null,null,null,null,null,null,null,null,null,null,null,null,null,null,null,null,"C24","RES"]
[null,{"$f":"Parameters!Q25","v":"C25"},null,{"$f":"Parameters!S25","v":"Manufacture of fabricated metal products, except machinery and equipment"},null,null,null,null,null,null,null,null,null,null,null,null,null,null,null,null,null,null,null,null,null,null,null,null,null,null,null,null,null,null,null,null,null,null,null,null,null,null,null,null,null,null,null,null,null,null,null,null,null,null,null,null,null,null,null,null,null,null,null,null,null,null,null,null,null,null,null,null,null,null,null,null,null,null,null,null,null,null,null,null,null,null,null,null,null,null,"C25","RES"]
[null,{"$f":"Parameters!Q26","v":"C26"},null,{"$f":"Parameters!S26","v":"Manufacture of computer, electronic and optical products"},null,null,null,null,null,null,null,null,null,null,null,null,null,null,null,null,null,null,null,null,null,null,null,null,null,null,null,null,null,null,null,null,null,null,null,null,null,null,null,null,null,null,null,null,null,null,null,null,null,null,null,null,null,null,null,null,null,null,null,null,null,null,null,null,null,null,null,null,null,null,null,null,null,null,null,null,null,null,null,null,null,null,null,null,null,null,"C26","RES"]
[null,{"$f":"Parameters!Q27","v":"C27"},null,{"$f":"Parameters!S27","v":"Manufacture of electrical equipment"},null,null,null,null,null,null,null,null,null,null,null,null,null,null,null,null,null,null,null,null,null,null,null,null,null,null,null,null,null,null,null,null,null,null,null,null,null,null,null,null,null,null,null,null,null,null,null,null,null,null,null,null,null,null,null,null,null,null,null,null,null,null,null,null,null,null,null,null,null,null,null,null,null,null,null,null,null,null,null,null,null,null,null,null,null,null,"C27","RES"]
[null,{"$f":"Parameters!Q28","v":"C28"},null,{"$f":"Parameters!S28","v":"Manufacture of machinery and equipment n.e.c."},null,null,null,null,null,null,null,null,null,null,null,null,null,null,null,null,null,null,null,null,null,null,null,null,null,null,null,null,null,null,null,null,null,null,null,null,null,null,null,null,null,null,null,null,null,null,null,null,null,null,null,null,null,null,null,null,null,null,null,null,null,null,null,null,null,null,null,null,null,null,null,null,null,null,null,null,null,null,null,null,null,null,null,null,null,null,"C28","RES"]
[null,{"$f":"Parameters!Q29","v":"C29_C30"},null,{"$f":"Parameters!S29","v":"Manufacture of motor vehicles, trailers, semi-trailers and of other transport equipment"}]
[null,{"$f":"Parameters!Q30","v":"C29"},null,{"$f":"Parameters!S30","v":"Manufacture of motor vehicles, trailers and semi-trailers"},null,null,null,null,null,null,null,null,null,null,null,null,null,null,null,null,null,null,null,null,null,null,null,null,null,null,null,null,null,null,null,null,null,null,null,null,null,null,null,null,null,null,null,null,null,null,null,null,null,null,null,null,null,null,null,null,null,null,null,null,null,null,null,null,null,null,null,null,null,null,null,null,null,null,null,null,null,null,null,null,null,null,null,null,null,null,"C29","RES"]
[null,{"$f":"Parameters!Q31","v":"C30"},null,{"$f":"Parameters!S31","v":"Manufacture of other transport equipment"},null,null,null,null,null,null,null,null,null,null,null,null,null,null,null,null,null,null,null,null,null,null,null,null,null,null,null,null,null,null,null,null,null,null,null,null,null,null,null,null,null,null,null,null,null,null,null,null,null,null,null,null,null,null,null,null,null,null,null,null,null,null,null,null,null,null,null,null,null,null,null,null,null,null,null,null,null,null,null,null,null,null,null,null,null,null,"C30","RES"]
[null,{"$f":"Parameters!Q32","v":"C31-C33"},null,{"$f":"Parameters!S32","v":"Manufacture of furniture; jewellery, musical instruments, toys; repair and installation of machinery and equipment"}]
[null,{"$f":"Parameters!Q33","v":"C31_C32"},null,{"$f":"Parameters!S33","v":"Manufacture of furniture; other manufacturing"},null,null,null,null,null,null,null,null,null,null,null,null,null,null,null,null,null,null,null,null,null,null,null,null,null,null,null,null,null,null,null,null,null,null,null,null,null,null,null,null,null,null,null,null,null,null,null,null,null,null,null,null,null,null,null,null,null,null,null,null,null,null,null,null,null,null,null,null,null,null,null,null,null,null,null,null,null,null,null,null,null,null,null,null,null,null,"C31_32","RES"]
[null,{"$f":"Parameters!Q34","v":"C33"},null,{"$f":"Parameters!S34","v":"Repair and installation of machinery and equipment"},null,null,null,null,null,null,null,null,null,null,null,null,null,null,null,null,null,null,null,null,null,null,null,null,null,null,null,null,null,null,null,null,null,null,null,null,null,null,null,null,null,null,null,null,null,null,null,null,null,null,null,null,null,null,null,null,null,null,null,null,null,null,null,null,null,null,null,null,null,null,null,null,null,null,null,null,null,null,null,null,null,null,null,null,null,null,"C33","RES"]
[null,{"$f":"Parameters!Q35","v":"D"},null,{"$f":"Parameters!S35","v":"Electricity, gas, steam and air conditioning supply"},null,null,null,null,null,null,null,null,null,null,null,null,null,null,null,null,null,null,null,null,null,null,null,null,null,null,null,null,null,null,null,null,null,null,null,null,null,null,null,null,null,null,null,null,null,null,null,null,null,null,null,null,null,null,null,null,null,null,null,null,null,null,null,null,null,null,null,null,null,null,null,null,null,null,null,null,null,null,null,null,null,null,null,null,null,null,"D","RES"]
[null,{"$f":"Parameters!Q36","v":"E"},null,{"$f":"Parameters!S36","v":"Water supply; sewerage, waste management and remediation activities"},null,null,null,null,null,null,null,null,null,null,null,null,null,null,null,null,null,null,null,null,null,null,null,null,null,null,null,null,null,null,null,null,null,null,null,null,null,null,null,null,null,null,null,null,null,null,null,null,null,null,null,null,null,null,null,null,null,null,null,null,null,null,null,null,null,null,null,null,null,null,null,null,null,null,null,null,null,null,null,null,null,null,null,null,null,null,"E","RES"]
[null,{"$f":"Parameters!Q37","v":"E36"},null,{"$f":"Parameters!S37","v":"Water collection, treatment and supply"},null,null,null,null,null,null,null,null,null,null,null,null,null,null,null,null,null,null,null,null,null,null,null,null,null,null,null,null,null,null,null,null,null,null,null,null,null,null,null,null,null,null,null,null,null,null,null,null,null,null,null,null,null,null,null,null,null,null,null,null,null,null,null,null,null,null,null,null,null,null,null,null,null,null,null,null,null,null,null,null,null,null,null,null,null,null,"E36","RES"]
[null,{"$f":"Parameters!Q38","v":"E37-E39"},null,{"$f":"Parameters!S38","v":"Sewerage, waste management, remediation activities"},null,null,null,null,null,null,null,null,null,null,null,null,null,null,null,null,null,null,null,null,null,null,null,null,null,null,null,null,null,null,null,null,null,null,null,null,null,null,null,null,null,null,null,null,null,null,null,null,null,null,null,null,null,null,null,null,null,null,null,null,null,null,null,null,null,null,null,null,null,null,null,null,null,null,null,null,null,null,null,null,null,null,null,null,null,null,"E37T39","RES"]
[null,{"$f":"Parameters!Q39","v":"F"},null,{"$f":"Parameters!S39","v":"Construction"},null,null,null,null,null,null,null,null,null,null,null,null,null,null,null,null,null,null,null,null,null,null,null,null,null,null,null,null,null,null,null,null,null,null,null,null,null,null,null,null,null,null,null,null,null,null,null,null,null,null,null,null,null,null,null,null,null,null,null,null,null,null,null,null,null,null,null,null,null,null,null,null,null,null,null,null,null,null,null,null,null,null,null,null,null,null,"F","RES"]
[null,{"$f":"Parameters!Q40","v":"G"},null,{"$f":"Parameters!S40","v":"Wholesale and retail trade; repair of motor vehicles and motorcycles"},null,null,null,null,null,null,null,null,null,null,null,null,null,null,null,null,null,null,null,null,null,null,null,null,null,null,null,null,null,null,null,null,null,null,null,null,null,null,null,null,null,null,null,null,null,null,null,null,null,null,null,null,null,null,null,null,null,null,null,null,null,null,null,null,null,null,null,null,null,null,null,null,null,null,null,null,null,null,null,null,null,null,null,null,null,null,"G","RES"]
[null,{"$f":"Parameters!Q41","v":"G45"},null,{"$f":"Parameters!S41","v":"Wholesale and retail trade and repair of motor vehicles and motorcycles"},null,null,null,null,null,null,null,null,null,null,null,null,null,null,null,null,null,null,null,null,null,null,null,null,null,null,null,null,null,null,null,null,null,null,null,null,null,null,null,null,null,null,null,null,null,null,null,null,null,null,null,null,null,null,null,null,null,null,null,null,null,null,null,null,null,null,null,null,null,null,null,null,null,null,null,null,null,null,null,null,null,null,null,null,null,null,"G45","RES"]
[null,{"$f":"Parameters!Q42","v":"G46"},null,{"$f":"Parameters!S42","v":"Wholesale trade, except of motor vehicles and motorcycles"},null,null,null,null,null,null,null,null,null,null,null,null,null,null,null,null,null,null,null,null,null,null,null,null,null,null,null,null,null,null,null,null,null,null,null,null,null,null,null,null,null,null,null,null,null,null,null,null,null,null,null,null,null,null,null,null,null,null,null,null,null,null,null,null,null,null,null,null,null,null,null,null,null,null,null,null,null,null,null,null,null,null,null,null,null,null,"G46","RES"]
[null,{"$f":"Parameters!Q43","v":"G47"},null,{"$f":"Parameters!S43","v":"Retail trade, except of motor vehicles and motorcycles"},null,null,null,null,null,null,null,null,null,null,null,null,null,null,null,null,null,null,null,null,null,null,null,null,null,null,null,null,null,null,null,null,null,null,null,null,null,null,null,null,null,null,null,null,null,null,null,null,null,null,null,null,null,null,null,null,null,null,null,null,null,null,null,null,null,null,null,null,null,null,null,null,null,null,null,null,null,null,null,null,null,null,null,null,null,null,"G47","RES"]
[null,{"$f":"Parameters!Q44","v":"H"},null,{"$f":"Parameters!S44","v":"Transportation and storage"},null,null,null,null,null,null,null,null,null,null,null,null,null,null,null,null,null,null,null,null,null,null,null,null,null,null,null,null,null,null,null,null,null,null,null,null,null,null,null,null,null,null,null,null,null,null,null,null,null,null,null,null,null,null,null,null,null,null,null,null,null,null,null,null,null,null,null,null,null,null,null,null,null,null,null,null,null,null,null,null,null,null,null,null,null,null,"H","RES"]
[null,{"$f":"Parameters!Q45","v":"H49"},null,{"$f":"Parameters!S45","v":"Land transport and transport via pipelines"},null,null,null,null,null,null,null,null,null,null,null,null,null,null,null,null,null,null,null,null,null,null,null,null,null,null,null,null,null,null,null,null,null,null,null,null,null,null,null,null,null,null,null,null,null,null,null,null,null,null,null,null,null,null,null,null,null,null,null,null,null,null,null,null,null,null,null,null,null,null,null,null,null,null,null,null,null,null,null,null,null,null,null,null,null,null,"H49","RES"]
[null,{"$f":"Parameters!Q46","v":"H50"},null,{"$f":"Parameters!S46","v":"Water transport"},null,null,null,null,null,null,null,null,null,null,null,null,null,null,null,null,null,null,null,null,null,null,null,null,null,null,null,null,null,null,null,null,null,null,null,null,null,null,null,null,null,null,null,null,null,null,null,null,null,null,null,null,null,null,null,null,null,null,null,null,null,null,null,null,null,null,null,null,null,null,null,null,null,null,null,null,null,null,null,null,null,null,null,null,null,null,"H50","RES"]
[null,{"$f":"Parameters!Q47","v":"H51"},null,{"$f":"Parameters!S47","v":"Air transport"},null,null,null,null,null,null,null,null,null,null,null,null,null,null,null,null,null,null,null,null,null,null,null,null,null,null,null,null,null,null,null,null,null,null,null,null,null,null,null,null,null,null,null,null,null,null,null,null,null,null,null,null,null,null,null,null,null,null,null,null,null,null,null,null,null,null,null,null,null,null,null,null,null,null,null,null,null,null,null,null,null,null,null,null,null,null,"H51","RES"]
[null,{"$f":"Parameters!Q48","v":"H52"},null,{"$f":"Parameters!S48","v":"Warehousing and support activities for transportation"},null,null,null,null,null,null,null,null,null,null,null,null,null,null,null,null,null,null,null,null,null,null,null,null,null,null,null,null,null,null,null,null,null,null,null,null,null,null,null,null,null,null,null,null,null,null,null,null,null,null,null,null,null,null,null,null,null,null,null,null,null,null,null,null,null,null,null,null,null,null,null,null,null,null,null,null,null,null,null,null,null,null,null,null,null,null,"H52","RES"]
[null,{"$f":"Parameters!Q49","v":"H53"},null,{"$f":"Parameters!S49","v":"Postal and courier activities"},null,null,null,null,null,null,null,null,null,null,null,null,null,null,null,null,null,null,null,null,null,null,null,null,null,null,null,null,null,null,null,null,null,null,null,null,null,null,null,null,null,null,null,null,null,null,null,null,null,null,null,null,null,null,null,null,null,null,null,null,null,null,null,null,null,null,null,null,null,null,null,null,null,null,null,null,null,null,null,null,null,null,null,null,null,null,"H53","RES"]
[null,{"$f":"Parameters!Q50","v":"I"},null,{"$f":"Parameters!S50","v":"Accommodation and food service activities"},null,null,null,null,null,null,null,null,null,null,null,null,null,null,null,null,null,null,null,null,null,null,null,null,null,null,null,null,null,null,null,null,null,null,null,null,null,null,null,null,null,null,null,null,null,null,null,null,null,null,null,null,null,null,null,null,null,null,null,null,null,null,null,null,null,null,null,null,null,null,null,null,null,null,null,null,null,null,null,null,null,null,null,null,null,null,"I","RES"]
[null,{"$f":"Parameters!Q51","v":"J"},null,{"$f":"Parameters!S51","v":"Information and communication"},null,null,null,null,null,null,null,null,null,null,null,null,null,null,null,null,null,null,null,null,null,null,null,null,null,null,null,null,null,null,null,null,null,null,null,null,null,null,null,null,null,null,null,null,null,null,null,null,null,null,null,null,null,null,null,null,null,null,null,null,null,null,null,null,null,null,null,null,null,null,null,null,null,null,null,null,null,null,null,null,null,null,null,null,null,null,"J","RES"]
[null,{"$f":"Parameters!Q52","v":"J58-J60"},null,{"$f":"Parameters!S52","v":"Publishing, motion picture, video, television programme production; sound recording, programming and broadcasting activities"}]
[null,{"$f":"Parameters!Q53","v":"J58"},null,{"$f":"Parameters!S53","v":"Publishing activities"},null,null,null,null,null,null,null,null,null,null,null,null,null,null,null,null,null,null,null,null,null,null,null,null,null,null,null,null,null,null,null,null,null,null,null,null,null,null,null,null,null,null,null,null,null,null,null,null,null,null,null,null,null,null,null,null,null,null,null,null,null,null,null,null,null,null,null,null,null,null,null,null,null,null,null,null,null,null,null,null,null,null,null,null,null,null,"J58","RES"]
[null,{"$f":"Parameters!Q54","v":"J59_J60"},null,{"$f":"Parameters!S54","v":"Motion picture, video, television programme production; programming and broadcasting activities"},null,null,null,null,null,null,null,null,null,null,null,null,null,null,null,null,null,null,null,null,null,null,null,null,null,null,null,null,null,null,null,null,null,null,null,null,null,null,null,null,null,null,null,null,null,null,null,null,null,null,null,null,null,null,null,null,null,null,null,null,null,null,null,null,null,null,null,null,null,null,null,null,null,null,null,null,null,null,null,null,null,null,null,null,null,null,"J59_60","RES"]
[null,{"$f":"Parameters!Q55","v":"J61"},null,{"$f":"Parameters!S55","v":"Telecommunications"},null,null,null,null,null,null,null,null,null,null,null,null,null,null,null,null,null,null,null,null,null,null,null,null,null,null,null,null,null,null,null,null,null,null,null,null,null,null,null,null,null,null,null,null,null,null,null,null,null,null,null,null,null,null,null,null,null,null,null,null,null,null,null,null,null,null,null,null,null,null,null,null,null,null,null,null,null,null,null,null,null,null,null,null,null,null,"J61","RES"]
[null,{"$f":"Parameters!Q56","v":"J62_J63"},null,{"$f":"Parameters!S56","v":"Computer programming, consultancy, and information service activities"},null,null,null,null,null,null,null,null,null,null,null,null,null,null,null,null,null,null,null,null,null,null,null,null,null,null,null,null,null,null,null,null,null,null,null,null,null,null,null,null,null,null,null,null,null,null,null,null,null,null,null,null,null,null,null,null,null,null,null,null,null,null,null,null,null,null,null,null,null,null,null,null,null,null,null,null,null,null,null,null,null,null,null,null,null,null,"J62_63","RES"]
[null,{"$f":"Parameters!Q57","v":"K"},null,{"$f":"Parameters!S57","v":"Financial and insurance activities"},null,null,null,null,null,null,null,null,null,null,null,null,null,null,null,null,null,null,null,null,null,null,null,null,null,null,null,null,null,null,null,null,null,null,null,null,null,null,null,null,null,null,null,null,null,null,null,null,null,null,null,null,null,null,null,null,null,null,null,null,null,null,null,null,null,null,null,null,null,null,null,null,null,null,null,null,null,null,null,null,null,null,null,null,null,null,"K","RES"]
[null,{"$f":"Parameters!Q58","v":"K64"},null,{"$f":"Parameters!S58","v":"Financial service activities, except insurance and pension funding"},null,null,null,null,null,null,null,null,null,null,null,null,null,null,null,null,null,null,null,null,null,null,null,null,null,null,null,null,null,null,null,null,null,null,null,null,null,null,null,null,null,null,null,null,null,null,null,null,null,null,null,null,null,null,null,null,null,null,null,null,null,null,null,null,null,null,null,null,null,null,null,null,null,null,null,null,null,null,null,null,null,null,null,null,null,null,"K64","RES"]
[null,{"$f":"Parameters!Q59","v":"K65"},null,{"$f":"Parameters!S59","v":"Insurance, reinsurance and pension funding, except compulsory social security"},null,null,null,null,null,null,null,null,null,null,null,null,null,null,null,null,null,null,null,null,null,null,null,null,null,null,null,null,null,null,null,null,null,null,null,null,null,null,null,null,null,null,null,null,null,null,null,null,null,null,null,null,null,null,null,null,null,null,null,null,null,null,null,null,null,null,null,null,null,null,null,null,null,null,null,null,null,null,null,null,null,null,null,null,null,null,"K65","RES"]
[null,{"$f":"Parameters!Q60","v":"K66"},null,{"$f":"Parameters!S60","v":"Activities auxiliary to financial services and insurance activities"},null,null,null,null,null,null,null,null,null,null,null,null,null,null,null,null,null,null,null,null,null,null,null,null,null,null,null,null,null,null,null,null,null,null,null,null,null,null,null,null,null,null,null,null,null,null,null,null,null,null,null,null,null,null,null,null,null,null,null,null,null,null,null,null,null,null,null,null,null,null,null,null,null,null,null,null,null,null,null,null,null,null,null,null,null,null,"K66","RES"]
[null,{"$f":"Parameters!Q61","v":"L"},null,{"$f":"Parameters!S61","v":"Real estate activities"},null,null,null,null,null,null,null,null,null,null,null,null,null,null,null,null,null,null,null,null,null,null,null,null,null,null,null,null,null,null,null,null,null,null,null,null,null,null,null,null,null,null,null,null,null,null,null,null,null,null,null,null,null,null,null,null,null,null,null,null,null,null,null,null,null,null,null,null,null,null,null,null,null,null,null,null,null,null,null,null,null,null,null,null,null,null,"L","RES"]
[null,{"$f":"Parameters!Q62","v":"L68A"},null,{"$f":"Parameters!S62","v":"Imputed rents of owner-occupied dwellings"},null,null,null,null,null,null,null,null,null,null,null,null,null,null,null,null,null,null,null,null,null,null,null,null,null,null,null,null,null,null,null,null,null,null,null,null,null,null,null,null,null,null,null,null,null,null,null,null,null,null,null,null,null,null,null,null,null,null,null,null,null,null,null,null,null,null,null,null,null,null,null,null,null,null,null,null,null,null,null,null,null,null,null,null,null,null,"L68A","RES"]
[null,{"$f":"Parameters!Q63","v":"M"},null,{"$f":"Parameters!S63","v":"Professional, scientific and technical activities"},null,null,null,null,null,null,null,null,null,null,null,null,null,null,null,null,null,null,null,null,null,null,null,null,null,null,null,null,null,null,null,null,null,null,null,null,null,null,null,null,null,null,null,null,null,null,null,null,null,null,null,null,null,null,null,null,null,null,null,null,null,null,null,null,null,null,null,null,null,null,null,null,null,null,null,null,null,null,null,null,null,null,null,null,null,null,"M","RES"]
[null,{"$f":"Parameters!Q64","v":"M69-M71"},null,{"$f":"Parameters!S64","v":"Legal and accounting activities; activities of head offices; management consultancy activities; architectural and engineering activities; technical testing and analysis"}]
[null,{"$f":"Parameters!Q65","v":"M69_M70"},null,{"$f":"Parameters!S65","v":"Legal and accounting activities; activities of head offices; management consultancy activities"},null,null,null,null,null,null,null,null,null,null,null,null,null,null,null,null,null,null,null,null,null,null,null,null,null,null,null,null,null,null,null,null,null,null,null,null,null,null,null,null,null,null,null,null,null,null,null,null,null,null,null,null,null,null,null,null,null,null,null,null,null,null,null,null,null,null,null,null,null,null,null,null,null,null,null,null,null,null,null,null,null,null,null,null,null,null,"M69_70","RES"]
[null,{"$f":"Parameters!Q66","v":"M71"},null,{"$f":"Parameters!S66","v":"Architectural and engineering activities; technical testing and analysis"},null,null,null,null,null,null,null,null,null,null,null,null,null,null,null,null,null,null,null,null,null,null,null,null,null,null,null,null,null,null,null,null,null,null,null,null,null,null,null,null,null,null,null,null,null,null,null,null,null,null,null,null,null,null,null,null,null,null,null,null,null,null,null,null,null,null,null,null,null,null,null,null,null,null,null,null,null,null,null,null,null,null,null,null,null,null,"M71","RES"]
[null,{"$f":"Parameters!Q67","v":"M72"},null,{"$f":"Parameters!S67","v":"Scientific research and development"},null,null,null,null,null,null,null,null,null,null,null,null,null,null,null,null,null,null,null,null,null,null,null,null,null,null,null,null,null,null,null,null,null,null,null,null,null,null,null,null,null,null,null,null,null,null,null,null,null,null,null,null,null,null,null,null,null,null,null,null,null,null,null,null,null,null,null,null,null,null,null,null,null,null,null,null,null,null,null,null,null,null,null,null,null,null,"M72","RES"]
[null,{"$f":"Parameters!Q68","v":"M73-M75"},null,{"$f":"Parameters!S68","v":"Advertising and market research; other professional, scientific and technical activities; veterinary activities"}]
[null,{"$f":"Parameters!Q69","v":"M73"},null,{"$f":"Parameters!S69","v":"Advertising and market research"},null,null,null,null,null,null,null,null,null,null,null,null,null,null,null,null,null,null,null,null,null,null,null,null,null,null,null,null,null,null,null,null,null,null,null,null,null,null,null,null,null,null,null,null,null,null,null,null,null,null,null,null,null,null,null,null,null,null,null,null,null,null,null,null,null,null,null,null,null,null,null,null,null,null,null,null,null,null,null,null,null,null,null,null,null,null,"M73","RES"]
[null,{"$f":"Parameters!Q70","v":"M74_M75"},null,{"$f":"Parameters!S70","v":"Other professional, scientific and technical activities; veterinary activities"},null,null,null,null,null,null,null,null,null,null,null,null,null,null,null,null,null,null,null,null,null,null,null,null,null,null,null,null,null,null,null,null,null,null,null,null,null,null,null,null,null,null,null,null,null,null,null,null,null,null,null,null,null,null,null,null,null,null,null,null,null,null,null,null,null,null,null,null,null,null,null,null,null,null,null,null,null,null,null,null,null,null,null,null,null,null,"M74_75","RES"]
[null,{"$f":"Parameters!Q71","v":"N"},null,{"$f":"Parameters!S71","v":"Administrative and support service activities"},null,null,null,null,null,null,null,null,null,null,null,null,null,null,null,null,null,null,null,null,null,null,null,null,null,null,null,null,null,null,null,null,null,null,null,null,null,null,null,null,null,null,null,null,null,null,null,null,null,null,null,null,null,null,null,null,null,null,null,null,null,null,null,null,null,null,null,null,null,null,null,null,null,null,null,null,null,null,null,null,null,null,null,null,null,null,"N","RES"]
[null,{"$f":"Parameters!Q72","v":"N77"},null,{"$f":"Parameters!S72","v":"Rental and leasing activities"},null,null,null,null,null,null,null,null,null,null,null,null,null,null,null,null,null,null,null,null,null,null,null,null,null,null,null,null,null,null,null,null,null,null,null,null,null,null,null,null,null,null,null,null,null,null,null,null,null,null,null,null,null,null,null,null,null,null,null,null,null,null,null,null,null,null,null,null,null,null,null,null,null,null,null,null,null,null,null,null,null,null,null,null,null,null,"N77","RES"]
[null,{"$f":"Parameters!Q73","v":"N78"},null,{"$f":"Parameters!S73","v":"Employment activities"},null,null,null,null,null,null,null,null,null,null,null,null,null,null,null,null,null,null,null,null,null,null,null,null,null,null,null,null,null,null,null,null,null,null,null,null,null,null,null,null,null,null,null,null,null,null,null,null,null,null,null,null,null,null,null,null,null,null,null,null,null,null,null,null,null,null,null,null,null,null,null,null,null,null,null,null,null,null,null,null,null,null,null,null,null,null,"N78","RES"]
[null,{"$f":"Parameters!Q74","v":"N79"},null,{"$f":"Parameters!S74","v":"Travel agency, tour operator reservation service and related activities"},null,null,null,null,null,null,null,null,null,null,null,null,null,null,null,null,null,null,null,null,null,null,null,null,null,null,null,null,null,null,null,null,null,null,null,null,null,null,null,null,null,null,null,null,null,null,null,null,null,null,null,null,null,null,null,null,null,null,null,null,null,null,null,null,null,null,null,null,null,null,null,null,null,null,null,null,null,null,null,null,null,null,null,null,null,null,"N79","RES"]
[null,{"$f":"Parameters!Q75","v":"N80-N82"},null,{"$f":"Parameters!S75","v":"Security and investigation, service and landscape, office administrative and support activities"},null,null,null,null,null,null,null,null,null,null,null,null,null,null,null,null,null,null,null,null,null,null,null,null,null,null,null,null,null,null,null,null,null,null,null,null,null,null,null,null,null,null,null,null,null,null,null,null,null,null,null,null,null,null,null,null,null,null,null,null,null,null,null,null,null,null,null,null,null,null,null,null,null,null,null,null,null,null,null,null,null,null,null,null,null,null,"N80T82","RES"]
[null,{"$f":"Parameters!Q76","v":"O"},null,{"$f":"Parameters!S76","v":"Public administration and defence; compulsory social security"},null,null,null,null,null,null,null,null,null,null,null,null,null,null,null,null,null,null,null,null,null,null,null,null,null,null,null,null,null,null,null,null,null,null,null,null,null,null,null,null,null,null,null,null,null,null,null,null,null,null,null,null,null,null,null,null,null,null,null,null,null,null,null,null,null,null,null,null,null,null,null,null,null,null,null,null,null,null,null,null,null,null,null,null,null,null,"O","RES"]
[null,{"$f":"Parameters!Q77","v":"P"},null,{"$f":"Parameters!S77","v":"Education"},null,null,null,null,null,null,null,null,null,null,null,null,null,null,null,null,null,null,null,null,null,null,null,null,null,null,null,null,null,null,null,null,null,null,null,null,null,null,null,null,null,null,null,null,null,null,null,null,null,null,null,null,null,null,null,null,null,null,null,null,null,null,null,null,null,null,null,null,null,null,null,null,null,null,null,null,null,null,null,null,null,null,null,null,null,null,"P","RES"]
[null,{"$f":"Parameters!Q78","v":"Q"},null,{"$f":"Parameters!S78","v":"Human health and social work activities"},null,null,null,null,null,null,null,null,null,null,null,null,null,null,null,null,null,null,null,null,null,null,null,null,null,null,null,null,null,null,null,null,null,null,null,null,null,null,null,null,null,null,null,null,null,null,null,null,null,null,null,null,null,null,null,null,null,null,null,null,null,null,null,null,null,null,null,null,null,null,null,null,null,null,null,null,null,null,null,null,null,null,null,null,null,null,"Q","RES"]
[null,{"$f":"Parameters!Q79","v":"Q86"},null,{"$f":"Parameters!S79","v":"Human health activities"},null,null,null,null,null,null,null,null,null,null,null,null,null,null,null,null,null,null,null,null,null,null,null,null,null,null,null,null,null,null,null,null,null,null,null,null,null,null,null,null,null,null,null,null,null,null,null,null,null,null,null,null,null,null,null,null,null,null,null,null,null,null,null,null,null,null,null,null,null,null,null,null,null,null,null,null,null,null,null,null,null,null,null,null,null,null,"Q86","RES"]
[null,{"$f":"Parameters!Q80","v":"Q87_Q88"},null,{"$f":"Parameters!S80","v":"Residential care activities and social work activities without accommodation"},null,null,null,null,null,null,null,null,null,null,null,null,null,null,null,null,null,null,null,null,null,null,null,null,null,null,null,null,null,null,null,null,null,null,null,null,null,null,null,null,null,null,null,null,null,null,null,null,null,null,null,null,null,null,null,null,null,null,null,null,null,null,null,null,null,null,null,null,null,null,null,null,null,null,null,null,null,null,null,null,null,null,null,null,null,null,"Q87_88","RES"]
[null,{"$f":"Parameters!Q81","v":"R"},null,{"$f":"Parameters!S81","v":"Arts, entertainment and recreation"},null,null,null,null,null,null,null,null,null,null,null,null,null,null,null,null,null,null,null,null,null,null,null,null,null,null,null,null,null,null,null,null,null,null,null,null,null,null,null,null,null,null,null,null,null,null,null,null,null,null,null,null,null,null,null,null,null,null,null,null,null,null,null,null,null,null,null,null,null,null,null,null,null,null,null,null,null,null,null,null,null,null,null,null,null,null,"R","RES"]
[null,{"$f":"Parameters!Q82","v":"R90-R92"},null,{"$f":"Parameters!S82","v":"Creative, arts and entertainment activities; libraries, archives, museums and other cultural activities; gambling and betting activities"},null,null,null,null,null,null,null,null,null,null,null,null,null,null,null,null,null,null,null,null,null,null,null,null,null,null,null,null,null,null,null,null,null,null,null,null,null,null,null,null,null,null,null,null,null,null,null,null,null,null,null,null,null,null,null,null,null,null,null,null,null,null,null,null,null,null,null,null,null,null,null,null,null,null,null,null,null,null,null,null,null,null,null,null,null,null,"R90T92","RES"]
[null,{"$f":"Parameters!Q83","v":"R93"},null,{"$f":"Parameters!S83","v":"Sports activities and amusement and recreation activities"},null,null,null,null,null,null,null,null,null,null,null,null,null,null,null,null,null,null,null,null,null,null,null,null,null,null,null,null,null,null,null,null,null,null,null,null,null,null,null,null,null,null,null,null,null,null,null,null,null,null,null,null,null,null,null,null,null,null,null,null,null,null,null,null,null,null,null,null,null,null,null,null,null,null,null,null,null,null,null,null,null,null,null,null,null,null,"R93","RES"]
[null,{"$f":"Parameters!Q84","v":"S"},null,{"$f":"Parameters!S84","v":"Other service activities"},null,null,null,null,null,null,null,null,null,null,null,null,null,null,null,null,null,null,null,null,null,null,null,null,null,null,null,null,null,null,null,null,null,null,null,null,null,null,null,null,null,null,null,null,null,null,null,null,null,null,null,null,null,null,null,null,null,null,null,null,null,null,null,null,null,null,null,null,null,null,null,null,null,null,null,null,null,null,null,null,null,null,null,null,null,null,"S","RES"]
[null,{"$f":"Parameters!Q85","v":"S94"},null,{"$f":"Parameters!S85","v":"Activities of membership organisations"},null,null,null,null,null,null,null,null,null,null,null,null,null,null,null,null,null,null,null,null,null,null,null,null,null,null,null,null,null,null,null,null,null,null,null,null,null,null,null,null,null,null,null,null,null,null,null,null,null,null,null,null,null,null,null,null,null,null,null,null,null,null,null,null,null,null,null,null,null,null,null,null,null,null,null,null,null,null,null,null,null,null,null,null,null,null,"S94","RES"]
[null,{"$f":"Parameters!Q86","v":"S95"},null,{"$f":"Parameters!S86","v":"Repair of computers and personal and household goods"},null,null,null,null,null,null,null,null,null,null,null,null,null,null,null,null,null,null,null,null,null,null,null,null,null,null,null,null,null,null,null,null,null,null,null,null,null,null,null,null,null,null,null,null,null,null,null,null,null,null,null,null,null,null,null,null,null,null,null,null,null,null,null,null,null,null,null,null,null,null,null,null,null,null,null,null,null,null,null,null,null,null,null,null,null,null,"S95","RES"]
[null,{"$f":"Parameters!Q87","v":"S96"},null,{"$f":"Parameters!S87","v":"Other personal service activities"},null,null,null,null,null,null,null,null,null,null,null,null,null,null,null,null,null,null,null,null,null,null,null,null,null,null,null,null,null,null,null,null,null,null,null,null,null,null,null,null,null,null,null,null,null,null,null,null,null,null,null,null,null,null,null,null,null,null,null,null,null,null,null,null,null,null,null,null,null,null,null,null,null,null,null,null,null,null,null,null,null,null,null,null,null,null,"S96","RES"]
[null,{"$f":"Parameters!Q88","v":"T"},null,{"$f":"Parameters!S88","v":"Activities of households as employers; undifferentiated goods- and services-producing activities of households for own use"},null,null,null,null,null,null,null,null,null,null,null,null,null,null,null,null,null,null,null,null,null,null,null,null,null,null,null,null,null,null,null,null,null,null,null,null,null,null,null,null,null,null,null,null,null,null,null,null,null,null,null,null,null,null,null,null,null,null,null,null,null,null,null,null,null,null,null,null,null,null,null,null,null,null,null,null,null,null,null,null,null,null,null,null,null,null,"T","RES"]
[null,{"$f":"Parameters!Q89","v":"U"},null,{"$f":"Parameters!S89","v":"Activities of extraterritorial organisations and bodies"},null,null,null,null,null,null,null,null,null,null,null,null,null,null,null,null,null,null,null,null,null,null,null,null,null,null,null,null,null,null,null,null,null,null,null,null,null,null,null,null,null,null,null,null,null,null,null,null,null,null,null,null,null,null,null,null,null,null,null,null,null,null,null,null,null,null,null,null,null,null,null,null,null,null,null,null,null,null,null,null,null,null,null,null,null,null,"U","RES"]
[null,"   Household air emissions\n                                          Households, totals",null,null,null,null,null,null,null,null,null,null,null,null,null,null,null,null,null,null,null,null,null,null,null,null,null,null,null,null,null,null,null,null,null,null,null,null,null,null,null,null,null,null,null,null,null,null,null,null,null,null,null,null,null,null,null,null,null,null,null,null,null,null,null,null,null,null,null,null,null,null,null,null,null,null,null,null,null,null,null,null,null,null,null,null,null,null,null,null,"HH","RES"]
[null,null,null,"- Transport",null,null,null,null,null,null,null,null,null,null,null,null,null,null,null,null,null,null,null,null,null,null,null,null,null,null,null,null,null,null,null,null,null,null,null,null,null,null,null,null,null,null,null,null,null,null,null,null,null,null,null,null,null,null,null,null,null,null,null,null,null,null,null,null,null,null,null,null,null,null,null,null,null,null,null,null,null,null,null,null,null,null,null,null,null,null,"HH_TR","RES"]
[null,null,null,"- Heating/cooling",null,null,null,null,null,null,null,null,null,null,null,null,null,null,null,null,null,null,null,null,null,null,null,null,null,null,null,null,null,null,null,null,null,null,null,null,null,null,null,null,null,null,null,null,null,null,null,null,null,null,null,null,null,null,null,null,null,null,null,null,null,null,null,null,null,null,null,null,null,null,null,null,null,null,null,null,null,null,null,null,null,null,null,null,null,null,"HH_HEAT","RES"]
[null,null,null,"- Other",null,null,null,null,null,null,null,null,null,null,null,null,null,null,null,null,null,null,null,null,null,null,null,null,null,null,null,null,null,null,null,null,null,null,null,null,null,null,null,null,null,null,null,null,null,null,null,null,null,null,null,null,null,null,null,null,null,null,null,null,null,null,null,null,null,null,null,null,null,null,null,null,null,null,null,null,null,null,null,null,null,null,null,null,null,null,"HH_OTH","RES"]
[null,"   Bridging items\n\n1                              Total Air emissions accounts (industry (row 5) + households (row 91))",null,null,null,null,null,null,null,null,null,null,null,null,null,null,null,null,null,null,null,null,null,null,null,null,null,null,null,null,null,null,null,null,null,null,null,null,null,null,null,null,null,null,null,null,null,null,null,null,null,null,null,null,null,null,null,null,null,null,null,null,null,null,null,null,null,null,null,null,null,null,null,null,null,null,null,null,null,null,null,null,null,null,null,null,null,null,null,null,"ATU_HH","RES"]
[null,2,null,"less National residents abroad",null,null,null,null,null,null,null,null,null,null,null,null,null,null,null,null,null,null,null,null,null,null,null,null,null,null,null,null,null,null,null,null,null,null,null,null,null,null,null,null,null,null,null,null,null,null,null,null,null,null,null,null,null,null,null,null,null,null,null,null,null,null,null,null,null,null,null,null,null,null,null,null,null,null,null,null,null,null,null,null,null,null,null,null,null,null,"ATU_HH","RES_ABR"]
[null,2.1,null,"-  National fishing vessels operating abroad",null,null,null,null,null,null,null,null,null,null,null,null,null,null,null,null,null,null,null,null,null,null,null,null,null,null,null,null,null,null,null,null,null,null,null,null,null,null,null,null,null,null,null,null,null,null,null,null,null,null,null,null,null,null,null,null,null,null,null,null,null,null,null,null,null,null,null,null,null,null,null,null,null,null,null,null,null,null,null,null,null,null,null,null,null,null,"ATU_HH","RES_ABR_FWTR"]
[null,2.2000000000000002,null,"-  Land transport",null,null,null,null,null,null,null,null,null,null,null,null,null,null,null,null,null,null,null,null,null,null,null,null,null,null,null,null,null,null,null,null,null,null,null,null,null,null,null,null,null,null,null,null,null,null,null,null,null,null,null,null,null,null,null,null,null,null,null,null,null,null,null,null,null,null,null,null,null,null,null,null,null,null,null,null,null,null,null,null,null,null,null,null,null,null,"ATU_HH","RES_ABR_LTR"]
[null,2.2999999999999998,null,"-  Water transport",null,null,null,null,null,null,null,null,null,null,null,null,null,null,null,null,null,null,null,null,null,null,null,null,null,null,null,null,null,null,null,null,null,null,null,null,null,null,null,null,null,null,null,null,null,null,null,null,null,null,null,null,null,null,null,null,null,null,null,null,null,null,null,null,null,null,null,null,null,null,null,null,null,null,null,null,null,null,null,null,null,null,null,null,null,null,"ATU_HH","RES_ABR_WTR"]
[null,2.4,null,"-  Air transport",null,null,null,null,null,null,null,null,null,null,null,null,null,null,null,null,null,null,null,null,null,null,null,null,null,null,null,null,null,null,null,null,null,null,null,null,null,null,null,null,null,null,null,null,null,null,null,null,null,null,null,null,null,null,null,null,null,null,null,null,null,null,null,null,null,null,null,null,null,null,null,null,null,null,null,null,null,null,null,null,null,null,null,null,null,null,"ATU_HH","RES_ABR_ATR"]
[null,3,null,"plus Non-residents on the territory",null,null,null,null,null,null,null,null,null,null,null,null,null,null,null,null,null,null,null,null,null,null,null,null,null,null,null,null,null,null,null,null,null,null,null,null,null,null,null,null,null,null,null,null,null,null,null,null,null,null,null,null,null,null,null,null,null,null,null,null,null,null,null,null,null,null,null,null,null,null,null,null,null,null,null,null,null,null,null,null,null,null,null,null,null,null,"ATU_HH","TER_NRES"]
[null,3.1,null,"+  Land transport",null,null,null,null,null,null,null,null,null,null,null,null,null,null,null,null,null,null,null,null,null,null,null,null,null,null,null,null,null,null,null,null,null,null,null,null,null,null,null,null,null,null,null,null,null,null,null,null,null,null,null,null,null,null,null,null,null,null,null,null,null,null,null,null,null,null,null,null,null,null,null,null,null,null,null,null,null,null,null,null,null,null,null,null,null,null,"ATU_HH","TER_NRES_LTR"]
[null,3.2,null,"+ Water transport",null,null,null,null,null,null,null,null,null,null,null,null,null,null,null,null,null,null,null,null,null,null,null,null,null,null,null,null,null,null,null,null,null,null,null,null,null,null,null,null,null,null,null,null,null,null,null,null,null,null,null,null,null,null,null,null,null,null,null,null,null,null,null,null,null,null,null,null,null,null,null,null,null,null,null,null,null,null,null,null,null,null,null,null,null,null,"ATU_HH","TER_NRES_WTR"]
[null,3.3,null,"+  Air transport",null,null,null,null,null,null,null,null,null,null,null,null,null,null,null,null,null,null,null,null,null,null,null,null,null,null,null,null,null,null,null,null,null,null,null,null,null,null,null,null,null,null,null,null,null,null,null,null,null,null,null,null,null,null,null,null,null,null,null,null,null,null,null,null,null,null,null,null,null,null,null,null,null,null,null,null,null,null,null,null,null,null,null,null,null,null,"ATU_HH","TER_NRES_ATR"]
[null,4,null,"Other adjustments and statistical discrepancy",null,null,null,null,null,null,null,null,null,null,null,null,null,null,null,null,null,null,null,null,null,null,null,null,null,null,null,null,null,null,null,null,null,null,null,null,null,null,null,null,null,null,null,null,null,null,null,null,null,null,null,null,null,null,null,null,null,null,null,null,null,null,null,null,null,null,null,null,null,null,null,null,null,null,null,null,null,null,null,null,null,null,null,null,null,null,"ATU_HH","ADJ_SD"]
[null,5,null,"'National total for the entire territory' as reported to CLRTAP (Annex 1)",null,null,null,null,null,null,null,null,null,null,null,null,null,null,null,null,null,null,null,null,null,null,null,null,null,null,null,null,null,null,null,null,null,null,null,null,null,null,null,null,null,null,null,null,null,null,null,null,null,null,null,null,null,null,null,null,null,null,null,null,null,null,null,null,null,null,null,null,null,null,null,null,null,null,null,null,null,null,null,null,null,null,null,null,null,null,"ATU_HH","TER"]
[null,null,null,"Year of submission to CLRTAP"]
[]
[null,"Explanatory notes for bridging items:"]
[null,1,"Total Air emissions accounts (industry (row 5) + households (row 91)) - residence principle"]
[]
[null,2.1,"Fishing vessels operated by resident units bunkering outside of the reporting country"]
[null,2.2000000000000002,"Land transport (incl. rail) by resident units fuelling outside of the reporting country"]
[null,2.2999999999999998,"Any navigation by resident units bunkering at ports outside of the reporting country and international navigation by resident units bunkering at ports of the reporting country"]
[null,2.4,"Any aviation by resident units bunkering at airports outside of the reporting country and any cruise aviation by resident units bunkering at airports of the reporting country"]
[]
[null,3.1,"Land transport (incl. rail) by non-resident units fuelling on the territory of the reporting country"]
[null,3.2,"National and international inland waterways navigation by non-residents bunkering at ports of the reporting country"]
[null,3.3,"LTO (landing and take off) aviation by non-residents bunkering at  airports of the reporting country"]
[]
[null,5,"National totals in CLRTAP inventories include all LTO aviation departing from domestic airports - territory principle"]
[null,null,"National totals in CLRTAP inventories include all national and international inland waterways navigation for which the fuel is bunkered in ports of the reporting country - territory principle"]

{"sheet":"NH3","index":22,"n_rows":122,"n_cols":98,"rows_kept":122,"cut":false,"hidden":false,"merged":[[0,96,2,96],[0,97,2,97],[0,90,2,90],[0,91,2,91],[0,92,2,92],[0,93,2,93],[0,94,2,94],[0,95,2,95],[103,3,103,4],[80,3,80,4],[81,3,81,4],[82,3,82,4],[83,3,83,4],[84,3,84,4],[73,3,73,4],[74,3,74,4],[75,3,75,4],[76,3,76,4],[77,3,77,4],[78,3,78,4],[67,3,67,4],[68,3,68,4],[69,3,69,4],[70,3,70,4],[104,3,104,4],[105,3,105,4],[106,3,106,4],[0,87,2,87],[0,89,2,89],[97,3,97,4],[98,3,98,4],[99,3,99,4],[100,3,100,4],[101,3,101,4],[102,3,102,4],[91,3,91,4],[92,3,92,4],[93,3,93,4],[94,1,94,4],[95,3,95,4],[96,3,96,4],[85,3,85,4],[86,3,86,4],[87,3,87,4],[88,3,88,4],[89,3,89,4],[90,1,90,4],[79,3,79,4],[71,3,71,4],[72,3,72,4],[61,3,61,4],[62,3,62,4],[63,3,63,4],[64,3,64,4],[65,3,65,4],[66,3,66,4],[55,3,55,4],[56,3,56,4],[57,3,57,4],[58,3,58,4],[59,3,59,4],[60,3,60,4],[49,3,49,4],[50,3,50,4],[51,3,51,4],[52,3,52,4],[53,3,53,4],[54,3,54,4],[43,3,43,4],[44,3,44,4],[45,3,45,4],[46,3,46,4],[47,3,47,4],[48,3,48,4],[37,3,37,4],[38,3,38,4],[39,3,39,4],[40,3,40,4],[41,3,41,4],[42,3,42,4],[31,3,31,4],[32,3,32,4],[33,3,33,4],[34,3,34,4],[35,3,35,4],[36,3,36,4],[25,3,25,4],[26,3,26,4],[27,3,27,4],[28,3,28,4],[29,3,29,4],[30,3,30,4],[19,3,19,4],[20,3,20,4],[21,3,21,4],[22,3,22,4],[23,3,23,4],[24,3,24,4],[0,5,2,6],[0,7,2,8],[0,9,2,10],[13,3,13,4],[14,3,14,4],[15,3,15,4],[16,3,16,4],[17,3,17,4],[18,3,18,4],[7,3,7,4],[8,3,8,4],[9,3,9,4],[10,3,10,4],[11,3,11,4],[12,3,12,4],[0,88,2,88],[0,11,2,12],[0,13,2,14],[2,47,2,48],[3,1,3,4],[4,1,4,2],[4,3,4,4],[5,3,5,4],[6,3,6,4],[0,27,2,28],[0,29,2,30],[0,31,2,32],[0,33,2,34],[0,35,2,36],[1,1,1,2],[2,1,2,2],[2,3,2,4],[0,15,2,16],[0,17,2,18],[0,19,2,20],[0,21,2,22],[0,23,2,24],[0,25,2,26],[0,1,0,2]]}
["DATAENTRY","Country:",null,{"$f":"intro!F7","v":""},null,null,null,null,null,null,null,null,null,null,null,null,null,null,null,null,null,null,null,null,null,null,null,null,null,null,null,null,null,null,null,null,null,null,null,null,null,null,null,null,null,null,null,null,null,null,null,null,null,null,null,null,null,null,null,null,null,null,null,null,null,null,null,null,null,null,null,null,null,null,null,null,null,null,null,null,null,null,null,null,null,null,null,"DEMAND_PROD","ACCOUNTING_ENTRY","COUNTERPART_AREA","INTERACTORS","BRIDGE_ITEM","AIRPOL","STO","UNIT_MEASURE","UNIT_MULT","PRODUCT","SECTOR"]
[null,"Air Pollutant",null,"NH3","Ammonia"]
["T","Unit","Million National Currency","tonnes (Mg)"]
[null,"Air emissions by industry",null,null,null,1995,null,1996,null,1997,null,1998,null,1999,null,2000,null,2001,null,2002,null,2003,null,2004,null,2005,null,2006,null,2007,null,2008,null,2009,null,2010,null,2011,null,2012,null,2013,null,2014,null,2015,null,2016,null,2017,null,2018,null,2019,null,2020,null,2021,null,2022,null,2023,null,2024]
[null,{"$f":"Parameters!Q4","v":"A_U   01-99"},null,{"$f":"Parameters!S4","v":"Total industries"},null,null,null,null,null,null,null,null,null,null,null,null,null,null,null,null,null,null,null,null,null,null,null,null,null,null,null,null,null,null,null,null,null,null,null,null,null,null,null,null,null,null,null,null,null,null,null,null,null,null,null,null,null,null,null,null,null,null,null,null,null,null,null,null,null,null,null,null,null,null,null,null,null,null,null,null,null,null,null,null,null,null,null,"P","EC","W2","ATU","RES","NH3","_Z","TN",0,"_T","S1"]
[null,{"$f":"Parameters!Q5","v":"A"},null,{"$f":"Parameters!S5","v":"Agriculture, forestry and fishing"},null,null,null,null,null,null,null,null,null,null,null,null,null,null,null,null,null,null,null,null,null,null,null,null,null,null,null,null,null,null,null,null,null,null,null,null,null,null,null,null,null,null,null,null,null,null,null,null,null,null,null,null,null,null,null,null,null,null,null,null,null,null,null,null,null,null,null,null,null,null,null,null,null,null,null,null,null,null,null,null,null,null,null,null,null,null,"A","RES"]
[null,{"$f":"Parameters!Q6","v":"A01"},null,{"$f":"Parameters!S6","v":"Crop and animal production, hunting and related service activities"},null,null,null,null,null,null,null,null,null,null,null,null,null,null,null,null,null,null,null,null,null,null,null,null,null,null,null,null,null,null,null,null,null,null,null,null,null,null,null,null,null,null,null,null,null,null,null,null,null,null,null,null,null,null,null,null,null,null,null,null,null,null,null,null,null,null,null,null,null,null,null,null,null,null,null,null,null,null,null,null,null,null,null,null,null,null,"A01","RES"]
[null,{"$f":"Parameters!Q7","v":"A02"},null,{"$f":"Parameters!S7","v":"Forestry and logging"},null,null,null,null,null,null,null,null,null,null,null,null,null,null,null,null,null,null,null,null,null,null,null,null,null,null,null,null,null,null,null,null,null,null,null,null,null,null,null,null,null,null,null,null,null,null,null,null,null,null,null,null,null,null,null,null,null,null,null,null,null,null,null,null,null,null,null,null,null,null,null,null,null,null,null,null,null,null,null,null,null,null,null,null,null,null,"A02","RES"]
[null,{"$f":"Parameters!Q8","v":"A03"},null,{"$f":"Parameters!S8","v":"Fishing and aquaculture"},null,null,null,null,null,null,null,null,null,null,null,null,null,null,null,null,null,null,null,null,null,null,null,null,null,null,null,null,null,null,null,null,null,null,null,null,null,null,null,null,null,null,null,null,null,null,null,null,null,null,null,null,null,null,null,null,null,null,null,null,null,null,null,null,null,null,null,null,null,null,null,null,null,null,null,null,null,null,null,null,null,null,null,null,null,null,"A03","RES"]
[null,{"$f":"Parameters!Q9","v":"B"},null,{"$f":"Parameters!S9","v":"Mining and quarrying"},null,null,null,null,null,null,null,null,null,null,null,null,null,null,null,null,null,null,null,null,null,null,null,null,null,null,null,null,null,null,null,null,null,null,null,null,null,null,null,null,null,null,null,null,null,null,null,null,null,null,null,null,null,null,null,null,null,null,null,null,null,null,null,null,null,null,null,null,null,null,null,null,null,null,null,null,null,null,null,null,null,null,null,null,null,null,"B","RES"]
[null,{"$f":"Parameters!Q10","v":"C"},null,{"$f":"Parameters!S10","v":"Manufacturing"},null,null,null,null,null,null,null,null,null,null,null,null,null,null,null,null,null,null,null,null,null,null,null,null,null,null,null,null,null,null,null,null,null,null,null,null,null,null,null,null,null,null,null,null,null,null,null,null,null,null,null,null,null,null,null,null,null,null,null,null,null,null,null,null,null,null,null,null,null,null,null,null,null,null,null,null,null,null,null,null,null,null,null,null,null,null,"C","RES"]
[null,{"$f":"Parameters!Q11","v":"C10-C12"},null,{"$f":"Parameters!S11","v":"Manufacture of food products, beverages and tobacco\nproducts"},null,null,null,null,null,null,null,null,null,null,null,null,null,null,null,null,null,null,null,null,null,null,null,null,null,null,null,null,null,null,null,null,null,null,null,null,null,null,null,null,null,null,null,null,null,null,null,null,null,null,null,null,null,null,null,null,null,null,null,null,null,null,null,null,null,null,null,null,null,null,null,null,null,null,null,null,null,null,null,null,null,null,null,null,null,null,"C10T12","RES"]
[null,{"$f":"Parameters!Q12","v":"C13-C15"},null,{"$f":"Parameters!S12","v":"Manufacture of textiles, wearing apparel and leather products"},null,null,null,null,null,null,null,null,null,null,null,null,null,null,null,null,null,null,null,null,null,null,null,null,null,null,null,null,null,null,null,null,null,null,null,null,null,null,null,null,null,null,null,null,null,null,null,null,null,null,null,null,null,null,null,null,null,null,null,null,null,null,null,null,null,null,null,null,null,null,null,null,null,null,null,null,null,null,null,null,null,null,null,null,null,null,"C13T15","RES"]
[null,{"$f":"Parameters!Q13","v":"C16-C18"},null,{"$f":"Parameters!S13","v":"Manufacture of wood, paper, printing and reproduction"}]
[null,{"$f":"Parameters!Q14","v":"C16"},null,{"$f":"Parameters!S14","v":"Manufacture of wood and of products of wood and cork, except furniture; manufacture of articles of straw and plaiting materials"},null,null,null,null,null,null,null,null,null,null,null,null,null,null,null,null,null,null,null,null,null,null,null,null,null,null,null,null,null,null,null,null,null,null,null,null,null,null,null,null,null,null,null,null,null,null,null,null,null,null,null,null,null,null,null,null,null,null,null,null,null,null,null,null,null,null,null,null,null,null,null,null,null,null,null,null,null,null,null,null,null,null,null,null,null,null,"C16","RES"]
[null,{"$f":"Parameters!Q15","v":"C17"},null,{"$f":"Parameters!S15","v":"Manufacture of paper and paper products"},null,null,null,null,null,null,null,null,null,null,null,null,null,null,null,null,null,null,null,null,null,null,null,null,null,null,null,null,null,null,null,null,null,null,null,null,null,null,null,null,null,null,null,null,null,null,null,null,null,null,null,null,null,null,null,null,null,null,null,null,null,null,null,null,null,null,null,null,null,null,null,null,null,null,null,null,null,null,null,null,null,null,null,null,null,null,"C17","RES"]
[null,{"$f":"Parameters!Q16","v":"C18"},null,{"$f":"Parameters!S16","v":"Printing and reproduction of recorded media"},null,null,null,null,null,null,null,null,null,null,null,null,null,null,null,null,null,null,null,null,null,null,null,null,null,null,null,null,null,null,null,null,null,null,null,null,null,null,null,null,null,null,null,null,null,null,null,null,null,null,null,null,null,null,null,null,null,null,null,null,null,null,null,null,null,null,null,null,null,null,null,null,null,null,null,null,null,null,null,null,null,null,null,null,null,null,"C18","RES"]
[null,{"$f":"Parameters!Q17","v":"C19"},null,{"$f":"Parameters!S17","v":"Manufacture of coke and refined petroleum products"},null,null,null,null,null,null,null,null,null,null,null,null,null,null,null,null,null,null,null,null,null,null,null,null,null,null,null,null,null,null,null,null,null,null,null,null,null,null,null,null,null,null,null,null,null,null,null,null,null,null,null,null,null,null,null,null,null,null,null,null,null,null,null,null,null,null,null,null,null,null,null,null,null,null,null,null,null,null,null,null,null,null,null,null,null,null,"C19","RES"]
[null,{"$f":"Parameters!Q18","v":"C20"},null,{"$f":"Parameters!S18","v":"Manufacture of chemicals and chemical products"},null,null,null,null,null,null,null,null,null,null,null,null,null,null,null,null,null,null,null,null,null,null,null,null,null,null,null,null,null,null,null,null,null,null,null,null,null,null,null,null,null,null,null,null,null,null,null,null,null,null,null,null,null,null,null,null,null,null,null,null,null,null,null,null,null,null,null,null,null,null,null,null,null,null,null,null,null,null,null,null,null,null,null,null,null,null,"C20","RES"]
[null,{"$f":"Parameters!Q19","v":"C21"},null,{"$f":"Parameters!S19","v":"Manufacture of basic pharmaceutical products and pharmaceutical preparations"},null,null,null,null,null,null,null,null,null,null,null,null,null,null,null,null,null,null,null,null,null,null,null,null,null,null,null,null,null,null,null,null,null,null,null,null,null,null,null,null,null,null,null,null,null,null,null,null,null,null,null,null,null,null,null,null,null,null,null,null,null,null,null,null,null,null,null,null,null,null,null,null,null,null,null,null,null,null,null,null,null,null,null,null,null,null,"C21","RES"]
[null,{"$f":"Parameters!Q20","v":"C22_C23"},null,{"$f":"Parameters!S20","v":"Manufacture of rubber and plastic products and other non-metallic mineral products"}]
[null,{"$f":"Parameters!Q21","v":"C22"},null,{"$f":"Parameters!S21","v":"Manufacture of rubber and plastic products"},null,null,null,null,null,null,null,null,null,null,null,null,null,null,null,null,null,null,null,null,null,null,null,null,null,null,null,null,null,null,null,null,null,null,null,null,null,null,null,null,null,null,null,null,null,null,null,null,null,null,null,null,null,null,null,null,null,null,null,null,null,null,null,null,null,null,null,null,null,null,null,null,null,null,null,null,null,null,null,null,null,null,null,null,null,null,"C22","RES"]
[null,{"$f":"Parameters!Q22","v":"C23"},null,{"$f":"Parameters!S22","v":"Manufacture of other non-metallic mineral products"},null,null,null,null,null,null,null,null,null,null,null,null,null,null,null,null,null,null,null,null,null,null,null,null,null,null,null,null,null,null,null,null,null,null,null,null,null,null,null,null,null,null,null,null,null,null,null,null,null,null,null,null,null,null,null,null,null,null,null,null,null,null,null,null,null,null,null,null,null,null,null,null,null,null,null,null,null,null,null,null,null,null,null,null,null,null,"C23","RES"]
[null,{"$f":"Parameters!Q23","v":"C24_C25"},null,{"$f":"Parameters!S23","v":"Manufacture of basic metals and fabricated metal products, except machinery and equipment"}]
[null,{"$f":"Parameters!Q24","v":"C24"},null,{"$f":"Parameters!S24","v":"Manufacture of basic metals"},null,null,null,null,null,null,null,null,null,null,null,null,null,null,null,null,null,null,null,null,null,null,null,null,null,null,null,null,null,null,null,null,null,null,null,null,null,null,null,null,null,null,null,null,null,null,null,null,null,null,null,null,null,null,null,null,null,null,null,null,null,null,null,null,null,null,null,null,null,null,null,null,null,null,null,null,null,null,null,null,null,null,null,null,null,null,"C24","RES"]
[null,{"$f":"Parameters!Q25","v":"C25"},null,{"$f":"Parameters!S25","v":"Manufacture of fabricated metal products, except machinery and equipment"},null,null,null,null,null,null,null,null,null,null,null,null,null,null,null,null,null,null,null,null,null,null,null,null,null,null,null,null,null,null,null,null,null,null,null,null,null,null,null,null,null,null,null,null,null,null,null,null,null,null,null,null,null,null,null,null,null,null,null,null,null,null,null,null,null,null,null,null,null,null,null,null,null,null,null,null,null,null,null,null,null,null,null,null,null,null,"C25","RES"]
[null,{"$f":"Parameters!Q26","v":"C26"},null,{"$f":"Parameters!S26","v":"Manufacture of computer, electronic and optical products"},null,null,null,null,null,null,null,null,null,null,null,null,null,null,null,null,null,null,null,null,null,null,null,null,null,null,null,null,null,null,null,null,null,null,null,null,null,null,null,null,null,null,null,null,null,null,null,null,null,null,null,null,null,null,null,null,null,null,null,null,null,null,null,null,null,null,null,null,null,null,null,null,null,null,null,null,null,null,null,null,null,null,null,null,null,null,"C26","RES"]
[null,{"$f":"Parameters!Q27","v":"C27"},null,{"$f":"Parameters!S27","v":"Manufacture of electrical equipment"},null,null,null,null,null,null,null,null,null,null,null,null,null,null,null,null,null,null,null,null,null,null,null,null,null,null,null,null,null,null,null,null,null,null,null,null,null,null,null,null,null,null,null,null,null,null,null,null,null,null,null,null,null,null,null,null,null,null,null,null,null,null,null,null,null,null,null,null,null,null,null,null,null,null,null,null,null,null,null,null,null,null,null,null,null,null,"C27","RES"]
[null,{"$f":"Parameters!Q28","v":"C28"},null,{"$f":"Parameters!S28","v":"Manufacture of machinery and equipment n.e.c."},null,null,null,null,null,null,null,null,null,null,null,null,null,null,null,null,null,null,null,null,null,null,null,null,null,null,null,null,null,null,null,null,null,null,null,null,null,null,null,null,null,null,null,null,null,null,null,null,null,null,null,null,null,null,null,null,null,null,null,null,null,null,null,null,null,null,null,null,null,null,null,null,null,null,null,null,null,null,null,null,null,null,null,null,null,null,"C28","RES"]
[null,{"$f":"Parameters!Q29","v":"C29_C30"},null,{"$f":"Parameters!S29","v":"Manufacture of motor vehicles, trailers, semi-trailers and of other transport equipment"}]
[null,{"$f":"Parameters!Q30","v":"C29"},null,{"$f":"Parameters!S30","v":"Manufacture of motor vehicles, trailers and semi-trailers"},null,null,null,null,null,null,null,null,null,null,null,null,null,null,null,null,null,null,null,null,null,null,null,null,null,null,null,null,null,null,null,null,null,null,null,null,null,null,null,null,null,null,null,null,null,null,null,null,null,null,null,null,null,null,null,null,null,null,null,null,null,null,null,null,null,null,null,null,null,null,null,null,null,null,null,null,null,null,null,null,null,null,null,null,null,null,"C29","RES"]
[null,{"$f":"Parameters!Q31","v":"C30"},null,{"$f":"Parameters!S31","v":"Manufacture of other transport equipment"},null,null,null,null,null,null,null,null,null,null,null,null,null,null,null,null,null,null,null,null,null,null,null,null,null,null,null,null,null,null,null,null,null,null,null,null,null,null,null,null,null,null,null,null,null,null,null,null,null,null,null,null,null,null,null,null,null,null,null,null,null,null,null,null,null,null,null,null,null,null,null,null,null,null,null,null,null,null,null,null,null,null,null,null,null,null,"C30","RES"]
[null,{"$f":"Parameters!Q32","v":"C31-C33"},null,{"$f":"Parameters!S32","v":"Manufacture of furniture; jewellery, musical instruments, toys; repair and installation of machinery and equipment"}]
[null,{"$f":"Parameters!Q33","v":"C31_C32"},null,{"$f":"Parameters!S33","v":"Manufacture of furniture; other manufacturing"},null,null,null,null,null,null,null,null,null,null,null,null,null,null,null,null,null,null,null,null,null,null,null,null,null,null,null,null,null,null,null,null,null,null,null,null,null,null,null,null,null,null,null,null,null,null,null,null,null,null,null,null,null,null,null,null,null,null,null,null,null,null,null,null,null,null,null,null,null,null,null,null,null,null,null,null,null,null,null,null,null,null,null,null,null,null,"C31_32","RES"]
[null,{"$f":"Parameters!Q34","v":"C33"},null,{"$f":"Parameters!S34","v":"Repair and installation of machinery and equipment"},null,null,null,null,null,null,null,null,null,null,null,null,null,null,null,null,null,null,null,null,null,null,null,null,null,null,null,null,null,null,null,null,null,null,null,null,null,null,null,null,null,null,null,null,null,null,null,null,null,null,null,null,null,null,null,null,null,null,null,null,null,null,null,null,null,null,null,null,null,null,null,null,null,null,null,null,null,null,null,null,null,null,null,null,null,null,"C33","RES"]
[null,{"$f":"Parameters!Q35","v":"D"},null,{"$f":"Parameters!S35","v":"Electricity, gas, steam and air conditioning supply"},null,null,null,null,null,null,null,null,null,null,null,null,null,null,null,null,null,null,null,null,null,null,null,null,null,null,null,null,null,null,null,null,null,null,null,null,null,null,null,null,null,null,null,null,null,null,null,null,null,null,null,null,null,null,null,null,null,null,null,null,null,null,null,null,null,null,null,null,null,null,null,null,null,null,null,null,null,null,null,null,null,null,null,null,null,null,"D","RES"]
[null,{"$f":"Parameters!Q36","v":"E"},null,{"$f":"Parameters!S36","v":"Water supply; sewerage, waste management and remediation activities"},null,null,null,null,null,null,null,null,null,null,null,null,null,null,null,null,null,null,null,null,null,null,null,null,null,null,null,null,null,null,null,null,null,null,null,null,null,null,null,null,null,null,null,null,null,null,null,null,null,null,null,null,null,null,null,null,null,null,null,null,null,null,null,null,null,null,null,null,null,null,null,null,null,null,null,null,null,null,null,null,null,null,null,null,null,null,"E","RES"]
[null,{"$f":"Parameters!Q37","v":"E36"},null,{"$f":"Parameters!S37","v":"Water collection, treatment and supply"},null,null,null,null,null,null,null,null,null,null,null,null,null,null,null,null,null,null,null,null,null,null,null,null,null,null,null,null,null,null,null,null,null,null,null,null,null,null,null,null,null,null,null,null,null,null,null,null,null,null,null,null,null,null,null,null,null,null,null,null,null,null,null,null,null,null,null,null,null,null,null,null,null,null,null,null,null,null,null,null,null,null,null,null,null,null,"E36","RES"]
[null,{"$f":"Parameters!Q38","v":"E37-E39"},null,{"$f":"Parameters!S38","v":"Sewerage, waste management, remediation activities"},null,null,null,null,null,null,null,null,null,null,null,null,null,null,null,null,null,null,null,null,null,null,null,null,null,null,null,null,null,null,null,null,null,null,null,null,null,null,null,null,null,null,null,null,null,null,null,null,null,null,null,null,null,null,null,null,null,null,null,null,null,null,null,null,null,null,null,null,null,null,null,null,null,null,null,null,null,null,null,null,null,null,null,null,null,null,"E37T39","RES"]
[null,{"$f":"Parameters!Q39","v":"F"},null,{"$f":"Parameters!S39","v":"Construction"},null,null,null,null,null,null,null,null,null,null,null,null,null,null,null,null,null,null,null,null,null,null,null,null,null,null,null,null,null,null,null,null,null,null,null,null,null,null,null,null,null,null,null,null,null,null,null,null,null,null,null,null,null,null,null,null,null,null,null,null,null,null,null,null,null,null,null,null,null,null,null,null,null,null,null,null,null,null,null,null,null,null,null,null,null,null,"F","RES"]
[null,{"$f":"Parameters!Q40","v":"G"},null,{"$f":"Parameters!S40","v":"Wholesale and retail trade; repair of motor vehicles and motorcycles"},null,null,null,null,null,null,null,null,null,null,null,null,null,null,null,null,null,null,null,null,null,null,null,null,null,null,null,null,null,null,null,null,null,null,null,null,null,null,null,null,null,null,null,null,null,null,null,null,null,null,null,null,null,null,null,null,null,null,null,null,null,null,null,null,null,null,null,null,null,null,null,null,null,null,null,null,null,null,null,null,null,null,null,null,null,null,"G","RES"]
[null,{"$f":"Parameters!Q41","v":"G45"},null,{"$f":"Parameters!S41","v":"Wholesale and retail trade and repair of motor vehicles and motorcycles"},null,null,null,null,null,null,null,null,null,null,null,null,null,null,null,null,null,null,null,null,null,null,null,null,null,null,null,null,null,null,null,null,null,null,null,null,null,null,null,null,null,null,null,null,null,null,null,null,null,null,null,null,null,null,null,null,null,null,null,null,null,null,null,null,null,null,null,null,null,null,null,null,null,null,null,null,null,null,null,null,null,null,null,null,null,null,"G45","RES"]
[null,{"$f":"Parameters!Q42","v":"G46"},null,{"$f":"Parameters!S42","v":"Wholesale trade, except of motor vehicles and motorcycles"},null,null,null,null,null,null,null,null,null,null,null,null,null,null,null,null,null,null,null,null,null,null,null,null,null,null,null,null,null,null,null,null,null,null,null,null,null,null,null,null,null,null,null,null,null,null,null,null,null,null,null,null,null,null,null,null,null,null,null,null,null,null,null,null,null,null,null,null,null,null,null,null,null,null,null,null,null,null,null,null,null,null,null,null,null,null,"G46","RES"]
[null,{"$f":"Parameters!Q43","v":"G47"},null,{"$f":"Parameters!S43","v":"Retail trade, except of motor vehicles and motorcycles"},null,null,null,null,null,null,null,null,null,null,null,null,null,null,null,null,null,null,null,null,null,null,null,null,null,null,null,null,null,null,null,null,null,null,null,null,null,null,null,null,null,null,null,null,null,null,null,null,null,null,null,null,null,null,null,null,null,null,null,null,null,null,null,null,null,null,null,null,null,null,null,null,null,null,null,null,null,null,null,null,null,null,null,null,null,null,"G47","RES"]
[null,{"$f":"Parameters!Q44","v":"H"},null,{"$f":"Parameters!S44","v":"Transportation and storage"},null,null,null,null,null,null,null,null,null,null,null,null,null,null,null,null,null,null,null,null,null,null,null,null,null,null,null,null,null,null,null,null,null,null,null,null,null,null,null,null,null,null,null,null,null,null,null,null,null,null,null,null,null,null,null,null,null,null,null,null,null,null,null,null,null,null,null,null,null,null,null,null,null,null,null,null,null,null,null,null,null,null,null,null,null,null,"H","RES"]
[null,{"$f":"Parameters!Q45","v":"H49"},null,{"$f":"Parameters!S45","v":"Land transport and transport via pipelines"},null,null,null,null,null,null,null,null,null,null,null,null,null,null,null,null,null,null,null,null,null,null,null,null,null,null,null,null,null,null,null,null,null,null,null,null,null,null,null,null,null,null,null,null,null,null,null,null,null,null,null,null,null,null,null,null,null,null,null,null,null,null,null,null,null,null,null,null,null,null,null,null,null,null,null,null,null,null,null,null,null,null,null,null,null,null,"H49","RES"]
[null,{"$f":"Parameters!Q46","v":"H50"},null,{"$f":"Parameters!S46","v":"Water transport"},null,null,null,null,null,null,null,null,null,null,null,null,null,null,null,null,null,null,null,null,null,null,null,null,null,null,null,null,null,null,null,null,null,null,null,null,null,null,null,null,null,null,null,null,null,null,null,null,null,null,null,null,null,null,null,null,null,null,null,null,null,null,null,null,null,null,null,null,null,null,null,null,null,null,null,null,null,null,null,null,null,null,null,null,null,null,"H50","RES"]
[null,{"$f":"Parameters!Q47","v":"H51"},null,{"$f":"Parameters!S47","v":"Air transport"},null,null,null,null,null,null,null,null,null,null,null,null,null,null,null,null,null,null,null,null,null,null,null,null,null,null,null,null,null,null,null,null,null,null,null,null,null,null,null,null,null,null,null,null,null,null,null,null,null,null,null,null,null,null,null,null,null,null,null,null,null,null,null,null,null,null,null,null,null,null,null,null,null,null,null,null,null,null,null,null,null,null,null,null,null,null,"H51","RES"]
[null,{"$f":"Parameters!Q48","v":"H52"},null,{"$f":"Parameters!S48","v":"Warehousing and support activities for transportation"},null,null,null,null,null,null,null,null,null,null,null,null,null,null,null,null,null,null,null,null,null,null,null,null,null,null,null,null,null,null,null,null,null,null,null,null,null,null,null,null,null,null,null,null,null,null,null,null,null,null,null,null,null,null,null,null,null,null,null,null,null,null,null,null,null,null,null,null,null,null,null,null,null,null,null,null,null,null,null,null,null,null,null,null,null,null,"H52","RES"]
[null,{"$f":"Parameters!Q49","v":"H53"},null,{"$f":"Parameters!S49","v":"Postal and courier activities"},null,null,null,null,null,null,null,null,null,null,null,null,null,null,null,null,null,null,null,null,null,null,null,null,null,null,null,null,null,null,null,null,null,null,null,null,null,null,null,null,null,null,null,null,null,null,null,null,null,null,null,null,null,null,null,null,null,null,null,null,null,null,null,null,null,null,null,null,null,null,null,null,null,null,null,null,null,null,null,null,null,null,null,null,null,null,"H53","RES"]
[null,{"$f":"Parameters!Q50","v":"I"},null,{"$f":"Parameters!S50","v":"Accommodation and food service activities"},null,null,null,null,null,null,null,null,null,null,null,null,null,null,null,null,null,null,null,null,null,null,null,null,null,null,null,null,null,null,null,null,null,null,null,null,null,null,null,null,null,null,null,null,null,null,null,null,null,null,null,null,null,null,null,null,null,null,null,null,null,null,null,null,null,null,null,null,null,null,null,null,null,null,null,null,null,null,null,null,null,null,null,null,null,null,"I","RES"]
[null,{"$f":"Parameters!Q51","v":"J"},null,{"$f":"Parameters!S51","v":"Information and communication"},null,null,null,null,null,null,null,null,null,null,null,null,null,null,null,null,null,null,null,null,null,null,null,null,null,null,null,null,null,null,null,null,null,null,null,null,null,null,null,null,null,null,null,null,null,null,null,null,null,null,null,null,null,null,null,null,null,null,null,null,null,null,null,null,null,null,null,null,null,null,null,null,null,null,null,null,null,null,null,null,null,null,null,null,null,null,"J","RES"]
[null,{"$f":"Parameters!Q52","v":"J58-J60"},null,{"$f":"Parameters!S52","v":"Publishing, motion picture, video, television programme production; sound recording, programming and broadcasting activities"}]
[null,{"$f":"Parameters!Q53","v":"J58"},null,{"$f":"Parameters!S53","v":"Publishing activities"},null,null,null,null,null,null,null,null,null,null,null,null,null,null,null,null,null,null,null,null,null,null,null,null,null,null,null,null,null,null,null,null,null,null,null,null,null,null,null,null,null,null,null,null,null,null,null,null,null,null,null,null,null,null,null,null,null,null,null,null,null,null,null,null,null,null,null,null,null,null,null,null,null,null,null,null,null,null,null,null,null,null,null,null,null,null,"J58","RES"]
[null,{"$f":"Parameters!Q54","v":"J59_J60"},null,{"$f":"Parameters!S54","v":"Motion picture, video, television programme production; programming and broadcasting activities"},null,null,null,null,null,null,null,null,null,null,null,null,null,null,null,null,null,null,null,null,null,null,null,null,null,null,null,null,null,null,null,null,null,null,null,null,null,null,null,null,null,null,null,null,null,null,null,null,null,null,null,null,null,null,null,null,null,null,null,null,null,null,null,null,null,null,null,null,null,null,null,null,null,null,null,null,null,null,null,null,null,null,null,null,null,null,"J59_60","RES"]
[null,{"$f":"Parameters!Q55","v":"J61"},null,{"$f":"Parameters!S55","v":"Telecommunications"},null,null,null,null,null,null,null,null,null,null,null,null,null,null,null,null,null,null,null,null,null,null,null,null,null,null,null,null,null,null,null,null,null,null,null,null,null,null,null,null,null,null,null,null,null,null,null,null,null,null,null,null,null,null,null,null,null,null,null,null,null,null,null,null,null,null,null,null,null,null,null,null,null,null,null,null,null,null,null,null,null,null,null,null,null,null,"J61","RES"]
[null,{"$f":"Parameters!Q56","v":"J62_J63"},null,{"$f":"Parameters!S56","v":"Computer programming, consultancy, and information service activities"},null,null,null,null,null,null,null,null,null,null,null,null,null,null,null,null,null,null,null,null,null,null,null,null,null,null,null,null,null,null,null,null,null,null,null,null,null,null,null,null,null,null,null,null,null,null,null,null,null,null,null,null,null,null,null,null,null,null,null,null,null,null,null,null,null,null,null,null,null,null,null,null,null,null,null,null,null,null,null,null,null,null,null,null,null,null,"J62_63","RES"]
[null,{"$f":"Parameters!Q57","v":"K"},null,{"$f":"Parameters!S57","v":"Financial and insurance activities"},null,null,null,null,null,null,null,null,null,null,null,null,null,null,null,null,null,null,null,null,null,null,null,null,null,null,null,null,null,null,null,null,null,null,null,null,null,null,null,null,null,null,null,null,null,null,null,null,null,null,null,null,null,null,null,null,null,null,null,null,null,null,null,null,null,null,null,null,null,null,null,null,null,null,null,null,null,null,null,null,null,null,null,null,null,null,"K","RES"]
[null,{"$f":"Parameters!Q58","v":"K64"},null,{"$f":"Parameters!S58","v":"Financial service activities, except insurance and pension funding"},null,null,null,null,null,null,null,null,null,null,null,null,null,null,null,null,null,null,null,null,null,null,null,null,null,null,null,null,null,null,null,null,null,null,null,null,null,null,null,null,null,null,null,null,null,null,null,null,null,null,null,null,null,null,null,null,null,null,null,null,null,null,null,null,null,null,null,null,null,null,null,null,null,null,null,null,null,null,null,null,null,null,null,null,null,null,"K64","RES"]
[null,{"$f":"Parameters!Q59","v":"K65"},null,{"$f":"Parameters!S59","v":"Insurance, reinsurance and pension funding, except compulsory social security"},null,null,null,null,null,null,null,null,null,null,null,null,null,null,null,null,null,null,null,null,null,null,null,null,null,null,null,null,null,null,null,null,null,null,null,null,null,null,null,null,null,null,null,null,null,null,null,null,null,null,null,null,null,null,null,null,null,null,null,null,null,null,null,null,null,null,null,null,null,null,null,null,null,null,null,null,null,null,null,null,null,null,null,null,null,null,"K65","RES"]
[null,{"$f":"Parameters!Q60","v":"K66"},null,{"$f":"Parameters!S60","v":"Activities auxiliary to financial services and insurance activities"},null,null,null,null,null,null,null,null,null,null,null,null,null,null,null,null,null,null,null,null,null,null,null,null,null,null,null,null,null,null,null,null,null,null,null,null,null,null,null,null,null,null,null,null,null,null,null,null,null,null,null,null,null,null,null,null,null,null,null,null,null,null,null,null,null,null,null,null,null,null,null,null,null,null,null,null,null,null,null,null,null,null,null,null,null,null,"K66","RES"]
[null,{"$f":"Parameters!Q61","v":"L"},null,{"$f":"Parameters!S61","v":"Real estate activities"},null,null,null,null,null,null,null,null,null,null,null,null,null,null,null,null,null,null,null,null,null,null,null,null,null,null,null,null,null,null,null,null,null,null,null,null,null,null,null,null,null,null,null,null,null,null,null,null,null,null,null,null,null,null,null,null,null,null,null,null,null,null,null,null,null,null,null,null,null,null,null,null,null,null,null,null,null,null,null,null,null,null,null,null,null,null,"L","RES"]
[null,{"$f":"Parameters!Q62","v":"L68A"},null,{"$f":"Parameters!S62","v":"Imputed rents of owner-occupied dwellings"},null,null,null,null,null,null,null,null,null,null,null,null,null,null,null,null,null,null,null,null,null,null,null,null,null,null,null,null,null,null,null,null,null,null,null,null,null,null,null,null,null,null,null,null,null,null,null,null,null,null,null,null,null,null,null,null,null,null,null,null,null,null,null,null,null,null,null,null,null,null,null,null,null,null,null,null,null,null,null,null,null,null,null,null,null,null,"L68A","RES"]
[null,{"$f":"Parameters!Q63","v":"M"},null,{"$f":"Parameters!S63","v":"Professional, scientific and technical activities"},null,null,null,null,null,null,null,null,null,null,null,null,null,null,null,null,null,null,null,null,null,null,null,null,null,null,null,null,null,null,null,null,null,null,null,null,null,null,null,null,null,null,null,null,null,null,null,null,null,null,null,null,null,null,null,null,null,null,null,null,null,null,null,null,null,null,null,null,null,null,null,null,null,null,null,null,null,null,null,null,null,null,null,null,null,null,"M","RES"]
[null,{"$f":"Parameters!Q64","v":"M69-M71"},null,{"$f":"Parameters!S64","v":"Legal and accounting activities; activities of head offices; management consultancy activities; architectural and engineering activities; technical testing and analysis"}]
[null,{"$f":"Parameters!Q65","v":"M69_M70"},null,{"$f":"Parameters!S65","v":"Legal and accounting activities; activities of head offices; management consultancy activities"},null,null,null,null,null,null,null,null,null,null,null,null,null,null,null,null,null,null,null,null,null,null,null,null,null,null,null,null,null,null,null,null,null,null,null,null,null,null,null,null,null,null,null,null,null,null,null,null,null,null,null,null,null,null,null,null,null,null,null,null,null,null,null,null,null,null,null,null,null,null,null,null,null,null,null,null,null,null,null,null,null,null,null,null,null,null,"M69_70","RES"]
[null,{"$f":"Parameters!Q66","v":"M71"},null,{"$f":"Parameters!S66","v":"Architectural and engineering activities; technical testing and analysis"},null,null,null,null,null,null,null,null,null,null,null,null,null,null,null,null,null,null,null,null,null,null,null,null,null,null,null,null,null,null,null,null,null,null,null,null,null,null,null,null,null,null,null,null,null,null,null,null,null,null,null,null,null,null,null,null,null,null,null,null,null,null,null,null,null,null,null,null,null,null,null,null,null,null,null,null,null,null,null,null,null,null,null,null,null,null,"M71","RES"]
[null,{"$f":"Parameters!Q67","v":"M72"},null,{"$f":"Parameters!S67","v":"Scientific research and development"},null,null,null,null,null,null,null,null,null,null,null,null,null,null,null,null,null,null,null,null,null,null,null,null,null,null,null,null,null,null,null,null,null,null,null,null,null,null,null,null,null,null,null,null,null,null,null,null,null,null,null,null,null,null,null,null,null,null,null,null,null,null,null,null,null,null,null,null,null,null,null,null,null,null,null,null,null,null,null,null,null,null,null,null,null,null,"M72","RES"]
[null,{"$f":"Parameters!Q68","v":"M73-M75"},null,{"$f":"Parameters!S68","v":"Advertising and market research; other professional, scientific and technical activities; veterinary activities"}]
[null,{"$f":"Parameters!Q69","v":"M73"},null,{"$f":"Parameters!S69","v":"Advertising and market research"},null,null,null,null,null,null,null,null,null,null,null,null,null,null,null,null,null,null,null,null,null,null,null,null,null,null,null,null,null,null,null,null,null,null,null,null,null,null,null,null,null,null,null,null,null,null,null,null,null,null,null,null,null,null,null,null,null,null,null,null,null,null,null,null,null,null,null,null,null,null,null,null,null,null,null,null,null,null,null,null,null,null,null,null,null,null,"M73","RES"]
[null,{"$f":"Parameters!Q70","v":"M74_M75"},null,{"$f":"Parameters!S70","v":"Other professional, scientific and technical activities; veterinary activities"},null,null,null,null,null,null,null,null,null,null,null,null,null,null,null,null,null,null,null,null,null,null,null,null,null,null,null,null,null,null,null,null,null,null,null,null,null,null,null,null,null,null,null,null,null,null,null,null,null,null,null,null,null,null,null,null,null,null,null,null,null,null,null,null,null,null,null,null,null,null,null,null,null,null,null,null,null,null,null,null,null,null,null,null,null,null,"M74_75","RES"]
[null,{"$f":"Parameters!Q71","v":"N"},null,{"$f":"Parameters!S71","v":"Administrative and support service activities"},null,null,null,null,null,null,null,null,null,null,null,null,null,null,null,null,null,null,null,null,null,null,null,null,null,null,null,null,null,null,null,null,null,null,null,null,null,null,null,null,null,null,null,null,null,null,null,null,null,null,null,null,null,null,null,null,null,null,null,null,null,null,null,null,null,null,null,null,null,null,null,null,null,null,null,null,null,null,null,null,null,null,null,null,null,null,"N","RES"]
[null,{"$f":"Parameters!Q72","v":"N77"},null,{"$f":"Parameters!S72","v":"Rental and leasing activities"},null,null,null,null,null,null,null,null,null,null,null,null,null,null,null,null,null,null,null,null,null,null,null,null,null,null,null,null,null,null,null,null,null,null,null,null,null,null,null,null,null,null,null,null,null,null,null,null,null,null,null,null,null,null,null,null,null,null,null,null,null,null,null,null,null,null,null,null,null,null,null,null,null,null,null,null,null,null,null,null,null,null,null,null,null,null,"N77","RES"]
[null,{"$f":"Parameters!Q73","v":"N78"},null,{"$f":"Parameters!S73","v":"Employment activities"},null,null,null,null,null,null,null,null,null,null,null,null,null,null,null,null,null,null,null,null,null,null,null,null,null,null,null,null,null,null,null,null,null,null,null,null,null,null,null,null,null,null,null,null,null,null,null,null,null,null,null,null,null,null,null,null,null,null,null,null,null,null,null,null,null,null,null,null,null,null,null,null,null,null,null,null,null,null,null,null,null,null,null,null,null,null,"N78","RES"]
[null,{"$f":"Parameters!Q74","v":"N79"},null,{"$f":"Parameters!S74","v":"Travel agency, tour operator reservation service and related activities"},null,null,null,null,null,null,null,null,null,null,null,null,null,null,null,null,null,null,null,null,null,null,null,null,null,null,null,null,null,null,null,null,null,null,null,null,null,null,null,null,null,null,null,null,null,null,null,null,null,null,null,null,null,null,null,null,null,null,null,null,null,null,null,null,null,null,null,null,null,null,null,null,null,null,null,null,null,null,null,null,null,null,null,null,null,null,"N79","RES"]
[null,{"$f":"Parameters!Q75","v":"N80-N82"},null,{"$f":"Parameters!S75","v":"Security and investigation, service and landscape, office administrative and support activities"},null,null,null,null,null,null,null,null,null,null,null,null,null,null,null,null,null,null,null,null,null,null,null,null,null,null,null,null,null,null,null,null,null,null,null,null,null,null,null,null,null,null,null,null,null,null,null,null,null,null,null,null,null,null,null,null,null,null,null,null,null,null,null,null,null,null,null,null,null,null,null,null,null,null,null,null,null,null,null,null,null,null,null,null,null,null,"N80T82","RES"]
[null,{"$f":"Parameters!Q76","v":"O"},null,{"$f":"Parameters!S76","v":"Public administration and defence; compulsory social security"},null,null,null,null,null,null,null,null,null,null,null,null,null,null,null,null,null,null,null,null,null,null,null,null,null,null,null,null,null,null,null,null,null,null,null,null,null,null,null,null,null,null,null,null,null,null,null,null,null,null,null,null,null,null,null,null,null,null,null,null,null,null,null,null,null,null,null,null,null,null,null,null,null,null,null,null,null,null,null,null,null,null,null,null,null,null,"O","RES"]
[null,{"$f":"Parameters!Q77","v":"P"},null,{"$f":"Parameters!S77","v":"Education"},null,null,null,null,null,null,null,null,null,null,null,null,null,null,null,null,null,null,null,null,null,null,null,null,null,null,null,null,null,null,null,null,null,null,null,null,null,null,null,null,null,null,null,null,null,null,null,null,null,null,null,null,null,null,null,null,null,null,null,null,null,null,null,null,null,null,null,null,null,null,null,null,null,null,null,null,null,null,null,null,null,null,null,null,null,null,"P","RES"]
[null,{"$f":"Parameters!Q78","v":"Q"},null,{"$f":"Parameters!S78","v":"Human health and social work activities"},null,null,null,null,null,null,null,null,null,null,null,null,null,null,null,null,null,null,null,null,null,null,null,null,null,null,null,null,null,null,null,null,null,null,null,null,null,null,null,null,null,null,null,null,null,null,null,null,null,null,null,null,null,null,null,null,null,null,null,null,null,null,null,null,null,null,null,null,null,null,null,null,null,null,null,null,null,null,null,null,null,null,null,null,null,null,"Q","RES"]
[null,{"$f":"Parameters!Q79","v":"Q86"},null,{"$f":"Parameters!S79","v":"Human health activities"},null,null,null,null,null,null,null,null,null,null,null,null,null,null,null,null,null,null,null,null,null,null,null,null,null,null,null,null,null,null,null,null,null,null,null,null,null,null,null,null,null,null,null,null,null,null,null,null,null,null,null,null,null,null,null,null,null,null,null,null,null,null,null,null,null,null,null,null,null,null,null,null,null,null,null,null,null,null,null,null,null,null,null,null,null,null,"Q86","RES"]
[null,{"$f":"Parameters!Q80","v":"Q87_Q88"},null,{"$f":"Parameters!S80","v":"Residential care activities and social work activities without accommodation"},null,null,null,null,null,null,null,null,null,null,null,null,null,null,null,null,null,null,null,null,null,null,null,null,null,null,null,null,null,null,null,null,null,null,null,null,null,null,null,null,null,null,null,null,null,null,null,null,null,null,null,null,null,null,null,null,null,null,null,null,null,null,null,null,null,null,null,null,null,null,null,null,null,null,null,null,null,null,null,null,null,null,null,null,null,null,"Q87_88","RES"]
[null,{"$f":"Parameters!Q81","v":"R"},null,{"$f":"Parameters!S81","v":"Arts, entertainment and recreation"},null,null,null,null,null,null,null,null,null,null,null,null,null,null,null,null,null,null,null,null,null,null,null,null,null,null,null,null,null,null,null,null,null,null,null,null,null,null,null,null,null,null,null,null,null,null,null,null,null,null,null,null,null,null,null,null,null,null,null,null,null,null,null,null,null,null,null,null,null,null,null,null,null,null,null,null,null,null,null,null,null,null,null,null,null,null,"R","RES"]
[null,{"$f":"Parameters!Q82","v":"R90-R92"},null,{"$f":"Parameters!S82","v":"Creative, arts and entertainment activities; libraries, archives, museums and other cultural activities; gambling and betting activities"},null,null,null,null,null,null,null,null,null,null,null,null,null,null,null,null,null,null,null,null,null,null,null,null,null,null,null,null,null,null,null,null,null,null,null,null,null,null,null,null,null,null,null,null,null,null,null,null,null,null,null,null,null,null,null,null,null,null,null,null,null,null,null,null,null,null,null,null,null,null,null,null,null,null,null,null,null,null,null,null,null,null,null,null,null,null,"R90T92","RES"]
[null,{"$f":"Parameters!Q83","v":"R93"},null,{"$f":"Parameters!S83","v":"Sports activities and amusement and recreation activities"},null,null,null,null,null,null,null,null,null,null,null,null,null,null,null,null,null,null,null,null,null,null,null,null,null,null,null,null,null,null,null,null,null,null,null,null,null,null,null,null,null,null,null,null,null,null,null,null,null,null,null,null,null,null,null,null,null,null,null,null,null,null,null,null,null,null,null,null,null,null,null,null,null,null,null,null,null,null,null,null,null,null,null,null,null,null,"R93","RES"]
[null,{"$f":"Parameters!Q84","v":"S"},null,{"$f":"Parameters!S84","v":"Other service activities"},null,null,null,null,null,null,null,null,null,null,null,null,null,null,null,null,null,null,null,null,null,null,null,null,null,null,null,null,null,null,null,null,null,null,null,null,null,null,null,null,null,null,null,null,null,null,null,null,null,null,null,null,null,null,null,null,null,null,null,null,null,null,null,null,null,null,null,null,null,null,null,null,null,null,null,null,null,null,null,null,null,null,null,null,null,null,"S","RES"]
[null,{"$f":"Parameters!Q85","v":"S94"},null,{"$f":"Parameters!S85","v":"Activities of membership organisations"},null,null,null,null,null,null,null,null,null,null,null,null,null,null,null,null,null,null,null,null,null,null,null,null,null,null,null,null,null,null,null,null,null,null,null,null,null,null,null,null,null,null,null,null,null,null,null,null,null,null,null,null,null,null,null,null,null,null,null,null,null,null,null,null,null,null,null,null,null,null,null,null,null,null,null,null,null,null,null,null,null,null,null,null,null,null,"S94","RES"]
[null,{"$f":"Parameters!Q86","v":"S95"},null,{"$f":"Parameters!S86","v":"Repair of computers and personal and household goods"},null,null,null,null,null,null,null,null,null,null,null,null,null,null,null,null,null,null,null,null,null,null,null,null,null,null,null,null,null,null,null,null,null,null,null,null,null,null,null,null,null,null,null,null,null,null,null,null,null,null,null,null,null,null,null,null,null,null,null,null,null,null,null,null,null,null,null,null,null,null,null,null,null,null,null,null,null,null,null,null,null,null,null,null,null,null,"S95","RES"]
[null,{"$f":"Parameters!Q87","v":"S96"},null,{"$f":"Parameters!S87","v":"Other personal service activities"},null,null,null,null,null,null,null,null,null,null,null,null,null,null,null,null,null,null,null,null,null,null,null,null,null,null,null,null,null,null,null,null,null,null,null,null,null,null,null,null,null,null,null,null,null,null,null,null,null,null,null,null,null,null,null,null,null,null,null,null,null,null,null,null,null,null,null,null,null,null,null,null,null,null,null,null,null,null,null,null,null,null,null,null,null,null,"S96","RES"]
[null,{"$f":"Parameters!Q88","v":"T"},null,{"$f":"Parameters!S88","v":"Activities of households as employers; undifferentiated goods- and services-producing activities of households for own use"},null,null,null,null,null,null,null,null,null,null,null,null,null,null,null,null,null,null,null,null,null,null,null,null,null,null,null,null,null,null,null,null,null,null,null,null,null,null,null,null,null,null,null,null,null,null,null,null,null,null,null,null,null,null,null,null,null,null,null,null,null,null,null,null,null,null,null,null,null,null,null,null,null,null,null,null,null,null,null,null,null,null,null,null,null,null,"T","RES"]
[null,{"$f":"Parameters!Q89","v":"U"},null,{"$f":"Parameters!S89","v":"Activities of extraterritorial organisations and bodies"},null,null,null,null,null,null,null,null,null,null,null,null,null,null,null,null,null,null,null,null,null,null,null,null,null,null,null,null,null,null,null,null,null,null,null,null,null,null,null,null,null,null,null,null,null,null,null,null,null,null,null,null,null,null,null,null,null,null,null,null,null,null,null,null,null,null,null,null,null,null,null,null,null,null,null,null,null,null,null,null,null,null,null,null,null,null,"U","RES"]
[null,"   Household air emissions\n                                          Households, totals",null,null,null,null,null,null,null,null,null,null,null,null,null,null,null,null,null,null,null,null,null,null,null,null,null,null,null,null,null,null,null,null,null,null,null,null,null,null,null,null,null,null,null,null,null,null,null,null,null,null,null,null,null,null,null,null,null,null,null,null,null,null,null,null,null,null,null,null,null,null,null,null,null,null,null,null,null,null,null,null,null,null,null,null,null,null,null,null,"HH","RES"]
[null,null,null,"- Transport",null,null,null,null,null,null,null,null,null,null,null,null,null,null,null,null,null,null,null,null,null,null,null,null,null,null,null,null,null,null,null,null,null,null,null,null,null,null,null,null,null,null,null,null,null,null,null,null,null,null,null,null,null,null,null,null,null,null,null,null,null,null,null,null,null,null,null,null,null,null,null,null,null,null,null,null,null,null,null,null,null,null,null,null,null,null,"HH_TR","RES"]
[null,null,null,"- Heating/cooling",null,null,null,null,null,null,null,null,null,null,null,null,null,null,null,null,null,null,null,null,null,null,null,null,null,null,null,null,null,null,null,null,null,null,null,null,null,null,null,null,null,null,null,null,null,null,null,null,null,null,null,null,null,null,null,null,null,null,null,null,null,null,null,null,null,null,null,null,null,null,null,null,null,null,null,null,null,null,null,null,null,null,null,null,null,null,"HH_HEAT","RES"]
[null,null,null,"- Other",null,null,null,null,null,null,null,null,null,null,null,null,null,null,null,null,null,null,null,null,null,null,null,null,null,null,null,null,null,null,null,null,null,null,null,null,null,null,null,null,null,null,null,null,null,null,null,null,null,null,null,null,null,null,null,null,null,null,null,null,null,null,null,null,null,null,null,null,null,null,null,null,null,null,null,null,null,null,null,null,null,null,null,null,null,null,"HH_OTH","RES"]
[null,"   Bridging items\n\n1                              Total Air emissions accounts (industry (row 5) + households (row 91))",null,null,null,null,null,null,null,null,null,null,null,null,null,null,null,null,null,null,null,null,null,null,null,null,null,null,null,null,null,null,null,null,null,null,null,null,null,null,null,null,null,null,null,null,null,null,null,null,null,null,null,null,null,null,null,null,null,null,null,null,null,null,null,null,null,null,null,null,null,null,null,null,null,null,null,null,null,null,null,null,null,null,null,null,null,null,null,null,"ATU_HH","RES"]
[null,2,null,"less National residents abroad",null,null,null,null,null,null,null,null,null,null,null,null,null,null,null,null,null,null,null,null,null,null,null,null,null,null,null,null,null,null,null,null,null,null,null,null,null,null,null,null,null,null,null,null,null,null,null,null,null,null,null,null,null,null,null,null,null,null,null,null,null,null,null,null,null,null,null,null,null,null,null,null,null,null,null,null,null,null,null,null,null,null,null,null,null,null,"ATU_HH","RES_ABR"]
[null,2.1,null,"-  National fishing vessels operating abroad",null,null,null,null,null,null,null,null,null,null,null,null,null,null,null,null,null,null,null,null,null,null,null,null,null,null,null,null,null,null,null,null,null,null,null,null,null,null,null,null,null,null,null,null,null,null,null,null,null,null,null,null,null,null,null,null,null,null,null,null,null,null,null,null,null,null,null,null,null,null,null,null,null,null,null,null,null,null,null,null,null,null,null,null,null,null,"ATU_HH","RES_ABR_FWTR"]
[null,2.2000000000000002,null,"-  Land transport",null,null,null,null,null,null,null,null,null,null,null,null,null,null,null,null,null,null,null,null,null,null,null,null,null,null,null,null,null,null,null,null,null,null,null,null,null,null,null,null,null,null,null,null,null,null,null,null,null,null,null,null,null,null,null,null,null,null,null,null,null,null,null,null,null,null,null,null,null,null,null,null,null,null,null,null,null,null,null,null,null,null,null,null,null,null,"ATU_HH","RES_ABR_LTR"]
[null,2.2999999999999998,null,"-  Water transport",null,null,null,null,null,null,null,null,null,null,null,null,null,null,null,null,null,null,null,null,null,null,null,null,null,null,null,null,null,null,null,null,null,null,null,null,null,null,null,null,null,null,null,null,null,null,null,null,null,null,null,null,null,null,null,null,null,null,null,null,null,null,null,null,null,null,null,null,null,null,null,null,null,null,null,null,null,null,null,null,null,null,null,null,null,null,"ATU_HH","RES_ABR_WTR"]
[null,2.4,null,"-  Air transport",null,null,null,null,null,null,null,null,null,null,null,null,null,null,null,null,null,null,null,null,null,null,null,null,null,null,null,null,null,null,null,null,null,null,null,null,null,null,null,null,null,null,null,null,null,null,null,null,null,null,null,null,null,null,null,null,null,null,null,null,null,null,null,null,null,null,null,null,null,null,null,null,null,null,null,null,null,null,null,null,null,null,null,null,null,null,"ATU_HH","RES_ABR_ATR"]
[null,3,null,"plus Non-residents on the territory",null,null,null,null,null,null,null,null,null,null,null,null,null,null,null,null,null,null,null,null,null,null,null,null,null,null,null,null,null,null,null,null,null,null,null,null,null,null,null,null,null,null,null,null,null,null,null,null,null,null,null,null,null,null,null,null,null,null,null,null,null,null,null,null,null,null,null,null,null,null,null,null,null,null,null,null,null,null,null,null,null,null,null,null,null,null,"ATU_HH","TER_NRES"]
[null,3.1,null,"+  Land transport",null,null,null,null,null,null,null,null,null,null,null,null,null,null,null,null,null,null,null,null,null,null,null,null,null,null,null,null,null,null,null,null,null,null,null,null,null,null,null,null,null,null,null,null,null,null,null,null,null,null,null,null,null,null,null,null,null,null,null,null,null,null,null,null,null,null,null,null,null,null,null,null,null,null,null,null,null,null,null,null,null,null,null,null,null,null,"ATU_HH","TER_NRES_LTR"]
[null,3.2,null,"+ Water transport",null,null,null,null,null,null,null,null,null,null,null,null,null,null,null,null,null,null,null,null,null,null,null,null,null,null,null,null,null,null,null,null,null,null,null,null,null,null,null,null,null,null,null,null,null,null,null,null,null,null,null,null,null,null,null,null,null,null,null,null,null,null,null,null,null,null,null,null,null,null,null,null,null,null,null,null,null,null,null,null,null,null,null,null,null,null,"ATU_HH","TER_NRES_WTR"]
[null,3.3,null,"+  Air transport",null,null,null,null,null,null,null,null,null,null,null,null,null,null,null,null,null,null,null,null,null,null,null,null,null,null,null,null,null,null,null,null,null,null,null,null,null,null,null,null,null,null,null,null,null,null,null,null,null,null,null,null,null,null,null,null,null,null,null,null,null,null,null,null,null,null,null,null,null,null,null,null,null,null,null,null,null,null,null,null,null,null,null,null,null,null,"ATU_HH","TER_NRES_ATR"]
[null,4,null,"Other adjustments and statistical discrepancy",null,null,null,null,null,null,null,null,null,null,null,null,null,null,null,null,null,null,null,null,null,null,null,null,null,null,null,null,null,null,null,null,null,null,null,null,null,null,null,null,null,null,null,null,null,null,null,null,null,null,null,null,null,null,null,null,null,null,null,null,null,null,null,null,null,null,null,null,null,null,null,null,null,null,null,null,null,null,null,null,null,null,null,null,null,null,"ATU_HH","ADJ_SD"]
[null,5,null,"'National total for the entire territory' as reported to CLRTAP (Annex 1)",null,null,null,null,null,null,null,null,null,null,null,null,null,null,null,null,null,null,null,null,null,null,null,null,null,null,null,null,null,null,null,null,null,null,null,null,null,null,null,null,null,null,null,null,null,null,null,null,null,null,null,null,null,null,null,null,null,null,null,null,null,null,null,null,null,null,null,null,null,null,null,null,null,null,null,null,null,null,null,null,null,null,null,null,null,null,"ATU_HH","TER"]
[null,null,null,"Year of submission to CLRTAP"]
[]
[null,"Explanatory notes for bridging items:"]
[null,1,"Total Air emissions accounts (industry (row 5) + households (row 91)) - residence principle"]
[]
[null,2.1,"Fishing vessels operated by resident units bunkering outside of the reporting country"]
[null,2.2000000000000002,"Land transport (incl. rail) by resident units fuelling outside of the reporting country"]
[null,2.2999999999999998,"Any navigation by resident units bunkering at ports outside of the reporting country and international navigation by resident units bunkering at ports of the reporting country"]
[null,2.4,"Any aviation by resident units bunkering at airports outside of the reporting country and any cruise aviation by resident units bunkering at airports of the reporting country"]
[]
[null,3.1,"Land transport (incl. rail) by non-resident units fuelling on the territory of the reporting country"]
[null,3.2,"National and international inland waterways navigation by non-residents bunkering at ports of the reporting country"]
[null,3.3,"LTO (landing and take off) aviation by non-residents bunkering at  airports of the reporting country"]
[]
[null,5,"National totals in CLRTAP inventories include all LTO aviation departing from domestic airports - territory principle"]
[null,null,"National totals in CLRTAP inventories include all national and international inland waterways navigation for which the fuel is bunkered in ports of the reporting country - territory principle"]

{"sheet":"NMVOC","index":23,"n_rows":122,"n_cols":98,"rows_kept":122,"cut":false,"hidden":false,"merged":[[0,96,2,96],[0,97,2,97],[0,90,2,90],[0,91,2,91],[0,92,2,92],[0,93,2,93],[0,94,2,94],[0,95,2,95],[103,3,103,4],[80,3,80,4],[81,3,81,4],[82,3,82,4],[83,3,83,4],[84,3,84,4],[73,3,73,4],[74,3,74,4],[75,3,75,4],[76,3,76,4],[77,3,77,4],[78,3,78,4],[67,3,67,4],[68,3,68,4],[69,3,69,4],[70,3,70,4],[104,3,104,4],[105,3,105,4],[106,3,106,4],[0,87,2,87],[0,89,2,89],[97,3,97,4],[98,3,98,4],[99,3,99,4],[100,3,100,4],[101,3,101,4],[102,3,102,4],[91,3,91,4],[92,3,92,4],[93,3,93,4],[94,1,94,4],[95,3,95,4],[96,3,96,4],[85,3,85,4],[86,3,86,4],[87,3,87,4],[88,3,88,4],[89,3,89,4],[90,1,90,4],[79,3,79,4],[71,3,71,4],[72,3,72,4],[61,3,61,4],[62,3,62,4],[63,3,63,4],[64,3,64,4],[65,3,65,4],[66,3,66,4],[55,3,55,4],[56,3,56,4],[57,3,57,4],[58,3,58,4],[59,3,59,4],[60,3,60,4],[49,3,49,4],[50,3,50,4],[51,3,51,4],[52,3,52,4],[53,3,53,4],[54,3,54,4],[43,3,43,4],[44,3,44,4],[45,3,45,4],[46,3,46,4],[47,3,47,4],[48,3,48,4],[37,3,37,4],[38,3,38,4],[39,3,39,4],[40,3,40,4],[41,3,41,4],[42,3,42,4],[31,3,31,4],[32,3,32,4],[33,3,33,4],[34,3,34,4],[35,3,35,4],[36,3,36,4],[25,3,25,4],[26,3,26,4],[27,3,27,4],[28,3,28,4],[29,3,29,4],[30,3,30,4],[19,3,19,4],[20,3,20,4],[21,3,21,4],[22,3,22,4],[23,3,23,4],[24,3,24,4],[0,5,2,6],[0,7,2,8],[0,9,2,10],[13,3,13,4],[14,3,14,4],[15,3,15,4],[16,3,16,4],[17,3,17,4],[18,3,18,4],[7,3,7,4],[8,3,8,4],[9,3,9,4],[10,3,10,4],[11,3,11,4],[12,3,12,4],[0,88,2,88],[0,11,2,12],[0,13,2,14],[2,47,2,48],[3,1,3,4],[4,1,4,2],[4,3,4,4],[5,3,5,4],[6,3,6,4],[0,27,2,28],[0,29,2,30],[0,31,2,32],[0,33,2,34],[0,35,2,36],[1,1,1,2],[2,1,2,2],[2,3,2,4],[0,15,2,16],[0,17,2,18],[0,19,2,20],[0,21,2,22],[0,23,2,24],[0,25,2,26],[0,1,0,2]]}
["DATAENTRY","Country:",null,{"$f":"intro!F7","v":""},null,null,null,null,null,null,null,null,null,null,null,null,null,null,null,null,null,null,null,null,null,null,null,null,null,null,null,null,null,null,null,null,null,null,null,null,null,null,null,null,null,null,null,null,null,null,null,null,null,null,null,null,null,null,null,null,null,null,null,null,null,null,null,null,null,null,null,null,null,null,null,null,null,null,null,null,null,null,null,null,null,null,null,"DEMAND_PROD","ACCOUNTING_ENTRY","COUNTERPART_AREA","INTERACTORS","BRIDGE_ITEM","AIRPOL","STO","UNIT_MEASURE","UNIT_MULT","PRODUCT","SECTOR"]
[null,"Air Pollutant",null,"NMVOC","Non-methane volatile organic compounds"]
["T","Unit","Million National Currency","tonnes (Mg)"]
[null,"Air emissions by industry",null,null,null,1995,null,1996,null,1997,null,1998,null,1999,null,2000,null,2001,null,2002,null,2003,null,2004,null,2005,null,2006,null,2007,null,2008,null,2009,null,2010,null,2011,null,2012,null,2013,null,2014,null,2015,null,2016,null,2017,null,2018,null,2019,null,2020,null,2021,null,2022,null,2023,null,2024]
[null,{"$f":"Parameters!Q4","v":"A_U   01-99"},null,{"$f":"Parameters!S4","v":"Total industries"},null,null,null,null,null,null,null,null,null,null,null,null,null,null,null,null,null,null,null,null,null,null,null,null,null,null,null,null,null,null,null,null,null,null,null,null,null,null,null,null,null,null,null,null,null,null,null,null,null,null,null,null,null,null,null,null,null,null,null,null,null,null,null,null,null,null,null,null,null,null,null,null,null,null,null,null,null,null,null,null,null,null,null,"P","EC","W2","ATU","RES","NMVOC","_Z","TN",0,"_T","S1"]
[null,{"$f":"Parameters!Q5","v":"A"},null,{"$f":"Parameters!S5","v":"Agriculture, forestry and fishing"},null,null,null,null,null,null,null,null,null,null,null,null,null,null,null,null,null,null,null,null,null,null,null,null,null,null,null,null,null,null,null,null,null,null,null,null,null,null,null,null,null,null,null,null,null,null,null,null,null,null,null,null,null,null,null,null,null,null,null,null,null,null,null,null,null,null,null,null,null,null,null,null,null,null,null,null,null,null,null,null,null,null,null,null,null,null,"A","RES"]
[null,{"$f":"Parameters!Q6","v":"A01"},null,{"$f":"Parameters!S6","v":"Crop and animal production, hunting and related service activities"},null,null,null,null,null,null,null,null,null,null,null,null,null,null,null,null,null,null,null,null,null,null,null,null,null,null,null,null,null,null,null,null,null,null,null,null,null,null,null,null,null,null,null,null,null,null,null,null,null,null,null,null,null,null,null,null,null,null,null,null,null,null,null,null,null,null,null,null,null,null,null,null,null,null,null,null,null,null,null,null,null,null,null,null,null,null,"A01","RES"]
[null,{"$f":"Parameters!Q7","v":"A02"},null,{"$f":"Parameters!S7","v":"Forestry and logging"},null,null,null,null,null,null,null,null,null,null,null,null,null,null,null,null,null,null,null,null,null,null,null,null,null,null,null,null,null,null,null,null,null,null,null,null,null,null,null,null,null,null,null,null,null,null,null,null,null,null,null,null,null,null,null,null,null,null,null,null,null,null,null,null,null,null,null,null,null,null,null,null,null,null,null,null,null,null,null,null,null,null,null,null,null,null,"A02","RES"]
[null,{"$f":"Parameters!Q8","v":"A03"},null,{"$f":"Parameters!S8","v":"Fishing and aquaculture"},null,null,null,null,null,null,null,null,null,null,null,null,null,null,null,null,null,null,null,null,null,null,null,null,null,null,null,null,null,null,null,null,null,null,null,null,null,null,null,null,null,null,null,null,null,null,null,null,null,null,null,null,null,null,null,null,null,null,null,null,null,null,null,null,null,null,null,null,null,null,null,null,null,null,null,null,null,null,null,null,null,null,null,null,null,null,"A03","RES"]
[null,{"$f":"Parameters!Q9","v":"B"},null,{"$f":"Parameters!S9","v":"Mining and quarrying"},null,null,null,null,null,null,null,null,null,null,null,null,null,null,null,null,null,null,null,null,null,null,null,null,null,null,null,null,null,null,null,null,null,null,null,null,null,null,null,null,null,null,null,null,null,null,null,null,null,null,null,null,null,null,null,null,null,null,null,null,null,null,null,null,null,null,null,null,null,null,null,null,null,null,null,null,null,null,null,null,null,null,null,null,null,null,"B","RES"]
[null,{"$f":"Parameters!Q10","v":"C"},null,{"$f":"Parameters!S10","v":"Manufacturing"},null,null,null,null,null,null,null,null,null,null,null,null,null,null,null,null,null,null,null,null,null,null,null,null,null,null,null,null,null,null,null,null,null,null,null,null,null,null,null,null,null,null,null,null,null,null,null,null,null,null,null,null,null,null,null,null,null,null,null,null,null,null,null,null,null,null,null,null,null,null,null,null,null,null,null,null,null,null,null,null,null,null,null,null,null,null,"C","RES"]
[null,{"$f":"Parameters!Q11","v":"C10-C12"},null,{"$f":"Parameters!S11","v":"Manufacture of food products, beverages and tobacco\nproducts"},null,null,null,null,null,null,null,null,null,null,null,null,null,null,null,null,null,null,null,null,null,null,null,null,null,null,null,null,null,null,null,null,null,null,null,null,null,null,null,null,null,null,null,null,null,null,null,null,null,null,null,null,null,null,null,null,null,null,null,null,null,null,null,null,null,null,null,null,null,null,null,null,null,null,null,null,null,null,null,null,null,null,null,null,null,null,"C10T12","RES"]
[null,{"$f":"Parameters!Q12","v":"C13-C15"},null,{"$f":"Parameters!S12","v":"Manufacture of textiles, wearing apparel and leather products"},null,null,null,null,null,null,null,null,null,null,null,null,null,null,null,null,null,null,null,null,null,null,null,null,null,null,null,null,null,null,null,null,null,null,null,null,null,null,null,null,null,null,null,null,null,null,null,null,null,null,null,null,null,null,null,null,null,null,null,null,null,null,null,null,null,null,null,null,null,null,null,null,null,null,null,null,null,null,null,null,null,null,null,null,null,null,"C13T15","RES"]
[null,{"$f":"Parameters!Q13","v":"C16-C18"},null,{"$f":"Parameters!S13","v":"Manufacture of wood, paper, printing and reproduction"}]
[null,{"$f":"Parameters!Q14","v":"C16"},null,{"$f":"Parameters!S14","v":"Manufacture of wood and of products of wood and cork, except furniture; manufacture of articles of straw and plaiting materials"},null,null,null,null,null,null,null,null,null,null,null,null,null,null,null,null,null,null,null,null,null,null,null,null,null,null,null,null,null,null,null,null,null,null,null,null,null,null,null,null,null,null,null,null,null,null,null,null,null,null,null,null,null,null,null,null,null,null,null,null,null,null,null,null,null,null,null,null,null,null,null,null,null,null,null,null,null,null,null,null,null,null,null,null,null,null,"C16","RES"]
[null,{"$f":"Parameters!Q15","v":"C17"},null,{"$f":"Parameters!S15","v":"Manufacture of paper and paper products"},null,null,null,null,null,null,null,null,null,null,null,null,null,null,null,null,null,null,null,null,null,null,null,null,null,null,null,null,null,null,null,null,null,null,null,null,null,null,null,null,null,null,null,null,null,null,null,null,null,null,null,null,null,null,null,null,null,null,null,null,null,null,null,null,null,null,null,null,null,null,null,null,null,null,null,null,null,null,null,null,null,null,null,null,null,null,"C17","RES"]
[null,{"$f":"Parameters!Q16","v":"C18"},null,{"$f":"Parameters!S16","v":"Printing and reproduction of recorded media"},null,null,null,null,null,null,null,null,null,null,null,null,null,null,null,null,null,null,null,null,null,null,null,null,null,null,null,null,null,null,null,null,null,null,null,null,null,null,null,null,null,null,null,null,null,null,null,null,null,null,null,null,null,null,null,null,null,null,null,null,null,null,null,null,null,null,null,null,null,null,null,null,null,null,null,null,null,null,null,null,null,null,null,null,null,null,"C18","RES"]
[null,{"$f":"Parameters!Q17","v":"C19"},null,{"$f":"Parameters!S17","v":"Manufacture of coke and refined petroleum products"},null,null,null,null,null,null,null,null,null,null,null,null,null,null,null,null,null,null,null,null,null,null,null,null,null,null,null,null,null,null,null,null,null,null,null,null,null,null,null,null,null,null,null,null,null,null,null,null,null,null,null,null,null,null,null,null,null,null,null,null,null,null,null,null,null,null,null,null,null,null,null,null,null,null,null,null,null,null,null,null,null,null,null,null,null,null,"C19","RES"]
[null,{"$f":"Parameters!Q18","v":"C20"},null,{"$f":"Parameters!S18","v":"Manufacture of chemicals and chemical products"},null,null,null,null,null,null,null,null,null,null,null,null,null,null,null,null,null,null,null,null,null,null,null,null,null,null,null,null,null,null,null,null,null,null,null,null,null,null,null,null,null,null,null,null,null,null,null,null,null,null,null,null,null,null,null,null,null,null,null,null,null,null,null,null,null,null,null,null,null,null,null,null,null,null,null,null,null,null,null,null,null,null,null,null,null,null,"C20","RES"]
[null,{"$f":"Parameters!Q19","v":"C21"},null,{"$f":"Parameters!S19","v":"Manufacture of basic pharmaceutical products and pharmaceutical preparations"},null,null,null,null,null,null,null,null,null,null,null,null,null,null,null,null,null,null,null,null,null,null,null,null,null,null,null,null,null,null,null,null,null,null,null,null,null,null,null,null,null,null,null,null,null,null,null,null,null,null,null,null,null,null,null,null,null,null,null,null,null,null,null,null,null,null,null,null,null,null,null,null,null,null,null,null,null,null,null,null,null,null,null,null,null,null,"C21","RES"]
[null,{"$f":"Parameters!Q20","v":"C22_C23"},null,{"$f":"Parameters!S20","v":"Manufacture of rubber and plastic products and other non-metallic mineral products"}]
[null,{"$f":"Parameters!Q21","v":"C22"},null,{"$f":"Parameters!S21","v":"Manufacture of rubber and plastic products"},null,null,null,null,null,null,null,null,null,null,null,null,null,null,null,null,null,null,null,null,null,null,null,null,null,null,null,null,null,null,null,null,null,null,null,null,null,null,null,null,null,null,null,null,null,null,null,null,null,null,null,null,null,null,null,null,null,null,null,null,null,null,null,null,null,null,null,null,null,null,null,null,null,null,null,null,null,null,null,null,null,null,null,null,null,null,"C22","RES"]
[null,{"$f":"Parameters!Q22","v":"C23"},null,{"$f":"Parameters!S22","v":"Manufacture of other non-metallic mineral products"},null,null,null,null,null,null,null,null,null,null,null,null,null,null,null,null,null,null,null,null,null,null,null,null,null,null,null,null,null,null,null,null,null,null,null,null,null,null,null,null,null,null,null,null,null,null,null,null,null,null,null,null,null,null,null,null,null,null,null,null,null,null,null,null,null,null,null,null,null,null,null,null,null,null,null,null,null,null,null,null,null,null,null,null,null,null,"C23","RES"]
[null,{"$f":"Parameters!Q23","v":"C24_C25"},null,{"$f":"Parameters!S23","v":"Manufacture of basic metals and fabricated metal products, except machinery and equipment"}]
[null,{"$f":"Parameters!Q24","v":"C24"},null,{"$f":"Parameters!S24","v":"Manufacture of basic metals"},null,null,null,null,null,null,null,null,null,null,null,null,null,null,null,null,null,null,null,null,null,null,null,null,null,null,null,null,null,null,null,null,null,null,null,null,null,null,null,null,null,null,null,null,null,null,null,null,null,null,null,null,null,null,null,null,null,null,null,null,null,null,null,null,null,null,null,null,null,null,null,null,null,null,null,null,null,null,null,null,null,null,null,null,null,null,"C24","RES"]
[null,{"$f":"Parameters!Q25","v":"C25"},null,{"$f":"Parameters!S25","v":"Manufacture of fabricated metal products, except machinery and equipment"},null,null,null,null,null,null,null,null,null,null,null,null,null,null,null,null,null,null,null,null,null,null,null,null,null,null,null,null,null,null,null,null,null,null,null,null,null,null,null,null,null,null,null,null,null,null,null,null,null,null,null,null,null,null,null,null,null,null,null,null,null,null,null,null,null,null,null,null,null,null,null,null,null,null,null,null,null,null,null,null,null,null,null,null,null,null,"C25","RES"]
[null,{"$f":"Parameters!Q26","v":"C26"},null,{"$f":"Parameters!S26","v":"Manufacture of computer, electronic and optical products"},null,null,null,null,null,null,null,null,null,null,null,null,null,null,null,null,null,null,null,null,null,null,null,null,null,null,null,null,null,null,null,null,null,null,null,null,null,null,null,null,null,null,null,null,null,null,null,null,null,null,null,null,null,null,null,null,null,null,null,null,null,null,null,null,null,null,null,null,null,null,null,null,null,null,null,null,null,null,null,null,null,null,null,null,null,null,"C26","RES"]
[null,{"$f":"Parameters!Q27","v":"C27"},null,{"$f":"Parameters!S27","v":"Manufacture of electrical equipment"},null,null,null,null,null,null,null,null,null,null,null,null,null,null,null,null,null,null,null,null,null,null,null,null,null,null,null,null,null,null,null,null,null,null,null,null,null,null,null,null,null,null,null,null,null,null,null,null,null,null,null,null,null,null,null,null,null,null,null,null,null,null,null,null,null,null,null,null,null,null,null,null,null,null,null,null,null,null,null,null,null,null,null,null,null,null,"C27","RES"]
[null,{"$f":"Parameters!Q28","v":"C28"},null,{"$f":"Parameters!S28","v":"Manufacture of machinery and equipment n.e.c."},null,null,null,null,null,null,null,null,null,null,null,null,null,null,null,null,null,null,null,null,null,null,null,null,null,null,null,null,null,null,null,null,null,null,null,null,null,null,null,null,null,null,null,null,null,null,null,null,null,null,null,null,null,null,null,null,null,null,null,null,null,null,null,null,null,null,null,null,null,null,null,null,null,null,null,null,null,null,null,null,null,null,null,null,null,null,"C28","RES"]
[null,{"$f":"Parameters!Q29","v":"C29_C30"},null,{"$f":"Parameters!S29","v":"Manufacture of motor vehicles, trailers, semi-trailers and of other transport equipment"}]
[null,{"$f":"Parameters!Q30","v":"C29"},null,{"$f":"Parameters!S30","v":"Manufacture of motor vehicles, trailers and semi-trailers"},null,null,null,null,null,null,null,null,null,null,null,null,null,null,null,null,null,null,null,null,null,null,null,null,null,null,null,null,null,null,null,null,null,null,null,null,null,null,null,null,null,null,null,null,null,null,null,null,null,null,null,null,null,null,null,null,null,null,null,null,null,null,null,null,null,null,null,null,null,null,null,null,null,null,null,null,null,null,null,null,null,null,null,null,null,null,"C29","RES"]
[null,{"$f":"Parameters!Q31","v":"C30"},null,{"$f":"Parameters!S31","v":"Manufacture of other transport equipment"},null,null,null,null,null,null,null,null,null,null,null,null,null,null,null,null,null,null,null,null,null,null,null,null,null,null,null,null,null,null,null,null,null,null,null,null,null,null,null,null,null,null,null,null,null,null,null,null,null,null,null,null,null,null,null,null,null,null,null,null,null,null,null,null,null,null,null,null,null,null,null,null,null,null,null,null,null,null,null,null,null,null,null,null,null,null,"C30","RES"]
[null,{"$f":"Parameters!Q32","v":"C31-C33"},null,{"$f":"Parameters!S32","v":"Manufacture of furniture; jewellery, musical instruments, toys; repair and installation of machinery and equipment"}]
[null,{"$f":"Parameters!Q33","v":"C31_C32"},null,{"$f":"Parameters!S33","v":"Manufacture of furniture; other manufacturing"},null,null,null,null,null,null,null,null,null,null,null,null,null,null,null,null,null,null,null,null,null,null,null,null,null,null,null,null,null,null,null,null,null,null,null,null,null,null,null,null,null,null,null,null,null,null,null,null,null,null,null,null,null,null,null,null,null,null,null,null,null,null,null,null,null,null,null,null,null,null,null,null,null,null,null,null,null,null,null,null,null,null,null,null,null,null,"C31_32","RES"]
[null,{"$f":"Parameters!Q34","v":"C33"},null,{"$f":"Parameters!S34","v":"Repair and installation of machinery and equipment"},null,null,null,null,null,null,null,null,null,null,null,null,null,null,null,null,null,null,null,null,null,null,null,null,null,null,null,null,null,null,null,null,null,null,null,null,null,null,null,null,null,null,null,null,null,null,null,null,null,null,null,null,null,null,null,null,null,null,null,null,null,null,null,null,null,null,null,null,null,null,null,null,null,null,null,null,null,null,null,null,null,null,null,null,null,null,"C33","RES"]
[null,{"$f":"Parameters!Q35","v":"D"},null,{"$f":"Parameters!S35","v":"Electricity, gas, steam and air conditioning supply"},null,null,null,null,null,null,null,null,null,null,null,null,null,null,null,null,null,null,null,null,null,null,null,null,null,null,null,null,null,null,null,null,null,null,null,null,null,null,null,null,null,null,null,null,null,null,null,null,null,null,null,null,null,null,null,null,null,null,null,null,null,null,null,null,null,null,null,null,null,null,null,null,null,null,null,null,null,null,null,null,null,null,null,null,null,null,"D","RES"]
[null,{"$f":"Parameters!Q36","v":"E"},null,{"$f":"Parameters!S36","v":"Water supply; sewerage, waste management and remediation activities"},null,null,null,null,null,null,null,null,null,null,null,null,null,null,null,null,null,null,null,null,null,null,null,null,null,null,null,null,null,null,null,null,null,null,null,null,null,null,null,null,null,null,null,null,null,null,null,null,null,null,null,null,null,null,null,null,null,null,null,null,null,null,null,null,null,null,null,null,null,null,null,null,null,null,null,null,null,null,null,null,null,null,null,null,null,null,"E","RES"]
[null,{"$f":"Parameters!Q37","v":"E36"},null,{"$f":"Parameters!S37","v":"Water collection, treatment and supply"},null,null,null,null,null,null,null,null,null,null,null,null,null,null,null,null,null,null,null,null,null,null,null,null,null,null,null,null,null,null,null,null,null,null,null,null,null,null,null,null,null,null,null,null,null,null,null,null,null,null,null,null,null,null,null,null,null,null,null,null,null,null,null,null,null,null,null,null,null,null,null,null,null,null,null,null,null,null,null,null,null,null,null,null,null,null,"E36","RES"]
[null,{"$f":"Parameters!Q38","v":"E37-E39"},null,{"$f":"Parameters!S38","v":"Sewerage, waste management, remediation activities"},null,null,null,null,null,null,null,null,null,null,null,null,null,null,null,null,null,null,null,null,null,null,null,null,null,null,null,null,null,null,null,null,null,null,null,null,null,null,null,null,null,null,null,null,null,null,null,null,null,null,null,null,null,null,null,null,null,null,null,null,null,null,null,null,null,null,null,null,null,null,null,null,null,null,null,null,null,null,null,null,null,null,null,null,null,null,"E37T39","RES"]
[null,{"$f":"Parameters!Q39","v":"F"},null,{"$f":"Parameters!S39","v":"Construction"},null,null,null,null,null,null,null,null,null,null,null,null,null,null,null,null,null,null,null,null,null,null,null,null,null,null,null,null,null,null,null,null,null,null,null,null,null,null,null,null,null,null,null,null,null,null,null,null,null,null,null,null,null,null,null,null,null,null,null,null,null,null,null,null,null,null,null,null,null,null,null,null,null,null,null,null,null,null,null,null,null,null,null,null,null,null,"F","RES"]
[null,{"$f":"Parameters!Q40","v":"G"},null,{"$f":"Parameters!S40","v":"Wholesale and retail trade; repair of motor vehicles and motorcycles"},null,null,null,null,null,null,null,null,null,null,null,null,null,null,null,null,null,null,null,null,null,null,null,null,null,null,null,null,null,null,null,null,null,null,null,null,null,null,null,null,null,null,null,null,null,null,null,null,null,null,null,null,null,null,null,null,null,null,null,null,null,null,null,null,null,null,null,null,null,null,null,null,null,null,null,null,null,null,null,null,null,null,null,null,null,null,"G","RES"]
[null,{"$f":"Parameters!Q41","v":"G45"},null,{"$f":"Parameters!S41","v":"Wholesale and retail trade and repair of motor vehicles and motorcycles"},null,null,null,null,null,null,null,null,null,null,null,null,null,null,null,null,null,null,null,null,null,null,null,null,null,null,null,null,null,null,null,null,null,null,null,null,null,null,null,null,null,null,null,null,null,null,null,null,null,null,null,null,null,null,null,null,null,null,null,null,null,null,null,null,null,null,null,null,null,null,null,null,null,null,null,null,null,null,null,null,null,null,null,null,null,null,"G45","RES"]
[null,{"$f":"Parameters!Q42","v":"G46"},null,{"$f":"Parameters!S42","v":"Wholesale trade, except of motor vehicles and motorcycles"},null,null,null,null,null,null,null,null,null,null,null,null,null,null,null,null,null,null,null,null,null,null,null,null,null,null,null,null,null,null,null,null,null,null,null,null,null,null,null,null,null,null,null,null,null,null,null,null,null,null,null,null,null,null,null,null,null,null,null,null,null,null,null,null,null,null,null,null,null,null,null,null,null,null,null,null,null,null,null,null,null,null,null,null,null,null,"G46","RES"]
[null,{"$f":"Parameters!Q43","v":"G47"},null,{"$f":"Parameters!S43","v":"Retail trade, except of motor vehicles and motorcycles"},null,null,null,null,null,null,null,null,null,null,null,null,null,null,null,null,null,null,null,null,null,null,null,null,null,null,null,null,null,null,null,null,null,null,null,null,null,null,null,null,null,null,null,null,null,null,null,null,null,null,null,null,null,null,null,null,null,null,null,null,null,null,null,null,null,null,null,null,null,null,null,null,null,null,null,null,null,null,null,null,null,null,null,null,null,null,"G47","RES"]
[null,{"$f":"Parameters!Q44","v":"H"},null,{"$f":"Parameters!S44","v":"Transportation and storage"},null,null,null,null,null,null,null,null,null,null,null,null,null,null,null,null,null,null,null,null,null,null,null,null,null,null,null,null,null,null,null,null,null,null,null,null,null,null,null,null,null,null,null,null,null,null,null,null,null,null,null,null,null,null,null,null,null,null,null,null,null,null,null,null,null,null,null,null,null,null,null,null,null,null,null,null,null,null,null,null,null,null,null,null,null,null,"H","RES"]
[null,{"$f":"Parameters!Q45","v":"H49"},null,{"$f":"Parameters!S45","v":"Land transport and transport via pipelines"},null,null,null,null,null,null,null,null,null,null,null,null,null,null,null,null,null,null,null,null,null,null,null,null,null,null,null,null,null,null,null,null,null,null,null,null,null,null,null,null,null,null,null,null,null,null,null,null,null,null,null,null,null,null,null,null,null,null,null,null,null,null,null,null,null,null,null,null,null,null,null,null,null,null,null,null,null,null,null,null,null,null,null,null,null,null,"H49","RES"]
[null,{"$f":"Parameters!Q46","v":"H50"},null,{"$f":"Parameters!S46","v":"Water transport"},null,null,null,null,null,null,null,null,null,null,null,null,null,null,null,null,null,null,null,null,null,null,null,null,null,null,null,null,null,null,null,null,null,null,null,null,null,null,null,null,null,null,null,null,null,null,null,null,null,null,null,null,null,null,null,null,null,null,null,null,null,null,null,null,null,null,null,null,null,null,null,null,null,null,null,null,null,null,null,null,null,null,null,null,null,null,"H50","RES"]
[null,{"$f":"Parameters!Q47","v":"H51"},null,{"$f":"Parameters!S47","v":"Air transport"},null,null,null,null,null,null,null,null,null,null,null,null,null,null,null,null,null,null,null,null,null,null,null,null,null,null,null,null,null,null,null,null,null,null,null,null,null,null,null,null,null,null,null,null,null,null,null,null,null,null,null,null,null,null,null,null,null,null,null,null,null,null,null,null,null,null,null,null,null,null,null,null,null,null,null,null,null,null,null,null,null,null,null,null,null,null,"H51","RES"]
[null,{"$f":"Parameters!Q48","v":"H52"},null,{"$f":"Parameters!S48","v":"Warehousing and support activities for transportation"},null,null,null,null,null,null,null,null,null,null,null,null,null,null,null,null,null,null,null,null,null,null,null,null,null,null,null,null,null,null,null,null,null,null,null,null,null,null,null,null,null,null,null,null,null,null,null,null,null,null,null,null,null,null,null,null,null,null,null,null,null,null,null,null,null,null,null,null,null,null,null,null,null,null,null,null,null,null,null,null,null,null,null,null,null,null,"H52","RES"]
[null,{"$f":"Parameters!Q49","v":"H53"},null,{"$f":"Parameters!S49","v":"Postal and courier activities"},null,null,null,null,null,null,null,null,null,null,null,null,null,null,null,null,null,null,null,null,null,null,null,null,null,null,null,null,null,null,null,null,null,null,null,null,null,null,null,null,null,null,null,null,null,null,null,null,null,null,null,null,null,null,null,null,null,null,null,null,null,null,null,null,null,null,null,null,null,null,null,null,null,null,null,null,null,null,null,null,null,null,null,null,null,null,"H53","RES"]
[null,{"$f":"Parameters!Q50","v":"I"},null,{"$f":"Parameters!S50","v":"Accommodation and food service activities"},null,null,null,null,null,null,null,null,null,null,null,null,null,null,null,null,null,null,null,null,null,null,null,null,null,null,null,null,null,null,null,null,null,null,null,null,null,null,null,null,null,null,null,null,null,null,null,null,null,null,null,null,null,null,null,null,null,null,null,null,null,null,null,null,null,null,null,null,null,null,null,null,null,null,null,null,null,null,null,null,null,null,null,null,null,null,"I","RES"]
[null,{"$f":"Parameters!Q51","v":"J"},null,{"$f":"Parameters!S51","v":"Information and communication"},null,null,null,null,null,null,null,null,null,null,null,null,null,null,null,null,null,null,null,null,null,null,null,null,null,null,null,null,null,null,null,null,null,null,null,null,null,null,null,null,null,null,null,null,null,null,null,null,null,null,null,null,null,null,null,null,null,null,null,null,null,null,null,null,null,null,null,null,null,null,null,null,null,null,null,null,null,null,null,null,null,null,null,null,null,null,"J","RES"]
[null,{"$f":"Parameters!Q52","v":"J58-J60"},null,{"$f":"Parameters!S52","v":"Publishing, motion picture, video, television programme production; sound recording, programming and broadcasting activities"}]
[null,{"$f":"Parameters!Q53","v":"J58"},null,{"$f":"Parameters!S53","v":"Publishing activities"},null,null,null,null,null,null,null,null,null,null,null,null,null,null,null,null,null,null,null,null,null,null,null,null,null,null,null,null,null,null,null,null,null,null,null,null,null,null,null,null,null,null,null,null,null,null,null,null,null,null,null,null,null,null,null,null,null,null,null,null,null,null,null,null,null,null,null,null,null,null,null,null,null,null,null,null,null,null,null,null,null,null,null,null,null,null,"J58","RES"]
[null,{"$f":"Parameters!Q54","v":"J59_J60"},null,{"$f":"Parameters!S54","v":"Motion picture, video, television programme production; programming and broadcasting activities"},null,null,null,null,null,null,null,null,null,null,null,null,null,null,null,null,null,null,null,null,null,null,null,null,null,null,null,null,null,null,null,null,null,null,null,null,null,null,null,null,null,null,null,null,null,null,null,null,null,null,null,null,null,null,null,null,null,null,null,null,null,null,null,null,null,null,null,null,null,null,null,null,null,null,null,null,null,null,null,null,null,null,null,null,null,null,"J59_60","RES"]
[null,{"$f":"Parameters!Q55","v":"J61"},null,{"$f":"Parameters!S55","v":"Telecommunications"},null,null,null,null,null,null,null,null,null,null,null,null,null,null,null,null,null,null,null,null,null,null,null,null,null,null,null,null,null,null,null,null,null,null,null,null,null,null,null,null,null,null,null,null,null,null,null,null,null,null,null,null,null,null,null,null,null,null,null,null,null,null,null,null,null,null,null,null,null,null,null,null,null,null,null,null,null,null,null,null,null,null,null,null,null,null,"J61","RES"]
[null,{"$f":"Parameters!Q56","v":"J62_J63"},null,{"$f":"Parameters!S56","v":"Computer programming, consultancy, and information service activities"},null,null,null,null,null,null,null,null,null,null,null,null,null,null,null,null,null,null,null,null,null,null,null,null,null,null,null,null,null,null,null,null,null,null,null,null,null,null,null,null,null,null,null,null,null,null,null,null,null,null,null,null,null,null,null,null,null,null,null,null,null,null,null,null,null,null,null,null,null,null,null,null,null,null,null,null,null,null,null,null,null,null,null,null,null,null,"J62_63","RES"]
[null,{"$f":"Parameters!Q57","v":"K"},null,{"$f":"Parameters!S57","v":"Financial and insurance activities"},null,null,null,null,null,null,null,null,null,null,null,null,null,null,null,null,null,null,null,null,null,null,null,null,null,null,null,null,null,null,null,null,null,null,null,null,null,null,null,null,null,null,null,null,null,null,null,null,null,null,null,null,null,null,null,null,null,null,null,null,null,null,null,null,null,null,null,null,null,null,null,null,null,null,null,null,null,null,null,null,null,null,null,null,null,null,"K","RES"]
[null,{"$f":"Parameters!Q58","v":"K64"},null,{"$f":"Parameters!S58","v":"Financial service activities, except insurance and pension funding"},null,null,null,null,null,null,null,null,null,null,null,null,null,null,null,null,null,null,null,null,null,null,null,null,null,null,null,null,null,null,null,null,null,null,null,null,null,null,null,null,null,null,null,null,null,null,null,null,null,null,null,null,null,null,null,null,null,null,null,null,null,null,null,null,null,null,null,null,null,null,null,null,null,null,null,null,null,null,null,null,null,null,null,null,null,null,"K64","RES"]
[null,{"$f":"Parameters!Q59","v":"K65"},null,{"$f":"Parameters!S59","v":"Insurance, reinsurance and pension funding, except compulsory social security"},null,null,null,null,null,null,null,null,null,null,null,null,null,null,null,null,null,null,null,null,null,null,null,null,null,null,null,null,null,null,null,null,null,null,null,null,null,null,null,null,null,null,null,null,null,null,null,null,null,null,null,null,null,null,null,null,null,null,null,null,null,null,null,null,null,null,null,null,null,null,null,null,null,null,null,null,null,null,null,null,null,null,null,null,null,null,"K65","RES"]
[null,{"$f":"Parameters!Q60","v":"K66"},null,{"$f":"Parameters!S60","v":"Activities auxiliary to financial services and insurance activities"},null,null,null,null,null,null,null,null,null,null,null,null,null,null,null,null,null,null,null,null,null,null,null,null,null,null,null,null,null,null,null,null,null,null,null,null,null,null,null,null,null,null,null,null,null,null,null,null,null,null,null,null,null,null,null,null,null,null,null,null,null,null,null,null,null,null,null,null,null,null,null,null,null,null,null,null,null,null,null,null,null,null,null,null,null,null,"K66","RES"]
[null,{"$f":"Parameters!Q61","v":"L"},null,{"$f":"Parameters!S61","v":"Real estate activities"},null,null,null,null,null,null,null,null,null,null,null,null,null,null,null,null,null,null,null,null,null,null,null,null,null,null,null,null,null,null,null,null,null,null,null,null,null,null,null,null,null,null,null,null,null,null,null,null,null,null,null,null,null,null,null,null,null,null,null,null,null,null,null,null,null,null,null,null,null,null,null,null,null,null,null,null,null,null,null,null,null,null,null,null,null,null,"L","RES"]
[null,{"$f":"Parameters!Q62","v":"L68A"},null,{"$f":"Parameters!S62","v":"Imputed rents of owner-occupied dwellings"},null,null,null,null,null,null,null,null,null,null,null,null,null,null,null,null,null,null,null,null,null,null,null,null,null,null,null,null,null,null,null,null,null,null,null,null,null,null,null,null,null,null,null,null,null,null,null,null,null,null,null,null,null,null,null,null,null,null,null,null,null,null,null,null,null,null,null,null,null,null,null,null,null,null,null,null,null,null,null,null,null,null,null,null,null,null,"L68A","RES"]
[null,{"$f":"Parameters!Q63","v":"M"},null,{"$f":"Parameters!S63","v":"Professional, scientific and technical activities"},null,null,null,null,null,null,null,null,null,null,null,null,null,null,null,null,null,null,null,null,null,null,null,null,null,null,null,null,null,null,null,null,null,null,null,null,null,null,null,null,null,null,null,null,null,null,null,null,null,null,null,null,null,null,null,null,null,null,null,null,null,null,null,null,null,null,null,null,null,null,null,null,null,null,null,null,null,null,null,null,null,null,null,null,null,null,"M","RES"]
[null,{"$f":"Parameters!Q64","v":"M69-M71"},null,{"$f":"Parameters!S64","v":"Legal and accounting activities; activities of head offices; management consultancy activities; architectural and engineering activities; technical testing and analysis"}]
[null,{"$f":"Parameters!Q65","v":"M69_M70"},null,{"$f":"Parameters!S65","v":"Legal and accounting activities; activities of head offices; management consultancy activities"},null,null,null,null,null,null,null,null,null,null,null,null,null,null,null,null,null,null,null,null,null,null,null,null,null,null,null,null,null,null,null,null,null,null,null,null,null,null,null,null,null,null,null,null,null,null,null,null,null,null,null,null,null,null,null,null,null,null,null,null,null,null,null,null,null,null,null,null,null,null,null,null,null,null,null,null,null,null,null,null,null,null,null,null,null,null,"M69_70","RES"]
[null,{"$f":"Parameters!Q66","v":"M71"},null,{"$f":"Parameters!S66","v":"Architectural and engineering activities; technical testing and analysis"},null,null,null,null,null,null,null,null,null,null,null,null,null,null,null,null,null,null,null,null,null,null,null,null,null,null,null,null,null,null,null,null,null,null,null,null,null,null,null,null,null,null,null,null,null,null,null,null,null,null,null,null,null,null,null,null,null,null,null,null,null,null,null,null,null,null,null,null,null,null,null,null,null,null,null,null,null,null,null,null,null,null,null,null,null,null,"M71","RES"]
[null,{"$f":"Parameters!Q67","v":"M72"},null,{"$f":"Parameters!S67","v":"Scientific research and development"},null,null,null,null,null,null,null,null,null,null,null,null,null,null,null,null,null,null,null,null,null,null,null,null,null,null,null,null,null,null,null,null,null,null,null,null,null,null,null,null,null,null,null,null,null,null,null,null,null,null,null,null,null,null,null,null,null,null,null,null,null,null,null,null,null,null,null,null,null,null,null,null,null,null,null,null,null,null,null,null,null,null,null,null,null,null,"M72","RES"]
[null,{"$f":"Parameters!Q68","v":"M73-M75"},null,{"$f":"Parameters!S68","v":"Advertising and market research; other professional, scientific and technical activities; veterinary activities"}]
[null,{"$f":"Parameters!Q69","v":"M73"},null,{"$f":"Parameters!S69","v":"Advertising and market research"},null,null,null,null,null,null,null,null,null,null,null,null,null,null,null,null,null,null,null,null,null,null,null,null,null,null,null,null,null,null,null,null,null,null,null,null,null,null,null,null,null,null,null,null,null,null,null,null,null,null,null,null,null,null,null,null,null,null,null,null,null,null,null,null,null,null,null,null,null,null,null,null,null,null,null,null,null,null,null,null,null,null,null,null,null,null,"M73","RES"]
[null,{"$f":"Parameters!Q70","v":"M74_M75"},null,{"$f":"Parameters!S70","v":"Other professional, scientific and technical activities; veterinary activities"},null,null,null,null,null,null,null,null,null,null,null,null,null,null,null,null,null,null,null,null,null,null,null,null,null,null,null,null,null,null,null,null,null,null,null,null,null,null,null,null,null,null,null,null,null,null,null,null,null,null,null,null,null,null,null,null,null,null,null,null,null,null,null,null,null,null,null,null,null,null,null,null,null,null,null,null,null,null,null,null,null,null,null,null,null,null,"M74_75","RES"]
[null,{"$f":"Parameters!Q71","v":"N"},null,{"$f":"Parameters!S71","v":"Administrative and support service activities"},null,null,null,null,null,null,null,null,null,null,null,null,null,null,null,null,null,null,null,null,null,null,null,null,null,null,null,null,null,null,null,null,null,null,null,null,null,null,null,null,null,null,null,null,null,null,null,null,null,null,null,null,null,null,null,null,null,null,null,null,null,null,null,null,null,null,null,null,null,null,null,null,null,null,null,null,null,null,null,null,null,null,null,null,null,null,"N","RES"]
[null,{"$f":"Parameters!Q72","v":"N77"},null,{"$f":"Parameters!S72","v":"Rental and leasing activities"},null,null,null,null,null,null,null,null,null,null,null,null,null,null,null,null,null,null,null,null,null,null,null,null,null,null,null,null,null,null,null,null,null,null,null,null,null,null,null,null,null,null,null,null,null,null,null,null,null,null,null,null,null,null,null,null,null,null,null,null,null,null,null,null,null,null,null,null,null,null,null,null,null,null,null,null,null,null,null,null,null,null,null,null,null,null,"N77","RES"]
[null,{"$f":"Parameters!Q73","v":"N78"},null,{"$f":"Parameters!S73","v":"Employment activities"},null,null,null,null,null,null,null,null,null,null,null,null,null,null,null,null,null,null,null,null,null,null,null,null,null,null,null,null,null,null,null,null,null,null,null,null,null,null,null,null,null,null,null,null,null,null,null,null,null,null,null,null,null,null,null,null,null,null,null,null,null,null,null,null,null,null,null,null,null,null,null,null,null,null,null,null,null,null,null,null,null,null,null,null,null,null,"N78","RES"]
[null,{"$f":"Parameters!Q74","v":"N79"},null,{"$f":"Parameters!S74","v":"Travel agency, tour operator reservation service and related activities"},null,null,null,null,null,null,null,null,null,null,null,null,null,null,null,null,null,null,null,null,null,null,null,null,null,null,null,null,null,null,null,null,null,null,null,null,null,null,null,null,null,null,null,null,null,null,null,null,null,null,null,null,null,null,null,null,null,null,null,null,null,null,null,null,null,null,null,null,null,null,null,null,null,null,null,null,null,null,null,null,null,null,null,null,null,null,"N79","RES"]
[null,{"$f":"Parameters!Q75","v":"N80-N82"},null,{"$f":"Parameters!S75","v":"Security and investigation, service and landscape, office administrative and support activities"},null,null,null,null,null,null,null,null,null,null,null,null,null,null,null,null,null,null,null,null,null,null,null,null,null,null,null,null,null,null,null,null,null,null,null,null,null,null,null,null,null,null,null,null,null,null,null,null,null,null,null,null,null,null,null,null,null,null,null,null,null,null,null,null,null,null,null,null,null,null,null,null,null,null,null,null,null,null,null,null,null,null,null,null,null,null,"N80T82","RES"]
[null,{"$f":"Parameters!Q76","v":"O"},null,{"$f":"Parameters!S76","v":"Public administration and defence; compulsory social security"},null,null,null,null,null,null,null,null,null,null,null,null,null,null,null,null,null,null,null,null,null,null,null,null,null,null,null,null,null,null,null,null,null,null,null,null,null,null,null,null,null,null,null,null,null,null,null,null,null,null,null,null,null,null,null,null,null,null,null,null,null,null,null,null,null,null,null,null,null,null,null,null,null,null,null,null,null,null,null,null,null,null,null,null,null,null,"O","RES"]
[null,{"$f":"Parameters!Q77","v":"P"},null,{"$f":"Parameters!S77","v":"Education"},null,null,null,null,null,null,null,null,null,null,null,null,null,null,null,null,null,null,null,null,null,null,null,null,null,null,null,null,null,null,null,null,null,null,null,null,null,null,null,null,null,null,null,null,null,null,null,null,null,null,null,null,null,null,null,null,null,null,null,null,null,null,null,null,null,null,null,null,null,null,null,null,null,null,null,null,null,null,null,null,null,null,null,null,null,null,"P","RES"]
[null,{"$f":"Parameters!Q78","v":"Q"},null,{"$f":"Parameters!S78","v":"Human health and social work activities"},null,null,null,null,null,null,null,null,null,null,null,null,null,null,null,null,null,null,null,null,null,null,null,null,null,null,null,null,null,null,null,null,null,null,null,null,null,null,null,null,null,null,null,null,null,null,null,null,null,null,null,null,null,null,null,null,null,null,null,null,null,null,null,null,null,null,null,null,null,null,null,null,null,null,null,null,null,null,null,null,null,null,null,null,null,null,"Q","RES"]
[null,{"$f":"Parameters!Q79","v":"Q86"},null,{"$f":"Parameters!S79","v":"Human health activities"},null,null,null,null,null,null,null,null,null,null,null,null,null,null,null,null,null,null,null,null,null,null,null,null,null,null,null,null,null,null,null,null,null,null,null,null,null,null,null,null,null,null,null,null,null,null,null,null,null,null,null,null,null,null,null,null,null,null,null,null,null,null,null,null,null,null,null,null,null,null,null,null,null,null,null,null,null,null,null,null,null,null,null,null,null,null,"Q86","RES"]
[null,{"$f":"Parameters!Q80","v":"Q87_Q88"},null,{"$f":"Parameters!S80","v":"Residential care activities and social work activities without accommodation"},null,null,null,null,null,null,null,null,null,null,null,null,null,null,null,null,null,null,null,null,null,null,null,null,null,null,null,null,null,null,null,null,null,null,null,null,null,null,null,null,null,null,null,null,null,null,null,null,null,null,null,null,null,null,null,null,null,null,null,null,null,null,null,null,null,null,null,null,null,null,null,null,null,null,null,null,null,null,null,null,null,null,null,null,null,null,"Q87_88","RES"]
[null,{"$f":"Parameters!Q81","v":"R"},null,{"$f":"Parameters!S81","v":"Arts, entertainment and recreation"},null,null,null,null,null,null,null,null,null,null,null,null,null,null,null,null,null,null,null,null,null,null,null,null,null,null,null,null,null,null,null,null,null,null,null,null,null,null,null,null,null,null,null,null,null,null,null,null,null,null,null,null,null,null,null,null,null,null,null,null,null,null,null,null,null,null,null,null,null,null,null,null,null,null,null,null,null,null,null,null,null,null,null,null,null,null,"R","RES"]
[null,{"$f":"Parameters!Q82","v":"R90-R92"},null,{"$f":"Parameters!S82","v":"Creative, arts and entertainment activities; libraries, archives, museums and other cultural activities; gambling and betting activities"},null,null,null,null,null,null,null,null,null,null,null,null,null,null,null,null,null,null,null,null,null,null,null,null,null,null,null,null,null,null,null,null,null,null,null,null,null,null,null,null,null,null,null,null,null,null,null,null,null,null,null,null,null,null,null,null,null,null,null,null,null,null,null,null,null,null,null,null,null,null,null,null,null,null,null,null,null,null,null,null,null,null,null,null,null,null,"R90T92","RES"]
[null,{"$f":"Parameters!Q83","v":"R93"},null,{"$f":"Parameters!S83","v":"Sports activities and amusement and recreation activities"},null,null,null,null,null,null,null,null,null,null,null,null,null,null,null,null,null,null,null,null,null,null,null,null,null,null,null,null,null,null,null,null,null,null,null,null,null,null,null,null,null,null,null,null,null,null,null,null,null,null,null,null,null,null,null,null,null,null,null,null,null,null,null,null,null,null,null,null,null,null,null,null,null,null,null,null,null,null,null,null,null,null,null,null,null,null,"R93","RES"]
[null,{"$f":"Parameters!Q84","v":"S"},null,{"$f":"Parameters!S84","v":"Other service activities"},null,null,null,null,null,null,null,null,null,null,null,null,null,null,null,null,null,null,null,null,null,null,null,null,null,null,null,null,null,null,null,null,null,null,null,null,null,null,null,null,null,null,null,null,null,null,null,null,null,null,null,null,null,null,null,null,null,null,null,null,null,null,null,null,null,null,null,null,null,null,null,null,null,null,null,null,null,null,null,null,null,null,null,null,null,null,"S","RES"]
[null,{"$f":"Parameters!Q85","v":"S94"},null,{"$f":"Parameters!S85","v":"Activities of membership organisations"},null,null,null,null,null,null,null,null,null,null,null,null,null,null,null,null,null,null,null,null,null,null,null,null,null,null,null,null,null,null,null,null,null,null,null,null,null,null,null,null,null,null,null,null,null,null,null,null,null,null,null,null,null,null,null,null,null,null,null,null,null,null,null,null,null,null,null,null,null,null,null,null,null,null,null,null,null,null,null,null,null,null,null,null,null,null,"S94","RES"]
[null,{"$f":"Parameters!Q86","v":"S95"},null,{"$f":"Parameters!S86","v":"Repair of computers and personal and household goods"},null,null,null,null,null,null,null,null,null,null,null,null,null,null,null,null,null,null,null,null,null,null,null,null,null,null,null,null,null,null,null,null,null,null,null,null,null,null,null,null,null,null,null,null,null,null,null,null,null,null,null,null,null,null,null,null,null,null,null,null,null,null,null,null,null,null,null,null,null,null,null,null,null,null,null,null,null,null,null,null,null,null,null,null,null,null,"S95","RES"]
[null,{"$f":"Parameters!Q87","v":"S96"},null,{"$f":"Parameters!S87","v":"Other personal service activities"},null,null,null,null,null,null,null,null,null,null,null,null,null,null,null,null,null,null,null,null,null,null,null,null,null,null,null,null,null,null,null,null,null,null,null,null,null,null,null,null,null,null,null,null,null,null,null,null,null,null,null,null,null,null,null,null,null,null,null,null,null,null,null,null,null,null,null,null,null,null,null,null,null,null,null,null,null,null,null,null,null,null,null,null,null,null,"S96","RES"]
[null,{"$f":"Parameters!Q88","v":"T"},null,{"$f":"Parameters!S88","v":"Activities of households as employers; undifferentiated goods- and services-producing activities of households for own use"},null,null,null,null,null,null,null,null,null,null,null,null,null,null,null,null,null,null,null,null,null,null,null,null,null,null,null,null,null,null,null,null,null,null,null,null,null,null,null,null,null,null,null,null,null,null,null,null,null,null,null,null,null,null,null,null,null,null,null,null,null,null,null,null,null,null,null,null,null,null,null,null,null,null,null,null,null,null,null,null,null,null,null,null,null,null,"T","RES"]
[null,{"$f":"Parameters!Q89","v":"U"},null,{"$f":"Parameters!S89","v":"Activities of extraterritorial organisations and bodies"},null,null,null,null,null,null,null,null,null,null,null,null,null,null,null,null,null,null,null,null,null,null,null,null,null,null,null,null,null,null,null,null,null,null,null,null,null,null,null,null,null,null,null,null,null,null,null,null,null,null,null,null,null,null,null,null,null,null,null,null,null,null,null,null,null,null,null,null,null,null,null,null,null,null,null,null,null,null,null,null,null,null,null,null,null,null,"U","RES"]
[null,"   Household air emissions\n                                          Households, totals",null,null,null,null,null,null,null,null,null,null,null,null,null,null,null,null,null,null,null,null,null,null,null,null,null,null,null,null,null,null,null,null,null,null,null,null,null,null,null,null,null,null,null,null,null,null,null,null,null,null,null,null,null,null,null,null,null,null,null,null,null,null,null,null,null,null,null,null,null,null,null,null,null,null,null,null,null,null,null,null,null,null,null,null,null,null,null,null,"HH","RES"]
[null,null,null,"- Transport",null,null,null,null,null,null,null,null,null,null,null,null,null,null,null,null,null,null,null,null,null,null,null,null,null,null,null,null,null,null,null,null,null,null,null,null,null,null,null,null,null,null,null,null,null,null,null,null,null,null,null,null,null,null,null,null,null,null,null,null,null,null,null,null,null,null,null,null,null,null,null,null,null,null,null,null,null,null,null,null,null,null,null,null,null,null,"HH_TR","RES"]
[null,null,null,"- Heating/cooling",null,null,null,null,null,null,null,null,null,null,null,null,null,null,null,null,null,null,null,null,null,null,null,null,null,null,null,null,null,null,null,null,null,null,null,null,null,null,null,null,null,null,null,null,null,null,null,null,null,null,null,null,null,null,null,null,null,null,null,null,null,null,null,null,null,null,null,null,null,null,null,null,null,null,null,null,null,null,null,null,null,null,null,null,null,null,"HH_HEAT","RES"]
[null,null,null,"- Other",null,null,null,null,null,null,null,null,null,null,null,null,null,null,null,null,null,null,null,null,null,null,null,null,null,null,null,null,null,null,null,null,null,null,null,null,null,null,null,null,null,null,null,null,null,null,null,null,null,null,null,null,null,null,null,null,null,null,null,null,null,null,null,null,null,null,null,null,null,null,null,null,null,null,null,null,null,null,null,null,null,null,null,null,null,null,"HH_OTH","RES"]
[null,"   Bridging items\n\n1                              Total Air emissions accounts (industry (row 5) + households (row 91))",null,null,null,null,null,null,null,null,null,null,null,null,null,null,null,null,null,null,null,null,null,null,null,null,null,null,null,null,null,null,null,null,null,null,null,null,null,null,null,null,null,null,null,null,null,null,null,null,null,null,null,null,null,null,null,null,null,null,null,null,null,null,null,null,null,null,null,null,null,null,null,null,null,null,null,null,null,null,null,null,null,null,null,null,null,null,null,null,"ATU_HH","RES"]
[null,2,null,"less National residents abroad",null,null,null,null,null,null,null,null,null,null,null,null,null,null,null,null,null,null,null,null,null,null,null,null,null,null,null,null,null,null,null,null,null,null,null,null,null,null,null,null,null,null,null,null,null,null,null,null,null,null,null,null,null,null,null,null,null,null,null,null,null,null,null,null,null,null,null,null,null,null,null,null,null,null,null,null,null,null,null,null,null,null,null,null,null,null,"ATU_HH","RES_ABR"]
[null,2.1,null,"-  National fishing vessels operating abroad",null,null,null,null,null,null,null,null,null,null,null,null,null,null,null,null,null,null,null,null,null,null,null,null,null,null,null,null,null,null,null,null,null,null,null,null,null,null,null,null,null,null,null,null,null,null,null,null,null,null,null,null,null,null,null,null,null,null,null,null,null,null,null,null,null,null,null,null,null,null,null,null,null,null,null,null,null,null,null,null,null,null,null,null,null,null,"ATU_HH","RES_ABR_FWTR"]
[null,2.2000000000000002,null,"-  Land transport",null,null,null,null,null,null,null,null,null,null,null,null,null,null,null,null,null,null,null,null,null,null,null,null,null,null,null,null,null,null,null,null,null,null,null,null,null,null,null,null,null,null,null,null,null,null,null,null,null,null,null,null,null,null,null,null,null,null,null,null,null,null,null,null,null,null,null,null,null,null,null,null,null,null,null,null,null,null,null,null,null,null,null,null,null,null,"ATU_HH","RES_ABR_LTR"]
[null,2.2999999999999998,null,"-  Water transport",null,null,null,null,null,null,null,null,null,null,null,null,null,null,null,null,null,null,null,null,null,null,null,null,null,null,null,null,null,null,null,null,null,null,null,null,null,null,null,null,null,null,null,null,null,null,null,null,null,null,null,null,null,null,null,null,null,null,null,null,null,null,null,null,null,null,null,null,null,null,null,null,null,null,null,null,null,null,null,null,null,null,null,null,null,null,"ATU_HH","RES_ABR_WTR"]
[null,2.4,null,"-  Air transport",null,null,null,null,null,null,null,null,null,null,null,null,null,null,null,null,null,null,null,null,null,null,null,null,null,null,null,null,null,null,null,null,null,null,null,null,null,null,null,null,null,null,null,null,null,null,null,null,null,null,null,null,null,null,null,null,null,null,null,null,null,null,null,null,null,null,null,null,null,null,null,null,null,null,null,null,null,null,null,null,null,null,null,null,null,null,"ATU_HH","RES_ABR_ATR"]
[null,3,null,"plus Non-residents on the territory",null,null,null,null,null,null,null,null,null,null,null,null,null,null,null,null,null,null,null,null,null,null,null,null,null,null,null,null,null,null,null,null,null,null,null,null,null,null,null,null,null,null,null,null,null,null,null,null,null,null,null,null,null,null,null,null,null,null,null,null,null,null,null,null,null,null,null,null,null,null,null,null,null,null,null,null,null,null,null,null,null,null,null,null,null,null,"ATU_HH","TER_NRES"]
[null,3.1,null,"+  Land transport",null,null,null,null,null,null,null,null,null,null,null,null,null,null,null,null,null,null,null,null,null,null,null,null,null,null,null,null,null,null,null,null,null,null,null,null,null,null,null,null,null,null,null,null,null,null,null,null,null,null,null,null,null,null,null,null,null,null,null,null,null,null,null,null,null,null,null,null,null,null,null,null,null,null,null,null,null,null,null,null,null,null,null,null,null,null,"ATU_HH","TER_NRES_LTR"]
[null,3.2,null,"+ Water transport",null,null,null,null,null,null,null,null,null,null,null,null,null,null,null,null,null,null,null,null,null,null,null,null,null,null,null,null,null,null,null,null,null,null,null,null,null,null,null,null,null,null,null,null,null,null,null,null,null,null,null,null,null,null,null,null,null,null,null,null,null,null,null,null,null,null,null,null,null,null,null,null,null,null,null,null,null,null,null,null,null,null,null,null,null,null,"ATU_HH","TER_NRES_WTR"]
[null,3.3,null,"+  Air transport",null,null,null,null,null,null,null,null,null,null,null,null,null,null,null,null,null,null,null,null,null,null,null,null,null,null,null,null,null,null,null,null,null,null,null,null,null,null,null,null,null,null,null,null,null,null,null,null,null,null,null,null,null,null,null,null,null,null,null,null,null,null,null,null,null,null,null,null,null,null,null,null,null,null,null,null,null,null,null,null,null,null,null,null,null,null,"ATU_HH","TER_NRES_ATR"]
[null,4,null,"Other adjustments and statistical discrepancy",null,null,null,null,null,null,null,null,null,null,null,null,null,null,null,null,null,null,null,null,null,null,null,null,null,null,null,null,null,null,null,null,null,null,null,null,null,null,null,null,null,null,null,null,null,null,null,null,null,null,null,null,null,null,null,null,null,null,null,null,null,null,null,null,null,null,null,null,null,null,null,null,null,null,null,null,null,null,null,null,null,null,null,null,null,null,"ATU_HH","ADJ_SD"]
[null,5,null,"'National total for the entire territory' as reported to CLRTAP (Annex 1)",null,null,null,null,null,null,null,null,null,null,null,null,null,null,null,null,null,null,null,null,null,null,null,null,null,null,null,null,null,null,null,null,null,null,null,null,null,null,null,null,null,null,null,null,null,null,null,null,null,null,null,null,null,null,null,null,null,null,null,null,null,null,null,null,null,null,null,null,null,null,null,null,null,null,null,null,null,null,null,null,null,null,null,null,null,null,"ATU_HH","TER"]
[null,null,null,"Year of submission to CLRTAP"]
[]
[null,"Explanatory notes for bridging items:"]
[null,1,"Total Air emissions accounts (industry (row 5) + households (row 91)) - residence principle"]
[]
[null,2.1,"Fishing vessels operated by resident units bunkering outside of the reporting country"]
[null,2.2000000000000002,"Land transport (incl. rail) by resident units fuelling outside of the reporting country"]
[null,2.2999999999999998,"Any navigation by resident units bunkering at ports outside of the reporting country and international navigation by resident units bunkering at ports of the reporting country"]
[null,2.4,"Any aviation by resident units bunkering at airports outside of the reporting country and any cruise aviation by resident units bunkering at airports of the reporting country"]
[]
[null,3.1,"Land transport (incl. rail) by non-resident units fuelling on the territory of the reporting country"]
[null,3.2,"National and international inland waterways navigation by non-residents bunkering at ports of the reporting country"]
[null,3.3,"LTO (landing and take off) aviation by non-residents bunkering at  airports of the reporting country"]
[]
[null,5,"National totals in CLRTAP inventories include all LTO aviation departing from domestic airports - territory principle"]
[null,null,"National totals in CLRTAP inventories include all national and international inland waterways navigation for which the fuel is bunkered in ports of the reporting country - territory principle"]

{"sheet":"NMVOC_ROAD","index":24,"n_rows":122,"n_cols":98,"rows_kept":122,"cut":false,"hidden":false,"merged":[[0,94,2,94],[0,95,2,95],[0,96,2,96],[0,97,2,97],[0,93,2,93],[1,1,1,2],[2,1,2,2],[2,3,2,4],[2,47,2,48],[0,88,2,88],[0,89,2,89],[0,90,2,90],[0,91,2,91],[0,92,2,92],[0,27,2,28],[0,29,2,30],[0,31,2,32],[0,33,2,34],[0,35,2,36],[0,87,2,87],[0,15,2,16],[0,17,2,18],[0,19,2,20],[0,21,2,22],[0,23,2,24],[0,25,2,26],[0,1,0,2],[0,5,2,6],[0,7,2,8],[8,3,8,4],[0,9,2,10],[0,11,2,12],[0,13,2,14],[9,3,9,4],[10,3,10,4],[11,3,11,4],[12,3,12,4],[13,3,13,4],[3,1,3,4],[4,1,4,2],[4,3,4,4],[5,3,5,4],[6,3,6,4],[7,3,7,4],[20,3,20,4],[21,3,21,4],[22,3,22,4],[23,3,23,4],[24,3,24,4],[25,3,25,4],[14,3,14,4],[15,3,15,4],[16,3,16,4],[17,3,17,4],[18,3,18,4],[19,3,19,4],[32,3,32,4],[33,3,33,4],[34,3,34,4],[35,3,35,4],[36,3,36,4],[37,3,37,4],[26,3,26,4],[27,3,27,4],[28,3,28,4],[29,3,29,4],[30,3,30,4],[31,3,31,4],[44,3,44,4],[45,3,45,4],[46,3,46,4],[47,3,47,4],[48,3,48,4],[49,3,49,4],[38,3,38,4],[39,3,39,4],[40,3,40,4],[41,3,41,4],[42,3,42,4],[43,3,43,4],[56,3,56,4],[57,3,57,4],[58,3,58,4],[59,3,59,4],[60,3,60,4],[61,3,61,4],[50,3,50,4],[51,3,51,4],[52,3,52,4],[53,3,53,4],[54,3,54,4],[55,3,55,4],[68,3,68,4],[69,3,69,4],[70,3,70,4],[71,3,71,4],[72,3,72,4],[73,3,73,4],[62,3,62,4],[63,3,63,4],[64,3,64,4],[65,3,65,4],[66,3,66,4],[67,3,67,4],[80,3,80,4],[81,3,81,4],[82,3,82,4],[83,3,83,4],[84,3,84,4],[85,3,85,4],[74,3,74,4],[75,3,75,4],[76,3,76,4],[77,3,77,4],[78,3,78,4],[79,3,79,4],[92,3,92,4],[93,3,93,4],[94,1,94,4],[95,3,95,4],[96,3,96,4],[97,3,97,4],[86,3,86,4],[87,3,87,4],[88,3,88,4],[89,3,89,4],[90,1,90,4],[91,3,91,4],[104,3,104,4],[105,3,105,4],[106,3,106,4],[98,3,98,4],[99,3,99,4],[100,3,100,4],[101,3,101,4],[102,3,102,4],[103,3,103,4]]}
["DATAENTRY","Country:",null,{"$f":"intro!F7","v":""},null,null,null,null,null,null,null,null,null,null,null,null,null,null,null,null,null,null,null,null,null,null,null,null,null,null,null,null,null,null,null,null,null,null,null,null,null,null,null,null,null,null,null,null,null,null,null,null,null,null,null,null,null,null,null,null,null,null,null,null,null,null,null,null,null,null,null,null,null,null,null,null,null,null,null,null,null,null,null,null,null,null,null,"DEMAND_PROD","ACCOUNTING_ENTRY","COUNTERPART_AREA","INTERACTORS","BRIDGE_ITEM","AIRPOL","STO","UNIT_MEASURE","UNIT_MULT","PRODUCT","SECTOR"]
[null,"Air Pollutant",null,"NMVOC_ROAD","Non-methane volatile organic compounds from road transport"]
["TSO2E","Unit","Million National Currency","tonnes (Mg)"]
[null,"Air emissions by industry",null,null,null,1995,null,1996,null,1997,null,1998,null,1999,null,2000,null,2001,null,2002,null,2003,null,2004,null,2005,null,2006,null,2007,null,2008,null,2009,null,2010,null,2011,null,2012,null,2013,null,2014,null,2015,null,2016,null,2017,null,2018,null,2019,null,2020,null,2021,null,2022,null,2023,null,2024]
[null,{"$f":"Parameters!Q4","v":"A_U   01-99"},null,{"$f":"Parameters!S4","v":"Total industries"},null,null,null,null,null,null,null,null,null,null,null,null,null,null,null,null,null,null,null,null,null,null,null,null,null,null,null,null,null,null,null,null,null,null,null,null,null,null,null,null,null,null,null,null,null,null,null,null,null,null,null,null,null,null,null,null,null,null,null,null,null,null,null,null,null,null,null,null,null,null,null,null,null,null,null,null,null,null,null,null,null,null,null,"P","EC","W2","ATU","RES","SOX","_Z","TSO2E",0,"_T","S1"]
[null,{"$f":"Parameters!Q5","v":"A"},null,{"$f":"Parameters!S5","v":"Agriculture, forestry and fishing"},null,null,null,null,null,null,null,null,null,null,null,null,null,null,null,null,null,null,null,null,null,null,null,null,null,null,null,null,null,null,null,null,null,null,null,null,null,null,null,null,null,null,null,null,null,null,null,null,null,null,null,null,null,null,null,null,null,null,null,null,null,null,null,null,null,null,null,null,null,null,null,null,null,null,null,null,null,null,null,null,null,null,null,null,null,null,"A","RES"]
[null,{"$f":"Parameters!Q6","v":"A01"},null,{"$f":"Parameters!S6","v":"Crop and animal production, hunting and related service activities"},null,null,null,null,null,null,null,null,null,null,null,null,null,null,null,null,null,null,null,null,null,null,null,null,null,null,null,null,null,null,null,null,null,null,null,null,null,null,null,null,null,null,null,null,null,null,null,null,null,null,null,null,null,null,null,null,null,null,null,null,null,null,null,null,null,null,null,null,null,null,null,null,null,null,null,null,null,null,null,null,null,null,null,null,null,null,"A01","RES"]
[null,{"$f":"Parameters!Q7","v":"A02"},null,{"$f":"Parameters!S7","v":"Forestry and logging"},null,null,null,null,null,null,null,null,null,null,null,null,null,null,null,null,null,null,null,null,null,null,null,null,null,null,null,null,null,null,null,null,null,null,null,null,null,null,null,null,null,null,null,null,null,null,null,null,null,null,null,null,null,null,null,null,null,null,null,null,null,null,null,null,null,null,null,null,null,null,null,null,null,null,null,null,null,null,null,null,null,null,null,null,null,null,"A02","RES"]
[null,{"$f":"Parameters!Q8","v":"A03"},null,{"$f":"Parameters!S8","v":"Fishing and aquaculture"},null,null,null,null,null,null,null,null,null,null,null,null,null,null,null,null,null,null,null,null,null,null,null,null,null,null,null,null,null,null,null,null,null,null,null,null,null,null,null,null,null,null,null,null,null,null,null,null,null,null,null,null,null,null,null,null,null,null,null,null,null,null,null,null,null,null,null,null,null,null,null,null,null,null,null,null,null,null,null,null,null,null,null,null,null,null,"A03","RES"]
[null,{"$f":"Parameters!Q9","v":"B"},null,{"$f":"Parameters!S9","v":"Mining and quarrying"},null,null,null,null,null,null,null,null,null,null,null,null,null,null,null,null,null,null,null,null,null,null,null,null,null,null,null,null,null,null,null,null,null,null,null,null,null,null,null,null,null,null,null,null,null,null,null,null,null,null,null,null,null,null,null,null,null,null,null,null,null,null,null,null,null,null,null,null,null,null,null,null,null,null,null,null,null,null,null,null,null,null,null,null,null,null,"B","RES"]
[null,{"$f":"Parameters!Q10","v":"C"},null,{"$f":"Parameters!S10","v":"Manufacturing"},null,null,null,null,null,null,null,null,null,null,null,null,null,null,null,null,null,null,null,null,null,null,null,null,null,null,null,null,null,null,null,null,null,null,null,null,null,null,null,null,null,null,null,null,null,null,null,null,null,null,null,null,null,null,null,null,null,null,null,null,null,null,null,null,null,null,null,null,null,null,null,null,null,null,null,null,null,null,null,null,null,null,null,null,null,null,"C","RES"]
[null,{"$f":"Parameters!Q11","v":"C10-C12"},null,{"$f":"Parameters!S11","v":"Manufacture of food products, beverages and tobacco\nproducts"},null,null,null,null,null,null,null,null,null,null,null,null,null,null,null,null,null,null,null,null,null,null,null,null,null,null,null,null,null,null,null,null,null,null,null,null,null,null,null,null,null,null,null,null,null,null,null,null,null,null,null,null,null,null,null,null,null,null,null,null,null,null,null,null,null,null,null,null,null,null,null,null,null,null,null,null,null,null,null,null,null,null,null,null,null,null,"C10T12","RES"]
[null,{"$f":"Parameters!Q12","v":"C13-C15"},null,{"$f":"Parameters!S12","v":"Manufacture of textiles, wearing apparel and leather products"},null,null,null,null,null,null,null,null,null,null,null,null,null,null,null,null,null,null,null,null,null,null,null,null,null,null,null,null,null,null,null,null,null,null,null,null,null,null,null,null,null,null,null,null,null,null,null,null,null,null,null,null,null,null,null,null,null,null,null,null,null,null,null,null,null,null,null,null,null,null,null,null,null,null,null,null,null,null,null,null,null,null,null,null,null,null,"C13T15","RES"]
[null,{"$f":"Parameters!Q13","v":"C16-C18"},null,{"$f":"Parameters!S13","v":"Manufacture of wood, paper, printing and reproduction"}]
[null,{"$f":"Parameters!Q14","v":"C16"},null,{"$f":"Parameters!S14","v":"Manufacture of wood and of products of wood and cork, except furniture; manufacture of articles of straw and plaiting materials"},null,null,null,null,null,null,null,null,null,null,null,null,null,null,null,null,null,null,null,null,null,null,null,null,null,null,null,null,null,null,null,null,null,null,null,null,null,null,null,null,null,null,null,null,null,null,null,null,null,null,null,null,null,null,null,null,null,null,null,null,null,null,null,null,null,null,null,null,null,null,null,null,null,null,null,null,null,null,null,null,null,null,null,null,null,null,"C16","RES"]
[null,{"$f":"Parameters!Q15","v":"C17"},null,{"$f":"Parameters!S15","v":"Manufacture of paper and paper products"},null,null,null,null,null,null,null,null,null,null,null,null,null,null,null,null,null,null,null,null,null,null,null,null,null,null,null,null,null,null,null,null,null,null,null,null,null,null,null,null,null,null,null,null,null,null,null,null,null,null,null,null,null,null,null,null,null,null,null,null,null,null,null,null,null,null,null,null,null,null,null,null,null,null,null,null,null,null,null,null,null,null,null,null,null,null,"C17","RES"]
[null,{"$f":"Parameters!Q16","v":"C18"},null,{"$f":"Parameters!S16","v":"Printing and reproduction of recorded media"},null,null,null,null,null,null,null,null,null,null,null,null,null,null,null,null,null,null,null,null,null,null,null,null,null,null,null,null,null,null,null,null,null,null,null,null,null,null,null,null,null,null,null,null,null,null,null,null,null,null,null,null,null,null,null,null,null,null,null,null,null,null,null,null,null,null,null,null,null,null,null,null,null,null,null,null,null,null,null,null,null,null,null,null,null,null,"C18","RES"]
[null,{"$f":"Parameters!Q17","v":"C19"},null,{"$f":"Parameters!S17","v":"Manufacture of coke and refined petroleum products"},null,null,null,null,null,null,null,null,null,null,null,null,null,null,null,null,null,null,null,null,null,null,null,null,null,null,null,null,null,null,null,null,null,null,null,null,null,null,null,null,null,null,null,null,null,null,null,null,null,null,null,null,null,null,null,null,null,null,null,null,null,null,null,null,null,null,null,null,null,null,null,null,null,null,null,null,null,null,null,null,null,null,null,null,null,null,"C19","RES"]
[null,{"$f":"Parameters!Q18","v":"C20"},null,{"$f":"Parameters!S18","v":"Manufacture of chemicals and chemical products"},null,null,null,null,null,null,null,null,null,null,null,null,null,null,null,null,null,null,null,null,null,null,null,null,null,null,null,null,null,null,null,null,null,null,null,null,null,null,null,null,null,null,null,null,null,null,null,null,null,null,null,null,null,null,null,null,null,null,null,null,null,null,null,null,null,null,null,null,null,null,null,null,null,null,null,null,null,null,null,null,null,null,null,null,null,null,"C20","RES"]
[null,{"$f":"Parameters!Q19","v":"C21"},null,{"$f":"Parameters!S19","v":"Manufacture of basic pharmaceutical products and pharmaceutical preparations"},null,null,null,null,null,null,null,null,null,null,null,null,null,null,null,null,null,null,null,null,null,null,null,null,null,null,null,null,null,null,null,null,null,null,null,null,null,null,null,null,null,null,null,null,null,null,null,null,null,null,null,null,null,null,null,null,null,null,null,null,null,null,null,null,null,null,null,null,null,null,null,null,null,null,null,null,null,null,null,null,null,null,null,null,null,null,"C21","RES"]
[null,{"$f":"Parameters!Q20","v":"C22_C23"},null,{"$f":"Parameters!S20","v":"Manufacture of rubber and plastic products and other non-metallic mineral products"}]
[null,{"$f":"Parameters!Q21","v":"C22"},null,{"$f":"Parameters!S21","v":"Manufacture of rubber and plastic products"},null,null,null,null,null,null,null,null,null,null,null,null,null,null,null,null,null,null,null,null,null,null,null,null,null,null,null,null,null,null,null,null,null,null,null,null,null,null,null,null,null,null,null,null,null,null,null,null,null,null,null,null,null,null,null,null,null,null,null,null,null,null,null,null,null,null,null,null,null,null,null,null,null,null,null,null,null,null,null,null,null,null,null,null,null,null,"C22","RES"]
[null,{"$f":"Parameters!Q22","v":"C23"},null,{"$f":"Parameters!S22","v":"Manufacture of other non-metallic mineral products"},null,null,null,null,null,null,null,null,null,null,null,null,null,null,null,null,null,null,null,null,null,null,null,null,null,null,null,null,null,null,null,null,null,null,null,null,null,null,null,null,null,null,null,null,null,null,null,null,null,null,null,null,null,null,null,null,null,null,null,null,null,null,null,null,null,null,null,null,null,null,null,null,null,null,null,null,null,null,null,null,null,null,null,null,null,null,"C23","RES"]
[null,{"$f":"Parameters!Q23","v":"C24_C25"},null,{"$f":"Parameters!S23","v":"Manufacture of basic metals and fabricated metal products, except machinery and equipment"}]
[null,{"$f":"Parameters!Q24","v":"C24"},null,{"$f":"Parameters!S24","v":"Manufacture of basic metals"},null,null,null,null,null,null,null,null,null,null,null,null,null,null,null,null,null,null,null,null,null,null,null,null,null,null,null,null,null,null,null,null,null,null,null,null,null,null,null,null,null,null,null,null,null,null,null,null,null,null,null,null,null,null,null,null,null,null,null,null,null,null,null,null,null,null,null,null,null,null,null,null,null,null,null,null,null,null,null,null,null,null,null,null,null,null,"C24","RES"]
[null,{"$f":"Parameters!Q25","v":"C25"},null,{"$f":"Parameters!S25","v":"Manufacture of fabricated metal products, except machinery and equipment"},null,null,null,null,null,null,null,null,null,null,null,null,null,null,null,null,null,null,null,null,null,null,null,null,null,null,null,null,null,null,null,null,null,null,null,null,null,null,null,null,null,null,null,null,null,null,null,null,null,null,null,null,null,null,null,null,null,null,null,null,null,null,null,null,null,null,null,null,null,null,null,null,null,null,null,null,null,null,null,null,null,null,null,null,null,null,"C25","RES"]
[null,{"$f":"Parameters!Q26","v":"C26"},null,{"$f":"Parameters!S26","v":"Manufacture of computer, electronic and optical products"},null,null,null,null,null,null,null,null,null,null,null,null,null,null,null,null,null,null,null,null,null,null,null,null,null,null,null,null,null,null,null,null,null,null,null,null,null,null,null,null,null,null,null,null,null,null,null,null,null,null,null,null,null,null,null,null,null,null,null,null,null,null,null,null,null,null,null,null,null,null,null,null,null,null,null,null,null,null,null,null,null,null,null,null,null,null,"C26","RES"]
[null,{"$f":"Parameters!Q27","v":"C27"},null,{"$f":"Parameters!S27","v":"Manufacture of electrical equipment"},null,null,null,null,null,null,null,null,null,null,null,null,null,null,null,null,null,null,null,null,null,null,null,null,null,null,null,null,null,null,null,null,null,null,null,null,null,null,null,null,null,null,null,null,null,null,null,null,null,null,null,null,null,null,null,null,null,null,null,null,null,null,null,null,null,null,null,null,null,null,null,null,null,null,null,null,null,null,null,null,null,null,null,null,null,null,"C27","RES"]
[null,{"$f":"Parameters!Q28","v":"C28"},null,{"$f":"Parameters!S28","v":"Manufacture of machinery and equipment n.e.c."},null,null,null,null,null,null,null,null,null,null,null,null,null,null,null,null,null,null,null,null,null,null,null,null,null,null,null,null,null,null,null,null,null,null,null,null,null,null,null,null,null,null,null,null,null,null,null,null,null,null,null,null,null,null,null,null,null,null,null,null,null,null,null,null,null,null,null,null,null,null,null,null,null,null,null,null,null,null,null,null,null,null,null,null,null,null,"C28","RES"]
[null,{"$f":"Parameters!Q29","v":"C29_C30"},null,{"$f":"Parameters!S29","v":"Manufacture of motor vehicles, trailers, semi-trailers and of other transport equipment"}]
[null,{"$f":"Parameters!Q30","v":"C29"},null,{"$f":"Parameters!S30","v":"Manufacture of motor vehicles, trailers and semi-trailers"},null,null,null,null,null,null,null,null,null,null,null,null,null,null,null,null,null,null,null,null,null,null,null,null,null,null,null,null,null,null,null,null,null,null,null,null,null,null,null,null,null,null,null,null,null,null,null,null,null,null,null,null,null,null,null,null,null,null,null,null,null,null,null,null,null,null,null,null,null,null,null,null,null,null,null,null,null,null,null,null,null,null,null,null,null,null,"C29","RES"]
[null,{"$f":"Parameters!Q31","v":"C30"},null,{"$f":"Parameters!S31","v":"Manufacture of other transport equipment"},null,null,null,null,null,null,null,null,null,null,null,null,null,null,null,null,null,null,null,null,null,null,null,null,null,null,null,null,null,null,null,null,null,null,null,null,null,null,null,null,null,null,null,null,null,null,null,null,null,null,null,null,null,null,null,null,null,null,null,null,null,null,null,null,null,null,null,null,null,null,null,null,null,null,null,null,null,null,null,null,null,null,null,null,null,null,"C30","RES"]
[null,{"$f":"Parameters!Q32","v":"C31-C33"},null,{"$f":"Parameters!S32","v":"Manufacture of furniture; jewellery, musical instruments, toys; repair and installation of machinery and equipment"}]
[null,{"$f":"Parameters!Q33","v":"C31_C32"},null,{"$f":"Parameters!S33","v":"Manufacture of furniture; other manufacturing"},null,null,null,null,null,null,null,null,null,null,null,null,null,null,null,null,null,null,null,null,null,null,null,null,null,null,null,null,null,null,null,null,null,null,null,null,null,null,null,null,null,null,null,null,null,null,null,null,null,null,null,null,null,null,null,null,null,null,null,null,null,null,null,null,null,null,null,null,null,null,null,null,null,null,null,null,null,null,null,null,null,null,null,null,null,null,"C31_32","RES"]
[null,{"$f":"Parameters!Q34","v":"C33"},null,{"$f":"Parameters!S34","v":"Repair and installation of machinery and equipment"},null,null,null,null,null,null,null,null,null,null,null,null,null,null,null,null,null,null,null,null,null,null,null,null,null,null,null,null,null,null,null,null,null,null,null,null,null,null,null,null,null,null,null,null,null,null,null,null,null,null,null,null,null,null,null,null,null,null,null,null,null,null,null,null,null,null,null,null,null,null,null,null,null,null,null,null,null,null,null,null,null,null,null,null,null,null,"C33","RES"]
[null,{"$f":"Parameters!Q35","v":"D"},null,{"$f":"Parameters!S35","v":"Electricity, gas, steam and air conditioning supply"},null,null,null,null,null,null,null,null,null,null,null,null,null,null,null,null,null,null,null,null,null,null,null,null,null,null,null,null,null,null,null,null,null,null,null,null,null,null,null,null,null,null,null,null,null,null,null,null,null,null,null,null,null,null,null,null,null,null,null,null,null,null,null,null,null,null,null,null,null,null,null,null,null,null,null,null,null,null,null,null,null,null,null,null,null,null,"D","RES"]
[null,{"$f":"Parameters!Q36","v":"E"},null,{"$f":"Parameters!S36","v":"Water supply; sewerage, waste management and remediation activities"},null,null,null,null,null,null,null,null,null,null,null,null,null,null,null,null,null,null,null,null,null,null,null,null,null,null,null,null,null,null,null,null,null,null,null,null,null,null,null,null,null,null,null,null,null,null,null,null,null,null,null,null,null,null,null,null,null,null,null,null,null,null,null,null,null,null,null,null,null,null,null,null,null,null,null,null,null,null,null,null,null,null,null,null,null,null,"E","RES"]
[null,{"$f":"Parameters!Q37","v":"E36"},null,{"$f":"Parameters!S37","v":"Water collection, treatment and supply"},null,null,null,null,null,null,null,null,null,null,null,null,null,null,null,null,null,null,null,null,null,null,null,null,null,null,null,null,null,null,null,null,null,null,null,null,null,null,null,null,null,null,null,null,null,null,null,null,null,null,null,null,null,null,null,null,null,null,null,null,null,null,null,null,null,null,null,null,null,null,null,null,null,null,null,null,null,null,null,null,null,null,null,null,null,null,"E36","RES"]
[null,{"$f":"Parameters!Q38","v":"E37-E39"},null,{"$f":"Parameters!S38","v":"Sewerage, waste management, remediation activities"},null,null,null,null,null,null,null,null,null,null,null,null,null,null,null,null,null,null,null,null,null,null,null,null,null,null,null,null,null,null,null,null,null,null,null,null,null,null,null,null,null,null,null,null,null,null,null,null,null,null,null,null,null,null,null,null,null,null,null,null,null,null,null,null,null,null,null,null,null,null,null,null,null,null,null,null,null,null,null,null,null,null,null,null,null,null,"E37T39","RES"]
[null,{"$f":"Parameters!Q39","v":"F"},null,{"$f":"Parameters!S39","v":"Construction"},null,null,null,null,null,null,null,null,null,null,null,null,null,null,null,null,null,null,null,null,null,null,null,null,null,null,null,null,null,null,null,null,null,null,null,null,null,null,null,null,null,null,null,null,null,null,null,null,null,null,null,null,null,null,null,null,null,null,null,null,null,null,null,null,null,null,null,null,null,null,null,null,null,null,null,null,null,null,null,null,null,null,null,null,null,null,"F","RES"]
[null,{"$f":"Parameters!Q40","v":"G"},null,{"$f":"Parameters!S40","v":"Wholesale and retail trade; repair of motor vehicles and motorcycles"},null,null,null,null,null,null,null,null,null,null,null,null,null,null,null,null,null,null,null,null,null,null,null,null,null,null,null,null,null,null,null,null,null,null,null,null,null,null,null,null,null,null,null,null,null,null,null,null,null,null,null,null,null,null,null,null,null,null,null,null,null,null,null,null,null,null,null,null,null,null,null,null,null,null,null,null,null,null,null,null,null,null,null,null,null,null,"G","RES"]
[null,{"$f":"Parameters!Q41","v":"G45"},null,{"$f":"Parameters!S41","v":"Wholesale and retail trade and repair of motor vehicles and motorcycles"},null,null,null,null,null,null,null,null,null,null,null,null,null,null,null,null,null,null,null,null,null,null,null,null,null,null,null,null,null,null,null,null,null,null,null,null,null,null,null,null,null,null,null,null,null,null,null,null,null,null,null,null,null,null,null,null,null,null,null,null,null,null,null,null,null,null,null,null,null,null,null,null,null,null,null,null,null,null,null,null,null,null,null,null,null,null,"G45","RES"]
[null,{"$f":"Parameters!Q42","v":"G46"},null,{"$f":"Parameters!S42","v":"Wholesale trade, except of motor vehicles and motorcycles"},null,null,null,null,null,null,null,null,null,null,null,null,null,null,null,null,null,null,null,null,null,null,null,null,null,null,null,null,null,null,null,null,null,null,null,null,null,null,null,null,null,null,null,null,null,null,null,null,null,null,null,null,null,null,null,null,null,null,null,null,null,null,null,null,null,null,null,null,null,null,null,null,null,null,null,null,null,null,null,null,null,null,null,null,null,null,"G46","RES"]
[null,{"$f":"Parameters!Q43","v":"G47"},null,{"$f":"Parameters!S43","v":"Retail trade, except of motor vehicles and motorcycles"},null,null,null,null,null,null,null,null,null,null,null,null,null,null,null,null,null,null,null,null,null,null,null,null,null,null,null,null,null,null,null,null,null,null,null,null,null,null,null,null,null,null,null,null,null,null,null,null,null,null,null,null,null,null,null,null,null,null,null,null,null,null,null,null,null,null,null,null,null,null,null,null,null,null,null,null,null,null,null,null,null,null,null,null,null,null,"G47","RES"]
[null,{"$f":"Parameters!Q44","v":"H"},null,{"$f":"Parameters!S44","v":"Transportation and storage"},null,null,null,null,null,null,null,null,null,null,null,null,null,null,null,null,null,null,null,null,null,null,null,null,null,null,null,null,null,null,null,null,null,null,null,null,null,null,null,null,null,null,null,null,null,null,null,null,null,null,null,null,null,null,null,null,null,null,null,null,null,null,null,null,null,null,null,null,null,null,null,null,null,null,null,null,null,null,null,null,null,null,null,null,null,null,"H","RES"]
[null,{"$f":"Parameters!Q45","v":"H49"},null,{"$f":"Parameters!S45","v":"Land transport and transport via pipelines"},null,null,null,null,null,null,null,null,null,null,null,null,null,null,null,null,null,null,null,null,null,null,null,null,null,null,null,null,null,null,null,null,null,null,null,null,null,null,null,null,null,null,null,null,null,null,null,null,null,null,null,null,null,null,null,null,null,null,null,null,null,null,null,null,null,null,null,null,null,null,null,null,null,null,null,null,null,null,null,null,null,null,null,null,null,null,"H49","RES"]
[null,{"$f":"Parameters!Q46","v":"H50"},null,{"$f":"Parameters!S46","v":"Water transport"},null,null,null,null,null,null,null,null,null,null,null,null,null,null,null,null,null,null,null,null,null,null,null,null,null,null,null,null,null,null,null,null,null,null,null,null,null,null,null,null,null,null,null,null,null,null,null,null,null,null,null,null,null,null,null,null,null,null,null,null,null,null,null,null,null,null,null,null,null,null,null,null,null,null,null,null,null,null,null,null,null,null,null,null,null,null,"H50","RES"]
[null,{"$f":"Parameters!Q47","v":"H51"},null,{"$f":"Parameters!S47","v":"Air transport"},null,null,null,null,null,null,null,null,null,null,null,null,null,null,null,null,null,null,null,null,null,null,null,null,null,null,null,null,null,null,null,null,null,null,null,null,null,null,null,null,null,null,null,null,null,null,null,null,null,null,null,null,null,null,null,null,null,null,null,null,null,null,null,null,null,null,null,null,null,null,null,null,null,null,null,null,null,null,null,null,null,null,null,null,null,null,"H51","RES"]
[null,{"$f":"Parameters!Q48","v":"H52"},null,{"$f":"Parameters!S48","v":"Warehousing and support activities for transportation"},null,null,null,null,null,null,null,null,null,null,null,null,null,null,null,null,null,null,null,null,null,null,null,null,null,null,null,null,null,null,null,null,null,null,null,null,null,null,null,null,null,null,null,null,null,null,null,null,null,null,null,null,null,null,null,null,null,null,null,null,null,null,null,null,null,null,null,null,null,null,null,null,null,null,null,null,null,null,null,null,null,null,null,null,null,null,"H52","RES"]
[null,{"$f":"Parameters!Q49","v":"H53"},null,{"$f":"Parameters!S49","v":"Postal and courier activities"},null,null,null,null,null,null,null,null,null,null,null,null,null,null,null,null,null,null,null,null,null,null,null,null,null,null,null,null,null,null,null,null,null,null,null,null,null,null,null,null,null,null,null,null,null,null,null,null,null,null,null,null,null,null,null,null,null,null,null,null,null,null,null,null,null,null,null,null,null,null,null,null,null,null,null,null,null,null,null,null,null,null,null,null,null,null,"H53","RES"]
[null,{"$f":"Parameters!Q50","v":"I"},null,{"$f":"Parameters!S50","v":"Accommodation and food service activities"},null,null,null,null,null,null,null,null,null,null,null,null,null,null,null,null,null,null,null,null,null,null,null,null,null,null,null,null,null,null,null,null,null,null,null,null,null,null,null,null,null,null,null,null,null,null,null,null,null,null,null,null,null,null,null,null,null,null,null,null,null,null,null,null,null,null,null,null,null,null,null,null,null,null,null,null,null,null,null,null,null,null,null,null,null,null,"I","RES"]
[null,{"$f":"Parameters!Q51","v":"J"},null,{"$f":"Parameters!S51","v":"Information and communication"},null,null,null,null,null,null,null,null,null,null,null,null,null,null,null,null,null,null,null,null,null,null,null,null,null,null,null,null,null,null,null,null,null,null,null,null,null,null,null,null,null,null,null,null,null,null,null,null,null,null,null,null,null,null,null,null,null,null,null,null,null,null,null,null,null,null,null,null,null,null,null,null,null,null,null,null,null,null,null,null,null,null,null,null,null,null,"J","RES"]
[null,{"$f":"Parameters!Q52","v":"J58-J60"},null,{"$f":"Parameters!S52","v":"Publishing, motion picture, video, television programme production; sound recording, programming and broadcasting activities"}]
[null,{"$f":"Parameters!Q53","v":"J58"},null,{"$f":"Parameters!S53","v":"Publishing activities"},null,null,null,null,null,null,null,null,null,null,null,null,null,null,null,null,null,null,null,null,null,null,null,null,null,null,null,null,null,null,null,null,null,null,null,null,null,null,null,null,null,null,null,null,null,null,null,null,null,null,null,null,null,null,null,null,null,null,null,null,null,null,null,null,null,null,null,null,null,null,null,null,null,null,null,null,null,null,null,null,null,null,null,null,null,null,"J58","RES"]
[null,{"$f":"Parameters!Q54","v":"J59_J60"},null,{"$f":"Parameters!S54","v":"Motion picture, video, television programme production; programming and broadcasting activities"},null,null,null,null,null,null,null,null,null,null,null,null,null,null,null,null,null,null,null,null,null,null,null,null,null,null,null,null,null,null,null,null,null,null,null,null,null,null,null,null,null,null,null,null,null,null,null,null,null,null,null,null,null,null,null,null,null,null,null,null,null,null,null,null,null,null,null,null,null,null,null,null,null,null,null,null,null,null,null,null,null,null,null,null,null,null,"J59_60","RES"]
[null,{"$f":"Parameters!Q55","v":"J61"},null,{"$f":"Parameters!S55","v":"Telecommunications"},null,null,null,null,null,null,null,null,null,null,null,null,null,null,null,null,null,null,null,null,null,null,null,null,null,null,null,null,null,null,null,null,null,null,null,null,null,null,null,null,null,null,null,null,null,null,null,null,null,null,null,null,null,null,null,null,null,null,null,null,null,null,null,null,null,null,null,null,null,null,null,null,null,null,null,null,null,null,null,null,null,null,null,null,null,null,"J61","RES"]
[null,{"$f":"Parameters!Q56","v":"J62_J63"},null,{"$f":"Parameters!S56","v":"Computer programming, consultancy, and information service activities"},null,null,null,null,null,null,null,null,null,null,null,null,null,null,null,null,null,null,null,null,null,null,null,null,null,null,null,null,null,null,null,null,null,null,null,null,null,null,null,null,null,null,null,null,null,null,null,null,null,null,null,null,null,null,null,null,null,null,null,null,null,null,null,null,null,null,null,null,null,null,null,null,null,null,null,null,null,null,null,null,null,null,null,null,null,null,"J62_63","RES"]
[null,{"$f":"Parameters!Q57","v":"K"},null,{"$f":"Parameters!S57","v":"Financial and insurance activities"},null,null,null,null,null,null,null,null,null,null,null,null,null,null,null,null,null,null,null,null,null,null,null,null,null,null,null,null,null,null,null,null,null,null,null,null,null,null,null,null,null,null,null,null,null,null,null,null,null,null,null,null,null,null,null,null,null,null,null,null,null,null,null,null,null,null,null,null,null,null,null,null,null,null,null,null,null,null,null,null,null,null,null,null,null,null,"K","RES"]
[null,{"$f":"Parameters!Q58","v":"K64"},null,{"$f":"Parameters!S58","v":"Financial service activities, except insurance and pension funding"},null,null,null,null,null,null,null,null,null,null,null,null,null,null,null,null,null,null,null,null,null,null,null,null,null,null,null,null,null,null,null,null,null,null,null,null,null,null,null,null,null,null,null,null,null,null,null,null,null,null,null,null,null,null,null,null,null,null,null,null,null,null,null,null,null,null,null,null,null,null,null,null,null,null,null,null,null,null,null,null,null,null,null,null,null,null,"K64","RES"]
[null,{"$f":"Parameters!Q59","v":"K65"},null,{"$f":"Parameters!S59","v":"Insurance, reinsurance and pension funding, except compulsory social security"},null,null,null,null,null,null,null,null,null,null,null,null,null,null,null,null,null,null,null,null,null,null,null,null,null,null,null,null,null,null,null,null,null,null,null,null,null,null,null,null,null,null,null,null,null,null,null,null,null,null,null,null,null,null,null,null,null,null,null,null,null,null,null,null,null,null,null,null,null,null,null,null,null,null,null,null,null,null,null,null,null,null,null,null,null,null,"K65","RES"]
[null,{"$f":"Parameters!Q60","v":"K66"},null,{"$f":"Parameters!S60","v":"Activities auxiliary to financial services and insurance activities"},null,null,null,null,null,null,null,null,null,null,null,null,null,null,null,null,null,null,null,null,null,null,null,null,null,null,null,null,null,null,null,null,null,null,null,null,null,null,null,null,null,null,null,null,null,null,null,null,null,null,null,null,null,null,null,null,null,null,null,null,null,null,null,null,null,null,null,null,null,null,null,null,null,null,null,null,null,null,null,null,null,null,null,null,null,null,"K66","RES"]
[null,{"$f":"Parameters!Q61","v":"L"},null,{"$f":"Parameters!S61","v":"Real estate activities"},null,null,null,null,null,null,null,null,null,null,null,null,null,null,null,null,null,null,null,null,null,null,null,null,null,null,null,null,null,null,null,null,null,null,null,null,null,null,null,null,null,null,null,null,null,null,null,null,null,null,null,null,null,null,null,null,null,null,null,null,null,null,null,null,null,null,null,null,null,null,null,null,null,null,null,null,null,null,null,null,null,null,null,null,null,null,"L","RES"]
[null,{"$f":"Parameters!Q62","v":"L68A"},null,{"$f":"Parameters!S62","v":"Imputed rents of owner-occupied dwellings"},null,null,null,null,null,null,null,null,null,null,null,null,null,null,null,null,null,null,null,null,null,null,null,null,null,null,null,null,null,null,null,null,null,null,null,null,null,null,null,null,null,null,null,null,null,null,null,null,null,null,null,null,null,null,null,null,null,null,null,null,null,null,null,null,null,null,null,null,null,null,null,null,null,null,null,null,null,null,null,null,null,null,null,null,null,null,"L68A","RES"]
[null,{"$f":"Parameters!Q63","v":"M"},null,{"$f":"Parameters!S63","v":"Professional, scientific and technical activities"},null,null,null,null,null,null,null,null,null,null,null,null,null,null,null,null,null,null,null,null,null,null,null,null,null,null,null,null,null,null,null,null,null,null,null,null,null,null,null,null,null,null,null,null,null,null,null,null,null,null,null,null,null,null,null,null,null,null,null,null,null,null,null,null,null,null,null,null,null,null,null,null,null,null,null,null,null,null,null,null,null,null,null,null,null,null,"M","RES"]
[null,{"$f":"Parameters!Q64","v":"M69-M71"},null,{"$f":"Parameters!S64","v":"Legal and accounting activities; activities of head offices; management consultancy activities; architectural and engineering activities; technical testing and analysis"}]
[null,{"$f":"Parameters!Q65","v":"M69_M70"},null,{"$f":"Parameters!S65","v":"Legal and accounting activities; activities of head offices; management consultancy activities"},null,null,null,null,null,null,null,null,null,null,null,null,null,null,null,null,null,null,null,null,null,null,null,null,null,null,null,null,null,null,null,null,null,null,null,null,null,null,null,null,null,null,null,null,null,null,null,null,null,null,null,null,null,null,null,null,null,null,null,null,null,null,null,null,null,null,null,null,null,null,null,null,null,null,null,null,null,null,null,null,null,null,null,null,null,null,"M69_70","RES"]
[null,{"$f":"Parameters!Q66","v":"M71"},null,{"$f":"Parameters!S66","v":"Architectural and engineering activities; technical testing and analysis"},null,null,null,null,null,null,null,null,null,null,null,null,null,null,null,null,null,null,null,null,null,null,null,null,null,null,null,null,null,null,null,null,null,null,null,null,null,null,null,null,null,null,null,null,null,null,null,null,null,null,null,null,null,null,null,null,null,null,null,null,null,null,null,null,null,null,null,null,null,null,null,null,null,null,null,null,null,null,null,null,null,null,null,null,null,null,"M71","RES"]
[null,{"$f":"Parameters!Q67","v":"M72"},null,{"$f":"Parameters!S67","v":"Scientific research and development"},null,null,null,null,null,null,null,null,null,null,null,null,null,null,null,null,null,null,null,null,null,null,null,null,null,null,null,null,null,null,null,null,null,null,null,null,null,null,null,null,null,null,null,null,null,null,null,null,null,null,null,null,null,null,null,null,null,null,null,null,null,null,null,null,null,null,null,null,null,null,null,null,null,null,null,null,null,null,null,null,null,null,null,null,null,null,"M72","RES"]
[null,{"$f":"Parameters!Q68","v":"M73-M75"},null,{"$f":"Parameters!S68","v":"Advertising and market research; other professional, scientific and technical activities; veterinary activities"}]
[null,{"$f":"Parameters!Q69","v":"M73"},null,{"$f":"Parameters!S69","v":"Advertising and market research"},null,null,null,null,null,null,null,null,null,null,null,null,null,null,null,null,null,null,null,null,null,null,null,null,null,null,null,null,null,null,null,null,null,null,null,null,null,null,null,null,null,null,null,null,null,null,null,null,null,null,null,null,null,null,null,null,null,null,null,null,null,null,null,null,null,null,null,null,null,null,null,null,null,null,null,null,null,null,null,null,null,null,null,null,null,null,"M73","RES"]
[null,{"$f":"Parameters!Q70","v":"M74_M75"},null,{"$f":"Parameters!S70","v":"Other professional, scientific and technical activities; veterinary activities"},null,null,null,null,null,null,null,null,null,null,null,null,null,null,null,null,null,null,null,null,null,null,null,null,null,null,null,null,null,null,null,null,null,null,null,null,null,null,null,null,null,null,null,null,null,null,null,null,null,null,null,null,null,null,null,null,null,null,null,null,null,null,null,null,null,null,null,null,null,null,null,null,null,null,null,null,null,null,null,null,null,null,null,null,null,null,"M74_75","RES"]
[null,{"$f":"Parameters!Q71","v":"N"},null,{"$f":"Parameters!S71","v":"Administrative and support service activities"},null,null,null,null,null,null,null,null,null,null,null,null,null,null,null,null,null,null,null,null,null,null,null,null,null,null,null,null,null,null,null,null,null,null,null,null,null,null,null,null,null,null,null,null,null,null,null,null,null,null,null,null,null,null,null,null,null,null,null,null,null,null,null,null,null,null,null,null,null,null,null,null,null,null,null,null,null,null,null,null,null,null,null,null,null,null,"N","RES"]
[null,{"$f":"Parameters!Q72","v":"N77"},null,{"$f":"Parameters!S72","v":"Rental and leasing activities"},null,null,null,null,null,null,null,null,null,null,null,null,null,null,null,null,null,null,null,null,null,null,null,null,null,null,null,null,null,null,null,null,null,null,null,null,null,null,null,null,null,null,null,null,null,null,null,null,null,null,null,null,null,null,null,null,null,null,null,null,null,null,null,null,null,null,null,null,null,null,null,null,null,null,null,null,null,null,null,null,null,null,null,null,null,null,"N77","RES"]
[null,{"$f":"Parameters!Q73","v":"N78"},null,{"$f":"Parameters!S73","v":"Employment activities"},null,null,null,null,null,null,null,null,null,null,null,null,null,null,null,null,null,null,null,null,null,null,null,null,null,null,null,null,null,null,null,null,null,null,null,null,null,null,null,null,null,null,null,null,null,null,null,null,null,null,null,null,null,null,null,null,null,null,null,null,null,null,null,null,null,null,null,null,null,null,null,null,null,null,null,null,null,null,null,null,null,null,null,null,null,null,"N78","RES"]
[null,{"$f":"Parameters!Q74","v":"N79"},null,{"$f":"Parameters!S74","v":"Travel agency, tour operator reservation service and related activities"},null,null,null,null,null,null,null,null,null,null,null,null,null,null,null,null,null,null,null,null,null,null,null,null,null,null,null,null,null,null,null,null,null,null,null,null,null,null,null,null,null,null,null,null,null,null,null,null,null,null,null,null,null,null,null,null,null,null,null,null,null,null,null,null,null,null,null,null,null,null,null,null,null,null,null,null,null,null,null,null,null,null,null,null,null,null,"N79","RES"]
[null,{"$f":"Parameters!Q75","v":"N80-N82"},null,{"$f":"Parameters!S75","v":"Security and investigation, service and landscape, office administrative and support activities"},null,null,null,null,null,null,null,null,null,null,null,null,null,null,null,null,null,null,null,null,null,null,null,null,null,null,null,null,null,null,null,null,null,null,null,null,null,null,null,null,null,null,null,null,null,null,null,null,null,null,null,null,null,null,null,null,null,null,null,null,null,null,null,null,null,null,null,null,null,null,null,null,null,null,null,null,null,null,null,null,null,null,null,null,null,null,"N80T82","RES"]
[null,{"$f":"Parameters!Q76","v":"O"},null,{"$f":"Parameters!S76","v":"Public administration and defence; compulsory social security"},null,null,null,null,null,null,null,null,null,null,null,null,null,null,null,null,null,null,null,null,null,null,null,null,null,null,null,null,null,null,null,null,null,null,null,null,null,null,null,null,null,null,null,null,null,null,null,null,null,null,null,null,null,null,null,null,null,null,null,null,null,null,null,null,null,null,null,null,null,null,null,null,null,null,null,null,null,null,null,null,null,null,null,null,null,null,"O","RES"]
[null,{"$f":"Parameters!Q77","v":"P"},null,{"$f":"Parameters!S77","v":"Education"},null,null,null,null,null,null,null,null,null,null,null,null,null,null,null,null,null,null,null,null,null,null,null,null,null,null,null,null,null,null,null,null,null,null,null,null,null,null,null,null,null,null,null,null,null,null,null,null,null,null,null,null,null,null,null,null,null,null,null,null,null,null,null,null,null,null,null,null,null,null,null,null,null,null,null,null,null,null,null,null,null,null,null,null,null,null,"P","RES"]
[null,{"$f":"Parameters!Q78","v":"Q"},null,{"$f":"Parameters!S78","v":"Human health and social work activities"},null,null,null,null,null,null,null,null,null,null,null,null,null,null,null,null,null,null,null,null,null,null,null,null,null,null,null,null,null,null,null,null,null,null,null,null,null,null,null,null,null,null,null,null,null,null,null,null,null,null,null,null,null,null,null,null,null,null,null,null,null,null,null,null,null,null,null,null,null,null,null,null,null,null,null,null,null,null,null,null,null,null,null,null,null,null,"Q","RES"]
[null,{"$f":"Parameters!Q79","v":"Q86"},null,{"$f":"Parameters!S79","v":"Human health activities"},null,null,null,null,null,null,null,null,null,null,null,null,null,null,null,null,null,null,null,null,null,null,null,null,null,null,null,null,null,null,null,null,null,null,null,null,null,null,null,null,null,null,null,null,null,null,null,null,null,null,null,null,null,null,null,null,null,null,null,null,null,null,null,null,null,null,null,null,null,null,null,null,null,null,null,null,null,null,null,null,null,null,null,null,null,null,"Q86","RES"]
[null,{"$f":"Parameters!Q80","v":"Q87_Q88"},null,{"$f":"Parameters!S80","v":"Residential care activities and social work activities without accommodation"},null,null,null,null,null,null,null,null,null,null,null,null,null,null,null,null,null,null,null,null,null,null,null,null,null,null,null,null,null,null,null,null,null,null,null,null,null,null,null,null,null,null,null,null,null,null,null,null,null,null,null,null,null,null,null,null,null,null,null,null,null,null,null,null,null,null,null,null,null,null,null,null,null,null,null,null,null,null,null,null,null,null,null,null,null,null,"Q87_88","RES"]
[null,{"$f":"Parameters!Q81","v":"R"},null,{"$f":"Parameters!S81","v":"Arts, entertainment and recreation"},null,null,null,null,null,null,null,null,null,null,null,null,null,null,null,null,null,null,null,null,null,null,null,null,null,null,null,null,null,null,null,null,null,null,null,null,null,null,null,null,null,null,null,null,null,null,null,null,null,null,null,null,null,null,null,null,null,null,null,null,null,null,null,null,null,null,null,null,null,null,null,null,null,null,null,null,null,null,null,null,null,null,null,null,null,null,"R","RES"]
[null,{"$f":"Parameters!Q82","v":"R90-R92"},null,{"$f":"Parameters!S82","v":"Creative, arts and entertainment activities; libraries, archives, museums and other cultural activities; gambling and betting activities"},null,null,null,null,null,null,null,null,null,null,null,null,null,null,null,null,null,null,null,null,null,null,null,null,null,null,null,null,null,null,null,null,null,null,null,null,null,null,null,null,null,null,null,null,null,null,null,null,null,null,null,null,null,null,null,null,null,null,null,null,null,null,null,null,null,null,null,null,null,null,null,null,null,null,null,null,null,null,null,null,null,null,null,null,null,null,"R90T92","RES"]
[null,{"$f":"Parameters!Q83","v":"R93"},null,{"$f":"Parameters!S83","v":"Sports activities and amusement and recreation activities"},null,null,null,null,null,null,null,null,null,null,null,null,null,null,null,null,null,null,null,null,null,null,null,null,null,null,null,null,null,null,null,null,null,null,null,null,null,null,null,null,null,null,null,null,null,null,null,null,null,null,null,null,null,null,null,null,null,null,null,null,null,null,null,null,null,null,null,null,null,null,null,null,null,null,null,null,null,null,null,null,null,null,null,null,null,null,"R93","RES"]
[null,{"$f":"Parameters!Q84","v":"S"},null,{"$f":"Parameters!S84","v":"Other service activities"},null,null,null,null,null,null,null,null,null,null,null,null,null,null,null,null,null,null,null,null,null,null,null,null,null,null,null,null,null,null,null,null,null,null,null,null,null,null,null,null,null,null,null,null,null,null,null,null,null,null,null,null,null,null,null,null,null,null,null,null,null,null,null,null,null,null,null,null,null,null,null,null,null,null,null,null,null,null,null,null,null,null,null,null,null,null,"S","RES"]
[null,{"$f":"Parameters!Q85","v":"S94"},null,{"$f":"Parameters!S85","v":"Activities of membership organisations"},null,null,null,null,null,null,null,null,null,null,null,null,null,null,null,null,null,null,null,null,null,null,null,null,null,null,null,null,null,null,null,null,null,null,null,null,null,null,null,null,null,null,null,null,null,null,null,null,null,null,null,null,null,null,null,null,null,null,null,null,null,null,null,null,null,null,null,null,null,null,null,null,null,null,null,null,null,null,null,null,null,null,null,null,null,null,"S94","RES"]
[null,{"$f":"Parameters!Q86","v":"S95"},null,{"$f":"Parameters!S86","v":"Repair of computers and personal and household goods"},null,null,null,null,null,null,null,null,null,null,null,null,null,null,null,null,null,null,null,null,null,null,null,null,null,null,null,null,null,null,null,null,null,null,null,null,null,null,null,null,null,null,null,null,null,null,null,null,null,null,null,null,null,null,null,null,null,null,null,null,null,null,null,null,null,null,null,null,null,null,null,null,null,null,null,null,null,null,null,null,null,null,null,null,null,null,"S95","RES"]
[null,{"$f":"Parameters!Q87","v":"S96"},null,{"$f":"Parameters!S87","v":"Other personal service activities"},null,null,null,null,null,null,null,null,null,null,null,null,null,null,null,null,null,null,null,null,null,null,null,null,null,null,null,null,null,null,null,null,null,null,null,null,null,null,null,null,null,null,null,null,null,null,null,null,null,null,null,null,null,null,null,null,null,null,null,null,null,null,null,null,null,null,null,null,null,null,null,null,null,null,null,null,null,null,null,null,null,null,null,null,null,null,"S96","RES"]
[null,{"$f":"Parameters!Q88","v":"T"},null,{"$f":"Parameters!S88","v":"Activities of households as employers; undifferentiated goods- and services-producing activities of households for own use"},null,null,null,null,null,null,null,null,null,null,null,null,null,null,null,null,null,null,null,null,null,null,null,null,null,null,null,null,null,null,null,null,null,null,null,null,null,null,null,null,null,null,null,null,null,null,null,null,null,null,null,null,null,null,null,null,null,null,null,null,null,null,null,null,null,null,null,null,null,null,null,null,null,null,null,null,null,null,null,null,null,null,null,null,null,null,"T","RES"]
[null,{"$f":"Parameters!Q89","v":"U"},null,{"$f":"Parameters!S89","v":"Activities of extraterritorial organisations and bodies"},null,null,null,null,null,null,null,null,null,null,null,null,null,null,null,null,null,null,null,null,null,null,null,null,null,null,null,null,null,null,null,null,null,null,null,null,null,null,null,null,null,null,null,null,null,null,null,null,null,null,null,null,null,null,null,null,null,null,null,null,null,null,null,null,null,null,null,null,null,null,null,null,null,null,null,null,null,null,null,null,null,null,null,null,null,null,"U","RES"]
[null,"   Household air emissions\n                                          Households, totals",null,null,null,null,null,null,null,null,null,null,null,null,null,null,null,null,null,null,null,null,null,null,null,null,null,null,null,null,null,null,null,null,null,null,null,null,null,null,null,null,null,null,null,null,null,null,null,null,null,null,null,null,null,null,null,null,null,null,null,null,null,null,null,null,null,null,null,null,null,null,null,null,null,null,null,null,null,null,null,null,null,null,null,null,null,null,null,null,"HH","RES"]
[null,null,null,"- Transport",null,null,null,null,null,null,null,null,null,null,null,null,null,null,null,null,null,null,null,null,null,null,null,null,null,null,null,null,null,null,null,null,null,null,null,null,null,null,null,null,null,null,null,null,null,null,null,null,null,null,null,null,null,null,null,null,null,null,null,null,null,null,null,null,null,null,null,null,null,null,null,null,null,null,null,null,null,null,null,null,null,null,null,null,null,null,"HH_TR","RES"]
[null,null,null,"- Heating/cooling",null,null,null,null,null,null,null,null,null,null,null,null,null,null,null,null,null,null,null,null,null,null,null,null,null,null,null,null,null,null,null,null,null,null,null,null,null,null,null,null,null,null,null,null,null,null,null,null,null,null,null,null,null,null,null,null,null,null,null,null,null,null,null,null,null,null,null,null,null,null,null,null,null,null,null,null,null,null,null,null,null,null,null,null,null,null,"HH_HEAT","RES"]
[null,null,null,"- Other",null,null,null,null,null,null,null,null,null,null,null,null,null,null,null,null,null,null,null,null,null,null,null,null,null,null,null,null,null,null,null,null,null,null,null,null,null,null,null,null,null,null,null,null,null,null,null,null,null,null,null,null,null,null,null,null,null,null,null,null,null,null,null,null,null,null,null,null,null,null,null,null,null,null,null,null,null,null,null,null,null,null,null,null,null,null,"HH_OTH","RES"]
[null,"   Bridging items\n\n1                              Total Air emissions accounts (industry (row 5) + households (row 91))",null,null,null,null,null,null,null,null,null,null,null,null,null,null,null,null,null,null,null,null,null,null,null,null,null,null,null,null,null,null,null,null,null,null,null,null,null,null,null,null,null,null,null,null,null,null,null,null,null,null,null,null,null,null,null,null,null,null,null,null,null,null,null,null,null,null,null,null,null,null,null,null,null,null,null,null,null,null,null,null,null,null,null,null,null,null,null,null,"ATU_HH","RES"]
[null,2,null,"less National residents abroad",null,null,null,null,null,null,null,null,null,null,null,null,null,null,null,null,null,null,null,null,null,null,null,null,null,null,null,null,null,null,null,null,null,null,null,null,null,null,null,null,null,null,null,null,null,null,null,null,null,null,null,null,null,null,null,null,null,null,null,null,null,null,null,null,null,null,null,null,null,null,null,null,null,null,null,null,null,null,null,null,null,null,null,null,null,null,"ATU_HH","RES_ABR"]
[null,2.1,null,"-  National fishing vessels operating abroad",null,null,null,null,null,null,null,null,null,null,null,null,null,null,null,null,null,null,null,null,null,null,null,null,null,null,null,null,null,null,null,null,null,null,null,null,null,null,null,null,null,null,null,null,null,null,null,null,null,null,null,null,null,null,null,null,null,null,null,null,null,null,null,null,null,null,null,null,null,null,null,null,null,null,null,null,null,null,null,null,null,null,null,null,null,null,"ATU_HH","RES_ABR_FWTR"]
[null,2.2000000000000002,null,"-  Land transport",null,null,null,null,null,null,null,null,null,null,null,null,null,null,null,null,null,null,null,null,null,null,null,null,null,null,null,null,null,null,null,null,null,null,null,null,null,null,null,null,null,null,null,null,null,null,null,null,null,null,null,null,null,null,null,null,null,null,null,null,null,null,null,null,null,null,null,null,null,null,null,null,null,null,null,null,null,null,null,null,null,null,null,null,null,null,"ATU_HH","RES_ABR_LTR"]
[null,2.2999999999999998,null,"-  Water transport",null,null,null,null,null,null,null,null,null,null,null,null,null,null,null,null,null,null,null,null,null,null,null,null,null,null,null,null,null,null,null,null,null,null,null,null,null,null,null,null,null,null,null,null,null,null,null,null,null,null,null,null,null,null,null,null,null,null,null,null,null,null,null,null,null,null,null,null,null,null,null,null,null,null,null,null,null,null,null,null,null,null,null,null,null,null,"ATU_HH","RES_ABR_WTR"]
[null,2.4,null,"-  Air transport",null,null,null,null,null,null,null,null,null,null,null,null,null,null,null,null,null,null,null,null,null,null,null,null,null,null,null,null,null,null,null,null,null,null,null,null,null,null,null,null,null,null,null,null,null,null,null,null,null,null,null,null,null,null,null,null,null,null,null,null,null,null,null,null,null,null,null,null,null,null,null,null,null,null,null,null,null,null,null,null,null,null,null,null,null,null,"ATU_HH","RES_ABR_ATR"]
[null,3,null,"plus Non-residents on the territory",null,null,null,null,null,null,null,null,null,null,null,null,null,null,null,null,null,null,null,null,null,null,null,null,null,null,null,null,null,null,null,null,null,null,null,null,null,null,null,null,null,null,null,null,null,null,null,null,null,null,null,null,null,null,null,null,null,null,null,null,null,null,null,null,null,null,null,null,null,null,null,null,null,null,null,null,null,null,null,null,null,null,null,null,null,null,"ATU_HH","TER_NRES"]
[null,3.1,null,"+  Land transport",null,null,null,null,null,null,null,null,null,null,null,null,null,null,null,null,null,null,null,null,null,null,null,null,null,null,null,null,null,null,null,null,null,null,null,null,null,null,null,null,null,null,null,null,null,null,null,null,null,null,null,null,null,null,null,null,null,null,null,null,null,null,null,null,null,null,null,null,null,null,null,null,null,null,null,null,null,null,null,null,null,null,null,null,null,null,"ATU_HH","TER_NRES_LTR"]
[null,3.2,null,"+ Water transport",null,null,null,null,null,null,null,null,null,null,null,null,null,null,null,null,null,null,null,null,null,null,null,null,null,null,null,null,null,null,null,null,null,null,null,null,null,null,null,null,null,null,null,null,null,null,null,null,null,null,null,null,null,null,null,null,null,null,null,null,null,null,null,null,null,null,null,null,null,null,null,null,null,null,null,null,null,null,null,null,null,null,null,null,null,null,"ATU_HH","TER_NRES_WTR"]
[null,3.3,null,"+  Air transport",null,null,null,null,null,null,null,null,null,null,null,null,null,null,null,null,null,null,null,null,null,null,null,null,null,null,null,null,null,null,null,null,null,null,null,null,null,null,null,null,null,null,null,null,null,null,null,null,null,null,null,null,null,null,null,null,null,null,null,null,null,null,null,null,null,null,null,null,null,null,null,null,null,null,null,null,null,null,null,null,null,null,null,null,null,null,"ATU_HH","TER_NRES_ATR"]
[null,4,null,"Other adjustments and statistical discrepancy",null,null,null,null,null,null,null,null,null,null,null,null,null,null,null,null,null,null,null,null,null,null,null,null,null,null,null,null,null,null,null,null,null,null,null,null,null,null,null,null,null,null,null,null,null,null,null,null,null,null,null,null,null,null,null,null,null,null,null,null,null,null,null,null,null,null,null,null,null,null,null,null,null,null,null,null,null,null,null,null,null,null,null,null,null,null,"ATU_HH","ADJ_SD"]
[null,5,null,"Road transport emissions (NFR 1.A.3.b) as reported to CLRTAP (Annex 1)",null,null,null,null,null,null,null,null,null,null,null,null,null,null,null,null,null,null,null,null,null,null,null,null,null,null,null,null,null,null,null,null,null,null,null,null,null,null,null,null,null,null,null,null,null,null,null,null,null,null,null,null,null,null,null,null,null,null,null,null,null,null,null,null,null,null,null,null,null,null,null,null,null,null,null,null,null,null,null,null,null,null,null,null,null,null,"ATU_HH","TER"]
[null,null,null,"Year of submission to CLRTAP"]
[]
[null,"Explanatory notes for bridging items:"]
[null,1,"Total Air emissions accounts (industry (row 5) + households (row 91)) - residence principle"]
[]
[null,2.1,"Fishing vessels operated by resident units bunkering outside of the reporting country"]
[null,2.2000000000000002,"Land transport (incl. rail) by resident units fuelling outside of the reporting country"]
[null,2.2999999999999998,"Any navigation by resident units bunkering at ports outside of the reporting country and international navigation by resident units bunkering at ports of the reporting country"]
[null,2.4,"Any aviation by resident units bunkering at airports outside of the reporting country and any cruise aviation by resident units bunkering at airports of the reporting country"]
[]
[null,3.1,"Land transport (incl. rail) by non-resident units fuelling on the territory of the reporting country"]
[null,3.2,"National and international inland waterways navigation by non-residents bunkering at ports of the reporting country"]
[null,3.3,"LTO (landing and take off) aviation by non-residents bunkering at  airports of the reporting country"]
[]
[null,5,"National totals in CLRTAP inventories include all LTO aviation departing from domestic airports - territory principle"]
[null,null,"National totals in CLRTAP inventories include all national and international inland waterways navigation for which the fuel is bunkered in ports of the reporting country - territory principle"]

{"sheet":"CO","index":25,"n_rows":122,"n_cols":98,"rows_kept":122,"cut":false,"hidden":false,"merged":[[0,96,2,96],[0,97,2,97],[0,90,2,90],[0,91,2,91],[0,92,2,92],[0,93,2,93],[0,94,2,94],[0,95,2,95],[103,3,103,4],[80,3,80,4],[81,3,81,4],[82,3,82,4],[83,3,83,4],[84,3,84,4],[73,3,73,4],[74,3,74,4],[75,3,75,4],[76,3,76,4],[77,3,77,4],[78,3,78,4],[67,3,67,4],[68,3,68,4],[69,3,69,4],[70,3,70,4],[104,3,104,4],[105,3,105,4],[106,3,106,4],[0,87,2,87],[0,89,2,89],[97,3,97,4],[98,3,98,4],[99,3,99,4],[100,3,100,4],[101,3,101,4],[102,3,102,4],[91,3,91,4],[92,3,92,4],[93,3,93,4],[94,1,94,4],[95,3,95,4],[96,3,96,4],[85,3,85,4],[86,3,86,4],[87,3,87,4],[88,3,88,4],[89,3,89,4],[90,1,90,4],[79,3,79,4],[71,3,71,4],[72,3,72,4],[61,3,61,4],[62,3,62,4],[63,3,63,4],[64,3,64,4],[65,3,65,4],[66,3,66,4],[55,3,55,4],[56,3,56,4],[57,3,57,4],[58,3,58,4],[59,3,59,4],[60,3,60,4],[49,3,49,4],[50,3,50,4],[51,3,51,4],[52,3,52,4],[53,3,53,4],[54,3,54,4],[43,3,43,4],[44,3,44,4],[45,3,45,4],[46,3,46,4],[47,3,47,4],[48,3,48,4],[37,3,37,4],[38,3,38,4],[39,3,39,4],[40,3,40,4],[41,3,41,4],[42,3,42,4],[31,3,31,4],[32,3,32,4],[33,3,33,4],[34,3,34,4],[35,3,35,4],[36,3,36,4],[25,3,25,4],[26,3,26,4],[27,3,27,4],[28,3,28,4],[29,3,29,4],[30,3,30,4],[19,3,19,4],[20,3,20,4],[21,3,21,4],[22,3,22,4],[23,3,23,4],[24,3,24,4],[0,5,2,6],[0,7,2,8],[0,9,2,10],[13,3,13,4],[14,3,14,4],[15,3,15,4],[16,3,16,4],[17,3,17,4],[18,3,18,4],[7,3,7,4],[8,3,8,4],[9,3,9,4],[10,3,10,4],[11,3,11,4],[12,3,12,4],[0,88,2,88],[0,11,2,12],[0,13,2,14],[2,47,2,48],[3,1,3,4],[4,1,4,2],[4,3,4,4],[5,3,5,4],[6,3,6,4],[0,27,2,28],[0,29,2,30],[0,31,2,32],[0,33,2,34],[0,35,2,36],[1,1,1,2],[2,1,2,2],[2,3,2,4],[0,15,2,16],[0,17,2,18],[0,19,2,20],[0,21,2,22],[0,23,2,24],[0,25,2,26],[0,1,0,2]]}
["DATAENTRY","Country:",null,{"$f":"intro!F7","v":""},null,null,null,null,null,null,null,null,null,null,null,null,null,null,null,null,null,null,null,null,null,null,null,null,null,null,null,null,null,null,null,null,null,null,null,null,null,null,null,null,null,null,null,null,null,null,null,null,null,null,null,null,null,null,null,null,null,null,null,null,null,null,null,null,null,null,null,null,null,null,null,null,null,null,null,null,null,null,null,null,null,null,null,"DEMAND_PROD","ACCOUNTING_ENTRY","COUNTERPART_AREA","INTERACTORS","BRIDGE_ITEM","AIRPOL","STO","UNIT_MEASURE","UNIT_MULT","PRODUCT","SECTOR"]
[null,"Air Pollutant",null,"CO","Carbon monoxide"]
["T","Unit","Million National Currency","tonnes (Mg)"]
[null,"Air emissions by industry",null,null,null,1995,null,1996,null,1997,null,1998,null,1999,null,2000,null,2001,null,2002,null,2003,null,2004,null,2005,null,2006,null,2007,null,2008,null,2009,null,2010,null,2011,null,2012,null,2013,null,2014,null,2015,null,2016,null,2017,null,2018,null,2019,null,2020,null,2021,null,2022,null,2023,null,2024]
[null,{"$f":"Parameters!Q4","v":"A_U   01-99"},null,{"$f":"Parameters!S4","v":"Total industries"},null,null,null,null,null,null,null,null,null,null,null,null,null,null,null,null,null,null,null,null,null,null,null,null,null,null,null,null,null,null,null,null,null,null,null,null,null,null,null,null,null,null,null,null,null,null,null,null,null,null,null,null,null,null,null,null,null,null,null,null,null,null,null,null,null,null,null,null,null,null,null,null,null,null,null,null,null,null,null,null,null,null,null,"P","EC","W2","ATU","RES","CO","_Z","TN",0,"_T","S1"]
[null,{"$f":"Parameters!Q5","v":"A"},null,{"$f":"Parameters!S5","v":"Agriculture, forestry and fishing"},null,null,null,null,null,null,null,null,null,null,null,null,null,null,null,null,null,null,null,null,null,null,null,null,null,null,null,null,null,null,null,null,null,null,null,null,null,null,null,null,null,null,null,null,null,null,null,null,null,null,null,null,null,null,null,null,null,null,null,null,null,null,null,null,null,null,null,null,null,null,null,null,null,null,null,null,null,null,null,null,null,null,null,null,null,null,"A","RES"]
[null,{"$f":"Parameters!Q6","v":"A01"},null,{"$f":"Parameters!S6","v":"Crop and animal production, hunting and related service activities"},null,null,null,null,null,null,null,null,null,null,null,null,null,null,null,null,null,null,null,null,null,null,null,null,null,null,null,null,null,null,null,null,null,null,null,null,null,null,null,null,null,null,null,null,null,null,null,null,null,null,null,null,null,null,null,null,null,null,null,null,null,null,null,null,null,null,null,null,null,null,null,null,null,null,null,null,null,null,null,null,null,null,null,null,null,null,"A01","RES"]
[null,{"$f":"Parameters!Q7","v":"A02"},null,{"$f":"Parameters!S7","v":"Forestry and logging"},null,null,null,null,null,null,null,null,null,null,null,null,null,null,null,null,null,null,null,null,null,null,null,null,null,null,null,null,null,null,null,null,null,null,null,null,null,null,null,null,null,null,null,null,null,null,null,null,null,null,null,null,null,null,null,null,null,null,null,null,null,null,null,null,null,null,null,null,null,null,null,null,null,null,null,null,null,null,null,null,null,null,null,null,null,null,"A02","RES"]
[null,{"$f":"Parameters!Q8","v":"A03"},null,{"$f":"Parameters!S8","v":"Fishing and aquaculture"},null,null,null,null,null,null,null,null,null,null,null,null,null,null,null,null,null,null,null,null,null,null,null,null,null,null,null,null,null,null,null,null,null,null,null,null,null,null,null,null,null,null,null,null,null,null,null,null,null,null,null,null,null,null,null,null,null,null,null,null,null,null,null,null,null,null,null,null,null,null,null,null,null,null,null,null,null,null,null,null,null,null,null,null,null,null,"A03","RES"]
[null,{"$f":"Parameters!Q9","v":"B"},null,{"$f":"Parameters!S9","v":"Mining and quarrying"},null,null,null,null,null,null,null,null,null,null,null,null,null,null,null,null,null,null,null,null,null,null,null,null,null,null,null,null,null,null,null,null,null,null,null,null,null,null,null,null,null,null,null,null,null,null,null,null,null,null,null,null,null,null,null,null,null,null,null,null,null,null,null,null,null,null,null,null,null,null,null,null,null,null,null,null,null,null,null,null,null,null,null,null,null,null,"B","RES"]
[null,{"$f":"Parameters!Q10","v":"C"},null,{"$f":"Parameters!S10","v":"Manufacturing"},null,null,null,null,null,null,null,null,null,null,null,null,null,null,null,null,null,null,null,null,null,null,null,null,null,null,null,null,null,null,null,null,null,null,null,null,null,null,null,null,null,null,null,null,null,null,null,null,null,null,null,null,null,null,null,null,null,null,null,null,null,null,null,null,null,null,null,null,null,null,null,null,null,null,null,null,null,null,null,null,null,null,null,null,null,null,"C","RES"]
[null,{"$f":"Parameters!Q11","v":"C10-C12"},null,{"$f":"Parameters!S11","v":"Manufacture of food products, beverages and tobacco\nproducts"},null,null,null,null,null,null,null,null,null,null,null,null,null,null,null,null,null,null,null,null,null,null,null,null,null,null,null,null,null,null,null,null,null,null,null,null,null,null,null,null,null,null,null,null,null,null,null,null,null,null,null,null,null,null,null,null,null,null,null,null,null,null,null,null,null,null,null,null,null,null,null,null,null,null,null,null,null,null,null,null,null,null,null,null,null,null,"C10T12","RES"]
[null,{"$f":"Parameters!Q12","v":"C13-C15"},null,{"$f":"Parameters!S12","v":"Manufacture of textiles, wearing apparel and leather products"},null,null,null,null,null,null,null,null,null,null,null,null,null,null,null,null,null,null,null,null,null,null,null,null,null,null,null,null,null,null,null,null,null,null,null,null,null,null,null,null,null,null,null,null,null,null,null,null,null,null,null,null,null,null,null,null,null,null,null,null,null,null,null,null,null,null,null,null,null,null,null,null,null,null,null,null,null,null,null,null,null,null,null,null,null,null,"C13T15","RES"]
[null,{"$f":"Parameters!Q13","v":"C16-C18"},null,{"$f":"Parameters!S13","v":"Manufacture of wood, paper, printing and reproduction"}]
[null,{"$f":"Parameters!Q14","v":"C16"},null,{"$f":"Parameters!S14","v":"Manufacture of wood and of products of wood and cork, except furniture; manufacture of articles of straw and plaiting materials"},null,null,null,null,null,null,null,null,null,null,null,null,null,null,null,null,null,null,null,null,null,null,null,null,null,null,null,null,null,null,null,null,null,null,null,null,null,null,null,null,null,null,null,null,null,null,null,null,null,null,null,null,null,null,null,null,null,null,null,null,null,null,null,null,null,null,null,null,null,null,null,null,null,null,null,null,null,null,null,null,null,null,null,null,null,null,"C16","RES"]
[null,{"$f":"Parameters!Q15","v":"C17"},null,{"$f":"Parameters!S15","v":"Manufacture of paper and paper products"},null,null,null,null,null,null,null,null,null,null,null,null,null,null,null,null,null,null,null,null,null,null,null,null,null,null,null,null,null,null,null,null,null,null,null,null,null,null,null,null,null,null,null,null,null,null,null,null,null,null,null,null,null,null,null,null,null,null,null,null,null,null,null,null,null,null,null,null,null,null,null,null,null,null,null,null,null,null,null,null,null,null,null,null,null,null,"C17","RES"]
[null,{"$f":"Parameters!Q16","v":"C18"},null,{"$f":"Parameters!S16","v":"Printing and reproduction of recorded media"},null,null,null,null,null,null,null,null,null,null,null,null,null,null,null,null,null,null,null,null,null,null,null,null,null,null,null,null,null,null,null,null,null,null,null,null,null,null,null,null,null,null,null,null,null,null,null,null,null,null,null,null,null,null,null,null,null,null,null,null,null,null,null,null,null,null,null,null,null,null,null,null,null,null,null,null,null,null,null,null,null,null,null,null,null,null,"C18","RES"]
[null,{"$f":"Parameters!Q17","v":"C19"},null,{"$f":"Parameters!S17","v":"Manufacture of coke and refined petroleum products"},null,null,null,null,null,null,null,null,null,null,null,null,null,null,null,null,null,null,null,null,null,null,null,null,null,null,null,null,null,null,null,null,null,null,null,null,null,null,null,null,null,null,null,null,null,null,null,null,null,null,null,null,null,null,null,null,null,null,null,null,null,null,null,null,null,null,null,null,null,null,null,null,null,null,null,null,null,null,null,null,null,null,null,null,null,null,"C19","RES"]
[null,{"$f":"Parameters!Q18","v":"C20"},null,{"$f":"Parameters!S18","v":"Manufacture of chemicals and chemical products"},null,null,null,null,null,null,null,null,null,null,null,null,null,null,null,null,null,null,null,null,null,null,null,null,null,null,null,null,null,null,null,null,null,null,null,null,null,null,null,null,null,null,null,null,null,null,null,null,null,null,null,null,null,null,null,null,null,null,null,null,null,null,null,null,null,null,null,null,null,null,null,null,null,null,null,null,null,null,null,null,null,null,null,null,null,null,"C20","RES"]
[null,{"$f":"Parameters!Q19","v":"C21"},null,{"$f":"Parameters!S19","v":"Manufacture of basic pharmaceutical products and pharmaceutical preparations"},null,null,null,null,null,null,null,null,null,null,null,null,null,null,null,null,null,null,null,null,null,null,null,null,null,null,null,null,null,null,null,null,null,null,null,null,null,null,null,null,null,null,null,null,null,null,null,null,null,null,null,null,null,null,null,null,null,null,null,null,null,null,null,null,null,null,null,null,null,null,null,null,null,null,null,null,null,null,null,null,null,null,null,null,null,null,"C21","RES"]
[null,{"$f":"Parameters!Q20","v":"C22_C23"},null,{"$f":"Parameters!S20","v":"Manufacture of rubber and plastic products and other non-metallic mineral products"}]
[null,{"$f":"Parameters!Q21","v":"C22"},null,{"$f":"Parameters!S21","v":"Manufacture of rubber and plastic products"},null,null,null,null,null,null,null,null,null,null,null,null,null,null,null,null,null,null,null,null,null,null,null,null,null,null,null,null,null,null,null,null,null,null,null,null,null,null,null,null,null,null,null,null,null,null,null,null,null,null,null,null,null,null,null,null,null,null,null,null,null,null,null,null,null,null,null,null,null,null,null,null,null,null,null,null,null,null,null,null,null,null,null,null,null,null,"C22","RES"]
[null,{"$f":"Parameters!Q22","v":"C23"},null,{"$f":"Parameters!S22","v":"Manufacture of other non-metallic mineral products"},null,null,null,null,null,null,null,null,null,null,null,null,null,null,null,null,null,null,null,null,null,null,null,null,null,null,null,null,null,null,null,null,null,null,null,null,null,null,null,null,null,null,null,null,null,null,null,null,null,null,null,null,null,null,null,null,null,null,null,null,null,null,null,null,null,null,null,null,null,null,null,null,null,null,null,null,null,null,null,null,null,null,null,null,null,null,"C23","RES"]
[null,{"$f":"Parameters!Q23","v":"C24_C25"},null,{"$f":"Parameters!S23","v":"Manufacture of basic metals and fabricated metal products, except machinery and equipment"}]
[null,{"$f":"Parameters!Q24","v":"C24"},null,{"$f":"Parameters!S24","v":"Manufacture of basic metals"},null,null,null,null,null,null,null,null,null,null,null,null,null,null,null,null,null,null,null,null,null,null,null,null,null,null,null,null,null,null,null,null,null,null,null,null,null,null,null,null,null,null,null,null,null,null,null,null,null,null,null,null,null,null,null,null,null,null,null,null,null,null,null,null,null,null,null,null,null,null,null,null,null,null,null,null,null,null,null,null,null,null,null,null,null,null,"C24","RES"]
[null,{"$f":"Parameters!Q25","v":"C25"},null,{"$f":"Parameters!S25","v":"Manufacture of fabricated metal products, except machinery and equipment"},null,null,null,null,null,null,null,null,null,null,null,null,null,null,null,null,null,null,null,null,null,null,null,null,null,null,null,null,null,null,null,null,null,null,null,null,null,null,null,null,null,null,null,null,null,null,null,null,null,null,null,null,null,null,null,null,null,null,null,null,null,null,null,null,null,null,null,null,null,null,null,null,null,null,null,null,null,null,null,null,null,null,null,null,null,null,"C25","RES"]
[null,{"$f":"Parameters!Q26","v":"C26"},null,{"$f":"Parameters!S26","v":"Manufacture of computer, electronic and optical products"},null,null,null,null,null,null,null,null,null,null,null,null,null,null,null,null,null,null,null,null,null,null,null,null,null,null,null,null,null,null,null,null,null,null,null,null,null,null,null,null,null,null,null,null,null,null,null,null,null,null,null,null,null,null,null,null,null,null,null,null,null,null,null,null,null,null,null,null,null,null,null,null,null,null,null,null,null,null,null,null,null,null,null,null,null,null,"C26","RES"]
[null,{"$f":"Parameters!Q27","v":"C27"},null,{"$f":"Parameters!S27","v":"Manufacture of electrical equipment"},null,null,null,null,null,null,null,null,null,null,null,null,null,null,null,null,null,null,null,null,null,null,null,null,null,null,null,null,null,null,null,null,null,null,null,null,null,null,null,null,null,null,null,null,null,null,null,null,null,null,null,null,null,null,null,null,null,null,null,null,null,null,null,null,null,null,null,null,null,null,null,null,null,null,null,null,null,null,null,null,null,null,null,null,null,null,"C27","RES"]
[null,{"$f":"Parameters!Q28","v":"C28"},null,{"$f":"Parameters!S28","v":"Manufacture of machinery and equipment n.e.c."},null,null,null,null,null,null,null,null,null,null,null,null,null,null,null,null,null,null,null,null,null,null,null,null,null,null,null,null,null,null,null,null,null,null,null,null,null,null,null,null,null,null,null,null,null,null,null,null,null,null,null,null,null,null,null,null,null,null,null,null,null,null,null,null,null,null,null,null,null,null,null,null,null,null,null,null,null,null,null,null,null,null,null,null,null,null,"C28","RES"]
[null,{"$f":"Parameters!Q29","v":"C29_C30"},null,{"$f":"Parameters!S29","v":"Manufacture of motor vehicles, trailers, semi-trailers and of other transport equipment"}]
[null,{"$f":"Parameters!Q30","v":"C29"},null,{"$f":"Parameters!S30","v":"Manufacture of motor vehicles, trailers and semi-trailers"},null,null,null,null,null,null,null,null,null,null,null,null,null,null,null,null,null,null,null,null,null,null,null,null,null,null,null,null,null,null,null,null,null,null,null,null,null,null,null,null,null,null,null,null,null,null,null,null,null,null,null,null,null,null,null,null,null,null,null,null,null,null,null,null,null,null,null,null,null,null,null,null,null,null,null,null,null,null,null,null,null,null,null,null,null,null,"C29","RES"]
[null,{"$f":"Parameters!Q31","v":"C30"},null,{"$f":"Parameters!S31","v":"Manufacture of other transport equipment"},null,null,null,null,null,null,null,null,null,null,null,null,null,null,null,null,null,null,null,null,null,null,null,null,null,null,null,null,null,null,null,null,null,null,null,null,null,null,null,null,null,null,null,null,null,null,null,null,null,null,null,null,null,null,null,null,null,null,null,null,null,null,null,null,null,null,null,null,null,null,null,null,null,null,null,null,null,null,null,null,null,null,null,null,null,null,"C30","RES"]
[null,{"$f":"Parameters!Q32","v":"C31-C33"},null,{"$f":"Parameters!S32","v":"Manufacture of furniture; jewellery, musical instruments, toys; repair and installation of machinery and equipment"}]
[null,{"$f":"Parameters!Q33","v":"C31_C32"},null,{"$f":"Parameters!S33","v":"Manufacture of furniture; other manufacturing"},null,null,null,null,null,null,null,null,null,null,null,null,null,null,null,null,null,null,null,null,null,null,null,null,null,null,null,null,null,null,null,null,null,null,null,null,null,null,null,null,null,null,null,null,null,null,null,null,null,null,null,null,null,null,null,null,null,null,null,null,null,null,null,null,null,null,null,null,null,null,null,null,null,null,null,null,null,null,null,null,null,null,null,null,null,null,"C31_32","RES"]
[null,{"$f":"Parameters!Q34","v":"C33"},null,{"$f":"Parameters!S34","v":"Repair and installation of machinery and equipment"},null,null,null,null,null,null,null,null,null,null,null,null,null,null,null,null,null,null,null,null,null,null,null,null,null,null,null,null,null,null,null,null,null,null,null,null,null,null,null,null,null,null,null,null,null,null,null,null,null,null,null,null,null,null,null,null,null,null,null,null,null,null,null,null,null,null,null,null,null,null,null,null,null,null,null,null,null,null,null,null,null,null,null,null,null,null,"C33","RES"]
[null,{"$f":"Parameters!Q35","v":"D"},null,{"$f":"Parameters!S35","v":"Electricity, gas, steam and air conditioning supply"},null,null,null,null,null,null,null,null,null,null,null,null,null,null,null,null,null,null,null,null,null,null,null,null,null,null,null,null,null,null,null,null,null,null,null,null,null,null,null,null,null,null,null,null,null,null,null,null,null,null,null,null,null,null,null,null,null,null,null,null,null,null,null,null,null,null,null,null,null,null,null,null,null,null,null,null,null,null,null,null,null,null,null,null,null,null,"D","RES"]
[null,{"$f":"Parameters!Q36","v":"E"},null,{"$f":"Parameters!S36","v":"Water supply; sewerage, waste management and remediation activities"},null,null,null,null,null,null,null,null,null,null,null,null,null,null,null,null,null,null,null,null,null,null,null,null,null,null,null,null,null,null,null,null,null,null,null,null,null,null,null,null,null,null,null,null,null,null,null,null,null,null,null,null,null,null,null,null,null,null,null,null,null,null,null,null,null,null,null,null,null,null,null,null,null,null,null,null,null,null,null,null,null,null,null,null,null,null,"E","RES"]
[null,{"$f":"Parameters!Q37","v":"E36"},null,{"$f":"Parameters!S37","v":"Water collection, treatment and supply"},null,null,null,null,null,null,null,null,null,null,null,null,null,null,null,null,null,null,null,null,null,null,null,null,null,null,null,null,null,null,null,null,null,null,null,null,null,null,null,null,null,null,null,null,null,null,null,null,null,null,null,null,null,null,null,null,null,null,null,null,null,null,null,null,null,null,null,null,null,null,null,null,null,null,null,null,null,null,null,null,null,null,null,null,null,null,"E36","RES"]
[null,{"$f":"Parameters!Q38","v":"E37-E39"},null,{"$f":"Parameters!S38","v":"Sewerage, waste management, remediation activities"},null,null,null,null,null,null,null,null,null,null,null,null,null,null,null,null,null,null,null,null,null,null,null,null,null,null,null,null,null,null,null,null,null,null,null,null,null,null,null,null,null,null,null,null,null,null,null,null,null,null,null,null,null,null,null,null,null,null,null,null,null,null,null,null,null,null,null,null,null,null,null,null,null,null,null,null,null,null,null,null,null,null,null,null,null,null,"E37T39","RES"]
[null,{"$f":"Parameters!Q39","v":"F"},null,{"$f":"Parameters!S39","v":"Construction"},null,null,null,null,null,null,null,null,null,null,null,null,null,null,null,null,null,null,null,null,null,null,null,null,null,null,null,null,null,null,null,null,null,null,null,null,null,null,null,null,null,null,null,null,null,null,null,null,null,null,null,null,null,null,null,null,null,null,null,null,null,null,null,null,null,null,null,null,null,null,null,null,null,null,null,null,null,null,null,null,null,null,null,null,null,null,"F","RES"]
[null,{"$f":"Parameters!Q40","v":"G"},null,{"$f":"Parameters!S40","v":"Wholesale and retail trade; repair of motor vehicles and motorcycles"},null,null,null,null,null,null,null,null,null,null,null,null,null,null,null,null,null,null,null,null,null,null,null,null,null,null,null,null,null,null,null,null,null,null,null,null,null,null,null,null,null,null,null,null,null,null,null,null,null,null,null,null,null,null,null,null,null,null,null,null,null,null,null,null,null,null,null,null,null,null,null,null,null,null,null,null,null,null,null,null,null,null,null,null,null,null,"G","RES"]
[null,{"$f":"Parameters!Q41","v":"G45"},null,{"$f":"Parameters!S41","v":"Wholesale and retail trade and repair of motor vehicles and motorcycles"},null,null,null,null,null,null,null,null,null,null,null,null,null,null,null,null,null,null,null,null,null,null,null,null,null,null,null,null,null,null,null,null,null,null,null,null,null,null,null,null,null,null,null,null,null,null,null,null,null,null,null,null,null,null,null,null,null,null,null,null,null,null,null,null,null,null,null,null,null,null,null,null,null,null,null,null,null,null,null,null,null,null,null,null,null,null,"G45","RES"]
[null,{"$f":"Parameters!Q42","v":"G46"},null,{"$f":"Parameters!S42","v":"Wholesale trade, except of motor vehicles and motorcycles"},null,null,null,null,null,null,null,null,null,null,null,null,null,null,null,null,null,null,null,null,null,null,null,null,null,null,null,null,null,null,null,null,null,null,null,null,null,null,null,null,null,null,null,null,null,null,null,null,null,null,null,null,null,null,null,null,null,null,null,null,null,null,null,null,null,null,null,null,null,null,null,null,null,null,null,null,null,null,null,null,null,null,null,null,null,null,"G46","RES"]
[null,{"$f":"Parameters!Q43","v":"G47"},null,{"$f":"Parameters!S43","v":"Retail trade, except of motor vehicles and motorcycles"},null,null,null,null,null,null,null,null,null,null,null,null,null,null,null,null,null,null,null,null,null,null,null,null,null,null,null,null,null,null,null,null,null,null,null,null,null,null,null,null,null,null,null,null,null,null,null,null,null,null,null,null,null,null,null,null,null,null,null,null,null,null,null,null,null,null,null,null,null,null,null,null,null,null,null,null,null,null,null,null,null,null,null,null,null,null,"G47","RES"]
[null,{"$f":"Parameters!Q44","v":"H"},null,{"$f":"Parameters!S44","v":"Transportation and storage"},null,null,null,null,null,null,null,null,null,null,null,null,null,null,null,null,null,null,null,null,null,null,null,null,null,null,null,null,null,null,null,null,null,null,null,null,null,null,null,null,null,null,null,null,null,null,null,null,null,null,null,null,null,null,null,null,null,null,null,null,null,null,null,null,null,null,null,null,null,null,null,null,null,null,null,null,null,null,null,null,null,null,null,null,null,null,"H","RES"]
[null,{"$f":"Parameters!Q45","v":"H49"},null,{"$f":"Parameters!S45","v":"Land transport and transport via pipelines"},null,null,null,null,null,null,null,null,null,null,null,null,null,null,null,null,null,null,null,null,null,null,null,null,null,null,null,null,null,null,null,null,null,null,null,null,null,null,null,null,null,null,null,null,null,null,null,null,null,null,null,null,null,null,null,null,null,null,null,null,null,null,null,null,null,null,null,null,null,null,null,null,null,null,null,null,null,null,null,null,null,null,null,null,null,null,"H49","RES"]
[null,{"$f":"Parameters!Q46","v":"H50"},null,{"$f":"Parameters!S46","v":"Water transport"},null,null,null,null,null,null,null,null,null,null,null,null,null,null,null,null,null,null,null,null,null,null,null,null,null,null,null,null,null,null,null,null,null,null,null,null,null,null,null,null,null,null,null,null,null,null,null,null,null,null,null,null,null,null,null,null,null,null,null,null,null,null,null,null,null,null,null,null,null,null,null,null,null,null,null,null,null,null,null,null,null,null,null,null,null,null,"H50","RES"]
[null,{"$f":"Parameters!Q47","v":"H51"},null,{"$f":"Parameters!S47","v":"Air transport"},null,null,null,null,null,null,null,null,null,null,null,null,null,null,null,null,null,null,null,null,null,null,null,null,null,null,null,null,null,null,null,null,null,null,null,null,null,null,null,null,null,null,null,null,null,null,null,null,null,null,null,null,null,null,null,null,null,null,null,null,null,null,null,null,null,null,null,null,null,null,null,null,null,null,null,null,null,null,null,null,null,null,null,null,null,null,"H51","RES"]
[null,{"$f":"Parameters!Q48","v":"H52"},null,{"$f":"Parameters!S48","v":"Warehousing and support activities for transportation"},null,null,null,null,null,null,null,null,null,null,null,null,null,null,null,null,null,null,null,null,null,null,null,null,null,null,null,null,null,null,null,null,null,null,null,null,null,null,null,null,null,null,null,null,null,null,null,null,null,null,null,null,null,null,null,null,null,null,null,null,null,null,null,null,null,null,null,null,null,null,null,null,null,null,null,null,null,null,null,null,null,null,null,null,null,null,"H52","RES"]
[null,{"$f":"Parameters!Q49","v":"H53"},null,{"$f":"Parameters!S49","v":"Postal and courier activities"},null,null,null,null,null,null,null,null,null,null,null,null,null,null,null,null,null,null,null,null,null,null,null,null,null,null,null,null,null,null,null,null,null,null,null,null,null,null,null,null,null,null,null,null,null,null,null,null,null,null,null,null,null,null,null,null,null,null,null,null,null,null,null,null,null,null,null,null,null,null,null,null,null,null,null,null,null,null,null,null,null,null,null,null,null,null,"H53","RES"]
[null,{"$f":"Parameters!Q50","v":"I"},null,{"$f":"Parameters!S50","v":"Accommodation and food service activities"},null,null,null,null,null,null,null,null,null,null,null,null,null,null,null,null,null,null,null,null,null,null,null,null,null,null,null,null,null,null,null,null,null,null,null,null,null,null,null,null,null,null,null,null,null,null,null,null,null,null,null,null,null,null,null,null,null,null,null,null,null,null,null,null,null,null,null,null,null,null,null,null,null,null,null,null,null,null,null,null,null,null,null,null,null,null,"I","RES"]
[null,{"$f":"Parameters!Q51","v":"J"},null,{"$f":"Parameters!S51","v":"Information and communication"},null,null,null,null,null,null,null,null,null,null,null,null,null,null,null,null,null,null,null,null,null,null,null,null,null,null,null,null,null,null,null,null,null,null,null,null,null,null,null,null,null,null,null,null,null,null,null,null,null,null,null,null,null,null,null,null,null,null,null,null,null,null,null,null,null,null,null,null,null,null,null,null,null,null,null,null,null,null,null,null,null,null,null,null,null,null,"J","RES"]
[null,{"$f":"Parameters!Q52","v":"J58-J60"},null,{"$f":"Parameters!S52","v":"Publishing, motion picture, video, television programme production; sound recording, programming and broadcasting activities"}]
[null,{"$f":"Parameters!Q53","v":"J58"},null,{"$f":"Parameters!S53","v":"Publishing activities"},null,null,null,null,null,null,null,null,null,null,null,null,null,null,null,null,null,null,null,null,null,null,null,null,null,null,null,null,null,null,null,null,null,null,null,null,null,null,null,null,null,null,null,null,null,null,null,null,null,null,null,null,null,null,null,null,null,null,null,null,null,null,null,null,null,null,null,null,null,null,null,null,null,null,null,null,null,null,null,null,null,null,null,null,null,null,"J58","RES"]
[null,{"$f":"Parameters!Q54","v":"J59_J60"},null,{"$f":"Parameters!S54","v":"Motion picture, video, television programme production; programming and broadcasting activities"},null,null,null,null,null,null,null,null,null,null,null,null,null,null,null,null,null,null,null,null,null,null,null,null,null,null,null,null,null,null,null,null,null,null,null,null,null,null,null,null,null,null,null,null,null,null,null,null,null,null,null,null,null,null,null,null,null,null,null,null,null,null,null,null,null,null,null,null,null,null,null,null,null,null,null,null,null,null,null,null,null,null,null,null,null,null,"J59_60","RES"]
[null,{"$f":"Parameters!Q55","v":"J61"},null,{"$f":"Parameters!S55","v":"Telecommunications"},null,null,null,null,null,null,null,null,null,null,null,null,null,null,null,null,null,null,null,null,null,null,null,null,null,null,null,null,null,null,null,null,null,null,null,null,null,null,null,null,null,null,null,null,null,null,null,null,null,null,null,null,null,null,null,null,null,null,null,null,null,null,null,null,null,null,null,null,null,null,null,null,null,null,null,null,null,null,null,null,null,null,null,null,null,null,"J61","RES"]
[null,{"$f":"Parameters!Q56","v":"J62_J63"},null,{"$f":"Parameters!S56","v":"Computer programming, consultancy, and information service activities"},null,null,null,null,null,null,null,null,null,null,null,null,null,null,null,null,null,null,null,null,null,null,null,null,null,null,null,null,null,null,null,null,null,null,null,null,null,null,null,null,null,null,null,null,null,null,null,null,null,null,null,null,null,null,null,null,null,null,null,null,null,null,null,null,null,null,null,null,null,null,null,null,null,null,null,null,null,null,null,null,null,null,null,null,null,null,"J62_63","RES"]
[null,{"$f":"Parameters!Q57","v":"K"},null,{"$f":"Parameters!S57","v":"Financial and insurance activities"},null,null,null,null,null,null,null,null,null,null,null,null,null,null,null,null,null,null,null,null,null,null,null,null,null,null,null,null,null,null,null,null,null,null,null,null,null,null,null,null,null,null,null,null,null,null,null,null,null,null,null,null,null,null,null,null,null,null,null,null,null,null,null,null,null,null,null,null,null,null,null,null,null,null,null,null,null,null,null,null,null,null,null,null,null,null,"K","RES"]
[null,{"$f":"Parameters!Q58","v":"K64"},null,{"$f":"Parameters!S58","v":"Financial service activities, except insurance and pension funding"},null,null,null,null,null,null,null,null,null,null,null,null,null,null,null,null,null,null,null,null,null,null,null,null,null,null,null,null,null,null,null,null,null,null,null,null,null,null,null,null,null,null,null,null,null,null,null,null,null,null,null,null,null,null,null,null,null,null,null,null,null,null,null,null,null,null,null,null,null,null,null,null,null,null,null,null,null,null,null,null,null,null,null,null,null,null,"K64","RES"]
[null,{"$f":"Parameters!Q59","v":"K65"},null,{"$f":"Parameters!S59","v":"Insurance, reinsurance and pension funding, except compulsory social security"},null,null,null,null,null,null,null,null,null,null,null,null,null,null,null,null,null,null,null,null,null,null,null,null,null,null,null,null,null,null,null,null,null,null,null,null,null,null,null,null,null,null,null,null,null,null,null,null,null,null,null,null,null,null,null,null,null,null,null,null,null,null,null,null,null,null,null,null,null,null,null,null,null,null,null,null,null,null,null,null,null,null,null,null,null,null,"K65","RES"]
[null,{"$f":"Parameters!Q60","v":"K66"},null,{"$f":"Parameters!S60","v":"Activities auxiliary to financial services and insurance activities"},null,null,null,null,null,null,null,null,null,null,null,null,null,null,null,null,null,null,null,null,null,null,null,null,null,null,null,null,null,null,null,null,null,null,null,null,null,null,null,null,null,null,null,null,null,null,null,null,null,null,null,null,null,null,null,null,null,null,null,null,null,null,null,null,null,null,null,null,null,null,null,null,null,null,null,null,null,null,null,null,null,null,null,null,null,null,"K66","RES"]
[null,{"$f":"Parameters!Q61","v":"L"},null,{"$f":"Parameters!S61","v":"Real estate activities"},null,null,null,null,null,null,null,null,null,null,null,null,null,null,null,null,null,null,null,null,null,null,null,null,null,null,null,null,null,null,null,null,null,null,null,null,null,null,null,null,null,null,null,null,null,null,null,null,null,null,null,null,null,null,null,null,null,null,null,null,null,null,null,null,null,null,null,null,null,null,null,null,null,null,null,null,null,null,null,null,null,null,null,null,null,null,"L","RES"]
[null,{"$f":"Parameters!Q62","v":"L68A"},null,{"$f":"Parameters!S62","v":"Imputed rents of owner-occupied dwellings"},null,null,null,null,null,null,null,null,null,null,null,null,null,null,null,null,null,null,null,null,null,null,null,null,null,null,null,null,null,null,null,null,null,null,null,null,null,null,null,null,null,null,null,null,null,null,null,null,null,null,null,null,null,null,null,null,null,null,null,null,null,null,null,null,null,null,null,null,null,null,null,null,null,null,null,null,null,null,null,null,null,null,null,null,null,null,"L68A","RES"]
[null,{"$f":"Parameters!Q63","v":"M"},null,{"$f":"Parameters!S63","v":"Professional, scientific and technical activities"},null,null,null,null,null,null,null,null,null,null,null,null,null,null,null,null,null,null,null,null,null,null,null,null,null,null,null,null,null,null,null,null,null,null,null,null,null,null,null,null,null,null,null,null,null,null,null,null,null,null,null,null,null,null,null,null,null,null,null,null,null,null,null,null,null,null,null,null,null,null,null,null,null,null,null,null,null,null,null,null,null,null,null,null,null,null,"M","RES"]
[null,{"$f":"Parameters!Q64","v":"M69-M71"},null,{"$f":"Parameters!S64","v":"Legal and accounting activities; activities of head offices; management consultancy activities; architectural and engineering activities; technical testing and analysis"}]
[null,{"$f":"Parameters!Q65","v":"M69_M70"},null,{"$f":"Parameters!S65","v":"Legal and accounting activities; activities of head offices; management consultancy activities"},null,null,null,null,null,null,null,null,null,null,null,null,null,null,null,null,null,null,null,null,null,null,null,null,null,null,null,null,null,null,null,null,null,null,null,null,null,null,null,null,null,null,null,null,null,null,null,null,null,null,null,null,null,null,null,null,null,null,null,null,null,null,null,null,null,null,null,null,null,null,null,null,null,null,null,null,null,null,null,null,null,null,null,null,null,null,"M69_70","RES"]
[null,{"$f":"Parameters!Q66","v":"M71"},null,{"$f":"Parameters!S66","v":"Architectural and engineering activities; technical testing and analysis"},null,null,null,null,null,null,null,null,null,null,null,null,null,null,null,null,null,null,null,null,null,null,null,null,null,null,null,null,null,null,null,null,null,null,null,null,null,null,null,null,null,null,null,null,null,null,null,null,null,null,null,null,null,null,null,null,null,null,null,null,null,null,null,null,null,null,null,null,null,null,null,null,null,null,null,null,null,null,null,null,null,null,null,null,null,null,"M71","RES"]
[null,{"$f":"Parameters!Q67","v":"M72"},null,{"$f":"Parameters!S67","v":"Scientific research and development"},null,null,null,null,null,null,null,null,null,null,null,null,null,null,null,null,null,null,null,null,null,null,null,null,null,null,null,null,null,null,null,null,null,null,null,null,null,null,null,null,null,null,null,null,null,null,null,null,null,null,null,null,null,null,null,null,null,null,null,null,null,null,null,null,null,null,null,null,null,null,null,null,null,null,null,null,null,null,null,null,null,null,null,null,null,null,"M72","RES"]
[null,{"$f":"Parameters!Q68","v":"M73-M75"},null,{"$f":"Parameters!S68","v":"Advertising and market research; other professional, scientific and technical activities; veterinary activities"}]
[null,{"$f":"Parameters!Q69","v":"M73"},null,{"$f":"Parameters!S69","v":"Advertising and market research"},null,null,null,null,null,null,null,null,null,null,null,null,null,null,null,null,null,null,null,null,null,null,null,null,null,null,null,null,null,null,null,null,null,null,null,null,null,null,null,null,null,null,null,null,null,null,null,null,null,null,null,null,null,null,null,null,null,null,null,null,null,null,null,null,null,null,null,null,null,null,null,null,null,null,null,null,null,null,null,null,null,null,null,null,null,null,"M73","RES"]
[null,{"$f":"Parameters!Q70","v":"M74_M75"},null,{"$f":"Parameters!S70","v":"Other professional, scientific and technical activities; veterinary activities"},null,null,null,null,null,null,null,null,null,null,null,null,null,null,null,null,null,null,null,null,null,null,null,null,null,null,null,null,null,null,null,null,null,null,null,null,null,null,null,null,null,null,null,null,null,null,null,null,null,null,null,null,null,null,null,null,null,null,null,null,null,null,null,null,null,null,null,null,null,null,null,null,null,null,null,null,null,null,null,null,null,null,null,null,null,null,"M74_75","RES"]
[null,{"$f":"Parameters!Q71","v":"N"},null,{"$f":"Parameters!S71","v":"Administrative and support service activities"},null,null,null,null,null,null,null,null,null,null,null,null,null,null,null,null,null,null,null,null,null,null,null,null,null,null,null,null,null,null,null,null,null,null,null,null,null,null,null,null,null,null,null,null,null,null,null,null,null,null,null,null,null,null,null,null,null,null,null,null,null,null,null,null,null,null,null,null,null,null,null,null,null,null,null,null,null,null,null,null,null,null,null,null,null,null,"N","RES"]
[null,{"$f":"Parameters!Q72","v":"N77"},null,{"$f":"Parameters!S72","v":"Rental and leasing activities"},null,null,null,null,null,null,null,null,null,null,null,null,null,null,null,null,null,null,null,null,null,null,null,null,null,null,null,null,null,null,null,null,null,null,null,null,null,null,null,null,null,null,null,null,null,null,null,null,null,null,null,null,null,null,null,null,null,null,null,null,null,null,null,null,null,null,null,null,null,null,null,null,null,null,null,null,null,null,null,null,null,null,null,null,null,null,"N77","RES"]
[null,{"$f":"Parameters!Q73","v":"N78"},null,{"$f":"Parameters!S73","v":"Employment activities"},null,null,null,null,null,null,null,null,null,null,null,null,null,null,null,null,null,null,null,null,null,null,null,null,null,null,null,null,null,null,null,null,null,null,null,null,null,null,null,null,null,null,null,null,null,null,null,null,null,null,null,null,null,null,null,null,null,null,null,null,null,null,null,null,null,null,null,null,null,null,null,null,null,null,null,null,null,null,null,null,null,null,null,null,null,null,"N78","RES"]
[null,{"$f":"Parameters!Q74","v":"N79"},null,{"$f":"Parameters!S74","v":"Travel agency, tour operator reservation service and related activities"},null,null,null,null,null,null,null,null,null,null,null,null,null,null,null,null,null,null,null,null,null,null,null,null,null,null,null,null,null,null,null,null,null,null,null,null,null,null,null,null,null,null,null,null,null,null,null,null,null,null,null,null,null,null,null,null,null,null,null,null,null,null,null,null,null,null,null,null,null,null,null,null,null,null,null,null,null,null,null,null,null,null,null,null,null,null,"N79","RES"]
[null,{"$f":"Parameters!Q75","v":"N80-N82"},null,{"$f":"Parameters!S75","v":"Security and investigation, service and landscape, office administrative and support activities"},null,null,null,null,null,null,null,null,null,null,null,null,null,null,null,null,null,null,null,null,null,null,null,null,null,null,null,null,null,null,null,null,null,null,null,null,null,null,null,null,null,null,null,null,null,null,null,null,null,null,null,null,null,null,null,null,null,null,null,null,null,null,null,null,null,null,null,null,null,null,null,null,null,null,null,null,null,null,null,null,null,null,null,null,null,null,"N80T82","RES"]
[null,{"$f":"Parameters!Q76","v":"O"},null,{"$f":"Parameters!S76","v":"Public administration and defence; compulsory social security"},null,null,null,null,null,null,null,null,null,null,null,null,null,null,null,null,null,null,null,null,null,null,null,null,null,null,null,null,null,null,null,null,null,null,null,null,null,null,null,null,null,null,null,null,null,null,null,null,null,null,null,null,null,null,null,null,null,null,null,null,null,null,null,null,null,null,null,null,null,null,null,null,null,null,null,null,null,null,null,null,null,null,null,null,null,null,"O","RES"]
[null,{"$f":"Parameters!Q77","v":"P"},null,{"$f":"Parameters!S77","v":"Education"},null,null,null,null,null,null,null,null,null,null,null,null,null,null,null,null,null,null,null,null,null,null,null,null,null,null,null,null,null,null,null,null,null,null,null,null,null,null,null,null,null,null,null,null,null,null,null,null,null,null,null,null,null,null,null,null,null,null,null,null,null,null,null,null,null,null,null,null,null,null,null,null,null,null,null,null,null,null,null,null,null,null,null,null,null,null,"P","RES"]
[null,{"$f":"Parameters!Q78","v":"Q"},null,{"$f":"Parameters!S78","v":"Human health and social work activities"},null,null,null,null,null,null,null,null,null,null,null,null,null,null,null,null,null,null,null,null,null,null,null,null,null,null,null,null,null,null,null,null,null,null,null,null,null,null,null,null,null,null,null,null,null,null,null,null,null,null,null,null,null,null,null,null,null,null,null,null,null,null,null,null,null,null,null,null,null,null,null,null,null,null,null,null,null,null,null,null,null,null,null,null,null,null,"Q","RES"]
[null,{"$f":"Parameters!Q79","v":"Q86"},null,{"$f":"Parameters!S79","v":"Human health activities"},null,null,null,null,null,null,null,null,null,null,null,null,null,null,null,null,null,null,null,null,null,null,null,null,null,null,null,null,null,null,null,null,null,null,null,null,null,null,null,null,null,null,null,null,null,null,null,null,null,null,null,null,null,null,null,null,null,null,null,null,null,null,null,null,null,null,null,null,null,null,null,null,null,null,null,null,null,null,null,null,null,null,null,null,null,null,"Q86","RES"]
[null,{"$f":"Parameters!Q80","v":"Q87_Q88"},null,{"$f":"Parameters!S80","v":"Residential care activities and social work activities without accommodation"},null,null,null,null,null,null,null,null,null,null,null,null,null,null,null,null,null,null,null,null,null,null,null,null,null,null,null,null,null,null,null,null,null,null,null,null,null,null,null,null,null,null,null,null,null,null,null,null,null,null,null,null,null,null,null,null,null,null,null,null,null,null,null,null,null,null,null,null,null,null,null,null,null,null,null,null,null,null,null,null,null,null,null,null,null,null,"Q87_88","RES"]
[null,{"$f":"Parameters!Q81","v":"R"},null,{"$f":"Parameters!S81","v":"Arts, entertainment and recreation"},null,null,null,null,null,null,null,null,null,null,null,null,null,null,null,null,null,null,null,null,null,null,null,null,null,null,null,null,null,null,null,null,null,null,null,null,null,null,null,null,null,null,null,null,null,null,null,null,null,null,null,null,null,null,null,null,null,null,null,null,null,null,null,null,null,null,null,null,null,null,null,null,null,null,null,null,null,null,null,null,null,null,null,null,null,null,"R","RES"]
[null,{"$f":"Parameters!Q82","v":"R90-R92"},null,{"$f":"Parameters!S82","v":"Creative, arts and entertainment activities; libraries, archives, museums and other cultural activities; gambling and betting activities"},null,null,null,null,null,null,null,null,null,null,null,null,null,null,null,null,null,null,null,null,null,null,null,null,null,null,null,null,null,null,null,null,null,null,null,null,null,null,null,null,null,null,null,null,null,null,null,null,null,null,null,null,null,null,null,null,null,null,null,null,null,null,null,null,null,null,null,null,null,null,null,null,null,null,null,null,null,null,null,null,null,null,null,null,null,null,"R90T92","RES"]
[null,{"$f":"Parameters!Q83","v":"R93"},null,{"$f":"Parameters!S83","v":"Sports activities and amusement and recreation activities"},null,null,null,null,null,null,null,null,null,null,null,null,null,null,null,null,null,null,null,null,null,null,null,null,null,null,null,null,null,null,null,null,null,null,null,null,null,null,null,null,null,null,null,null,null,null,null,null,null,null,null,null,null,null,null,null,null,null,null,null,null,null,null,null,null,null,null,null,null,null,null,null,null,null,null,null,null,null,null,null,null,null,null,null,null,null,"R93","RES"]
[null,{"$f":"Parameters!Q84","v":"S"},null,{"$f":"Parameters!S84","v":"Other service activities"},null,null,null,null,null,null,null,null,null,null,null,null,null,null,null,null,null,null,null,null,null,null,null,null,null,null,null,null,null,null,null,null,null,null,null,null,null,null,null,null,null,null,null,null,null,null,null,null,null,null,null,null,null,null,null,null,null,null,null,null,null,null,null,null,null,null,null,null,null,null,null,null,null,null,null,null,null,null,null,null,null,null,null,null,null,null,"S","RES"]
[null,{"$f":"Parameters!Q85","v":"S94"},null,{"$f":"Parameters!S85","v":"Activities of membership organisations"},null,null,null,null,null,null,null,null,null,null,null,null,null,null,null,null,null,null,null,null,null,null,null,null,null,null,null,null,null,null,null,null,null,null,null,null,null,null,null,null,null,null,null,null,null,null,null,null,null,null,null,null,null,null,null,null,null,null,null,null,null,null,null,null,null,null,null,null,null,null,null,null,null,null,null,null,null,null,null,null,null,null,null,null,null,null,"S94","RES"]
[null,{"$f":"Parameters!Q86","v":"S95"},null,{"$f":"Parameters!S86","v":"Repair of computers and personal and household goods"},null,null,null,null,null,null,null,null,null,null,null,null,null,null,null,null,null,null,null,null,null,null,null,null,null,null,null,null,null,null,null,null,null,null,null,null,null,null,null,null,null,null,null,null,null,null,null,null,null,null,null,null,null,null,null,null,null,null,null,null,null,null,null,null,null,null,null,null,null,null,null,null,null,null,null,null,null,null,null,null,null,null,null,null,null,null,"S95","RES"]
[null,{"$f":"Parameters!Q87","v":"S96"},null,{"$f":"Parameters!S87","v":"Other personal service activities"},null,null,null,null,null,null,null,null,null,null,null,null,null,null,null,null,null,null,null,null,null,null,null,null,null,null,null,null,null,null,null,null,null,null,null,null,null,null,null,null,null,null,null,null,null,null,null,null,null,null,null,null,null,null,null,null,null,null,null,null,null,null,null,null,null,null,null,null,null,null,null,null,null,null,null,null,null,null,null,null,null,null,null,null,null,null,"S96","RES"]
[null,{"$f":"Parameters!Q88","v":"T"},null,{"$f":"Parameters!S88","v":"Activities of households as employers; undifferentiated goods- and services-producing activities of households for own use"},null,null,null,null,null,null,null,null,null,null,null,null,null,null,null,null,null,null,null,null,null,null,null,null,null,null,null,null,null,null,null,null,null,null,null,null,null,null,null,null,null,null,null,null,null,null,null,null,null,null,null,null,null,null,null,null,null,null,null,null,null,null,null,null,null,null,null,null,null,null,null,null,null,null,null,null,null,null,null,null,null,null,null,null,null,null,"T","RES"]
[null,{"$f":"Parameters!Q89","v":"U"},null,{"$f":"Parameters!S89","v":"Activities of extraterritorial organisations and bodies"},null,null,null,null,null,null,null,null,null,null,null,null,null,null,null,null,null,null,null,null,null,null,null,null,null,null,null,null,null,null,null,null,null,null,null,null,null,null,null,null,null,null,null,null,null,null,null,null,null,null,null,null,null,null,null,null,null,null,null,null,null,null,null,null,null,null,null,null,null,null,null,null,null,null,null,null,null,null,null,null,null,null,null,null,null,null,"U","RES"]
[null,"   Household air emissions\n                                          Households, totals",null,null,null,null,null,null,null,null,null,null,null,null,null,null,null,null,null,null,null,null,null,null,null,null,null,null,null,null,null,null,null,null,null,null,null,null,null,null,null,null,null,null,null,null,null,null,null,null,null,null,null,null,null,null,null,null,null,null,null,null,null,null,null,null,null,null,null,null,null,null,null,null,null,null,null,null,null,null,null,null,null,null,null,null,null,null,null,null,"HH","RES"]
[null,null,null,"- Transport",null,null,null,null,null,null,null,null,null,null,null,null,null,null,null,null,null,null,null,null,null,null,null,null,null,null,null,null,null,null,null,null,null,null,null,null,null,null,null,null,null,null,null,null,null,null,null,null,null,null,null,null,null,null,null,null,null,null,null,null,null,null,null,null,null,null,null,null,null,null,null,null,null,null,null,null,null,null,null,null,null,null,null,null,null,null,"HH_TR","RES"]
[null,null,null,"- Heating/cooling",null,null,null,null,null,null,null,null,null,null,null,null,null,null,null,null,null,null,null,null,null,null,null,null,null,null,null,null,null,null,null,null,null,null,null,null,null,null,null,null,null,null,null,null,null,null,null,null,null,null,null,null,null,null,null,null,null,null,null,null,null,null,null,null,null,null,null,null,null,null,null,null,null,null,null,null,null,null,null,null,null,null,null,null,null,null,"HH_HEAT","RES"]
[null,null,null,"- Other",null,null,null,null,null,null,null,null,null,null,null,null,null,null,null,null,null,null,null,null,null,null,null,null,null,null,null,null,null,null,null,null,null,null,null,null,null,null,null,null,null,null,null,null,null,null,null,null,null,null,null,null,null,null,null,null,null,null,null,null,null,null,null,null,null,null,null,null,null,null,null,null,null,null,null,null,null,null,null,null,null,null,null,null,null,null,"HH_OTH","RES"]
[null,"   Bridging items\n\n1                              Total Air emissions accounts (industry (row 5) + households (row 91))",null,null,null,null,null,null,null,null,null,null,null,null,null,null,null,null,null,null,null,null,null,null,null,null,null,null,null,null,null,null,null,null,null,null,null,null,null,null,null,null,null,null,null,null,null,null,null,null,null,null,null,null,null,null,null,null,null,null,null,null,null,null,null,null,null,null,null,null,null,null,null,null,null,null,null,null,null,null,null,null,null,null,null,null,null,null,null,null,"ATU_HH","RES"]
[null,2,null,"less National residents abroad",null,null,null,null,null,null,null,null,null,null,null,null,null,null,null,null,null,null,null,null,null,null,null,null,null,null,null,null,null,null,null,null,null,null,null,null,null,null,null,null,null,null,null,null,null,null,null,null,null,null,null,null,null,null,null,null,null,null,null,null,null,null,null,null,null,null,null,null,null,null,null,null,null,null,null,null,null,null,null,null,null,null,null,null,null,null,"ATU_HH","RES_ABR"]
[null,2.1,null,"-  National fishing vessels operating abroad",null,null,null,null,null,null,null,null,null,null,null,null,null,null,null,null,null,null,null,null,null,null,null,null,null,null,null,null,null,null,null,null,null,null,null,null,null,null,null,null,null,null,null,null,null,null,null,null,null,null,null,null,null,null,null,null,null,null,null,null,null,null,null,null,null,null,null,null,null,null,null,null,null,null,null,null,null,null,null,null,null,null,null,null,null,null,"ATU_HH","RES_ABR_FWTR"]
[null,2.2000000000000002,null,"-  Land transport",null,null,null,null,null,null,null,null,null,null,null,null,null,null,null,null,null,null,null,null,null,null,null,null,null,null,null,null,null,null,null,null,null,null,null,null,null,null,null,null,null,null,null,null,null,null,null,null,null,null,null,null,null,null,null,null,null,null,null,null,null,null,null,null,null,null,null,null,null,null,null,null,null,null,null,null,null,null,null,null,null,null,null,null,null,null,"ATU_HH","RES_ABR_LTR"]
[null,2.2999999999999998,null,"-  Water transport",null,null,null,null,null,null,null,null,null,null,null,null,null,null,null,null,null,null,null,null,null,null,null,null,null,null,null,null,null,null,null,null,null,null,null,null,null,null,null,null,null,null,null,null,null,null,null,null,null,null,null,null,null,null,null,null,null,null,null,null,null,null,null,null,null,null,null,null,null,null,null,null,null,null,null,null,null,null,null,null,null,null,null,null,null,null,"ATU_HH","RES_ABR_WTR"]
[null,2.4,null,"-  Air transport",null,null,null,null,null,null,null,null,null,null,null,null,null,null,null,null,null,null,null,null,null,null,null,null,null,null,null,null,null,null,null,null,null,null,null,null,null,null,null,null,null,null,null,null,null,null,null,null,null,null,null,null,null,null,null,null,null,null,null,null,null,null,null,null,null,null,null,null,null,null,null,null,null,null,null,null,null,null,null,null,null,null,null,null,null,null,"ATU_HH","RES_ABR_ATR"]
[null,3,null,"plus Non-residents on the territory",null,null,null,null,null,null,null,null,null,null,null,null,null,null,null,null,null,null,null,null,null,null,null,null,null,null,null,null,null,null,null,null,null,null,null,null,null,null,null,null,null,null,null,null,null,null,null,null,null,null,null,null,null,null,null,null,null,null,null,null,null,null,null,null,null,null,null,null,null,null,null,null,null,null,null,null,null,null,null,null,null,null,null,null,null,null,"ATU_HH","TER_NRES"]
[null,3.1,null,"+  Land transport",null,null,null,null,null,null,null,null,null,null,null,null,null,null,null,null,null,null,null,null,null,null,null,null,null,null,null,null,null,null,null,null,null,null,null,null,null,null,null,null,null,null,null,null,null,null,null,null,null,null,null,null,null,null,null,null,null,null,null,null,null,null,null,null,null,null,null,null,null,null,null,null,null,null,null,null,null,null,null,null,null,null,null,null,null,null,"ATU_HH","TER_NRES_LTR"]
[null,3.2,null,"+ Water transport",null,null,null,null,null,null,null,null,null,null,null,null,null,null,null,null,null,null,null,null,null,null,null,null,null,null,null,null,null,null,null,null,null,null,null,null,null,null,null,null,null,null,null,null,null,null,null,null,null,null,null,null,null,null,null,null,null,null,null,null,null,null,null,null,null,null,null,null,null,null,null,null,null,null,null,null,null,null,null,null,null,null,null,null,null,null,"ATU_HH","TER_NRES_WTR"]
[null,3.3,null,"+  Air transport",null,null,null,null,null,null,null,null,null,null,null,null,null,null,null,null,null,null,null,null,null,null,null,null,null,null,null,null,null,null,null,null,null,null,null,null,null,null,null,null,null,null,null,null,null,null,null,null,null,null,null,null,null,null,null,null,null,null,null,null,null,null,null,null,null,null,null,null,null,null,null,null,null,null,null,null,null,null,null,null,null,null,null,null,null,null,"ATU_HH","TER_NRES_ATR"]
[null,4,null,"Other adjustments and statistical discrepancy",null,null,null,null,null,null,null,null,null,null,null,null,null,null,null,null,null,null,null,null,null,null,null,null,null,null,null,null,null,null,null,null,null,null,null,null,null,null,null,null,null,null,null,null,null,null,null,null,null,null,null,null,null,null,null,null,null,null,null,null,null,null,null,null,null,null,null,null,null,null,null,null,null,null,null,null,null,null,null,null,null,null,null,null,null,null,"ATU_HH","ADJ_SD"]
[null,5,null,"'National total for the entire territory' as reported to CLRTAP (Annex 1)",null,null,null,null,null,null,null,null,null,null,null,null,null,null,null,null,null,null,null,null,null,null,null,null,null,null,null,null,null,null,null,null,null,null,null,null,null,null,null,null,null,null,null,null,null,null,null,null,null,null,null,null,null,null,null,null,null,null,null,null,null,null,null,null,null,null,null,null,null,null,null,null,null,null,null,null,null,null,null,null,null,null,null,null,null,null,"ATU_HH","TER"]
[null,null,null,"Year of submission to CLRTAP"]
[]
[null,"Explanatory notes for bridging items:"]
[null,1,"Total Air emissions accounts (industry (row 5) + households (row 91)) - residence principle"]
[]
[null,2.1,"Fishing vessels operated by resident units bunkering outside of the reporting country"]
[null,2.2000000000000002,"Land transport (incl. rail) by resident units fuelling outside of the reporting country"]
[null,2.2999999999999998,"Any navigation by resident units bunkering at ports outside of the reporting country and international navigation by resident units bunkering at ports of the reporting country"]
[null,2.4,"Any aviation by resident units bunkering at airports outside of the reporting country and any cruise aviation by resident units bunkering at airports of the reporting country"]
[]
[null,3.1,"Land transport (incl. rail) by non-resident units fuelling on the territory of the reporting country"]
[null,3.2,"National and international inland waterways navigation by non-residents bunkering at ports of the reporting country"]
[null,3.3,"LTO (landing and take off) aviation by non-residents bunkering at  airports of the reporting country"]
[]
[null,5,"National totals in CLRTAP inventories include all LTO aviation departing from domestic airports - territory principle"]
[null,null,"National totals in CLRTAP inventories include all national and international inland waterways navigation for which the fuel is bunkered in ports of the reporting country - territory principle"]

{"sheet":"PM10","index":26,"n_rows":122,"n_cols":98,"rows_kept":122,"cut":false,"hidden":false,"merged":[[0,96,2,96],[0,97,2,97],[0,90,2,90],[0,91,2,91],[0,92,2,92],[0,93,2,93],[0,94,2,94],[0,95,2,95],[103,3,103,4],[80,3,80,4],[81,3,81,4],[82,3,82,4],[83,3,83,4],[84,3,84,4],[73,3,73,4],[74,3,74,4],[75,3,75,4],[76,3,76,4],[77,3,77,4],[78,3,78,4],[67,3,67,4],[68,3,68,4],[69,3,69,4],[70,3,70,4],[104,3,104,4],[105,3,105,4],[106,3,106,4],[0,87,2,87],[0,89,2,89],[97,3,97,4],[98,3,98,4],[99,3,99,4],[100,3,100,4],[101,3,101,4],[102,3,102,4],[91,3,91,4],[92,3,92,4],[93,3,93,4],[94,1,94,4],[95,3,95,4],[96,3,96,4],[85,3,85,4],[86,3,86,4],[87,3,87,4],[88,3,88,4],[89,3,89,4],[90,1,90,4],[79,3,79,4],[71,3,71,4],[72,3,72,4],[61,3,61,4],[62,3,62,4],[63,3,63,4],[64,3,64,4],[65,3,65,4],[66,3,66,4],[55,3,55,4],[56,3,56,4],[57,3,57,4],[58,3,58,4],[59,3,59,4],[60,3,60,4],[49,3,49,4],[50,3,50,4],[51,3,51,4],[52,3,52,4],[53,3,53,4],[54,3,54,4],[43,3,43,4],[44,3,44,4],[45,3,45,4],[46,3,46,4],[47,3,47,4],[48,3,48,4],[37,3,37,4],[38,3,38,4],[39,3,39,4],[40,3,40,4],[41,3,41,4],[42,3,42,4],[31,3,31,4],[32,3,32,4],[33,3,33,4],[34,3,34,4],[35,3,35,4],[36,3,36,4],[25,3,25,4],[26,3,26,4],[27,3,27,4],[28,3,28,4],[29,3,29,4],[30,3,30,4],[19,3,19,4],[20,3,20,4],[21,3,21,4],[22,3,22,4],[23,3,23,4],[24,3,24,4],[0,5,2,6],[0,7,2,8],[0,9,2,10],[13,3,13,4],[14,3,14,4],[15,3,15,4],[16,3,16,4],[17,3,17,4],[18,3,18,4],[7,3,7,4],[8,3,8,4],[9,3,9,4],[10,3,10,4],[11,3,11,4],[12,3,12,4],[0,88,2,88],[0,11,2,12],[0,13,2,14],[2,47,2,48],[3,1,3,4],[4,1,4,2],[4,3,4,4],[5,3,5,4],[6,3,6,4],[0,27,2,28],[0,29,2,30],[0,31,2,32],[0,33,2,34],[0,35,2,36],[1,1,1,2],[2,1,2,2],[2,3,2,4],[0,15,2,16],[0,17,2,18],[0,19,2,20],[0,21,2,22],[0,23,2,24],[0,25,2,26],[0,1,0,2]]}
["DATAENTRY","Country:",null,{"$f":"intro!F7","v":""},null,null,null,null,null,null,null,null,null,null,null,null,null,null,null,null,null,null,null,null,null,null,null,null,null,null,null,null,null,null,null,null,null,null,null,null,null,null,null,null,null,null,null,null,null,null,null,null,null,null,null,null,null,null,null,null,null,null,null,null,null,null,null,null,null,null,null,null,null,null,null,null,null,null,null,null,null,null,null,null,null,null,null,"DEMAND_PROD","ACCOUNTING_ENTRY","COUNTERPART_AREA","INTERACTORS","BRIDGE_ITEM","AIRPOL","STO","UNIT_MEASURE","UNIT_MULT","PRODUCT","SECTOR"]
[null,"Air Pollutant",null,"PM10","Particulate matter \n(less than or equal to a nominal 10 microns)"]
["T","Unit","Million National Currency","tonnes (Mg)"]
[null,"Air emissions by industry",null,null,null,1995,null,1996,null,1997,null,1998,null,1999,null,2000,null,2001,null,2002,null,2003,null,2004,null,2005,null,2006,null,2007,null,2008,null,2009,null,2010,null,2011,null,2012,null,2013,null,2014,null,2015,null,2016,null,2017,null,2018,null,2019,null,2020,null,2021,null,2022,null,2023,null,2024]
[null,{"$f":"Parameters!Q4","v":"A_U   01-99"},null,{"$f":"Parameters!S4","v":"Total industries"},null,null,null,null,null,null,null,null,null,null,null,null,null,null,null,null,null,null,null,null,null,null,null,null,null,null,null,null,null,null,null,null,null,null,null,null,null,null,null,null,null,null,null,null,null,null,null,null,null,null,null,null,null,null,null,null,null,null,null,null,null,null,null,null,null,null,null,null,null,null,null,null,null,null,null,null,null,null,null,null,null,null,null,"P","EC","W2","ATU","RES","PM10","_Z","TN",0,"_T","S1"]
[null,{"$f":"Parameters!Q5","v":"A"},null,{"$f":"Parameters!S5","v":"Agriculture, forestry and fishing"},null,null,null,null,null,null,null,null,null,null,null,null,null,null,null,null,null,null,null,null,null,null,null,null,null,null,null,null,null,null,null,null,null,null,null,null,null,null,null,null,null,null,null,null,null,null,null,null,null,null,null,null,null,null,null,null,null,null,null,null,null,null,null,null,null,null,null,null,null,null,null,null,null,null,null,null,null,null,null,null,null,null,null,null,null,null,"A","RES"]
[null,{"$f":"Parameters!Q6","v":"A01"},null,{"$f":"Parameters!S6","v":"Crop and animal production, hunting and related service activities"},null,null,null,null,null,null,null,null,null,null,null,null,null,null,null,null,null,null,null,null,null,null,null,null,null,null,null,null,null,null,null,null,null,null,null,null,null,null,null,null,null,null,null,null,null,null,null,null,null,null,null,null,null,null,null,null,null,null,null,null,null,null,null,null,null,null,null,null,null,null,null,null,null,null,null,null,null,null,null,null,null,null,null,null,null,null,"A01","RES"]
[null,{"$f":"Parameters!Q7","v":"A02"},null,{"$f":"Parameters!S7","v":"Forestry and logging"},null,null,null,null,null,null,null,null,null,null,null,null,null,null,null,null,null,null,null,null,null,null,null,null,null,null,null,null,null,null,null,null,null,null,null,null,null,null,null,null,null,null,null,null,null,null,null,null,null,null,null,null,null,null,null,null,null,null,null,null,null,null,null,null,null,null,null,null,null,null,null,null,null,null,null,null,null,null,null,null,null,null,null,null,null,null,"A02","RES"]
[null,{"$f":"Parameters!Q8","v":"A03"},null,{"$f":"Parameters!S8","v":"Fishing and aquaculture"},null,null,null,null,null,null,null,null,null,null,null,null,null,null,null,null,null,null,null,null,null,null,null,null,null,null,null,null,null,null,null,null,null,null,null,null,null,null,null,null,null,null,null,null,null,null,null,null,null,null,null,null,null,null,null,null,null,null,null,null,null,null,null,null,null,null,null,null,null,null,null,null,null,null,null,null,null,null,null,null,null,null,null,null,null,null,"A03","RES"]
[null,{"$f":"Parameters!Q9","v":"B"},null,{"$f":"Parameters!S9","v":"Mining and quarrying"},null,null,null,null,null,null,null,null,null,null,null,null,null,null,null,null,null,null,null,null,null,null,null,null,null,null,null,null,null,null,null,null,null,null,null,null,null,null,null,null,null,null,null,null,null,null,null,null,null,null,null,null,null,null,null,null,null,null,null,null,null,null,null,null,null,null,null,null,null,null,null,null,null,null,null,null,null,null,null,null,null,null,null,null,null,null,"B","RES"]
[null,{"$f":"Parameters!Q10","v":"C"},null,{"$f":"Parameters!S10","v":"Manufacturing"},null,null,null,null,null,null,null,null,null,null,null,null,null,null,null,null,null,null,null,null,null,null,null,null,null,null,null,null,null,null,null,null,null,null,null,null,null,null,null,null,null,null,null,null,null,null,null,null,null,null,null,null,null,null,null,null,null,null,null,null,null,null,null,null,null,null,null,null,null,null,null,null,null,null,null,null,null,null,null,null,null,null,null,null,null,null,"C","RES"]
[null,{"$f":"Parameters!Q11","v":"C10-C12"},null,{"$f":"Parameters!S11","v":"Manufacture of food products, beverages and tobacco\nproducts"},null,null,null,null,null,null,null,null,null,null,null,null,null,null,null,null,null,null,null,null,null,null,null,null,null,null,null,null,null,null,null,null,null,null,null,null,null,null,null,null,null,null,null,null,null,null,null,null,null,null,null,null,null,null,null,null,null,null,null,null,null,null,null,null,null,null,null,null,null,null,null,null,null,null,null,null,null,null,null,null,null,null,null,null,null,null,"C10T12","RES"]
[null,{"$f":"Parameters!Q12","v":"C13-C15"},null,{"$f":"Parameters!S12","v":"Manufacture of textiles, wearing apparel and leather products"},null,null,null,null,null,null,null,null,null,null,null,null,null,null,null,null,null,null,null,null,null,null,null,null,null,null,null,null,null,null,null,null,null,null,null,null,null,null,null,null,null,null,null,null,null,null,null,null,null,null,null,null,null,null,null,null,null,null,null,null,null,null,null,null,null,null,null,null,null,null,null,null,null,null,null,null,null,null,null,null,null,null,null,null,null,null,"C13T15","RES"]
[null,{"$f":"Parameters!Q13","v":"C16-C18"},null,{"$f":"Parameters!S13","v":"Manufacture of wood, paper, printing and reproduction"}]
[null,{"$f":"Parameters!Q14","v":"C16"},null,{"$f":"Parameters!S14","v":"Manufacture of wood and of products of wood and cork, except furniture; manufacture of articles of straw and plaiting materials"},null,null,null,null,null,null,null,null,null,null,null,null,null,null,null,null,null,null,null,null,null,null,null,null,null,null,null,null,null,null,null,null,null,null,null,null,null,null,null,null,null,null,null,null,null,null,null,null,null,null,null,null,null,null,null,null,null,null,null,null,null,null,null,null,null,null,null,null,null,null,null,null,null,null,null,null,null,null,null,null,null,null,null,null,null,null,"C16","RES"]
[null,{"$f":"Parameters!Q15","v":"C17"},null,{"$f":"Parameters!S15","v":"Manufacture of paper and paper products"},null,null,null,null,null,null,null,null,null,null,null,null,null,null,null,null,null,null,null,null,null,null,null,null,null,null,null,null,null,null,null,null,null,null,null,null,null,null,null,null,null,null,null,null,null,null,null,null,null,null,null,null,null,null,null,null,null,null,null,null,null,null,null,null,null,null,null,null,null,null,null,null,null,null,null,null,null,null,null,null,null,null,null,null,null,null,"C17","RES"]
[null,{"$f":"Parameters!Q16","v":"C18"},null,{"$f":"Parameters!S16","v":"Printing and reproduction of recorded media"},null,null,null,null,null,null,null,null,null,null,null,null,null,null,null,null,null,null,null,null,null,null,null,null,null,null,null,null,null,null,null,null,null,null,null,null,null,null,null,null,null,null,null,null,null,null,null,null,null,null,null,null,null,null,null,null,null,null,null,null,null,null,null,null,null,null,null,null,null,null,null,null,null,null,null,null,null,null,null,null,null,null,null,null,null,null,"C18","RES"]
[null,{"$f":"Parameters!Q17","v":"C19"},null,{"$f":"Parameters!S17","v":"Manufacture of coke and refined petroleum products"},null,null,null,null,null,null,null,null,null,null,null,null,null,null,null,null,null,null,null,null,null,null,null,null,null,null,null,null,null,null,null,null,null,null,null,null,null,null,null,null,null,null,null,null,null,null,null,null,null,null,null,null,null,null,null,null,null,null,null,null,null,null,null,null,null,null,null,null,null,null,null,null,null,null,null,null,null,null,null,null,null,null,null,null,null,null,"C19","RES"]
[null,{"$f":"Parameters!Q18","v":"C20"},null,{"$f":"Parameters!S18","v":"Manufacture of chemicals and chemical products"},null,null,null,null,null,null,null,null,null,null,null,null,null,null,null,null,null,null,null,null,null,null,null,null,null,null,null,null,null,null,null,null,null,null,null,null,null,null,null,null,null,null,null,null,null,null,null,null,null,null,null,null,null,null,null,null,null,null,null,null,null,null,null,null,null,null,null,null,null,null,null,null,null,null,null,null,null,null,null,null,null,null,null,null,null,null,"C20","RES"]
[null,{"$f":"Parameters!Q19","v":"C21"},null,{"$f":"Parameters!S19","v":"Manufacture of basic pharmaceutical products and pharmaceutical preparations"},null,null,null,null,null,null,null,null,null,null,null,null,null,null,null,null,null,null,null,null,null,null,null,null,null,null,null,null,null,null,null,null,null,null,null,null,null,null,null,null,null,null,null,null,null,null,null,null,null,null,null,null,null,null,null,null,null,null,null,null,null,null,null,null,null,null,null,null,null,null,null,null,null,null,null,null,null,null,null,null,null,null,null,null,null,null,"C21","RES"]
[null,{"$f":"Parameters!Q20","v":"C22_C23"},null,{"$f":"Parameters!S20","v":"Manufacture of rubber and plastic products and other non-metallic mineral products"}]
[null,{"$f":"Parameters!Q21","v":"C22"},null,{"$f":"Parameters!S21","v":"Manufacture of rubber and plastic products"},null,null,null,null,null,null,null,null,null,null,null,null,null,null,null,null,null,null,null,null,null,null,null,null,null,null,null,null,null,null,null,null,null,null,null,null,null,null,null,null,null,null,null,null,null,null,null,null,null,null,null,null,null,null,null,null,null,null,null,null,null,null,null,null,null,null,null,null,null,null,null,null,null,null,null,null,null,null,null,null,null,null,null,null,null,null,"C22","RES"]
[null,{"$f":"Parameters!Q22","v":"C23"},null,{"$f":"Parameters!S22","v":"Manufacture of other non-metallic mineral products"},null,null,null,null,null,null,null,null,null,null,null,null,null,null,null,null,null,null,null,null,null,null,null,null,null,null,null,null,null,null,null,null,null,null,null,null,null,null,null,null,null,null,null,null,null,null,null,null,null,null,null,null,null,null,null,null,null,null,null,null,null,null,null,null,null,null,null,null,null,null,null,null,null,null,null,null,null,null,null,null,null,null,null,null,null,null,"C23","RES"]
[null,{"$f":"Parameters!Q23","v":"C24_C25"},null,{"$f":"Parameters!S23","v":"Manufacture of basic metals and fabricated metal products, except machinery and equipment"}]
[null,{"$f":"Parameters!Q24","v":"C24"},null,{"$f":"Parameters!S24","v":"Manufacture of basic metals"},null,null,null,null,null,null,null,null,null,null,null,null,null,null,null,null,null,null,null,null,null,null,null,null,null,null,null,null,null,null,null,null,null,null,null,null,null,null,null,null,null,null,null,null,null,null,null,null,null,null,null,null,null,null,null,null,null,null,null,null,null,null,null,null,null,null,null,null,null,null,null,null,null,null,null,null,null,null,null,null,null,null,null,null,null,null,"C24","RES"]
[null,{"$f":"Parameters!Q25","v":"C25"},null,{"$f":"Parameters!S25","v":"Manufacture of fabricated metal products, except machinery and equipment"},null,null,null,null,null,null,null,null,null,null,null,null,null,null,null,null,null,null,null,null,null,null,null,null,null,null,null,null,null,null,null,null,null,null,null,null,null,null,null,null,null,null,null,null,null,null,null,null,null,null,null,null,null,null,null,null,null,null,null,null,null,null,null,null,null,null,null,null,null,null,null,null,null,null,null,null,null,null,null,null,null,null,null,null,null,null,"C25","RES"]
[null,{"$f":"Parameters!Q26","v":"C26"},null,{"$f":"Parameters!S26","v":"Manufacture of computer, electronic and optical products"},null,null,null,null,null,null,null,null,null,null,null,null,null,null,null,null,null,null,null,null,null,null,null,null,null,null,null,null,null,null,null,null,null,null,null,null,null,null,null,null,null,null,null,null,null,null,null,null,null,null,null,null,null,null,null,null,null,null,null,null,null,null,null,null,null,null,null,null,null,null,null,null,null,null,null,null,null,null,null,null,null,null,null,null,null,null,"C26","RES"]
[null,{"$f":"Parameters!Q27","v":"C27"},null,{"$f":"Parameters!S27","v":"Manufacture of electrical equipment"},null,null,null,null,null,null,null,null,null,null,null,null,null,null,null,null,null,null,null,null,null,null,null,null,null,null,null,null,null,null,null,null,null,null,null,null,null,null,null,null,null,null,null,null,null,null,null,null,null,null,null,null,null,null,null,null,null,null,null,null,null,null,null,null,null,null,null,null,null,null,null,null,null,null,null,null,null,null,null,null,null,null,null,null,null,null,"C27","RES"]
[null,{"$f":"Parameters!Q28","v":"C28"},null,{"$f":"Parameters!S28","v":"Manufacture of machinery and equipment n.e.c."},null,null,null,null,null,null,null,null,null,null,null,null,null,null,null,null,null,null,null,null,null,null,null,null,null,null,null,null,null,null,null,null,null,null,null,null,null,null,null,null,null,null,null,null,null,null,null,null,null,null,null,null,null,null,null,null,null,null,null,null,null,null,null,null,null,null,null,null,null,null,null,null,null,null,null,null,null,null,null,null,null,null,null,null,null,null,"C28","RES"]
[null,{"$f":"Parameters!Q29","v":"C29_C30"},null,{"$f":"Parameters!S29","v":"Manufacture of motor vehicles, trailers, semi-trailers and of other transport equipment"}]
[null,{"$f":"Parameters!Q30","v":"C29"},null,{"$f":"Parameters!S30","v":"Manufacture of motor vehicles, trailers and semi-trailers"},null,null,null,null,null,null,null,null,null,null,null,null,null,null,null,null,null,null,null,null,null,null,null,null,null,null,null,null,null,null,null,null,null,null,null,null,null,null,null,null,null,null,null,null,null,null,null,null,null,null,null,null,null,null,null,null,null,null,null,null,null,null,null,null,null,null,null,null,null,null,null,null,null,null,null,null,null,null,null,null,null,null,null,null,null,null,"C29","RES"]
[null,{"$f":"Parameters!Q31","v":"C30"},null,{"$f":"Parameters!S31","v":"Manufacture of other transport equipment"},null,null,null,null,null,null,null,null,null,null,null,null,null,null,null,null,null,null,null,null,null,null,null,null,null,null,null,null,null,null,null,null,null,null,null,null,null,null,null,null,null,null,null,null,null,null,null,null,null,null,null,null,null,null,null,null,null,null,null,null,null,null,null,null,null,null,null,null,null,null,null,null,null,null,null,null,null,null,null,null,null,null,null,null,null,null,"C30","RES"]
[null,{"$f":"Parameters!Q32","v":"C31-C33"},null,{"$f":"Parameters!S32","v":"Manufacture of furniture; jewellery, musical instruments, toys; repair and installation of machinery and equipment"}]
[null,{"$f":"Parameters!Q33","v":"C31_C32"},null,{"$f":"Parameters!S33","v":"Manufacture of furniture; other manufacturing"},null,null,null,null,null,null,null,null,null,null,null,null,null,null,null,null,null,null,null,null,null,null,null,null,null,null,null,null,null,null,null,null,null,null,null,null,null,null,null,null,null,null,null,null,null,null,null,null,null,null,null,null,null,null,null,null,null,null,null,null,null,null,null,null,null,null,null,null,null,null,null,null,null,null,null,null,null,null,null,null,null,null,null,null,null,null,"C31_32","RES"]
[null,{"$f":"Parameters!Q34","v":"C33"},null,{"$f":"Parameters!S34","v":"Repair and installation of machinery and equipment"},null,null,null,null,null,null,null,null,null,null,null,null,null,null,null,null,null,null,null,null,null,null,null,null,null,null,null,null,null,null,null,null,null,null,null,null,null,null,null,null,null,null,null,null,null,null,null,null,null,null,null,null,null,null,null,null,null,null,null,null,null,null,null,null,null,null,null,null,null,null,null,null,null,null,null,null,null,null,null,null,null,null,null,null,null,null,"C33","RES"]
[null,{"$f":"Parameters!Q35","v":"D"},null,{"$f":"Parameters!S35","v":"Electricity, gas, steam and air conditioning supply"},null,null,null,null,null,null,null,null,null,null,null,null,null,null,null,null,null,null,null,null,null,null,null,null,null,null,null,null,null,null,null,null,null,null,null,null,null,null,null,null,null,null,null,null,null,null,null,null,null,null,null,null,null,null,null,null,null,null,null,null,null,null,null,null,null,null,null,null,null,null,null,null,null,null,null,null,null,null,null,null,null,null,null,null,null,null,"D","RES"]
[null,{"$f":"Parameters!Q36","v":"E"},null,{"$f":"Parameters!S36","v":"Water supply; sewerage, waste management and remediation activities"},null,null,null,null,null,null,null,null,null,null,null,null,null,null,null,null,null,null,null,null,null,null,null,null,null,null,null,null,null,null,null,null,null,null,null,null,null,null,null,null,null,null,null,null,null,null,null,null,null,null,null,null,null,null,null,null,null,null,null,null,null,null,null,null,null,null,null,null,null,null,null,null,null,null,null,null,null,null,null,null,null,null,null,null,null,null,"E","RES"]
[null,{"$f":"Parameters!Q37","v":"E36"},null,{"$f":"Parameters!S37","v":"Water collection, treatment and supply"},null,null,null,null,null,null,null,null,null,null,null,null,null,null,null,null,null,null,null,null,null,null,null,null,null,null,null,null,null,null,null,null,null,null,null,null,null,null,null,null,null,null,null,null,null,null,null,null,null,null,null,null,null,null,null,null,null,null,null,null,null,null,null,null,null,null,null,null,null,null,null,null,null,null,null,null,null,null,null,null,null,null,null,null,null,null,"E36","RES"]
[null,{"$f":"Parameters!Q38","v":"E37-E39"},null,{"$f":"Parameters!S38","v":"Sewerage, waste management, remediation activities"},null,null,null,null,null,null,null,null,null,null,null,null,null,null,null,null,null,null,null,null,null,null,null,null,null,null,null,null,null,null,null,null,null,null,null,null,null,null,null,null,null,null,null,null,null,null,null,null,null,null,null,null,null,null,null,null,null,null,null,null,null,null,null,null,null,null,null,null,null,null,null,null,null,null,null,null,null,null,null,null,null,null,null,null,null,null,"E37T39","RES"]
[null,{"$f":"Parameters!Q39","v":"F"},null,{"$f":"Parameters!S39","v":"Construction"},null,null,null,null,null,null,null,null,null,null,null,null,null,null,null,null,null,null,null,null,null,null,null,null,null,null,null,null,null,null,null,null,null,null,null,null,null,null,null,null,null,null,null,null,null,null,null,null,null,null,null,null,null,null,null,null,null,null,null,null,null,null,null,null,null,null,null,null,null,null,null,null,null,null,null,null,null,null,null,null,null,null,null,null,null,null,"F","RES"]
[null,{"$f":"Parameters!Q40","v":"G"},null,{"$f":"Parameters!S40","v":"Wholesale and retail trade; repair of motor vehicles and motorcycles"},null,null,null,null,null,null,null,null,null,null,null,null,null,null,null,null,null,null,null,null,null,null,null,null,null,null,null,null,null,null,null,null,null,null,null,null,null,null,null,null,null,null,null,null,null,null,null,null,null,null,null,null,null,null,null,null,null,null,null,null,null,null,null,null,null,null,null,null,null,null,null,null,null,null,null,null,null,null,null,null,null,null,null,null,null,null,"G","RES"]
[null,{"$f":"Parameters!Q41","v":"G45"},null,{"$f":"Parameters!S41","v":"Wholesale and retail trade and repair of motor vehicles and motorcycles"},null,null,null,null,null,null,null,null,null,null,null,null,null,null,null,null,null,null,null,null,null,null,null,null,null,null,null,null,null,null,null,null,null,null,null,null,null,null,null,null,null,null,null,null,null,null,null,null,null,null,null,null,null,null,null,null,null,null,null,null,null,null,null,null,null,null,null,null,null,null,null,null,null,null,null,null,null,null,null,null,null,null,null,null,null,null,"G45","RES"]
[null,{"$f":"Parameters!Q42","v":"G46"},null,{"$f":"Parameters!S42","v":"Wholesale trade, except of motor vehicles and motorcycles"},null,null,null,null,null,null,null,null,null,null,null,null,null,null,null,null,null,null,null,null,null,null,null,null,null,null,null,null,null,null,null,null,null,null,null,null,null,null,null,null,null,null,null,null,null,null,null,null,null,null,null,null,null,null,null,null,null,null,null,null,null,null,null,null,null,null,null,null,null,null,null,null,null,null,null,null,null,null,null,null,null,null,null,null,null,null,"G46","RES"]
[null,{"$f":"Parameters!Q43","v":"G47"},null,{"$f":"Parameters!S43","v":"Retail trade, except of motor vehicles and motorcycles"},null,null,null,null,null,null,null,null,null,null,null,null,null,null,null,null,null,null,null,null,null,null,null,null,null,null,null,null,null,null,null,null,null,null,null,null,null,null,null,null,null,null,null,null,null,null,null,null,null,null,null,null,null,null,null,null,null,null,null,null,null,null,null,null,null,null,null,null,null,null,null,null,null,null,null,null,null,null,null,null,null,null,null,null,null,null,"G47","RES"]
[null,{"$f":"Parameters!Q44","v":"H"},null,{"$f":"Parameters!S44","v":"Transportation and storage"},null,null,null,null,null,null,null,null,null,null,null,null,null,null,null,null,null,null,null,null,null,null,null,null,null,null,null,null,null,null,null,null,null,null,null,null,null,null,null,null,null,null,null,null,null,null,null,null,null,null,null,null,null,null,null,null,null,null,null,null,null,null,null,null,null,null,null,null,null,null,null,null,null,null,null,null,null,null,null,null,null,null,null,null,null,null,"H","RES"]
[null,{"$f":"Parameters!Q45","v":"H49"},null,{"$f":"Parameters!S45","v":"Land transport and transport via pipelines"},null,null,null,null,null,null,null,null,null,null,null,null,null,null,null,null,null,null,null,null,null,null,null,null,null,null,null,null,null,null,null,null,null,null,null,null,null,null,null,null,null,null,null,null,null,null,null,null,null,null,null,null,null,null,null,null,null,null,null,null,null,null,null,null,null,null,null,null,null,null,null,null,null,null,null,null,null,null,null,null,null,null,null,null,null,null,"H49","RES"]
[null,{"$f":"Parameters!Q46","v":"H50"},null,{"$f":"Parameters!S46","v":"Water transport"},null,null,null,null,null,null,null,null,null,null,null,null,null,null,null,null,null,null,null,null,null,null,null,null,null,null,null,null,null,null,null,null,null,null,null,null,null,null,null,null,null,null,null,null,null,null,null,null,null,null,null,null,null,null,null,null,null,null,null,null,null,null,null,null,null,null,null,null,null,null,null,null,null,null,null,null,null,null,null,null,null,null,null,null,null,null,"H50","RES"]
[null,{"$f":"Parameters!Q47","v":"H51"},null,{"$f":"Parameters!S47","v":"Air transport"},null,null,null,null,null,null,null,null,null,null,null,null,null,null,null,null,null,null,null,null,null,null,null,null,null,null,null,null,null,null,null,null,null,null,null,null,null,null,null,null,null,null,null,null,null,null,null,null,null,null,null,null,null,null,null,null,null,null,null,null,null,null,null,null,null,null,null,null,null,null,null,null,null,null,null,null,null,null,null,null,null,null,null,null,null,null,"H51","RES"]
[null,{"$f":"Parameters!Q48","v":"H52"},null,{"$f":"Parameters!S48","v":"Warehousing and support activities for transportation"},null,null,null,null,null,null,null,null,null,null,null,null,null,null,null,null,null,null,null,null,null,null,null,null,null,null,null,null,null,null,null,null,null,null,null,null,null,null,null,null,null,null,null,null,null,null,null,null,null,null,null,null,null,null,null,null,null,null,null,null,null,null,null,null,null,null,null,null,null,null,null,null,null,null,null,null,null,null,null,null,null,null,null,null,null,null,"H52","RES"]
[null,{"$f":"Parameters!Q49","v":"H53"},null,{"$f":"Parameters!S49","v":"Postal and courier activities"},null,null,null,null,null,null,null,null,null,null,null,null,null,null,null,null,null,null,null,null,null,null,null,null,null,null,null,null,null,null,null,null,null,null,null,null,null,null,null,null,null,null,null,null,null,null,null,null,null,null,null,null,null,null,null,null,null,null,null,null,null,null,null,null,null,null,null,null,null,null,null,null,null,null,null,null,null,null,null,null,null,null,null,null,null,null,"H53","RES"]
[null,{"$f":"Parameters!Q50","v":"I"},null,{"$f":"Parameters!S50","v":"Accommodation and food service activities"},null,null,null,null,null,null,null,null,null,null,null,null,null,null,null,null,null,null,null,null,null,null,null,null,null,null,null,null,null,null,null,null,null,null,null,null,null,null,null,null,null,null,null,null,null,null,null,null,null,null,null,null,null,null,null,null,null,null,null,null,null,null,null,null,null,null,null,null,null,null,null,null,null,null,null,null,null,null,null,null,null,null,null,null,null,null,"I","RES"]
[null,{"$f":"Parameters!Q51","v":"J"},null,{"$f":"Parameters!S51","v":"Information and communication"},null,null,null,null,null,null,null,null,null,null,null,null,null,null,null,null,null,null,null,null,null,null,null,null,null,null,null,null,null,null,null,null,null,null,null,null,null,null,null,null,null,null,null,null,null,null,null,null,null,null,null,null,null,null,null,null,null,null,null,null,null,null,null,null,null,null,null,null,null,null,null,null,null,null,null,null,null,null,null,null,null,null,null,null,null,null,"J","RES"]
[null,{"$f":"Parameters!Q52","v":"J58-J60"},null,{"$f":"Parameters!S52","v":"Publishing, motion picture, video, television programme production; sound recording, programming and broadcasting activities"}]
[null,{"$f":"Parameters!Q53","v":"J58"},null,{"$f":"Parameters!S53","v":"Publishing activities"},null,null,null,null,null,null,null,null,null,null,null,null,null,null,null,null,null,null,null,null,null,null,null,null,null,null,null,null,null,null,null,null,null,null,null,null,null,null,null,null,null,null,null,null,null,null,null,null,null,null,null,null,null,null,null,null,null,null,null,null,null,null,null,null,null,null,null,null,null,null,null,null,null,null,null,null,null,null,null,null,null,null,null,null,null,null,"J58","RES"]
[null,{"$f":"Parameters!Q54","v":"J59_J60"},null,{"$f":"Parameters!S54","v":"Motion picture, video, television programme production; programming and broadcasting activities"},null,null,null,null,null,null,null,null,null,null,null,null,null,null,null,null,null,null,null,null,null,null,null,null,null,null,null,null,null,null,null,null,null,null,null,null,null,null,null,null,null,null,null,null,null,null,null,null,null,null,null,null,null,null,null,null,null,null,null,null,null,null,null,null,null,null,null,null,null,null,null,null,null,null,null,null,null,null,null,null,null,null,null,null,null,null,"J59_60","RES"]
[null,{"$f":"Parameters!Q55","v":"J61"},null,{"$f":"Parameters!S55","v":"Telecommunications"},null,null,null,null,null,null,null,null,null,null,null,null,null,null,null,null,null,null,null,null,null,null,null,null,null,null,null,null,null,null,null,null,null,null,null,null,null,null,null,null,null,null,null,null,null,null,null,null,null,null,null,null,null,null,null,null,null,null,null,null,null,null,null,null,null,null,null,null,null,null,null,null,null,null,null,null,null,null,null,null,null,null,null,null,null,null,"J61","RES"]
[null,{"$f":"Parameters!Q56","v":"J62_J63"},null,{"$f":"Parameters!S56","v":"Computer programming, consultancy, and information service activities"},null,null,null,null,null,null,null,null,null,null,null,null,null,null,null,null,null,null,null,null,null,null,null,null,null,null,null,null,null,null,null,null,null,null,null,null,null,null,null,null,null,null,null,null,null,null,null,null,null,null,null,null,null,null,null,null,null,null,null,null,null,null,null,null,null,null,null,null,null,null,null,null,null,null,null,null,null,null,null,null,null,null,null,null,null,null,"J62_63","RES"]
[null,{"$f":"Parameters!Q57","v":"K"},null,{"$f":"Parameters!S57","v":"Financial and insurance activities"},null,null,null,null,null,null,null,null,null,null,null,null,null,null,null,null,null,null,null,null,null,null,null,null,null,null,null,null,null,null,null,null,null,null,null,null,null,null,null,null,null,null,null,null,null,null,null,null,null,null,null,null,null,null,null,null,null,null,null,null,null,null,null,null,null,null,null,null,null,null,null,null,null,null,null,null,null,null,null,null,null,null,null,null,null,null,"K","RES"]
[null,{"$f":"Parameters!Q58","v":"K64"},null,{"$f":"Parameters!S58","v":"Financial service activities, except insurance and pension funding"},null,null,null,null,null,null,null,null,null,null,null,null,null,null,null,null,null,null,null,null,null,null,null,null,null,null,null,null,null,null,null,null,null,null,null,null,null,null,null,null,null,null,null,null,null,null,null,null,null,null,null,null,null,null,null,null,null,null,null,null,null,null,null,null,null,null,null,null,null,null,null,null,null,null,null,null,null,null,null,null,null,null,null,null,null,null,"K64","RES"]
[null,{"$f":"Parameters!Q59","v":"K65"},null,{"$f":"Parameters!S59","v":"Insurance, reinsurance and pension funding, except compulsory social security"},null,null,null,null,null,null,null,null,null,null,null,null,null,null,null,null,null,null,null,null,null,null,null,null,null,null,null,null,null,null,null,null,null,null,null,null,null,null,null,null,null,null,null,null,null,null,null,null,null,null,null,null,null,null,null,null,null,null,null,null,null,null,null,null,null,null,null,null,null,null,null,null,null,null,null,null,null,null,null,null,null,null,null,null,null,null,"K65","RES"]
[null,{"$f":"Parameters!Q60","v":"K66"},null,{"$f":"Parameters!S60","v":"Activities auxiliary to financial services and insurance activities"},null,null,null,null,null,null,null,null,null,null,null,null,null,null,null,null,null,null,null,null,null,null,null,null,null,null,null,null,null,null,null,null,null,null,null,null,null,null,null,null,null,null,null,null,null,null,null,null,null,null,null,null,null,null,null,null,null,null,null,null,null,null,null,null,null,null,null,null,null,null,null,null,null,null,null,null,null,null,null,null,null,null,null,null,null,null,"K66","RES"]
[null,{"$f":"Parameters!Q61","v":"L"},null,{"$f":"Parameters!S61","v":"Real estate activities"},null,null,null,null,null,null,null,null,null,null,null,null,null,null,null,null,null,null,null,null,null,null,null,null,null,null,null,null,null,null,null,null,null,null,null,null,null,null,null,null,null,null,null,null,null,null,null,null,null,null,null,null,null,null,null,null,null,null,null,null,null,null,null,null,null,null,null,null,null,null,null,null,null,null,null,null,null,null,null,null,null,null,null,null,null,null,"L","RES"]
[null,{"$f":"Parameters!Q62","v":"L68A"},null,{"$f":"Parameters!S62","v":"Imputed rents of owner-occupied dwellings"},null,null,null,null,null,null,null,null,null,null,null,null,null,null,null,null,null,null,null,null,null,null,null,null,null,null,null,null,null,null,null,null,null,null,null,null,null,null,null,null,null,null,null,null,null,null,null,null,null,null,null,null,null,null,null,null,null,null,null,null,null,null,null,null,null,null,null,null,null,null,null,null,null,null,null,null,null,null,null,null,null,null,null,null,null,null,"L68A","RES"]
[null,{"$f":"Parameters!Q63","v":"M"},null,{"$f":"Parameters!S63","v":"Professional, scientific and technical activities"},null,null,null,null,null,null,null,null,null,null,null,null,null,null,null,null,null,null,null,null,null,null,null,null,null,null,null,null,null,null,null,null,null,null,null,null,null,null,null,null,null,null,null,null,null,null,null,null,null,null,null,null,null,null,null,null,null,null,null,null,null,null,null,null,null,null,null,null,null,null,null,null,null,null,null,null,null,null,null,null,null,null,null,null,null,null,"M","RES"]
[null,{"$f":"Parameters!Q64","v":"M69-M71"},null,{"$f":"Parameters!S64","v":"Legal and accounting activities; activities of head offices; management consultancy activities; architectural and engineering activities; technical testing and analysis"}]
[null,{"$f":"Parameters!Q65","v":"M69_M70"},null,{"$f":"Parameters!S65","v":"Legal and accounting activities; activities of head offices; management consultancy activities"},null,null,null,null,null,null,null,null,null,null,null,null,null,null,null,null,null,null,null,null,null,null,null,null,null,null,null,null,null,null,null,null,null,null,null,null,null,null,null,null,null,null,null,null,null,null,null,null,null,null,null,null,null,null,null,null,null,null,null,null,null,null,null,null,null,null,null,null,null,null,null,null,null,null,null,null,null,null,null,null,null,null,null,null,null,null,"M69_70","RES"]
[null,{"$f":"Parameters!Q66","v":"M71"},null,{"$f":"Parameters!S66","v":"Architectural and engineering activities; technical testing and analysis"},null,null,null,null,null,null,null,null,null,null,null,null,null,null,null,null,null,null,null,null,null,null,null,null,null,null,null,null,null,null,null,null,null,null,null,null,null,null,null,null,null,null,null,null,null,null,null,null,null,null,null,null,null,null,null,null,null,null,null,null,null,null,null,null,null,null,null,null,null,null,null,null,null,null,null,null,null,null,null,null,null,null,null,null,null,null,"M71","RES"]
[null,{"$f":"Parameters!Q67","v":"M72"},null,{"$f":"Parameters!S67","v":"Scientific research and development"},null,null,null,null,null,null,null,null,null,null,null,null,null,null,null,null,null,null,null,null,null,null,null,null,null,null,null,null,null,null,null,null,null,null,null,null,null,null,null,null,null,null,null,null,null,null,null,null,null,null,null,null,null,null,null,null,null,null,null,null,null,null,null,null,null,null,null,null,null,null,null,null,null,null,null,null,null,null,null,null,null,null,null,null,null,null,"M72","RES"]
[null,{"$f":"Parameters!Q68","v":"M73-M75"},null,{"$f":"Parameters!S68","v":"Advertising and market research; other professional, scientific and technical activities; veterinary activities"}]
[null,{"$f":"Parameters!Q69","v":"M73"},null,{"$f":"Parameters!S69","v":"Advertising and market research"},null,null,null,null,null,null,null,null,null,null,null,null,null,null,null,null,null,null,null,null,null,null,null,null,null,null,null,null,null,null,null,null,null,null,null,null,null,null,null,null,null,null,null,null,null,null,null,null,null,null,null,null,null,null,null,null,null,null,null,null,null,null,null,null,null,null,null,null,null,null,null,null,null,null,null,null,null,null,null,null,null,null,null,null,null,null,"M73","RES"]
[null,{"$f":"Parameters!Q70","v":"M74_M75"},null,{"$f":"Parameters!S70","v":"Other professional, scientific and technical activities; veterinary activities"},null,null,null,null,null,null,null,null,null,null,null,null,null,null,null,null,null,null,null,null,null,null,null,null,null,null,null,null,null,null,null,null,null,null,null,null,null,null,null,null,null,null,null,null,null,null,null,null,null,null,null,null,null,null,null,null,null,null,null,null,null,null,null,null,null,null,null,null,null,null,null,null,null,null,null,null,null,null,null,null,null,null,null,null,null,null,"M74_75","RES"]
[null,{"$f":"Parameters!Q71","v":"N"},null,{"$f":"Parameters!S71","v":"Administrative and support service activities"},null,null,null,null,null,null,null,null,null,null,null,null,null,null,null,null,null,null,null,null,null,null,null,null,null,null,null,null,null,null,null,null,null,null,null,null,null,null,null,null,null,null,null,null,null,null,null,null,null,null,null,null,null,null,null,null,null,null,null,null,null,null,null,null,null,null,null,null,null,null,null,null,null,null,null,null,null,null,null,null,null,null,null,null,null,null,"N","RES"]
[null,{"$f":"Parameters!Q72","v":"N77"},null,{"$f":"Parameters!S72","v":"Rental and leasing activities"},null,null,null,null,null,null,null,null,null,null,null,null,null,null,null,null,null,null,null,null,null,null,null,null,null,null,null,null,null,null,null,null,null,null,null,null,null,null,null,null,null,null,null,null,null,null,null,null,null,null,null,null,null,null,null,null,null,null,null,null,null,null,null,null,null,null,null,null,null,null,null,null,null,null,null,null,null,null,null,null,null,null,null,null,null,null,"N77","RES"]
[null,{"$f":"Parameters!Q73","v":"N78"},null,{"$f":"Parameters!S73","v":"Employment activities"},null,null,null,null,null,null,null,null,null,null,null,null,null,null,null,null,null,null,null,null,null,null,null,null,null,null,null,null,null,null,null,null,null,null,null,null,null,null,null,null,null,null,null,null,null,null,null,null,null,null,null,null,null,null,null,null,null,null,null,null,null,null,null,null,null,null,null,null,null,null,null,null,null,null,null,null,null,null,null,null,null,null,null,null,null,null,"N78","RES"]
[null,{"$f":"Parameters!Q74","v":"N79"},null,{"$f":"Parameters!S74","v":"Travel agency, tour operator reservation service and related activities"},null,null,null,null,null,null,null,null,null,null,null,null,null,null,null,null,null,null,null,null,null,null,null,null,null,null,null,null,null,null,null,null,null,null,null,null,null,null,null,null,null,null,null,null,null,null,null,null,null,null,null,null,null,null,null,null,null,null,null,null,null,null,null,null,null,null,null,null,null,null,null,null,null,null,null,null,null,null,null,null,null,null,null,null,null,null,"N79","RES"]
[null,{"$f":"Parameters!Q75","v":"N80-N82"},null,{"$f":"Parameters!S75","v":"Security and investigation, service and landscape, office administrative and support activities"},null,null,null,null,null,null,null,null,null,null,null,null,null,null,null,null,null,null,null,null,null,null,null,null,null,null,null,null,null,null,null,null,null,null,null,null,null,null,null,null,null,null,null,null,null,null,null,null,null,null,null,null,null,null,null,null,null,null,null,null,null,null,null,null,null,null,null,null,null,null,null,null,null,null,null,null,null,null,null,null,null,null,null,null,null,null,"N80T82","RES"]
[null,{"$f":"Parameters!Q76","v":"O"},null,{"$f":"Parameters!S76","v":"Public administration and defence; compulsory social security"},null,null,null,null,null,null,null,null,null,null,null,null,null,null,null,null,null,null,null,null,null,null,null,null,null,null,null,null,null,null,null,null,null,null,null,null,null,null,null,null,null,null,null,null,null,null,null,null,null,null,null,null,null,null,null,null,null,null,null,null,null,null,null,null,null,null,null,null,null,null,null,null,null,null,null,null,null,null,null,null,null,null,null,null,null,null,"O","RES"]
[null,{"$f":"Parameters!Q77","v":"P"},null,{"$f":"Parameters!S77","v":"Education"},null,null,null,null,null,null,null,null,null,null,null,null,null,null,null,null,null,null,null,null,null,null,null,null,null,null,null,null,null,null,null,null,null,null,null,null,null,null,null,null,null,null,null,null,null,null,null,null,null,null,null,null,null,null,null,null,null,null,null,null,null,null,null,null,null,null,null,null,null,null,null,null,null,null,null,null,null,null,null,null,null,null,null,null,null,null,"P","RES"]
[null,{"$f":"Parameters!Q78","v":"Q"},null,{"$f":"Parameters!S78","v":"Human health and social work activities"},null,null,null,null,null,null,null,null,null,null,null,null,null,null,null,null,null,null,null,null,null,null,null,null,null,null,null,null,null,null,null,null,null,null,null,null,null,null,null,null,null,null,null,null,null,null,null,null,null,null,null,null,null,null,null,null,null,null,null,null,null,null,null,null,null,null,null,null,null,null,null,null,null,null,null,null,null,null,null,null,null,null,null,null,null,null,"Q","RES"]
[null,{"$f":"Parameters!Q79","v":"Q86"},null,{"$f":"Parameters!S79","v":"Human health activities"},null,null,null,null,null,null,null,null,null,null,null,null,null,null,null,null,null,null,null,null,null,null,null,null,null,null,null,null,null,null,null,null,null,null,null,null,null,null,null,null,null,null,null,null,null,null,null,null,null,null,null,null,null,null,null,null,null,null,null,null,null,null,null,null,null,null,null,null,null,null,null,null,null,null,null,null,null,null,null,null,null,null,null,null,null,null,"Q86","RES"]
[null,{"$f":"Parameters!Q80","v":"Q87_Q88"},null,{"$f":"Parameters!S80","v":"Residential care activities and social work activities without accommodation"},null,null,null,null,null,null,null,null,null,null,null,null,null,null,null,null,null,null,null,null,null,null,null,null,null,null,null,null,null,null,null,null,null,null,null,null,null,null,null,null,null,null,null,null,null,null,null,null,null,null,null,null,null,null,null,null,null,null,null,null,null,null,null,null,null,null,null,null,null,null,null,null,null,null,null,null,null,null,null,null,null,null,null,null,null,null,"Q87_88","RES"]
[null,{"$f":"Parameters!Q81","v":"R"},null,{"$f":"Parameters!S81","v":"Arts, entertainment and recreation"},null,null,null,null,null,null,null,null,null,null,null,null,null,null,null,null,null,null,null,null,null,null,null,null,null,null,null,null,null,null,null,null,null,null,null,null,null,null,null,null,null,null,null,null,null,null,null,null,null,null,null,null,null,null,null,null,null,null,null,null,null,null,null,null,null,null,null,null,null,null,null,null,null,null,null,null,null,null,null,null,null,null,null,null,null,null,"R","RES"]
[null,{"$f":"Parameters!Q82","v":"R90-R92"},null,{"$f":"Parameters!S82","v":"Creative, arts and entertainment activities; libraries, archives, museums and other cultural activities; gambling and betting activities"},null,null,null,null,null,null,null,null,null,null,null,null,null,null,null,null,null,null,null,null,null,null,null,null,null,null,null,null,null,null,null,null,null,null,null,null,null,null,null,null,null,null,null,null,null,null,null,null,null,null,null,null,null,null,null,null,null,null,null,null,null,null,null,null,null,null,null,null,null,null,null,null,null,null,null,null,null,null,null,null,null,null,null,null,null,null,"R90T92","RES"]
[null,{"$f":"Parameters!Q83","v":"R93"},null,{"$f":"Parameters!S83","v":"Sports activities and amusement and recreation activities"},null,null,null,null,null,null,null,null,null,null,null,null,null,null,null,null,null,null,null,null,null,null,null,null,null,null,null,null,null,null,null,null,null,null,null,null,null,null,null,null,null,null,null,null,null,null,null,null,null,null,null,null,null,null,null,null,null,null,null,null,null,null,null,null,null,null,null,null,null,null,null,null,null,null,null,null,null,null,null,null,null,null,null,null,null,null,"R93","RES"]
[null,{"$f":"Parameters!Q84","v":"S"},null,{"$f":"Parameters!S84","v":"Other service activities"},null,null,null,null,null,null,null,null,null,null,null,null,null,null,null,null,null,null,null,null,null,null,null,null,null,null,null,null,null,null,null,null,null,null,null,null,null,null,null,null,null,null,null,null,null,null,null,null,null,null,null,null,null,null,null,null,null,null,null,null,null,null,null,null,null,null,null,null,null,null,null,null,null,null,null,null,null,null,null,null,null,null,null,null,null,null,"S","RES"]
[null,{"$f":"Parameters!Q85","v":"S94"},null,{"$f":"Parameters!S85","v":"Activities of membership organisations"},null,null,null,null,null,null,null,null,null,null,null,null,null,null,null,null,null,null,null,null,null,null,null,null,null,null,null,null,null,null,null,null,null,null,null,null,null,null,null,null,null,null,null,null,null,null,null,null,null,null,null,null,null,null,null,null,null,null,null,null,null,null,null,null,null,null,null,null,null,null,null,null,null,null,null,null,null,null,null,null,null,null,null,null,null,null,"S94","RES"]
[null,{"$f":"Parameters!Q86","v":"S95"},null,{"$f":"Parameters!S86","v":"Repair of computers and personal and household goods"},null,null,null,null,null,null,null,null,null,null,null,null,null,null,null,null,null,null,null,null,null,null,null,null,null,null,null,null,null,null,null,null,null,null,null,null,null,null,null,null,null,null,null,null,null,null,null,null,null,null,null,null,null,null,null,null,null,null,null,null,null,null,null,null,null,null,null,null,null,null,null,null,null,null,null,null,null,null,null,null,null,null,null,null,null,null,"S95","RES"]
[null,{"$f":"Parameters!Q87","v":"S96"},null,{"$f":"Parameters!S87","v":"Other personal service activities"},null,null,null,null,null,null,null,null,null,null,null,null,null,null,null,null,null,null,null,null,null,null,null,null,null,null,null,null,null,null,null,null,null,null,null,null,null,null,null,null,null,null,null,null,null,null,null,null,null,null,null,null,null,null,null,null,null,null,null,null,null,null,null,null,null,null,null,null,null,null,null,null,null,null,null,null,null,null,null,null,null,null,null,null,null,null,"S96","RES"]
[null,{"$f":"Parameters!Q88","v":"T"},null,{"$f":"Parameters!S88","v":"Activities of households as employers; undifferentiated goods- and services-producing activities of households for own use"},null,null,null,null,null,null,null,null,null,null,null,null,null,null,null,null,null,null,null,null,null,null,null,null,null,null,null,null,null,null,null,null,null,null,null,null,null,null,null,null,null,null,null,null,null,null,null,null,null,null,null,null,null,null,null,null,null,null,null,null,null,null,null,null,null,null,null,null,null,null,null,null,null,null,null,null,null,null,null,null,null,null,null,null,null,null,"T","RES"]
[null,{"$f":"Parameters!Q89","v":"U"},null,{"$f":"Parameters!S89","v":"Activities of extraterritorial organisations and bodies"},null,null,null,null,null,null,null,null,null,null,null,null,null,null,null,null,null,null,null,null,null,null,null,null,null,null,null,null,null,null,null,null,null,null,null,null,null,null,null,null,null,null,null,null,null,null,null,null,null,null,null,null,null,null,null,null,null,null,null,null,null,null,null,null,null,null,null,null,null,null,null,null,null,null,null,null,null,null,null,null,null,null,null,null,null,null,"U","RES"]
[null,"   Household air emissions\n                                          Households, totals",null,null,null,null,null,null,null,null,null,null,null,null,null,null,null,null,null,null,null,null,null,null,null,null,null,null,null,null,null,null,null,null,null,null,null,null,null,null,null,null,null,null,null,null,null,null,null,null,null,null,null,null,null,null,null,null,null,null,null,null,null,null,null,null,null,null,null,null,null,null,null,null,null,null,null,null,null,null,null,null,null,null,null,null,null,null,null,null,"HH","RES"]
[null,null,null,"- Transport",null,null,null,null,null,null,null,null,null,null,null,null,null,null,null,null,null,null,null,null,null,null,null,null,null,null,null,null,null,null,null,null,null,null,null,null,null,null,null,null,null,null,null,null,null,null,null,null,null,null,null,null,null,null,null,null,null,null,null,null,null,null,null,null,null,null,null,null,null,null,null,null,null,null,null,null,null,null,null,null,null,null,null,null,null,null,"HH_TR","RES"]
[null,null,null,"- Heating/cooling",null,null,null,null,null,null,null,null,null,null,null,null,null,null,null,null,null,null,null,null,null,null,null,null,null,null,null,null,null,null,null,null,null,null,null,null,null,null,null,null,null,null,null,null,null,null,null,null,null,null,null,null,null,null,null,null,null,null,null,null,null,null,null,null,null,null,null,null,null,null,null,null,null,null,null,null,null,null,null,null,null,null,null,null,null,null,"HH_HEAT","RES"]
[null,null,null,"- Other",null,null,null,null,null,null,null,null,null,null,null,null,null,null,null,null,null,null,null,null,null,null,null,null,null,null,null,null,null,null,null,null,null,null,null,null,null,null,null,null,null,null,null,null,null,null,null,null,null,null,null,null,null,null,null,null,null,null,null,null,null,null,null,null,null,null,null,null,null,null,null,null,null,null,null,null,null,null,null,null,null,null,null,null,null,null,"HH_OTH","RES"]
[null,"   Bridging items\n\n1                              Total Air emissions accounts (industry (row 5) + households (row 91))",null,null,null,null,null,null,null,null,null,null,null,null,null,null,null,null,null,null,null,null,null,null,null,null,null,null,null,null,null,null,null,null,null,null,null,null,null,null,null,null,null,null,null,null,null,null,null,null,null,null,null,null,null,null,null,null,null,null,null,null,null,null,null,null,null,null,null,null,null,null,null,null,null,null,null,null,null,null,null,null,null,null,null,null,null,null,null,null,"ATU_HH","RES"]
[null,2,null,"less National residents abroad",null,null,null,null,null,null,null,null,null,null,null,null,null,null,null,null,null,null,null,null,null,null,null,null,null,null,null,null,null,null,null,null,null,null,null,null,null,null,null,null,null,null,null,null,null,null,null,null,null,null,null,null,null,null,null,null,null,null,null,null,null,null,null,null,null,null,null,null,null,null,null,null,null,null,null,null,null,null,null,null,null,null,null,null,null,null,"ATU_HH","RES_ABR"]
[null,2.1,null,"-  National fishing vessels operating abroad",null,null,null,null,null,null,null,null,null,null,null,null,null,null,null,null,null,null,null,null,null,null,null,null,null,null,null,null,null,null,null,null,null,null,null,null,null,null,null,null,null,null,null,null,null,null,null,null,null,null,null,null,null,null,null,null,null,null,null,null,null,null,null,null,null,null,null,null,null,null,null,null,null,null,null,null,null,null,null,null,null,null,null,null,null,null,"ATU_HH","RES_ABR_FWTR"]
[null,2.2000000000000002,null,"-  Land transport",null,null,null,null,null,null,null,null,null,null,null,null,null,null,null,null,null,null,null,null,null,null,null,null,null,null,null,null,null,null,null,null,null,null,null,null,null,null,null,null,null,null,null,null,null,null,null,null,null,null,null,null,null,null,null,null,null,null,null,null,null,null,null,null,null,null,null,null,null,null,null,null,null,null,null,null,null,null,null,null,null,null,null,null,null,null,"ATU_HH","RES_ABR_LTR"]
[null,2.2999999999999998,null,"-  Water transport",null,null,null,null,null,null,null,null,null,null,null,null,null,null,null,null,null,null,null,null,null,null,null,null,null,null,null,null,null,null,null,null,null,null,null,null,null,null,null,null,null,null,null,null,null,null,null,null,null,null,null,null,null,null,null,null,null,null,null,null,null,null,null,null,null,null,null,null,null,null,null,null,null,null,null,null,null,null,null,null,null,null,null,null,null,null,"ATU_HH","RES_ABR_WTR"]
[null,2.4,null,"-  Air transport",null,null,null,null,null,null,null,null,null,null,null,null,null,null,null,null,null,null,null,null,null,null,null,null,null,null,null,null,null,null,null,null,null,null,null,null,null,null,null,null,null,null,null,null,null,null,null,null,null,null,null,null,null,null,null,null,null,null,null,null,null,null,null,null,null,null,null,null,null,null,null,null,null,null,null,null,null,null,null,null,null,null,null,null,null,null,"ATU_HH","RES_ABR_ATR"]
[null,3,null,"plus Non-residents on the territory",null,null,null,null,null,null,null,null,null,null,null,null,null,null,null,null,null,null,null,null,null,null,null,null,null,null,null,null,null,null,null,null,null,null,null,null,null,null,null,null,null,null,null,null,null,null,null,null,null,null,null,null,null,null,null,null,null,null,null,null,null,null,null,null,null,null,null,null,null,null,null,null,null,null,null,null,null,null,null,null,null,null,null,null,null,null,"ATU_HH","TER_NRES"]
[null,3.1,null,"+  Land transport",null,null,null,null,null,null,null,null,null,null,null,null,null,null,null,null,null,null,null,null,null,null,null,null,null,null,null,null,null,null,null,null,null,null,null,null,null,null,null,null,null,null,null,null,null,null,null,null,null,null,null,null,null,null,null,null,null,null,null,null,null,null,null,null,null,null,null,null,null,null,null,null,null,null,null,null,null,null,null,null,null,null,null,null,null,null,"ATU_HH","TER_NRES_LTR"]
[null,3.2,null,"+ Water transport",null,null,null,null,null,null,null,null,null,null,null,null,null,null,null,null,null,null,null,null,null,null,null,null,null,null,null,null,null,null,null,null,null,null,null,null,null,null,null,null,null,null,null,null,null,null,null,null,null,null,null,null,null,null,null,null,null,null,null,null,null,null,null,null,null,null,null,null,null,null,null,null,null,null,null,null,null,null,null,null,null,null,null,null,null,null,"ATU_HH","TER_NRES_WTR"]
[null,3.3,null,"+  Air transport",null,null,null,null,null,null,null,null,null,null,null,null,null,null,null,null,null,null,null,null,null,null,null,null,null,null,null,null,null,null,null,null,null,null,null,null,null,null,null,null,null,null,null,null,null,null,null,null,null,null,null,null,null,null,null,null,null,null,null,null,null,null,null,null,null,null,null,null,null,null,null,null,null,null,null,null,null,null,null,null,null,null,null,null,null,null,"ATU_HH","TER_NRES_ATR"]
[null,4,null,"Other adjustments and statistical discrepancy",null,null,null,null,null,null,null,null,null,null,null,null,null,null,null,null,null,null,null,null,null,null,null,null,null,null,null,null,null,null,null,null,null,null,null,null,null,null,null,null,null,null,null,null,null,null,null,null,null,null,null,null,null,null,null,null,null,null,null,null,null,null,null,null,null,null,null,null,null,null,null,null,null,null,null,null,null,null,null,null,null,null,null,null,null,null,"ATU_HH","ADJ_SD"]
[null,5,null,"'National total for the entire territory' as reported to CLRTAP (Annex 1)",null,null,null,null,null,null,null,null,null,null,null,null,null,null,null,null,null,null,null,null,null,null,null,null,null,null,null,null,null,null,null,null,null,null,null,null,null,null,null,null,null,null,null,null,null,null,null,null,null,null,null,null,null,null,null,null,null,null,null,null,null,null,null,null,null,null,null,null,null,null,null,null,null,null,null,null,null,null,null,null,null,null,null,null,null,null,"ATU_HH","TER"]
[null,null,null,"Year of submission to CLRTAP"]
[]
[null,"Explanatory notes for bridging items:"]
[null,1,"Total Air emissions accounts (industry (row 5) + households (row 91)) - residence principle"]
[]
[null,2.1,"Fishing vessels operated by resident units bunkering outside of the reporting country"]
[null,2.2000000000000002,"Land transport (incl. rail) by resident units fuelling outside of the reporting country"]
[null,2.2999999999999998,"Any navigation by resident units bunkering at ports outside of the reporting country and international navigation by resident units bunkering at ports of the reporting country"]
[null,2.4,"Any aviation by resident units bunkering at airports outside of the reporting country and any cruise aviation by resident units bunkering at airports of the reporting country"]
[]
[null,3.1,"Land transport (incl. rail) by non-resident units fuelling on the territory of the reporting country"]
[null,3.2,"National and international inland waterways navigation by non-residents bunkering at ports of the reporting country"]
[null,3.3,"LTO (landing and take off) aviation by non-residents bunkering at  airports of the reporting country"]
[]
[null,5,"National totals in CLRTAP inventories include all LTO aviation departing from domestic airports - territory principle"]
[null,null,"National totals in CLRTAP inventories include all national and international inland waterways navigation for which the fuel is bunkered in ports of the reporting country - territory principle"]

{"sheet":"PM10_ROAD","index":27,"n_rows":122,"n_cols":98,"rows_kept":122,"cut":false,"hidden":false,"merged":[[0,94,2,94],[0,95,2,95],[0,96,2,96],[0,97,2,97],[0,93,2,93],[1,1,1,2],[2,1,2,2],[2,3,2,4],[2,47,2,48],[0,88,2,88],[0,89,2,89],[0,90,2,90],[0,91,2,91],[0,92,2,92],[0,27,2,28],[0,29,2,30],[0,31,2,32],[0,33,2,34],[0,35,2,36],[0,87,2,87],[0,15,2,16],[0,17,2,18],[0,19,2,20],[0,21,2,22],[0,23,2,24],[0,25,2,26],[0,1,0,2],[0,5,2,6],[0,7,2,8],[8,3,8,4],[0,9,2,10],[0,11,2,12],[0,13,2,14],[9,3,9,4],[10,3,10,4],[11,3,11,4],[12,3,12,4],[13,3,13,4],[3,1,3,4],[4,1,4,2],[4,3,4,4],[5,3,5,4],[6,3,6,4],[7,3,7,4],[20,3,20,4],[21,3,21,4],[22,3,22,4],[23,3,23,4],[24,3,24,4],[25,3,25,4],[14,3,14,4],[15,3,15,4],[16,3,16,4],[17,3,17,4],[18,3,18,4],[19,3,19,4],[32,3,32,4],[33,3,33,4],[34,3,34,4],[35,3,35,4],[36,3,36,4],[37,3,37,4],[26,3,26,4],[27,3,27,4],[28,3,28,4],[29,3,29,4],[30,3,30,4],[31,3,31,4],[44,3,44,4],[45,3,45,4],[46,3,46,4],[47,3,47,4],[48,3,48,4],[49,3,49,4],[38,3,38,4],[39,3,39,4],[40,3,40,4],[41,3,41,4],[42,3,42,4],[43,3,43,4],[56,3,56,4],[57,3,57,4],[58,3,58,4],[59,3,59,4],[60,3,60,4],[61,3,61,4],[50,3,50,4],[51,3,51,4],[52,3,52,4],[53,3,53,4],[54,3,54,4],[55,3,55,4],[68,3,68,4],[69,3,69,4],[70,3,70,4],[71,3,71,4],[72,3,72,4],[73,3,73,4],[62,3,62,4],[63,3,63,4],[64,3,64,4],[65,3,65,4],[66,3,66,4],[67,3,67,4],[80,3,80,4],[81,3,81,4],[82,3,82,4],[83,3,83,4],[84,3,84,4],[85,3,85,4],[74,3,74,4],[75,3,75,4],[76,3,76,4],[77,3,77,4],[78,3,78,4],[79,3,79,4],[92,3,92,4],[93,3,93,4],[94,1,94,4],[95,3,95,4],[96,3,96,4],[97,3,97,4],[86,3,86,4],[87,3,87,4],[88,3,88,4],[89,3,89,4],[90,1,90,4],[91,3,91,4],[104,3,104,4],[105,3,105,4],[106,3,106,4],[98,3,98,4],[99,3,99,4],[100,3,100,4],[101,3,101,4],[102,3,102,4],[103,3,103,4]]}
["DATAENTRY","Country:",null,{"$f":"intro!F7","v":""},null,null,null,null,null,null,null,null,null,null,null,null,null,null,null,null,null,null,null,null,null,null,null,null,null,null,null,null,null,null,null,null,null,null,null,null,null,null,null,null,null,null,null,null,null,null,null,null,null,null,null,null,null,null,null,null,null,null,null,null,null,null,null,null,null,null,null,null,null,null,null,null,null,null,null,null,null,null,null,null,null,null,null,"DEMAND_PROD","ACCOUNTING_ENTRY","COUNTERPART_AREA","INTERACTORS","BRIDGE_ITEM","AIRPOL","STO","UNIT_MEASURE","UNIT_MULT","PRODUCT","SECTOR"]
[null,"Air Pollutant",null,"PM10_ROAD","Particulate matter \n(less than or equal to a nominal 10 microns) from road transport "]
["T","Unit","Million National Currency","tonnes (Mg)"]
[null,"Air emissions by industry",null,null,null,1995,null,1996,null,1997,null,1998,null,1999,null,2000,null,2001,null,2002,null,2003,null,2004,null,2005,null,2006,null,2007,null,2008,null,2009,null,2010,null,2011,null,2012,null,2013,null,2014,null,2015,null,2016,null,2017,null,2018,null,2019,null,2020,null,2021,null,2022,null,2023,null,2024]
[null,{"$f":"Parameters!Q4","v":"A_U   01-99"},null,{"$f":"Parameters!S4","v":"Total industries"},null,null,null,null,null,null,null,null,null,null,null,null,null,null,null,null,null,null,null,null,null,null,null,null,null,null,null,null,null,null,null,null,null,null,null,null,null,null,null,null,null,null,null,null,null,null,null,null,null,null,null,null,null,null,null,null,null,null,null,null,null,null,null,null,null,null,null,null,null,null,null,null,null,null,null,null,null,null,null,null,null,null,null,"P","EC","W2","ATU","RES","PM10","_Z","TN",0,"_T","S1"]
[null,{"$f":"Parameters!Q5","v":"A"},null,{"$f":"Parameters!S5","v":"Agriculture, forestry and fishing"},null,null,null,null,null,null,null,null,null,null,null,null,null,null,null,null,null,null,null,null,null,null,null,null,null,null,null,null,null,null,null,null,null,null,null,null,null,null,null,null,null,null,null,null,null,null,null,null,null,null,null,null,null,null,null,null,null,null,null,null,null,null,null,null,null,null,null,null,null,null,null,null,null,null,null,null,null,null,null,null,null,null,null,null,null,null,"A","RES"]
[null,{"$f":"Parameters!Q6","v":"A01"},null,{"$f":"Parameters!S6","v":"Crop and animal production, hunting and related service activities"},null,null,null,null,null,null,null,null,null,null,null,null,null,null,null,null,null,null,null,null,null,null,null,null,null,null,null,null,null,null,null,null,null,null,null,null,null,null,null,null,null,null,null,null,null,null,null,null,null,null,null,null,null,null,null,null,null,null,null,null,null,null,null,null,null,null,null,null,null,null,null,null,null,null,null,null,null,null,null,null,null,null,null,null,null,null,"A01","RES"]
[null,{"$f":"Parameters!Q7","v":"A02"},null,{"$f":"Parameters!S7","v":"Forestry and logging"},null,null,null,null,null,null,null,null,null,null,null,null,null,null,null,null,null,null,null,null,null,null,null,null,null,null,null,null,null,null,null,null,null,null,null,null,null,null,null,null,null,null,null,null,null,null,null,null,null,null,null,null,null,null,null,null,null,null,null,null,null,null,null,null,null,null,null,null,null,null,null,null,null,null,null,null,null,null,null,null,null,null,null,null,null,null,"A02","RES"]
[null,{"$f":"Parameters!Q8","v":"A03"},null,{"$f":"Parameters!S8","v":"Fishing and aquaculture"},null,null,null,null,null,null,null,null,null,null,null,null,null,null,null,null,null,null,null,null,null,null,null,null,null,null,null,null,null,null,null,null,null,null,null,null,null,null,null,null,null,null,null,null,null,null,null,null,null,null,null,null,null,null,null,null,null,null,null,null,null,null,null,null,null,null,null,null,null,null,null,null,null,null,null,null,null,null,null,null,null,null,null,null,null,null,"A03","RES"]
[null,{"$f":"Parameters!Q9","v":"B"},null,{"$f":"Parameters!S9","v":"Mining and quarrying"},null,null,null,null,null,null,null,null,null,null,null,null,null,null,null,null,null,null,null,null,null,null,null,null,null,null,null,null,null,null,null,null,null,null,null,null,null,null,null,null,null,null,null,null,null,null,null,null,null,null,null,null,null,null,null,null,null,null,null,null,null,null,null,null,null,null,null,null,null,null,null,null,null,null,null,null,null,null,null,null,null,null,null,null,null,null,"B","RES"]
[null,{"$f":"Parameters!Q10","v":"C"},null,{"$f":"Parameters!S10","v":"Manufacturing"},null,null,null,null,null,null,null,null,null,null,null,null,null,null,null,null,null,null,null,null,null,null,null,null,null,null,null,null,null,null,null,null,null,null,null,null,null,null,null,null,null,null,null,null,null,null,null,null,null,null,null,null,null,null,null,null,null,null,null,null,null,null,null,null,null,null,null,null,null,null,null,null,null,null,null,null,null,null,null,null,null,null,null,null,null,null,"C","RES"]
[null,{"$f":"Parameters!Q11","v":"C10-C12"},null,{"$f":"Parameters!S11","v":"Manufacture of food products, beverages and tobacco\nproducts"},null,null,null,null,null,null,null,null,null,null,null,null,null,null,null,null,null,null,null,null,null,null,null,null,null,null,null,null,null,null,null,null,null,null,null,null,null,null,null,null,null,null,null,null,null,null,null,null,null,null,null,null,null,null,null,null,null,null,null,null,null,null,null,null,null,null,null,null,null,null,null,null,null,null,null,null,null,null,null,null,null,null,null,null,null,null,"C10T12","RES"]
[null,{"$f":"Parameters!Q12","v":"C13-C15"},null,{"$f":"Parameters!S12","v":"Manufacture of textiles, wearing apparel and leather products"},null,null,null,null,null,null,null,null,null,null,null,null,null,null,null,null,null,null,null,null,null,null,null,null,null,null,null,null,null,null,null,null,null,null,null,null,null,null,null,null,null,null,null,null,null,null,null,null,null,null,null,null,null,null,null,null,null,null,null,null,null,null,null,null,null,null,null,null,null,null,null,null,null,null,null,null,null,null,null,null,null,null,null,null,null,null,"C13T15","RES"]
[null,{"$f":"Parameters!Q13","v":"C16-C18"},null,{"$f":"Parameters!S13","v":"Manufacture of wood, paper, printing and reproduction"}]
[null,{"$f":"Parameters!Q14","v":"C16"},null,{"$f":"Parameters!S14","v":"Manufacture of wood and of products of wood and cork, except furniture; manufacture of articles of straw and plaiting materials"},null,null,null,null,null,null,null,null,null,null,null,null,null,null,null,null,null,null,null,null,null,null,null,null,null,null,null,null,null,null,null,null,null,null,null,null,null,null,null,null,null,null,null,null,null,null,null,null,null,null,null,null,null,null,null,null,null,null,null,null,null,null,null,null,null,null,null,null,null,null,null,null,null,null,null,null,null,null,null,null,null,null,null,null,null,null,"C16","RES"]
[null,{"$f":"Parameters!Q15","v":"C17"},null,{"$f":"Parameters!S15","v":"Manufacture of paper and paper products"},null,null,null,null,null,null,null,null,null,null,null,null,null,null,null,null,null,null,null,null,null,null,null,null,null,null,null,null,null,null,null,null,null,null,null,null,null,null,null,null,null,null,null,null,null,null,null,null,null,null,null,null,null,null,null,null,null,null,null,null,null,null,null,null,null,null,null,null,null,null,null,null,null,null,null,null,null,null,null,null,null,null,null,null,null,null,"C17","RES"]
[null,{"$f":"Parameters!Q16","v":"C18"},null,{"$f":"Parameters!S16","v":"Printing and reproduction of recorded media"},null,null,null,null,null,null,null,null,null,null,null,null,null,null,null,null,null,null,null,null,null,null,null,null,null,null,null,null,null,null,null,null,null,null,null,null,null,null,null,null,null,null,null,null,null,null,null,null,null,null,null,null,null,null,null,null,null,null,null,null,null,null,null,null,null,null,null,null,null,null,null,null,null,null,null,null,null,null,null,null,null,null,null,null,null,null,"C18","RES"]
[null,{"$f":"Parameters!Q17","v":"C19"},null,{"$f":"Parameters!S17","v":"Manufacture of coke and refined petroleum products"},null,null,null,null,null,null,null,null,null,null,null,null,null,null,null,null,null,null,null,null,null,null,null,null,null,null,null,null,null,null,null,null,null,null,null,null,null,null,null,null,null,null,null,null,null,null,null,null,null,null,null,null,null,null,null,null,null,null,null,null,null,null,null,null,null,null,null,null,null,null,null,null,null,null,null,null,null,null,null,null,null,null,null,null,null,null,"C19","RES"]
[null,{"$f":"Parameters!Q18","v":"C20"},null,{"$f":"Parameters!S18","v":"Manufacture of chemicals and chemical products"},null,null,null,null,null,null,null,null,null,null,null,null,null,null,null,null,null,null,null,null,null,null,null,null,null,null,null,null,null,null,null,null,null,null,null,null,null,null,null,null,null,null,null,null,null,null,null,null,null,null,null,null,null,null,null,null,null,null,null,null,null,null,null,null,null,null,null,null,null,null,null,null,null,null,null,null,null,null,null,null,null,null,null,null,null,null,"C20","RES"]
[null,{"$f":"Parameters!Q19","v":"C21"},null,{"$f":"Parameters!S19","v":"Manufacture of basic pharmaceutical products and pharmaceutical preparations"},null,null,null,null,null,null,null,null,null,null,null,null,null,null,null,null,null,null,null,null,null,null,null,null,null,null,null,null,null,null,null,null,null,null,null,null,null,null,null,null,null,null,null,null,null,null,null,null,null,null,null,null,null,null,null,null,null,null,null,null,null,null,null,null,null,null,null,null,null,null,null,null,null,null,null,null,null,null,null,null,null,null,null,null,null,null,"C21","RES"]
[null,{"$f":"Parameters!Q20","v":"C22_C23"},null,{"$f":"Parameters!S20","v":"Manufacture of rubber and plastic products and other non-metallic mineral products"}]
[null,{"$f":"Parameters!Q21","v":"C22"},null,{"$f":"Parameters!S21","v":"Manufacture of rubber and plastic products"},null,null,null,null,null,null,null,null,null,null,null,null,null,null,null,null,null,null,null,null,null,null,null,null,null,null,null,null,null,null,null,null,null,null,null,null,null,null,null,null,null,null,null,null,null,null,null,null,null,null,null,null,null,null,null,null,null,null,null,null,null,null,null,null,null,null,null,null,null,null,null,null,null,null,null,null,null,null,null,null,null,null,null,null,null,null,"C22","RES"]
[null,{"$f":"Parameters!Q22","v":"C23"},null,{"$f":"Parameters!S22","v":"Manufacture of other non-metallic mineral products"},null,null,null,null,null,null,null,null,null,null,null,null,null,null,null,null,null,null,null,null,null,null,null,null,null,null,null,null,null,null,null,null,null,null,null,null,null,null,null,null,null,null,null,null,null,null,null,null,null,null,null,null,null,null,null,null,null,null,null,null,null,null,null,null,null,null,null,null,null,null,null,null,null,null,null,null,null,null,null,null,null,null,null,null,null,null,"C23","RES"]
[null,{"$f":"Parameters!Q23","v":"C24_C25"},null,{"$f":"Parameters!S23","v":"Manufacture of basic metals and fabricated metal products, except machinery and equipment"}]
[null,{"$f":"Parameters!Q24","v":"C24"},null,{"$f":"Parameters!S24","v":"Manufacture of basic metals"},null,null,null,null,null,null,null,null,null,null,null,null,null,null,null,null,null,null,null,null,null,null,null,null,null,null,null,null,null,null,null,null,null,null,null,null,null,null,null,null,null,null,null,null,null,null,null,null,null,null,null,null,null,null,null,null,null,null,null,null,null,null,null,null,null,null,null,null,null,null,null,null,null,null,null,null,null,null,null,null,null,null,null,null,null,null,"C24","RES"]
[null,{"$f":"Parameters!Q25","v":"C25"},null,{"$f":"Parameters!S25","v":"Manufacture of fabricated metal products, except machinery and equipment"},null,null,null,null,null,null,null,null,null,null,null,null,null,null,null,null,null,null,null,null,null,null,null,null,null,null,null,null,null,null,null,null,null,null,null,null,null,null,null,null,null,null,null,null,null,null,null,null,null,null,null,null,null,null,null,null,null,null,null,null,null,null,null,null,null,null,null,null,null,null,null,null,null,null,null,null,null,null,null,null,null,null,null,null,null,null,"C25","RES"]
[null,{"$f":"Parameters!Q26","v":"C26"},null,{"$f":"Parameters!S26","v":"Manufacture of computer, electronic and optical products"},null,null,null,null,null,null,null,null,null,null,null,null,null,null,null,null,null,null,null,null,null,null,null,null,null,null,null,null,null,null,null,null,null,null,null,null,null,null,null,null,null,null,null,null,null,null,null,null,null,null,null,null,null,null,null,null,null,null,null,null,null,null,null,null,null,null,null,null,null,null,null,null,null,null,null,null,null,null,null,null,null,null,null,null,null,null,"C26","RES"]
[null,{"$f":"Parameters!Q27","v":"C27"},null,{"$f":"Parameters!S27","v":"Manufacture of electrical equipment"},null,null,null,null,null,null,null,null,null,null,null,null,null,null,null,null,null,null,null,null,null,null,null,null,null,null,null,null,null,null,null,null,null,null,null,null,null,null,null,null,null,null,null,null,null,null,null,null,null,null,null,null,null,null,null,null,null,null,null,null,null,null,null,null,null,null,null,null,null,null,null,null,null,null,null,null,null,null,null,null,null,null,null,null,null,null,"C27","RES"]
[null,{"$f":"Parameters!Q28","v":"C28"},null,{"$f":"Parameters!S28","v":"Manufacture of machinery and equipment n.e.c."},null,null,null,null,null,null,null,null,null,null,null,null,null,null,null,null,null,null,null,null,null,null,null,null,null,null,null,null,null,null,null,null,null,null,null,null,null,null,null,null,null,null,null,null,null,null,null,null,null,null,null,null,null,null,null,null,null,null,null,null,null,null,null,null,null,null,null,null,null,null,null,null,null,null,null,null,null,null,null,null,null,null,null,null,null,null,"C28","RES"]
[null,{"$f":"Parameters!Q29","v":"C29_C30"},null,{"$f":"Parameters!S29","v":"Manufacture of motor vehicles, trailers, semi-trailers and of other transport equipment"}]
[null,{"$f":"Parameters!Q30","v":"C29"},null,{"$f":"Parameters!S30","v":"Manufacture of motor vehicles, trailers and semi-trailers"},null,null,null,null,null,null,null,null,null,null,null,null,null,null,null,null,null,null,null,null,null,null,null,null,null,null,null,null,null,null,null,null,null,null,null,null,null,null,null,null,null,null,null,null,null,null,null,null,null,null,null,null,null,null,null,null,null,null,null,null,null,null,null,null,null,null,null,null,null,null,null,null,null,null,null,null,null,null,null,null,null,null,null,null,null,null,"C29","RES"]
[null,{"$f":"Parameters!Q31","v":"C30"},null,{"$f":"Parameters!S31","v":"Manufacture of other transport equipment"},null,null,null,null,null,null,null,null,null,null,null,null,null,null,null,null,null,null,null,null,null,null,null,null,null,null,null,null,null,null,null,null,null,null,null,null,null,null,null,null,null,null,null,null,null,null,null,null,null,null,null,null,null,null,null,null,null,null,null,null,null,null,null,null,null,null,null,null,null,null,null,null,null,null,null,null,null,null,null,null,null,null,null,null,null,null,"C30","RES"]
[null,{"$f":"Parameters!Q32","v":"C31-C33"},null,{"$f":"Parameters!S32","v":"Manufacture of furniture; jewellery, musical instruments, toys; repair and installation of machinery and equipment"}]
[null,{"$f":"Parameters!Q33","v":"C31_C32"},null,{"$f":"Parameters!S33","v":"Manufacture of furniture; other manufacturing"},null,null,null,null,null,null,null,null,null,null,null,null,null,null,null,null,null,null,null,null,null,null,null,null,null,null,null,null,null,null,null,null,null,null,null,null,null,null,null,null,null,null,null,null,null,null,null,null,null,null,null,null,null,null,null,null,null,null,null,null,null,null,null,null,null,null,null,null,null,null,null,null,null,null,null,null,null,null,null,null,null,null,null,null,null,null,"C31_32","RES"]
[null,{"$f":"Parameters!Q34","v":"C33"},null,{"$f":"Parameters!S34","v":"Repair and installation of machinery and equipment"},null,null,null,null,null,null,null,null,null,null,null,null,null,null,null,null,null,null,null,null,null,null,null,null,null,null,null,null,null,null,null,null,null,null,null,null,null,null,null,null,null,null,null,null,null,null,null,null,null,null,null,null,null,null,null,null,null,null,null,null,null,null,null,null,null,null,null,null,null,null,null,null,null,null,null,null,null,null,null,null,null,null,null,null,null,null,"C33","RES"]
[null,{"$f":"Parameters!Q35","v":"D"},null,{"$f":"Parameters!S35","v":"Electricity, gas, steam and air conditioning supply"},null,null,null,null,null,null,null,null,null,null,null,null,null,null,null,null,null,null,null,null,null,null,null,null,null,null,null,null,null,null,null,null,null,null,null,null,null,null,null,null,null,null,null,null,null,null,null,null,null,null,null,null,null,null,null,null,null,null,null,null,null,null,null,null,null,null,null,null,null,null,null,null,null,null,null,null,null,null,null,null,null,null,null,null,null,null,"D","RES"]
[null,{"$f":"Parameters!Q36","v":"E"},null,{"$f":"Parameters!S36","v":"Water supply; sewerage, waste management and remediation activities"},null,null,null,null,null,null,null,null,null,null,null,null,null,null,null,null,null,null,null,null,null,null,null,null,null,null,null,null,null,null,null,null,null,null,null,null,null,null,null,null,null,null,null,null,null,null,null,null,null,null,null,null,null,null,null,null,null,null,null,null,null,null,null,null,null,null,null,null,null,null,null,null,null,null,null,null,null,null,null,null,null,null,null,null,null,null,"E","RES"]
[null,{"$f":"Parameters!Q37","v":"E36"},null,{"$f":"Parameters!S37","v":"Water collection, treatment and supply"},null,null,null,null,null,null,null,null,null,null,null,null,null,null,null,null,null,null,null,null,null,null,null,null,null,null,null,null,null,null,null,null,null,null,null,null,null,null,null,null,null,null,null,null,null,null,null,null,null,null,null,null,null,null,null,null,null,null,null,null,null,null,null,null,null,null,null,null,null,null,null,null,null,null,null,null,null,null,null,null,null,null,null,null,null,null,"E36","RES"]
[null,{"$f":"Parameters!Q38","v":"E37-E39"},null,{"$f":"Parameters!S38","v":"Sewerage, waste management, remediation activities"},null,null,null,null,null,null,null,null,null,null,null,null,null,null,null,null,null,null,null,null,null,null,null,null,null,null,null,null,null,null,null,null,null,null,null,null,null,null,null,null,null,null,null,null,null,null,null,null,null,null,null,null,null,null,null,null,null,null,null,null,null,null,null,null,null,null,null,null,null,null,null,null,null,null,null,null,null,null,null,null,null,null,null,null,null,null,"E37T39","RES"]
[null,{"$f":"Parameters!Q39","v":"F"},null,{"$f":"Parameters!S39","v":"Construction"},null,null,null,null,null,null,null,null,null,null,null,null,null,null,null,null,null,null,null,null,null,null,null,null,null,null,null,null,null,null,null,null,null,null,null,null,null,null,null,null,null,null,null,null,null,null,null,null,null,null,null,null,null,null,null,null,null,null,null,null,null,null,null,null,null,null,null,null,null,null,null,null,null,null,null,null,null,null,null,null,null,null,null,null,null,null,"F","RES"]
[null,{"$f":"Parameters!Q40","v":"G"},null,{"$f":"Parameters!S40","v":"Wholesale and retail trade; repair of motor vehicles and motorcycles"},null,null,null,null,null,null,null,null,null,null,null,null,null,null,null,null,null,null,null,null,null,null,null,null,null,null,null,null,null,null,null,null,null,null,null,null,null,null,null,null,null,null,null,null,null,null,null,null,null,null,null,null,null,null,null,null,null,null,null,null,null,null,null,null,null,null,null,null,null,null,null,null,null,null,null,null,null,null,null,null,null,null,null,null,null,null,"G","RES"]
[null,{"$f":"Parameters!Q41","v":"G45"},null,{"$f":"Parameters!S41","v":"Wholesale and retail trade and repair of motor vehicles and motorcycles"},null,null,null,null,null,null,null,null,null,null,null,null,null,null,null,null,null,null,null,null,null,null,null,null,null,null,null,null,null,null,null,null,null,null,null,null,null,null,null,null,null,null,null,null,null,null,null,null,null,null,null,null,null,null,null,null,null,null,null,null,null,null,null,null,null,null,null,null,null,null,null,null,null,null,null,null,null,null,null,null,null,null,null,null,null,null,"G45","RES"]
[null,{"$f":"Parameters!Q42","v":"G46"},null,{"$f":"Parameters!S42","v":"Wholesale trade, except of motor vehicles and motorcycles"},null,null,null,null,null,null,null,null,null,null,null,null,null,null,null,null,null,null,null,null,null,null,null,null,null,null,null,null,null,null,null,null,null,null,null,null,null,null,null,null,null,null,null,null,null,null,null,null,null,null,null,null,null,null,null,null,null,null,null,null,null,null,null,null,null,null,null,null,null,null,null,null,null,null,null,null,null,null,null,null,null,null,null,null,null,null,"G46","RES"]
[null,{"$f":"Parameters!Q43","v":"G47"},null,{"$f":"Parameters!S43","v":"Retail trade, except of motor vehicles and motorcycles"},null,null,null,null,null,null,null,null,null,null,null,null,null,null,null,null,null,null,null,null,null,null,null,null,null,null,null,null,null,null,null,null,null,null,null,null,null,null,null,null,null,null,null,null,null,null,null,null,null,null,null,null,null,null,null,null,null,null,null,null,null,null,null,null,null,null,null,null,null,null,null,null,null,null,null,null,null,null,null,null,null,null,null,null,null,null,"G47","RES"]
[null,{"$f":"Parameters!Q44","v":"H"},null,{"$f":"Parameters!S44","v":"Transportation and storage"},null,null,null,null,null,null,null,null,null,null,null,null,null,null,null,null,null,null,null,null,null,null,null,null,null,null,null,null,null,null,null,null,null,null,null,null,null,null,null,null,null,null,null,null,null,null,null,null,null,null,null,null,null,null,null,null,null,null,null,null,null,null,null,null,null,null,null,null,null,null,null,null,null,null,null,null,null,null,null,null,null,null,null,null,null,null,"H","RES"]
[null,{"$f":"Parameters!Q45","v":"H49"},null,{"$f":"Parameters!S45","v":"Land transport and transport via pipelines"},null,null,null,null,null,null,null,null,null,null,null,null,null,null,null,null,null,null,null,null,null,null,null,null,null,null,null,null,null,null,null,null,null,null,null,null,null,null,null,null,null,null,null,null,null,null,null,null,null,null,null,null,null,null,null,null,null,null,null,null,null,null,null,null,null,null,null,null,null,null,null,null,null,null,null,null,null,null,null,null,null,null,null,null,null,null,"H49","RES"]
[null,{"$f":"Parameters!Q46","v":"H50"},null,{"$f":"Parameters!S46","v":"Water transport"},null,null,null,null,null,null,null,null,null,null,null,null,null,null,null,null,null,null,null,null,null,null,null,null,null,null,null,null,null,null,null,null,null,null,null,null,null,null,null,null,null,null,null,null,null,null,null,null,null,null,null,null,null,null,null,null,null,null,null,null,null,null,null,null,null,null,null,null,null,null,null,null,null,null,null,null,null,null,null,null,null,null,null,null,null,null,"H50","RES"]
[null,{"$f":"Parameters!Q47","v":"H51"},null,{"$f":"Parameters!S47","v":"Air transport"},null,null,null,null,null,null,null,null,null,null,null,null,null,null,null,null,null,null,null,null,null,null,null,null,null,null,null,null,null,null,null,null,null,null,null,null,null,null,null,null,null,null,null,null,null,null,null,null,null,null,null,null,null,null,null,null,null,null,null,null,null,null,null,null,null,null,null,null,null,null,null,null,null,null,null,null,null,null,null,null,null,null,null,null,null,null,"H51","RES"]
[null,{"$f":"Parameters!Q48","v":"H52"},null,{"$f":"Parameters!S48","v":"Warehousing and support activities for transportation"},null,null,null,null,null,null,null,null,null,null,null,null,null,null,null,null,null,null,null,null,null,null,null,null,null,null,null,null,null,null,null,null,null,null,null,null,null,null,null,null,null,null,null,null,null,null,null,null,null,null,null,null,null,null,null,null,null,null,null,null,null,null,null,null,null,null,null,null,null,null,null,null,null,null,null,null,null,null,null,null,null,null,null,null,null,null,"H52","RES"]
[null,{"$f":"Parameters!Q49","v":"H53"},null,{"$f":"Parameters!S49","v":"Postal and courier activities"},null,null,null,null,null,null,null,null,null,null,null,null,null,null,null,null,null,null,null,null,null,null,null,null,null,null,null,null,null,null,null,null,null,null,null,null,null,null,null,null,null,null,null,null,null,null,null,null,null,null,null,null,null,null,null,null,null,null,null,null,null,null,null,null,null,null,null,null,null,null,null,null,null,null,null,null,null,null,null,null,null,null,null,null,null,null,"H53","RES"]
[null,{"$f":"Parameters!Q50","v":"I"},null,{"$f":"Parameters!S50","v":"Accommodation and food service activities"},null,null,null,null,null,null,null,null,null,null,null,null,null,null,null,null,null,null,null,null,null,null,null,null,null,null,null,null,null,null,null,null,null,null,null,null,null,null,null,null,null,null,null,null,null,null,null,null,null,null,null,null,null,null,null,null,null,null,null,null,null,null,null,null,null,null,null,null,null,null,null,null,null,null,null,null,null,null,null,null,null,null,null,null,null,null,"I","RES"]
[null,{"$f":"Parameters!Q51","v":"J"},null,{"$f":"Parameters!S51","v":"Information and communication"},null,null,null,null,null,null,null,null,null,null,null,null,null,null,null,null,null,null,null,null,null,null,null,null,null,null,null,null,null,null,null,null,null,null,null,null,null,null,null,null,null,null,null,null,null,null,null,null,null,null,null,null,null,null,null,null,null,null,null,null,null,null,null,null,null,null,null,null,null,null,null,null,null,null,null,null,null,null,null,null,null,null,null,null,null,null,"J","RES"]
[null,{"$f":"Parameters!Q52","v":"J58-J60"},null,{"$f":"Parameters!S52","v":"Publishing, motion picture, video, television programme production; sound recording, programming and broadcasting activities"}]
[null,{"$f":"Parameters!Q53","v":"J58"},null,{"$f":"Parameters!S53","v":"Publishing activities"},null,null,null,null,null,null,null,null,null,null,null,null,null,null,null,null,null,null,null,null,null,null,null,null,null,null,null,null,null,null,null,null,null,null,null,null,null,null,null,null,null,null,null,null,null,null,null,null,null,null,null,null,null,null,null,null,null,null,null,null,null,null,null,null,null,null,null,null,null,null,null,null,null,null,null,null,null,null,null,null,null,null,null,null,null,null,"J58","RES"]
[null,{"$f":"Parameters!Q54","v":"J59_J60"},null,{"$f":"Parameters!S54","v":"Motion picture, video, television programme production; programming and broadcasting activities"},null,null,null,null,null,null,null,null,null,null,null,null,null,null,null,null,null,null,null,null,null,null,null,null,null,null,null,null,null,null,null,null,null,null,null,null,null,null,null,null,null,null,null,null,null,null,null,null,null,null,null,null,null,null,null,null,null,null,null,null,null,null,null,null,null,null,null,null,null,null,null,null,null,null,null,null,null,null,null,null,null,null,null,null,null,null,"J59_60","RES"]
[null,{"$f":"Parameters!Q55","v":"J61"},null,{"$f":"Parameters!S55","v":"Telecommunications"},null,null,null,null,null,null,null,null,null,null,null,null,null,null,null,null,null,null,null,null,null,null,null,null,null,null,null,null,null,null,null,null,null,null,null,null,null,null,null,null,null,null,null,null,null,null,null,null,null,null,null,null,null,null,null,null,null,null,null,null,null,null,null,null,null,null,null,null,null,null,null,null,null,null,null,null,null,null,null,null,null,null,null,null,null,null,"J61","RES"]
[null,{"$f":"Parameters!Q56","v":"J62_J63"},null,{"$f":"Parameters!S56","v":"Computer programming, consultancy, and information service activities"},null,null,null,null,null,null,null,null,null,null,null,null,null,null,null,null,null,null,null,null,null,null,null,null,null,null,null,null,null,null,null,null,null,null,null,null,null,null,null,null,null,null,null,null,null,null,null,null,null,null,null,null,null,null,null,null,null,null,null,null,null,null,null,null,null,null,null,null,null,null,null,null,null,null,null,null,null,null,null,null,null,null,null,null,null,null,"J62_63","RES"]
[null,{"$f":"Parameters!Q57","v":"K"},null,{"$f":"Parameters!S57","v":"Financial and insurance activities"},null,null,null,null,null,null,null,null,null,null,null,null,null,null,null,null,null,null,null,null,null,null,null,null,null,null,null,null,null,null,null,null,null,null,null,null,null,null,null,null,null,null,null,null,null,null,null,null,null,null,null,null,null,null,null,null,null,null,null,null,null,null,null,null,null,null,null,null,null,null,null,null,null,null,null,null,null,null,null,null,null,null,null,null,null,null,"K","RES"]
[null,{"$f":"Parameters!Q58","v":"K64"},null,{"$f":"Parameters!S58","v":"Financial service activities, except insurance and pension funding"},null,null,null,null,null,null,null,null,null,null,null,null,null,null,null,null,null,null,null,null,null,null,null,null,null,null,null,null,null,null,null,null,null,null,null,null,null,null,null,null,null,null,null,null,null,null,null,null,null,null,null,null,null,null,null,null,null,null,null,null,null,null,null,null,null,null,null,null,null,null,null,null,null,null,null,null,null,null,null,null,null,null,null,null,null,null,"K64","RES"]
[null,{"$f":"Parameters!Q59","v":"K65"},null,{"$f":"Parameters!S59","v":"Insurance, reinsurance and pension funding, except compulsory social security"},null,null,null,null,null,null,null,null,null,null,null,null,null,null,null,null,null,null,null,null,null,null,null,null,null,null,null,null,null,null,null,null,null,null,null,null,null,null,null,null,null,null,null,null,null,null,null,null,null,null,null,null,null,null,null,null,null,null,null,null,null,null,null,null,null,null,null,null,null,null,null,null,null,null,null,null,null,null,null,null,null,null,null,null,null,null,"K65","RES"]
[null,{"$f":"Parameters!Q60","v":"K66"},null,{"$f":"Parameters!S60","v":"Activities auxiliary to financial services and insurance activities"},null,null,null,null,null,null,null,null,null,null,null,null,null,null,null,null,null,null,null,null,null,null,null,null,null,null,null,null,null,null,null,null,null,null,null,null,null,null,null,null,null,null,null,null,null,null,null,null,null,null,null,null,null,null,null,null,null,null,null,null,null,null,null,null,null,null,null,null,null,null,null,null,null,null,null,null,null,null,null,null,null,null,null,null,null,null,"K66","RES"]
[null,{"$f":"Parameters!Q61","v":"L"},null,{"$f":"Parameters!S61","v":"Real estate activities"},null,null,null,null,null,null,null,null,null,null,null,null,null,null,null,null,null,null,null,null,null,null,null,null,null,null,null,null,null,null,null,null,null,null,null,null,null,null,null,null,null,null,null,null,null,null,null,null,null,null,null,null,null,null,null,null,null,null,null,null,null,null,null,null,null,null,null,null,null,null,null,null,null,null,null,null,null,null,null,null,null,null,null,null,null,null,"L","RES"]
[null,{"$f":"Parameters!Q62","v":"L68A"},null,{"$f":"Parameters!S62","v":"Imputed rents of owner-occupied dwellings"},null,null,null,null,null,null,null,null,null,null,null,null,null,null,null,null,null,null,null,null,null,null,null,null,null,null,null,null,null,null,null,null,null,null,null,null,null,null,null,null,null,null,null,null,null,null,null,null,null,null,null,null,null,null,null,null,null,null,null,null,null,null,null,null,null,null,null,null,null,null,null,null,null,null,null,null,null,null,null,null,null,null,null,null,null,null,"L68A","RES"]
[null,{"$f":"Parameters!Q63","v":"M"},null,{"$f":"Parameters!S63","v":"Professional, scientific and technical activities"},null,null,null,null,null,null,null,null,null,null,null,null,null,null,null,null,null,null,null,null,null,null,null,null,null,null,null,null,null,null,null,null,null,null,null,null,null,null,null,null,null,null,null,null,null,null,null,null,null,null,null,null,null,null,null,null,null,null,null,null,null,null,null,null,null,null,null,null,null,null,null,null,null,null,null,null,null,null,null,null,null,null,null,null,null,null,"M","RES"]
[null,{"$f":"Parameters!Q64","v":"M69-M71"},null,{"$f":"Parameters!S64","v":"Legal and accounting activities; activities of head offices; management consultancy activities; architectural and engineering activities; technical testing and analysis"}]
[null,{"$f":"Parameters!Q65","v":"M69_M70"},null,{"$f":"Parameters!S65","v":"Legal and accounting activities; activities of head offices; management consultancy activities"},null,null,null,null,null,null,null,null,null,null,null,null,null,null,null,null,null,null,null,null,null,null,null,null,null,null,null,null,null,null,null,null,null,null,null,null,null,null,null,null,null,null,null,null,null,null,null,null,null,null,null,null,null,null,null,null,null,null,null,null,null,null,null,null,null,null,null,null,null,null,null,null,null,null,null,null,null,null,null,null,null,null,null,null,null,null,"M69_70","RES"]
[null,{"$f":"Parameters!Q66","v":"M71"},null,{"$f":"Parameters!S66","v":"Architectural and engineering activities; technical testing and analysis"},null,null,null,null,null,null,null,null,null,null,null,null,null,null,null,null,null,null,null,null,null,null,null,null,null,null,null,null,null,null,null,null,null,null,null,null,null,null,null,null,null,null,null,null,null,null,null,null,null,null,null,null,null,null,null,null,null,null,null,null,null,null,null,null,null,null,null,null,null,null,null,null,null,null,null,null,null,null,null,null,null,null,null,null,null,null,"M71","RES"]
[null,{"$f":"Parameters!Q67","v":"M72"},null,{"$f":"Parameters!S67","v":"Scientific research and development"},null,null,null,null,null,null,null,null,null,null,null,null,null,null,null,null,null,null,null,null,null,null,null,null,null,null,null,null,null,null,null,null,null,null,null,null,null,null,null,null,null,null,null,null,null,null,null,null,null,null,null,null,null,null,null,null,null,null,null,null,null,null,null,null,null,null,null,null,null,null,null,null,null,null,null,null,null,null,null,null,null,null,null,null,null,null,"M72","RES"]
[null,{"$f":"Parameters!Q68","v":"M73-M75"},null,{"$f":"Parameters!S68","v":"Advertising and market research; other professional, scientific and technical activities; veterinary activities"}]
[null,{"$f":"Parameters!Q69","v":"M73"},null,{"$f":"Parameters!S69","v":"Advertising and market research"},null,null,null,null,null,null,null,null,null,null,null,null,null,null,null,null,null,null,null,null,null,null,null,null,null,null,null,null,null,null,null,null,null,null,null,null,null,null,null,null,null,null,null,null,null,null,null,null,null,null,null,null,null,null,null,null,null,null,null,null,null,null,null,null,null,null,null,null,null,null,null,null,null,null,null,null,null,null,null,null,null,null,null,null,null,null,"M73","RES"]
[null,{"$f":"Parameters!Q70","v":"M74_M75"},null,{"$f":"Parameters!S70","v":"Other professional, scientific and technical activities; veterinary activities"},null,null,null,null,null,null,null,null,null,null,null,null,null,null,null,null,null,null,null,null,null,null,null,null,null,null,null,null,null,null,null,null,null,null,null,null,null,null,null,null,null,null,null,null,null,null,null,null,null,null,null,null,null,null,null,null,null,null,null,null,null,null,null,null,null,null,null,null,null,null,null,null,null,null,null,null,null,null,null,null,null,null,null,null,null,null,"M74_75","RES"]
[null,{"$f":"Parameters!Q71","v":"N"},null,{"$f":"Parameters!S71","v":"Administrative and support service activities"},null,null,null,null,null,null,null,null,null,null,null,null,null,null,null,null,null,null,null,null,null,null,null,null,null,null,null,null,null,null,null,null,null,null,null,null,null,null,null,null,null,null,null,null,null,null,null,null,null,null,null,null,null,null,null,null,null,null,null,null,null,null,null,null,null,null,null,null,null,null,null,null,null,null,null,null,null,null,null,null,null,null,null,null,null,null,"N","RES"]
[null,{"$f":"Parameters!Q72","v":"N77"},null,{"$f":"Parameters!S72","v":"Rental and leasing activities"},null,null,null,null,null,null,null,null,null,null,null,null,null,null,null,null,null,null,null,null,null,null,null,null,null,null,null,null,null,null,null,null,null,null,null,null,null,null,null,null,null,null,null,null,null,null,null,null,null,null,null,null,null,null,null,null,null,null,null,null,null,null,null,null,null,null,null,null,null,null,null,null,null,null,null,null,null,null,null,null,null,null,null,null,null,null,"N77","RES"]
[null,{"$f":"Parameters!Q73","v":"N78"},null,{"$f":"Parameters!S73","v":"Employment activities"},null,null,null,null,null,null,null,null,null,null,null,null,null,null,null,null,null,null,null,null,null,null,null,null,null,null,null,null,null,null,null,null,null,null,null,null,null,null,null,null,null,null,null,null,null,null,null,null,null,null,null,null,null,null,null,null,null,null,null,null,null,null,null,null,null,null,null,null,null,null,null,null,null,null,null,null,null,null,null,null,null,null,null,null,null,null,"N78","RES"]
[null,{"$f":"Parameters!Q74","v":"N79"},null,{"$f":"Parameters!S74","v":"Travel agency, tour operator reservation service and related activities"},null,null,null,null,null,null,null,null,null,null,null,null,null,null,null,null,null,null,null,null,null,null,null,null,null,null,null,null,null,null,null,null,null,null,null,null,null,null,null,null,null,null,null,null,null,null,null,null,null,null,null,null,null,null,null,null,null,null,null,null,null,null,null,null,null,null,null,null,null,null,null,null,null,null,null,null,null,null,null,null,null,null,null,null,null,null,"N79","RES"]
[null,{"$f":"Parameters!Q75","v":"N80-N82"},null,{"$f":"Parameters!S75","v":"Security and investigation, service and landscape, office administrative and support activities"},null,null,null,null,null,null,null,null,null,null,null,null,null,null,null,null,null,null,null,null,null,null,null,null,null,null,null,null,null,null,null,null,null,null,null,null,null,null,null,null,null,null,null,null,null,null,null,null,null,null,null,null,null,null,null,null,null,null,null,null,null,null,null,null,null,null,null,null,null,null,null,null,null,null,null,null,null,null,null,null,null,null,null,null,null,null,"N80T82","RES"]
[null,{"$f":"Parameters!Q76","v":"O"},null,{"$f":"Parameters!S76","v":"Public administration and defence; compulsory social security"},null,null,null,null,null,null,null,null,null,null,null,null,null,null,null,null,null,null,null,null,null,null,null,null,null,null,null,null,null,null,null,null,null,null,null,null,null,null,null,null,null,null,null,null,null,null,null,null,null,null,null,null,null,null,null,null,null,null,null,null,null,null,null,null,null,null,null,null,null,null,null,null,null,null,null,null,null,null,null,null,null,null,null,null,null,null,"O","RES"]
[null,{"$f":"Parameters!Q77","v":"P"},null,{"$f":"Parameters!S77","v":"Education"},null,null,null,null,null,null,null,null,null,null,null,null,null,null,null,null,null,null,null,null,null,null,null,null,null,null,null,null,null,null,null,null,null,null,null,null,null,null,null,null,null,null,null,null,null,null,null,null,null,null,null,null,null,null,null,null,null,null,null,null,null,null,null,null,null,null,null,null,null,null,null,null,null,null,null,null,null,null,null,null,null,null,null,null,null,null,"P","RES"]
[null,{"$f":"Parameters!Q78","v":"Q"},null,{"$f":"Parameters!S78","v":"Human health and social work activities"},null,null,null,null,null,null,null,null,null,null,null,null,null,null,null,null,null,null,null,null,null,null,null,null,null,null,null,null,null,null,null,null,null,null,null,null,null,null,null,null,null,null,null,null,null,null,null,null,null,null,null,null,null,null,null,null,null,null,null,null,null,null,null,null,null,null,null,null,null,null,null,null,null,null,null,null,null,null,null,null,null,null,null,null,null,null,"Q","RES"]
[null,{"$f":"Parameters!Q79","v":"Q86"},null,{"$f":"Parameters!S79","v":"Human health activities"},null,null,null,null,null,null,null,null,null,null,null,null,null,null,null,null,null,null,null,null,null,null,null,null,null,null,null,null,null,null,null,null,null,null,null,null,null,null,null,null,null,null,null,null,null,null,null,null,null,null,null,null,null,null,null,null,null,null,null,null,null,null,null,null,null,null,null,null,null,null,null,null,null,null,null,null,null,null,null,null,null,null,null,null,null,null,"Q86","RES"]
[null,{"$f":"Parameters!Q80","v":"Q87_Q88"},null,{"$f":"Parameters!S80","v":"Residential care activities and social work activities without accommodation"},null,null,null,null,null,null,null,null,null,null,null,null,null,null,null,null,null,null,null,null,null,null,null,null,null,null,null,null,null,null,null,null,null,null,null,null,null,null,null,null,null,null,null,null,null,null,null,null,null,null,null,null,null,null,null,null,null,null,null,null,null,null,null,null,null,null,null,null,null,null,null,null,null,null,null,null,null,null,null,null,null,null,null,null,null,null,"Q87_88","RES"]
[null,{"$f":"Parameters!Q81","v":"R"},null,{"$f":"Parameters!S81","v":"Arts, entertainment and recreation"},null,null,null,null,null,null,null,null,null,null,null,null,null,null,null,null,null,null,null,null,null,null,null,null,null,null,null,null,null,null,null,null,null,null,null,null,null,null,null,null,null,null,null,null,null,null,null,null,null,null,null,null,null,null,null,null,null,null,null,null,null,null,null,null,null,null,null,null,null,null,null,null,null,null,null,null,null,null,null,null,null,null,null,null,null,null,"R","RES"]
[null,{"$f":"Parameters!Q82","v":"R90-R92"},null,{"$f":"Parameters!S82","v":"Creative, arts and entertainment activities; libraries, archives, museums and other cultural activities; gambling and betting activities"},null,null,null,null,null,null,null,null,null,null,null,null,null,null,null,null,null,null,null,null,null,null,null,null,null,null,null,null,null,null,null,null,null,null,null,null,null,null,null,null,null,null,null,null,null,null,null,null,null,null,null,null,null,null,null,null,null,null,null,null,null,null,null,null,null,null,null,null,null,null,null,null,null,null,null,null,null,null,null,null,null,null,null,null,null,null,"R90T92","RES"]
[null,{"$f":"Parameters!Q83","v":"R93"},null,{"$f":"Parameters!S83","v":"Sports activities and amusement and recreation activities"},null,null,null,null,null,null,null,null,null,null,null,null,null,null,null,null,null,null,null,null,null,null,null,null,null,null,null,null,null,null,null,null,null,null,null,null,null,null,null,null,null,null,null,null,null,null,null,null,null,null,null,null,null,null,null,null,null,null,null,null,null,null,null,null,null,null,null,null,null,null,null,null,null,null,null,null,null,null,null,null,null,null,null,null,null,null,"R93","RES"]
[null,{"$f":"Parameters!Q84","v":"S"},null,{"$f":"Parameters!S84","v":"Other service activities"},null,null,null,null,null,null,null,null,null,null,null,null,null,null,null,null,null,null,null,null,null,null,null,null,null,null,null,null,null,null,null,null,null,null,null,null,null,null,null,null,null,null,null,null,null,null,null,null,null,null,null,null,null,null,null,null,null,null,null,null,null,null,null,null,null,null,null,null,null,null,null,null,null,null,null,null,null,null,null,null,null,null,null,null,null,null,"S","RES"]
[null,{"$f":"Parameters!Q85","v":"S94"},null,{"$f":"Parameters!S85","v":"Activities of membership organisations"},null,null,null,null,null,null,null,null,null,null,null,null,null,null,null,null,null,null,null,null,null,null,null,null,null,null,null,null,null,null,null,null,null,null,null,null,null,null,null,null,null,null,null,null,null,null,null,null,null,null,null,null,null,null,null,null,null,null,null,null,null,null,null,null,null,null,null,null,null,null,null,null,null,null,null,null,null,null,null,null,null,null,null,null,null,null,"S94","RES"]
[null,{"$f":"Parameters!Q86","v":"S95"},null,{"$f":"Parameters!S86","v":"Repair of computers and personal and household goods"},null,null,null,null,null,null,null,null,null,null,null,null,null,null,null,null,null,null,null,null,null,null,null,null,null,null,null,null,null,null,null,null,null,null,null,null,null,null,null,null,null,null,null,null,null,null,null,null,null,null,null,null,null,null,null,null,null,null,null,null,null,null,null,null,null,null,null,null,null,null,null,null,null,null,null,null,null,null,null,null,null,null,null,null,null,null,"S95","RES"]
[null,{"$f":"Parameters!Q87","v":"S96"},null,{"$f":"Parameters!S87","v":"Other personal service activities"},null,null,null,null,null,null,null,null,null,null,null,null,null,null,null,null,null,null,null,null,null,null,null,null,null,null,null,null,null,null,null,null,null,null,null,null,null,null,null,null,null,null,null,null,null,null,null,null,null,null,null,null,null,null,null,null,null,null,null,null,null,null,null,null,null,null,null,null,null,null,null,null,null,null,null,null,null,null,null,null,null,null,null,null,null,null,"S96","RES"]
[null,{"$f":"Parameters!Q88","v":"T"},null,{"$f":"Parameters!S88","v":"Activities of households as employers; undifferentiated goods- and services-producing activities of households for own use"},null,null,null,null,null,null,null,null,null,null,null,null,null,null,null,null,null,null,null,null,null,null,null,null,null,null,null,null,null,null,null,null,null,null,null,null,null,null,null,null,null,null,null,null,null,null,null,null,null,null,null,null,null,null,null,null,null,null,null,null,null,null,null,null,null,null,null,null,null,null,null,null,null,null,null,null,null,null,null,null,null,null,null,null,null,null,"T","RES"]
[null,{"$f":"Parameters!Q89","v":"U"},null,{"$f":"Parameters!S89","v":"Activities of extraterritorial organisations and bodies"},null,null,null,null,null,null,null,null,null,null,null,null,null,null,null,null,null,null,null,null,null,null,null,null,null,null,null,null,null,null,null,null,null,null,null,null,null,null,null,null,null,null,null,null,null,null,null,null,null,null,null,null,null,null,null,null,null,null,null,null,null,null,null,null,null,null,null,null,null,null,null,null,null,null,null,null,null,null,null,null,null,null,null,null,null,null,"U","RES"]
[null,"   Household air emissions\n                                          Households, totals",null,null,null,null,null,null,null,null,null,null,null,null,null,null,null,null,null,null,null,null,null,null,null,null,null,null,null,null,null,null,null,null,null,null,null,null,null,null,null,null,null,null,null,null,null,null,null,null,null,null,null,null,null,null,null,null,null,null,null,null,null,null,null,null,null,null,null,null,null,null,null,null,null,null,null,null,null,null,null,null,null,null,null,null,null,null,null,null,"HH","RES"]
[null,null,null,"- Transport",null,null,null,null,null,null,null,null,null,null,null,null,null,null,null,null,null,null,null,null,null,null,null,null,null,null,null,null,null,null,null,null,null,null,null,null,null,null,null,null,null,null,null,null,null,null,null,null,null,null,null,null,null,null,null,null,null,null,null,null,null,null,null,null,null,null,null,null,null,null,null,null,null,null,null,null,null,null,null,null,null,null,null,null,null,null,"HH_TR","RES"]
[null,null,null,"- Heating/cooling",null,null,null,null,null,null,null,null,null,null,null,null,null,null,null,null,null,null,null,null,null,null,null,null,null,null,null,null,null,null,null,null,null,null,null,null,null,null,null,null,null,null,null,null,null,null,null,null,null,null,null,null,null,null,null,null,null,null,null,null,null,null,null,null,null,null,null,null,null,null,null,null,null,null,null,null,null,null,null,null,null,null,null,null,null,null,"HH_HEAT","RES"]
[null,null,null,"- Other",null,null,null,null,null,null,null,null,null,null,null,null,null,null,null,null,null,null,null,null,null,null,null,null,null,null,null,null,null,null,null,null,null,null,null,null,null,null,null,null,null,null,null,null,null,null,null,null,null,null,null,null,null,null,null,null,null,null,null,null,null,null,null,null,null,null,null,null,null,null,null,null,null,null,null,null,null,null,null,null,null,null,null,null,null,null,"HH_OTH","RES"]
[null,"   Bridging items\n\n1                              Total Air emissions accounts (industry (row 5) + households (row 91))",null,null,null,null,null,null,null,null,null,null,null,null,null,null,null,null,null,null,null,null,null,null,null,null,null,null,null,null,null,null,null,null,null,null,null,null,null,null,null,null,null,null,null,null,null,null,null,null,null,null,null,null,null,null,null,null,null,null,null,null,null,null,null,null,null,null,null,null,null,null,null,null,null,null,null,null,null,null,null,null,null,null,null,null,null,null,null,null,"ATU_HH","RES"]
[null,2,null,"less National residents abroad",null,null,null,null,null,null,null,null,null,null,null,null,null,null,null,null,null,null,null,null,null,null,null,null,null,null,null,null,null,null,null,null,null,null,null,null,null,null,null,null,null,null,null,null,null,null,null,null,null,null,null,null,null,null,null,null,null,null,null,null,null,null,null,null,null,null,null,null,null,null,null,null,null,null,null,null,null,null,null,null,null,null,null,null,null,null,"ATU_HH","RES_ABR"]
[null,2.1,null,"-  National fishing vessels operating abroad",null,null,null,null,null,null,null,null,null,null,null,null,null,null,null,null,null,null,null,null,null,null,null,null,null,null,null,null,null,null,null,null,null,null,null,null,null,null,null,null,null,null,null,null,null,null,null,null,null,null,null,null,null,null,null,null,null,null,null,null,null,null,null,null,null,null,null,null,null,null,null,null,null,null,null,null,null,null,null,null,null,null,null,null,null,null,"ATU_HH","RES_ABR_FWTR"]
[null,2.2000000000000002,null,"-  Land transport",null,null,null,null,null,null,null,null,null,null,null,null,null,null,null,null,null,null,null,null,null,null,null,null,null,null,null,null,null,null,null,null,null,null,null,null,null,null,null,null,null,null,null,null,null,null,null,null,null,null,null,null,null,null,null,null,null,null,null,null,null,null,null,null,null,null,null,null,null,null,null,null,null,null,null,null,null,null,null,null,null,null,null,null,null,null,"ATU_HH","RES_ABR_LTR"]
[null,2.2999999999999998,null,"-  Water transport",null,null,null,null,null,null,null,null,null,null,null,null,null,null,null,null,null,null,null,null,null,null,null,null,null,null,null,null,null,null,null,null,null,null,null,null,null,null,null,null,null,null,null,null,null,null,null,null,null,null,null,null,null,null,null,null,null,null,null,null,null,null,null,null,null,null,null,null,null,null,null,null,null,null,null,null,null,null,null,null,null,null,null,null,null,null,"ATU_HH","RES_ABR_WTR"]
[null,2.4,null,"-  Air transport",null,null,null,null,null,null,null,null,null,null,null,null,null,null,null,null,null,null,null,null,null,null,null,null,null,null,null,null,null,null,null,null,null,null,null,null,null,null,null,null,null,null,null,null,null,null,null,null,null,null,null,null,null,null,null,null,null,null,null,null,null,null,null,null,null,null,null,null,null,null,null,null,null,null,null,null,null,null,null,null,null,null,null,null,null,null,"ATU_HH","RES_ABR_ATR"]
[null,3,null,"plus Non-residents on the territory",null,null,null,null,null,null,null,null,null,null,null,null,null,null,null,null,null,null,null,null,null,null,null,null,null,null,null,null,null,null,null,null,null,null,null,null,null,null,null,null,null,null,null,null,null,null,null,null,null,null,null,null,null,null,null,null,null,null,null,null,null,null,null,null,null,null,null,null,null,null,null,null,null,null,null,null,null,null,null,null,null,null,null,null,null,null,"ATU_HH","TER_NRES"]
[null,3.1,null,"+  Land transport",null,null,null,null,null,null,null,null,null,null,null,null,null,null,null,null,null,null,null,null,null,null,null,null,null,null,null,null,null,null,null,null,null,null,null,null,null,null,null,null,null,null,null,null,null,null,null,null,null,null,null,null,null,null,null,null,null,null,null,null,null,null,null,null,null,null,null,null,null,null,null,null,null,null,null,null,null,null,null,null,null,null,null,null,null,null,"ATU_HH","TER_NRES_LTR"]
[null,3.2,null,"+ Water transport",null,null,null,null,null,null,null,null,null,null,null,null,null,null,null,null,null,null,null,null,null,null,null,null,null,null,null,null,null,null,null,null,null,null,null,null,null,null,null,null,null,null,null,null,null,null,null,null,null,null,null,null,null,null,null,null,null,null,null,null,null,null,null,null,null,null,null,null,null,null,null,null,null,null,null,null,null,null,null,null,null,null,null,null,null,null,"ATU_HH","TER_NRES_WTR"]
[null,3.3,null,"+  Air transport",null,null,null,null,null,null,null,null,null,null,null,null,null,null,null,null,null,null,null,null,null,null,null,null,null,null,null,null,null,null,null,null,null,null,null,null,null,null,null,null,null,null,null,null,null,null,null,null,null,null,null,null,null,null,null,null,null,null,null,null,null,null,null,null,null,null,null,null,null,null,null,null,null,null,null,null,null,null,null,null,null,null,null,null,null,null,"ATU_HH","TER_NRES_ATR"]
[null,4,null,"Other adjustments and statistical discrepancy",null,null,null,null,null,null,null,null,null,null,null,null,null,null,null,null,null,null,null,null,null,null,null,null,null,null,null,null,null,null,null,null,null,null,null,null,null,null,null,null,null,null,null,null,null,null,null,null,null,null,null,null,null,null,null,null,null,null,null,null,null,null,null,null,null,null,null,null,null,null,null,null,null,null,null,null,null,null,null,null,null,null,null,null,null,null,"ATU_HH","ADJ_SD"]
[null,5,null,"Road transport emissions (NFR 1.A.3.b) as reported to CLRTAP (Annex 1)",null,null,null,null,null,null,null,null,null,null,null,null,null,null,null,null,null,null,null,null,null,null,null,null,null,null,null,null,null,null,null,null,null,null,null,null,null,null,null,null,null,null,null,null,null,null,null,null,null,null,null,null,null,null,null,null,null,null,null,null,null,null,null,null,null,null,null,null,null,null,null,null,null,null,null,null,null,null,null,null,null,null,null,null,null,null,"ATU_HH","TER"]
[null,null,null,"Year of submission to CLRTAP"]
[]
[null,"Explanatory notes for bridging items:"]
[null,1,"Total Air emissions accounts (industry (row 5) + households (row 91)) - residence principle"]
[]
[null,2.1,"Fishing vessels operated by resident units bunkering outside of the reporting country"]
[null,2.2000000000000002,"Land transport (incl. rail) by resident units fuelling outside of the reporting country"]
[null,2.2999999999999998,"Any navigation by resident units bunkering at ports outside of the reporting country and international navigation by resident units bunkering at ports of the reporting country"]
[null,2.4,"Any aviation by resident units bunkering at airports outside of the reporting country and any cruise aviation by resident units bunkering at airports of the reporting country"]
[]
[null,3.1,"Land transport (incl. rail) by non-resident units fuelling on the territory of the reporting country"]
[null,3.2,"National and international inland waterways navigation by non-residents bunkering at ports of the reporting country"]
[null,3.3,"LTO (landing and take off) aviation by non-residents bunkering at  airports of the reporting country"]
[]
[null,5,"National totals in CLRTAP inventories include all LTO aviation departing from domestic airports - territory principle"]
[null,null,"National totals in CLRTAP inventories include all national and international inland waterways navigation for which the fuel is bunkered in ports of the reporting country - territory principle"]

{"sheet":"PM2.5","index":28,"n_rows":122,"n_cols":98,"rows_kept":122,"cut":false,"hidden":false,"merged":[[0,96,2,96],[0,97,2,97],[0,90,2,90],[0,91,2,91],[0,92,2,92],[0,93,2,93],[0,94,2,94],[0,95,2,95],[103,3,103,4],[80,3,80,4],[81,3,81,4],[82,3,82,4],[83,3,83,4],[84,3,84,4],[73,3,73,4],[74,3,74,4],[75,3,75,4],[76,3,76,4],[77,3,77,4],[78,3,78,4],[67,3,67,4],[68,3,68,4],[69,3,69,4],[70,3,70,4],[104,3,104,4],[105,3,105,4],[106,3,106,4],[0,87,2,87],[0,89,2,89],[97,3,97,4],[98,3,98,4],[99,3,99,4],[100,3,100,4],[101,3,101,4],[102,3,102,4],[91,3,91,4],[92,3,92,4],[93,3,93,4],[94,1,94,4],[95,3,95,4],[96,3,96,4],[85,3,85,4],[86,3,86,4],[87,3,87,4],[88,3,88,4],[89,3,89,4],[90,1,90,4],[79,3,79,4],[71,3,71,4],[72,3,72,4],[61,3,61,4],[62,3,62,4],[63,3,63,4],[64,3,64,4],[65,3,65,4],[66,3,66,4],[55,3,55,4],[56,3,56,4],[57,3,57,4],[58,3,58,4],[59,3,59,4],[60,3,60,4],[49,3,49,4],[50,3,50,4],[51,3,51,4],[52,3,52,4],[53,3,53,4],[54,3,54,4],[43,3,43,4],[44,3,44,4],[45,3,45,4],[46,3,46,4],[47,3,47,4],[48,3,48,4],[37,3,37,4],[38,3,38,4],[39,3,39,4],[40,3,40,4],[41,3,41,4],[42,3,42,4],[31,3,31,4],[32,3,32,4],[33,3,33,4],[34,3,34,4],[35,3,35,4],[36,3,36,4],[25,3,25,4],[26,3,26,4],[27,3,27,4],[28,3,28,4],[29,3,29,4],[30,3,30,4],[19,3,19,4],[20,3,20,4],[21,3,21,4],[22,3,22,4],[23,3,23,4],[24,3,24,4],[0,5,2,6],[0,7,2,8],[0,9,2,10],[13,3,13,4],[14,3,14,4],[15,3,15,4],[16,3,16,4],[17,3,17,4],[18,3,18,4],[7,3,7,4],[8,3,8,4],[9,3,9,4],[10,3,10,4],[11,3,11,4],[12,3,12,4],[0,88,2,88],[0,11,2,12],[0,13,2,14],[2,47,2,48],[3,1,3,4],[4,1,4,2],[4,3,4,4],[5,3,5,4],[6,3,6,4],[0,27,2,28],[0,29,2,30],[0,31,2,32],[0,33,2,34],[0,35,2,36],[1,1,1,2],[2,1,2,2],[2,3,2,4],[0,15,2,16],[0,17,2,18],[0,19,2,20],[0,21,2,22],[0,23,2,24],[0,25,2,26],[0,1,0,2]]}
["DATAENTRY","Country:",null,{"$f":"intro!F7","v":""},null,null,null,null,null,null,null,null,null,null,null,null,null,null,null,null,null,null,null,null,null,null,null,null,null,null,null,null,null,null,null,null,null,null,null,null,null,null,null,null,null,null,null,null,null,null,null,null,null,null,null,null,null,null,null,null,null,null,null,null,null,null,null,null,null,null,null,null,null,null,null,null,null,null,null,null,null,null,null,null,null,null,null,"DEMAND_PROD","ACCOUNTING_ENTRY","COUNTERPART_AREA","INTERACTORS","BRIDGE_ITEM","AIRPOL","STO","UNIT_MEASURE","UNIT_MULT","PRODUCT","SECTOR"]
[null,"Air Pollutant",null,"PM2_5","Particulate matter\n(less than or equal to a nominal 2.5 microns)"]
["T","Unit","Million National Currency","tonnes (Mg)"]
[null,"Air emissions by industry",null,null,null,1995,null,1996,null,1997,null,1998,null,1999,null,2000,null,2001,null,2002,null,2003,null,2004,null,2005,null,2006,null,2007,null,2008,null,2009,null,2010,null,2011,null,2012,null,2013,null,2014,null,2015,null,2016,null,2017,null,2018,null,2019,null,2020,null,2021,null,2022,null,2023,null,2024]
[null,{"$f":"Parameters!Q4","v":"A_U   01-99"},null,{"$f":"Parameters!S4","v":"Total industries"},null,null,null,null,null,null,null,null,null,null,null,null,null,null,null,null,null,null,null,null,null,null,null,null,null,null,null,null,null,null,null,null,null,null,null,null,null,null,null,null,null,null,null,null,null,null,null,null,null,null,null,null,null,null,null,null,null,null,null,null,null,null,null,null,null,null,null,null,null,null,null,null,null,null,null,null,null,null,null,null,null,null,null,"P","EC","W2","ATU","RES","PM2_5","_Z","TN",0,"_T","S1"]
[null,{"$f":"Parameters!Q5","v":"A"},null,{"$f":"Parameters!S5","v":"Agriculture, forestry and fishing"},null,null,null,null,null,null,null,null,null,null,null,null,null,null,null,null,null,null,null,null,null,null,null,null,null,null,null,null,null,null,null,null,null,null,null,null,null,null,null,null,null,null,null,null,null,null,null,null,null,null,null,null,null,null,null,null,null,null,null,null,null,null,null,null,null,null,null,null,null,null,null,null,null,null,null,null,null,null,null,null,null,null,null,null,null,null,"A","RES"]
[null,{"$f":"Parameters!Q6","v":"A01"},null,{"$f":"Parameters!S6","v":"Crop and animal production, hunting and related service activities"},null,null,null,null,null,null,null,null,null,null,null,null,null,null,null,null,null,null,null,null,null,null,null,null,null,null,null,null,null,null,null,null,null,null,null,null,null,null,null,null,null,null,null,null,null,null,null,null,null,null,null,null,null,null,null,null,null,null,null,null,null,null,null,null,null,null,null,null,null,null,null,null,null,null,null,null,null,null,null,null,null,null,null,null,null,null,"A01","RES"]
[null,{"$f":"Parameters!Q7","v":"A02"},null,{"$f":"Parameters!S7","v":"Forestry and logging"},null,null,null,null,null,null,null,null,null,null,null,null,null,null,null,null,null,null,null,null,null,null,null,null,null,null,null,null,null,null,null,null,null,null,null,null,null,null,null,null,null,null,null,null,null,null,null,null,null,null,null,null,null,null,null,null,null,null,null,null,null,null,null,null,null,null,null,null,null,null,null,null,null,null,null,null,null,null,null,null,null,null,null,null,null,null,"A02","RES"]
[null,{"$f":"Parameters!Q8","v":"A03"},null,{"$f":"Parameters!S8","v":"Fishing and aquaculture"},null,null,null,null,null,null,null,null,null,null,null,null,null,null,null,null,null,null,null,null,null,null,null,null,null,null,null,null,null,null,null,null,null,null,null,null,null,null,null,null,null,null,null,null,null,null,null,null,null,null,null,null,null,null,null,null,null,null,null,null,null,null,null,null,null,null,null,null,null,null,null,null,null,null,null,null,null,null,null,null,null,null,null,null,null,null,"A03","RES"]
[null,{"$f":"Parameters!Q9","v":"B"},null,{"$f":"Parameters!S9","v":"Mining and quarrying"},null,null,null,null,null,null,null,null,null,null,null,null,null,null,null,null,null,null,null,null,null,null,null,null,null,null,null,null,null,null,null,null,null,null,null,null,null,null,null,null,null,null,null,null,null,null,null,null,null,null,null,null,null,null,null,null,null,null,null,null,null,null,null,null,null,null,null,null,null,null,null,null,null,null,null,null,null,null,null,null,null,null,null,null,null,null,"B","RES"]
[null,{"$f":"Parameters!Q10","v":"C"},null,{"$f":"Parameters!S10","v":"Manufacturing"},null,null,null,null,null,null,null,null,null,null,null,null,null,null,null,null,null,null,null,null,null,null,null,null,null,null,null,null,null,null,null,null,null,null,null,null,null,null,null,null,null,null,null,null,null,null,null,null,null,null,null,null,null,null,null,null,null,null,null,null,null,null,null,null,null,null,null,null,null,null,null,null,null,null,null,null,null,null,null,null,null,null,null,null,null,null,"C","RES"]
[null,{"$f":"Parameters!Q11","v":"C10-C12"},null,{"$f":"Parameters!S11","v":"Manufacture of food products, beverages and tobacco\nproducts"},null,null,null,null,null,null,null,null,null,null,null,null,null,null,null,null,null,null,null,null,null,null,null,null,null,null,null,null,null,null,null,null,null,null,null,null,null,null,null,null,null,null,null,null,null,null,null,null,null,null,null,null,null,null,null,null,null,null,null,null,null,null,null,null,null,null,null,null,null,null,null,null,null,null,null,null,null,null,null,null,null,null,null,null,null,null,"C10T12","RES"]
[null,{"$f":"Parameters!Q12","v":"C13-C15"},null,{"$f":"Parameters!S12","v":"Manufacture of textiles, wearing apparel and leather products"},null,null,null,null,null,null,null,null,null,null,null,null,null,null,null,null,null,null,null,null,null,null,null,null,null,null,null,null,null,null,null,null,null,null,null,null,null,null,null,null,null,null,null,null,null,null,null,null,null,null,null,null,null,null,null,null,null,null,null,null,null,null,null,null,null,null,null,null,null,null,null,null,null,null,null,null,null,null,null,null,null,null,null,null,null,null,"C13T15","RES"]
[null,{"$f":"Parameters!Q13","v":"C16-C18"},null,{"$f":"Parameters!S13","v":"Manufacture of wood, paper, printing and reproduction"}]
[null,{"$f":"Parameters!Q14","v":"C16"},null,{"$f":"Parameters!S14","v":"Manufacture of wood and of products of wood and cork, except furniture; manufacture of articles of straw and plaiting materials"},null,null,null,null,null,null,null,null,null,null,null,null,null,null,null,null,null,null,null,null,null,null,null,null,null,null,null,null,null,null,null,null,null,null,null,null,null,null,null,null,null,null,null,null,null,null,null,null,null,null,null,null,null,null,null,null,null,null,null,null,null,null,null,null,null,null,null,null,null,null,null,null,null,null,null,null,null,null,null,null,null,null,null,null,null,null,"C16","RES"]
[null,{"$f":"Parameters!Q15","v":"C17"},null,{"$f":"Parameters!S15","v":"Manufacture of paper and paper products"},null,null,null,null,null,null,null,null,null,null,null,null,null,null,null,null,null,null,null,null,null,null,null,null,null,null,null,null,null,null,null,null,null,null,null,null,null,null,null,null,null,null,null,null,null,null,null,null,null,null,null,null,null,null,null,null,null,null,null,null,null,null,null,null,null,null,null,null,null,null,null,null,null,null,null,null,null,null,null,null,null,null,null,null,null,null,"C17","RES"]
[null,{"$f":"Parameters!Q16","v":"C18"},null,{"$f":"Parameters!S16","v":"Printing and reproduction of recorded media"},null,null,null,null,null,null,null,null,null,null,null,null,null,null,null,null,null,null,null,null,null,null,null,null,null,null,null,null,null,null,null,null,null,null,null,null,null,null,null,null,null,null,null,null,null,null,null,null,null,null,null,null,null,null,null,null,null,null,null,null,null,null,null,null,null,null,null,null,null,null,null,null,null,null,null,null,null,null,null,null,null,null,null,null,null,null,"C18","RES"]
[null,{"$f":"Parameters!Q17","v":"C19"},null,{"$f":"Parameters!S17","v":"Manufacture of coke and refined petroleum products"},null,null,null,null,null,null,null,null,null,null,null,null,null,null,null,null,null,null,null,null,null,null,null,null,null,null,null,null,null,null,null,null,null,null,null,null,null,null,null,null,null,null,null,null,null,null,null,null,null,null,null,null,null,null,null,null,null,null,null,null,null,null,null,null,null,null,null,null,null,null,null,null,null,null,null,null,null,null,null,null,null,null,null,null,null,null,"C19","RES"]
[null,{"$f":"Parameters!Q18","v":"C20"},null,{"$f":"Parameters!S18","v":"Manufacture of chemicals and chemical products"},null,null,null,null,null,null,null,null,null,null,null,null,null,null,null,null,null,null,null,null,null,null,null,null,null,null,null,null,null,null,null,null,null,null,null,null,null,null,null,null,null,null,null,null,null,null,null,null,null,null,null,null,null,null,null,null,null,null,null,null,null,null,null,null,null,null,null,null,null,null,null,null,null,null,null,null,null,null,null,null,null,null,null,null,null,null,"C20","RES"]
[null,{"$f":"Parameters!Q19","v":"C21"},null,{"$f":"Parameters!S19","v":"Manufacture of basic pharmaceutical products and pharmaceutical preparations"},null,null,null,null,null,null,null,null,null,null,null,null,null,null,null,null,null,null,null,null,null,null,null,null,null,null,null,null,null,null,null,null,null,null,null,null,null,null,null,null,null,null,null,null,null,null,null,null,null,null,null,null,null,null,null,null,null,null,null,null,null,null,null,null,null,null,null,null,null,null,null,null,null,null,null,null,null,null,null,null,null,null,null,null,null,null,"C21","RES"]
[null,{"$f":"Parameters!Q20","v":"C22_C23"},null,{"$f":"Parameters!S20","v":"Manufacture of rubber and plastic products and other non-metallic mineral products"}]
[null,{"$f":"Parameters!Q21","v":"C22"},null,{"$f":"Parameters!S21","v":"Manufacture of rubber and plastic products"},null,null,null,null,null,null,null,null,null,null,null,null,null,null,null,null,null,null,null,null,null,null,null,null,null,null,null,null,null,null,null,null,null,null,null,null,null,null,null,null,null,null,null,null,null,null,null,null,null,null,null,null,null,null,null,null,null,null,null,null,null,null,null,null,null,null,null,null,null,null,null,null,null,null,null,null,null,null,null,null,null,null,null,null,null,null,"C22","RES"]
[null,{"$f":"Parameters!Q22","v":"C23"},null,{"$f":"Parameters!S22","v":"Manufacture of other non-metallic mineral products"},null,null,null,null,null,null,null,null,null,null,null,null,null,null,null,null,null,null,null,null,null,null,null,null,null,null,null,null,null,null,null,null,null,null,null,null,null,null,null,null,null,null,null,null,null,null,null,null,null,null,null,null,null,null,null,null,null,null,null,null,null,null,null,null,null,null,null,null,null,null,null,null,null,null,null,null,null,null,null,null,null,null,null,null,null,null,"C23","RES"]
[null,{"$f":"Parameters!Q23","v":"C24_C25"},null,{"$f":"Parameters!S23","v":"Manufacture of basic metals and fabricated metal products, except machinery and equipment"}]
[null,{"$f":"Parameters!Q24","v":"C24"},null,{"$f":"Parameters!S24","v":"Manufacture of basic metals"},null,null,null,null,null,null,null,null,null,null,null,null,null,null,null,null,null,null,null,null,null,null,null,null,null,null,null,null,null,null,null,null,null,null,null,null,null,null,null,null,null,null,null,null,null,null,null,null,null,null,null,null,null,null,null,null,null,null,null,null,null,null,null,null,null,null,null,null,null,null,null,null,null,null,null,null,null,null,null,null,null,null,null,null,null,null,"C24","RES"]
[null,{"$f":"Parameters!Q25","v":"C25"},null,{"$f":"Parameters!S25","v":"Manufacture of fabricated metal products, except machinery and equipment"},null,null,null,null,null,null,null,null,null,null,null,null,null,null,null,null,null,null,null,null,null,null,null,null,null,null,null,null,null,null,null,null,null,null,null,null,null,null,null,null,null,null,null,null,null,null,null,null,null,null,null,null,null,null,null,null,null,null,null,null,null,null,null,null,null,null,null,null,null,null,null,null,null,null,null,null,null,null,null,null,null,null,null,null,null,null,"C25","RES"]
[null,{"$f":"Parameters!Q26","v":"C26"},null,{"$f":"Parameters!S26","v":"Manufacture of computer, electronic and optical products"},null,null,null,null,null,null,null,null,null,null,null,null,null,null,null,null,null,null,null,null,null,null,null,null,null,null,null,null,null,null,null,null,null,null,null,null,null,null,null,null,null,null,null,null,null,null,null,null,null,null,null,null,null,null,null,null,null,null,null,null,null,null,null,null,null,null,null,null,null,null,null,null,null,null,null,null,null,null,null,null,null,null,null,null,null,null,"C26","RES"]
[null,{"$f":"Parameters!Q27","v":"C27"},null,{"$f":"Parameters!S27","v":"Manufacture of electrical equipment"},null,null,null,null,null,null,null,null,null,null,null,null,null,null,null,null,null,null,null,null,null,null,null,null,null,null,null,null,null,null,null,null,null,null,null,null,null,null,null,null,null,null,null,null,null,null,null,null,null,null,null,null,null,null,null,null,null,null,null,null,null,null,null,null,null,null,null,null,null,null,null,null,null,null,null,null,null,null,null,null,null,null,null,null,null,null,"C27","RES"]
[null,{"$f":"Parameters!Q28","v":"C28"},null,{"$f":"Parameters!S28","v":"Manufacture of machinery and equipment n.e.c."},null,null,null,null,null,null,null,null,null,null,null,null,null,null,null,null,null,null,null,null,null,null,null,null,null,null,null,null,null,null,null,null,null,null,null,null,null,null,null,null,null,null,null,null,null,null,null,null,null,null,null,null,null,null,null,null,null,null,null,null,null,null,null,null,null,null,null,null,null,null,null,null,null,null,null,null,null,null,null,null,null,null,null,null,null,null,"C28","RES"]
[null,{"$f":"Parameters!Q29","v":"C29_C30"},null,{"$f":"Parameters!S29","v":"Manufacture of motor vehicles, trailers, semi-trailers and of other transport equipment"}]
[null,{"$f":"Parameters!Q30","v":"C29"},null,{"$f":"Parameters!S30","v":"Manufacture of motor vehicles, trailers and semi-trailers"},null,null,null,null,null,null,null,null,null,null,null,null,null,null,null,null,null,null,null,null,null,null,null,null,null,null,null,null,null,null,null,null,null,null,null,null,null,null,null,null,null,null,null,null,null,null,null,null,null,null,null,null,null,null,null,null,null,null,null,null,null,null,null,null,null,null,null,null,null,null,null,null,null,null,null,null,null,null,null,null,null,null,null,null,null,null,"C29","RES"]
[null,{"$f":"Parameters!Q31","v":"C30"},null,{"$f":"Parameters!S31","v":"Manufacture of other transport equipment"},null,null,null,null,null,null,null,null,null,null,null,null,null,null,null,null,null,null,null,null,null,null,null,null,null,null,null,null,null,null,null,null,null,null,null,null,null,null,null,null,null,null,null,null,null,null,null,null,null,null,null,null,null,null,null,null,null,null,null,null,null,null,null,null,null,null,null,null,null,null,null,null,null,null,null,null,null,null,null,null,null,null,null,null,null,null,"C30","RES"]
[null,{"$f":"Parameters!Q32","v":"C31-C33"},null,{"$f":"Parameters!S32","v":"Manufacture of furniture; jewellery, musical instruments, toys; repair and installation of machinery and equipment"}]
[null,{"$f":"Parameters!Q33","v":"C31_C32"},null,{"$f":"Parameters!S33","v":"Manufacture of furniture; other manufacturing"},null,null,null,null,null,null,null,null,null,null,null,null,null,null,null,null,null,null,null,null,null,null,null,null,null,null,null,null,null,null,null,null,null,null,null,null,null,null,null,null,null,null,null,null,null,null,null,null,null,null,null,null,null,null,null,null,null,null,null,null,null,null,null,null,null,null,null,null,null,null,null,null,null,null,null,null,null,null,null,null,null,null,null,null,null,null,"C31_32","RES"]
[null,{"$f":"Parameters!Q34","v":"C33"},null,{"$f":"Parameters!S34","v":"Repair and installation of machinery and equipment"},null,null,null,null,null,null,null,null,null,null,null,null,null,null,null,null,null,null,null,null,null,null,null,null,null,null,null,null,null,null,null,null,null,null,null,null,null,null,null,null,null,null,null,null,null,null,null,null,null,null,null,null,null,null,null,null,null,null,null,null,null,null,null,null,null,null,null,null,null,null,null,null,null,null,null,null,null,null,null,null,null,null,null,null,null,null,"C33","RES"]
[null,{"$f":"Parameters!Q35","v":"D"},null,{"$f":"Parameters!S35","v":"Electricity, gas, steam and air conditioning supply"},null,null,null,null,null,null,null,null,null,null,null,null,null,null,null,null,null,null,null,null,null,null,null,null,null,null,null,null,null,null,null,null,null,null,null,null,null,null,null,null,null,null,null,null,null,null,null,null,null,null,null,null,null,null,null,null,null,null,null,null,null,null,null,null,null,null,null,null,null,null,null,null,null,null,null,null,null,null,null,null,null,null,null,null,null,null,"D","RES"]
[null,{"$f":"Parameters!Q36","v":"E"},null,{"$f":"Parameters!S36","v":"Water supply; sewerage, waste management and remediation activities"},null,null,null,null,null,null,null,null,null,null,null,null,null,null,null,null,null,null,null,null,null,null,null,null,null,null,null,null,null,null,null,null,null,null,null,null,null,null,null,null,null,null,null,null,null,null,null,null,null,null,null,null,null,null,null,null,null,null,null,null,null,null,null,null,null,null,null,null,null,null,null,null,null,null,null,null,null,null,null,null,null,null,null,null,null,null,"E","RES"]
[null,{"$f":"Parameters!Q37","v":"E36"},null,{"$f":"Parameters!S37","v":"Water collection, treatment and supply"},null,null,null,null,null,null,null,null,null,null,null,null,null,null,null,null,null,null,null,null,null,null,null,null,null,null,null,null,null,null,null,null,null,null,null,null,null,null,null,null,null,null,null,null,null,null,null,null,null,null,null,null,null,null,null,null,null,null,null,null,null,null,null,null,null,null,null,null,null,null,null,null,null,null,null,null,null,null,null,null,null,null,null,null,null,null,"E36","RES"]
[null,{"$f":"Parameters!Q38","v":"E37-E39"},null,{"$f":"Parameters!S38","v":"Sewerage, waste management, remediation activities"},null,null,null,null,null,null,null,null,null,null,null,null,null,null,null,null,null,null,null,null,null,null,null,null,null,null,null,null,null,null,null,null,null,null,null,null,null,null,null,null,null,null,null,null,null,null,null,null,null,null,null,null,null,null,null,null,null,null,null,null,null,null,null,null,null,null,null,null,null,null,null,null,null,null,null,null,null,null,null,null,null,null,null,null,null,null,"E37T39","RES"]
[null,{"$f":"Parameters!Q39","v":"F"},null,{"$f":"Parameters!S39","v":"Construction"},null,null,null,null,null,null,null,null,null,null,null,null,null,null,null,null,null,null,null,null,null,null,null,null,null,null,null,null,null,null,null,null,null,null,null,null,null,null,null,null,null,null,null,null,null,null,null,null,null,null,null,null,null,null,null,null,null,null,null,null,null,null,null,null,null,null,null,null,null,null,null,null,null,null,null,null,null,null,null,null,null,null,null,null,null,null,"F","RES"]
[null,{"$f":"Parameters!Q40","v":"G"},null,{"$f":"Parameters!S40","v":"Wholesale and retail trade; repair of motor vehicles and motorcycles"},null,null,null,null,null,null,null,null,null,null,null,null,null,null,null,null,null,null,null,null,null,null,null,null,null,null,null,null,null,null,null,null,null,null,null,null,null,null,null,null,null,null,null,null,null,null,null,null,null,null,null,null,null,null,null,null,null,null,null,null,null,null,null,null,null,null,null,null,null,null,null,null,null,null,null,null,null,null,null,null,null,null,null,null,null,null,"G","RES"]
[null,{"$f":"Parameters!Q41","v":"G45"},null,{"$f":"Parameters!S41","v":"Wholesale and retail trade and repair of motor vehicles and motorcycles"},null,null,null,null,null,null,null,null,null,null,null,null,null,null,null,null,null,null,null,null,null,null,null,null,null,null,null,null,null,null,null,null,null,null,null,null,null,null,null,null,null,null,null,null,null,null,null,null,null,null,null,null,null,null,null,null,null,null,null,null,null,null,null,null,null,null,null,null,null,null,null,null,null,null,null,null,null,null,null,null,null,null,null,null,null,null,"G45","RES"]
[null,{"$f":"Parameters!Q42","v":"G46"},null,{"$f":"Parameters!S42","v":"Wholesale trade, except of motor vehicles and motorcycles"},null,null,null,null,null,null,null,null,null,null,null,null,null,null,null,null,null,null,null,null,null,null,null,null,null,null,null,null,null,null,null,null,null,null,null,null,null,null,null,null,null,null,null,null,null,null,null,null,null,null,null,null,null,null,null,null,null,null,null,null,null,null,null,null,null,null,null,null,null,null,null,null,null,null,null,null,null,null,null,null,null,null,null,null,null,null,"G46","RES"]
[null,{"$f":"Parameters!Q43","v":"G47"},null,{"$f":"Parameters!S43","v":"Retail trade, except of motor vehicles and motorcycles"},null,null,null,null,null,null,null,null,null,null,null,null,null,null,null,null,null,null,null,null,null,null,null,null,null,null,null,null,null,null,null,null,null,null,null,null,null,null,null,null,null,null,null,null,null,null,null,null,null,null,null,null,null,null,null,null,null,null,null,null,null,null,null,null,null,null,null,null,null,null,null,null,null,null,null,null,null,null,null,null,null,null,null,null,null,null,"G47","RES"]
[null,{"$f":"Parameters!Q44","v":"H"},null,{"$f":"Parameters!S44","v":"Transportation and storage"},null,null,null,null,null,null,null,null,null,null,null,null,null,null,null,null,null,null,null,null,null,null,null,null,null,null,null,null,null,null,null,null,null,null,null,null,null,null,null,null,null,null,null,null,null,null,null,null,null,null,null,null,null,null,null,null,null,null,null,null,null,null,null,null,null,null,null,null,null,null,null,null,null,null,null,null,null,null,null,null,null,null,null,null,null,null,"H","RES"]
[null,{"$f":"Parameters!Q45","v":"H49"},null,{"$f":"Parameters!S45","v":"Land transport and transport via pipelines"},null,null,null,null,null,null,null,null,null,null,null,null,null,null,null,null,null,null,null,null,null,null,null,null,null,null,null,null,null,null,null,null,null,null,null,null,null,null,null,null,null,null,null,null,null,null,null,null,null,null,null,null,null,null,null,null,null,null,null,null,null,null,null,null,null,null,null,null,null,null,null,null,null,null,null,null,null,null,null,null,null,null,null,null,null,null,"H49","RES"]
[null,{"$f":"Parameters!Q46","v":"H50"},null,{"$f":"Parameters!S46","v":"Water transport"},null,null,null,null,null,null,null,null,null,null,null,null,null,null,null,null,null,null,null,null,null,null,null,null,null,null,null,null,null,null,null,null,null,null,null,null,null,null,null,null,null,null,null,null,null,null,null,null,null,null,null,null,null,null,null,null,null,null,null,null,null,null,null,null,null,null,null,null,null,null,null,null,null,null,null,null,null,null,null,null,null,null,null,null,null,null,"H50","RES"]
[null,{"$f":"Parameters!Q47","v":"H51"},null,{"$f":"Parameters!S47","v":"Air transport"},null,null,null,null,null,null,null,null,null,null,null,null,null,null,null,null,null,null,null,null,null,null,null,null,null,null,null,null,null,null,null,null,null,null,null,null,null,null,null,null,null,null,null,null,null,null,null,null,null,null,null,null,null,null,null,null,null,null,null,null,null,null,null,null,null,null,null,null,null,null,null,null,null,null,null,null,null,null,null,null,null,null,null,null,null,null,"H51","RES"]
[null,{"$f":"Parameters!Q48","v":"H52"},null,{"$f":"Parameters!S48","v":"Warehousing and support activities for transportation"},null,null,null,null,null,null,null,null,null,null,null,null,null,null,null,null,null,null,null,null,null,null,null,null,null,null,null,null,null,null,null,null,null,null,null,null,null,null,null,null,null,null,null,null,null,null,null,null,null,null,null,null,null,null,null,null,null,null,null,null,null,null,null,null,null,null,null,null,null,null,null,null,null,null,null,null,null,null,null,null,null,null,null,null,null,null,"H52","RES"]
[null,{"$f":"Parameters!Q49","v":"H53"},null,{"$f":"Parameters!S49","v":"Postal and courier activities"},null,null,null,null,null,null,null,null,null,null,null,null,null,null,null,null,null,null,null,null,null,null,null,null,null,null,null,null,null,null,null,null,null,null,null,null,null,null,null,null,null,null,null,null,null,null,null,null,null,null,null,null,null,null,null,null,null,null,null,null,null,null,null,null,null,null,null,null,null,null,null,null,null,null,null,null,null,null,null,null,null,null,null,null,null,null,"H53","RES"]
[null,{"$f":"Parameters!Q50","v":"I"},null,{"$f":"Parameters!S50","v":"Accommodation and food service activities"},null,null,null,null,null,null,null,null,null,null,null,null,null,null,null,null,null,null,null,null,null,null,null,null,null,null,null,null,null,null,null,null,null,null,null,null,null,null,null,null,null,null,null,null,null,null,null,null,null,null,null,null,null,null,null,null,null,null,null,null,null,null,null,null,null,null,null,null,null,null,null,null,null,null,null,null,null,null,null,null,null,null,null,null,null,null,"I","RES"]
[null,{"$f":"Parameters!Q51","v":"J"},null,{"$f":"Parameters!S51","v":"Information and communication"},null,null,null,null,null,null,null,null,null,null,null,null,null,null,null,null,null,null,null,null,null,null,null,null,null,null,null,null,null,null,null,null,null,null,null,null,null,null,null,null,null,null,null,null,null,null,null,null,null,null,null,null,null,null,null,null,null,null,null,null,null,null,null,null,null,null,null,null,null,null,null,null,null,null,null,null,null,null,null,null,null,null,null,null,null,null,"J","RES"]
[null,{"$f":"Parameters!Q52","v":"J58-J60"},null,{"$f":"Parameters!S52","v":"Publishing, motion picture, video, television programme production; sound recording, programming and broadcasting activities"}]
[null,{"$f":"Parameters!Q53","v":"J58"},null,{"$f":"Parameters!S53","v":"Publishing activities"},null,null,null,null,null,null,null,null,null,null,null,null,null,null,null,null,null,null,null,null,null,null,null,null,null,null,null,null,null,null,null,null,null,null,null,null,null,null,null,null,null,null,null,null,null,null,null,null,null,null,null,null,null,null,null,null,null,null,null,null,null,null,null,null,null,null,null,null,null,null,null,null,null,null,null,null,null,null,null,null,null,null,null,null,null,null,"J58","RES"]
[null,{"$f":"Parameters!Q54","v":"J59_J60"},null,{"$f":"Parameters!S54","v":"Motion picture, video, television programme production; programming and broadcasting activities"},null,null,null,null,null,null,null,null,null,null,null,null,null,null,null,null,null,null,null,null,null,null,null,null,null,null,null,null,null,null,null,null,null,null,null,null,null,null,null,null,null,null,null,null,null,null,null,null,null,null,null,null,null,null,null,null,null,null,null,null,null,null,null,null,null,null,null,null,null,null,null,null,null,null,null,null,null,null,null,null,null,null,null,null,null,null,"J59_60","RES"]
[null,{"$f":"Parameters!Q55","v":"J61"},null,{"$f":"Parameters!S55","v":"Telecommunications"},null,null,null,null,null,null,null,null,null,null,null,null,null,null,null,null,null,null,null,null,null,null,null,null,null,null,null,null,null,null,null,null,null,null,null,null,null,null,null,null,null,null,null,null,null,null,null,null,null,null,null,null,null,null,null,null,null,null,null,null,null,null,null,null,null,null,null,null,null,null,null,null,null,null,null,null,null,null,null,null,null,null,null,null,null,null,"J61","RES"]
[null,{"$f":"Parameters!Q56","v":"J62_J63"},null,{"$f":"Parameters!S56","v":"Computer programming, consultancy, and information service activities"},null,null,null,null,null,null,null,null,null,null,null,null,null,null,null,null,null,null,null,null,null,null,null,null,null,null,null,null,null,null,null,null,null,null,null,null,null,null,null,null,null,null,null,null,null,null,null,null,null,null,null,null,null,null,null,null,null,null,null,null,null,null,null,null,null,null,null,null,null,null,null,null,null,null,null,null,null,null,null,null,null,null,null,null,null,null,"J62_63","RES"]
[null,{"$f":"Parameters!Q57","v":"K"},null,{"$f":"Parameters!S57","v":"Financial and insurance activities"},null,null,null,null,null,null,null,null,null,null,null,null,null,null,null,null,null,null,null,null,null,null,null,null,null,null,null,null,null,null,null,null,null,null,null,null,null,null,null,null,null,null,null,null,null,null,null,null,null,null,null,null,null,null,null,null,null,null,null,null,null,null,null,null,null,null,null,null,null,null,null,null,null,null,null,null,null,null,null,null,null,null,null,null,null,null,"K","RES"]
[null,{"$f":"Parameters!Q58","v":"K64"},null,{"$f":"Parameters!S58","v":"Financial service activities, except insurance and pension funding"},null,null,null,null,null,null,null,null,null,null,null,null,null,null,null,null,null,null,null,null,null,null,null,null,null,null,null,null,null,null,null,null,null,null,null,null,null,null,null,null,null,null,null,null,null,null,null,null,null,null,null,null,null,null,null,null,null,null,null,null,null,null,null,null,null,null,null,null,null,null,null,null,null,null,null,null,null,null,null,null,null,null,null,null,null,null,"K64","RES"]
[null,{"$f":"Parameters!Q59","v":"K65"},null,{"$f":"Parameters!S59","v":"Insurance, reinsurance and pension funding, except compulsory social security"},null,null,null,null,null,null,null,null,null,null,null,null,null,null,null,null,null,null,null,null,null,null,null,null,null,null,null,null,null,null,null,null,null,null,null,null,null,null,null,null,null,null,null,null,null,null,null,null,null,null,null,null,null,null,null,null,null,null,null,null,null,null,null,null,null,null,null,null,null,null,null,null,null,null,null,null,null,null,null,null,null,null,null,null,null,null,"K65","RES"]
[null,{"$f":"Parameters!Q60","v":"K66"},null,{"$f":"Parameters!S60","v":"Activities auxiliary to financial services and insurance activities"},null,null,null,null,null,null,null,null,null,null,null,null,null,null,null,null,null,null,null,null,null,null,null,null,null,null,null,null,null,null,null,null,null,null,null,null,null,null,null,null,null,null,null,null,null,null,null,null,null,null,null,null,null,null,null,null,null,null,null,null,null,null,null,null,null,null,null,null,null,null,null,null,null,null,null,null,null,null,null,null,null,null,null,null,null,null,"K66","RES"]
[null,{"$f":"Parameters!Q61","v":"L"},null,{"$f":"Parameters!S61","v":"Real estate activities"},null,null,null,null,null,null,null,null,null,null,null,null,null,null,null,null,null,null,null,null,null,null,null,null,null,null,null,null,null,null,null,null,null,null,null,null,null,null,null,null,null,null,null,null,null,null,null,null,null,null,null,null,null,null,null,null,null,null,null,null,null,null,null,null,null,null,null,null,null,null,null,null,null,null,null,null,null,null,null,null,null,null,null,null,null,null,"L","RES"]
[null,{"$f":"Parameters!Q62","v":"L68A"},null,{"$f":"Parameters!S62","v":"Imputed rents of owner-occupied dwellings"},null,null,null,null,null,null,null,null,null,null,null,null,null,null,null,null,null,null,null,null,null,null,null,null,null,null,null,null,null,null,null,null,null,null,null,null,null,null,null,null,null,null,null,null,null,null,null,null,null,null,null,null,null,null,null,null,null,null,null,null,null,null,null,null,null,null,null,null,null,null,null,null,null,null,null,null,null,null,null,null,null,null,null,null,null,null,"L68A","RES"]
[null,{"$f":"Parameters!Q63","v":"M"},null,{"$f":"Parameters!S63","v":"Professional, scientific and technical activities"},null,null,null,null,null,null,null,null,null,null,null,null,null,null,null,null,null,null,null,null,null,null,null,null,null,null,null,null,null,null,null,null,null,null,null,null,null,null,null,null,null,null,null,null,null,null,null,null,null,null,null,null,null,null,null,null,null,null,null,null,null,null,null,null,null,null,null,null,null,null,null,null,null,null,null,null,null,null,null,null,null,null,null,null,null,null,"M","RES"]
[null,{"$f":"Parameters!Q64","v":"M69-M71"},null,{"$f":"Parameters!S64","v":"Legal and accounting activities; activities of head offices; management consultancy activities; architectural and engineering activities; technical testing and analysis"}]
[null,{"$f":"Parameters!Q65","v":"M69_M70"},null,{"$f":"Parameters!S65","v":"Legal and accounting activities; activities of head offices; management consultancy activities"},null,null,null,null,null,null,null,null,null,null,null,null,null,null,null,null,null,null,null,null,null,null,null,null,null,null,null,null,null,null,null,null,null,null,null,null,null,null,null,null,null,null,null,null,null,null,null,null,null,null,null,null,null,null,null,null,null,null,null,null,null,null,null,null,null,null,null,null,null,null,null,null,null,null,null,null,null,null,null,null,null,null,null,null,null,null,"M69_70","RES"]
[null,{"$f":"Parameters!Q66","v":"M71"},null,{"$f":"Parameters!S66","v":"Architectural and engineering activities; technical testing and analysis"},null,null,null,null,null,null,null,null,null,null,null,null,null,null,null,null,null,null,null,null,null,null,null,null,null,null,null,null,null,null,null,null,null,null,null,null,null,null,null,null,null,null,null,null,null,null,null,null,null,null,null,null,null,null,null,null,null,null,null,null,null,null,null,null,null,null,null,null,null,null,null,null,null,null,null,null,null,null,null,null,null,null,null,null,null,null,"M71","RES"]
[null,{"$f":"Parameters!Q67","v":"M72"},null,{"$f":"Parameters!S67","v":"Scientific research and development"},null,null,null,null,null,null,null,null,null,null,null,null,null,null,null,null,null,null,null,null,null,null,null,null,null,null,null,null,null,null,null,null,null,null,null,null,null,null,null,null,null,null,null,null,null,null,null,null,null,null,null,null,null,null,null,null,null,null,null,null,null,null,null,null,null,null,null,null,null,null,null,null,null,null,null,null,null,null,null,null,null,null,null,null,null,null,"M72","RES"]
[null,{"$f":"Parameters!Q68","v":"M73-M75"},null,{"$f":"Parameters!S68","v":"Advertising and market research; other professional, scientific and technical activities; veterinary activities"}]
[null,{"$f":"Parameters!Q69","v":"M73"},null,{"$f":"Parameters!S69","v":"Advertising and market research"},null,null,null,null,null,null,null,null,null,null,null,null,null,null,null,null,null,null,null,null,null,null,null,null,null,null,null,null,null,null,null,null,null,null,null,null,null,null,null,null,null,null,null,null,null,null,null,null,null,null,null,null,null,null,null,null,null,null,null,null,null,null,null,null,null,null,null,null,null,null,null,null,null,null,null,null,null,null,null,null,null,null,null,null,null,null,"M73","RES"]
[null,{"$f":"Parameters!Q70","v":"M74_M75"},null,{"$f":"Parameters!S70","v":"Other professional, scientific and technical activities; veterinary activities"},null,null,null,null,null,null,null,null,null,null,null,null,null,null,null,null,null,null,null,null,null,null,null,null,null,null,null,null,null,null,null,null,null,null,null,null,null,null,null,null,null,null,null,null,null,null,null,null,null,null,null,null,null,null,null,null,null,null,null,null,null,null,null,null,null,null,null,null,null,null,null,null,null,null,null,null,null,null,null,null,null,null,null,null,null,null,"M74_75","RES"]
[null,{"$f":"Parameters!Q71","v":"N"},null,{"$f":"Parameters!S71","v":"Administrative and support service activities"},null,null,null,null,null,null,null,null,null,null,null,null,null,null,null,null,null,null,null,null,null,null,null,null,null,null,null,null,null,null,null,null,null,null,null,null,null,null,null,null,null,null,null,null,null,null,null,null,null,null,null,null,null,null,null,null,null,null,null,null,null,null,null,null,null,null,null,null,null,null,null,null,null,null,null,null,null,null,null,null,null,null,null,null,null,null,"N","RES"]
[null,{"$f":"Parameters!Q72","v":"N77"},null,{"$f":"Parameters!S72","v":"Rental and leasing activities"},null,null,null,null,null,null,null,null,null,null,null,null,null,null,null,null,null,null,null,null,null,null,null,null,null,null,null,null,null,null,null,null,null,null,null,null,null,null,null,null,null,null,null,null,null,null,null,null,null,null,null,null,null,null,null,null,null,null,null,null,null,null,null,null,null,null,null,null,null,null,null,null,null,null,null,null,null,null,null,null,null,null,null,null,null,null,"N77","RES"]
[null,{"$f":"Parameters!Q73","v":"N78"},null,{"$f":"Parameters!S73","v":"Employment activities"},null,null,null,null,null,null,null,null,null,null,null,null,null,null,null,null,null,null,null,null,null,null,null,null,null,null,null,null,null,null,null,null,null,null,null,null,null,null,null,null,null,null,null,null,null,null,null,null,null,null,null,null,null,null,null,null,null,null,null,null,null,null,null,null,null,null,null,null,null,null,null,null,null,null,null,null,null,null,null,null,null,null,null,null,null,null,"N78","RES"]
[null,{"$f":"Parameters!Q74","v":"N79"},null,{"$f":"Parameters!S74","v":"Travel agency, tour operator reservation service and related activities"},null,null,null,null,null,null,null,null,null,null,null,null,null,null,null,null,null,null,null,null,null,null,null,null,null,null,null,null,null,null,null,null,null,null,null,null,null,null,null,null,null,null,null,null,null,null,null,null,null,null,null,null,null,null,null,null,null,null,null,null,null,null,null,null,null,null,null,null,null,null,null,null,null,null,null,null,null,null,null,null,null,null,null,null,null,null,"N79","RES"]
[null,{"$f":"Parameters!Q75","v":"N80-N82"},null,{"$f":"Parameters!S75","v":"Security and investigation, service and landscape, office administrative and support activities"},null,null,null,null,null,null,null,null,null,null,null,null,null,null,null,null,null,null,null,null,null,null,null,null,null,null,null,null,null,null,null,null,null,null,null,null,null,null,null,null,null,null,null,null,null,null,null,null,null,null,null,null,null,null,null,null,null,null,null,null,null,null,null,null,null,null,null,null,null,null,null,null,null,null,null,null,null,null,null,null,null,null,null,null,null,null,"N80T82","RES"]
[null,{"$f":"Parameters!Q76","v":"O"},null,{"$f":"Parameters!S76","v":"Public administration and defence; compulsory social security"},null,null,null,null,null,null,null,null,null,null,null,null,null,null,null,null,null,null,null,null,null,null,null,null,null,null,null,null,null,null,null,null,null,null,null,null,null,null,null,null,null,null,null,null,null,null,null,null,null,null,null,null,null,null,null,null,null,null,null,null,null,null,null,null,null,null,null,null,null,null,null,null,null,null,null,null,null,null,null,null,null,null,null,null,null,null,"O","RES"]
[null,{"$f":"Parameters!Q77","v":"P"},null,{"$f":"Parameters!S77","v":"Education"},null,null,null,null,null,null,null,null,null,null,null,null,null,null,null,null,null,null,null,null,null,null,null,null,null,null,null,null,null,null,null,null,null,null,null,null,null,null,null,null,null,null,null,null,null,null,null,null,null,null,null,null,null,null,null,null,null,null,null,null,null,null,null,null,null,null,null,null,null,null,null,null,null,null,null,null,null,null,null,null,null,null,null,null,null,null,"P","RES"]
[null,{"$f":"Parameters!Q78","v":"Q"},null,{"$f":"Parameters!S78","v":"Human health and social work activities"},null,null,null,null,null,null,null,null,null,null,null,null,null,null,null,null,null,null,null,null,null,null,null,null,null,null,null,null,null,null,null,null,null,null,null,null,null,null,null,null,null,null,null,null,null,null,null,null,null,null,null,null,null,null,null,null,null,null,null,null,null,null,null,null,null,null,null,null,null,null,null,null,null,null,null,null,null,null,null,null,null,null,null,null,null,null,"Q","RES"]
[null,{"$f":"Parameters!Q79","v":"Q86"},null,{"$f":"Parameters!S79","v":"Human health activities"},null,null,null,null,null,null,null,null,null,null,null,null,null,null,null,null,null,null,null,null,null,null,null,null,null,null,null,null,null,null,null,null,null,null,null,null,null,null,null,null,null,null,null,null,null,null,null,null,null,null,null,null,null,null,null,null,null,null,null,null,null,null,null,null,null,null,null,null,null,null,null,null,null,null,null,null,null,null,null,null,null,null,null,null,null,null,"Q86","RES"]
[null,{"$f":"Parameters!Q80","v":"Q87_Q88"},null,{"$f":"Parameters!S80","v":"Residential care activities and social work activities without accommodation"},null,null,null,null,null,null,null,null,null,null,null,null,null,null,null,null,null,null,null,null,null,null,null,null,null,null,null,null,null,null,null,null,null,null,null,null,null,null,null,null,null,null,null,null,null,null,null,null,null,null,null,null,null,null,null,null,null,null,null,null,null,null,null,null,null,null,null,null,null,null,null,null,null,null,null,null,null,null,null,null,null,null,null,null,null,null,"Q87_88","RES"]
[null,{"$f":"Parameters!Q81","v":"R"},null,{"$f":"Parameters!S81","v":"Arts, entertainment and recreation"},null,null,null,null,null,null,null,null,null,null,null,null,null,null,null,null,null,null,null,null,null,null,null,null,null,null,null,null,null,null,null,null,null,null,null,null,null,null,null,null,null,null,null,null,null,null,null,null,null,null,null,null,null,null,null,null,null,null,null,null,null,null,null,null,null,null,null,null,null,null,null,null,null,null,null,null,null,null,null,null,null,null,null,null,null,null,"R","RES"]
[null,{"$f":"Parameters!Q82","v":"R90-R92"},null,{"$f":"Parameters!S82","v":"Creative, arts and entertainment activities; libraries, archives, museums and other cultural activities; gambling and betting activities"},null,null,null,null,null,null,null,null,null,null,null,null,null,null,null,null,null,null,null,null,null,null,null,null,null,null,null,null,null,null,null,null,null,null,null,null,null,null,null,null,null,null,null,null,null,null,null,null,null,null,null,null,null,null,null,null,null,null,null,null,null,null,null,null,null,null,null,null,null,null,null,null,null,null,null,null,null,null,null,null,null,null,null,null,null,null,"R90T92","RES"]
[null,{"$f":"Parameters!Q83","v":"R93"},null,{"$f":"Parameters!S83","v":"Sports activities and amusement and recreation activities"},null,null,null,null,null,null,null,null,null,null,null,null,null,null,null,null,null,null,null,null,null,null,null,null,null,null,null,null,null,null,null,null,null,null,null,null,null,null,null,null,null,null,null,null,null,null,null,null,null,null,null,null,null,null,null,null,null,null,null,null,null,null,null,null,null,null,null,null,null,null,null,null,null,null,null,null,null,null,null,null,null,null,null,null,null,null,"R93","RES"]
[null,{"$f":"Parameters!Q84","v":"S"},null,{"$f":"Parameters!S84","v":"Other service activities"},null,null,null,null,null,null,null,null,null,null,null,null,null,null,null,null,null,null,null,null,null,null,null,null,null,null,null,null,null,null,null,null,null,null,null,null,null,null,null,null,null,null,null,null,null,null,null,null,null,null,null,null,null,null,null,null,null,null,null,null,null,null,null,null,null,null,null,null,null,null,null,null,null,null,null,null,null,null,null,null,null,null,null,null,null,null,"S","RES"]
[null,{"$f":"Parameters!Q85","v":"S94"},null,{"$f":"Parameters!S85","v":"Activities of membership organisations"},null,null,null,null,null,null,null,null,null,null,null,null,null,null,null,null,null,null,null,null,null,null,null,null,null,null,null,null,null,null,null,null,null,null,null,null,null,null,null,null,null,null,null,null,null,null,null,null,null,null,null,null,null,null,null,null,null,null,null,null,null,null,null,null,null,null,null,null,null,null,null,null,null,null,null,null,null,null,null,null,null,null,null,null,null,null,"S94","RES"]
[null,{"$f":"Parameters!Q86","v":"S95"},null,{"$f":"Parameters!S86","v":"Repair of computers and personal and household goods"},null,null,null,null,null,null,null,null,null,null,null,null,null,null,null,null,null,null,null,null,null,null,null,null,null,null,null,null,null,null,null,null,null,null,null,null,null,null,null,null,null,null,null,null,null,null,null,null,null,null,null,null,null,null,null,null,null,null,null,null,null,null,null,null,null,null,null,null,null,null,null,null,null,null,null,null,null,null,null,null,null,null,null,null,null,null,"S95","RES"]
[null,{"$f":"Parameters!Q87","v":"S96"},null,{"$f":"Parameters!S87","v":"Other personal service activities"},null,null,null,null,null,null,null,null,null,null,null,null,null,null,null,null,null,null,null,null,null,null,null,null,null,null,null,null,null,null,null,null,null,null,null,null,null,null,null,null,null,null,null,null,null,null,null,null,null,null,null,null,null,null,null,null,null,null,null,null,null,null,null,null,null,null,null,null,null,null,null,null,null,null,null,null,null,null,null,null,null,null,null,null,null,null,"S96","RES"]
[null,{"$f":"Parameters!Q88","v":"T"},null,{"$f":"Parameters!S88","v":"Activities of households as employers; undifferentiated goods- and services-producing activities of households for own use"},null,null,null,null,null,null,null,null,null,null,null,null,null,null,null,null,null,null,null,null,null,null,null,null,null,null,null,null,null,null,null,null,null,null,null,null,null,null,null,null,null,null,null,null,null,null,null,null,null,null,null,null,null,null,null,null,null,null,null,null,null,null,null,null,null,null,null,null,null,null,null,null,null,null,null,null,null,null,null,null,null,null,null,null,null,null,"T","RES"]
[null,{"$f":"Parameters!Q89","v":"U"},null,{"$f":"Parameters!S89","v":"Activities of extraterritorial organisations and bodies"},null,null,null,null,null,null,null,null,null,null,null,null,null,null,null,null,null,null,null,null,null,null,null,null,null,null,null,null,null,null,null,null,null,null,null,null,null,null,null,null,null,null,null,null,null,null,null,null,null,null,null,null,null,null,null,null,null,null,null,null,null,null,null,null,null,null,null,null,null,null,null,null,null,null,null,null,null,null,null,null,null,null,null,null,null,null,"U","RES"]
[null,"   Household air emissions\n                                          Households, totals",null,null,null,null,null,null,null,null,null,null,null,null,null,null,null,null,null,null,null,null,null,null,null,null,null,null,null,null,null,null,null,null,null,null,null,null,null,null,null,null,null,null,null,null,null,null,null,null,null,null,null,null,null,null,null,null,null,null,null,null,null,null,null,null,null,null,null,null,null,null,null,null,null,null,null,null,null,null,null,null,null,null,null,null,null,null,null,null,"HH","RES"]
[null,null,null,"- Transport",null,null,null,null,null,null,null,null,null,null,null,null,null,null,null,null,null,null,null,null,null,null,null,null,null,null,null,null,null,null,null,null,null,null,null,null,null,null,null,null,null,null,null,null,null,null,null,null,null,null,null,null,null,null,null,null,null,null,null,null,null,null,null,null,null,null,null,null,null,null,null,null,null,null,null,null,null,null,null,null,null,null,null,null,null,null,"HH_TR","RES"]
[null,null,null,"- Heating/cooling",null,null,null,null,null,null,null,null,null,null,null,null,null,null,null,null,null,null,null,null,null,null,null,null,null,null,null,null,null,null,null,null,null,null,null,null,null,null,null,null,null,null,null,null,null,null,null,null,null,null,null,null,null,null,null,null,null,null,null,null,null,null,null,null,null,null,null,null,null,null,null,null,null,null,null,null,null,null,null,null,null,null,null,null,null,null,"HH_HEAT","RES"]
[null,null,null,"- Other",null,null,null,null,null,null,null,null,null,null,null,null,null,null,null,null,null,null,null,null,null,null,null,null,null,null,null,null,null,null,null,null,null,null,null,null,null,null,null,null,null,null,null,null,null,null,null,null,null,null,null,null,null,null,null,null,null,null,null,null,null,null,null,null,null,null,null,null,null,null,null,null,null,null,null,null,null,null,null,null,null,null,null,null,null,null,"HH_OTH","RES"]
[null,"   Bridging items\n\n1                              Total Air emissions accounts (industry (row 5) + households (row 91))",null,null,null,null,null,null,null,null,null,null,null,null,null,null,null,null,null,null,null,null,null,null,null,null,null,null,null,null,null,null,null,null,null,null,null,null,null,null,null,null,null,null,null,null,null,null,null,null,null,null,null,null,null,null,null,null,null,null,null,null,null,null,null,null,null,null,null,null,null,null,null,null,null,null,null,null,null,null,null,null,null,null,null,null,null,null,null,null,"ATU_HH","RES"]
[null,2,null,"less National residents abroad",null,null,null,null,null,null,null,null,null,null,null,null,null,null,null,null,null,null,null,null,null,null,null,null,null,null,null,null,null,null,null,null,null,null,null,null,null,null,null,null,null,null,null,null,null,null,null,null,null,null,null,null,null,null,null,null,null,null,null,null,null,null,null,null,null,null,null,null,null,null,null,null,null,null,null,null,null,null,null,null,null,null,null,null,null,null,"ATU_HH","RES_ABR"]
[null,2.1,null,"-  National fishing vessels operating abroad",null,null,null,null,null,null,null,null,null,null,null,null,null,null,null,null,null,null,null,null,null,null,null,null,null,null,null,null,null,null,null,null,null,null,null,null,null,null,null,null,null,null,null,null,null,null,null,null,null,null,null,null,null,null,null,null,null,null,null,null,null,null,null,null,null,null,null,null,null,null,null,null,null,null,null,null,null,null,null,null,null,null,null,null,null,null,"ATU_HH","RES_ABR_FWTR"]
[null,2.2000000000000002,null,"-  Land transport",null,null,null,null,null,null,null,null,null,null,null,null,null,null,null,null,null,null,null,null,null,null,null,null,null,null,null,null,null,null,null,null,null,null,null,null,null,null,null,null,null,null,null,null,null,null,null,null,null,null,null,null,null,null,null,null,null,null,null,null,null,null,null,null,null,null,null,null,null,null,null,null,null,null,null,null,null,null,null,null,null,null,null,null,null,null,"ATU_HH","RES_ABR_LTR"]
[null,2.2999999999999998,null,"-  Water transport",null,null,null,null,null,null,null,null,null,null,null,null,null,null,null,null,null,null,null,null,null,null,null,null,null,null,null,null,null,null,null,null,null,null,null,null,null,null,null,null,null,null,null,null,null,null,null,null,null,null,null,null,null,null,null,null,null,null,null,null,null,null,null,null,null,null,null,null,null,null,null,null,null,null,null,null,null,null,null,null,null,null,null,null,null,null,"ATU_HH","RES_ABR_WTR"]
[null,2.4,null,"-  Air transport",null,null,null,null,null,null,null,null,null,null,null,null,null,null,null,null,null,null,null,null,null,null,null,null,null,null,null,null,null,null,null,null,null,null,null,null,null,null,null,null,null,null,null,null,null,null,null,null,null,null,null,null,null,null,null,null,null,null,null,null,null,null,null,null,null,null,null,null,null,null,null,null,null,null,null,null,null,null,null,null,null,null,null,null,null,null,"ATU_HH","RES_ABR_ATR"]
[null,3,null,"plus Non-residents on the territory",null,null,null,null,null,null,null,null,null,null,null,null,null,null,null,null,null,null,null,null,null,null,null,null,null,null,null,null,null,null,null,null,null,null,null,null,null,null,null,null,null,null,null,null,null,null,null,null,null,null,null,null,null,null,null,null,null,null,null,null,null,null,null,null,null,null,null,null,null,null,null,null,null,null,null,null,null,null,null,null,null,null,null,null,null,null,"ATU_HH","TER_NRES"]
[null,3.1,null,"+  Land transport",null,null,null,null,null,null,null,null,null,null,null,null,null,null,null,null,null,null,null,null,null,null,null,null,null,null,null,null,null,null,null,null,null,null,null,null,null,null,null,null,null,null,null,null,null,null,null,null,null,null,null,null,null,null,null,null,null,null,null,null,null,null,null,null,null,null,null,null,null,null,null,null,null,null,null,null,null,null,null,null,null,null,null,null,null,null,"ATU_HH","TER_NRES_LTR"]
[null,3.2,null,"+ Water transport",null,null,null,null,null,null,null,null,null,null,null,null,null,null,null,null,null,null,null,null,null,null,null,null,null,null,null,null,null,null,null,null,null,null,null,null,null,null,null,null,null,null,null,null,null,null,null,null,null,null,null,null,null,null,null,null,null,null,null,null,null,null,null,null,null,null,null,null,null,null,null,null,null,null,null,null,null,null,null,null,null,null,null,null,null,null,"ATU_HH","TER_NRES_WTR"]
[null,3.3,null,"+  Air transport",null,null,null,null,null,null,null,null,null,null,null,null,null,null,null,null,null,null,null,null,null,null,null,null,null,null,null,null,null,null,null,null,null,null,null,null,null,null,null,null,null,null,null,null,null,null,null,null,null,null,null,null,null,null,null,null,null,null,null,null,null,null,null,null,null,null,null,null,null,null,null,null,null,null,null,null,null,null,null,null,null,null,null,null,null,null,"ATU_HH","TER_NRES_ATR"]
[null,4,null,"Other adjustments and statistical discrepancy",null,null,null,null,null,null,null,null,null,null,null,null,null,null,null,null,null,null,null,null,null,null,null,null,null,null,null,null,null,null,null,null,null,null,null,null,null,null,null,null,null,null,null,null,null,null,null,null,null,null,null,null,null,null,null,null,null,null,null,null,null,null,null,null,null,null,null,null,null,null,null,null,null,null,null,null,null,null,null,null,null,null,null,null,null,null,"ATU_HH","ADJ_SD"]
[null,5,null,"'National total for the entire territory' as reported to CLRTAP (Annex 1)",null,null,null,null,null,null,null,null,null,null,null,null,null,null,null,null,null,null,null,null,null,null,null,null,null,null,null,null,null,null,null,null,null,null,null,null,null,null,null,null,null,null,null,null,null,null,null,null,null,null,null,null,null,null,null,null,null,null,null,null,null,null,null,null,null,null,null,null,null,null,null,null,null,null,null,null,null,null,null,null,null,null,null,null,null,null,"ATU_HH","TER"]
[null,null,null,"Year of submission to CLRTAP"]
[]
[null,"Explanatory notes for bridging items:"]
[null,1,"Total Air emissions accounts (industry (row 5) + households (row 91)) - residence principle"]
[]
[null,2.1,"Fishing vessels operated by resident units bunkering outside of the reporting country"]
[null,2.2000000000000002,"Land transport (incl. rail) by resident units fuelling outside of the reporting country"]
[null,2.2999999999999998,"Any navigation by resident units bunkering at ports outside of the reporting country and international navigation by resident units bunkering at ports of the reporting country"]
[null,2.4,"Any aviation by resident units bunkering at airports outside of the reporting country and any cruise aviation by resident units bunkering at airports of the reporting country"]
[]
[null,3.1,"Land transport (incl. rail) by non-resident units fuelling on the territory of the reporting country"]
[null,3.2,"National and international inland waterways navigation by non-residents bunkering at ports of the reporting country"]
[null,3.3,"LTO (landing and take off) aviation by non-residents bunkering at  airports of the reporting country"]
[]
[null,5,"National totals in CLRTAP inventories include all LTO aviation departing from domestic airports - territory principle"]
[null,null,"National totals in CLRTAP inventories include all national and international inland waterways navigation for which the fuel is bunkered in ports of the reporting country - territory principle"]

{"sheet":"PM2.5_ROAD","index":29,"n_rows":122,"n_cols":98,"rows_kept":122,"cut":false,"hidden":false,"merged":[[0,94,2,94],[0,95,2,95],[0,96,2,96],[0,97,2,97],[0,93,2,93],[1,1,1,2],[2,1,2,2],[2,3,2,4],[2,47,2,48],[0,88,2,88],[0,89,2,89],[0,90,2,90],[0,91,2,91],[0,92,2,92],[0,27,2,28],[0,29,2,30],[0,31,2,32],[0,33,2,34],[0,35,2,36],[0,87,2,87],[0,15,2,16],[0,17,2,18],[0,19,2,20],[0,21,2,22],[0,23,2,24],[0,25,2,26],[0,1,0,2],[0,5,2,6],[0,7,2,8],[8,3,8,4],[0,9,2,10],[0,11,2,12],[0,13,2,14],[9,3,9,4],[10,3,10,4],[11,3,11,4],[12,3,12,4],[13,3,13,4],[3,1,3,4],[4,1,4,2],[4,3,4,4],[5,3,5,4],[6,3,6,4],[7,3,7,4],[20,3,20,4],[21,3,21,4],[22,3,22,4],[23,3,23,4],[24,3,24,4],[25,3,25,4],[14,3,14,4],[15,3,15,4],[16,3,16,4],[17,3,17,4],[18,3,18,4],[19,3,19,4],[32,3,32,4],[33,3,33,4],[34,3,34,4],[35,3,35,4],[36,3,36,4],[37,3,37,4],[26,3,26,4],[27,3,27,4],[28,3,28,4],[29,3,29,4],[30,3,30,4],[31,3,31,4],[44,3,44,4],[45,3,45,4],[46,3,46,4],[47,3,47,4],[48,3,48,4],[49,3,49,4],[38,3,38,4],[39,3,39,4],[40,3,40,4],[41,3,41,4],[42,3,42,4],[43,3,43,4],[56,3,56,4],[57,3,57,4],[58,3,58,4],[59,3,59,4],[60,3,60,4],[61,3,61,4],[50,3,50,4],[51,3,51,4],[52,3,52,4],[53,3,53,4],[54,3,54,4],[55,3,55,4],[68,3,68,4],[69,3,69,4],[70,3,70,4],[71,3,71,4],[72,3,72,4],[73,3,73,4],[62,3,62,4],[63,3,63,4],[64,3,64,4],[65,3,65,4],[66,3,66,4],[67,3,67,4],[80,3,80,4],[81,3,81,4],[82,3,82,4],[83,3,83,4],[84,3,84,4],[85,3,85,4],[74,3,74,4],[75,3,75,4],[76,3,76,4],[77,3,77,4],[78,3,78,4],[79,3,79,4],[92,3,92,4],[93,3,93,4],[94,1,94,4],[95,3,95,4],[96,3,96,4],[97,3,97,4],[86,3,86,4],[87,3,87,4],[88,3,88,4],[89,3,89,4],[90,1,90,4],[91,3,91,4],[104,3,104,4],[105,3,105,4],[106,3,106,4],[98,3,98,4],[99,3,99,4],[100,3,100,4],[101,3,101,4],[102,3,102,4],[103,3,103,4]]}
["DATAENTRY","Country:",null,{"$f":"intro!F7","v":""},null,null,null,null,null,null,null,null,null,null,null,null,null,null,null,null,null,null,null,null,null,null,null,null,null,null,null,null,null,null,null,null,null,null,null,null,null,null,null,null,null,null,null,null,null,null,null,null,null,null,null,null,null,null,null,null,null,null,null,null,null,null,null,null,null,null,null,null,null,null,null,null,null,null,null,null,null,null,null,null,null,null,null,"DEMAND_PROD","ACCOUNTING_ENTRY","COUNTERPART_AREA","INTERACTORS","BRIDGE_ITEM","AIRPOL","STO","UNIT_MEASURE","UNIT_MULT","PRODUCT","SECTOR"]
[null,"Air Pollutant",null,"PM2_5_ROAD","Particulate matter\n(less than or equal to a nominal 2.5 microns) from road transport"]
["T","Unit","Million National Currency","tonnes (Mg)"]
[null,"Air emissions by industry",null,null,null,1995,null,1996,null,1997,null,1998,null,1999,null,2000,null,2001,null,2002,null,2003,null,2004,null,2005,null,2006,null,2007,null,2008,null,2009,null,2010,null,2011,null,2012,null,2013,null,2014,null,2015,null,2016,null,2017,null,2018,null,2019,null,2020,null,2021,null,2022,null,2023,null,2024]
[null,{"$f":"Parameters!Q4","v":"A_U   01-99"},null,{"$f":"Parameters!S4","v":"Total industries"},null,null,null,null,null,null,null,null,null,null,null,null,null,null,null,null,null,null,null,null,null,null,null,null,null,null,null,null,null,null,null,null,null,null,null,null,null,null,null,null,null,null,null,null,null,null,null,null,null,null,null,null,null,null,null,null,null,null,null,null,null,null,null,null,null,null,null,null,null,null,null,null,null,null,null,null,null,null,null,null,null,null,null,"P","EC","W2","ATU","RES","PM2_5","_Z","TN",0,"_T","S1"]
[null,{"$f":"Parameters!Q5","v":"A"},null,{"$f":"Parameters!S5","v":"Agriculture, forestry and fishing"},null,null,null,null,null,null,null,null,null,null,null,null,null,null,null,null,null,null,null,null,null,null,null,null,null,null,null,null,null,null,null,null,null,null,null,null,null,null,null,null,null,null,null,null,null,null,null,null,null,null,null,null,null,null,null,null,null,null,null,null,null,null,null,null,null,null,null,null,null,null,null,null,null,null,null,null,null,null,null,null,null,null,null,null,null,null,"A","RES"]
[null,{"$f":"Parameters!Q6","v":"A01"},null,{"$f":"Parameters!S6","v":"Crop and animal production, hunting and related service activities"},null,null,null,null,null,null,null,null,null,null,null,null,null,null,null,null,null,null,null,null,null,null,null,null,null,null,null,null,null,null,null,null,null,null,null,null,null,null,null,null,null,null,null,null,null,null,null,null,null,null,null,null,null,null,null,null,null,null,null,null,null,null,null,null,null,null,null,null,null,null,null,null,null,null,null,null,null,null,null,null,null,null,null,null,null,null,"A01","RES"]
[null,{"$f":"Parameters!Q7","v":"A02"},null,{"$f":"Parameters!S7","v":"Forestry and logging"},null,null,null,null,null,null,null,null,null,null,null,null,null,null,null,null,null,null,null,null,null,null,null,null,null,null,null,null,null,null,null,null,null,null,null,null,null,null,null,null,null,null,null,null,null,null,null,null,null,null,null,null,null,null,null,null,null,null,null,null,null,null,null,null,null,null,null,null,null,null,null,null,null,null,null,null,null,null,null,null,null,null,null,null,null,null,"A02","RES"]
[null,{"$f":"Parameters!Q8","v":"A03"},null,{"$f":"Parameters!S8","v":"Fishing and aquaculture"},null,null,null,null,null,null,null,null,null,null,null,null,null,null,null,null,null,null,null,null,null,null,null,null,null,null,null,null,null,null,null,null,null,null,null,null,null,null,null,null,null,null,null,null,null,null,null,null,null,null,null,null,null,null,null,null,null,null,null,null,null,null,null,null,null,null,null,null,null,null,null,null,null,null,null,null,null,null,null,null,null,null,null,null,null,null,"A03","RES"]
[null,{"$f":"Parameters!Q9","v":"B"},null,{"$f":"Parameters!S9","v":"Mining and quarrying"},null,null,null,null,null,null,null,null,null,null,null,null,null,null,null,null,null,null,null,null,null,null,null,null,null,null,null,null,null,null,null,null,null,null,null,null,null,null,null,null,null,null,null,null,null,null,null,null,null,null,null,null,null,null,null,null,null,null,null,null,null,null,null,null,null,null,null,null,null,null,null,null,null,null,null,null,null,null,null,null,null,null,null,null,null,null,"B","RES"]
[null,{"$f":"Parameters!Q10","v":"C"},null,{"$f":"Parameters!S10","v":"Manufacturing"},null,null,null,null,null,null,null,null,null,null,null,null,null,null,null,null,null,null,null,null,null,null,null,null,null,null,null,null,null,null,null,null,null,null,null,null,null,null,null,null,null,null,null,null,null,null,null,null,null,null,null,null,null,null,null,null,null,null,null,null,null,null,null,null,null,null,null,null,null,null,null,null,null,null,null,null,null,null,null,null,null,null,null,null,null,null,"C","RES"]
[null,{"$f":"Parameters!Q11","v":"C10-C12"},null,{"$f":"Parameters!S11","v":"Manufacture of food products, beverages and tobacco\nproducts"},null,null,null,null,null,null,null,null,null,null,null,null,null,null,null,null,null,null,null,null,null,null,null,null,null,null,null,null,null,null,null,null,null,null,null,null,null,null,null,null,null,null,null,null,null,null,null,null,null,null,null,null,null,null,null,null,null,null,null,null,null,null,null,null,null,null,null,null,null,null,null,null,null,null,null,null,null,null,null,null,null,null,null,null,null,null,"C10T12","RES"]
[null,{"$f":"Parameters!Q12","v":"C13-C15"},null,{"$f":"Parameters!S12","v":"Manufacture of textiles, wearing apparel and leather products"},null,null,null,null,null,null,null,null,null,null,null,null,null,null,null,null,null,null,null,null,null,null,null,null,null,null,null,null,null,null,null,null,null,null,null,null,null,null,null,null,null,null,null,null,null,null,null,null,null,null,null,null,null,null,null,null,null,null,null,null,null,null,null,null,null,null,null,null,null,null,null,null,null,null,null,null,null,null,null,null,null,null,null,null,null,null,"C13T15","RES"]
[null,{"$f":"Parameters!Q13","v":"C16-C18"},null,{"$f":"Parameters!S13","v":"Manufacture of wood, paper, printing and reproduction"}]
[null,{"$f":"Parameters!Q14","v":"C16"},null,{"$f":"Parameters!S14","v":"Manufacture of wood and of products of wood and cork, except furniture; manufacture of articles of straw and plaiting materials"},null,null,null,null,null,null,null,null,null,null,null,null,null,null,null,null,null,null,null,null,null,null,null,null,null,null,null,null,null,null,null,null,null,null,null,null,null,null,null,null,null,null,null,null,null,null,null,null,null,null,null,null,null,null,null,null,null,null,null,null,null,null,null,null,null,null,null,null,null,null,null,null,null,null,null,null,null,null,null,null,null,null,null,null,null,null,"C16","RES"]
[null,{"$f":"Parameters!Q15","v":"C17"},null,{"$f":"Parameters!S15","v":"Manufacture of paper and paper products"},null,null,null,null,null,null,null,null,null,null,null,null,null,null,null,null,null,null,null,null,null,null,null,null,null,null,null,null,null,null,null,null,null,null,null,null,null,null,null,null,null,null,null,null,null,null,null,null,null,null,null,null,null,null,null,null,null,null,null,null,null,null,null,null,null,null,null,null,null,null,null,null,null,null,null,null,null,null,null,null,null,null,null,null,null,null,"C17","RES"]
[null,{"$f":"Parameters!Q16","v":"C18"},null,{"$f":"Parameters!S16","v":"Printing and reproduction of recorded media"},null,null,null,null,null,null,null,null,null,null,null,null,null,null,null,null,null,null,null,null,null,null,null,null,null,null,null,null,null,null,null,null,null,null,null,null,null,null,null,null,null,null,null,null,null,null,null,null,null,null,null,null,null,null,null,null,null,null,null,null,null,null,null,null,null,null,null,null,null,null,null,null,null,null,null,null,null,null,null,null,null,null,null,null,null,null,"C18","RES"]
[null,{"$f":"Parameters!Q17","v":"C19"},null,{"$f":"Parameters!S17","v":"Manufacture of coke and refined petroleum products"},null,null,null,null,null,null,null,null,null,null,null,null,null,null,null,null,null,null,null,null,null,null,null,null,null,null,null,null,null,null,null,null,null,null,null,null,null,null,null,null,null,null,null,null,null,null,null,null,null,null,null,null,null,null,null,null,null,null,null,null,null,null,null,null,null,null,null,null,null,null,null,null,null,null,null,null,null,null,null,null,null,null,null,null,null,null,"C19","RES"]
[null,{"$f":"Parameters!Q18","v":"C20"},null,{"$f":"Parameters!S18","v":"Manufacture of chemicals and chemical products"},null,null,null,null,null,null,null,null,null,null,null,null,null,null,null,null,null,null,null,null,null,null,null,null,null,null,null,null,null,null,null,null,null,null,null,null,null,null,null,null,null,null,null,null,null,null,null,null,null,null,null,null,null,null,null,null,null,null,null,null,null,null,null,null,null,null,null,null,null,null,null,null,null,null,null,null,null,null,null,null,null,null,null,null,null,null,"C20","RES"]
[null,{"$f":"Parameters!Q19","v":"C21"},null,{"$f":"Parameters!S19","v":"Manufacture of basic pharmaceutical products and pharmaceutical preparations"},null,null,null,null,null,null,null,null,null,null,null,null,null,null,null,null,null,null,null,null,null,null,null,null,null,null,null,null,null,null,null,null,null,null,null,null,null,null,null,null,null,null,null,null,null,null,null,null,null,null,null,null,null,null,null,null,null,null,null,null,null,null,null,null,null,null,null,null,null,null,null,null,null,null,null,null,null,null,null,null,null,null,null,null,null,null,"C21","RES"]
[null,{"$f":"Parameters!Q20","v":"C22_C23"},null,{"$f":"Parameters!S20","v":"Manufacture of rubber and plastic products and other non-metallic mineral products"}]
[null,{"$f":"Parameters!Q21","v":"C22"},null,{"$f":"Parameters!S21","v":"Manufacture of rubber and plastic products"},null,null,null,null,null,null,null,null,null,null,null,null,null,null,null,null,null,null,null,null,null,null,null,null,null,null,null,null,null,null,null,null,null,null,null,null,null,null,null,null,null,null,null,null,null,null,null,null,null,null,null,null,null,null,null,null,null,null,null,null,null,null,null,null,null,null,null,null,null,null,null,null,null,null,null,null,null,null,null,null,null,null,null,null,null,null,"C22","RES"]
[null,{"$f":"Parameters!Q22","v":"C23"},null,{"$f":"Parameters!S22","v":"Manufacture of other non-metallic mineral products"},null,null,null,null,null,null,null,null,null,null,null,null,null,null,null,null,null,null,null,null,null,null,null,null,null,null,null,null,null,null,null,null,null,null,null,null,null,null,null,null,null,null,null,null,null,null,null,null,null,null,null,null,null,null,null,null,null,null,null,null,null,null,null,null,null,null,null,null,null,null,null,null,null,null,null,null,null,null,null,null,null,null,null,null,null,null,"C23","RES"]
[null,{"$f":"Parameters!Q23","v":"C24_C25"},null,{"$f":"Parameters!S23","v":"Manufacture of basic metals and fabricated metal products, except machinery and equipment"}]
[null,{"$f":"Parameters!Q24","v":"C24"},null,{"$f":"Parameters!S24","v":"Manufacture of basic metals"},null,null,null,null,null,null,null,null,null,null,null,null,null,null,null,null,null,null,null,null,null,null,null,null,null,null,null,null,null,null,null,null,null,null,null,null,null,null,null,null,null,null,null,null,null,null,null,null,null,null,null,null,null,null,null,null,null,null,null,null,null,null,null,null,null,null,null,null,null,null,null,null,null,null,null,null,null,null,null,null,null,null,null,null,null,null,"C24","RES"]
[null,{"$f":"Parameters!Q25","v":"C25"},null,{"$f":"Parameters!S25","v":"Manufacture of fabricated metal products, except machinery and equipment"},null,null,null,null,null,null,null,null,null,null,null,null,null,null,null,null,null,null,null,null,null,null,null,null,null,null,null,null,null,null,null,null,null,null,null,null,null,null,null,null,null,null,null,null,null,null,null,null,null,null,null,null,null,null,null,null,null,null,null,null,null,null,null,null,null,null,null,null,null,null,null,null,null,null,null,null,null,null,null,null,null,null,null,null,null,null,"C25","RES"]
[null,{"$f":"Parameters!Q26","v":"C26"},null,{"$f":"Parameters!S26","v":"Manufacture of computer, electronic and optical products"},null,null,null,null,null,null,null,null,null,null,null,null,null,null,null,null,null,null,null,null,null,null,null,null,null,null,null,null,null,null,null,null,null,null,null,null,null,null,null,null,null,null,null,null,null,null,null,null,null,null,null,null,null,null,null,null,null,null,null,null,null,null,null,null,null,null,null,null,null,null,null,null,null,null,null,null,null,null,null,null,null,null,null,null,null,null,"C26","RES"]
[null,{"$f":"Parameters!Q27","v":"C27"},null,{"$f":"Parameters!S27","v":"Manufacture of electrical equipment"},null,null,null,null,null,null,null,null,null,null,null,null,null,null,null,null,null,null,null,null,null,null,null,null,null,null,null,null,null,null,null,null,null,null,null,null,null,null,null,null,null,null,null,null,null,null,null,null,null,null,null,null,null,null,null,null,null,null,null,null,null,null,null,null,null,null,null,null,null,null,null,null,null,null,null,null,null,null,null,null,null,null,null,null,null,null,"C27","RES"]
[null,{"$f":"Parameters!Q28","v":"C28"},null,{"$f":"Parameters!S28","v":"Manufacture of machinery and equipment n.e.c."},null,null,null,null,null,null,null,null,null,null,null,null,null,null,null,null,null,null,null,null,null,null,null,null,null,null,null,null,null,null,null,null,null,null,null,null,null,null,null,null,null,null,null,null,null,null,null,null,null,null,null,null,null,null,null,null,null,null,null,null,null,null,null,null,null,null,null,null,null,null,null,null,null,null,null,null,null,null,null,null,null,null,null,null,null,null,"C28","RES"]
[null,{"$f":"Parameters!Q29","v":"C29_C30"},null,{"$f":"Parameters!S29","v":"Manufacture of motor vehicles, trailers, semi-trailers and of other transport equipment"}]
[null,{"$f":"Parameters!Q30","v":"C29"},null,{"$f":"Parameters!S30","v":"Manufacture of motor vehicles, trailers and semi-trailers"},null,null,null,null,null,null,null,null,null,null,null,null,null,null,null,null,null,null,null,null,null,null,null,null,null,null,null,null,null,null,null,null,null,null,null,null,null,null,null,null,null,null,null,null,null,null,null,null,null,null,null,null,null,null,null,null,null,null,null,null,null,null,null,null,null,null,null,null,null,null,null,null,null,null,null,null,null,null,null,null,null,null,null,null,null,null,"C29","RES"]
[null,{"$f":"Parameters!Q31","v":"C30"},null,{"$f":"Parameters!S31","v":"Manufacture of other transport equipment"},null,null,null,null,null,null,null,null,null,null,null,null,null,null,null,null,null,null,null,null,null,null,null,null,null,null,null,null,null,null,null,null,null,null,null,null,null,null,null,null,null,null,null,null,null,null,null,null,null,null,null,null,null,null,null,null,null,null,null,null,null,null,null,null,null,null,null,null,null,null,null,null,null,null,null,null,null,null,null,null,null,null,null,null,null,null,"C30","RES"]
[null,{"$f":"Parameters!Q32","v":"C31-C33"},null,{"$f":"Parameters!S32","v":"Manufacture of furniture; jewellery, musical instruments, toys; repair and installation of machinery and equipment"}]
[null,{"$f":"Parameters!Q33","v":"C31_C32"},null,{"$f":"Parameters!S33","v":"Manufacture of furniture; other manufacturing"},null,null,null,null,null,null,null,null,null,null,null,null,null,null,null,null,null,null,null,null,null,null,null,null,null,null,null,null,null,null,null,null,null,null,null,null,null,null,null,null,null,null,null,null,null,null,null,null,null,null,null,null,null,null,null,null,null,null,null,null,null,null,null,null,null,null,null,null,null,null,null,null,null,null,null,null,null,null,null,null,null,null,null,null,null,null,"C31_32","RES"]
[null,{"$f":"Parameters!Q34","v":"C33"},null,{"$f":"Parameters!S34","v":"Repair and installation of machinery and equipment"},null,null,null,null,null,null,null,null,null,null,null,null,null,null,null,null,null,null,null,null,null,null,null,null,null,null,null,null,null,null,null,null,null,null,null,null,null,null,null,null,null,null,null,null,null,null,null,null,null,null,null,null,null,null,null,null,null,null,null,null,null,null,null,null,null,null,null,null,null,null,null,null,null,null,null,null,null,null,null,null,null,null,null,null,null,null,"C33","RES"]
[null,{"$f":"Parameters!Q35","v":"D"},null,{"$f":"Parameters!S35","v":"Electricity, gas, steam and air conditioning supply"},null,null,null,null,null,null,null,null,null,null,null,null,null,null,null,null,null,null,null,null,null,null,null,null,null,null,null,null,null,null,null,null,null,null,null,null,null,null,null,null,null,null,null,null,null,null,null,null,null,null,null,null,null,null,null,null,null,null,null,null,null,null,null,null,null,null,null,null,null,null,null,null,null,null,null,null,null,null,null,null,null,null,null,null,null,null,"D","RES"]
[null,{"$f":"Parameters!Q36","v":"E"},null,{"$f":"Parameters!S36","v":"Water supply; sewerage, waste management and remediation activities"},null,null,null,null,null,null,null,null,null,null,null,null,null,null,null,null,null,null,null,null,null,null,null,null,null,null,null,null,null,null,null,null,null,null,null,null,null,null,null,null,null,null,null,null,null,null,null,null,null,null,null,null,null,null,null,null,null,null,null,null,null,null,null,null,null,null,null,null,null,null,null,null,null,null,null,null,null,null,null,null,null,null,null,null,null,null,"E","RES"]
[null,{"$f":"Parameters!Q37","v":"E36"},null,{"$f":"Parameters!S37","v":"Water collection, treatment and supply"},null,null,null,null,null,null,null,null,null,null,null,null,null,null,null,null,null,null,null,null,null,null,null,null,null,null,null,null,null,null,null,null,null,null,null,null,null,null,null,null,null,null,null,null,null,null,null,null,null,null,null,null,null,null,null,null,null,null,null,null,null,null,null,null,null,null,null,null,null,null,null,null,null,null,null,null,null,null,null,null,null,null,null,null,null,null,"E36","RES"]
[null,{"$f":"Parameters!Q38","v":"E37-E39"},null,{"$f":"Parameters!S38","v":"Sewerage, waste management, remediation activities"},null,null,null,null,null,null,null,null,null,null,null,null,null,null,null,null,null,null,null,null,null,null,null,null,null,null,null,null,null,null,null,null,null,null,null,null,null,null,null,null,null,null,null,null,null,null,null,null,null,null,null,null,null,null,null,null,null,null,null,null,null,null,null,null,null,null,null,null,null,null,null,null,null,null,null,null,null,null,null,null,null,null,null,null,null,null,"E37T39","RES"]
[null,{"$f":"Parameters!Q39","v":"F"},null,{"$f":"Parameters!S39","v":"Construction"},null,null,null,null,null,null,null,null,null,null,null,null,null,null,null,null,null,null,null,null,null,null,null,null,null,null,null,null,null,null,null,null,null,null,null,null,null,null,null,null,null,null,null,null,null,null,null,null,null,null,null,null,null,null,null,null,null,null,null,null,null,null,null,null,null,null,null,null,null,null,null,null,null,null,null,null,null,null,null,null,null,null,null,null,null,null,"F","RES"]
[null,{"$f":"Parameters!Q40","v":"G"},null,{"$f":"Parameters!S40","v":"Wholesale and retail trade; repair of motor vehicles and motorcycles"},null,null,null,null,null,null,null,null,null,null,null,null,null,null,null,null,null,null,null,null,null,null,null,null,null,null,null,null,null,null,null,null,null,null,null,null,null,null,null,null,null,null,null,null,null,null,null,null,null,null,null,null,null,null,null,null,null,null,null,null,null,null,null,null,null,null,null,null,null,null,null,null,null,null,null,null,null,null,null,null,null,null,null,null,null,null,"G","RES"]
[null,{"$f":"Parameters!Q41","v":"G45"},null,{"$f":"Parameters!S41","v":"Wholesale and retail trade and repair of motor vehicles and motorcycles"},null,null,null,null,null,null,null,null,null,null,null,null,null,null,null,null,null,null,null,null,null,null,null,null,null,null,null,null,null,null,null,null,null,null,null,null,null,null,null,null,null,null,null,null,null,null,null,null,null,null,null,null,null,null,null,null,null,null,null,null,null,null,null,null,null,null,null,null,null,null,null,null,null,null,null,null,null,null,null,null,null,null,null,null,null,null,"G45","RES"]
[null,{"$f":"Parameters!Q42","v":"G46"},null,{"$f":"Parameters!S42","v":"Wholesale trade, except of motor vehicles and motorcycles"},null,null,null,null,null,null,null,null,null,null,null,null,null,null,null,null,null,null,null,null,null,null,null,null,null,null,null,null,null,null,null,null,null,null,null,null,null,null,null,null,null,null,null,null,null,null,null,null,null,null,null,null,null,null,null,null,null,null,null,null,null,null,null,null,null,null,null,null,null,null,null,null,null,null,null,null,null,null,null,null,null,null,null,null,null,null,"G46","RES"]
[null,{"$f":"Parameters!Q43","v":"G47"},null,{"$f":"Parameters!S43","v":"Retail trade, except of motor vehicles and motorcycles"},null,null,null,null,null,null,null,null,null,null,null,null,null,null,null,null,null,null,null,null,null,null,null,null,null,null,null,null,null,null,null,null,null,null,null,null,null,null,null,null,null,null,null,null,null,null,null,null,null,null,null,null,null,null,null,null,null,null,null,null,null,null,null,null,null,null,null,null,null,null,null,null,null,null,null,null,null,null,null,null,null,null,null,null,null,null,"G47","RES"]
[null,{"$f":"Parameters!Q44","v":"H"},null,{"$f":"Parameters!S44","v":"Transportation and storage"},null,null,null,null,null,null,null,null,null,null,null,null,null,null,null,null,null,null,null,null,null,null,null,null,null,null,null,null,null,null,null,null,null,null,null,null,null,null,null,null,null,null,null,null,null,null,null,null,null,null,null,null,null,null,null,null,null,null,null,null,null,null,null,null,null,null,null,null,null,null,null,null,null,null,null,null,null,null,null,null,null,null,null,null,null,null,"H","RES"]
[null,{"$f":"Parameters!Q45","v":"H49"},null,{"$f":"Parameters!S45","v":"Land transport and transport via pipelines"},null,null,null,null,null,null,null,null,null,null,null,null,null,null,null,null,null,null,null,null,null,null,null,null,null,null,null,null,null,null,null,null,null,null,null,null,null,null,null,null,null,null,null,null,null,null,null,null,null,null,null,null,null,null,null,null,null,null,null,null,null,null,null,null,null,null,null,null,null,null,null,null,null,null,null,null,null,null,null,null,null,null,null,null,null,null,"H49","RES"]
[null,{"$f":"Parameters!Q46","v":"H50"},null,{"$f":"Parameters!S46","v":"Water transport"},null,null,null,null,null,null,null,null,null,null,null,null,null,null,null,null,null,null,null,null,null,null,null,null,null,null,null,null,null,null,null,null,null,null,null,null,null,null,null,null,null,null,null,null,null,null,null,null,null,null,null,null,null,null,null,null,null,null,null,null,null,null,null,null,null,null,null,null,null,null,null,null,null,null,null,null,null,null,null,null,null,null,null,null,null,null,"H50","RES"]
[null,{"$f":"Parameters!Q47","v":"H51"},null,{"$f":"Parameters!S47","v":"Air transport"},null,null,null,null,null,null,null,null,null,null,null,null,null,null,null,null,null,null,null,null,null,null,null,null,null,null,null,null,null,null,null,null,null,null,null,null,null,null,null,null,null,null,null,null,null,null,null,null,null,null,null,null,null,null,null,null,null,null,null,null,null,null,null,null,null,null,null,null,null,null,null,null,null,null,null,null,null,null,null,null,null,null,null,null,null,null,"H51","RES"]
[null,{"$f":"Parameters!Q48","v":"H52"},null,{"$f":"Parameters!S48","v":"Warehousing and support activities for transportation"},null,null,null,null,null,null,null,null,null,null,null,null,null,null,null,null,null,null,null,null,null,null,null,null,null,null,null,null,null,null,null,null,null,null,null,null,null,null,null,null,null,null,null,null,null,null,null,null,null,null,null,null,null,null,null,null,null,null,null,null,null,null,null,null,null,null,null,null,null,null,null,null,null,null,null,null,null,null,null,null,null,null,null,null,null,null,"H52","RES"]
[null,{"$f":"Parameters!Q49","v":"H53"},null,{"$f":"Parameters!S49","v":"Postal and courier activities"},null,null,null,null,null,null,null,null,null,null,null,null,null,null,null,null,null,null,null,null,null,null,null,null,null,null,null,null,null,null,null,null,null,null,null,null,null,null,null,null,null,null,null,null,null,null,null,null,null,null,null,null,null,null,null,null,null,null,null,null,null,null,null,null,null,null,null,null,null,null,null,null,null,null,null,null,null,null,null,null,null,null,null,null,null,null,"H53","RES"]
[null,{"$f":"Parameters!Q50","v":"I"},null,{"$f":"Parameters!S50","v":"Accommodation and food service activities"},null,null,null,null,null,null,null,null,null,null,null,null,null,null,null,null,null,null,null,null,null,null,null,null,null,null,null,null,null,null,null,null,null,null,null,null,null,null,null,null,null,null,null,null,null,null,null,null,null,null,null,null,null,null,null,null,null,null,null,null,null,null,null,null,null,null,null,null,null,null,null,null,null,null,null,null,null,null,null,null,null,null,null,null,null,null,"I","RES"]
[null,{"$f":"Parameters!Q51","v":"J"},null,{"$f":"Parameters!S51","v":"Information and communication"},null,null,null,null,null,null,null,null,null,null,null,null,null,null,null,null,null,null,null,null,null,null,null,null,null,null,null,null,null,null,null,null,null,null,null,null,null,null,null,null,null,null,null,null,null,null,null,null,null,null,null,null,null,null,null,null,null,null,null,null,null,null,null,null,null,null,null,null,null,null,null,null,null,null,null,null,null,null,null,null,null,null,null,null,null,null,"J","RES"]
[null,{"$f":"Parameters!Q52","v":"J58-J60"},null,{"$f":"Parameters!S52","v":"Publishing, motion picture, video, television programme production; sound recording, programming and broadcasting activities"}]
[null,{"$f":"Parameters!Q53","v":"J58"},null,{"$f":"Parameters!S53","v":"Publishing activities"},null,null,null,null,null,null,null,null,null,null,null,null,null,null,null,null,null,null,null,null,null,null,null,null,null,null,null,null,null,null,null,null,null,null,null,null,null,null,null,null,null,null,null,null,null,null,null,null,null,null,null,null,null,null,null,null,null,null,null,null,null,null,null,null,null,null,null,null,null,null,null,null,null,null,null,null,null,null,null,null,null,null,null,null,null,null,"J58","RES"]
[null,{"$f":"Parameters!Q54","v":"J59_J60"},null,{"$f":"Parameters!S54","v":"Motion picture, video, television programme production; programming and broadcasting activities"},null,null,null,null,null,null,null,null,null,null,null,null,null,null,null,null,null,null,null,null,null,null,null,null,null,null,null,null,null,null,null,null,null,null,null,null,null,null,null,null,null,null,null,null,null,null,null,null,null,null,null,null,null,null,null,null,null,null,null,null,null,null,null,null,null,null,null,null,null,null,null,null,null,null,null,null,null,null,null,null,null,null,null,null,null,null,"J59_60","RES"]
[null,{"$f":"Parameters!Q55","v":"J61"},null,{"$f":"Parameters!S55","v":"Telecommunications"},null,null,null,null,null,null,null,null,null,null,null,null,null,null,null,null,null,null,null,null,null,null,null,null,null,null,null,null,null,null,null,null,null,null,null,null,null,null,null,null,null,null,null,null,null,null,null,null,null,null,null,null,null,null,null,null,null,null,null,null,null,null,null,null,null,null,null,null,null,null,null,null,null,null,null,null,null,null,null,null,null,null,null,null,null,null,"J61","RES"]
[null,{"$f":"Parameters!Q56","v":"J62_J63"},null,{"$f":"Parameters!S56","v":"Computer programming, consultancy, and information service activities"},null,null,null,null,null,null,null,null,null,null,null,null,null,null,null,null,null,null,null,null,null,null,null,null,null,null,null,null,null,null,null,null,null,null,null,null,null,null,null,null,null,null,null,null,null,null,null,null,null,null,null,null,null,null,null,null,null,null,null,null,null,null,null,null,null,null,null,null,null,null,null,null,null,null,null,null,null,null,null,null,null,null,null,null,null,null,"J62_63","RES"]
[null,{"$f":"Parameters!Q57","v":"K"},null,{"$f":"Parameters!S57","v":"Financial and insurance activities"},null,null,null,null,null,null,null,null,null,null,null,null,null,null,null,null,null,null,null,null,null,null,null,null,null,null,null,null,null,null,null,null,null,null,null,null,null,null,null,null,null,null,null,null,null,null,null,null,null,null,null,null,null,null,null,null,null,null,null,null,null,null,null,null,null,null,null,null,null,null,null,null,null,null,null,null,null,null,null,null,null,null,null,null,null,null,"K","RES"]
[null,{"$f":"Parameters!Q58","v":"K64"},null,{"$f":"Parameters!S58","v":"Financial service activities, except insurance and pension funding"},null,null,null,null,null,null,null,null,null,null,null,null,null,null,null,null,null,null,null,null,null,null,null,null,null,null,null,null,null,null,null,null,null,null,null,null,null,null,null,null,null,null,null,null,null,null,null,null,null,null,null,null,null,null,null,null,null,null,null,null,null,null,null,null,null,null,null,null,null,null,null,null,null,null,null,null,null,null,null,null,null,null,null,null,null,null,"K64","RES"]
[null,{"$f":"Parameters!Q59","v":"K65"},null,{"$f":"Parameters!S59","v":"Insurance, reinsurance and pension funding, except compulsory social security"},null,null,null,null,null,null,null,null,null,null,null,null,null,null,null,null,null,null,null,null,null,null,null,null,null,null,null,null,null,null,null,null,null,null,null,null,null,null,null,null,null,null,null,null,null,null,null,null,null,null,null,null,null,null,null,null,null,null,null,null,null,null,null,null,null,null,null,null,null,null,null,null,null,null,null,null,null,null,null,null,null,null,null,null,null,null,"K65","RES"]
[null,{"$f":"Parameters!Q60","v":"K66"},null,{"$f":"Parameters!S60","v":"Activities auxiliary to financial services and insurance activities"},null,null,null,null,null,null,null,null,null,null,null,null,null,null,null,null,null,null,null,null,null,null,null,null,null,null,null,null,null,null,null,null,null,null,null,null,null,null,null,null,null,null,null,null,null,null,null,null,null,null,null,null,null,null,null,null,null,null,null,null,null,null,null,null,null,null,null,null,null,null,null,null,null,null,null,null,null,null,null,null,null,null,null,null,null,null,"K66","RES"]
[null,{"$f":"Parameters!Q61","v":"L"},null,{"$f":"Parameters!S61","v":"Real estate activities"},null,null,null,null,null,null,null,null,null,null,null,null,null,null,null,null,null,null,null,null,null,null,null,null,null,null,null,null,null,null,null,null,null,null,null,null,null,null,null,null,null,null,null,null,null,null,null,null,null,null,null,null,null,null,null,null,null,null,null,null,null,null,null,null,null,null,null,null,null,null,null,null,null,null,null,null,null,null,null,null,null,null,null,null,null,null,"L","RES"]
[null,{"$f":"Parameters!Q62","v":"L68A"},null,{"$f":"Parameters!S62","v":"Imputed rents of owner-occupied dwellings"},null,null,null,null,null,null,null,null,null,null,null,null,null,null,null,null,null,null,null,null,null,null,null,null,null,null,null,null,null,null,null,null,null,null,null,null,null,null,null,null,null,null,null,null,null,null,null,null,null,null,null,null,null,null,null,null,null,null,null,null,null,null,null,null,null,null,null,null,null,null,null,null,null,null,null,null,null,null,null,null,null,null,null,null,null,null,"L68A","RES"]
[null,{"$f":"Parameters!Q63","v":"M"},null,{"$f":"Parameters!S63","v":"Professional, scientific and technical activities"},null,null,null,null,null,null,null,null,null,null,null,null,null,null,null,null,null,null,null,null,null,null,null,null,null,null,null,null,null,null,null,null,null,null,null,null,null,null,null,null,null,null,null,null,null,null,null,null,null,null,null,null,null,null,null,null,null,null,null,null,null,null,null,null,null,null,null,null,null,null,null,null,null,null,null,null,null,null,null,null,null,null,null,null,null,null,"M","RES"]
[null,{"$f":"Parameters!Q64","v":"M69-M71"},null,{"$f":"Parameters!S64","v":"Legal and accounting activities; activities of head offices; management consultancy activities; architectural and engineering activities; technical testing and analysis"}]
[null,{"$f":"Parameters!Q65","v":"M69_M70"},null,{"$f":"Parameters!S65","v":"Legal and accounting activities; activities of head offices; management consultancy activities"},null,null,null,null,null,null,null,null,null,null,null,null,null,null,null,null,null,null,null,null,null,null,null,null,null,null,null,null,null,null,null,null,null,null,null,null,null,null,null,null,null,null,null,null,null,null,null,null,null,null,null,null,null,null,null,null,null,null,null,null,null,null,null,null,null,null,null,null,null,null,null,null,null,null,null,null,null,null,null,null,null,null,null,null,null,null,"M69_70","RES"]
[null,{"$f":"Parameters!Q66","v":"M71"},null,{"$f":"Parameters!S66","v":"Architectural and engineering activities; technical testing and analysis"},null,null,null,null,null,null,null,null,null,null,null,null,null,null,null,null,null,null,null,null,null,null,null,null,null,null,null,null,null,null,null,null,null,null,null,null,null,null,null,null,null,null,null,null,null,null,null,null,null,null,null,null,null,null,null,null,null,null,null,null,null,null,null,null,null,null,null,null,null,null,null,null,null,null,null,null,null,null,null,null,null,null,null,null,null,null,"M71","RES"]
[null,{"$f":"Parameters!Q67","v":"M72"},null,{"$f":"Parameters!S67","v":"Scientific research and development"},null,null,null,null,null,null,null,null,null,null,null,null,null,null,null,null,null,null,null,null,null,null,null,null,null,null,null,null,null,null,null,null,null,null,null,null,null,null,null,null,null,null,null,null,null,null,null,null,null,null,null,null,null,null,null,null,null,null,null,null,null,null,null,null,null,null,null,null,null,null,null,null,null,null,null,null,null,null,null,null,null,null,null,null,null,null,"M72","RES"]
[null,{"$f":"Parameters!Q68","v":"M73-M75"},null,{"$f":"Parameters!S68","v":"Advertising and market research; other professional, scientific and technical activities; veterinary activities"}]
[null,{"$f":"Parameters!Q69","v":"M73"},null,{"$f":"Parameters!S69","v":"Advertising and market research"},null,null,null,null,null,null,null,null,null,null,null,null,null,null,null,null,null,null,null,null,null,null,null,null,null,null,null,null,null,null,null,null,null,null,null,null,null,null,null,null,null,null,null,null,null,null,null,null,null,null,null,null,null,null,null,null,null,null,null,null,null,null,null,null,null,null,null,null,null,null,null,null,null,null,null,null,null,null,null,null,null,null,null,null,null,null,"M73","RES"]
[null,{"$f":"Parameters!Q70","v":"M74_M75"},null,{"$f":"Parameters!S70","v":"Other professional, scientific and technical activities; veterinary activities"},null,null,null,null,null,null,null,null,null,null,null,null,null,null,null,null,null,null,null,null,null,null,null,null,null,null,null,null,null,null,null,null,null,null,null,null,null,null,null,null,null,null,null,null,null,null,null,null,null,null,null,null,null,null,null,null,null,null,null,null,null,null,null,null,null,null,null,null,null,null,null,null,null,null,null,null,null,null,null,null,null,null,null,null,null,null,"M74_75","RES"]
[null,{"$f":"Parameters!Q71","v":"N"},null,{"$f":"Parameters!S71","v":"Administrative and support service activities"},null,null,null,null,null,null,null,null,null,null,null,null,null,null,null,null,null,null,null,null,null,null,null,null,null,null,null,null,null,null,null,null,null,null,null,null,null,null,null,null,null,null,null,null,null,null,null,null,null,null,null,null,null,null,null,null,null,null,null,null,null,null,null,null,null,null,null,null,null,null,null,null,null,null,null,null,null,null,null,null,null,null,null,null,null,null,"N","RES"]
[null,{"$f":"Parameters!Q72","v":"N77"},null,{"$f":"Parameters!S72","v":"Rental and leasing activities"},null,null,null,null,null,null,null,null,null,null,null,null,null,null,null,null,null,null,null,null,null,null,null,null,null,null,null,null,null,null,null,null,null,null,null,null,null,null,null,null,null,null,null,null,null,null,null,null,null,null,null,null,null,null,null,null,null,null,null,null,null,null,null,null,null,null,null,null,null,null,null,null,null,null,null,null,null,null,null,null,null,null,null,null,null,null,"N77","RES"]
[null,{"$f":"Parameters!Q73","v":"N78"},null,{"$f":"Parameters!S73","v":"Employment activities"},null,null,null,null,null,null,null,null,null,null,null,null,null,null,null,null,null,null,null,null,null,null,null,null,null,null,null,null,null,null,null,null,null,null,null,null,null,null,null,null,null,null,null,null,null,null,null,null,null,null,null,null,null,null,null,null,null,null,null,null,null,null,null,null,null,null,null,null,null,null,null,null,null,null,null,null,null,null,null,null,null,null,null,null,null,null,"N78","RES"]
[null,{"$f":"Parameters!Q74","v":"N79"},null,{"$f":"Parameters!S74","v":"Travel agency, tour operator reservation service and related activities"},null,null,null,null,null,null,null,null,null,null,null,null,null,null,null,null,null,null,null,null,null,null,null,null,null,null,null,null,null,null,null,null,null,null,null,null,null,null,null,null,null,null,null,null,null,null,null,null,null,null,null,null,null,null,null,null,null,null,null,null,null,null,null,null,null,null,null,null,null,null,null,null,null,null,null,null,null,null,null,null,null,null,null,null,null,null,"N79","RES"]
[null,{"$f":"Parameters!Q75","v":"N80-N82"},null,{"$f":"Parameters!S75","v":"Security and investigation, service and landscape, office administrative and support activities"},null,null,null,null,null,null,null,null,null,null,null,null,null,null,null,null,null,null,null,null,null,null,null,null,null,null,null,null,null,null,null,null,null,null,null,null,null,null,null,null,null,null,null,null,null,null,null,null,null,null,null,null,null,null,null,null,null,null,null,null,null,null,null,null,null,null,null,null,null,null,null,null,null,null,null,null,null,null,null,null,null,null,null,null,null,null,"N80T82","RES"]
[null,{"$f":"Parameters!Q76","v":"O"},null,{"$f":"Parameters!S76","v":"Public administration and defence; compulsory social security"},null,null,null,null,null,null,null,null,null,null,null,null,null,null,null,null,null,null,null,null,null,null,null,null,null,null,null,null,null,null,null,null,null,null,null,null,null,null,null,null,null,null,null,null,null,null,null,null,null,null,null,null,null,null,null,null,null,null,null,null,null,null,null,null,null,null,null,null,null,null,null,null,null,null,null,null,null,null,null,null,null,null,null,null,null,null,"O","RES"]
[null,{"$f":"Parameters!Q77","v":"P"},null,{"$f":"Parameters!S77","v":"Education"},null,null,null,null,null,null,null,null,null,null,null,null,null,null,null,null,null,null,null,null,null,null,null,null,null,null,null,null,null,null,null,null,null,null,null,null,null,null,null,null,null,null,null,null,null,null,null,null,null,null,null,null,null,null,null,null,null,null,null,null,null,null,null,null,null,null,null,null,null,null,null,null,null,null,null,null,null,null,null,null,null,null,null,null,null,null,"P","RES"]
[null,{"$f":"Parameters!Q78","v":"Q"},null,{"$f":"Parameters!S78","v":"Human health and social work activities"},null,null,null,null,null,null,null,null,null,null,null,null,null,null,null,null,null,null,null,null,null,null,null,null,null,null,null,null,null,null,null,null,null,null,null,null,null,null,null,null,null,null,null,null,null,null,null,null,null,null,null,null,null,null,null,null,null,null,null,null,null,null,null,null,null,null,null,null,null,null,null,null,null,null,null,null,null,null,null,null,null,null,null,null,null,null,"Q","RES"]
[null,{"$f":"Parameters!Q79","v":"Q86"},null,{"$f":"Parameters!S79","v":"Human health activities"},null,null,null,null,null,null,null,null,null,null,null,null,null,null,null,null,null,null,null,null,null,null,null,null,null,null,null,null,null,null,null,null,null,null,null,null,null,null,null,null,null,null,null,null,null,null,null,null,null,null,null,null,null,null,null,null,null,null,null,null,null,null,null,null,null,null,null,null,null,null,null,null,null,null,null,null,null,null,null,null,null,null,null,null,null,null,"Q86","RES"]
[null,{"$f":"Parameters!Q80","v":"Q87_Q88"},null,{"$f":"Parameters!S80","v":"Residential care activities and social work activities without accommodation"},null,null,null,null,null,null,null,null,null,null,null,null,null,null,null,null,null,null,null,null,null,null,null,null,null,null,null,null,null,null,null,null,null,null,null,null,null,null,null,null,null,null,null,null,null,null,null,null,null,null,null,null,null,null,null,null,null,null,null,null,null,null,null,null,null,null,null,null,null,null,null,null,null,null,null,null,null,null,null,null,null,null,null,null,null,null,"Q87_88","RES"]
[null,{"$f":"Parameters!Q81","v":"R"},null,{"$f":"Parameters!S81","v":"Arts, entertainment and recreation"},null,null,null,null,null,null,null,null,null,null,null,null,null,null,null,null,null,null,null,null,null,null,null,null,null,null,null,null,null,null,null,null,null,null,null,null,null,null,null,null,null,null,null,null,null,null,null,null,null,null,null,null,null,null,null,null,null,null,null,null,null,null,null,null,null,null,null,null,null,null,null,null,null,null,null,null,null,null,null,null,null,null,null,null,null,null,"R","RES"]
[null,{"$f":"Parameters!Q82","v":"R90-R92"},null,{"$f":"Parameters!S82","v":"Creative, arts and entertainment activities; libraries, archives, museums and other cultural activities; gambling and betting activities"},null,null,null,null,null,null,null,null,null,null,null,null,null,null,null,null,null,null,null,null,null,null,null,null,null,null,null,null,null,null,null,null,null,null,null,null,null,null,null,null,null,null,null,null,null,null,null,null,null,null,null,null,null,null,null,null,null,null,null,null,null,null,null,null,null,null,null,null,null,null,null,null,null,null,null,null,null,null,null,null,null,null,null,null,null,null,"R90T92","RES"]
[null,{"$f":"Parameters!Q83","v":"R93"},null,{"$f":"Parameters!S83","v":"Sports activities and amusement and recreation activities"},null,null,null,null,null,null,null,null,null,null,null,null,null,null,null,null,null,null,null,null,null,null,null,null,null,null,null,null,null,null,null,null,null,null,null,null,null,null,null,null,null,null,null,null,null,null,null,null,null,null,null,null,null,null,null,null,null,null,null,null,null,null,null,null,null,null,null,null,null,null,null,null,null,null,null,null,null,null,null,null,null,null,null,null,null,null,"R93","RES"]
[null,{"$f":"Parameters!Q84","v":"S"},null,{"$f":"Parameters!S84","v":"Other service activities"},null,null,null,null,null,null,null,null,null,null,null,null,null,null,null,null,null,null,null,null,null,null,null,null,null,null,null,null,null,null,null,null,null,null,null,null,null,null,null,null,null,null,null,null,null,null,null,null,null,null,null,null,null,null,null,null,null,null,null,null,null,null,null,null,null,null,null,null,null,null,null,null,null,null,null,null,null,null,null,null,null,null,null,null,null,null,"S","RES"]
[null,{"$f":"Parameters!Q85","v":"S94"},null,{"$f":"Parameters!S85","v":"Activities of membership organisations"},null,null,null,null,null,null,null,null,null,null,null,null,null,null,null,null,null,null,null,null,null,null,null,null,null,null,null,null,null,null,null,null,null,null,null,null,null,null,null,null,null,null,null,null,null,null,null,null,null,null,null,null,null,null,null,null,null,null,null,null,null,null,null,null,null,null,null,null,null,null,null,null,null,null,null,null,null,null,null,null,null,null,null,null,null,null,"S94","RES"]
[null,{"$f":"Parameters!Q86","v":"S95"},null,{"$f":"Parameters!S86","v":"Repair of computers and personal and household goods"},null,null,null,null,null,null,null,null,null,null,null,null,null,null,null,null,null,null,null,null,null,null,null,null,null,null,null,null,null,null,null,null,null,null,null,null,null,null,null,null,null,null,null,null,null,null,null,null,null,null,null,null,null,null,null,null,null,null,null,null,null,null,null,null,null,null,null,null,null,null,null,null,null,null,null,null,null,null,null,null,null,null,null,null,null,null,"S95","RES"]
[null,{"$f":"Parameters!Q87","v":"S96"},null,{"$f":"Parameters!S87","v":"Other personal service activities"},null,null,null,null,null,null,null,null,null,null,null,null,null,null,null,null,null,null,null,null,null,null,null,null,null,null,null,null,null,null,null,null,null,null,null,null,null,null,null,null,null,null,null,null,null,null,null,null,null,null,null,null,null,null,null,null,null,null,null,null,null,null,null,null,null,null,null,null,null,null,null,null,null,null,null,null,null,null,null,null,null,null,null,null,null,null,"S96","RES"]
[null,{"$f":"Parameters!Q88","v":"T"},null,{"$f":"Parameters!S88","v":"Activities of households as employers; undifferentiated goods- and services-producing activities of households for own use"},null,null,null,null,null,null,null,null,null,null,null,null,null,null,null,null,null,null,null,null,null,null,null,null,null,null,null,null,null,null,null,null,null,null,null,null,null,null,null,null,null,null,null,null,null,null,null,null,null,null,null,null,null,null,null,null,null,null,null,null,null,null,null,null,null,null,null,null,null,null,null,null,null,null,null,null,null,null,null,null,null,null,null,null,null,null,"T","RES"]
[null,{"$f":"Parameters!Q89","v":"U"},null,{"$f":"Parameters!S89","v":"Activities of extraterritorial organisations and bodies"},null,null,null,null,null,null,null,null,null,null,null,null,null,null,null,null,null,null,null,null,null,null,null,null,null,null,null,null,null,null,null,null,null,null,null,null,null,null,null,null,null,null,null,null,null,null,null,null,null,null,null,null,null,null,null,null,null,null,null,null,null,null,null,null,null,null,null,null,null,null,null,null,null,null,null,null,null,null,null,null,null,null,null,null,null,null,"U","RES"]
[null,"   Household air emissions\n                                          Households, totals",null,null,null,null,null,null,null,null,null,null,null,null,null,null,null,null,null,null,null,null,null,null,null,null,null,null,null,null,null,null,null,null,null,null,null,null,null,null,null,null,null,null,null,null,null,null,null,null,null,null,null,null,null,null,null,null,null,null,null,null,null,null,null,null,null,null,null,null,null,null,null,null,null,null,null,null,null,null,null,null,null,null,null,null,null,null,null,null,"HH","RES"]
[null,null,null,"- Transport",null,null,null,null,null,null,null,null,null,null,null,null,null,null,null,null,null,null,null,null,null,null,null,null,null,null,null,null,null,null,null,null,null,null,null,null,null,null,null,null,null,null,null,null,null,null,null,null,null,null,null,null,null,null,null,null,null,null,null,null,null,null,null,null,null,null,null,null,null,null,null,null,null,null,null,null,null,null,null,null,null,null,null,null,null,null,"HH_TR","RES"]
[null,null,null,"- Heating/cooling",null,null,null,null,null,null,null,null,null,null,null,null,null,null,null,null,null,null,null,null,null,null,null,null,null,null,null,null,null,null,null,null,null,null,null,null,null,null,null,null,null,null,null,null,null,null,null,null,null,null,null,null,null,null,null,null,null,null,null,null,null,null,null,null,null,null,null,null,null,null,null,null,null,null,null,null,null,null,null,null,null,null,null,null,null,null,"HH_HEAT","RES"]
[null,null,null,"- Other",null,null,null,null,null,null,null,null,null,null,null,null,null,null,null,null,null,null,null,null,null,null,null,null,null,null,null,null,null,null,null,null,null,null,null,null,null,null,null,null,null,null,null,null,null,null,null,null,null,null,null,null,null,null,null,null,null,null,null,null,null,null,null,null,null,null,null,null,null,null,null,null,null,null,null,null,null,null,null,null,null,null,null,null,null,null,"HH_OTH","RES"]
[null,"   Bridging items\n\n1                              Total Air emissions accounts (industry (row 5) + households (row 91))",null,null,null,null,null,null,null,null,null,null,null,null,null,null,null,null,null,null,null,null,null,null,null,null,null,null,null,null,null,null,null,null,null,null,null,null,null,null,null,null,null,null,null,null,null,null,null,null,null,null,null,null,null,null,null,null,null,null,null,null,null,null,null,null,null,null,null,null,null,null,null,null,null,null,null,null,null,null,null,null,null,null,null,null,null,null,null,null,"ATU_HH","RES"]
[null,2,null,"less National residents abroad",null,null,null,null,null,null,null,null,null,null,null,null,null,null,null,null,null,null,null,null,null,null,null,null,null,null,null,null,null,null,null,null,null,null,null,null,null,null,null,null,null,null,null,null,null,null,null,null,null,null,null,null,null,null,null,null,null,null,null,null,null,null,null,null,null,null,null,null,null,null,null,null,null,null,null,null,null,null,null,null,null,null,null,null,null,null,"ATU_HH","RES_ABR"]
[null,2.1,null,"-  National fishing vessels operating abroad",null,null,null,null,null,null,null,null,null,null,null,null,null,null,null,null,null,null,null,null,null,null,null,null,null,null,null,null,null,null,null,null,null,null,null,null,null,null,null,null,null,null,null,null,null,null,null,null,null,null,null,null,null,null,null,null,null,null,null,null,null,null,null,null,null,null,null,null,null,null,null,null,null,null,null,null,null,null,null,null,null,null,null,null,null,null,"ATU_HH","RES_ABR_FWTR"]
[null,2.2000000000000002,null,"-  Land transport",null,null,null,null,null,null,null,null,null,null,null,null,null,null,null,null,null,null,null,null,null,null,null,null,null,null,null,null,null,null,null,null,null,null,null,null,null,null,null,null,null,null,null,null,null,null,null,null,null,null,null,null,null,null,null,null,null,null,null,null,null,null,null,null,null,null,null,null,null,null,null,null,null,null,null,null,null,null,null,null,null,null,null,null,null,null,"ATU_HH","RES_ABR_LTR"]
[null,2.2999999999999998,null,"-  Water transport",null,null,null,null,null,null,null,null,null,null,null,null,null,null,null,null,null,null,null,null,null,null,null,null,null,null,null,null,null,null,null,null,null,null,null,null,null,null,null,null,null,null,null,null,null,null,null,null,null,null,null,null,null,null,null,null,null,null,null,null,null,null,null,null,null,null,null,null,null,null,null,null,null,null,null,null,null,null,null,null,null,null,null,null,null,null,"ATU_HH","RES_ABR_WTR"]
[null,2.4,null,"-  Air transport",null,null,null,null,null,null,null,null,null,null,null,null,null,null,null,null,null,null,null,null,null,null,null,null,null,null,null,null,null,null,null,null,null,null,null,null,null,null,null,null,null,null,null,null,null,null,null,null,null,null,null,null,null,null,null,null,null,null,null,null,null,null,null,null,null,null,null,null,null,null,null,null,null,null,null,null,null,null,null,null,null,null,null,null,null,null,"ATU_HH","RES_ABR_ATR"]
[null,3,null,"plus Non-residents on the territory",null,null,null,null,null,null,null,null,null,null,null,null,null,null,null,null,null,null,null,null,null,null,null,null,null,null,null,null,null,null,null,null,null,null,null,null,null,null,null,null,null,null,null,null,null,null,null,null,null,null,null,null,null,null,null,null,null,null,null,null,null,null,null,null,null,null,null,null,null,null,null,null,null,null,null,null,null,null,null,null,null,null,null,null,null,null,"ATU_HH","TER_NRES"]
[null,3.1,null,"+  Land transport",null,null,null,null,null,null,null,null,null,null,null,null,null,null,null,null,null,null,null,null,null,null,null,null,null,null,null,null,null,null,null,null,null,null,null,null,null,null,null,null,null,null,null,null,null,null,null,null,null,null,null,null,null,null,null,null,null,null,null,null,null,null,null,null,null,null,null,null,null,null,null,null,null,null,null,null,null,null,null,null,null,null,null,null,null,null,"ATU_HH","TER_NRES_LTR"]
[null,3.2,null,"+ Water transport",null,null,null,null,null,null,null,null,null,null,null,null,null,null,null,null,null,null,null,null,null,null,null,null,null,null,null,null,null,null,null,null,null,null,null,null,null,null,null,null,null,null,null,null,null,null,null,null,null,null,null,null,null,null,null,null,null,null,null,null,null,null,null,null,null,null,null,null,null,null,null,null,null,null,null,null,null,null,null,null,null,null,null,null,null,null,"ATU_HH","TER_NRES_WTR"]
[null,3.3,null,"+  Air transport",null,null,null,null,null,null,null,null,null,null,null,null,null,null,null,null,null,null,null,null,null,null,null,null,null,null,null,null,null,null,null,null,null,null,null,null,null,null,null,null,null,null,null,null,null,null,null,null,null,null,null,null,null,null,null,null,null,null,null,null,null,null,null,null,null,null,null,null,null,null,null,null,null,null,null,null,null,null,null,null,null,null,null,null,null,null,"ATU_HH","TER_NRES_ATR"]
[null,4,null,"Other adjustments and statistical discrepancy",null,null,null,null,null,null,null,null,null,null,null,null,null,null,null,null,null,null,null,null,null,null,null,null,null,null,null,null,null,null,null,null,null,null,null,null,null,null,null,null,null,null,null,null,null,null,null,null,null,null,null,null,null,null,null,null,null,null,null,null,null,null,null,null,null,null,null,null,null,null,null,null,null,null,null,null,null,null,null,null,null,null,null,null,null,null,"ATU_HH","ADJ_SD"]
[null,5,null,"Road transport emissions (NFR 1.A.3.b) as reported to CLRTAP (Annex 1)",null,null,null,null,null,null,null,null,null,null,null,null,null,null,null,null,null,null,null,null,null,null,null,null,null,null,null,null,null,null,null,null,null,null,null,null,null,null,null,null,null,null,null,null,null,null,null,null,null,null,null,null,null,null,null,null,null,null,null,null,null,null,null,null,null,null,null,null,null,null,null,null,null,null,null,null,null,null,null,null,null,null,null,null,null,null,"ATU_HH","TER"]
[null,null,null,"Year of submission to CLRTAP"]
[]
[null,"Explanatory notes for bridging items:"]
[null,1,"Total Air emissions accounts (industry (row 5) + households (row 91)) - residence principle"]
[]
[null,2.1,"Fishing vessels operated by resident units bunkering outside of the reporting country"]
[null,2.2000000000000002,"Land transport (incl. rail) by resident units fuelling outside of the reporting country"]
[null,2.2999999999999998,"Any navigation by resident units bunkering at ports outside of the reporting country and international navigation by resident units bunkering at ports of the reporting country"]
[null,2.4,"Any aviation by resident units bunkering at airports outside of the reporting country and any cruise aviation by resident units bunkering at airports of the reporting country"]
[]
[null,3.1,"Land transport (incl. rail) by non-resident units fuelling on the territory of the reporting country"]
[null,3.2,"National and international inland waterways navigation by non-residents bunkering at ports of the reporting country"]
[null,3.3,"LTO (landing and take off) aviation by non-residents bunkering at  airports of the reporting country"]
[]
[null,5,"National totals in CLRTAP inventories include all LTO aviation departing from domestic airports - territory principle"]
[null,null,"National totals in CLRTAP inventories include all national and international inland waterways navigation for which the fuel is bunkered in ports of the reporting country - territory principle"]

{"sheet":"Check Report","index":30,"n_rows":1,"n_cols":5,"rows_kept":1,"cut":false,"hidden":false,"merged":[]}
["Pollutant","Error type","Cells","Correct total of parts or Error Message","Click on a cell address to be directed to the detected error"]