Workbook

Sheet Annual Report 2022
A1: Annual Report 2022
B2: 45342
D3: RAIL | I3: ROAD | O3: IWW | S3: OIL | V3: ROADVKM | Y3: BUSES | AC3: in number of indicators, 2 months after 1st release | AF3: 2 months after 1st release
D4: I | E4: II | F4: III | G4: IV | H4: V | I4: I | J4: II | K4: III | L4: IV | M4: V | N4: VII | O4: I | P4: II | Q4: III | R4: V | S4: I | T4: III | U4: V | V4: I | W4: II | X4: III | Y4: I | Z4: IV | AC4: 2019 | AD4: 2020 | AE4: 2021 | AF4: 2022 | AG4: =AF4&" - "&AE4 -> 2022 - 2021
A6: EU-27 | B6: EU-27 | AB6: EU-27 | AC6: ='Annual report 2019'!AH6 -> 0.40160942 | AD6: ='Annual Report 2020'!AH6 -> 0.41964608 | AE6: ='Annual Report 2021'!AH6 -> 0.44981853 | AF6: =AVERAGE(AF7:AF33) -> 0.47546911 | AG6: =AF6-AE6 -> 0.025650582 | AI6: LV | AJ6: 0.80850683 | AL6: CZ | AM6: 0.19545279
A7: BEL | B7: BE | C7: 2022 | D7: 46% | E7: 0% | F7: 10% | G7: 12% | H7: 12% | I7: 0% | J7: 69% | K7: 0% | L7: 0% | M7: 0% | N7: 100% | O7: 0% | P7: 70% | Q7: 0% | R7: 30% | S7: 0% | T7: 0% | U7: 0% | V7: 0% | W7: 0% | X7: 0% | Y7: 0% | Z7: 0% | AB7: BE | AC7: ='Annual report 2019'!AH7 -> 0.15636802 | AD7: ='Annual Report 2020'!AH7 -> 0.1783237 | AE7: ='Annual Report 2021'!AH7 -> 0.19560694 | AF7: =(D7*D$79+E7*E$79+F7*F$79+G7*G$79+H7*H$79+I7*I$79+J7*J$79+K7*K$79+L7*L$79+M7*M$79+N7*N$79+O7*O$79+P7*P$79+Q7*Q$79+R7*R$79+S7*S$79+T7*T$79+U7*U$79+V7*V$79+W7*W$79+X7*X$79+Y7*Y$79+Z7*Z$79)/SUM(D$79:Z$79) -> 0.26898844 | AG7: =AF7-AE7 -> 0.073381503 | AI7: MT | AJ7: 0.70868102 | AL7: LU | AM7: 0.081585244
A8: BGR | B8: BG | C8: 2022 | D8: 94% | E8: 0% | F8: 40% | G8: 0% | H8: 45% | I8: 80% | J8: 28% | K8: 0% | L8: 60% | M8: 66% | N8: 92% | O8: 18% | P8: 72% | Q8: 0% | R8: 45% | S8: 100% | T8: 0% | U8: 40% | V8: 20% | W8: 9% | X8: 2% | Y8: 45% | Z8: 50% | AB8: BG | AC8: ='Annual report 2019'!AH8 -> 0.20672447 | AD8: ='Annual Report 2020'!AH8 -> 0.23306358 | AE8: ='Annual Report 2021'!AH8 -> 0.25094412 | AF8: =(D8*D$79+E8*E$79+F8*F$79+G8*G$79+H8*H$79+I8*I$79+J8*J$79+K8*K$79+L8*L$79+M8*M$79+N8*N$79+O8*O$79+P8*P$79+Q8*Q$79+R8*R$79+S8*S$79+T8*T$79+U8*U$79+V8*V$79+W8*W$79+X8*X$79+Y8*Y$79+Z8*Z$79)/SUM(D$79:Z$79) -> 0.28041426 | AG8: =AF8-AE8 -> 0.029470135 | AI8: LT | AJ8: 0.68361272 | AL8: LT | AM8: 0.071531792
A9: CZE | B9: CZ | C9: 2022 | D9: 100% | E9: 76% | F9: 70% | G9: 92% | H9: 85% | I9: 80% | J9: 35% | K9: 50% | L9: 10% | M9: 69% | N9: 100% | O9: 100% | P9: 59% | Q9: 50% | R9: 78% | S9: 100% | T9: 100% | U9: 100% | V9: 1% | W9: 4% | X9: 97% | Y9: 0% | Z9: 63% | AB9: CZ | AC9: ='Annual report 2019'!AH9 -> 0.36762042 | AD9: ='Annual Report 2020'!AH9 -> 0.37181118 | AE9: ='Annual Report 2021'!AH9 -> 0.42515414 | AF9: =(D9*D$79+E9*E$79+F9*F$79+G9*G$79+H9*H$79+I9*I$79+J9*J$79+K9*K$79+L9*L$79+M9*M$79+N9*N$79+O9*O$79+P9*P$79+Q9*Q$79+R9*R$79+S9*S$79+T9*T$79+U9*U$79+V9*V$79+W9*W$79+X9*X$79+Y9*Y$79+Z9*Z$79)/SUM(D$79:Z$79) -> 0.62060694 | AG9: =AF9-AE9 -> 0.19545279 | AI9: FR | AJ9: 0.65420039 | AL9: HR | AM9: 0.059624277
A10: DNK | B10: DK | C10: 2022 | D10: 92% | E10: 58% | F10: 70% | G10: 7% | H10: 45% | I10: 60% | J10: 50% | K10: 50% | L10: 50% | M10: 77% | N10: 96% | S10: 50% | T10: 0% | U10: 100% | V10: 31% | W10: 0% | X10: 0% | Y10: 9% | Z10: 4% | AB10: DK | AC10: ='Annual report 2019'!AH10 -> 0.21870662 | AD10: ='Annual Report 2020'!AH10 -> 0.2808307 | AE10: ='Annual Report 2021'!AH10 -> 0.33768665 | AF10: =(D10*D$79+E10*E$79+F10*F$79+G10*G$79+H10*H$79+I10*I$79+J10*J$79+K10*K$79+L10*L$79+M10*M$79+N10*N$79+S10*S$79+T10*T$79+U10*U$79+V10*V$79+W10*W$79+X10*X$79+Y10*Y$79+Z10*Z$79)/SUM(D$79:N$79,S$79:Z$79) -> 0.35911672 | AG10: =AF10-AE10 -> 0.021430074 | AI10: CZ | AJ10: 0.62060694
A11: DEU | B11: DE | C11: 2022 | D11: 92% | E11: 0% | F11: 20% | G11: 0% | H11: 0% | I11: 50% | J11: 77% | K11: 50% | L11: 50% | M11: 94% | N11: 96% | O11: 100% | P11: 18% | Q11: 33% | R11: 100% | S11: 50% | T11: 33% | U11: 40% | V11: 0% | W11: 0% | X11: 31% | Y11: 54% | Z11: 36% | AB11: DE | AC11: ='Annual report 2019'!AH11 -> 0.41419075 | AD11: ='Annual Report 2020'!AH11 -> 0.35577071 | AE11: ='Annual Report 2021'!AH11 -> 0.44401734 | AF11: =(D11*D$79+E11*E$79+F11*F$79+G11*G$79+H11*H$79+I11*I$79+J11*J$79+K11*K$79+L11*L$79+M11*M$79+N11*N$79+O11*O$79+P11*P$79+Q11*Q$79+R11*R$79+S11*S$79+T11*T$79+U11*U$79+V11*V$79+W11*W$79+X11*X$79+Y11*Y$79+Z11*Z$79)/SUM(D$79:Z$79) -> 0.45467245 | AG11: =AF11-AE11 -> 0.010655106 | AI11: SE | AJ11: 0.6144666
A12: EST | B12: EE | C12: 2022 | D12: 100% | E12: 86% | F12: 50% | G12: 17% | H12: 60% | I12: 80% | J12: 78% | K12: 16% | L12: 50% | M12: 75% | N12: 8% | V12: 9% | W12: 18% | X12: 2% | Y12: 81% | Z12: 81% | AB12: EE | AC12: ='Annual report 2019'!AH12 -> 0.44470524 | AD12: ='Annual Report 2020'!AH12 -> 0.44751092 | AE12: ='Annual Report 2021'!AH12 -> 0.46938865 | AF12: =(D12*D$79+E12*E$79+F12*F$79+G12*G$79+H12*H$79+I12*I$79+J12*J$79+K12*K$79+L12*L$79+M12*M$79+N12*N$79+V12*V$79+W12*W$79+X12*X$79+Y12*Y$79+Z12*Z$79)/SUM(D$79:N$79,V$79:Z$79) -> 0.45554585 | AG12: =AF12-AE12 -> -0.013842795 | AI12: HR | AJ12: 0.54623314
A13: IRL | B13: IE | C13: 2022 | D13: 100% | E13: 0% | F13: 0% | G13: 0% | H13: 0% | I13: 50% | J13: 68% | K13: 0% | L13: 100% | M13: 61% | N13: 100% | V13: 37% | W13: 10% | X13: 23% | Y13: 45% | Z13: 22% | AB13: IE | AC13: ='Annual report 2019'!AH13 -> 0.31509825 | AD13: ='Annual Report 2020'!AH13 -> 0.29296943 | AE13: ='Annual Report 2021'!AH13 -> 0.37204148 | AF13: =(D13*D$79+E13*E$79+F13*F$79+G13*G$79+H13*H$79+I13*I$79+J13*J$79+K13*K$79+L13*L$79+M13*M$79+N13*N$79+V13*V$79+W13*W$79+X13*X$79+Y13*Y$79+Z13*Z$79)/SUM(D$79:N$79,V$79:Z$79) -> 0.41146288 | AG13: =AF13-AE13 -> 0.039421397 | AI13: SI | AJ13: 0.53688865
A14: GRC | B14: EL | C14: 2022 | D14: 100% | E14: 100% | F14: 40% | G14: 17% | H14: 45% | I14: 10% | J14: 12% | K14: 0% | L14: 0% | M14: 0% | N14: 12% | S14: 100% | T14: 0% | U14: 73% | V14: 0% | W14: 0% | X14: 0% | Y14: 0% | Z14: 0% | AB14: EL | AC14: ='Annual report 2019'!AH14 -> 0.16348055 | AD14: ='Annual Report 2020'!AH14 -> 0.14825447 | AE14: ='Annual Report 2021'!AH14 -> 0.13719243 | AF14: =(D14*D$79+E14*E$79+F14*F$79+G14*G$79+H14*H$79+I14*I$79+J14*J$79+K14*K$79+L14*L$79+M14*M$79+N14*N$79+S14*S$79+T14*T$79+U14*U$79+V14*V$79+W14*W$79+X14*X$79+Y14*Y$79+Z14*Z$79)/SUM(D$79:N$79,S$79:Z$79) -> 0.18072555 | AG14: =AF14-AE14 -> 0.043533123 | AI14: FI | AJ14: 0.50702891
A15: ESP | B15: ES | C15: 2022 | D15: 100% | E15: 100% | F15: 100% | G15: 100% | H15: 35% | I15: 0% | J15: 99% | K15: 0% | L15: 0% | M15: 83% | N15: 88% | S15: 0% | T15: 0% | U15: 0% | V15: 0% | W15: 0% | X15: 0% | Y15: 0% | Z15: 22% | AB15: ES | AC15: ='Annual report 2019'!AH15 -> 0.51049422 | AD15: ='Annual Report 2020'!AH15 -> 0.51869611 | AE15: ='Annual Report 2021'!AH15 -> 0.53039958 | AF15: =(D15*D$79+E15*E$79+F15*F$79+G15*G$79+H15*H$79+I15*I$79+J15*J$79+K15*K$79+L15*L$79+M15*M$79+N15*N$79+S15*S$79+T15*T$79+U15*U$79+V15*V$79+W15*W$79+X15*X$79+Y15*Y$79+Z15*Z$79)/SUM(D$79:N$79,S$79:Z$79) -> 0.50049422 | AG15: =AF15-AE15 -> -0.029905363 | AI15: ES | AJ15: 0.50049422
A16: FRA | B16: FR | C16: 2022 | D16: 100% | E16: 37% | F16: 0% | G16: 7% | H16: 55% | I16: 50% | J16: 88% | K16: 0% | L16: 80% | M16: 94% | N16: 88% | O16: 27% | P16: 78% | Q16: 0% | R16: 78% | S16: 0% | T16: 0% | U16: 20% | V16: 18% | W16: 4% | X16: 92% | Y16: 9% | Z16: 4% | AB16: FR | AC16: ='Annual report 2019'!AH16 -> 0.45901734 | AD16: ='Annual Report 2020'!AH16 -> 0.45684971 | AE16: ='Annual Report 2021'!AH16 -> 0.65075145 | AF16: =(D16*D$79+E16*E$79+F16*F$79+G16*G$79+H16*H$79+I16*I$79+J16*J$79+K16*K$79+L16*L$79+M16*M$79+N16*N$79+O16*O$79+P16*P$79+Q16*Q$79+R16*R$79+S16*S$79+T16*T$79+U16*U$79+V16*V$79+W16*W$79+X16*X$79+Y16*Y$79+Z16*Z$79)/SUM(D$79:Z$79) -> 0.65420039 | AG16: =AF16-AE16 -> 0.0034489403 | AI16: PL | AJ16: 0.49541426
A17: HRV | B17: HR | C17: 2022 | D17: 100% | E17: 100% | F17: 100% | G17: 60% | H17: 100% | I17: 80% | J17: 74% | K17: 50% | L17: 50% | M17: 94% | N17: 88% | O17: 100% | P17: 100% | Q17: 50% | R17: 78% | S17: 50% | T17: 0% | U17: 100% | V17: 9% | W17: 10% | X17: 0% | Y17: 27% | Z17: 59% | AB17: HR | AC17: ='Annual report 2019'!AH17 -> 0.47845857 | AD17: ='Annual Report 2020'!AH17 -> 0.53421965 | AE17: ='Annual Report 2021'!AH17 -> 0.48660886 | AF17: =(D17*D$79+E17*E$79+F17*F$79+G17*G$79+H17*H$79+I17*I$79+J17*J$79+K17*K$79+L17*L$79+M17*M$79+N17*N$79+O17*O$79+P17*P$79+Q17*Q$79+R17*R$79+S17*S$79+T17*T$79+U17*U$79+V17*V$79+W17*W$79+X17*X$79+Y17*Y$79+Z17*Z$79)/SUM(D$79:Z$79) -> 0.54623314 | AG17: =AF17-AE17 -> 0.059624277
A18: ITA | B18: IT | C18: 2022 | D18: 56% | E18: 0% | F18: 0% | G18: 7% | H18: 50% | I18: 0% | J18: 66% | K18: 0% | L18: 10% | M18: 72% | N18: 100% | O18: 27% | P18: 2% | Q18: 0% | R18: 0% | S18: 100% | T18: 0% | U18: 13% | V18: 3% | W18: 3% | X18: 0% | Y18: 36% | Z18: 36% | AB18: IT | AC18: ='Annual report 2019'!AH18 -> 0.26900771 | AD18: ='Annual Report 2020'!AH18 -> 0.25872832 | AE18: ='Annual Report 2021'!AH18 -> 0.26626204 | AF18: =(D18*D$79+E18*E$79+F18*F$79+G18*G$79+H18*H$79+I18*I$79+J18*J$79+K18*K$79+L18*L$79+M18*M$79+N18*N$79+O18*O$79+P18*P$79+Q18*Q$79+R18*R$79+S18*S$79+T18*T$79+U18*U$79+V18*V$79+W18*W$79+X18*X$79+Y18*Y$79+Z18*Z$79)/SUM(D$79:Z$79) -> 0.29209056 | AG18: =AF18-AE18 -> 0.025828516 | AI18: NO | AJ18: 0.67866456
A19: CYP | B19: CY | C19: 2022 | I19: 70% | J19: 83% | K19: 0% | L19: 0% | M19: 50% | N19: 64% | V19: 0% | W19: 0% | X19: 0% | Y19: 0% | Z19: 0% | AB19: CY | AC19: ='Annual report 2019'!AH19 -> 0.36238223 | AD19: ='Annual Report 2020'!AH19 -> 0.36238223 | AE19: ='Annual Report 2021'!AH19 -> 0.36238223 | AF19: =(I19*I$79+J19*J$79+K19*K$79+L19*L$79+M19*M$79+N19*N$79+V19*V$79+W19*W$79+X19*X$79+Y19*Y$79+Z19*Z$79)/SUM(I$79:N$79,V$79:Z$79) -> 0.36238223 | AG19: =AF19-AE19 -> 0
A20: LVA | B20: LV | C20: 2022 | D20: 100% | E20: 79% | F20: 100% | G20: 95% | H20: 85% | I20: 100% | J20: 98% | K20: 50% | L20: 50% | M20: 88% | N20: 100% | S20: 100% | T20: 100% | U20: 100% | V20: 42% | W20: 0% | X20: 87% | Y20: 36% | Z20: 36% | AB20: LV | AC20: ='Annual report 2019'!AH20 -> 0.76679285 | AD20: ='Annual Report 2020'!AH20 -> 0.76380652 | AE20: ='Annual Report 2021'!AH20 -> 0.80369085 | AF20: =(D20*D$79+E20*E$79+F20*F$79+G20*G$79+H20*H$79+I20*I$79+J20*J$79+K20*K$79+L20*L$79+M20*M$79+N20*N$79+S20*S$79+T20*T$79+U20*U$79+V20*V$79+W20*W$79+X20*X$79+Y20*Y$79+Z20*Z$79)/SUM(D$79:N$79,S$79:Z$79) -> 0.80850683 | AG20: =AF20-AE20 -> 0.0048159832
A21: LTU | B21: LT | C21: 2022 | D21: 100% | E21: 95% | F21: 80% | G21: 97% | H21: 75% | I21: 100% | J21: 98% | K21: 66% | L21: 40% | M21: 91% | N21: 92% | O21: 27% | P21: 72% | Q21: 100% | R21: 69% | S21: 100% | T21: 100% | U21: 100% | V21: 25% | W21: 12% | X21: 32% | Y21: 63% | Z21: 63% | AB21: LT | AC21: ='Annual report 2019'!AH21 -> 0.62788054 | AD21: ='Annual Report 2020'!AH21 -> 0.61762042 | AE21: ='Annual Report 2021'!AH21 -> 0.61208092 | AF21: =(D21*D$79+E21*E$79+F21*F$79+G21*G$79+H21*H$79+I21*I$79+J21*J$79+K21*K$79+L21*L$79+M21*M$79+N21*N$79+O21*O$79+P21*P$79+Q21*Q$79+R21*R$79+S21*S$79+T21*T$79+U21*U$79+V21*V$79+W21*W$79+X21*X$79+Y21*Y$79+Z21*Z$79)/SUM(D$79:Z$79) -> 0.68361272 | AG21: =AF21-AE21 -> 0.071531792
A22: LUX | B22: LU | C22: 2022 | D22: 100% | E22: 55% | F22: 40% | G22: 7% | H22: 65% | I22: 40% | J22: 96% | K22: 0% | L22: 0% | M22: 55% | N22: 100% | O22: 100% | P22: 0% | Q22: 0% | R22: 0% | V22: 0% | W22: 0% | X22: 0% | Y22: 0% | Z22: 0% | AB22: LU | AC22: ='Annual report 2019'!AH22 -> 0.10646062 | AD22: ='Annual Report 2020'!AH22 -> 0.11169492 | AE22: ='Annual Report 2021'!AH22 -> 0.32964108 | AF22: =(D22*D$79+E22*E$79+F22*F$79+G22*G$79+H22*H$79+I22*I$79+J22*J$79+K22*K$79+L22*L$79+M22*M$79+N22*N$79+O22*O$79+P22*P$79+Q22*Q$79+R22*R$79+V22*V$79+W22*W$79+X22*X$79+Y22*Y$79+Z22*Z$79)/SUM(D$79:R$79,V$79:Z$79) -> 0.4180658 | AG22: =AF22-AE22 -> 0.088424726
A23: HUN | B23: HU | C23: 2022 | D23: 100% | E23: 67% | F23: 10% | G23: 0% | H23: 55% | I23: 100% | J23: 83% | K23: 50% | L23: 50% | M23: 88% | N23: 100% | O23: 100% | P23: 40% | Q23: 50% | R23: 69% | S23: 50% | T23: 0% | U23: 100% | V23: 20% | W23: 76% | X23: 0% | Y23: 27% | Z23: 81% | AB23: HU | AC23: ='Annual report 2019'!AH23 -> 0.59646435 | AD23: ='Annual Report 2020'!AH23 -> 0.57314066 | AE23: ='Annual Report 2021'!AH23 -> 0.5338921 | AF23: =(D23*D$79+E23*E$79+F23*F$79+G23*G$79+H23*H$79+I23*I$79+J23*J$79+K23*K$79+L23*L$79+M23*M$79+N23*N$79+O23*O$79+P23*P$79+Q23*Q$79+R23*R$79+S23*S$79+T23*T$79+U23*U$79+V23*V$79+W23*W$79+X23*X$79+Y23*Y$79+Z23*Z$79)/SUM(D$79:Z$79) -> 0.53689788 | AG23: =AF23-AE23 -> 0.0030057803
A24: MLT | B24: MT | C24: 2022 | I24: 0% | J24: 92% | K24: 50% | L24: 40% | M24: 0% | N24: 64% | V24: 40% | W24: 0% | X24: 97% | Y24: 36% | Z24: 13% | AB24: MT | AC24: ='Annual report 2019'!AH24 -> 0.71367429 | AD24: ='Annual Report 2020'!AH24 -> 0.6984253 | AE24: ='Annual Report 2021'!AH24 -> 0.71282638 | AF24: =(I24*I$79+J24*J$79+K24*K$79+L24*L$79+M24*M$79+N24*N$79+V24*V$79+W24*W$79+X24*X$79+Y24*Y$79+Z24*Z$79)/SUM(I$79:N$79,V$79:Z$79) -> 0.70868102 | AG24: =AF24-AE24 -> -0.0041453567
A25: NLD | B25: NL | C25: 2022 | D25: 64% | E25: 0% | F25: 100% | G25: 7% | H25: 70% | I25: 70% | J25: 78% | K25: 66% | L25: 90% | M25: 88% | N25: 24% | O25: 27% | P25: 45% | Q25: 66% | R25: 87% | S25: 50% | T25: 0% | U25: 20% | V25: 61% | W25: 15% | X25: 20% | Y25: 36% | Z25: 0% | AB25: NL | AC25: ='Annual report 2019'!AH25 -> 0.41442197 | AD25: ='Annual Report 2020'!AH25 -> 0.40801541 | AE25: ='Annual Report 2021'!AH25 -> 0.42944123 | AF25: =(D25*D$79+E25*E$79+F25*F$79+G25*G$79+H25*H$79+I25*I$79+J25*J$79+K25*K$79+L25*L$79+M25*M$79+N25*N$79+O25*O$79+P25*P$79+Q25*Q$79+R25*R$79+S25*S$79+T25*T$79+U25*U$79+V25*V$79+W25*W$79+X25*X$79+Y25*Y$79+Z25*Z$79)/SUM(D$79:Z$79) -> 0.47178227 | AG25: =AF25-AE25 -> 0.04234104
A26: AUT | B26: AT | C26: 2022 | D26: 92% | E26: 44% | F26: 40% | G26: 65% | H26: 35% | I26: 60% | J26: 99% | K26: 0% | L26: 0% | M26: 58% | N26: 100% | O26: 100% | P26: 0% | Q26: 0% | R26: 42% | S26: 50% | T26: 0% | U26: 3% | V26: 0% | W26: 0% | X26: 0% | Y26: 0% | Z26: 0% | AB26: AT | AC26: ='Annual report 2019'!AH26 -> 0.17490366 | AD26: ='Annual Report 2020'!AH26 -> 0.42896917 | AE26: ='Annual Report 2021'!AH26 -> 0.42516378 | AF26: =(D26*D$79+E26*E$79+F26*F$79+G26*G$79+H26*H$79+I26*I$79+J26*J$79+K26*K$79+L26*L$79+M26*M$79+N26*N$79+O26*O$79+P26*P$79+Q26*Q$79+R26*R$79+S26*S$79+T26*T$79+U26*U$79+V26*V$79+W26*W$79+X26*X$79+Y26*Y$79+Z26*Z$79)/SUM(D$79:Z$79) -> 0.43385356 | AG26: =AF26-AE26 -> 0.0086897881
A27: POL | B27: PL | C27: 2022 | D27: 100% | E27: 69% | F27: 100% | G27: 90% | H27: 85% | I27: 90% | J27: 70% | K27: 0% | L27: 0% | M27: 83% | N27: 88% | O27: 63% | P27: 70% | Q27: 0% | R27: 78% | S27: 100% | T27: 0% | U27: 73% | V27: 0% | W27: 0% | X27: 0% | Y27: 90% | Z27: 86% | AB27: PL | AC27: ='Annual report 2019'!AH27 -> 0.53152216 | AD27: ='Annual Report 2020'!AH27 -> 0.53617534 | AE27: ='Annual Report 2021'!AH27 -> 0.53485549 | AF27: =(D27*D$79+E27*E$79+F27*F$79+G27*G$79+H27*H$79+I27*I$79+J27*J$79+K27*K$79+L27*L$79+M27*M$79+N27*N$79+O27*O$79+P27*P$79+Q27*Q$79+R27*R$79+S27*S$79+T27*T$79+U27*U$79+V27*V$79+W27*W$79+X27*X$79+Y27*Y$79+Z27*Z$79)/SUM(D$79:Z$79) -> 0.49541426 | AG27: =AF27-AE27 -> -0.039441233
A28: PRT | B28: PT | C28: 2022 | D28: 76% | E28: 55% | F28: 80% | G28: 48% | H28: 75% | I28: 30% | J28: 77% | K28: 0% | L28: 20% | M28: 86% | N28: 80% | S28: 100% | T28: 100% | U28: 100% | V28: 7% | W28: 0% | X28: 7% | Y28: 63% | Z28: 63% | AB28: PT | AC28: ='Annual report 2019'!AH28 -> 0.45131985 | AD28: ='Annual Report 2020'!AH28 -> 0.39561514 | AE28: ='Annual Report 2021'!AH28 -> 0.48639327 | AF28: =(D28*D$79+E28*E$79+F28*F$79+G28*G$79+H28*H$79+I28*I$79+J28*J$79+K28*K$79+L28*L$79+M28*M$79+N28*N$79+S28*S$79+T28*T$79+U28*U$79+V28*V$79+W28*W$79+X28*X$79+Y28*Y$79+Z28*Z$79)/SUM(D$79:N$79,S$79:Z$79) -> 0.47768665 | AG28: =AF28-AE28 -> -0.0087066246
A29: ROU | B29: RO | C29: 2022 | D29: 100% | E29: 76% | F29: 0% | G29: 9% | H29: 75% | I29: 60% | J29: 68% | K29: 0% | L29: 50% | M29: 63% | N29: 88% | O29: 27% | P29: 100% | Q29: 0% | R29: 78% | S29: 100% | T29: 0% | U29: 53% | V29: 14% | W29: 36% | X29: 0% | Y29: 0% | Z29: 81% | AB29: RO | AC29: ='Annual report 2019'!AH29 -> 0.40533719 | AD29: ='Annual Report 2020'!AH29 -> 0.42802505 | AE29: ='Annual Report 2021'!AH29 -> 0.4288921 | AF29: =(D29*D$79+E29*E$79+F29*F$79+G29*G$79+H29*H$79+I29*I$79+J29*J$79+K29*K$79+L29*L$79+M29*M$79+N29*N$79+O29*O$79+P29*P$79+Q29*Q$79+R29*R$79+S29*S$79+T29*T$79+U29*U$79+V29*V$79+W29*W$79+X29*X$79+Y29*Y$79+Z29*Z$79)/SUM(D$79:Z$79) -> 0.46285164 | AG29: =AF29-AE29 -> 0.033959538
A30: SVN | B30: SI | C30: 2022 | D30: 100% | E30: 100% | F30: 100% | G30: 100% | H30: 100% | I30: 90% | J30: 38% | K30: 0% | L30: 100% | M30: 63% | N30: 0% | V30: 46% | W30: 41% | X30: 49% | Y30: 27% | Z30: 27% | AB30: SI | AC30: ='Annual report 2019'!AH30 -> 0.31719432 | AD30: ='Annual Report 2020'!AH30 -> 0.5119869 | AE30: ='Annual Report 2021'!AH30 -> 0.54009825 | AF30: =(D30*D$79+E30*E$79+F30*F$79+G30*G$79+H30*H$79+I30*I$79+J30*J$79+K30*K$79+L30*L$79+M30*M$79+N30*N$79+V30*V$79+W30*W$79+X30*X$79+Y30*Y$79+Z30*Z$79)/SUM(D$79:N$79,V$79:Z$79) -> 0.53688865 | AG30: =AF30-AE30 -> -0.003209607
A31: SVK | B31: SK | C31: 2022 | D31: 92% | E31: 83% | F31: 60% | G31: 63% | H31: 75% | I31: 60% | J31: 8% | K31: 50% | L31: 30% | M31: 63% | N31: 60% | O31: 27% | P31: 100% | Q31: 50% | R31: 66% | S31: 50% | T31: 0% | U31: 0% | V31: 0% | W31: 0% | X31: 0% | Y31: 0% | Z31: 63% | AB31: SK | AC31: ='Annual report 2019'!AH31 -> 0.24594412 | AD31: ='Annual Report 2020'!AH31 -> 0.24395954 | AE31: ='Annual Report 2021'!AH31 -> 0.24405588 | AF31: =(D31*D$79+E31*E$79+F31*F$79+G31*G$79+H31*H$79+I31*I$79+J31*J$79+K31*K$79+L31*L$79+M31*M$79+N31*N$79+O31*O$79+P31*P$79+Q31*Q$79+R31*R$79+S31*S$79+T31*T$79+U31*U$79+V31*V$79+W31*W$79+X31*X$79+Y31*Y$79+Z31*Z$79)/SUM(D$79:Z$79) -> 0.27426782 | AG31: =AF31-AE31 -> 0.030211946
A32: FIN | B32: FI | C32: 2022 | D32: 100% | E32: 0% | F32: 70% | G32: 100% | H32: 45% | I32: 0% | J32: 99% | K32: 0% | L32: 50% | M32: 83% | N32: 100% | O32: 27% | P32: 100% | Q32: 0% | R32: 18% | V32: 16% | W32: 27% | X32: 1% | Y32: 54% | Z32: 54% | AB32: FI | AC32: ='Annual report 2019'!AH32 -> 0.52840479 | AD32: ='Annual Report 2020'!AH32 -> 0.56407777 | AE32: ='Annual Report 2021'!AH32 -> 0.54534397 | AF32: =(D32*D$79+E32*E$79+F32*F$79+G32*G$79+H32*H$79+I32*I$79+J32*J$79+K32*K$79+L32*L$79+M32*M$79+N32*N$79+O32*O$79+P32*P$79+Q32*Q$79+R32*R$79+V32*V$79+W32*W$79+X32*X$79+Y32*Y$79+Z32*Z$79)/SUM(D$79:R$79,V$79:Z$79) -> 0.52775673 | AG32: =AF32-AE32 -> -0.017587238
A33: SWE | B33: SE | C33: 2022 | D33: 76% | E33: 62% | F33: 70% | G33: 46% | H33: 60% | I33: 100% | J33: 96% | K33: 50% | L33: 50% | M33: 77% | N33: 100% | O33: 0% | P33: 0% | Q33: 0% | R33: 36% | V33: 9% | W33: 0% | X33: 68% | Y33: 9% | Z33: 9% | AB33: SE | AC33: ='Annual report 2019'!AH33 -> 0.59687936 | AD33: ='Annual Report 2020'!AH33 -> 0.60952144 | AE33: ='Annual Report 2021'!AH33 -> 0.59028913 | AF33: =(D33*D$79+E33*E$79+F33*F$79+G33*G$79+H33*H$79+I33*I$79+J33*J$79+K33*K$79+L33*L$79+M33*M$79+N33*N$79+O33*O$79+P33*P$79+Q33*Q$79+R33*R$79+V33*V$79+W33*W$79+X33*X$79+Y33*Y$79+Z33*Z$79)/SUM(D$79:R$79,V$79:Z$79) -> 0.6144666 | AG33: =AF33-AE33 -> 0.024177468
B34: 2019 | D34: 0.6588 | E34: 0.5096 | F34: 0.424 | G34: 0.4072 | H34: 0.5772 | I34: 0.57037037 | J34: 0.58111111 | K34: 0.21037037 | L34: 0.35185185 | M34: 0.61925926 | N34: 0.75111111 | O34: 0.35176471 | P34: 0.48352941 | Q34: 0.20588235 | R34: 0.584375 | S34: 0.60526316 | T34: 0.28052632 | U34: 0.52578947 | V34: 0.1462963 | W34: 0.098518519 | X34: 0.15481481 | Y34: 0.22851852 | Z34: 0.29
B35: 2020 | D35: 0.644 | E35: 0.5212 | F35: 0.528 | G35: 0.4356 | H35: 0.5588 | I35: 0.58148148 | J35: 0.61037037 | K35: 0.28888889 | L35: 0.39259259 | M35: 0.67037037 | N35: 0.75111111 | O35: 0.373125 | P35: 0.565 | Q35: 0.23875 | R35: 0.59875 | S35: 0.63888889 | T35: 0.29611111 | U35: 0.52888889 | V35: 0.15962963 | W35: 0.10407407 | X35: 0.15962963 | Y35: 0.27666667 | Z35: 0.32444444
B36: 2021 | D36: 0.8024 | E36: 0.52 | F36: 0.52 | G36: 0.4036 | H36: 0.568 | I36: 0.61851852 | J36: 0.67777778 | K36: 0.23333333 | L36: 0.39259259 | M36: 0.66925926 | N36: 0.74518519 | O36: 0.373125 | P36: 0.56 | Q36: 0.196875 | R36: 0.604375 | S36: 0.66666667 | T36: 0.24055556 | U36: 0.52722222 | V36: 0.16111111 | W36: 0.10666667 | X36: 0.19037037 | Y36: 0.26666667 | Z36: 0.31111111
B37: 2022 | D37: =(IF(D7="",0,D7)+IF(D8="",0,D8)+IF(D9="",0,D9)+IF(D10="",0,D10)+IF(D11="",0,D11)+IF(D12="",0,D12)+IF(D13="",0,D13)+IF(D14="",0,D14)+IF(D15="",0,D15)+IF(D16="",0,D16)+IF(D17="",0,D17)+IF(D18="",0,D18)+IF(D19="",0,D19)+IF(D20="",0,D20)+IF(D21="",0,D21)+IF(D22="",0,D22)+IF(D23="",0,D23)+IF(D24="",0,D24)+IF(D25="",0,D25)+IF(D26="",0,D26)+IF(D27="",0,D27)+IF(D28="",0,D28)+IF(D29="",0,D29)+IF(D30="",0,D30)+IF(D31="",0,D31)+IF(D32="",0,D32)+IF(D33="",0,D33))/SUMPRODUCT((D7:D33<>"")*1) -> 0.912 | E37: =(IF(E7="",0,E7)+IF(E8="",0,E8)+IF(E9="",0,E9)+IF(E10="",0,E10)+IF(E11="",0,E11)+IF(E12="",0,E12)+IF(E13="",0,E13)+IF(E14="",0,E14)+IF(E15="",0,E15)+IF(E16="",0,E16)+IF(E17="",0,E17)+IF(E18="",0,E18)+IF(E19="",0,E19)+IF(E20="",0,E20)+IF(E21="",0,E21)+IF(E22="",0,E22)+IF(E23="",0,E23)+IF(E24="",0,E24)+IF(E25="",0,E25)+IF(E26="",0,E26)+IF(E27="",0,E27)+IF(E28="",0,E28)+IF(E29="",0,E29)+IF(E30="",0,E30)+IF(E31="",0,E31)+IF(E32="",0,E32)+IF(E33="",0,E33))/SUMPRODUCT((E7:E33<>"")*1) -> 0.5368 | F37: =(IF(F7="",0,F7)+IF(F8="",0,F8)+IF(F9="",0,F9)+IF(F10="",0,F10)+IF(F11="",0,F11)+IF(F12="",0,F12)+IF(F13="",0,F13)+IF(F14="",0,F14)+IF(F15="",0,F15)+IF(F16="",0,F16)+IF(F17="",0,F17)+IF(F18="",0,F18)+IF(F19="",0,F19)+IF(F20="",0,F20)+IF(F21="",0,F21)+IF(F22="",0,F22)+IF(F23="",0,F23)+IF(F24="",0,F24)+IF(F25="",0,F25)+IF(F26="",0,F26)+IF(F27="",0,F27)+IF(F28="",0,F28)+IF(F29="",0,F29)+IF(F30="",0,F30)+IF(F31="",0,F31)+IF(F32="",0,F32)+IF(F33="",0,F33))/SUMPRODUCT((F7:F33<>"")*1) -> 0.54 | G37: =(IF(G7="",0,G7)+IF(G8="",0,G8)+IF(G9="",0,G9)+IF(G10="",0,G10)+IF(G11="",0,G11)+IF(G12="",0,G12)+IF(G13="",0,G13)+IF(G14="",0,G14)+IF(G15="",0,G15)+IF(G16="",0,G16)+IF(G17="",0,G17)+IF(G18="",0,G18)+IF(G19="",0,G19)+IF(G20="",0,G20)+IF(G21="",0,G21)+IF(G22="",0,G22)+IF(G23="",0,G23)+IF(G24="",0,G24)+IF(G25="",0,G25)+IF(G26="",0,G26)+IF(G27="",0,G27)+IF(G28="",0,G28)+IF(G29="",0,G29)+IF(G30="",0,G30)+IF(G31="",0,G31)+IF(G32="",0,G32)+IF(G33="",0,G33))/SUMPRODUCT((G7:G33<>"")*1) -> 0.4184 | H37: =(IF(H7="",0,H7)+IF(H8="",0,H8)+IF(H9="",0,H9)+IF(H10="",0,H10)+IF(H11="",0,H11)+IF(H12="",0,H12)+IF(H13="",0,H13)+IF(H14="",0,H14)+IF(H15="",0,H15)+IF(H16="",0,H16)+IF(H17="",0,H17)+IF(H18="",0,H18)+IF(H19="",0,H19)+IF(H20="",0,H20)+IF(H21="",0,H21)+IF(H22="",0,H22)+IF(H23="",0,H23)+IF(H24="",0,H24)+IF(H25="",0,H25)+IF(H26="",0,H26)+IF(H27="",0,H27)+IF(H28="",0,H28)+IF(H29="",0,H29)+IF(H30="",0,H30)+IF(H31="",0,H31)+IF(H32="",0,H32)+IF(H33="",0,H33))/SUMPRODUCT((H7:H33<>"")*1) -> 0.5728 | I37: =(IF(I7="",0,I7)+IF(I8="",0,I8)+IF(I9="",0,I9)+IF(I10="",0,I10)+IF(I11="",0,I11)+IF(I12="",0,I12)+IF(I13="",0,I13)+IF(I14="",0,I14)+IF(I15="",0,I15)+IF(I16="",0,I16)+IF(I17="",0,I17)+IF(I18="",0,I18)+IF(I19="",0,I19)+IF(I20="",0,I20)+IF(I21="",0,I21)+IF(I22="",0,I22)+IF(I23="",0,I23)+IF(I24="",0,I24)+IF(I25="",0,I25)+IF(I26="",0,I26)+IF(I27="",0,I27)+IF(I28="",0,I28)+IF(I29="",0,I29)+IF(I30="",0,I30)+IF(I31="",0,I31)+IF(I32="",0,I32)+IF(I33="",0,I33))/SUMPRODUCT((I7:I33<>"")*1) -> 0.55925926 | J37: =(IF(J7="",0,J7)+IF(J8="",0,J8)+IF(J9="",0,J9)+IF(J10="",0,J10)+IF(J11="",0,J11)+IF(J12="",0,J12)+IF(J13="",0,J13)+IF(J14="",0,J14)+IF(J15="",0,J15)+IF(J16="",0,J16)+IF(J17="",0,J17)+IF(J18="",0,J18)+IF(J19="",0,J19)+IF(J20="",0,J20)+IF(J21="",0,J21)+IF(J22="",0,J22)+IF(J23="",0,J23)+IF(J24="",0,J24)+IF(J25="",0,J25)+IF(J26="",0,J26)+IF(J27="",0,J27)+IF(J28="",0,J28)+IF(J29="",0,J29)+IF(J30="",0,J30)+IF(J31="",0,J31)+IF(J32="",0,J32)+IF(J33="",0,J33))/SUMPRODUCT((J7:J33<>"")*1) -> 0.7137037 | K37: =(IF(K7="",0,K7)+IF(K8="",0,K8)+IF(K9="",0,K9)+IF(K10="",0,K10)+IF(K11="",0,K11)+IF(K12="",0,K12)+IF(K13="",0,K13)+IF(K14="",0,K14)+IF(K15="",0,K15)+IF(K16="",0,K16)+IF(K17="",0,K17)+IF(K18="",0,K18)+IF(K19="",0,K19)+IF(K20="",0,K20)+IF(K21="",0,K21)+IF(K22="",0,K22)+IF(K23="",0,K23)+IF(K24="",0,K24)+IF(K25="",0,K25)+IF(K26="",0,K26)+IF(K27="",0,K27)+IF(K28="",0,K28)+IF(K29="",0,K29)+IF(K30="",0,K30)+IF(K31="",0,K31)+IF(K32="",0,K32)+IF(K33="",0,K33))/SUMPRODUCT((K7:K33<>"")*1) -> 0.22148148 | ... N37: =(IF(N7="",0,N7)+IF(N8="",0,N8)+IF(N9="",0,N9)+IF(N10="",0,N10)+IF(N11="",0,N11)+IF(N12="",0,N12)+IF(N13="",0,N13)+IF(N14="",0,N14)+IF(N15="",0,N15)+IF(N16="",0,N16)+IF(N17="",0,N17)+IF(N18="",0,N18)+IF(N19="",0,N19)+IF(N20="",0,N20)+IF(N21="",0,N21)+IF(N22="",0,N22)+IF(N23="",0,N23)+IF(N24="",0,N24)+IF(N25="",0,N25)+IF(N26="",0,N26)+IF(N27="",0,N27)+IF(N28="",0,N28)+IF(N29="",0,N29)+IF(N30="",0,N30)+IF(N31="",0,N31)+IF(N32="",0,N32)+IF(N33="",0,N33))/SUMPRODUCT((N7:N33<>"")*1) -> 0.78814815 | O37: {=(IF(O7="",0,O7)+IF(O8="",0,O8)+IF(O9="",0,O9)+IF(O10="",0,O10)+IF(O11="",0,O11)+IF(O12="",0,O12)+IF(O13="",0,O13)+IF(O14="",0,O14)+IF(O15="",0,O15)+IF(O16="",0,O16)+IF(O17="",0,O17)+IF(O18="",0,O18)+IF(O19="",0,O19)+IF(O20="",0,O20)+IF(O21="",0,O21)+IF(O22="",0,O22)+IF(O23="",0,O23)+IF(O24="",0,O24)+IF(O25="",0,O25)+IF(O26="",0,O26)+IF(O27="",0,O27)+IF(O28="",0,O28)+IF(O29="",0,O29)+IF(O30="",0,O30)+IF(O31="",0,O31)+IF(O32="",0,O32)+IF(O33="",0,O33))/SUMPRODUCT((O7:O33<>"")*1)} -> 0.51176471 | P37: =(IF(P7="",0,P7)+IF(P8="",0,P8)+IF(P9="",0,P9)+IF(P10="",0,P10)+IF(P11="",0,P11)+IF(P12="",0,P12)+IF(P13="",0,P13)+IF(P14="",0,P14)+IF(P15="",0,P15)+IF(P16="",0,P16)+IF(P17="",0,P17)+IF(P18="",0,P18)+IF(P19="",0,P19)+IF(P20="",0,P20)+IF(P21="",0,P21)+IF(P22="",0,P22)+IF(P23="",0,P23)+IF(P24="",0,P24)+IF(P25="",0,P25)+IF(P26="",0,P26)+IF(P27="",0,P27)+IF(P28="",0,P28)+IF(P29="",0,P29)+IF(P30="",0,P30)+IF(P31="",0,P31)+IF(P32="",0,P32)+IF(P33="",0,P33))/SUMPRODUCT((P7:P33<>"")*1) -> 0.54470588 | Q37: =(IF(Q7="",0,Q7)+IF(Q8="",0,Q8)+IF(Q9="",0,Q9)+IF(Q10="",0,Q10)+IF(Q11="",0,Q11)+IF(Q12="",0,Q12)+IF(Q13="",0,Q13)+IF(Q14="",0,Q14)+IF(Q15="",0,Q15)+IF(Q16="",0,Q16)+IF(Q17="",0,Q17)+IF(Q18="",0,Q18)+IF(Q19="",0,Q19)+IF(Q20="",0,Q20)+IF(Q21="",0,Q21)+IF(Q22="",0,Q22)+IF(Q23="",0,Q23)+IF(Q24="",0,Q24)+IF(Q25="",0,Q25)+IF(Q26="",0,Q26)+IF(Q27="",0,Q27)+IF(Q28="",0,Q28)+IF(Q29="",0,Q29)+IF(Q30="",0,Q30)+IF(Q31="",0,Q31)+IF(Q32="",0,Q32)+IF(Q33="",0,Q33))/SUMPRODUCT((Q7:Q33<>"")*1) -> 0.23470588 | R37: =(IF(R7="",0,R7)+IF(R8="",0,R8)+IF(R9="",0,R9)+IF(R10="",0,R10)+IF(R11="",0,R11)+IF(R12="",0,R12)+IF(R13="",0,R13)+IF(R14="",0,R14)+IF(R15="",0,R15)+IF(R16="",0,R16)+IF(R17="",0,R17)+IF(R18="",0,R18)+IF(R19="",0,R19)+IF(R20="",0,R20)+IF(R21="",0,R21)+IF(R22="",0,R22)+IF(R23="",0,R23)+IF(R24="",0,R24)+IF(R25="",0,R25)+IF(R26="",0,R26)+IF(R27="",0,R27)+IF(R28="",0,R28)+IF(R29="",0,R29)+IF(R30="",0,R30)+IF(R31="",0,R31)+IF(R32="",0,R32)+IF(R33="",0,R33))/SUMPRODUCT((R7:R33<>"")*1) -> 0.56 | S37: =(IF(S7="",0,S7)+IF(S8="",0,S8)+IF(S9="",0,S9)+IF(S10="",0,S10)+IF(S11="",0,S11)+IF(S12="",0,S12)+IF(S13="",0,S13)+IF(S14="",0,S14)+IF(S15="",0,S15)+IF(S16="",0,S16)+IF(S17="",0,S17)+IF(S18="",0,S18)+IF(S19="",0,S19)+IF(S20="",0,S20)+IF(S21="",0,S21)+IF(S22="",0,S22)+IF(S23="",0,S23)+IF(S24="",0,S24)+IF(S25="",0,S25)+IF(S26="",0,S26)+IF(S27="",0,S27)+IF(S28="",0,S28)+IF(S29="",0,S29)+IF(S30="",0,S30)+IF(S31="",0,S31)+IF(S32="",0,S32)+IF(S33="",0,S33))/SUMPRODUCT((S7:S33<>"")*1) -> 0.65789474 | T37: =(IF(T7="",0,T7)+IF(T8="",0,T8)+IF(T9="",0,T9)+IF(T10="",0,T10)+IF(T11="",0,T11)+IF(T12="",0,T12)+IF(T13="",0,T13)+IF(T14="",0,T14)+IF(T15="",0,T15)+IF(T16="",0,T16)+IF(T17="",0,T17)+IF(T18="",0,T18)+IF(T19="",0,T19)+IF(T20="",0,T20)+IF(T21="",0,T21)+IF(T22="",0,T22)+IF(T23="",0,T23)+IF(T24="",0,T24)+IF(T25="",0,T25)+IF(T26="",0,T26)+IF(T27="",0,T27)+IF(T28="",0,T28)+IF(T29="",0,T29)+IF(T30="",0,T30)+IF(T31="",0,T31)+IF(T32="",0,T32)+IF(T33="",0,T33))/SUMPRODUCT((T7:T33<>"")*1) -> 0.22789474 | U37: =(IF(U7="",0,U7)+IF(U8="",0,U8)+IF(U9="",0,U9)+IF(U10="",0,U10)+IF(U11="",0,U11)+IF(U12="",0,U12)+IF(U13="",0,U13)+IF(U14="",0,U14)+IF(U15="",0,U15)+IF(U16="",0,U16)+IF(U17="",0,U17)+IF(U18="",0,U18)+IF(U19="",0,U19)+IF(U20="",0,U20)+IF(U21="",0,U21)+IF(U22="",0,U22)+IF(U23="",0,U23)+IF(U24="",0,U24)+IF(U25="",0,U25)+IF(U26="",0,U26)+IF(U27="",0,U27)+IF(U28="",0,U28)+IF(U29="",0,U29)+IF(U30="",0,U30)+IF(U31="",0,U31)+IF(U32="",0,U32)+IF(U33="",0,U33))/SUMPRODUCT((U7:U33<>"")*1) -> 0.54473684 | V37: =(IF(V7="",0,V7)+IF(V8="",0,V8)+IF(V9="",0,V9)+IF(V10="",0,V10)+IF(V11="",0,V11)+IF(V12="",0,V12)+IF(V13="",0,V13)+IF(V14="",0,V14)+IF(V15="",0,V15)+IF(V16="",0,V16)+IF(V17="",0,V17)+IF(V18="",0,V18)+IF(V19="",0,V19)+IF(V20="",0,V20)+IF(V21="",0,V21)+IF(V22="",0,V22)+IF(V23="",0,V23)+IF(V24="",0,V24)+IF(V25="",0,V25)+IF(V26="",0,V26)+IF(V27="",0,V27)+IF(V28="",0,V28)+IF(V29="",0,V29)+IF(V30="",0,V30)+IF(V31="",0,V31)+IF(V32="",0,V32)+IF(V33="",0,V33))/SUMPRODUCT((V7:V33<>"")*1) -> 0.15111111 | W37: =(IF(W7="",0,W7)+IF(W8="",0,W8)+IF(W9="",0,W9)+IF(W10="",0,W10)+IF(W11="",0,W11)+IF(W12="",0,W12)+IF(W13="",0,W13)+IF(W14="",0,W14)+IF(W15="",0,W15)+IF(W16="",0,W16)+IF(W17="",0,W17)+IF(W18="",0,W18)+IF(W19="",0,W19)+IF(W20="",0,W20)+IF(W21="",0,W21)+IF(W22="",0,W22)+IF(W23="",0,W23)+IF(W24="",0,W24)+IF(W25="",0,W25)+IF(W26="",0,W26)+IF(W27="",0,W27)+IF(W28="",0,W28)+IF(W29="",0,W29)+IF(W30="",0,W30)+IF(W31="",0,W31)+IF(W32="",0,W32)+IF(W33="",0,W33))/SUMPRODUCT((W7:W33<>"")*1) -> 0.098148148 | ... Z37: =(IF(Z7="",0,Z7)+IF(Z8="",0,Z8)+IF(Z9="",0,Z9)+IF(Z10="",0,Z10)+IF(Z11="",0,Z11)+IF(Z12="",0,Z12)+IF(Z13="",0,Z13)+IF(Z14="",0,Z14)+IF(Z15="",0,Z15)+IF(Z16="",0,Z16)+IF(Z17="",0,Z17)+IF(Z18="",0,Z18)+IF(Z19="",0,Z19)+IF(Z20="",0,Z20)+IF(Z21="",0,Z21)+IF(Z22="",0,Z22)+IF(Z23="",0,Z23)+IF(Z24="",0,Z24)+IF(Z25="",0,Z25)+IF(Z26="",0,Z26)+IF(Z27="",0,Z27)+IF(Z28="",0,Z28)+IF(Z29="",0,Z29)+IF(Z30="",0,Z30)+IF(Z31="",0,Z31)+IF(Z32="",0,Z32)+IF(Z33="",0,Z33))/SUMPRODUCT((Z7:Z33<>"")*1) -> 0.35296296
A39: EFTA | B39: EFTA | AB39: EFTA | AC39: =AVERAGE(AC40:AC43) -> 0.37144817 | AD39: =AVERAGE(AD40:AD43) -> 0.31412045 | AE39: =AVERAGE(AE40:AE43) -> 0.40548944 | AF39: =AVERAGE(AF40:AF43) -> 0.37299319
A40: ISL | B40: IS | C40: 2022 | I40: 20% | J40: 2% | K40: 0% | L40: 0% | M40: 0% | N40: 0% | V40: 0% | W40: 0% | X40: 0% | Y40: 0% | Z40: 0% | AB40: IS | AC40: 0 | AD40: 0.12510094 | AE40: 0.20502019 | AF40: =(I40*I$79+J40*J$79+K40*K$79+L40*L$79+M40*M$79+N40*N$79+V40*V$79+W40*W$79+X40*X$79+Y40*Y$79+Z40*Z$79)/SUM(I$79:N$79,V$79:Z$79) -> 0.010094213
A41: LIE | B41: LI | C41: 2022 | I41: 100% | J41: 94% | K41: 0% | L41: 0% | M41: 0% | N41: 12% | V41: 0% | W41: 0% | X41: 0% | Y41: 0% | Z41: 0% | AB41: LI | AC41: 0.37483176 | AD41: 0.35666218 | AE41: 0.37752355 | AF41: =(I41*I$79+J41*J$79+K41*K$79+L41*L$79+M41*M$79+N41*N$79+V41*V$79+W41*W$79+X41*X$79+Y41*Y$79+Z41*Z$79)/SUM(I$79:N$79,V$79:Z$79) -> 0.3654105
A42: NOR | B42: NO | C42: 2022 | D42: 74% | E42: 0% | F42: 40% | G42: 17% | H42: 60% | I42: 80% | J42: 97% | K42: 0% | L42: 30% | M42: 83% | N42: 0% | S42: 100% | T42: 100% | U42: 3% | V42: 77% | W42: 76% | X42: 73% | Y42: 36% | Z42: 27% | AB42: NO | AC42: ='Annual report 2019'!AH42 -> 0.73192429 | AD42: 0.3829653 | AE42: 0.6615142 | AF42: =(D42*D$79+E42*E$79+F42*F$79+G42*G$79+H42*H$79+I42*I$79+J42*J$79+K42*K$79+L42*L$79+M42*M$79+N42*N$79+S42*S$79+T42*T$79+U42*U$79+V42*V$79+W42*W$79+X42*X$79+Y42*Y$79+Z42*Z$79)/SUM(D$79:N$79,S$79:Z$79) -> 0.67866456
...

Sheet Annual Report 2021
A1: Annual Report 2021
A2: 45015
D3: RAIL | I3: ROAD | O3: IWW | S3: OIL | V3: ROADVKM | Y3: BUSES | AB3: unweighted average (chapters) | AF3: in number of indicators, 2 months after 1st release
D4: I | E4: II | F4: III | G4: IV | H4: V | I4: I | J4: II | K4: III | L4: IV | M4: V | N4: VII | O4: I | P4: II | Q4: III | R4: V | S4: I | T4: III | U4: V | V4: I | W4: II | X4: III | Y4: I | Z4: IV | AB4: 2019 | AC4: 2020 | AD4: 2021 | AF4: 2019 | AG4: 2020 | AH4: 2021
B6: EU-27 | AB6: =AVERAGE(AB7:AB33) -> 0.40351564 | AC6: =AVERAGE(AC7:AC33) -> 0.42942994 | AD6: =AVERAGE(AD7:AD33) -> #VALUE! | AE6: EU-27 | AF6: =AVERAGE(AF7:AF33) -> 0.40048837 | AG6: =AVERAGE(AG7:AG33) -> 0.41964608 | AH6: =AVERAGE(AH7:AH33) -> 0.44981853
A7: BEL | B7: BE | C7: 2021 | D7: 46% | E7: 0% | F7: 0% | G7: 0% | H7: 0% | I7: 0% | J7: 38% | K7: 0% | L7: 0% | M7: 55% | N7: 100% | O7: 0% | P7: 70% | Q7: 0% | R7: 30% | S7: 0% | T7: 0% | U7: 0% | V7: 0% | W7: 0% | X7: 0% | Y7: 0% | Z7: 0% | AB7: 0.097826087 | AC7: 0.1273913 | AD7: =(D7+E7+F7+G7+H7+I7+J7+K7+L7+M7+N7+O7+P7+Q7+R7+S7+T7+U7+V7+W7+X7+Y7+Z7)/23 -> 0.1473913 | AE7: BE | AF7: 0.15636802 | AG7: ='Annual Report 2020'!AH7 -> 0.1783237 | AH7: =(D7*D$79+E7*E$79+F7*F$79+G7*G$79+H7*H$79+I7*I$79+J7*J$79+K7*K$79+L7*L$79+M7*M$79+N7*N$79+O7*O$79+P7*P$79+Q7*Q$79+R7*R$79+S7*S$79+T7*T$79+U7*U$79+V7*V$79+W7*W$79+X7*X$79+Y7*Y$79+Z7*Z$79)/SUM(D$79:Z$79) -> 0.19560694 | AJ7: LVA | AK7: LV | AL7: 0.80369085
A8: BGR | B8: BG | C8: 2021 | D8: 100% | E8: 0% | F8: 70% | G8: 0% | H8: 45% | I8: 80% | J8: 12% | K8: 50% | L8: 60% | M8: 66% | N8: 92% | O8: 18% | P8: 72% | Q8: 50% | R8: 48% | S8: 100% | T8: 0% | U8: 40% | V8: 22% | W8: 9% | X8: 2% | Y8: 45% | Z8: 50% | AB8: 0.35217391 | AC8: 0.42608696 | AD8: =(D8+E8+F8+G8+H8+I8+J8+K8+L8+M8+N8+O8+P8+Q8+R8+S8+T8+U8+V8+W8+X8+Y8+Z8)/23 -> 0.44826087 | AE8: BG | AF8: 0.20672447 | AG8: ='Annual Report 2020'!AH8 -> 0.23306358 | AH8: =(D8*D$79+E8*E$79+F8*F$79+G8*G$79+H8*H$79+I8*I$79+J8*J$79+K8*K$79+L8*L$79+M8*M$79+N8*N$79+O8*O$79+P8*P$79+Q8*Q$79+R8*R$79+S8*S$79+T8*T$79+U8*U$79+V8*V$79+W8*W$79+X8*X$79+Y8*Y$79+Z8*Z$79)/SUM(D$79:Z$79) -> 0.25094412 | AJ8: MLT | AK8: MT | AL8: 0.71282638
A9: CZE | B9: CZ | C9: 2021 | D9: 100% | E9: 76% | F9: 70% | G9: 92% | H9: 85% | I9: 80% | J9: 42% | K9: 50% | L9: 10% | M9: 69% | N9: 100% | O9: 100% | P9: 59% | Q9: 50% | R9: 78% | S9: 100% | T9: 100% | U9: 100% | V9: 1% | W9: 4% | X9: 0% | Y9: 0% | Z9: 63% | AB9: 0.60304348 | AC9: 0.60956522 | AD9: =(D9+E9+F9+G9+H9+I9+J9+K9+L9+M9+N9+O9+P9+Q9+R9+S9+T9+U9+V9+W9+X9+Y9+Z9)/23 -> 0.62130435 | AE9: CZ | AF9: 0.36762042 | AG9: ='Annual Report 2020'!AH9 -> 0.37181118 | AH9: =(D9*D$79+E9*E$79+F9*F$79+G9*G$79+H9*H$79+I9*I$79+J9*J$79+K9*K$79+L9*L$79+M9*M$79+N9*N$79+O9*O$79+P9*P$79+Q9*Q$79+R9*R$79+S9*S$79+T9*T$79+U9*U$79+V9*V$79+W9*W$79+X9*X$79+Y9*Y$79+Z9*Z$79)/SUM(D$79:Z$79) -> 0.42515414 | AJ9: FRA | AK9: FR | AL9: 0.65075145
A10: DNK | B10: DK | C10: 2021 | D10: 92% | E10: 58% | F10: 70% | G10: 7% | H10: 45% | I10: 60% | J10: 44% | K10: 50% | L10: 50% | M10: 66% | N10: 92% | S10: 50% | T10: 0% | U10: 100% | V10: 33% | W10: 0% | X10: 0% | Y10: 9% | Z10: 4% | AB10: 0.21473684 | AC10: 0.42473684 | AD10: =(D10+E10+F10+G10+H10+I10+J10+K10+L10+M10+N10+S10+T10+U10+V10+W10+X10+Y10+Z10)/19 -> 0.43684211 | AE10: DK | AF10: 0.21870662 | AG10: ='Annual Report 2020'!AH10 -> 0.2808307 | AH10: =(D10*D$79+E10*E$79+F10*F$79+G10*G$79+H10*H$79+I10*I$79+J10*J$79+K10*K$79+L10*L$79+M10*M$79+N10*N$79+S10*S$79+T10*T$79+U10*U$79+V10*V$79+W10*W$79+X10*X$79+Y10*Y$79+Z10*Z$79)/SUM(D$79:N$79,S$79:Z$79) -> 0.33768665 | AJ10: LTU | AK10: LT | AL10: 0.61208092
A11: DEU | B11: DE | C11: 2021 | D11: 0% | E11: 0% | F11: 20% | G11: 2% | H11: 65% | I11: 50% | J11: 77% | K11: 50% | L11: 50% | M11: 94% | N11: 88% | O11: 100% | P11: 18% | Q11: 33% | R11: 100% | S11: 50% | T11: 33% | U11: 40% | V11: 0% | W11: 0% | X11: 31% | Y11: 54% | Z11: 36% | AB11: 0.36521739 | AC11: 0.4273913 | AD11: =(D11+E11+F11+G11+H11+I11+J11+K11+L11+M11+N11+O11+P11+Q11+R11+S11+T11+U11+V11+W11+X11+Y11+Z11)/23 -> 0.43086957 | AE11: DE | AF11: 0.41419075 | AG11: ='Annual Report 2020'!AH11 -> 0.35577071 | AH11: =(D11*D$79+E11*E$79+F11*F$79+G11*G$79+H11*H$79+I11*I$79+J11*J$79+K11*K$79+L11*L$79+M11*M$79+N11*N$79+O11*O$79+P11*P$79+Q11*Q$79+R11*R$79+S11*S$79+T11*T$79+U11*U$79+V11*V$79+W11*W$79+X11*X$79+Y11*Y$79+Z11*Z$79)/SUM(D$79:Z$79) -> 0.44401734 | AJ11: SWE | AK11: SE | AL11: 0.59028913
A12: EST | B12: EE | C12: 2021 | D12: 100% | E12: 86% | F12: 50% | G12: 17% | H12: 60% | I12: 80% | J12: 78% | K12: 16% | L12: 50% | M12: 63% | N12: 76% | V12: 9% | W12: 18% | X12: 2% | Y12: 81% | Z12: 81% | AB12: 0.495625 | AC12: 0.499375 | AD12: =(D12+E12+F12+G12+H12+I12+J12+K12+L12+M12+N12+V12+W12+X12+Y12+Z12)/16 -> 0.541875 | AE12: EE | AF12: 0.44470524 | AG12: ='Annual Report 2020'!AH12 -> 0.44751092 | AH12: =(D12*D$79+E12*E$79+F12*F$79+G12*G$79+H12*H$79+I12*I$79+J12*J$79+K12*K$79+L12*L$79+M12*M$79+N12*N$79+V12*V$79+W12*W$79+X12*X$79+Y12*Y$79+Z12*Z$79)/SUM(D$79:N$79,V$79:Z$79) -> 0.46938865 | AJ12: FIN | AK12: FI | AL12: 0.54534397
A13: IRL | B13: IE | C13: 2021 | D13: 100% | E13: 0% | F13: 10% | G13: 4% | H13: 30% | I13: 50% | J13: 51% | K13: 0% | L13: 100% | M13: 61% | N13: 84% | V13: 37% | W13: 10% | X13: 23% | Y13: 45% | Z13: 22% | AB13: 0.349375 | AC13: 0.2725 | AD13: =(D13+E13+F13+G13+H13+I13+J13+K13+L13+M13+N13+V13+W13+X13+Y13+Z13)/16 -> 0.391875 | AE13: IE | AF13: 0.31509825 | AG13: ='Annual Report 2020'!AH13 -> 0.29296943 | AH13: =(D13*D$79+E13*E$79+F13*F$79+G13*G$79+H13*H$79+I13*I$79+J13*J$79+K13*K$79+L13*L$79+M13*M$79+N13*N$79+V13*V$79+W13*W$79+X13*X$79+Y13*Y$79+Z13*Z$79)/SUM(D$79:N$79,V$79:Z$79) -> 0.37204148 | AJ13: SVN | AK13: SI | AL13: 0.54009825
A14: GRC | B14: EL | C14: 2021 | D14: 100% | E14: 100% | F14: 40% | G14: 17% | H14: 45% | I14: 0% | J14: 6% | K14: 0% | L14: 0% | M14: 0% | N14: 12% | S14: 0% | T14: 0% | U14: 0% | V14: 0% | W14: 0% | X14: 0% | Y14: 0% | Z14: 0% | AB14: 0.163 | AC14: 0.1985 | AD14: =(D14+E14+F14+G14+H14+I14+J14+K14+L14+M14+N14+V14+W14+X14+Y14+Z14)/16 -> 0.2 | AE14: EL | AF14: 0.1231007 | AG14: ='Annual Report 2020'!AH14 -> 0.14825447 | AH14: =(D14*D$79+E14*E$79+F14*F$79+G14*G$79+H14*H$79+I14*I$79+J14*J$79+K14*K$79+L14*L$79+M14*M$79+N14*N$79+S14*S$79+T14*T$79+U14*U$79+V14*V$79+W14*W$79+X14*X$79+Y14*Y$79+Z14*Z$79)/SUM(D$79:N$79,S$79:Z$79) -> 0.13719243 | AJ14: POL | AK14: PL | AL14: 0.53485549
A15: ESP | B15: ES | C15: 2021 | D15: 100% | E15: 100% | F15: 100% | G15: 82% | H15: 35% | I15: 70% | J15: 97% | K15: 16% | L15: 50% | M15: 83% | N15: 88% | S15: 50% | T15: 0% | U15: 40% | V15: 14% | W15: 12% | X15: 0% | Y15: 0% | Z15: 22% | AB15: 0.38842105 | AC15: 0.46210526 | AD15: =(D15+E15+F15+G15+H15+I15+J15+K15+L15+M15+N15+S15+T15+U15+V15+W15+X15+Y15+Z15)/19 -> 0.50473684 | AE15: ES | AF15: 0.51049422 | AG15: ='Annual Report 2020'!AH15 -> 0.51869611 | AH15: =(D15*D$79+E15*E$79+F15*F$79+G15*G$79+H15*H$79+I15*I$79+J15*J$79+K15*K$79+L15*L$79+M15*M$79+N15*N$79+S15*S$79+T15*T$79+U15*U$79+V15*V$79+W15*W$79+X15*X$79+Y15*Y$79+Z15*Z$79)/SUM(D$79:N$79,S$79:Z$79) -> 0.53039958 | AJ15: HUN | AK15: HU | AL15: 0.5338921
A16: FRA | B16: FR | C16: 2021 | D16: 100% | E16: 37% | F16: 0% | G16: 7% | H16: 55% | I16: 50% | J16: 86% | K16: 16% | L16: 80% | M16: 94% | N16: 88% | O16: 27% | P16: 78% | Q16: 16% | R16: 78% | S16: 0% | T16: 0% | U16: 20% | V16: 18% | W16: 4% | X16: 92% | Y16: 9% | Z16: 4% | AB16: 0.39956522 | AC16: 0.37478261 | AD16: =(D16+E16+F16+G16+H16+I16+J16+K16+L16+M16+N16+O16+P16+Q16+R16+S16+T16+U16+V16+W16+X16+Y16+Z16)/23 -> 0.41695652 | AE16: FR | AF16: 0.45901734 | AG16: ='Annual Report 2020'!AH16 -> 0.45684971 | AH16: =(D16*D$79+E16*E$79+F16*F$79+G16*G$79+H16*H$79+I16*I$79+J16*J$79+K16*K$79+L16*L$79+M16*M$79+N16*N$79+O16*O$79+P16*P$79+Q16*Q$79+R16*R$79+S16*S$79+T16*T$79+U16*U$79+V16*V$79+W16*W$79+X16*X$79+Y16*Y$79+Z16*Z$79)/SUM(D$79:Z$79) -> 0.65075145 | AJ16: ESP | AK16: ES | AL16: 0.53039958
A17: HRV | B17: HR | C17: 2021 | D17: 100% | E17: 90% | F17: 90% | G17: 43% | H17: 80% | I17: 80% | J17: 75% | K17: 50% | L17: 50% | M17: 94% | N17: 88% | O17: 45% | P17: 72% | Q17: 16% | R17: 54% | S17: 50% | T17: 0% | U17: 40% | V17: 9% | W17: 10% | X17: 0% | Y17: 27% | Z17: 59% | AB17: 0.50782609 | AC17: 0.52086957 | AD17: =(D17+E17+F17+G17+H17+I17+J17+K17+L17+M17+N17+O17+P17+Q17+R17+S17+T17+U17+V17+W17+X17+Y17+Z17)/23 -> 0.53130435 | AE17: HR | AF17: 0.47845857 | AG17: ='Annual Report 2020'!AH17 -> 0.53421965 | AH17: =(D17*D$79+E17*E$79+F17*F$79+G17*G$79+H17*H$79+I17*I$79+J17*J$79+K17*K$79+L17*L$79+M17*M$79+N17*N$79+O17*O$79+P17*P$79+Q17*Q$79+R17*R$79+S17*S$79+T17*T$79+U17*U$79+V17*V$79+W17*W$79+X17*X$79+Y17*Y$79+Z17*Z$79)/SUM(D$79:Z$79) -> 0.48660886 | AJ17: HRV | AK17: HR | AL17: 0.48660886
A18: ITA | B18: IT | C18: 2021 | D18: 41% | E18: 0% | F18: 30% | G18: 7% | H18: 50% | I18: 0% | J18: 59% | K18: 0% | L18: 10% | M18: 72% | N18: 96% | O18: 0% | P18: 0% | Q18: 0% | R18: 0% | S18: 100% | T18: 0% | U18: 13% | V18: 3% | W18: 3% | X18: 0% | Y18: 36% | Z18: 36% | AB18: 0.24217391 | AC18: 0.25608696 | AD18: =(D18+E18+F18+G18+H18+I18+J18+K18+L18+M18+N18+O18+P18+Q18+R18+S18+T18+U18+V18+W18+X18+Y18+Z18)/23 -> 0.24173913 | AE18: IT | AF18: 0.26900771 | AG18: ='Annual Report 2020'!AH18 -> 0.25872832 | AH18: =(D18*D$79+E18*E$79+F18*F$79+G18*G$79+H18*H$79+I18*I$79+J18*J$79+K18*K$79+L18*L$79+M18*M$79+N18*N$79+O18*O$79+P18*P$79+Q18*Q$79+R18*R$79+S18*S$79+T18*T$79+U18*U$79+V18*V$79+W18*W$79+X18*X$79+Y18*Y$79+Z18*Z$79)/SUM(D$79:Z$79) -> 0.26626204 | AJ18: PRT | AK18: PT | AL18: 0.48639327
A19: CYP | B19: CY | C19: 2021 | I19: 70% | J19: 83% | K19: 0% | L19: 0% | M19: 50% | N19: 64% | V19: 0% | W19: 0% | X19: 0% | Y19: 0% | Z19: 0% | AB19: 0.24272727 | AC19: 0.24272727 | AD19: =(I19+J19+K19+L19+M19+N19+V19+W19+X19+Y19+Z19)/11 -> 0.24272727 | AE19: CY | AF19: 0.36238223 | AG19: ='Annual Report 2020'!AH19 -> 0.36238223 | AH19: =(I19*I$79+J19*J$79+K19*K$79+L19*L$79+M19*M$79+N19*N$79+V19*V$79+W19*W$79+X19*X$79+Y19*Y$79+Z19*Z$79)/SUM(I$79:N$79,V$79:Z$79) -> 0.36238223 | AJ19: EST | AK19: EE | AL19: 0.46938865
A20: LVA | B20: LV | C20: 2021 | D20: 100% | E20: 79% | F20: 100% | G20: 95% | H20: 85% | I20: 100% | J20: 98% | K20: 50% | L20: 50% | M20: 88% | N20: 100% | S20: 100% | T20: 100% | U20: 100% | V20: 42% | W20: 0% | X20: 85% | Y20: 36% | Z20: 36% | AB20: 0.74263158 | AC20: 0.75 | AD20: =(D20+E20+F20+G20+H20+I20+J20+K20+L20+M20+N20+S20+T20+U20+V20+W20+X20+Y20+Z20)/19 -> 0.76 | AE20: LV | AF20: 0.76679285 | AG20: ='Annual Report 2020'!AH20 -> 0.76380652 | AH20: =(D20*D$79+E20*E$79+F20*F$79+G20*G$79+H20*H$79+I20*I$79+J20*J$79+K20*K$79+L20*L$79+M20*M$79+N20*N$79+S20*S$79+T20*T$79+U20*U$79+V20*V$79+W20*W$79+X20*X$79+Y20*Y$79+Z20*Z$79)/SUM(D$79:N$79,S$79:Z$79) -> 0.80369085 | AJ20: DEU | AK20: DE | AL20: 0.44401734
A21: LTU | B21: LT | C21: 2021 | D21: 100% | E21: 95% | F21: 80% | G21: 97% | H21: 75% | I21: 100% | J21: 71% | K21: 66% | L21: 70% | M21: 91% | N21: 92% | O21: 27% | P21: 72% | Q21: 50% | R21: 69% | S21: 100% | T21: 100% | U21: 100% | V21: 25% | W21: 12% | X21: 32% | Y21: 63% | Z21: 63% | AB21: 0.74434783 | AC21: 0.73956522 | AD21: =(D21+E21+F21+G21+H21+I21+J21+K21+L21+M21+N21+O21+P21+Q21+R21+S21+T21+U21+V21+W21+X21+Y21+Z21)/23 -> 0.7173913 | AE21: LT | AF21: 0.62788054 | AG21: ='Annual Report 2020'!AH21 -> 0.61762042 | AH21: =(D21*D$79+E21*E$79+F21*F$79+G21*G$79+H21*H$79+I21*I$79+J21*J$79+K21*K$79+L21*L$79+M21*M$79+N21*N$79+O21*O$79+P21*P$79+Q21*Q$79+R21*R$79+S21*S$79+T21*T$79+U21*U$79+V21*V$79+W21*W$79+X21*X$79+Y21*Y$79+Z21*Z$79)/SUM(D$79:Z$79) -> 0.61208092 | AJ21: NLD | AK21: NL | AL21: 0.42944123
A22: LUX | B22: LU | C22: 2021 | D22: 100% | E22: 41% | F22: 0% | G22: 0% | H22: 15% | I22: 40% | J22: 96% | K22: 0% | L22: 0% | M22: 0% | N22: 0% | O22: 0% | P22: 0% | Q22: 0% | R22: 0% | V22: 0% | W22: 0% | X22: 0% | Y22: 0% | Z22: 0% | AB22: 0.093125 | AC22: 0.0975 | AD22: =(D22+E22+F22+G22+H22+I22+J22+K22+L22+M22+N22+V22+W22+X22+Y22+Z22)/16 -> 0.1825 | AE22: LU | AF22: 0.11657205 | AG22: ='Annual Report 2020'!AH22 -> 0.11169492 | AH22: =(D22*D$79+E22*E$79+F22*F$79+G22*G$79+H22*H$79+I22*I$79+J22*J$79+K22*K$79+L22*L$79+M22*M$79+N22*N$79+O22*O$79+P22*P$79+Q22*Q$79+R22*R$79+V22*V$79+W22*W$79+X22*X$79+Y22*Y$79+Z22*Z$79)/SUM(D$79:R$79,V$79:Z$79) -> 0.32964108 | AJ22: ROU | AK22: RO | AL22: 0.4288921
A23: HUN | B23: HU | C23: 2021 | D23: 92% | E23: 67% | F23: 10% | G23: 0% | H23: 55% | I23: 100% | J23: 83% | K23: 50% | L23: 50% | M23: 88% | N23: 100% | O23: 100% | P23: 40% | Q23: 50% | R23: 69% | S23: 50% | T23: 0% | U23: 100% | V23: 20% | W23: 76% | X23: 0% | Y23: 27% | Z23: 81% | AB23: 0.64521739 | AC23: 0.63 | AD23: =(D23+E23+F23+G23+H23+I23+J23+K23+L23+M23+N23+O23+P23+Q23+R23+S23+T23+U23+V23+W23+X23+Y23+Z23)/23 -> 0.56869565 | AE23: HU | AF23: 0.59646435 | AG23: ='Annual Report 2020'!AH23 -> 0.57314066 | AH23: =(D23*D$79+E23*E$79+F23*F$79+G23*G$79+H23*H$79+I23*I$79+J23*J$79+K23*K$79+L23*L$79+M23*M$79+N23*N$79+O23*O$79+P23*P$79+Q23*Q$79+R23*R$79+S23*S$79+T23*T$79+U23*U$79+V23*V$79+W23*W$79+X23*X$79+Y23*Y$79+Z23*Z$79)/SUM(D$79:Z$79) -> 0.5338921 | AJ23: AUT | AK23: AT | AL23: 0.42516378
A24: MLT | B24: MT | C24: 2021 | I24: 20% | J24: 92% | K24: 50% | L24: 40% | M24: 0% | N24: 64% | V24: 42% | W24: 0% | X24: 97% | Y24: 36% | Z24: 13% | AB24: 0.42545455 | AC24: 0.40727273 | AD24: =(I24+J24+K24+L24+M24+N24+V24+W24+X24+Y24+Z24)/11 -> 0.41272727 | AE24: MT | AF24: 0.71367429 | AG24: ='Annual Report 2020'!AH24 -> 0.6984253 | AH24: =(I24*I$79+J24*J$79+K24*K$79+L24*L$79+M24*M$79+N24*N$79+V24*V$79+W24*W$79+X24*X$79+Y24*Y$79+Z24*Z$79)/SUM(I$79:N$79,V$79:Z$79) -> 0.71282638 | AJ24: CZE | AK24: CZ | AL24: 0.42515414
A25: NLD | B25: NL | C25: 2021 | D25: 23% | E25: 0% | F25: 0% | G25: 7% | H25: 70% | I25: 70% | J25: 76% | K25: 0% | L25: 90% | M25: 88% | N25: 24% | O25: 27% | P25: 45% | Q25: 0% | R25: 87% | S25: 50% | T25: 0% | U25: 20% | V25: 55% | W25: 13% | X25: 20% | Y25: 36% | Z25: 0% | AB25: 0.28826087 | AC25: 0.29782609 | AD25: =(D25+E25+F25+G25+H25+I25+J25+K25+L25+M25+N25+O25+P25+Q25+R25+S25+T25+U25+V25+W25+X25+Y25+Z25)/23 -> 0.34826087 | AE25: NL | AF25: 0.41442197 | AG25: ='Annual Report 2020'!AH25 -> 0.40801541 | AH25: =(D25*D$79+E25*E$79+F25*F$79+G25*G$79+H25*H$79+I25*I$79+J25*J$79+K25*K$79+L25*L$79+M25*M$79+N25*N$79+O25*O$79+P25*P$79+Q25*Q$79+R25*R$79+S25*S$79+T25*T$79+U25*U$79+V25*V$79+W25*W$79+X25*X$79+Y25*Y$79+Z25*Z$79)/SUM(D$79:Z$79) -> 0.42944123 | AJ25: IRL | AK25: IE | AL25: 0.37204148
A26: AUT | B26: AT | C26: 2021 | D26: 56% | E26: 44% | F26: 40% | G26: 85% | H26: 35% | I26: 60% | J26: 95% | K26: 0% | L26: 0% | M26: 58% | N26: 100% | O26: 9% | P26: 0% | Q26: 0% | R26: 78% | S26: 50% | T26: 0% | U26: 10% | V26: 0% | W26: 0% | X26: 0% | Y26: 27% | Z26: 4% | AB26: 0.34173913 | AC26: 0.36826087 | AD26: =(D26+E26+F26+G26+H26+I26+J26+K26+L26+M26+N26+O26+P26+Q26+R26+S26+T26+U26+V26+W26+X26+Y26+Z26)/23 -> 0.32652174 | AE26: AT | AF26: 0.17490366 | AG26: ='Annual Report 2020'!AH26 -> 0.42896917 | AH26: =(D26*D$79+E26*E$79+F26*F$79+G26*G$79+H26*H$79+I26*I$79+J26*J$79+K26*K$79+L26*L$79+M26*M$79+N26*N$79+O26*O$79+P26*P$79+Q26*Q$79+R26*R$79+S26*S$79+T26*T$79+U26*U$79+V26*V$79+W26*W$79+X26*X$79+Y26*Y$79+Z26*Z$79)/SUM(D$79:Z$79) -> 0.42516378 | AJ26: CYP | AK26: CY | AL26: 0.36238223
A27: POL | B27: PL | C27: 2021 | D27: 71% | E27: 69% | F27: 100% | G27: 90% | H27: 85% | I27: 90% | J27: 89% | K27: 0% | L27: 0% | M27: 83% | N27: 88% | O27: 63% | P27: 70% | Q27: 0% | R27: 78% | S27: 100% | T27: 0% | U27: 73% | V27: 0% | W27: 0% | X27: 0% | Y27: 90% | Z27: 86% | AB27: 0.57217391 | AC27: 0.5773913 | AD27: =(D27+E27+F27+G27+H27+I27+J27+K27+L27+M27+N27+O27+P27+Q27+R27+S27+T27+U27+V27+W27+X27+Y27+Z27)/23 -> 0.57608696 | AE27: PL | AF27: 0.53152216 | AG27: ='Annual Report 2020'!AH27 -> 0.53617534 | AH27: =(D27*D$79+E27*E$79+F27*F$79+G27*G$79+H27*H$79+I27*I$79+J27*J$79+K27*K$79+L27*L$79+M27*M$79+N27*N$79+O27*O$79+P27*P$79+Q27*Q$79+R27*R$79+S27*S$79+T27*T$79+U27*U$79+V27*V$79+W27*W$79+X27*X$79+Y27*Y$79+Z27*Z$79)/SUM(D$79:Z$79) -> 0.53485549 | AJ27: LUX | AK27: LU | AL27: 0.36094978
A28: PRT | B28: PT | C28: 2021 | D28: 71% | E28: 55% | F28: 80% | G28: 51% | H28: 75% | I28: 30% | J28: 81% | K28: 0% | L28: 20% | M28: 86% | N28: 72% | S28: 100% | T28: 100% | U28: 100% | V28: 7% | W28: 0% | X28: 7% | Y28: 63% | Z28: 63% | AB28: 0.4673913 | AC28: 0.44695652 | AD28: =(D28+E28+F28+G28+H28+I28+J28+K28+L28+M28+N28+O28+P28+Q28+R28+S28+T28+U28+V28+W28+X28+Y28+Z28)/23 -> #VALUE! | AE28: PT | AF28: 0.45131985 | AG28: ='Annual Report 2020'!AH28 -> 0.39561514 | AH28: =(D28*D$79+E28*E$79+F28*F$79+G28*G$79+H28*H$79+I28*I$79+J28*J$79+K28*K$79+L28*L$79+M28*M$79+N28*N$79+S28*S$79+T28*T$79+U28*U$79+V28*V$79+W28*W$79+X28*X$79+Y28*Y$79+Z28*Z$79)/SUM(D$79:N$79,S$79:Z$79) -> 0.48639327 | AJ28: DNK | AK28: DK | AL28: 0.33768665
A29: ROU | B29: RO | C29: 2021 | D29: 61% | E29: 76% | F29: 10% | G29: 9% | H29: 75% | I29: 60% | J29: 60% | K29: 16% | L29: 50% | M29: 63% | N29: 88% | O29: 27% | P29: 100% | Q29: 0% | R29: 78% | S29: 100% | T29: 0% | U29: 53% | V29: 14% | W29: 36% | X29: 0% | Y29: 0% | Z29: 81% | AB29: 0.40695652 | AC29: 0.45695652 | AD29: =(D29+E29+F29+G29+H29+I29+J29+K29+L29+M29+N29+O29+P29+Q29+R29+S29+T29+U29+V29+W29+X29+Y29+Z29)/23 -> 0.45956522 | AE29: RO | AF29: 0.40533719 | AG29: ='Annual Report 2020'!AH29 -> 0.42802505 | AH29: =(D29*D$79+E29*E$79+F29*F$79+G29*G$79+H29*H$79+I29*I$79+J29*J$79+K29*K$79+L29*L$79+M29*M$79+N29*N$79+O29*O$79+P29*P$79+Q29*Q$79+R29*R$79+S29*S$79+T29*T$79+U29*U$79+V29*V$79+W29*W$79+X29*X$79+Y29*Y$79+Z29*Z$79)/SUM(D$79:Z$79) -> 0.4288921 | AJ29: ITA | AK29: IT | AL29: 0.26626204
A30: SVN | B30: SI | C30: 2021 | D30: 100% | E30: 100% | F30: 100% | G30: 100% | H30: 95% | I30: 90% | J30: 38% | K30: 0% | L30: 100% | M30: 61% | N30: 0% | V30: 48% | W30: 41% | X30: 51% | Y30: 27% | Z30: 27% | AB30: 0.43 | AC30: 0.575 | AD30: =(D30+E30+F30+G30+H30+I30+J30+K30+L30+M30+N30+V30+W30+X30+Y30+Z30)/16 -> 0.61125 | AE30: SI | AF30: 0.31719432 | AG30: ='Annual Report 2020'!AH30 -> 0.5119869 | AH30: =(D30*D$79+E30*E$79+F30*F$79+G30*G$79+H30*H$79+I30*I$79+J30*J$79+K30*K$79+L30*L$79+M30*M$79+N30*N$79+V30*V$79+W30*W$79+X30*X$79+Y30*Y$79+Z30*Z$79)/SUM(D$79:N$79,V$79:Z$79) -> 0.54009825 | AJ30: BGR | AK30: BG | AL30: 0.25094412
A31: SVK | B31: SK | C31: 2021 | D31: 82% | E31: 72% | F31: 60% | G31: 56% | H31: 60% | I31: 60% | J31: 8% | K31: 50% | L31: 30% | M31: 63% | N31: 60% | O31: 27% | P31: 100% | Q31: 50% | R31: 66% | S31: 50% | T31: 0% | U31: 0% | V31: 0% | W31: 0% | X31: 0% | Y31: 0% | Z31: 0% | AB31: 0.39391304 | AC31: 0.38826087 | AD31: =(D31+E31+F31+G31+H31+I31+J31+K31+L31+M31+N31+O31+P31+Q31+R31+S31+T31+U31+V31+W31+X31+Y31+Z31)/23 -> 0.38869565 | AE31: SK | AF31: 0.24594412 | AG31: ='Annual Report 2020'!AH31 -> 0.24395954 | AH31: =(D31*D$79+E31*E$79+F31*F$79+G31*G$79+H31*H$79+I31*I$79+J31*J$79+K31*K$79+L31*L$79+M31*M$79+N31*N$79+O31*O$79+P31*P$79+Q31*Q$79+R31*R$79+S31*S$79+T31*T$79+U31*U$79+V31*V$79+W31*W$79+X31*X$79+Y31*Y$79+Z31*Z$79)/SUM(D$79:Z$79) -> 0.24405588 | AJ31: SVK | AK31: SK | AL31: 0.24405588
A32: FIN | B32: FI | C32: 2021 | D32: 100% | E32: 0% | F32: 100% | G32: 95% | H32: 55% | I32: 80% | J32: 99% | K32: 0% | L32: 0% | M32: 94% | N32: 100% | O32: 27% | P32: 100% | Q32: 0% | R32: 18% | V32: 27% | W32: 40% | X32: 5% | Y32: 0% | Z32: 0% | AB32: 0.502 | AC32: 0.5645 | AD32: =(D32+E32+F32+G32+H32+I32+J32+K32+L32+M32+N32+O32+P32+Q32+R32+V32+W32+X32+Y32+Z32)/20 -> 0.47 | AE32: FI | AF32: 0.52840479 | AG32: ='Annual Report 2020'!AH32 -> 0.56407777 | AH32: =(D32*D$79+E32*E$79+F32*F$79+G32*G$79+H32*H$79+I32*I$79+J32*J$79+K32*K$79+L32*L$79+M32*M$79+N32*N$79+O32*O$79+P32*P$79+Q32*Q$79+R32*R$79+V32*V$79+W32*W$79+X32*X$79+Y32*Y$79+Z32*Z$79)/SUM(D$79:R$79,V$79:Z$79) -> 0.54534397 | AJ32: BEL | AK32: BE | AL32: 0.19560694
A33: SWE | B33: SE | C33: 2021 | D33: 71% | E33: 55% | F33: 70% | G33: 46% | H33: 45% | I33: 100% | J33: 96% | K33: 50% | L33: 50% | M33: 77% | N33: 56% | O33: 0% | P33: 0% | Q33: 0% | R33: 36% | V33: 9% | W33: 0% | X33: 67% | Y33: 9% | Z33: 9% | AB33: 0.42 | AC33: 0.453 | AD33: =(D33+E33+F33+G33+H33+I33+J33+K33+L33+M33+N33+O33+P33+Q33+R33+V33+W33+X33+Y33+Z33)/20 -> 0.423 | AE33: SE | AF33: 0.59687936 | AG33: ='Annual Report 2020'!AH33 -> 0.60952144 | AH33: =(D33*D$79+E33*E$79+F33*F$79+G33*G$79+H33*H$79+I33*I$79+J33*J$79+K33*K$79+L33*L$79+M33*M$79+N33*N$79+O33*O$79+P33*P$79+Q33*Q$79+R33*R$79+V33*V$79+W33*W$79+X33*X$79+Y33*Y$79+Z33*Z$79)/SUM(D$79:R$79,V$79:Z$79) -> 0.59028913 | AJ33: GRC | AK33: EL | AL33: 0.1424345
B34: 2019 | D34: ='Annual report 2019'!D36 -> 0.6588 | E34: ='Annual report 2019'!E36 -> 0.5096 | F34: ='Annual report 2019'!F36 -> 0.424 | G34: ='Annual report 2019'!G36 -> 0.4072 | H34: ='Annual report 2019'!H36 -> 0.5772 | I34: ='Annual report 2019'!I36 -> 0.57037037 | J34: ='Annual report 2019'!J36 -> 0.58111111 | K34: ='Annual report 2019'!K36 -> 0.21037037 | ... Z34: ='Annual report 2019'!Z36 -> 0.29
B35: 2020 | D35: ='Annual Report 2020'!D36 -> 0.644 | E35: ='Annual Report 2020'!E36 -> 0.5212 | F35: ='Annual Report 2020'!F36 -> 0.528 | G35: ='Annual Report 2020'!G36 -> 0.4356 | H35: ='Annual Report 2020'!H36 -> 0.5588 | I35: ='Annual Report 2020'!I36 -> 0.58148148 | J35: ='Annual Report 2020'!J36 -> 0.61037037 | K35: ='Annual Report 2020'!K36 -> 0.28888889 | ... Z35: ='Annual Report 2020'!Z36 -> 0.32444444
