Workbook

Sheet Annual Report 2022
A1: Annual Report 2022
B2: 45342
D3: RAIL | I3: ROAD | O3: IWW | S3: OIL | V3: ROADVKM | Y3: BUSES | AC3: in number of indicators, 2 months after 1st release | AF3: 2 months after 1st release
D4: I | E4: II | F4: III | G4: IV | H4: V | I4: I | J4: II | K4: III | L4: IV | M4: V | N4: VII | O4: I | P4: II | Q4: III | R4: V | S4: I | T4: III | U4: V | V4: I | W4: II | X4: III | Y4: I | Z4: IV | AC4: 2019 | AD4: 2020 | AE4: 2021 | AF4: 2022 | AG4: =AF4&" - "&AE4 -> 2022 - 2021
A6: EU-27 | B6: EU-27 | AB6: EU-27 | AC6: ='Annual report 2019'!AH6 -> 0.40160942 | AD6: ='Annual Report 2020'!AH6 -> 0.41964608 | AE6: ='Annual Report 2021'!AH6 -> 0.44981853 | AF6: =AVERAGE(AF7:AF33) -> 0.47546911 | AG6: =AF6-AE6 -> 0.025650582 | AI6: LV | AJ6: 0.80850683 | AL6: CZ | AM6: 0.19545279
A7: BEL | B7: BE | C7: 2022 | D7: 46% | E7: 0% | F7: 10% | G7: 12% | H7: 12% | I7: 0% | J7: 69% | K7: 0% | L7: 0% | M7: 0% | N7: 100% | O7: 0% | P7: 70% | Q7: 0% | R7: 30% | S7: 0% | T7: 0% | U7: 0% | V7: 0% | W7: 0% | X7: 0% | Y7: 0% | Z7: 0% | AB7: BE | AC7: ='Annual report 2019'!AH7 -> 0.15636802 | AD7: ='Annual Report 2020'!AH7 -> 0.1783237 | AE7: ='Annual Report 2021'!AH7 -> 0.19560694 | AF7: =(D7*D$79+E7*E$79+F7*F$79+G7*G$79+H7*H$79+I7*I$79+J7*J$79+K7*K$79+L7*L$79+M7*M$79+N7*N$79+O7*O$79+P7*P$79+Q7*Q$79+R7*R$79+S7*S$79+T7*T$79+U7*U$79+V7*V$79+W7*W$79+X7*X$79+Y7*Y$79+Z7*Z$79)/SUM(D$79:Z$79) -> 0.26898844 | AG7: =AF7-AE7 -> 0.073381503 | AI7: MT | AJ7: 0.70868102 | AL7: LU | AM7: 0.081585244
A8: BGR | B8: BG | C8: 2022 | D8: 94% | E8: 0% | F8: 40% | G8: 0% | H8: 45% | I8: 80% | J8: 28% | K8: 0% | L8: 60% | M8: 66% | N8: 92% | O8: 18% | P8: 72% | Q8: 0% | R8: 45% | S8: 100% | T8: 0% | U8: 40% | V8: 20% | W8: 9% | X8: 2% | Y8: 45% | Z8: 50% | AB8: BG | AC8: ='Annual report 2019'!AH8 -> 0.20672447 | AD8: ='Annual Report 2020'!AH8 -> 0.23306358 | AE8: ='Annual Report 2021'!AH8 -> 0.25094412 | AF8: =(D8*D$79+E8*E$79+F8*F$79+G8*G$79+H8*H$79+I8*I$79+J8*J$79+K8*K$79+L8*L$79+M8*M$79+N8*N$79+O8*O$79+P8*P$79+Q8*Q$79+R8*R$79+S8*S$79+T8*T$79+U8*U$79+V8*V$79+W8*W$79+X8*X$79+Y8*Y$79+Z8*Z$79)/SUM(D$79:Z$79) -> 0.28041426 | AG8: =AF8-AE8 -> 0.029470135 | AI8: LT | AJ8: 0.68361272 | AL8: LT | AM8: 0.071531792
A9: CZE | B9: CZ | C9: 2022 | D9: 100% | E9: 76% | F9: 70% | G9: 92% | H9: 85% | I9: 80% | J9: 35% | K9: 50% | L9: 10% | M9: 69% | N9: 100% | O9: 100% | P9: 59% | Q9: 50% | R9: 78% | S9: 100% | T9: 100% | U9: 100% | V9: 1% | W9: 4% | X9: 97% | Y9: 0% | Z9: 63% | AB9: CZ | AC9: ='Annual report 2019'!AH9 -> 0.36762042 | AD9: ='Annual Report 2020'!AH9 -> 0.37181118 | AE9: ='Annual Report 2021'!AH9 -> 0.42515414 | AF9: =(D9*D$79+E9*E$79+F9*F$79+G9*G$79+H9*H$79+I9*I$79+J9*J$79+K9*K$79+L9*L$79+M9*M$79+N9*N$79+O9*O$79+P9*P$79+Q9*Q$79+R9*R$79+S9*S$79+T9*T$79+U9*U$79+V9*V$79+W9*W$79+X9*X$79+Y9*Y$79+Z9*Z$79)/SUM(D$79:Z$79) -> 0.62060694 | AG9: =AF9-AE9 -> 0.19545279 | AI9: FR | AJ9: 0.65420039 | AL9: HR | AM9: 0.059624277
A10: DNK | B10: DK | C10: 2022 | D10: 92% | E10: 58% | F10: 70% | G10: 7% | H10: 45% | I10: 60% | J10: 50% | K10: 50% | L10: 50% | M10: 77% | N10: 96% | S10: 50% | T10: 0% | U10: 100% | V10: 31% | W10: 0% | X10: 0% | Y10: 9% | Z10: 4% | AB10: DK | AC10: ='Annual report 2019'!AH10 -> 0.21870662 | AD10: ='Annual Report 2020'!AH10 -> 0.2808307 | AE10: ='Annual Report 2021'!AH10 -> 0.33768665 | AF10: =(D10*D$79+E10*E$79+F10*F$79+G10*G$79+H10*H$79+I10*I$79+J10*J$79+K10*K$79+L10*L$79+M10*M$79+N10*N$79+S10*S$79+T10*T$79+U10*U$79+V10*V$79+W10*W$79+X10*X$79+Y10*Y$79+Z10*Z$79)/SUM(D$79:N$79,S$79:Z$79) -> 0.35911672 | AG10: =AF10-AE10 -> 0.021430074 | AI10: CZ | AJ10: 0.62060694
A11: DEU | B11: DE | C11: 2022 | D11: 92% | E11: 0% | F11: 20% | G11: 0% | H11: 0% | I11: 50% | J11: 77% | K11: 50% | L11: 50% | M11: 94% | N11: 96% | O11: 100% | P11: 18% | Q11: 33% | R11: 100% | S11: 50% | T11: 33% | U11: 40% | V11: 0% | W11: 0% | X11: 31% | Y11: 54% | Z11: 36% | AB11: DE | AC11: ='Annual report 2019'!AH11 -> 0.41419075 | AD11: ='Annual Report 2020'!AH11 -> 0.35577071 | AE11: ='Annual Report 2021'!AH11 -> 0.44401734 | AF11: =(D11*D$79+E11*E$79+F11*F$79+G11*G$79+H11*H$79+I11*I$79+J11*J$79+K11*K$79+L11*L$79+M11*M$79+N11*N$79+O11*O$79+P11*P$79+Q11*Q$79+R11*R$79+S11*S$79+T11*T$79+U11*U$79+V11*V$79+W11*W$79+X11*X$79+Y11*Y$79+Z11*Z$79)/SUM(D$79:Z$79) -> 0.45467245 | AG11: =AF11-AE11 -> 0.010655106 | AI11: SE | AJ11: 0.6144666
A12: EST | B12: EE | C12: 2022 | D12: 100% | E12: 86% | F12: 50% | G12: 17% | H12: 60% | I12: 80% | J12: 78% | K12: 16% | L12: 50% | M12: 75% | N12: 8% | V12: 9% | W12: 18% | X12: 2% | Y12: 81% | Z12: 81% | AB12: EE | AC12: ='Annual report 2019'!AH12 -> 0.44470524 | AD12: ='Annual Report 2020'!AH12 -> 0.44751092 | AE12: ='Annual Report 2021'!AH12 -> 0.46938865 | AF12: =(D12*D$79+E12*E$79+F12*F$79+G12*G$79+H12*H$79+I12*I$79+J12*J$79+K12*K$79+L12*L$79+M12*M$79+N12*N$79+V12*V$79+W12*W$79+X12*X$79+Y12*Y$79+Z12*Z$79)/SUM(D$79:N$79,V$79:Z$79) -> 0.45554585 | AG12: =AF12-AE12 -> -0.013842795 | AI12: HR | AJ12: 0.54623314
A13: IRL | B13: IE | C13: 2022 | D13: 100% | E13: 0% | F13: 0% | G13: 0% | H13: 0% | I13: 50% | J13: 68% | K13: 0% | L13: 100% | M13: 61% | N13: 100% | V13: 37% | W13: 10% | X13: 23% | Y13: 45% | Z13: 22% | AB13: IE | AC13: ='Annual report 2019'!AH13 -> 0.31509825 | AD13: ='Annual Report 2020'!AH13 -> 0.29296943 | AE13: ='Annual Report 2021'!AH13 -> 0.37204148 | AF13: =(D13*D$79+E13*E$79+F13*F$79+G13*G$79+H13*H$79+I13*I$79+J13*J$79+K13*K$79+L13*L$79+M13*M$79+N13*N$79+V13*V$79+W13*W$79+X13*X$79+Y13*Y$79+Z13*Z$79)/SUM(D$79:N$79,V$79:Z$79) -> 0.41146288 | AG13: =AF13-AE13 -> 0.039421397 | AI13: SI | AJ13: 0.53688865
A14: GRC | B14: EL | C14: 2022 | D14: 100% | E14: 100% | F14: 40% | G14: 17% | H14: 45% | I14: 10% | J14: 12% | K14: 0% | L14: 0% | M14: 0% | N14: 12% | S14: 100% | T14: 0% | U14: 73% | V14: 0% | W14: 0% | X14: 0% | Y14: 0% | Z14: 0% | AB14: EL | AC14: ='Annual report 2019'!AH14 -> 0.16348055 | AD14: ='Annual Report 2020'!AH14 -> 0.14825447 | AE14: ='Annual Report 2021'!AH14 -> 0.13719243 | AF14: =(D14*D$79+E14*E$79+F14*F$79+G14*G$79+H14*H$79+I14*I$79+J14*J$79+K14*K$79+L14*L$79+M14*M$79+N14*N$79+S14*S$79+T14*T$79+U14*U$79+V14*V$79+W14*W$79+X14*X$79+Y14*Y$79+Z14*Z$79)/SUM(D$79:N$79,S$79:Z$79) -> 0.18072555 | AG14: =AF14-AE14 -> 0.043533123 | AI14: FI | AJ14: 0.50702891
A15: ESP | B15: ES | C15: 2022 | D15: 100% | E15: 100% | F15: 100% | G15: 100% | H15: 35% | I15: 0% | J15: 99% | K15: 0% | L15: 0% | M15: 83% | N15: 88% | S15: 0% | T15: 0% | U15: 0% | V15: 0% | W15: 0% | X15: 0% | Y15: 0% | Z15: 22% | AB15: ES | AC15: ='Annual report 2019'!AH15 -> 0.51049422 | AD15: ='Annual Report 2020'!AH15 -> 0.51869611 | AE15: ='Annual Report 2021'!AH15 -> 0.53039958 | AF15: =(D15*D$79+E15*E$79+F15*F$79+G15*G$79+H15*H$79+I15*I$79+J15*J$79+K15*K$79+L15*L$79+M15*M$79+N15*N$79+S15*S$79+T15*T$79+U15*U$79+V15*V$79+W15*W$79+X15*X$79+Y15*Y$79+Z15*Z$79)/SUM(D$79:N$79,S$79:Z$79) -> 0.50049422 | AG15: =AF15-AE15 -> -0.029905363 | AI15: ES | AJ15: 0.50049422
A16: FRA | B16: FR | C16: 2022 | D16: 100% | E16: 37% | F16: 0% | G16: 7% | H16: 55% | I16: 50% | J16: 88% | K16: 0% | L16: 80% | M16: 94% | N16: 88% | O16: 27% | P16: 78% | Q16: 0% | R16: 78% | S16: 0% | T16: 0% | U16: 20% | V16: 18% | W16: 4% | X16: 92% | Y16: 9% | Z16: 4% | AB16: FR | AC16: ='Annual report 2019'!AH16 -> 0.45901734 | AD16: ='Annual Report 2020'!AH16 -> 0.45684971 | AE16: ='Annual Report 2021'!AH16 -> 0.65075145 | AF16: =(D16*D$79+E16*E$79+F16*F$79+G16*G$79+H16*H$79+I16*I$79+J16*J$79+K16*K$79+L16*L$79+M16*M$79+N16*N$79+O16*O$79+P16*P$79+Q16*Q$79+R16*R$79+S16*S$79+T16*T$79+U16*U$79+V16*V$79+W16*W$79+X16*X$79+Y16*Y$79+Z16*Z$79)/SUM(D$79:Z$79) -> 0.65420039 | AG16: =AF16-AE16 -> 0.0034489403 | AI16: PL | AJ16: 0.49541426
A17: HRV | B17: HR | C17: 2022 | D17: 100% | E17: 100% | F17: 100% | G17: 60% | H17: 100% | I17: 80% | J17: 74% | K17: 50% | L17: 50% | M17: 94% | N17: 88% | O17: 100% | P17: 100% | Q17: 50% | R17: 78% | S17: 50% | T17: 0% | U17: 100% | V17: 9% | W17: 10% | X17: 0% | Y17: 27% | Z17: 59% | AB17: HR | AC17: ='Annual report 2019'!AH17 -> 0.47845857 | AD17: ='Annual Report 2020'!AH17 -> 0.53421965 | AE17: ='Annual Report 2021'!AH17 -> 0.48660886 | AF17: =(D17*D$79+E17*E$79+F17*F$79+G17*G$79+H17*H$79+I17*I$79+J17*J$79+K17*K$79+L17*L$79+M17*M$79+N17*N$79+O17*O$79+P17*P$79+Q17*Q$79+R17*R$79+S17*S$79+T17*T$79+U17*U$79+V17*V$79+W17*W$79+X17*X$79+Y17*Y$79+Z17*Z$79)/SUM(D$79:Z$79) -> 0.54623314 | AG17: =AF17-AE17 -> 0.059624277
A18: ITA | B18: IT | C18: 2022 | D18: 56% | E18: 0% | F18: 0% | G18: 7% | H18: 50% | I18: 0% | J18: 66% | K18: 0% | L18: 10% | M18: 72% | N18: 100% | O18: 27% | P18: 2% | Q18: 0% | R18: 0% | S18: 100% | T18: 0% | U18: 13% | V18: 3% | W18: 3% | X18: 0% | Y18: 36% | Z18: 36% | AB18: IT | AC18: ='Annual report 2019'!AH18 -> 0.26900771 | AD18: ='Annual Report 2020'!AH18 -> 0.25872832 | AE18: ='Annual Report 2021'!AH18 -> 0.26626204 | AF18: =(D18*D$79+E18*E$79+F18*F$79+G18*G$79+H18*H$79+I18*I$79+J18*J$79+K18*K$79+L18*L$79+M18*M$79+N18*N$79+O18*O$79+P18*P$79+Q18*Q$79+R18*R$79+S18*S$79+T18*T$79+U18*U$79+V18*V$79+W18*W$79+X18*X$79+Y18*Y$79+Z18*Z$79)/SUM(D$79:Z$79) -> 0.29209056 | AG18: =AF18-AE18 -> 0.025828516 | AI18: NO | AJ18: 0.67866456
A19: CYP | B19: CY | C19: 2022 | I19: 70% | J19: 83% | K19: 0% | L19: 0% | M19: 50% | N19: 64% | V19: 0% | W19: 0% | X19: 0% | Y19: 0% | Z19: 0% | AB19: CY | AC19: ='Annual report 2019'!AH19 -> 0.36238223 | AD19: ='Annual Report 2020'!AH19 -> 0.36238223 | AE19: ='Annual Report 2021'!AH19 -> 0.36238223 | AF19: =(I19*I$79+J19*J$79+K19*K$79+L19*L$79+M19*M$79+N19*N$79+V19*V$79+W19*W$79+X19*X$79+Y19*Y$79+Z19*Z$79)/SUM(I$79:N$79,V$79:Z$79) -> 0.36238223 | AG19: =AF19-AE19 -> 0
A20: LVA | B20: LV | C20: 2022 | D20: 100% | E20: 79% | F20: 100% | G20: 95% | H20: 85% | I20: 100% | J20: 98% | K20: 50% | L20: 50% | M20: 88% | N20: 100% | S20: 100% | T20: 100% | U20: 100% | V20: 42% | W20: 0% | X20: 87% | Y20: 36% | Z20: 36% | AB20: LV | AC20: ='Annual report 2019'!AH20 -> 0.76679285 | AD20: ='Annual Report 2020'!AH20 -> 0.76380652 | AE20: ='Annual Report 2021'!AH20 -> 0.80369085 | AF20: =(D20*D$79+E20*E$79+F20*F$79+G20*G$79+H20*H$79+I20*I$79+J20*J$79+K20*K$79+L20*L$79+M20*M$79+N20*N$79+S20*S$79+T20*T$79+U20*U$79+V20*V$79+W20*W$79+X20*X$79+Y20*Y$79+Z20*Z$79)/SUM(D$79:N$79,S$79:Z$79) -> 0.80850683 | AG20: =AF20-AE20 -> 0.0048159832
A21: LTU | B21: LT | C21: 2022 | D21: 100% | E21: 95% | F21: 80% | G21: 97% | H21: 75% | I21: 100% | J21: 98% | K21: 66% | L21: 40% | M21: 91% | N21: 92% | O21: 27% | P21: 72% | Q21: 100% | R21: 69% | S21: 100% | T21: 100% | U21: 100% | V21: 25% | W21: 12% | X21: 32% | Y21: 63% | Z21: 63% | AB21: LT | AC21: ='Annual report 2019'!AH21 -> 0.62788054 | AD21: ='Annual Report 2020'!AH21 -> 0.61762042 | AE21: ='Annual Report 2021'!AH21 -> 0.61208092 | AF21: =(D21*D$79+E21*E$79+F21*F$79+G21*G$79+H21*H$79+I21*I$79+J21*J$79+K21*K$79+L21*L$79+M21*M$79+N21*N$79+O21*O$79+P21*P$79+Q21*Q$79+R21*R$79+S21*S$79+T21*T$79+U21*U$79+V21*V$79+W21*W$79+X21*X$79+Y21*Y$79+Z21*Z$79)/SUM(D$79:Z$79) -> 0.68361272 | AG21: =AF21-AE21 -> 0.071531792
A22: LUX | B22: LU | C22: 2022 | D22: 100% | E22: 55% | F22: 40% | G22: 7% | H22: 65% | I22: 40% | J22: 96% | K22: 0% | L22: 0% | M22: 55% | N22: 100% | O22: 100% | P22: 0% | Q22: 0% | R22: 0% | V22: 0% | W22: 0% | X22: 0% | Y22: 0% | Z22: 0% | AB22: LU | AC22: ='Annual report 2019'!AH22 -> 0.10646062 | AD22: ='Annual Report 2020'!AH22 -> 0.11169492 | AE22: ='Annual Report 2021'!AH22 -> 0.32964108 | AF22: =(D22*D$79+E22*E$79+F22*F$79+G22*G$79+H22*H$79+I22*I$79+J22*J$79+K22*K$79+L22*L$79+M22*M$79+N22*N$79+O22*O$79+P22*P$79+Q22*Q$79+R22*R$79+V22*V$79+W22*W$79+X22*X$79+Y22*Y$79+Z22*Z$79)/SUM(D$79:R$79,V$79:Z$79) -> 0.4180658 | AG22: =AF22-AE22 -> 0.088424726
A23: HUN | B23: HU | C23: 2022 | D23: 100% | E23: 67% | F23: 10% | G23: 0% | H23: 55% | I23: 100% | J23: 83% | K23: 50% | L23: 50% | M23: 88% | N23: 100% | O23: 100% | P23: 40% | Q23: 50% | R23: 69% | S23: 50% | T23: 0% | U23: 100% | V23: 20% | W23: 76% | X23: 0% | Y23: 27% | Z23: 81% | AB23: HU | AC23: ='Annual report 2019'!AH23 -> 0.59646435 | AD23: ='Annual Report 2020'!AH23 -> 0.57314066 | AE23: ='Annual Report 2021'!AH23 -> 0.5338921 | AF23: =(D23*D$79+E23*E$79+F23*F$79+G23*G$79+H23*H$79+I23*I$79+J23*J$79+K23*K$79+L23*L$79+M23*M$79+N23*N$79+O23*O$79+P23*P$79+Q23*Q$79+R23*R$79+S23*S$79+T23*T$79+U23*U$79+V23*V$79+W23*W$79+X23*X$79+Y23*Y$79+Z23*Z$79)/SUM(D$79:Z$79) -> 0.53689788 | AG23: =AF23-AE23 -> 0.0030057803
A24: MLT | B24: MT | C24: 2022 | I24: 0% | J24: 92% | K24: 50% | L24: 40% | M24: 0% | N24: 64% | V24: 40% | W24: 0% | X24: 97% | Y24: 36% | Z24: 13% | AB24: MT | AC24: ='Annual report 2019'!AH24 -> 0.71367429 | AD24: ='Annual Report 2020'!AH24 -> 0.6984253 | AE24: ='Annual Report 2021'!AH24 -> 0.71282638 | AF24: =(I24*I$79+J24*J$79+K24*K$79+L24*L$79+M24*M$79+N24*N$79+V24*V$79+W24*W$79+X24*X$79+Y24*Y$79+Z24*Z$79)/SUM(I$79:N$79,V$79:Z$79) -> 0.70868102 | AG24: =AF24-AE24 -> -0.0041453567
A25: NLD | B25: NL | C25: 2022 | D25: 64% | E25: 0% | F25: 100% | G25: 7% | H25: 70% | I25: 70% | J25: 78% | K25: 66% | L25: 90% | M25: 88% | N25: 24% | O25: 27% | P25: 45% | Q25: 66% | R25: 87% | S25: 50% | T25: 0% | U25: 20% | V25: 61% | W25: 15% | X25: 20% | Y25: 36% | Z25: 0% | AB25: NL | AC25: ='Annual report 2019'!AH25 -> 0.41442197 | AD25: ='Annual Report 2020'!AH25 -> 0.40801541 | AE25: ='Annual Report 2021'!AH25 -> 0.42944123 | AF25: =(D25*D$79+E25*E$79+F25*F$79+G25*G$79+H25*H$79+I25*I$79+J25*J$79+K25*K$79+L25*L$79+M25*M$79+N25*N$79+O25*O$79+P25*P$79+Q25*Q$79+R25*R$79+S25*S$79+T25*T$79+U25*U$79+V25*V$79+W25*W$79+X25*X$79+Y25*Y$79+Z25*Z$79)/SUM(D$79:Z$79) -> 0.47178227 | AG25: =AF25-AE25 -> 0.04234104
A26: AUT | B26: AT | C26: 2022 | D26: 92% | E26: 44% | F26: 40% | G26: 65% | H26: 35% | I26: 60% | J26: 99% | K26: 0% | L26: 0% | M26: 58% | N26: 100% | O26: 100% | P26: 0% | Q26: 0% | R26: 42% | S26: 50% | T26: 0% | U26: 3% | V26: 0% | W26: 0% | X26: 0% | Y26: 0% | Z26: 0% | AB26: AT | AC26: ='Annual report 2019'!AH26 -> 0.17490366 | AD26: ='Annual Report 2020'!AH26 -> 0.42896917 | AE26: ='Annual Report 2021'!AH26 -> 0.42516378 | AF26: =(D26*D$79+E26*E$79+F26*F$79+G26*G$79+H26*H$79+I26*I$79+J26*J$79+K26*K$79+L26*L$79+M26*M$79+N26*N$79+O26*O$79+P26*P$79+Q26*Q$79+R26*R$79+S26*S$79+T26*T$79+U26*U$79+V26*V$79+W26*W$79+X26*X$79+Y26*Y$79+Z26*Z$79)/SUM(D$79:Z$79) -> 0.43385356 | AG26: =AF26-AE26 -> 0.0086897881
A27: POL | B27: PL | C27: 2022 | D27: 100% | E27: 69% | F27: 100% | G27: 90% | H27: 85% | I27: 90% | J27: 70% | K27: 0% | L27: 0% | M27: 83% | N27: 88% | O27: 63% | P27: 70% | Q27: 0% | R27: 78% | S27: 100% | T27: 0% | U27: 73% | V27: 0% | W27: 0% | X27: 0% | Y27: 90% | Z27: 86% | AB27: PL | AC27: ='Annual report 2019'!AH27 -> 0.53152216 | AD27: ='Annual Report 2020'!AH27 -> 0.53617534 | AE27: ='Annual Report 2021'!AH27 -> 0.53485549 | AF27: =(D27*D$79+E27*E$79+F27*F$79+G27*G$79+H27*H$79+I27*I$79+J27*J$79+K27*K$79+L27*L$79+M27*M$79+N27*N$79+O27*O$79+P27*P$79+Q27*Q$79+R27*R$79+S27*S$79+T27*T$79+U27*U$79+V27*V$79+W27*W$79+X27*X$79+Y27*Y$79+Z27*Z$79)/SUM(D$79:Z$79) -> 0.49541426 | AG27: =AF27-AE27 -> -0.039441233
A28: PRT | B28: PT | C28: 2022 | D28: 76% | E28: 55% | F28: 80% | G28: 48% | H28: 75% | I28: 30% | J28: 77% | K28: 0% | L28: 20% | M28: 86% | N28: 80% | S28: 100% | T28: 100% | U28: 100% | V28: 7% | W28: 0% | X28: 7% | Y28: 63% | Z28: 63% | AB28: PT | AC28: ='Annual report 2019'!AH28 -> 0.45131985 | AD28: ='Annual Report 2020'!AH28 -> 0.39561514 | AE28: ='Annual Report 2021'!AH28 -> 0.48639327 | AF28: =(D28*D$79+E28*E$79+F28*F$79+G28*G$79+H28*H$79+I28*I$79+J28*J$79+K28*K$79+L28*L$79+M28*M$79+N28*N$79+S28*S$79+T28*T$79+U28*U$79+V28*V$79+W28*W$79+X28*X$79+Y28*Y$79+Z28*Z$79)/SUM(D$79:N$79,S$79:Z$79) -> 0.47768665 | AG28: =AF28-AE28 -> -0.0087066246
A29: ROU | B29: RO | C29: 2022 | D29: 100% | E29: 76% | F29: 0% | G29: 9% | H29: 75% | I29: 60% | J29: 68% | K29: 0% | L29: 50% | M29: 63% | N29: 88% | O29: 27% | P29: 100% | Q29: 0% | R29: 78% | S29: 100% | T29: 0% | U29: 53% | V29: 14% | W29: 36% | X29: 0% | Y29: 0% | Z29: 81% | AB29: RO | AC29: ='Annual report 2019'!AH29 -> 0.40533719 | AD29: ='Annual Report 2020'!AH29 -> 0.42802505 | AE29: ='Annual Report 2021'!AH29 -> 0.4288921 | AF29: =(D29*D$79+E29*E$79+F29*F$79+G29*G$79+H29*H$79+I29*I$79+J29*J$79+K29*K$79+L29*L$79+M29*M$79+N29*N$79+O29*O$79+P29*P$79+Q29*Q$79+R29*R$79+S29*S$79+T29*T$79+U29*U$79+V29*V$79+W29*W$79+X29*X$79+Y29*Y$79+Z29*Z$79)/SUM(D$79:Z$79) -> 0.46285164 | AG29: =AF29-AE29 -> 0.033959538
A30: SVN | B30: SI | C30: 2022 | D30: 100% | E30: 100% | F30: 100% | G30: 100% | H30: 100% | I30: 90% | J30: 38% | K30: 0% | L30: 100% | M30: 63% | N30: 0% | V30: 46% | W30: 41% | X30: 49% | Y30: 27% | Z30: 27% | AB30: SI | AC30: ='Annual report 2019'!AH30 -> 0.31719432 | AD30: ='Annual Report 2020'!AH30 -> 0.5119869 | AE30: ='Annual Report 2021'!AH30 -> 0.54009825 | AF30: =(D30*D$79+E30*E$79+F30*F$79+G30*G$79+H30*H$79+I30*I$79+J30*J$79+K30*K$79+L30*L$79+M30*M$79+N30*N$79+V30*V$79+W30*W$79+X30*X$79+Y30*Y$79+Z30*Z$79)/SUM(D$79:N$79,V$79:Z$79) -> 0.53688865 | AG30: =AF30-AE30 -> -0.003209607
A31: SVK | B31: SK | C31: 2022 | D31: 92% | E31: 83% | F31: 60% | G31: 63% | H31: 75% | I31: 60% | J31: 8% | K31: 50% | L31: 30% | M31: 63% | N31: 60% | O31: 27% | P31: 100% | Q31: 50% | R31: 66% | S31: 50% | T31: 0% | U31: 0% | V31: 0% | W31: 0% | X31: 0% | Y31: 0% | Z31: 63% | AB31: SK | AC31: ='Annual report 2019'!AH31 -> 0.24594412 | AD31: ='Annual Report 2020'!AH31 -> 0.24395954 | AE31: ='Annual Report 2021'!AH31 -> 0.24405588 | AF31: =(D31*D$79+E31*E$79+F31*F$79+G31*G$79+H31*H$79+I31*I$79+J31*J$79+K31*K$79+L31*L$79+M31*M$79+N31*N$79+O31*O$79+P31*P$79+Q31*Q$79+R31*R$79+S31*S$79+T31*T$79+U31*U$79+V31*V$79+W31*W$79+X31*X$79+Y31*Y$79+Z31*Z$79)/SUM(D$79:Z$79) -> 0.27426782 | AG31: =AF31-AE31 -> 0.030211946
A32: FIN | B32: FI | C32: 2022 | D32: 100% | E32: 0% | F32: 70% | G32: 100% | H32: 45% | I32: 0% | J32: 99% | K32: 0% | L32: 50% | M32: 83% | N32: 100% | O32: 27% | P32: 100% | Q32: 0% | R32: 18% | V32: 16% | W32: 27% | X32: 1% | Y32: 54% | Z32: 54% | AB32: FI | AC32: ='Annual report 2019'!AH32 -> 0.52840479 | AD32: ='Annual Report 2020'!AH32 -> 0.56407777 | AE32: ='Annual Report 2021'!AH32 -> 0.54534397 | AF32: =(D32*D$79+E32*E$79+F32*F$79+G32*G$79+H32*H$79+I32*I$79+J32*J$79+K32*K$79+L32*L$79+M32*M$79+N32*N$79+O32*O$79+P32*P$79+Q32*Q$79+R32*R$79+V32*V$79+W32*W$79+X32*X$79+Y32*Y$79+Z32*Z$79)/SUM(D$79:R$79,V$79:Z$79) -> 0.52775673 | AG32: =AF32-AE32 -> -0.017587238
A33: SWE | B33: SE | C33: 2022 | D33: 76% | E33: 62% | F33: 70% | G33: 46% | H33: 60% | I33: 100% | J33: 96% | K33: 50% | L33: 50% | M33: 77% | N33: 100% | O33: 0% | P33: 0% | Q33: 0% | R33: 36% | V33: 9% | W33: 0% | X33: 68% | Y33: 9% | Z33: 9% | AB33: SE | AC33: ='Annual report 2019'!AH33 -> 0.59687936 | AD33: ='Annual Report 2020'!AH33 -> 0.60952144 | AE33: ='Annual Report 2021'!AH33 -> 0.59028913 | AF33: =(D33*D$79+E33*E$79+F33*F$79+G33*G$79+H33*H$79+I33*I$79+J33*J$79+K33*K$79+L33*L$79+M33*M$79+N33*N$79+O33*O$79+P33*P$79+Q33*Q$79+R33*R$79+V33*V$79+W33*W$79+X33*X$79+Y33*Y$79+Z33*Z$79)/SUM(D$79:R$79,V$79:Z$79) -> 0.6144666 | AG33: =AF33-AE33 -> 0.024177468
B34: 2019 | D34: 0.6588 | E34: 0.5096 | F34: 0.424 | G34: 0.4072 | H34: 0.5772 | I34: 0.57037037 | J34: 0.58111111 | K34: 0.21037037 | L34: 0.35185185 | M34: 0.61925926 | N34: 0.75111111 | O34: 0.35176471 | P34: 0.48352941 | Q34: 0.20588235 | R34: 0.584375 | S34: 0.60526316 | T34: 0.28052632 | U34: 0.52578947 | V34: 0.1462963 | W34: 0.098518519 | X34: 0.15481481 | Y34: 0.22851852 | Z34: 0.29
B35: 2020 | D35: 0.644 | E35: 0.5212 | F35: 0.528 | G35: 0.4356 | H35: 0.5588 | I35: 0.58148148 | J35: 0.61037037 | K35: 0.28888889 | L35: 0.39259259 | M35: 0.67037037 | N35: 0.75111111 | O35: 0.373125 | P35: 0.565 | Q35: 0.23875 | R35: 0.59875 | S35: 0.63888889 | T35: 0.29611111 | U35: 0.52888889 | V35: 0.15962963 | W35: 0.10407407 | X35: 0.15962963 | Y35: 0.27666667 | Z35: 0.32444444
B36: 2021 | D36: 0.8024 | E36: 0.52 | F36: 0.52 | G36: 0.4036 | H36: 0.568 | I36: 0.61851852 | J36: 0.67777778 | K36: 0.23333333 | L36: 0.39259259 | M36: 0.66925926 | N36: 0.74518519 | O36: 0.373125 | P36: 0.56 | Q36: 0.196875 | R36: 0.604375 | S36: 0.66666667 | T36: 0.24055556 | U36: 0.52722222 | V36: 0.16111111 | W36: 0.10666667 | X36: 0.19037037 | Y36: 0.26666667 | Z36: 0.31111111
B37: 2022 | D37: =(IF(D7="",0,D7)+IF(D8="",0,D8)+IF(D9="",0,D9)+IF(D10="",0,D10)+IF(D11="",0,D11)+IF(D12="",0,D12)+IF(D13="",0,D13)+IF(D14="",0,D14)+IF(D15="",0,D15)+IF(D16="",0,D16)+IF(D17="",0,D17)+IF(D18="",0,D18)+IF(D19="",0,D19)+IF(D20="",0,D20)+IF(D21="",0,D21)+IF(D22="",0,D22)+IF(D23="",0,D23)+IF(D24="",0,D24)+IF(D25="",0,D25)+IF(D26="",0,D26)+IF(D27="",0,D27)+IF(D28="",0,D28)+IF(D29="",0,D29)+IF(D30="",0,D30)+IF(D31="",0,D31)+IF(D32="",0,D32)+IF(D33="",0,D33))/SUMPRODUCT((D7:D33<>"")*1) -> 0.912 | E37: =(IF(E7="",0,E7)+IF(E8="",0,E8)+IF(E9="",0,E9)+IF(E10="",0,E10)+IF(E11="",0,E11)+IF(E12="",0,E12)+IF(E13="",0,E13)+IF(E14="",0,E14)+IF(E15="",0,E15)+IF(E16="",0,E16)+IF(E17="",0,E17)+IF(E18="",0,E18)+IF(E19="",0,E19)+IF(E20="",0,E20)+IF(E21="",0,E21)+IF(E22="",0,E22)+IF(E23="",0,E23)+IF(E24="",0,E24)+IF(E25="",0,E25)+IF(E26="",0,E26)+IF(E27="",0,E27)+IF(E28="",0,E28)+IF(E29="",0,E29)+IF(E30="",0,E30)+IF(E31="",0,E31)+IF(E32="",0,E32)+IF(E33="",0,E33))/SUMPRODUCT((E7:E33<>"")*1) -> 0.5368 | F37: =(IF(F7="",0,F7)+IF(F8="",0,F8)+IF(F9="",0,F9)+IF(F10="",0,F10)+IF(F11="",0,F11)+IF(F12="",0,F12)+IF(F13="",0,F13)+IF(F14="",0,F14)+IF(F15="",0,F15)+IF(F16="",0,F16)+IF(F17="",0,F17)+IF(F18="",0,F18)+IF(F19="",0,F19)+IF(F20="",0,F20)+IF(F21="",0,F21)+IF(F22="",0,F22)+IF(F23="",0,F23)+IF(F24="",0,F24)+IF(F25="",0,F25)+IF(F26="",0,F26)+IF(F27="",0,F27)+IF(F28="",0,F28)+IF(F29="",0,F29)+IF(F30="",0,F30)+IF(F31="",0,F31)+IF(F32="",0,F32)+IF(F33="",0,F33))/SUMPRODUCT((F7:F33<>"")*1) -> 0.54 | G37: =(IF(G7="",0,G7)+IF(G8="",0,G8)+IF(G9="",0,G9)+IF(G10="",0,G10)+IF(G11="",0,G11)+IF(G12="",0,G12)+IF(G13="",0,G13)+IF(G14="",0,G14)+IF(G15="",0,G15)+IF(G16="",0,G16)+IF(G17="",0,G17)+IF(G18="",0,G18)+IF(G19="",0,G19)+IF(G20="",0,G20)+IF(G21="",0,G21)+IF(G22="",0,G22)+IF(G23="",0,G23)+IF(G24="",0,G24)+IF(G25="",0,G25)+IF(G26="",0,G26)+IF(G27="",0,G27)+IF(G28="",0,G28)+IF(G29="",0,G29)+IF(G30="",0,G30)+IF(G31="",0,G31)+IF(G32="",0,G32)+IF(G33="",0,G33))/SUMPRODUCT((G7:G33<>"")*1) -> 0.4184 | H37: =(IF(H7="",0,H7)+IF(H8="",0,H8)+IF(H9="",0,H9)+IF(H10="",0,H10)+IF(H11="",0,H11)+IF(H12="",0,H12)+IF(H13="",0,H13)+IF(H14="",0,H14)+IF(H15="",0,H15)+IF(H16="",0,H16)+IF(H17="",0,H17)+IF(H18="",0,H18)+IF(H19="",0,H19)+IF(H20="",0,H20)+IF(H21="",0,H21)+IF(H22="",0,H22)+IF(H23="",0,H23)+IF(H24="",0,H24)+IF(H25="",0,H25)+IF(H26="",0,H26)+IF(H27="",0,H27)+IF(H28="",0,H28)+IF(H29="",0,H29)+IF(H30="",0,H30)+IF(H31="",0,H31)+IF(H32="",0,H32)+IF(H33="",0,H33))/SUMPRODUCT((H7:H33<>"")*1) -> 0.5728 | I37: =(IF(I7="",0,I7)+IF(I8="",0,I8)+IF(I9="",0,I9)+IF(I10="",0,I10)+IF(I11="",0,I11)+IF(I12="",0,I12)+IF(I13="",0,I13)+IF(I14="",0,I14)+IF(I15="",0,I15)+IF(I16="",0,I16)+IF(I17="",0,I17)+IF(I18="",0,I18)+IF(I19="",0,I19)+IF(I20="",0,I20)+IF(I21="",0,I21)+IF(I22="",0,I22)+IF(I23="",0,I23)+IF(I24="",0,I24)+IF(I25="",0,I25)+IF(I26="",0,I26)+IF(I27="",0,I27)+IF(I28="",0,I28)+IF(I29="",0,I29)+IF(I30="",0,I30)+IF(I31="",0,I31)+IF(I32="",0,I32)+IF(I33="",0,I33))/SUMPRODUCT((I7:I33<>"")*1) -> 0.55925926 | J37: =(IF(J7="",0,J7)+IF(J8="",0,J8)+IF(J9="",0,J9)+IF(J10="",0,J10)+IF(J11="",0,J11)+IF(J12="",0,J12)+IF(J13="",0,J13)+IF(J14="",0,J14)+IF(J15="",0,J15)+IF(J16="",0,J16)+IF(J17="",0,J17)+IF(J18="",0,J18)+IF(J19="",0,J19)+IF(J20="",0,J20)+IF(J21="",0,J21)+IF(J22="",0,J22)+IF(J23="",0,J23)+IF(J24="",0,J24)+IF(J25="",0,J25)+IF(J26="",0,J26)+IF(J27="",0,J27)+IF(J28="",0,J28)+IF(J29="",0,J29)+IF(J30="",0,J30)+IF(J31="",0,J31)+IF(J32="",0,J32)+IF(J33="",0,J33))/SUMPRODUCT((J7:J33<>"")*1) -> 0.7137037 | K37: =(IF(K7="",0,K7)+IF(K8="",0,K8)+IF(K9="",0,K9)+IF(K10="",0,K10)+IF(K11="",0,K11)+IF(K12="",0,K12)+IF(K13="",0,K13)+IF(K14="",0,K14)+IF(K15="",0,K15)+IF(K16="",0,K16)+IF(K17="",0,K17)+IF(K18="",0,K18)+IF(K19="",0,K19)+IF(K20="",0,K20)+IF(K21="",0,K21)+IF(K22="",0,K22)+IF(K23="",0,K23)+IF(K24="",0,K24)+IF(K25="",0,K25)+IF(K26="",0,K26)+IF(K27="",0,K27)+IF(K28="",0,K28)+IF(K29="",0,K29)+IF(K30="",0,K30)+IF(K31="",0,K31)+IF(K32="",0,K32)+IF(K33="",0,K33))/SUMPRODUCT((K7:K33<>"")*1) -> 0.22148148 | ... N37: =(IF(N7="",0,N7)+IF(N8="",0,N8)+IF(N9="",0,N9)+IF(N10="",0,N10)+IF(N11="",0,N11)+IF(N12="",0,N12)+IF(N13="",0,N13)+IF(N14="",0,N14)+IF(N15="",0,N15)+IF(N16="",0,N16)+IF(N17="",0,N17)+IF(N18="",0,N18)+IF(N19="",0,N19)+IF(N20="",0,N20)+IF(N21="",0,N21)+IF(N22="",0,N22)+IF(N23="",0,N23)+IF(N24="",0,N24)+IF(N25="",0,N25)+IF(N26="",0,N26)+IF(N27="",0,N27)+IF(N28="",0,N28)+IF(N29="",0,N29)+IF(N30="",0,N30)+IF(N31="",0,N31)+IF(N32="",0,N32)+IF(N33="",0,N33))/SUMPRODUCT((N7:N33<>"")*1) -> 0.78814815 | O37: {=(IF(O7="",0,O7)+IF(O8="",0,O8)+IF(O9="",0,O9)+IF(O10="",0,O10)+IF(O11="",0,O11)+IF(O12="",0,O12)+IF(O13="",0,O13)+IF(O14="",0,O14)+IF(O15="",0,O15)+IF(O16="",0,O16)+IF(O17="",0,O17)+IF(O18="",0,O18)+IF(O19="",0,O19)+IF(O20="",0,O20)+IF(O21="",0,O21)+IF(O22="",0,O22)+IF(O23="",0,O23)+IF(O24="",0,O24)+IF(O25="",0,O25)+IF(O26="",0,O26)+IF(O27="",0,O27)+IF(O28="",0,O28)+IF(O29="",0,O29)+IF(O30="",0,O30)+IF(O31="",0,O31)+IF(O32="",0,O32)+IF(O33="",0,O33))/SUMPRODUCT((O7:O33<>"")*1)} -> 0.51176471 | P37: =(IF(P7="",0,P7)+IF(P8="",0,P8)+IF(P9="",0,P9)+IF(P10="",0,P10)+IF(P11="",0,P11)+IF(P12="",0,P12)+IF(P13="",0,P13)+IF(P14="",0,P14)+IF(P15="",0,P15)+IF(P16="",0,P16)+IF(P17="",0,P17)+IF(P18="",0,P18)+IF(P19="",0,P19)+IF(P20="",0,P20)+IF(P21="",0,P21)+IF(P22="",0,P22)+IF(P23="",0,P23)+IF(P24="",0,P24)+IF(P25="",0,P25)+IF(P26="",0,P26)+IF(P27="",0,P27)+IF(P28="",0,P28)+IF(P29="",0,P29)+IF(P30="",0,P30)+IF(P31="",0,P31)+IF(P32="",0,P32)+IF(P33="",0,P33))/SUMPRODUCT((P7:P33<>"")*1) -> 0.54470588 | Q37: =(IF(Q7="",0,Q7)+IF(Q8="",0,Q8)+IF(Q9="",0,Q9)+IF(Q10="",0,Q10)+IF(Q11="",0,Q11)+IF(Q12="",0,Q12)+IF(Q13="",0,Q13)+IF(Q14="",0,Q14)+IF(Q15="",0,Q15)+IF(Q16="",0,Q16)+IF(Q17="",0,Q17)+IF(Q18="",0,Q18)+IF(Q19="",0,Q19)+IF(Q20="",0,Q20)+IF(Q21="",0,Q21)+IF(Q22="",0,Q22)+IF(Q23="",0,Q23)+IF(Q24="",0,Q24)+IF(Q25="",0,Q25)+IF(Q26="",0,Q26)+IF(Q27="",0,Q27)+IF(Q28="",0,Q28)+IF(Q29="",0,Q29)+IF(Q30="",0,Q30)+IF(Q31="",0,Q31)+IF(Q32="",0,Q32)+IF(Q33="",0,Q33))/SUMPRODUCT((Q7:Q33<>"")*1) -> 0.23470588 | R37: =(IF(R7="",0,R7)+IF(R8="",0,R8)+IF(R9="",0,R9)+IF(R10="",0,R10)+IF(R11="",0,R11)+IF(R12="",0,R12)+IF(R13="",0,R13)+IF(R14="",0,R14)+IF(R15="",0,R15)+IF(R16="",0,R16)+IF(R17="",0,R17)+IF(R18="",0,R18)+IF(R19="",0,R19)+IF(R20="",0,R20)+IF(R21="",0,R21)+IF(R22="",0,R22)+IF(R23="",0,R23)+IF(R24="",0,R24)+IF(R25="",0,R25)+IF(R26="",0,R26)+IF(R27="",0,R27)+IF(R28="",0,R28)+IF(R29="",0,R29)+IF(R30="",0,R30)+IF(R31="",0,R31)+IF(R32="",0,R32)+IF(R33="",0,R33))/SUMPRODUCT((R7:R33<>"")*1) -> 0.56 | S37: =(IF(S7="",0,S7)+IF(S8="",0,S8)+IF(S9="",0,S9)+IF(S10="",0,S10)+IF(S11="",0,S11)+IF(S12="",0,S12)+IF(S13="",0,S13)+IF(S14="",0,S14)+IF(S15="",0,S15)+IF(S16="",0,S16)+IF(S17="",0,S17)+IF(S18="",0,S18)+IF(S19="",0,S19)+IF(S20="",0,S20)+IF(S21="",0,S21)+IF(S22="",0,S22)+IF(S23="",0,S23)+IF(S24="",0,S24)+IF(S25="",0,S25)+IF(S26="",0,S26)+IF(S27="",0,S27)+IF(S28="",0,S28)+IF(S29="",0,S29)+IF(S30="",0,S30)+IF(S31="",0,S31)+IF(S32="",0,S32)+IF(S33="",0,S33))/SUMPRODUCT((S7:S33<>"")*1) -> 0.65789474 | T37: =(IF(T7="",0,T7)+IF(T8="",0,T8)+IF(T9="",0,T9)+IF(T10="",0,T10)+IF(T11="",0,T11)+IF(T12="",0,T12)+IF(T13="",0,T13)+IF(T14="",0,T14)+IF(T15="",0,T15)+IF(T16="",0,T16)+IF(T17="",0,T17)+IF(T18="",0,T18)+IF(T19="",0,T19)+IF(T20="",0,T20)+IF(T21="",0,T21)+IF(T22="",0,T22)+IF(T23="",0,T23)+IF(T24="",0,T24)+IF(T25="",0,T25)+IF(T26="",0,T26)+IF(T27="",0,T27)+IF(T28="",0,T28)+IF(T29="",0,T29)+IF(T30="",0,T30)+IF(T31="",0,T31)+IF(T32="",0,T32)+IF(T33="",0,T33))/SUMPRODUCT((T7:T33<>"")*1) -> 0.22789474 | U37: =(IF(U7="",0,U7)+IF(U8="",0,U8)+IF(U9="",0,U9)+IF(U10="",0,U10)+IF(U11="",0,U11)+IF(U12="",0,U12)+IF(U13="",0,U13)+IF(U14="",0,U14)+IF(U15="",0,U15)+IF(U16="",0,U16)+IF(U17="",0,U17)+IF(U18="",0,U18)+IF(U19="",0,U19)+IF(U20="",0,U20)+IF(U21="",0,U21)+IF(U22="",0,U22)+IF(U23="",0,U23)+IF(U24="",0,U24)+IF(U25="",0,U25)+IF(U26="",0,U26)+IF(U27="",0,U27)+IF(U28="",0,U28)+IF(U29="",0,U29)+IF(U30="",0,U30)+IF(U31="",0,U31)+IF(U32="",0,U32)+IF(U33="",0,U33))/SUMPRODUCT((U7:U33<>"")*1) -> 0.54473684 | V37: =(IF(V7="",0,V7)+IF(V8="",0,V8)+IF(V9="",0,V9)+IF(V10="",0,V10)+IF(V11="",0,V11)+IF(V12="",0,V12)+IF(V13="",0,V13)+IF(V14="",0,V14)+IF(V15="",0,V15)+IF(V16="",0,V16)+IF(V17="",0,V17)+IF(V18="",0,V18)+IF(V19="",0,V19)+IF(V20="",0,V20)+IF(V21="",0,V21)+IF(V22="",0,V22)+IF(V23="",0,V23)+IF(V24="",0,V24)+IF(V25="",0,V25)+IF(V26="",0,V26)+IF(V27="",0,V27)+IF(V28="",0,V28)+IF(V29="",0,V29)+IF(V30="",0,V30)+IF(V31="",0,V31)+IF(V32="",0,V32)+IF(V33="",0,V33))/SUMPRODUCT((V7:V33<>"")*1) -> 0.15111111 | W37: =(IF(W7="",0,W7)+IF(W8="",0,W8)+IF(W9="",0,W9)+IF(W10="",0,W10)+IF(W11="",0,W11)+IF(W12="",0,W12)+IF(W13="",0,W13)+IF(W14="",0,W14)+IF(W15="",0,W15)+IF(W16="",0,W16)+IF(W17="",0,W17)+IF(W18="",0,W18)+IF(W19="",0,W19)+IF(W20="",0,W20)+IF(W21="",0,W21)+IF(W22="",0,W22)+IF(W23="",0,W23)+IF(W24="",0,W24)+IF(W25="",0,W25)+IF(W26="",0,W26)+IF(W27="",0,W27)+IF(W28="",0,W28)+IF(W29="",0,W29)+IF(W30="",0,W30)+IF(W31="",0,W31)+IF(W32="",0,W32)+IF(W33="",0,W33))/SUMPRODUCT((W7:W33<>"")*1) -> 0.098148148 | ... Z37: =(IF(Z7="",0,Z7)+IF(Z8="",0,Z8)+IF(Z9="",0,Z9)+IF(Z10="",0,Z10)+IF(Z11="",0,Z11)+IF(Z12="",0,Z12)+IF(Z13="",0,Z13)+IF(Z14="",0,Z14)+IF(Z15="",0,Z15)+IF(Z16="",0,Z16)+IF(Z17="",0,Z17)+IF(Z18="",0,Z18)+IF(Z19="",0,Z19)+IF(Z20="",0,Z20)+IF(Z21="",0,Z21)+IF(Z22="",0,Z22)+IF(Z23="",0,Z23)+IF(Z24="",0,Z24)+IF(Z25="",0,Z25)+IF(Z26="",0,Z26)+IF(Z27="",0,Z27)+IF(Z28="",0,Z28)+IF(Z29="",0,Z29)+IF(Z30="",0,Z30)+IF(Z31="",0,Z31)+IF(Z32="",0,Z32)+IF(Z33="",0,Z33))/SUMPRODUCT((Z7:Z33<>"")*1) -> 0.35296296
A39: EFTA | B39: EFTA | AB39: EFTA | AC39: =AVERAGE(AC40:AC43) -> 0.37144817 | AD39: =AVERAGE(AD40:AD43) -> 0.31412045 | AE39: =AVERAGE(AE40:AE43) -> 0.40548944 | AF39: =AVERAGE(AF40:AF43) -> 0.37299319
A40: ISL | B40: IS | C40: 2022 | I40: 20% | J40: 2% | K40: 0% | L40: 0% | M40: 0% | N40: 0% | V40: 0% | W40: 0% | X40: 0% | Y40: 0% | Z40: 0% | AB40: IS | AC40: 0 | AD40: 0.12510094 | AE40: 0.20502019 | AF40: =(I40*I$79+J40*J$79+K40*K$79+L40*L$79+M40*M$79+N40*N$79+V40*V$79+W40*W$79+X40*X$79+Y40*Y$79+Z40*Z$79)/SUM(I$79:N$79,V$79:Z$79) -> 0.010094213
A41: LIE | B41: LI | C41: 2022 | I41: 100% | J41: 94% | K41: 0% | L41: 0% | M41: 0% | N41: 12% | V41: 0% | W41: 0% | X41: 0% | Y41: 0% | Z41: 0% | AB41: LI | AC41: 0.37483176 | AD41: 0.35666218 | AE41: 0.37752355 | AF41: =(I41*I$79+J41*J$79+K41*K$79+L41*L$79+M41*M$79+N41*N$79+V41*V$79+W41*W$79+X41*X$79+Y41*Y$79+Z41*Z$79)/SUM(I$79:N$79,V$79:Z$79) -> 0.3654105
A42: NOR | B42: NO | C42: 2022 | D42: 74% | E42: 0% | F42: 40% | G42: 17% | H42: 60% | I42: 80% | J42: 97% | K42: 0% | L42: 30% | M42: 83% | N42: 0% | S42: 100% | T42: 100% | U42: 3% | V42: 77% | W42: 76% | X42: 73% | Y42: 36% | Z42: 27% | AB42: NO | AC42: ='Annual report 2019'!AH42 -> 0.73192429 | AD42: 0.3829653 | AE42: 0.6615142 | AF42: =(D42*D$79+E42*E$79+F42*F$79+G42*G$79+H42*H$79+I42*I$79+J42*J$79+K42*K$79+L42*L$79+M42*M$79+N42*N$79+S42*S$79+T42*T$79+U42*U$79+V42*V$79+W42*W$79+X42*X$79+Y42*Y$79+Z42*Z$79)/SUM(D$79:N$79,S$79:Z$79) -> 0.67866456
A43: CHE | B43: CH | C43: 2022 | D43: 92% | E43: 0% | F43: 40% | G43: 7% | H43: 60% | I43: 60% | J43: 97% | K43: 0% | L43: 70% | M43: 91% | N43: 100% | O43: 27% | P43: 10% | Q43: 0% | R43: 54% | S43: 50% | T43: 0% | U43: 40% | V43: 18% | W43: 0% | X43: 0% | Y43: 9% | Z43: 9% | AB43: CH | AC43: 0.37903661 | AD43: 0.39175337 | AE43: 0.37789981 | AF43: =(D43*D$79+E43*E$79+F43*F$79+G43*G$79+H43*H$79+I43*I$79+J43*J$79+K43*K$79+L43*L$79+M43*M$79+N43*N$79+O43*O$79+P43*P$79+Q43*Q$79+R43*R$79+S43*S$79+T43*T$79+U43*U$79+V43*V$79+W43*W$79+X43*X$79+Y43*Y$79+Z43*Z$79)/SUM(D$79:Z$79) -> 0.43780347
A45: candidates | B45: candidates | AB45: candidates | AC45: =AVERAGE(AC46:AC56) -> 0.2267397 | AD45: =AVERAGE(AD46:AD56) -> 0.1820228 | AE45: 0.16271465 | AF45: =AVERAGE(AF46:AF56) -> 0.21287319
A46: BIH | B46: BA | C46: 2022 | D46: 100% | E46: 79% | F46: 20% | G46: 51% | H46: 70% | I46: 50% | J46: 97% | K46: 0% | L46: 0% | M46: 0% | N46: 12% | O46: 0% | P46: 0% | Q46: 0% | R46: 0% | S46: 0% | T46: 0% | U46: 0% | V46: 0% | W46: 0% | X46: 0% | Y46: 0% | Z46: 0% | AB46: BA | AC46: 0.25134875 | AD46: ='Annual Report 2020'!AH46 -> 0.37184008 | AE46: 0.39198459 | AF46: =(D46*D$79+E46*E$79+F46*F$79+G46*G$79+H46*H$79+I46*I$79+J46*J$79+K46*K$79+L46*L$79+M46*M$79+N46*N$79+O46*O$79+P46*P$79+Q46*Q$79+R46*R$79+S46*S$79+T46*T$79+U46*U$79+V46*V$79+W46*W$79+X46*X$79+Y46*Y$79+Z46*Z$79)/SUM(D$79:Z$79) -> 0.38403661
A47: MNE | B47: ME | C47: 2022 | D47: 94% | E47: 0% | F47: 0% | G47: 0% | H47: 25% | I47: 60% | J47: 40% | K47: 0% | L47: 0% | M47: 0% | N47: 0% | V47: 0% | W47: 0% | X47: 0% | Y47: 0% | Z47: 0% | AB47: ME | AC47: 0.32651747 | AD47: ='Annual Report 2020'!AH47 -> 0 | AE47: 0.096342795 | AF47: =(D47*D$79+E47*E$79+F47*F$79+G47*G$79+H47*H$79+I47*I$79+J47*J$79+K47*K$79+L47*L$79+M47*M$79+N47*N$79+V47*V$79+W47*W$79+X47*X$79+Y47*Y$79+Z47*Z$79)/SUM(D$79:N$79,V$79:Z$79) -> 0.17757642
A48: MDA | B48: MD | C48: 2022 | D48: 94% | E48: 72% | F48: 20% | G48: 14% | H48: 37% | I48: 70% | J48: 36% | K48: 0% | L48: 0% | M48: 47% | N48: 12% | O48: 18% | P48: 18% | Q48: 0% | R48: 30% | V48: 0% | W48: 0% | X48: 0% | Y48: 0% | Z48: 36% | AB48: MD | AC48: 0.18495513 | AD48: ='Annual Report 2020'!AH48 -> 0.19581256 | AE48: 0 | AF48: =(D48*D$79+E48*E$79+F48*F$79+G48*G$79+H48*H$79+I48*I$79+J48*J$79+K48*K$79+L48*L$79+M48*M$79+N48*N$79+O48*O$79+P48*P$79+Q48*Q$79+R48*R$79+V48*V$79+W48*W$79+X48*X$79+Y48*Y$79+Z48*Z$79)/SUM(D$79:R$79,V$79:Z$79) -> 0.24181456
A49: MKD | B49: MK | C49: 2022 | D49: 100% | E49: 79% | F49: 30% | G49: 63% | H49: 50% | I49: 80% | J49: 21% | K49: 33% | L49: 80% | M49: 97% | N49: 88% | S49: 50% | T49: 0% | U49: 6% | V49: 5% | W49: 24% | X49: 2% | Y49: 72% | Z49: 72% | AB49: MK | AC49: 0.27032597 | AD49: ='Annual Report 2020'!AH49 -> 0.29481598 | AE49: 0.29617245 | AF49: =(D49*D$79+E49*E$79+F49*F$79+G49*G$79+H49*H$79+I49*I$79+J49*J$79+K49*K$79+L49*L$79+M49*M$79+N49*N$79+S49*S$79+T49*T$79+U49*U$79+V49*V$79+W49*W$79+X49*X$79+Y49*Y$79+Z49*Z$79)/SUM(D$79:N$79,S$79:Z$79) -> 0.31954784
A50: GEO | B50: GE | C50: 2022 | D50: 84% | E50: 34% | F50: 10% | G50: 0% | H50: 30% | I50: 0% | J50: 28% | K50: 0% | L50: 0% | M50: 11% | N50: 40% | O50: 0% | P50: 0% | Q50: 0% | R50: 0% | S50: 0% | T50: 0% | U50: 0% | V50: 0% | W50: 0% | X50: 2% | Y50: 0% | Z50: 9% | AB50: GE | AC50: 0 | AD50: ='Annual Report 2020'!AH50 -> 0 | AE50: 0 | AF50: =(D50*D$79+E50*E$79+F50*F$79+G50*G$79+H50*H$79+I50*I$79+J50*J$79+K50*K$79+L50*L$79+M50*M$79+N50*N$79+O50*O$79+P50*P$79+Q50*Q$79+R50*R$79+S50*S$79+T50*T$79+U50*U$79+V50*V$79+W50*W$79+X50*X$79+Y50*Y$79+Z50*Z$79)/SUM(D$79:Z$79) -> 0.15211946
A51: ALB | B51: AL | C51: 2022 | D51: 100% | E51: 53% | F51: 40% | G51: 56% | H51: 65% | I51: 60% | J51: 47% | K51: 50% | L51: 0% | M51: 0% | N51: 80% | V51: 0% | W51: 0% | X51: 0% | Y51: 0% | Z51: 0% | AB51: AL | AC51: 0.063930013 | AD51: ='Annual Report 2020'!AH51 -> 0.20933406 | AE51: 0.28365721 | AF51: =(D51*D$79+E51*E$79+F51*F$79+G51*G$79+H51*H$79+I51*I$79+J51*J$79+K51*K$79+L51*L$79+M51*M$79+N51*N$79+V51*V$79+W51*W$79+X51*X$79+Y51*Y$79+Z51*Z$79)/SUM(D$79:N$79,V$79:Z$79) -> 0.29803493
A52: SRB | B52: RS | C52: 2022 | D52: 100% | E52: 44% | F52: 40% | G52: 53% | H52: 50% | I52: 70% | J52: 5% | K52: 0% | L52: 0% | M52: 0% | N52: 0% | O52: 27% | P52: 100% | Q52: 0% | R52: 51% | S52: 100% | T52: 0% | U52: 30% | V52: 0% | W52: 0% | X52: 0% | Y52: 9% | Z52: 27% | AB52: RS | AC52: ='Annual report 2019'!AH52 -> 0.16666667 | AD52: ='Annual Report 2020'!AH52 -> 0.2222158 | AE52: 0.082398844 | AF52: =(D52*D$79+E52*E$79+F52*F$79+G52*G$79+H52*H$79+I52*I$79+J52*J$79+K52*K$79+L52*L$79+M52*M$79+N52*N$79+O52*O$79+P52*P$79+Q52*Q$79+R52*R$79+S52*S$79+T52*T$79+U52*U$79+V52*V$79+W52*W$79+X52*X$79+Y52*Y$79+Z52*Z$79)/SUM(D$79:Z$79) -> 0.19184008
A53: TUR | B53: TR | C53: 2022 | D53: 92% | E53: 0% | F53: 0% | G53: 0% | H53: 0% | I53: 70% | J53: 86% | K53: 0% | L53: 0% | M53: 5% | N53: 68% | S53: 0% | T53: 0% | U53: 0% | V53: 0% | W53: 0% | X53: 0% | Y53: 0% | Z53: 0% | AB53: TR | AC53: ='Annual report 2019'!AH53 -> 0.42284963 | AD53: ='Annual Report 2020'!AH53 -> 0.44178759 | AE53: 0 | AF53: =(D53*D$79+E53*E$79+F53*F$79+G53*G$79+H53*H$79+I53*I$79+J53*J$79+K53*K$79+L53*L$79+M53*M$79+N53*N$79+S53*S$79+T53*T$79+U53*U$79+V53*V$79+W53*W$79+X53*X$79+Y53*Y$79+Z53*Z$79)/SUM(D$79:N$79,S$79:Z$79) -> 0.31354364
A54: UKR | B54: UA | C54: 2022 | D54: 0% | E54: 0% | F54: 0% | G54: 0% | H54: 0% | I54: 0% | J54: 0% | K54: 0% | L54: 0% | M54: 0% | N54: 0% | O54: 0% | P54: 0% | Q54: 0% | R54: 0% | S54: 0% | T54: 0% | U54: 0% | V54: 0% | W54: 0% | X54: 0% | Y54: 0% | Z54: 0% | AB54: UA | AC54: ='Annual report 2019'!AH54 -> 0.11527938 | AD54: ='Annual Report 2020'!AH54 -> 0.084421965 | AE54: 0.034942197 | AF54: =(D54*D$79+E54*E$79+F54*F$79+G54*G$79+H54*H$79+I54*I$79+J54*J$79+K54*K$79+L54*L$79+M54*M$79+N54*N$79+O54*O$79+P54*P$79+Q54*Q$79+R54*R$79+S54*S$79+T54*T$79+U54*U$79+V54*V$79+W54*W$79+X54*X$79+Y54*Y$79+Z54*Z$79)/SUM(D$79:Z$79) -> 0
A56: XKX | B56: XK(1) | C56: 2022 | D56: 100% | E56: 0% | F56: 0% | G56: 0% | H56: 0% | I56: 70% | J56: 0% | K56: 0% | L56: 0% | M56: 0% | N56: 0% | V56: 0% | W56: 0% | X56: 0% | Y56: 0% | Z56: 0% | AB56: XK | AC56: 0.46552402 | AD56: ='Annual Report 2020'!AH56 -> 0 | AE56: 0.44164847 | AF56: =(D56*D$79+E56*E$79+F56*F$79+G56*G$79+H56*H$79+I56*I$79+J56*J$79+K56*K$79+L56*L$79+M56*M$79+N56*N$79+V56*V$79+W56*W$79+X56*X$79+Y56*Y$79+Z56*Z$79)/SUM(D$79:N$79,V$79:Z$79) -> 0.050218341
A58: others involved in 2019, 2020, 2021 or 2022 | AB58: others | AC58: =AVERAGE(AC59:AC69) -> 0.0829095 | AD58: =AVERAGE(AD59:AD69) -> 0.05717758 | AE58: =AVERAGE(AE59:AE69) -> 0.049977396 | AF58: =AVERAGE(AF59:AF69) -> 0.033511999
B59: AM | AB59: AM | AC59: 0 | AD59: 0.056943231 | AE59: 0 | AF59: =(D59*D$79+E59*E$79+F59*F$79+G59*G$79+H59*H$79+I59*I$79+J59*J$79+K59*K$79+L59*L$79+M59*M$79+N59*N$79+V59*V$79+W59*W$79+X59*X$79+Y59*Y$79+Z59*Z$79)/SUM(D$79:N$79,V$79:Z$79) -> 0
B60: AZ | AB60: AZ | AC60: 0.12406551 | AD60: 0 | AE60: 0 | AF60: 0
B61: BY | D61: 15% | E61: 0% | F61: 10% | G61: 0% | H61: 0% | I61: 0% | J61: 0% | K61: 0% | L61: 0% | M61: 0% | N61: 0% | O61: 9% | P61: 0% | Q61: 0% | R61: 0% | S61: 0% | T61: 0% | U61: 0% | V61: 0% | W61: 0% | X61: 0% | Y61: 0% | Z61: 0% | AB61: BY | AC61: 0.20973025 | AD61: 0.026753372 | AE61: 0.032052023 | AF61: =(D61*D$79+E61*E$79+F61*F$79+G61*G$79+H61*H$79+I61*I$79+J61*J$79+K61*K$79+L61*L$79+M61*M$79+N61*N$79+O61*O$79+P61*P$79+Q61*Q$79+R61*R$79+S61*S$79+T61*T$79+U61*U$79+V61*V$79+W61*W$79+X61*X$79+Y61*Y$79+Z61*Z$79)/SUM(D$79:Z$79) -> 0.0075529865
A62: CAN | B62: CA | C62: 2022 | D62: 0% | E62: 0% | F62: 0% | G62: 0% | H62: 0% | I62: 0% | J62: 6% | K62: 0% | L62: 0% | M62: 0% | N62: 0% | O62: 0% | P62: 0% | Q62: 0% | R62: 0% | S62: 0% | T62: 33% | U62: 26% | V62: 0% | W62: 0% | X62: 0% | Y62: 0% | Z62: 4% | AB62: CA | AC62: ='Annual report 2019'!AH62 -> 0.013092486 | AD62: ='Annual Report 2020'!AH62 -> 0.028824663 | AE62: ='Annual Report 2021'!AH62 -> 0.028824663 | AF62: =(D62*D$79+E62*E$79+F62*F$79+G62*G$79+H62*H$79+I62*I$79+J62*J$79+K62*K$79+L62*L$79+M62*M$79+N62*N$79+O62*O$79+P62*P$79+Q62*Q$79+R62*R$79+S62*S$79+T62*T$79+U62*U$79+V62*V$79+W62*W$79+X62*X$79+Y62*Y$79+Z62*Z$79)/SUM(D$79:Z$79) -> 0.025211946
B63: IL | AB63: IL | AC63: 0.1413494 | AD63: 0.20806024 | AE63: 0 | AF63: =(I63*I$79+J63*J$79+K63*K$79+L63*L$79+M63*M$79+N63*N$79+O63*O$79+P63*P$79+Q63*Q$79+R63*R$79+V63*V$79+W63*W$79+X63*X$79+Y63*Y$79+Z63*Z$79)/SUM(I$79:R$79,V$79:Z$79) -> 0
B64: KZ | AB64: KZ | AC64: 0.13093449 | AD64: 0 | AE64: 0 | AF64: 0
B65: MC | AB65: MC | AC65: 0 | AD65: 0 | AE65: 0.040040377 | AF65: =(I65*I$79+J65*J$79+K65*K$79+L65*L$79+M65*M$79+N65*N$79+V65*V$79+W65*W$79+X65*X$79+Y65*Y$79+Z65*Z$79)/SUM(I$79:N$79,V$79:Z$79) -> 0
B66: RU | AB66: RU | AC66: 0.23982659 | AD66: 0.11992293 | AE66: 0.11094412 | AF66: =(D66*D$79+E66*E$79+F66*F$79+G66*G$79+H66*H$79+I66*I$79+J66*J$79+K66*K$79+L66*L$79+M66*M$79+N66*N$79+O66*O$79+P66*P$79+Q66*Q$79+R66*R$79+S66*S$79+T66*T$79+U66*U$79+V66*V$79+W66*W$79+X66*X$79+Y66*Y$79+Z66*Z$79)/SUM(D$79:Z$79) -> 0
B67: UK | D67: 58% | E67: 0% | F67: 70% | G67: 9% | H67: 12% | I67: 50% | J67: 62% | K67: 0% | L67: 50% | M67: 83% | N67: 100% | O67: 100% | P67: 0% | Q67: 0% | R67: 36% | S67: 0% | T67: 0% | U67: 0% | V67: 14% | W67: 52% | X67: 0% | Y67: 27% | Z67: 27% | AB67: UK | AC67: 0 | AD67: 0.14907514 | AE67: 0.29851638 | AF67: =(D67*D$79+E67*E$79+F67*F$79+G67*G$79+H67*H$79+I67*I$79+J67*J$79+K67*K$79+L67*L$79+M67*M$79+N67*N$79+O67*O$79+P67*P$79+Q67*Q$79+R67*R$79+S67*S$79+T67*T$79+U67*U$79+V67*V$79+W67*W$79+X67*X$79+Y67*Y$79+Z67*Z$79)/SUM(D$79:Z$79) -> 0.3339499
B68: US | D68: 0% | E68: 0% | F68: 0% | G68: 0% | H68: 0% | I68: 0% | J68: 0% | K68: 0% | L68: 0% | M68: 0% | N68: 0% | O68: 9% | P68: 0% | Q68: 0% | R68: 0% | S68: 50% | T68: 0% | U68: 0% | V68: 0% | W68: 0% | X68: 0% | Y68: 0% | Z68: 0% | AB68: US | AC68: 0.012793834 | AD68: 0 | AE68: 0 | AF68: =(D68*D$79+E68*E$79+F68*F$79+G68*G$79+H68*H$79+I68*I$79+J68*J$79+K68*K$79+L68*L$79+M68*M$79+N68*N$79+O68*O$79+P68*P$79+Q68*Q$79+R68*R$79+S68*S$79+T68*T$79+U68*U$79+V68*V$79+W68*W$79+X68*X$79+Y68*Y$79+Z68*Z$79)/SUM(D$79:Z$79) -> 0.0019171484
B69: UZ | AB69: UZ | AC69: 0.040211946 | AD69: 0.039373796 | AE69: 0.039373796 | AF69: =(D69*D$79+E69*E$79+F69*F$79+G69*G$79+H69*H$79+I69*I$79+J69*J$79+K69*K$79+L69*L$79+M69*M$79+N69*N$79+O69*O$79+P69*P$79+Q69*Q$79+R69*R$79+S69*S$79+T69*T$79+U69*U$79+V69*V$79+W69*W$79+X69*X$79+Y69*Y$79+Z69*Z$79)/SUM(D$79:Z$79) -> 0
B71: non-resp. | AB71: non-resp. | AC71: =AVERAGE(AC72:AC77) -> 0 | AD71: =AVERAGE(AD72:AD77) -> 0 | AE71: =AVERAGE(AE72:AE77) -> 0 | AF71: =AVERAGE(AF72:AF77) -> 0
B72: AD | AB72: AD | AC72: 0 | AD72: 0 | AE72: =(I72*I$79+J72*J$79+K72*K$79+L72*L$79+M72*M$79+N72*N$79+V72*V$79+W72*W$79+X72*X$79+Y72*Y$79+Z72*Z$79)/SUM(I$79:N$79,V$79:Z$79) -> 0 | AF72: =(I72*I$79+J72*J$79+K72*K$79+L72*L$79+M72*M$79+N72*N$79+V72*V$79+W72*W$79+X72*X$79+Y72*Y$79+Z72*Z$79)/SUM(I$79:N$79,V$79:Z$79) -> 0
B73: IN | AB73: IN | AC73: 0 | AD73: 0 | AE73: =(D73*D$79+E73*E$79+F73*F$79+G73*G$79+H73*H$79+I73*I$79+J73*J$79+K73*K$79+L73*L$79+M73*M$79+N73*N$79+O73*O$79+P73*P$79+Q73*Q$79+R73*R$79+S73*S$79+T73*T$79+U73*U$79+V73*V$79+W73*W$79+X73*X$79+Y73*Y$79+Z73*Z$79)/SUM(D$79:Z$79) -> 0 | AF73: =(D73*D$79+E73*E$79+F73*F$79+G73*G$79+H73*H$79+I73*I$79+J73*J$79+K73*K$79+L73*L$79+M73*M$79+N73*N$79+O73*O$79+P73*P$79+Q73*Q$79+R73*R$79+S73*S$79+T73*T$79+U73*U$79+V73*V$79+W73*W$79+X73*X$79+Y73*Y$79+Z73*Z$79)/SUM(D$79:Z$79) -> 0
B74: KG | AB74: KG | AC74: 0 | AD74: 0 | AE74: =(D74*D$79+E74*E$79+F74*F$79+G74*G$79+H74*H$79+I74*I$79+J74*J$79+K74*K$79+L74*L$79+M74*M$79+N74*N$79+V74*V$79+W74*W$79+X74*X$79+Y74*Y$79+Z74*Z$79)/SUM(D$79:N$79,V$79:Z$79) -> 0 | AF74: =(D74*D$79+E74*E$79+F74*F$79+G74*G$79+H74*H$79+I74*I$79+J74*J$79+K74*K$79+L74*L$79+M74*M$79+N74*N$79+V74*V$79+W74*W$79+X74*X$79+Y74*Y$79+Z74*Z$79)/SUM(D$79:N$79,V$79:Z$79) -> 0
B75: SM | AB75: SM | AC75: 0 | AD75: 0 | AE75: =(I75*I$79+J75*J$79+K75*K$79+L75*L$79+M75*M$79+N75*N$79+V75*V$79+W75*W$79+X75*X$79+Y75*Y$79+Z75*Z$79)/SUM(I$79:N$79,V$79:Z$79) -> 0 | AF75: =(I75*I$79+J75*J$79+K75*K$79+L75*L$79+M75*M$79+N75*N$79+V75*V$79+W75*W$79+X75*X$79+Y75*Y$79+Z75*Z$79)/SUM(I$79:N$79,V$79:Z$79) -> 0
B76: TJ | AB76: TJ | AC76: 0 | AD76: 0 | AE76: =(D76*D$79+E76*E$79+F76*F$79+G76*G$79+H76*H$79+I76*I$79+J76*J$79+K76*K$79+L76*L$79+M76*M$79+N76*N$79+O76*O$79+P76*P$79+Q76*Q$79+R76*R$79+S76*S$79+T76*T$79+U76*U$79+V76*V$79+W76*W$79+X76*X$79+Y76*Y$79+Z76*Z$79)/SUM(D$79:Z$79) -> 0 | AF76: =(D76*D$79+E76*E$79+F76*F$79+G76*G$79+H76*H$79+I76*I$79+J76*J$79+K76*K$79+L76*L$79+M76*M$79+N76*N$79+O76*O$79+P76*P$79+Q76*Q$79+R76*R$79+S76*S$79+T76*T$79+U76*U$79+V76*V$79+W76*W$79+X76*X$79+Y76*Y$79+Z76*Z$79)/SUM(D$79:Z$79) -> 0
B77: TM | AB77: TM | AC77: 0 | AD77: 0 | AE77: =(D77*D$79+E77*E$79+F77*F$79+G77*G$79+H77*H$79+I77*I$79+J77*J$79+K77*K$79+L77*L$79+M77*M$79+N77*N$79+O77*O$79+P77*P$79+Q77*Q$79+R77*R$79+S77*S$79+T77*T$79+U77*U$79+V77*V$79+W77*W$79+X77*X$79+Y77*Y$79+Z77*Z$79)/SUM(D$79:Z$79) -> 0 | AF77: =(D77*D$79+E77*E$79+F77*F$79+G77*G$79+H77*H$79+I77*I$79+J77*J$79+K77*K$79+L77*L$79+M77*M$79+N77*N$79+O77*O$79+P77*P$79+Q77*Q$79+R77*R$79+S77*S$79+T77*T$79+U77*U$79+V77*V$79+W77*W$79+X77*X$79+Y77*Y$79+Z77*Z$79)/SUM(D$79:Z$79) -> 0
D79: 39 | E79: 43 | F79: 10 | G79: 41 | H79: 40 | I79: 10 | J79: 275 | K79: 6 | L79: 10 | M79: 36 | N79: 25 | O79: 11 | P79: 37 | Q79: 6 | R79: 33 | S79: 2 | T79: 3 | U79: 30 | V79: 54 | W79: 65 | X79: 229 | Y79: 11 | Z79: 22

Sheet Annual Report 2021
A1: Annual Report 2021
A2: 45015
D3: RAIL | I3: ROAD | O3: IWW | S3: OIL | V3: ROADVKM | Y3: BUSES | AB3: unweighted average (chapters) | AF3: in number of indicators, 2 months after 1st release
D4: I | E4: II | F4: III | G4: IV | H4: V | I4: I | J4: II | K4: III | L4: IV | M4: V | N4: VII | O4: I | P4: II | Q4: III | R4: V | S4: I | T4: III | U4: V | V4: I | W4: II | X4: III | Y4: I | Z4: IV | AB4: 2019 | AC4: 2020 | AD4: 2021 | AF4: 2019 | AG4: 2020 | AH4: 2021
B6: EU-27 | AB6: =AVERAGE(AB7:AB33) -> 0.40351564 | AC6: =AVERAGE(AC7:AC33) -> 0.42942994 | AD6: =AVERAGE(AD7:AD33) -> #VALUE! | AE6: EU-27 | AF6: =AVERAGE(AF7:AF33) -> 0.40048837 | AG6: =AVERAGE(AG7:AG33) -> 0.41964608 | AH6: =AVERAGE(AH7:AH33) -> 0.44981853
A7: BEL | B7: BE | C7: 2021 | D7: 46% | E7: 0% | F7: 0% | G7: 0% | H7: 0% | I7: 0% | J7: 38% | K7: 0% | L7: 0% | M7: 55% | N7: 100% | O7: 0% | P7: 70% | Q7: 0% | R7: 30% | S7: 0% | T7: 0% | U7: 0% | V7: 0% | W7: 0% | X7: 0% | Y7: 0% | Z7: 0% | AB7: 0.097826087 | AC7: 0.1273913 | AD7: =(D7+E7+F7+G7+H7+I7+J7+K7+L7+M7+N7+O7+P7+Q7+R7+S7+T7+U7+V7+W7+X7+Y7+Z7)/23 -> 0.1473913 | AE7: BE | AF7: 0.15636802 | AG7: ='Annual Report 2020'!AH7 -> 0.1783237 | AH7: =(D7*D$79+E7*E$79+F7*F$79+G7*G$79+H7*H$79+I7*I$79+J7*J$79+K7*K$79+L7*L$79+M7*M$79+N7*N$79+O7*O$79+P7*P$79+Q7*Q$79+R7*R$79+S7*S$79+T7*T$79+U7*U$79+V7*V$79+W7*W$79+X7*X$79+Y7*Y$79+Z7*Z$79)/SUM(D$79:Z$79) -> 0.19560694 | AJ7: LVA | AK7: LV | AL7: 0.80369085
A8: BGR | B8: BG | C8: 2021 | D8: 100% | E8: 0% | F8: 70% | G8: 0% | H8: 45% | I8: 80% | J8: 12% | K8: 50% | L8: 60% | M8: 66% | N8: 92% | O8: 18% | P8: 72% | Q8: 50% | R8: 48% | S8: 100% | T8: 0% | U8: 40% | V8: 22% | W8: 9% | X8: 2% | Y8: 45% | Z8: 50% | AB8: 0.35217391 | AC8: 0.42608696 | AD8: =(D8+E8+F8+G8+H8+I8+J8+K8+L8+M8+N8+O8+P8+Q8+R8+S8+T8+U8+V8+W8+X8+Y8+Z8)/23 -> 0.44826087 | AE8: BG | AF8: 0.20672447 | AG8: ='Annual Report 2020'!AH8 -> 0.23306358 | AH8: =(D8*D$79+E8*E$79+F8*F$79+G8*G$79+H8*H$79+I8*I$79+J8*J$79+K8*K$79+L8*L$79+M8*M$79+N8*N$79+O8*O$79+P8*P$79+Q8*Q$79+R8*R$79+S8*S$79+T8*T$79+U8*U$79+V8*V$79+W8*W$79+X8*X$79+Y8*Y$79+Z8*Z$79)/SUM(D$79:Z$79) -> 0.25094412 | AJ8: MLT | AK8: MT | AL8: 0.71282638
A9: CZE | B9: CZ | C9: 2021 | D9: 100% | E9: 76% | F9: 70% | G9: 92% | H9: 85% | I9: 80% | J9: 42% | K9: 50% | L9: 10% | M9: 69% | N9: 100% | O9: 100% | P9: 59% | Q9: 50% | R9: 78% | S9: 100% | T9: 100% | U9: 100% | V9: 1% | W9: 4% | X9: 0% | Y9: 0% | Z9: 63% | AB9: 0.60304348 | AC9: 0.60956522 | AD9: =(D9+E9+F9+G9+H9+I9+J9+K9+L9+M9+N9+O9+P9+Q9+R9+S9+T9+U9+V9+W9+X9+Y9+Z9)/23 -> 0.62130435 | AE9: CZ | AF9: 0.36762042 | AG9: ='Annual Report 2020'!AH9 -> 0.37181118 | AH9: =(D9*D$79+E9*E$79+F9*F$79+G9*G$79+H9*H$79+I9*I$79+J9*J$79+K9*K$79+L9*L$79+M9*M$79+N9*N$79+O9*O$79+P9*P$79+Q9*Q$79+R9*R$79+S9*S$79+T9*T$79+U9*U$79+V9*V$79+W9*W$79+X9*X$79+Y9*Y$79+Z9*Z$79)/SUM(D$79:Z$79) -> 0.42515414 | AJ9: FRA | AK9: FR | AL9: 0.65075145
A10: DNK | B10: DK | C10: 2021 | D10: 92% | E10: 58% | F10: 70% | G10: 7% | H10: 45% | I10: 60% | J10: 44% | K10: 50% | L10: 50% | M10: 66% | N10: 92% | S10: 50% | T10: 0% | U10: 100% | V10: 33% | W10: 0% | X10: 0% | Y10: 9% | Z10: 4% | AB10: 0.21473684 | AC10: 0.42473684 | AD10: =(D10+E10+F10+G10+H10+I10+J10+K10+L10+M10+N10+S10+T10+U10+V10+W10+X10+Y10+Z10)/19 -> 0.43684211 | AE10: DK | AF10: 0.21870662 | AG10: ='Annual Report 2020'!AH10 -> 0.2808307 | AH10: =(D10*D$79+E10*E$79+F10*F$79+G10*G$79+H10*H$79+I10*I$79+J10*J$79+K10*K$79+L10*L$79+M10*M$79+N10*N$79+S10*S$79+T10*T$79+U10*U$79+V10*V$79+W10*W$79+X10*X$79+Y10*Y$79+Z10*Z$79)/SUM(D$79:N$79,S$79:Z$79) -> 0.33768665 | AJ10: LTU | AK10: LT | AL10: 0.61208092
A11: DEU | B11: DE | C11: 2021 | D11: 0% | E11: 0% | F11: 20% | G11: 2% | H11: 65% | I11: 50% | J11: 77% | K11: 50% | L11: 50% | M11: 94% | N11: 88% | O11: 100% | P11: 18% | Q11: 33% | R11: 100% | S11: 50% | T11: 33% | U11: 40% | V11: 0% | W11: 0% | X11: 31% | Y11: 54% | Z11: 36% | AB11: 0.36521739 | AC11: 0.4273913 | AD11: =(D11+E11+F11+G11+H11+I11+J11+K11+L11+M11+N11+O11+P11+Q11+R11+S11+T11+U11+V11+W11+X11+Y11+Z11)/23 -> 0.43086957 | AE11: DE | AF11: 0.41419075 | AG11: ='Annual Report 2020'!AH11 -> 0.35577071 | AH11: =(D11*D$79+E11*E$79+F11*F$79+G11*G$79+H11*H$79+I11*I$79+J11*J$79+K11*K$79+L11*L$79+M11*M$79+N11*N$79+O11*O$79+P11*P$79+Q11*Q$79+R11*R$79+S11*S$79+T11*T$79+U11*U$79+V11*V$79+W11*W$79+X11*X$79+Y11*Y$79+Z11*Z$79)/SUM(D$79:Z$79) -> 0.44401734 | AJ11: SWE | AK11: SE | AL11: 0.59028913
A12: EST | B12: EE | C12: 2021 | D12: 100% | E12: 86% | F12: 50% | G12: 17% | H12: 60% | I12: 80% | J12: 78% | K12: 16% | L12: 50% | M12: 63% | N12: 76% | V12: 9% | W12: 18% | X12: 2% | Y12: 81% | Z12: 81% | AB12: 0.495625 | AC12: 0.499375 | AD12: =(D12+E12+F12+G12+H12+I12+J12+K12+L12+M12+N12+V12+W12+X12+Y12+Z12)/16 -> 0.541875 | AE12: EE | AF12: 0.44470524 | AG12: ='Annual Report 2020'!AH12 -> 0.44751092 | AH12: =(D12*D$79+E12*E$79+F12*F$79+G12*G$79+H12*H$79+I12*I$79+J12*J$79+K12*K$79+L12*L$79+M12*M$79+N12*N$79+V12*V$79+W12*W$79+X12*X$79+Y12*Y$79+Z12*Z$79)/SUM(D$79:N$79,V$79:Z$79) -> 0.46938865 | AJ12: FIN | AK12: FI | AL12: 0.54534397
A13: IRL | B13: IE | C13: 2021 | D13: 100% | E13: 0% | F13: 10% | G13: 4% | H13: 30% | I13: 50% | J13: 51% | K13: 0% | L13: 100% | M13: 61% | N13: 84% | V13: 37% | W13: 10% | X13: 23% | Y13: 45% | Z13: 22% | AB13: 0.349375 | AC13: 0.2725 | AD13: =(D13+E13+F13+G13+H13+I13+J13+K13+L13+M13+N13+V13+W13+X13+Y13+Z13)/16 -> 0.391875 | AE13: IE | AF13: 0.31509825 | AG13: ='Annual Report 2020'!AH13 -> 0.29296943 | AH13: =(D13*D$79+E13*E$79+F13*F$79+G13*G$79+H13*H$79+I13*I$79+J13*J$79+K13*K$79+L13*L$79+M13*M$79+N13*N$79+V13*V$79+W13*W$79+X13*X$79+Y13*Y$79+Z13*Z$79)/SUM(D$79:N$79,V$79:Z$79) -> 0.37204148 | AJ13: SVN | AK13: SI | AL13: 0.54009825
A14: GRC | B14: EL | C14: 2021 | D14: 100% | E14: 100% | F14: 40% | G14: 17% | H14: 45% | I14: 0% | J14: 6% | K14: 0% | L14: 0% | M14: 0% | N14: 12% | S14: 0% | T14: 0% | U14: 0% | V14: 0% | W14: 0% | X14: 0% | Y14: 0% | Z14: 0% | AB14: 0.163 | AC14: 0.1985 | AD14: =(D14+E14+F14+G14+H14+I14+J14+K14+L14+M14+N14+V14+W14+X14+Y14+Z14)/16 -> 0.2 | AE14: EL | AF14: 0.1231007 | AG14: ='Annual Report 2020'!AH14 -> 0.14825447 | AH14: =(D14*D$79+E14*E$79+F14*F$79+G14*G$79+H14*H$79+I14*I$79+J14*J$79+K14*K$79+L14*L$79+M14*M$79+N14*N$79+S14*S$79+T14*T$79+U14*U$79+V14*V$79+W14*W$79+X14*X$79+Y14*Y$79+Z14*Z$79)/SUM(D$79:N$79,S$79:Z$79) -> 0.13719243 | AJ14: POL | AK14: PL | AL14: 0.53485549
A15: ESP | B15: ES | C15: 2021 | D15: 100% | E15: 100% | F15: 100% | G15: 82% | H15: 35% | I15: 70% | J15: 97% | K15: 16% | L15: 50% | M15: 83% | N15: 88% | S15: 50% | T15: 0% | U15: 40% | V15: 14% | W15: 12% | X15: 0% | Y15: 0% | Z15: 22% | AB15: 0.38842105 | AC15: 0.46210526 | AD15: =(D15+E15+F15+G15+H15+I15+J15+K15+L15+M15+N15+S15+T15+U15+V15+W15+X15+Y15+Z15)/19 -> 0.50473684 | AE15: ES | AF15: 0.51049422 | AG15: ='Annual Report 2020'!AH15 -> 0.51869611 | AH15: =(D15*D$79+E15*E$79+F15*F$79+G15*G$79+H15*H$79+I15*I$79+J15*J$79+K15*K$79+L15*L$79+M15*M$79+N15*N$79+S15*S$79+T15*T$79+U15*U$79+V15*V$79+W15*W$79+X15*X$79+Y15*Y$79+Z15*Z$79)/SUM(D$79:N$79,S$79:Z$79) -> 0.53039958 | AJ15: HUN | AK15: HU | AL15: 0.5338921
A16: FRA | B16: FR | C16: 2021 | D16: 100% | E16: 37% | F16: 0% | G16: 7% | H16: 55% | I16: 50% | J16: 86% | K16: 16% | L16: 80% | M16: 94% | N16: 88% | O16: 27% | P16: 78% | Q16: 16% | R16: 78% | S16: 0% | T16: 0% | U16: 20% | V16: 18% | W16: 4% | X16: 92% | Y16: 9% | Z16: 4% | AB16: 0.39956522 | AC16: 0.37478261 | AD16: =(D16+E16+F16+G16+H16+I16+J16+K16+L16+M16+N16+O16+P16+Q16+R16+S16+T16+U16+V16+W16+X16+Y16+Z16)/23 -> 0.41695652 | AE16: FR | AF16: 0.45901734 | AG16: ='Annual Report 2020'!AH16 -> 0.45684971 | AH16: =(D16*D$79+E16*E$79+F16*F$79+G16*G$79+H16*H$79+I16*I$79+J16*J$79+K16*K$79+L16*L$79+M16*M$79+N16*N$79+O16*O$79+P16*P$79+Q16*Q$79+R16*R$79+S16*S$79+T16*T$79+U16*U$79+V16*V$79+W16*W$79+X16*X$79+Y16*Y$79+Z16*Z$79)/SUM(D$79:Z$79) -> 0.65075145 | AJ16: ESP | AK16: ES | AL16: 0.53039958
A17: HRV | B17: HR | C17: 2021 | D17: 100% | E17: 90% | F17: 90% | G17: 43% | H17: 80% | I17: 80% | J17: 75% | K17: 50% | L17: 50% | M17: 94% | N17: 88% | O17: 45% | P17: 72% | Q17: 16% | R17: 54% | S17: 50% | T17: 0% | U17: 40% | V17: 9% | W17: 10% | X17: 0% | Y17: 27% | Z17: 59% | AB17: 0.50782609 | AC17: 0.52086957 | AD17: =(D17+E17+F17+G17+H17+I17+J17+K17+L17+M17+N17+O17+P17+Q17+R17+S17+T17+U17+V17+W17+X17+Y17+Z17)/23 -> 0.53130435 | AE17: HR | AF17: 0.47845857 | AG17: ='Annual Report 2020'!AH17 -> 0.53421965 | AH17: =(D17*D$79+E17*E$79+F17*F$79+G17*G$79+H17*H$79+I17*I$79+J17*J$79+K17*K$79+L17*L$79+M17*M$79+N17*N$79+O17*O$79+P17*P$79+Q17*Q$79+R17*R$79+S17*S$79+T17*T$79+U17*U$79+V17*V$79+W17*W$79+X17*X$79+Y17*Y$79+Z17*Z$79)/SUM(D$79:Z$79) -> 0.48660886 | AJ17: HRV | AK17: HR | AL17: 0.48660886
A18: ITA | B18: IT | C18: 2021 | D18: 41% | E18: 0% | F18: 30% | G18: 7% | H18: 50% | I18: 0% | J18: 59% | K18: 0% | L18: 10% | M18: 72% | N18: 96% | O18: 0% | P18: 0% | Q18: 0% | R18: 0% | S18: 100% | T18: 0% | U18: 13% | V18: 3% | W18: 3% | X18: 0% | Y18: 36% | Z18: 36% | AB18: 0.24217391 | AC18: 0.25608696 | AD18: =(D18+E18+F18+G18+H18+I18+J18+K18+L18+M18+N18+O18+P18+Q18+R18+S18+T18+U18+V18+W18+X18+Y18+Z18)/23 -> 0.24173913 | AE18: IT | AF18: 0.26900771 | AG18: ='Annual Report 2020'!AH18 -> 0.25872832 | AH18: =(D18*D$79+E18*E$79+F18*F$79+G18*G$79+H18*H$79+I18*I$79+J18*J$79+K18*K$79+L18*L$79+M18*M$79+N18*N$79+O18*O$79+P18*P$79+Q18*Q$79+R18*R$79+S18*S$79+T18*T$79+U18*U$79+V18*V$79+W18*W$79+X18*X$79+Y18*Y$79+Z18*Z$79)/SUM(D$79:Z$79) -> 0.26626204 | AJ18: PRT | AK18: PT | AL18: 0.48639327
A19: CYP | B19: CY | C19: 2021 | I19: 70% | J19: 83% | K19: 0% | L19: 0% | M19: 50% | N19: 64% | V19: 0% | W19: 0% | X19: 0% | Y19: 0% | Z19: 0% | AB19: 0.24272727 | AC19: 0.24272727 | AD19: =(I19+J19+K19+L19+M19+N19+V19+W19+X19+Y19+Z19)/11 -> 0.24272727 | AE19: CY | AF19: 0.36238223 | AG19: ='Annual Report 2020'!AH19 -> 0.36238223 | AH19: =(I19*I$79+J19*J$79+K19*K$79+L19*L$79+M19*M$79+N19*N$79+V19*V$79+W19*W$79+X19*X$79+Y19*Y$79+Z19*Z$79)/SUM(I$79:N$79,V$79:Z$79) -> 0.36238223 | AJ19: EST | AK19: EE | AL19: 0.46938865
A20: LVA | B20: LV | C20: 2021 | D20: 100% | E20: 79% | F20: 100% | G20: 95% | H20: 85% | I20: 100% | J20: 98% | K20: 50% | L20: 50% | M20: 88% | N20: 100% | S20: 100% | T20: 100% | U20: 100% | V20: 42% | W20: 0% | X20: 85% | Y20: 36% | Z20: 36% | AB20: 0.74263158 | AC20: 0.75 | AD20: =(D20+E20+F20+G20+H20+I20+J20+K20+L20+M20+N20+S20+T20+U20+V20+W20+X20+Y20+Z20)/19 -> 0.76 | AE20: LV | AF20: 0.76679285 | AG20: ='Annual Report 2020'!AH20 -> 0.76380652 | AH20: =(D20*D$79+E20*E$79+F20*F$79+G20*G$79+H20*H$79+I20*I$79+J20*J$79+K20*K$79+L20*L$79+M20*M$79+N20*N$79+S20*S$79+T20*T$79+U20*U$79+V20*V$79+W20*W$79+X20*X$79+Y20*Y$79+Z20*Z$79)/SUM(D$79:N$79,S$79:Z$79) -> 0.80369085 | AJ20: DEU | AK20: DE | AL20: 0.44401734
A21: LTU | B21: LT | C21: 2021 | D21: 100% | E21: 95% | F21: 80% | G21: 97% | H21: 75% | I21: 100% | J21: 71% | K21: 66% | L21: 70% | M21: 91% | N21: 92% | O21: 27% | P21: 72% | Q21: 50% | R21: 69% | S21: 100% | T21: 100% | U21: 100% | V21: 25% | W21: 12% | X21: 32% | Y21: 63% | Z21: 63% | AB21: 0.74434783 | AC21: 0.73956522 | AD21: =(D21+E21+F21+G21+H21+I21+J21+K21+L21+M21+N21+O21+P21+Q21+R21+S21+T21+U21+V21+W21+X21+Y21+Z21)/23 -> 0.7173913 | AE21: LT | AF21: 0.62788054 | AG21: ='Annual Report 2020'!AH21 -> 0.61762042 | AH21: =(D21*D$79+E21*E$79+F21*F$79+G21*G$79+H21*H$79+I21*I$79+J21*J$79+K21*K$79+L21*L$79+M21*M$79+N21*N$79+O21*O$79+P21*P$79+Q21*Q$79+R21*R$79+S21*S$79+T21*T$79+U21*U$79+V21*V$79+W21*W$79+X21*X$79+Y21*Y$79+Z21*Z$79)/SUM(D$79:Z$79) -> 0.61208092 | AJ21: NLD | AK21: NL | AL21: 0.42944123
A22: LUX | B22: LU | C22: 2021 | D22: 100% | E22: 41% | F22: 0% | G22: 0% | H22: 15% | I22: 40% | J22: 96% | K22: 0% | L22: 0% | M22: 0% | N22: 0% | O22: 0% | P22: 0% | Q22: 0% | R22: 0% | V22: 0% | W22: 0% | X22: 0% | Y22: 0% | Z22: 0% | AB22: 0.093125 | AC22: 0.0975 | AD22: =(D22+E22+F22+G22+H22+I22+J22+K22+L22+M22+N22+V22+W22+X22+Y22+Z22)/16 -> 0.1825 | AE22: LU | AF22: 0.11657205 | AG22: ='Annual Report 2020'!AH22 -> 0.11169492 | AH22: =(D22*D$79+E22*E$79+F22*F$79+G22*G$79+H22*H$79+I22*I$79+J22*J$79+K22*K$79+L22*L$79+M22*M$79+N22*N$79+O22*O$79+P22*P$79+Q22*Q$79+R22*R$79+V22*V$79+W22*W$79+X22*X$79+Y22*Y$79+Z22*Z$79)/SUM(D$79:R$79,V$79:Z$79) -> 0.32964108 | AJ22: ROU | AK22: RO | AL22: 0.4288921
A23: HUN | B23: HU | C23: 2021 | D23: 92% | E23: 67% | F23: 10% | G23: 0% | H23: 55% | I23: 100% | J23: 83% | K23: 50% | L23: 50% | M23: 88% | N23: 100% | O23: 100% | P23: 40% | Q23: 50% | R23: 69% | S23: 50% | T23: 0% | U23: 100% | V23: 20% | W23: 76% | X23: 0% | Y23: 27% | Z23: 81% | AB23: 0.64521739 | AC23: 0.63 | AD23: =(D23+E23+F23+G23+H23+I23+J23+K23+L23+M23+N23+O23+P23+Q23+R23+S23+T23+U23+V23+W23+X23+Y23+Z23)/23 -> 0.56869565 | AE23: HU | AF23: 0.59646435 | AG23: ='Annual Report 2020'!AH23 -> 0.57314066 | AH23: =(D23*D$79+E23*E$79+F23*F$79+G23*G$79+H23*H$79+I23*I$79+J23*J$79+K23*K$79+L23*L$79+M23*M$79+N23*N$79+O23*O$79+P23*P$79+Q23*Q$79+R23*R$79+S23*S$79+T23*T$79+U23*U$79+V23*V$79+W23*W$79+X23*X$79+Y23*Y$79+Z23*Z$79)/SUM(D$79:Z$79) -> 0.5338921 | AJ23: AUT | AK23: AT | AL23: 0.42516378
A24: MLT | B24: MT | C24: 2021 | I24: 20% | J24: 92% | K24: 50% | L24: 40% | M24: 0% | N24: 64% | V24: 42% | W24: 0% | X24: 97% | Y24: 36% | Z24: 13% | AB24: 0.42545455 | AC24: 0.40727273 | AD24: =(I24+J24+K24+L24+M24+N24+V24+W24+X24+Y24+Z24)/11 -> 0.41272727 | AE24: MT | AF24: 0.71367429 | AG24: ='Annual Report 2020'!AH24 -> 0.6984253 | AH24: =(I24*I$79+J24*J$79+K24*K$79+L24*L$79+M24*M$79+N24*N$79+V24*V$79+W24*W$79+X24*X$79+Y24*Y$79+Z24*Z$79)/SUM(I$79:N$79,V$79:Z$79) -> 0.71282638 | AJ24: CZE | AK24: CZ | AL24: 0.42515414
A25: NLD | B25: NL | C25: 2021 | D25: 23% | E25: 0% | F25: 0% | G25: 7% | H25: 70% | I25: 70% | J25: 76% | K25: 0% | L25: 90% | M25: 88% | N25: 24% | O25: 27% | P25: 45% | Q25: 0% | R25: 87% | S25: 50% | T25: 0% | U25: 20% | V25: 55% | W25: 13% | X25: 20% | Y25: 36% | Z25: 0% | AB25: 0.28826087 | AC25: 0.29782609 | AD25: =(D25+E25+F25+G25+H25+I25+J25+K25+L25+M25+N25+O25+P25+Q25+R25+S25+T25+U25+V25+W25+X25+Y25+Z25)/23 -> 0.34826087 | AE25: NL | AF25: 0.41442197 | AG25: ='Annual Report 2020'!AH25 -> 0.40801541 | AH25: =(D25*D$79+E25*E$79+F25*F$79+G25*G$79+H25*H$79+I25*I$79+J25*J$79+K25*K$79+L25*L$79+M25*M$79+N25*N$79+O25*O$79+P25*P$79+Q25*Q$79+R25*R$79+S25*S$79+T25*T$79+U25*U$79+V25*V$79+W25*W$79+X25*X$79+Y25*Y$79+Z25*Z$79)/SUM(D$79:Z$79) -> 0.42944123 | AJ25: IRL | AK25: IE | AL25: 0.37204148
A26: AUT | B26: AT | C26: 2021 | D26: 56% | E26: 44% | F26: 40% | G26: 85% | H26: 35% | I26: 60% | J26: 95% | K26: 0% | L26: 0% | M26: 58% | N26: 100% | O26: 9% | P26: 0% | Q26: 0% | R26: 78% | S26: 50% | T26: 0% | U26: 10% | V26: 0% | W26: 0% | X26: 0% | Y26: 27% | Z26: 4% | AB26: 0.34173913 | AC26: 0.36826087 | AD26: =(D26+E26+F26+G26+H26+I26+J26+K26+L26+M26+N26+O26+P26+Q26+R26+S26+T26+U26+V26+W26+X26+Y26+Z26)/23 -> 0.32652174 | AE26: AT | AF26: 0.17490366 | AG26: ='Annual Report 2020'!AH26 -> 0.42896917 | AH26: =(D26*D$79+E26*E$79+F26*F$79+G26*G$79+H26*H$79+I26*I$79+J26*J$79+K26*K$79+L26*L$79+M26*M$79+N26*N$79+O26*O$79+P26*P$79+Q26*Q$79+R26*R$79+S26*S$79+T26*T$79+U26*U$79+V26*V$79+W26*W$79+X26*X$79+Y26*Y$79+Z26*Z$79)/SUM(D$79:Z$79) -> 0.42516378 | AJ26: CYP | AK26: CY | AL26: 0.36238223
A27: POL | B27: PL | C27: 2021 | D27: 71% | E27: 69% | F27: 100% | G27: 90% | H27: 85% | I27: 90% | J27: 89% | K27: 0% | L27: 0% | M27: 83% | N27: 88% | O27: 63% | P27: 70% | Q27: 0% | R27: 78% | S27: 100% | T27: 0% | U27: 73% | V27: 0% | W27: 0% | X27: 0% | Y27: 90% | Z27: 86% | AB27: 0.57217391 | AC27: 0.5773913 | AD27: =(D27+E27+F27+G27+H27+I27+J27+K27+L27+M27+N27+O27+P27+Q27+R27+S27+T27+U27+V27+W27+X27+Y27+Z27)/23 -> 0.57608696 | AE27: PL | AF27: 0.53152216 | AG27: ='Annual Report 2020'!AH27 -> 0.53617534 | AH27: =(D27*D$79+E27*E$79+F27*F$79+G27*G$79+H27*H$79+I27*I$79+J27*J$79+K27*K$79+L27*L$79+M27*M$79+N27*N$79+O27*O$79+P27*P$79+Q27*Q$79+R27*R$79+S27*S$79+T27*T$79+U27*U$79+V27*V$79+W27*W$79+X27*X$79+Y27*Y$79+Z27*Z$79)/SUM(D$79:Z$79) -> 0.53485549 | AJ27: LUX | AK27: LU | AL27: 0.36094978
A28: PRT | B28: PT | C28: 2021 | D28: 71% | E28: 55% | F28: 80% | G28: 51% | H28: 75% | I28: 30% | J28: 81% | K28: 0% | L28: 20% | M28: 86% | N28: 72% | S28: 100% | T28: 100% | U28: 100% | V28: 7% | W28: 0% | X28: 7% | Y28: 63% | Z28: 63% | AB28: 0.4673913 | AC28: 0.44695652 | AD28: =(D28+E28+F28+G28+H28+I28+J28+K28+L28+M28+N28+O28+P28+Q28+R28+S28+T28+U28+V28+W28+X28+Y28+Z28)/23 -> #VALUE! | AE28: PT | AF28: 0.45131985 | AG28: ='Annual Report 2020'!AH28 -> 0.39561514 | AH28: =(D28*D$79+E28*E$79+F28*F$79+G28*G$79+H28*H$79+I28*I$79+J28*J$79+K28*K$79+L28*L$79+M28*M$79+N28*N$79+S28*S$79+T28*T$79+U28*U$79+V28*V$79+W28*W$79+X28*X$79+Y28*Y$79+Z28*Z$79)/SUM(D$79:N$79,S$79:Z$79) -> 0.48639327 | AJ28: DNK | AK28: DK | AL28: 0.33768665
A29: ROU | B29: RO | C29: 2021 | D29: 61% | E29: 76% | F29: 10% | G29: 9% | H29: 75% | I29: 60% | J29: 60% | K29: 16% | L29: 50% | M29: 63% | N29: 88% | O29: 27% | P29: 100% | Q29: 0% | R29: 78% | S29: 100% | T29: 0% | U29: 53% | V29: 14% | W29: 36% | X29: 0% | Y29: 0% | Z29: 81% | AB29: 0.40695652 | AC29: 0.45695652 | AD29: =(D29+E29+F29+G29+H29+I29+J29+K29+L29+M29+N29+O29+P29+Q29+R29+S29+T29+U29+V29+W29+X29+Y29+Z29)/23 -> 0.45956522 | AE29: RO | AF29: 0.40533719 | AG29: ='Annual Report 2020'!AH29 -> 0.42802505 | AH29: =(D29*D$79+E29*E$79+F29*F$79+G29*G$79+H29*H$79+I29*I$79+J29*J$79+K29*K$79+L29*L$79+M29*M$79+N29*N$79+O29*O$79+P29*P$79+Q29*Q$79+R29*R$79+S29*S$79+T29*T$79+U29*U$79+V29*V$79+W29*W$79+X29*X$79+Y29*Y$79+Z29*Z$79)/SUM(D$79:Z$79) -> 0.4288921 | AJ29: ITA | AK29: IT | AL29: 0.26626204
A30: SVN | B30: SI | C30: 2021 | D30: 100% | E30: 100% | F30: 100% | G30: 100% | H30: 95% | I30: 90% | J30: 38% | K30: 0% | L30: 100% | M30: 61% | N30: 0% | V30: 48% | W30: 41% | X30: 51% | Y30: 27% | Z30: 27% | AB30: 0.43 | AC30: 0.575 | AD30: =(D30+E30+F30+G30+H30+I30+J30+K30+L30+M30+N30+V30+W30+X30+Y30+Z30)/16 -> 0.61125 | AE30: SI | AF30: 0.31719432 | AG30: ='Annual Report 2020'!AH30 -> 0.5119869 | AH30: =(D30*D$79+E30*E$79+F30*F$79+G30*G$79+H30*H$79+I30*I$79+J30*J$79+K30*K$79+L30*L$79+M30*M$79+N30*N$79+V30*V$79+W30*W$79+X30*X$79+Y30*Y$79+Z30*Z$79)/SUM(D$79:N$79,V$79:Z$79) -> 0.54009825 | AJ30: BGR | AK30: BG | AL30: 0.25094412
A31: SVK | B31: SK | C31: 2021 | D31: 82% | E31: 72% | F31: 60% | G31: 56% | H31: 60% | I31: 60% | J31: 8% | K31: 50% | L31: 30% | M31: 63% | N31: 60% | O31: 27% | P31: 100% | Q31: 50% | R31: 66% | S31: 50% | T31: 0% | U31: 0% | V31: 0% | W31: 0% | X31: 0% | Y31: 0% | Z31: 0% | AB31: 0.39391304 | AC31: 0.38826087 | AD31: =(D31+E31+F31+G31+H31+I31+J31+K31+L31+M31+N31+O31+P31+Q31+R31+S31+T31+U31+V31+W31+X31+Y31+Z31)/23 -> 0.38869565 | AE31: SK | AF31: 0.24594412 | AG31: ='Annual Report 2020'!AH31 -> 0.24395954 | AH31: =(D31*D$79+E31*E$79+F31*F$79+G31*G$79+H31*H$79+I31*I$79+J31*J$79+K31*K$79+L31*L$79+M31*M$79+N31*N$79+O31*O$79+P31*P$79+Q31*Q$79+R31*R$79+S31*S$79+T31*T$79+U31*U$79+V31*V$79+W31*W$79+X31*X$79+Y31*Y$79+Z31*Z$79)/SUM(D$79:Z$79) -> 0.24405588 | AJ31: SVK | AK31: SK | AL31: 0.24405588
A32: FIN | B32: FI | C32: 2021 | D32: 100% | E32: 0% | F32: 100% | G32: 95% | H32: 55% | I32: 80% | J32: 99% | K32: 0% | L32: 0% | M32: 94% | N32: 100% | O32: 27% | P32: 100% | Q32: 0% | R32: 18% | V32: 27% | W32: 40% | X32: 5% | Y32: 0% | Z32: 0% | AB32: 0.502 | AC32: 0.5645 | AD32: =(D32+E32+F32+G32+H32+I32+J32+K32+L32+M32+N32+O32+P32+Q32+R32+V32+W32+X32+Y32+Z32)/20 -> 0.47 | AE32: FI | AF32: 0.52840479 | AG32: ='Annual Report 2020'!AH32 -> 0.56407777 | AH32: =(D32*D$79+E32*E$79+F32*F$79+G32*G$79+H32*H$79+I32*I$79+J32*J$79+K32*K$79+L32*L$79+M32*M$79+N32*N$79+O32*O$79+P32*P$79+Q32*Q$79+R32*R$79+V32*V$79+W32*W$79+X32*X$79+Y32*Y$79+Z32*Z$79)/SUM(D$79:R$79,V$79:Z$79) -> 0.54534397 | AJ32: BEL | AK32: BE | AL32: 0.19560694
A33: SWE | B33: SE | C33: 2021 | D33: 71% | E33: 55% | F33: 70% | G33: 46% | H33: 45% | I33: 100% | J33: 96% | K33: 50% | L33: 50% | M33: 77% | N33: 56% | O33: 0% | P33: 0% | Q33: 0% | R33: 36% | V33: 9% | W33: 0% | X33: 67% | Y33: 9% | Z33: 9% | AB33: 0.42 | AC33: 0.453 | AD33: =(D33+E33+F33+G33+H33+I33+J33+K33+L33+M33+N33+O33+P33+Q33+R33+V33+W33+X33+Y33+Z33)/20 -> 0.423 | AE33: SE | AF33: 0.59687936 | AG33: ='Annual Report 2020'!AH33 -> 0.60952144 | AH33: =(D33*D$79+E33*E$79+F33*F$79+G33*G$79+H33*H$79+I33*I$79+J33*J$79+K33*K$79+L33*L$79+M33*M$79+N33*N$79+O33*O$79+P33*P$79+Q33*Q$79+R33*R$79+V33*V$79+W33*W$79+X33*X$79+Y33*Y$79+Z33*Z$79)/SUM(D$79:R$79,V$79:Z$79) -> 0.59028913 | AJ33: GRC | AK33: EL | AL33: 0.1424345
B34: 2019 | D34: ='Annual report 2019'!D36 -> 0.6588 | E34: ='Annual report 2019'!E36 -> 0.5096 | F34: ='Annual report 2019'!F36 -> 0.424 | G34: ='Annual report 2019'!G36 -> 0.4072 | H34: ='Annual report 2019'!H36 -> 0.5772 | I34: ='Annual report 2019'!I36 -> 0.57037037 | J34: ='Annual report 2019'!J36 -> 0.58111111 | K34: ='Annual report 2019'!K36 -> 0.21037037 | ... Z34: ='Annual report 2019'!Z36 -> 0.29
B35: 2020 | D35: ='Annual Report 2020'!D36 -> 0.644 | E35: ='Annual Report 2020'!E36 -> 0.5212 | F35: ='Annual Report 2020'!F36 -> 0.528 | G35: ='Annual Report 2020'!G36 -> 0.4356 | H35: ='Annual Report 2020'!H36 -> 0.5588 | I35: ='Annual Report 2020'!I36 -> 0.58148148 | J35: ='Annual Report 2020'!J36 -> 0.61037037 | K35: ='Annual Report 2020'!K36 -> 0.28888889 | ... Z35: ='Annual Report 2020'!Z36 -> 0.32444444
B36: 2021 | D36: =(IF(D7="",0,D7)+IF(D8="",0,D8)+IF(D9="",0,D9)+IF(D10="",0,D10)+IF(D11="",0,D11)+IF(D12="",0,D12)+IF(D13="",0,D13)+IF(D14="",0,D14)+IF(D15="",0,D15)+IF(D16="",0,D16)+IF(D17="",0,D17)+IF(D18="",0,D18)+IF(D19="",0,D19)+IF(D20="",0,D20)+IF(D21="",0,D21)+IF(D22="",0,D22)+IF(D23="",0,D23)+IF(D24="",0,D24)+IF(D25="",0,D25)+IF(D26="",0,D26)+IF(D27="",0,D27)+IF(D28="",0,D28)+IF(D29="",0,D29)+IF(D30="",0,D30)+IF(D31="",0,D31)+IF(D32="",0,D32)+IF(D33="",0,D33))/SUMPRODUCT((D7:D33<>"")*1) -> 0.8024 | E36: =(IF(E7="",0,E7)+IF(E8="",0,E8)+IF(E9="",0,E9)+IF(E10="",0,E10)+IF(E11="",0,E11)+IF(E12="",0,E12)+IF(E13="",0,E13)+IF(E14="",0,E14)+IF(E15="",0,E15)+IF(E16="",0,E16)+IF(E17="",0,E17)+IF(E18="",0,E18)+IF(E19="",0,E19)+IF(E20="",0,E20)+IF(E21="",0,E21)+IF(E22="",0,E22)+IF(E23="",0,E23)+IF(E24="",0,E24)+IF(E25="",0,E25)+IF(E26="",0,E26)+IF(E27="",0,E27)+IF(E28="",0,E28)+IF(E29="",0,E29)+IF(E30="",0,E30)+IF(E31="",0,E31)+IF(E32="",0,E32)+IF(E33="",0,E33))/SUMPRODUCT((E7:E33<>"")*1) -> 0.52 | F36: =(IF(F7="",0,F7)+IF(F8="",0,F8)+IF(F9="",0,F9)+IF(F10="",0,F10)+IF(F11="",0,F11)+IF(F12="",0,F12)+IF(F13="",0,F13)+IF(F14="",0,F14)+IF(F15="",0,F15)+IF(F16="",0,F16)+IF(F17="",0,F17)+IF(F18="",0,F18)+IF(F19="",0,F19)+IF(F20="",0,F20)+IF(F21="",0,F21)+IF(F22="",0,F22)+IF(F23="",0,F23)+IF(F24="",0,F24)+IF(F25="",0,F25)+IF(F26="",0,F26)+IF(F27="",0,F27)+IF(F28="",0,F28)+IF(F29="",0,F29)+IF(F30="",0,F30)+IF(F31="",0,F31)+IF(F32="",0,F32)+IF(F33="",0,F33))/SUMPRODUCT((F7:F33<>"")*1) -> 0.52 | G36: =(IF(G7="",0,G7)+IF(G8="",0,G8)+IF(G9="",0,G9)+IF(G10="",0,G10)+IF(G11="",0,G11)+IF(G12="",0,G12)+IF(G13="",0,G13)+IF(G14="",0,G14)+IF(G15="",0,G15)+IF(G16="",0,G16)+IF(G17="",0,G17)+IF(G18="",0,G18)+IF(G19="",0,G19)+IF(G20="",0,G20)+IF(G21="",0,G21)+IF(G22="",0,G22)+IF(G23="",0,G23)+IF(G24="",0,G24)+IF(G25="",0,G25)+IF(G26="",0,G26)+IF(G27="",0,G27)+IF(G28="",0,G28)+IF(G29="",0,G29)+IF(G30="",0,G30)+IF(G31="",0,G31)+IF(G32="",0,G32)+IF(G33="",0,G33))/SUMPRODUCT((G7:G33<>"")*1) -> 0.4036 | H36: =(IF(H7="",0,H7)+IF(H8="",0,H8)+IF(H9="",0,H9)+IF(H10="",0,H10)+IF(H11="",0,H11)+IF(H12="",0,H12)+IF(H13="",0,H13)+IF(H14="",0,H14)+IF(H15="",0,H15)+IF(H16="",0,H16)+IF(H17="",0,H17)+IF(H18="",0,H18)+IF(H19="",0,H19)+IF(H20="",0,H20)+IF(H21="",0,H21)+IF(H22="",0,H22)+IF(H23="",0,H23)+IF(H24="",0,H24)+IF(H25="",0,H25)+IF(H26="",0,H26)+IF(H27="",0,H27)+IF(H28="",0,H28)+IF(H29="",0,H29)+IF(H30="",0,H30)+IF(H31="",0,H31)+IF(H32="",0,H32)+IF(H33="",0,H33))/SUMPRODUCT((H7:H33<>"")*1) -> 0.568 | I36: =(IF(I7="",0,I7)+IF(I8="",0,I8)+IF(I9="",0,I9)+IF(I10="",0,I10)+IF(I11="",0,I11)+IF(I12="",0,I12)+IF(I13="",0,I13)+IF(I14="",0,I14)+IF(I15="",0,I15)+IF(I16="",0,I16)+IF(I17="",0,I17)+IF(I18="",0,I18)+IF(I19="",0,I19)+IF(I20="",0,I20)+IF(I21="",0,I21)+IF(I22="",0,I22)+IF(I23="",0,I23)+IF(I24="",0,I24)+IF(I25="",0,I25)+IF(I26="",0,I26)+IF(I27="",0,I27)+IF(I28="",0,I28)+IF(I29="",0,I29)+IF(I30="",0,I30)+IF(I31="",0,I31)+IF(I32="",0,I32)+IF(I33="",0,I33))/SUMPRODUCT((I7:I33<>"")*1) -> 0.61851852 | J36: =(IF(J7="",0,J7)+IF(J8="",0,J8)+IF(J9="",0,J9)+IF(J10="",0,J10)+IF(J11="",0,J11)+IF(J12="",0,J12)+IF(J13="",0,J13)+IF(J14="",0,J14)+IF(J15="",0,J15)+IF(J16="",0,J16)+IF(J17="",0,J17)+IF(J18="",0,J18)+IF(J19="",0,J19)+IF(J20="",0,J20)+IF(J21="",0,J21)+IF(J22="",0,J22)+IF(J23="",0,J23)+IF(J24="",0,J24)+IF(J25="",0,J25)+IF(J26="",0,J26)+IF(J27="",0,J27)+IF(J28="",0,J28)+IF(J29="",0,J29)+IF(J30="",0,J30)+IF(J31="",0,J31)+IF(J32="",0,J32)+IF(J33="",0,J33))/SUMPRODUCT((J7:J33<>"")*1) -> 0.67777778 | K36: =(IF(K7="",0,K7)+IF(K8="",0,K8)+IF(K9="",0,K9)+IF(K10="",0,K10)+IF(K11="",0,K11)+IF(K12="",0,K12)+IF(K13="",0,K13)+IF(K14="",0,K14)+IF(K15="",0,K15)+IF(K16="",0,K16)+IF(K17="",0,K17)+IF(K18="",0,K18)+IF(K19="",0,K19)+IF(K20="",0,K20)+IF(K21="",0,K21)+IF(K22="",0,K22)+IF(K23="",0,K23)+IF(K24="",0,K24)+IF(K25="",0,K25)+IF(K26="",0,K26)+IF(K27="",0,K27)+IF(K28="",0,K28)+IF(K29="",0,K29)+IF(K30="",0,K30)+IF(K31="",0,K31)+IF(K32="",0,K32)+IF(K33="",0,K33))/SUMPRODUCT((K7:K33<>"")*1) -> 0.23333333 | ... N36: =(IF(N7="",0,N7)+IF(N8="",0,N8)+IF(N9="",0,N9)+IF(N10="",0,N10)+IF(N11="",0,N11)+IF(N12="",0,N12)+IF(N13="",0,N13)+IF(N14="",0,N14)+IF(N15="",0,N15)+IF(N16="",0,N16)+IF(N17="",0,N17)+IF(N18="",0,N18)+IF(N19="",0,N19)+IF(N20="",0,N20)+IF(N21="",0,N21)+IF(N22="",0,N22)+IF(N23="",0,N23)+IF(N24="",0,N24)+IF(N25="",0,N25)+IF(N26="",0,N26)+IF(N27="",0,N27)+IF(N28="",0,N28)+IF(N29="",0,N29)+IF(N30="",0,N30)+IF(N31="",0,N31)+IF(N32="",0,N32)+IF(N33="",0,N33))/SUMPRODUCT((N7:N33<>"")*1) -> 0.74518519 | O36: {=(IF(O7="",0,O7)+IF(O8="",0,O8)+IF(O9="",0,O9)+IF(O10="",0,O10)+IF(O11="",0,O11)+IF(O12="",0,O12)+IF(O13="",0,O13)+IF(O14="",0,O14)+IF(O15="",0,O15)+IF(O16="",0,O16)+IF(O17="",0,O17)+IF(O18="",0,O18)+IF(O19="",0,O19)+IF(O20="",0,O20)+IF(O21="",0,O21)+IF(O22="",0,O22)+IF(O23="",0,O23)+IF(O24="",0,O24)+IF(O25="",0,O25)+IF(O26="",0,O26)+IF(O27="",0,O27)+IF(O28="",0,O28)+IF(O29="",0,O29)+IF(O30="",0,O30)+IF(O31="",0,O31)+IF(O32="",0,O32)+IF(O33="",0,O33))/SUMPRODUCT((O7:O33<>"")*1)} -> 0.35117647 | P36: =(IF(P7="",0,P7)+IF(P8="",0,P8)+IF(P9="",0,P9)+IF(P10="",0,P10)+IF(P11="",0,P11)+IF(P12="",0,P12)+IF(P13="",0,P13)+IF(P14="",0,P14)+IF(P15="",0,P15)+IF(P16="",0,P16)+IF(P17="",0,P17)+IF(P18="",0,P18)+IF(P19="",0,P19)+IF(P20="",0,P20)+IF(P21="",0,P21)+IF(P22="",0,P22)+IF(P23="",0,P23)+IF(P24="",0,P24)+IF(P25="",0,P25)+IF(P26="",0,P26)+IF(P27="",0,P27)+IF(P28="",0,P28)+IF(P29="",0,P29)+IF(P30="",0,P30)+IF(P31="",0,P31)+IF(P32="",0,P32)+IF(P33="",0,P33))/SUMPRODUCT((P7:P33<>"")*1) -> 0.52705882 | Q36: =(IF(Q7="",0,Q7)+IF(Q8="",0,Q8)+IF(Q9="",0,Q9)+IF(Q10="",0,Q10)+IF(Q11="",0,Q11)+IF(Q12="",0,Q12)+IF(Q13="",0,Q13)+IF(Q14="",0,Q14)+IF(Q15="",0,Q15)+IF(Q16="",0,Q16)+IF(Q17="",0,Q17)+IF(Q18="",0,Q18)+IF(Q19="",0,Q19)+IF(Q20="",0,Q20)+IF(Q21="",0,Q21)+IF(Q22="",0,Q22)+IF(Q23="",0,Q23)+IF(Q24="",0,Q24)+IF(Q25="",0,Q25)+IF(Q26="",0,Q26)+IF(Q27="",0,Q27)+IF(Q28="",0,Q28)+IF(Q29="",0,Q29)+IF(Q30="",0,Q30)+IF(Q31="",0,Q31)+IF(Q32="",0,Q32)+IF(Q33="",0,Q33))/SUMPRODUCT((Q7:Q33<>"")*1) -> 0.18529412 | R36: =(IF(R7="",0,R7)+IF(R8="",0,R8)+IF(R9="",0,R9)+IF(R10="",0,R10)+IF(R11="",0,R11)+IF(R12="",0,R12)+IF(R13="",0,R13)+IF(R14="",0,R14)+IF(R15="",0,R15)+IF(R16="",0,R16)+IF(R17="",0,R17)+IF(R18="",0,R18)+IF(R19="",0,R19)+IF(R20="",0,R20)+IF(R21="",0,R21)+IF(R22="",0,R22)+IF(R23="",0,R23)+IF(R24="",0,R24)+IF(R25="",0,R25)+IF(R26="",0,R26)+IF(R27="",0,R27)+IF(R28="",0,R28)+IF(R29="",0,R29)+IF(R30="",0,R30)+IF(R31="",0,R31)+IF(R32="",0,R32)+IF(R33="",0,R33))/SUMPRODUCT((R7:R33<>"")*1) -> 0.56882353 | S36: =(IF(S7="",0,S7)+IF(S8="",0,S8)+IF(S9="",0,S9)+IF(S10="",0,S10)+IF(S11="",0,S11)+IF(S12="",0,S12)+IF(S13="",0,S13)+IF(S14="",0,S14)+IF(S15="",0,S15)+IF(S16="",0,S16)+IF(S17="",0,S17)+IF(S18="",0,S18)+IF(S19="",0,S19)+IF(S20="",0,S20)+IF(S21="",0,S21)+IF(S22="",0,S22)+IF(S23="",0,S23)+IF(S24="",0,S24)+IF(S25="",0,S25)+IF(S26="",0,S26)+IF(S27="",0,S27)+IF(S28="",0,S28)+IF(S29="",0,S29)+IF(S30="",0,S30)+IF(S31="",0,S31)+IF(S32="",0,S32)+IF(S33="",0,S33))/SUMPRODUCT((S7:S33<>"")*1) -> 0.63157895 | T36: =(IF(T7="",0,T7)+IF(T8="",0,T8)+IF(T9="",0,T9)+IF(T10="",0,T10)+IF(T11="",0,T11)+IF(T12="",0,T12)+IF(T13="",0,T13)+IF(T14="",0,T14)+IF(T15="",0,T15)+IF(T16="",0,T16)+IF(T17="",0,T17)+IF(T18="",0,T18)+IF(T19="",0,T19)+IF(T20="",0,T20)+IF(T21="",0,T21)+IF(T22="",0,T22)+IF(T23="",0,T23)+IF(T24="",0,T24)+IF(T25="",0,T25)+IF(T26="",0,T26)+IF(T27="",0,T27)+IF(T28="",0,T28)+IF(T29="",0,T29)+IF(T30="",0,T30)+IF(T31="",0,T31)+IF(T32="",0,T32)+IF(T33="",0,T33))/SUMPRODUCT((T7:T33<>"")*1) -> 0.22789474 | U36: =(IF(U7="",0,U7)+IF(U8="",0,U8)+IF(U9="",0,U9)+IF(U10="",0,U10)+IF(U11="",0,U11)+IF(U12="",0,U12)+IF(U13="",0,U13)+IF(U14="",0,U14)+IF(U15="",0,U15)+IF(U16="",0,U16)+IF(U17="",0,U17)+IF(U18="",0,U18)+IF(U19="",0,U19)+IF(U20="",0,U20)+IF(U21="",0,U21)+IF(U22="",0,U22)+IF(U23="",0,U23)+IF(U24="",0,U24)+IF(U25="",0,U25)+IF(U26="",0,U26)+IF(U27="",0,U27)+IF(U28="",0,U28)+IF(U29="",0,U29)+IF(U30="",0,U30)+IF(U31="",0,U31)+IF(U32="",0,U32)+IF(U33="",0,U33))/SUMPRODUCT((U7:U33<>"")*1) -> 0.49947368 | V36: =(IF(V7="",0,V7)+IF(V8="",0,V8)+IF(V9="",0,V9)+IF(V10="",0,V10)+IF(V11="",0,V11)+IF(V12="",0,V12)+IF(V13="",0,V13)+IF(V14="",0,V14)+IF(V15="",0,V15)+IF(V16="",0,V16)+IF(V17="",0,V17)+IF(V18="",0,V18)+IF(V19="",0,V19)+IF(V20="",0,V20)+IF(V21="",0,V21)+IF(V22="",0,V22)+IF(V23="",0,V23)+IF(V24="",0,V24)+IF(V25="",0,V25)+IF(V26="",0,V26)+IF(V27="",0,V27)+IF(V28="",0,V28)+IF(V29="",0,V29)+IF(V30="",0,V30)+IF(V31="",0,V31)+IF(V32="",0,V32)+IF(V33="",0,V33))/SUMPRODUCT((V7:V33<>"")*1) -> 0.16111111 | W36: =(IF(W7="",0,W7)+IF(W8="",0,W8)+IF(W9="",0,W9)+IF(W10="",0,W10)+IF(W11="",0,W11)+IF(W12="",0,W12)+IF(W13="",0,W13)+IF(W14="",0,W14)+IF(W15="",0,W15)+IF(W16="",0,W16)+IF(W17="",0,W17)+IF(W18="",0,W18)+IF(W19="",0,W19)+IF(W20="",0,W20)+IF(W21="",0,W21)+IF(W22="",0,W22)+IF(W23="",0,W23)+IF(W24="",0,W24)+IF(W25="",0,W25)+IF(W26="",0,W26)+IF(W27="",0,W27)+IF(W28="",0,W28)+IF(W29="",0,W29)+IF(W30="",0,W30)+IF(W31="",0,W31)+IF(W32="",0,W32)+IF(W33="",0,W33))/SUMPRODUCT((W7:W33<>"")*1) -> 0.10666667 | ... Z36: =(IF(Z7="",0,Z7)+IF(Z8="",0,Z8)+IF(Z9="",0,Z9)+IF(Z10="",0,Z10)+IF(Z11="",0,Z11)+IF(Z12="",0,Z12)+IF(Z13="",0,Z13)+IF(Z14="",0,Z14)+IF(Z15="",0,Z15)+IF(Z16="",0,Z16)+IF(Z17="",0,Z17)+IF(Z18="",0,Z18)+IF(Z19="",0,Z19)+IF(Z20="",0,Z20)+IF(Z21="",0,Z21)+IF(Z22="",0,Z22)+IF(Z23="",0,Z23)+IF(Z24="",0,Z24)+IF(Z25="",0,Z25)+IF(Z26="",0,Z26)+IF(Z27="",0,Z27)+IF(Z28="",0,Z28)+IF(Z29="",0,Z29)+IF(Z30="",0,Z30)+IF(Z31="",0,Z31)+IF(Z32="",0,Z32)+IF(Z33="",0,Z33))/SUMPRODUCT((Z7:Z33<>"")*1) -> 0.31111111
B39: EFTA | AB39: =AVERAGE(AB40:AB43) -> 0.26981017 | AC39: =AVERAGE(AC40:AC43) -> 0.23925681 | AD39: =AVERAGE(AD40:AD43) -> 0.30587061 | AF39: =AVERAGE(AF40:AF43) -> 0.37144817 | AG39: =AVERAGE(AG40:AG43) -> 0.31412045 | AH39: =AVERAGE(AH40:AH43) -> 0.40548944
A40: ISL | B40: IS | C40: 2021 | I40: 50% | J40: 46% | K40: 50% | L40: 0% | M40: 0% | N40: 48% | V40: 0% | W40: 0% | X40: 0% | Y40: 27% | Z40: 13% | AB40: 0 | AC40: 0.12 | AD40: =(I40+J40+K40+L40+M40+N40+V40+W40+X40+Y40+Z40)/11 -> 0.21272727 | AF40: 0 | AG40: 0.12510094 | AH40: =(I40*I$79+J40*J$79+K40*K$79+L40*L$79+M40*M$79+N40*N$79+V40*V$79+W40*W$79+X40*X$79+Y40*Y$79+Z40*Z$79)/SUM(I$79:N$79,V$79:Z$79) -> 0.20502019
A41: LIE | B41: LI | C41: 2021 | I41: 100% | J41: 94% | K41: 0% | L41: 0% | M41: 0% | N41: 48% | V41: 0% | W41: 0% | X41: 0% | Y41: 0% | Z41: 0% | AB41: 0.20727273 | AC41: 0.17636364 | AD41: =(I41+J41+K41+L41+M41+N41+V41+W41+X41+Y41+Z41)/11 -> 0.22 | AF41: 0.37483176 | AG41: 0.35666218 | AH41: =(I41*I$79+J41*J$79+K41*K$79+L41*L$79+M41*M$79+N41*N$79+V41*V$79+W41*W$79+X41*X$79+Y41*Y$79+Z41*Z$79)/SUM(I$79:N$79,V$79:Z$79) -> 0.37752355
A42: NOR | B42: NO | C42: 2021 | D42: 5% | E42: 0% | F42: 40% | G42: 17% | H42: 60% | I42: 80% | J42: 99% | K42: 0% | L42: 90% | M42: 83% | N42: 0% | S42: 100% | T42: 100% | U42: 0% | V42: 77% | W42: 76% | X42: 73% | Y42: 36% | Z42: 27% | AB42: 0.59631579 | AC42: 0.36631579 | AD42: =(D42+E42+F42+G42+H42+I42+J42+K42+L42+M42+N42+S42+T42+U42+V42+W42+X42+Y42+Z42)/19 -> 0.50684211 | AF42: 0.73192429 | AG42: 0.3829653 | AH42: =(D42*D$79+E42*E$79+F42*F$79+G42*G$79+H42*H$79+I42*I$79+J42*J$79+K42*K$79+L42*L$79+M42*M$79+N42*N$79+S42*S$79+T42*T$79+U42*U$79+V42*V$79+W42*W$79+X42*X$79+Y42*Y$79+Z42*Z$79)/SUM(D$79:N$79,S$79:Z$79) -> 0.6615142
A43: CHE | B43: CH | C43: 2021 | D43: 0% | E43: 0% | F43: 40% | G43: 7% | H43: 60% | I43: 50% | J43: 95% | K43: 0% | L43: 70% | M43: 80% | N43: 100% | O43: 0% | P43: 10% | Q43: 0% | R43: 15% | S43: 50% | T43: 0% | U43: 40% | V43: 18% | W43: 0% | X43: 0% | Y43: 9% | Z43: 9% | AB43: 0.27565217 | AC43: 0.29434783 | AD43: =(D43+E43+F43+G43+H43+I43+J43+K43+L43+M43+N43+O43+P43+Q43+R43+S43+T43+U43+V43+W43+X43+Y43+Z43)/23 -> 0.28391304 | AF43: 0.37903661 | AG43: 0.39175337 | AH43: =(D43*D$79+E43*E$79+F43*F$79+G43*G$79+H43*H$79+I43*I$79+J43*J$79+K43*K$79+L43*L$79+M43*M$79+N43*N$79+O43*O$79+P43*P$79+Q43*Q$79+R43*R$79+S43*S$79+T43*T$79+U43*U$79+V43*V$79+W43*W$79+X43*X$79+Y43*Y$79+Z43*Z$79)/SUM(D$79:Z$79) -> 0.37789981
A45: candidates | AB45: =AVERAGE(AB46:AB56) -> 0.24534565 | AC45: =AVERAGE(AC46:AC56) -> 0.18653101 | AD45: =AVERAGE(AD46:AD56) -> #VALUE! | AF45: =AVERAGE(AF46:AF56) -> 0.2267397 | AG45: =AVERAGE(AG46:AG56) -> 0.1820228 | AH45: =AVERAGE(AH46:AH56) -> 0.16271465
A46: BIH | B46: BA | C46: 2021 | D46: 100% | E46: 79% | F46: 20% | G46: 51% | H46: 70% | I46: 50% | J46: 100% | K46: 0% | L46: 0% | M46: 0% | N46: 12% | O46: 0% | P46: 0% | Q46: 0% | R46: 0% | S46: 0% | T46: 0% | U46: 0% | V46: 0% | W46: 0% | X46: 0% | Y46: 0% | Z46: 0% | AB46: 0.15521739 | AC46: 0.13695652 | AD46: =(D46+E46+F46+G46+H46+I46+J46+K46+L46+M46+N46+O46+P46+Q46+R46+S46+T46+U46+V46+W46+X46+Y46+Z46)/23 -> 0.20956522 | AF46: 0.25134875 | AG46: ='Annual Report 2020'!AH46 -> 0.37184008 | AH46: =(D46*D$79+E46*E$79+F46*F$79+G46*G$79+H46*H$79+I46*I$79+J46*J$79+K46*K$79+L46*L$79+M46*M$79+N46*N$79+O46*O$79+P46*P$79+Q46*Q$79+R46*R$79+S46*S$79+T46*T$79+U46*U$79+V46*V$79+W46*W$79+X46*X$79+Y46*Y$79+Z46*Z$79)/SUM(D$79:Z$79) -> 0.39198459
A47: MNE | B47: ME | C47: 2021 | D47: 94% | E47: 0% | F47: 0% | G47: 0% | H47: 25% | I47: 40% | J47: 5% | K47: 0% | L47: 0% | M47: 44% | N47: 32% | V47: 0% | W47: 0% | X47: 0% | Y47: 0% | Z47: 0% | AB47: 0.321875 | AC47: 0 | AD47: =(D47+E47+F47+G47+H47+I47+J47+K47+L47+M47+N47+V47+W47+X47+Y47+Z47)/16 -> 0.15 | AF47: 0.32651747 | AG47: ='Annual Report 2020'!AH47 -> 0 | AH47: =(D47*D$79+E47*E$79+F47*F$79+G47*G$79+H47*H$79+I47*I$79+J47*J$79+K47*K$79+L47*L$79+M47*M$79+N47*N$79+V47*V$79+W47*W$79+X47*X$79+Y47*Y$79+Z47*Z$79)/SUM(D$79:N$79,V$79:Z$79) -> 0.096342795
A48: MDA | B48: MD | C48: 2021 | D48: 0% | E48: 0% | F48: 0% | G48: 0% | H48: 0% | I48: 0% | J48: 0% | K48: 0% | L48: 0% | M48: 0% | N48: 0% | O48: 0% | P48: 0% | Q48: 0% | R48: 0% | V48: 0% | W48: 0% | X48: 0% | Y48: 0% | Z48: 0% | AB48: 0.179 | AC48: 0.202 | AD48: =(D48+E48+F48+G48+H48+I48+J48+K48+L48+M48+N48+O48+P48+Q48+R48+V48+W48+X48+Y48+Z48)/20 -> 0 | AF48: 0.18495513 | AG48: ='Annual Report 2020'!AH48 -> 0.19581256 | AH48: =(D48*D$79+E48*E$79+F48*F$79+G48*G$79+H48*H$79+I48*I$79+J48*J$79+K48*K$79+L48*L$79+M48*M$79+N48*N$79+O48*O$79+P48*P$79+Q48*Q$79+R48*R$79+V48*V$79+W48*W$79+X48*X$79+Y48*Y$79+Z48*Z$79)/SUM(D$79:R$79,V$79:Z$79) -> 0
A49: MKD | B49: MK | C49: 2021 | D49: 43% | E49: 79% | F49: 30% | G49: 63% | H49: 50% | I49: 80% | J49: 21% | K49: 33% | L49: 80% | M49: 97% | N49: 88% | S49: 50% | T49: 0% | U49: 6% | V49: 5% | W49: 24% | X49: 2% | Y49: 72% | Z49: 72% | AB49: 0.44 | AC49: 0.46315789 | AD49: =(D49+E49+F49+G49+H49+I49+J49+K49+L49+M49+N49+S49+T49+U49+V49+W49+X49+Y49+Z49)/19 -> 0.47105263 | AF49: 0.27032597 | AG49: ='Annual Report 2020'!AH49 -> 0.29481598 | AH49: =(D49*D$79+E49*E$79+F49*F$79+G49*G$79+H49*H$79+I49*I$79+J49*J$79+K49*K$79+L49*L$79+M49*M$79+N49*N$79+S49*S$79+T49*T$79+U49*U$79+V49*V$79+W49*W$79+X49*X$79+Y49*Y$79+Z49*Z$79)/SUM(D$79:N$79,S$79:Z$79) -> 0.29617245
A50: GEO | B50: GE | C50: 2021 | D50: 0% | E50: 0% | F50: 0% | G50: 0% | H50: 0% | I50: 0% | J50: 0% | K50: 0% | L50: 0% | M50: 0% | N50: 0% | O50: 0% | P50: 0% | Q50: 0% | R50: 0% | S50: 0% | T50: 0% | U50: 0% | V50: 0% | W50: 0% | X50: 0% | Y50: 0% | Z50: 0% | AB50: 0 | AC50: 0 | AD50: =(D50+E50+F50+G50+H50+I50+J50+K50+L50+M50+N50+O50+P50+Q50+R50+S50+T50+U50+V50+W50+X50+Y50+Z50)/23 -> 0 | AF50: 0 | AG50: ='Annual Report 2020'!AH50 -> 0 | AH50: =(D50*D$79+E50*E$79+F50*F$79+G50*G$79+H50*H$79+I50*I$79+J50*J$79+K50*K$79+L50*L$79+M50*M$79+N50*N$79+O50*O$79+P50*P$79+Q50*Q$79+R50*R$79+S50*S$79+T50*T$79+U50*U$79+V50*V$79+W50*W$79+X50*X$79+Y50*Y$79+Z50*Z$79)/SUM(D$79:Z$79) -> 0
A51: ALB | B51: AL | C51: 2021 | D51: 74% | E51: 53% | F51: 50% | G51: 48% | H51: 65% | I51: 60% | J51: 46% | K51: 50% | L51: 0% | M51: 0% | N51: 88% | V51: 0% | W51: 0% | X51: 0% | Y51: 0% | Z51: 0% | AB51: 0.218125 | AC51: 0.2045 | AD51: =(D51+E51+F51+G51+H51+I51+J51+K51+L51+M51+N51+V51+W51+X51+Y51+Z51)/16 -> 0.33375 | AF51: 0.063930013 | AG51: ='Annual Report 2020'!AH51 -> 0.20933406 | AH51: =(D51*D$79+E51*E$79+F51*F$79+G51*G$79+H51*H$79+I51*I$79+J51*J$79+K51*K$79+L51*L$79+M51*M$79+N51*N$79+V51*V$79+W51*W$79+X51*X$79+Y51*Y$79+Z51*Z$79)/SUM(D$79:N$79,V$79:Z$79) -> 0.28365721
A52: SRB | B52: RS | C52: 2021 | D52: 0% | E52: 0% | F52: 0% | G52: 0% | H52: 0% | I52: 0% | J52: 4% | K52: 0% | L52: 0% | M52: 0% | N52: 0% | O52: 27% | P52: 100% | Q52: 0% | R52: 51% | S52: 100% | T52: 0% | U52: 33% | V52: 0% | W52: 0% | X52: 0% | Y52: 9% | Z52: 22% | AB52: 0.2173913 | AC52: 0.35521739 | AD52: =(D52+E52+F52+G52+H52+I52+J52+K52+L52+M52+N52+O52+P52+Q52+R52+S52+T52+U52+V52+W52+X52+Y52+Z52)/23 -> 0.15043478 | AF52: ='Annual report 2019'!AH52 -> 0.16666667 | AG52: ='Annual Report 2020'!AH52 -> 0.2222158 | AH52: =(D52*D$79+E52*E$79+F52*F$79+G52*G$79+H52*H$79+I52*I$79+J52*J$79+K52*K$79+L52*L$79+M52*M$79+N52*N$79+O52*O$79+P52*P$79+Q52*Q$79+R52*R$79+S52*S$79+T52*T$79+U52*U$79+V52*V$79+W52*W$79+X52*X$79+Y52*Y$79+Z52*Z$79)/SUM(D$79:Z$79) -> 0.082398844
A53: TUR | B53: TR | C53: 2021 | D53: 0% | E53: 0% | F53: 0% | G53: 0% | H53: 0% | I53: 0% | J53: 0% | K53: 0% | L53: 0% | M53: 0% | N53: 0% | S53: 0% | T53: 0% | U53: 0% | V53: 0% | W53: 0% | X53: 0% | Y53: 0% | Z53: 0% | AB53: 0.27391304 | AC53: 0.29913043 | AD53: =(D53+E53+F53+G53+H53+I53+J53+K53+L53+M53+N53+O53+P53+Q53+R53+S53+T53+U53+V53+W53+X53+Y53+Z53)/23 -> #VALUE! | AF53: ='Annual report 2019'!AH53 -> 0.42284963 | AG53: ='Annual Report 2020'!AH53 -> 0.44178759 | AH53: =(D53*D$79+E53*E$79+F53*F$79+G53*G$79+H53*H$79+I53*I$79+J53*J$79+K53*K$79+L53*L$79+M53*M$79+N53*N$79+S53*S$79+T53*T$79+U53*U$79+V53*V$79+W53*W$79+X53*X$79+Y53*Y$79+Z53*Z$79)/SUM(D$79:N$79,S$79:Z$79) -> 0
A54: UKR | B54: UA | C54: 2021 | D54: 0% | E54: 0% | F54: 0% | G54: 0% | H54: 0% | I54: 0% | J54: 0% | K54: 0% | L54: 0% | M54: 0% | N54: 0% | O54: 27% | P54: 2% | Q54: 0% | R54: 12% | S54: 50% | T54: 0% | U54: 26% | V54: 0% | W54: 0% | X54: 0% | Y54: 18% | Z54: 81% | AB54: 0.22043478 | AC54: 0.20434783 | AD54: =(D54+E54+F54+G54+H54+I54+J54+K54+L54+M54+N54+O54+P54+Q54+R54+S54+T54+U54+V54+W54+X54+Y54+Z54)/23 -> 0.093913043 | AF54: ='Annual report 2019'!AH54 -> 0.11527938 | AG54: ='Annual Report 2020'!AH54 -> 0.084421965 | AH54: =(D54*D$79+E54*E$79+F54*F$79+G54*G$79+H54*H$79+I54*I$79+J54*J$79+K54*K$79+L54*L$79+M54*M$79+N54*N$79+O54*O$79+P54*P$79+Q54*Q$79+R54*R$79+S54*S$79+T54*T$79+U54*U$79+V54*V$79+W54*W$79+X54*X$79+Y54*Y$79+Z54*Z$79)/SUM(D$79:Z$79) -> 0.034942197
A56: XKX | B56: XK(1) | C56: 2021 | D56: 82% | E56: 97% | F56: 70% | G56: 41% | H56: 52% | I56: 60% | J56: 95% | K56: 0% | L56: 0% | M56: 0% | N56: 76% | V56: 0% | W56: 0% | X56: 0% | Y56: 0% | Z56: 0% | AB56: 0.4275 | AC56: 0 | AD56: =(D56+E56+F56+G56+H56+I56+J56+K56+L56+M56+N56+V56+W56+X56+Y56+Z56)/16 -> 0.358125 | AF56: 0.46552402 | AG56: ='Annual Report 2020'!AH56 -> 0 | AH56: =(D56*D$79+E56*E$79+F56*F$79+G56*G$79+H56*H$79+I56*I$79+J56*J$79+K56*K$79+L56*L$79+M56*M$79+N56*N$79+V56*V$79+W56*W$79+X56*X$79+Y56*Y$79+Z56*Z$79)/SUM(D$79:N$79,V$79:Z$79) -> 0.44164847
A58: others involved in 2019, 2020 or 2021 | AB58: =AVERAGE(AB59:AB69) -> 0.12739921 | AC58: =AVERAGE(AC59:AC69) -> 0.10130435 | AD58: =AVERAGE(AD59:AD69) -> 0.058551922 | AF58: =AVERAGE(AF59:AF69) -> 0.0829095 | AG58: =AVERAGE(AG59:AG69) -> 0.05717758 | AH58: =AVERAGE(AH59:AH69) -> 0.049977396
A59: ARM | B59: AM | C59: 2021 | D59: 0% | E59: 0% | F59: 0% | G59: 0% | H59: 0% | I59: 0% | J59: 0% | K59: 0% | L59: 0% | M59: 0% | N59: 0% | V59: 0% | W59: 0% | X59: 0% | Y59: 0% | Z59: 0% | AB59: 0 | AC59: 0.13 | AD59: =(D59+E59+F59+G59+H59+I59+J59+K59+L59+M59+N59+V59+W59+X59+Y59+Z59)/16 -> 0 | AF59: 0 | AG59: 0.056943231 | AH59: =(D59*D$79+E59*E$79+F59*F$79+G59*G$79+H59*H$79+I59*I$79+J59*J$79+K59*K$79+L59*L$79+M59*M$79+N59*N$79+V59*V$79+W59*W$79+X59*X$79+Y59*Y$79+Z59*Z$79)/SUM(D$79:N$79,V$79:Z$79) -> 0
A60: AZE | B60: AZ | C60: 2021 | D60: 0% | E60: 0% | F60: 0% | G60: 0% | H60: 0% | I60: 0% | J60: 0% | K60: 0% | L60: 0% | M60: 0% | N60: 0% | S60: 0% | T60: 0% | U60: 0% | V60: 0% | W60: 0% | X60: 0% | Y60: 0% | Z60: 0% | AB60: 0.17478261 | AC60: 0 | AD60: 0 | AF60: 0.12406551 | AG60: 0 | AH60: 0
A61: BLR | B61: BY | C61: 2021 | D61: 15% | E61: 0% | F61: 10% | G61: 0% | H61: 15% | I61: 40% | J61: 2% | K61: 0% | L61: 0% | M61: 11% | N61: 12% | O61: 0% | P61: 0% | Q61: 0% | R61: 6% | S61: 0% | T61: 0% | U61: 0% | V61: 0% | W61: 0% | X61: 0% | Y61: 0% | Z61: 9% | AB61: 0.37434783 | AC61: 0.051304348 | AD61: =(D61+E61+F61+G61+H61+I61+J61+K61+L61+M61+N61+O61+P61+Q61+R61+S61+T61+U61+V61+W61+X61+Y61+Z61)/23 -> 0.052173913 | AF61: 0.20973025 | AG61: 0.026753372 | AH61: =(D61*D$79+E61*E$79+F61*F$79+G61*G$79+H61*H$79+I61*I$79+J61*J$79+K61*K$79+L61*L$79+M61*M$79+N61*N$79+O61*O$79+P61*P$79+Q61*Q$79+R61*R$79+S61*S$79+T61*T$79+U61*U$79+V61*V$79+W61*W$79+X61*X$79+Y61*Y$79+Z61*Z$79)/SUM(D$79:Z$79) -> 0.032052023
A62: CAN | B62: CA | C62: 2021 | D62: 0% | E62: 0% | F62: 0% | G62: 0% | H62: 0% | I62: 0% | J62: 7% | K62: 0% | L62: 0% | M62: 0% | N62: 4% | O62: 0% | P62: 0% | Q62: 0% | R62: 0% | S62: 0% | T62: 33% | U62: 26% | V62: 0% | W62: 0% | X62: 0% | Y62: 0% | Z62: 4% | AB62: 0.026086957 | AC62: 0.067391304 | AD62: =(D62+E62+F62+G62+H62+I62+J62+K62+L62+M62+N62+O62+P62+Q62+R62+S62+T62+U62+V62+W62+X62+Y62+Z62)/23 -> 0.032173913 | AF62: ='Annual report 2019'!AH62 -> 0.013092486 | AG62: ='Annual Report 2020'!AH62 -> 0.028824663 | AH62: =(D62*D$79+E62*E$79+F62*F$79+G62*G$79+H62*H$79+I62*I$79+J62*J$79+K62*K$79+L62*L$79+M62*M$79+N62*N$79+O62*O$79+P62*P$79+Q62*Q$79+R62*R$79+S62*S$79+T62*T$79+U62*U$79+V62*V$79+W62*W$79+X62*X$79+Y62*Y$79+Z62*Z$79)/SUM(D$79:Z$79) -> 0.028824663
A63: ISR | B63: IL | C63: 2021 | I63: 0% | J63: 0% | K63: 0% | L63: 0% | M63: 0% | N63: 0% | O63: 0% | P63: 0% | Q63: 0% | R63: 0% | V63: 0% | W63: 0% | X63: 0% | Y63: 0% | Z63: 0% | AB63: 0.134 | AC63: 0.34 | AD63: =(I63+J63+K63+L63+M63+N63+O63+P63+Q63+R63+V63+W63+X63+Y63+Z63)/15 -> 0 | AF63: 0.1413494 | AG63: 0.20806024 | AH63: =(I63*I$79+J63*J$79+K63*K$79+L63*L$79+M63*M$79+N63*N$79+O63*O$79+P63*P$79+Q63*Q$79+R63*R$79+V63*V$79+W63*W$79+X63*X$79+Y63*Y$79+Z63*Z$79)/SUM(I$79:R$79,V$79:Z$79) -> 0
A64: KAZ | B64: KZ | C64: 2021 | D64: 0% | E64: 0% | F64: 0% | G64: 0% | H64: 0% | I64: 0% | J64: 0% | K64: 0% | L64: 0% | M64: 0% | N64: 0% | O64: 0% | P64: 0% | Q64: 0% | R64: 0% | S64: 0% | T64: 0% | U64: 0% | V64: 0% | W64: 0% | X64: 0% | Y64: 0% | Z64: 0% | AB64: 0.19478261 | AC64: 0 | AD64: 0 | AF64: 0.13093449 | AG64: 0 | AH64: 0
A65: MCO | B65: MC | C65: 2021 | I65: 50% | J65: 9% | K65: 0% | L65: 0% | M65: 0% | N65: 0% | V65: 0% | W65: 0% | X65: 0% | Y65: 0% | Z65: 0% | AB65: 0 | AC65: 0 | AD65: =(I65+J65+K65+L65+M65+N65+V65+W65+X65+Y65+Z65)/11 -> 0.053636364 | AF65: 0 | AG65: 0 | AH65: =(I65*I$79+J65*J$79+K65*K$79+L65*L$79+M65*M$79+N65*N$79+V65*V$79+W65*W$79+X65*X$79+Y65*Y$79+Z65*Z$79)/SUM(I$79:N$79,V$79:Z$79) -> 0.040040377
A66: RUS | B66: RU | C66: 2021 | D66: 0% | E66: 0% | F66: 30% | G66: 0% | H66: 0% | I66: 80% | J66: 16% | K66: 33% | L66: 0% | M66: 16% | N66: 60% | O66: 9% | P66: 24% | Q66: 33% | R66: 30% | S66: 50% | T66: 33% | U66: 6% | V66: 0% | W66: 0% | X66: 0% | Y66: 0% | Z66: 54% | AB66: 0.33956522 | AC66: 0.19913043 | AD66: =(D66+E66+F66+G66+H66+I66+J66+K66+L66+M66+N66+O66+P66+Q66+R66+S66+T66+U66+V66+W66+X66+Y66+Z66)/23 -> 0.20608696 | AF66: 0.23982659 | AG66: 0.11992293 | AH66: =(D66*D$79+E66*E$79+F66*F$79+G66*G$79+H66*H$79+I66*I$79+J66*J$79+K66*K$79+L66*L$79+M66*M$79+N66*N$79+O66*O$79+P66*P$79+Q66*Q$79+R66*R$79+S66*S$79+T66*T$79+U66*U$79+V66*V$79+W66*W$79+X66*X$79+Y66*Y$79+Z66*Z$79)/SUM(D$79:Z$79) -> 0.11094412
A67: GBR | B67: UK | C67: 2021 | D67: 58% | E67: 0% | F67: 70% | G67: 7% | H67: 10% | I67: 0% | J67: 66% | K67: 0% | L67: 0% | M67: 22% | N67: 100% | O67: 100% | P67: 0% | Q67: 0% | R67: 18% | S67: 0% | T67: 0% | U67: 0% | V67: 14% | W67: 53% | X67: 0% | Y67: 0% | Z67: 0% | AB67: 0 | AC67: 0.25173913 | AD67: =(D67+E67+F67+G67+H67+I67+J67+K67+L67+M67+N67+O67+P67+Q67+R67+S67+T67+U67+V67+W67+X67+Y67+Z67)/23 -> 0.22521739 | AF67: 0 | AG67: 0.14907514 | AH67: =(D67*D$79+E67*E$79+F67*F$79+G67*G$79+H67*H$79+I67*I$79+J67*J$79+K67*K$79+L67*L$79+M67*M$79+N67*N$79+O67*O$79+P67*P$79+Q67*Q$79+R67*R$79+S67*S$79+T67*T$79+U67*U$79+V67*V$79+W67*W$79+X67*X$79+Y67*Y$79+Z67*Z$79)/SUM(D$79:Z$79) -> 0.29851638
A68: USA | B68: US | C68: 2021 | D68: 0% | E68: 0% | F68: 0% | G68: 0% | H68: 0% | I68: 0% | J68: 0% | K68: 0% | L68: 0% | M68: 0% | N68: 0% | O68: 0% | P68: 0% | Q68: 0% | R68: 0% | S68: 0% | T68: 0% | U68: 0% | V68: 0% | W68: 0% | X68: 0% | Y68: 0% | Z68: 0% | AB68: 0.040869565 | AC68: 0 | AD68: =(D68+E68+F68+G68+H68+I68+J68+K68+L68+M68+N68+O68+P68+Q68+R68+S68+T68+U68+V68+W68+X68+Y68+Z68)/23 -> 0 | AF68: 0.012793834 | AG68: 0 | AH68: =(D68*D$79+E68*E$79+F68*F$79+G68*G$79+H68*H$79+I68*I$79+J68*J$79+K68*K$79+L68*L$79+M68*M$79+N68*N$79+O68*O$79+P68*P$79+Q68*Q$79+R68*R$79+S68*S$79+T68*T$79+U68*U$79+V68*V$79+W68*W$79+X68*X$79+Y68*Y$79+Z68*Z$79)/SUM(D$79:Z$79) -> 0
A69: UZB | B69: UZ | C69: 2021 | D69: 12% | E69: 11% | F69: 0% | G69: 0% | H69: 20% | I69: 60% | J69: 2% | K69: 0% | L69: 40% | M69: 11% | N69: 16% | O69: 0% | P69: 0% | Q69: 0% | R69: 0% | S69: 0% | T69: 0% | U69: 0% | V69: 0% | W69: 0% | X69: 0% | Y69: 0% | Z69: 0% | AB69: 0.11695652 | AC69: 0.074782609 | AD69: =(D69+E69+F69+G69+H69+I69+J69+K69+L69+M69+N69+O69+P69+Q69+R69+S69+T69+U69+V69+W69+X69+Y69+Z69)/23 -> 0.074782609 | AF69: 0.040211946 | AG69: 0.039373796 | AH69: =(D69*D$79+E69*E$79+F69*F$79+G69*G$79+H69*H$79+I69*I$79+J69*J$79+K69*K$79+L69*L$79+M69*M$79+N69*N$79+O69*O$79+P69*P$79+Q69*Q$79+R69*R$79+S69*S$79+T69*T$79+U69*U$79+V69*V$79+W69*W$79+X69*X$79+Y69*Y$79+Z69*Z$79)/SUM(D$79:Z$79) -> 0.039373796
A71: others, non-resp. since 2019 | AB71: =AVERAGE(AB72:AB77) -> 0 | AC71: =AVERAGE(AC72:AC77) -> 0 | AD71: =AVERAGE(AD72:AD77) -> 0 | AF71: =AVERAGE(AF72:AF77) -> 0 | AG71: =AVERAGE(AG72:AG77) -> 0 | AH71: =AVERAGE(AH72:AH77) -> 0
A72: AND | B72: AD | C72: 2021 | I72: 0 | J72: 0 | K72: 0 | L72: 0 | M72: 0 | N72: 0 | V72: 0 | W72: 0 | X72: 0 | Y72: 0 | Z72: 0 | AB72: 0 | AC72: 0 | AD72: =(I72+J72+K72+L72+M72+N72+V72+W72+X72+Y72+Z72)/11 -> 0 | AF72: 0 | AG72: 0 | AH72: =(I72*I$79+J72*J$79+K72*K$79+L72*L$79+M72*M$79+N72*N$79+V72*V$79+W72*W$79+X72*X$79+Y72*Y$79+Z72*Z$79)/SUM(I$79:N$79,V$79:Z$79) -> 0
A73: IND | B73: IN | C73: 2021 | D73: 0 | E73: 0 | F73: 0 | G73: 0 | H73: 0 | I73: 0 | J73: 0 | K73: 0 | L73: 0 | M73: 0 | N73: 0 | O73: 0 | P73: 0 | Q73: 0 | R73: 0 | S73: 0 | T73: 0 | U73: 0 | V73: 0 | W73: 0 | X73: 0 | Y73: 0 | Z73: 0 | AB73: 0 | AC73: 0 | AD73: =(D73+E73+F73+G73+H73+I73+J73+K73+L73+M73+N73+O73+P73+Q73+R73+S73+T73+U73+V73+W73+X73+Y73+Z73)/23 -> 0 | AF73: 0 | AG73: 0 | AH73: =(D73*D$79+E73*E$79+F73*F$79+G73*G$79+H73*H$79+I73*I$79+J73*J$79+K73*K$79+L73*L$79+M73*M$79+N73*N$79+O73*O$79+P73*P$79+Q73*Q$79+R73*R$79+S73*S$79+T73*T$79+U73*U$79+V73*V$79+W73*W$79+X73*X$79+Y73*Y$79+Z73*Z$79)/SUM(D$79:Z$79) -> 0
A74: KGZ | B74: KG | C74: 2021 | D74: 0 | E74: 0 | F74: 0 | G74: 0 | H74: 0 | I74: 0 | J74: 0 | K74: 0 | L74: 0 | M74: 0 | N74: 0 | O74: 0 | P74: 0 | Q74: 0 | R74: 0 | V74: 0 | W74: 0 | X74: 0 | Y74: 0 | Z74: 0 | AB74: 0 | AC74: 0 | AD74: =(D74+E74+F74+G74+H74+I74+J74+K74+L74+M74+N74+V74+W74+X74+Y74+Z74)/16 -> 0 | AF74: 0 | AG74: 0 | AH74: =(D74*D$79+E74*E$79+F74*F$79+G74*G$79+H74*H$79+I74*I$79+J74*J$79+K74*K$79+L74*L$79+M74*M$79+N74*N$79+V74*V$79+W74*W$79+X74*X$79+Y74*Y$79+Z74*Z$79)/SUM(D$79:N$79,V$79:Z$79) -> 0
A75: SMR | B75: SM | C75: 2021 | I75: 0 | J75: 0 | K75: 0 | L75: 0 | M75: 0 | N75: 0 | V75: 0 | W75: 0 | X75: 0 | Y75: 0 | Z75: 0 | AB75: 0 | AC75: 0 | AD75: =(I75+J75+K75+L75+M75+N75+V75+W75+X75+Y75+Z75)/11 -> 0 | AF75: 0 | AG75: 0 | AH75: =(I75*I$79+J75*J$79+K75*K$79+L75*L$79+M75*M$79+N75*N$79+V75*V$79+W75*W$79+X75*X$79+Y75*Y$79+Z75*Z$79)/SUM(I$79:N$79,V$79:Z$79) -> 0
A76: TJK | B76: TJ | C76: 2021 | D76: 0 | E76: 0 | F76: 0 | G76: 0 | H76: 0 | I76: 0 | J76: 0 | K76: 0 | L76: 0 | M76: 0 | N76: 0 | O76: 0 | P76: 0 | Q76: 0 | R76: 0 | S76: 0 | T76: 0 | U76: 0 | V76: 0 | W76: 0 | X76: 0 | Y76: 0 | Z76: 0 | AB76: 0 | AC76: 0 | AD76: =(D76+E76+F76+G76+H76+I76+J76+K76+L76+M76+N76+O76+P76+Q76+R76+S76+T76+U76+V76+W76+X76+Y76+Z76)/23 -> 0 | AF76: 0 | AG76: 0 | AH76: =(D76*D$79+E76*E$79+F76*F$79+G76*G$79+H76*H$79+I76*I$79+J76*J$79+K76*K$79+L76*L$79+M76*M$79+N76*N$79+O76*O$79+P76*P$79+Q76*Q$79+R76*R$79+S76*S$79+T76*T$79+U76*U$79+V76*V$79+W76*W$79+X76*X$79+Y76*Y$79+Z76*Z$79)/SUM(D$79:Z$79) -> 0
A77: TKM | B77: TM | C77: 2021 | D77: 0 | E77: 0 | F77: 0 | G77: 0 | H77: 0 | I77: 0 | J77: 0 | K77: 0 | L77: 0 | M77: 0 | N77: 0 | O77: 0 | P77: 0 | Q77: 0 | R77: 0 | S77: 0 | T77: 0 | U77: 0 | V77: 0 | W77: 0 | X77: 0 | Y77: 0 | Z77: 0 | AB77: 0 | AC77: 0 | AD77: =(D77+E77+F77+G77+H77+I77+J77+K77+L77+M77+N77+O77+P77+Q77+R77+S77+T77+U77+V77+W77+X77+Y77+Z77)/23 -> 0 | AF77: 0 | AG77: 0 | AH77: =(D77*D$79+E77*E$79+F77*F$79+G77*G$79+H77*H$79+I77*I$79+J77*J$79+K77*K$79+L77*L$79+M77*M$79+N77*N$79+O77*O$79+P77*P$79+Q77*Q$79+R77*R$79+S77*S$79+T77*T$79+U77*U$79+V77*V$79+W77*W$79+X77*X$79+Y77*Y$79+Z77*Z$79)/SUM(D$79:Z$79) -> 0
D79: 39 | E79: 43 | F79: 10 | G79: 41 | H79: 40 | I79: 10 | J79: 275 | K79: 6 | L79: 10 | M79: 36 | N79: 25 | O79: 11 | P79: 37 | Q79: 6 | R79: 33 | S79: 2 | T79: 3 | U79: 30 | V79: 54 | W79: 65 | X79: 229 | Y79: 11 | Z79: 22

Sheet Annual Report 2020
A1: Annual Report 2020
D3: RAIL | I3: ROAD | O3: IWW | S3: OIL | V3: ROADVKM | Y3: BUSES | AB3: unweighted average (chapters) | AF3: in number of indicators, 2 months after 1st release
D4: I | E4: II | F4: III | G4: IV | H4: V | I4: I | J4: II | K4: III | L4: IV | M4: V | N4: VII | O4: I | P4: II | Q4: III | R4: V | S4: I | T4: III | U4: V | V4: I | W4: II | X4: III | Y4: I | Z4: IV | AD4: 2020 | AH4: 2020
B6: EU-27 | AD6: =AVERAGE(AD7:AD33) -> 0.43330192 | AH6: =AVERAGE(AH7:AH33) -> 0.41964608
A7: BEL | B7: BE | C7: 2020 | D7: 0% | E7: 0% | F7: 0% | G7: 0% | H7: 0% | I7: 0% | J7: 38% | K7: 0% | L7: 0% | M7: 55% | N7: 100% | O7: 0% | P7: 70% | Q7: 0% | R7: 30% | S7: 0% | T7: 0% | U7: 0% | V7: 0% | W7: 0% | X7: 0% | Y7: 0% | Z7: 0% | AD7: =(D7+E7+F7+G7+H7+I7+J7+K7+L7+M7+N7+O7+P7+Q7+R7+S7+T7+U7+V7+W7+X7+Y7+Z7)/23 -> 0.1273913 | AH7: =(D7*D$79+E7*E$79+F7*F$79+G7*G$79+H7*H$79+I7*I$79+J7*J$79+K7*K$79+L7*L$79+M7*M$79+N7*N$79+O7*O$79+P7*P$79+Q7*Q$79+R7*R$79+S7*S$79+T7*T$79+U7*U$79+V7*V$79+W7*W$79+X7*X$79+Y7*Y$79+Z7*Z$79)/SUM(D$79:Z$79) -> 0.1783237
A8: BGR | B8: BG | C8: 2020 | D8: 66% | E8: 0% | F8: 70% | G8: 0% | H8: 45% | I8: 80% | J8: 10% | K8: 50% | L8: 60% | M8: 66% | N8: 88% | O8: 18% | P8: 78% | Q8: 33% | R8: 48% | S8: 100% | T8: 0% | U8: 40% | V8: 22% | W8: 9% | X8: 2% | Y8: 45% | Z8: 50% | AD8: =(D8+E8+F8+G8+H8+I8+J8+K8+L8+M8+N8+O8+P8+Q8+R8+S8+T8+U8+V8+W8+X8+Y8+Z8)/23 -> 0.42608696 | AH8: =(D8*D$79+E8*E$79+F8*F$79+G8*G$79+H8*H$79+I8*I$79+J8*J$79+K8*K$79+L8*L$79+M8*M$79+N8*N$79+O8*O$79+P8*P$79+Q8*Q$79+R8*R$79+S8*S$79+T8*T$79+U8*U$79+V8*V$79+W8*W$79+X8*X$79+Y8*Y$79+Z8*Z$79)/SUM(D$79:Z$79) -> 0.23306358
A9: CZE | B9: CZ | C9: 2020 | D9: 92% | E9: 76% | F9: 70% | G9: 92% | H9: 85% | I9: 80% | J9: 23% | K9: 50% | L9: 10% | M9: 69% | N9: 100% | O9: 100% | P9: 59% | Q9: 50% | R9: 78% | S9: 100% | T9: 100% | U9: 100% | V9: 1% | W9: 4% | X9: 0% | Y9: 0% | Z9: 63% | AD9: =(D9+E9+F9+G9+H9+I9+J9+K9+L9+M9+N9+O9+P9+Q9+R9+S9+T9+U9+V9+W9+X9+Y9+Z9)/23 -> 0.60956522 | AH9: =(D9*D$79+E9*E$79+F9*F$79+G9*G$79+H9*H$79+I9*I$79+J9*J$79+K9*K$79+L9*L$79+M9*M$79+N9*N$79+O9*O$79+P9*P$79+Q9*Q$79+R9*R$79+S9*S$79+T9*T$79+U9*U$79+V9*V$79+W9*W$79+X9*X$79+Y9*Y$79+Z9*Z$79)/SUM(D$79:Z$79) -> 0.37181118
A10: DNK | B10: DK | C10: 2020 | D10: 23% | E10: 46% | F10: 30% | G10: 7% | H10: 45% | I10: 60% | J10: 36% | K10: 50% | L10: 50% | M10: 72% | N10: 96% | S10: 50% | T10: 100% | U10: 100% | V10: 29% | W10: 0% | X10: 0% | Y10: 9% | Z10: 4% | AD10: =(D10+E10+F10+G10+H10+I10+J10+K10+L10+M10+N10+S10+T10+U10+V10+W10+X10+Y10+Z10)/19 -> 0.42473684 | AH10: =(D10*D$79+E10*E$79+F10*F$79+G10*G$79+H10*H$79+I10*I$79+J10*J$79+K10*K$79+L10*L$79+M10*M$79+N10*N$79+S10*S$79+T10*T$79+U10*U$79+V10*V$79+W10*W$79+X10*X$79+Y10*Y$79+Z10*Z$79)/SUM(D$79:N$79,S$79:Z$79) -> 0.2808307
A11: DEU | B11: DE | C11: 2020 | D11: 0% | E11: 30% | F11: 20% | G11: 2% | H11: 65% | I11: 50% | J11: 39% | K11: 50% | L11: 50% | M11: 94% | N11: 88% | O11: 100% | P11: 18% | Q11: 33% | R11: 100% | S11: 50% | T11: 33% | U11: 40% | V11: 0% | W11: 0% | X11: 31% | Y11: 54% | Z11: 36% | AD11: =(D11+E11+F11+G11+H11+I11+J11+K11+L11+M11+N11+O11+P11+Q11+R11+S11+T11+U11+V11+W11+X11+Y11+Z11)/23 -> 0.4273913 | AH11: =(D11*D$79+E11*E$79+F11*F$79+G11*G$79+H11*H$79+I11*I$79+J11*J$79+K11*K$79+L11*L$79+M11*M$79+N11*N$79+O11*O$79+P11*P$79+Q11*Q$79+R11*R$79+S11*S$79+T11*T$79+U11*U$79+V11*V$79+W11*W$79+X11*X$79+Y11*Y$79+Z11*Z$79)/SUM(D$79:Z$79) -> 0.35577071
A12: EST | B12: EE | C12: 2020 | D12: 100% | E12: 83% | F12: 50% | G12: 17% | H12: 60% | I12: 80% | J12: 77% | K12: 16% | L12: 50% | M12: 63% | N12: 12% | V12: 9% | W12: 18% | X12: 2% | Y12: 81% | Z12: 81% | AD12: =(D12+E12+F12+G12+H12+I12+J12+K12+L12+M12+N12+V12+W12+X12+Y12+Z12)/16 -> 0.499375 | AH12: =(D12*D$79+E12*E$79+F12*F$79+G12*G$79+H12*H$79+I12*I$79+J12*J$79+K12*K$79+L12*L$79+M12*M$79+N12*N$79+V12*V$79+W12*W$79+X12*X$79+Y12*Y$79+Z12*Z$79)/SUM(D$79:N$79,V$79:Z$79) -> 0.44751092
A13: IRL | B13: IE | C13: 2020 | D13: 0% | E13: 0% | F13: 0% | G13: 0% | H13: 0% | I13: 50% | J13: 49% | K13: 0% | L13: 100% | M13: 61% | N13: 40% | V13: 37% | W13: 10% | X13: 22% | Y13: 45% | Z13: 22% | AD13: =(D13+E13+F13+G13+H13+I13+J13+K13+L13+M13+N13+V13+W13+X13+Y13+Z13)/16 -> 0.2725 | AH13: =(D13*D$79+E13*E$79+F13*F$79+G13*G$79+H13*H$79+I13*I$79+J13*J$79+K13*K$79+L13*L$79+M13*M$79+N13*N$79+V13*V$79+W13*W$79+X13*X$79+Y13*Y$79+Z13*Z$79)/SUM(D$79:N$79,V$79:Z$79) -> 0.29296943
A14: GRC | B14: EL | C14: 2020 | D14: 100% | E14: 100% | F14: 40% | G14: 14% | H14: 40% | I14: 0% | J14: 3% | K14: 0% | L14: 0% | M14: 0% | N14: 100% | S14: 0% | T14: 0% | U14: 0% | V14: 0% | W14: 0% | X14: 0% | Y14: 0% | Z14: 0% | AD14: =(D14+E14+F14+G14+H14+I14+J14+K14+L14+M14+N14+S14+T14+U14+V14+W14+X14+Y14+Z14)/19 -> 0.20894737 | AH14: =(D14*D$79+E14*E$79+F14*F$79+G14*G$79+H14*H$79+I14*I$79+J14*J$79+K14*K$79+L14*L$79+M14*M$79+N14*N$79+S14*S$79+T14*T$79+U14*U$79+V14*V$79+W14*W$79+X14*X$79+Y14*Y$79+Z14*Z$79)/SUM(D$79:N$79,S$79:Z$79) -> 0.14825447
A15: ESP | B15: ES | C15: 2020 | D15: 100% | E15: 100% | F15: 100% | G15: 100% | H15: 35% | I15: 0% | J15: 96% | K15: 0% | L15: 50% | M15: 83% | N15: 88% | S15: 50% | T15: 0% | U15: 40% | V15: 14% | W15: 0% | X15: 0% | Y15: 0% | Z15: 22% | AD15: =(D15+E15+F15+G15+H15+I15+J15+K15+L15+M15+N15+S15+T15+U15+V15+W15+X15+Y15+Z15)/19 -> 0.46210526 | AH15: =(D15*D$79+E15*E$79+F15*F$79+G15*G$79+H15*H$79+I15*I$79+J15*J$79+K15*K$79+L15*L$79+M15*M$79+N15*N$79+S15*S$79+T15*T$79+U15*U$79+V15*V$79+W15*W$79+X15*X$79+Y15*Y$79+Z15*Z$79)/SUM(D$79:N$79,S$79:Z$79) -> 0.51869611
A16: FRA | B16: FR | C16: 2020 | D16: 89% | E16: 37% | F16: 10% | G16: 7% | H16: 55% | I16: 50% | J16: 89% | K16: 16% | L16: 70% | M16: 94% | N16: 88% | O16: 27% | P16: 78% | Q16: 16% | R16: 78% | S16: 0% | T16: 0% | U16: 20% | V16: 16% | W16: 7% | X16: 2% | Y16: 9% | Z16: 4% | AD16: =(D16+E16+F16+G16+H16+I16+J16+K16+L16+M16+N16+O16+P16+Q16+R16+S16+T16+U16+V16+W16+X16+Y16+Z16)/23 -> 0.37478261 | AH16: =(D16*D$79+E16*E$79+F16*F$79+G16*G$79+H16*H$79+I16*I$79+J16*J$79+K16*K$79+L16*L$79+M16*M$79+N16*N$79+O16*O$79+P16*P$79+Q16*Q$79+R16*R$79+S16*S$79+T16*T$79+U16*U$79+V16*V$79+W16*W$79+X16*X$79+Y16*Y$79+Z16*Z$79)/SUM(D$79:Z$79) -> 0.45684971
A17: HRV | B17: HR | C17: 2020 | D17: 53% | E17: 95% | F17: 90% | G17: 43% | H17: 80% | I17: 80% | J17: 76% | K17: 50% | L17: 50% | M17: 94% | N17: 88% | O17: 45% | P17: 72% | Q17: 0% | R17: 60% | S17: 50% | T17: 0% | U17: 40% | V17: 9% | W17: 10% | X17: 27% | Y17: 27% | Z17: 59% | AD17: =(D17+E17+F17+G17+H17+I17+J17+K17+L17+M17+N17+O17+P17+Q17+R17+S17+T17+U17+V17+W17+X17+Y17+Z17)/23 -> 0.52086957 | AH17: =(D17*D$79+E17*E$79+F17*F$79+G17*G$79+H17*H$79+I17*I$79+J17*J$79+K17*K$79+L17*L$79+M17*M$79+N17*N$79+O17*O$79+P17*P$79+Q17*Q$79+R17*R$79+S17*S$79+T17*T$79+U17*U$79+V17*V$79+W17*W$79+X17*X$79+Y17*Y$79+Z17*Z$79)/SUM(D$79:Z$79) -> 0.53421965
A18: ITA | B18: IT | C18: 2020 | D18: 41% | E18: 0% | F18: 0% | G18: 7% | H18: 50% | I18: 0% | J18: 56% | K18: 50% | L18: 10% | M18: 66% | N18: 88% | O18: 27% | P18: 2% | Q18: 0% | R18: 6% | S18: 100% | T18: 0% | U18: 13% | V18: 3% | W18: 3% | X18: 0% | Y18: 36% | Z18: 31% | AD18: =(D18+E18+F18+G18+H18+I18+J18+K18+L18+M18+N18+O18+P18+Q18+R18+S18+T18+U18+V18+W18+X18+Y18+Z18)/23 -> 0.25608696 | AH18: =(D18*D$79+E18*E$79+F18*F$79+G18*G$79+H18*H$79+I18*I$79+J18*J$79+K18*K$79+L18*L$79+M18*M$79+N18*N$79+O18*O$79+P18*P$79+Q18*Q$79+R18*R$79+S18*S$79+T18*T$79+U18*U$79+V18*V$79+W18*W$79+X18*X$79+Y18*Y$79+Z18*Z$79)/SUM(D$79:Z$79) -> 0.25872832
A19: CYP | B19: CY | C19: 2020 | I19: 70% | J19: 83% | K19: 0% | L19: 0% | M19: 50% | N19: 64% | V19: 0% | W19: 0% | X19: 0% | Y19: 0% | Z19: 0% | AD19: =(I19+J19+K19+L19+M19+N19+V19+W19+X19+Y19+Z19)/11 -> 0.24272727 | AH19: =(I19*I$79+J19*J$79+K19*K$79+L19*L$79+M19*M$79+N19*N$79+V19*V$79+W19*W$79+X19*X$79+Y19*Y$79+Z19*Z$79)/SUM(I$79:N$79,V$79:Z$79) -> 0.36238223
A20: LVA | B20: LV | C20: 2020 | D20: 100% | E20: 76% | F20: 100% | G20: 95% | H20: 85% | I20: 100% | J20: 98% | K20: 50% | L20: 50% | M20: 88% | N20: 100% | S20: 100% | T20: 100% | U20: 100% | V20: 42% | W20: 0% | X20: 69% | Y20: 36% | Z20: 36% | AD20: =(D20+E20+F20+G20+H20+I20+J20+K20+L20+M20+N20+S20+T20+U20+V20+W20+X20+Y20+Z20)/19 -> 0.75 | AH20: =(D20*D$79+E20*E$79+F20*F$79+G20*G$79+H20*H$79+I20*I$79+J20*J$79+K20*K$79+L20*L$79+M20*M$79+N20*N$79+S20*S$79+T20*T$79+U20*U$79+V20*V$79+W20*W$79+X20*X$79+Y20*Y$79+Z20*Z$79)/SUM(D$79:N$79,S$79:Z$79) -> 0.76380652
A21: LTU | B21: LT | C21: 2020 | D21: 100% | E21: 95% | F21: 80% | G21: 97% | H21: 75% | I21: 100% | J21: 72% | K21: 66% | L21: 70% | M21: 91% | N21: 92% | O21: 27% | P21: 72% | Q21: 100% | R21: 69% | S21: 100% | T21: 100% | U21: 100% | V21: 25% | W21: 12% | X21: 32% | Y21: 63% | Z21: 63% | AD21: =(D21+E21+F21+G21+H21+I21+J21+K21+L21+M21+N21+O21+P21+Q21+R21+S21+T21+U21+V21+W21+X21+Y21+Z21)/23 -> 0.73956522 | AH21: =(D21*D$79+E21*E$79+F21*F$79+G21*G$79+H21*H$79+I21*I$79+J21*J$79+K21*K$79+L21*L$79+M21*M$79+N21*N$79+O21*O$79+P21*P$79+Q21*Q$79+R21*R$79+S21*S$79+T21*T$79+U21*U$79+V21*V$79+W21*W$79+X21*X$79+Y21*Y$79+Z21*Z$79)/SUM(D$79:Z$79) -> 0.61762042
A22: LUX | B22: LU | C22: 2020 | D22: 43% | E22: 32% | F22: 0% | G22: 0% | H22: 15% | I22: 40% | J22: 26% | K22: 0% | L22: 0% | M22: 0% | N22: 0% | O22: 0% | P22: 0% | Q22: 0% | R22: 0% | V22: 0% | W22: 0% | X22: 0% | Y22: 0% | Z22: 0% | AD22: =(D22+E22+F22+G22+H22+I22+J22+K22+L22+M22+N22+V22+W22+X22+Y22+Z22)/16 -> 0.0975 | AH22: =(D22*D$79+E22*E$79+F22*F$79+G22*G$79+H22*H$79+I22*I$79+J22*J$79+K22*K$79+L22*L$79+M22*M$79+N22*N$79+O22*O$79+P22*P$79+Q22*Q$79+R22*R$79+V22*V$79+W22*W$79+X22*X$79+Y22*Y$79+Z22*Z$79)/SUM(D$79:R$79,V$79:Z$79) -> 0.11169492
A23: HUN | B23: HU | C23: 2020 | D23: 92% | E23: 67% | F23: 70% | G23: 87% | H23: 70% | I23: 100% | J23: 83% | K23: 50% | L23: 50% | M23: 88% | N23: 100% | O23: 100% | P23: 40% | Q23: 50% | R23: 48% | S23: 50% | T23: 0% | U23: 100% | V23: 20% | W23: 76% | X23: 0% | Y23: 27% | Z23: 81% | AD23: =(D23+E23+F23+G23+H23+I23+J23+K23+L23+M23+N23+O23+P23+Q23+R23+S23+T23+U23+V23+W23+X23+Y23+Z23)/23 -> 0.63 | AH23: =(D23*D$79+E23*E$79+F23*F$79+G23*G$79+H23*H$79+I23*I$79+J23*J$79+K23*K$79+L23*L$79+M23*M$79+N23*N$79+O23*O$79+P23*P$79+Q23*Q$79+R23*R$79+S23*S$79+T23*T$79+U23*U$79+V23*V$79+W23*W$79+X23*X$79+Y23*Y$79+Z23*Z$79)/SUM(D$79:Z$79) -> 0.57314066
A24: MLT | B24: MT | C24: 2020 | I24: 20% | J24: 91% | K24: 50% | L24: 40% | M24: 0% | N24: 64% | V24: 40% | W24: 0% | X24: 94% | Y24: 36% | Z24: 13% | AD24: =(I24+J24+K24+L24+M24+N24+V24+W24+X24+Y24+Z24)/11 -> 0.40727273 | AH24: =(I24*I$79+J24*J$79+K24*K$79+L24*L$79+M24*M$79+N24*N$79+V24*V$79+W24*W$79+X24*X$79+Y24*Y$79+Z24*Z$79)/SUM(I$79:N$79,V$79:Z$79) -> 0.6984253
A25: NLD | B25: NL | C25: 2020 | D25: 30% | E25: 0% | F25: 0% | G25: 7% | H25: 70% | I25: 60% | J25: 69% | K25: 0% | L25: 50% | M25: 88% | N25: 28% | O25: 0% | P25: 45% | Q25: 0% | R25: 87% | S25: 0% | T25: 0% | U25: 20% | V25: 61% | W25: 15% | X25: 19% | Y25: 36% | Z25: 0% | AD25: =(D25+E25+F25+G25+H25+I25+J25+K25+L25+M25+N25+O25+P25+Q25+R25+S25+T25+U25+V25+W25+X25+Y25+Z25)/23 -> 0.29782609 | AH25: =(D25*D$79+E25*E$79+F25*F$79+G25*G$79+H25*H$79+I25*I$79+J25*J$79+K25*K$79+L25*L$79+M25*M$79+N25*N$79+O25*O$79+P25*P$79+Q25*Q$79+R25*R$79+S25*S$79+T25*T$79+U25*U$79+V25*V$79+W25*W$79+X25*X$79+Y25*Y$79+Z25*Z$79)/SUM(D$79:Z$79) -> 0.40801541
A26: AUT | B26: AT | C26: 2020 | D26: 56% | E26: 44% | F26: 70% | G26: 85% | H26: 32% | I26: 60% | J26: 95% | K26: 50% | L26: 0% | M26: 58% | N26: 100% | O26: 9% | P26: 0% | Q26: 50% | R26: 78% | S26: 50% | T26: 0% | U26: 10% | V26: 0% | W26: 0% | X26: 0% | Y26: 0% | Z26: 0% | AD26: =(D26+E26+F26+G26+H26+I26+J26+K26+L26+M26+N26+O26+P26+Q26+R26+S26+T26+U26+V26+W26+X26+Y26+Z26)/23 -> 0.36826087 | AH26: =(D26*D$79+E26*E$79+F26*F$79+G26*G$79+H26*H$79+I26*I$79+J26*J$79+K26*K$79+L26*L$79+M26*M$79+N26*N$79+O26*O$79+P26*P$79+Q26*Q$79+R26*R$79+S26*S$79+T26*T$79+U26*U$79+V26*V$79+W26*W$79+X26*X$79+Y26*Y$79+Z26*Z$79)/SUM(D$79:Z$79) -> 0.42896917
A27: POL | B27: PL | C27: 2020 | D27: 69% | E27: 74% | F27: 100% | G27: 90% | H27: 85% | I27: 90% | J27: 89% | K27: 0% | L27: 0% | M27: 83% | N27: 88% | O27: 63% | P27: 70% | Q27: 0% | R27: 78% | S27: 100% | T27: 0% | U27: 73% | V27: 0% | W27: 0% | X27: 0% | Y27: 90% | Z27: 86% | AD27: =(D27+E27+F27+G27+H27+I27+J27+K27+L27+M27+N27+O27+P27+Q27+R27+S27+T27+U27+V27+W27+X27+Y27+Z27)/23 -> 0.5773913 | AH27: =(D27*D$79+E27*E$79+F27*F$79+G27*G$79+H27*H$79+I27*I$79+J27*J$79+K27*K$79+L27*L$79+M27*M$79+N27*N$79+O27*O$79+P27*P$79+Q27*Q$79+R27*R$79+S27*S$79+T27*T$79+U27*U$79+V27*V$79+W27*W$79+X27*X$79+Y27*Y$79+Z27*Z$79)/SUM(D$79:Z$79) -> 0.53617534
A28: PRT | B28: PT | C28: 2020 | D28: 71% | E28: 55% | F28: 80% | G28: 51% | H28: 75% | I28: 30% | J28: 50% | K28: 0% | L28: 20% | M28: 86% | N28: 72% | S28: 100% | T28: 100% | U28: 100% | V28: 5% | W28: 0% | X28: 7% | Y28: 63% | Z28: 63% | AD28: =(D28+E28+F28+G28+H28+I28+J28+K28+L28+M28+N28+S28+T28+U28+V28+W28+X28+Y28+Z28)/19 -> 0.54105263 | AH28: =(D28*D$79+E28*E$79+F28*F$79+G28*G$79+H28*H$79+I28*I$79+J28*J$79+K28*K$79+L28*L$79+M28*M$79+N28*N$79+S28*S$79+T28*T$79+U28*U$79+V28*V$79+W28*W$79+X28*X$79+Y28*Y$79+Z28*Z$79)/SUM(D$79:N$79,S$79:Z$79) -> 0.39561514
A29: ROU | B29: RO | C29: 2020 | D29: 61% | E29: 76% | F29: 10% | G29: 9% | H29: 75% | I29: 60% | J29: 60% | K29: 16% | L29: 50% | M29: 66% | N29: 88% | O29: 27% | P29: 100% | Q29: 0% | R29: 78% | S29: 100% | T29: 0% | U29: 53% | V29: 14% | W29: 36% | X29: 0% | Y29: 0% | Z29: 72% | AD29: =(D29+E29+F29+G29+H29+I29+J29+K29+L29+M29+N29+O29+P29+Q29+R29+S29+T29+U29+V29+W29+X29+Y29+Z29)/23 -> 0.45695652 | AH29: =(D29*D$79+E29*E$79+F29*F$79+G29*G$79+H29*H$79+I29*I$79+J29*J$79+K29*K$79+L29*L$79+M29*M$79+N29*N$79+O29*O$79+P29*P$79+Q29*Q$79+R29*R$79+S29*S$79+T29*T$79+U29*U$79+V29*V$79+W29*W$79+X29*X$79+Y29*Y$79+Z29*Z$79)/SUM(D$79:Z$79) -> 0.42802505
A30: SVN | B30: SI | C30: 2020 | D30: 71% | E30: 90% | F30: 100% | G30: 90% | H30: 80% | I30: 80% | J30: 38% | K30: 16% | L30: 100% | M30: 61% | N30: 0% | V30: 48% | W30: 41% | X30: 51% | Y30: 27% | Z30: 27% | AD30: =(D30+E30+F30+G30+H30+I30+J30+K30+L30+M30+N30+V30+W30+X30+Y30+Z30)/16 -> 0.575 | AH30: =(D30*D$79+E30*E$79+F30*F$79+G30*G$79+H30*H$79+I30*I$79+J30*J$79+K30*K$79+L30*L$79+M30*M$79+N30*N$79+V30*V$79+W30*W$79+X30*X$79+Y30*Y$79+Z30*Z$79)/SUM(D$79:N$79,V$79:Z$79) -> 0.5119869
A31: SVK | B31: SK | C31: 2020 | D31: 82% | E31: 72% | F31: 60% | G31: 56% | H31: 60% | I31: 60% | J31: 8% | K31: 50% | L31: 30% | M31: 63% | N31: 56% | O31: 27% | P31: 100% | Q31: 50% | R31: 66% | S31: 50% | T31: 0% | U31: 3% | V31: 0% | W31: 0% | X31: 0% | Y31: 0% | Z31: 0% | AD31: =(D31+E31+F31+G31+H31+I31+J31+K31+L31+M31+N31+O31+P31+Q31+R31+S31+T31+U31+V31+W31+X31+Y31+Z31)/23 -> 0.38826087 | AH31: =(D31*D$79+E31*E$79+F31*F$79+G31*G$79+H31*H$79+I31*I$79+J31*J$79+K31*K$79+L31*L$79+M31*M$79+N31*N$79+O31*O$79+P31*P$79+Q31*Q$79+R31*R$79+S31*S$79+T31*T$79+U31*U$79+V31*V$79+W31*W$79+X31*X$79+Y31*Y$79+Z31*Z$79)/SUM(D$79:Z$79) -> 0.24395954
A32: FIN | B32: FI | C32: 2020 | D32: 100% | E32: 0% | F32: 100% | G32: 87% | H32: 55% | I32: 70% | J32: 98% | K32: 50% | L32: 50% | M32: 94% | N32: 100% | O32: 27% | P32: 100% | Q32: 0% | R32: 18% | V32: 27% | W32: 40% | X32: 5% | Y32: 54% | Z32: 54% | AD32: =(D32+E32+F32+G32+H32+I32+J32+K32+L32+M32+N32+O32+P32+Q32+R32+V32+W32+X32+Y32+Z32)/20 -> 0.5645 | AH32: =(D32*D$79+E32*E$79+F32*F$79+G32*G$79+H32*H$79+I32*I$79+J32*J$79+K32*K$79+L32*L$79+M32*M$79+N32*N$79+O32*O$79+P32*P$79+Q32*Q$79+R32*R$79+V32*V$79+W32*W$79+X32*X$79+Y32*Y$79+Z32*Z$79)/SUM(D$79:R$79,V$79:Z$79) -> 0.56407777
A33: SWE | B33: SE | C33: 2020 | D33: 71% | E33: 55% | F33: 70% | G33: 46% | H33: 60% | I33: 100% | J33: 96% | K33: 50% | L33: 50% | M33: 77% | N33: 100% | O33: 0% | P33: 0% | Q33: 0% | R33: 36% | V33: 9% | W33: 0% | X33: 68% | Y33: 9% | Z33: 9% | AD33: =(D33+E33+F33+G33+H33+I33+J33+K33+L33+M33+N33+O33+P33+Q33+R33+V33+W33+X33+Y33+Z33)/20 -> 0.453 | AH33: =(D33*D$79+E33*E$79+F33*F$79+G33*G$79+H33*H$79+I33*I$79+J33*J$79+K33*K$79+L33*L$79+M33*M$79+N33*N$79+O33*O$79+P33*P$79+Q33*Q$79+R33*R$79+V33*V$79+W33*W$79+X33*X$79+Y33*Y$79+Z33*Z$79)/SUM(D$79:R$79,V$79:Z$79) -> 0.60952144
B36: 2020 | D36: =(IF(D7="",0,D7)+IF(D8="",0,D8)+IF(D9="",0,D9)+IF(D10="",0,D10)+IF(D11="",0,D11)+IF(D12="",0,D12)+IF(D13="",0,D13)+IF(D14="",0,D14)+IF(D15="",0,D15)+IF(D16="",0,D16)+IF(D17="",0,D17)+IF(D18="",0,D18)+IF(D19="",0,D19)+IF(D20="",0,D20)+IF(D21="",0,D21)+IF(D22="",0,D22)+IF(D23="",0,D23)+IF(D24="",0,D24)+IF(D25="",0,D25)+IF(D26="",0,D26)+IF(D27="",0,D27)+IF(D28="",0,D28)+IF(D29="",0,D29)+IF(D30="",0,D30)+IF(D31="",0,D31)+IF(D32="",0,D32)+IF(D33="",0,D33))/SUMPRODUCT((D7:D33<>"")*1) -> 0.644 | E36: =(IF(E7="",0,E7)+IF(E8="",0,E8)+IF(E9="",0,E9)+IF(E10="",0,E10)+IF(E11="",0,E11)+IF(E12="",0,E12)+IF(E13="",0,E13)+IF(E14="",0,E14)+IF(E15="",0,E15)+IF(E16="",0,E16)+IF(E17="",0,E17)+IF(E18="",0,E18)+IF(E19="",0,E19)+IF(E20="",0,E20)+IF(E21="",0,E21)+IF(E22="",0,E22)+IF(E23="",0,E23)+IF(E24="",0,E24)+IF(E25="",0,E25)+IF(E26="",0,E26)+IF(E27="",0,E27)+IF(E28="",0,E28)+IF(E29="",0,E29)+IF(E30="",0,E30)+IF(E31="",0,E31)+IF(E32="",0,E32)+IF(E33="",0,E33))/SUMPRODUCT((E7:E33<>"")*1) -> 0.5212 | F36: =(IF(F7="",0,F7)+IF(F8="",0,F8)+IF(F9="",0,F9)+IF(F10="",0,F10)+IF(F11="",0,F11)+IF(F12="",0,F12)+IF(F13="",0,F13)+IF(F14="",0,F14)+IF(F15="",0,F15)+IF(F16="",0,F16)+IF(F17="",0,F17)+IF(F18="",0,F18)+IF(F19="",0,F19)+IF(F20="",0,F20)+IF(F21="",0,F21)+IF(F22="",0,F22)+IF(F23="",0,F23)+IF(F24="",0,F24)+IF(F25="",0,F25)+IF(F26="",0,F26)+IF(F27="",0,F27)+IF(F28="",0,F28)+IF(F29="",0,F29)+IF(F30="",0,F30)+IF(F31="",0,F31)+IF(F32="",0,F32)+IF(F33="",0,F33))/SUMPRODUCT((F7:F33<>"")*1) -> 0.528 | G36: =(IF(G7="",0,G7)+IF(G8="",0,G8)+IF(G9="",0,G9)+IF(G10="",0,G10)+IF(G11="",0,G11)+IF(G12="",0,G12)+IF(G13="",0,G13)+IF(G14="",0,G14)+IF(G15="",0,G15)+IF(G16="",0,G16)+IF(G17="",0,G17)+IF(G18="",0,G18)+IF(G19="",0,G19)+IF(G20="",0,G20)+IF(G21="",0,G21)+IF(G22="",0,G22)+IF(G23="",0,G23)+IF(G24="",0,G24)+IF(G25="",0,G25)+IF(G26="",0,G26)+IF(G27="",0,G27)+IF(G28="",0,G28)+IF(G29="",0,G29)+IF(G30="",0,G30)+IF(G31="",0,G31)+IF(G32="",0,G32)+IF(G33="",0,G33))/SUMPRODUCT((G7:G33<>"")*1) -> 0.4356 | H36: =(IF(H7="",0,H7)+IF(H8="",0,H8)+IF(H9="",0,H9)+IF(H10="",0,H10)+IF(H11="",0,H11)+IF(H12="",0,H12)+IF(H13="",0,H13)+IF(H14="",0,H14)+IF(H15="",0,H15)+IF(H16="",0,H16)+IF(H17="",0,H17)+IF(H18="",0,H18)+IF(H19="",0,H19)+IF(H20="",0,H20)+IF(H21="",0,H21)+IF(H22="",0,H22)+IF(H23="",0,H23)+IF(H24="",0,H24)+IF(H25="",0,H25)+IF(H26="",0,H26)+IF(H27="",0,H27)+IF(H28="",0,H28)+IF(H29="",0,H29)+IF(H30="",0,H30)+IF(H31="",0,H31)+IF(H32="",0,H32)+IF(H33="",0,H33))/SUMPRODUCT((H7:H33<>"")*1) -> 0.5588 | I36: =(IF(I7="",0,I7)+IF(I8="",0,I8)+IF(I9="",0,I9)+IF(I10="",0,I10)+IF(I11="",0,I11)+IF(I12="",0,I12)+IF(I13="",0,I13)+IF(I14="",0,I14)+IF(I15="",0,I15)+IF(I16="",0,I16)+IF(I17="",0,I17)+IF(I18="",0,I18)+IF(I19="",0,I19)+IF(I20="",0,I20)+IF(I21="",0,I21)+IF(I22="",0,I22)+IF(I23="",0,I23)+IF(I24="",0,I24)+IF(I25="",0,I25)+IF(I26="",0,I26)+IF(I27="",0,I27)+IF(I28="",0,I28)+IF(I29="",0,I29)+IF(I30="",0,I30)+IF(I31="",0,I31)+IF(I32="",0,I32)+IF(I33="",0,I33))/SUMPRODUCT((I7:I33<>"")*1) -> 0.58148148 | J36: =(IF(J7="",0,J7)+IF(J8="",0,J8)+IF(J9="",0,J9)+IF(J10="",0,J10)+IF(J11="",0,J11)+IF(J12="",0,J12)+IF(J13="",0,J13)+IF(J14="",0,J14)+IF(J15="",0,J15)+IF(J16="",0,J16)+IF(J17="",0,J17)+IF(J18="",0,J18)+IF(J19="",0,J19)+IF(J20="",0,J20)+IF(J21="",0,J21)+IF(J22="",0,J22)+IF(J23="",0,J23)+IF(J24="",0,J24)+IF(J25="",0,J25)+IF(J26="",0,J26)+IF(J27="",0,J27)+IF(J28="",0,J28)+IF(J29="",0,J29)+IF(J30="",0,J30)+IF(J31="",0,J31)+IF(J32="",0,J32)+IF(J33="",0,J33))/SUMPRODUCT((J7:J33<>"")*1) -> 0.61037037 | K36: =(IF(K7="",0,K7)+IF(K8="",0,K8)+IF(K9="",0,K9)+IF(K10="",0,K10)+IF(K11="",0,K11)+IF(K12="",0,K12)+IF(K13="",0,K13)+IF(K14="",0,K14)+IF(K15="",0,K15)+IF(K16="",0,K16)+IF(K17="",0,K17)+IF(K18="",0,K18)+IF(K19="",0,K19)+IF(K20="",0,K20)+IF(K21="",0,K21)+IF(K22="",0,K22)+IF(K23="",0,K23)+IF(K24="",0,K24)+IF(K25="",0,K25)+IF(K26="",0,K26)+IF(K27="",0,K27)+IF(K28="",0,K28)+IF(K29="",0,K29)+IF(K30="",0,K30)+IF(K31="",0,K31)+IF(K32="",0,K32)+IF(K33="",0,K33))/SUMPRODUCT((K7:K33<>"")*1) -> 0.28888889 | ... Z36: =(IF(Z7="",0,Z7)+IF(Z8="",0,Z8)+IF(Z9="",0,Z9)+IF(Z10="",0,Z10)+IF(Z11="",0,Z11)+IF(Z12="",0,Z12)+IF(Z13="",0,Z13)+IF(Z14="",0,Z14)+IF(Z15="",0,Z15)+IF(Z16="",0,Z16)+IF(Z17="",0,Z17)+IF(Z18="",0,Z18)+IF(Z19="",0,Z19)+IF(Z20="",0,Z20)+IF(Z21="",0,Z21)+IF(Z22="",0,Z22)+IF(Z23="",0,Z23)+IF(Z24="",0,Z24)+IF(Z25="",0,Z25)+IF(Z26="",0,Z26)+IF(Z27="",0,Z27)+IF(Z28="",0,Z28)+IF(Z29="",0,Z29)+IF(Z30="",0,Z30)+IF(Z31="",0,Z31)+IF(Z32="",0,Z32)+IF(Z33="",0,Z33))/SUMPRODUCT((Z7:Z33<>"")*1) -> 0.32444444
E38: 0% | F38: 1% | G38: 26% | H38: 50% | I38: 76% | J38: 100%
B39: EFTA | AD39: =AVERAGE(AD40:AD43) -> 0.30587061 | AH39: =AVERAGE(AH40:AH43) -> 0.40548944
A40: ISL | B40: IS | C40: 2020 | I40: 50% | J40: 46% | K40: 50% | L40: 0% | M40: 0% | N40: 48% | V40: 0% | W40: 0% | X40: 0% | Y40: 27% | Z40: 13% | AD40: =(I40+J40+H38+E38+M40+N40+V40+W40+X40+Y40+Z40)/11 -> 0.21272727 | AH40: =(I40*I$79+J40*J$79+H38*K$79+E38*L$79+M40*M$79+N40*N$79+V40*V$79+W40*W$79+X40*X$79+Y40*Y$79+Z40*Z$79)/SUM(I$79:N$79,V$79:Z$79) -> 0.20502019
A41: LIE | B41: LI | C41: 2020 | I41: 100% | J41: 94% | K41: 0% | L41: 0% | M41: 0% | N41: 48% | V41: 0% | W41: 0% | X41: 0% | Y41: 0% | Z41: 0% | AD41: =(I41+J41+K41+L41+M41+N41+V41+W41+X41+Y41+Z41)/11 -> 0.22 | AH41: =(I41*I$79+J41*J$79+K41*K$79+L41*L$79+M41*M$79+N41*N$79+V41*V$79+W41*W$79+X41*X$79+Y41*Y$79+Z41*Z$79)/SUM(I$79:N$79,V$79:Z$79) -> 0.37752355
A42: NOR | B42: NO | C42: 2020 | D42: 5% | E42: 0% | F42: 40% | G42: 17% | H42: 60% | I42: 80% | J42: 99% | K42: 0% | L42: 90% | M42: 83% | N42: 0% | S42: 100% | T42: 100% | U42: 0% | V42: 77% | W42: 76% | X42: 73% | Y42: 36% | Z42: 27% | AD42: =(D42+E42+F42+G42+H42+I42+J42+K42+L42+M42+N42+S42+T42+U42+V42+W42+X42+Y42+Z42)/19 -> 0.50684211 | AH42: =(D42*D$79+E42*E$79+F42*F$79+G42*G$79+H42*H$79+I42*I$79+J42*J$79+K42*K$79+L42*L$79+M42*M$79+N42*N$79+S42*S$79+T42*T$79+U42*U$79+V42*V$79+W42*W$79+X42*X$79+Y42*Y$79+Z42*Z$79)/SUM(D$79:N$79,S$79:Z$79) -> 0.6615142
A43: CHE | B43: CH | C43: 2020 | D43: 0% | E43: 0% | F43: 40% | G43: 7% | H43: 60% | I43: 50% | J43: 95% | K43: 0% | L43: 70% | M43: 80% | N43: 100% | O43: 0% | P43: 10% | Q43: 0% | R43: 15% | S43: 50% | T43: 0% | U43: 40% | V43: 18% | W43: 0% | X43: 0% | Y43: 9% | Z43: 9% | AD43: =(D43+E43+F43+G43+H43+I43+J43+K43+L43+M43+N43+O43+P43+Q43+R43+S43+T43+U43+V43+W43+X43+Y43+Z43)/23 -> 0.28391304 | AH43: =(D43*D$79+E43*E$79+F43*F$79+G43*G$79+H43*H$79+I43*I$79+J43*J$79+K43*K$79+L43*L$79+M43*M$79+N43*N$79+O43*O$79+P43*P$79+Q43*Q$79+R43*R$79+S43*S$79+T43*T$79+U43*U$79+V43*V$79+W43*W$79+X43*X$79+Y43*Y$79+Z43*Z$79)/SUM(D$79:Z$79) -> 0.37789981
A45: candidates | AD45: =AVERAGE(AD46:AD56) -> 0.1993117 | AH45: =AVERAGE(AH46:AH56) -> 0.1820228
A46: BIH | B46: BA | C46: 2020 | D46: 100% | E46: 79% | F46: 20% | H46: 70% | I46: 50% | J46: 100% | K46: 0% | L46: 0% | M46: 0% | N46: 12% | O46: 0% | P46: 0% | Q46: 0% | R46: 0% | S46: 0% | T46: 0% | U46: 0% | V46: 0% | W46: 0% | X46: 0% | Y46: 0% | Z46: 0% | AD46: =(D46+E46+F46+G46+H46+I46+J46+K46+L46+M46+N46+O46+P46+Q46+R46+S46+T46+U46+V46+W46+X46+Y46+Z46)/23 -> 0.1873913 | AH46: =(D46*D$79+E46*E$79+F46*F$79+G46*G$79+H46*H$79+I46*I$79+J46*J$79+K46*K$79+L46*L$79+M46*M$79+N46*N$79+O46*O$79+P46*P$79+Q46*Q$79+R46*R$79+S46*S$79+T46*T$79+U46*U$79+V46*V$79+W46*W$79+X46*X$79+Y46*Y$79+Z46*Z$79)/SUM(D$79:Z$79) -> 0.37184008
A47: MNE | B47: ME | C47: 2020 | D47: 0% | E47: 0% | F47: 0% | G47: 0% | H47: 0% | I47: 0% | J47: 0% | K47: 0% | L47: 0% | M47: 0% | N47: 0% | V47: 0% | W47: 0% | X47: 0% | Y47: 0% | Z47: 0% | AD47: =(D47+E47+F47+G47+H47+I47+J47+K47+L47+M47+N47+V47+W47+X47+Y47+Z47)/16 -> 0 | AH47: =(D47*D$79+E47*E$79+F47*F$79+G47*G$79+H47*H$79+I47*I$79+J47*J$79+K47*K$79+L47*L$79+M47*M$79+N47*N$79+V47*V$79+W47*W$79+X47*X$79+Y47*Y$79+Z47*Z$79)/SUM(D$79:N$79,V$79:Z$79) -> 0
A48: MDA | B48: MD | C48: 2020 | D48: 35% | E48: 53% | F48: 20% | G48: 14% | H48: 37% | I48: 60% | J48: 32% | K48: 0% | L48: 0% | M48: 47% | N48: 12% | O48: 18% | P48: 10% | Q48: 0% | R48: 30% | V48: 0% | W48: 0% | X48: 0% | Y48: 0% | Z48: 36% | AD48: =(D48+E48+F48+G48+H48+I48+J48+K48+L48+M48+N48+O48+P48+Q48+R48+V48+W48+X48+Y48+Z48)/20 -> 0.202 | AH48: =(D48*D$79+E48*E$79+F48*F$79+G48*G$79+H48*H$79+I48*I$79+J48*J$79+K48*K$79+L48*L$79+M48*M$79+N48*N$79+O48*O$79+P48*P$79+Q48*Q$79+R48*R$79+V48*V$79+W48*W$79+X48*X$79+Y48*Y$79+Z48*Z$79)/SUM(D$79:R$79,V$79:Z$79) -> 0.19581256
A49: MKD | B49: MK | C49: 2020 | D49: 43% | E49: 79% | F49: 30% | G49: 63% | H49: 50% | I49: 80% | J49: 21% | K49: 33% | L49: 80% | M49: 97% | N49: 88% | S49: 50% | T49: 0% | U49: 6% | V49: 5% | W49: 24% | X49: 2% | Y49: 72% | Z49: 72% | AD49: =(D49+I38+F49+G49+H49+I49+J49+K49+L49+M49+N49+S49+T49+U49+V49+W49+X49+Y49+Z49)/19 -> 0.46947368 | AH49: =(D49*D$79+I38*E$79+F49*F$79+G49*G$79+H49*H$79+I49*I$79+J49*J$79+K49*K$79+L49*L$79+M49*M$79+N49*N$79+S49*S$79+T49*T$79+U49*U$79+V49*V$79+W49*W$79+X49*X$79+Y49*Y$79+Z49*Z$79)/SUM(D$79:N$79,S$79:Z$79) -> 0.29481598
A50: GEO | B50: GE | C50: 2020 | D50: 0% | E50: 0% | F50: 0% | G50: 0% | H50: 0% | I50: 0% | J50: 0% | K50: 0% | L50: 0% | M50: 0% | N50: 0% | O50: 0% | P50: 0% | Q50: 0% | R50: 0% | S50: 0% | T50: 0% | U50: 0% | V50: 0% | W50: 0% | X50: 0% | Y50: 0% | Z50: 0% | AD50: =(D50+E50+F50+G50+H50+I50+J50+K50+L50+M50+N50+O50+P50+Q50+R50+S50+T50+U50+V50+W50+X50+Y50+Z50)/23 -> 0 | AH50: =(D50*D$79+E50*E$79+F50*F$79+G50*G$79+H50*H$79+I50*I$79+J50*J$79+K50*K$79+L50*L$79+M50*M$79+N50*N$79+O50*O$79+P50*P$79+Q50*Q$79+R50*R$79+S50*S$79+T50*T$79+U50*U$79+V50*V$79+W50*W$79+X50*X$79+Y50*Y$79+Z50*Z$79)/SUM(D$79:Z$79) -> 0
A51: ALB | B51: AL | C51: 2020 | D51: 33% | E51: 44% | F51: 40% | G51: 31% | H51: 50% | I51: 50% | J51: 35% | K51: 50% | L51: 0% | M51: 0% | N51: 76% | V51: 0% | W51: 0% | X51: 0% | Y51: 0% | Z51: 0% | AD51: =(D51+E51+F51+G51+H51+I51+J51+K51+L51+M51+N51+V51+W51+X51+Y51+Z51)/16 -> 0.255625 | AH51: =(D51*D$79+E51*E$79+F51*F$79+G51*G$79+H51*H$79+I51*I$79+J51*J$79+K51*K$79+L51*L$79+M51*M$79+N51*N$79+V51*V$79+W51*W$79+X51*X$79+Y51*Y$79+Z51*Z$79)/SUM(D$79:N$79,V$79:Z$79) -> 0.20933406
A52: SRB | B52: RS | C52: 2020 | D52: 51% | E52: 81% | F52: 40% | G52: 60% | H52: 60% | I52: 70% | J52: 5% | K52: 0% | L52: 0% | M52: 11% | N52: 92% | O52: 27% | P52: 100% | Q52: 0% | R52: 51% | S52: 100% | T52: 0% | U52: 33% | V52: 0% | W52: 0% | X52: 0% | Y52: 9% | Z52: 27% | AD52: =(D52+E52+F52+G52+H52+I52+J52+K52+L52+M52+N52+O52+P52+Q52+R52+S52+T52+U52+V52+W52+X52+Y52+Z52)/23 -> 0.35521739 | AH52: =(D52*D$79+E52*E$79+F52*F$79+G52*G$79+H52*H$79+I52*I$79+J52*J$79+K52*K$79+L52*L$79+M52*M$79+N52*N$79+O52*O$79+P52*P$79+Q52*Q$79+R52*R$79+S52*S$79+T52*T$79+U52*U$79+V52*V$79+W52*W$79+X52*X$79+Y52*Y$79+Z52*Z$79)/SUM(D$79:Z$79) -> 0.2222158
A53: TUR | B53: TR | C53: 2020 | D53: 92% | E53: 100% | F53: 40% | G53: 100% | H53: 75% | I53: 60% | J53: 86% | K53: 0% | L53: 0% | M53: 11% | N53: 68% | S53: 50% | T53: 0% | U53: 6% | V53: 0% | W53: 0% | X53: 0% | Y53: 0% | Z53: 0% | AD53: =(D53+I41+F53+G53+H53+I53+J53+K53+L53+M53+N53+S53+T53+U53+V53+W53+X53+Y53+Z53)/19 -> 0.36210526 | AH53: =(D53*D$79+I41*E$79+F53*F$79+G53*G$79+H53*H$79+I53*I$79+J53*J$79+K53*K$79+L53*L$79+M53*M$79+N53*N$79+S53*S$79+T53*T$79+U53*U$79+V53*V$79+W53*W$79+X53*X$79+Y53*Y$79+Z53*Z$79)/SUM(D$79:N$79,S$79:Z$79) -> 0.44178759
A54: UKR | B54: UA | C54: 2020 | D54: 35% | E54: 30% | F54: 0% | G54: 0% | H54: 20% | I54: 80% | J54: 1% | K54: 0% | L54: 30% | M54: 47% | N54: 0% | O54: 27% | P54: 2% | Q54: 0% | R54: 12% | S54: 50% | T54: 0% | U54: 26% | V54: 11% | W54: 0% | X54: 0% | Y54: 0% | Z54: 0% | AD54: =(D54+E54+F54+G54+H54+I54+J54+K54+L54+M54+N54+O54+P54+Q54+R54+S54+T54+U54+V54+W54+X54+Y54+Z54)/23 -> 0.16130435 | AH54: =(D54*D$79+E54*E$79+F54*F$79+G54*G$79+H54*H$79+I54*I$79+J54*J$79+K54*K$79+L54*L$79+M54*M$79+N54*N$79+O54*O$79+P54*P$79+Q54*Q$79+R54*R$79+S54*S$79+T54*T$79+U54*U$79+V54*V$79+W54*W$79+X54*X$79+Y54*Y$79+Z54*Z$79)/SUM(D$79:Z$79) -> 0.084421965
A56: XKX | B56: XK(1) | C56: 2020 | D56: 0% | E56: 0% | F56: 0% | G56: 0% | H56: 0% | I56: 0% | J56: 0% | K56: 0% | L56: 0% | M56: 0% | N56: 0% | V56: 0% | W56: 0% | X56: 0% | Y56: 0% | Z56: 0% | AD56: =(D56+E56+F56+G56+H56+I56+J56+K56+L56+M56+N56+V56+W56+X56+Y56+Z56)/16 -> 0 | AH56: =(D56*D$79+E56*E$79+F56*F$79+G56*G$79+H56*H$79+I56*I$79+J56*J$79+K56*K$79+L56*L$79+M56*M$79+N56*N$79+V56*V$79+W56*W$79+X56*X$79+Y56*Y$79+Z56*Z$79)/SUM(D$79:N$79,V$79:Z$79) -> 0
A58: others involved in 2019, 2020 or 2021 | AD58: =AVERAGE(AD59:AD69) -> 0.058551922 | AH58: =AVERAGE(AH59:AH69) -> 0.049977396
A59: ARM | B59: AM | C59: 2020 | D59: 0% | E59: 0% | F59: 0% | G59: 0% | H59: 0% | I59: 0% | J59: 0% | K59: 0% | L59: 0% | M59: 0% | N59: 0% | V59: 0% | W59: 0% | X59: 0% | Y59: 0% | Z59: 0% | AD59: =(D59+E59+F59+G59+H59+I59+J59+K59+L59+M59+N59+V59+W59+X59+Y59+Z59)/16 -> 0 | AH59: =(D59*D$79+E59*E$79+F59*F$79+G59*G$79+H59*H$79+I59*I$79+J59*J$79+K59*K$79+L59*L$79+M59*M$79+N59*N$79+V59*V$79+W59*W$79+X59*X$79+Y59*Y$79+Z59*Z$79)/SUM(D$79:N$79,V$79:Z$79) -> 0
A60: AZE | B60: AZ | C60: 2020 | D60: 0% | E60: 0% | F60: 0% | G60: 0% | H60: 0% | I60: 0% | J60: 0% | K60: 0% | L60: 0% | M60: 0% | N60: 0% | S60: 0% | T60: 0% | U60: 0% | V60: 0% | W60: 0% | X60: 0% | Y60: 0% | Z60: 0% | AD60: 0 | AH60: 0
A61: BLR | B61: BY | C61: 2020 | D61: 15% | E61: 0% | F61: 10% | G61: 0% | H61: 15% | I61: 40% | J61: 2% | K61: 0% | L61: 0% | M61: 11% | N61: 12% | O61: 0% | P61: 0% | Q61: 0% | R61: 6% | S61: 0% | T61: 0% | U61: 0% | V61: 0% | W61: 0% | X61: 0% | Y61: 0% | Z61: 9% | AD61: =(D61+E61+F61+G61+H61+I61+J61+K61+L61+M61+N61+O61+P61+Q61+R61+S61+T61+U61+V61+W61+X61+Y61+Z61)/23 -> 0.052173913 | AH61: =(D61*D$79+E61*E$79+F61*F$79+G61*G$79+H61*H$79+I61*I$79+J61*J$79+K61*K$79+L61*L$79+M61*M$79+N61*N$79+O61*O$79+P61*P$79+Q61*Q$79+R61*R$79+S61*S$79+T61*T$79+U61*U$79+V61*V$79+W61*W$79+X61*X$79+Y61*Y$79+Z61*Z$79)/SUM(D$79:Z$79) -> 0.032052023
A62: CAN | B62: CA | C62: 2020 | D62: 0% | E62: 0% | F62: 0% | G62: 0% | H62: 0% | I62: 0% | J62: 7% | K62: 0% | L62: 0% | M62: 0% | N62: 4% | O62: 0% | P62: 0% | Q62: 0% | R62: 0% | S62: 0% | T62: 33% | U62: 26% | V62: 0% | W62: 0% | X62: 0% | Y62: 0% | Z62: 4% | AD62: =(D62+E62+F62+G62+H62+I62+J62+K62+L62+M62+N62+O62+P62+Q62+R62+S62+T62+U62+V62+W62+X62+Y62+Z62)/23 -> 0.032173913 | AH62: =(D62*D$79+E62*E$79+F62*F$79+G62*G$79+H62*H$79+I62*I$79+J62*J$79+K62*K$79+L62*L$79+M62*M$79+N62*N$79+O62*O$79+P62*P$79+Q62*Q$79+R62*R$79+S62*S$79+T62*T$79+G38*U$79+V62*V$79+W62*W$79+X62*X$79+Y62*Y$79+Z62*Z$79)/SUM(D$79:Z$79) -> 0.028824663
A63: ISR | B63: IL | C63: 2020 | I63: 0% | J63: 0% | K63: 0% | L63: 0% | M63: 0% | N63: 0% | O63: 0% | P63: 0% | Q63: 0% | R63: 0% | V63: 0% | W63: 0% | X63: 0% | Y63: 0% | Z63: 0% | AD63: =(I63+J63+K63+L63+M63+N63+O63+P63+Q63+R63+V63+W63+X63+Y63+Z63)/15 -> 0 | AH63: =(I63*I$79+J63*J$79+K63*K$79+L63*L$79+M63*M$79+N63*N$79+O63*O$79+P63*P$79+Q63*Q$79+R63*R$79+V63*V$79+W63*W$79+X63*X$79+Y63*Y$79+Z63*Z$79)/SUM(I$79:R$79,V$79:Z$79) -> 0
A64: KAZ | B64: KZ | C64: 2020 | D64: 0% | E64: 0% | F64: 0% | G64: 0% | H64: 0% | I64: 0% | J64: 0% | K64: 0% | L64: 0% | M64: 0% | N64: 0% | O64: 0% | P64: 0% | Q64: 0% | R64: 0% | S64: 0% | T64: 0% | U64: 0% | V64: 0% | W64: 0% | X64: 0% | Y64: 0% | Z64: 0% | AD64: 0 | AH64: 0
A65: MCO | B65: MC | C65: 2020 | I65: 50% | J65: 9% | K65: 0% | L65: 0% | M65: 0% | N65: 0% | V65: 0% | W65: 0% | X65: 0% | Y65: 0% | Z65: 0% | AD65: =(I65+J65+K65+L65+M65+N65+V65+W65+X65+Y65+Z65)/11 -> 0.053636364 | AH65: =(I65*I$79+J65*J$79+K65*K$79+L65*L$79+M65*M$79+N65*N$79+V65*V$79+W65*W$79+X65*X$79+Y65*Y$79+Z65*Z$79)/SUM(I$79:N$79,V$79:Z$79) -> 0.040040377
A66: RUS | B66: RU | C66: 2020 | D66: 0% | E66: 0% | F66: 30% | G66: 0% | H66: 0% | I66: 80% | J66: 16% | K66: 33% | L66: 0% | M66: 16% | N66: 60% | O66: 9% | P66: 24% | Q66: 33% | R66: 30% | S66: 50% | T66: 33% | U66: 6% | V66: 0% | W66: 0% | X66: 0% | Y66: 0% | Z66: 54% | AD66: =(D66+E66+F66+G66+H66+I66+J66+K66+L66+M66+N66+O66+P66+Q66+R66+S66+T66+U66+V66+W66+X66+Y66+Z66)/23 -> 0.20608696 | AH66: =(D66*D$79+E66*E$79+F66*F$79+G66*G$79+H66*H$79+I66*I$79+J66*J$79+K66*K$79+L66*L$79+M66*M$79+N66*N$79+O66*O$79+P66*P$79+Q66*Q$79+R66*R$79+S66*S$79+T66*T$79+U66*U$79+V66*V$79+W66*W$79+X66*X$79+Y66*Y$79+Z66*Z$79)/SUM(D$79:Z$79) -> 0.11094412
A67: GBR | B67: UK | C67: 2020 | D67: 58% | E67: 0% | F67: 70% | G67: 7% | H67: 10% | I67: 0% | J67: 66% | K67: 0% | L67: 0% | M67: 22% | N67: 100% | O67: 100% | P67: 0% | Q67: 0% | R67: 18% | S67: 0% | T67: 0% | U67: 0% | V67: 14% | W67: 53% | X67: 0% | Y67: 0% | Z67: 0% | AD67: =(D67+E67+F67+G67+H67+I67+J67+K67+L67+M67+N67+O67+P67+Q67+R67+S67+T67+U67+V67+W67+X67+Y67+Z67)/23 -> 0.22521739 | AH67: =(D67*D$79+E67*E$79+F67*F$79+G67*G$79+H67*H$79+I67*I$79+J67*J$79+K67*K$79+L67*L$79+M67*M$79+N67*N$79+O67*O$79+P67*P$79+Q67*Q$79+R67*R$79+S67*S$79+T67*T$79+U67*U$79+V67*V$79+W67*W$79+X67*X$79+Y67*Y$79+Z67*Z$79)/SUM(D$79:Z$79) -> 0.29851638
A68: USA | B68: US | C68: 2020 | D68: 0% | E68: 0% | F68: 0% | G68: 0% | H68: 0% | I68: 0% | J68: 0% | K68: 0% | L68: 0% | M68: 0% | N68: 0% | O68: 0% | P68: 0% | Q68: 0% | R68: 0% | S68: 0% | T68: 0% | U68: 0% | V68: 0% | W68: 0% | X68: 0% | Y68: 0% | Z68: 0% | AD68: =(D68+E68+F68+G68+H68+I68+J68+K68+L68+M68+N68+O68+P68+Q68+R68+S68+T68+U68+V68+W68+X68+Y68+Z68)/23 -> 0 | AH68: =(D68*D$79+E68*E$79+F68*F$79+G68*G$79+H68*H$79+I68*I$79+J68*J$79+K68*K$79+L68*L$79+M68*M$79+N68*N$79+O68*O$79+P68*P$79+Q68*Q$79+R68*R$79+S68*S$79+T68*T$79+U68*U$79+V68*V$79+W68*W$79+X68*X$79+Y68*Y$79+Z68*Z$79)/SUM(D$79:Z$79) -> 0
A69: UZB | B69: UZ | C69: 2020 | D69: 12% | E69: 11% | F69: 0% | G69: 0% | H69: 20% | I69: 60% | J69: 2% | K69: 0% | L69: 40% | M69: 11% | N69: 16% | O69: 0% | P69: 0% | Q69: 0% | R69: 0% | S69: 0% | T69: 0% | U69: 0% | V69: 0% | W69: 0% | X69: 0% | Y69: 0% | Z69: 0% | AD69: =(D69+E69+F69+G69+H69+I69+J69+K69+L69+M69+N69+O69+P69+Q69+R69+S69+T69+U69+V69+W69+X69+Y69+Z69)/23 -> 0.074782609 | AH69: =(D69*D$79+E69*E$79+F69*F$79+G69*G$79+H69*H$79+I69*I$79+J69*J$79+K69*K$79+L69*L$79+M69*M$79+N69*N$79+O69*O$79+P69*P$79+Q69*Q$79+R69*R$79+S69*S$79+T69*T$79+U69*U$79+V69*V$79+W69*W$79+X69*X$79+Y69*Y$79+Z69*Z$79)/SUM(D$79:Z$79) -> 0.039373796
A71: others, non-resp. since 2019 | AD71: =AVERAGE(AD72:AD77) -> 0 | AH71: =AVERAGE(AH72:AH77) -> 0
A72: AND | B72: AD | C72: 2020 | I72: 0 | J72: 0 | K72: 0 | L72: 0 | M72: 0 | N72: 0 | V72: 0 | W72: 0 | X72: 0 | Y72: 0 | Z72: 0 | AD72: =(I72+J72+K72+L72+M72+N72+V72+W72+X72+Y72+Z72)/11 -> 0 | AH72: =(I72*I$79+J72*J$79+K72*K$79+L72*L$79+M72*M$79+N72*N$79+V72*V$79+W72*W$79+X72*X$79+Y72*Y$79+Z72*Z$79)/SUM(I$79:N$79,V$79:Z$79) -> 0
A73: IND | B73: IN | C73: 2020 | D73: 0 | E73: 0 | F73: 0 | G73: 0 | H73: 0 | I73: 0 | J73: 0 | K73: 0 | L73: 0 | M73: 0 | N73: 0 | O73: 0 | P73: 0 | Q73: 0 | R73: 0 | S73: 0 | T73: 0 | U73: 0 | V73: 0 | W73: 0 | X73: 0 | Y73: 0 | Z73: 0 | AD73: =(D73+E73+F73+G73+H73+I73+J73+K73+L73+M73+N73+O73+P73+Q73+R73+S73+T73+U73+V73+W73+X73+Y73+Z73)/23 -> 0 | AH73: =(D73*D$79+E73*E$79+F73*F$79+G73*G$79+H73*H$79+I73*I$79+J73*J$79+K73*K$79+L73*L$79+M73*M$79+N73*N$79+O73*O$79+P73*P$79+Q73*Q$79+R73*R$79+S73*S$79+T73*T$79+U73*U$79+V73*V$79+W73*W$79+X73*X$79+Y73*Y$79+Z73*Z$79)/SUM(D$79:Z$79) -> 0
A74: KGZ | B74: KG | C74: 2020 | D74: 0 | E74: 0 | F74: 0 | G74: 0 | H74: 0 | I74: 0 | J74: 0 | K74: 0 | L74: 0 | M74: 0 | N74: 0 | O74: 0 | P74: 0 | Q74: 0 | R74: 0 | V74: 0 | W74: 0 | X74: 0 | Y74: 0 | Z74: 0 | AD74: =(D74+E74+F74+G74+H74+I74+J74+K74+L74+M74+N74+V74+W74+X74+Y74+Z74)/16 -> 0 | AH74: =(D74*D$79+E74*E$79+F74*F$79+G74*G$79+H74*H$79+I74*I$79+J74*J$79+K74*K$79+L74*L$79+M74*M$79+N74*N$79+V74*V$79+W74*W$79+X74*X$79+Y74*Y$79+Z74*Z$79)/SUM(D$79:N$79,V$79:Z$79) -> 0
A75: SMR | B75: SM | C75: 2020 | I75: 0 | J75: 0 | K75: 0 | L75: 0 | M75: 0 | N75: 0 | V75: 0 | W75: 0 | X75: 0 | Y75: 0 | Z75: 0 | AD75: =(I75+J75+K75+L75+M75+N75+V75+W75+X75+Y75+Z75)/11 -> 0 | AH75: =(I75*I$79+J75*J$79+K75*K$79+L75*L$79+M75*M$79+N75*N$79+V75*V$79+W75*W$79+X75*X$79+Y75*Y$79+Z75*Z$79)/SUM(I$79:N$79,V$79:Z$79) -> 0
A76: TJK | B76: TJ | C76: 2020 | D76: 0 | E76: 0 | F76: 0 | G76: 0 | H76: 0 | I76: 0 | J76: 0 | K76: 0 | L76: 0 | M76: 0 | N76: 0 | O76: 0 | P76: 0 | Q76: 0 | R76: 0 | S76: 0 | T76: 0 | U76: 0 | V76: 0 | W76: 0 | X76: 0 | Y76: 0 | Z76: 0 | AD76: =(D76+E76+F76+G76+H76+I76+J76+K76+L76+M76+N76+O76+P76+Q76+R76+S76+T76+U76+V76+W76+X76+Y76+Z76)/23 -> 0 | AH76: =(D76*D$79+E76*E$79+F76*F$79+G76*G$79+H76*H$79+I76*I$79+J76*J$79+K76*K$79+L76*L$79+M76*M$79+N76*N$79+O76*O$79+P76*P$79+Q76*Q$79+R76*R$79+S76*S$79+T76*T$79+U76*U$79+V76*V$79+W76*W$79+X76*X$79+Y76*Y$79+Z76*Z$79)/SUM(D$79:Z$79) -> 0
A77: TKM | B77: TM | C77: 2020 | D77: 0 | E77: 0 | F77: 0 | G77: 0 | H77: 0 | I77: 0 | J77: 0 | K77: 0 | L77: 0 | M77: 0 | N77: 0 | O77: 0 | P77: 0 | Q77: 0 | R77: 0 | S77: 0 | T77: 0 | U77: 0 | V77: 0 | W77: 0 | X77: 0 | Y77: 0 | Z77: 0 | AD77: =(D77+E77+F77+G77+H77+I77+J77+K77+L77+M77+N77+O77+P77+Q77+R77+S77+T77+U77+V77+W77+X77+Y77+Z77)/23 -> 0 | AH77: =(D77*D$79+E77*E$79+F77*F$79+G77*G$79+H77*H$79+I77*I$79+J77*J$79+K77*K$79+L77*L$79+M77*M$79+N77*N$79+O77*O$79+P77*P$79+Q77*Q$79+R77*R$79+S77*S$79+T77*T$79+U77*U$79+V77*V$79+W77*W$79+X77*X$79+Y77*Y$79+Z77*Z$79)/SUM(D$79:Z$79) -> 0
D79: 39 | E79: 43 | F79: 10 | G79: 41 | H79: 40 | I79: 10 | J79: 275 | K79: 6 | L79: 10 | M79: 36 | N79: 25 | O79: 11 | P79: 37 | Q79: 6 | R79: 33 | S79: 2 | T79: 3 | U79: 30 | V79: 54 | W79: 65 | X79: 229 | Y79: 11 | Z79: 22

Sheet Annual report 2019
A1: Annual Report 2019
D3: RAIL | I3: ROAD | O3: IWW | S3: OIL | V3: ROADVKM | Y3: BUSES | AC3: unweighted | AG3: weighted
D4: I | E4: II | F4: III | G4: IV | H4: V | I4: I | J4: II | K4: III | L4: IV | M4: V | N4: VII | O4: I | P4: II | Q4: III | R4: V | S4: I | T4: III | U4: V | V4: I | W4: II | X4: III | Y4: I | Z4: IV | AD4: 2019 | AH4: 2019
B6: EU-27 | AD6: =AVERAGE(AD7:AD33) -> 0.40773202 | AH6: =AVERAGE(AH7:AH33) -> 0.40160942
A7: BEL | B7: BE | C7: 2019 | D7: 0 | E7: 0 | F7: 0 | G7: 0 | H7: 0 | I7: 0 | J7: 0.39 | K7: 0 | L7: 0 | M7: 0.56 | N7: 1 | O7: 0 | P7: 0 | Q7: 0 | R7: 0.3 | S7: 0 | T7: 0 | U7: 0 | V7: 0 | W7: 0 | X7: 0 | Y7: 0 | Z7: 0 | AD7: =(D7+E7+F7+G7+H7+I7+J7+K7+L7+M7+N7+O7+P7+Q7+R7+S7+T7+U7+V7+W7+X7+Y7+Z7)/23 -> 0.097826087 | AH7: =(D7*D$79+E7*E$79+F7*F$79+G7*G$79+H7*H$79+I7*I$79+J7*J$79+K7*K$79+L7*L$79+M7*M$79+N7*N$79+O7*O$79+P7*P$79+Q7*Q$79+R7*R$79+S7*S$79+T7*T$79+U7*U$79+V7*V$79+W7*W$79+X7*X$79+Y7*Y$79+Z7*Z$79)/SUM(D$79:Z$79) -> 0.15636802
A8: BGR | B8: BG | C8: 2019 | D8: 0.67 | E8: 0 | F8: 0 | G8: 0 | H8: 0.45 | I8: 0.8 | J8: 0.09 | K8: 0 | L8: 0.6 | M8: 0.67 | N8: 0.88 | O8: 0.18 | P8: 0.73 | Q8: 0 | R8: 0.48 | S8: 1 | T8: 0 | U8: 0.4 | V8: 0.2 | W8: 0 | X8: 0 | Y8: 0.45 | Z8: 0.5 | AD8: =(D8+E8+F8+G8+H8+I8+J8+K8+L8+M8+N8+O8+P8+Q8+R8+S8+T8+U8+V8+W8+X8+Y8+Z8)/23 -> 0.35217391 | AH8: =(D8*D$79+E8*E$79+F8*F$79+G8*G$79+H8*H$79+I8*I$79+J8*J$79+K8*K$79+L8*L$79+M8*M$79+N8*N$79+O8*O$79+P8*P$79+Q8*Q$79+R8*R$79+S8*S$79+T8*T$79+U8*U$79+V8*V$79+W8*W$79+X8*X$79+Y8*Y$79+Z8*Z$79)/SUM(D$79:Z$79) -> 0.20672447
A9: CZE | B9: CZ | C9: 2019 | D9: 0.92 | E9: 0.77 | F9: 0.7 | G9: 0.93 | H9: 0.85 | I9: 0.8 | J9: 0.23 | K9: 0.5 | L9: 0.1 | M9: 0.69 | N9: 1 | O9: 1 | P9: 0.59 | Q9: 0.5 | R9: 0.58 | S9: 1 | T9: 1 | U9: 1 | V9: 0.02 | W9: 0.05 | X9: 0 | Y9: 0 | Z9: 0.64 | AD9: =(D9+E9+F9+G9+H9+I9+J9+K9+L9+M9+N9+O9+P9+Q9+R9+S9+T9+U9+V9+W9+X9+Y9+Z9)/23 -> 0.60304348 | AH9: =(D9*D$79+E9*E$79+F9*F$79+G9*G$79+H9*H$79+I9*I$79+J9*J$79+K9*K$79+L9*L$79+M9*M$79+N9*N$79+O9*O$79+P9*P$79+Q9*Q$79+R9*R$79+S9*S$79+T9*T$79+U9*U$79+V9*V$79+W9*W$79+X9*X$79+Y9*Y$79+Z9*Z$79)/SUM(D$79:Z$79) -> 0.36762042
A10: DNK | B10: DK | C10: 2019 | D10: 0.23 | E10: 0.47 | F10: 0.3 | G10: 0.07 | H10: 0.45 | I10: 0 | J10: 0.32 | K10: 0 | L10: 0 | M10: 0.61 | N10: 0.88 | S10: 0 | T10: 0 | U10: 0.73 | V10: 0.02 | W10: 0 | X10: 0 | Y10: 0 | Z10: 0 | AD10: =(D10+E10+F10+G10+H10+I10+J10+K10+L10+M10+N10+S10+T10+U10+V10+W10+X10+Y10+Z10)/19 -> 0.21473684 | AH10: =(D10*D$79+E10*E$79+F10*F$79+G10*G$79+H10*H$79+I10*I$79+J10*J$79+K10*K$79+L10*L$79+M10*M$79+N10*N$79+S10*S$79+T10*T$79+U10*U$79+V10*V$79+W10*W$79+X10*X$79+Y10*Y$79+Z10*Z$79)/SUM(D$79:N$79,S$79:Z$79) -> 0.21870662
A11: DEU | B11: DE | C11: 2019 | D11: 0.03 | E11: 0 | F11: 0.2 | G11: 0.02 | H11: 0.65 | I11: 0.5 | J11: 0.37 | K11: 0.5 | L11: 0.5 | M11: 0.17 | N11: 0.88 | O11: 1 | P11: 0.19 | Q11: 0.33 | R11: 1 | S11: 0.5 | T11: 0.33 | U11: 0.4 | V11: 0 | W11: 0 | X11: 0.83 | Y11: 0 | Z11: 0 | AD11: =(D11+E11+F11+G11+H11+I11+J11+K11+L11+M11+N11+O11+P11+Q11+R11+S11+T11+U11+V11+W11+X11+Y11+Z11)/23 -> 0.36521739 | AH11: =(D11*D$79+E11*E$79+F11*F$79+G11*G$79+H11*H$79+I11*I$79+J11*J$79+K11*K$79+L11*L$79+M11*M$79+N11*N$79+O11*O$79+P11*P$79+Q11*Q$79+R11*R$79+S11*S$79+T11*T$79+U11*U$79+V11*V$79+W11*W$79+X11*X$79+Y11*Y$79+Z11*Z$79)/SUM(D$79:Z$79) -> 0.41419075
A12: EST | B12: EE | C12: 2019 | D12: 1 | E12: 0.84 | F12: 0.4 | G12: 0.17 | H12: 0.6 | I12: 0.8 | J12: 0.76 | K12: 0.17 | L12: 0.5 | M12: 0.64 | N12: 0.12 | V12: 0.09 | W12: 0.18 | X12: 0.02 | Y12: 0.82 | Z12: 0.82 | AD12: =(D12+E12+F12+G12+H12+I12+J12+K12+L12+M12+N12+V12+W12+X12+Y12+Z12)/16 -> 0.495625 | AH12: =(D12*D$79+E12*E$79+F12*F$79+G12*G$79+H12*H$79+I12*I$79+J12*J$79+K12*K$79+L12*L$79+M12*M$79+N12*N$79+V12*V$79+W12*W$79+X12*X$79+Y12*Y$79+Z12*Z$79)/SUM(D$79:N$79,V$79:Z$79) -> 0.44470524
A13: IRL | B13: IE | C13: 2019 | D13: 0.67 | E13: 0.12 | F13: 0.1 | G13: 0 | H13: 0.45 | I13: 0.5 | J13: 0.41 | K13: 0 | L13: 1 | M13: 0.61 | N13: 0.24 | V13: 0.37 | W13: 0.11 | X13: 0.19 | Y13: 0.55 | Z13: 0.27 | AD13: =(D13+E13+F13+G13+H13+I13+J13+K13+L13+M13+N13+V13+W13+X13+Y13+Z13)/16 -> 0.349375 | AH13: =(D13*D$79+E13*E$79+F13*F$79+G13*G$79+H13*H$79+I13*I$79+J13*J$79+K13*K$79+L13*L$79+M13*M$79+N13*N$79+V13*V$79+W13*W$79+X13*X$79+Y13*Y$79+Z13*Z$79)/SUM(D$79:N$79,V$79:Z$79) -> 0.31509825
A14: GRC | B14: EL | C14: 2019 | D14: 1 | E14: 1 | F14: 0.4 | G14: 0.17 | H14: 0.55 | I14: 0 | J14: 0.02 | K14: 0 | L14: 0 | M14: 0 | N14: 0.12 | S14: 1 | T14: 0 | U14: 1 | V14: 0 | W14: 0 | X14: 0 | Y14: 0 | Z14: 0 | AD14: =(D14+E14+F14+G14+H14+I14+J14+K14+L14+M14+N14+S14+T14+U14+V14+W14+X14+Y14+Z14)/19 -> 0.27684211 | AH14: =(D14*D$79+E14*E$79+F14*F$79+G14*G$79+H14*H$79+I14*I$79+J14*J$79+K14*K$79+L14*L$79+M14*M$79+N14*N$79+S14*S$79+T14*T$79+U14*U$79+V14*V$79+W14*W$79+X14*X$79+Y14*Y$79+Z14*Z$79)/SUM(D$79:N$79,S$79:Z$79) -> 0.16348055
A15: ESP | B15: ES | C15: 2019 | D15: 1 | E15: 0.91 | F15: 0 | G15: 0.37 | H15: 0.28 | I15: 0 | J15: 0.96 | K15: 0 | L15: 0.5 | M15: 0.83 | N15: 0.88 | S15: 0.5 | T15: 0 | U15: 0.4 | V15: 0.15 | W15: 0.6 | X15: 0 | Y15: 0 | Z15: 0 | AD15: =(D15+E15+F15+G15+H15+I15+J15+K15+L15+M15+N15+S15+T15+U15+V15+W15+X15+Y15+Z15)/19 -> 0.38842105 | AH15: =(D15*D$79+E15*E$79+F15*F$79+G15*G$79+H15*H$79+I15*I$79+J15*J$79+K15*K$79+L15*L$79+M15*M$79+N15*N$79+S15*S$79+T15*T$79+U15*U$79+V15*V$79+W15*W$79+X15*X$79+Y15*Y$79+Z15*Z$79)/SUM(D$79:N$79,S$79:Z$79) -> 0.51049422
A16: FRA | B16: FR | C16: 2019 | D16: 0.92 | E16: 0.37 | F16: 0.1 | G16: 0.07 | H16: 0.5 | I16: 0.5 | J16: 0.84 | K16: 0.17 | L16: 1 | M16: 0.94 | N16: 1 | O16: 0.27 | P16: 0.78 | Q16: 0.17 | R16: 0.79 | S16: 0 | T16: 0 | U16: 0.2 | V16: 0.3 | W16: 0.11 | X16: 0.02 | Y16: 0.09 | Z16: 0.05 | AD16: =(D16+E16+F16+G16+H16+I16+J16+K16+L16+M16+N16+O16+P16+Q16+R16+S16+T16+U16+V16+W16+X16+Y16+Z16)/23 -> 0.39956522 | AH16: =(D16*D$79+E16*E$79+F16*F$79+G16*G$79+H16*H$79+I16*I$79+J16*J$79+K16*K$79+L16*L$79+M16*M$79+N16*N$79+O16*O$79+P16*P$79+Q16*Q$79+R16*R$79+S16*S$79+T16*T$79+U16*U$79+V16*V$79+W16*W$79+X16*X$79+Y16*Y$79+Z16*Z$79)/SUM(D$79:Z$79) -> 0.45901734
A17: HRV | B17: HR | C17: 2019 | D17: 0.54 | E17: 0.91 | F17: 0.9 | G17: 0.44 | H17: 0.8 | I17: 0.8 | J17: 0.78 | K17: 0.5 | L17: 0.5 | M17: 0.94 | N17: 0.88 | O17: 0.45 | P17: 0.73 | Q17: 0 | R17: 0.55 | S17: 0.5 | T17: 0 | U17: 0.4 | V17: 0.09 | W17: 0.11 | X17: 0 | Y17: 0.27 | Z17: 0.59 | AD17: =(D17+E17+F17+G17+H17+I17+J17+K17+L17+M17+N17+O17+P17+Q17+R17+S17+T17+U17+V17+W17+X17+Y17+Z17)/23 -> 0.50782609 | AH17: =(D17*D$79+E17*E$79+F17*F$79+G17*G$79+H17*H$79+I17*I$79+J17*J$79+K17*K$79+L17*L$79+M17*M$79+N17*N$79+O17*O$79+P17*P$79+Q17*Q$79+R17*R$79+S17*S$79+T17*T$79+U17*U$79+V17*V$79+W17*W$79+X17*X$79+Y17*Y$79+Z17*Z$79)/SUM(D$79:Z$79) -> 0.47845857
A18: ITA | B18: IT | C18: 2019 | D18: 0.41 | E18: 0 | F18: 0 | G18: 0.07 | H18: 0.5 | I18: 0 | J18: 0.59 | K18: 0 | L18: 0.1 | M18: 0.67 | N18: 0.88 | O18: 0.27 | P18: 0 | Q18: 0 | R18: 0.18 | S18: 1 | T18: 0 | U18: 0.13 | V18: 0.06 | W18: 0.03 | X18: 0 | Y18: 0.36 | Z18: 0.32 | AD18: =(D18+E18+F18+G18+H18+I18+J18+K18+L18+M18+N18+O18+P18+Q18+R18+S18+T18+U18+V18+W18+X18+Y18+Z18)/23 -> 0.24217391 | AH18: =(D18*D$79+E18*E$79+F18*F$79+G18*G$79+H18*H$79+I18*I$79+J18*J$79+K18*K$79+L18*L$79+M18*M$79+N18*N$79+O18*O$79+P18*P$79+Q18*Q$79+R18*R$79+S18*S$79+T18*T$79+U18*U$79+V18*V$79+W18*W$79+X18*X$79+Y18*Y$79+Z18*Z$79)/SUM(D$79:Z$79) -> 0.26900771
A19: CYP | B19: CY | C19: 2019 | I19: 0.7 | J19: 0.83 | K19: 0 | L19: 0 | M19: 0.5 | N19: 0.64 | V19: 0 | W19: 0 | X19: 0 | Y19: 0 | Z19: 0 | AD19: =(I19+J19+K19+L19+M19+N19+V19+W19+X19+Y19+Z19)/11 -> 0.24272727 | AH19: =(I19*I$79+J19*J$79+K19*K$79+L19*L$79+M19*M$79+N19*N$79+V19*V$79+W19*W$79+X19*X$79+Y19*Y$79+Z19*Z$79)/SUM(I$79:N$79,V$79:Z$79) -> 0.36238223
A20: LVA | B20: LV | C20: 2019 | D20: 0.77 | E20: 0.79 | F20: 1 | G20: 0.95 | H20: 0.85 | I20: 1 | J20: 0.99 | K20: 0.5 | L20: 0.5 | M20: 0.89 | N20: 1 | S20: 1 | T20: 1 | U20: 1 | V20: 0.43 | W20: 0 | X20: 0.72 | Y20: 0.36 | Z20: 0.36 | AD20: =(D20+E20+F20+G20+H20+I20+J20+K20+L20+M20+N20+S20+T20+U20+V20+W20+X20+Y20+Z20)/19 -> 0.74263158 | AH20: =(D20*D$79+E20*E$79+F20*F$79+G20*G$79+H20*H$79+I20*I$79+J20*J$79+K20*K$79+L20*L$79+M20*M$79+N20*N$79+S20*S$79+T20*T$79+U20*U$79+V20*V$79+W20*W$79+X20*X$79+Y20*Y$79+Z20*Z$79)/SUM(D$79:N$79,S$79:Z$79) -> 0.76679285
A21: LTU | B21: LT | C21: 2019 | D21: 1 | E21: 0.95 | F21: 0.8 | G21: 0.98 | H21: 0.75 | I21: 1 | J21: 0.75 | K21: 0.67 | L21: 0.7 | M21: 0.92 | N21: 0.92 | O21: 0.27 | P21: 0.73 | Q21: 1 | R21: 0.7 | S21: 1 | T21: 1 | U21: 1 | V21: 0.26 | W21: 0.12 | X21: 0.32 | Y21: 0.64 | Z21: 0.64 | AD21: =(D21+E21+F21+G21+H21+I21+J21+K21+L21+M21+N21+O21+P21+Q21+R21+S21+T21+U21+V21+W21+X21+Y21+Z21)/23 -> 0.74434783 | AH21: =(D21*D$79+E21*E$79+F21*F$79+G21*G$79+H21*H$79+I21*I$79+J21*J$79+K21*K$79+L21*L$79+M21*M$79+N21*N$79+O21*O$79+P21*P$79+Q21*Q$79+R21*R$79+S21*S$79+T21*T$79+U21*U$79+V21*V$79+W21*W$79+X21*X$79+Y21*Y$79+Z21*Z$79)/SUM(D$79:Z$79) -> 0.62788054
A22: LUX | B22: LU | C22: 2019 | D22: 0.41 | E22: 0.28 | F22: 0 | G22: 0 | H22: 0.15 | I22: 0.4 | J22: 0.25 | K22: 0 | L22: 0 | M22: 0 | N22: 0 | O22: 0 | P22: 0 | Q22: 0 | R22: 0 | V22: 0 | W22: 0 | X22: 0 | Y22: 0 | Z22: 0 | AD22: =(D22+E22+F22+G22+H22+I22+J22+K22+L22+M22+N22+V22+W22+X22+Y22+Z22)/16 -> 0.093125 | AH22: =(D22*D$79+E22*E$79+F22*F$79+G22*G$79+H22*H$79+I22*I$79+J22*J$79+K22*K$79+L22*L$79+M22*M$79+N22*N$79+O22*O$79+P22*P$79+Q22*Q$79+R22*R$79+V22*V$79+W22*W$79+X22*X$79+Y22*Y$79+Z22*Z$79)/SUM(D$79:R$79,V$79:Z$79) -> 0.10646062
A23: HUN | B23: HU | C23: 2019 | D23: 0.92 | E23: 0.65 | F23: 0.7 | G23: 0.93 | H23: 0.7 | I23: 1 | J23: 0.88 | K23: 0.5 | L23: 0.5 | M23: 0.89 | N23: 1 | O23: 1 | P23: 0.41 | Q23: 0.5 | R23: 0.7 | S23: 0.5 | T23: 0 | U23: 1 | V23: 0.2 | W23: 0.77 | X23: 0 | Y23: 0.27 | Z23: 0.82 | AD23: =(D23+E23+F23+G23+H23+I23+J23+K23+L23+M23+N23+O23+P23+Q23+R23+S23+T23+U23+V23+W23+X23+Y23+Z23)/23 -> 0.64521739 | AH23: =(D23*D$79+E23*E$79+F23*F$79+G23*G$79+H23*H$79+I23*I$79+J23*J$79+K23*K$79+L23*L$79+M23*M$79+N23*N$79+O23*O$79+P23*P$79+Q23*Q$79+R23*R$79+S23*S$79+T23*T$79+U23*U$79+V23*V$79+W23*W$79+X23*X$79+Y23*Y$79+Z23*Z$79)/SUM(D$79:Z$79) -> 0.59646435
A24: MLT | B24: MT | C24: 2019 | I24: 0.2 | J24: 0.91 | K24: 0.5 | L24: 0.5 | M24: 0 | N24: 0.64 | V24: 0.46 | W24: 0 | X24: 0.97 | Y24: 0.36 | Z24: 0.14 | AD24: =(I24+J24+K24+L24+M24+N24+V24+W24+X24+Y24+Z24)/11 -> 0.42545455 | AH24: =(I24*I$79+J24*J$79+K24*K$79+L24*L$79+M24*M$79+N24*N$79+V24*V$79+W24*W$79+X24*X$79+Y24*Y$79+Z24*Z$79)/SUM(I$79:N$79,V$79:Z$79) -> 0.71367429
A25: NLD | B25: NL | C25: 2019 | D25: 0 | E25: 0 | F25: 0 | G25: 0.07 | H25: 0.7 | I25: 0.6 | J25: 0.74 | K25: 0 | L25: 0.5 | M25: 0.89 | N25: 0.24 | O25: 0 | P25: 0.46 | Q25: 0 | R25: 0.85 | S25: 0 | T25: 0 | U25: 0.2 | V25: 0.67 | W25: 0.15 | X25: 0.2 | Y25: 0.36 | Z25: 0 | AD25: =(D25+E25+F25+G25+H25+I25+J25+K25+L25+M25+N25+O25+P25+Q25+R25+S25+T25+U25+V25+W25+X25+Y25+Z25)/23 -> 0.28826087 | AH25: =(D25*D$79+E25*E$79+F25*F$79+G25*G$79+H25*H$79+I25*I$79+J25*J$79+K25*K$79+L25*L$79+M25*M$79+N25*N$79+O25*O$79+P25*P$79+Q25*Q$79+R25*R$79+S25*S$79+T25*T$79+U25*U$79+V25*V$79+W25*W$79+X25*X$79+Y25*Y$79+Z25*Z$79)/SUM(D$79:Z$79) -> 0.41442197
A26: AUT | B26: AT | C26: 2019 | D26: 0.56 | E26: 0.44 | F26: 0 | G26: 0.85 | H26: 0.35 | I26: 0.6 | J26: 0 | K26: 0.5 | L26: 0 | M26: 0.58 | N26: 1 | O26: 0.09 | P26: 0 | Q26: 0.5 | R26: 0.79 | S26: 0.5 | T26: 1 | U26: 0.1 | V26: 0 | W26: 0 | X26: 0 | Y26: 0 | Z26: 0 | AD26: =(D26+E26+F26+G26+H26+I26+J26+K26+L26+M26+N26+O26+P26+Q26+R26+S26+T26+U26+V26+W26+X26+Y26+Z26)/23 -> 0.34173913 | AH26: =(D26*D$79+E26*E$79+F26*F$79+G26*G$79+H26*H$79+I26*I$79+J26*J$79+K26*K$79+L26*L$79+M26*M$79+N26*N$79+O26*O$79+P26*P$79+Q26*Q$79+R26*R$79+S26*S$79+T26*T$79+U26*U$79+V26*V$79+W26*W$79+X26*X$79+Y26*Y$79+Z26*Z$79)/SUM(D$79:Z$79) -> 0.17490366
A27: POL | B27: PL | C27: 2019 | D27: 0.74 | E27: 0.72 | F27: 0.9 | G27: 0.83 | H27: 0.9 | I27: 0.9 | J27: 0.88 | K27: 0 | L27: 0 | M27: 0.83 | N27: 0.88 | O27: 0.64 | P27: 0.65 | Q27: 0 | R27: 0.79 | S27: 1 | T27: 0 | U27: 0.73 | V27: 0 | W27: 0 | X27: 0 | Y27: 0.91 | Z27: 0.86 | AD27: =(D27+E27+F27+G27+H27+I27+J27+K27+L27+M27+N27+O27+P27+Q27+R27+S27+T27+U27+V27+W27+X27+Y27+Z27)/23 -> 0.57217391 | AH27: =(D27*D$79+E27*E$79+F27*F$79+G27*G$79+H27*H$79+I27*I$79+J27*J$79+K27*K$79+L27*L$79+M27*M$79+N27*N$79+O27*O$79+P27*P$79+Q27*Q$79+R27*R$79+S27*S$79+T27*T$79+U27*U$79+V27*V$79+W27*W$79+X27*X$79+Y27*Y$79+Z27*Z$79)/SUM(D$79:Z$79) -> 0.53152216
A28: PRT | B28: PT | C28: 2019 | D28: 0.72 | E28: 0.56 | F28: 0.8 | G28: 0.51 | H28: 0.75 | I28: 0.3 | J28: 0.72 | K28: 0 | L28: 0.2 | M28: 0.86 | N28: 0.72 | S28: 1 | T28: 1 | U28: 1 | V28: 0.15 | W28: 0 | X28: 0.18 | Y28: 0.64 | Z28: 0.64 | AD28: =(D28+E28+F28+G28+H28+I28+J28+K28+L28+M28+N28+O28+P28+Q28+R28+S28+T28+U28+V28+W28+X28+Y28+Z28)/23 -> 0.4673913 | AH28: =(D28*D$79+E28*E$79+F28*F$79+G28*G$79+H28*H$79+I28*I$79+J28*J$79+K28*K$79+L28*L$79+M28*M$79+N28*N$79+O28*O$79+P28*P$79+Q28*Q$79+R28*R$79+S28*S$79+T28*T$79+U28*U$79+V28*V$79+W28*W$79+X28*X$79+Y28*Y$79+Z28*Z$79)/SUM(D$79:Z$79) -> 0.45131985
A29: ROU | B29: RO | C29: 2019 | D29: 0.62 | E29: 0.77 | F29: 0 | G29: 0.1 | H29: 0.75 | I29: 0.6 | J29: 0.6 | K29: 0 | L29: 0.5 | M29: 0.67 | N29: 0.88 | O29: 0.27 | P29: 0.95 | Q29: 0 | R29: 0.79 | S29: 0.5 | T29: 0 | U29: 0.27 | V29: 0.15 | W29: 0.12 | X29: 0 | Y29: 0 | Z29: 0.82 | AD29: =(D29+E29+F29+G29+H29+I29+J29+K29+L29+M29+N29+O29+P29+Q29+R29+S29+T29+U29+V29+W29+X29+Y29+Z29)/23 -> 0.40695652 | AH29: =(D29*D$79+E29*E$79+F29*F$79+G29*G$79+H29*H$79+I29*I$79+J29*J$79+K29*K$79+L29*L$79+M29*M$79+N29*N$79+O29*O$79+P29*P$79+Q29*Q$79+R29*R$79+S29*S$79+T29*T$79+U29*U$79+V29*V$79+W29*W$79+X29*X$79+Y29*Y$79+Z29*Z$79)/SUM(D$79:Z$79) -> 0.40533719
A30: SVN | B30: SI | C30: 2019 | D30: 0.72 | E30: 0.91 | F30: 1 | G30: 0.9 | H30: 0.8 | I30: 0.9 | J30: 0.38 | K30: 0 | L30: 0 | M30: 0 | N30: 1 | V30: 0 | W30: 0 | X30: 0 | Y30: 0 | Z30: 0.27 | AD30: =(D30+E30+F30+G30+H30+I30+J30+K30+L30+M30+N30+V30+W30+X30+Y30+Z30)/16 -> 0.43 | AH30: =(D30*D$79+E30*E$79+F30*F$79+G30*G$79+H30*H$79+I30*I$79+J30*J$79+K30*K$79+L30*L$79+M30*M$79+N30*N$79+V30*V$79+W30*W$79+X30*X$79+Y30*Y$79+Z30*Z$79)/SUM(D$79:N$79,V$79:Z$79) -> 0.31719432
A31: SVK | B31: SK | C31: 2019 | D31: 0.9 | E31: 0.72 | F31: 0.6 | G31: 0.56 | H31: 0.6 | I31: 0.6 | J31: 0.07 | K31: 0.5 | L31: 0.3 | M31: 0.64 | N31: 0.6 | O31: 0.27 | P31: 1 | Q31: 0.5 | R31: 0.67 | S31: 0.5 | T31: 0 | U31: 0.03 | V31: 0 | W31: 0 | X31: 0 | Y31: 0 | Z31: 0 | AD31: =(D31+E31+F31+G31+H31+I31+J31+K31+L31+M31+N31+O31+P31+Q31+R31+S31+T31+U31+V31+W31+X31+Y31+Z31)/23 -> 0.39391304 | AH31: =(D31*D$79+E31*E$79+F31*F$79+G31*G$79+H31*H$79+I31*I$79+J31*J$79+K31*K$79+L31*L$79+M31*M$79+N31*N$79+O31*O$79+P31*P$79+Q31*Q$79+R31*R$79+S31*S$79+T31*T$79+U31*U$79+V31*V$79+W31*W$79+X31*X$79+Y31*Y$79+Z31*Z$79)/SUM(D$79:Z$79) -> 0.24594412
A32: FIN | B32: FI | C32: 2019 | D32: 1 | E32: 0 | F32: 1 | G32: 0.73 | H32: 0.45 | I32: 0.9 | J32: 0.97 | K32: 0.5 | L32: 0.5 | M32: 0.94 | N32: 1 | O32: 0.27 | P32: 1 | Q32: 0 | R32: 0.18 | V32: 0.24 | W32: 0.31 | X32: 0.05 | Y32: 0 | Z32: 0 | AD32: =(D32+E32+F32+G32+H32+I32+J32+K32+L32+M32+N32+O32+P32+Q32+R32+V32+W32+X32+Y32+Z32)/20 -> 0.502 | AH32: =(D32*D$79+E32*E$79+F32*F$79+G32*G$79+H32*H$79+I32*I$79+J32*J$79+K32*K$79+L32*L$79+M32*M$79+N32*N$79+O32*O$79+P32*P$79+Q32*Q$79+R32*R$79+V32*V$79+W32*W$79+X32*X$79+Y32*Y$79+Z32*Z$79)/SUM(D$79:R$79,V$79:Z$79) -> 0.52840479
A33: SWE | B33: SE | C33: 2019 | D33: 0.72 | E33: 0.56 | F33: 0.7 | G33: 0.46 | H33: 0.6 | I33: 1 | J33: 0.96 | K33: 0.17 | L33: 0.5 | M33: 0.78 | N33: 1 | O33: 0 | P33: 0 | Q33: 0 | V33: 0.09 | W33: 0 | X33: 0.68 | Y33: 0.09 | Z33: 0.09 | AD33: =(D33+E33+F33+G33+H33+I33+J33+K33+L33+M33+N33+O33+P33+Q33+R33+V33+W33+X33+Y33+Z33)/20 -> 0.42 | AH33: =(D33*D$79+E33*E$79+F33*F$79+G33*G$79+H33*H$79+I33*I$79+J33*J$79+K33*K$79+L33*L$79+M33*M$79+N33*N$79+O33*O$79+P33*P$79+Q33*Q$79+R33*R$79+V33*V$79+W33*W$79+X33*X$79+Y33*Y$79+Z33*Z$79)/SUM(D$79:R$79,V$79:Z$79) -> 0.59687936
B36: 2019 | D36: =(IF(D7="",0,D7)+IF(D8="",0,D8)+IF(D9="",0,D9)+IF(D10="",0,D10)+IF(D11="",0,D11)+IF(D12="",0,D12)+IF(D13="",0,D13)+IF(D14="",0,D14)+IF(D15="",0,D15)+IF(D16="",0,D16)+IF(D17="",0,D17)+IF(D18="",0,D18)+IF(D19="",0,D19)+IF(D20="",0,D20)+IF(D21="",0,D21)+IF(D22="",0,D22)+IF(D23="",0,D23)+IF(D24="",0,D24)+IF(D25="",0,D25)+IF(D26="",0,D26)+IF(D27="",0,D27)+IF(D28="",0,D28)+IF(D29="",0,D29)+IF(D30="",0,D30)+IF(D31="",0,D31)+IF(D32="",0,D32)+IF(D33="",0,D33))/SUMPRODUCT((D7:D33<>"")*1) -> 0.6588 | E36: =(IF(E7="",0,E7)+IF(E8="",0,E8)+IF(E9="",0,E9)+IF(E10="",0,E10)+IF(E11="",0,E11)+IF(E12="",0,E12)+IF(E13="",0,E13)+IF(E14="",0,E14)+IF(E15="",0,E15)+IF(E16="",0,E16)+IF(E17="",0,E17)+IF(E18="",0,E18)+IF(E19="",0,E19)+IF(E20="",0,E20)+IF(E21="",0,E21)+IF(E22="",0,E22)+IF(E23="",0,E23)+IF(E24="",0,E24)+IF(E25="",0,E25)+IF(E26="",0,E26)+IF(E27="",0,E27)+IF(E28="",0,E28)+IF(E29="",0,E29)+IF(E30="",0,E30)+IF(E31="",0,E31)+IF(E32="",0,E32)+IF(E33="",0,E33))/SUMPRODUCT((E7:E33<>"")*1) -> 0.5096 | F36: =(IF(F7="",0,F7)+IF(F8="",0,F8)+IF(F9="",0,F9)+IF(F10="",0,F10)+IF(F11="",0,F11)+IF(F12="",0,F12)+IF(F13="",0,F13)+IF(F14="",0,F14)+IF(F15="",0,F15)+IF(F16="",0,F16)+IF(F17="",0,F17)+IF(F18="",0,F18)+IF(F19="",0,F19)+IF(F20="",0,F20)+IF(F21="",0,F21)+IF(F22="",0,F22)+IF(F23="",0,F23)+IF(F24="",0,F24)+IF(F25="",0,F25)+IF(F26="",0,F26)+IF(F27="",0,F27)+IF(F28="",0,F28)+IF(F29="",0,F29)+IF(F30="",0,F30)+IF(F31="",0,F31)+IF(F32="",0,F32)+IF(F33="",0,F33))/SUMPRODUCT((F7:F33<>"")*1) -> 0.424 | G36: =(IF(G7="",0,G7)+IF(G8="",0,G8)+IF(G9="",0,G9)+IF(G10="",0,G10)+IF(G11="",0,G11)+IF(G12="",0,G12)+IF(G13="",0,G13)+IF(G14="",0,G14)+IF(G15="",0,G15)+IF(G16="",0,G16)+IF(G17="",0,G17)+IF(G18="",0,G18)+IF(G19="",0,G19)+IF(G20="",0,G20)+IF(G21="",0,G21)+IF(G22="",0,G22)+IF(G23="",0,G23)+IF(G24="",0,G24)+IF(G25="",0,G25)+IF(G26="",0,G26)+IF(G27="",0,G27)+IF(G28="",0,G28)+IF(G29="",0,G29)+IF(G30="",0,G30)+IF(G31="",0,G31)+IF(G32="",0,G32)+IF(G33="",0,G33))/SUMPRODUCT((G7:G33<>"")*1) -> 0.4072 | H36: =(IF(H7="",0,H7)+IF(H8="",0,H8)+IF(H9="",0,H9)+IF(H10="",0,H10)+IF(H11="",0,H11)+IF(H12="",0,H12)+IF(H13="",0,H13)+IF(H14="",0,H14)+IF(H15="",0,H15)+IF(H16="",0,H16)+IF(H17="",0,H17)+IF(H18="",0,H18)+IF(H19="",0,H19)+IF(H20="",0,H20)+IF(H21="",0,H21)+IF(H22="",0,H22)+IF(H23="",0,H23)+IF(H24="",0,H24)+IF(H25="",0,H25)+IF(H26="",0,H26)+IF(H27="",0,H27)+IF(H28="",0,H28)+IF(H29="",0,H29)+IF(H30="",0,H30)+IF(H31="",0,H31)+IF(H32="",0,H32)+IF(H33="",0,H33))/SUMPRODUCT((H7:H33<>"")*1) -> 0.5772 | I36: =(IF(I7="",0,I7)+IF(I8="",0,I8)+IF(I9="",0,I9)+IF(I10="",0,I10)+IF(I11="",0,I11)+IF(I12="",0,I12)+IF(I13="",0,I13)+IF(I14="",0,I14)+IF(I15="",0,I15)+IF(I16="",0,I16)+IF(I17="",0,I17)+IF(I18="",0,I18)+IF(I19="",0,I19)+IF(I20="",0,I20)+IF(I21="",0,I21)+IF(I22="",0,I22)+IF(I23="",0,I23)+IF(I24="",0,I24)+IF(I25="",0,I25)+IF(I26="",0,I26)+IF(I27="",0,I27)+IF(I28="",0,I28)+IF(I29="",0,I29)+IF(I30="",0,I30)+IF(I31="",0,I31)+IF(I32="",0,I32)+IF(I33="",0,I33))/SUMPRODUCT((I7:I33<>"")*1) -> 0.57037037 | J36: =(IF(J7="",0,J7)+IF(J8="",0,J8)+IF(J9="",0,J9)+IF(J10="",0,J10)+IF(J11="",0,J11)+IF(J12="",0,J12)+IF(J13="",0,J13)+IF(J14="",0,J14)+IF(J15="",0,J15)+IF(J16="",0,J16)+IF(J17="",0,J17)+IF(J18="",0,J18)+IF(J19="",0,J19)+IF(J20="",0,J20)+IF(J21="",0,J21)+IF(J22="",0,J22)+IF(J23="",0,J23)+IF(J24="",0,J24)+IF(J25="",0,J25)+IF(J26="",0,J26)+IF(J27="",0,J27)+IF(J28="",0,J28)+IF(J29="",0,J29)+IF(J30="",0,J30)+IF(J31="",0,J31)+IF(J32="",0,J32)+IF(J33="",0,J33))/SUMPRODUCT((J7:J33<>"")*1) -> 0.58111111 | K36: =(IF(K7="",0,K7)+IF(K8="",0,K8)+IF(K9="",0,K9)+IF(K10="",0,K10)+IF(K11="",0,K11)+IF(K12="",0,K12)+IF(K13="",0,K13)+IF(K14="",0,K14)+IF(K15="",0,K15)+IF(K16="",0,K16)+IF(K17="",0,K17)+IF(K18="",0,K18)+IF(K19="",0,K19)+IF(K20="",0,K20)+IF(K21="",0,K21)+IF(K22="",0,K22)+IF(K23="",0,K23)+IF(K24="",0,K24)+IF(K25="",0,K25)+IF(K26="",0,K26)+IF(K27="",0,K27)+IF(K28="",0,K28)+IF(K29="",0,K29)+IF(K30="",0,K30)+IF(K31="",0,K31)+IF(K32="",0,K32)+IF(K33="",0,K33))/SUMPRODUCT((K7:K33<>"")*1) -> 0.21037037 | ... Z36: =(IF(Z7="",0,Z7)+IF(Z8="",0,Z8)+IF(Z9="",0,Z9)+IF(Z10="",0,Z10)+IF(Z11="",0,Z11)+IF(Z12="",0,Z12)+IF(Z13="",0,Z13)+IF(Z14="",0,Z14)+IF(Z15="",0,Z15)+IF(Z16="",0,Z16)+IF(Z17="",0,Z17)+IF(Z18="",0,Z18)+IF(Z19="",0,Z19)+IF(Z20="",0,Z20)+IF(Z21="",0,Z21)+IF(Z22="",0,Z22)+IF(Z23="",0,Z23)+IF(Z24="",0,Z24)+IF(Z25="",0,Z25)+IF(Z26="",0,Z26)+IF(Z27="",0,Z27)+IF(Z28="",0,Z28)+IF(Z29="",0,Z29)+IF(Z30="",0,Z30)+IF(Z31="",0,Z31)+IF(Z32="",0,Z32)+IF(Z33="",0,Z33))/SUMPRODUCT((Z7:Z33<>"")*1) -> 0.29
B39: EFTA | AD39: =AVERAGE(AD40:AD43) -> 0.26981017 | AH39: =AVERAGE(AH40:AH43) -> 0.37144817
A40: ISL | B40: IS | C40: 2019 | I40: 0 | J40: 0 | K40: 0 | L40: 0 | M40: 0 | N40: 0 | V40: 0 | W40: 0 | X40: 0 | Y40: 0 | Z40: 0 | AD40: =(I40+J40+K40+L40+M40+N40+V40+W40+X40+Y40+Z40)/11 -> 0 | AH40: =(I40*I$79+J40*J$79+K40*K$79+L40*L$79+M40*M$79+N40*N$79+V40*V$79+W40*W$79+X40*X$79+Y40*Y$79+Z40*Z$79)/SUM(I$79:N$79,V$79:Z$79) -> 0
A41: LIE | B41: LI | C41: 2019 | I41: 0.9 | J41: 0.94 | K41: 0 | L41: 0 | M41: 0 | N41: 0.44 | V41: 0 | W41: 0 | X41: 0 | Y41: 0 | Z41: 0 | AD41: =(I41+J41+K41+L41+M41+N41+V41+W41+X41+Y41+Z41)/11 -> 0.20727273 | AH41: =(I41*I$79+J41*J$79+K41*K$79+L41*L$79+M41*M$79+N41*N$79+V41*V$79+W41*W$79+X41*X$79+Y41*Y$79+Z41*Z$79)/SUM(I$79:N$79,V$79:Z$79) -> 0.37483176
A42: NOR | B42: NO | C42: 2019 | D42: 1 | E42: 0 | F42: 0.7 | G42: 0.17 | H42: 0.6 | I42: 0.8 | J42: 0.99 | K42: 0 | L42: 1 | M42: 0.83 | N42: 0 | S42: 1 | T42: 1 | U42: 0 | V42: 0.93 | W42: 0.92 | X42: 0.76 | Y42: 0.36 | Z42: 0.27 | AD42: =(D42+E42+F42+G42+H42+I42+J42+K42+L42+M42+N42+S42+T42+U42+V42+W42+X42+Y42+Z42)/19 -> 0.59631579 | AH42: =(D42*D$79+E42*E$79+F42*F$79+G42*G$79+H42*H$79+I42*I$79+J42*J$79+K42*K$79+L42*L$79+M42*M$79+N42*N$79+S42*S$79+T42*T$79+U42*U$79+V42*V$79+W42*W$79+X42*X$79+Y42*Y$79+Z42*Z$79)/SUM(D$79:N$79,S$79:Z$79) -> 0.73192429
A43: CHE | B43: CH | C43: 2019 | D43: 0 | E43: 0 | F43: 0.4 | G43: 0.07 | H43: 0.6 | I43: 0.2 | J43: 0.95 | K43: 0 | L43: 0.7 | M43: 0.86 | N43: 1 | O43: 0 | P43: 0.14 | Q43: 0 | R43: 0.15 | S43: 0.5 | T43: 0 | U43: 0.4 | V43: 0.19 | W43: 0 | X43: 0 | Y43: 0.09 | Z43: 0.09 | AD43: =(D43+E43+F43+G43+H43+I43+J43+K43+L43+M43+N43+O43+P43+Q43+R43+S43+T43+U43+V43+W43+X43+Y43+Z43)/23 -> 0.27565217 | AH43: =(D43*D$79+E43*E$79+F43*F$79+G43*G$79+H43*H$79+I43*I$79+J43*J$79+K43*K$79+L43*L$79+M43*M$79+N43*N$79+O43*O$79+P43*P$79+Q43*Q$79+R43*R$79+S43*S$79+T43*T$79+U43*U$79+V43*V$79+W43*W$79+X43*X$79+Y43*Y$79+Z43*Z$79)/SUM(D$79:Z$79) -> 0.37903661
A45: candidates | AD45: =AVERAGE(AD46:AD56) -> 0.25111224 | AH45: =AVERAGE(AH46:AH56) -> 0.2267397
A46: BIH | B46: BA | C46: 2019 | D46: 0.46 | E46: 0.79 | F46: 0.2 | G46: 0.34 | H46: 0.57 | I46: 0.5 | J46: 0.59 | K46: 0 | L46: 0 | M46: 0 | N46: 0.12 | O46: 0 | P46: 0 | Q46: 0 | R46: 0 | S46: 0 | T46: 0 | U46: 0 | V46: 0 | W46: 0 | X46: 0 | Y46: 0 | Z46: 0 | AD46: =(D46+E46+F46+G46+H46+I46+J46+K46+L46+M46+N46+O46+P46+Q46+R46+S46+T46+U46+V46+W46+X46+Y46+Z46)/23 -> 0.15521739 | AH46: =(D46*D$79+E46*E$79+F46*F$79+G46*G$79+H46*H$79+I46*I$79+J46*J$79+K46*K$79+L46*L$79+M46*M$79+N46*N$79+O46*O$79+P46*P$79+Q46*Q$79+R46*R$79+S46*S$79+T46*T$79+U46*U$79+V46*V$79+W46*W$79+X46*X$79+Y46*Y$79+Z46*Z$79)/SUM(D$79:Z$79) -> 0.25134875
A47: MNE | B47: ME | C47: 2019 | D47: 0.44 | E47: 0.65 | F47: 0.4 | G47: 0.12 | H47: 0.6 | I47: 0.6 | J47: 0.6 | K47: 0.17 | L47: 0 | M47: 0.89 | N47: 0.68 | O47: 0 | P47: 0 | Q47: 0 | R47: 0 | S47: 0 | T47: 0 | U47: 0 | V47: 0 | W47: 0 | X47: 0 | Y47: 0 | Z47: 0 | AD47: =(D47+E47+F47+G47+H47+I47+J47+K47+L47+M47+N47+V47+W47+X47+Y47+Z47)/16 -> 0.321875 | AH47: =(D47*D$79+E47*E$79+F47*F$79+G47*G$79+H47*H$79+I47*I$79+J47*J$79+K47*K$79+L47*L$79+M47*M$79+N47*N$79+V47*V$79+W47*W$79+X47*X$79+Y47*Y$79+Z47*Z$79)/SUM(D$79:N$79,V$79:Z$79) -> 0.32651747
A48: MDA | B48: MD | C48: 2019 | D48: 0.36 | E48: 0.53 | F48: 0.2 | G48: 0.15 | H48: 0.38 | I48: 0.4 | J48: 0.3 | K48: 0 | L48: 0 | M48: 0.47 | N48: 0.12 | O48: 0.18 | P48: 0.19 | Q48: 0 | R48: 0.3 | V48: 0 | W48: 0 | X48: 0 | Y48: 0 | Z48: 0 | AD48: =(D48+E48+F48+G48+H48+I48+J48+K48+L48+M48+N48+O48+P48+Q48+R48+V48+W48+X48+Y48+Z48)/20 -> 0.179 | AH48: =(D48*D$79+E48*E$79+F48*F$79+G48*G$79+H48*H$79+I48*I$79+J48*J$79+K48*K$79+L48*L$79+M48*M$79+N48*N$79+O48*O$79+P48*P$79+Q48*Q$79+R48*R$79+V48*V$79+W48*W$79+X48*X$79+Y48*Y$79+Z48*Z$79)/SUM(D$79:R$79,V$79:Z$79) -> 0.18495513
A49: MKD | B49: MK | C49: 2019 | D49: 0.44 | E49: 0.79 | F49: 0.3 | G49: 0.66 | H49: 0.5 | I49: 0.8 | J49: 0.21 | K49: 0.17 | L49: 0.8 | M49: 0.69 | N49: 0.88 | S49: 0.5 | T49: 0 | U49: 0 | V49: 0.11 | W49: 0.05 | X49: 0 | Y49: 0.73 | Z49: 0.73 | AD49: =(D49+E49+F49+G49+H49+I49+J49+K49+L49+M49+N49+S49+T49+U49+V49+W49+X49+Y49+Z49)/19 -> 0.44 | AH49: =(D49*D$79+E49*E$79+F49*F$79+G49*G$79+H49*H$79+I49*I$79+J49*J$79+K49*K$79+L49*L$79+M49*M$79+N49*N$79+S49*S$79+T49*T$79+U49*U$79+V49*V$79+W49*W$79+X49*X$79+Y49*Y$79+Z49*Z$79)/SUM(D$79:N$79,S$79:Z$79) -> 0.27032597
A50: GEO | B50: GE | C50: 2019 | D50: 0 | E50: 0 | F50: 0 | G50: 0 | H50: 0 | I50: 0 | J50: 0 | K50: 0 | L50: 0 | M50: 0 | N50: 0 | S50: 0 | T50: 0 | U50: 0 | V50: 0 | W50: 0 | X50: 0 | Y50: 0 | Z50: 0 | AD50: =(D50+E50+F50+G50+H50+I50+J50+K50+L50+M50+N50+O50+P50+Q50+R50+S50+T50+U50+V50+W50+X50+Y50+Z50)/23 -> 0 | AH50: =(D50*D$79+E50*E$79+F50*F$79+G50*G$79+H50*H$79+I50*I$79+J50*J$79+K50*K$79+L50*L$79+M50*M$79+N50*N$79+O50*O$79+P50*P$79+Q50*Q$79+R50*R$79+S50*S$79+T50*T$79+U50*U$79+V50*V$79+W50*W$79+X50*X$79+Y50*Y$79+Z50*Z$79)/SUM(D$79:Z$79) -> 0
A51: ALB | B51: AL | C51: 2019 | D51: 0.33 | E51: 0.44 | F51: 0.5 | G51: 0.32 | H51: 0.5 | I51: 0.2 | J51: 0.1 | K51: 0.5 | L51: 0 | M51: 0 | N51: 0.6 | V51: 0 | W51: 0 | X51: 0 | Y51: 0 | Z51: 0 | AD51: =(D51+E51+F51+G51+H51+I51+J51+K51+L51+M51+N51+V51+W51+X51+Y51+Z51)/16 -> 0.218125 | AH51: =(I51*I$79+J51*J$79+K51*K$79+L51*L$79+M51*M$79+N51*N$79+V51*V$79+W51*W$79+X51*X$79+Y51*Y$79+Z51*Z$79)/SUM(I$79:N$79,V$79:Z$79) -> 0.063930013
A52: SRB | B52: RS | C52: 2019 | D52: 1 | E52: 1 | F52: 1 | G52: 1 | H52: 1 | I52: 0 | J52: 0 | K52: 0 | L52: 0 | M52: 0 | N52: 0 | O52: 0 | P52: 0 | Q52: 0 | R52: 0 | S52: 0 | T52: 0 | U52: 0 | V52: 0 | W52: 0 | X52: 0 | Y52: 0 | Z52: 0 | AD52: =(D52+E52+F52+G52+H52+I52+J52+K52+L52+M52+N52+O52+P52+Q52+R52+S52+T52+U52+V52+W52+X52+Y52+Z52)/23 -> 0.2173913 | AH52: =(D52*D$79+E52*E$79+F52*F$79+G52*G$79+H52*H$79+I52*I$79+J52*J$79+K52*K$79+L52*L$79+M52*M$79+N52*N$79+O52*O$79+P52*P$79+Q52*Q$79+R52*R$79+S52*S$79+T52*T$79+U52*U$79+V52*V$79+W52*W$79+X52*X$79+Y52*Y$79+Z52*Z$79)/SUM(D$79:Z$79) -> 0.16666667
A53: TUR | B53: TR | C53: 2019 | D53: 1 | E53: 1 | F53: 0.4 | G53: 1 | H53: 0.15 | I53: 0.7 | J53: 0.87 | K53: 0 | L53: 0.5 | M53: 0.08 | N53: 0.6 | S53: 0 | T53: 0 | U53: 0 | V53: 0 | W53: 0 | X53: 0 | Y53: 0 | Z53: 0 | AD53: =(D53+E53+F53+G53+H53+I53+J53+K53+L53+M53+N53+S53+T53+U53+V53+W53+X53+Y53+Z53)/19 -> 0.33157895 | AH53: =(D53*D$79+E53*E$79+F53*F$79+G53*G$79+H53*H$79+I53*I$79+J53*J$79+K53*K$79+L53*L$79+M53*M$79+N53*N$79+S53*S$79+T53*T$79+U53*U$79+V53*V$79+W53*W$79+X53*X$79+Y53*Y$79+Z53*Z$79)/SUM(D$79:N$79,S$79:Z$79) -> 0.42284963
A54: UKR | B54: UA | C54: 2019 | D54: 0.38 | E54: 0.3 | F54: 0 | G54: 0.12 | H54: 0.4 | I54: 0.8 | J54: 0 | K54: 0 | L54: 0.3 | M54: 0.47 | N54: 0 | O54: 0.27 | P54: 0.03 | Q54: 0 | R54: 0.12 | S54: 0.5 | T54: 0 | U54: 0.27 | V54: 0.11 | W54: 0 | X54: 0 | Y54: 0.18 | Z54: 0.82 | AD54: =(D54+E54+F54+G54+H54+I54+J54+K54+L54+M54+N54+O54+P54+Q54+R54+S54+T54+U54+V54+W54+X54+Y54+Z54)/23 -> 0.22043478 | AH54: =(D54*D$79+E54*E$79+F54*F$79+G54*G$79+H54*H$79+I54*I$79+J54*J$79+K54*K$79+L54*L$79+M54*M$79+N54*N$79+O54*O$79+P54*P$79+Q54*Q$79+R54*R$79+S54*S$79+T54*T$79+U54*U$79+V54*V$79+W54*W$79+X54*X$79+Y54*Y$79+Z54*Z$79)/SUM(D$79:Z$79) -> 0.11527938
A56: XKX | B56: XK | C56: 2019 | D56: 0.59 | E56: 0.86 | F56: 0.8 | G56: 0.98 | H56: 0.7 | I56: 0.7 | J56: 0.95 | K56: 0.5 | L56: 0 | M56: 0 | N56: 0.76 | O56: 0 | P56: 0 | Q56: 0 | R56: 0 | S56: 0 | T56: 0 | U56: 0 | V56: 0 | W56: 0 | X56: 0 | Y56: 0 | Z56: 0 | AD56: =(D56+E56+F56+G56+H56+I56+J56+K56+L56+M56+N56+V56+W56+X56+Y56+Z56)/16 -> 0.4275 | AH56: =(D56*D$79+E56*E$79+F56*F$79+G56*G$79+H56*H$79+I56*I$79+J56*J$79+K56*K$79+L56*L$79+M56*M$79+N56*N$79+V56*V$79+W56*W$79+X56*X$79+Y56*Y$79+Z56*Z$79)/SUM(D$79:N$79,V$79:Z$79) -> 0.46552402
A58: others in 2019, 2020 or 2021 | AD58: =AVERAGE(AD59:AD69) -> 0.12739921 | AH58: =AVERAGE(AH59:AH69) -> 0.0829095
A59: ARM | B59: AM | C59: 2019 | D59: 0 | E59: 0 | F59: 0 | G59: 0 | H59: 0 | I59: 0 | J59: 0 | K59: 0 | L59: 0 | M59: 0 | N59: 0 | S59: 0 | T59: 0 | U59: 0 | V59: 0 | W59: 0 | X59: 0 | Y59: 0 | Z59: 0 | AD59: =(D59+E59+F59+G59+H59+I59+J59+K59+L59+M59+N59+V59+W59+X59+Y59+Z59)/16 -> 0 | AH59: =(D59*D$79+E59*E$79+F59*F$79+G59*G$79+H59*H$79+I59*I$79+J59*J$79+K59*K$79+L59*L$79+M59*M$79+N59*N$79+V59*V$79+W59*W$79+X59*X$79+Y59*Y$79+Z59*Z$79)/SUM(D$79:N$79,V$79:Z$79) -> 0
A60: AZE | B60: AZ | C60: 2019 | D60: 0.15 | E60: 0.21 | F60: 0.2 | G60: 0 | H60: 0.4 | I60: 0.6 | J60: 0.17 | K60: 0.17 | L60: 0.5 | M60: 0.14 | N60: 0.68 | O60: 0 | P60: 0 | Q60: 0 | R60: 0 | S60: 0 | T60: 0.33 | U60: 0.47 | V60: 0 | W60: 0 | X60: 0 | Y60: 0 | Z60: 0 | AD60: =(D60+E60+F60+G60+H60+I60+J60+K60+L60+M60+N60+O60+P60+Q60+R60+S60+T60+U60+V60+W60+X60+Y60+Z60)/23 -> 0.17478261 | AH60: =(D60*D$79+E60*E$79+F60*F$79+G60*G$79+H60*H$79+I60*I$79+J60*J$79+K60*K$79+L60*L$79+M60*M$79+N60*N$79+O60*O$79+P60*P$79+Q60*Q$79+R60*R$79+S60*S$79+T60*T$79+U60*U$79+V60*V$79+W60*W$79+X60*X$79+Y60*Y$79+Z60*Z$79)/SUM(D$79:Z$79) -> 0.12406551
A61: BLR | B61: BY | C61: 2019 | D61: 0.41 | E61: 0.4 | F61: 0.7 | G61: 0.8 | H61: 0.45 | I61: 0.9 | J61: 0.03 | K61: 0.33 | L61: 0.8 | M61: 0.42 | N61: 0.6 | O61: 0.27 | P61: 0.57 | Q61: 0 | R61: 0.24 | S61: 0.5 | T61: 0 | U61: 0.33 | V61: 0.15 | W61: 0.06 | X61: 0.02 | Y61: 0.36 | Z61: 0.27 | AD61: =(D61+E61+F61+G61+H61+I61+J61+K61+L61+M61+N61+O61+P61+Q61+R61+S61+T61+U61+V61+W61+X61+Y61+Z61)/23 -> 0.37434783 | AH61: =(D61*D$79+E61*E$79+F61*F$79+G61*G$79+H61*H$79+I61*I$79+J61*J$79+K61*K$79+L61*L$79+M61*M$79+N61*N$79+O61*O$79+P61*P$79+Q61*Q$79+R61*R$79+S61*S$79+T61*T$79+U61*U$79+V61*V$79+W61*W$79+X61*X$79+Y61*Y$79+Z61*Z$79)/SUM(D$79:Z$79) -> 0.20973025
A62: CAN | B62: CA | C62: 2019 | D62: 0 | E62: 0 | F62: 0 | G62: 0 | H62: 0 | I62: 0 | J62: 0.02 | K62: 0 | L62: 0 | M62: 0 | N62: 0 | O62: 0 | P62: 0 | Q62: 0 | R62: 0 | S62: 0 | T62: 0.33 | U62: 0.2 | V62: 0 | W62: 0 | X62: 0 | Y62: 0 | Z62: 0.05 | AD62: =(D62+E62+F62+G62+H62+I62+J62+K62+L62+M62+N62+O62+P62+Q62+R62+S62+T62+U62+V62+W62+X62+Y62+Z62)/23 -> 0.026086957 | AH62: =(D62*D$79+E62*E$79+F62*F$79+G62*G$79+H62*H$79+I62*I$79+J62*J$79+K62*K$79+L62*L$79+M62*M$79+N62*N$79+O62*O$79+P62*P$79+Q62*Q$79+R62*R$79+S62*S$79+T62*T$79+U62*U$79+V62*V$79+W62*W$79+X62*X$79+Y62*Y$79+Z62*Z$79)/SUM(D$79:Z$79) -> 0.013092486
A63: ISR | B63: IL | C63: 2019 | D63: 0.03 | E63: 0.14 | F63: 0.2 | G63: 0.05 | H63: 0.18 | I63: 0.2 | J63: 0.24 | K63: 0 | L63: 0.5 | M63: 0 | N63: 0.68 | S63: 0 | T63: 0 | U63: 0 | V63: 0.13 | W63: 0 | X63: 0.08 | Y63: 0.18 | Z63: 0 | AD63: =(I63+J63+K63+L63+M63+N63+O63+P63+Q63+R63+V63+W63+X63+Y63+Z63)/15 -> 0.134 | AH63: =(I63*I$79+J63*J$79+K63*K$79+L63*L$79+M63*M$79+N63*N$79+O63*O$79+P63*P$79+Q63*Q$79+R63*R$79+V63*V$79+W63*W$79+X63*X$79+Y63*Y$79+Z63*Z$79)/SUM(I$79:R$79,V$79:Z$79) -> 0.1413494
A64: KAZ | B64: KZ | C64: 2019 | D64: 0.54 | E64: 0.53 | F64: 0.2 | G64: 0.22 | H64: 0.38 | I64: 0.7 | J64: 0.08 | K64: 0 | L64: 0 | M64: 0 | N64: 0.16 | O64: 0.27 | P64: 0.19 | Q64: 0 | R64: 0.18 | S64: 0.5 | T64: 0 | U64: 0.53 | V64: 0 | W64: 0 | X64: 0 | Y64: 0 | Z64: 0 | AD64: =(D64+E64+F64+G64+H64+I64+J64+K64+L64+M64+N64+O64+P64+Q64+R64+S64+T64+U64+V64+W64+X64+Y64+Z64)/23 -> 0.19478261 | AH64: =(D64*D$79+E64*E$79+F64*F$79+G64*G$79+H64*H$79+I64*I$79+J64*J$79+K64*K$79+L64*L$79+M64*M$79+N64*N$79+O64*O$79+P64*P$79+Q64*Q$79+R64*R$79+S64*S$79+T64*T$79+U64*U$79+V64*V$79+W64*W$79+X64*X$79+Y64*Y$79+Z64*Z$79)/SUM(D$79:Z$79) -> 0.13093449
A65: MCO | B65: MC | C65: 2019 | I65: 0 | J65: 0 | K65: 0 | L65: 0 | M65: 0 | N65: 0 | Q65: 0 | V65: 0 | W65: 0 | X65: 0 | Y65: 0 | Z65: 0 | AD65: =(I65+J65+K65+L65+M65+N65+V65+W65+X65+Y65+Z65)/11 -> 0 | AH65: =(I65*I$79+J65*J$79+K65*K$79+L65*L$79+M65*M$79+N65*N$79+V65*V$79+W65*W$79+X65*X$79+Y65*Y$79+Z65*Z$79)/SUM(I$79:N$79,V$79:Z$79) -> 0
A66: RUS | B66: RU | C66: 2019 | D66: 0.59 | E66: 0.58 | F66: 0.3 | G66: 0.8 | H66: 0.9 | I66: 0.8 | J66: 0.2 | K66: 0.33 | L66: 0 | M66: 0.17 | N66: 0.6 | O66: 0.09 | P66: 0.35 | Q66: 0.33 | R66: 0.3 | S66: 0.5 | T66: 0.33 | U66: 0.07 | V66: 0.02 | W66: 0 | X66: 0 | Y66: 0 | Z66: 0.55 | AD66: =(D66+E66+F66+G66+H66+I66+J66+K66+L66+M66+N66+O66+P66+Q66+R66+S66+T66+U66+V66+W66+X66+Y66+Z66)/23 -> 0.33956522 | AH66: =(D66*D$79+E66*E$79+F66*F$79+G66*G$79+H66*H$79+I66*I$79+J66*J$79+K66*K$79+L66*L$79+M66*M$79+N66*N$79+O66*O$79+P66*P$79+Q66*Q$79+R66*R$79+S66*S$79+T66*T$79+U66*U$79+V66*V$79+W66*W$79+X66*X$79+Y66*Y$79+Z66*Z$79)/SUM(D$79:Z$79) -> 0.23982659
A67: GBR | B67: UK | C67: 2019 | D67: 0 | E67: 0 | F67: 0 | G67: 0 | H67: 0 | I67: 0 | J67: 0 | K67: 0 | L67: 0 | M67: 0 | N67: 0 | O67: 0 | P67: 0 | Q67: 0 | R67: 0 | S67: 0 | T67: 0 | U67: 0 | V67: 0 | W67: 0 | X67: 0 | Y67: 0 | Z67: 0 | AD67: =(D67+E67+F67+G67+H67+I67+J67+K67+L67+M67+N67+O67+P67+Q67+R67+S67+T67+U67+V67+W67+X67+Y67+Z67)/23 -> 0 | AH67: =(D67*D$79+E67*E$79+F67*F$79+G67*G$79+H67*H$79+I67*I$79+J67*J$79+K67*K$79+L67*L$79+M67*M$79+N67*N$79+O67*O$79+P67*P$79+Q67*Q$79+R67*R$79+S67*S$79+T67*T$79+U67*U$79+V67*V$79+W67*W$79+X67*X$79+Y67*Y$79+Z67*Z$79)/SUM(D$79:Z$79) -> 0
A68: USA | B68: US | C68: 2019 | D68: 0 | E68: 0.02 | F68: 0 | G68: 0.05 | H68: 0.1 | I68: 0 | J68: 0 | K68: 0 | L68: 0.1 | M68: 0 | N68: 0.04 | O68: 0.09 | P68: 0 | Q68: 0 | R68: 0 | S68: 0.5 | T68: 0 | U68: 0 | V68: 0.02 | W68: 0.02 | X68: 0 | Y68: 0 | Z68: 0 | AD68: =(D68+E68+F68+G68+H68+I68+J68+K68+L68+M68+N68+O68+P68+Q68+R68+S68+T68+U68+V68+W68+X68+Y68+Z68)/23 -> 0.040869565 | AH68: =(D68*D$79+E68*E$79+F68*F$79+G68*G$79+H68*H$79+I68*I$79+J68*J$79+K68*K$79+L68*L$79+M68*M$79+N68*N$79+O68*O$79+P68*P$79+Q68*Q$79+R68*R$79+S68*S$79+T68*T$79+U68*U$79+V68*V$79+W68*W$79+X68*X$79+Y68*Y$79+Z68*Z$79)/SUM(D$79:Z$79) -> 0.012793834
A69: UZB | B69: UZ | C69: 2019 | D69: 0.08 | E69: 0.12 | F69: 0 | G69: 0 | H69: 0.2 | I69: 0.6 | J69: 0.02 | K69: 0 | L69: 0.4 | M69: 0.11 | N69: 0.16 | S69: 1 | T69: 0 | U69: 0 | V69: 0 | W69: 0 | X69: 0 | Y69: 0 | Z69: 0 | AD69: =(D69+E69+F69+G69+H69+I69+J69+K69+L69+M69+N69+O69+P69+Q69+R69+S69+T69+U69+V69+W69+X69+Y69+Z69)/23 -> 0.11695652 | AH69: =(D69*D$79+E69*E$79+F69*F$79+G69*G$79+H69*H$79+I69*I$79+J69*J$79+K69*K$79+L69*L$79+M69*M$79+N69*N$79+O69*O$79+P69*P$79+Q69*Q$79+R69*R$79+S69*S$79+T69*T$79+U69*U$79+V69*V$79+W69*W$79+X69*X$79+Y69*Y$79+Z69*Z$79)/SUM(D$79:Z$79) -> 0.040211946
A71: others lost before 2019 | AD71: =AVERAGE(AD72:AD77) -> 0 | AH71: =AVERAGE(AH72:AH77) -> 0
A72: AND | B72: AD | C72: 2019 | I72: 0 | J72: 0 | K72: 0 | L72: 0 | M72: 0 | N72: 0 | V72: 0 | W72: 0 | X72: 0 | Y72: 0 | Z72: 0 | AD72: =(I72+J72+K72+L72+M72+N72+V72+W72+X72+Y72+Z72)/11 -> 0 | AH72: =(I72*I$79+J72*J$79+K72*K$79+L72*L$79+M72*M$79+N72*N$79+V72*V$79+W72*W$79+X72*X$79+Y72*Y$79+Z72*Z$79)/SUM(I$79:N$79,V$79:Z$79) -> 0
A73: IND | B73: IN | C73: 2019 | D73: 0 | E73: 0 | F73: 0 | G73: 0 | H73: 0 | I73: 0 | J73: 0 | K73: 0 | L73: 0 | M73: 0 | N73: 0 | O73: 0 | P73: 0 | Q73: 0 | R73: 0 | S73: 0 | T73: 0 | U73: 0 | V73: 0 | W73: 0 | X73: 0 | Y73: 0 | Z73: 0 | AD73: =(D73+E73+F73+G73+H73+I73+J73+K73+L73+M73+N73+O73+P73+Q73+R73+S73+T73+U73+V73+W73+X73+Y73+Z73)/23 -> 0 | AH73: =(D73*D$79+E73*E$79+F73*F$79+G73*G$79+H73*H$79+I73*I$79+J73*J$79+K73*K$79+L73*L$79+M73*M$79+N73*N$79+O73*O$79+P73*P$79+Q73*Q$79+R73*R$79+S73*S$79+T73*T$79+U73*U$79+V73*V$79+W73*W$79+X73*X$79+Y73*Y$79+Z73*Z$79)/SUM(D$79:Z$79) -> 0
A74: KGZ | B74: KG | C74: 2019 | D74: 0 | E74: 0 | F74: 0 | G74: 0 | H74: 0 | I74: 0 | J74: 0 | K74: 0 | L74: 0 | M74: 0 | N74: 0 | O74: 0 | P74: 0 | Q74: 0 | R74: 0 | V74: 0 | W74: 0 | X74: 0 | Y74: 0 | Z74: 0 | AD74: =(D74+E74+F74+G74+H74+I74+J74+K74+L74+M74+N74+V74+W74+X74+Y74+Z74)/16 -> 0 | AH74: =(D74*D$79+E74*E$79+F74*F$79+G74*G$79+H74*H$79+I74*I$79+J74*J$79+K74*K$79+L74*L$79+M74*M$79+N74*N$79+V74*V$79+W74*W$79+X74*X$79+Y74*Y$79+Z74*Z$79)/SUM(D$79:N$79,V$79:Z$79) -> 0
A75: SMR | B75: SM | C75: 2019 | I75: 0 | J75: 0 | K75: 0 | L75: 0 | M75: 0 | N75: 0 | V75: 0 | W75: 0 | X75: 0 | Y75: 0 | Z75: 0 | AD75: =(I75+J75+K75+L75+M75+N75+V75+W75+X75+Y75+Z75)/11 -> 0 | AH75: =(I75*I$79+J75*J$79+K75*K$79+L75*L$79+M75*M$79+N75*N$79+V75*V$79+W75*W$79+X75*X$79+Y75*Y$79+Z75*Z$79)/SUM(I$79:N$79,V$79:Z$79) -> 0
A76: TJK | B76: TJ | C76: 2019 | D76: 0 | E76: 0 | F76: 0 | G76: 0 | H76: 0 | I76: 0 | J76: 0 | K76: 0 | L76: 0 | M76: 0 | N76: 0 | O76: 0 | P76: 0 | Q76: 0 | R76: 0 | S76: 0 | T76: 0 | U76: 0 | V76: 0 | W76: 0 | X76: 0 | Y76: 0 | Z76: 0 | AD76: =(D76+E76+F76+G76+H76+I76+J76+K76+L76+M76+N76+O76+P76+Q76+R76+S76+T76+U76+V76+W76+X76+Y76+Z76)/23 -> 0 | AH76: =(D76*D$79+E76*E$79+F76*F$79+G76*G$79+H76*H$79+I76*I$79+J76*J$79+K76*K$79+L76*L$79+M76*M$79+N76*N$79+O76*O$79+P76*P$79+Q76*Q$79+R76*R$79+S76*S$79+T76*T$79+U76*U$79+V76*V$79+W76*W$79+X76*X$79+Y76*Y$79+Z76*Z$79)/SUM(D$79:Z$79) -> 0
A77: TKM | B77: TM | C77: 2019 | D77: 0 | E77: 0 | F77: 0 | G77: 0 | H77: 0 | I77: 0 | J77: 0 | K77: 0 | L77: 0 | M77: 0 | N77: 0 | O77: 0 | P77: 0 | Q77: 0 | R77: 0 | S77: 0 | T77: 0 | U77: 0 | V77: 0 | W77: 0 | X77: 0 | Y77: 0 | Z77: 0 | AD77: =(D77+E77+F77+G77+H77+I77+J77+K77+L77+M77+N77+O77+P77+Q77+R77+S77+T77+U77+V77+W77+X77+Y77+Z77)/23 -> 0 | AH77: =(D77*D$79+E77*E$79+F77*F$79+G77*G$79+H77*H$79+I77*I$79+J77*J$79+K77*K$79+L77*L$79+M77*M$79+N77*N$79+O77*O$79+P77*P$79+Q77*Q$79+R77*R$79+S77*S$79+T77*T$79+U77*U$79+V77*V$79+W77*W$79+X77*X$79+Y77*Y$79+Z77*Z$79)/SUM(D$79:Z$79) -> 0
D79: 39 | E79: 43 | F79: 10 | G79: 41 | H79: 40 | I79: 10 | J79: 275 | K79: 6 | L79: 10 | M79: 36 | N79: 25 | O79: 11 | P79: 37 | Q79: 6 | R79: 33 | S79: 2 | T79: 3 | U79: 30 | V79: 54 | W79: 65 | X79: 229 | Y79: 11 | Z79: 22
