Workbook

Sheet Figure_1
B1: Figure 1: Greenhouse gas emissions (including international aviation, indirect CO2 and excluding LULUCF) trend, EU-28, 1990 - 2016
B2: (Index 1990=100)
C4: 1990 | D4: 1991 | E4: 1992 | F4: 1993 | G4: 1994 | H4: 1995 | I4: 1996 | J4: 1997 | K4: 1998 | L4: 1999 | M4: 2000 | N4: 2001 | O4: 2002 | P4: 2003 | Q4: 2004 | R4: 2005 | S4: 2006 | T4: 2007 | U4: 2008 | V4: 2009 | W4: 2010 | X4: 2011 | Y4: 2012 | Z4: 2013 | AA4: 2014 | AB4: 2015 | AC4: 2016
B5: Index (1990=100) | C5: =(C6/$C$6)*100 -> 100 | D5: =(D6/$C$6)*100 -> 98.261216 | E5: =(E6/$C$6)*100 -> 95.282224 | F5: =(F6/$C$6)*100 -> 93.604897 | G5: =(G6/$C$6)*100 -> 93.152337 | H5: =(H6/$C$6)*100 -> 94.180691 | I5: =(I6/$C$6)*100 -> 96.155274 | J5: =(J6/$C$6)*100 -> 94.467863 | ... AC5: =(AC6/$C$6)*100 -> 77.641751
B6: THS tonnes of CO2-eqv | C6: =env_air_gge!B12 -> 5719571 | D6: =env_air_gge!C12 -> 5620120 | E6: =env_air_gge!D12 -> 5449734.5 | F6: =env_air_gge!E12 -> 5353798.6 | G6: =env_air_gge!F12 -> 5327914.1 | H6: =env_air_gge!G12 -> 5386731.5 | I6: =env_air_gge!H12 -> 5499669.2 | J6: =env_air_gge!I12 -> 5403156.5 | ... AC6: =env_air_gge!AB12 -> 4440775.1
C7: =C6/1000 -> 5719.571 | D7: =D6/1000 -> 5620.12 | E7: =E6/1000 -> 5449.7345 | F7: =F6/1000 -> 5353.7986 | G7: =G6/1000 -> 5327.9141 | H7: =H6/1000 -> 5386.7315 | I7: =I6/1000 -> 5499.6692 | J7: =J6/1000 -> 5403.1565 | ... AC7: =AC6/1000 -> 4440.7751
AC8: =((AC6-C6)/C6) -> -0.22358249
AC9: =AC6-C6 -> -1278796
B46: Source: European Environment Agency (online data code: env_air_gge)

Sheet Table_1
C2: Table 1: Total greenhouse gas emissions by countries (including international aviation, indirect and excluding LULUCF), 1990 - 2016
C3: (Million tonnes of CO2 equivalents)
D5: 1990 | E5: 1995 | F5: 2000 | G5: 2005 | H5: 2010 | I5: 2016 | J5: Share in EU-28*
C6: EU-28 | D6: =env_air_gge!B12/1000 -> 5719.571 | E6: =env_air_gge!G12/1000 -> 5386.7315 | F6: =env_air_gge!L12/1000 -> 5277.7118 | G6: =env_air_gge!Q12/1000 -> 5351.2121 | H6: =env_air_gge!V12/1000 -> 4909.0652 | I6: =env_air_gge!AB12/1000 -> 4440.7751 | J6: =D6/$D$6 -> 1
C7: Belgium | D7: =env_air_gge!B13/1000 -> 149.80651 | E7: =env_air_gge!G13/1000 -> 157.6781 | F7: =env_air_gge!L13/1000 -> 154.518 | G7: =env_air_gge!Q13/1000 -> 149.00585 | H7: =env_air_gge!V13/1000 -> 136.93171 | I7: =env_air_gge!AB13/1000 -> 122.13877 | J7: =I7/$I$6 -> 0.027503931
C8: Bulgaria | D8: =env_air_gge!B14/1000 -> 104.70856 | E8: =env_air_gge!G14/1000 -> 75.47954 | F8: =env_air_gge!L14/1000 -> 59.81075 | G8: =env_air_gge!Q14/1000 -> 64.47572 | H8: =env_air_gge!V14/1000 -> 61.05337 | I8: =env_air_gge!AB14/1000 -> 59.70157 | J8: =I8/$I$6 -> 0.013443953
C9: Czech Republic | D9: =env_air_gge!B15/1000 -> 200.12559 | E9: =env_air_gge!G15/1000 -> 159.43033 | F9: =env_air_gge!L15/1000 -> 150.75409 | G9: =env_air_gge!Q15/1000 -> 149.02382 | H9: =env_air_gge!V15/1000 -> 141.50069 | I9: =env_air_gge!AB15/1000 -> 131.31275 | J9: =I9/$I$6 -> 0.029569782
C10: Denmark | D10: =env_air_gge!B16/1000 -> 72.15576 | E10: =env_air_gge!G16/1000 -> 80.1868 | F10: =env_air_gge!L16/1000 -> 73.11847 | G10: =env_air_gge!Q16/1000 -> 68.88081 | H10: =env_air_gge!V16/1000 -> 65.76741 | I10: =env_air_gge!AB16/1000 -> 53.33025 | J10: =I10/$I$6 -> 0.012009221
C11: Germany | D11: =env_air_gge!B17/1000 -> 1263.708 | E11: =env_air_gge!G17/1000 -> 1138.2613 | F11: =env_air_gge!L17/1000 -> 1064.2502 | G11: =env_air_gge!Q17/1000 -> 1016.0209 | H11: =env_air_gge!V17/1000 -> 967.0026 | I11: =env_air_gge!AB17/1000 -> 935.82234 | J11: =I11/$I$6 -> 0.21073401
C12: Estonia | D12: =env_air_gge!B18/1000 -> 40.50528 | E12: =env_air_gge!G18/1000 -> 20.25851 | F12: =env_air_gge!L18/1000 -> 17.36919 | G12: =env_air_gge!Q18/1000 -> 19.29084 | H12: =env_air_gge!V18/1000 -> 21.24343 | I12: =env_air_gge!AB18/1000 -> 19.69236 | J12: =I12/$I$6 -> 0.0044344421
C13: Ireland | D13: =env_air_gge!B19/1000 -> 56.57084 | E13: =env_air_gge!G19/1000 -> 60.34728 | F13: =env_air_gge!L19/1000 -> 70.38332 | G13: =env_air_gge!Q19/1000 -> 72.06944 | H13: =env_air_gge!V19/1000 -> 63.57031 | I13: =env_air_gge!AB19/1000 -> 64.1599 | J13: =I13/$I$6 -> 0.014447906
C14: Greece | D14: =env_air_gge!B20/1000 -> 105.59746 | E14: =env_air_gge!G20/1000 -> 111.81456 | F14: =env_air_gge!L20/1000 -> 128.89354 | G14: =env_air_gge!Q20/1000 -> 138.90388 | H14: =env_air_gge!V20/1000 -> 120.96981 | I14: =env_air_gge!AB20/1000 -> 94.71387 | J14: =I14/$I$6 -> 0.021328229
C15: Spain | D15: =env_air_gge!B21/1000 -> 292.48586 | E15: =env_air_gge!G21/1000 -> 334.04276 | F15: =env_air_gge!L21/1000 -> 395.18988 | G15: =env_air_gge!Q21/1000 -> 450.63311 | H15: =env_air_gge!V21/1000 -> 368.28785 | I15: =env_air_gge!AB21/1000 -> 340.54259 | J15: =I15/$I$6 -> 0.076685395
C16: France | D16: =env_air_gge!B22/1000 -> 555.05491 | E16: =env_air_gge!G22/1000 -> 552.12859 | F16: =env_air_gge!L22/1000 -> 565.32376 | G16: =env_air_gge!Q22/1000 -> 568.64247 | H16: =env_air_gge!V22/1000 -> 527.72914 | I16: =env_air_gge!AB22/1000 -> 475.36163 | J16: =I16/$I$6 -> 0.10704474
C17: Croatia | D17: =env_air_gge!B23/1000 -> 32.39508 | E17: =env_air_gge!G23/1000 -> 23.17663 | F17: =env_air_gge!L23/1000 -> 26.03402 | G17: =env_air_gge!Q23/1000 -> 30.1939 | H17: =env_air_gge!V23/1000 -> 28.28369 | I17: =env_air_gge!AB23/1000 -> 24.68307 | J17: =I17/$I$6 -> 0.0055582797
C18: Italy | D18: =env_air_gge!B24/1000 -> 522.6846 | E18: =env_air_gge!G24/1000 -> 538.49051 | F18: =env_air_gge!L24/1000 -> 562.49381 | G18: =env_air_gge!Q24/1000 -> 589.41066 | H18: =env_air_gge!V24/1000 -> 512.87939 | I18: =env_air_gge!AB24/1000 -> 438.24558 | J18: =I18/$I$6 -> 0.098686732
... C34: United Kingdom | D34: =env_air_gge!B40/1000 -> 812.11282 | E34: =env_air_gge!G40/1000 -> 769.62908 | F34: =env_air_gge!L40/1000 -> 743.40736 | G34: =env_air_gge!Q40/1000 -> 728.14328 | H34: =env_air_gge!V40/1000 -> 643.71061 | I34: =env_air_gge!AB40/1000 -> 516.80343 | J34: =I34/$I$6 -> 0.11637685
C35: Iceland | D35: =env_air_gge!B41/1000 -> 3.8555 | E35: =env_air_gge!G41/1000 -> 3.69205 | F35: =env_air_gge!L41/1000 -> 4.4778 | G35: =env_air_gge!Q41/1000 -> 4.40073 | H35: =env_air_gge!V41/1000 -> 5.25916 | I35: =env_air_gge!AB41/1000 -> 5.59402
C36: Lichtenstein | D36: =env_air_gge!B42/1000 -> 0.22971 | E36: =env_air_gge!G42/1000 -> 0.23483 | F36: =env_air_gge!L42/1000 -> 0.24875 | G36: =env_air_gge!Q42/1000 -> 0.26623 | H36: =env_air_gge!V42/1000 -> 0.23112 | I36: =env_air_gge!AB42/1000 -> 0.18896
C37: Norway | D37: =env_air_gge!B43/1000 -> 52.32232 | E37: =env_air_gge!G43/1000 -> 51.72753 | F37: =env_air_gge!L43/1000 -> 55.51979 | G37: =env_air_gge!Q43/1000 -> 55.99306 | H37: =env_air_gge!V43/1000 -> 56.40462 | I37: =env_air_gge!AB43/1000 -> 54.7476
C38: Switzerland | D38: =env_air_gge!B44/1000 -> 56.69032 | E38: =env_air_gge!G44/1000 -> 56.02699 | F38: =env_air_gge!L44/1000 -> 57.07468 | G38: =env_air_gge!Q44/1000 -> 58.26143 | H38: =env_air_gge!V44/1000 -> 58.54056 | I38: =env_air_gge!AB44/1000 -> 53.48912
C39: Turkey | D39: =env_air_gge!B45/1000 -> 211.27123 | E39: =env_air_gge!G45/1000 -> 243.0087 | F39: =env_air_gge!L45/1000 -> 295.10641 | G39: =env_air_gge!Q45/1000 -> 336.01223 | H39: =env_air_gge!V45/1000 -> 408.47201 | I39: =env_air_gge!AB45/1000 -> 506.78756
C40: *Share in EU-28 total in year 2016
C43: Source: European Environment Agency (online data code: env_air_gge)

Sheet Figure_2
B1: Figure 2: Total greenhouse gas emissions by countries (including international aviation, indirect CO2 and excluding LULUCF), 2016
B2: Index 1990 = 100
B45: Source: European Environmental Agency (online data code: env_air_gge)

Sheet Figure_3
C1: Figure 3: Greenhouse gas emissions, analysis by source sector, EU-28, 1990 and 2016
C2: (Percentage of total)
D4: 1990 | E4: 2016 | F4: Share 1990 | G4: Share 2016
C5: Fuel combustion and fugitive emissions from fuels (without transport) | D5: =env_air_gge_sectors!H12 -> 3563689.8 | E5: =env_air_gge_sectors!I12 -> 2416775.2 | F5: =D5/$D$11 -> 0.62353608 | G5: =E5/$E$11 -> 0.54440635
C6: Transport (including international aviation) | D6: =env_air_gge_sectors!H13 -> 856283.76 | E6: =env_air_gge_sectors!I13 -> 1079529.3 | F6: =D6/$D$11 -> 0.14982332 | G6: =E6/$E$11 -> 0.24317636
C7: Industrial processes and product use | D7: =env_air_gge_sectors!H14 -> 517454.34 | E7: =env_air_gge_sectors!I14 -> 374482.74 | F7: =D7/$D$11 -> 0.090538592 | G7: =E7/$E$11 -> 0.084356537
C8: Agriculture | D8: =env_air_gge_sectors!H15 -> 541874.19 | E8: =env_air_gge_sectors!I15 -> 430001.72 | F8: =D8/$D$11 -> 0.094811315 | G8: =E8/$E$11 -> 0.096862825
C9: Waste management | D9: =env_air_gge_sectors!H16 -> 235988.3 | E9: =env_air_gge_sectors!I16 -> 138496.47 | F9: =D9/$D$11 -> 0.041290693 | G9: =E9/$E$11 -> 0.03119792
C10: Other sectors | D10: =env_air_gge_sectors!H17 -> 0 | E10: =env_air_gge_sectors!I17 -> 0 | F10: =D10/$D$11 -> 0 | G10: =E10/$E$11 -> 0
C11: Total (without LULUCF, with int. aviation) | D11: =env_air_gge_sectors!B23 -> 5715290.3 | E11: =env_air_gge_sectors!C23 -> 4439285.4 | F11: =D11/$D$11 -> 1 | G11: =E11/$E$11 -> 1
C45: Source: European Environment Agency (online data code: [env_air_gge])

Sheet Source for Fig_2
A1: Greenhouse gas emissions by source sector (source: EEA) [env_air_gge]
A11: GEO/TIME | B11: 1990 | C11: 2016 | D11: Index 1990=100 | E11: % change 1990-2016 | F11: abs change 1990-2016 million tonnes
A12: EU-28 | B12: 5719.571 | C12: 4440.7751 | D12: =(C12/B12)*100 -> 77.641751 | E12: =D12-100 -> -22.358249 | F12: =C12-B12 -> -1278.7959
A14: Lithuania | B14: 48.51013 | C14: 20.37222 | D14: =(C14/B14)*100 -> 41.995806 | E14: =D14-100 -> -58.004194 | F14: =C14-B14 -> -28.13791
A15: Latvia | B15: 26.69297 | C15: 11.68238 | D15: =(C15/B15)*100 -> 43.765756 | E15: =D15-100 -> -56.234244 | F15: =C15-B15 -> -15.01059
A16: Romania | B16: 247.54475 | C16: 113.42083 | D16: =(C16/B16)*100 -> 45.818314 | E16: =D16-100 -> -54.181686 | F16: =C16-B16 -> -134.12392
A17: Estonia | B17: 40.50528 | C17: 19.69236 | D17: =(C17/B17)*100 -> 48.616773 | E17: =D17-100 -> -51.383227 | F17: =C17-B17 -> -20.81292
A18: Slovakia | B18: 74.04761 | C18: 41.19238 | D18: =(C18/B18)*100 -> 55.629588 | E18: =D18-100 -> -44.370412 | F18: =C18-B18 -> -32.85523
A19: Bulgaria | B19: 104.70856 | C19: 59.70157 | D19: =(C19/B19)*100 -> 57.016895 | E19: =D19-100 -> -42.983105 | F19: =C19-B19 -> -45.00699
A20: United Kingdom | B20: 812.11282 | C20: 516.80343 | D20: =(C20/B20)*100 -> 63.636901 | E20: =D20-100 -> -36.363099 | F20: =C20-B20 -> -295.30939
A21: Czech Republic | B21: 200.12559 | C21: 131.31275 | D21: =(C21/B21)*100 -> 65.615172 | E21: =D21-100 -> -34.384828 | F21: =C21-B21 -> -68.81284
A22: Hungary | B22: 94.29797 | C22: 62.06862 | D22: =(C22/B22)*100 -> 65.821799 | E22: =D22-100 -> -34.178201 | F22: =C22-B22 -> -32.22935
A23: Denmark | B23: 72.15576 | C23: 53.33025 | D23: =(C23/B23)*100 -> 73.9099 | E23: =D23-100 -> -26.0901 | F23: =C23-B23 -> -18.82551
A24: Germany | B24: 1263.708 | C24: 935.82234 | D24: =(C24/B24)*100 -> 74.053683 | E24: =D24-100 -> -25.946317 | F24: =C24-B24 -> -327.88569
... A41: Cyprus | B41: 6.31542 | C41: 9.65768 | D41: =(C41/B41)*100 -> 152.92221 | E41: =D41-100 -> 52.922213 | F41: =C41-B41 -> 3.34226
A43: Liechtenstein | B43: 0.22971 | C43: 0.18896 | D43: 82.260241 | E43: -17.739759 | F43: -0.04075
A44: Switzerland | B44: 56.69032 | C44: 53.48912 | D44: 94.353181 | E44: -5.6468194 | F44: -3.2012
A45: Norway | B45: 52.32232 | C45: 54.7476 | D45: 104.63527 | E45: 4.6352685 | F45: 2.42528
A46: Iceland | B46: 3.8555 | C46: 5.59402 | D46: 145.09195 | E46: 45.091947 | F46: 1.73852
A48: Turkey | B48: 211.27123 | C48: 506.78756 | D48: =(C48/B48)*100 -> 239.87533 | E48: =D48-100 -> 139.87533 | F48: =C48-B48 -> 295.51633

Sheet env_air_gge
A1: Greenhouse gas emissions by source sector (source: EEA) [env_air_gge]
A3: Last update | B3: 43256.796
A4: Extracted on | B4: 43259.437
A5: Source of data | B5: European environment agency (EEA)
A7: UNIT | B7: THS_T - Thousand tonnes
A8: AIRPOL | B8: GHG - Greenhouse gases (CO2, N2O in CO2 equivalent, CH4 in CO2 equivalent, HFC in CO2 equivalent, PFC in CO2 equivalent, SF6 in CO2 equivalent, NF3 in CO2 equivalent)
A9: AIREMSECT | B9: TOTX4_MEMONIA - All sectors and indirect CO2 (excluding LULUCF and memo items, including international aviation)
A11: GEO/TIME | B11: 1990 | C11: 1991 | D11: 1992 | E11: 1993 | F11: 1994 | G11: 1995 | H11: 1996 | I11: 1997 | J11: 1998 | K11: 1999 | L11: 2000 | M11: 2001 | N11: 2002 | O11: 2003 | P11: 2004 | Q11: 2005 | R11: 2006 | S11: 2007 | T11: 2008 | U11: 2009 | V11: 2010 | W11: 2011 | X11: 2012 | Y11: 2013 | Z11: 2014 | AA11: 2015 | AB11: 2016 | AC11: 1990=100/2016 | AD11: change % 1990/2016 | AE11: abs 2016-1990 | AF11: change %2015/2016 | AG11: change %2015/2016
A12: EU28 - European Union (28 countries) | B12: 5719571 | C12: 5620120 | D12: 5449734.5 | E12: 5353798.6 | F12: 5327914.1 | G12: 5386731.5 | H12: 5499669.2 | I12: 5403156.5 | J12: 5364142 | K12: 5264009.7 | L12: 5277711.8 | M12: 5333739.9 | N12: 5286135.4 | O12: 5374198 | P12: 5381531.2 | Q12: 5351212.1 | R12: 5344123.5 | S12: 5300728 | T12: 5183990.2 | U12: 4803529.4 | V12: 4909065.2 | W12: 4754814.6 | X12: 4690095.8 | Y12: 4596363.1 | Z12: 4427323.7 | AA12: 4460499.7 | AB12: 4440775.1 | AC12: =(AB12/B12)*100 -> 77.641751 | AD12: =AC12-100 -> -22.358249 | AE12: =(AB12-B12)/1000 -> -1278.796 | AF12: =(AB12-AA12)/AA12*100 -> -0.44220562 | AG12: =(AA12-Z12)/Z12*100 -> 0.74934662 | AH12: =(AB12-AA12)/1000 -> -19.72458
A13: BE - Belgium | B13: 149806.51 | C13: 151911.85 | D13: 151533.93 | E13: 150522.17 | F13: 155167.61 | G13: 157678.1 | H13: 161792.69 | I13: 153533.44 | J13: 159175.8 | K13: 153411.79 | L13: 154518 | M13: 152451.17 | N13: 151292.46 | O13: 151965.12 | P13: 153232.13 | Q13: 149005.85 | R13: 146612.38 | S13: 143170.07 | T13: 143506.44 | U13: 130216.1 | V13: 136931.71 | W13: 126540.22 | X13: 123408.01 | Y13: 123595.04 | Z13: 118097.99 | AA13: 122029.32 | AB13: 122138.77 | AC13: =(AB13/B13)*100 -> 81.531016 | AD13: =AC13-100 -> -18.468984 | AE13: =(AB13-B13)/1000 -> -27.66774 | AF13: =(AB13-AA13)/AA13*100 -> 0.089691559 | AG13: =(AA13-Z13)/Z13*100 -> 3.3288712
A14: BG - Bulgaria | B14: 104708.56 | C14: 82801.43 | D14: 78547.2 | E14: 77807.94 | F14: 73994.16 | G14: 75479.54 | H14: 75348.79 | I14: 71793.92 | J14: 67651.68 | K14: 60706.22 | L14: 59810.75 | M14: 62990.58 | N14: 60092.36 | O14: 64672.2 | P14: 63806.09 | Q14: 64475.72 | R14: 65028.95 | S14: 68907.37 | T14: 67590.93 | U14: 58429.57 | V14: 61053.37 | W14: 66361.34 | X14: 61272.41 | Y14: 56014.29 | Z14: 59093.19 | AA14: 62281.27 | AB14: 59701.57 | AC14: =(AB14/B14)*100 -> 57.016895 | AD14: =AC14-100 -> -42.983105 | AE14: =(AB14-B14)/1000 -> -45.00699 | AF14: =(AB14-AA14)/AA14*100 -> -4.1420157 | AG14: =(AA14-Z14)/Z14*100 -> 5.3950041
A15: CZ - Czech Republic | B15: 200125.59 | C15: 181220.06 | D15: 174659.86 | E15: 166662.88 | F15: 158972.69 | G15: 159430.33 | H15: 161652.63 | I15: 157527.79 | J15: 150988.06 | K15: 141293.33 | L15: 150754.09 | M15: 150468.44 | N15: 146708.47 | O15: 150114.42 | P15: 151126.13 | Q15: 149023.82 | R15: 150501.54 | S15: 152238.24 | T15: 147563.51 | U15: 139065.12 | V15: 141500.69 | W15: 139437.4 | X15: 135263.77 | Y15: 130146.05 | Z15: 128256.62 | AA15: 129314.25 | AB15: 131312.75 | AC15: =(AB15/B15)*100 -> 65.615172 | AD15: =AC15-100 -> -34.384828 | AE15: =(AB15-B15)/1000 -> -68.81284 | AF15: =(AB15-AA15)/AA15*100 -> 1.54546 | AG15: =(AA15-Z15)/Z15*100 -> 0.8246202
A16: DK - Denmark | B16: 72155.76 | C16: 82727.7 | D16: 76797.91 | E16: 79097.51 | F16: 83147.94 | G16: 80186.8 | H16: 93349.76 | I16: 83856.34 | J16: 79934.39 | K16: 77516.49 | L16: 73118.47 | M16: 74737.79 | N16: 73994.43 | O16: 79048.46 | P16: 73200.45 | Q16: 68880.81 | R16: 76619.11 | S16: 72060.79 | T16: 68416.18 | U16: 65239.27 | V16: 65767.41 | W16: 60614.93 | X16: 55905.37 | Y16: 57666.23 | Z16: 53716.34 | AA16: 51154.21 | AB16: 53330.25 | AC16: =(AB16/B16)*100 -> 73.9099 | AD16: =AC16-100 -> -26.0901 | AE16: =(AB16-B16)/1000 -> -18.82551 | AF16: =(AB16-AA16)/AA16*100 -> 4.2538825 | AG16: =(AA16-Z16)/Z16*100 -> -4.7697405
A17: DE - Germany (until 1990 former territory of the FRG) | B17: 1263708 | C17: 1216618.8 | D17: 1167241.9 | E17: 1159071.9 | F17: 1140465 | G17: 1138261.4 | H17: 1156786.7 | I17: 1122378.1 | J17: 1097257.5 | K17: 1065209.4 | L17: 1064250.2 | M17: 1078694.1 | N17: 1057422.8 | O17: 1054421.6 | P17: 1038657.3 | Q17: 1016020.9 | R17: 1024472.5 | S17: 998494.26 | T17: 1000599.9 | U17: 932796.77 | V17: 967002.6 | W17: 943337.61 | X17: 949623.35 | Y17: 967537.13 | Z17: 927230.26 | AA17: 931192.16 | AB17: 935822.34 | AC17: =(AB17/B17)*100 -> 74.053683 | AD17: =AC17-100 -> -25.946317 | AE17: =(AB17-B17)/1000 -> -327.88569 | AF17: =(AB17-AA17)/AA17*100 -> 0.49723142 | AG17: =(AA17-Z17)/Z17*100 -> 0.42728329
A18: EE - Estonia | B18: 40505.28 | C18: 37346.5 | D18: 27282.44 | E18: 21356.98 | F18: 22054.21 | G18: 20258.51 | H18: 20956.9 | I18: 20600.18 | J18: 18990.22 | K18: 17653 | L18: 17369.19 | M18: 17752.97 | N18: 17218.22 | O18: 19107.72 | P18: 19404.4 | Q18: 19290.84 | R18: 18535.49 | S18: 22317.6 | T18: 20068.71 | U18: 16761.99 | V18: 21243.43 | W18: 21259.45 | X18: 20193.77 | Y18: 21933.87 | Z18: 21189.57 | AA18: 18123.3 | AB18: 19692.36 | AC18: =(AB18/B18)*100 -> 48.616773 | AD18: =AC18-100 -> -51.383227 | AE18: =(AB18-B18)/1000 -> -20.81292 | AF18: =(AB18-AA18)/AA18*100 -> 8.6576948 | AG18: =(AA18-Z18)/Z18*100 -> -14.470657
A19: IE - Ireland | B19: 56570.84 | C19: 57215.68 | D19: 56925.97 | E19: 57767.16 | F19: 58920.36 | G19: 60347.28 | H19: 62336.97 | I19: 63944.7 | J19: 66487.09 | K19: 67861 | L19: 70383.32 | M19: 72765.83 | N19: 70848.98 | O19: 71009.51 | P19: 70183.45 | Q19: 72069.44 | R19: 71724.61 | S19: 71138.9 | T19: 70207.6 | U19: 63863.82 | V19: 63570.31 | W19: 59200.93 | X19: 59495.19 | Y19: 59645.37 | Z19: 59567.31 | AA19: 61973.61 | AB19: 64159.9 | AC19: =(AB19/B19)*100 -> 113.41514 | AD19: =AC19-100 -> 13.415145 | AE19: =(AB19-B19)/1000 -> 7.58906 | AF19: =(AB19-AA19)/AA19*100 -> 3.5277758 | AG19: =(AA19-Z19)/Z19*100 -> 4.0396318
A20: EL - Greece | B20: 105597.46 | C20: 105324.56 | D20: 106667.83 | E20: 106404.14 | F20: 109640.96 | G20: 111814.56 | H20: 114849.68 | I20: 119677.79 | J20: 125397.35 | K20: 125887.06 | L20: 128893.54 | M20: 129767.62 | N20: 129764.15 | O20: 134214.55 | P20: 134982.57 | Q20: 138903.88 | R20: 135194.07 | S20: 137970.01 | T20: 134672.33 | U20: 127207.07 | V20: 120969.81 | W20: 118106.58 | X20: 114491.59 | Y20: 104988.5 | Z20: 101942.32 | AA20: 98203.56 | AB20: 94713.87 | AC20: =(AB20/B20)*100 -> 89.693322 | AD20: =AC20-100 -> -10.306678 | AE20: =(AB20-B20)/1000 -> -10.88359 | AF20: =(AB20-AA20)/AA20*100 -> -3.553527 | AG20: =(AA20-Z20)/Z20*100 -> -3.6675249
A21: ES - Spain | B21: 292485.86 | C21: 300501.79 | D21: 310865.99 | E21: 300803.98 | F21: 317424.55 | G21: 334042.76 | H21: 325950.45 | I21: 340749.37 | J21: 351628.73 | K21: 379150.23 | L21: 395189.88 | M21: 392737.25 | N21: 410717.91 | O21: 418886.64 | P21: 435254.23 | Q21: 450633.11 | R21: 444280.48 | S21: 456266.78 | T21: 422764.68 | U21: 382427.75 | V21: 368287.85 | W21: 368972.27 | X21: 362029.56 | Y21: 335121.72 | Z21: 338053.32 | AA21: 350026.17 | AB21: 340542.59 | AC21: =(AB21/B21)*100 -> 116.43045 | AD21: =AC21-100 -> 16.430446 | AE21: =(AB21-B21)/1000 -> 48.05673 | AF21: =(AB21-AA21)/AA21*100 -> -2.7093917 | AG21: =(AA21-Z21)/Z21*100 -> 3.5417046
A22: FR - France | B22: 555054.91 | C22: 581968.39 | D22: 571676.1 | E22: 550363.94 | F22: 544188.09 | G22: 552128.59 | H22: 570072.51 | I22: 563065.37 | J22: 577743.63 | K22: 571020.12 | L22: 565323.76 | M22: 570201.82 | N22: 563406.61 | O22: 568242.36 | P22: 567056.99 | Q22: 568642.47 | R22: 557679.19 | S22: 549148.23 | T22: 542964.03 | U22: 518325.16 | V22: 527729.14 | W22: 501143.2 | X22: 501324.95 | Y22: 500597.59 | Z22: 470673.58 | AA22: 475522.46 | AB22: 475361.63 | AC22: =(AB22/B22)*100 -> 85.642271 | AD22: =AC22-100 -> -14.357729 | AE22: =(AB22-B22)/1000 -> -79.69328 | AF22: =(AB22-AA22)/AA22*100 -> -0.033821746 | AG22: =(AA22-Z22)/Z22*100 -> 1.0302002
A23: HR - Croatia | B23: 32395.08 | C23: 25166.61 | D23: 23214.91 | E23: 23476.39 | F23: 22631.58 | G23: 23176.63 | H23: 23755.48 | I23: 24983.71 | J23: 25341.94 | K23: 26437.15 | L23: 26034.02 | M23: 27257.81 | N23: 28257.63 | O23: 29644.66 | P23: 29788.51 | Q23: 30193.9 | R23: 30525.43 | S23: 31995.45 | T23: 30808.84 | U23: 28843.37 | V23: 28283.69 | W23: 27923.05 | X23: 26140.92 | Y23: 24933 | Z23: 24069.09 | AA23: 24545.68 | AB23: 24683.07 | AC23: =(AB23/B23)*100 -> 76.193885 | AD23: =AC23-100 -> -23.806115 | AE23: =(AB23-B23)/1000 -> -7.71201 | AF23: =(AB23-AA23)/AA23*100 -> 0.5597319 | AG23: =(AA23-Z23)/Z23*100 -> 1.9800915
A24: IT - Italy | B24: 522684.6 | C24: 525115.29 | D24: 522804.06 | E24: 515939.06 | F24: 509571.48 | G24: 538490.51 | H24: 531218.85 | I24: 537967.2 | J24: 549201.85 | K24: 554876.39 | L24: 562493.81 | M24: 569252.82 | N24: 568166.28 | O24: 584206.06 | P24: 588568.42 | Q24: 589410.66 | R24: 579337.87 | S24: 571553.68 | T24: 557583.71 | U24: 503557.98 | V24: 512879.39 | W24: 500672.25 | X24: 480616.9 | Y24: 450172.56 | Z24: 434382.03 | AA24: 442529.46 | AB24: 438245.58 | AC24: =(AB24/B24)*100 -> 83.84513 | AD24: =AC24-100 -> -16.15487 | AE24: =(AB24-B24)/1000 -> -84.43902 | AF24: =(AB24-AA24)/AA24*100 -> -0.96804403 | AG24: =(AA24-Z24)/Z24*100 -> 1.875637
... A45: TR - Turkey | B45: 211271.23 | C45: 219470.01 | D45: 225510.95 | E45: 234337.98 | F45: 228348.93 | G45: 243008.7 | H45: 262176.56 | I45: 274027.25 | J45: 276031.63 | K45: 273647.3 | L45: 295106.41 | M45: 276008.47 | N45: 283491.67 | O45: 303135.08 | P45: 314223.59 | Q45: 336012.23 | R45: 359862.74 | S45: 394220.41 | T45: 392947.05 | U45: 401166.87 | V45: 408472.01 | W45: 438233.64 | X45: 453381.17 | Y45: 447716.15 | Z45: 461815.52 | AA45: 481109.94 | AB45: 506787.56 | AC45: =(AB45/B45)*100 -> 239.87533 | AD45: =AC45-100 -> 139.87533 | AE45: =(AB45-B45)/1000 -> 295.51633 | AF45: =(AB45-AA45)/AA45*100 -> 5.3371626 | AG45: =(AA45-Z45)/Z45*100 -> 4.1779497

Sheet env_air_gge_sectors
A1: Greenhouse gas emissions by source sector (source: EEA) [env_air_gge]
A3: Last update | B3: 43256.796
A4: Extracted on | B4: 08.06.18
A5: Source of data | B5: European environment agency (EEA)
A7: UNIT | B7: THS_T - Thousand tonnes
A8: AIRPOL | B8: GHG - Greenhouse gases (CO2, N2O in CO2 equivalent, CH4 in CO2 equivalent, HFC in CO2 equivalent, PFC in CO2 equivalent, SF6 in CO2 equivalent, NF3 in CO2 equivalent)
A9: GEO | B9: EU28
A11: AIREMSECT/TIME | B11: 1990 | C11: 2016 | H11: 1990 | I11: 2015
A12: CRF1 - Energy | B12: 4350763.3 | C12: 3348271.4 | G12: Fuel combustion and fugitive emissions from fuels (without transport) | H12: =B12-B15 -> 3563689.8 | I12: =C12-C15 -> 2416775.2
A13: CRF1A1 - Fuel combustion in energy industries | B13: 1677906.7 | C13: 1195210.7 | G13: Transport including international aviation | H13: =B15+B18 -> 856283.76 | I13: =C15+C18 -> 1079529.3
A14: CRF1A2 - Fuel combustion in manufacturing industries and construction | B14: 841059.38 | C14: 474349.2 | G14: Industrial processes and product use | H14: =B19 -> 517454.34 | I14: =C19 -> 374482.74
A15: CRF1A3 - Fuel combustion in transport | B15: 787073.51 | C15: 931496.24 | G15: Agriculture | H15: =B20 -> 541874.19 | I15: =C20 -> 430001.72
A16: CRF1A4 - Other fuel combustion sectors | B16: 830543.9 | C16: 656048.82 | G16: Waste management | H16: =B21 -> 235988.3 | I16: =C21 -> 138496.47
A17: CRF1A5 - Other fuel combustion sectors n.e.c. | B17: 23576.51 | C17: 6811.48 | G17: Other sectors | H17: =B22 -> 0 | I17: =C22 -> 0
A18: CRF1D1A - International aviation (memo item) | B18: 69210.25 | C18: 148033.03
A19: CRF2 - Industrial processes and product use | B19: 517454.34 | C19: 374482.74
A20: CRF3 - Agriculture | B20: 541874.19 | C20: 430001.72
A21: CRF5 - Waste management | B21: 235988.3 | C21: 138496.47
A22: CRF6 - Other sectors | B22: 0 | C22: 0
A23: CRF1-6X4_MEMONIA - All sectors (excluding LULUCF and memo items, including international aviation) | B23: 5715290.3 | C23: 4439285.4
C24: =C23-C18 -> 4291252.3

Sheet Sheet1

Sheet Table 2
B1: Table 2: Three perspectives of greenhouse gas (GHG) emission statistics
B3: Perspective | C3: Statistical framework | D3: Purpose | E3: Related data sets | F3: Related SE article
B4: 1 GHG emissions classified by economic activities | C4: Air Emissions Accounts (AEA) by Eurostat | D4: tailored for integrated environmental-economic analyses | E4: env_air_aa | F4: link
B5: 2 GHG emissions classified by technical processes | C5: GHG emission inventories by UN | D5: official international reporting framework for international climate policies (UNFCCC, EU MMR) | E5: env_air_gge | F5: this article
B6: 3 'footprints' = GHG emissions classified by final use of products | C6: Modelling results published by Eurostat | D6: one particular analytical application of AEA | E6: env_ac_io10 | F6: link
