{"text_format":"1","workbook":"xlsx","n_sheets":13,"sheets":["MAIN","OVERALL SUMMARY","TEMPLATE TABLES","REMARKS","TRANSPORT","OVERALL TARGET","HEAT PUMPS","STAT. TRANSFERS","COAL","OIL","GAS","ELE","REN"],"not_rendered":{"charts":0,"images":20,"macros":1,"external_links":2,"defined_names":36,"comments":0,"pivot_tables":0},"unopened":[],"bounds":{"document_bytes":16777216,"sheet_cells":100000,"rows_first":2000,"rows_last":500,"rows_between":2000,"halvings":0,"cell_chars":16384,"cell_head_chars":4096},"cells_cut":0,"cells_raw":0,"read":"whole","date_system":"1900"}

{"sheet":"MAIN","index":0,"n_rows":139,"n_cols":16,"rows_kept":139,"cut":false,"hidden":false,"merged":[[1,0,1,40],[2,0,2,40],[3,0,6,40],[44,0,44,40],[49,0,51,40],[40,0,41,40],[45,0,45,40],[11,0,11,40],[43,0,43,40],[47,0,47,40]]}
[]
["SHARES tool 2014"]
["SHort Assessment of Renewable Energy Sources"]
["v2014.51008"]
[]
[]
[]
[null,"Please select your country in the box below:"]
[null,null,null,""]
[null,null,null,{"$f":"IF(ISERROR(VLOOKUP(D9,H100:I139,2,FALSE)),\"ERROR\",VLOOKUP(D9,H100:I139,2,FALSE))","v":"ERROR"}]
[]
["This tool works only if Visual Basic macros are enabled."]
[]
[]
[null,null,"û"]
[]
[]
[null,null,"û"]
[]
[]
[null,null,"û"]
[]
[]
[null,null,"û"]
[]
[]
[null,null,"û"]
[]
[]
[]
[]
[]
[]
[]
[]
[]
[]
[]
[]
[]
["The objective of this tool is to facilitate the calculation of the share of energy\nfrom renewable sources according to Directive 2009/28/EC."]
[]
[]
["Please refer to the SHARES tool manual for additional details on methodology."]
["The manual also describes how to use this tool and the prerequisites."]
["http://ec.europa.eu/eurostat/web/energy/data/shares"]
[]
["Completed SHARES tool shall be transmitted to Eurostat\nfollowing the eDAMIS implementing procedures (dataset name: ENERGY_SHARES_A)."]
[]
["For any questions or comments on the use of this tool,\nplease contact ESTAT-ENERGY@EC.EUROPA.EU\nor Marek Šturc (marek.sturc@ec.europa.eu)."]
[]
[]
[]
[]
[]
[]
[]
[]
[]
[]
[]
[]
[]
[]
[]
[]
[]
[]
[]
[]
[]
[]
[]
[]
[]
[]
[]
[]
[]
[]
[]
[]
[]
[]
[]
[]
[]
[]
[]
[]
[]
[]
[]
[]
[]
[]
[]
[null,null,null,null,null,null,null,null,null,"2020 target","\n2011-2012","indicative\n2013-2014","trajectory \n2015-2016","\n2017-2018","S2005"]
[null,null,null,null,null,null,null,null,null,0.2,":",":",":",":",":","EU28"]
[null,null,null,null,null,null,null,"Albania","ALBANIA"," "," "," "," "," "," "]
[null,null,null,null,null,null,null,"Austria","AUSTRIA",0.34,0.25440000000000002,0.2651,0.28115000000000001,0.30255000000000004,0.23300000000000001,"AT"]
[null,null,null,null,null,null,null,"Belgium","BELGIUM",0.13,4.36E-2,5.4400000000000004E-2,7.0599999999999996E-2,9.2200000000000004E-2,2.1999999999999999E-2,"BE"]
[null,null,null,null,null,null,null,"Bosnia & Herzegovina","BOSNIAHERZ"," "," "," "," "," "," "]
[null,null,null,null,null,null,null,"Bulgaria","BULGARIA",0.16,0.1072,0.1138,0.1237,0.13689999999999999,9.4E-2,"BG"]
[null,null,null,null,null,null,null,"Croatia","CROATIA",0.2,0.14080000000000001,0.1482,0.1593,0.1741,0.126,"HR"]
[null,null,null,null,null,null,null,"Cyprus","CYPRUS",0.13,4.9200000000000008E-2,5.9300000000000005E-2,7.4450000000000002E-2,9.4649999999999998E-2,2.9000000000000001E-2,"CY"]
[null,null,null,null,null,null,null,"Czech Republic","CZECH",0.13,7.4800000000000005E-2,8.1699999999999995E-2,9.2050000000000007E-2,0.10585,6.0999999999999999E-2,"CZ"]
[null,null,null,null,null,null,null,"Denmark","DENMARK",0.3,0.19600000000000001,0.20900000000000002,0.22850000000000001,0.2545,0.17,"DK"]
[null,null,null,null,null,null,null,"Estonia","ESTONIA",0.25,0.19400000000000001,0.20099999999999998,0.21149999999999999,0.22550000000000001,0.18,"EE"]
[null,null,null,null,null,null,null,"Finland","FINLAND",0.38,0.30399999999999999,0.3135,0.32774999999999999,0.34675,0.28499999999999998,"FI"]
[null,null,null,null,null,null,null,"France","FRANCE",0.23,0.12839999999999999,0.1411,0.16014999999999999,0.18554999999999999,0.10299999999999999,"FR"]
[null,null,null,null,null,null,null,"FYR of Macedonia","FYROM"," "," "," "," "," "," "]
[null,null,null,null,null,null,null,"Georgia","GEORGIA"," "," "," "," "," "," "]
[null,null,null,null,null,null,null,"Germany","GERMANY",0.18,8.2400000000000001E-2,9.4600000000000004E-2,0.1129,0.13730000000000001,5.8000000000000003E-2,"DE"]
[null,null,null,null,null,null,null,"Greece","GREECE",0.18,9.1200000000000003E-2,0.1023,0.11895,0.14115,6.9000000000000006E-2,"EL"]
[null,null,null,null,null,null,null,"Hungary","HUNGARY",0.13,6.0399999999999995E-2,6.9099999999999995E-2,8.2150000000000001E-2,9.955E-2,4.2999999999999997E-2,"HU"]
[null,null,null,null,null,null,null,"Iceland","ICELAND",0.64," "," "," "," "," "]
[null,null,null,null,null,null,null,"Ireland","IRELAND",0.16,5.6800000000000003E-2,6.9699999999999998E-2,8.9050000000000004E-2,0.11485000000000001,3.1E-2,"IE"]
[null,null,null,null,null,null,null,"Italy","ITALY",0.17,7.5600000000000001E-2,8.7400000000000005E-2,0.1051,0.12870000000000001,5.1999999999999998E-2,"IT"]
[null,null,null,null,null,null,null,"Latvia","LATVIA",0.4,0.34079999999999999,0.34820000000000001,0.35930000000000001,0.37410000000000004,0.32600000000000001,"LV"]
[null,null,null,null,null,null,null,"Lithuania","LITHUANIA",0.23,0.16600000000000001,0.17399999999999999,0.186,0.20200000000000001,0.15,"LT"]
[null,null,null,null,null,null,null,"Luxembourg","LUXEMBOU",0.11,2.9200000000000004E-2,3.9300000000000002E-2,5.4450000000000005E-2,7.4649999999999994E-2,8.9999999999999993E-3,"LU"]
[null,null,null,null,null,null,null,"Malta","MALTA",0.1,2.0000000000000004E-2,0.03,4.5000000000000005E-2,6.5000000000000002E-2,0,"MT"]
[null,null,null,null,null,null,null,"Moldova","MOLDOVA"," "," "," "," "," "," "]
[null,null,null,null,null,null,null,"Montenegro","MONTENEGRO"," "," "," "," "," "," "]
[null,null,null,null,null,null,null,"Netherlands","NETHLAND",0.14000000000000001,4.7200000000000006E-2,5.8800000000000005E-2,7.6200000000000018E-2,9.9400000000000016E-2,2.4E-2,"NL"]
[null,null,null,null,null,null,null,"Norway","NORWAY",0.67500000000000004,0.60060000000000002,0.6099,0.62385000000000002,0.64244999999999997,0.58199999999999996,"NO"]
[null,null,null,null,null,null,null,"Poland","POLAND",0.15,8.7599999999999997E-2,9.5399999999999999E-2,0.1071,0.1227,7.1999999999999995E-2,"PL"]
[null,null,null,null,null,null,null,"Portugal","PORTUGAL",0.31,0.22599999999999998,0.23649999999999999,0.25224999999999997,0.27324999999999999,0.20499999999999999,"PT"]
[null,null,null,null,null,null,null,"Romania","ROMANIA",0.24,0.19039999999999999,0.1966,0.2059,0.21829999999999999,0.17799999999999999,"RO"]
[null,null,null,null,null,null,null,"Serbia","SERBIA"," "," "," "," "," "," "]
[null,null,null,null,null,null,null,"Slovak Republic","SLOVAKIA",0.14000000000000001,8.1600000000000006E-2,8.8900000000000007E-2,9.9850000000000008E-2,0.11445000000000001,6.7000000000000004E-2,"SK"]
[null,null,null,null,null,null,null,"Slovenia","SLOVENIA",0.25,0.17799999999999999,0.187,0.20050000000000001,0.2185,0.16,"SI"]
[null,null,null,null,null,null,null,"Spain","SPAIN",0.2,0.1096,0.12090000000000001,0.13785,0.16045000000000001,8.6999999999999994E-2,"ES"]
[null,null,null,null,null,null,null,"Sweden","SWEDEN",0.49,0.41639999999999999,0.42560000000000003,0.43940000000000001,0.45779999999999998,0.39800000000000002,"SE"]
[null,null,null,null,null,null,null,"Switzerland","SWITLAND"," "," "," "," "," "," "]
[null,null,null,null,null,null,null,"Turkey","TURKEY"," "," "," "," "," "," "]
[null,null,null,null,null,null,null,"Ukraine","UKRAINE"," "," "," "," "," "," "]
[null,null,null,null,null,null,null,"United Kingdom","UK",0.15,4.0399999999999998E-2,5.4099999999999988E-2,7.4649999999999994E-2,0.10204999999999999,1.2999999999999999E-2,"UK"]

{"sheet":"OVERALL SUMMARY","index":1,"n_rows":203,"n_cols":27,"rows_kept":203,"cut":false,"hidden":false,"merged":[[0,7,1,10],[66,9,66,10],[66,11,66,12],[66,13,66,14],[66,15,66,16],[65,9,65,10],[65,11,65,12],[65,13,65,14],[65,15,65,16],[64,9,64,16]]}
[null,null,null,null,null,null,null,{"$f":"MAIN!$D$9","v":""},null,null,null,null,null,null,null,null,null,null,null,null,null,null,null,null,null,null,1]
[]
[]
[]
[null,null,2004,2005,2006,2007,2008,2009,2010,2011,2012,2013,2014,2015,2016,2017,2018,2019,2020]
["Renewable electricity"]
["Hydro",null,{"$f":"$AA$1*'OVERALL TARGET'!V3*3.6/41.868","v":0},{"$f":"$AA$1*'OVERALL TARGET'!W3*3.6/41.868","v":0},{"$f":"$AA$1*'OVERALL TARGET'!X3*3.6/41.868","v":0},{"$f":"$AA$1*'OVERALL TARGET'!Y3*3.6/41.868","v":0},{"$f":"$AA$1*'OVERALL TARGET'!Z3*3.6/41.868","v":0},{"$f":"$AA$1*'OVERALL TARGET'!AA3*3.6/41.868","v":0},{"$f":"$AA$1*'OVERALL TARGET'!AB3*3.6/41.868","v":0},{"$f":"$AA$1*'OVERALL TARGET'!AC3*3.6/41.868","v":0},{"$f":"$AA$1*'OVERALL TARGET'!AD3*3.6/41.868","v":0},{"$f":"$AA$1*'OVERALL TARGET'!AE3*3.6/41.868","v":0},{"$f":"$AA$1*'OVERALL TARGET'!AF3*3.6/41.868","v":0},{"$f":"$AA$1*'OVERALL TARGET'!AG3*3.6/41.868","v":0},{"$f":"$AA$1*'OVERALL TARGET'!AH3*3.6/41.868","v":0},{"$f":"$AA$1*'OVERALL TARGET'!AI3*3.6/41.868","v":0},{"$f":"$AA$1*'OVERALL TARGET'!AJ3*3.6/41.868","v":0},{"$f":"$AA$1*'OVERALL TARGET'!AK3*3.6/41.868","v":0},{"$f":"$AA$1*'OVERALL TARGET'!AL3*3.6/41.868","v":0}]
["Wind",null,{"$f":"$AA$1*'OVERALL TARGET'!V4*3.6/41.868","v":0},{"$f":"$AA$1*'OVERALL TARGET'!W4*3.6/41.868","v":0},{"$f":"$AA$1*'OVERALL TARGET'!X4*3.6/41.868","v":0},{"$f":"$AA$1*'OVERALL TARGET'!Y4*3.6/41.868","v":0},{"$f":"$AA$1*'OVERALL TARGET'!Z4*3.6/41.868","v":0},{"$f":"$AA$1*'OVERALL TARGET'!AA4*3.6/41.868","v":0},{"$f":"$AA$1*'OVERALL TARGET'!AB4*3.6/41.868","v":0},{"$f":"$AA$1*'OVERALL TARGET'!AC4*3.6/41.868","v":0},{"$f":"$AA$1*'OVERALL TARGET'!AD4*3.6/41.868","v":0},{"$f":"$AA$1*'OVERALL TARGET'!AE4*3.6/41.868","v":0},{"$f":"$AA$1*'OVERALL TARGET'!AF4*3.6/41.868","v":0},{"$f":"$AA$1*'OVERALL TARGET'!AG4*3.6/41.868","v":0},{"$f":"$AA$1*'OVERALL TARGET'!AH4*3.6/41.868","v":0},{"$f":"$AA$1*'OVERALL TARGET'!AI4*3.6/41.868","v":0},{"$f":"$AA$1*'OVERALL TARGET'!AJ4*3.6/41.868","v":0},{"$f":"$AA$1*'OVERALL TARGET'!AK4*3.6/41.868","v":0},{"$f":"$AA$1*'OVERALL TARGET'!AL4*3.6/41.868","v":0}]
["Solar",null,{"$f":"$AA$1*((REN!V133+REN!V134+REN!V141+REN!V142)/1000)*3.6/41.868","v":0},{"$f":"$AA$1*((REN!W133+REN!W134+REN!W141+REN!W142)/1000)*3.6/41.868","v":0},{"$f":"$AA$1*((REN!X133+REN!X134+REN!X141+REN!X142)/1000)*3.6/41.868","v":0},{"$f":"$AA$1*((REN!Y133+REN!Y134+REN!Y141+REN!Y142)/1000)*3.6/41.868","v":0},{"$f":"$AA$1*((REN!Z133+REN!Z134+REN!Z141+REN!Z142)/1000)*3.6/41.868","v":0},{"$f":"$AA$1*((REN!AA133+REN!AA134+REN!AA141+REN!AA142)/1000)*3.6/41.868","v":0},{"$f":"$AA$1*((REN!AB133+REN!AB134+REN!AB141+REN!AB142)/1000)*3.6/41.868","v":0},{"$f":"$AA$1*((REN!AC133+REN!AC134+REN!AC141+REN!AC142)/1000)*3.6/41.868","v":0},{"$f":"$AA$1*((REN!AD133+REN!AD134+REN!AD141+REN!AD142)/1000)*3.6/41.868","v":0},{"$f":"$AA$1*((REN!AE133+REN!AE134+REN!AE141+REN!AE142)/1000)*3.6/41.868","v":0},{"$f":"$AA$1*((REN!AF133+REN!AF134+REN!AF141+REN!AF142)/1000)*3.6/41.868","v":0},{"$f":"$AA$1*((REN!AG133+REN!AG134+REN!AG141+REN!AG142)/1000)*3.6/41.868","v":0},{"$f":"$AA$1*((REN!AH133+REN!AH134+REN!AH141+REN!AH142)/1000)*3.6/41.868","v":0},{"$f":"$AA$1*((REN!AI133+REN!AI134+REN!AI141+REN!AI142)/1000)*3.6/41.868","v":0},{"$f":"$AA$1*((REN!AJ133+REN!AJ134+REN!AJ141+REN!AJ142)/1000)*3.6/41.868","v":0},{"$f":"$AA$1*((REN!AK133+REN!AK134+REN!AK141+REN!AK142)/1000)*3.6/41.868","v":0},{"$f":"$AA$1*((REN!AL133+REN!AL134+REN!AL141+REN!AL142)/1000)*3.6/41.868","v":0}]
["Solid biofuels",null,{"$f":"$AA$1*((REN!V137+REN!V145)/1000)*3.6/41.868","v":0},{"$f":"$AA$1*((REN!W137+REN!W145)/1000)*3.6/41.868","v":0},{"$f":"$AA$1*((REN!X137+REN!X145)/1000)*3.6/41.868","v":0},{"$f":"$AA$1*((REN!Y137+REN!Y145)/1000)*3.6/41.868","v":0},{"$f":"$AA$1*((REN!Z137+REN!Z145)/1000)*3.6/41.868","v":0},{"$f":"$AA$1*((REN!AA137+REN!AA145)/1000)*3.6/41.868","v":0},{"$f":"$AA$1*((REN!AB137+REN!AB145)/1000)*3.6/41.868","v":0},{"$f":"$AA$1*((REN!AC137+REN!AC145)/1000)*3.6/41.868","v":0},{"$f":"$AA$1*((REN!AD137+REN!AD145)/1000)*3.6/41.868","v":0},{"$f":"$AA$1*((REN!AE137+REN!AE145)/1000)*3.6/41.868","v":0},{"$f":"$AA$1*((REN!AF137+REN!AF145)/1000)*3.6/41.868","v":0},{"$f":"$AA$1*((REN!AG137+REN!AG145)/1000)*3.6/41.868","v":0},{"$f":"$AA$1*((REN!AH137+REN!AH145)/1000)*3.6/41.868","v":0},{"$f":"$AA$1*((REN!AI137+REN!AI145)/1000)*3.6/41.868","v":0},{"$f":"$AA$1*((REN!AJ137+REN!AJ145)/1000)*3.6/41.868","v":0},{"$f":"$AA$1*((REN!AK137+REN!AK145)/1000)*3.6/41.868","v":0},{"$f":"$AA$1*((REN!AL137+REN!AL145)/1000)*3.6/41.868","v":0}]
["All other renewables",null,{"$f":"$AA$1*('OVERALL TARGET'!V2-'OVERALL TARGET'!V3-'OVERALL TARGET'!V4-((REN!V133+REN!V134+REN!V141+REN!V142)/1000)-((REN!V137+REN!V145)/1000))*3.6/41.868","v":0},{"$f":"$AA$1*('OVERALL TARGET'!W2-'OVERALL TARGET'!W3-'OVERALL TARGET'!W4-((REN!W133+REN!W134+REN!W141+REN!W142)/1000)-((REN!W137+REN!W145)/1000))*3.6/41.868","v":0},{"$f":"$AA$1*('OVERALL TARGET'!X2-'OVERALL TARGET'!X3-'OVERALL TARGET'!X4-((REN!X133+REN!X134+REN!X141+REN!X142)/1000)-((REN!X137+REN!X145)/1000))*3.6/41.868","v":0},{"$f":"$AA$1*('OVERALL TARGET'!Y2-'OVERALL TARGET'!Y3-'OVERALL TARGET'!Y4-((REN!Y133+REN!Y134+REN!Y141+REN!Y142)/1000)-((REN!Y137+REN!Y145)/1000))*3.6/41.868","v":0},{"$f":"$AA$1*('OVERALL TARGET'!Z2-'OVERALL TARGET'!Z3-'OVERALL TARGET'!Z4-((REN!Z133+REN!Z134+REN!Z141+REN!Z142)/1000)-((REN!Z137+REN!Z145)/1000))*3.6/41.868","v":0},{"$f":"$AA$1*('OVERALL TARGET'!AA2-'OVERALL TARGET'!AA3-'OVERALL TARGET'!AA4-((REN!AA133+REN!AA134+REN!AA141+REN!AA142)/1000)-((REN!AA137+REN!AA145)/1000))*3.6/41.868","v":0},{"$f":"$AA$1*('OVERALL TARGET'!AB2-'OVERALL TARGET'!AB3-'OVERALL TARGET'!AB4-((REN!AB133+REN!AB134+REN!AB141+REN!AB142)/1000)-((REN!AB137+REN!AB145)/1000))*3.6/41.868","v":0},{"$f":"$AA$1*('OVERALL TARGET'!AC2-'OVERALL TARGET'!AC3-'OVERALL TARGET'!AC4-((REN!AC133+REN!AC134+REN!AC141+REN!AC142)/1000)-((REN!AC137+REN!AC145)/1000))*3.6/41.868","v":0},{"$f":"$AA$1*('OVERALL TARGET'!AD2-'OVERALL TARGET'!AD3-'OVERALL TARGET'!AD4-((REN!AD133+REN!AD134+REN!AD141+REN!AD142)/1000)-((REN!AD137+REN!AD145)/1000))*3.6/41.868","v":0},{"$f":"$AA$1*('OVERALL TARGET'!AE2-'OVERALL TARGET'!AE3-'OVERALL TARGET'!AE4-((REN!AE133+REN!AE134+REN!AE141+REN!AE142)/1000)-((REN!AE137+REN!AE145)/1000))*3.6/41.868","v":0},{"$f":"$AA$1*('OVERALL TARGET'!AF2-'OVERALL TARGET'!AF3-'OVERALL TARGET'!AF4-((REN!AF133+REN!AF134+REN!AF141+REN!AF142)/1000)-((REN!AF137+REN!AF145)/1000))*3.6/41.868","v":0},{"$f":"$AA$1*('OVERALL TARGET'!AG2-'OVERALL TARGET'!AG3-'OVERALL TARGET'!AG4-((REN!AG133+REN!AG134+REN!AG141+REN!AG142)/1000)-((REN!AG137+REN!AG145)/1000))*3.6/41.868","v":0},{"$f":"$AA$1*('OVERALL TARGET'!AH2-'OVERALL TARGET'!AH3-'OVERALL TARGET'!AH4-((REN!AH133+REN!AH134+REN!AH141+REN!AH142)/1000)-((REN!AH137+REN!AH145)/1000))*3.6/41.868","v":0},{"$f":"$AA$1*('OVERALL TARGET'!AI2-'OVERALL TARGET'!AI3-'OVERALL TARGET'!AI4-((REN!AI133+REN!AI134+REN!AI141+REN!AI142)/1000)-((REN!AI137+REN!AI145)/1000))*3.6/41.868","v":0},{"$f":"$AA$1*('OVERALL TARGET'!AJ2-'OVERALL TARGET'!AJ3-'OVERALL TARGET'!AJ4-((REN!AJ133+REN!AJ134+REN!AJ141+REN!AJ142)/1000)-((REN!AJ137+REN!AJ145)/1000))*3.6/41.868","v":0},{"$f":"$AA$1*('OVERALL TARGET'!AK2-'OVERALL TARGET'!AK3-'OVERALL TARGET'!AK4-((REN!AK133+REN!AK134+REN!AK141+REN!AK142)/1000)-((REN!AK137+REN!AK145)/1000))*3.6/41.868","v":0},{"$f":"$AA$1*('OVERALL TARGET'!AL2-'OVERALL TARGET'!AL3-'OVERALL TARGET'!AL4-((REN!AL133+REN!AL134+REN!AL141+REN!AL142)/1000)-((REN!AL137+REN!AL145)/1000))*3.6/41.868","v":0}]
["Total (RES-E numerator)",null,{"$f":"SUM(C7:C11)","v":0},{"$f":"SUM(D7:D11)","v":0},0,0,0,0,0,0,0,0,0,0,0,0,0,0,0]
["Notes: Hydro is normalised and excluding pumping. Wind is normalised. Solar includes solar photovoltaics and solar thermal generation. All other renewables includes electricity generation from gaseous and liquid biofuels, renewable municipal waste, geothermal, and tide, wave & ocean."]
["Electricity generation from all sources"]
["Total (RES-E denominator)",null,{"$f":"$AA$1*'OVERALL TARGET'!V10*3.6/41.868","v":0},{"$f":"$AA$1*'OVERALL TARGET'!W10*3.6/41.868","v":0},{"$f":"$AA$1*'OVERALL TARGET'!X10*3.6/41.868","v":0},{"$f":"$AA$1*'OVERALL TARGET'!Y10*3.6/41.868","v":0},{"$f":"$AA$1*'OVERALL TARGET'!Z10*3.6/41.868","v":0},{"$f":"$AA$1*'OVERALL TARGET'!AA10*3.6/41.868","v":0},{"$f":"$AA$1*'OVERALL TARGET'!AB10*3.6/41.868","v":0},{"$f":"$AA$1*'OVERALL TARGET'!AC10*3.6/41.868","v":0},{"$f":"$AA$1*'OVERALL TARGET'!AD10*3.6/41.868","v":0},{"$f":"$AA$1*'OVERALL TARGET'!AE10*3.6/41.868","v":0},{"$f":"$AA$1*'OVERALL TARGET'!AF10*3.6/41.868","v":0},{"$f":"$AA$1*'OVERALL TARGET'!AG10*3.6/41.868","v":0},{"$f":"$AA$1*'OVERALL TARGET'!AH10*3.6/41.868","v":0},{"$f":"$AA$1*'OVERALL TARGET'!AI10*3.6/41.868","v":0},{"$f":"$AA$1*'OVERALL TARGET'!AJ10*3.6/41.868","v":0},{"$f":"$AA$1*'OVERALL TARGET'!AK10*3.6/41.868","v":0},{"$f":"$AA$1*'OVERALL TARGET'!AL10*3.6/41.868","v":0}]
["RES-E [%]",null,{"$f":"IF(C15>0,C12/C15,\"\")","v":""},"","","","","","","","","","","","","","","",""]
[]
["Renewables in transport"]
["Ren. electricity in road transport",null,{"$f":"TRANSPORT!V50","v":0},{"$f":"TRANSPORT!W50","v":0},{"$f":"TRANSPORT!X50","v":0},{"$f":"TRANSPORT!Y50","v":0},{"$f":"TRANSPORT!Z50","v":0},{"$f":"TRANSPORT!AA50","v":0},{"$f":"TRANSPORT!AB50","v":0},{"$f":"TRANSPORT!AC50","v":0},{"$f":"TRANSPORT!AD50","v":0},{"$f":"TRANSPORT!AE50","v":0},{"$f":"TRANSPORT!AF50","v":0},{"$f":"TRANSPORT!AG50","v":0},{"$f":"TRANSPORT!AH50","v":0},{"$f":"TRANSPORT!AI50","v":0},{"$f":"TRANSPORT!AJ50","v":0},{"$f":"TRANSPORT!AK50","v":0},{"$f":"TRANSPORT!AL50","v":0}]
["Non-Ren. electricity in road transport",null,{"$f":"TRANSPORT!V51","v":0},{"$f":"TRANSPORT!W51","v":0},{"$f":"TRANSPORT!X51","v":0},{"$f":"TRANSPORT!Y51","v":0},{"$f":"TRANSPORT!Z51","v":0},{"$f":"TRANSPORT!AA51","v":0},{"$f":"TRANSPORT!AB51","v":0},{"$f":"TRANSPORT!AC51","v":0},{"$f":"TRANSPORT!AD51","v":0},{"$f":"TRANSPORT!AE51","v":0},{"$f":"TRANSPORT!AF51","v":0},{"$f":"TRANSPORT!AG51","v":0},{"$f":"TRANSPORT!AH51","v":0},{"$f":"TRANSPORT!AI51","v":0},{"$f":"TRANSPORT!AJ51","v":0},{"$f":"TRANSPORT!AK51","v":0},{"$f":"TRANSPORT!AL51","v":0}]
["Ren. electricity in all other transport modes",null,{"$f":"TRANSPORT!V56","v":0},{"$f":"TRANSPORT!W56","v":0},{"$f":"TRANSPORT!X56","v":0},{"$f":"TRANSPORT!Y56","v":0},{"$f":"TRANSPORT!Z56","v":0},{"$f":"TRANSPORT!AA56","v":0},{"$f":"TRANSPORT!AB56","v":0},{"$f":"TRANSPORT!AC56","v":0},{"$f":"TRANSPORT!AD56","v":0},{"$f":"TRANSPORT!AE56","v":0},{"$f":"TRANSPORT!AF56","v":0},{"$f":"TRANSPORT!AG56","v":0},{"$f":"TRANSPORT!AH56","v":0},{"$f":"TRANSPORT!AI56","v":0},{"$f":"TRANSPORT!AJ56","v":0},{"$f":"TRANSPORT!AK56","v":0},{"$f":"TRANSPORT!AL56","v":0}]
["Non-Ren. electricity in all other transport modes",null,{"$f":"TRANSPORT!V57","v":0},{"$f":"TRANSPORT!W57","v":0},{"$f":"TRANSPORT!X57","v":0},{"$f":"TRANSPORT!Y57","v":0},{"$f":"TRANSPORT!Z57","v":0},{"$f":"TRANSPORT!AA57","v":0},{"$f":"TRANSPORT!AB57","v":0},{"$f":"TRANSPORT!AC57","v":0},{"$f":"TRANSPORT!AD57","v":0},{"$f":"TRANSPORT!AE57","v":0},{"$f":"TRANSPORT!AF57","v":0},{"$f":"TRANSPORT!AG57","v":0},{"$f":"TRANSPORT!AH57","v":0},{"$f":"TRANSPORT!AI57","v":0},{"$f":"TRANSPORT!AJ57","v":0},{"$f":"TRANSPORT!AK57","v":0},{"$f":"TRANSPORT!AL57","v":0}]
["Compliant biofuels*",null,{"$f":"$AA$1*SUM(TRANSPORT!V28:V30,TRANSPORT!V32:V34)","v":0},{"$f":"$AA$1*SUM(TRANSPORT!W28:W30,TRANSPORT!W32:W34)","v":0},{"$f":"$AA$1*SUM(TRANSPORT!X28:X30,TRANSPORT!X32:X34)","v":0},{"$f":"$AA$1*SUM(TRANSPORT!Y28:Y30,TRANSPORT!Y32:Y34)","v":0},{"$f":"$AA$1*SUM(TRANSPORT!Z28:Z30,TRANSPORT!Z32:Z34)","v":0},{"$f":"$AA$1*SUM(TRANSPORT!AA28:AA30,TRANSPORT!AA32:AA34)","v":0},{"$f":"$AA$1*SUM(TRANSPORT!AB28:AB30,TRANSPORT!AB32:AB34)","v":0},{"$f":"$AA$1*TRANSPORT!AC42","v":0},{"$f":"$AA$1*TRANSPORT!AD42","v":0},{"$f":"$AA$1*TRANSPORT!AE42","v":0},{"$f":"$AA$1*TRANSPORT!AF42","v":0},{"$f":"$AA$1*TRANSPORT!AG42","v":0},{"$f":"$AA$1*TRANSPORT!AH42","v":0},{"$f":"$AA$1*TRANSPORT!AI42","v":0},{"$f":"$AA$1*TRANSPORT!AJ42","v":0},{"$f":"$AA$1*TRANSPORT!AK42","v":0},{"$f":"$AA$1*TRANSPORT!AL42","v":0}]
["   of which Article 21(2)",null,{"$f":"$AA$1*TRANSPORT!V43","v":0},{"$f":"$AA$1*TRANSPORT!W43","v":0},{"$f":"$AA$1*TRANSPORT!X43","v":0},{"$f":"$AA$1*TRANSPORT!Y43","v":0},{"$f":"$AA$1*TRANSPORT!Z43","v":0},{"$f":"$AA$1*TRANSPORT!AA43","v":0},{"$f":"$AA$1*TRANSPORT!AB43","v":0},{"$f":"$AA$1*TRANSPORT!AC43","v":0},{"$f":"$AA$1*TRANSPORT!AD43","v":0},{"$f":"$AA$1*TRANSPORT!AE43","v":0},{"$f":"$AA$1*TRANSPORT!AF43","v":0},{"$f":"$AA$1*TRANSPORT!AG43","v":0},{"$f":"$AA$1*TRANSPORT!AH43","v":0},{"$f":"$AA$1*TRANSPORT!AI43","v":0},{"$f":"$AA$1*TRANSPORT!AJ43","v":0},{"$f":"$AA$1*TRANSPORT!AK43","v":0},{"$f":"$AA$1*TRANSPORT!AL43","v":0}]
["Other renewable energies",null,{"$f":"$AA$1*(TRANSPORT!V36+TRANSPORT!V37+TRANSPORT!V38)","v":0},{"$f":"$AA$1*(TRANSPORT!W36+TRANSPORT!W37+TRANSPORT!W38)","v":0},{"$f":"$AA$1*(TRANSPORT!X36+TRANSPORT!X37+TRANSPORT!X38)","v":0},{"$f":"$AA$1*(TRANSPORT!Y36+TRANSPORT!Y37+TRANSPORT!Y38)","v":0},{"$f":"$AA$1*(TRANSPORT!Z36+TRANSPORT!Z37+TRANSPORT!Z38)","v":0},{"$f":"$AA$1*(TRANSPORT!AA36+TRANSPORT!AA37+TRANSPORT!AA38)","v":0},{"$f":"$AA$1*(TRANSPORT!AB36+TRANSPORT!AB37+TRANSPORT!AB38)","v":0},{"$f":"$AA$1*(TRANSPORT!AC36+TRANSPORT!AC37+TRANSPORT!AC38)","v":0},{"$f":"$AA$1*(TRANSPORT!AD36+TRANSPORT!AD37+TRANSPORT!AD38)","v":0},{"$f":"$AA$1*(TRANSPORT!AE36+TRANSPORT!AE37+TRANSPORT!AE38)","v":0},{"$f":"$AA$1*(TRANSPORT!AF36+TRANSPORT!AF37+TRANSPORT!AF38)","v":0},{"$f":"$AA$1*(TRANSPORT!AG36+TRANSPORT!AG37+TRANSPORT!AG38)","v":0},{"$f":"$AA$1*(TRANSPORT!AH36+TRANSPORT!AH37+TRANSPORT!AH38)","v":0},{"$f":"$AA$1*(TRANSPORT!AI36+TRANSPORT!AI37+TRANSPORT!AI38)","v":0},{"$f":"$AA$1*(TRANSPORT!AJ36+TRANSPORT!AJ37+TRANSPORT!AJ38)","v":0},{"$f":"$AA$1*(TRANSPORT!AK36+TRANSPORT!AK37+TRANSPORT!AK38)","v":0},{"$f":"$AA$1*(TRANSPORT!AL36+TRANSPORT!AL37+TRANSPORT!AL38)","v":0}]
["Total (RES-T numerator)",null,{"$f":"$AA$1*TRANSPORT!V60","v":0},{"$f":"$AA$1*TRANSPORT!W60","v":0},{"$f":"$AA$1*TRANSPORT!X60","v":0},{"$f":"$AA$1*TRANSPORT!Y60","v":0},{"$f":"$AA$1*TRANSPORT!Z60","v":0},{"$f":"$AA$1*TRANSPORT!AA60","v":0},{"$f":"$AA$1*TRANSPORT!AB60","v":0},{"$f":"$AA$1*TRANSPORT!AC60","v":0},{"$f":"$AA$1*TRANSPORT!AD60","v":0},{"$f":"$AA$1*TRANSPORT!AE60","v":0},{"$f":"$AA$1*TRANSPORT!AF60","v":0},{"$f":"$AA$1*TRANSPORT!AG60","v":0},{"$f":"$AA$1*TRANSPORT!AH60","v":0},{"$f":"$AA$1*TRANSPORT!AI60","v":0},{"$f":"$AA$1*TRANSPORT!AJ60","v":0},{"$f":"$AA$1*TRANSPORT!AK60","v":0},{"$f":"$AA$1*TRANSPORT!AL60","v":0}]
["* In period 2004-2010 all consumed biofuels are included in this category; as of 2011 only those compliant with Articles 17 and 18 of Directive 2009/28/EC."]
["Fuel used in transport (as defined in Article 3)"]
["Total (RES-T denominator)",null,{"$f":"$AA$1*TRANSPORT!V62","v":0},{"$f":"$AA$1*TRANSPORT!W62","v":0},{"$f":"$AA$1*TRANSPORT!X62","v":0},{"$f":"$AA$1*TRANSPORT!Y62","v":0},{"$f":"$AA$1*TRANSPORT!Z62","v":0},{"$f":"$AA$1*TRANSPORT!AA62","v":0},{"$f":"$AA$1*TRANSPORT!AB62","v":0},{"$f":"$AA$1*TRANSPORT!AC62","v":0},{"$f":"$AA$1*TRANSPORT!AD62","v":0},{"$f":"$AA$1*TRANSPORT!AE62","v":0},{"$f":"$AA$1*TRANSPORT!AF62","v":0},{"$f":"$AA$1*TRANSPORT!AG62","v":0},{"$f":"$AA$1*TRANSPORT!AH62","v":0},{"$f":"$AA$1*TRANSPORT!AI62","v":0},{"$f":"$AA$1*TRANSPORT!AJ62","v":0},{"$f":"$AA$1*TRANSPORT!AK62","v":0},{"$f":"$AA$1*TRANSPORT!AL62","v":0}]
["Note: Total numerator and total denominator include multiplier 2.5 for electricity in road transport and multiplier 2 for Article 21(2)"]
["RES-T [%]",null,{"$f":"IF(C29>0,C26/C29,\"\")","v":""},"","","","","","","","","","","","","","","",""]
[]
["Renewables in heating and cooling"]
["Final energy consumption",null,{"$f":"$AA$1*('OVERALL TARGET'!V16+'OVERALL TARGET'!V17+'OVERALL TARGET'!V19)","v":0},{"$f":"$AA$1*('OVERALL TARGET'!W16+'OVERALL TARGET'!W17+'OVERALL TARGET'!W19)","v":0},{"$f":"$AA$1*('OVERALL TARGET'!X16+'OVERALL TARGET'!X17+'OVERALL TARGET'!X19)","v":0},{"$f":"$AA$1*('OVERALL TARGET'!Y16+'OVERALL TARGET'!Y17+'OVERALL TARGET'!Y19)","v":0},{"$f":"$AA$1*('OVERALL TARGET'!Z16+'OVERALL TARGET'!Z17+'OVERALL TARGET'!Z19)","v":0},{"$f":"$AA$1*('OVERALL TARGET'!AA16+'OVERALL TARGET'!AA17+'OVERALL TARGET'!AA19)","v":0},{"$f":"$AA$1*('OVERALL TARGET'!AB16+'OVERALL TARGET'!AB17+'OVERALL TARGET'!AB19)","v":0},{"$f":"$AA$1*('OVERALL TARGET'!AC16+'OVERALL TARGET'!AC18+'OVERALL TARGET'!AC19)","v":0},{"$f":"$AA$1*('OVERALL TARGET'!AD16+'OVERALL TARGET'!AD18+'OVERALL TARGET'!AD19)","v":0},{"$f":"$AA$1*('OVERALL TARGET'!AE16+'OVERALL TARGET'!AE18+'OVERALL TARGET'!AE19)","v":0},{"$f":"$AA$1*('OVERALL TARGET'!AF16+'OVERALL TARGET'!AF18+'OVERALL TARGET'!AF19)","v":0},{"$f":"$AA$1*('OVERALL TARGET'!AG16+'OVERALL TARGET'!AG18+'OVERALL TARGET'!AG19)","v":0},{"$f":"$AA$1*('OVERALL TARGET'!AH16+'OVERALL TARGET'!AH18+'OVERALL TARGET'!AH19)","v":0},{"$f":"$AA$1*('OVERALL TARGET'!AI16+'OVERALL TARGET'!AI18+'OVERALL TARGET'!AI19)","v":0},{"$f":"$AA$1*('OVERALL TARGET'!AJ16+'OVERALL TARGET'!AJ18+'OVERALL TARGET'!AJ19)","v":0},{"$f":"$AA$1*('OVERALL TARGET'!AK16+'OVERALL TARGET'!AK18+'OVERALL TARGET'!AK19)","v":0},{"$f":"$AA$1*('OVERALL TARGET'!AL16+'OVERALL TARGET'!AL18+'OVERALL TARGET'!AL19)","v":0}]
["Derived heat",null,{"$f":"$AA$1*('OVERALL TARGET'!V21+'OVERALL TARGET'!V22+'OVERALL TARGET'!V25)","v":0},{"$f":"$AA$1*('OVERALL TARGET'!W21+'OVERALL TARGET'!W22+'OVERALL TARGET'!W25)","v":0},{"$f":"$AA$1*('OVERALL TARGET'!X21+'OVERALL TARGET'!X22+'OVERALL TARGET'!X25)","v":0},{"$f":"$AA$1*('OVERALL TARGET'!Y21+'OVERALL TARGET'!Y22+'OVERALL TARGET'!Y25)","v":0},{"$f":"$AA$1*('OVERALL TARGET'!Z21+'OVERALL TARGET'!Z22+'OVERALL TARGET'!Z25)","v":0},{"$f":"$AA$1*('OVERALL TARGET'!AA21+'OVERALL TARGET'!AA22+'OVERALL TARGET'!AA25)","v":0},{"$f":"$AA$1*('OVERALL TARGET'!AB21+'OVERALL TARGET'!AB22+'OVERALL TARGET'!AB25)","v":0},{"$f":"$AA$1*('OVERALL TARGET'!AC21+'OVERALL TARGET'!AC23+'OVERALL TARGET'!AC24+'OVERALL TARGET'!AC25)","v":0},{"$f":"$AA$1*('OVERALL TARGET'!AD21+'OVERALL TARGET'!AD23+'OVERALL TARGET'!AD24+'OVERALL TARGET'!AD25)","v":0},{"$f":"$AA$1*('OVERALL TARGET'!AE21+'OVERALL TARGET'!AE23+'OVERALL TARGET'!AE24+'OVERALL TARGET'!AE25)","v":0},{"$f":"$AA$1*('OVERALL TARGET'!AF21+'OVERALL TARGET'!AF23+'OVERALL TARGET'!AF24+'OVERALL TARGET'!AF25)","v":0},{"$f":"$AA$1*('OVERALL TARGET'!AG21+'OVERALL TARGET'!AG23+'OVERALL TARGET'!AG24+'OVERALL TARGET'!AG25)","v":0},{"$f":"$AA$1*('OVERALL TARGET'!AH21+'OVERALL TARGET'!AH23+'OVERALL TARGET'!AH24+'OVERALL TARGET'!AH25)","v":0},{"$f":"$AA$1*('OVERALL TARGET'!AI21+'OVERALL TARGET'!AI23+'OVERALL TARGET'!AI24+'OVERALL TARGET'!AI25)","v":0},{"$f":"$AA$1*('OVERALL TARGET'!AJ21+'OVERALL TARGET'!AJ23+'OVERALL TARGET'!AJ24+'OVERALL TARGET'!AJ25)","v":0},{"$f":"$AA$1*('OVERALL TARGET'!AK21+'OVERALL TARGET'!AK23+'OVERALL TARGET'!AK24+'OVERALL TARGET'!AK25)","v":0},{"$f":"$AA$1*('OVERALL TARGET'!AL21+'OVERALL TARGET'!AL23+'OVERALL TARGET'!AL24+'OVERALL TARGET'!AL25)","v":0}]
["Heat pumps",null,{"$f":"$AA$1*'OVERALL TARGET'!V26","v":0},{"$f":"$AA$1*'OVERALL TARGET'!W26","v":0},{"$f":"$AA$1*'OVERALL TARGET'!X26","v":0},{"$f":"$AA$1*'OVERALL TARGET'!Y26","v":0},{"$f":"$AA$1*'OVERALL TARGET'!Z26","v":0},{"$f":"$AA$1*'OVERALL TARGET'!AA26","v":0},{"$f":"$AA$1*'OVERALL TARGET'!AB26","v":0},{"$f":"$AA$1*'OVERALL TARGET'!AC26","v":0},{"$f":"$AA$1*'OVERALL TARGET'!AD26","v":0},{"$f":"$AA$1*'OVERALL TARGET'!AE26","v":0},{"$f":"$AA$1*'OVERALL TARGET'!AF26","v":0},{"$f":"$AA$1*'OVERALL TARGET'!AG26","v":0},{"$f":"$AA$1*'OVERALL TARGET'!AH26","v":0},{"$f":"$AA$1*'OVERALL TARGET'!AI26","v":0},{"$f":"$AA$1*'OVERALL TARGET'!AJ26","v":0},{"$f":"$AA$1*'OVERALL TARGET'!AK26","v":0},{"$f":"$AA$1*'OVERALL TARGET'!AL26","v":0}]
["Total (RES-H&C numerator)",null,{"$f":"$AA$1*'OVERALL TARGET'!V27","v":0},{"$f":"$AA$1*'OVERALL TARGET'!W27","v":0},{"$f":"$AA$1*'OVERALL TARGET'!X27","v":0},{"$f":"$AA$1*'OVERALL TARGET'!Y27","v":0},{"$f":"$AA$1*'OVERALL TARGET'!Z27","v":0},{"$f":"$AA$1*'OVERALL TARGET'!AA27","v":0},{"$f":"$AA$1*'OVERALL TARGET'!AB27","v":0},{"$f":"$AA$1*'OVERALL TARGET'!AC27","v":0},{"$f":"$AA$1*'OVERALL TARGET'!AD27","v":0},{"$f":"$AA$1*'OVERALL TARGET'!AE27","v":0},{"$f":"$AA$1*'OVERALL TARGET'!AF27","v":0},{"$f":"$AA$1*'OVERALL TARGET'!AG27","v":0},{"$f":"$AA$1*'OVERALL TARGET'!AH27","v":0},{"$f":"$AA$1*'OVERALL TARGET'!AI27","v":0},{"$f":"$AA$1*'OVERALL TARGET'!AJ27","v":0},{"$f":"$AA$1*'OVERALL TARGET'!AK27","v":0},{"$f":"$AA$1*'OVERALL TARGET'!AL27","v":0}]
["All fuel consumed for heating and cooling"]
["Total (RES-H&C denominator)",null,{"$f":"$AA$1*'OVERALL TARGET'!V28","v":0},{"$f":"$AA$1*'OVERALL TARGET'!W28","v":0},{"$f":"$AA$1*'OVERALL TARGET'!X28","v":0},{"$f":"$AA$1*'OVERALL TARGET'!Y28","v":0},{"$f":"$AA$1*'OVERALL TARGET'!Z28","v":0},{"$f":"$AA$1*'OVERALL TARGET'!AA28","v":0},{"$f":"$AA$1*'OVERALL TARGET'!AB28","v":0},{"$f":"$AA$1*'OVERALL TARGET'!AC28","v":0},{"$f":"$AA$1*'OVERALL TARGET'!AD28","v":0},{"$f":"$AA$1*'OVERALL TARGET'!AE28","v":0},{"$f":"$AA$1*'OVERALL TARGET'!AF28","v":0},{"$f":"$AA$1*'OVERALL TARGET'!AG28","v":0},{"$f":"$AA$1*'OVERALL TARGET'!AH28","v":0},{"$f":"$AA$1*'OVERALL TARGET'!AI28","v":0},{"$f":"$AA$1*'OVERALL TARGET'!AJ28","v":0},{"$f":"$AA$1*'OVERALL TARGET'!AK28","v":0},{"$f":"$AA$1*'OVERALL TARGET'!AL28","v":0}]
["Note: total includes all elements of \"gross final consumption of energy\" other than electricity and for other pruposes than transport"]
["RES-H&C [%]",null,{"$f":"IF(C39>0,C37/C39,\"\")","v":""},"","","","","","","","","","","","","","","",""]
[]
["Article 5: Gross final consumption of energy from renewable sources"]
["(a) electricity",null,{"$f":"$AA$1*'OVERALL TARGET'!V42","v":0},{"$f":"$AA$1*'OVERALL TARGET'!W42","v":0},{"$f":"$AA$1*'OVERALL TARGET'!X42","v":0},{"$f":"$AA$1*'OVERALL TARGET'!Y42","v":0},{"$f":"$AA$1*'OVERALL TARGET'!Z42","v":0},{"$f":"$AA$1*'OVERALL TARGET'!AA42","v":0},{"$f":"$AA$1*'OVERALL TARGET'!AB42","v":0},{"$f":"$AA$1*'OVERALL TARGET'!AC42","v":0},{"$f":"$AA$1*'OVERALL TARGET'!AD42","v":0},{"$f":"$AA$1*'OVERALL TARGET'!AE42","v":0},{"$f":"$AA$1*'OVERALL TARGET'!AF42","v":0},{"$f":"$AA$1*'OVERALL TARGET'!AG42","v":0},{"$f":"$AA$1*'OVERALL TARGET'!AH42","v":0},{"$f":"$AA$1*'OVERALL TARGET'!AI42","v":0},{"$f":"$AA$1*'OVERALL TARGET'!AJ42","v":0},{"$f":"$AA$1*'OVERALL TARGET'!AK42","v":0},{"$f":"$AA$1*'OVERALL TARGET'!AL42","v":0}]
["(b) heating and cooling",null,{"$f":"$AA$1*'OVERALL TARGET'!V43","v":0},{"$f":"$AA$1*'OVERALL TARGET'!W43","v":0},{"$f":"$AA$1*'OVERALL TARGET'!X43","v":0},{"$f":"$AA$1*'OVERALL TARGET'!Y43","v":0},{"$f":"$AA$1*'OVERALL TARGET'!Z43","v":0},{"$f":"$AA$1*'OVERALL TARGET'!AA43","v":0},{"$f":"$AA$1*'OVERALL TARGET'!AB43","v":0},{"$f":"$AA$1*'OVERALL TARGET'!AC43","v":0},{"$f":"$AA$1*'OVERALL TARGET'!AD43","v":0},{"$f":"$AA$1*'OVERALL TARGET'!AE43","v":0},{"$f":"$AA$1*'OVERALL TARGET'!AF43","v":0},{"$f":"$AA$1*'OVERALL TARGET'!AG43","v":0},{"$f":"$AA$1*'OVERALL TARGET'!AH43","v":0},{"$f":"$AA$1*'OVERALL TARGET'!AI43","v":0},{"$f":"$AA$1*'OVERALL TARGET'!AJ43","v":0},{"$f":"$AA$1*'OVERALL TARGET'!AK43","v":0},{"$f":"$AA$1*'OVERALL TARGET'!AL43","v":0}]
["(c) transport",null,{"$f":"$AA$1*'OVERALL TARGET'!V44","v":0},{"$f":"$AA$1*'OVERALL TARGET'!W44","v":0},{"$f":"$AA$1*'OVERALL TARGET'!X44","v":0},{"$f":"$AA$1*'OVERALL TARGET'!Y44","v":0},{"$f":"$AA$1*'OVERALL TARGET'!Z44","v":0},{"$f":"$AA$1*'OVERALL TARGET'!AA44","v":0},{"$f":"$AA$1*'OVERALL TARGET'!AB44","v":0},{"$f":"$AA$1*'OVERALL TARGET'!AC44","v":0},{"$f":"$AA$1*'OVERALL TARGET'!AD44","v":0},{"$f":"$AA$1*'OVERALL TARGET'!AE44","v":0},{"$f":"$AA$1*'OVERALL TARGET'!AF44","v":0},{"$f":"$AA$1*'OVERALL TARGET'!AG44","v":0},{"$f":"$AA$1*'OVERALL TARGET'!AH44","v":0},{"$f":"$AA$1*'OVERALL TARGET'!AI44","v":0},{"$f":"$AA$1*'OVERALL TARGET'!AJ44","v":0},{"$f":"$AA$1*'OVERALL TARGET'!AK44","v":0},{"$f":"$AA$1*'OVERALL TARGET'!AL44","v":0}]
["(a) + (b) + (c) ",null,{"$f":"C44+C45+C46","v":0},{"$f":"D44+D45+D46","v":0},0,0,0,0,0,0,0,0,0,0,0,0,0,0,0]
["Note: electricity used in transport is included in transport and thus not included in electricity"]
[]
["Articles 6-11: Statistical Transfers & Joint Projects"]
["total amount to be added",null,{"$f":"$AA$1*'OVERALL TARGET'!V48","v":0},{"$f":"$AA$1*'OVERALL TARGET'!W48","v":0},{"$f":"$AA$1*'OVERALL TARGET'!X48","v":0},{"$f":"$AA$1*'OVERALL TARGET'!Y48","v":0},{"$f":"$AA$1*'OVERALL TARGET'!Z48","v":0},{"$f":"$AA$1*'OVERALL TARGET'!AA48","v":0},{"$f":"$AA$1*'OVERALL TARGET'!AB48","v":0},{"$f":"$AA$1*'OVERALL TARGET'!AC48","v":0},{"$f":"$AA$1*'OVERALL TARGET'!AD48","v":0},{"$f":"$AA$1*'OVERALL TARGET'!AE48","v":0},{"$f":"$AA$1*'OVERALL TARGET'!AF48","v":0},{"$f":"$AA$1*'OVERALL TARGET'!AG48","v":0},{"$f":"$AA$1*'OVERALL TARGET'!AH48","v":0},{"$f":"$AA$1*'OVERALL TARGET'!AI48","v":0},{"$f":"$AA$1*'OVERALL TARGET'!AJ48","v":0},{"$f":"$AA$1*'OVERALL TARGET'!AK48","v":0},{"$f":"$AA$1*'OVERALL TARGET'!AL48","v":0}]
["total amount to be deduced",null,{"$f":"$AA$1*'OVERALL TARGET'!V49","v":0},{"$f":"$AA$1*'OVERALL TARGET'!W49","v":0},{"$f":"$AA$1*'OVERALL TARGET'!X49","v":0},{"$f":"$AA$1*'OVERALL TARGET'!Y49","v":0},{"$f":"$AA$1*'OVERALL TARGET'!Z49","v":0},{"$f":"$AA$1*'OVERALL TARGET'!AA49","v":0},{"$f":"$AA$1*'OVERALL TARGET'!AB49","v":0},{"$f":"$AA$1*'OVERALL TARGET'!AC49","v":0},{"$f":"$AA$1*'OVERALL TARGET'!AD49","v":0},{"$f":"$AA$1*'OVERALL TARGET'!AE49","v":0},{"$f":"$AA$1*'OVERALL TARGET'!AF49","v":0},{"$f":"$AA$1*'OVERALL TARGET'!AG49","v":0},{"$f":"$AA$1*'OVERALL TARGET'!AH49","v":0},{"$f":"$AA$1*'OVERALL TARGET'!AI49","v":0},{"$f":"$AA$1*'OVERALL TARGET'!AJ49","v":0},{"$f":"$AA$1*'OVERALL TARGET'!AK49","v":0},{"$f":"$AA$1*'OVERALL TARGET'!AL49","v":0}]
[]
["Total (RES numerator)",null,{"$f":"C47+C51-C52","v":0},0,0,0,0,0,0,0,0,0,0,0,0,0,0,0,0]
[]
["Article 2 (f): Gross final consumption of energy"]
["GFCoE",null,{"$f":"$AA$1*'OVERALL TARGET'!V31","v":0},{"$f":"$AA$1*'OVERALL TARGET'!W31","v":0},{"$f":"$AA$1*'OVERALL TARGET'!X31","v":0},{"$f":"$AA$1*'OVERALL TARGET'!Y31","v":0},{"$f":"$AA$1*'OVERALL TARGET'!Z31","v":0},{"$f":"$AA$1*'OVERALL TARGET'!AA31","v":0},{"$f":"$AA$1*'OVERALL TARGET'!AB31","v":0},{"$f":"$AA$1*'OVERALL TARGET'!AC31","v":0},{"$f":"$AA$1*'OVERALL TARGET'!AD31","v":0},{"$f":"$AA$1*'OVERALL TARGET'!AE31","v":0},{"$f":"$AA$1*'OVERALL TARGET'!AF31","v":0},{"$f":"$AA$1*'OVERALL TARGET'!AG31","v":0},{"$f":"$AA$1*'OVERALL TARGET'!AH31","v":0},{"$f":"$AA$1*'OVERALL TARGET'!AI31","v":0},{"$f":"$AA$1*'OVERALL TARGET'!AJ31","v":0},{"$f":"$AA$1*'OVERALL TARGET'!AK31","v":0},{"$f":"$AA$1*'OVERALL TARGET'!AL31","v":0}]
[]
["Article 5 (6): Aviation adjustment"]
["Total before adjustment",null,{"$f":"$AA$1*'OVERALL TARGET'!V52","v":0},{"$f":"$AA$1*'OVERALL TARGET'!W52","v":0},{"$f":"$AA$1*'OVERALL TARGET'!X52","v":0},{"$f":"$AA$1*'OVERALL TARGET'!Y52","v":0},{"$f":"$AA$1*'OVERALL TARGET'!Z52","v":0},{"$f":"$AA$1*'OVERALL TARGET'!AA52","v":0},{"$f":"$AA$1*'OVERALL TARGET'!AB52","v":0},{"$f":"$AA$1*'OVERALL TARGET'!AC52","v":0},{"$f":"$AA$1*'OVERALL TARGET'!AD52","v":0},{"$f":"$AA$1*'OVERALL TARGET'!AE52","v":0},{"$f":"$AA$1*'OVERALL TARGET'!AF52","v":0},{"$f":"$AA$1*'OVERALL TARGET'!AG52","v":0},{"$f":"$AA$1*'OVERALL TARGET'!AH52","v":0},{"$f":"$AA$1*'OVERALL TARGET'!AI52","v":0},{"$f":"$AA$1*'OVERALL TARGET'!AJ52","v":0},{"$f":"$AA$1*'OVERALL TARGET'!AK52","v":0},{"$f":"$AA$1*'OVERALL TARGET'!AL52","v":0}]
["Total (RES denominator)",null,{"$f":"$AA$1*'OVERALL TARGET'!V57","v":0},{"$f":"$AA$1*'OVERALL TARGET'!W57","v":0},{"$f":"$AA$1*'OVERALL TARGET'!X57","v":0},{"$f":"$AA$1*'OVERALL TARGET'!Y57","v":0},{"$f":"$AA$1*'OVERALL TARGET'!Z57","v":0},{"$f":"$AA$1*'OVERALL TARGET'!AA57","v":0},{"$f":"$AA$1*'OVERALL TARGET'!AB57","v":0},{"$f":"$AA$1*'OVERALL TARGET'!AC57","v":0},{"$f":"$AA$1*'OVERALL TARGET'!AD57","v":0},{"$f":"$AA$1*'OVERALL TARGET'!AE57","v":0},{"$f":"$AA$1*'OVERALL TARGET'!AF57","v":0},{"$f":"$AA$1*'OVERALL TARGET'!AG57","v":0},{"$f":"$AA$1*'OVERALL TARGET'!AH57","v":0},{"$f":"$AA$1*'OVERALL TARGET'!AI57","v":0},{"$f":"$AA$1*'OVERALL TARGET'!AJ57","v":0},{"$f":"$AA$1*'OVERALL TARGET'!AK57","v":0},{"$f":"$AA$1*'OVERALL TARGET'!AL57","v":0}]
[]
["RES [%]",null,{"$f":"IF(C61>0,(C47+C51-C52)/C61,\"\")","v":""},"","","","","","","","","","","","","","","",""]
[{"$f":"MAIN!A4","v":"v2014.51008"}]
[null,null,null,null,null,null,null,null,null,"Indicative Trajectory"]
[null,null,null,"S2005",null,null,null,null,null,"2011-2012",null,"2013-2014",null,"2015-2016",null,"2017-2018",null,null,"Target"]
[null,null,null,{"$f":"VLOOKUP($H$1,MAIN!$H$100:$P$139,8,FALSE)","v":{"$error":"#N/A"}},null,null,null,null,null,{"$f":"VLOOKUP($H$1,MAIN!$H$100:$P$139,4,FALSE)","v":{"$error":"#N/A"}},null,{"$f":"VLOOKUP($H$1,MAIN!$H$100:$P$139,5,FALSE)","v":{"$error":"#N/A"}},null,{"$f":"VLOOKUP($H$1,MAIN!$H$100:$P$139,6,FALSE)","v":{"$error":"#N/A"}},null,{"$f":"VLOOKUP($H$1,MAIN!$H$100:$P$139,7,FALSE)","v":{"$error":"#N/A"}},null,null,{"$f":"VLOOKUP(H1,MAIN!H100:P139,3,FALSE)","v":{"$error":"#N/A"}}]
[]
[]
[]
[]
[]
[]
[]
[]
[]
[]
[]
[]
[]
[]
[]
[]
[]
[]
[]
[]
[]
[]
[]
[]
[]
[]
[]
[]
[]
[]
[]
[]
[]
[]
[]
[]
[]
[]
[]
[]
[]
[]
[]
[]
[]
[]
[]
[]
[]
[]
[]
[]
[]
[]
[]
[]
[]
[]
[]
[]
[]
[]
[]
[]
[]
[]
[]
[]
[]
[]
[]
[]
[]
[]
[]
[]
[]
[]
[]
[]
[]
[]
[]
[]
[]
[]
[]
[]
[]
[]
[]
[]
[]
[]
[]
[]
[]
[]
[]
[]
[]
[]
[]
[]
[]
[]
[]
[]
[]
[]
[]
[]
[]
[]
[]
[]
[]
[]
[]
[]
[]
[]
[]
[]
[]
[]
[]
[]
[]
[]
[]
[41.868000000000002,"TJ (terajoule)"]
[10,"Tcal (teracalorie)"]
[1,"ktoe (thousand tonnes of oil equivalent)"]
[{"$f":"41.868/3.6","v":11.63},"GWh (gigawatt hour)"]
[39.68,"Mbtu (million British thermal unit)"]

{"sheet":"TEMPLATE TABLES","index":2,"n_rows":104,"n_cols":19,"rows_kept":104,"cut":false,"hidden":false,"merged":[]}
[{"$f":"MAIN!$D$9","v":""},null,"Comparison with Progress Report tables 1, 1a, 1b and 1c",null,null,null,null,null,null,null,null,null,null,null,null,null,null,{"$f":"MAIN!A4","v":"v2014.51008"}]
[]
["This highlighting indicates information that is not available in the SHARES tool and most likely it is also not available in the annual energy questionnaires."]
[]
["Table 1"]
["The sectoral (electricity, heating and cooling, and transport) and overall shares of energy from renewable sources"]
["[%]",null,2004,2005,2006,2007,2008,2009,2010,2011,2012,2013,2014,2015,2016,2017,2018,2019,2020]
["RES-H&C",null,{"$f":"'OVERALL TARGET'!V29","v":""},{"$f":"'OVERALL TARGET'!W29","v":""},{"$f":"'OVERALL TARGET'!X29","v":""},{"$f":"'OVERALL TARGET'!Y29","v":""},{"$f":"'OVERALL TARGET'!Z29","v":""},{"$f":"'OVERALL TARGET'!AA29","v":""},{"$f":"'OVERALL TARGET'!AB29","v":""},{"$f":"'OVERALL TARGET'!AC29","v":""},{"$f":"'OVERALL TARGET'!AD29","v":""},{"$f":"'OVERALL TARGET'!AE29","v":""},{"$f":"'OVERALL TARGET'!AF29","v":""},{"$f":"'OVERALL TARGET'!AG29","v":""},{"$f":"'OVERALL TARGET'!AH29","v":""},{"$f":"'OVERALL TARGET'!AI29","v":""},{"$f":"'OVERALL TARGET'!AJ29","v":""},{"$f":"'OVERALL TARGET'!AK29","v":""},{"$f":"'OVERALL TARGET'!AL29","v":""}]
["RES-E",null,{"$f":"'OVERALL TARGET'!V11","v":""},{"$f":"'OVERALL TARGET'!W11","v":""},{"$f":"'OVERALL TARGET'!X11","v":""},{"$f":"'OVERALL TARGET'!Y11","v":""},{"$f":"'OVERALL TARGET'!Z11","v":""},{"$f":"'OVERALL TARGET'!AA11","v":""},{"$f":"'OVERALL TARGET'!AB11","v":""},{"$f":"'OVERALL TARGET'!AC11","v":""},{"$f":"'OVERALL TARGET'!AD11","v":""},{"$f":"'OVERALL TARGET'!AE11","v":""},{"$f":"'OVERALL TARGET'!AF11","v":""},{"$f":"'OVERALL TARGET'!AG11","v":""},{"$f":"'OVERALL TARGET'!AH11","v":""},{"$f":"'OVERALL TARGET'!AI11","v":""},{"$f":"'OVERALL TARGET'!AJ11","v":""},{"$f":"'OVERALL TARGET'!AK11","v":""},{"$f":"'OVERALL TARGET'!AL11","v":""}]
["RES-T",null,{"$f":"TRANSPORT!V63","v":""},{"$f":"TRANSPORT!W63","v":""},{"$f":"TRANSPORT!X63","v":""},{"$f":"TRANSPORT!Y63","v":""},{"$f":"TRANSPORT!Z63","v":""},{"$f":"TRANSPORT!AA63","v":""},{"$f":"TRANSPORT!AB63","v":""},{"$f":"TRANSPORT!AC63","v":""},{"$f":"TRANSPORT!AD63","v":""},{"$f":"TRANSPORT!AE63","v":""},{"$f":"TRANSPORT!AF63","v":""},{"$f":"TRANSPORT!AG63","v":""},{"$f":"TRANSPORT!AH63","v":""},{"$f":"TRANSPORT!AI63","v":""},{"$f":"TRANSPORT!AJ63","v":""},{"$f":"TRANSPORT!AK63","v":""},{"$f":"TRANSPORT!AL63","v":""}]
["Overall RES share",null,{"$f":"'OVERALL TARGET'!V58","v":""},{"$f":"'OVERALL TARGET'!W58","v":""},{"$f":"'OVERALL TARGET'!X58","v":""},{"$f":"'OVERALL TARGET'!Y58","v":""},{"$f":"'OVERALL TARGET'!Z58","v":""},{"$f":"'OVERALL TARGET'!AA58","v":""},{"$f":"'OVERALL TARGET'!AB58","v":""},{"$f":"'OVERALL TARGET'!AC58","v":""},{"$f":"'OVERALL TARGET'!AD58","v":""},{"$f":"'OVERALL TARGET'!AE58","v":""},{"$f":"'OVERALL TARGET'!AF58","v":""},{"$f":"'OVERALL TARGET'!AG58","v":""},{"$f":"'OVERALL TARGET'!AH58","v":""},{"$f":"'OVERALL TARGET'!AI58","v":""},{"$f":"'OVERALL TARGET'!AJ58","v":""},{"$f":"'OVERALL TARGET'!AK58","v":""},{"$f":"'OVERALL TARGET'!AL58","v":""}]
["of which from cooperation mecahnism",null,{"$f":"IF('OVERALL TARGET'!V57>0,('OVERALL TARGET'!V48-'OVERALL TARGET'!V49)/'OVERALL TARGET'!V57,\"\")","v":""},{"$f":"IF('OVERALL TARGET'!W57>0,('OVERALL TARGET'!W48-'OVERALL TARGET'!W49)/'OVERALL TARGET'!W57,\"\")","v":""},{"$f":"IF('OVERALL TARGET'!X57>0,('OVERALL TARGET'!X48-'OVERALL TARGET'!X49)/'OVERALL TARGET'!X57,\"\")","v":""},{"$f":"IF('OVERALL TARGET'!Y57>0,('OVERALL TARGET'!Y48-'OVERALL TARGET'!Y49)/'OVERALL TARGET'!Y57,\"\")","v":""},{"$f":"IF('OVERALL TARGET'!Z57>0,('OVERALL TARGET'!Z48-'OVERALL TARGET'!Z49)/'OVERALL TARGET'!Z57,\"\")","v":""},{"$f":"IF('OVERALL TARGET'!AA57>0,('OVERALL TARGET'!AA48-'OVERALL TARGET'!AA49)/'OVERALL TARGET'!AA57,\"\")","v":""},{"$f":"IF('OVERALL TARGET'!AB57>0,('OVERALL TARGET'!AB48-'OVERALL TARGET'!AB49)/'OVERALL TARGET'!AB57,\"\")","v":""},{"$f":"IF('OVERALL TARGET'!AC57>0,('OVERALL TARGET'!AC48-'OVERALL TARGET'!AC49)/'OVERALL TARGET'!AC57,\"\")","v":""},{"$f":"IF('OVERALL TARGET'!AD57>0,('OVERALL TARGET'!AD48-'OVERALL TARGET'!AD49)/'OVERALL TARGET'!AD57,\"\")","v":""},{"$f":"IF('OVERALL TARGET'!AE57>0,('OVERALL TARGET'!AE48-'OVERALL TARGET'!AE49)/'OVERALL TARGET'!AE57,\"\")","v":""},{"$f":"IF('OVERALL TARGET'!AF57>0,('OVERALL TARGET'!AF48-'OVERALL TARGET'!AF49)/'OVERALL TARGET'!AF57,\"\")","v":""},{"$f":"IF('OVERALL TARGET'!AG57>0,('OVERALL TARGET'!AG48-'OVERALL TARGET'!AG49)/'OVERALL TARGET'!AG57,\"\")","v":""},{"$f":"IF('OVERALL TARGET'!AH57>0,('OVERALL TARGET'!AH48-'OVERALL TARGET'!AH49)/'OVERALL TARGET'!AH57,\"\")","v":""},{"$f":"IF('OVERALL TARGET'!AI57>0,('OVERALL TARGET'!AI48-'OVERALL TARGET'!AI49)/'OVERALL TARGET'!AI57,\"\")","v":""},{"$f":"IF('OVERALL TARGET'!AJ57>0,('OVERALL TARGET'!AJ48-'OVERALL TARGET'!AJ49)/'OVERALL TARGET'!AJ57,\"\")","v":""},{"$f":"IF('OVERALL TARGET'!AK57>0,('OVERALL TARGET'!AK48-'OVERALL TARGET'!AK49)/'OVERALL TARGET'!AK57,\"\")","v":""},{"$f":"IF('OVERALL TARGET'!AL57>0,('OVERALL TARGET'!AL48-'OVERALL TARGET'!AL49)/'OVERALL TARGET'!AL57,\"\")","v":""}]
["surplus for cooperation mechanism"]
[]
["Table 1a"]
["Calculation table for the renewable energy contribution of each sector to final energy consumption (ktoe)"]
["[ktoe]",null,2004,2005,2006,2007,2008,2009,2010,2011,2012,2013,2014,2015,2016,2017,2018,2019,2020]
["(A) Gross final consumption of RES for heating and cooling",null,{"$f":"'OVERALL TARGET'!V43","v":0},{"$f":"'OVERALL TARGET'!W43","v":0},{"$f":"'OVERALL TARGET'!X43","v":0},{"$f":"'OVERALL TARGET'!Y43","v":0},{"$f":"'OVERALL TARGET'!Z43","v":0},{"$f":"'OVERALL TARGET'!AA43","v":0},{"$f":"'OVERALL TARGET'!AB43","v":0},{"$f":"'OVERALL TARGET'!AC43","v":0},{"$f":"'OVERALL TARGET'!AD43","v":0},{"$f":"'OVERALL TARGET'!AE43","v":0},{"$f":"'OVERALL TARGET'!AF43","v":0},{"$f":"'OVERALL TARGET'!AG43","v":0},{"$f":"'OVERALL TARGET'!AH43","v":0},{"$f":"'OVERALL TARGET'!AI43","v":0},{"$f":"'OVERALL TARGET'!AJ43","v":0},{"$f":"'OVERALL TARGET'!AK43","v":0},{"$f":"'OVERALL TARGET'!AL43","v":0}]
["(B) Gross final consumption of electricity from RES",null,{"$f":"'OVERALL TARGET'!V42","v":0},{"$f":"'OVERALL TARGET'!W42","v":0},{"$f":"'OVERALL TARGET'!X42","v":0},{"$f":"'OVERALL TARGET'!Y42","v":0},{"$f":"'OVERALL TARGET'!Z42","v":0},{"$f":"'OVERALL TARGET'!AA42","v":0},{"$f":"'OVERALL TARGET'!AB42","v":0},{"$f":"'OVERALL TARGET'!AC42","v":0},{"$f":"'OVERALL TARGET'!AD42","v":0},{"$f":"'OVERALL TARGET'!AE42","v":0},{"$f":"'OVERALL TARGET'!AF42","v":0},{"$f":"'OVERALL TARGET'!AG42","v":0},{"$f":"'OVERALL TARGET'!AH42","v":0},{"$f":"'OVERALL TARGET'!AI42","v":0},{"$f":"'OVERALL TARGET'!AJ42","v":0},{"$f":"'OVERALL TARGET'!AK42","v":0},{"$f":"'OVERALL TARGET'!AL42","v":0}]
["(C) Gross final consumption of energy from RES in transport",null,{"$f":"'OVERALL TARGET'!V44","v":0},{"$f":"'OVERALL TARGET'!W44","v":0},{"$f":"'OVERALL TARGET'!X44","v":0},{"$f":"'OVERALL TARGET'!Y44","v":0},{"$f":"'OVERALL TARGET'!Z44","v":0},{"$f":"'OVERALL TARGET'!AA44","v":0},{"$f":"'OVERALL TARGET'!AB44","v":0},{"$f":"'OVERALL TARGET'!AC44","v":0},{"$f":"'OVERALL TARGET'!AD44","v":0},{"$f":"'OVERALL TARGET'!AE44","v":0},{"$f":"'OVERALL TARGET'!AF44","v":0},{"$f":"'OVERALL TARGET'!AG44","v":0},{"$f":"'OVERALL TARGET'!AH44","v":0},{"$f":"'OVERALL TARGET'!AI44","v":0},{"$f":"'OVERALL TARGET'!AJ44","v":0},{"$f":"'OVERALL TARGET'!AK44","v":0},{"$f":"'OVERALL TARGET'!AL44","v":0}]
["(D) Gross total RES consumption",null,{"$f":"(C18+C19+C20)","v":0},{"$f":"(D18+D19+D20)","v":0},0,0,0,0,0,0,0,0,0,0,0,0,0,0,0]
["(E) Transfer of RES to other Member States",null,{"$f":"'OVERALL TARGET'!V49","v":0},{"$f":"'OVERALL TARGET'!W49","v":0},{"$f":"'OVERALL TARGET'!X49","v":0},{"$f":"'OVERALL TARGET'!Y49","v":0},{"$f":"'OVERALL TARGET'!Z49","v":0},{"$f":"'OVERALL TARGET'!AA49","v":0},{"$f":"'OVERALL TARGET'!AB49","v":0},{"$f":"'OVERALL TARGET'!AC49","v":0},{"$f":"'OVERALL TARGET'!AD49","v":0},{"$f":"'OVERALL TARGET'!AE49","v":0},{"$f":"'OVERALL TARGET'!AF49","v":0},{"$f":"'OVERALL TARGET'!AG49","v":0},{"$f":"'OVERALL TARGET'!AH49","v":0},{"$f":"'OVERALL TARGET'!AI49","v":0},{"$f":"'OVERALL TARGET'!AJ49","v":0},{"$f":"'OVERALL TARGET'!AK49","v":0},{"$f":"'OVERALL TARGET'!AL49","v":0}]
["(F) Transfer of RES from other Member States and 3rd countries",null,{"$f":"'OVERALL TARGET'!V48","v":0},{"$f":"'OVERALL TARGET'!W48","v":0},{"$f":"'OVERALL TARGET'!X48","v":0},{"$f":"'OVERALL TARGET'!Y48","v":0},{"$f":"'OVERALL TARGET'!Z48","v":0},{"$f":"'OVERALL TARGET'!AA48","v":0},{"$f":"'OVERALL TARGET'!AB48","v":0},{"$f":"'OVERALL TARGET'!AC48","v":0},{"$f":"'OVERALL TARGET'!AD48","v":0},{"$f":"'OVERALL TARGET'!AE48","v":0},{"$f":"'OVERALL TARGET'!AF48","v":0},{"$f":"'OVERALL TARGET'!AG48","v":0},{"$f":"'OVERALL TARGET'!AH48","v":0},{"$f":"'OVERALL TARGET'!AI48","v":0},{"$f":"'OVERALL TARGET'!AJ48","v":0},{"$f":"'OVERALL TARGET'!AK48","v":0},{"$f":"'OVERALL TARGET'!AL48","v":0}]
["(G) RES consumption adjusted for target (D)-(E)+(F)",null,{"$f":"C21-C22+C23","v":0},{"$f":"D21-D22+D23","v":0},0,0,0,0,0,0,0,0,0,0,0,0,0,0,0]
[]
["Table 1b"]
[{"$f":"\"Total actual contribution (INSTALLED CAPACITY) from each renewable energy technology in \" & $A$1 & \" to meet the binding 2020 targets and the indicative interim trajectory for the shares of energy from renewable resources in electricity\"","v":"Total actual contribution (INSTALLED CAPACITY) from each renewable energy technology in  to meet the binding 2020 targets and the indicative interim trajectory for the shares of energy from renewable resources in electricity"}]
["[MW]",null,2004,2005,2006,2007,2008,2009,2010,2011,2012,2013,2014,2015,2016,2017,2018,2019,2020]
["Hydro:",null,{"$f":"REN!V95","v":0},{"$f":"REN!W95","v":0},{"$f":"REN!X95","v":0},{"$f":"REN!Y95","v":0},{"$f":"REN!Z95","v":0},{"$f":"REN!AA95","v":0},{"$f":"REN!AB95","v":0},{"$f":"REN!AC95","v":0},{"$f":"REN!AD95","v":0},{"$f":"REN!AE95","v":0},{"$f":"REN!AF95","v":0},{"$f":"REN!AG95","v":0},{"$f":"REN!AH95","v":0},{"$f":"REN!AI95","v":0},{"$f":"REN!AJ95","v":0},{"$f":"REN!AK95","v":0},{"$f":"REN!AL95","v":0}]
[null,"non pumped",{"$f":"C31+C32+C33","v":0},{"$f":"D31+D32+D33","v":0},0,0,0,0,0,0,0,0,0,0,0,0,0,0,0]
[null,"<1MW",{"$f":"REN!V96","v":0},{"$f":"REN!W96","v":0},{"$f":"REN!X96","v":0},{"$f":"REN!Y96","v":0},{"$f":"REN!Z96","v":0},{"$f":"REN!AA96","v":0},{"$f":"REN!AB96","v":0},{"$f":"REN!AC96","v":0},{"$f":"REN!AD96","v":0},{"$f":"REN!AE96","v":0},{"$f":"REN!AF96","v":0},{"$f":"REN!AG96","v":0},{"$f":"REN!AH96","v":0},{"$f":"REN!AI96","v":0},{"$f":"REN!AJ96","v":0},{"$f":"REN!AK96","v":0},{"$f":"REN!AL96","v":0}]
[null,"1MW–10 MW",{"$f":"REN!V97","v":0},{"$f":"REN!W97","v":0},{"$f":"REN!X97","v":0},{"$f":"REN!Y97","v":0},{"$f":"REN!Z97","v":0},{"$f":"REN!AA97","v":0},{"$f":"REN!AB97","v":0},{"$f":"REN!AC97","v":0},{"$f":"REN!AD97","v":0},{"$f":"REN!AE97","v":0},{"$f":"REN!AF97","v":0},{"$f":"REN!AG97","v":0},{"$f":"REN!AH97","v":0},{"$f":"REN!AI97","v":0},{"$f":"REN!AJ97","v":0},{"$f":"REN!AK97","v":0},{"$f":"REN!AL97","v":0}]
[null,">10MW",{"$f":"REN!V98","v":0},{"$f":"REN!W98","v":0},{"$f":"REN!X98","v":0},{"$f":"REN!Y98","v":0},{"$f":"REN!Z98","v":0},{"$f":"REN!AA98","v":0},{"$f":"REN!AB98","v":0},{"$f":"REN!AC98","v":0},{"$f":"REN!AD98","v":0},{"$f":"REN!AE98","v":0},{"$f":"REN!AF98","v":0},{"$f":"REN!AG98","v":0},{"$f":"REN!AH98","v":0},{"$f":"REN!AI98","v":0},{"$f":"REN!AJ98","v":0},{"$f":"REN!AK98","v":0},{"$f":"REN!AL98","v":0}]
[null,"pumped (pure)",{"$f":"REN!V100","v":0},{"$f":"REN!W100","v":0},{"$f":"REN!X100","v":0},{"$f":"REN!Y100","v":0},{"$f":"REN!Z100","v":0},{"$f":"REN!AA100","v":0},{"$f":"REN!AB100","v":0},{"$f":"REN!AC100","v":0},{"$f":"REN!AD100","v":0},{"$f":"REN!AE100","v":0},{"$f":"REN!AF100","v":0},{"$f":"REN!AG100","v":0},{"$f":"REN!AH100","v":0},{"$f":"REN!AI100","v":0},{"$f":"REN!AJ100","v":0},{"$f":"REN!AK100","v":0},{"$f":"REN!AL100","v":0}]
[null,"mixed (total)",{"$f":"REN!V99","v":0},{"$f":"REN!W99","v":0},{"$f":"REN!X99","v":0},{"$f":"REN!Y99","v":0},{"$f":"REN!Z99","v":0},{"$f":"REN!AA99","v":0},{"$f":"REN!AB99","v":0},{"$f":"REN!AC99","v":0},{"$f":"REN!AD99","v":0},{"$f":"REN!AE99","v":0},{"$f":"REN!AF99","v":0},{"$f":"REN!AG99","v":0},{"$f":"REN!AH99","v":0},{"$f":"REN!AI99","v":0},{"$f":"REN!AJ99","v":0},{"$f":"REN!AK99","v":0},{"$f":"REN!AL99","v":0}]
["Geothermal",null,{"$f":"REN!V101","v":0},{"$f":"REN!W101","v":0},{"$f":"REN!X101","v":0},{"$f":"REN!Y101","v":0},{"$f":"REN!Z101","v":0},{"$f":"REN!AA101","v":0},{"$f":"REN!AB101","v":0},{"$f":"REN!AC101","v":0},{"$f":"REN!AD101","v":0},{"$f":"REN!AE101","v":0},{"$f":"REN!AF101","v":0},{"$f":"REN!AG101","v":0},{"$f":"REN!AH101","v":0},{"$f":"REN!AI101","v":0},{"$f":"REN!AJ101","v":0},{"$f":"REN!AK101","v":0},{"$f":"REN!AL101","v":0}]
["Solar:",null,{"$f":"C38+C39","v":0},{"$f":"D38+D39","v":0},0,0,0,0,0,0,0,0,0,0,0,0,0,0,0]
["of which","photovoltaic",{"$f":"REN!V102","v":0},{"$f":"REN!W102","v":0},{"$f":"REN!X102","v":0},{"$f":"REN!Y102","v":0},{"$f":"REN!Z102","v":0},{"$f":"REN!AA102","v":0},{"$f":"REN!AB102","v":0},{"$f":"REN!AC102","v":0},{"$f":"REN!AD102","v":0},{"$f":"REN!AE102","v":0},{"$f":"REN!AF102","v":0},{"$f":"REN!AG102","v":0},{"$f":"REN!AH102","v":0},{"$f":"REN!AI102","v":0},{"$f":"REN!AJ102","v":0},{"$f":"REN!AK102","v":0},{"$f":"REN!AL102","v":0}]
["of which","solar thermal",{"$f":"REN!V103","v":0},{"$f":"REN!W103","v":0},{"$f":"REN!X103","v":0},{"$f":"REN!Y103","v":0},{"$f":"REN!Z103","v":0},{"$f":"REN!AA103","v":0},{"$f":"REN!AB103","v":0},{"$f":"REN!AC103","v":0},{"$f":"REN!AD103","v":0},{"$f":"REN!AE103","v":0},{"$f":"REN!AF103","v":0},{"$f":"REN!AG103","v":0},{"$f":"REN!AH103","v":0},{"$f":"REN!AI103","v":0},{"$f":"REN!AJ103","v":0},{"$f":"REN!AK103","v":0},{"$f":"REN!AL103","v":0}]
["Tide, wave, ocean",null,{"$f":"REN!V104","v":0},{"$f":"REN!W104","v":0},{"$f":"REN!X104","v":0},{"$f":"REN!Y104","v":0},{"$f":"REN!Z104","v":0},{"$f":"REN!AA104","v":0},{"$f":"REN!AB104","v":0},{"$f":"REN!AC104","v":0},{"$f":"REN!AD104","v":0},{"$f":"REN!AE104","v":0},{"$f":"REN!AF104","v":0},{"$f":"REN!AG104","v":0},{"$f":"REN!AH104","v":0},{"$f":"REN!AI104","v":0},{"$f":"REN!AJ104","v":0},{"$f":"REN!AK104","v":0},{"$f":"REN!AL104","v":0}]
["Wind:",null,{"$f":"REN!V105","v":0},{"$f":"REN!W105","v":0},{"$f":"REN!X105","v":0},{"$f":"REN!Y105","v":0},{"$f":"REN!Z105","v":0},{"$f":"REN!AA105","v":0},{"$f":"REN!AB105","v":0},{"$f":"REN!AC105","v":0},{"$f":"REN!AD105","v":0},{"$f":"REN!AE105","v":0},{"$f":"REN!AF105","v":0},{"$f":"REN!AG105","v":0},{"$f":"REN!AH105","v":0},{"$f":"REN!AI105","v":0},{"$f":"REN!AJ105","v":0},{"$f":"REN!AK105","v":0},{"$f":"REN!AL105","v":0}]
["of which","onshore"]
["of which","offshore"]
["Biomass: ",null,{"$f":"C45+C46+C47","v":0},{"$f":"D45+D46+D47","v":0},0,0,0,0,0,0,0,0,0,0,0,0,0,0,0]
["of which","solid biomass",{"$f":"REN!V106","v":0},{"$f":"REN!W106","v":0},{"$f":"REN!X106","v":0},{"$f":"REN!Y106","v":0},{"$f":"REN!Z106","v":0},{"$f":"REN!AA106","v":0},{"$f":"REN!AB106","v":0},{"$f":"REN!AC106","v":0},{"$f":"REN!AD106","v":0},{"$f":"REN!AE106","v":0},{"$f":"REN!AF106","v":0},{"$f":"REN!AG106","v":0},{"$f":"REN!AH106","v":0},{"$f":"REN!AI106","v":0},{"$f":"REN!AJ106","v":0},{"$f":"REN!AK106","v":0},{"$f":"REN!AL106","v":0}]
["of which","biogas",{"$f":"REN!V107","v":0},{"$f":"REN!W107","v":0},{"$f":"REN!X107","v":0},{"$f":"REN!Y107","v":0},{"$f":"REN!Z107","v":0},{"$f":"REN!AA107","v":0},{"$f":"REN!AB107","v":0},{"$f":"REN!AC107","v":0},{"$f":"REN!AD107","v":0},{"$f":"REN!AE107","v":0},{"$f":"REN!AF107","v":0},{"$f":"REN!AG107","v":0},{"$f":"REN!AH107","v":0},{"$f":"REN!AI107","v":0},{"$f":"REN!AJ107","v":0},{"$f":"REN!AK107","v":0},{"$f":"REN!AL107","v":0}]
["of which","bioliquids",{"$f":"REN!V108+REN!V109","v":0},{"$f":"REN!W108+REN!W109","v":0},{"$f":"REN!X108+REN!X109","v":0},{"$f":"REN!Y108+REN!Y109","v":0},{"$f":"REN!Z108+REN!Z109","v":0},{"$f":"REN!AA108+REN!AA109","v":0},{"$f":"REN!AB108+REN!AB109","v":0},{"$f":"REN!AC108+REN!AC109","v":0},{"$f":"REN!AD108+REN!AD109","v":0},{"$f":"REN!AE108+REN!AE109","v":0},{"$f":"REN!AF108+REN!AF109","v":0},{"$f":"REN!AG108+REN!AG109","v":0},{"$f":"REN!AH108+REN!AH109","v":0},{"$f":"REN!AI108+REN!AI109","v":0},{"$f":"REN!AJ108+REN!AJ109","v":0},{"$f":"REN!AK108+REN!AK109","v":0},{"$f":"REN!AL108+REN!AL109","v":0}]
["TOTAL",null,{"$f":"SUM(C29,C36,C37,C40,C41,C44)","v":0},{"$f":"SUM(D29,D36,D37,D40,D41,D44)","v":0},0,0,0,0,0,0,0,0,0,0,0,0,0,0,0]
["of which in CHP"]
[]
["Table 1b"]
[{"$f":"\"Total actual contribution (GROSS ELECTRICITY GENERATION) from each renewable energy technology in \" & $A$1 & \" to meet the binding 2020 targets and the indicative interim trajectory for the shares of energy from renewable resources in electricity\"","v":"Total actual contribution (GROSS ELECTRICITY GENERATION) from each renewable energy technology in  to meet the binding 2020 targets and the indicative interim trajectory for the shares of energy from renewable resources in electricity"}]
["[GWh]",null,2004,2005,2006,2007,2008,2009,2010,2011,2012,2013,2014,2015,2016,2017,2018,2019,2020]
["Hydro:",null,{"$f":"'OVERALL TARGET'!V3","v":0},{"$f":"'OVERALL TARGET'!W3","v":0},{"$f":"'OVERALL TARGET'!X3","v":0},{"$f":"'OVERALL TARGET'!Y3","v":0},{"$f":"'OVERALL TARGET'!Z3","v":0},{"$f":"'OVERALL TARGET'!AA3","v":0},{"$f":"'OVERALL TARGET'!AB3","v":0},{"$f":"'OVERALL TARGET'!AC3","v":0},{"$f":"'OVERALL TARGET'!AD3","v":0},{"$f":"'OVERALL TARGET'!AE3","v":0},{"$f":"'OVERALL TARGET'!AF3","v":0},{"$f":"'OVERALL TARGET'!AG3","v":0},{"$f":"'OVERALL TARGET'!AH3","v":0},{"$f":"'OVERALL TARGET'!AI3","v":0},{"$f":"'OVERALL TARGET'!AJ3","v":0},{"$f":"'OVERALL TARGET'!AK3","v":0},{"$f":"'OVERALL TARGET'!AL3","v":0}]
[null,"non pumped",{"$f":"C56+C57+C58-C60","v":0},{"$f":"D56+D57+D58-D60","v":0},0,0,0,0,0,0,0,0,0,0,0,0,0,0,0]
[null,"<1MW",{"$f":"REN!V206","v":0},{"$f":"REN!W206","v":0},{"$f":"REN!X206","v":0},{"$f":"REN!Y206","v":0},{"$f":"REN!Z206","v":0},{"$f":"REN!AA206","v":0},{"$f":"REN!AB206","v":0},{"$f":"REN!AC206","v":0},{"$f":"REN!AD206","v":0},{"$f":"REN!AE206","v":0},{"$f":"REN!AF206","v":0},{"$f":"REN!AG206","v":0},{"$f":"REN!AH206","v":0},{"$f":"REN!AI206","v":0},{"$f":"REN!AJ206","v":0},{"$f":"REN!AK206","v":0},{"$f":"REN!AL206","v":0}]
[null,"1MW–10 MW",{"$f":"REN!V212","v":0},{"$f":"REN!W212","v":0},{"$f":"REN!X212","v":0},{"$f":"REN!Y212","v":0},{"$f":"REN!Z212","v":0},{"$f":"REN!AA212","v":0},{"$f":"REN!AB212","v":0},{"$f":"REN!AC212","v":0},{"$f":"REN!AD212","v":0},{"$f":"REN!AE212","v":0},{"$f":"REN!AF212","v":0},{"$f":"REN!AG212","v":0},{"$f":"REN!AH212","v":0},{"$f":"REN!AI212","v":0},{"$f":"REN!AJ212","v":0},{"$f":"REN!AK212","v":0},{"$f":"REN!AL212","v":0}]
[null,">10MW",{"$f":"REN!V218","v":0},{"$f":"REN!W218","v":0},{"$f":"REN!X218","v":0},{"$f":"REN!Y218","v":0},{"$f":"REN!Z218","v":0},{"$f":"REN!AA218","v":0},{"$f":"REN!AB218","v":0},{"$f":"REN!AC218","v":0},{"$f":"REN!AD218","v":0},{"$f":"REN!AE218","v":0},{"$f":"REN!AF218","v":0},{"$f":"REN!AG218","v":0},{"$f":"REN!AH218","v":0},{"$f":"REN!AI218","v":0},{"$f":"REN!AJ218","v":0},{"$f":"REN!AK218","v":0},{"$f":"REN!AL218","v":0}]
[null,"pumped"]
[null,"mixed (excluding pumped)",{"$f":"REN!V197","v":0},{"$f":"REN!W197","v":0},{"$f":"REN!X197","v":0},{"$f":"REN!Y197","v":0},{"$f":"REN!Z197","v":0},{"$f":"REN!AA197","v":0},{"$f":"REN!AB197","v":0},{"$f":"REN!AC197","v":0},{"$f":"REN!AD197","v":0},{"$f":"REN!AE197","v":0},{"$f":"REN!AF197","v":0},{"$f":"REN!AG197","v":0},{"$f":"REN!AH197","v":0},{"$f":"REN!AI197","v":0},{"$f":"REN!AJ197","v":0},{"$f":"REN!AK197","v":0},{"$f":"REN!AL197","v":0}]
["Geothermal",null,{"$f":"(REN!V132+REN!V140)/1000","v":0},{"$f":"(REN!W132+REN!W140)/1000","v":0},{"$f":"(REN!X132+REN!X140)/1000","v":0},{"$f":"(REN!Y132+REN!Y140)/1000","v":0},{"$f":"(REN!Z132+REN!Z140)/1000","v":0},{"$f":"(REN!AA132+REN!AA140)/1000","v":0},{"$f":"(REN!AB132+REN!AB140)/1000","v":0},{"$f":"(REN!AC132+REN!AC140)/1000","v":0},{"$f":"(REN!AD132+REN!AD140)/1000","v":0},{"$f":"(REN!AE132+REN!AE140)/1000","v":0},{"$f":"(REN!AF132+REN!AF140)/1000","v":0},{"$f":"(REN!AG132+REN!AG140)/1000","v":0},{"$f":"(REN!AH132+REN!AH140)/1000","v":0},{"$f":"(REN!AI132+REN!AI140)/1000","v":0},{"$f":"(REN!AJ132+REN!AJ140)/1000","v":0},{"$f":"(REN!AK132+REN!AK140)/1000","v":0},{"$f":"(REN!AL132+REN!AL140)/1000","v":0}]
["Solar:",null,{"$f":"C63+C64","v":0},{"$f":"D63+D64","v":0},0,0,0,0,0,0,0,0,0,0,0,0,0,0,0]
["of which","photovoltaic",{"$f":"(REN!V133+REN!V141)/1000","v":0},{"$f":"(REN!W133+REN!W141)/1000","v":0},{"$f":"(REN!X133+REN!X141)/1000","v":0},{"$f":"(REN!Y133+REN!Y141)/1000","v":0},{"$f":"(REN!Z133+REN!Z141)/1000","v":0},{"$f":"(REN!AA133+REN!AA141)/1000","v":0},{"$f":"(REN!AB133+REN!AB141)/1000","v":0},{"$f":"(REN!AC133+REN!AC141)/1000","v":0},{"$f":"(REN!AD133+REN!AD141)/1000","v":0},{"$f":"(REN!AE133+REN!AE141)/1000","v":0},{"$f":"(REN!AF133+REN!AF141)/1000","v":0},{"$f":"(REN!AG133+REN!AG141)/1000","v":0},{"$f":"(REN!AH133+REN!AH141)/1000","v":0},{"$f":"(REN!AI133+REN!AI141)/1000","v":0},{"$f":"(REN!AJ133+REN!AJ141)/1000","v":0},{"$f":"(REN!AK133+REN!AK141)/1000","v":0},{"$f":"(REN!AL133+REN!AL141)/1000","v":0}]
["of which","solar thermal",{"$f":"(REN!V134+REN!V142)/1000","v":0},{"$f":"(REN!W134+REN!W142)/1000","v":0},{"$f":"(REN!X134+REN!X142)/1000","v":0},{"$f":"(REN!Y134+REN!Y142)/1000","v":0},{"$f":"(REN!Z134+REN!Z142)/1000","v":0},{"$f":"(REN!AA134+REN!AA142)/1000","v":0},{"$f":"(REN!AB134+REN!AB142)/1000","v":0},{"$f":"(REN!AC134+REN!AC142)/1000","v":0},{"$f":"(REN!AD134+REN!AD142)/1000","v":0},{"$f":"(REN!AE134+REN!AE142)/1000","v":0},{"$f":"(REN!AF134+REN!AF142)/1000","v":0},{"$f":"(REN!AG134+REN!AG142)/1000","v":0},{"$f":"(REN!AH134+REN!AH142)/1000","v":0},{"$f":"(REN!AI134+REN!AI142)/1000","v":0},{"$f":"(REN!AJ134+REN!AJ142)/1000","v":0},{"$f":"(REN!AK134+REN!AK142)/1000","v":0},{"$f":"(REN!AL134+REN!AL142)/1000","v":0}]
["Tide, wave, ocean",null,{"$f":"(REN!V135+REN!V143)/1000","v":0},{"$f":"(REN!W135+REN!W143)/1000","v":0},{"$f":"(REN!X135+REN!X143)/1000","v":0},{"$f":"(REN!Y135+REN!Y143)/1000","v":0},{"$f":"(REN!Z135+REN!Z143)/1000","v":0},{"$f":"(REN!AA135+REN!AA143)/1000","v":0},{"$f":"(REN!AB135+REN!AB143)/1000","v":0},{"$f":"(REN!AC135+REN!AC143)/1000","v":0},{"$f":"(REN!AD135+REN!AD143)/1000","v":0},{"$f":"(REN!AE135+REN!AE143)/1000","v":0},{"$f":"(REN!AF135+REN!AF143)/1000","v":0},{"$f":"(REN!AG135+REN!AG143)/1000","v":0},{"$f":"(REN!AH135+REN!AH143)/1000","v":0},{"$f":"(REN!AI135+REN!AI143)/1000","v":0},{"$f":"(REN!AJ135+REN!AJ143)/1000","v":0},{"$f":"(REN!AK135+REN!AK143)/1000","v":0},{"$f":"(REN!AL135+REN!AL143)/1000","v":0}]
["Wind:",null,{"$f":"'OVERALL TARGET'!V4","v":0},{"$f":"'OVERALL TARGET'!W4","v":0},{"$f":"'OVERALL TARGET'!X4","v":0},{"$f":"'OVERALL TARGET'!Y4","v":0},{"$f":"'OVERALL TARGET'!Z4","v":0},{"$f":"'OVERALL TARGET'!AA4","v":0},{"$f":"'OVERALL TARGET'!AB4","v":0},{"$f":"'OVERALL TARGET'!AC4","v":0},{"$f":"'OVERALL TARGET'!AD4","v":0},{"$f":"'OVERALL TARGET'!AE4","v":0},{"$f":"'OVERALL TARGET'!AF4","v":0},{"$f":"'OVERALL TARGET'!AG4","v":0},{"$f":"'OVERALL TARGET'!AH4","v":0},{"$f":"'OVERALL TARGET'!AI4","v":0},{"$f":"'OVERALL TARGET'!AJ4","v":0},{"$f":"'OVERALL TARGET'!AK4","v":0},{"$f":"'OVERALL TARGET'!AL4","v":0}]
["of which","onshore"]
["of which","offshore"]
["Biomass: ",null,{"$f":"C70+C71+C72","v":0},{"$f":"D70+D71+D72","v":0},0,0,0,0,0,0,0,0,0,0,0,0,0,0,0]
["of which","solid biomass",{"$f":"(REN!V145+REN!V137)/1000","v":0},{"$f":"(REN!W145+REN!W137)/1000","v":0},{"$f":"(REN!X145+REN!X137)/1000","v":0},{"$f":"(REN!Y145+REN!Y137)/1000","v":0},{"$f":"(REN!Z145+REN!Z137)/1000","v":0},{"$f":"(REN!AA145+REN!AA137)/1000","v":0},{"$f":"(REN!AB145+REN!AB137)/1000","v":0},{"$f":"(REN!AC145+REN!AC137)/1000","v":0},{"$f":"(REN!AD145+REN!AD137)/1000","v":0},{"$f":"(REN!AE145+REN!AE137)/1000","v":0},{"$f":"(REN!AF145+REN!AF137)/1000","v":0},{"$f":"(REN!AG145+REN!AG137)/1000","v":0},{"$f":"(REN!AH145+REN!AH137)/1000","v":0},{"$f":"(REN!AI145+REN!AI137)/1000","v":0},{"$f":"(REN!AJ145+REN!AJ137)/1000","v":0},{"$f":"(REN!AK145+REN!AK137)/1000","v":0},{"$f":"(REN!AL145+REN!AL137)/1000","v":0}]
["of which","biogas",{"$f":"(REN!V138+REN!V146)/1000+'OVERALL TARGET'!V8","v":0},{"$f":"(REN!W138+REN!W146)/1000+'OVERALL TARGET'!W8","v":0},{"$f":"(REN!X138+REN!X146)/1000+'OVERALL TARGET'!X8","v":0},{"$f":"(REN!Y138+REN!Y146)/1000+'OVERALL TARGET'!Y8","v":0},{"$f":"(REN!Z138+REN!Z146)/1000+'OVERALL TARGET'!Z8","v":0},{"$f":"(REN!AA138+REN!AA146)/1000+'OVERALL TARGET'!AA8","v":0},{"$f":"(REN!AB138+REN!AB146)/1000+'OVERALL TARGET'!AB8","v":0},{"$f":"(REN!AC138+REN!AC146)/1000+'OVERALL TARGET'!AC8","v":0},{"$f":"(REN!AD138+REN!AD146)/1000+'OVERALL TARGET'!AD8","v":0},{"$f":"(REN!AE138+REN!AE146)/1000+'OVERALL TARGET'!AE8","v":0},{"$f":"(REN!AF138+REN!AF146)/1000+'OVERALL TARGET'!AF8","v":0},{"$f":"(REN!AG138+REN!AG146)/1000+'OVERALL TARGET'!AG8","v":0},{"$f":"(REN!AH138+REN!AH146)/1000+'OVERALL TARGET'!AH8","v":0},{"$f":"(REN!AI138+REN!AI146)/1000+'OVERALL TARGET'!AI8","v":0},{"$f":"(REN!AJ138+REN!AJ146)/1000+'OVERALL TARGET'!AJ8","v":0},{"$f":"(REN!AK138+REN!AK146)/1000+'OVERALL TARGET'!AK8","v":0},{"$f":"(REN!AL138+REN!AL146)/1000+'OVERALL TARGET'!AL8","v":0}]
["of which","bioliquids",{"$f":"'OVERALL TARGET'!V5","v":0},{"$f":"'OVERALL TARGET'!W5","v":0},{"$f":"'OVERALL TARGET'!X5","v":0},{"$f":"'OVERALL TARGET'!Y5","v":0},{"$f":"'OVERALL TARGET'!Z5","v":0},{"$f":"'OVERALL TARGET'!AA5","v":0},{"$f":"'OVERALL TARGET'!AB5","v":0},{"$f":"'OVERALL TARGET'!AC6+'OVERALL TARGET'!AC7","v":0},{"$f":"'OVERALL TARGET'!AD6+'OVERALL TARGET'!AD7","v":0},{"$f":"'OVERALL TARGET'!AE6+'OVERALL TARGET'!AE7","v":0},{"$f":"'OVERALL TARGET'!AF6+'OVERALL TARGET'!AF7","v":0},{"$f":"'OVERALL TARGET'!AG6+'OVERALL TARGET'!AG7","v":0},{"$f":"'OVERALL TARGET'!AH6+'OVERALL TARGET'!AH7","v":0},{"$f":"'OVERALL TARGET'!AI6+'OVERALL TARGET'!AI7","v":0},{"$f":"'OVERALL TARGET'!AJ6+'OVERALL TARGET'!AJ7","v":0},{"$f":"'OVERALL TARGET'!AK6+'OVERALL TARGET'!AK7","v":0},{"$f":"'OVERALL TARGET'!AL6+'OVERALL TARGET'!AL7","v":0}]
["TOTAL",null,{"$f":"SUM(C54,C61,C62,C65,C66,C69)","v":0},{"$f":"SUM(D54,D61,D62,D65,D66,D69)","v":0},0,0,0,0,0,0,0,0,0,0,0,0,0,0,0]
["of which in CHP*",null,{"$f":"SUM(REN!V150,REN!V153,REN!V154,REN!V155,REN!V156,REN!V158,REN!V161,REN!V162,REN!V163,REN!V164)/1000","v":0},{"$f":"SUM(REN!W150,REN!W153,REN!W154,REN!W155,REN!W156,REN!W158,REN!W161,REN!W162,REN!W163,REN!W164)/1000","v":0},{"$f":"SUM(REN!X150,REN!X153,REN!X154,REN!X155,REN!X156,REN!X158,REN!X161,REN!X162,REN!X163,REN!X164)/1000","v":0},{"$f":"SUM(REN!Y150,REN!Y153,REN!Y154,REN!Y155,REN!Y156,REN!Y158,REN!Y161,REN!Y162,REN!Y163,REN!Y164)/1000","v":0},{"$f":"SUM(REN!Z150,REN!Z153,REN!Z154,REN!Z155,REN!Z156,REN!Z158,REN!Z161,REN!Z162,REN!Z163,REN!Z164)/1000","v":0},{"$f":"SUM(REN!AA150,REN!AA153,REN!AA154,REN!AA155,REN!AA156,REN!AA158,REN!AA161,REN!AA162,REN!AA163,REN!AA164)/1000","v":0},{"$f":"SUM(REN!AB150,REN!AB153,REN!AB154,REN!AB155,REN!AB156,REN!AB158,REN!AB161,REN!AB162,REN!AB163,REN!AB164)/1000","v":0},{"$f":"SUM(REN!AC150,REN!AC153,REN!AC154,REN!AC155,REN!AC156,REN!AC158,REN!AC161,REN!AC162,REN!AC163,REN!AC164)/1000","v":0},{"$f":"SUM(REN!AD150,REN!AD153,REN!AD154,REN!AD155,REN!AD156,REN!AD158,REN!AD161,REN!AD162,REN!AD163,REN!AD164)/1000","v":0},{"$f":"SUM(REN!AE150,REN!AE153,REN!AE154,REN!AE155,REN!AE156,REN!AE158,REN!AE161,REN!AE162,REN!AE163,REN!AE164)/1000","v":0},{"$f":"SUM(REN!AF150,REN!AF153,REN!AF154,REN!AF155,REN!AF156,REN!AF158,REN!AF161,REN!AF162,REN!AF163,REN!AF164)/1000","v":0},{"$f":"SUM(REN!AG150,REN!AG153,REN!AG154,REN!AG155,REN!AG156,REN!AG158,REN!AG161,REN!AG162,REN!AG163,REN!AG164)/1000","v":0},{"$f":"SUM(REN!AH150,REN!AH153,REN!AH154,REN!AH155,REN!AH156,REN!AH158,REN!AH161,REN!AH162,REN!AH163,REN!AH164)/1000","v":0},{"$f":"SUM(REN!AI150,REN!AI153,REN!AI154,REN!AI155,REN!AI156,REN!AI158,REN!AI161,REN!AI162,REN!AI163,REN!AI164)/1000","v":0},{"$f":"SUM(REN!AJ150,REN!AJ153,REN!AJ154,REN!AJ155,REN!AJ156,REN!AJ158,REN!AJ161,REN!AJ162,REN!AJ163,REN!AJ164)/1000","v":0},{"$f":"SUM(REN!AK150,REN!AK153,REN!AK154,REN!AK155,REN!AK156,REN!AK158,REN!AK161,REN!AK162,REN!AK163,REN!AK164)/1000","v":0},{"$f":"SUM(REN!AL150,REN!AL153,REN!AL154,REN!AL155,REN!AL156,REN!AL158,REN!AL161,REN!AL162,REN!AL163,REN!AL164)/1000","v":0}]
["* this is an estimate only, countries are encouraged to perform their own calculations"]
[]
["Table 1b (complementary info)"]
["[GWh]",null,2004,2005,2006,2007,2008,2009,2010,2011,2012,2013,2014,2015,2016,2017,2018,2019,2020]
["Renewable Municipal Solid Waste",null,{"$f":"(REN!V136+REN!V144)/1000","v":0},{"$f":"(REN!W136+REN!W144)/1000","v":0},{"$f":"(REN!X136+REN!X144)/1000","v":0},{"$f":"(REN!Y136+REN!Y144)/1000","v":0},{"$f":"(REN!Z136+REN!Z144)/1000","v":0},{"$f":"(REN!AA136+REN!AA144)/1000","v":0},{"$f":"(REN!AB136+REN!AB144)/1000","v":0},{"$f":"(REN!AC136+REN!AC144)/1000","v":0},{"$f":"(REN!AD136+REN!AD144)/1000","v":0},{"$f":"(REN!AE136+REN!AE144)/1000","v":0},{"$f":"(REN!AF136+REN!AF144)/1000","v":0},{"$f":"(REN!AG136+REN!AG144)/1000","v":0},{"$f":"(REN!AH136+REN!AH144)/1000","v":0},{"$f":"(REN!AI136+REN!AI144)/1000","v":0},{"$f":"(REN!AJ136+REN!AJ144)/1000","v":0},{"$f":"(REN!AK136+REN!AK144)/1000","v":0},{"$f":"(REN!AL136+REN!AL144)/1000","v":0}]
["Renewable electricity acounted in transport",null,{"$f":"-(TRANSPORT!V50+TRANSPORT!V53+TRANSPORT!V56)*41.868/3.6","v":0},{"$f":"-(TRANSPORT!W50+TRANSPORT!W53+TRANSPORT!W56)*41.868/3.6","v":0},{"$f":"-(TRANSPORT!X50+TRANSPORT!X53+TRANSPORT!X56)*41.868/3.6","v":0},{"$f":"-(TRANSPORT!Y50+TRANSPORT!Y53+TRANSPORT!Y56)*41.868/3.6","v":0},{"$f":"-(TRANSPORT!Z50+TRANSPORT!Z53+TRANSPORT!Z56)*41.868/3.6","v":0},{"$f":"-(TRANSPORT!AA50+TRANSPORT!AA53+TRANSPORT!AA56)*41.868/3.6","v":0},{"$f":"-(TRANSPORT!AB50+TRANSPORT!AB53+TRANSPORT!AB56)*41.868/3.6","v":0},{"$f":"-(TRANSPORT!AC50+TRANSPORT!AC53+TRANSPORT!AC56)*41.868/3.6","v":0},{"$f":"-(TRANSPORT!AD50+TRANSPORT!AD53+TRANSPORT!AD56)*41.868/3.6","v":0},{"$f":"-(TRANSPORT!AE50+TRANSPORT!AE53+TRANSPORT!AE56)*41.868/3.6","v":0},{"$f":"-(TRANSPORT!AF50+TRANSPORT!AF53+TRANSPORT!AF56)*41.868/3.6","v":0},{"$f":"-(TRANSPORT!AG50+TRANSPORT!AG53+TRANSPORT!AG56)*41.868/3.6","v":0},{"$f":"-(TRANSPORT!AH50+TRANSPORT!AH53+TRANSPORT!AH56)*41.868/3.6","v":0},{"$f":"-(TRANSPORT!AI50+TRANSPORT!AI53+TRANSPORT!AI56)*41.868/3.6","v":0},{"$f":"-(TRANSPORT!AJ50+TRANSPORT!AJ53+TRANSPORT!AJ56)*41.868/3.6","v":0},{"$f":"-(TRANSPORT!AK50+TRANSPORT!AK53+TRANSPORT!AK56)*41.868/3.6","v":0},{"$f":"-(TRANSPORT!AL50+TRANSPORT!AL53+TRANSPORT!AL56)*41.868/3.6","v":0}]
["ADJUSTED TOTAL (equal to Table 1a item B)",null,{"$f":"SUM(C73,C79,C80)","v":0},{"$f":"SUM(D73,D79,D80)","v":0},0,0,0,0,0,0,0,0,0,0,0,0,0,0,0]
[]
[]
["Table 1c"]
[{"$f":"\"Total actual contribution from each renewable energy technology in \" & $A$1 & \"to meet the binding 2020 targets and the indicative interim trajectory for the shares of energy from renewable resources in heating and cooling (ktoe)\"","v":"Total actual contribution from each renewable energy technology in to meet the binding 2020 targets and the indicative interim trajectory for the shares of energy from renewable resources in heating and cooling (ktoe)"}]
["[ktoe]",null,2004,2005,2006,2007,2008,2009,2010,2011,2012,2013,2014,2015,2016,2017,2018,2019,2020]
["Geothermal",null,{"$f":"(REN!V48+REN!V62+REN!V168+REN!V176)/41.868","v":0},{"$f":"(REN!W48+REN!W62+REN!W168+REN!W176)/41.868","v":0},{"$f":"(REN!X48+REN!X62+REN!X168+REN!X176)/41.868","v":0},{"$f":"(REN!Y48+REN!Y62+REN!Y168+REN!Y176)/41.868","v":0},{"$f":"(REN!Z48+REN!Z62+REN!Z168+REN!Z176)/41.868","v":0},{"$f":"(REN!AA48+REN!AA62+REN!AA168+REN!AA176)/41.868","v":0},{"$f":"(REN!AB48+REN!AB62+REN!AB168+REN!AB176)/41.868","v":0},{"$f":"(REN!AC48+REN!AC62+REN!AC168+REN!AC176)/41.868","v":0},{"$f":"(REN!AD48+REN!AD62+REN!AD168+REN!AD176)/41.868","v":0},{"$f":"(REN!AE48+REN!AE62+REN!AE168+REN!AE176)/41.868","v":0},{"$f":"(REN!AF48+REN!AF62+REN!AF168+REN!AF176)/41.868","v":0},{"$f":"(REN!AG48+REN!AG62+REN!AG168+REN!AG176)/41.868","v":0},{"$f":"(REN!AH48+REN!AH62+REN!AH168+REN!AH176)/41.868","v":0},{"$f":"(REN!AI48+REN!AI62+REN!AI168+REN!AI176)/41.868","v":0},{"$f":"(REN!AJ48+REN!AJ62+REN!AJ168+REN!AJ176)/41.868","v":0},{"$f":"(REN!AK48+REN!AK62+REN!AK168+REN!AK176)/41.868","v":0},{"$f":"(REN!AL48+REN!AL62+REN!AL168+REN!AL176)/41.868","v":0}]
["Solar",null,{"$f":"(REN!V49+REN!V63+REN!V169+REN!V177)/41.868","v":0},{"$f":"(REN!W49+REN!W63+REN!W169+REN!W177)/41.868","v":0},{"$f":"(REN!X49+REN!X63+REN!X169+REN!X177)/41.868","v":0},{"$f":"(REN!Y49+REN!Y63+REN!Y169+REN!Y177)/41.868","v":0},{"$f":"(REN!Z49+REN!Z63+REN!Z169+REN!Z177)/41.868","v":0},{"$f":"(REN!AA49+REN!AA63+REN!AA169+REN!AA177)/41.868","v":0},{"$f":"(REN!AB49+REN!AB63+REN!AB169+REN!AB177)/41.868","v":0},{"$f":"(REN!AC49+REN!AC63+REN!AC169+REN!AC177)/41.868","v":0},{"$f":"(REN!AD49+REN!AD63+REN!AD169+REN!AD177)/41.868","v":0},{"$f":"(REN!AE49+REN!AE63+REN!AE169+REN!AE177)/41.868","v":0},{"$f":"(REN!AF49+REN!AF63+REN!AF169+REN!AF177)/41.868","v":0},{"$f":"(REN!AG49+REN!AG63+REN!AG169+REN!AG177)/41.868","v":0},{"$f":"(REN!AH49+REN!AH63+REN!AH169+REN!AH177)/41.868","v":0},{"$f":"(REN!AI49+REN!AI63+REN!AI169+REN!AI177)/41.868","v":0},{"$f":"(REN!AJ49+REN!AJ63+REN!AJ169+REN!AJ177)/41.868","v":0},{"$f":"(REN!AK49+REN!AK63+REN!AK169+REN!AK177)/41.868","v":0},{"$f":"(REN!AL49+REN!AL63+REN!AL169+REN!AL177)/41.868","v":0}]
["Biomass",null,{"$f":"C90+C91+C92","v":0},{"$f":"D90+D91+D92","v":0},0,0,0,0,0,0,0,0,0,0,0,0,0,0,0]
["of which","solid biomass",{"$f":"(SUMPRODUCT(REN!V53:V54,REN!V31:V32)+SUMPRODUCT(REN!V67:V68,REN!V31:V32))/41868+(REN!V171+REN!V179)/41.868","v":0},{"$f":"(SUMPRODUCT(REN!W53:W54,REN!W31:W32)+SUMPRODUCT(REN!W67:W68,REN!W31:W32))/41868+(REN!W171+REN!W179)/41.868","v":0},{"$f":"(SUMPRODUCT(REN!X53:X54,REN!X31:X32)+SUMPRODUCT(REN!X67:X68,REN!X31:X32))/41868+(REN!X171+REN!X179)/41.868","v":0},{"$f":"(SUMPRODUCT(REN!Y53:Y54,REN!Y31:Y32)+SUMPRODUCT(REN!Y67:Y68,REN!Y31:Y32))/41868+(REN!Y171+REN!Y179)/41.868","v":0},{"$f":"(SUMPRODUCT(REN!Z53:Z54,REN!Z31:Z32)+SUMPRODUCT(REN!Z67:Z68,REN!Z31:Z32))/41868+(REN!Z171+REN!Z179)/41.868","v":0},{"$f":"(SUMPRODUCT(REN!AA53:AA54,REN!AA31:AA32)+SUMPRODUCT(REN!AA67:AA68,REN!AA31:AA32))/41868+(REN!AA171+REN!AA179)/41.868","v":0},{"$f":"(SUMPRODUCT(REN!AB53:AB54,REN!AB31:AB32)+SUMPRODUCT(REN!AB67:AB68,REN!AB31:AB32))/41868+(REN!AB171+REN!AB179)/41.868","v":0},{"$f":"(SUMPRODUCT(REN!AC53:AC54,REN!AC31:AC32)+SUMPRODUCT(REN!AC67:AC68,REN!AC31:AC32))/41868+(REN!AC171+REN!AC179)/41.868","v":0},{"$f":"(SUMPRODUCT(REN!AD53:AD54,REN!AD31:AD32)+SUMPRODUCT(REN!AD67:AD68,REN!AD31:AD32))/41868+(REN!AD171+REN!AD179)/41.868","v":0},{"$f":"(SUMPRODUCT(REN!AE53:AE54,REN!AE31:AE32)+SUMPRODUCT(REN!AE67:AE68,REN!AE31:AE32))/41868+(REN!AE171+REN!AE179)/41.868","v":0},{"$f":"(SUMPRODUCT(REN!AF53:AF54,REN!AF31:AF32)+SUMPRODUCT(REN!AF67:AF68,REN!AF31:AF32))/41868+(REN!AF171+REN!AF179)/41.868","v":0},{"$f":"(SUMPRODUCT(REN!AG53:AG54,REN!AG31:AG32)+SUMPRODUCT(REN!AG67:AG68,REN!AG31:AG32))/41868+(REN!AG171+REN!AG179)/41.868","v":0},{"$f":"(SUMPRODUCT(REN!AH53:AH54,REN!AH31:AH32)+SUMPRODUCT(REN!AH67:AH68,REN!AH31:AH32))/41868+(REN!AH171+REN!AH179)/41.868","v":0},{"$f":"(SUMPRODUCT(REN!AI53:AI54,REN!AI31:AI32)+SUMPRODUCT(REN!AI67:AI68,REN!AI31:AI32))/41868+(REN!AI171+REN!AI179)/41.868","v":0},{"$f":"(SUMPRODUCT(REN!AJ53:AJ54,REN!AJ31:AJ32)+SUMPRODUCT(REN!AJ67:AJ68,REN!AJ31:AJ32))/41868+(REN!AJ171+REN!AJ179)/41.868","v":0},{"$f":"(SUMPRODUCT(REN!AK53:AK54,REN!AK31:AK32)+SUMPRODUCT(REN!AK67:AK68,REN!AK31:AK32))/41868+(REN!AK171+REN!AK179)/41.868","v":0},{"$f":"(SUMPRODUCT(REN!AL53:AL54,REN!AL31:AL32)+SUMPRODUCT(REN!AL67:AL68,REN!AL31:AL32))/41868+(REN!AL171+REN!AL179)/41.868","v":0}]
["of which","biogas",{"$f":"(REN!V55+REN!V69+REN!V172+REN!V180)/41.868+'OVERALL TARGET'!V19+'OVERALL TARGET'!V25","v":0},{"$f":"(REN!W55+REN!W69+REN!W172+REN!W180)/41.868+'OVERALL TARGET'!W19+'OVERALL TARGET'!W25","v":0},{"$f":"(REN!X55+REN!X69+REN!X172+REN!X180)/41.868+'OVERALL TARGET'!X19+'OVERALL TARGET'!X25","v":0},{"$f":"(REN!Y55+REN!Y69+REN!Y172+REN!Y180)/41.868+'OVERALL TARGET'!Y19+'OVERALL TARGET'!Y25","v":0},{"$f":"(REN!Z55+REN!Z69+REN!Z172+REN!Z180)/41.868+'OVERALL TARGET'!Z19+'OVERALL TARGET'!Z25","v":0},{"$f":"(REN!AA55+REN!AA69+REN!AA172+REN!AA180)/41.868+'OVERALL TARGET'!AA19+'OVERALL TARGET'!AA25","v":0},{"$f":"(REN!AB55+REN!AB69+REN!AB172+REN!AB180)/41.868+'OVERALL TARGET'!AB19+'OVERALL TARGET'!AB25","v":0},{"$f":"(REN!AC55+REN!AC69+REN!AC172+REN!AC180)/41.868+'OVERALL TARGET'!AC19+'OVERALL TARGET'!AC25","v":0},{"$f":"(REN!AD55+REN!AD69+REN!AD172+REN!AD180)/41.868+'OVERALL TARGET'!AD19+'OVERALL TARGET'!AD25","v":0},{"$f":"(REN!AE55+REN!AE69+REN!AE172+REN!AE180)/41.868+'OVERALL TARGET'!AE19+'OVERALL TARGET'!AE25","v":0},{"$f":"(REN!AF55+REN!AF69+REN!AF172+REN!AF180)/41.868+'OVERALL TARGET'!AF19+'OVERALL TARGET'!AF25","v":0},{"$f":"(REN!AG55+REN!AG69+REN!AG172+REN!AG180)/41.868+'OVERALL TARGET'!AG19+'OVERALL TARGET'!AG25","v":0},{"$f":"(REN!AH55+REN!AH69+REN!AH172+REN!AH180)/41.868+'OVERALL TARGET'!AH19+'OVERALL TARGET'!AH25","v":0},{"$f":"(REN!AI55+REN!AI69+REN!AI172+REN!AI180)/41.868+'OVERALL TARGET'!AI19+'OVERALL TARGET'!AI25","v":0},{"$f":"(REN!AJ55+REN!AJ69+REN!AJ172+REN!AJ180)/41.868+'OVERALL TARGET'!AJ19+'OVERALL TARGET'!AJ25","v":0},{"$f":"(REN!AK55+REN!AK69+REN!AK172+REN!AK180)/41.868+'OVERALL TARGET'!AK19+'OVERALL TARGET'!AK25","v":0},{"$f":"(REN!AL55+REN!AL69+REN!AL172+REN!AL180)/41.868+'OVERALL TARGET'!AL19+'OVERALL TARGET'!AL25","v":0}]
["of which","bioliquids",{"$f":"'OVERALL TARGET'!V17+'OVERALL TARGET'!V22","v":0},{"$f":"'OVERALL TARGET'!W17+'OVERALL TARGET'!W22","v":0},{"$f":"'OVERALL TARGET'!X17+'OVERALL TARGET'!X22","v":0},{"$f":"'OVERALL TARGET'!Y17+'OVERALL TARGET'!Y22","v":0},{"$f":"'OVERALL TARGET'!Z17+'OVERALL TARGET'!Z22","v":0},{"$f":"'OVERALL TARGET'!AA17+'OVERALL TARGET'!AA22","v":0},{"$f":"'OVERALL TARGET'!AB17+'OVERALL TARGET'!AB22","v":0},{"$f":"'OVERALL TARGET'!AC18+'OVERALL TARGET'!AC23+'OVERALL TARGET'!AC24","v":0},{"$f":"'OVERALL TARGET'!AD18+'OVERALL TARGET'!AD23+'OVERALL TARGET'!AD24","v":0},{"$f":"'OVERALL TARGET'!AE18+'OVERALL TARGET'!AE23+'OVERALL TARGET'!AE24","v":0},{"$f":"'OVERALL TARGET'!AF18+'OVERALL TARGET'!AF23+'OVERALL TARGET'!AF24","v":0},{"$f":"'OVERALL TARGET'!AG18+'OVERALL TARGET'!AG23+'OVERALL TARGET'!AG24","v":0},{"$f":"'OVERALL TARGET'!AH18+'OVERALL TARGET'!AH23+'OVERALL TARGET'!AH24","v":0},{"$f":"'OVERALL TARGET'!AI18+'OVERALL TARGET'!AI23+'OVERALL TARGET'!AI24","v":0},{"$f":"'OVERALL TARGET'!AJ18+'OVERALL TARGET'!AJ23+'OVERALL TARGET'!AJ24","v":0},{"$f":"'OVERALL TARGET'!AK18+'OVERALL TARGET'!AK23+'OVERALL TARGET'!AK24","v":0},{"$f":"'OVERALL TARGET'!AL18+'OVERALL TARGET'!AL23+'OVERALL TARGET'!AL24","v":0}]
["Heat pumps",null,{"$f":"'HEAT PUMPS'!V7*3.6/41.868","v":0},{"$f":"'HEAT PUMPS'!W7*3.6/41.868","v":0},{"$f":"'HEAT PUMPS'!X7*3.6/41.868","v":0},{"$f":"'HEAT PUMPS'!Y7*3.6/41.868","v":0},{"$f":"'HEAT PUMPS'!Z7*3.6/41.868","v":0},{"$f":"'HEAT PUMPS'!AA7*3.6/41.868","v":0},{"$f":"'HEAT PUMPS'!AB7*3.6/41.868","v":0},{"$f":"'HEAT PUMPS'!AC7*3.6/41.868","v":0},{"$f":"'HEAT PUMPS'!AD7*3.6/41.868","v":0},{"$f":"'HEAT PUMPS'!AE7*3.6/41.868","v":0},{"$f":"'HEAT PUMPS'!AF7*3.6/41.868","v":0},{"$f":"'HEAT PUMPS'!AG7*3.6/41.868","v":0},{"$f":"'HEAT PUMPS'!AH7*3.6/41.868","v":0},{"$f":"'HEAT PUMPS'!AI7*3.6/41.868","v":0},{"$f":"'HEAT PUMPS'!AJ7*3.6/41.868","v":0},{"$f":"'HEAT PUMPS'!AK7*3.6/41.868","v":0},{"$f":"'HEAT PUMPS'!AL7*3.6/41.868","v":0}]
["of which","aerothermal",{"$f":"('HEAT PUMPS'!V11+'HEAT PUMPS'!V76+'HEAT PUMPS'!V141+'HEAT PUMPS'!V206+'HEAT PUMPS'!V271+'HEAT PUMPS'!V336)*3.6/41.868","v":0},{"$f":"('HEAT PUMPS'!W11+'HEAT PUMPS'!W76+'HEAT PUMPS'!W141+'HEAT PUMPS'!W206+'HEAT PUMPS'!W271+'HEAT PUMPS'!W336)*3.6/41.868","v":0},{"$f":"('HEAT PUMPS'!X11+'HEAT PUMPS'!X76+'HEAT PUMPS'!X141+'HEAT PUMPS'!X206+'HEAT PUMPS'!X271+'HEAT PUMPS'!X336)*3.6/41.868","v":0},{"$f":"('HEAT PUMPS'!Y11+'HEAT PUMPS'!Y76+'HEAT PUMPS'!Y141+'HEAT PUMPS'!Y206+'HEAT PUMPS'!Y271+'HEAT PUMPS'!Y336)*3.6/41.868","v":0},{"$f":"('HEAT PUMPS'!Z11+'HEAT PUMPS'!Z76+'HEAT PUMPS'!Z141+'HEAT PUMPS'!Z206+'HEAT PUMPS'!Z271+'HEAT PUMPS'!Z336)*3.6/41.868","v":0},{"$f":"('HEAT PUMPS'!AA11+'HEAT PUMPS'!AA76+'HEAT PUMPS'!AA141+'HEAT PUMPS'!AA206+'HEAT PUMPS'!AA271+'HEAT PUMPS'!AA336)*3.6/41.868","v":0},{"$f":"('HEAT PUMPS'!AB11+'HEAT PUMPS'!AB76+'HEAT PUMPS'!AB141+'HEAT PUMPS'!AB206+'HEAT PUMPS'!AB271+'HEAT PUMPS'!AB336)*3.6/41.868","v":0},{"$f":"('HEAT PUMPS'!AC11+'HEAT PUMPS'!AC76+'HEAT PUMPS'!AC141+'HEAT PUMPS'!AC206+'HEAT PUMPS'!AC271+'HEAT PUMPS'!AC336)*3.6/41.868","v":0},{"$f":"('HEAT PUMPS'!AD11+'HEAT PUMPS'!AD76+'HEAT PUMPS'!AD141+'HEAT PUMPS'!AD206+'HEAT PUMPS'!AD271+'HEAT PUMPS'!AD336)*3.6/41.868","v":0},{"$f":"('HEAT PUMPS'!AE11+'HEAT PUMPS'!AE76+'HEAT PUMPS'!AE141+'HEAT PUMPS'!AE206+'HEAT PUMPS'!AE271+'HEAT PUMPS'!AE336)*3.6/41.868","v":0},{"$f":"('HEAT PUMPS'!AF11+'HEAT PUMPS'!AF76+'HEAT PUMPS'!AF141+'HEAT PUMPS'!AF206+'HEAT PUMPS'!AF271+'HEAT PUMPS'!AF336)*3.6/41.868","v":0},{"$f":"('HEAT PUMPS'!AG11+'HEAT PUMPS'!AG76+'HEAT PUMPS'!AG141+'HEAT PUMPS'!AG206+'HEAT PUMPS'!AG271+'HEAT PUMPS'!AG336)*3.6/41.868","v":0},{"$f":"('HEAT PUMPS'!AH11+'HEAT PUMPS'!AH76+'HEAT PUMPS'!AH141+'HEAT PUMPS'!AH206+'HEAT PUMPS'!AH271+'HEAT PUMPS'!AH336)*3.6/41.868","v":0},{"$f":"('HEAT PUMPS'!AI11+'HEAT PUMPS'!AI76+'HEAT PUMPS'!AI141+'HEAT PUMPS'!AI206+'HEAT PUMPS'!AI271+'HEAT PUMPS'!AI336)*3.6/41.868","v":0},{"$f":"('HEAT PUMPS'!AJ11+'HEAT PUMPS'!AJ76+'HEAT PUMPS'!AJ141+'HEAT PUMPS'!AJ206+'HEAT PUMPS'!AJ271+'HEAT PUMPS'!AJ336)*3.6/41.868","v":0},{"$f":"('HEAT PUMPS'!AK11+'HEAT PUMPS'!AK76+'HEAT PUMPS'!AK141+'HEAT PUMPS'!AK206+'HEAT PUMPS'!AK271+'HEAT PUMPS'!AK336)*3.6/41.868","v":0},{"$f":"('HEAT PUMPS'!AL11+'HEAT PUMPS'!AL76+'HEAT PUMPS'!AL141+'HEAT PUMPS'!AL206+'HEAT PUMPS'!AL271+'HEAT PUMPS'!AL336)*3.6/41.868","v":0}]
["of which","geothermal",{"$f":"('HEAT PUMPS'!V48+'HEAT PUMPS'!V113+'HEAT PUMPS'!V178+'HEAT PUMPS'!V243+'HEAT PUMPS'!V308+'HEAT PUMPS'!V373)*3.6/41.868","v":0},{"$f":"('HEAT PUMPS'!W48+'HEAT PUMPS'!W113+'HEAT PUMPS'!W178+'HEAT PUMPS'!W243+'HEAT PUMPS'!W308+'HEAT PUMPS'!W373)*3.6/41.868","v":0},{"$f":"('HEAT PUMPS'!X48+'HEAT PUMPS'!X113+'HEAT PUMPS'!X178+'HEAT PUMPS'!X243+'HEAT PUMPS'!X308+'HEAT PUMPS'!X373)*3.6/41.868","v":0},{"$f":"('HEAT PUMPS'!Y48+'HEAT PUMPS'!Y113+'HEAT PUMPS'!Y178+'HEAT PUMPS'!Y243+'HEAT PUMPS'!Y308+'HEAT PUMPS'!Y373)*3.6/41.868","v":0},{"$f":"('HEAT PUMPS'!Z48+'HEAT PUMPS'!Z113+'HEAT PUMPS'!Z178+'HEAT PUMPS'!Z243+'HEAT PUMPS'!Z308+'HEAT PUMPS'!Z373)*3.6/41.868","v":0},{"$f":"('HEAT PUMPS'!AA48+'HEAT PUMPS'!AA113+'HEAT PUMPS'!AA178+'HEAT PUMPS'!AA243+'HEAT PUMPS'!AA308+'HEAT PUMPS'!AA373)*3.6/41.868","v":0},{"$f":"('HEAT PUMPS'!AB48+'HEAT PUMPS'!AB113+'HEAT PUMPS'!AB178+'HEAT PUMPS'!AB243+'HEAT PUMPS'!AB308+'HEAT PUMPS'!AB373)*3.6/41.868","v":0},{"$f":"('HEAT PUMPS'!AC48+'HEAT PUMPS'!AC113+'HEAT PUMPS'!AC178+'HEAT PUMPS'!AC243+'HEAT PUMPS'!AC308+'HEAT PUMPS'!AC373)*3.6/41.868","v":0},{"$f":"('HEAT PUMPS'!AD48+'HEAT PUMPS'!AD113+'HEAT PUMPS'!AD178+'HEAT PUMPS'!AD243+'HEAT PUMPS'!AD308+'HEAT PUMPS'!AD373)*3.6/41.868","v":0},{"$f":"('HEAT PUMPS'!AE48+'HEAT PUMPS'!AE113+'HEAT PUMPS'!AE178+'HEAT PUMPS'!AE243+'HEAT PUMPS'!AE308+'HEAT PUMPS'!AE373)*3.6/41.868","v":0},{"$f":"('HEAT PUMPS'!AF48+'HEAT PUMPS'!AF113+'HEAT PUMPS'!AF178+'HEAT PUMPS'!AF243+'HEAT PUMPS'!AF308+'HEAT PUMPS'!AF373)*3.6/41.868","v":0},{"$f":"('HEAT PUMPS'!AG48+'HEAT PUMPS'!AG113+'HEAT PUMPS'!AG178+'HEAT PUMPS'!AG243+'HEAT PUMPS'!AG308+'HEAT PUMPS'!AG373)*3.6/41.868","v":0},{"$f":"('HEAT PUMPS'!AH48+'HEAT PUMPS'!AH113+'HEAT PUMPS'!AH178+'HEAT PUMPS'!AH243+'HEAT PUMPS'!AH308+'HEAT PUMPS'!AH373)*3.6/41.868","v":0},{"$f":"('HEAT PUMPS'!AI48+'HEAT PUMPS'!AI113+'HEAT PUMPS'!AI178+'HEAT PUMPS'!AI243+'HEAT PUMPS'!AI308+'HEAT PUMPS'!AI373)*3.6/41.868","v":0},{"$f":"('HEAT PUMPS'!AJ48+'HEAT PUMPS'!AJ113+'HEAT PUMPS'!AJ178+'HEAT PUMPS'!AJ243+'HEAT PUMPS'!AJ308+'HEAT PUMPS'!AJ373)*3.6/41.868","v":0},{"$f":"('HEAT PUMPS'!AK48+'HEAT PUMPS'!AK113+'HEAT PUMPS'!AK178+'HEAT PUMPS'!AK243+'HEAT PUMPS'!AK308+'HEAT PUMPS'!AK373)*3.6/41.868","v":0},{"$f":"('HEAT PUMPS'!AL48+'HEAT PUMPS'!AL113+'HEAT PUMPS'!AL178+'HEAT PUMPS'!AL243+'HEAT PUMPS'!AL308+'HEAT PUMPS'!AL373)*3.6/41.868","v":0}]
["of which","hydrothermal",{"$f":"('HEAT PUMPS'!V61+'HEAT PUMPS'!V126+'HEAT PUMPS'!V191+'HEAT PUMPS'!V256+'HEAT PUMPS'!V321+'HEAT PUMPS'!V386)*3.6/41.868","v":0},{"$f":"('HEAT PUMPS'!W61+'HEAT PUMPS'!W126+'HEAT PUMPS'!W191+'HEAT PUMPS'!W256+'HEAT PUMPS'!W321+'HEAT PUMPS'!W386)*3.6/41.868","v":0},{"$f":"('HEAT PUMPS'!X61+'HEAT PUMPS'!X126+'HEAT PUMPS'!X191+'HEAT PUMPS'!X256+'HEAT PUMPS'!X321+'HEAT PUMPS'!X386)*3.6/41.868","v":0},{"$f":"('HEAT PUMPS'!Y61+'HEAT PUMPS'!Y126+'HEAT PUMPS'!Y191+'HEAT PUMPS'!Y256+'HEAT PUMPS'!Y321+'HEAT PUMPS'!Y386)*3.6/41.868","v":0},{"$f":"('HEAT PUMPS'!Z61+'HEAT PUMPS'!Z126+'HEAT PUMPS'!Z191+'HEAT PUMPS'!Z256+'HEAT PUMPS'!Z321+'HEAT PUMPS'!Z386)*3.6/41.868","v":0},{"$f":"('HEAT PUMPS'!AA61+'HEAT PUMPS'!AA126+'HEAT PUMPS'!AA191+'HEAT PUMPS'!AA256+'HEAT PUMPS'!AA321+'HEAT PUMPS'!AA386)*3.6/41.868","v":0},{"$f":"('HEAT PUMPS'!AB61+'HEAT PUMPS'!AB126+'HEAT PUMPS'!AB191+'HEAT PUMPS'!AB256+'HEAT PUMPS'!AB321+'HEAT PUMPS'!AB386)*3.6/41.868","v":0},{"$f":"('HEAT PUMPS'!AC61+'HEAT PUMPS'!AC126+'HEAT PUMPS'!AC191+'HEAT PUMPS'!AC256+'HEAT PUMPS'!AC321+'HEAT PUMPS'!AC386)*3.6/41.868","v":0},{"$f":"('HEAT PUMPS'!AD61+'HEAT PUMPS'!AD126+'HEAT PUMPS'!AD191+'HEAT PUMPS'!AD256+'HEAT PUMPS'!AD321+'HEAT PUMPS'!AD386)*3.6/41.868","v":0},{"$f":"('HEAT PUMPS'!AE61+'HEAT PUMPS'!AE126+'HEAT PUMPS'!AE191+'HEAT PUMPS'!AE256+'HEAT PUMPS'!AE321+'HEAT PUMPS'!AE386)*3.6/41.868","v":0},{"$f":"('HEAT PUMPS'!AF61+'HEAT PUMPS'!AF126+'HEAT PUMPS'!AF191+'HEAT PUMPS'!AF256+'HEAT PUMPS'!AF321+'HEAT PUMPS'!AF386)*3.6/41.868","v":0},{"$f":"('HEAT PUMPS'!AG61+'HEAT PUMPS'!AG126+'HEAT PUMPS'!AG191+'HEAT PUMPS'!AG256+'HEAT PUMPS'!AG321+'HEAT PUMPS'!AG386)*3.6/41.868","v":0},{"$f":"('HEAT PUMPS'!AH61+'HEAT PUMPS'!AH126+'HEAT PUMPS'!AH191+'HEAT PUMPS'!AH256+'HEAT PUMPS'!AH321+'HEAT PUMPS'!AH386)*3.6/41.868","v":0},{"$f":"('HEAT PUMPS'!AI61+'HEAT PUMPS'!AI126+'HEAT PUMPS'!AI191+'HEAT PUMPS'!AI256+'HEAT PUMPS'!AI321+'HEAT PUMPS'!AI386)*3.6/41.868","v":0},{"$f":"('HEAT PUMPS'!AJ61+'HEAT PUMPS'!AJ126+'HEAT PUMPS'!AJ191+'HEAT PUMPS'!AJ256+'HEAT PUMPS'!AJ321+'HEAT PUMPS'!AJ386)*3.6/41.868","v":0},{"$f":"('HEAT PUMPS'!AK61+'HEAT PUMPS'!AK126+'HEAT PUMPS'!AK191+'HEAT PUMPS'!AK256+'HEAT PUMPS'!AK321+'HEAT PUMPS'!AK386)*3.6/41.868","v":0},{"$f":"('HEAT PUMPS'!AL61+'HEAT PUMPS'!AL126+'HEAT PUMPS'!AL191+'HEAT PUMPS'!AL256+'HEAT PUMPS'!AL321+'HEAT PUMPS'!AL386)*3.6/41.868","v":0}]
["TOTAL",null,{"$f":"C87+C88+C89+C93","v":0},{"$f":"D87+D88+D89+D93","v":0},0,0,0,0,0,0,0,0,0,0,0,0,0,0,0]
["of which DH"]
["of which biomass in households",null,{"$f":"SUMPRODUCT(REN!V76:V77,REN!V31:V32)/41868","v":0},{"$f":"SUMPRODUCT(REN!W76:W77,REN!W31:W32)/41868","v":0},{"$f":"SUMPRODUCT(REN!X76:X77,REN!X31:X32)/41868","v":0},{"$f":"SUMPRODUCT(REN!Y76:Y77,REN!Y31:Y32)/41868","v":0},{"$f":"SUMPRODUCT(REN!Z76:Z77,REN!Z31:Z32)/41868","v":0},{"$f":"SUMPRODUCT(REN!AA76:AA77,REN!AA31:AA32)/41868","v":0},{"$f":"SUMPRODUCT(REN!AB76:AB77,REN!AB31:AB32)/41868","v":0},{"$f":"SUMPRODUCT(REN!AC76:AC77,REN!AC31:AC32)/41868","v":0},{"$f":"SUMPRODUCT(REN!AD76:AD77,REN!AD31:AD32)/41868","v":0},{"$f":"SUMPRODUCT(REN!AE76:AE77,REN!AE31:AE32)/41868","v":0},{"$f":"SUMPRODUCT(REN!AF76:AF77,REN!AF31:AF32)/41868","v":0},{"$f":"SUMPRODUCT(REN!AG76:AG77,REN!AG31:AG32)/41868","v":0},{"$f":"SUMPRODUCT(REN!AH76:AH77,REN!AH31:AH32)/41868","v":0},{"$f":"SUMPRODUCT(REN!AI76:AI77,REN!AI31:AI32)/41868","v":0},{"$f":"SUMPRODUCT(REN!AJ76:AJ77,REN!AJ31:AJ32)/41868","v":0},{"$f":"SUMPRODUCT(REN!AK76:AK77,REN!AK31:AK32)/41868","v":0},{"$f":"SUMPRODUCT(REN!AL76:AL77,REN!AL31:AL32)/41868","v":0}]
[]
["Table 1c (complementary info)"]
["[ktoe]",null,2004,2005,2006,2007,2008,2009,2010,2011,2012,2013,2014,2015,2016,2017,2018,2019,2020]
["Renewable Municipal Solid Waste",null,{"$f":"(REN!V51+REN!V65+REN!V170+REN!V178)/41.868","v":0},{"$f":"(REN!W51+REN!W65+REN!W170+REN!W178)/41.868","v":0},{"$f":"(REN!X51+REN!X65+REN!X170+REN!X178)/41.868","v":0},{"$f":"(REN!Y51+REN!Y65+REN!Y170+REN!Y178)/41.868","v":0},{"$f":"(REN!Z51+REN!Z65+REN!Z170+REN!Z178)/41.868","v":0},{"$f":"(REN!AA51+REN!AA65+REN!AA170+REN!AA178)/41.868","v":0},{"$f":"(REN!AB51+REN!AB65+REN!AB170+REN!AB178)/41.868","v":0},{"$f":"(REN!AC51+REN!AC65+REN!AC170+REN!AC178)/41.868","v":0},{"$f":"(REN!AD51+REN!AD65+REN!AD170+REN!AD178)/41.868","v":0},{"$f":"(REN!AE51+REN!AE65+REN!AE170+REN!AE178)/41.868","v":0},{"$f":"(REN!AF51+REN!AF65+REN!AF170+REN!AF178)/41.868","v":0},{"$f":"(REN!AG51+REN!AG65+REN!AG170+REN!AG178)/41.868","v":0},{"$f":"(REN!AH51+REN!AH65+REN!AH170+REN!AH178)/41.868","v":0},{"$f":"(REN!AI51+REN!AI65+REN!AI170+REN!AI178)/41.868","v":0},{"$f":"(REN!AJ51+REN!AJ65+REN!AJ170+REN!AJ178)/41.868","v":0},{"$f":"(REN!AK51+REN!AK65+REN!AK170+REN!AK178)/41.868","v":0},{"$f":"(REN!AL51+REN!AL65+REN!AL170+REN!AL178)/41.868","v":0}]
["ADJUSTED TOTAL (equal to Table 1a item A)",null,{"$f":"C97+C103","v":0},{"$f":"D97+D103","v":0},0,0,0,0,0,0,0,0,0,0,0,0,0,0,0]

{"sheet":"REMARKS","index":3,"n_rows":2,"n_cols":1,"rows_kept":2,"cut":false,"hidden":false,"merged":[]}
["REMARKS"]
["Please include here important remarks."]

{"sheet":"TRANSPORT","index":4,"n_rows":98,"n_cols":38,"rows_kept":98,"cut":false,"hidden":false,"merged":[[62,0,62,6],[71,0,71,6]]}
[{"$f":"MAIN!$D$9","v":""},null,null,null,null,null,null,1990,1991,1992,1993,1994,1995,1996,1997,1998,1999,2000,2001,2002,2003,2004,2005,2006,2007,2008,2009,2010,2011,2012,2013,2014,2015,2016,2017,2018,2019,2020]
[]
["Transport sector: 10% target"]
["units: ktoe"]
[]
["Reported use of biofuels in transport (data from annual energy questionnaires) [ktoe]"]
[null,"OIL questionnaire"]
[null,null,"Biogasoline",null,null,null,null,{"$f":"OIL!H160*OIL!H64/41868","v":0},{"$f":"OIL!I160*OIL!I64/41868","v":0},{"$f":"OIL!J160*OIL!J64/41868","v":0},{"$f":"OIL!K160*OIL!K64/41868","v":0},{"$f":"OIL!L160*OIL!L64/41868","v":0},{"$f":"OIL!M160*OIL!M64/41868","v":0},{"$f":"OIL!N160*OIL!N64/41868","v":0},{"$f":"OIL!O160*OIL!O64/41868","v":0},{"$f":"OIL!P160*OIL!P64/41868","v":0},{"$f":"OIL!Q160*OIL!Q64/41868","v":0},{"$f":"OIL!R160*OIL!R64/41868","v":0},{"$f":"OIL!S160*OIL!S64/41868","v":0},{"$f":"OIL!T160*OIL!T64/41868","v":0},{"$f":"OIL!U160*OIL!U64/41868","v":0},{"$f":"OIL!V160*OIL!V64/41868","v":0},{"$f":"OIL!W160*OIL!W64/41868","v":0},{"$f":"OIL!X160*OIL!X64/41868","v":0},{"$f":"OIL!Y160*OIL!Y64/41868","v":0},{"$f":"OIL!Z160*OIL!Z64/41868","v":0},{"$f":"OIL!AA160*OIL!AA64/41868","v":0},{"$f":"OIL!AB160*OIL!AB64/41868","v":0},{"$f":"OIL!AC160*OIL!AC64/41868","v":0},{"$f":"OIL!AD160*OIL!AD64/41868","v":0},{"$f":"OIL!AE160*OIL!AE64/41868","v":0},{"$f":"OIL!AF160*OIL!AF64/41868","v":0},{"$f":"OIL!AG160*OIL!AG64/41868","v":0},{"$f":"OIL!AH160*OIL!AH64/41868","v":0},{"$f":"OIL!AI160*OIL!AI64/41868","v":0},{"$f":"OIL!AJ160*OIL!AJ64/41868","v":0},{"$f":"OIL!AK160*OIL!AK64/41868","v":0},{"$f":"OIL!AL160*OIL!AL64/41868","v":0}]
[null,null,"Bio jet kerosene",null,null,null,null,{"$f":"OIL!H164*OIL!H68/41868","v":0},{"$f":"OIL!I164*OIL!I68/41868","v":0},{"$f":"OIL!J164*OIL!J68/41868","v":0},{"$f":"OIL!K164*OIL!K68/41868","v":0},{"$f":"OIL!L164*OIL!L68/41868","v":0},{"$f":"OIL!M164*OIL!M68/41868","v":0},{"$f":"OIL!N164*OIL!N68/41868","v":0},{"$f":"OIL!O164*OIL!O68/41868","v":0},{"$f":"OIL!P164*OIL!P68/41868","v":0},{"$f":"OIL!Q164*OIL!Q68/41868","v":0},{"$f":"OIL!R164*OIL!R68/41868","v":0},{"$f":"OIL!S164*OIL!S68/41868","v":0},{"$f":"OIL!T164*OIL!T68/41868","v":0},{"$f":"OIL!U164*OIL!U68/41868","v":0},{"$f":"OIL!V164*OIL!V68/41868","v":0},{"$f":"OIL!W164*OIL!W68/41868","v":0},{"$f":"OIL!X164*OIL!X68/41868","v":0},{"$f":"OIL!Y164*OIL!Y68/41868","v":0},{"$f":"OIL!Z164*OIL!Z68/41868","v":0},{"$f":"OIL!AA164*OIL!AA68/41868","v":0},{"$f":"OIL!AB164*OIL!AB68/41868","v":0},{"$f":"OIL!AC164*OIL!AC68/41868","v":0},{"$f":"OIL!AD164*OIL!AD68/41868","v":0},{"$f":"OIL!AE164*OIL!AE68/41868","v":0},{"$f":"OIL!AF164*OIL!AF68/41868","v":0},{"$f":"OIL!AG164*OIL!AG68/41868","v":0},{"$f":"OIL!AH164*OIL!AH68/41868","v":0},{"$f":"OIL!AI164*OIL!AI68/41868","v":0},{"$f":"OIL!AJ164*OIL!AJ68/41868","v":0},{"$f":"OIL!AK164*OIL!AK68/41868","v":0},{"$f":"OIL!AL164*OIL!AL68/41868","v":0}]
[null,null,"Biodiesels",null,null,null,null,{"$f":"OIL!H167*OIL!H71/41868","v":0},{"$f":"OIL!I167*OIL!I71/41868","v":0},{"$f":"OIL!J167*OIL!J71/41868","v":0},{"$f":"OIL!K167*OIL!K71/41868","v":0},{"$f":"OIL!L167*OIL!L71/41868","v":0},{"$f":"OIL!M167*OIL!M71/41868","v":0},{"$f":"OIL!N167*OIL!N71/41868","v":0},{"$f":"OIL!O167*OIL!O71/41868","v":0},{"$f":"OIL!P167*OIL!P71/41868","v":0},{"$f":"OIL!Q167*OIL!Q71/41868","v":0},{"$f":"OIL!R167*OIL!R71/41868","v":0},{"$f":"OIL!S167*OIL!S71/41868","v":0},{"$f":"OIL!T167*OIL!T71/41868","v":0},{"$f":"OIL!U167*OIL!U71/41868","v":0},{"$f":"OIL!V167*OIL!V71/41868","v":0},{"$f":"OIL!W167*OIL!W71/41868","v":0},{"$f":"OIL!X167*OIL!X71/41868","v":0},{"$f":"OIL!Y167*OIL!Y71/41868","v":0},{"$f":"OIL!Z167*OIL!Z71/41868","v":0},{"$f":"OIL!AA167*OIL!AA71/41868","v":0},{"$f":"OIL!AB167*OIL!AB71/41868","v":0},{"$f":"OIL!AC167*OIL!AC71/41868","v":0},{"$f":"OIL!AD167*OIL!AD71/41868","v":0},{"$f":"OIL!AE167*OIL!AE71/41868","v":0},{"$f":"OIL!AF167*OIL!AF71/41868","v":0},{"$f":"OIL!AG167*OIL!AG71/41868","v":0},{"$f":"OIL!AH167*OIL!AH71/41868","v":0},{"$f":"OIL!AI167*OIL!AI71/41868","v":0},{"$f":"OIL!AJ167*OIL!AJ71/41868","v":0},{"$f":"OIL!AK167*OIL!AK71/41868","v":0},{"$f":"OIL!AL167*OIL!AL71/41868","v":0}]
[null,"NATURAL GAS questionnaire"]
[null,null,"Biogas blended in the grid",null,null,null,null,{"$f":"GAS!H20*GAS!H13*900/41868","v":0},{"$f":"GAS!I20*GAS!I13*900/41868","v":0},{"$f":"GAS!J20*GAS!J13*900/41868","v":0},{"$f":"GAS!K20*GAS!K13*900/41868","v":0},{"$f":"GAS!L20*GAS!L13*900/41868","v":0},{"$f":"GAS!M20*GAS!M13*900/41868","v":0},{"$f":"GAS!N20*GAS!N13*900/41868","v":0},{"$f":"GAS!O20*GAS!O13*900/41868","v":0},{"$f":"GAS!P20*GAS!P13*900/41868","v":0},{"$f":"GAS!Q20*GAS!Q13*900/41868","v":0},{"$f":"GAS!R20*GAS!R13*900/41868","v":0},{"$f":"GAS!S20*GAS!S13*900/41868","v":0},{"$f":"GAS!T20*GAS!T13*900/41868","v":0},{"$f":"GAS!U20*GAS!U13*900/41868","v":0},{"$f":"GAS!V20*GAS!V13*900/41868","v":0},{"$f":"GAS!W20*GAS!W13*900/41868","v":0},{"$f":"GAS!X20*GAS!X13*900/41868","v":0},{"$f":"GAS!Y20*GAS!Y13*900/41868","v":0},{"$f":"GAS!Z20*GAS!Z13*900/41868","v":0},{"$f":"GAS!AA20*GAS!AA13*900/41868","v":0},{"$f":"GAS!AB20*GAS!AB13*900/41868","v":0},{"$f":"GAS!AC20*GAS!AC13*900/41868","v":0},{"$f":"GAS!AD20*GAS!AD13*900/41868","v":0},{"$f":"GAS!AE20*GAS!AE13*900/41868","v":0},{"$f":"GAS!AF20*GAS!AF13*900/41868","v":0},{"$f":"GAS!AG20*GAS!AG13*900/41868","v":0},{"$f":"GAS!AH20*GAS!AH13*900/41868","v":0},{"$f":"GAS!AI20*GAS!AI13*900/41868","v":0},{"$f":"GAS!AJ20*GAS!AJ13*900/41868","v":0},{"$f":"GAS!AK20*GAS!AK13*900/41868","v":0},{"$f":"GAS!AL20*GAS!AL13*900/41868","v":0}]
[null,null,"Biogas in road transport",null,null,null,null,{"$f":"GAS!H15*900/41868","v":0},{"$f":"GAS!I15*900/41868","v":0},{"$f":"GAS!J15*900/41868","v":0},{"$f":"GAS!K15*900/41868","v":0},{"$f":"GAS!L15*900/41868","v":0},{"$f":"GAS!M15*900/41868","v":0},{"$f":"GAS!N15*900/41868","v":0},{"$f":"GAS!O15*900/41868","v":0},{"$f":"GAS!P15*900/41868","v":0},{"$f":"GAS!Q15*900/41868","v":0},{"$f":"GAS!R15*900/41868","v":0},{"$f":"GAS!S15*900/41868","v":0},{"$f":"GAS!T15*900/41868","v":0},{"$f":"GAS!U15*900/41868","v":0},{"$f":"GAS!V15*900/41868","v":0},{"$f":"GAS!W15*900/41868","v":0},{"$f":"GAS!X15*900/41868","v":0},{"$f":"GAS!Y15*900/41868","v":0},{"$f":"GAS!Z15*900/41868","v":0},{"$f":"GAS!AA15*900/41868","v":0},{"$f":"GAS!AB15*900/41868","v":0},{"$f":"GAS!AC15*900/41868","v":0},{"$f":"GAS!AD15*900/41868","v":0},{"$f":"GAS!AE15*900/41868","v":0},{"$f":"GAS!AF15*900/41868","v":0},{"$f":"GAS!AG15*900/41868","v":0},{"$f":"GAS!AH15*900/41868","v":0},{"$f":"GAS!AI15*900/41868","v":0},{"$f":"GAS!AJ15*900/41868","v":0},{"$f":"GAS!AK15*900/41868","v":0},{"$f":"GAS!AL15*900/41868","v":0}]
[null,"RENEWABLES questionnaire"]
[null,null,"Biogases",null,null,null,null,{"$f":"REN!H33*REN!H87/41868","v":0},{"$f":"REN!I33*REN!I87/41868","v":0},{"$f":"REN!J33*REN!J87/41868","v":0},{"$f":"REN!K33*REN!K87/41868","v":0},{"$f":"REN!L33*REN!L87/41868","v":0},{"$f":"REN!M33*REN!M87/41868","v":0},{"$f":"REN!N33*REN!N87/41868","v":0},{"$f":"REN!O33*REN!O87/41868","v":0},{"$f":"REN!P33*REN!P87/41868","v":0},{"$f":"REN!Q33*REN!Q87/41868","v":0},{"$f":"REN!R33*REN!R87/41868","v":0},{"$f":"REN!S33*REN!S87/41868","v":0},{"$f":"REN!T33*REN!T87/41868","v":0},{"$f":"REN!U33*REN!U87/41868","v":0},{"$f":"REN!V33*REN!V87/41868","v":0},{"$f":"REN!W33*REN!W87/41868","v":0},{"$f":"REN!X33*REN!X87/41868","v":0},{"$f":"REN!Y33*REN!Y87/41868","v":0},{"$f":"REN!Z33*REN!Z87/41868","v":0},{"$f":"REN!AA33*REN!AA87/41868","v":0},{"$f":"REN!AB33*REN!AB87/41868","v":0},{"$f":"REN!AC33*REN!AC87/41868","v":0},{"$f":"REN!AD33*REN!AD87/41868","v":0},{"$f":"REN!AE33*REN!AE87/41868","v":0},{"$f":"REN!AF33*REN!AF87/41868","v":0},{"$f":"REN!AG33*REN!AG87/41868","v":0},{"$f":"REN!AH33*REN!AH87/41868","v":0},{"$f":"REN!AI33*REN!AI87/41868","v":0},{"$f":"REN!AJ33*REN!AJ87/41868","v":0},{"$f":"REN!AK33*REN!AK87/41868","v":0},{"$f":"REN!AL33*REN!AL87/41868","v":0}]
[null,null,"Biogasoline",null,null,null,null,{"$f":"REN!H34*REN!H88/41868","v":0},{"$f":"REN!I34*REN!I88/41868","v":0},{"$f":"REN!J34*REN!J88/41868","v":0},{"$f":"REN!K34*REN!K88/41868","v":0},{"$f":"REN!L34*REN!L88/41868","v":0},{"$f":"REN!M34*REN!M88/41868","v":0},{"$f":"REN!N34*REN!N88/41868","v":0},{"$f":"REN!O34*REN!O88/41868","v":0},{"$f":"REN!P34*REN!P88/41868","v":0},{"$f":"REN!Q34*REN!Q88/41868","v":0},{"$f":"REN!R34*REN!R88/41868","v":0},{"$f":"REN!S34*REN!S88/41868","v":0},{"$f":"REN!T34*REN!T88/41868","v":0},{"$f":"REN!U34*REN!U88/41868","v":0},{"$f":"REN!V34*REN!V88/41868","v":0},{"$f":"REN!W34*REN!W88/41868","v":0},{"$f":"REN!X34*REN!X88/41868","v":0},{"$f":"REN!Y34*REN!Y88/41868","v":0},{"$f":"REN!Z34*REN!Z88/41868","v":0},{"$f":"REN!AA34*REN!AA88/41868","v":0},{"$f":"REN!AB34*REN!AB88/41868","v":0},{"$f":"REN!AC34*REN!AC88/41868","v":0},{"$f":"REN!AD34*REN!AD88/41868","v":0},{"$f":"REN!AE34*REN!AE88/41868","v":0},{"$f":"REN!AF34*REN!AF88/41868","v":0},{"$f":"REN!AG34*REN!AG88/41868","v":0},{"$f":"REN!AH34*REN!AH88/41868","v":0},{"$f":"REN!AI34*REN!AI88/41868","v":0},{"$f":"REN!AJ34*REN!AJ88/41868","v":0},{"$f":"REN!AK34*REN!AK88/41868","v":0},{"$f":"REN!AL34*REN!AL88/41868","v":0}]
[null,null,"Bio jet kerosenes",null,null,null,null,{"$f":"REN!H35*REN!H89/41868","v":0},{"$f":"REN!I35*REN!I89/41868","v":0},{"$f":"REN!J35*REN!J89/41868","v":0},{"$f":"REN!K35*REN!K89/41868","v":0},{"$f":"REN!L35*REN!L89/41868","v":0},{"$f":"REN!M35*REN!M89/41868","v":0},{"$f":"REN!N35*REN!N89/41868","v":0},{"$f":"REN!O35*REN!O89/41868","v":0},{"$f":"REN!P35*REN!P89/41868","v":0},{"$f":"REN!Q35*REN!Q89/41868","v":0},{"$f":"REN!R35*REN!R89/41868","v":0},{"$f":"REN!S35*REN!S89/41868","v":0},{"$f":"REN!T35*REN!T89/41868","v":0},{"$f":"REN!U35*REN!U89/41868","v":0},{"$f":"REN!V35*REN!V89/41868","v":0},{"$f":"REN!W35*REN!W89/41868","v":0},{"$f":"REN!X35*REN!X89/41868","v":0},{"$f":"REN!Y35*REN!Y89/41868","v":0},{"$f":"REN!Z35*REN!Z89/41868","v":0},{"$f":"REN!AA35*REN!AA89/41868","v":0},{"$f":"REN!AB35*REN!AB89/41868","v":0},{"$f":"REN!AC35*REN!AC89/41868","v":0},{"$f":"REN!AD35*REN!AD89/41868","v":0},{"$f":"REN!AE35*REN!AE89/41868","v":0},{"$f":"REN!AF35*REN!AF89/41868","v":0},{"$f":"REN!AG35*REN!AG89/41868","v":0},{"$f":"REN!AH35*REN!AH89/41868","v":0},{"$f":"REN!AI35*REN!AI89/41868","v":0},{"$f":"REN!AJ35*REN!AJ89/41868","v":0},{"$f":"REN!AK35*REN!AK89/41868","v":0},{"$f":"REN!AL35*REN!AL89/41868","v":0}]
[null,null,"Biodiesels",null,null,null,null,{"$f":"REN!H36*REN!H90/41868","v":0},{"$f":"REN!I36*REN!I90/41868","v":0},{"$f":"REN!J36*REN!J90/41868","v":0},{"$f":"REN!K36*REN!K90/41868","v":0},{"$f":"REN!L36*REN!L90/41868","v":0},{"$f":"REN!M36*REN!M90/41868","v":0},{"$f":"REN!N36*REN!N90/41868","v":0},{"$f":"REN!O36*REN!O90/41868","v":0},{"$f":"REN!P36*REN!P90/41868","v":0},{"$f":"REN!Q36*REN!Q90/41868","v":0},{"$f":"REN!R36*REN!R90/41868","v":0},{"$f":"REN!S36*REN!S90/41868","v":0},{"$f":"REN!T36*REN!T90/41868","v":0},{"$f":"REN!U36*REN!U90/41868","v":0},{"$f":"REN!V36*REN!V90/41868","v":0},{"$f":"REN!W36*REN!W90/41868","v":0},{"$f":"REN!X36*REN!X90/41868","v":0},{"$f":"REN!Y36*REN!Y90/41868","v":0},{"$f":"REN!Z36*REN!Z90/41868","v":0},{"$f":"REN!AA36*REN!AA90/41868","v":0},{"$f":"REN!AB36*REN!AB90/41868","v":0},{"$f":"REN!AC36*REN!AC90/41868","v":0},{"$f":"REN!AD36*REN!AD90/41868","v":0},{"$f":"REN!AE36*REN!AE90/41868","v":0},{"$f":"REN!AF36*REN!AF90/41868","v":0},{"$f":"REN!AG36*REN!AG90/41868","v":0},{"$f":"REN!AH36*REN!AH90/41868","v":0},{"$f":"REN!AI36*REN!AI90/41868","v":0},{"$f":"REN!AJ36*REN!AJ90/41868","v":0},{"$f":"REN!AK36*REN!AK90/41868","v":0},{"$f":"REN!AL36*REN!AL90/41868","v":0}]
[null,null,"Other liquid biofuels",null,null,null,null,{"$f":"REN!H37*REN!H91/41868","v":0},{"$f":"REN!I37*REN!I91/41868","v":0},{"$f":"REN!J37*REN!J91/41868","v":0},{"$f":"REN!K37*REN!K91/41868","v":0},{"$f":"REN!L37*REN!L91/41868","v":0},{"$f":"REN!M37*REN!M91/41868","v":0},{"$f":"REN!N37*REN!N91/41868","v":0},{"$f":"REN!O37*REN!O91/41868","v":0},{"$f":"REN!P37*REN!P91/41868","v":0},{"$f":"REN!Q37*REN!Q91/41868","v":0},{"$f":"REN!R37*REN!R91/41868","v":0},{"$f":"REN!S37*REN!S91/41868","v":0},{"$f":"REN!T37*REN!T91/41868","v":0},{"$f":"REN!U37*REN!U91/41868","v":0},{"$f":"REN!V37*REN!V91/41868","v":0},{"$f":"REN!W37*REN!W91/41868","v":0},{"$f":"REN!X37*REN!X91/41868","v":0},{"$f":"REN!Y37*REN!Y91/41868","v":0},{"$f":"REN!Z37*REN!Z91/41868","v":0},{"$f":"REN!AA37*REN!AA91/41868","v":0},{"$f":"REN!AB37*REN!AB91/41868","v":0},{"$f":"REN!AC37*REN!AC91/41868","v":0},{"$f":"REN!AD37*REN!AD91/41868","v":0},{"$f":"REN!AE37*REN!AE91/41868","v":0},{"$f":"REN!AF37*REN!AF91/41868","v":0},{"$f":"REN!AG37*REN!AG91/41868","v":0},{"$f":"REN!AH37*REN!AH91/41868","v":0},{"$f":"REN!AI37*REN!AI91/41868","v":0},{"$f":"REN!AJ37*REN!AJ91/41868","v":0},{"$f":"REN!AK37*REN!AK91/41868","v":0},{"$f":"REN!AL37*REN!AL91/41868","v":0}]
[]
["Reported use of petrol and diesel in all modes of transport (data from annual energy questionnaires) - [ktoe] - quantities calculated with calorific values of ANNEX III"]
[null,"OIL questionnaire"]
[null,null,"Petrol (all modes; including aviation gasoline)",null,null,null,null,{"$f":"(OIL!H161*43000/41868)+(OIL!H162*OIL!H66/41868)","v":0},{"$f":"(OIL!I161*43000/41868)+(OIL!I162*OIL!I66/41868)","v":0},{"$f":"(OIL!J161*43000/41868)+(OIL!J162*OIL!J66/41868)","v":0},{"$f":"(OIL!K161*43000/41868)+(OIL!K162*OIL!K66/41868)","v":0},{"$f":"(OIL!L161*43000/41868)+(OIL!L162*OIL!L66/41868)","v":0},{"$f":"(OIL!M161*43000/41868)+(OIL!M162*OIL!M66/41868)","v":0},{"$f":"(OIL!N161*43000/41868)+(OIL!N162*OIL!N66/41868)","v":0},{"$f":"(OIL!O161*43000/41868)+(OIL!O162*OIL!O66/41868)","v":0},{"$f":"(OIL!P161*43000/41868)+(OIL!P162*OIL!P66/41868)","v":0},{"$f":"(OIL!Q161*43000/41868)+(OIL!Q162*OIL!Q66/41868)","v":0},{"$f":"(OIL!R161*43000/41868)+(OIL!R162*OIL!R66/41868)","v":0},{"$f":"(OIL!S161*43000/41868)+(OIL!S162*OIL!S66/41868)","v":0},{"$f":"(OIL!T161*43000/41868)+(OIL!T162*OIL!T66/41868)","v":0},{"$f":"(OIL!U161*43000/41868)+(OIL!U162*OIL!U66/41868)","v":0},{"$f":"(OIL!V161*43000/41868)+(OIL!V162*OIL!V66/41868)","v":0},{"$f":"(OIL!W161*43000/41868)+(OIL!W162*OIL!W66/41868)","v":0},{"$f":"(OIL!X161*43000/41868)+(OIL!X162*OIL!X66/41868)","v":0},{"$f":"(OIL!Y161*43000/41868)+(OIL!Y162*OIL!Y66/41868)","v":0},{"$f":"(OIL!Z161*43000/41868)+(OIL!Z162*OIL!Z66/41868)","v":0},{"$f":"(OIL!AA161*43000/41868)+(OIL!AA162*OIL!AA66/41868)","v":0},{"$f":"(OIL!AB161*43000/41868)+(OIL!AB162*OIL!AB66/41868)","v":0},{"$f":"(OIL!AC161*43000/41868)+(OIL!AC162*OIL!AC66/41868)","v":0},{"$f":"(OIL!AD161*43000/41868)+(OIL!AD162*OIL!AD66/41868)","v":0},{"$f":"(OIL!AE161*43000/41868)+(OIL!AE162*OIL!AE66/41868)","v":0},{"$f":"(OIL!AF161*43000/41868)+(OIL!AF162*OIL!AF66/41868)","v":0},{"$f":"(OIL!AG161*43000/41868)+(OIL!AG162*OIL!AG66/41868)","v":0},{"$f":"(OIL!AH161*43000/41868)+(OIL!AH162*OIL!AH66/41868)","v":0},{"$f":"(OIL!AI161*43000/41868)+(OIL!AI162*OIL!AI66/41868)","v":0},{"$f":"(OIL!AJ161*43000/41868)+(OIL!AJ162*OIL!AJ66/41868)","v":0},{"$f":"(OIL!AK161*43000/41868)+(OIL!AK162*OIL!AK66/41868)","v":0},{"$f":"(OIL!AL161*43000/41868)+(OIL!AL162*OIL!AL66/41868)","v":0}]
[null,null,"Diesel (all modes)",null,null,null,null,{"$f":"(OIL!H168)*43000/41868","v":0},{"$f":"(OIL!I168)*43000/41868","v":0},{"$f":"(OIL!J168)*43000/41868","v":0},{"$f":"(OIL!K168)*43000/41868","v":0},{"$f":"(OIL!L168)*43000/41868","v":0},{"$f":"(OIL!M168)*43000/41868","v":0},{"$f":"(OIL!N168)*43000/41868","v":0},{"$f":"(OIL!O168)*43000/41868","v":0},{"$f":"(OIL!P168)*43000/41868","v":0},{"$f":"(OIL!Q168)*43000/41868","v":0},{"$f":"(OIL!R168)*43000/41868","v":0},{"$f":"(OIL!S168)*43000/41868","v":0},{"$f":"(OIL!T168)*43000/41868","v":0},{"$f":"(OIL!U168)*43000/41868","v":0},{"$f":"(OIL!V168)*43000/41868","v":0},{"$f":"(OIL!W168)*43000/41868","v":0},{"$f":"(OIL!X168)*43000/41868","v":0},{"$f":"(OIL!Y168)*43000/41868","v":0},{"$f":"(OIL!Z168)*43000/41868","v":0},{"$f":"(OIL!AA168)*43000/41868","v":0},{"$f":"(OIL!AB168)*43000/41868","v":0},{"$f":"(OIL!AC168)*43000/41868","v":0},{"$f":"(OIL!AD168)*43000/41868","v":0},{"$f":"(OIL!AE168)*43000/41868","v":0},{"$f":"(OIL!AF168)*43000/41868","v":0},{"$f":"(OIL!AG168)*43000/41868","v":0},{"$f":"(OIL!AH168)*43000/41868","v":0},{"$f":"(OIL!AI168)*43000/41868","v":0},{"$f":"(OIL!AJ168)*43000/41868","v":0},{"$f":"(OIL!AK168)*43000/41868","v":0},{"$f":"(OIL!AL168)*43000/41868","v":0}]
[]
["ALL biofuels in transport - [ktoe] - quantities calculated with calorific values in ANNEX III"]
["include here all biofuels, compliant and also non-compliant, pure biofuels and corresponding part of blended biofuels"]
[null,"Liquid biofuels in road transport",null,null,null,null,null,null,null,null,null,null,null,null,null,null,null,null,null,null,null,0,0,0,0,0,0,0,0,0,0,0,0,0,0,0,0,0]
[null,"Liquid biofuels in rail transport",null,null,null,null,null,null,null,null,null,null,null,null,null,null,null,null,null,null,null,0,0,0,0,0,0,0,0,0,0,0,0,0,0,0,0,0]
[null,"Liquid biofuels in other modes",null,null,null,null,null,null,null,null,null,null,null,null,null,null,null,null,null,null,null,0,0,0,0,0,0,0,0,0,0,0,0,0,0,0,0,0]
[]
[null,"Gaseous biofuels in road transport",null,null,null,null,null,null,null,null,null,null,null,null,null,null,null,null,null,null,null,0,0,0,0,0,0,0,0,0,0,0,0,0,0,0,0,0]
[null,"Gaseous biofuels in rail transport",null,null,null,null,null,null,null,null,null,null,null,null,null,null,null,null,null,null,null,0,0,0,0,0,0,0,0,0,0,0,0,0,0,0,0,0]
[null,"Gaseous biofuels in other modes",null,null,null,null,null,null,null,null,null,null,null,null,null,null,null,null,null,null,null,0,0,0,0,0,0,0,0,0,0,0,0,0,0,0,0,0]
[]
[null,"Other renewables (from REN. q.)",null,null,null,null,null,null,null,null,null,null,null,null,null,null,null,null,null,null,null,{"$f":"SUMPRODUCT(REN!V26:V32,REN!V80:V86)/41868","v":0},{"$f":"SUMPRODUCT(REN!W26:W32,REN!W80:W86)/41868","v":0},{"$f":"SUMPRODUCT(REN!X26:X32,REN!X80:X86)/41868","v":0},{"$f":"SUMPRODUCT(REN!Y26:Y32,REN!Y80:Y86)/41868","v":0},{"$f":"SUMPRODUCT(REN!Z26:Z32,REN!Z80:Z86)/41868","v":0},{"$f":"SUMPRODUCT(REN!AA26:AA32,REN!AA80:AA86)/41868","v":0},{"$f":"SUMPRODUCT(REN!AB26:AB32,REN!AB80:AB86)/41868","v":0},{"$f":"SUMPRODUCT(REN!AC26:AC32,REN!AC80:AC86)/41868","v":0},{"$f":"SUMPRODUCT(REN!AD26:AD32,REN!AD80:AD86)/41868","v":0},{"$f":"SUMPRODUCT(REN!AE26:AE32,REN!AE80:AE86)/41868","v":0},{"$f":"SUMPRODUCT(REN!AF26:AF32,REN!AF80:AF86)/41868","v":0},{"$f":"SUMPRODUCT(REN!AG26:AG32,REN!AG80:AG86)/41868","v":0},{"$f":"SUMPRODUCT(REN!AH26:AH32,REN!AH80:AH86)/41868","v":0},{"$f":"SUMPRODUCT(REN!AI26:AI32,REN!AI80:AI86)/41868","v":0},{"$f":"SUMPRODUCT(REN!AJ26:AJ32,REN!AJ80:AJ86)/41868","v":0},{"$f":"SUMPRODUCT(REN!AK26:AK32,REN!AK80:AK86)/41868","v":0},{"$f":"SUMPRODUCT(REN!AL26:AL32,REN!AL80:AL86)/41868","v":0}]
[null,"Hydrogen of renewable origin",null,null,null,null,null,null,null,null,null,null,null,null,null,null,null,null,null,null,null,0,0,0,0,0,0,0,0,0,0,0,0,0,0,0,0,0]
[null,"Synthetic fuels of renewable origin",null,null,null,null,null,null,null,null,null,null,null,null,null,null,null,null,null,null,null,0,0,0,0,0,0,0,0,0,0,0,0,0,0,0,0,0]
[]
["COMPLIANT biofuels in transport - [ktoe] - quantities calculated with calorific values in ANNEX III"]
["include here only compliant biofuels (Articles 17 & 18 of Directive 2009/28/EC), pure biofuels and corresponding part of blended biofuels"]
[null,"all compliant biofuels in transport ",null,null,null,null,null,null,null,null,null,null,null,null,null,null,null,null,null,null,null,"û","û","û","û","û","û","û",0,0,0,0,0,0,0,0,0,0]
[null,null,"of which Article 21(2):",null,null,null,null,null,null,null,null,null,null,null,null,null,null,null,null,null,null,0,0,0,0,0,0,0,0,0,0,0,0,0,0,0,0,0]
[null,null,null,null,null,null,null,null,null,null,null,null,null,null,null,null,null,null,null,null,null,null,null,null,null,null,null,null,{"$f":"IF(AC42>SUM(AC28:AC30,AC32:AC34,AC38),\"too much\",\"\")","v":""},"","","","","","","","",""]
[null,3]
[]
["Renewable electricity in the grid used in the transport sector [ktoe]"]
[null,"All electricity in transport",null,null,null,null,null,{"$f":"ELE!H10*3.6/41.868","v":0},{"$f":"ELE!I10*3.6/41.868","v":0},{"$f":"ELE!J10*3.6/41.868","v":0},{"$f":"ELE!K10*3.6/41.868","v":0},{"$f":"ELE!L10*3.6/41.868","v":0},{"$f":"ELE!M10*3.6/41.868","v":0},{"$f":"ELE!N10*3.6/41.868","v":0},{"$f":"ELE!O10*3.6/41.868","v":0},{"$f":"ELE!P10*3.6/41.868","v":0},{"$f":"ELE!Q10*3.6/41.868","v":0},{"$f":"ELE!R10*3.6/41.868","v":0},{"$f":"ELE!S10*3.6/41.868","v":0},{"$f":"ELE!T10*3.6/41.868","v":0},{"$f":"ELE!U10*3.6/41.868","v":0},{"$f":"ELE!V10*3.6/41.868","v":0},{"$f":"ELE!W10*3.6/41.868","v":0},{"$f":"ELE!X10*3.6/41.868","v":0},{"$f":"ELE!Y10*3.6/41.868","v":0},{"$f":"ELE!Z10*3.6/41.868","v":0},{"$f":"ELE!AA10*3.6/41.868","v":0},{"$f":"ELE!AB10*3.6/41.868","v":0},{"$f":"ELE!AC10*3.6/41.868","v":0},{"$f":"ELE!AD10*3.6/41.868","v":0},{"$f":"ELE!AE10*3.6/41.868","v":0},{"$f":"ELE!AF10*3.6/41.868","v":0},{"$f":"ELE!AG10*3.6/41.868","v":0},{"$f":"ELE!AH10*3.6/41.868","v":0},{"$f":"ELE!AI10*3.6/41.868","v":0},{"$f":"ELE!AJ10*3.6/41.868","v":0},{"$f":"ELE!AK10*3.6/41.868","v":0},{"$f":"ELE!AL10*3.6/41.868","v":0}]
[null,null,"All electricity in road transport",null,null,null,null,{"$f":"ELE!H19*3.6/41.868","v":0},{"$f":"ELE!I19*3.6/41.868","v":0},{"$f":"ELE!J19*3.6/41.868","v":0},{"$f":"ELE!K19*3.6/41.868","v":0},{"$f":"ELE!L19*3.6/41.868","v":0},{"$f":"ELE!M19*3.6/41.868","v":0},{"$f":"ELE!N19*3.6/41.868","v":0},{"$f":"ELE!O19*3.6/41.868","v":0},{"$f":"ELE!P19*3.6/41.868","v":0},{"$f":"ELE!Q19*3.6/41.868","v":0},{"$f":"ELE!R19*3.6/41.868","v":0},{"$f":"ELE!S19*3.6/41.868","v":0},{"$f":"ELE!T19*3.6/41.868","v":0},{"$f":"ELE!U19*3.6/41.868","v":0},{"$f":"ELE!V19*3.6/41.868","v":0},{"$f":"ELE!W19*3.6/41.868","v":0},{"$f":"ELE!X19*3.6/41.868","v":0},{"$f":"ELE!Y19*3.6/41.868","v":0},{"$f":"ELE!Z19*3.6/41.868","v":0},{"$f":"ELE!AA19*3.6/41.868","v":0},{"$f":"ELE!AB19*3.6/41.868","v":0},{"$f":"ELE!AC19*3.6/41.868","v":0},{"$f":"ELE!AD19*3.6/41.868","v":0},{"$f":"ELE!AE19*3.6/41.868","v":0},{"$f":"ELE!AF19*3.6/41.868","v":0},{"$f":"ELE!AG19*3.6/41.868","v":0},{"$f":"ELE!AH19*3.6/41.868","v":0},{"$f":"ELE!AI19*3.6/41.868","v":0},{"$f":"ELE!AJ19*3.6/41.868","v":0},{"$f":"ELE!AK19*3.6/41.868","v":0},{"$f":"ELE!AL19*3.6/41.868","v":0}]
[null,null,null,"RE in road transport",null,null,null,null,null,null,null,null,null,null,null,null,null,null,null,null,null,{"$f":"V49*MIN(1,IF($B45=1,'OVERALL TARGET'!V12, IF($B45=2,'OVERALL TARGET'!V11, IF($B45=3,MAX('OVERALL TARGET'!V12,'OVERALL TARGET'!V11),0))))","v":0},{"$f":"W49*MIN(1,IF($B45=1,'OVERALL TARGET'!V12, IF($B45=2,'OVERALL TARGET'!V11, IF($B45=3,MAX('OVERALL TARGET'!V12,'OVERALL TARGET'!V11),0))))","v":0},{"$f":"X49*MIN(1,IF($B45=1,'OVERALL TARGET'!V12, IF($B45=2,'OVERALL TARGET'!V11, IF($B45=3,MAX('OVERALL TARGET'!V12,'OVERALL TARGET'!V11),0))))","v":0},{"$f":"Y49*MIN(1,IF($B45=1,'OVERALL TARGET'!W12, IF($B45=2,'OVERALL TARGET'!W11, IF($B45=3,MAX('OVERALL TARGET'!W12,'OVERALL TARGET'!W11),0))))","v":0},{"$f":"Z49*MIN(1,IF($B45=1,'OVERALL TARGET'!X12, IF($B45=2,'OVERALL TARGET'!X11, IF($B45=3,MAX('OVERALL TARGET'!X12,'OVERALL TARGET'!X11),0))))","v":0},{"$f":"AA49*MIN(1,IF($B45=1,'OVERALL TARGET'!Y12, IF($B45=2,'OVERALL TARGET'!Y11, IF($B45=3,MAX('OVERALL TARGET'!Y12,'OVERALL TARGET'!Y11),0))))","v":0},{"$f":"AB49*MIN(1,IF($B45=1,'OVERALL TARGET'!Z12, IF($B45=2,'OVERALL TARGET'!Z11, IF($B45=3,MAX('OVERALL TARGET'!Z12,'OVERALL TARGET'!Z11),0))))","v":0},{"$f":"AC49*MIN(1,IF($B45=1,'OVERALL TARGET'!AA12, IF($B45=2,'OVERALL TARGET'!AA11, IF($B45=3,MAX('OVERALL TARGET'!AA12,'OVERALL TARGET'!AA11),0))))","v":0},{"$f":"AD49*MIN(1,IF($B45=1,'OVERALL TARGET'!AB12, IF($B45=2,'OVERALL TARGET'!AB11, IF($B45=3,MAX('OVERALL TARGET'!AB12,'OVERALL TARGET'!AB11),0))))","v":0},{"$f":"AE49*MIN(1,IF($B45=1,'OVERALL TARGET'!AC12, IF($B45=2,'OVERALL TARGET'!AC11, IF($B45=3,MAX('OVERALL TARGET'!AC12,'OVERALL TARGET'!AC11),0))))","v":0},{"$f":"AF49*MIN(1,IF($B45=1,'OVERALL TARGET'!AD12, IF($B45=2,'OVERALL TARGET'!AD11, IF($B45=3,MAX('OVERALL TARGET'!AD12,'OVERALL TARGET'!AD11),0))))","v":0},{"$f":"AG49*MIN(1,IF($B45=1,'OVERALL TARGET'!AE12, IF($B45=2,'OVERALL TARGET'!AE11, IF($B45=3,MAX('OVERALL TARGET'!AE12,'OVERALL TARGET'!AE11),0))))","v":0},{"$f":"AH49*MIN(1,IF($B45=1,'OVERALL TARGET'!AF12, IF($B45=2,'OVERALL TARGET'!AF11, IF($B45=3,MAX('OVERALL TARGET'!AF12,'OVERALL TARGET'!AF11),0))))","v":0},{"$f":"AI49*MIN(1,IF($B45=1,'OVERALL TARGET'!AG12, IF($B45=2,'OVERALL TARGET'!AG11, IF($B45=3,MAX('OVERALL TARGET'!AG12,'OVERALL TARGET'!AG11),0))))","v":0},{"$f":"AJ49*MIN(1,IF($B45=1,'OVERALL TARGET'!AH12, IF($B45=2,'OVERALL TARGET'!AH11, IF($B45=3,MAX('OVERALL TARGET'!AH12,'OVERALL TARGET'!AH11),0))))","v":0},{"$f":"AK49*MIN(1,IF($B45=1,'OVERALL TARGET'!AI12, IF($B45=2,'OVERALL TARGET'!AI11, IF($B45=3,MAX('OVERALL TARGET'!AI12,'OVERALL TARGET'!AI11),0))))","v":0},{"$f":"AL49*MIN(1,IF($B45=1,'OVERALL TARGET'!AJ12, IF($B45=2,'OVERALL TARGET'!AJ11, IF($B45=3,MAX('OVERALL TARGET'!AJ12,'OVERALL TARGET'!AJ11),0))))","v":0}]
[null,null,null,"non-RE in road transport",null,null,null,null,null,null,null,null,null,null,null,null,null,null,null,null,null,{"$f":"V49-V50","v":0},0,0,0,0,0,0,0,0,0,0,0,0,0,0,0,0]
[null,null,"All electricity in rail transport",null,null,null,null,{"$f":"ELE!H20*3.6/41.868","v":0},{"$f":"ELE!I20*3.6/41.868","v":0},{"$f":"ELE!J20*3.6/41.868","v":0},{"$f":"ELE!K20*3.6/41.868","v":0},{"$f":"ELE!L20*3.6/41.868","v":0},{"$f":"ELE!M20*3.6/41.868","v":0},{"$f":"ELE!N20*3.6/41.868","v":0},{"$f":"ELE!O20*3.6/41.868","v":0},{"$f":"ELE!P20*3.6/41.868","v":0},{"$f":"ELE!Q20*3.6/41.868","v":0},{"$f":"ELE!R20*3.6/41.868","v":0},{"$f":"ELE!S20*3.6/41.868","v":0},{"$f":"ELE!T20*3.6/41.868","v":0},{"$f":"ELE!U20*3.6/41.868","v":0},{"$f":"ELE!V20*3.6/41.868","v":0},{"$f":"ELE!W20*3.6/41.868","v":0},{"$f":"ELE!X20*3.6/41.868","v":0},{"$f":"ELE!Y20*3.6/41.868","v":0},{"$f":"ELE!Z20*3.6/41.868","v":0},{"$f":"ELE!AA20*3.6/41.868","v":0},{"$f":"ELE!AB20*3.6/41.868","v":0},{"$f":"ELE!AC20*3.6/41.868","v":0},{"$f":"ELE!AD20*3.6/41.868","v":0},{"$f":"ELE!AE20*3.6/41.868","v":0},{"$f":"ELE!AF20*3.6/41.868","v":0},{"$f":"ELE!AG20*3.6/41.868","v":0},{"$f":"ELE!AH20*3.6/41.868","v":0},{"$f":"ELE!AI20*3.6/41.868","v":0},{"$f":"ELE!AJ20*3.6/41.868","v":0},{"$f":"ELE!AK20*3.6/41.868","v":0},{"$f":"ELE!AL20*3.6/41.868","v":0}]
[null,null,null,"RE in rail transport",null,null,null,null,null,null,null,null,null,null,null,null,null,null,null,null,null,{"$f":"V52*MIN(1,IF($B45=1,'OVERALL TARGET'!V12, IF($B45=2,'OVERALL TARGET'!V11, IF($B45=3,MAX('OVERALL TARGET'!V12,'OVERALL TARGET'!V11),0))))","v":0},{"$f":"W52*MIN(1,IF($B45=1,'OVERALL TARGET'!V12, IF($B45=2,'OVERALL TARGET'!V11, IF($B45=3,MAX('OVERALL TARGET'!V12,'OVERALL TARGET'!V11),0))))","v":0},{"$f":"X52*MIN(1,IF($B45=1,'OVERALL TARGET'!V12, IF($B45=2,'OVERALL TARGET'!V11, IF($B45=3,MAX('OVERALL TARGET'!V12,'OVERALL TARGET'!V11),0))))","v":0},{"$f":"Y52*MIN(1,IF($B45=1,'OVERALL TARGET'!W12, IF($B45=2,'OVERALL TARGET'!W11, IF($B45=3,MAX('OVERALL TARGET'!W12,'OVERALL TARGET'!W11),0))))","v":0},{"$f":"Z52*MIN(1,IF($B45=1,'OVERALL TARGET'!X12, IF($B45=2,'OVERALL TARGET'!X11, IF($B45=3,MAX('OVERALL TARGET'!X12,'OVERALL TARGET'!X11),0))))","v":0},{"$f":"AA52*MIN(1,IF($B45=1,'OVERALL TARGET'!Y12, IF($B45=2,'OVERALL TARGET'!Y11, IF($B45=3,MAX('OVERALL TARGET'!Y12,'OVERALL TARGET'!Y11),0))))","v":0},{"$f":"AB52*MIN(1,IF($B45=1,'OVERALL TARGET'!Z12, IF($B45=2,'OVERALL TARGET'!Z11, IF($B45=3,MAX('OVERALL TARGET'!Z12,'OVERALL TARGET'!Z11),0))))","v":0},{"$f":"AC52*MIN(1,IF($B45=1,'OVERALL TARGET'!AA12, IF($B45=2,'OVERALL TARGET'!AA11, IF($B45=3,MAX('OVERALL TARGET'!AA12,'OVERALL TARGET'!AA11),0))))","v":0},{"$f":"AD52*MIN(1,IF($B45=1,'OVERALL TARGET'!AB12, IF($B45=2,'OVERALL TARGET'!AB11, IF($B45=3,MAX('OVERALL TARGET'!AB12,'OVERALL TARGET'!AB11),0))))","v":0},{"$f":"AE52*MIN(1,IF($B45=1,'OVERALL TARGET'!AC12, IF($B45=2,'OVERALL TARGET'!AC11, IF($B45=3,MAX('OVERALL TARGET'!AC12,'OVERALL TARGET'!AC11),0))))","v":0},{"$f":"AF52*MIN(1,IF($B45=1,'OVERALL TARGET'!AD12, IF($B45=2,'OVERALL TARGET'!AD11, IF($B45=3,MAX('OVERALL TARGET'!AD12,'OVERALL TARGET'!AD11),0))))","v":0},{"$f":"AG52*MIN(1,IF($B45=1,'OVERALL TARGET'!AE12, IF($B45=2,'OVERALL TARGET'!AE11, IF($B45=3,MAX('OVERALL TARGET'!AE12,'OVERALL TARGET'!AE11),0))))","v":0},{"$f":"AH52*MIN(1,IF($B45=1,'OVERALL TARGET'!AF12, IF($B45=2,'OVERALL TARGET'!AF11, IF($B45=3,MAX('OVERALL TARGET'!AF12,'OVERALL TARGET'!AF11),0))))","v":0},{"$f":"AI52*MIN(1,IF($B45=1,'OVERALL TARGET'!AG12, IF($B45=2,'OVERALL TARGET'!AG11, IF($B45=3,MAX('OVERALL TARGET'!AG12,'OVERALL TARGET'!AG11),0))))","v":0},{"$f":"AJ52*MIN(1,IF($B45=1,'OVERALL TARGET'!AH12, IF($B45=2,'OVERALL TARGET'!AH11, IF($B45=3,MAX('OVERALL TARGET'!AH12,'OVERALL TARGET'!AH11),0))))","v":0},{"$f":"AK52*MIN(1,IF($B45=1,'OVERALL TARGET'!AI12, IF($B45=2,'OVERALL TARGET'!AI11, IF($B45=3,MAX('OVERALL TARGET'!AI12,'OVERALL TARGET'!AI11),0))))","v":0},{"$f":"AL52*MIN(1,IF($B45=1,'OVERALL TARGET'!AJ12, IF($B45=2,'OVERALL TARGET'!AJ11, IF($B45=3,MAX('OVERALL TARGET'!AJ12,'OVERALL TARGET'!AJ11),0))))","v":0}]
[null,null,null,"non-RE in rail transport",null,null,null,null,null,null,null,null,null,null,null,null,null,null,null,null,null,{"$f":"V52-V53","v":0},0,0,0,0,0,0,0,0,0,0,0,0,0,0,0,0]
[null,null,"All electricity in all other transport modes",null,null,null,null,{"$f":"H48-(H49+H52)","v":0},0,0,0,0,0,0,0,0,0,0,0,0,0,{"$f":"V48-(V49+V52)","v":0},{"$f":"W48-(W49+W52)","v":0},0,0,0,0,0,0,0,0,0,0,0,0,0,0,0]
[null,null,null,"RE in all other transport modes",null,null,null,null,null,null,null,null,null,null,null,null,null,null,null,null,null,{"$f":"V55*MIN(1,IF($B45=1,'OVERALL TARGET'!V12, IF($B45=2,'OVERALL TARGET'!V11, IF($B45=3,MAX('OVERALL TARGET'!V12,'OVERALL TARGET'!V11),0))))","v":0},{"$f":"W55*MIN(1,IF($B45=1,'OVERALL TARGET'!V12, IF($B45=2,'OVERALL TARGET'!V11, IF($B45=3,MAX('OVERALL TARGET'!V12,'OVERALL TARGET'!V11),0))))","v":0},{"$f":"X55*MIN(1,IF($B45=1,'OVERALL TARGET'!V12, IF($B45=2,'OVERALL TARGET'!V11, IF($B45=3,MAX('OVERALL TARGET'!V12,'OVERALL TARGET'!V11),0))))","v":0},{"$f":"Y55*MIN(1,IF($B45=1,'OVERALL TARGET'!W12, IF($B45=2,'OVERALL TARGET'!W11, IF($B45=3,MAX('OVERALL TARGET'!W12,'OVERALL TARGET'!W11),0))))","v":0},{"$f":"Z55*MIN(1,IF($B45=1,'OVERALL TARGET'!X12, IF($B45=2,'OVERALL TARGET'!X11, IF($B45=3,MAX('OVERALL TARGET'!X12,'OVERALL TARGET'!X11),0))))","v":0},{"$f":"AA55*MIN(1,IF($B45=1,'OVERALL TARGET'!Y12, IF($B45=2,'OVERALL TARGET'!Y11, IF($B45=3,MAX('OVERALL TARGET'!Y12,'OVERALL TARGET'!Y11),0))))","v":0},{"$f":"AB55*MIN(1,IF($B45=1,'OVERALL TARGET'!Z12, IF($B45=2,'OVERALL TARGET'!Z11, IF($B45=3,MAX('OVERALL TARGET'!Z12,'OVERALL TARGET'!Z11),0))))","v":0},{"$f":"AC55*MIN(1,IF($B45=1,'OVERALL TARGET'!AA12, IF($B45=2,'OVERALL TARGET'!AA11, IF($B45=3,MAX('OVERALL TARGET'!AA12,'OVERALL TARGET'!AA11),0))))","v":0},{"$f":"AD55*MIN(1,IF($B45=1,'OVERALL TARGET'!AB12, IF($B45=2,'OVERALL TARGET'!AB11, IF($B45=3,MAX('OVERALL TARGET'!AB12,'OVERALL TARGET'!AB11),0))))","v":0},{"$f":"AE55*MIN(1,IF($B45=1,'OVERALL TARGET'!AC12, IF($B45=2,'OVERALL TARGET'!AC11, IF($B45=3,MAX('OVERALL TARGET'!AC12,'OVERALL TARGET'!AC11),0))))","v":0},{"$f":"AF55*MIN(1,IF($B45=1,'OVERALL TARGET'!AD12, IF($B45=2,'OVERALL TARGET'!AD11, IF($B45=3,MAX('OVERALL TARGET'!AD12,'OVERALL TARGET'!AD11),0))))","v":0},{"$f":"AG55*MIN(1,IF($B45=1,'OVERALL TARGET'!AE12, IF($B45=2,'OVERALL TARGET'!AE11, IF($B45=3,MAX('OVERALL TARGET'!AE12,'OVERALL TARGET'!AE11),0))))","v":0},{"$f":"AH55*MIN(1,IF($B45=1,'OVERALL TARGET'!AF12, IF($B45=2,'OVERALL TARGET'!AF11, IF($B45=3,MAX('OVERALL TARGET'!AF12,'OVERALL TARGET'!AF11),0))))","v":0},{"$f":"AI55*MIN(1,IF($B45=1,'OVERALL TARGET'!AG12, IF($B45=2,'OVERALL TARGET'!AG11, IF($B45=3,MAX('OVERALL TARGET'!AG12,'OVERALL TARGET'!AG11),0))))","v":0},{"$f":"AJ55*MIN(1,IF($B45=1,'OVERALL TARGET'!AH12, IF($B45=2,'OVERALL TARGET'!AH11, IF($B45=3,MAX('OVERALL TARGET'!AH12,'OVERALL TARGET'!AH11),0))))","v":0},{"$f":"AK55*MIN(1,IF($B45=1,'OVERALL TARGET'!AI12, IF($B45=2,'OVERALL TARGET'!AI11, IF($B45=3,MAX('OVERALL TARGET'!AI12,'OVERALL TARGET'!AI11),0))))","v":0},{"$f":"AL55*MIN(1,IF($B45=1,'OVERALL TARGET'!AJ12, IF($B45=2,'OVERALL TARGET'!AJ11, IF($B45=3,MAX('OVERALL TARGET'!AJ12,'OVERALL TARGET'!AJ11),0))))","v":0}]
[null,null,null,"non-RE in all other transport modes",null,null,null,null,null,null,null,null,null,null,null,null,null,null,null,null,null,{"$f":"V55-V56","v":0},0,0,0,0,0,0,0,0,0,0,0,0,0,0,0,0]
[]
["NUMERATOR (without multiplicators)",null,null,null,null,null,null,null,null,null,null,null,null,null,null,null,null,null,null,null,null,{"$f":"SUM(V28:V30,V32:V34,V36,V37,V38,V50,V53,V56)","v":0},{"$f":"SUM(W28:W30,W32:W34,W36,W37,W38,W50,W53,W56)","v":0},0,0,0,0,0,{"$f":"SUM(AC42,AC36,AC37,AC38,AC50,AC53,AC56)","v":0},{"$f":"SUM(AD42,AD36,AD37,AD38,AD50,AD53,AD56)","v":0},0,0,0,0,0,0,0,0]
["NUMERATOR (with multiplicators)",null,null,null,null,null,null,null,null,null,null,null,null,null,null,null,null,null,null,null,null,{"$f":"SUM(V28:V30,V32:V34,V36,V37,V38,V53,V56)+V43+V50*2.5","v":0},{"$f":"SUM(W28:W30,W32:W34,W36,W37,W38,W53,W56)+W43+W50*2.5","v":0},0,0,0,0,0,{"$f":"SUM(AC42,AC36,AC37,AC38,AC53,AC56)+AC43+AC50*2.5","v":0},{"$f":"SUM(AD42,AD36,AD37,AD38,AD53,AD56)+AD43+AD50*2.5","v":0},0,0,0,0,0,0,0,0]
["DENOMINATOR (without multiplicators)",null,null,null,null,null,null,null,null,null,null,null,null,null,null,null,null,null,null,null,null,{"$f":"SUM(V23:V24,V28:V29,V32:V33,V48)","v":0},0,0,0,0,0,0,0,0,0,0,0,0,0,0,0,0]
["DENOMINATOR (with multiplicators)",null,null,null,null,null,null,null,null,null,null,null,null,null,null,null,null,null,null,null,null,{"$f":"SUM(V23:V24,V28:V29,V32:V33,V48)+(V43+1.5*V50)","v":0},0,0,0,0,0,0,0,0,0,0,0,0,0,0,0,0]
["Share of energy from renewable sources\nin all forms of transport",null,null,null,null,null,null,null,null,null,null,null,null,null,null,null,null,null,null,null,null,{"$f":"IF(V62>0,V60/V62,\"\")","v":""},{"$f":"IF(W62>0,W60/W62,\"\")","v":""},"","","","","","","","","","","","","","",{"$f":"IF(AL62>0,AL60/AL62,\"\")","v":""}]
[]
[]
[]
[]
[]
["SIMULATION OF CALCULATION - FOR ANALYTICAL PURPOSES ONLY"]
["NUMERATOR (with new electricity multiplicators)",null,null,null,null,null,null,null,null,null,null,null,null,null,null,null,null,null,null,null,null,{"$f":"SUM(V28:V30,V32:V34,V36,V37,V38,V56)+V43+V53*2.5+V50*5","v":0},{"$f":"SUM(W28:W30,W32:W34,W36,W37,W38,W56)+W43+W53*2.5+W50*5","v":0},0,0,0,0,0,{"$f":"SUM(AC42,AC36,AC37,AC38,AC56)+AC43+AC53*2.5+AC50*5","v":0},{"$f":"SUM(AD42,AD36,AD37,AD38,AD56)+AD43+AD53*2.5+AD50*5","v":0},0,0,0,0,0,0,0,0]
["DENOMINATOR (with new electricity multiplicators)",null,null,null,null,null,null,null,null,null,null,null,null,null,null,null,null,null,null,null,null,{"$f":"SUM(V23:V24,V28:V29,V32:V33,V48)+(V43+1.5*V53)","v":0},{"$f":"SUM(W23:W24,W28:W29,W32:W33,W48)+(W43+1.5*W53)","v":0},0,0,0,0,0,0,0,0,0,0,0,0,0,0,0]
["Share of energy from renewable sources\nin all forms of transport\nwith new electricity multiplicators",null,null,null,null,null,null,null,null,null,null,null,null,null,null,null,null,null,null,null,null,{"$f":"IF(V71>0,V70/V71,\"\")","v":""},{"$f":"IF(W71>0,W70/W71,\"\")","v":""},"","","","","","","","","","","","","","",""]
[]
[]
[]
[]
[]
[]
[]
[]
[]
[]
[]
[]
[]
[]
[]
[]
[]
[]
[]
[]
[]
[]
[]
["Use the EU average RES-E share"]
["Use the national RES-E share"]
["Use a higher value of RES-E share"]

{"sheet":"OVERALL TARGET","index":5,"n_rows":59,"n_cols":38,"rows_kept":59,"cut":false,"hidden":false,"merged":[]}
[{"$f":"MAIN!$D$9","v":""},null,null,null,null,null,null,1990,1991,1992,1993,1994,1995,1996,1997,1998,1999,2000,2001,2002,2003,2004,2005,2006,2007,2008,2009,2010,2011,2012,2013,2014,2015,2016,2017,2018,2019,2020]
["Renewable Electricity Generation [GWh]",null,null,null,null,null,null,null,null,null,null,null,null,null,null,null,null,null,null,null,null,{"$f":"V3+V4+V5+V8+V9","v":0},0,0,0,0,0,0,{"$f":"AC3+AC4+AC6+AC7+AC8+AC9","v":0},{"$f":"AD3+AD4+AD6+AD7+AD8+AD9","v":0},0,0,0,0,0,0,0,0]
[null,"Normalised hydro generation",null,null,null,null,null,null,null,null,null,null,null,null,null,null,null,null,null,null,null,{"$f":"REN!V190+REN!V197","v":0},{"$f":"REN!W190+REN!W197","v":0},{"$f":"REN!X190+REN!X197","v":0},{"$f":"REN!Y190+REN!Y197","v":0},{"$f":"REN!Z190+REN!Z197","v":0},{"$f":"REN!AA190+REN!AA197","v":0},{"$f":"REN!AB190+REN!AB197","v":0},{"$f":"REN!AC190+REN!AC197","v":0},{"$f":"REN!AD190+REN!AD197","v":0},{"$f":"REN!AE190+REN!AE197","v":0},{"$f":"REN!AF190+REN!AF197","v":0},{"$f":"REN!AG190+REN!AG197","v":0},{"$f":"REN!AH190+REN!AH197","v":0},{"$f":"REN!AI190+REN!AI197","v":0},{"$f":"REN!AJ190+REN!AJ197","v":0},{"$f":"REN!AK190+REN!AK197","v":0},{"$f":"REN!AL190+REN!AL197","v":0}]
[null,"Normalised wind generation",null,null,null,null,null,null,null,null,null,null,null,null,null,null,null,null,null,null,null,{"$f":"IF(SUM(REN!V105)>0,((REN!V105+REN!U105)/2)*(SUM(ELE!R37:V37)/(REN!V105/2+REN!U105+REN!T105+REN!S105+REN!R105+REN!Q105/2)),0)","v":0},{"$f":"IF(SUM(REN!W105)>0,((REN!W105+REN!V105)/2)*(SUM(ELE!S37:W37)/(REN!W105/2+REN!V105+REN!U105+REN!T105+REN!S105+REN!R105/2)),0)","v":0},{"$f":"IF(SUM(REN!X105)>0,((REN!X105+REN!W105)/2)*(SUM(ELE!T37:X37)/(REN!X105/2+REN!W105+REN!V105+REN!U105+REN!T105+REN!S105/2)),0)","v":0},{"$f":"IF(SUM(REN!Y105)>0,((REN!Y105+REN!X105)/2)*(SUM(ELE!U37:Y37)/(REN!Y105/2+REN!X105+REN!W105+REN!V105+REN!U105+REN!T105/2)),0)","v":0},{"$f":"IF(SUM(REN!Z105)>0,((REN!Z105+REN!Y105)/2)*(SUM(ELE!V37:Z37)/(REN!Z105/2+REN!Y105+REN!X105+REN!W105+REN!V105+REN!U105/2)),0)","v":0},{"$f":"IF(SUM(REN!AA105)>0,((REN!AA105+REN!Z105)/2)*(SUM(ELE!W37:AA37)/(REN!AA105/2+REN!Z105+REN!Y105+REN!X105+REN!W105+REN!V105/2)),0)","v":0},{"$f":"IF(SUM(REN!AB105)>0,((REN!AB105+REN!AA105)/2)*(SUM(ELE!X37:AB37)/(REN!AB105/2+REN!AA105+REN!Z105+REN!Y105+REN!X105+REN!W105/2)),0)","v":0},{"$f":"IF(SUM(REN!AC105)>0,((REN!AC105+REN!AB105)/2)*(SUM(ELE!Y37:AC37)/(REN!AC105/2+REN!AB105+REN!AA105+REN!Z105+REN!Y105+REN!X105/2)),0)","v":0},{"$f":"IF(SUM(REN!AD105)>0,((REN!AD105+REN!AC105)/2)*(SUM(ELE!Z37:AD37)/(REN!AD105/2+REN!AC105+REN!AB105+REN!AA105+REN!Z105+REN!Y105/2)),0)","v":0},{"$f":"IF(SUM(REN!AE105)>0,((REN!AE105+REN!AD105)/2)*(SUM(ELE!AA37:AE37)/(REN!AE105/2+REN!AD105+REN!AC105+REN!AB105+REN!AA105+REN!Z105/2)),0)","v":0},{"$f":"IF(SUM(REN!AF105)>0,((REN!AF105+REN!AE105)/2)*(SUM(ELE!AB37:AF37)/(REN!AF105/2+REN!AE105+REN!AD105+REN!AC105+REN!AB105+REN!AA105/2)),0)","v":0},{"$f":"IF(SUM(REN!AG105)>0,((REN!AG105+REN!AF105)/2)*(SUM(ELE!AC37:AG37)/(REN!AG105/2+REN!AF105+REN!AE105+REN!AD105+REN!AC105+REN!AB105/2)),0)","v":0},{"$f":"IF(SUM(REN!AH105)>0,((REN!AH105+REN!AG105)/2)*(SUM(ELE!AD37:AH37)/(REN!AH105/2+REN!AG105+REN!AF105+REN!AE105+REN!AD105+REN!AC105/2)),0)","v":0},{"$f":"IF(SUM(REN!AI105)>0,((REN!AI105+REN!AH105)/2)*(SUM(ELE!AE37:AI37)/(REN!AI105/2+REN!AH105+REN!AG105+REN!AF105+REN!AE105+REN!AD105/2)),0)","v":0},{"$f":"IF(SUM(REN!AJ105)>0,((REN!AJ105+REN!AI105)/2)*(SUM(ELE!AF37:AJ37)/(REN!AJ105/2+REN!AI105+REN!AH105+REN!AG105+REN!AF105+REN!AE105/2)),0)","v":0},{"$f":"IF(SUM(REN!AK105)>0,((REN!AK105+REN!AJ105)/2)*(SUM(ELE!AG37:AK37)/(REN!AK105/2+REN!AJ105+REN!AI105+REN!AH105+REN!AG105+REN!AF105/2)),0)","v":0},{"$f":"IF(SUM(REN!AL105)>0,((REN!AL105+REN!AK105)/2)*(SUM(ELE!AH37:AL37)/(REN!AL105/2+REN!AK105+REN!AJ105+REN!AI105+REN!AH105+REN!AG105/2)),0)","v":0}]
[null,"From non-blended bioliquids, compliant + non-compliant",null,null,null,null,null,null,null,null,null,null,null,null,null,null,null,null,null,null,null,{"$f":"SUM(REN!V125:V128)/1000","v":0},{"$f":"SUM(REN!W125:W128)/1000","v":0},{"$f":"SUM(REN!X125:X128)/1000","v":0},{"$f":"SUM(REN!Y125:Y128)/1000","v":0},{"$f":"SUM(REN!Z125:Z128)/1000","v":0},{"$f":"SUM(REN!AA125:AA128)/1000","v":0},{"$f":"SUM(REN!AB125:AB128)/1000","v":0},{"$f":"SUM(REN!AC125:AC128)/1000","v":0},{"$f":"SUM(REN!AD125:AD128)/1000","v":0},{"$f":"SUM(REN!AE125:AE128)/1000","v":0},{"$f":"SUM(REN!AF125:AF128)/1000","v":0},{"$f":"SUM(REN!AG125:AG128)/1000","v":0},{"$f":"SUM(REN!AH125:AH128)/1000","v":0},{"$f":"SUM(REN!AI125:AI128)/1000","v":0},{"$f":"SUM(REN!AJ125:AJ128)/1000","v":0},{"$f":"SUM(REN!AK125:AK128)/1000","v":0},{"$f":"SUM(REN!AL125:AL128)/1000","v":0}]
[null,"- of which from compliant non-blended bioliquids",null,null,null,null,null,null,null,null,null,null,null,null,null,null,null,null,null,null,null,"û","û","û","û","û","û","û",0,0,0,0,0,0,0,0,0,0]
[null,"From compliant blended bioliquids, only bio part",null,null,null,null,null,null,null,null,null,null,null,null,null,null,null,null,null,null,null,"û","û","û","û","û","û","û",0,0,0,0,0,0,0,0,0,0]
[null,"From biogas blended in the grid",null,null,null,null,null,null,null,null,null,null,null,null,null,null,null,null,null,null,null,{"$f":"GAS!V20*ELE!V46","v":0},{"$f":"GAS!W20*ELE!W46","v":0},{"$f":"GAS!X20*ELE!X46","v":0},{"$f":"GAS!Y20*ELE!Y46","v":0},{"$f":"GAS!Z20*ELE!Z46","v":0},{"$f":"GAS!AA20*ELE!AA46","v":0},{"$f":"GAS!AB20*ELE!AB46","v":0},{"$f":"GAS!AC20*ELE!AC46","v":0},{"$f":"GAS!AD20*ELE!AD46","v":0},{"$f":"GAS!AE20*ELE!AE46","v":0},{"$f":"GAS!AF20*ELE!AF46","v":0},{"$f":"GAS!AG20*ELE!AG46","v":0},{"$f":"GAS!AH20*ELE!AH46","v":0},{"$f":"GAS!AI20*ELE!AI46","v":0},{"$f":"GAS!AJ20*ELE!AJ46","v":0},{"$f":"GAS!AK20*ELE!AK46","v":0},{"$f":"GAS!AL20*ELE!AL46","v":0}]
[null,"From all other renewable sources",null,null,null,null,null,null,null,null,null,null,null,null,null,null,null,null,null,null,null,{"$f":"SUM(REN!V132:V138,REN!V140:V146)/1000","v":0},{"$f":"SUM(REN!W132:W138,REN!W140:W146)/1000","v":0},{"$f":"SUM(REN!X132:X138,REN!X140:X146)/1000","v":0},{"$f":"SUM(REN!Y132:Y138,REN!Y140:Y146)/1000","v":0},{"$f":"SUM(REN!Z132:Z138,REN!Z140:Z146)/1000","v":0},{"$f":"SUM(REN!AA132:AA138,REN!AA140:AA146)/1000","v":0},{"$f":"SUM(REN!AB132:AB138,REN!AB140:AB146)/1000","v":0},{"$f":"SUM(REN!AC132:AC138,REN!AC140:AC146)/1000","v":0},{"$f":"SUM(REN!AD132:AD138,REN!AD140:AD146)/1000","v":0},{"$f":"SUM(REN!AE132:AE138,REN!AE140:AE146)/1000","v":0},{"$f":"SUM(REN!AF132:AF138,REN!AF140:AF146)/1000","v":0},{"$f":"SUM(REN!AG132:AG138,REN!AG140:AG146)/1000","v":0},{"$f":"SUM(REN!AH132:AH138,REN!AH140:AH146)/1000","v":0},{"$f":"SUM(REN!AI132:AI138,REN!AI140:AI146)/1000","v":0},{"$f":"SUM(REN!AJ132:AJ138,REN!AJ140:AJ146)/1000","v":0},{"$f":"SUM(REN!AK132:AK138,REN!AK140:AK146)/1000","v":0},{"$f":"SUM(REN!AL132:AL138,REN!AL140:AL146)/1000","v":0}]
["Total Gross Electricity Consumption [GWh]",null,null,null,null,null,null,null,null,null,null,null,null,null,null,null,null,null,null,null,null,{"$f":"ELE!V42","v":0},{"$f":"ELE!W42","v":0},{"$f":"ELE!X42","v":0},{"$f":"ELE!Y42","v":0},{"$f":"ELE!Z42","v":0},{"$f":"ELE!AA42","v":0},{"$f":"ELE!AB42","v":0},{"$f":"ELE!AC42","v":0},{"$f":"ELE!AD42","v":0},{"$f":"ELE!AE42","v":0},{"$f":"ELE!AF42","v":0},{"$f":"ELE!AG42","v":0},{"$f":"ELE!AH42","v":0},{"$f":"ELE!AI42","v":0},{"$f":"ELE!AJ42","v":0},{"$f":"ELE!AK42","v":0},{"$f":"ELE!AL42","v":0}]
["RES-E (%)",null,null,null,null,null,null,null,null,null,null,null,null,null,null,null,null,null,null,null,null,{"$f":"IF(V10>0,V2/V10,\"\")","v":""},"","","","","","","","","","","","","","","",""]
["RES-E (%) EU28 average",null,null,null,null,null,null,null,null,null,null,null,null,null,null,null,null,null,null,null,null,0.14319999999999999,0.1484,0.15340000000000001,0.1608,0.16969999999999999,0.18970000000000001,0.19650000000000001,0.21679999999999999,0.23480000000000001,0.25369999999999998]
[]
["Renewable sources for heating & cooling [ktoe]"]
["Final Energy Consumption of renewable fuels in Industry and Other Sectors [ktoe]"]
["- all fuels but bioliquids (liquid biofuels)",null,null,null,null,null,null,null,null,null,null,null,null,null,null,null,null,null,null,null,null,{"$f":"(SUM(REN!V40,REN!V54,REN!V68)*REN!V32+SUM(REN!V41,REN!V48:V49,REN!V51,REN!V53,REN!V55,REN!V62:V63,REN!V65,REN!V67,REN!V69)*1000)/41868","v":0},{"$f":"(SUM(REN!W40,REN!W54,REN!W68)*REN!W32+SUM(REN!W41,REN!W48:W49,REN!W51,REN!W53,REN!W55,REN!W62:W63,REN!W65,REN!W67,REN!W69)*1000)/41868","v":0},{"$f":"(SUM(REN!X40,REN!X54,REN!X68)*REN!X32+SUM(REN!X41,REN!X48:X49,REN!X51,REN!X53,REN!X55,REN!X62:X63,REN!X65,REN!X67,REN!X69)*1000)/41868","v":0},{"$f":"(SUM(REN!Y40,REN!Y54,REN!Y68)*REN!Y32+SUM(REN!Y41,REN!Y48:Y49,REN!Y51,REN!Y53,REN!Y55,REN!Y62:Y63,REN!Y65,REN!Y67,REN!Y69)*1000)/41868","v":0},{"$f":"(SUM(REN!Z40,REN!Z54,REN!Z68)*REN!Z32+SUM(REN!Z41,REN!Z48:Z49,REN!Z51,REN!Z53,REN!Z55,REN!Z62:Z63,REN!Z65,REN!Z67,REN!Z69)*1000)/41868","v":0},{"$f":"(SUM(REN!AA40,REN!AA54,REN!AA68)*REN!AA32+SUM(REN!AA41,REN!AA48:AA49,REN!AA51,REN!AA53,REN!AA55,REN!AA62:AA63,REN!AA65,REN!AA67,REN!AA69)*1000)/41868","v":0},{"$f":"(SUM(REN!AB40,REN!AB54,REN!AB68)*REN!AB32+SUM(REN!AB41,REN!AB48:AB49,REN!AB51,REN!AB53,REN!AB55,REN!AB62:AB63,REN!AB65,REN!AB67,REN!AB69)*1000)/41868","v":0},{"$f":"(SUM(REN!AC40,REN!AC54,REN!AC68)*REN!AC32+SUM(REN!AC41,REN!AC48:AC49,REN!AC51,REN!AC53,REN!AC55,REN!AC62:AC63,REN!AC65,REN!AC67,REN!AC69)*1000)/41868","v":0},{"$f":"(SUM(REN!AD40,REN!AD54,REN!AD68)*REN!AD32+SUM(REN!AD41,REN!AD48:AD49,REN!AD51,REN!AD53,REN!AD55,REN!AD62:AD63,REN!AD65,REN!AD67,REN!AD69)*1000)/41868","v":0},{"$f":"(SUM(REN!AE40,REN!AE54,REN!AE68)*REN!AE32+SUM(REN!AE41,REN!AE48:AE49,REN!AE51,REN!AE53,REN!AE55,REN!AE62:AE63,REN!AE65,REN!AE67,REN!AE69)*1000)/41868","v":0},{"$f":"(SUM(REN!AF40,REN!AF54,REN!AF68)*REN!AF32+SUM(REN!AF41,REN!AF48:AF49,REN!AF51,REN!AF53,REN!AF55,REN!AF62:AF63,REN!AF65,REN!AF67,REN!AF69)*1000)/41868","v":0},{"$f":"(SUM(REN!AG40,REN!AG54,REN!AG68)*REN!AG32+SUM(REN!AG41,REN!AG48:AG49,REN!AG51,REN!AG53,REN!AG55,REN!AG62:AG63,REN!AG65,REN!AG67,REN!AG69)*1000)/41868","v":0},{"$f":"(SUM(REN!AH40,REN!AH54,REN!AH68)*REN!AH32+SUM(REN!AH41,REN!AH48:AH49,REN!AH51,REN!AH53,REN!AH55,REN!AH62:AH63,REN!AH65,REN!AH67,REN!AH69)*1000)/41868","v":0},{"$f":"(SUM(REN!AI40,REN!AI54,REN!AI68)*REN!AI32+SUM(REN!AI41,REN!AI48:AI49,REN!AI51,REN!AI53,REN!AI55,REN!AI62:AI63,REN!AI65,REN!AI67,REN!AI69)*1000)/41868","v":0},{"$f":"(SUM(REN!AJ40,REN!AJ54,REN!AJ68)*REN!AJ32+SUM(REN!AJ41,REN!AJ48:AJ49,REN!AJ51,REN!AJ53,REN!AJ55,REN!AJ62:AJ63,REN!AJ65,REN!AJ67,REN!AJ69)*1000)/41868","v":0},{"$f":"(SUM(REN!AK40,REN!AK54,REN!AK68)*REN!AK32+SUM(REN!AK41,REN!AK48:AK49,REN!AK51,REN!AK53,REN!AK55,REN!AK62:AK63,REN!AK65,REN!AK67,REN!AK69)*1000)/41868","v":0},{"$f":"(SUM(REN!AL40,REN!AL54,REN!AL68)*REN!AL32+SUM(REN!AL41,REN!AL48:AL49,REN!AL51,REN!AL53,REN!AL55,REN!AL62:AL63,REN!AL65,REN!AL67,REN!AL69)*1000)/41868","v":0}]
["- all bioliquids, compliant and also non-compliant",null,null,null,null,null,null,null,null,null,null,null,null,null,null,null,null,null,null,null,null,{"$f":"(SUMPRODUCT(REN!V42:V45,REN!V34:V37)+SUMPRODUCT(REN!V56:V59,REN!V34:V37)+SUMPRODUCT(REN!V70:V73,REN!V34:V37))/41868+(SUM(OIL!V89,OIL!V112,OIL!V136)*OIL!V64+SUM(OIL!V93,OIL!V116,OIL!V140)*OIL!V68+SUM(OIL!V95,OIL!V119,OIL!V143)*OIL!V71)/41868","v":0},{"$f":"(SUMPRODUCT(REN!W42:W45,REN!W34:W37)+SUMPRODUCT(REN!W56:W59,REN!W34:W37)+SUMPRODUCT(REN!W70:W73,REN!W34:W37))/41868+(SUM(OIL!W89,OIL!W112,OIL!W136)*OIL!W64+SUM(OIL!W93,OIL!W116,OIL!W140)*OIL!W68+SUM(OIL!W95,OIL!W119,OIL!W143)*OIL!W71)/41868","v":0},{"$f":"(SUMPRODUCT(REN!X42:X45,REN!X34:X37)+SUMPRODUCT(REN!X56:X59,REN!X34:X37)+SUMPRODUCT(REN!X70:X73,REN!X34:X37))/41868+(SUM(OIL!X89,OIL!X112,OIL!X136)*OIL!X64+SUM(OIL!X93,OIL!X116,OIL!X140)*OIL!X68+SUM(OIL!X95,OIL!X119,OIL!X143)*OIL!X71)/41868","v":0},{"$f":"(SUMPRODUCT(REN!Y42:Y45,REN!Y34:Y37)+SUMPRODUCT(REN!Y56:Y59,REN!Y34:Y37)+SUMPRODUCT(REN!Y70:Y73,REN!Y34:Y37))/41868+(SUM(OIL!Y89,OIL!Y112,OIL!Y136)*OIL!Y64+SUM(OIL!Y93,OIL!Y116,OIL!Y140)*OIL!Y68+SUM(OIL!Y95,OIL!Y119,OIL!Y143)*OIL!Y71)/41868","v":0},{"$f":"(SUMPRODUCT(REN!Z42:Z45,REN!Z34:Z37)+SUMPRODUCT(REN!Z56:Z59,REN!Z34:Z37)+SUMPRODUCT(REN!Z70:Z73,REN!Z34:Z37))/41868+(SUM(OIL!Z89,OIL!Z112,OIL!Z136)*OIL!Z64+SUM(OIL!Z93,OIL!Z116,OIL!Z140)*OIL!Z68+SUM(OIL!Z95,OIL!Z119,OIL!Z143)*OIL!Z71)/41868","v":0},{"$f":"(SUMPRODUCT(REN!AA42:AA45,REN!AA34:AA37)+SUMPRODUCT(REN!AA56:AA59,REN!AA34:AA37)+SUMPRODUCT(REN!AA70:AA73,REN!AA34:AA37))/41868+(SUM(OIL!AA89,OIL!AA112,OIL!AA136)*OIL!AA64+SUM(OIL!AA93,OIL!AA116,OIL!AA140)*OIL!AA68+SUM(OIL!AA95,OIL!AA119,OIL!AA143)*OIL!AA71)/41868","v":0},{"$f":"(SUMPRODUCT(REN!AB42:AB45,REN!AB34:AB37)+SUMPRODUCT(REN!AB56:AB59,REN!AB34:AB37)+SUMPRODUCT(REN!AB70:AB73,REN!AB34:AB37))/41868+(SUM(OIL!AB89,OIL!AB112,OIL!AB136)*OIL!AB64+SUM(OIL!AB93,OIL!AB116,OIL!AB140)*OIL!AB68+SUM(OIL!AB95,OIL!AB119,OIL!AB143)*OIL!AB71)/41868","v":0},{"$f":"(SUMPRODUCT(REN!AC42:AC45,REN!AC34:AC37)+SUMPRODUCT(REN!AC56:AC59,REN!AC34:AC37)+SUMPRODUCT(REN!AC70:AC73,REN!AC34:AC37))/41868+(SUM(OIL!AC89,OIL!AC112,OIL!AC136)*OIL!AC64+SUM(OIL!AC93,OIL!AC116,OIL!AC140)*OIL!AC68+SUM(OIL!AC95,OIL!AC119,OIL!AC143)*OIL!AC71)/41868","v":0},{"$f":"(SUMPRODUCT(REN!AD42:AD45,REN!AD34:AD37)+SUMPRODUCT(REN!AD56:AD59,REN!AD34:AD37)+SUMPRODUCT(REN!AD70:AD73,REN!AD34:AD37))/41868+(SUM(OIL!AD89,OIL!AD112,OIL!AD136)*OIL!AD64+SUM(OIL!AD93,OIL!AD116,OIL!AD140)*OIL!AD68+SUM(OIL!AD95,OIL!AD119,OIL!AD143)*OIL!AD71)/41868","v":0},{"$f":"(SUMPRODUCT(REN!AE42:AE45,REN!AE34:AE37)+SUMPRODUCT(REN!AE56:AE59,REN!AE34:AE37)+SUMPRODUCT(REN!AE70:AE73,REN!AE34:AE37))/41868+(SUM(OIL!AE89,OIL!AE112,OIL!AE136)*OIL!AE64+SUM(OIL!AE93,OIL!AE116,OIL!AE140)*OIL!AE68+SUM(OIL!AE95,OIL!AE119,OIL!AE143)*OIL!AE71)/41868","v":0},{"$f":"(SUMPRODUCT(REN!AF42:AF45,REN!AF34:AF37)+SUMPRODUCT(REN!AF56:AF59,REN!AF34:AF37)+SUMPRODUCT(REN!AF70:AF73,REN!AF34:AF37))/41868+(SUM(OIL!AF89,OIL!AF112,OIL!AF136)*OIL!AF64+SUM(OIL!AF93,OIL!AF116,OIL!AF140)*OIL!AF68+SUM(OIL!AF95,OIL!AF119,OIL!AF143)*OIL!AF71)/41868","v":0},{"$f":"(SUMPRODUCT(REN!AG42:AG45,REN!AG34:AG37)+SUMPRODUCT(REN!AG56:AG59,REN!AG34:AG37)+SUMPRODUCT(REN!AG70:AG73,REN!AG34:AG37))/41868+(SUM(OIL!AG89,OIL!AG112,OIL!AG136)*OIL!AG64+SUM(OIL!AG93,OIL!AG116,OIL!AG140)*OIL!AG68+SUM(OIL!AG95,OIL!AG119,OIL!AG143)*OIL!AG71)/41868","v":0},{"$f":"(SUMPRODUCT(REN!AH42:AH45,REN!AH34:AH37)+SUMPRODUCT(REN!AH56:AH59,REN!AH34:AH37)+SUMPRODUCT(REN!AH70:AH73,REN!AH34:AH37))/41868+(SUM(OIL!AH89,OIL!AH112,OIL!AH136)*OIL!AH64+SUM(OIL!AH93,OIL!AH116,OIL!AH140)*OIL!AH68+SUM(OIL!AH95,OIL!AH119,OIL!AH143)*OIL!AH71)/41868","v":0},{"$f":"(SUMPRODUCT(REN!AI42:AI45,REN!AI34:AI37)+SUMPRODUCT(REN!AI56:AI59,REN!AI34:AI37)+SUMPRODUCT(REN!AI70:AI73,REN!AI34:AI37))/41868+(SUM(OIL!AI89,OIL!AI112,OIL!AI136)*OIL!AI64+SUM(OIL!AI93,OIL!AI116,OIL!AI140)*OIL!AI68+SUM(OIL!AI95,OIL!AI119,OIL!AI143)*OIL!AI71)/41868","v":0},{"$f":"(SUMPRODUCT(REN!AJ42:AJ45,REN!AJ34:AJ37)+SUMPRODUCT(REN!AJ56:AJ59,REN!AJ34:AJ37)+SUMPRODUCT(REN!AJ70:AJ73,REN!AJ34:AJ37))/41868+(SUM(OIL!AJ89,OIL!AJ112,OIL!AJ136)*OIL!AJ64+SUM(OIL!AJ93,OIL!AJ116,OIL!AJ140)*OIL!AJ68+SUM(OIL!AJ95,OIL!AJ119,OIL!AJ143)*OIL!AJ71)/41868","v":0},{"$f":"(SUMPRODUCT(REN!AK42:AK45,REN!AK34:AK37)+SUMPRODUCT(REN!AK56:AK59,REN!AK34:AK37)+SUMPRODUCT(REN!AK70:AK73,REN!AK34:AK37))/41868+(SUM(OIL!AK89,OIL!AK112,OIL!AK136)*OIL!AK64+SUM(OIL!AK93,OIL!AK116,OIL!AK140)*OIL!AK68+SUM(OIL!AK95,OIL!AK119,OIL!AK143)*OIL!AK71)/41868","v":0},{"$f":"(SUMPRODUCT(REN!AL42:AL45,REN!AL34:AL37)+SUMPRODUCT(REN!AL56:AL59,REN!AL34:AL37)+SUMPRODUCT(REN!AL70:AL73,REN!AL34:AL37))/41868+(SUM(OIL!AL89,OIL!AL112,OIL!AL136)*OIL!AL64+SUM(OIL!AL93,OIL!AL116,OIL!AL140)*OIL!AL68+SUM(OIL!AL95,OIL!AL119,OIL!AL143)*OIL!AL71)/41868","v":0}]
["- - of which only compliant bioliquids",null,null,null,null,null,null,null,null,null,null,null,null,null,null,null,null,null,null,null,null,"û","û","û","û","û","û","û",0,0,0,0,0,0,0,0,0,0]
["- biogas blended in the grid",null,null,null,null,null,null,null,null,null,null,null,null,null,null,null,null,null,null,null,null,{"$f":"GAS!V20*SUM(GAS!V9:V11)*900/41868","v":0},{"$f":"GAS!W20*SUM(GAS!W9:W11)*900/41868","v":0},{"$f":"GAS!X20*SUM(GAS!X9:X11)*900/41868","v":0},{"$f":"GAS!Y20*SUM(GAS!Y9:Y11)*900/41868","v":0},{"$f":"GAS!Z20*SUM(GAS!Z9:Z11)*900/41868","v":0},{"$f":"GAS!AA20*SUM(GAS!AA9:AA11)*900/41868","v":0},{"$f":"GAS!AB20*SUM(GAS!AB9:AB11)*900/41868","v":0},{"$f":"GAS!AC20*SUM(GAS!AC9:AC11)*900/41868","v":0},{"$f":"GAS!AD20*SUM(GAS!AD9:AD11)*900/41868","v":0},{"$f":"GAS!AE20*SUM(GAS!AE9:AE11)*900/41868","v":0},{"$f":"GAS!AF20*SUM(GAS!AF9:AF11)*900/41868","v":0},{"$f":"GAS!AG20*SUM(GAS!AG9:AG11)*900/41868","v":0},{"$f":"GAS!AH20*SUM(GAS!AH9:AH11)*900/41868","v":0},{"$f":"GAS!AI20*SUM(GAS!AI9:AI11)*900/41868","v":0},{"$f":"GAS!AJ20*SUM(GAS!AJ9:AJ11)*900/41868","v":0},{"$f":"GAS!AK20*SUM(GAS!AK9:AK11)*900/41868","v":0},{"$f":"GAS!AL20*SUM(GAS!AL9:AL11)*900/41868","v":0}]
["Production of derived heat from renewable fuels [ktoe]"]
["- all fuels but bioliquids (liquid biofuels)",null,null,null,null,null,null,null,null,null,null,null,null,null,null,null,null,null,null,null,null,{"$f":"SUM(REN!V168:V172,REN!V176:V180)*1000/41868","v":0},{"$f":"SUM(REN!W168:W172,REN!W176:W180)*1000/41868","v":0},{"$f":"SUM(REN!X168:X172,REN!X176:X180)*1000/41868","v":0},{"$f":"SUM(REN!Y168:Y172,REN!Y176:Y180)*1000/41868","v":0},{"$f":"SUM(REN!Z168:Z172,REN!Z176:Z180)*1000/41868","v":0},{"$f":"SUM(REN!AA168:AA172,REN!AA176:AA180)*1000/41868","v":0},{"$f":"SUM(REN!AB168:AB172,REN!AB176:AB180)*1000/41868","v":0},{"$f":"SUM(REN!AC168:AC172,REN!AC176:AC180)*1000/41868","v":0},{"$f":"SUM(REN!AD168:AD172,REN!AD176:AD180)*1000/41868","v":0},{"$f":"SUM(REN!AE168:AE172,REN!AE176:AE180)*1000/41868","v":0},{"$f":"SUM(REN!AF168:AF172,REN!AF176:AF180)*1000/41868","v":0},{"$f":"SUM(REN!AG168:AG172,REN!AG176:AG180)*1000/41868","v":0},{"$f":"SUM(REN!AH168:AH172,REN!AH176:AH180)*1000/41868","v":0},{"$f":"SUM(REN!AI168:AI172,REN!AI176:AI180)*1000/41868","v":0},{"$f":"SUM(REN!AJ168:AJ172,REN!AJ176:AJ180)*1000/41868","v":0},{"$f":"SUM(REN!AK168:AK172,REN!AK176:AK180)*1000/41868","v":0},{"$f":"SUM(REN!AL168:AL172,REN!AL176:AL180)*1000/41868","v":0}]
["- all pure bioliquids, compliant and also non-compliant",null,null,null,null,null,null,null,null,null,null,null,null,null,null,null,null,null,null,null,null,{"$f":"SUM(REN!V173:V174,REN!V181:V182)*1000/41868","v":0},{"$f":"SUM(REN!W173:W174,REN!W181:W182)*1000/41868","v":0},{"$f":"SUM(REN!X173:X174,REN!X181:X182)*1000/41868","v":0},{"$f":"SUM(REN!Y173:Y174,REN!Y181:Y182)*1000/41868","v":0},{"$f":"SUM(REN!Z173:Z174,REN!Z181:Z182)*1000/41868","v":0},{"$f":"SUM(REN!AA173:AA174,REN!AA181:AA182)*1000/41868","v":0},{"$f":"SUM(REN!AB173:AB174,REN!AB181:AB182)*1000/41868","v":0},{"$f":"SUM(REN!AC173:AC174,REN!AC181:AC182)*1000/41868","v":0},{"$f":"SUM(REN!AD173:AD174,REN!AD181:AD182)*1000/41868","v":0},{"$f":"SUM(REN!AE173:AE174,REN!AE181:AE182)*1000/41868","v":0},{"$f":"SUM(REN!AF173:AF174,REN!AF181:AF182)*1000/41868","v":0},{"$f":"SUM(REN!AG173:AG174,REN!AG181:AG182)*1000/41868","v":0},{"$f":"SUM(REN!AH173:AH174,REN!AH181:AH182)*1000/41868","v":0},{"$f":"SUM(REN!AI173:AI174,REN!AI181:AI182)*1000/41868","v":0},{"$f":"SUM(REN!AJ173:AJ174,REN!AJ181:AJ182)*1000/41868","v":0},{"$f":"SUM(REN!AK173:AK174,REN!AK181:AK182)*1000/41868","v":0},{"$f":"SUM(REN!AL173:AL174,REN!AL181:AL182)*1000/41868","v":0}]
["- - of which only compliant pure bioliquids",null,null,null,null,null,null,null,null,null,null,null,null,null,null,null,null,null,null,null,null,"û","û","û","û","û","û","û",0,0,0,0,0,0,0,0,0,0]
["- blended bioliquids, compliant, only bio- part",null,null,null,null,null,null,null,null,null,null,null,null,null,null,null,null,null,null,null,null,"û","û","û","û","û","û","û",0,0,0,0,0,0,0,0,0,0]
["- biogas blended in the grid",null,null,null,null,null,null,null,null,null,null,null,null,null,null,null,null,null,null,null,null,{"$f":"GAS!V20*(ELE!V47*1000/41868)","v":0},{"$f":"GAS!W20*(ELE!W47*1000/41868)","v":0},{"$f":"GAS!X20*(ELE!X47*1000/41868)","v":0},{"$f":"GAS!Y20*(ELE!Y47*1000/41868)","v":0},{"$f":"GAS!Z20*(ELE!Z47*1000/41868)","v":0},{"$f":"GAS!AA20*(ELE!AA47*1000/41868)","v":0},{"$f":"GAS!AB20*(ELE!AB47*1000/41868)","v":0},{"$f":"GAS!AC20*(ELE!AC47*1000/41868)","v":0},{"$f":"GAS!AD20*(ELE!AD47*1000/41868)","v":0},{"$f":"GAS!AE20*(ELE!AE47*1000/41868)","v":0},{"$f":"GAS!AF20*(ELE!AF47*1000/41868)","v":0},{"$f":"GAS!AG20*(ELE!AG47*1000/41868)","v":0},{"$f":"GAS!AH20*(ELE!AH47*1000/41868)","v":0},{"$f":"GAS!AI20*(ELE!AI47*1000/41868)","v":0},{"$f":"GAS!AJ20*(ELE!AJ47*1000/41868)","v":0},{"$f":"GAS!AK20*(ELE!AK47*1000/41868)","v":0},{"$f":"GAS!AL20*(ELE!AL47*1000/41868)","v":0}]
["Heat pumps [ktoe]",null,null,null,null,null,null,null,null,null,null,null,null,null,null,null,null,null,null,null,null,{"$f":"'HEAT PUMPS'!V7*3.6/41.868","v":0},{"$f":"'HEAT PUMPS'!W7*3.6/41.868","v":0},{"$f":"'HEAT PUMPS'!X7*3.6/41.868","v":0},{"$f":"'HEAT PUMPS'!Y7*3.6/41.868","v":0},{"$f":"'HEAT PUMPS'!Z7*3.6/41.868","v":0},{"$f":"'HEAT PUMPS'!AA7*3.6/41.868","v":0},{"$f":"'HEAT PUMPS'!AB7*3.6/41.868","v":0},{"$f":"'HEAT PUMPS'!AC7*3.6/41.868","v":0},{"$f":"'HEAT PUMPS'!AD7*3.6/41.868","v":0},{"$f":"'HEAT PUMPS'!AE7*3.6/41.868","v":0},{"$f":"'HEAT PUMPS'!AF7*3.6/41.868","v":0},{"$f":"'HEAT PUMPS'!AG7*3.6/41.868","v":0},{"$f":"'HEAT PUMPS'!AH7*3.6/41.868","v":0},{"$f":"'HEAT PUMPS'!AI7*3.6/41.868","v":0},{"$f":"'HEAT PUMPS'!AJ7*3.6/41.868","v":0},{"$f":"'HEAT PUMPS'!AK7*3.6/41.868","v":0},{"$f":"'HEAT PUMPS'!AL7*3.6/41.868","v":0}]
["RES-H&C numerator",null,null,null,null,null,null,null,null,null,null,null,null,null,null,null,null,null,null,null,null,{"$f":"SUM(V16,V17,V19,V21,V22,V25,V26)","v":0},{"$f":"SUM(W16,W17,W19,W21,W22,W25,W26)","v":0},0,0,0,0,0,{"$f":"SUM(AC16,AC18,AC19,AC21,AC23,AC24,AC25,AC26)","v":0},{"$f":"SUM(AD16,AD18,AD19,AD21,AD23,AD24,AD25,AD26)","v":0},0,0,0,0,0,0,0,0]
["RES-H&C denominator",null,null,null,null,null,null,null,null,null,null,null,null,null,null,null,null,null,null,null,null,{"$f":"(V32+OIL!V5+GAS!V5+ELE!V6+V36)+V26","v":0},{"$f":"(W32+OIL!W5+GAS!W5+ELE!W6+W36)+W26","v":0},{"$f":"(X32+OIL!X5+GAS!X5+ELE!X6+X36)+X26","v":0},{"$f":"(Y32+OIL!Y5+GAS!Y5+ELE!Y6+Y36)+Y26","v":0},{"$f":"(Z32+OIL!Z5+GAS!Z5+ELE!Z6+Z36)+Z26","v":0},{"$f":"(AA32+OIL!AA5+GAS!AA5+ELE!AA6+AA36)+AA26","v":0},{"$f":"(AB32+OIL!AB5+GAS!AB5+ELE!AB6+AB36)+AB26","v":0},{"$f":"(AC32+OIL!AC5+GAS!AC5+ELE!AC6+AC36)+AC26","v":0},{"$f":"(AD32+OIL!AD5+GAS!AD5+ELE!AD6+AD36)+AD26","v":0},{"$f":"(AE32+OIL!AE5+GAS!AE5+ELE!AE6+AE36)+AE26","v":0},{"$f":"(AF32+OIL!AF5+GAS!AF5+ELE!AF6+AF36)+AF26","v":0},{"$f":"(AG32+OIL!AG5+GAS!AG5+ELE!AG6+AG36)+AG26","v":0},{"$f":"(AH32+OIL!AH5+GAS!AH5+ELE!AH6+AH36)+AH26","v":0},{"$f":"(AI32+OIL!AI5+GAS!AI5+ELE!AI6+AI36)+AI26","v":0},{"$f":"(AJ32+OIL!AJ5+GAS!AJ5+ELE!AJ6+AJ36)+AJ26","v":0},{"$f":"(AK32+OIL!AK5+GAS!AK5+ELE!AK6+AK36)+AK26","v":0},{"$f":"(AL32+OIL!AL5+GAS!AL5+ELE!AL6+AL36)+AL26","v":0}]
["RES-H&C (%)",null,null,null,null,null,null,null,null,null,null,null,null,null,null,null,null,null,null,null,null,{"$f":"IF(V28>0,V27/V28,\"\")","v":""},{"$f":"IF(W28>0,W27/W28,\"\")","v":""},"","","","","","","","","","","","","","",""]
[]
["Gross Final Consumption of Energy [ktoe]",null,null,null,null,null,null,null,null,null,null,null,null,null,null,null,null,null,null,null,null,{"$f":"SUM(V32:V36)","v":0},0,0,0,0,0,0,0,0,0,0,0,0,0,0,0,0]
[null,"COAL questionnaire",null,null,null,null,null,null,null,null,null,null,null,null,null,null,null,null,null,null,null,{"$f":"COAL!V4","v":0},{"$f":"COAL!W4","v":0},{"$f":"COAL!X4","v":0},{"$f":"COAL!Y4","v":0},{"$f":"COAL!Z4","v":0},{"$f":"COAL!AA4","v":0},{"$f":"COAL!AB4","v":0},{"$f":"COAL!AC4","v":0},{"$f":"COAL!AD4","v":0},{"$f":"COAL!AE4","v":0},{"$f":"COAL!AF4","v":0},{"$f":"COAL!AG4","v":0},{"$f":"COAL!AH4","v":0},{"$f":"COAL!AI4","v":0},{"$f":"COAL!AJ4","v":0},{"$f":"COAL!AK4","v":0},{"$f":"COAL!AL4","v":0}]
[null,"OIL questionnaire",null,null,null,null,null,null,null,null,null,null,null,null,null,null,null,null,null,null,null,{"$f":"OIL!V4","v":0},{"$f":"OIL!W4","v":0},{"$f":"OIL!X4","v":0},{"$f":"OIL!Y4","v":0},{"$f":"OIL!Z4","v":0},{"$f":"OIL!AA4","v":0},{"$f":"OIL!AB4","v":0},{"$f":"OIL!AC4","v":0},{"$f":"OIL!AD4","v":0},{"$f":"OIL!AE4","v":0},{"$f":"OIL!AF4","v":0},{"$f":"OIL!AG4","v":0},{"$f":"OIL!AH4","v":0},{"$f":"OIL!AI4","v":0},{"$f":"OIL!AJ4","v":0},{"$f":"OIL!AK4","v":0},{"$f":"OIL!AL4","v":0}]
[null,"NATURAL GAS questionnaire",null,null,null,null,null,null,null,null,null,null,null,null,null,null,null,null,null,null,null,{"$f":"GAS!V4","v":0},{"$f":"GAS!W4","v":0},{"$f":"GAS!X4","v":0},{"$f":"GAS!Y4","v":0},{"$f":"GAS!Z4","v":0},{"$f":"GAS!AA4","v":0},{"$f":"GAS!AB4","v":0},{"$f":"GAS!AC4","v":0},{"$f":"GAS!AD4","v":0},{"$f":"GAS!AE4","v":0},{"$f":"GAS!AF4","v":0},{"$f":"GAS!AG4","v":0},{"$f":"GAS!AH4","v":0},{"$f":"GAS!AI4","v":0},{"$f":"GAS!AJ4","v":0},{"$f":"GAS!AK4","v":0},{"$f":"GAS!AL4","v":0}]
[null,"ELECTRICITY questionnaire",null,null,null,null,null,null,null,null,null,null,null,null,null,null,null,null,null,null,null,{"$f":"ELE!V4","v":0},{"$f":"ELE!W4","v":0},{"$f":"ELE!X4","v":0},{"$f":"ELE!Y4","v":0},{"$f":"ELE!Z4","v":0},{"$f":"ELE!AA4","v":0},{"$f":"ELE!AB4","v":0},{"$f":"ELE!AC4","v":0},{"$f":"ELE!AD4","v":0},{"$f":"ELE!AE4","v":0},{"$f":"ELE!AF4","v":0},{"$f":"ELE!AG4","v":0},{"$f":"ELE!AH4","v":0},{"$f":"ELE!AI4","v":0},{"$f":"ELE!AJ4","v":0},{"$f":"ELE!AK4","v":0},{"$f":"ELE!AL4","v":0}]
[null,"RENEWABLES questionnaire",null,null,null,null,null,null,null,null,null,null,null,null,null,null,null,null,null,null,null,{"$f":"REN!V4","v":0},{"$f":"REN!W4","v":0},{"$f":"REN!X4","v":0},{"$f":"REN!Y4","v":0},{"$f":"REN!Z4","v":0},{"$f":"REN!AA4","v":0},{"$f":"REN!AB4","v":0},{"$f":"REN!AC4","v":0},{"$f":"REN!AD4","v":0},{"$f":"REN!AE4","v":0},{"$f":"REN!AF4","v":0},{"$f":"REN!AG4","v":0},{"$f":"REN!AH4","v":0},{"$f":"REN!AI4","v":0},{"$f":"REN!AJ4","v":0},{"$f":"REN!AK4","v":0},{"$f":"REN!AL4","v":0}]
[null,"Notes for calculation of Gross Final Consumption of Energy:"]
[null,"- all transport fuels from the renewables questionnaire are included together with the oil questionnaire, Annex III calorific values are taken into account"]
[null,"- renewable electricity/heat is included together with the electricity questionnaire"]
[]
["Article 5: Gross final consumption of energy from renewable sources [ktoe]"]
[null,"(a) electricity",null,null,null,null,null,null,null,null,null,null,null,null,null,null,null,null,null,null,null,{"$f":"(V2*3.6/41.868)-(TRANSPORT!V50+TRANSPORT!V53+TRANSPORT!V56)","v":0},{"$f":"(W2*3.6/41.868)-(TRANSPORT!W50+TRANSPORT!W53+TRANSPORT!W56)","v":0},{"$f":"(X2*3.6/41.868)-(TRANSPORT!X50+TRANSPORT!X53+TRANSPORT!X56)","v":0},{"$f":"(Y2*3.6/41.868)-(TRANSPORT!Y50+TRANSPORT!Y53+TRANSPORT!Y56)","v":0},{"$f":"(Z2*3.6/41.868)-(TRANSPORT!Z50+TRANSPORT!Z53+TRANSPORT!Z56)","v":0},{"$f":"(AA2*3.6/41.868)-(TRANSPORT!AA50+TRANSPORT!AA53+TRANSPORT!AA56)","v":0},{"$f":"(AB2*3.6/41.868)-(TRANSPORT!AB50+TRANSPORT!AB53+TRANSPORT!AB56)","v":0},{"$f":"(AC2*3.6/41.868)-(TRANSPORT!AC50+TRANSPORT!AC53+TRANSPORT!AC56)","v":0},{"$f":"(AD2*3.6/41.868)-(TRANSPORT!AD50+TRANSPORT!AD53+TRANSPORT!AD56)","v":0},{"$f":"(AE2*3.6/41.868)-(TRANSPORT!AE50+TRANSPORT!AE53+TRANSPORT!AE56)","v":0},{"$f":"(AF2*3.6/41.868)-(TRANSPORT!AF50+TRANSPORT!AF53+TRANSPORT!AF56)","v":0},{"$f":"(AG2*3.6/41.868)-(TRANSPORT!AG50+TRANSPORT!AG53+TRANSPORT!AG56)","v":0},{"$f":"(AH2*3.6/41.868)-(TRANSPORT!AH50+TRANSPORT!AH53+TRANSPORT!AH56)","v":0},{"$f":"(AI2*3.6/41.868)-(TRANSPORT!AI50+TRANSPORT!AI53+TRANSPORT!AI56)","v":0},{"$f":"(AJ2*3.6/41.868)-(TRANSPORT!AJ50+TRANSPORT!AJ53+TRANSPORT!AJ56)","v":0},{"$f":"(AK2*3.6/41.868)-(TRANSPORT!AK50+TRANSPORT!AK53+TRANSPORT!AK56)","v":0},{"$f":"(AL2*3.6/41.868)-(TRANSPORT!AL50+TRANSPORT!AL53+TRANSPORT!AL56)","v":0}]
[null,"(b) heating and cooling",null,null,null,null,null,null,null,null,null,null,null,null,null,null,null,null,null,null,null,{"$f":"V27","v":0},0,0,0,0,0,0,0,0,0,0,0,0,0,0,0,0]
[null,"(c) transport",null,null,null,null,null,null,null,null,null,null,null,null,null,null,null,null,null,null,null,{"$f":"TRANSPORT!V59","v":0},{"$f":"TRANSPORT!W59","v":0},{"$f":"TRANSPORT!X59","v":0},{"$f":"TRANSPORT!Y59","v":0},{"$f":"TRANSPORT!Z59","v":0},{"$f":"TRANSPORT!AA59","v":0},{"$f":"TRANSPORT!AB59","v":0},{"$f":"TRANSPORT!AC59","v":0},{"$f":"TRANSPORT!AD59","v":0},{"$f":"TRANSPORT!AE59","v":0},{"$f":"TRANSPORT!AF59","v":0},{"$f":"TRANSPORT!AG59","v":0},{"$f":"TRANSPORT!AH59","v":0},{"$f":"TRANSPORT!AI59","v":0},{"$f":"TRANSPORT!AJ59","v":0},{"$f":"TRANSPORT!AK59","v":0},{"$f":"TRANSPORT!AL59","v":0}]
[null,"(a) + (b) + (c) ",null,null,null,null,null,null,null,null,null,null,null,null,null,null,null,null,null,null,null,{"$f":"V42+V43+V44","v":0},0,0,0,0,0,0,0,0,0,0,0,0,0,0,0,0]
[]
["Articles 6-11: Statistical Transfers & Joint Projects"]
[null,"total amount to be added",null,null,null,null,null,null,null,null,null,null,null,null,null,null,null,null,null,null,null,{"$f":"'STAT. TRANSFERS'!V7+'STAT. TRANSFERS'!V13+'STAT. TRANSFERS'!V16+'STAT. TRANSFERS'!V22+'STAT. TRANSFERS'!V28+'STAT. TRANSFERS'!V31","v":0},{"$f":"'STAT. TRANSFERS'!W7+'STAT. TRANSFERS'!W13+'STAT. TRANSFERS'!W16+'STAT. TRANSFERS'!W22+'STAT. TRANSFERS'!W28+'STAT. TRANSFERS'!W31","v":0},{"$f":"'STAT. TRANSFERS'!X7+'STAT. TRANSFERS'!X13+'STAT. TRANSFERS'!X16+'STAT. TRANSFERS'!X22+'STAT. TRANSFERS'!X28+'STAT. TRANSFERS'!X31","v":0},{"$f":"'STAT. TRANSFERS'!Y7+'STAT. TRANSFERS'!Y13+'STAT. TRANSFERS'!Y16+'STAT. TRANSFERS'!Y22+'STAT. TRANSFERS'!Y28+'STAT. TRANSFERS'!Y31","v":0},{"$f":"'STAT. TRANSFERS'!Z7+'STAT. TRANSFERS'!Z13+'STAT. TRANSFERS'!Z16+'STAT. TRANSFERS'!Z22+'STAT. TRANSFERS'!Z28+'STAT. TRANSFERS'!Z31","v":0},{"$f":"'STAT. TRANSFERS'!AA7+'STAT. TRANSFERS'!AA13+'STAT. TRANSFERS'!AA16+'STAT. TRANSFERS'!AA22+'STAT. TRANSFERS'!AA28+'STAT. TRANSFERS'!AA31","v":0},{"$f":"'STAT. TRANSFERS'!AB7+'STAT. TRANSFERS'!AB13+'STAT. TRANSFERS'!AB16+'STAT. TRANSFERS'!AB22+'STAT. TRANSFERS'!AB28+'STAT. TRANSFERS'!AB31","v":0},{"$f":"'STAT. TRANSFERS'!AC7+'STAT. TRANSFERS'!AC13+'STAT. TRANSFERS'!AC16+'STAT. TRANSFERS'!AC22+'STAT. TRANSFERS'!AC28+'STAT. TRANSFERS'!AC31","v":0},{"$f":"'STAT. TRANSFERS'!AD7+'STAT. TRANSFERS'!AD13+'STAT. TRANSFERS'!AD16+'STAT. TRANSFERS'!AD22+'STAT. TRANSFERS'!AD28+'STAT. TRANSFERS'!AD31","v":0},{"$f":"'STAT. TRANSFERS'!AE7+'STAT. TRANSFERS'!AE13+'STAT. TRANSFERS'!AE16+'STAT. TRANSFERS'!AE22+'STAT. TRANSFERS'!AE28+'STAT. TRANSFERS'!AE31","v":0},{"$f":"'STAT. TRANSFERS'!AF7+'STAT. TRANSFERS'!AF13+'STAT. TRANSFERS'!AF16+'STAT. TRANSFERS'!AF22+'STAT. TRANSFERS'!AF28+'STAT. TRANSFERS'!AF31","v":0},{"$f":"'STAT. TRANSFERS'!AG7+'STAT. TRANSFERS'!AG13+'STAT. TRANSFERS'!AG16+'STAT. TRANSFERS'!AG22+'STAT. TRANSFERS'!AG28+'STAT. TRANSFERS'!AG31","v":0},{"$f":"'STAT. TRANSFERS'!AH7+'STAT. TRANSFERS'!AH13+'STAT. TRANSFERS'!AH16+'STAT. TRANSFERS'!AH22+'STAT. TRANSFERS'!AH28+'STAT. TRANSFERS'!AH31","v":0},{"$f":"'STAT. TRANSFERS'!AI7+'STAT. TRANSFERS'!AI13+'STAT. TRANSFERS'!AI16+'STAT. TRANSFERS'!AI22+'STAT. TRANSFERS'!AI28+'STAT. TRANSFERS'!AI31","v":0},{"$f":"'STAT. TRANSFERS'!AJ7+'STAT. TRANSFERS'!AJ13+'STAT. TRANSFERS'!AJ16+'STAT. TRANSFERS'!AJ22+'STAT. TRANSFERS'!AJ28+'STAT. TRANSFERS'!AJ31","v":0},{"$f":"'STAT. TRANSFERS'!AK7+'STAT. TRANSFERS'!AK13+'STAT. TRANSFERS'!AK16+'STAT. TRANSFERS'!AK22+'STAT. TRANSFERS'!AK28+'STAT. TRANSFERS'!AK31","v":0},{"$f":"'STAT. TRANSFERS'!AL7+'STAT. TRANSFERS'!AL13+'STAT. TRANSFERS'!AL16+'STAT. TRANSFERS'!AL22+'STAT. TRANSFERS'!AL28+'STAT. TRANSFERS'!AL31","v":0}]
[null,"total amount to be deduced",null,null,null,null,null,null,null,null,null,null,null,null,null,null,null,null,null,null,null,{"$f":"'STAT. TRANSFERS'!V8+'STAT. TRANSFERS'!V14+'STAT. TRANSFERS'!V17+'STAT. TRANSFERS'!V23+'STAT. TRANSFERS'!V29+'STAT. TRANSFERS'!V32","v":0},{"$f":"'STAT. TRANSFERS'!W8+'STAT. TRANSFERS'!W14+'STAT. TRANSFERS'!W17+'STAT. TRANSFERS'!W23+'STAT. TRANSFERS'!W29+'STAT. TRANSFERS'!W32","v":0},{"$f":"'STAT. TRANSFERS'!X8+'STAT. TRANSFERS'!X14+'STAT. TRANSFERS'!X17+'STAT. TRANSFERS'!X23+'STAT. TRANSFERS'!X29+'STAT. TRANSFERS'!X32","v":0},{"$f":"'STAT. TRANSFERS'!Y8+'STAT. TRANSFERS'!Y14+'STAT. TRANSFERS'!Y17+'STAT. TRANSFERS'!Y23+'STAT. TRANSFERS'!Y29+'STAT. TRANSFERS'!Y32","v":0},{"$f":"'STAT. TRANSFERS'!Z8+'STAT. TRANSFERS'!Z14+'STAT. TRANSFERS'!Z17+'STAT. TRANSFERS'!Z23+'STAT. TRANSFERS'!Z29+'STAT. TRANSFERS'!Z32","v":0},{"$f":"'STAT. TRANSFERS'!AA8+'STAT. TRANSFERS'!AA14+'STAT. TRANSFERS'!AA17+'STAT. TRANSFERS'!AA23+'STAT. TRANSFERS'!AA29+'STAT. TRANSFERS'!AA32","v":0},{"$f":"'STAT. TRANSFERS'!AB8+'STAT. TRANSFERS'!AB14+'STAT. TRANSFERS'!AB17+'STAT. TRANSFERS'!AB23+'STAT. TRANSFERS'!AB29+'STAT. TRANSFERS'!AB32","v":0},{"$f":"'STAT. TRANSFERS'!AC8+'STAT. TRANSFERS'!AC14+'STAT. TRANSFERS'!AC17+'STAT. TRANSFERS'!AC23+'STAT. TRANSFERS'!AC29+'STAT. TRANSFERS'!AC32","v":0},{"$f":"'STAT. TRANSFERS'!AD8+'STAT. TRANSFERS'!AD14+'STAT. TRANSFERS'!AD17+'STAT. TRANSFERS'!AD23+'STAT. TRANSFERS'!AD29+'STAT. TRANSFERS'!AD32","v":0},{"$f":"'STAT. TRANSFERS'!AE8+'STAT. TRANSFERS'!AE14+'STAT. TRANSFERS'!AE17+'STAT. TRANSFERS'!AE23+'STAT. TRANSFERS'!AE29+'STAT. TRANSFERS'!AE32","v":0},{"$f":"'STAT. TRANSFERS'!AF8+'STAT. TRANSFERS'!AF14+'STAT. TRANSFERS'!AF17+'STAT. TRANSFERS'!AF23+'STAT. TRANSFERS'!AF29+'STAT. TRANSFERS'!AF32","v":0},{"$f":"'STAT. TRANSFERS'!AG8+'STAT. TRANSFERS'!AG14+'STAT. TRANSFERS'!AG17+'STAT. TRANSFERS'!AG23+'STAT. TRANSFERS'!AG29+'STAT. TRANSFERS'!AG32","v":0},{"$f":"'STAT. TRANSFERS'!AH8+'STAT. TRANSFERS'!AH14+'STAT. TRANSFERS'!AH17+'STAT. TRANSFERS'!AH23+'STAT. TRANSFERS'!AH29+'STAT. TRANSFERS'!AH32","v":0},{"$f":"'STAT. TRANSFERS'!AI8+'STAT. TRANSFERS'!AI14+'STAT. TRANSFERS'!AI17+'STAT. TRANSFERS'!AI23+'STAT. TRANSFERS'!AI29+'STAT. TRANSFERS'!AI32","v":0},{"$f":"'STAT. TRANSFERS'!AJ8+'STAT. TRANSFERS'!AJ14+'STAT. TRANSFERS'!AJ17+'STAT. TRANSFERS'!AJ23+'STAT. TRANSFERS'!AJ29+'STAT. TRANSFERS'!AJ32","v":0},{"$f":"'STAT. TRANSFERS'!AK8+'STAT. TRANSFERS'!AK14+'STAT. TRANSFERS'!AK17+'STAT. TRANSFERS'!AK23+'STAT. TRANSFERS'!AK29+'STAT. TRANSFERS'!AK32","v":0},{"$f":"'STAT. TRANSFERS'!AL8+'STAT. TRANSFERS'!AL14+'STAT. TRANSFERS'!AL17+'STAT. TRANSFERS'!AL23+'STAT. TRANSFERS'!AL29+'STAT. TRANSFERS'!AL32","v":0}]
[]
["Article 5 (6): Aviation adjustment"]
["Total Gross Final Consumption of Energy [ktoe]",null,null,null,null,null,null,null,null,null,null,null,null,null,null,null,null,null,null,null,null,{"$f":"V31+V26","v":0},0,0,0,0,0,0,0,0,0,0,0,0,0,0,0,0]
["Reported Energy Consumption in Aviation [ktoe]",null,null,null,null,null,null,null,null,null,null,null,null,null,null,null,null,null,null,null,null,{"$f":"(SUMPRODUCT(OIL!V178:V199,OIL!V58:V79)+SUMPRODUCT(OIL!V202:V223,OIL!V58:V79)+REN!V89*REN!V35)/41868","v":0},{"$f":"(SUMPRODUCT(OIL!W178:W199,OIL!W58:W79)+SUMPRODUCT(OIL!W202:W223,OIL!W58:W79)+REN!W89*REN!W35)/41868","v":0},{"$f":"(SUMPRODUCT(OIL!X178:X199,OIL!X58:X79)+SUMPRODUCT(OIL!X202:X223,OIL!X58:X79)+REN!X89*REN!X35)/41868","v":0},{"$f":"(SUMPRODUCT(OIL!Y178:Y199,OIL!Y58:Y79)+SUMPRODUCT(OIL!Y202:Y223,OIL!Y58:Y79)+REN!Y89*REN!Y35)/41868","v":0},{"$f":"(SUMPRODUCT(OIL!Z178:Z199,OIL!Z58:Z79)+SUMPRODUCT(OIL!Z202:Z223,OIL!Z58:Z79)+REN!Z89*REN!Z35)/41868","v":0},{"$f":"(SUMPRODUCT(OIL!AA178:AA199,OIL!AA58:AA79)+SUMPRODUCT(OIL!AA202:AA223,OIL!AA58:AA79)+REN!AA89*REN!AA35)/41868","v":0},{"$f":"(SUMPRODUCT(OIL!AB178:AB199,OIL!AB58:AB79)+SUMPRODUCT(OIL!AB202:AB223,OIL!AB58:AB79)+REN!AB89*REN!AB35)/41868","v":0},{"$f":"(SUMPRODUCT(OIL!AC178:AC199,OIL!AC58:AC79)+SUMPRODUCT(OIL!AC202:AC223,OIL!AC58:AC79)+REN!AC89*REN!AC35)/41868","v":0},{"$f":"(SUMPRODUCT(OIL!AD178:AD199,OIL!AD58:AD79)+SUMPRODUCT(OIL!AD202:AD223,OIL!AD58:AD79)+REN!AD89*REN!AD35)/41868","v":0},{"$f":"(SUMPRODUCT(OIL!AE178:AE199,OIL!AE58:AE79)+SUMPRODUCT(OIL!AE202:AE223,OIL!AE58:AE79)+REN!AE89*REN!AE35)/41868","v":0},{"$f":"(SUMPRODUCT(OIL!AF178:AF199,OIL!AF58:AF79)+SUMPRODUCT(OIL!AF202:AF223,OIL!AF58:AF79)+REN!AF89*REN!AF35)/41868","v":0},{"$f":"(SUMPRODUCT(OIL!AG178:AG199,OIL!AG58:AG79)+SUMPRODUCT(OIL!AG202:AG223,OIL!AG58:AG79)+REN!AG89*REN!AG35)/41868","v":0},{"$f":"(SUMPRODUCT(OIL!AH178:AH199,OIL!AH58:AH79)+SUMPRODUCT(OIL!AH202:AH223,OIL!AH58:AH79)+REN!AH89*REN!AH35)/41868","v":0},{"$f":"(SUMPRODUCT(OIL!AI178:AI199,OIL!AI58:AI79)+SUMPRODUCT(OIL!AI202:AI223,OIL!AI58:AI79)+REN!AI89*REN!AI35)/41868","v":0},{"$f":"(SUMPRODUCT(OIL!AJ178:AJ199,OIL!AJ58:AJ79)+SUMPRODUCT(OIL!AJ202:AJ223,OIL!AJ58:AJ79)+REN!AJ89*REN!AJ35)/41868","v":0},{"$f":"(SUMPRODUCT(OIL!AK178:AK199,OIL!AK58:AK79)+SUMPRODUCT(OIL!AK202:AK223,OIL!AK58:AK79)+REN!AK89*REN!AK35)/41868","v":0},{"$f":"(SUMPRODUCT(OIL!AL178:AL199,OIL!AL58:AL79)+SUMPRODUCT(OIL!AL202:AL223,OIL!AL58:AL79)+REN!AL89*REN!AL35)/41868","v":0}]
["Actual Energy Consumption in Aviation [ktoe]",null,null,null,null,null,null,null,null,null,null,null,null,null,null,null,null,null,null,null,null,{"$f":"V53","v":0},0,0,0,0,0,0,0,0,0,0,0,0,0,0,0,0]
["Actual share of aviation in GFCoE [%]",null,null,null,null,null,null,null,null,null,null,null,null,null,null,null,null,null,null,null,null,{"$f":"IF(V52>0,V54/V52,0)","v":0},0,0,0,0,0,0,0,0,0,0,0,0,0,0,0,0]
["Aviation Cap [%]",null,null,null,null,null,null,null,null,null,null,null,null,null,null,null,null,null,null,null,null,{"$f":"IF(OR($A$1=\"Cyprus\",$A$1=\"Malta\"),0.0412,0.0618)","v":6.1800000000000001E-2},6.1800000000000001E-2,6.1800000000000001E-2,6.1800000000000001E-2,6.1800000000000001E-2,6.1800000000000001E-2,6.1800000000000001E-2,6.1800000000000001E-2,6.1800000000000001E-2,6.1800000000000001E-2,6.1800000000000001E-2,6.1800000000000001E-2,6.1800000000000001E-2,6.1800000000000001E-2,6.1800000000000001E-2,6.1800000000000001E-2,6.1800000000000001E-2]
["GFCoE adjusted [ktoe]",null,null,null,null,null,null,null,null,null,null,null,null,null,null,null,null,null,null,null,null,{"$f":"IF(V55>V56,V52*(1+V56-V55),V52)","v":0},0,0,0,0,0,0,0,0,0,0,0,0,0,0,0,0]
["RES [%]",null,null,null,null,null,null,null,null,null,null,null,null,null,null,null,null,null,null,null,null,{"$f":"IF(V57>0,(V45+V48-V49)/V57,\"\")","v":""},{"$f":"IF(W57>0,(W45+W48-W49)/W57,\"\")","v":""},"","","","","","","","","","","","","","",""]
[{"$f":"MAIN!$A$4","v":"v2014.51008"}]

{"sheet":"HEAT PUMPS","index":6,"n_rows":398,"n_cols":38,"rows_kept":398,"cut":false,"hidden":false,"merged":[]}
[{"$f":"MAIN!$D$9","v":""},null,null,null,null,null,null,1990,1991,1992,1993,1994,1995,1996,1997,1998,1999,2000,2001,2002,2003,2004,2005,2006,2007,2008,2009,2010,2011,2012,2013,2014,2015,2016,2017,2018,2019,2020]
[]
["Accounting of energy from heat pumps: ANNEX VII"]
["in effect of the Commission decision C(2013) 1082"]
["establishing the guidelines for Member States on calculating renewable energy from heat pumps from different heat pump technologies pursuant to Article 5 of Directive 2009/28/EC"]
[]
["Renewable heat captured [GWh]",null,null,null,null,null,null,{"$f":"SUM(H8,H11,H48,H61,H76,H113,H126,H141,H178,H191,H206,H243,H256,H271,H308,H321,H336,H373,H386)","v":0},{"$f":"SUM(I8,I11,I48,I61,I76,I113,I126,I141,I178,I191,I206,I243,I256,I271,I308,I321,I336,I373,I386)","v":0},0,0,0,0,0,0,0,0,0,0,0,0,{"$f":"SUM(V8,V11,V48,V61,V76,V113,V126,V141,V178,V191,V206,V243,V256,V271,V308,V321,V336,V373,V386)","v":0},0,0,0,0,0,0,0,0,0,0,0,0,0,0,0,0]
["other renewable heat captured by heat pumps [GWh]",null,null,null,null,null,null,0,0,0,0,0,0,0,0,0,0,0,0,0,0,0,0,0,0,0,0,0,0,0,0,0,0,0,0,0,0,0]
[]
["ELECTRICALLY DRIVEN HEAT PUMPS in COLDER CLIMATE"]
["Aerothermal energy",null,null,null,null,null,null,{"$f":"SUM(H17,H23,H29,H35,H41,H47)","v":0},0,0,0,0,0,0,0,0,0,0,0,0,0,0,0,0,0,0,0,0,0,0,0,0,0,0,0,0,0,{"$f":"SUM(AL17,AL23,AL29,AL35,AL41,AL47)","v":0}]
[null,"Air-Air"]
[null,null,"Capacity of heat pump installed",null,null,null,"[GW]",0,0,0,0,0,0,0,0,0,0,0,0,0,0,0,0,0,0,0,0,0,0,0,0,0,0,0,0,0,0,0]
[null,null,"of which SPF is above the minimum threshold",null,null,null,"[GW]",0,0,0,0,0,0,0,0,0,0,0,0,0,0,0,0,0,0,0,0,0,0,0,0,0,0,0,0,0,0,0]
[null,null,"Equivalent full load hours of operation",null,null,null,"[h]",1970,1970,1970,1970,1970,1970,1970,1970,1970,1970,1970,1970,1970,1970,1970,1970,1970,1970,1970,1970,1970,1970,1970,1970,1970,1970,1970,1970,1970,1970,1970]
[null,null,"Estimated average SPF",null,null,null,null,2.5,2.5,2.5,2.5,2.5,2.5,2.5,2.5,2.5,2.5,2.5,2.5,2.5,2.5,2.5,2.5,2.5,2.5,2.5,2.5,2.5,2.5,2.5,2.5,2.5,2.5,2.5,2.5,2.5,2.5,2.5]
[null,null,"The amount of renewable energy supplied",null,null,null,"[GWh]",{"$f":"IF(H16>0,(H14*H15)*(1-1/H16),0)","v":0},{"$f":"IF(I16>0,(I14*I15)*(1-1/I16),0)","v":0},0,0,0,0,0,0,0,0,0,0,0,0,0,0,0,0,0,0,0,0,0,0,0,0,0,0,0,0,0]
[null,"Air-Water"]
[null,null,"Capacity of heat pump installed",null,null,null,"[GW]",0,0,0,0,0,0,0,0,0,0,0,0,0,0,0,0,0,0,0,0,0,0,0,0,0,0,0,0,0,0,0]
[null,null,"of which SPF is above the minimum threshold",null,null,null,"[GW]",0,0,0,0,0,0,0,0,0,0,0,0,0,0,0,0,0,0,0,0,0,0,0,0,0,0,0,0,0,0,0]
[null,null,"Equivalent full load hours of operation",null,null,null,"[h]",1710,1710,1710,1710,1710,1710,1710,1710,1710,1710,1710,1710,1710,1710,1710,1710,1710,1710,1710,1710,1710,1710,1710,1710,1710,1710,1710,1710,1710,1710,1710]
[null,null,"Estimated average SPF",null,null,null,null,2.5,2.5,2.5,2.5,2.5,2.5,2.5,2.5,2.5,2.5,2.5,2.5,2.5,2.5,2.5,2.5,2.5,2.5,2.5,2.5,2.5,2.5,2.5,2.5,2.5,2.5,2.5,2.5,2.5,2.5,2.5]
[null,null,"The amount of renewable energy supplied",null,null,null,"[GWh]",{"$f":"IF(H22>0,(H20*H21)*(1-1/H22),0)","v":0},0,0,0,0,0,0,0,0,0,0,0,0,0,0,0,0,0,0,0,0,0,0,0,0,0,0,0,0,0,0]
[null,"Air-Air (reversible)"]
[null,null,"Capacity of heat pump installed",null,null,null,"[GW]",0,0,0,0,0,0,0,0,0,0,0,0,0,0,0,0,0,0,0,0,0,0,0,0,0,0,0,0,0,0,0]
[null,null,"of which SPF is above the minimum threshold",null,null,null,"[GW]",0,0,0,0,0,0,0,0,0,0,0,0,0,0,0,0,0,0,0,0,0,0,0,0,0,0,0,0,0,0,0]
[null,null,"Equivalent full load hours of operation",null,null,null,"[h]",1970,1970,1970,1970,1970,1970,1970,1970,1970,1970,1970,1970,1970,1970,1970,1970,1970,1970,1970,1970,1970,1970,1970,1970,1970,1970,1970,1970,1970,1970,1970]
[null,null,"Estimated average SPF",null,null,null,null,2.5,2.5,2.5,2.5,2.5,2.5,2.5,2.5,2.5,2.5,2.5,2.5,2.5,2.5,2.5,2.5,2.5,2.5,2.5,2.5,2.5,2.5,2.5,2.5,2.5,2.5,2.5,2.5,2.5,2.5,2.5]
[null,null,"The amount of renewable energy supplied",null,null,null,"[GWh]",{"$f":"IF(H28>0,(H26*H27)*(1-1/H28),0)","v":0},0,0,0,0,0,0,0,0,0,0,0,0,0,0,0,0,0,0,0,0,0,0,0,0,0,0,0,0,0,0]
[null,"Air-Water (reversible)"]
[null,null,"Capacity of heat pump installed",null,null,null,"[GW]",0,0,0,0,0,0,0,0,0,0,0,0,0,0,0,0,0,0,0,0,0,0,0,0,0,0,0,0,0,0,0]
[null,null,"of which SPF is above the minimum threshold",null,null,null,"[GW]",0,0,0,0,0,0,0,0,0,0,0,0,0,0,0,0,0,0,0,0,0,0,0,0,0,0,0,0,0,0,0]
[null,null,"Equivalent full load hours of operation",null,null,null,"[h]",1710,1710,1710,1710,1710,1710,1710,1710,1710,1710,1710,1710,1710,1710,1710,1710,1710,1710,1710,1710,1710,1710,1710,1710,1710,1710,1710,1710,1710,1710,1710]
[null,null,"Estimated average SPF",null,null,null,null,2.5,2.5,2.5,2.5,2.5,2.5,2.5,2.5,2.5,2.5,2.5,2.5,2.5,2.5,2.5,2.5,2.5,2.5,2.5,2.5,2.5,2.5,2.5,2.5,2.5,2.5,2.5,2.5,2.5,2.5,2.5]
[null,null,"The amount of renewable energy supplied",null,null,null,"[GWh]",{"$f":"IF(H34>0,(H32*H33)*(1-1/H34),0)","v":0},0,0,0,0,0,0,0,0,0,0,0,0,0,0,0,0,0,0,0,0,0,0,0,0,0,0,0,0,0,0]
[null,"Exhaust Air-Air"]
[null,null,"Capacity of heat pump installed",null,null,null,"[GW]",0,0,0,0,0,0,0,0,0,0,0,0,0,0,0,0,0,0,0,0,0,0,0,0,0,0,0,0,0,0,0]
[null,null,"of which SPF is above the minimum threshold",null,null,null,"[GW]",0,0,0,0,0,0,0,0,0,0,0,0,0,0,0,0,0,0,0,0,0,0,0,0,0,0,0,0,0,0,0]
[null,null,"Equivalent full load hours of operation",null,null,null,"[h]",600,600,600,600,600,600,600,600,600,600,600,600,600,600,600,600,600,600,600,600,600,600,600,600,600,600,600,600,600,600,600]
[null,null,"Estimated average SPF",null,null,null,null,2.5,2.5,2.5,2.5,2.5,2.5,2.5,2.5,2.5,2.5,2.5,2.5,2.5,2.5,2.5,2.5,2.5,2.5,2.5,2.5,2.5,2.5,2.5,2.5,2.5,2.5,2.5,2.5,2.5,2.5,2.5]
[null,null,"The amount of renewable energy supplied",null,null,null,"[GWh]",{"$f":"IF(H40>0,(H38*H39)*(1-1/H40),0)","v":0},0,0,0,0,0,0,0,0,0,0,0,0,0,0,0,0,0,0,0,0,0,0,0,0,0,0,0,0,0,0]
[null,"Exhaust Air-Water"]
[null,null,"Capacity of heat pump installed",null,null,null,"[GW]",0,0,0,0,0,0,0,0,0,0,0,0,0,0,0,0,0,0,0,0,0,0,0,0,0,0,0,0,0,0,0]
[null,null,"of which SPF is above the minimum threshold",null,null,null,"[GW]",0,0,0,0,0,0,0,0,0,0,0,0,0,0,0,0,0,0,0,0,0,0,0,0,0,0,0,0,0,0,0]
[null,null,"Equivalent full load hours of operation",null,null,null,"[h]",600,600,600,600,600,600,600,600,600,600,600,600,600,600,600,600,600,600,600,600,600,600,600,600,600,600,600,600,600,600,600]
[null,null,"Estimated average SPF",null,null,null,null,2.5,2.5,2.5,2.5,2.5,2.5,2.5,2.5,2.5,2.5,2.5,2.5,2.5,2.5,2.5,2.5,2.5,2.5,2.5,2.5,2.5,2.5,2.5,2.5,2.5,2.5,2.5,2.5,2.5,2.5,2.5]
[null,null,"The amount of renewable energy supplied",null,null,null,"[GWh]",{"$f":"IF(H46>0,(H44*H45)*(1-1/H46),0)","v":0},0,0,0,0,0,0,0,0,0,0,0,0,0,0,0,0,0,0,0,0,0,0,0,0,0,0,0,0,0,0]
["Geothermal energy",null,null,null,null,null,null,{"$f":"SUM(H54,H60)","v":0},0,0,0,0,0,0,0,0,0,0,0,0,0,0,0,0,0,0,0,0,0,0,0,0,0,0,0,0,0,{"$f":"SUM(AL54,AL60)","v":0}]
[null,"Ground-Air"]
[null,null,"Capacity of heat pump installed",null,null,null,"[GW]",0,0,0,0,0,0,0,0,0,0,0,0,0,0,0,0,0,0,0,0,0,0,0,0,0,0,0,0,0,0,0]
[null,null,"of which SPF is above the minimum threshold",null,null,null,"[GW]",0,0,0,0,0,0,0,0,0,0,0,0,0,0,0,0,0,0,0,0,0,0,0,0,0,0,0,0,0,0,0]
[null,null,"Equivalent full load hours of operation",null,null,null,"[h]",2470,2470,2470,2470,2470,2470,2470,2470,2470,2470,2470,2470,2470,2470,2470,2470,2470,2470,2470,2470,2470,2470,2470,2470,2470,2470,2470,2470,2470,2470,2470]
[null,null,"Estimated average SPF",null,null,null,null,3.2,3.2,3.2,3.2,3.2,3.2,3.2,3.2,3.2,3.2,3.2,3.2,3.2,3.2,3.2,3.2,3.2,3.2,3.2,3.2,3.2,3.2,3.2,3.2,3.2,3.2,3.2,3.2,3.2,3.2,3.2]
[null,null,"The amount of renewable energy supplied",null,null,null,"[GWh]",{"$f":"IF(H53>0,(H51*H52)*(1-1/H53),0)","v":0},0,0,0,0,0,0,0,0,0,0,0,0,0,0,0,0,0,0,0,0,0,0,0,0,0,0,0,0,0,0]
[null,"Ground-Water"]
[null,null,"Capacity of heat pump installed",null,null,null,"[GW]",0,0,0,0,0,0,0,0,0,0,0,0,0,0,0,0,0,0,0,0,0,0,0,0,0,0,0,0,0,0,0]
[null,null,"of which SPF is above the minimum threshold",null,null,null,"[GW]",0,0,0,0,0,0,0,0,0,0,0,0,0,0,0,0,0,0,0,0,0,0,0,0,0,0,0,0,0,0,0]
[null,null,"Equivalent full load hours of operation",null,null,null,"[h]",2470,2470,2470,2470,2470,2470,2470,2470,2470,2470,2470,2470,2470,2470,2470,2470,2470,2470,2470,2470,2470,2470,2470,2470,2470,2470,2470,2470,2470,2470,2470]
[null,null,"Estimated average SPF",null,null,null,null,3.5,3.5,3.5,3.5,3.5,3.5,3.5,3.5,3.5,3.5,3.5,3.5,3.5,3.5,3.5,3.5,3.5,3.5,3.5,3.5,3.5,3.5,3.5,3.5,3.5,3.5,3.5,3.5,3.5,3.5,3.5]
[null,null,"The amount of renewable energy supplied",null,null,null,"[GWh]",{"$f":"IF(H59>0,(H57*H58)*(1-1/H59),0)","v":0},0,0,0,0,0,0,0,0,0,0,0,0,0,0,0,0,0,0,0,0,0,0,0,0,0,0,0,0,0,0]
["Hydrothermal heat",null,null,null,null,null,null,{"$f":"SUM(H67,H73)","v":0},0,0,0,0,0,0,0,0,0,0,0,0,0,0,0,0,0,0,0,0,0,0,0,0,0,0,0,0,0,{"$f":"SUM(AL67,AL73)","v":0}]
[null,"Water-Air"]
[null,null,"Capacity of heat pump installed",null,null,null,"[GW]",0,0,0,0,0,0,0,0,0,0,0,0,0,0,0,0,0,0,0,0,0,0,0,0,0,0,0,0,0,0,0]
[null,null,"of which SPF is above the minimum threshold",null,null,null,"[GW]",0,0,0,0,0,0,0,0,0,0,0,0,0,0,0,0,0,0,0,0,0,0,0,0,0,0,0,0,0,0,0]
[null,null,"Equivalent full load hours of operation",null,null,null,"[h]",2470,2470,2470,2470,2470,2470,2470,2470,2470,2470,2470,2470,2470,2470,2470,2470,2470,2470,2470,2470,2470,2470,2470,2470,2470,2470,2470,2470,2470,2470,2470]
[null,null,"Estimated average SPF",null,null,null,null,3.2,3.2,3.2,3.2,3.2,3.2,3.2,3.2,3.2,3.2,3.2,3.2,3.2,3.2,3.2,3.2,3.2,3.2,3.2,3.2,3.2,3.2,3.2,3.2,3.2,3.2,3.2,3.2,3.2,3.2,3.2]
[null,null,"The amount of renewable energy supplied",null,null,null,"[GWh]",{"$f":"IF(H66>0,(H64*H65)*(1-1/H66),0)","v":0},0,0,0,0,0,0,0,0,0,0,0,0,0,0,0,0,0,0,0,0,0,0,0,0,0,0,0,0,0,0]
[null,"Water-Water"]
[null,null,"Capacity of heat pump installed",null,null,null,"[GW]",0,0,0,0,0,0,0,0,0,0,0,0,0,0,0,0,0,0,0,0,0,0,0,0,0,0,0,0,0,0,0]
[null,null,"of which SPF is above the minimum threshold",null,null,null,"[GW]",0,0,0,0,0,0,0,0,0,0,0,0,0,0,0,0,0,0,0,0,0,0,0,0,0,0,0,0,0,0,0]
[null,null,"Equivalent full load hours of operation",null,null,null,"[h]",2470,2470,2470,2470,2470,2470,2470,2470,2470,2470,2470,2470,2470,2470,2470,2470,2470,2470,2470,2470,2470,2470,2470,2470,2470,2470,2470,2470,2470,2470,2470]
[null,null,"Estimated average SPF",null,null,null,null,3.5,3.5,3.5,3.5,3.5,3.5,3.5,3.5,3.5,3.5,3.5,3.5,3.5,3.5,3.5,3.5,3.5,3.5,3.5,3.5,3.5,3.5,3.5,3.5,3.5,3.5,3.5,3.5,3.5,3.5,3.5]
[null,null,"The amount of renewable energy supplied",null,null,null,"[GWh]",{"$f":"IF(H72>0,(H70*H71)*(1-1/H72),0)","v":0},0,0,0,0,0,0,0,0,0,0,0,0,0,0,0,0,0,0,0,0,0,0,0,0,0,0,0,0,0,0]
[]
["ELECTRICALLY DRIVEN HEAT PUMPS in AVERAGE CLIMATE"]
["Aerothermal energy",null,null,null,null,null,null,{"$f":"SUM(H82,H88,H94,H100,H106,H112)","v":0},0,0,0,0,0,0,0,0,0,0,0,0,0,0,0,0,0,0,0,0,0,0,0,0,0,0,0,0,0,{"$f":"SUM(AL82,AL88,AL94,AL100,AL106,AL112)","v":0}]
[null,"Air-Air"]
[null,null,"Capacity of heat pump installed",null,null,null,"[GW]",0,0,0,0,0,0,0,0,0,0,0,0,0,0,0,0,0,0,0,0,0,0,0,0,0,0,0,0,0,0,0]
[null,null,"of which SPF is above the minimum threshold",null,null,null,"[GW]",0,0,0,0,0,0,0,0,0,0,0,0,0,0,0,0,0,0,0,0,0,0,0,0,0,0,0,0,0,0,0]
[null,null,"Equivalent full load hours of operation",null,null,null,"[h]",1770,1770,1770,1770,1770,1770,1770,1770,1770,1770,1770,1770,1770,1770,1770,1770,1770,1770,1770,1770,1770,1770,1770,1770,1770,1770,1770,1770,1770,1770,1770]
[null,null,"Estimated average SPF",null,null,null,null,2.6,2.6,2.6,2.6,2.6,2.6,2.6,2.6,2.6,2.6,2.6,2.6,2.6,2.6,2.6,2.6,2.6,2.6,2.6,2.6,2.6,2.6,2.6,2.6,2.6,2.6,2.6,2.6,2.6,2.6,2.6]
[null,null,"The amount of renewable energy supplied",null,null,null,"[GWh]",{"$f":"IF(H81>0,(H79*H80)*(1-1/H81),0)","v":0},0,0,0,0,0,0,0,0,0,0,0,0,0,0,0,0,0,0,0,0,0,0,0,0,0,0,0,0,0,0]
[null,"Air-Water"]
[null,null,"Capacity of heat pump installed",null,null,null,"[GW]",0,0,0,0,0,0,0,0,0,0,0,0,0,0,0,0,0,0,0,0,0,0,0,0,0,0,0,0,0,0,0]
[null,null,"of which SPF is above the minimum threshold",null,null,null,"[GW]",0,0,0,0,0,0,0,0,0,0,0,0,0,0,0,0,0,0,0,0,0,0,0,0,0,0,0,0,0,0,0]
[null,null,"Equivalent full load hours of operation",null,null,null,"[h]",1640,1640,1640,1640,1640,1640,1640,1640,1640,1640,1640,1640,1640,1640,1640,1640,1640,1640,1640,1640,1640,1640,1640,1640,1640,1640,1640,1640,1640,1640,1640]
[null,null,"Estimated average SPF",null,null,null,null,2.6,2.6,2.6,2.6,2.6,2.6,2.6,2.6,2.6,2.6,2.6,2.6,2.6,2.6,2.6,2.6,2.6,2.6,2.6,2.6,2.6,2.6,2.6,2.6,2.6,2.6,2.6,2.6,2.6,2.6,2.6]
[null,null,"The amount of renewable energy supplied",null,null,null,"[GWh]",{"$f":"IF(H87>0,(H85*H86)*(1-1/H87),0)","v":0},0,0,0,0,0,0,0,0,0,0,0,0,0,0,0,0,0,0,0,0,0,0,0,0,0,0,0,0,0,0]
[null,"Air-Air (reversible)"]
[null,null,"Capacity of heat pump installed",null,null,null,"[GW]",0,0,0,0,0,0,0,0,0,0,0,0,0,0,0,0,0,0,0,0,0,0,0,0,0,0,0,0,0,0,0]
[null,null,"of which SPF is above the minimum threshold",null,null,null,"[GW]",0,0,0,0,0,0,0,0,0,0,0,0,0,0,0,0,0,0,0,0,0,0,0,0,0,0,0,0,0,0,0]
[null,null,"Equivalent full load hours of operation",null,null,null,"[h]",710,710,710,710,710,710,710,710,710,710,710,710,710,710,710,710,710,710,710,710,710,710,710,710,710,710,710,710,710,710,710]
[null,null,"Estimated average SPF",null,null,null,null,2.6,2.6,2.6,2.6,2.6,2.6,2.6,2.6,2.6,2.6,2.6,2.6,2.6,2.6,2.6,2.6,2.6,2.6,2.6,2.6,2.6,2.6,2.6,2.6,2.6,2.6,2.6,2.6,2.6,2.6,2.6]
[null,null,"The amount of renewable energy supplied",null,null,null,"[GWh]",{"$f":"IF(H93>0,(H91*H92)*(1-1/H93),0)","v":0},0,0,0,0,0,0,0,0,0,0,0,0,0,0,0,0,0,0,0,0,0,0,0,0,0,0,0,0,0,0]
[null,"Air-Water (reversible)"]
[null,null,"Capacity of heat pump installed",null,null,null,"[GW]",0,0,0,0,0,0,0,0,0,0,0,0,0,0,0,0,0,0,0,0,0,0,0,0,0,0,0,0,0,0,0]
[null,null,"of which SPF is above the minimum threshold",null,null,null,"[GW]",0,0,0,0,0,0,0,0,0,0,0,0,0,0,0,0,0,0,0,0,0,0,0,0,0,0,0,0,0,0,0]
[null,null,"Equivalent full load hours of operation",null,null,null,"[h]",660,660,660,660,660,660,660,660,660,660,660,660,660,660,660,660,660,660,660,660,660,660,660,660,660,660,660,660,660,660,660]
[null,null,"Estimated average SPF",null,null,null,null,2.6,2.6,2.6,2.6,2.6,2.6,2.6,2.6,2.6,2.6,2.6,2.6,2.6,2.6,2.6,2.6,2.6,2.6,2.6,2.6,2.6,2.6,2.6,2.6,2.6,2.6,2.6,2.6,2.6,2.6,2.6]
[null,null,"The amount of renewable energy supplied",null,null,null,"[GWh]",{"$f":"IF(H99>0,(H97*H98)*(1-1/H99),0)","v":0},0,0,0,0,0,0,0,0,0,0,0,0,0,0,0,0,0,0,0,0,0,0,0,0,0,0,0,0,0,0]
[null,"Exhaust Air-Air"]
[null,null,"Capacity of heat pump installed",null,null,null,"[GW]",0,0,0,0,0,0,0,0,0,0,0,0,0,0,0,0,0,0,0,0,0,0,0,0,0,0,0,0,0,0,0]
[null,null,"of which SPF is above the minimum threshold",null,null,null,"[GW]",0,0,0,0,0,0,0,0,0,0,0,0,0,0,0,0,0,0,0,0,0,0,0,0,0,0,0,0,0,0,0]
[null,null,"Equivalent full load hours of operation",null,null,null,"[h]",660,660,660,660,660,660,660,660,660,660,660,660,660,660,660,660,660,660,660,660,660,660,660,660,660,660,660,660,660,660,660]
[null,null,"Estimated average SPF",null,null,null,null,2.6,2.6,2.6,2.6,2.6,2.6,2.6,2.6,2.6,2.6,2.6,2.6,2.6,2.6,2.6,2.6,2.6,2.6,2.6,2.6,2.6,2.6,2.6,2.6,2.6,2.6,2.6,2.6,2.6,2.6,2.6]
[null,null,"The amount of renewable energy supplied",null,null,null,"[GWh]",{"$f":"IF(H105>0,(H103*H104)*(1-1/H105),0)","v":0},0,0,0,0,0,0,0,0,0,0,0,0,0,0,0,0,0,0,0,0,0,0,0,0,0,0,0,0,0,0]
[null,"Exhaust Air-Water"]
[null,null,"Capacity of heat pump installed",null,null,null,"[GW]",0,0,0,0,0,0,0,0,0,0,0,0,0,0,0,0,0,0,0,0,0,0,0,0,0,0,0,0,0,0,0]
[null,null,"of which SPF is above the minimum threshold",null,null,null,"[GW]",0,0,0,0,0,0,0,0,0,0,0,0,0,0,0,0,0,0,0,0,0,0,0,0,0,0,0,0,0,0,0]
[null,null,"Equivalent full load hours of operation",null,null,null,"[h]",600,600,600,600,600,600,600,600,600,600,600,600,600,600,600,600,600,600,600,600,600,600,600,600,600,600,600,600,600,600,600]
[null,null,"Estimated average SPF",null,null,null,null,2.6,2.6,2.6,2.6,2.6,2.6,2.6,2.6,2.6,2.6,2.6,2.6,2.6,2.6,2.6,2.6,2.6,2.6,2.6,2.6,2.6,2.6,2.6,2.6,2.6,2.6,2.6,2.6,2.6,2.6,2.6]
[null,null,"The amount of renewable energy supplied",null,null,null,"[GWh]",{"$f":"IF(H111>0,(H109*H110)*(1-1/H111),0)","v":0},0,0,0,0,0,0,0,0,0,0,0,0,0,0,0,0,0,0,0,0,0,0,0,0,0,0,0,0,0,0]
["Geothermal energy",null,null,null,null,null,null,{"$f":"SUM(H119,H125)","v":0},0,0,0,0,0,0,0,0,0,0,0,0,0,0,0,0,0,0,0,0,0,0,0,0,0,0,0,0,0,{"$f":"SUM(AL119,AL125)","v":0}]
[null,"Ground-Air"]
[null,null,"Capacity of heat pump installed",null,null,null,"[GW]",0,0,0,0,0,0,0,0,0,0,0,0,0,0,0,0,0,0,0,0,0,0,0,0,0,0,0,0,0,0,0]
[null,null,"of which SPF is above the minimum threshold",null,null,null,"[GW]",0,0,0,0,0,0,0,0,0,0,0,0,0,0,0,0,0,0,0,0,0,0,0,0,0,0,0,0,0,0,0]
[null,null,"Equivalent full load hours of operation",null,null,null,"[h]",2070,2070,2070,2070,2070,2070,2070,2070,2070,2070,2070,2070,2070,2070,2070,2070,2070,2070,2070,2070,2070,2070,2070,2070,2070,2070,2070,2070,2070,2070,2070]
[null,null,"Estimated average SPF",null,null,null,null,3.2,3.2,3.2,3.2,3.2,3.2,3.2,3.2,3.2,3.2,3.2,3.2,3.2,3.2,3.2,3.2,3.2,3.2,3.2,3.2,3.2,3.2,3.2,3.2,3.2,3.2,3.2,3.2,3.2,3.2,3.2]
[null,null,"The amount of renewable energy supplied",null,null,null,"[GWh]",{"$f":"IF(H118>0,(H116*H117)*(1-1/H118),0)","v":0},0,0,0,0,0,0,0,0,0,0,0,0,0,0,0,0,0,0,0,0,0,0,0,0,0,0,0,0,0,0]
[null,"Ground-Water"]
[null,null,"Capacity of heat pump installed",null,null,null,"[GW]",0,0,0,0,0,0,0,0,0,0,0,0,0,0,0,0,0,0,0,0,0,0,0,0,0,0,0,0,0,0,0]
[null,null,"of which SPF is above the minimum threshold",null,null,null,"[GW]",0,0,0,0,0,0,0,0,0,0,0,0,0,0,0,0,0,0,0,0,0,0,0,0,0,0,0,0,0,0,0]
[null,null,"Equivalent full load hours of operation",null,null,null,"[h]",2070,2070,2070,2070,2070,2070,2070,2070,2070,2070,2070,2070,2070,2070,2070,2070,2070,2070,2070,2070,2070,2070,2070,2070,2070,2070,2070,2070,2070,2070,2070]
[null,null,"Estimated average SPF",null,null,null,null,3.5,3.5,3.5,3.5,3.5,3.5,3.5,3.5,3.5,3.5,3.5,3.5,3.5,3.5,3.5,3.5,3.5,3.5,3.5,3.5,3.5,3.5,3.5,3.5,3.5,3.5,3.5,3.5,3.5,3.5,3.5]
[null,null,"The amount of renewable energy supplied",null,null,null,"[GWh]",{"$f":"IF(H124>0,(H122*H123)*(1-1/H124),0)","v":0},0,0,0,0,0,0,0,0,0,0,0,0,0,0,0,0,0,0,0,0,0,0,0,0,0,0,0,0,0,0]
["Hydrothermal heat",null,null,null,null,null,null,{"$f":"SUM(H132,H138)","v":0},0,0,0,0,0,0,0,0,0,0,0,0,0,0,0,0,0,0,0,0,0,0,0,0,0,0,0,0,0,{"$f":"SUM(AL132,AL138)","v":0}]
[null,"Water-Air"]
[null,null,"Capacity of heat pump installed",null,null,null,"[GW]",0,0,0,0,0,0,0,0,0,0,0,0,0,0,0,0,0,0,0,0,0,0,0,0,0,0,0,0,0,0,0]
[null,null,"of which SPF is above the minimum threshold",null,null,null,"[GW]",0,0,0,0,0,0,0,0,0,0,0,0,0,0,0,0,0,0,0,0,0,0,0,0,0,0,0,0,0,0,0]
[null,null,"Equivalent full load hours of operation",null,null,null,"[h]",2070,2070,2070,2070,2070,2070,2070,2070,2070,2070,2070,2070,2070,2070,2070,2070,2070,2070,2070,2070,2070,2070,2070,2070,2070,2070,2070,2070,2070,2070,2070]
[null,null,"Estimated average SPF",null,null,null,null,3.2,3.2,3.2,3.2,3.2,3.2,3.2,3.2,3.2,3.2,3.2,3.2,3.2,3.2,3.2,3.2,3.2,3.2,3.2,3.2,3.2,3.2,3.2,3.2,3.2,3.2,3.2,3.2,3.2,3.2,3.2]
[null,null,"The amount of renewable energy supplied",null,null,null,"[GWh]",{"$f":"IF(H131>0,(H129*H130)*(1-1/H131),0)","v":0},0,0,0,0,0,0,0,0,0,0,0,0,0,0,0,0,0,0,0,0,0,0,0,0,0,0,0,0,0,0]
[null,"Water-Water"]
[null,null,"Capacity of heat pump installed",null,null,null,"[GW]",0,0,0,0,0,0,0,0,0,0,0,0,0,0,0,0,0,0,0,0,0,0,0,0,0,0,0,0,0,0,0]
[null,null,"of which SPF is above the minimum threshold",null,null,null,"[GW]",0,0,0,0,0,0,0,0,0,0,0,0,0,0,0,0,0,0,0,0,0,0,0,0,0,0,0,0,0,0,0]
[null,null,"Equivalent full load hours of operation",null,null,null,"[h]",2070,2070,2070,2070,2070,2070,2070,2070,2070,2070,2070,2070,2070,2070,2070,2070,2070,2070,2070,2070,2070,2070,2070,2070,2070,2070,2070,2070,2070,2070,2070]
[null,null,"Estimated average SPF",null,null,null,null,3.5,3.5,3.5,3.5,3.5,3.5,3.5,3.5,3.5,3.5,3.5,3.5,3.5,3.5,3.5,3.5,3.5,3.5,3.5,3.5,3.5,3.5,3.5,3.5,3.5,3.5,3.5,3.5,3.5,3.5,3.5]
[null,null,"The amount of renewable energy supplied",null,null,null,"[GWh]",{"$f":"IF(H137>0,(H135*H136)*(1-1/H137),0)","v":0},0,0,0,0,0,0,0,0,0,0,0,0,0,0,0,0,0,0,0,0,0,0,0,0,0,0,0,0,0,0]
[]
["ELECTRICALLY DRIVEN HEAT PUMPS in WARMER CLIMATE"]
["Aerothermal energy",null,null,null,null,null,null,{"$f":"SUM(H147,H153,H159,H165,H171,H177)","v":0},0,0,0,0,0,0,0,0,0,0,0,0,0,0,0,0,0,0,0,0,0,0,0,0,0,0,0,0,0,{"$f":"SUM(AL147,AL153,AL159,AL165,AL171,AL177)","v":0}]
[null,"Air-Air"]
[null,null,"Capacity of heat pump installed",null,null,null,"[GW]",0,0,0,0,0,0,0,0,0,0,0,0,0,0,0,0,0,0,0,0,0,0,0,0,0,0,0,0,0,0,0]
[null,null,"of which SPF is above the minimum threshold",null,null,null,"[GW]",0,0,0,0,0,0,0,0,0,0,0,0,0,0,0,0,0,0,0,0,0,0,0,0,0,0,0,0,0,0,0]
[null,null,"Equivalent full load hours of operation",null,null,null,"[h]",1200,1200,1200,1200,1200,1200,1200,1200,1200,1200,1200,1200,1200,1200,1200,1200,1200,1200,1200,1200,1200,1200,1200,1200,1200,1200,1200,1200,1200,1200,1200]
[null,null,"Estimated average SPF",null,null,null,null,2.7,2.7,2.7,2.7,2.7,2.7,2.7,2.7,2.7,2.7,2.7,2.7,2.7,2.7,2.7,2.7,2.7,2.7,2.7,2.7,2.7,2.7,2.7,2.7,2.7,2.7,2.7,2.7,2.7,2.7,2.7]
[null,null,"The amount of renewable energy supplied",null,null,null,"[GWh]",{"$f":"IF(H146>0,(H144*H145)*(1-1/H146),0)","v":0},0,0,0,0,0,0,0,0,0,0,0,0,0,0,0,0,0,0,0,0,0,0,0,0,0,0,0,0,0,0]
[null,"Air-Water"]
[null,null,"Capacity of heat pump installed",null,null,null,"[GW]",0,0,0,0,0,0,0,0,0,0,0,0,0,0,0,0,0,0,0,0,0,0,0,0,0,0,0,0,0,0,0]
[null,null,"of which SPF is above the minimum threshold",null,null,null,"[GW]",0,0,0,0,0,0,0,0,0,0,0,0,0,0,0,0,0,0,0,0,0,0,0,0,0,0,0,0,0,0,0]
[null,null,"Equivalent full load hours of operation",null,null,null,"[h]",1170,1170,1170,1170,1170,1170,1170,1170,1170,1170,1170,1170,1170,1170,1170,1170,1170,1170,1170,1170,1170,1170,1170,1170,1170,1170,1170,1170,1170,1170,1170]
[null,null,"Estimated average SPF",null,null,null,null,2.7,2.7,2.7,2.7,2.7,2.7,2.7,2.7,2.7,2.7,2.7,2.7,2.7,2.7,2.7,2.7,2.7,2.7,2.7,2.7,2.7,2.7,2.7,2.7,2.7,2.7,2.7,2.7,2.7,2.7,2.7]
[null,null,"The amount of renewable energy supplied",null,null,null,"[GWh]",{"$f":"IF(H152>0,(H150*H151)*(1-1/H152),0)","v":0},0,0,0,0,0,0,0,0,0,0,0,0,0,0,0,0,0,0,0,0,0,0,0,0,0,0,0,0,0,0]
[null,"Air-Air (reversible)"]
[null,null,"Capacity of heat pump installed",null,null,null,"[GW]",0,0,0,0,0,0,0,0,0,0,0,0,0,0,0,0,0,0,0,0,0,0,0,0,0,0,0,0,0,0,0]
[null,null,"of which SPF is above the minimum threshold",null,null,null,"[GW]",0,0,0,0,0,0,0,0,0,0,0,0,0,0,0,0,0,0,0,0,0,0,0,0,0,0,0,0,0,0,0]
[null,null,"Equivalent full load hours of operation",null,null,null,"[h]",120,120,120,120,120,120,120,120,120,120,120,120,120,120,120,120,120,120,120,120,120,120,120,120,120,120,120,120,120,120,120]
[null,null,"Estimated average SPF",null,null,null,null,2.7,2.7,2.7,2.7,2.7,2.7,2.7,2.7,2.7,2.7,2.7,2.7,2.7,2.7,2.7,2.7,2.7,2.7,2.7,2.7,2.7,2.7,2.7,2.7,2.7,2.7,2.7,2.7,2.7,2.7,2.7]
[null,null,"The amount of renewable energy supplied",null,null,null,"[GWh]",{"$f":"IF(H158>0,(H156*H157)*(1-1/H158),0)","v":0},0,0,0,0,0,0,0,0,0,0,0,0,0,0,0,0,0,0,0,0,0,0,0,0,0,0,0,0,0,0]
[null,"Air-Water (reversible)"]
[null,null,"Capacity of heat pump installed",null,null,null,"[GW]",0,0,0,0,0,0,0,0,0,0,0,0,0,0,0,0,0,0,0,0,0,0,0,0,0,0,0,0,0,0,0]
[null,null,"of which SPF is above the minimum threshold",null,null,null,"[GW]",0,0,0,0,0,0,0,0,0,0,0,0,0,0,0,0,0,0,0,0,0,0,0,0,0,0,0,0,0,0,0]
[null,null,"Equivalent full load hours of operation",null,null,null,"[h]",120,120,120,120,120,120,120,120,120,120,120,120,120,120,120,120,120,120,120,120,120,120,120,120,120,120,120,120,120,120,120]
[null,null,"Estimated average SPF",null,null,null,null,2.7,2.7,2.7,2.7,2.7,2.7,2.7,2.7,2.7,2.7,2.7,2.7,2.7,2.7,2.7,2.7,2.7,2.7,2.7,2.7,2.7,2.7,2.7,2.7,2.7,2.7,2.7,2.7,2.7,2.7,2.7]
[null,null,"The amount of renewable energy supplied",null,null,null,"[GWh]",{"$f":"IF(H164>0,(H162*H163)*(1-1/H164),0)","v":0},0,0,0,0,0,0,0,0,0,0,0,0,0,0,0,0,0,0,0,0,0,0,0,0,0,0,0,0,0,0]
[null,"Exhaust Air-Air"]
[null,null,"Capacity of heat pump installed",null,null,null,"[GW]",0,0,0,0,0,0,0,0,0,0,0,0,0,0,0,0,0,0,0,0,0,0,0,0,0,0,0,0,0,0,0]
[null,null,"of which SPF is above the minimum threshold",null,null,null,"[GW]",0,0,0,0,0,0,0,0,0,0,0,0,0,0,0,0,0,0,0,0,0,0,0,0,0,0,0,0,0,0,0]
[null,null,"Equivalent full load hours of operation",null,null,null,"[h]",760,760,760,760,760,760,760,760,760,760,760,760,760,760,760,760,760,760,760,760,760,760,760,760,760,760,760,760,760,760,760]
[null,null,"Estimated average SPF",null,null,null,null,2.7,2.7,2.7,2.7,2.7,2.7,2.7,2.7,2.7,2.7,2.7,2.7,2.7,2.7,2.7,2.7,2.7,2.7,2.7,2.7,2.7,2.7,2.7,2.7,2.7,2.7,2.7,2.7,2.7,2.7,2.7]
[null,null,"The amount of renewable energy supplied",null,null,null,"[GWh]",{"$f":"IF(H170>0,(H168*H169)*(1-1/H170),0)","v":0},0,0,0,0,0,0,0,0,0,0,0,0,0,0,0,0,0,0,0,0,0,0,0,0,0,0,0,0,0,0]
[null,"Exhaust Air-Water"]
[null,null,"Capacity of heat pump installed",null,null,null,"[GW]",0,0,0,0,0,0,0,0,0,0,0,0,0,0,0,0,0,0,0,0,0,0,0,0,0,0,0,0,0,0,0]
[null,null,"of which SPF is above the minimum threshold",null,null,null,"[GW]",0,0,0,0,0,0,0,0,0,0,0,0,0,0,0,0,0,0,0,0,0,0,0,0,0,0,0,0,0,0,0]
[null,null,"Equivalent full load hours of operation",null,null,null,"[h]",760,760,760,760,760,760,760,760,760,760,760,760,760,760,760,760,760,760,760,760,760,760,760,760,760,760,760,760,760,760,760]
[null,null,"Estimated average SPF",null,null,null,null,2.7,2.7,2.7,2.7,2.7,2.7,2.7,2.7,2.7,2.7,2.7,2.7,2.7,2.7,2.7,2.7,2.7,2.7,2.7,2.7,2.7,2.7,2.7,2.7,2.7,2.7,2.7,2.7,2.7,2.7,2.7]
[null,null,"The amount of renewable energy supplied",null,null,null,"[GWh]",{"$f":"IF(H176>0,(H174*H175)*(1-1/H176),0)","v":0},0,0,0,0,0,0,0,0,0,0,0,0,0,0,0,0,0,0,0,0,0,0,0,0,0,0,0,0,0,0]
["Geothermal energy",null,null,null,null,null,null,{"$f":"SUM(H184,H190)","v":0},0,0,0,0,0,0,0,0,0,0,0,0,0,0,0,0,0,0,0,0,0,0,0,0,0,0,0,0,0,{"$f":"SUM(AL184,AL190)","v":0}]
[null,"Ground-Air"]
[null,null,"Capacity of heat pump installed",null,null,null,"[GW]",0,0,0,0,0,0,0,0,0,0,0,0,0,0,0,0,0,0,0,0,0,0,0,0,0,0,0,0,0,0,0]
[null,null,"of which SPF is above the minimum threshold",null,null,null,"[GW]",0,0,0,0,0,0,0,0,0,0,0,0,0,0,0,0,0,0,0,0,0,0,0,0,0,0,0,0,0,0,0]
[null,null,"Equivalent full load hours of operation",null,null,null,"[h]",1340,1340,1340,1340,1340,1340,1340,1340,1340,1340,1340,1340,1340,1340,1340,1340,1340,1340,1340,1340,1340,1340,1340,1340,1340,1340,1340,1340,1340,1340,1340]
[null,null,"Estimated average SPF",null,null,null,null,3.2,3.2,3.2,3.2,3.2,3.2,3.2,3.2,3.2,3.2,3.2,3.2,3.2,3.2,3.2,3.2,3.2,3.2,3.2,3.2,3.2,3.2,3.2,3.2,3.2,3.2,3.2,3.2,3.2,3.2,3.2]
[null,null,"The amount of renewable energy supplied",null,null,null,"[GWh]",{"$f":"IF(H183>0,(H181*H182)*(1-1/H183),0)","v":0},0,0,0,0,0,0,0,0,0,0,0,0,0,0,0,0,0,0,0,0,0,0,0,0,0,0,0,0,0,0]
[null,"Ground-Water"]
[null,null,"Capacity of heat pump installed",null,null,null,"[GW]",0,0,0,0,0,0,0,0,0,0,0,0,0,0,0,0,0,0,0,0,0,0,0,0,0,0,0,0,0,0,0]
[null,null,"of which SPF is above the minimum threshold",null,null,null,"[GW]",0,0,0,0,0,0,0,0,0,0,0,0,0,0,0,0,0,0,0,0,0,0,0,0,0,0,0,0,0,0,0]
[null,null,"Equivalent full load hours of operation",null,null,null,"[h]",1340,1340,1340,1340,1340,1340,1340,1340,1340,1340,1340,1340,1340,1340,1340,1340,1340,1340,1340,1340,1340,1340,1340,1340,1340,1340,1340,1340,1340,1340,1340]
[null,null,"Estimated average SPF",null,null,null,null,3.5,3.5,3.5,3.5,3.5,3.5,3.5,3.5,3.5,3.5,3.5,3.5,3.5,3.5,3.5,3.5,3.5,3.5,3.5,3.5,3.5,3.5,3.5,3.5,3.5,3.5,3.5,3.5,3.5,3.5,3.5]
[null,null,"The amount of renewable energy supplied",null,null,null,"[GWh]",{"$f":"IF(H189>0,(H187*H188)*(1-1/H189),0)","v":0},0,0,0,0,0,0,0,0,0,0,0,0,0,0,0,0,0,0,0,0,0,0,0,0,0,0,0,0,0,0]
["Hydrothermal heat",null,null,null,null,null,null,{"$f":"SUM(H197,H203)","v":0},0,0,0,0,0,0,0,0,0,0,0,0,0,0,0,0,0,0,0,0,0,0,0,0,0,0,0,0,0,{"$f":"SUM(AL197,AL203)","v":0}]
[null,"Water-Air"]
[null,null,"Capacity of heat pump installed",null,null,null,"[GW]",0,0,0,0,0,0,0,0,0,0,0,0,0,0,0,0,0,0,0,0,0,0,0,0,0,0,0,0,0,0,0]
[null,null,"of which SPF is above the minimum threshold",null,null,null,"[GW]",0,0,0,0,0,0,0,0,0,0,0,0,0,0,0,0,0,0,0,0,0,0,0,0,0,0,0,0,0,0,0]
[null,null,"Equivalent full load hours of operation",null,null,null,"[h]",1340,1340,1340,1340,1340,1340,1340,1340,1340,1340,1340,1340,1340,1340,1340,1340,1340,1340,1340,1340,1340,1340,1340,1340,1340,1340,1340,1340,1340,1340,1340]
[null,null,"Estimated average SPF",null,null,null,null,3.2,3.2,3.2,3.2,3.2,3.2,3.2,3.2,3.2,3.2,3.2,3.2,3.2,3.2,3.2,3.2,3.2,3.2,3.2,3.2,3.2,3.2,3.2,3.2,3.2,3.2,3.2,3.2,3.2,3.2,3.2]
[null,null,"The amount of renewable energy supplied",null,null,null,"[GWh]",{"$f":"IF(H196>0,(H194*H195)*(1-1/H196),0)","v":0},0,0,0,0,0,0,0,0,0,0,0,0,0,0,0,0,0,0,0,0,0,0,0,0,0,0,0,0,0,0]
[null,"Water-Water"]
[null,null,"Capacity of heat pump installed",null,null,null,"[GW]",0,0,0,0,0,0,0,0,0,0,0,0,0,0,0,0,0,0,0,0,0,0,0,0,0,0,0,0,0,0,0]
[null,null,"of which SPF is above the minimum threshold",null,null,null,"[GW]",0,0,0,0,0,0,0,0,0,0,0,0,0,0,0,0,0,0,0,0,0,0,0,0,0,0,0,0,0,0,0]
[null,null,"Equivalent full load hours of operation",null,null,null,"[h]",1340,1340,1340,1340,1340,1340,1340,1340,1340,1340,1340,1340,1340,1340,1340,1340,1340,1340,1340,1340,1340,1340,1340,1340,1340,1340,1340,1340,1340,1340,1340]
[null,null,"Estimated average SPF",null,null,null,null,3.5,3.5,3.5,3.5,3.5,3.5,3.5,3.5,3.5,3.5,3.5,3.5,3.5,3.5,3.5,3.5,3.5,3.5,3.5,3.5,3.5,3.5,3.5,3.5,3.5,3.5,3.5,3.5,3.5,3.5,3.5]
[null,null,"The amount of renewable energy supplied",null,null,null,"[GWh]",{"$f":"IF(H202>0,(H200*H201)*(1-1/H202),0)","v":0},0,0,0,0,0,0,0,0,0,0,0,0,0,0,0,0,0,0,0,0,0,0,0,0,0,0,0,0,0,0]
[]
["HEAT PUMPS DRIVEN BY THERMAL ENERGY in COLDER CLIMATE"]
["Aerothermal energy",null,null,null,null,null,null,{"$f":"SUM(H212,H218,H224,H230,H236,H242)","v":0},0,0,0,0,0,0,0,0,0,0,0,0,0,0,0,0,0,0,0,0,0,0,0,0,0,0,0,0,0,{"$f":"SUM(AL212,AL218,AL224,AL230,AL236,AL242)","v":0}]
[null,"Air-Air"]
[null,null,"Capacity of heat pump installed",null,null,null,"[GW]",0,0,0,0,0,0,0,0,0,0,0,0,0,0,0,0,0,0,0,0,0,0,0,0,0,0,0,0,0,0,0]
[null,null,"of which SPF is above the minimum threshold",null,null,null,"[GW]",0,0,0,0,0,0,0,0,0,0,0,0,0,0,0,0,0,0,0,0,0,0,0,0,0,0,0,0,0,0,0]
[null,null,"Equivalent full load hours of operation",null,null,null,"[h]",1970,1970,1970,1970,1970,1970,1970,1970,1970,1970,1970,1970,1970,1970,1970,1970,1970,1970,1970,1970,1970,1970,1970,1970,1970,1970,1970,1970,1970,1970,1970]
[null,null,"Estimated average SPF",null,null,null,null,1.1499999999999999,1.1499999999999999,1.1499999999999999,1.1499999999999999,1.1499999999999999,1.1499999999999999,1.1499999999999999,1.1499999999999999,1.1499999999999999,1.1499999999999999,1.1499999999999999,1.1499999999999999,1.1499999999999999,1.1499999999999999,1.1499999999999999,1.1499999999999999,1.1499999999999999,1.1499999999999999,1.1499999999999999,1.1499999999999999,1.1499999999999999,1.1499999999999999,1.1499999999999999,1.1499999999999999,1.1499999999999999,1.1499999999999999,1.1499999999999999,1.1499999999999999,1.1499999999999999,1.1499999999999999,1.1499999999999999]
[null,null,"The amount of renewable energy supplied",null,null,null,"[GWh]",{"$f":"IF(H211>0,(H209*H210)*(1-1/H211),0)","v":0},0,0,0,0,0,0,0,0,0,0,0,0,0,0,0,0,0,0,0,0,0,0,0,0,0,0,0,0,0,0]
[null,"Air-Water"]
[null,null,"Capacity of heat pump installed",null,null,null,"[GW]",0,0,0,0,0,0,0,0,0,0,0,0,0,0,0,0,0,0,0,0,0,0,0,0,0,0,0,0,0,0,0]
[null,null,"of which SPF is above the minimum threshold",null,null,null,"[GW]",0,0,0,0,0,0,0,0,0,0,0,0,0,0,0,0,0,0,0,0,0,0,0,0,0,0,0,0,0,0,0]
[null,null,"Equivalent full load hours of operation",null,null,null,"[h]",1710,1710,1710,1710,1710,1710,1710,1710,1710,1710,1710,1710,1710,1710,1710,1710,1710,1710,1710,1710,1710,1710,1710,1710,1710,1710,1710,1710,1710,1710,1710]
[null,null,"Estimated average SPF",null,null,null,null,1.1499999999999999,1.1499999999999999,1.1499999999999999,1.1499999999999999,1.1499999999999999,1.1499999999999999,1.1499999999999999,1.1499999999999999,1.1499999999999999,1.1499999999999999,1.1499999999999999,1.1499999999999999,1.1499999999999999,1.1499999999999999,1.1499999999999999,1.1499999999999999,1.1499999999999999,1.1499999999999999,1.1499999999999999,1.1499999999999999,1.1499999999999999,1.1499999999999999,1.1499999999999999,1.1499999999999999,1.1499999999999999,1.1499999999999999,1.1499999999999999,1.1499999999999999,1.1499999999999999,1.1499999999999999,1.1499999999999999]
[null,null,"The amount of renewable energy supplied",null,null,null,"[GWh]",{"$f":"IF(H217>0,(H215*H216)*(1-1/H217),0)","v":0},0,0,0,0,0,0,0,0,0,0,0,0,0,0,0,0,0,0,0,0,0,0,0,0,0,0,0,0,0,0]
[null,"Air-Air (reversible)"]
[null,null,"Capacity of heat pump installed",null,null,null,"[GW]",0,0,0,0,0,0,0,0,0,0,0,0,0,0,0,0,0,0,0,0,0,0,0,0,0,0,0,0,0,0,0]
[null,null,"of which SPF is above the minimum threshold",null,null,null,"[GW]",0,0,0,0,0,0,0,0,0,0,0,0,0,0,0,0,0,0,0,0,0,0,0,0,0,0,0,0,0,0,0]
[null,null,"Equivalent full load hours of operation",null,null,null,"[h]",1970,1970,1970,1970,1970,1970,1970,1970,1970,1970,1970,1970,1970,1970,1970,1970,1970,1970,1970,1970,1970,1970,1970,1970,1970,1970,1970,1970,1970,1970,1970]
[null,null,"Estimated average SPF",null,null,null,null,1.1499999999999999,1.1499999999999999,1.1499999999999999,1.1499999999999999,1.1499999999999999,1.1499999999999999,1.1499999999999999,1.1499999999999999,1.1499999999999999,1.1499999999999999,1.1499999999999999,1.1499999999999999,1.1499999999999999,1.1499999999999999,1.1499999999999999,1.1499999999999999,1.1499999999999999,1.1499999999999999,1.1499999999999999,1.1499999999999999,1.1499999999999999,1.1499999999999999,1.1499999999999999,1.1499999999999999,1.1499999999999999,1.1499999999999999,1.1499999999999999,1.1499999999999999,1.1499999999999999,1.1499999999999999,1.1499999999999999]
[null,null,"The amount of renewable energy supplied",null,null,null,"[GWh]",{"$f":"IF(H223>0,(H221*H222)*(1-1/H223),0)","v":0},0,0,0,0,0,0,0,0,0,0,0,0,0,0,0,0,0,0,0,0,0,0,0,0,0,0,0,0,0,0]
[null,"Air-Water (reversible)"]
[null,null,"Capacity of heat pump installed",null,null,null,"[GW]",0,0,0,0,0,0,0,0,0,0,0,0,0,0,0,0,0,0,0,0,0,0,0,0,0,0,0,0,0,0,0]
[null,null,"of which SPF is above the minimum threshold",null,null,null,"[GW]",0,0,0,0,0,0,0,0,0,0,0,0,0,0,0,0,0,0,0,0,0,0,0,0,0,0,0,0,0,0,0]
[null,null,"Equivalent full load hours of operation",null,null,null,"[h]",1710,1710,1710,1710,1710,1710,1710,1710,1710,1710,1710,1710,1710,1710,1710,1710,1710,1710,1710,1710,1710,1710,1710,1710,1710,1710,1710,1710,1710,1710,1710]
[null,null,"Estimated average SPF",null,null,null,null,1.1499999999999999,1.1499999999999999,1.1499999999999999,1.1499999999999999,1.1499999999999999,1.1499999999999999,1.1499999999999999,1.1499999999999999,1.1499999999999999,1.1499999999999999,1.1499999999999999,1.1499999999999999,1.1499999999999999,1.1499999999999999,1.1499999999999999,1.1499999999999999,1.1499999999999999,1.1499999999999999,1.1499999999999999,1.1499999999999999,1.1499999999999999,1.1499999999999999,1.1499999999999999,1.1499999999999999,1.1499999999999999,1.1499999999999999,1.1499999999999999,1.1499999999999999,1.1499999999999999,1.1499999999999999,1.1499999999999999]
[null,null,"The amount of renewable energy supplied",null,null,null,"[GWh]",{"$f":"IF(H229>0,(H227*H228)*(1-1/H229),0)","v":0},0,0,0,0,0,0,0,0,0,0,0,0,0,0,0,0,0,0,0,0,0,0,0,0,0,0,0,0,0,0]
[null,"Exhaust Air-Air"]
[null,null,"Capacity of heat pump installed",null,null,null,"[GW]",0,0,0,0,0,0,0,0,0,0,0,0,0,0,0,0,0,0,0,0,0,0,0,0,0,0,0,0,0,0,0]
[null,null,"of which SPF is above the minimum threshold",null,null,null,"[GW]",0,0,0,0,0,0,0,0,0,0,0,0,0,0,0,0,0,0,0,0,0,0,0,0,0,0,0,0,0,0,0]
[null,null,"Equivalent full load hours of operation",null,null,null,"[h]",600,600,600,600,600,600,600,600,600,600,600,600,600,600,600,600,600,600,600,600,600,600,600,600,600,600,600,600,600,600,600]
[null,null,"Estimated average SPF",null,null,null,null,1.1499999999999999,1.1499999999999999,1.1499999999999999,1.1499999999999999,1.1499999999999999,1.1499999999999999,1.1499999999999999,1.1499999999999999,1.1499999999999999,1.1499999999999999,1.1499999999999999,1.1499999999999999,1.1499999999999999,1.1499999999999999,1.1499999999999999,1.1499999999999999,1.1499999999999999,1.1499999999999999,1.1499999999999999,1.1499999999999999,1.1499999999999999,1.1499999999999999,1.1499999999999999,1.1499999999999999,1.1499999999999999,1.1499999999999999,1.1499999999999999,1.1499999999999999,1.1499999999999999,1.1499999999999999,1.1499999999999999]
[null,null,"The amount of renewable energy supplied",null,null,null,"[GWh]",{"$f":"IF(H235>0,(H233*H234)*(1-1/H235),0)","v":0},0,0,0,0,0,0,0,0,0,0,0,0,0,0,0,0,0,0,0,0,0,0,0,0,0,0,0,0,0,0]
[null,"Exhaust Air-Water"]
[null,null,"Capacity of heat pump installed",null,null,null,"[GW]",0,0,0,0,0,0,0,0,0,0,0,0,0,0,0,0,0,0,0,0,0,0,0,0,0,0,0,0,0,0,0]
[null,null,"of which SPF is above the minimum threshold",null,null,null,"[GW]",0,0,0,0,0,0,0,0,0,0,0,0,0,0,0,0,0,0,0,0,0,0,0,0,0,0,0,0,0,0,0]
[null,null,"Equivalent full load hours of operation",null,null,null,"[h]",600,600,600,600,600,600,600,600,600,600,600,600,600,600,600,600,600,600,600,600,600,600,600,600,600,600,600,600,600,600,600]
[null,null,"Estimated average SPF",null,null,null,null,1.1499999999999999,1.1499999999999999,1.1499999999999999,1.1499999999999999,1.1499999999999999,1.1499999999999999,1.1499999999999999,1.1499999999999999,1.1499999999999999,1.1499999999999999,1.1499999999999999,1.1499999999999999,1.1499999999999999,1.1499999999999999,1.1499999999999999,1.1499999999999999,1.1499999999999999,1.1499999999999999,1.1499999999999999,1.1499999999999999,1.1499999999999999,1.1499999999999999,1.1499999999999999,1.1499999999999999,1.1499999999999999,1.1499999999999999,1.1499999999999999,1.1499999999999999,1.1499999999999999,1.1499999999999999,1.1499999999999999]
[null,null,"The amount of renewable energy supplied",null,null,null,"[GWh]",{"$f":"IF(H241>0,(H239*H240)*(1-1/H241),0)","v":0},0,0,0,0,0,0,0,0,0,0,0,0,0,0,0,0,0,0,0,0,0,0,0,0,0,0,0,0,0,0]
["Geothermal energy",null,null,null,null,null,null,{"$f":"SUM(H249,H255)","v":0},0,0,0,0,0,0,0,0,0,0,0,0,0,0,0,0,0,0,0,0,0,0,0,0,0,0,0,0,0,{"$f":"SUM(AL249,AL255)","v":0}]
[null,"Ground-Air"]
[null,null,"Capacity of heat pump installed",null,null,null,"[GW]",0,0,0,0,0,0,0,0,0,0,0,0,0,0,0,0,0,0,0,0,0,0,0,0,0,0,0,0,0,0,0]
[null,null,"of which SPF is above the minimum threshold",null,null,null,"[GW]",0,0,0,0,0,0,0,0,0,0,0,0,0,0,0,0,0,0,0,0,0,0,0,0,0,0,0,0,0,0,0]
[null,null,"Equivalent full load hours of operation",null,null,null,"[h]",2470,2470,2470,2470,2470,2470,2470,2470,2470,2470,2470,2470,2470,2470,2470,2470,2470,2470,2470,2470,2470,2470,2470,2470,2470,2470,2470,2470,2470,2470,2470]
[null,null,"Estimated average SPF",null,null,null,null,1.4,1.4,1.4,1.4,1.4,1.4,1.4,1.4,1.4,1.4,1.4,1.4,1.4,1.4,1.4,1.4,1.4,1.4,1.4,1.4,1.4,1.4,1.4,1.4,1.4,1.4,1.4,1.4,1.4,1.4,1.4]
[null,null,"The amount of renewable energy supplied",null,null,null,"[GWh]",{"$f":"IF(H248>0,(H246*H247)*(1-1/H248),0)","v":0},0,0,0,0,0,0,0,0,0,0,0,0,0,0,0,0,0,0,0,0,0,0,0,0,0,0,0,0,0,0]
[null,"Ground-Water"]
[null,null,"Capacity of heat pump installed",null,null,null,"[GW]",0,0,0,0,0,0,0,0,0,0,0,0,0,0,0,0,0,0,0,0,0,0,0,0,0,0,0,0,0,0,0]
[null,null,"of which SPF is above the minimum threshold",null,null,null,"[GW]",0,0,0,0,0,0,0,0,0,0,0,0,0,0,0,0,0,0,0,0,0,0,0,0,0,0,0,0,0,0,0]
[null,null,"Equivalent full load hours of operation",null,null,null,"[h]",2470,2470,2470,2470,2470,2470,2470,2470,2470,2470,2470,2470,2470,2470,2470,2470,2470,2470,2470,2470,2470,2470,2470,2470,2470,2470,2470,2470,2470,2470,2470]
[null,null,"Estimated average SPF",null,null,null,null,1.6,1.6,1.6,1.6,1.6,1.6,1.6,1.6,1.6,1.6,1.6,1.6,1.6,1.6,1.6,1.6,1.6,1.6,1.6,1.6,1.6,1.6,1.6,1.6,1.6,1.6,1.6,1.6,1.6,1.6,1.6]
[null,null,"The amount of renewable energy supplied",null,null,null,"[GWh]",{"$f":"IF(H254>0,(H252*H253)*(1-1/H254),0)","v":0},0,0,0,0,0,0,0,0,0,0,0,0,0,0,0,0,0,0,0,0,0,0,0,0,0,0,0,0,0,0]
["Hydrothermal heat",null,null,null,null,null,null,{"$f":"SUM(H262,H268)","v":0},0,0,0,0,0,0,0,0,0,0,0,0,0,0,0,0,0,0,0,0,0,0,0,0,0,0,0,0,0,{"$f":"SUM(AL262,AL268)","v":0}]
[null,"Water-Air"]
[null,null,"Capacity of heat pump installed",null,null,null,"[GW]",0,0,0,0,0,0,0,0,0,0,0,0,0,0,0,0,0,0,0,0,0,0,0,0,0,0,0,0,0,0,0]
[null,null,"of which SPF is above the minimum threshold",null,null,null,"[GW]",0,0,0,0,0,0,0,0,0,0,0,0,0,0,0,0,0,0,0,0,0,0,0,0,0,0,0,0,0,0,0]
[null,null,"Equivalent full load hours of operation",null,null,null,"[h]",2470,2470,2470,2470,2470,2470,2470,2470,2470,2470,2470,2470,2470,2470,2470,2470,2470,2470,2470,2470,2470,2470,2470,2470,2470,2470,2470,2470,2470,2470,2470]
[null,null,"Estimated average SPF",null,null,null,null,1.4,1.4,1.4,1.4,1.4,1.4,1.4,1.4,1.4,1.4,1.4,1.4,1.4,1.4,1.4,1.4,1.4,1.4,1.4,1.4,1.4,1.4,1.4,1.4,1.4,1.4,1.4,1.4,1.4,1.4,1.4]
[null,null,"The amount of renewable energy supplied",null,null,null,"[GWh]",{"$f":"IF(H261>0,(H259*H260)*(1-1/H261),0)","v":0},0,0,0,0,0,0,0,0,0,0,0,0,0,0,0,0,0,0,0,0,0,0,0,0,0,0,0,0,0,0]
[null,"Water-Water"]
[null,null,"Capacity of heat pump installed",null,null,null,"[GW]",0,0,0,0,0,0,0,0,0,0,0,0,0,0,0,0,0,0,0,0,0,0,0,0,0,0,0,0,0,0,0]
[null,null,"of which SPF is above the minimum threshold",null,null,null,"[GW]",0,0,0,0,0,0,0,0,0,0,0,0,0,0,0,0,0,0,0,0,0,0,0,0,0,0,0,0,0,0,0]
[null,null,"Equivalent full load hours of operation",null,null,null,"[h]",2470,2470,2470,2470,2470,2470,2470,2470,2470,2470,2470,2470,2470,2470,2470,2470,2470,2470,2470,2470,2470,2470,2470,2470,2470,2470,2470,2470,2470,2470,2470]
[null,null,"Estimated average SPF",null,null,null,null,1.6,1.6,1.6,1.6,1.6,1.6,1.6,1.6,1.6,1.6,1.6,1.6,1.6,1.6,1.6,1.6,1.6,1.6,1.6,1.6,1.6,1.6,1.6,1.6,1.6,1.6,1.6,1.6,1.6,1.6,1.6]
[null,null,"The amount of renewable energy supplied",null,null,null,"[GWh]",{"$f":"IF(H267>0,(H265*H266)*(1-1/H267),0)","v":0},0,0,0,0,0,0,0,0,0,0,0,0,0,0,0,0,0,0,0,0,0,0,0,0,0,0,0,0,0,0]
[]
["HEAT PUMPS DRIVEN BY THERMAL ENERGY in AVERAGE CLIMATE"]
["Aerothermal energy",null,null,null,null,null,null,{"$f":"SUM(H277,H283,H289,H295,H301,H307)","v":0},0,0,0,0,0,0,0,0,0,0,0,0,0,0,0,0,0,0,0,0,0,0,0,0,0,0,0,0,0,{"$f":"SUM(AL277,AL283,AL289,AL295,AL301,AL307)","v":0}]
[null,"Air-Air"]
[null,null,"Capacity of heat pump installed",null,null,null,"[GW]",0,0,0,0,0,0,0,0,0,0,0,0,0,0,0,0,0,0,0,0,0,0,0,0,0,0,0,0,0,0,0]
[null,null,"of which SPF is above the minimum threshold",null,null,null,"[GW]",0,0,0,0,0,0,0,0,0,0,0,0,0,0,0,0,0,0,0,0,0,0,0,0,0,0,0,0,0,0,0]
[null,null,"Equivalent full load hours of operation",null,null,null,"[h]",1770,1770,1770,1770,1770,1770,1770,1770,1770,1770,1770,1770,1770,1770,1770,1770,1770,1770,1770,1770,1770,1770,1770,1770,1770,1770,1770,1770,1770,1770,1770]
[null,null,"Estimated average SPF",null,null,null,null,1.2,1.2,1.2,1.2,1.2,1.2,1.2,1.2,1.2,1.2,1.2,1.2,1.2,1.2,1.2,1.2,1.2,1.2,1.2,1.2,1.2,1.2,1.2,1.2,1.2,1.2,1.2,1.2,1.2,1.2,1.2]
[null,null,"The amount of renewable energy supplied",null,null,null,"[GWh]",{"$f":"IF(H276>0,(H274*H275)*(1-1/H276),0)","v":0},0,0,0,0,0,0,0,0,0,0,0,0,0,0,0,0,0,0,0,0,0,0,0,0,0,0,0,0,0,0]
[null,"Air-Water"]
[null,null,"Capacity of heat pump installed",null,null,null,"[GW]",0,0,0,0,0,0,0,0,0,0,0,0,0,0,0,0,0,0,0,0,0,0,0,0,0,0,0,0,0,0,0]
[null,null,"of which SPF is above the minimum threshold",null,null,null,"[GW]",0,0,0,0,0,0,0,0,0,0,0,0,0,0,0,0,0,0,0,0,0,0,0,0,0,0,0,0,0,0,0]
[null,null,"Equivalent full load hours of operation",null,null,null,"[h]",1640,1640,1640,1640,1640,1640,1640,1640,1640,1640,1640,1640,1640,1640,1640,1640,1640,1640,1640,1640,1640,1640,1640,1640,1640,1640,1640,1640,1640,1640,1640]
[null,null,"Estimated average SPF",null,null,null,null,1.2,1.2,1.2,1.2,1.2,1.2,1.2,1.2,1.2,1.2,1.2,1.2,1.2,1.2,1.2,1.2,1.2,1.2,1.2,1.2,1.2,1.2,1.2,1.2,1.2,1.2,1.2,1.2,1.2,1.2,1.2]
[null,null,"The amount of renewable energy supplied",null,null,null,"[GWh]",{"$f":"IF(H282>0,(H280*H281)*(1-1/H282),0)","v":0},0,0,0,0,0,0,0,0,0,0,0,0,0,0,0,0,0,0,0,0,0,0,0,0,0,0,0,0,0,0]
[null,"Air-Air (reversible)"]
[null,null,"Capacity of heat pump installed",null,null,null,"[GW]",0,0,0,0,0,0,0,0,0,0,0,0,0,0,0,0,0,0,0,0,0,0,0,0,0,0,0,0,0,0,0]
[null,null,"of which SPF is above the minimum threshold",null,null,null,"[GW]",0,0,0,0,0,0,0,0,0,0,0,0,0,0,0,0,0,0,0,0,0,0,0,0,0,0,0,0,0,0,0]
[null,null,"Equivalent full load hours of operation",null,null,null,"[h]",710,710,710,710,710,710,710,710,710,710,710,710,710,710,710,710,710,710,710,710,710,710,710,710,710,710,710,710,710,710,710]
[null,null,"Estimated average SPF",null,null,null,null,1.2,1.2,1.2,1.2,1.2,1.2,1.2,1.2,1.2,1.2,1.2,1.2,1.2,1.2,1.2,1.2,1.2,1.2,1.2,1.2,1.2,1.2,1.2,1.2,1.2,1.2,1.2,1.2,1.2,1.2,1.2]
[null,null,"The amount of renewable energy supplied",null,null,null,"[GWh]",{"$f":"IF(H288>0,(H286*H287)*(1-1/H288),0)","v":0},0,0,0,0,0,0,0,0,0,0,0,0,0,0,0,0,0,0,0,0,0,0,0,0,0,0,0,0,0,0]
[null,"Air-Water (reversible)"]
[null,null,"Capacity of heat pump installed",null,null,null,"[GW]",0,0,0,0,0,0,0,0,0,0,0,0,0,0,0,0,0,0,0,0,0,0,0,0,0,0,0,0,0,0,0]
[null,null,"of which SPF is above the minimum threshold",null,null,null,"[GW]",0,0,0,0,0,0,0,0,0,0,0,0,0,0,0,0,0,0,0,0,0,0,0,0,0,0,0,0,0,0,0]
[null,null,"Equivalent full load hours of operation",null,null,null,"[h]",660,660,660,660,660,660,660,660,660,660,660,660,660,660,660,660,660,660,660,660,660,660,660,660,660,660,660,660,660,660,660]
[null,null,"Estimated average SPF",null,null,null,null,1.2,1.2,1.2,1.2,1.2,1.2,1.2,1.2,1.2,1.2,1.2,1.2,1.2,1.2,1.2,1.2,1.2,1.2,1.2,1.2,1.2,1.2,1.2,1.2,1.2,1.2,1.2,1.2,1.2,1.2,1.2]
[null,null,"The amount of renewable energy supplied",null,null,null,"[GWh]",{"$f":"IF(H294>0,(H292*H293)*(1-1/H294),0)","v":0},0,0,0,0,0,0,0,0,0,0,0,0,0,0,0,0,0,0,0,0,0,0,0,0,0,0,0,0,0,0]
[null,"Exhaust Air-Air"]
[null,null,"Capacity of heat pump installed",null,null,null,"[GW]",0,0,0,0,0,0,0,0,0,0,0,0,0,0,0,0,0,0,0,0,0,0,0,0,0,0,0,0,0,0,0]
[null,null,"of which SPF is above the minimum threshold",null,null,null,"[GW]",0,0,0,0,0,0,0,0,0,0,0,0,0,0,0,0,0,0,0,0,0,0,0,0,0,0,0,0,0,0,0]
[null,null,"Equivalent full load hours of operation",null,null,null,"[h]",660,660,660,660,660,660,660,660,660,660,660,660,660,660,660,660,660,660,660,660,660,660,660,660,660,660,660,660,660,660,660]
[null,null,"Estimated average SPF",null,null,null,null,1.2,1.2,1.2,1.2,1.2,1.2,1.2,1.2,1.2,1.2,1.2,1.2,1.2,1.2,1.2,1.2,1.2,1.2,1.2,1.2,1.2,1.2,1.2,1.2,1.2,1.2,1.2,1.2,1.2,1.2,1.2]
[null,null,"The amount of renewable energy supplied",null,null,null,"[GWh]",{"$f":"IF(H300>0,(H298*H299)*(1-1/H300),0)","v":0},0,0,0,0,0,0,0,0,0,0,0,0,0,0,0,0,0,0,0,0,0,0,0,0,0,0,0,0,0,0]
[null,"Exhaust Air-Water"]
[null,null,"Capacity of heat pump installed",null,null,null,"[GW]",0,0,0,0,0,0,0,0,0,0,0,0,0,0,0,0,0,0,0,0,0,0,0,0,0,0,0,0,0,0,0]
[null,null,"of which SPF is above the minimum threshold",null,null,null,"[GW]",0,0,0,0,0,0,0,0,0,0,0,0,0,0,0,0,0,0,0,0,0,0,0,0,0,0,0,0,0,0,0]
[null,null,"Equivalent full load hours of operation",null,null,null,"[h]",660,660,660,660,660,660,660,660,660,660,660,660,660,660,660,660,660,660,660,660,660,660,660,660,660,660,660,660,660,660,660]
[null,null,"Estimated average SPF",null,null,null,null,1.2,1.2,1.2,1.2,1.2,1.2,1.2,1.2,1.2,1.2,1.2,1.2,1.2,1.2,1.2,1.2,1.2,1.2,1.2,1.2,1.2,1.2,1.2,1.2,1.2,1.2,1.2,1.2,1.2,1.2,1.2]
[null,null,"The amount of renewable energy supplied",null,null,null,"[GWh]",{"$f":"IF(H306>0,(H304*H305)*(1-1/H306),0)","v":0},0,0,0,0,0,0,0,0,0,0,0,0,0,0,0,0,0,0,0,0,0,0,0,0,0,0,0,0,0,0]
["Geothermal energy",null,null,null,null,null,null,{"$f":"SUM(H314,H320)","v":0},0,0,0,0,0,0,0,0,0,0,0,0,0,0,0,0,0,0,0,0,0,0,0,0,0,0,0,0,0,{"$f":"SUM(AL314,AL320)","v":0}]
[null,"Ground-Air"]
[null,null,"Capacity of heat pump installed",null,null,null,"[GW]",0,0,0,0,0,0,0,0,0,0,0,0,0,0,0,0,0,0,0,0,0,0,0,0,0,0,0,0,0,0,0]
[null,null,"of which SPF is above the minimum threshold",null,null,null,"[GW]",0,0,0,0,0,0,0,0,0,0,0,0,0,0,0,0,0,0,0,0,0,0,0,0,0,0,0,0,0,0,0]
[null,null,"Equivalent full load hours of operation",null,null,null,"[h]",2070,2070,2070,2070,2070,2070,2070,2070,2070,2070,2070,2070,2070,2070,2070,2070,2070,2070,2070,2070,2070,2070,2070,2070,2070,2070,2070,2070,2070,2070,2070]
[null,null,"Estimated average SPF",null,null,null,null,1.4,1.4,1.4,1.4,1.4,1.4,1.4,1.4,1.4,1.4,1.4,1.4,1.4,1.4,1.4,1.4,1.4,1.4,1.4,1.4,1.4,1.4,1.4,1.4,1.4,1.4,1.4,1.4,1.4,1.4,1.4]
[null,null,"The amount of renewable energy supplied",null,null,null,"[GWh]",{"$f":"IF(H313>0,(H311*H312)*(1-1/H313),0)","v":0},0,0,0,0,0,0,0,0,0,0,0,0,0,0,0,0,0,0,0,0,0,0,0,0,0,0,0,0,0,0]
[null,"Ground-Water"]
[null,null,"Capacity of heat pump installed",null,null,null,"[GW]",0,0,0,0,0,0,0,0,0,0,0,0,0,0,0,0,0,0,0,0,0,0,0,0,0,0,0,0,0,0,0]
[null,null,"of which SPF is above the minimum threshold",null,null,null,"[GW]",0,0,0,0,0,0,0,0,0,0,0,0,0,0,0,0,0,0,0,0,0,0,0,0,0,0,0,0,0,0,0]
[null,null,"Equivalent full load hours of operation",null,null,null,"[h]",2070,2070,2070,2070,2070,2070,2070,2070,2070,2070,2070,2070,2070,2070,2070,2070,2070,2070,2070,2070,2070,2070,2070,2070,2070,2070,2070,2070,2070,2070,2070]
[null,null,"Estimated average SPF",null,null,null,null,1.6,1.6,1.6,1.6,1.6,1.6,1.6,1.6,1.6,1.6,1.6,1.6,1.6,1.6,1.6,1.6,1.6,1.6,1.6,1.6,1.6,1.6,1.6,1.6,1.6,1.6,1.6,1.6,1.6,1.6,1.6]
[null,null,"The amount of renewable energy supplied",null,null,null,"[GWh]",{"$f":"IF(H319>0,(H317*H318)*(1-1/H319),0)","v":0},0,0,0,0,0,0,0,0,0,0,0,0,0,0,0,0,0,0,0,0,0,0,0,0,0,0,0,0,0,0]
["Hydrothermal heat",null,null,null,null,null,null,{"$f":"SUM(H327,H333)","v":0},0,0,0,0,0,0,0,0,0,0,0,0,0,0,0,0,0,0,0,0,0,0,0,0,0,0,0,0,0,{"$f":"SUM(AL327,AL333)","v":0}]
[null,"Water-Air"]
[null,null,"Capacity of heat pump installed",null,null,null,"[GW]",0,0,0,0,0,0,0,0,0,0,0,0,0,0,0,0,0,0,0,0,0,0,0,0,0,0,0,0,0,0,0]
[null,null,"of which SPF is above the minimum threshold",null,null,null,"[GW]",0,0,0,0,0,0,0,0,0,0,0,0,0,0,0,0,0,0,0,0,0,0,0,0,0,0,0,0,0,0,0]
[null,null,"Equivalent full load hours of operation",null,null,null,"[h]",2070,2070,2070,2070,2070,2070,2070,2070,2070,2070,2070,2070,2070,2070,2070,2070,2070,2070,2070,2070,2070,2070,2070,2070,2070,2070,2070,2070,2070,2070,2070]
[null,null,"Estimated average SPF",null,null,null,null,1.4,1.4,1.4,1.4,1.4,1.4,1.4,1.4,1.4,1.4,1.4,1.4,1.4,1.4,1.4,1.4,1.4,1.4,1.4,1.4,1.4,1.4,1.4,1.4,1.4,1.4,1.4,1.4,1.4,1.4,1.4]
[null,null,"The amount of renewable energy supplied",null,null,null,"[GWh]",{"$f":"IF(H326>0,(H324*H325)*(1-1/H326),0)","v":0},0,0,0,0,0,0,0,0,0,0,0,0,0,0,0,0,0,0,0,0,0,0,0,0,0,0,0,0,0,0]
[null,"Water-Water"]
[null,null,"Capacity of heat pump installed",null,null,null,"[GW]",0,0,0,0,0,0,0,0,0,0,0,0,0,0,0,0,0,0,0,0,0,0,0,0,0,0,0,0,0,0,0]
[null,null,"of which SPF is above the minimum threshold",null,null,null,"[GW]",0,0,0,0,0,0,0,0,0,0,0,0,0,0,0,0,0,0,0,0,0,0,0,0,0,0,0,0,0,0,0]
[null,null,"Equivalent full load hours of operation",null,null,null,"[h]",2070,2070,2070,2070,2070,2070,2070,2070,2070,2070,2070,2070,2070,2070,2070,2070,2070,2070,2070,2070,2070,2070,2070,2070,2070,2070,2070,2070,2070,2070,2070]
[null,null,"Estimated average SPF",null,null,null,null,1.6,1.6,1.6,1.6,1.6,1.6,1.6,1.6,1.6,1.6,1.6,1.6,1.6,1.6,1.6,1.6,1.6,1.6,1.6,1.6,1.6,1.6,1.6,1.6,1.6,1.6,1.6,1.6,1.6,1.6,1.6]
[null,null,"The amount of renewable energy supplied",null,null,null,"[GWh]",{"$f":"IF(H332>0,(H330*H331)*(1-1/H332),0)","v":0},0,0,0,0,0,0,0,0,0,0,0,0,0,0,0,0,0,0,0,0,0,0,0,0,0,0,0,0,0,0]
[]
["HEAT PUMPS DRIVEN BY THERMAL ENERGY in WARMER CLIMATE"]
["Aerothermal energy",null,null,null,null,null,null,{"$f":"SUM(H342,H348,H354,H360,H366,H372)","v":0},0,0,0,0,0,0,0,0,0,0,0,0,0,0,0,0,0,0,0,0,0,0,0,0,0,0,0,0,0,{"$f":"SUM(AL342,AL348,AL354,AL360,AL366,AL372)","v":0}]
[null,"Air-Air"]
[null,null,"Capacity of heat pump installed",null,null,null,"[GW]",0,0,0,0,0,0,0,0,0,0,0,0,0,0,0,0,0,0,0,0,0,0,0,0,0,0,0,0,0,0,0]
[null,null,"of which SPF is above the minimum threshold",null,null,null,"[GW]",0,0,0,0,0,0,0,0,0,0,0,0,0,0,0,0,0,0,0,0,0,0,0,0,0,0,0,0,0,0,0]
[null,null,"Equivalent full load hours of operation",null,null,null,"[h]",1200,1200,1200,1200,1200,1200,1200,1200,1200,1200,1200,1200,1200,1200,1200,1200,1200,1200,1200,1200,1200,1200,1200,1200,1200,1200,1200,1200,1200,1200,1200]
[null,null,"Estimated average SPF",null,null,null,null,1.2,1.2,1.2,1.2,1.2,1.2,1.2,1.2,1.2,1.2,1.2,1.2,1.2,1.2,1.2,1.2,1.2,1.2,1.2,1.2,1.2,1.2,1.2,1.2,1.2,1.2,1.2,1.2,1.2,1.2,1.2]
[null,null,"The amount of renewable energy supplied",null,null,null,"[GWh]",{"$f":"IF(H341>0,(H339*H340)*(1-1/H341),0)","v":0},0,0,0,0,0,0,0,0,0,0,0,0,0,0,0,0,0,0,0,0,0,0,0,0,0,0,0,0,0,0]
[null,"Air-Water"]
[null,null,"Capacity of heat pump installed",null,null,null,"[GW]",0,0,0,0,0,0,0,0,0,0,0,0,0,0,0,0,0,0,0,0,0,0,0,0,0,0,0,0,0,0,0]
[null,null,"of which SPF is above the minimum threshold",null,null,null,"[GW]",0,0,0,0,0,0,0,0,0,0,0,0,0,0,0,0,0,0,0,0,0,0,0,0,0,0,0,0,0,0,0]
[null,null,"Equivalent full load hours of operation",null,null,null,"[h]",1170,1170,1170,1170,1170,1170,1170,1170,1170,1170,1170,1170,1170,1170,1170,1170,1170,1170,1170,1170,1170,1170,1170,1170,1170,1170,1170,1170,1170,1170,1170]
[null,null,"Estimated average SPF",null,null,null,null,1.2,1.2,1.2,1.2,1.2,1.2,1.2,1.2,1.2,1.2,1.2,1.2,1.2,1.2,1.2,1.2,1.2,1.2,1.2,1.2,1.2,1.2,1.2,1.2,1.2,1.2,1.2,1.2,1.2,1.2,1.2]
[null,null,"The amount of renewable energy supplied",null,null,null,"[GWh]",{"$f":"IF(H347>0,(H345*H346)*(1-1/H347),0)","v":0},0,0,0,0,0,0,0,0,0,0,0,0,0,0,0,0,0,0,0,0,0,0,0,0,0,0,0,0,0,0]
[null,"Air-Air (reversible)"]
[null,null,"Capacity of heat pump installed",null,null,null,"[GW]",0,0,0,0,0,0,0,0,0,0,0,0,0,0,0,0,0,0,0,0,0,0,0,0,0,0,0,0,0,0,0]
[null,null,"of which SPF is above the minimum threshold",null,null,null,"[GW]",0,0,0,0,0,0,0,0,0,0,0,0,0,0,0,0,0,0,0,0,0,0,0,0,0,0,0,0,0,0,0]
[null,null,"Equivalent full load hours of operation",null,null,null,"[h]",120,120,120,120,120,120,120,120,120,120,120,120,120,120,120,120,120,120,120,120,120,120,120,120,120,120,120,120,120,120,120]
[null,null,"Estimated average SPF",null,null,null,null,1.2,1.2,1.2,1.2,1.2,1.2,1.2,1.2,1.2,1.2,1.2,1.2,1.2,1.2,1.2,1.2,1.2,1.2,1.2,1.2,1.2,1.2,1.2,1.2,1.2,1.2,1.2,1.2,1.2,1.2,1.2]
[null,null,"The amount of renewable energy supplied",null,null,null,"[GWh]",{"$f":"IF(H353>0,(H351*H352)*(1-1/H353),0)","v":0},0,0,0,0,0,0,0,0,0,0,0,0,0,0,0,0,0,0,0,0,0,0,0,0,0,0,0,0,0,0]
[null,"Air-Water (reversible)"]
[null,null,"Capacity of heat pump installed",null,null,null,"[GW]",0,0,0,0,0,0,0,0,0,0,0,0,0,0,0,0,0,0,0,0,0,0,0,0,0,0,0,0,0,0,0]
[null,null,"of which SPF is above the minimum threshold",null,null,null,"[GW]",0,0,0,0,0,0,0,0,0,0,0,0,0,0,0,0,0,0,0,0,0,0,0,0,0,0,0,0,0,0,0]
[null,null,"Equivalent full load hours of operation",null,null,null,"[h]",120,120,120,120,120,120,120,120,120,120,120,120,120,120,120,120,120,120,120,120,120,120,120,120,120,120,120,120,120,120,120]
[null,null,"Estimated average SPF",null,null,null,null,1.2,1.2,1.2,1.2,1.2,1.2,1.2,1.2,1.2,1.2,1.2,1.2,1.2,1.2,1.2,1.2,1.2,1.2,1.2,1.2,1.2,1.2,1.2,1.2,1.2,1.2,1.2,1.2,1.2,1.2,1.2]
[null,null,"The amount of renewable energy supplied",null,null,null,"[GWh]",{"$f":"IF(H359>0,(H357*H358)*(1-1/H359),0)","v":0},0,0,0,0,0,0,0,0,0,0,0,0,0,0,0,0,0,0,0,0,0,0,0,0,0,0,0,0,0,0]
[null,"Exhaust Air-Air"]
[null,null,"Capacity of heat pump installed",null,null,null,"[GW]",0,0,0,0,0,0,0,0,0,0,0,0,0,0,0,0,0,0,0,0,0,0,0,0,0,0,0,0,0,0,0]
[null,null,"of which SPF is above the minimum threshold",null,null,null,"[GW]",0,0,0,0,0,0,0,0,0,0,0,0,0,0,0,0,0,0,0,0,0,0,0,0,0,0,0,0,0,0,0]
[null,null,"Equivalent full load hours of operation",null,null,null,"[h]",760,760,760,760,760,760,760,760,760,760,760,760,760,760,760,760,760,760,760,760,760,760,760,760,760,760,760,760,760,760,760]
[null,null,"Estimated average SPF",null,null,null,null,1.2,1.2,1.2,1.2,1.2,1.2,1.2,1.2,1.2,1.2,1.2,1.2,1.2,1.2,1.2,1.2,1.2,1.2,1.2,1.2,1.2,1.2,1.2,1.2,1.2,1.2,1.2,1.2,1.2,1.2,1.2]
[null,null,"The amount of renewable energy supplied",null,null,null,"[GWh]",{"$f":"IF(H365>0,(H363*H364)*(1-1/H365),0)","v":0},0,0,0,0,0,0,0,0,0,0,0,0,0,0,0,0,0,0,0,0,0,0,0,0,0,0,0,0,0,0]
[null,"Exhaust Air-Water"]
[null,null,"Capacity of heat pump installed",null,null,null,"[GW]",0,0,0,0,0,0,0,0,0,0,0,0,0,0,0,0,0,0,0,0,0,0,0,0,0,0,0,0,0,0,0]
[null,null,"of which SPF is above the minimum threshold",null,null,null,"[GW]",0,0,0,0,0,0,0,0,0,0,0,0,0,0,0,0,0,0,0,0,0,0,0,0,0,0,0,0,0,0,0]
[null,null,"Equivalent full load hours of operation",null,null,null,"[h]",760,760,760,760,760,760,760,760,760,760,760,760,760,760,760,760,760,760,760,760,760,760,760,760,760,760,760,760,760,760,760]
[null,null,"Estimated average SPF",null,null,null,null,1.2,1.2,1.2,1.2,1.2,1.2,1.2,1.2,1.2,1.2,1.2,1.2,1.2,1.2,1.2,1.2,1.2,1.2,1.2,1.2,1.2,1.2,1.2,1.2,1.2,1.2,1.2,1.2,1.2,1.2,1.2]
[null,null,"The amount of renewable energy supplied",null,null,null,"[GWh]",{"$f":"IF(H371>0,(H369*H370)*(1-1/H371),0)","v":0},0,0,0,0,0,0,0,0,0,0,0,0,0,0,0,0,0,0,0,0,0,0,0,0,0,0,0,0,0,0]
["Geothermal energy",null,null,null,null,null,null,{"$f":"SUM(H379,H385)","v":0},0,0,0,0,0,0,0,0,0,0,0,0,0,0,0,0,0,0,0,0,0,0,0,0,0,0,0,0,0,{"$f":"SUM(AL379,AL385)","v":0}]
[null,"Ground-Air"]
[null,null,"Capacity of heat pump installed",null,null,null,"[GW]",0,0,0,0,0,0,0,0,0,0,0,0,0,0,0,0,0,0,0,0,0,0,0,0,0,0,0,0,0,0,0]
[null,null,"of which SPF is above the minimum threshold",null,null,null,"[GW]",0,0,0,0,0,0,0,0,0,0,0,0,0,0,0,0,0,0,0,0,0,0,0,0,0,0,0,0,0,0,0]
[null,null,"Equivalent full load hours of operation",null,null,null,"[h]",1340,1340,1340,1340,1340,1340,1340,1340,1340,1340,1340,1340,1340,1340,1340,1340,1340,1340,1340,1340,1340,1340,1340,1340,1340,1340,1340,1340,1340,1340,1340]
[null,null,"Estimated average SPF",null,null,null,null,1.4,1.4,1.4,1.4,1.4,1.4,1.4,1.4,1.4,1.4,1.4,1.4,1.4,1.4,1.4,1.4,1.4,1.4,1.4,1.4,1.4,1.4,1.4,1.4,1.4,1.4,1.4,1.4,1.4,1.4,1.4]
[null,null,"The amount of renewable energy supplied",null,null,null,"[GWh]",{"$f":"IF(H378>0,(H376*H377)*(1-1/H378),0)","v":0},0,0,0,0,0,0,0,0,0,0,0,0,0,0,0,0,0,0,0,0,0,0,0,0,0,0,0,0,0,0]
[null,"Ground-Water"]
[null,null,"Capacity of heat pump installed",null,null,null,"[GW]",0,0,0,0,0,0,0,0,0,0,0,0,0,0,0,0,0,0,0,0,0,0,0,0,0,0,0,0,0,0,0]
[null,null,"of which SPF is above the minimum threshold",null,null,null,"[GW]",0,0,0,0,0,0,0,0,0,0,0,0,0,0,0,0,0,0,0,0,0,0,0,0,0,0,0,0,0,0,0]
[null,null,"Equivalent full load hours of operation",null,null,null,"[h]",1340,1340,1340,1340,1340,1340,1340,1340,1340,1340,1340,1340,1340,1340,1340,1340,1340,1340,1340,1340,1340,1340,1340,1340,1340,1340,1340,1340,1340,1340,1340]
[null,null,"Estimated average SPF",null,null,null,null,1.6,1.6,1.6,1.6,1.6,1.6,1.6,1.6,1.6,1.6,1.6,1.6,1.6,1.6,1.6,1.6,1.6,1.6,1.6,1.6,1.6,1.6,1.6,1.6,1.6,1.6,1.6,1.6,1.6,1.6,1.6]
[null,null,"The amount of renewable energy supplied",null,null,null,"[GWh]",{"$f":"IF(H384>0,(H382*H383)*(1-1/H384),0)","v":0},0,0,0,0,0,0,0,0,0,0,0,0,0,0,0,0,0,0,0,0,0,0,0,0,0,0,0,0,0,0]
["Hydrothermal heat",null,null,null,null,null,null,{"$f":"SUM(H392,H398)","v":0},0,0,0,0,0,0,0,0,0,0,0,0,0,0,0,0,0,0,0,0,0,0,0,0,0,0,0,0,0,{"$f":"SUM(AL392,AL398)","v":0}]
[null,"Water-Air"]
[null,null,"Capacity of heat pump installed",null,null,null,"[GW]",0,0,0,0,0,0,0,0,0,0,0,0,0,0,0,0,0,0,0,0,0,0,0,0,0,0,0,0,0,0,0]
[null,null,"of which SPF is above the minimum threshold",null,null,null,"[GW]",0,0,0,0,0,0,0,0,0,0,0,0,0,0,0,0,0,0,0,0,0,0,0,0,0,0,0,0,0,0,0]
[null,null,"Equivalent full load hours of operation",null,null,null,"[h]",1340,1340,1340,1340,1340,1340,1340,1340,1340,1340,1340,1340,1340,1340,1340,1340,1340,1340,1340,1340,1340,1340,1340,1340,1340,1340,1340,1340,1340,1340,1340]
[null,null,"Estimated average SPF",null,null,null,null,1.4,1.4,1.4,1.4,1.4,1.4,1.4,1.4,1.4,1.4,1.4,1.4,1.4,1.4,1.4,1.4,1.4,1.4,1.4,1.4,1.4,1.4,1.4,1.4,1.4,1.4,1.4,1.4,1.4,1.4,1.4]
[null,null,"The amount of renewable energy supplied",null,null,null,"[GWh]",{"$f":"IF(H391>0,(H389*H390)*(1-1/H391),0)","v":0},0,0,0,0,0,0,0,0,0,0,0,0,0,0,0,0,0,0,0,0,0,0,0,0,0,0,0,0,0,0]
[null,"Water-Water"]
[null,null,"Capacity of heat pump installed",null,null,null,"[GW]",0,0,0,0,0,0,0,0,0,0,0,0,0,0,0,0,0,0,0,0,0,0,0,0,0,0,0,0,0,0,0]
[null,null,"of which SPF is above the minimum threshold",null,null,null,"[GW]",0,0,0,0,0,0,0,0,0,0,0,0,0,0,0,0,0,0,0,0,0,0,0,0,0,0,0,0,0,0,0]
[null,null,"Equivalent full load hours of operation",null,null,null,"[h]",1340,1340,1340,1340,1340,1340,1340,1340,1340,1340,1340,1340,1340,1340,1340,1340,1340,1340,1340,1340,1340,1340,1340,1340,1340,1340,1340,1340,1340,1340,1340]
[null,null,"Estimated average SPF",null,null,null,null,1.6,1.6,1.6,1.6,1.6,1.6,1.6,1.6,1.6,1.6,1.6,1.6,1.6,1.6,1.6,1.6,1.6,1.6,1.6,1.6,1.6,1.6,1.6,1.6,1.6,1.6,1.6,1.6,1.6,1.6,1.6]
[null,null,"The amount of renewable energy supplied",null,null,null,"[GWh]",{"$f":"IF(H397>0,(H395*H396)*(1-1/H397),0)","v":0},0,0,0,0,0,0,0,0,0,0,0,0,0,0,0,0,0,0,0,0,0,0,0,0,0,0,0,0,0,0]

{"sheet":"STAT. TRANSFERS","index":7,"n_rows":32,"n_cols":38,"rows_kept":32,"cut":false,"hidden":false,"merged":[]}
[{"$f":"MAIN!$D$9","v":""},null,null,null,null,null,null,1990,1991,1992,1993,1994,1995,1996,1997,1998,1999,2000,2001,2002,2003,2004,2005,2006,2007,2008,2009,2010,2011,2012,2013,2014,2015,2016,2017,2018,2019,2020]
["Cooperation Mechanizms - Statistical Transfers"]
["units: ktoe"]
[]
[]
["Article 6 : Statistical transfers between Member States"]
["total renewable energy to be added:",null,null,null,null,null,null,0,0,0,0,0,0,0,0,0,0,0,0,0,0,0,0,0,0,0,0,0,0,0,0,0,0,0,0,0,0,0]
["total renewable energy to be deducted:",null,null,null,null,null,null,0,0,0,0,0,0,0,0,0,0,0,0,0,0,0,0,0,0,0,0,0,0,0,0,0,0,0,0,0,0,0]
["Total Article 6",null,null,null,null,null,null,0,0,0,0,0,0,0,0,0,0,0,0,0,0,0,0,0,0,0,0,0,0,{"$f":"AD7-AD8","v":0},0,0,0,0,0,0,0,0]
[]
["Articles 7 & 8 : Joint projects between Member States"]
[null,"electricity",null,null,null,null,null,0,0,0,0,0,0,0,0,0,0,0,0,0,0,0,0,0,0,0,0,0,0,{"$f":"AD13-AD14","v":0},0,0,0,0,0,0,0,0]
[null,null,"total renewable energy to be added:",null,null,null,null,0,0,0,0,0,0,0,0,0,0,0,0,0,0,0,0,0,0,0,0,0,0,0,0,0,0,0,0,0,0,0]
[null,null,"total renewable energy to be deducted:",null,null,null,null,0,0,0,0,0,0,0,0,0,0,0,0,0,0,0,0,0,0,0,0,0,0,0,0,0,0,0,0,0,0,0]
[null,"heating & cooling",null,null,null,null,null,0,0,0,0,0,0,0,0,0,0,0,0,0,0,0,0,0,0,0,0,0,0,{"$f":"AD16-AD17","v":0},0,0,0,0,0,0,0,0]
[null,null,"total renewable energy to be added:",null,null,null,null,0,0,0,0,0,0,0,0,0,0,0,0,0,0,0,0,0,0,0,0,0,0,0,0,0,0,0,0,0,0,0]
[null,null,"total renewable energy to be deducted:",null,null,null,null,0,0,0,0,0,0,0,0,0,0,0,0,0,0,0,0,0,0,0,0,0,0,0,0,0,0,0,0,0,0,0]
[]
[]
["Articles 9 & 10 : Joint projects between Member States and third countries"]
[null,"electricity",null,null,null,null,null,0,0,0,0,0,0,0,0,0,0,0,0,0,0,0,0,0,0,0,0,0,0,{"$f":"AD22-AD23","v":0},0,0,0,0,0,0,0,0]
[null,null,"total renewable energy to be added:",null,null,null,null,0,0,0,0,0,0,0,0,0,0,0,0,0,0,0,0,0,0,0,0,0,0,0,0,0,0,0,0,0,0,0]
[null,null,"total renewable energy to be deducted:",null,null,null,null,0,0,0,0,0,0,0,0,0,0,0,0,0,0,0,0,0,0,0,0,0,0,0,0,0,0,0,0,0,0,0]
[]
["Article 11: Joint support schemes"]
["only with respect to pragraph 1.(b) \"distribution rule\""]
[null,"electricity",null,null,null,null,null,0,0,0,0,0,0,0,0,0,0,0,0,0,0,0,0,0,0,0,0,0,0,{"$f":"AD28-AD29","v":0},0,0,0,0,0,0,0,0]
[null,null,"total renewable energy to be added:",null,null,null,null,0,0,0,0,0,0,0,0,0,0,0,0,0,0,0,0,0,0,0,0,0,0,0,0,0,0,0,0,0,0,0]
[null,null,"total renewable energy to be deducted:",null,null,null,null,0,0,0,0,0,0,0,0,0,0,0,0,0,0,0,0,0,0,0,0,0,0,0,0,0,0,0,0,0,0,0]
[null,"heating & cooling",null,null,null,null,null,0,0,0,0,0,0,0,0,0,0,0,0,0,0,0,0,0,0,0,0,0,0,{"$f":"AD31-AD32","v":0},0,0,0,0,0,0,0,0]
[null,null,"total renewable energy to be added:",null,null,null,null,0,0,0,0,0,0,0,0,0,0,0,0,0,0,0,0,0,0,0,0,0,0,0,0,0,0,0,0,0,0,0]
[null,null,"total renewable energy to be deducted:",null,null,null,null,0,0,0,0,0,0,0,0,0,0,0,0,0,0,0,0,0,0,0,0,0,0,0,0,0,0,0,0,0,0,0]

{"sheet":"COAL","index":8,"n_rows":246,"n_cols":38,"rows_kept":246,"cut":false,"hidden":false,"merged":[]}
["IMPORT","QUEST","PRODUCT","DATATYPE","ITEM1","ITEM2"]
[]
["TIME",null,null,null,null,null,null,1990,1991,1992,1993,1994,1995,1996,1997,1998,1999,2000,2001,2002,2003,2004,2005,2006,2007,2008,2009,2010,2011,2012,2013,2014,2015,2016,2017,2018,2019,2020]
[null,null,null,null,null,null,"TOTAL GFCoE [ktoe]",{"$f":"(SUMPRODUCT(H112:H128,H169:H185)+SUMPRODUCT(H131:H147,H188:H204)+SUMPRODUCT(H150:H166,H207:H223)-(H226+H227)*1000+SUMPRODUCT(H150:H166,H230:H246))/41868","v":0},0,0,0,0,0,0,0,0,0,0,0,0,0,0,0,0,0,0,0,0,0,0,0,0,0,0,0,0,0,{"$f":"(SUMPRODUCT(AL112:AL128,AL169:AL185)+SUMPRODUCT(AL131:AL147,AL188:AL204)+SUMPRODUCT(AL150:AL166,AL207:AL223)-(AL226+AL227)*1000+SUMPRODUCT(AL150:AL166,AL230:AL246))/41868","v":0}]
[]
[null,null,null,null,null,null,"Net calorific values - Used in blast furnaces"]
[null,"COAL","ANTCOAL","FLOW","NBLAST",null,"Anthracite"]
[null,"COAL","COKCOAL","FLOW","NBLAST",null,"Coking coal"]
[null,"COAL","BITCOAL","FLOW","NBLAST",null,"Other bituminous coal"]
[null,"COAL","SUBCOAL","FLOW","NBLAST",null,"Sub-bituminous coal"]
[null,"COAL","LIGNITE","FLOW","NBLAST",null,"Lignite"]
[null,"COAL","PATFUEL","FLOW","NBLAST",null,"Patent fuel"]
[null,"COAL","OVENCOKE","FLOW","NBLAST",null,"Coke Oven Coke"]
[null,"COAL","GASCOKE","FLOW","NBLAST",null,"Gas Coke"]
[null,"COAL","COALTAR","FLOW","NBLAST",null,"Coal tar"]
[null,"COAL","BKB","FLOW","NBLAST",null,"BKB"]
[null,"COAL","PEAT","FLOW","NBLAST",null,"Peat"]
[null,"COAL","PEATPROD","FLOW","NBLAST",null,"Peat products"]
[null,"COAL","OILSHALE","FLOW","NBLAST",null,"Oil shale and oil sands"]
[]
[null,null,null,null,null,null,"Gross calorific values - Used in blast furnaces"]
[null,"COAL","ANTCOAL","FLOW","GBLAST",null,"Anthracite"]
[null,"COAL","COKCOAL","FLOW","GBLAST",null,"Coking coal"]
[null,"COAL","BITCOAL","FLOW","GBLAST",null,"Other bituminous coal"]
[null,"COAL","SUBCOAL","FLOW","GBLAST",null,"Sub-bituminous coal"]
[null,"COAL","LIGNITE","FLOW","GBLAST",null,"Lignite"]
[null,"COAL","PATFUEL","FLOW","GBLAST",null,"Patent fuel"]
[null,"COAL","OVENCOKE","FLOW","GBLAST",null,"Coke Oven Coke"]
[null,"COAL","GASCOKE","FLOW","GBLAST",null,"Gas Coke"]
[null,"COAL","COALTAR","FLOW","GBLAST",null,"Coal tar"]
[null,"COAL","BKB","FLOW","GBLAST",null,"BKB"]
[null,"COAL","PEAT","FLOW","GBLAST",null,"Peat"]
[null,"COAL","PEATPROD","FLOW","GBLAST",null,"Peat products"]
[null,"COAL","OILSHALE","FLOW","GBLAST",null,"Oil shale and oil sands"]
[]
[null,null,null,null,null,null,"Net calorific values - Used in industry"]
[null,"COAL","ANTCOAL","FLOW","NIND",null,"Anthracite"]
[null,"COAL","COKCOAL","FLOW","NIND",null,"Coking coal"]
[null,"COAL","BITCOAL","FLOW","NIND",null,"Other bituminous coal"]
[null,"COAL","SUBCOAL","FLOW","NIND",null,"Sub-bituminous coal"]
[null,"COAL","LIGNITE","FLOW","NIND",null,"Lignite"]
[null,"COAL","PATFUEL","FLOW","NIND",null,"Patent fuel"]
[null,"COAL","OVENCOKE","FLOW","NIND",null,"Coke Oven Coke"]
[null,"COAL","GASCOKE","FLOW","NIND",null,"Gas Coke"]
[null,"COAL","COALTAR","FLOW","NIND",null,"Coal tar"]
[null,"COAL","BKB","FLOW","NIND",null,"BKB"]
[null,"COAL","PEAT","FLOW","NIND",null,"Peat"]
[null,"COAL","PEATPROD","FLOW","NIND",null,"Peat products"]
[null,"COAL","OILSHALE","FLOW","NIND",null,"Oil shale and oil sands"]
[]
[null,null,null,null,null,null,"Gross calorific values - Used in industry"]
[null,"COAL","ANTCOAL","FLOW","GIND",null,"Anthracite"]
[null,"COAL","COKCOAL","FLOW","GIND",null,"Coking coal"]
[null,"COAL","BITCOAL","FLOW","GIND",null,"Other bituminous coal"]
[null,"COAL","SUBCOAL","FLOW","GIND",null,"Sub-bituminous coal"]
[null,"COAL","LIGNITE","FLOW","GIND",null,"Lignite"]
[null,"COAL","PATFUEL","FLOW","GIND",null,"Patent fuel"]
[null,"COAL","OVENCOKE","FLOW","GIND",null,"Coke Oven Coke"]
[null,"COAL","GASCOKE","FLOW","GIND",null,"Gas Coke"]
[null,"COAL","COALTAR","FLOW","GIND",null,"Coal tar"]
[null,"COAL","BKB","FLOW","GIND",null,"BKB"]
[null,"COAL","PEAT","FLOW","GIND",null,"Peat"]
[null,"COAL","PEATPROD","FLOW","GIND",null,"Peat products"]
[null,"COAL","OILSHALE","FLOW","GIND",null,"Oil shale and oil sands"]
[]
[null,null,null,null,null,null,"Net calorific values - For other uses"]
[null,"COAL","ANTCOAL","FLOW","NOTHER",null,"Anthracite"]
[null,"COAL","COKCOAL","FLOW","NOTHER",null,"Coking coal"]
[null,"COAL","BITCOAL","FLOW","NOTHER",null,"Other bituminous coal"]
[null,"COAL","SUBCOAL","FLOW","NOTHER",null,"Sub-bituminous coal"]
[null,"COAL","LIGNITE","FLOW","NOTHER",null,"Lignite"]
[null,"COAL","PATFUEL","FLOW","NOTHER",null,"Patent fuel"]
[null,"COAL","OVENCOKE","FLOW","NOTHER",null,"Coke Oven Coke"]
[null,"COAL","GASCOKE","FLOW","NOTHER",null,"Gas Coke"]
[null,"COAL","COALTAR","FLOW","NOTHER",null,"Coal tar"]
[null,"COAL","BKB","FLOW","NOTHER",null,"BKB"]
[null,"COAL","PEAT","FLOW","NOTHER",null,"Peat"]
[null,"COAL","PEATPROD","FLOW","NOTHER",null,"Peat products"]
[null,"COAL","OILSHALE","FLOW","NOTHER",null,"Oil shale and oil sands"]
[]
[null,null,null,null,null,null,"Gross calorific values - For other uses"]
[null,"COAL","ANTCOAL","FLOW","GOTHER",null,"Anthracite"]
[null,"COAL","COKCOAL","FLOW","GOTHER",null,"Coking coal"]
[null,"COAL","BITCOAL","FLOW","GOTHER",null,"Other bituminous coal"]
[null,"COAL","SUBCOAL","FLOW","GOTHER",null,"Sub-bituminous coal"]
[null,"COAL","LIGNITE","FLOW","GOTHER",null,"Lignite"]
[null,"COAL","PATFUEL","FLOW","GOTHER",null,"Patent fuel"]
[null,"COAL","OVENCOKE","FLOW","GOTHER",null,"Coke Oven Coke"]
[null,"COAL","GASCOKE","FLOW","GOTHER",null,"Gas Coke"]
[null,"COAL","COALTAR","FLOW","GOTHER",null,"Coal tar"]
[null,"COAL","BKB","FLOW","GOTHER",null,"BKB"]
[null,"COAL","PEAT","FLOW","GOTHER",null,"Peat"]
[null,"COAL","PEATPROD","FLOW","GOTHER",null,"Peat products"]
[null,"COAL","OILSHALE","FLOW","GOTHER",null,"Oil shale and oil sands"]
[]
[null,null,null,null,null,null,"Default calorific values for gap filling"]
[null,null,null,null,null,null,"Anthracite",null,null,null,null,null,null,null,null,null,null,null,null,null,"ANTCOAL",28000,"ANTCOAL"]
[null,null,null,null,null,null,"Coking coal",null,null,null,null,null,null,null,null,null,null,null,null,null,"COKCOAL",29000,"COKCOAL"]
[null,null,null,null,null,null,"Other bituminous coal",null,null,null,null,null,null,null,null,null,null,null,null,null,"BITCOAL",27000,"BITCOAL"]
[null,null,null,null,null,null,"Sub-bituminous coal",null,null,null,null,null,null,null,null,null,null,null,null,null,"SUBCOAL",22000,"SUBCOAL"]
[null,null,null,null,null,null,"Lignite",null,null,null,null,null,null,null,null,null,null,null,null,null,"LIGNITE",15000,"LIGNITE"]
[null,null,null,null,null,null,"Patent fuel",null,null,null,null,null,null,null,null,null,null,null,null,null,"PATFUEL",29000,"PATFUEL"]
[null,null,null,null,null,null,"Coke Oven Coke",null,null,null,null,null,null,null,null,null,null,null,null,null,"OVENCOKE",29000,"OVENCOKE"]
[null,null,null,null,null,null,"Gas Coke",null,null,null,null,null,null,null,null,null,null,null,null,null,"GASCOKE",28500,"GASCOKE"]
[null,null,null,null,null,null,"Coal tar",null,null,null,null,null,null,null,null,null,null,null,null,null,"COALTAR",38000,"COALTAR"]
[null,null,null,null,null,null,"BKB",null,null,null,null,null,null,null,null,null,null,null,null,null,"BKB",20000,"BKB"]
[null,null,null,null,null,null,"Peat",null,null,null,null,null,null,null,null,null,null,null,null,null,"PEAT",10000,"PEAT"]
[null,null,null,null,null,null,"Peat products",null,null,null,null,null,null,null,null,null,null,null,null,null,"PEATPROD",18000,"PEATPROD"]
[null,null,null,null,null,null,"Oil shale and oil sands",null,null,null,null,null,null,null,null,null,null,null,null,null,"OILSHALE",12000,"OILSHALE"]
[]
[null,null,null,null,null,null,"Net calorific values - Used in blast furnaces (ALL GAPS FILLED) - [conversion to GJ]"]
[null,null,null,null,null,null,"Anthracite",{"$f":"IF(H7>0,H7,IF(H22>0,H22/1.05,$V97))","v":28000},28000,28000,28000,28000,28000,28000,28000,28000,28000,28000,28000,28000,28000,28000,28000,28000,28000,28000,28000,28000,28000,28000,28000,28000,28000,28000,28000,28000,28000,28000]
[null,null,null,null,null,null,"Coking coal",29000,29000,29000,29000,29000,29000,29000,29000,29000,29000,29000,29000,29000,29000,29000,29000,29000,29000,29000,29000,29000,29000,29000,29000,29000,29000,29000,29000,29000,29000,29000]
[null,null,null,null,null,null,"Other bituminous coal",27000,27000,27000,27000,27000,27000,27000,27000,27000,27000,27000,27000,27000,27000,27000,27000,27000,27000,27000,27000,27000,27000,27000,27000,27000,27000,27000,27000,27000,27000,27000]
[null,null,null,null,null,null,"Sub-bituminous coal",22000,22000,22000,22000,22000,22000,22000,22000,22000,22000,22000,22000,22000,22000,22000,22000,22000,22000,22000,22000,22000,22000,22000,22000,22000,22000,22000,22000,22000,22000,22000]
[null,null,null,null,null,null,"Lignite",15000,15000,15000,15000,15000,15000,15000,15000,15000,15000,15000,15000,15000,15000,15000,15000,15000,15000,15000,15000,15000,15000,15000,15000,15000,15000,15000,15000,15000,15000,15000]
[null,null,null,null,null,null,"Patent fuel",29000,29000,29000,29000,29000,29000,29000,29000,29000,29000,29000,29000,29000,29000,29000,29000,29000,29000,29000,29000,29000,29000,29000,29000,29000,29000,29000,29000,29000,29000,29000]
[null,null,null,null,null,null,"Coke Oven Coke",29000,29000,29000,29000,29000,29000,29000,29000,29000,29000,29000,29000,29000,29000,29000,29000,29000,29000,29000,29000,29000,29000,29000,29000,29000,29000,29000,29000,29000,29000,29000]
[null,null,null,null,null,null,"Gas Coke",28500,28500,28500,28500,28500,28500,28500,28500,28500,28500,28500,28500,28500,28500,28500,28500,28500,28500,28500,28500,28500,28500,28500,28500,28500,28500,28500,28500,28500,28500,28500]
[null,null,null,null,null,null,"Coal tar",38000,38000,38000,38000,38000,38000,38000,{"$f":"IF(O15>0,O15,IF(O30>0,O30/1.05,$V105))","v":38000},38000,38000,38000,38000,38000,38000,38000,38000,38000,38000,38000,38000,38000,38000,38000,38000,38000,38000,38000,38000,38000,38000,38000]
[null,null,null,null,null,null,"BKB",{"$f":"IF(H16>0,H16,IF(H31>0,H31/1.05,$V106))","v":20000},20000,20000,20000,20000,20000,20000,20000,20000,20000,20000,20000,20000,20000,20000,20000,20000,20000,20000,20000,20000,20000,20000,20000,20000,20000,20000,20000,20000,20000,20000]
[null,null,null,null,null,null,"Peat",10000,10000,10000,10000,10000,10000,10000,10000,10000,10000,10000,10000,10000,10000,10000,10000,10000,10000,10000,10000,10000,10000,10000,10000,10000,10000,10000,10000,10000,10000,10000]
[null,null,null,null,null,null,"Peat products",18000,18000,18000,18000,18000,18000,18000,18000,18000,18000,18000,18000,18000,18000,18000,18000,18000,18000,18000,18000,18000,18000,18000,18000,18000,18000,18000,18000,18000,18000,18000]
[null,null,null,null,null,null,"Oil shale and oil sands",12000,12000,12000,12000,12000,12000,12000,12000,12000,12000,12000,12000,12000,12000,12000,12000,12000,12000,12000,12000,12000,12000,12000,12000,12000,12000,12000,12000,12000,12000,12000]
[null,null,null,null,null,null,"Gas works gas",900,900,900,900,900,900,900,900,900,900,900,900,900,900,900,900,900,900,900,900,900,900,900,900,900,900,900,900,900,900,900]
[null,null,null,null,null,null,"Coke Oven gas",900,900,900,900,900,900,900,900,900,900,900,900,900,900,900,900,900,900,900,900,900,900,900,900,900,900,900,900,900,900,900]
[null,null,null,null,null,null,"Blast furnace gas",1000,1000,1000,1000,1000,1000,1000,1000,1000,1000,1000,1000,1000,1000,1000,1000,1000,1000,1000,1000,1000,1000,1000,1000,1000,1000,1000,1000,1000,1000,1000]
[null,null,null,null,null,null,"Other recovered gases",1000,1000,1000,1000,1000,1000,1000,1000,1000,1000,1000,1000,1000,1000,1000,1000,1000,1000,1000,1000,1000,1000,1000,1000,1000,1000,1000,1000,1000,1000,1000]
[]
[null,null,null,null,null,null,"Net calorific values - Used in industry (ALL GAPS FILLED)  - [conversion to GJ]"]
[null,null,null,null,null,null,"Anthracite",{"$f":"IF(H37>0,H37,IF(H52>0,H52/1.05,$V97))","v":28000},28000,28000,28000,28000,28000,28000,28000,28000,28000,28000,28000,28000,28000,28000,28000,28000,28000,28000,28000,28000,28000,28000,28000,28000,28000,28000,28000,28000,28000,28000]
[null,null,null,null,null,null,"Coking coal",29000,29000,29000,29000,29000,29000,29000,29000,29000,29000,29000,29000,29000,29000,29000,29000,29000,29000,29000,29000,29000,29000,29000,29000,29000,29000,29000,29000,29000,29000,29000]
[null,null,null,null,null,null,"Other bituminous coal",27000,27000,27000,27000,27000,27000,27000,27000,27000,27000,27000,27000,27000,27000,27000,27000,27000,27000,27000,27000,27000,27000,27000,27000,27000,27000,27000,27000,27000,27000,27000]
[null,null,null,null,null,null,"Sub-bituminous coal",22000,22000,22000,22000,22000,22000,22000,22000,22000,22000,22000,22000,22000,22000,22000,22000,22000,22000,22000,22000,22000,22000,22000,22000,22000,22000,22000,22000,22000,22000,22000]
[null,null,null,null,null,null,"Lignite",15000,15000,15000,15000,15000,15000,15000,15000,15000,15000,15000,15000,15000,15000,15000,15000,15000,15000,15000,15000,15000,15000,15000,15000,15000,15000,15000,15000,15000,15000,15000]
[null,null,null,null,null,null,"Patent fuel",29000,29000,29000,29000,29000,29000,29000,29000,29000,29000,29000,29000,29000,29000,29000,29000,29000,29000,29000,29000,29000,29000,29000,29000,29000,29000,29000,29000,29000,29000,29000]
[null,null,null,null,null,null,"Coke Oven Coke",29000,29000,29000,29000,29000,29000,29000,29000,29000,29000,29000,29000,29000,29000,29000,29000,29000,29000,29000,29000,29000,29000,29000,29000,29000,29000,29000,29000,29000,29000,29000]
[null,null,null,null,null,null,"Gas Coke",28500,28500,28500,28500,28500,28500,28500,28500,28500,28500,28500,28500,28500,28500,28500,28500,28500,28500,28500,28500,28500,28500,28500,28500,28500,28500,28500,28500,28500,28500,28500]
[null,null,null,null,null,null,"Coal tar",38000,38000,38000,38000,38000,38000,38000,{"$f":"IF(O45>0,O45,IF(O60>0,O60/1.05,$V105))","v":38000},38000,38000,38000,38000,38000,38000,38000,38000,38000,38000,38000,38000,38000,38000,38000,38000,38000,38000,38000,38000,38000,38000,38000]
[null,null,null,null,null,null,"BKB",{"$f":"IF(H46>0,H46,IF(H61>0,H61/1.05,$V106))","v":20000},20000,20000,20000,20000,20000,20000,20000,20000,20000,20000,20000,20000,20000,20000,20000,20000,20000,20000,20000,20000,20000,20000,20000,20000,20000,20000,20000,20000,20000,20000]
[null,null,null,null,null,null,"Peat",10000,10000,10000,10000,10000,10000,10000,10000,10000,10000,10000,10000,10000,10000,10000,10000,10000,10000,10000,10000,10000,10000,10000,10000,10000,10000,10000,10000,10000,10000,10000]
[null,null,null,null,null,null,"Peat products",18000,18000,18000,18000,18000,18000,18000,18000,18000,18000,18000,18000,18000,18000,18000,18000,18000,18000,18000,18000,18000,18000,18000,18000,18000,18000,18000,18000,18000,18000,18000]
[null,null,null,null,null,null,"Oil shale and oil sands",12000,12000,12000,12000,12000,12000,12000,12000,12000,12000,12000,12000,12000,12000,12000,12000,12000,12000,12000,12000,12000,12000,12000,12000,12000,12000,12000,12000,12000,12000,12000]
[null,null,null,null,null,null,"Gas works gas",900,900,900,900,900,900,900,900,900,900,900,900,900,900,900,900,900,900,900,900,900,900,900,900,900,900,900,900,900,900,900]
[null,null,null,null,null,null,"Coke Oven gas",900,900,900,900,900,900,900,900,900,900,900,900,900,900,900,900,900,900,900,900,900,900,900,900,900,900,900,900,900,900,900]
[null,null,null,null,null,null,"Blast furnace gas",1000,1000,1000,1000,1000,1000,1000,1000,1000,1000,1000,1000,1000,1000,1000,1000,1000,1000,1000,1000,1000,1000,1000,1000,1000,1000,1000,1000,1000,1000,1000]
[null,null,null,null,null,null,"Other recovered gases",1000,1000,1000,1000,1000,1000,1000,1000,1000,1000,1000,1000,1000,1000,1000,1000,1000,1000,1000,1000,1000,1000,1000,1000,1000,1000,1000,1000,1000,1000,1000]
[]
[null,null,null,null,null,null,"Net calorific values - For other uses (ALL GAPS FILLED) - [conversion to GJ]"]
[null,null,null,null,null,null,"Anthracite",{"$f":"IF(H67>0,H67,IF(H82>0,H82/1.05,$V97))","v":28000},28000,28000,28000,28000,28000,28000,28000,28000,28000,28000,28000,28000,28000,28000,28000,28000,28000,28000,28000,28000,28000,28000,28000,28000,28000,28000,28000,28000,28000,28000]
[null,null,null,null,null,null,"Coking coal",29000,29000,29000,29000,29000,29000,29000,29000,29000,29000,29000,29000,29000,29000,29000,29000,29000,29000,29000,29000,29000,29000,29000,29000,29000,29000,29000,29000,29000,29000,29000]
[null,null,null,null,null,null,"Other bituminous coal",27000,27000,27000,27000,27000,27000,27000,27000,27000,27000,27000,27000,27000,27000,27000,27000,27000,27000,27000,27000,27000,27000,27000,27000,27000,27000,27000,27000,27000,27000,27000]
[null,null,null,null,null,null,"Sub-bituminous coal",22000,22000,22000,22000,22000,22000,22000,22000,22000,22000,22000,22000,22000,22000,22000,22000,22000,22000,22000,22000,22000,22000,22000,22000,22000,22000,22000,22000,22000,22000,22000]
[null,null,null,null,null,null,"Lignite",15000,15000,15000,15000,15000,15000,15000,15000,15000,15000,15000,15000,15000,15000,15000,15000,15000,15000,15000,15000,15000,15000,15000,15000,15000,15000,15000,15000,15000,15000,15000]
[null,null,null,null,null,null,"Patent fuel",29000,29000,29000,29000,29000,29000,29000,29000,29000,29000,29000,29000,29000,29000,29000,29000,29000,29000,29000,29000,29000,29000,29000,29000,29000,29000,29000,29000,29000,29000,29000]
[null,null,null,null,null,null,"Coke Oven Coke",29000,29000,29000,29000,29000,29000,29000,29000,29000,29000,29000,29000,29000,29000,29000,29000,29000,29000,29000,29000,29000,29000,29000,29000,29000,29000,29000,29000,29000,29000,29000]
[null,null,null,null,null,null,"Gas Coke",28500,28500,28500,28500,28500,28500,28500,28500,28500,28500,28500,28500,28500,28500,28500,28500,28500,28500,28500,28500,28500,28500,28500,28500,28500,28500,28500,28500,28500,28500,28500]
[null,null,null,null,null,null,"Coal tar",38000,38000,38000,38000,38000,38000,38000,{"$f":"IF(O75>0,O75,IF(O90>0,O90/1.05,$V105))","v":38000},38000,38000,38000,38000,38000,38000,38000,38000,38000,38000,38000,38000,38000,38000,38000,38000,38000,38000,38000,38000,38000,38000,38000]
[null,null,null,null,null,null,"BKB",{"$f":"IF(H76>0,H76,IF(H91>0,H91/1.05,$V106))","v":20000},20000,20000,20000,20000,20000,20000,20000,20000,20000,20000,20000,20000,20000,20000,20000,20000,20000,20000,20000,20000,20000,20000,20000,20000,20000,20000,20000,20000,20000,20000]
[null,null,null,null,null,null,"Peat",10000,10000,10000,10000,10000,10000,10000,10000,10000,10000,10000,10000,10000,10000,10000,10000,10000,10000,10000,10000,10000,10000,10000,10000,10000,10000,10000,10000,10000,10000,10000]
[null,null,null,null,null,null,"Peat products",18000,18000,18000,18000,18000,18000,18000,18000,18000,18000,18000,18000,18000,18000,18000,18000,18000,18000,18000,18000,18000,18000,18000,18000,18000,18000,18000,18000,18000,18000,18000]
[null,null,null,null,null,null,"Oil shale and oil sands",12000,12000,12000,12000,12000,12000,12000,12000,12000,12000,12000,12000,12000,12000,12000,12000,12000,12000,12000,12000,12000,12000,12000,12000,12000,12000,12000,12000,12000,12000,12000]
[null,null,null,null,null,null,"Gas works gas",900,900,900,900,900,900,900,900,900,900,900,900,900,900,900,900,900,900,900,900,900,900,900,900,900,900,900,900,900,900,900]
[null,null,null,null,null,null,"Coke Oven gas",900,900,900,900,900,900,900,900,900,900,900,900,900,900,900,900,900,900,900,900,900,900,900,900,900,900,900,900,900,900,900]
[null,null,null,null,null,null,"Blast furnace gas",1000,1000,1000,1000,1000,1000,1000,1000,1000,1000,1000,1000,1000,1000,1000,1000,1000,1000,1000,1000,1000,1000,1000,1000,1000,1000,1000,1000,1000,1000,1000]
[null,null,null,null,null,null,"Other recovered gases",1000,1000,1000,1000,1000,1000,1000,1000,1000,1000,1000,1000,1000,1000,1000,1000,1000,1000,1000,1000,1000,1000,1000,1000,1000,1000,1000,1000,1000,1000,1000]
[]
[null,null,null,null,null,null,"Transformation Sector - Blast Furnaces"]
[null,"COAL","ANTCOAL","FLOW","TBLASTFUR",null,"Anthracite"]
[null,"COAL","COKCOAL","FLOW","TBLASTFUR",null,"Coking coal"]
[null,"COAL","BITCOAL","FLOW","TBLASTFUR",null,"Other bituminous coal"]
[null,"COAL","SUBCOAL","FLOW","TBLASTFUR",null,"Sub-bituminous coal"]
[null,"COAL","LIGNITE","FLOW","TBLASTFUR",null,"Lignite"]
[null,"COAL","PATFUEL","FLOW","TBLASTFUR",null,"Patent fuel"]
[null,"COAL","OVENCOKE","FLOW","TBLASTFUR",null,"Coke Oven Coke"]
[null,"COAL","GASCOKE","FLOW","TBLASTFUR",null,"Gas Coke"]
[null,"COAL","COALTAR","FLOW","TBLASTFUR",null,"Coal tar"]
[null,"COAL","BKB","FLOW","TBLASTFUR",null,"BKB"]
[null,"COAL","PEAT","FLOW","TBLASTFUR",null,"Peat"]
[null,"COAL","PEATPROD","FLOW","TBLASTFUR",null,"Peat products"]
[null,"COAL","OILSHALE","FLOW","TBLASTFUR",null,"Oil shale and oil sands"]
[null,"COAL","GASWKSGS","FLOW","TBLASTFUR",null,"Gas works gas"]
[null,"COAL","COKEOVGS","FLOW","TBLASTFUR",null,"Coke Oven gas"]
[null,"COAL","BLFURGS","FLOW","TBLASTFUR",null,"Blast furnace gas"]
[null,"COAL","OGASES","FLOW","TBLASTFUR",null,"Other recovered gases"]
[]
[null,null,null,null,null,null,"Industry Sector - Total"]
[null,"COAL","ANTCOAL","FLOW","TOTIND",null,"Anthracite"]
[null,"COAL","COKCOAL","FLOW","TOTIND",null,"Coking coal"]
[null,"COAL","BITCOAL","FLOW","TOTIND",null,"Other bituminous coal"]
[null,"COAL","SUBCOAL","FLOW","TOTIND",null,"Sub-bituminous coal"]
[null,"COAL","LIGNITE","FLOW","TOTIND",null,"Lignite"]
[null,"COAL","PATFUEL","FLOW","TOTIND",null,"Patent fuel"]
[null,"COAL","OVENCOKE","FLOW","TOTIND",null,"Coke Oven Coke"]
[null,"COAL","GASCOKE","FLOW","TOTIND",null,"Gas Coke"]
[null,"COAL","COALTAR","FLOW","TOTIND",null,"Coal tar"]
[null,"COAL","BKB","FLOW","TOTIND",null,"BKB"]
[null,"COAL","PEAT","FLOW","TOTIND",null,"Peat"]
[null,"COAL","PEATPROD","FLOW","TOTIND",null,"Peat products"]
[null,"COAL","OILSHALE","FLOW","TOTIND",null,"Oil shale and oil sands"]
[null,"COAL","GASWKSGS","FLOW","TOTIND",null,"Gas works gas"]
[null,"COAL","COKEOVGS","FLOW","TOTIND",null,"Coke Oven gas"]
[null,"COAL","BLFURGS","FLOW","TOTIND",null,"Blast furnace gas"]
[null,"COAL","OGASES","FLOW","TOTIND",null,"Other recovered gases"]
[]
[null,null,null,null,null,null,"Other Sectors - Total"]
[null,"COAL","ANTCOAL","FLOW","TOTOTHER",null,"Anthracite"]
[null,"COAL","COKCOAL","FLOW","TOTOTHER",null,"Coking coal"]
[null,"COAL","BITCOAL","FLOW","TOTOTHER",null,"Other bituminous coal"]
[null,"COAL","SUBCOAL","FLOW","TOTOTHER",null,"Sub-bituminous coal"]
[null,"COAL","LIGNITE","FLOW","TOTOTHER",null,"Lignite"]
[null,"COAL","PATFUEL","FLOW","TOTOTHER",null,"Patent fuel"]
[null,"COAL","OVENCOKE","FLOW","TOTOTHER",null,"Coke Oven Coke"]
[null,"COAL","GASCOKE","FLOW","TOTOTHER",null,"Gas Coke"]
[null,"COAL","COALTAR","FLOW","TOTOTHER",null,"Coal tar"]
[null,"COAL","BKB","FLOW","TOTOTHER",null,"BKB"]
[null,"COAL","PEAT","FLOW","TOTOTHER",null,"Peat"]
[null,"COAL","PEATPROD","FLOW","TOTOTHER",null,"Peat products"]
[null,"COAL","OILSHALE","FLOW","TOTOTHER",null,"Oil shale and oil sands"]
[null,"COAL","GASWKSGS","FLOW","TOTOTHER",null,"Gas works gas"]
[null,"COAL","COKEOVGS","FLOW","TOTOTHER",null,"Coke Oven gas"]
[null,"COAL","BLFURGS","FLOW","TOTOTHER",null,"Blast furnace gas"]
[null,"COAL","OGASES","FLOW","TOTOTHER",null,"Other recovered gases"]
[]
[null,null,null,null,null,null,"Manufactured gases (their energy content is already included in the input to Blast Furnaces)"]
[null,"COAL","BLFURGS","FLOW","INDPROD",null,"Blast furnace gas"]
[null,"COAL","OGASES","FLOW","INDPROD",null,"Other recovered gases"]
[]
[null,null,null,null,null,null,"Transport Sector - Total"]
[null,"COAL","ANTCOAL","FLOW","TOTTRANS",null,"Anthracite"]
[null,"COAL","COKCOAL","FLOW","TOTTRANS",null,"Coking coal"]
[null,"COAL","BITCOAL","FLOW","TOTTRANS",null,"Other bituminous coal"]
[null,"COAL","SUBCOAL","FLOW","TOTTRANS",null,"Sub-bituminous coal"]
[null,"COAL","LIGNITE","FLOW","TOTTRANS",null,"Lignite"]
[null,"COAL","PATFUEL","FLOW","TOTTRANS",null,"Patent fuel"]
[null,"COAL","OVENCOKE","FLOW","TOTTRANS",null,"Coke Oven Coke"]
[null,"COAL","GASCOKE","FLOW","TOTTRANS",null,"Gas Coke"]
[null,"COAL","COALTAR","FLOW","TOTTRANS",null,"Coal tar"]
[null,"COAL","BKB","FLOW","TOTTRANS",null,"BKB"]
[null,"COAL","PEAT","FLOW","TOTTRANS",null,"Peat"]
[null,"COAL","PEATPROD","FLOW","TOTTRANS",null,"Peat products"]
[null,"COAL","OILSHALE","FLOW","TOTTRANS",null,"Oil shale and oil sands"]
[null,"COAL","GASWKSGS","FLOW","TOTTRANS",null,"Gas works gas"]
[null,"COAL","COKEOVGS","FLOW","TOTTRANS",null,"Coke Oven gas"]
[null,"COAL","BLFURGS","FLOW","TOTTRANS",null,"Blast furnace gas"]
[null,"COAL","OGASES","FLOW","TOTTRANS",null,"Other recovered gases"]

{"sheet":"OIL","index":9,"n_rows":223,"n_cols":38,"rows_kept":223,"cut":false,"hidden":false,"merged":[]}
["IMPORT","QUEST","PRODUCT","DATATYPE","ITEM1","ITEM2"]
[]
["TIME",null,null,null,null,null,null,1990,1991,1992,1993,1994,1995,1996,1997,1998,1999,2000,2001,2002,2003,2004,2005,2006,2007,2008,2009,2010,2011,2012,2013,2014,2015,2016,2017,2018,2019,2020]
[null,null,null,null,null,null,"TOTAL GFCoE [ktoe]",{"$f":"H5+H6","v":0},{"$f":"I5+I6","v":0},0,0,0,0,0,0,0,0,0,0,0,0,0,0,0,0,0,0,0,0,0,0,0,0,0,0,0,0,0]
[null,null,null,null,null,null,"- non-transport [ktoe]",{"$f":"(SUMPRODUCT(H58:H79,H82:H103)+SUMPRODUCT(H58:H79,H106:H127)+SUMPRODUCT(H58:H79,H130:H151))/41868","v":0},{"$f":"(SUMPRODUCT(I58:I79,I82:I103)+SUMPRODUCT(I58:I79,I106:I127)+SUMPRODUCT(I58:I79,I130:I151))/41868","v":0},0,0,0,0,0,0,0,0,0,0,0,0,0,0,0,0,0,0,0,0,0,0,0,0,0,0,0,0,0]
[null,null,null,null,null,null,"- transport [ktoe]",{"$f":"(H58*H154+H59*H155+H60*H156+H61*H157+H62*H158+H63*H159+H67*H163+H69*H165+H70*H166+H73*H169+H74*H170+H75*H171+H76*H172+H77*H173+H78*H174+H79*H175)/41868+SUM(TRANSPORT!H23:H24,TRANSPORT!H28:H30,TRANSPORT!H32:H34,TRANSPORT!H36,TRANSPORT!H38)","v":0},{"$f":"(I58*I154+I59*I155+I60*I156+I61*I157+I62*I158+I63*I159+I67*I163+I69*I165+I70*I166+I73*I169+I74*I170+I75*I171+I76*I172+I77*I173+I78*I174+I79*I175)/41868+SUM(TRANSPORT!I23:I24,TRANSPORT!I28:I30,TRANSPORT!I32:I34,TRANSPORT!I36,TRANSPORT!I38)","v":0},{"$f":"(J58*J154+J59*J155+J60*J156+J61*J157+J62*J158+J63*J159+J67*J163+J69*J165+J70*J166+J73*J169+J74*J170+J75*J171+J76*J172+J77*J173+J78*J174+J79*J175)/41868+SUM(TRANSPORT!J23:J24,TRANSPORT!J28:J30,TRANSPORT!J32:J34,TRANSPORT!J36,TRANSPORT!J38)","v":0},{"$f":"(K58*K154+K59*K155+K60*K156+K61*K157+K62*K158+K63*K159+K67*K163+K69*K165+K70*K166+K73*K169+K74*K170+K75*K171+K76*K172+K77*K173+K78*K174+K79*K175)/41868+SUM(TRANSPORT!K23:K24,TRANSPORT!K28:K30,TRANSPORT!K32:K34,TRANSPORT!K36,TRANSPORT!K38)","v":0},{"$f":"(L58*L154+L59*L155+L60*L156+L61*L157+L62*L158+L63*L159+L67*L163+L69*L165+L70*L166+L73*L169+L74*L170+L75*L171+L76*L172+L77*L173+L78*L174+L79*L175)/41868+SUM(TRANSPORT!L23:L24,TRANSPORT!L28:L30,TRANSPORT!L32:L34,TRANSPORT!L36,TRANSPORT!L38)","v":0},{"$f":"(M58*M154+M59*M155+M60*M156+M61*M157+M62*M158+M63*M159+M67*M163+M69*M165+M70*M166+M73*M169+M74*M170+M75*M171+M76*M172+M77*M173+M78*M174+M79*M175)/41868+SUM(TRANSPORT!M23:M24,TRANSPORT!M28:M30,TRANSPORT!M32:M34,TRANSPORT!M36,TRANSPORT!M38)","v":0},{"$f":"(N58*N154+N59*N155+N60*N156+N61*N157+N62*N158+N63*N159+N67*N163+N69*N165+N70*N166+N73*N169+N74*N170+N75*N171+N76*N172+N77*N173+N78*N174+N79*N175)/41868+SUM(TRANSPORT!N23:N24,TRANSPORT!N28:N30,TRANSPORT!N32:N34,TRANSPORT!N36,TRANSPORT!N38)","v":0},{"$f":"(O58*O154+O59*O155+O60*O156+O61*O157+O62*O158+O63*O159+O67*O163+O69*O165+O70*O166+O73*O169+O74*O170+O75*O171+O76*O172+O77*O173+O78*O174+O79*O175)/41868+SUM(TRANSPORT!O23:O24,TRANSPORT!O28:O30,TRANSPORT!O32:O34,TRANSPORT!O36,TRANSPORT!O38)","v":0},{"$f":"(P58*P154+P59*P155+P60*P156+P61*P157+P62*P158+P63*P159+P67*P163+P69*P165+P70*P166+P73*P169+P74*P170+P75*P171+P76*P172+P77*P173+P78*P174+P79*P175)/41868+SUM(TRANSPORT!P23:P24,TRANSPORT!P28:P30,TRANSPORT!P32:P34,TRANSPORT!P36,TRANSPORT!P38)","v":0},{"$f":"(Q58*Q154+Q59*Q155+Q60*Q156+Q61*Q157+Q62*Q158+Q63*Q159+Q67*Q163+Q69*Q165+Q70*Q166+Q73*Q169+Q74*Q170+Q75*Q171+Q76*Q172+Q77*Q173+Q78*Q174+Q79*Q175)/41868+SUM(TRANSPORT!Q23:Q24,TRANSPORT!Q28:Q30,TRANSPORT!Q32:Q34,TRANSPORT!Q36,TRANSPORT!Q38)","v":0},{"$f":"(R58*R154+R59*R155+R60*R156+R61*R157+R62*R158+R63*R159+R67*R163+R69*R165+R70*R166+R73*R169+R74*R170+R75*R171+R76*R172+R77*R173+R78*R174+R79*R175)/41868+SUM(TRANSPORT!R23:R24,TRANSPORT!R28:R30,TRANSPORT!R32:R34,TRANSPORT!R36,TRANSPORT!R38)","v":0},{"$f":"(S58*S154+S59*S155+S60*S156+S61*S157+S62*S158+S63*S159+S67*S163+S69*S165+S70*S166+S73*S169+S74*S170+S75*S171+S76*S172+S77*S173+S78*S174+S79*S175)/41868+SUM(TRANSPORT!S23:S24,TRANSPORT!S28:S30,TRANSPORT!S32:S34,TRANSPORT!S36,TRANSPORT!S38)","v":0},{"$f":"(T58*T154+T59*T155+T60*T156+T61*T157+T62*T158+T63*T159+T67*T163+T69*T165+T70*T166+T73*T169+T74*T170+T75*T171+T76*T172+T77*T173+T78*T174+T79*T175)/41868+SUM(TRANSPORT!T23:T24,TRANSPORT!T28:T30,TRANSPORT!T32:T34,TRANSPORT!T36,TRANSPORT!T38)","v":0},{"$f":"(U58*U154+U59*U155+U60*U156+U61*U157+U62*U158+U63*U159+U67*U163+U69*U165+U70*U166+U73*U169+U74*U170+U75*U171+U76*U172+U77*U173+U78*U174+U79*U175)/41868+SUM(TRANSPORT!U23:U24,TRANSPORT!U28:U30,TRANSPORT!U32:U34,TRANSPORT!U36,TRANSPORT!U38)","v":0},{"$f":"(V58*V154+V59*V155+V60*V156+V61*V157+V62*V158+V63*V159+V67*V163+V69*V165+V70*V166+V73*V169+V74*V170+V75*V171+V76*V172+V77*V173+V78*V174+V79*V175)/41868+SUM(TRANSPORT!V23:V24,TRANSPORT!V28:V30,TRANSPORT!V32:V34,TRANSPORT!V36,TRANSPORT!V38)","v":0},{"$f":"(W58*W154+W59*W155+W60*W156+W61*W157+W62*W158+W63*W159+W67*W163+W69*W165+W70*W166+W73*W169+W74*W170+W75*W171+W76*W172+W77*W173+W78*W174+W79*W175)/41868+SUM(TRANSPORT!W23:W24,TRANSPORT!W28:W30,TRANSPORT!W32:W34,TRANSPORT!W36,TRANSPORT!W38)","v":0},{"$f":"(X58*X154+X59*X155+X60*X156+X61*X157+X62*X158+X63*X159+X67*X163+X69*X165+X70*X166+X73*X169+X74*X170+X75*X171+X76*X172+X77*X173+X78*X174+X79*X175)/41868+SUM(TRANSPORT!X23:X24,TRANSPORT!X28:X30,TRANSPORT!X32:X34,TRANSPORT!X36,TRANSPORT!X38)","v":0},{"$f":"(Y58*Y154+Y59*Y155+Y60*Y156+Y61*Y157+Y62*Y158+Y63*Y159+Y67*Y163+Y69*Y165+Y70*Y166+Y73*Y169+Y74*Y170+Y75*Y171+Y76*Y172+Y77*Y173+Y78*Y174+Y79*Y175)/41868+SUM(TRANSPORT!Y23:Y24,TRANSPORT!Y28:Y30,TRANSPORT!Y32:Y34,TRANSPORT!Y36,TRANSPORT!Y38)","v":0},{"$f":"(Z58*Z154+Z59*Z155+Z60*Z156+Z61*Z157+Z62*Z158+Z63*Z159+Z67*Z163+Z69*Z165+Z70*Z166+Z73*Z169+Z74*Z170+Z75*Z171+Z76*Z172+Z77*Z173+Z78*Z174+Z79*Z175)/41868+SUM(TRANSPORT!Z23:Z24,TRANSPORT!Z28:Z30,TRANSPORT!Z32:Z34,TRANSPORT!Z36,TRANSPORT!Z38)","v":0},{"$f":"(AA58*AA154+AA59*AA155+AA60*AA156+AA61*AA157+AA62*AA158+AA63*AA159+AA67*AA163+AA69*AA165+AA70*AA166+AA73*AA169+AA74*AA170+AA75*AA171+AA76*AA172+AA77*AA173+AA78*AA174+AA79*AA175)/41868+SUM(TRANSPORT!AA23:AA24,TRANSPORT!AA28:AA30,TRANSPORT!AA32:AA34,TRANSPORT!AA36,TRANSPORT!AA38)","v":0},{"$f":"(AB58*AB154+AB59*AB155+AB60*AB156+AB61*AB157+AB62*AB158+AB63*AB159+AB67*AB163+AB69*AB165+AB70*AB166+AB73*AB169+AB74*AB170+AB75*AB171+AB76*AB172+AB77*AB173+AB78*AB174+AB79*AB175)/41868+SUM(TRANSPORT!AB23:AB24,TRANSPORT!AB28:AB30,TRANSPORT!AB32:AB34,TRANSPORT!AB36,TRANSPORT!AB38)","v":0},{"$f":"(AC58*AC154+AC59*AC155+AC60*AC156+AC61*AC157+AC62*AC158+AC63*AC159+AC67*AC163+AC69*AC165+AC70*AC166+AC73*AC169+AC74*AC170+AC75*AC171+AC76*AC172+AC77*AC173+AC78*AC174+AC79*AC175)/41868+SUM(TRANSPORT!AC23:AC24,TRANSPORT!AC28:AC30,TRANSPORT!AC32:AC34,TRANSPORT!AC36,TRANSPORT!AC38)","v":0},{"$f":"(AD58*AD154+AD59*AD155+AD60*AD156+AD61*AD157+AD62*AD158+AD63*AD159+AD67*AD163+AD69*AD165+AD70*AD166+AD73*AD169+AD74*AD170+AD75*AD171+AD76*AD172+AD77*AD173+AD78*AD174+AD79*AD175)/41868+SUM(TRANSPORT!AD23:AD24,TRANSPORT!AD28:AD30,TRANSPORT!AD32:AD34,TRANSPORT!AD36,TRANSPORT!AD38)","v":0},{"$f":"(AE58*AE154+AE59*AE155+AE60*AE156+AE61*AE157+AE62*AE158+AE63*AE159+AE67*AE163+AE69*AE165+AE70*AE166+AE73*AE169+AE74*AE170+AE75*AE171+AE76*AE172+AE77*AE173+AE78*AE174+AE79*AE175)/41868+SUM(TRANSPORT!AE23:AE24,TRANSPORT!AE28:AE30,TRANSPORT!AE32:AE34,TRANSPORT!AE36,TRANSPORT!AE38)","v":0},{"$f":"(AF58*AF154+AF59*AF155+AF60*AF156+AF61*AF157+AF62*AF158+AF63*AF159+AF67*AF163+AF69*AF165+AF70*AF166+AF73*AF169+AF74*AF170+AF75*AF171+AF76*AF172+AF77*AF173+AF78*AF174+AF79*AF175)/41868+SUM(TRANSPORT!AF23:AF24,TRANSPORT!AF28:AF30,TRANSPORT!AF32:AF34,TRANSPORT!AF36,TRANSPORT!AF38)","v":0},{"$f":"(AG58*AG154+AG59*AG155+AG60*AG156+AG61*AG157+AG62*AG158+AG63*AG159+AG67*AG163+AG69*AG165+AG70*AG166+AG73*AG169+AG74*AG170+AG75*AG171+AG76*AG172+AG77*AG173+AG78*AG174+AG79*AG175)/41868+SUM(TRANSPORT!AG23:AG24,TRANSPORT!AG28:AG30,TRANSPORT!AG32:AG34,TRANSPORT!AG36,TRANSPORT!AG38)","v":0},{"$f":"(AH58*AH154+AH59*AH155+AH60*AH156+AH61*AH157+AH62*AH158+AH63*AH159+AH67*AH163+AH69*AH165+AH70*AH166+AH73*AH169+AH74*AH170+AH75*AH171+AH76*AH172+AH77*AH173+AH78*AH174+AH79*AH175)/41868+SUM(TRANSPORT!AH23:AH24,TRANSPORT!AH28:AH30,TRANSPORT!AH32:AH34,TRANSPORT!AH36,TRANSPORT!AH38)","v":0},{"$f":"(AI58*AI154+AI59*AI155+AI60*AI156+AI61*AI157+AI62*AI158+AI63*AI159+AI67*AI163+AI69*AI165+AI70*AI166+AI73*AI169+AI74*AI170+AI75*AI171+AI76*AI172+AI77*AI173+AI78*AI174+AI79*AI175)/41868+SUM(TRANSPORT!AI23:AI24,TRANSPORT!AI28:AI30,TRANSPORT!AI32:AI34,TRANSPORT!AI36,TRANSPORT!AI38)","v":0},{"$f":"(AJ58*AJ154+AJ59*AJ155+AJ60*AJ156+AJ61*AJ157+AJ62*AJ158+AJ63*AJ159+AJ67*AJ163+AJ69*AJ165+AJ70*AJ166+AJ73*AJ169+AJ74*AJ170+AJ75*AJ171+AJ76*AJ172+AJ77*AJ173+AJ78*AJ174+AJ79*AJ175)/41868+SUM(TRANSPORT!AJ23:AJ24,TRANSPORT!AJ28:AJ30,TRANSPORT!AJ32:AJ34,TRANSPORT!AJ36,TRANSPORT!AJ38)","v":0},{"$f":"(AK58*AK154+AK59*AK155+AK60*AK156+AK61*AK157+AK62*AK158+AK63*AK159+AK67*AK163+AK69*AK165+AK70*AK166+AK73*AK169+AK74*AK170+AK75*AK171+AK76*AK172+AK77*AK173+AK78*AK174+AK79*AK175)/41868+SUM(TRANSPORT!AK23:AK24,TRANSPORT!AK28:AK30,TRANSPORT!AK32:AK34,TRANSPORT!AK36,TRANSPORT!AK38)","v":0},{"$f":"(AL58*AL154+AL59*AL155+AL60*AL156+AL61*AL157+AL62*AL158+AL63*AL159+AL67*AL163+AL69*AL165+AL70*AL166+AL73*AL169+AL74*AL170+AL75*AL171+AL76*AL172+AL77*AL173+AL78*AL174+AL79*AL175)/41868+SUM(TRANSPORT!AL23:AL24,TRANSPORT!AL28:AL30,TRANSPORT!AL32:AL34,TRANSPORT!AL36,TRANSPORT!AL38)","v":0}]
[null,null,null,null,null,null,"transport above includes all transport fuels from renewables and oil questionnaires and calculation considers calorific values in Annex III"]
[]
[null,null,null,null,null,null,"Net calorific values"]
[null,"OIL","CRUDEOIL","BALANCE","NCVAVG",null,"Crude oil"]
[null,"OIL","NGL","BALANCE","NCVAVG",null,"Natural gas liquids"]
[null,"OIL","REFINGAS","BALANCE","NCVAVG",null,"Refinery gas"]
[null,"OIL","ETHANE","BALANCE","NCVAVG",null,"Ethane"]
[null,"OIL","LPG","BALANCE","NCVAVG",null,"LPG"]
[null,"OIL","NAPHTHA","BALANCE","NCVAVG",null,"Naphtha"]
[null,"OIL","BIOGASOL","BALANCE","NCVAVG",null,"- Biogasoline"]
[null,"OIL","NONBIOGASO","BALANCE","NCVAVG",null,"- Non-biogasoline"]
[null,"OIL","AVGAS","BALANCE","NCVAVG",null,"Aviation gasoline"]
[null,"OIL","JETGAS","BALANCE","NCVAVG",null,"Gasoline type jet fuel"]
[null,"OIL","BIOJETKERO","BALANCE","NCVAVG",null,"- Bio jet kerosene"]
[null,"OIL","NONBIOJETK","BALANCE","NCVAVG",null,"- Non-bio jet kerosene"]
[null,"OIL","OTHKERO","BALANCE","NCVAVG",null,"Other kerosene"]
[null,"OIL","BIODIESEL","BALANCE","NCVAVG",null,"- Biodiesels "]
[null,"OIL","NONBIODIES","BALANCE","NCVAVG",null,"- Non-bio gas/diesel oil"]
[null,"OIL","RESFUEL","BALANCE","NCVAVG",null,"Fuel oil"]
[null,"OIL","WHITESP","BALANCE","NCVAVG",null,"White spirit & SBP"]
[null,"OIL","LUBRIC","BALANCE","NCVAVG",null,"Lubricants"]
[null,"OIL","BITUMEN","BALANCE","NCVAVG",null,"Bitumen"]
[null,"OIL","PARWAX","BALANCE","NCVAVG",null,"Paraffin waxes"]
[null,"OIL","PETCOKE","BALANCE","NCVAVG",null,"Petroleum coke"]
[null,"OIL","OPRODS","BALANCE","NCVAVG",null,"Other oil products"]
[]
[null,null,null,null,null,null,"Default calorific values for gap filling"]
[null,null,null,null,null,null,"Crude oil",null,null,null,null,null,null,null,null,null,null,null,null,null,"CRUDEOIL",45000,"CRUDEOIL"]
[null,null,null,null,null,null,"Natural gas liquids",null,null,null,null,null,null,null,null,null,null,null,null,null,"NGL",44000,"NGL"]
[null,null,null,null,null,null,"Refinery gas",null,null,null,null,null,null,null,null,null,null,null,null,null,"REFINGAS",49500,"REFINGAS"]
[null,null,null,null,null,null,"Ethane",null,null,null,null,null,null,null,null,null,null,null,null,null,"ETHANE",49500,"ETHANE"]
[null,null,null,null,null,null,"LPG",null,null,null,null,null,null,null,null,null,null,null,null,null,"LPG",46000,"LPG"]
[null,null,null,null,null,null,"Naphtha",null,null,null,null,null,null,null,null,null,null,null,null,null,"NAPHTHA",44000,"NAPHTHA"]
[null,null,null,null,null,null,"- Biogasoline",null,null,null,null,null,null,null,null,null,null,null,null,null,"BIOGASOL",26800,"BIOGASOL"]
[null,null,null,null,null,null,"- Non-biogasoline",null,null,null,null,null,null,null,null,null,null,null,null,null,"NONBIOGASO",43000,"NONBIOGASO"]
[null,null,null,null,null,null,"Aviation gasoline",null,null,null,null,null,null,null,null,null,null,null,null,null,"AVGAS",44000,"AVGAS"]
[null,null,null,null,null,null,"Gasoline type jet fuel",null,null,null,null,null,null,null,null,null,null,null,null,null,"JETGAS",43000,"JETGAS"]
[null,null,null,null,null,null,"- Bio jet kerosene",null,null,null,null,null,null,null,null,null,null,null,null,null,"BIOJETKERO",36800,"BIOJETKERO"]
[null,null,null,null,null,null,"- Non-bio jet kerosene",null,null,null,null,null,null,null,null,null,null,null,null,null,"NONBIOJETK",43000,"NONBIOJETK"]
[null,null,null,null,null,null,"Other kerosene",null,null,null,null,null,null,null,null,null,null,null,null,null,"OTHKERO",43000,"OTHKERO"]
[null,null,null,null,null,null,"- Biodiesels ",null,null,null,null,null,null,null,null,null,null,null,null,null,"BIODIESEL",36800,"BIODIESEL"]
[null,null,null,null,null,null,"- Non-bio gas/diesel oil",null,null,null,null,null,null,null,null,null,null,null,null,null,"NONBIODIES",43000,"NONBIODIES"]
[null,null,null,null,null,null,"Fuel oil",null,null,null,null,null,null,null,null,null,null,null,null,null,"RESFUEL",40000,"RESFUEL"]
[null,null,null,null,null,null,"White spirit & SBP",null,null,null,null,null,null,null,null,null,null,null,null,null,"WHITESP",44000,"WHITESP"]
[null,null,null,null,null,null,"Lubricants",null,null,null,null,null,null,null,null,null,null,null,null,null,"LUBRIC",42000,"LUBRIC"]
[null,null,null,null,null,null,"Bitumen",null,null,null,null,null,null,null,null,null,null,null,null,null,"BITUMEN",39000,"BITUMEN"]
[null,null,null,null,null,null,"Paraffin waxes",null,null,null,null,null,null,null,null,null,null,null,null,null,"PARWAX",40000,"PARWAX"]
[null,null,null,null,null,null,"Petroleum coke",null,null,null,null,null,null,null,null,null,null,null,null,null,"PETCOKE",32000,"PETCOKE"]
[null,null,null,null,null,null,"Other oil products",null,null,null,null,null,null,null,null,null,null,null,null,null,"OPRODS",40000,"OPRODS"]
[]
[null,null,null,null,null,null,"Net calorific values - (ALL GAPS FILLED) - [conversion to GJ]"]
[null,null,null,null,null,null,"Crude oil",{"$f":"IF(H10>0,H10,$V34)","v":45000},{"$f":"IF(I10>0,I10,$V34)","v":45000},45000,45000,45000,45000,45000,45000,45000,45000,45000,45000,45000,45000,45000,45000,45000,45000,45000,45000,45000,45000,45000,45000,45000,45000,45000,45000,45000,45000,45000]
[null,null,null,null,null,null,"Natural gas liquids",44000,{"$f":"IF(I11>0,I11,$V35)","v":44000},44000,44000,44000,44000,44000,44000,44000,44000,44000,44000,44000,44000,44000,44000,44000,44000,44000,44000,44000,44000,44000,44000,44000,44000,44000,44000,44000,44000,44000]
[null,null,null,null,null,null,"Refinery gas",49500,{"$f":"IF(I12>0,I12,$V36)","v":49500},49500,49500,49500,49500,49500,49500,49500,49500,49500,49500,49500,49500,49500,49500,49500,49500,49500,49500,49500,49500,49500,49500,49500,49500,49500,49500,49500,49500,49500]
[null,null,null,null,null,null,"Ethane",49500,{"$f":"IF(I13>0,I13,$V37)","v":49500},49500,49500,49500,49500,49500,49500,49500,49500,49500,49500,49500,49500,49500,49500,49500,49500,49500,49500,49500,49500,49500,49500,49500,49500,49500,49500,49500,49500,49500]
[null,null,null,null,null,null,"LPG",46000,{"$f":"IF(I14>0,I14,$V38)","v":46000},46000,46000,46000,46000,46000,46000,46000,46000,46000,46000,46000,46000,46000,46000,46000,46000,46000,46000,46000,46000,46000,46000,46000,46000,46000,46000,46000,46000,46000]
[null,null,null,null,null,null,"Naphtha",44000,{"$f":"IF(I15>0,I15,$V39)","v":44000},44000,44000,44000,44000,44000,44000,44000,44000,44000,44000,44000,44000,44000,44000,44000,44000,44000,44000,44000,44000,44000,44000,44000,44000,44000,44000,44000,44000,44000]
[null,null,null,null,null,null,"- Biogasoline",26800,{"$f":"IF(I16>0,I16,$V40)","v":26800},26800,26800,26800,26800,26800,26800,26800,26800,26800,26800,26800,26800,26800,26800,26800,26800,26800,26800,26800,26800,26800,26800,26800,26800,26800,26800,26800,26800,26800]
[null,null,null,null,null,null,"- Non-biogasoline",{"$f":"IF(H17>0,H17,$V41)","v":43000},43000,43000,43000,43000,43000,43000,43000,43000,43000,43000,43000,43000,43000,43000,43000,43000,43000,43000,43000,43000,43000,43000,43000,43000,43000,43000,43000,43000,43000,43000]
[null,null,null,null,null,null,"Aviation gasoline",{"$f":"IF(H18>0,H18,$V42)","v":44000},44000,44000,44000,44000,44000,44000,44000,44000,44000,44000,44000,44000,44000,44000,44000,44000,44000,44000,44000,44000,44000,44000,44000,44000,44000,44000,44000,44000,44000,44000]
[null,null,null,null,null,null,"Gasoline type jet fuel",{"$f":"IF(H19>0,H19,$V43)","v":43000},43000,43000,43000,43000,43000,43000,43000,43000,43000,43000,43000,43000,43000,43000,43000,43000,43000,43000,43000,43000,43000,43000,43000,43000,43000,43000,43000,43000,43000,43000]
[null,null,null,null,null,null,"- Bio jet kerosene",{"$f":"IF(H20>0,H20,$V44)","v":36800},36800,36800,36800,36800,36800,36800,36800,36800,36800,36800,36800,36800,36800,36800,36800,36800,36800,36800,36800,36800,36800,36800,36800,36800,36800,36800,36800,36800,36800,36800]
[null,null,null,null,null,null,"- Non-bio jet kerosene",{"$f":"IF(H21>0,H21,$V45)","v":43000},43000,43000,43000,43000,43000,43000,43000,43000,43000,43000,43000,43000,43000,43000,43000,43000,43000,43000,43000,43000,43000,43000,43000,43000,43000,43000,43000,43000,43000,43000]
[null,null,null,null,null,null,"Other kerosene",{"$f":"IF(H22>0,H22,$V46)","v":43000},43000,43000,43000,43000,43000,43000,43000,43000,43000,43000,43000,43000,43000,43000,43000,43000,43000,43000,43000,43000,43000,43000,43000,43000,43000,43000,43000,43000,43000,43000]
[null,null,null,null,null,null,"- Biodiesels ",{"$f":"IF(H23>0,H23,$V47)","v":36800},36800,36800,36800,36800,36800,36800,36800,36800,36800,36800,36800,36800,36800,36800,36800,36800,36800,36800,36800,36800,36800,36800,36800,36800,36800,36800,36800,36800,36800,36800]
[null,null,null,null,null,null,"- Non-bio gas/diesel oil",{"$f":"IF(H24>0,H24,$V48)","v":43000},43000,43000,43000,43000,43000,43000,43000,43000,43000,43000,43000,43000,43000,43000,43000,43000,43000,43000,43000,43000,43000,43000,43000,43000,43000,43000,43000,43000,43000,43000]
[null,null,null,null,null,null,"Fuel oil",{"$f":"IF(H25>0,H25,$V49)","v":40000},40000,40000,40000,40000,40000,40000,40000,40000,40000,40000,40000,40000,40000,40000,40000,40000,40000,40000,40000,40000,40000,40000,40000,40000,40000,40000,40000,40000,40000,40000]
[null,null,null,null,null,null,"White spirit & SBP",{"$f":"IF(H26>0,H26,$V50)","v":44000},44000,44000,44000,44000,44000,44000,44000,44000,44000,44000,44000,44000,44000,44000,44000,44000,44000,44000,44000,44000,44000,44000,44000,44000,44000,44000,44000,44000,44000,44000]
[null,null,null,null,null,null,"Lubricants",{"$f":"IF(H27>0,H27,$V51)","v":42000},42000,42000,42000,42000,42000,42000,42000,42000,42000,42000,42000,42000,42000,42000,42000,42000,42000,42000,42000,42000,42000,42000,42000,42000,42000,42000,42000,42000,42000,42000]
[null,null,null,null,null,null,"Bitumen",{"$f":"IF(H28>0,H28,$V52)","v":39000},39000,39000,39000,39000,39000,39000,39000,39000,39000,39000,39000,39000,39000,39000,39000,39000,39000,39000,39000,39000,39000,39000,39000,39000,39000,39000,39000,39000,39000,39000]
[null,null,null,null,null,null,"Paraffin waxes",{"$f":"IF(H29>0,H29,$V53)","v":40000},40000,40000,40000,40000,40000,40000,40000,40000,40000,40000,40000,40000,40000,40000,40000,40000,40000,40000,40000,40000,40000,40000,40000,40000,40000,40000,40000,40000,40000,40000]
[null,null,null,null,null,null,"Petroleum coke",{"$f":"IF(H30>0,H30,$V54)","v":32000},32000,32000,32000,32000,32000,32000,32000,32000,32000,32000,32000,32000,32000,32000,32000,32000,32000,32000,32000,32000,32000,32000,32000,32000,32000,32000,32000,32000,32000,32000]
[null,null,null,null,null,null,"Other oil products",{"$f":"IF(H31>0,H31,$V55)","v":40000},40000,40000,40000,40000,40000,40000,40000,40000,40000,40000,40000,40000,40000,40000,40000,40000,40000,40000,40000,40000,40000,40000,40000,40000,40000,40000,40000,40000,40000,40000]
[]
[null,null,null,null,null,null,"Transformation Sector - Blast Furnaces"]
[null,"OIL","CRUDEOIL","CONSUMPTION","ETBLASTFR",null,"Crude oil"]
[null,"OIL","NGL","CONSUMPTION","ETBLASTFR",null,"Natural gas liquids"]
[null,"OIL","REFINGAS","CONSUMPTION","ETBLASTFR",null,"Refinery gas"]
[null,"OIL","ETHANE","CONSUMPTION","ETBLASTFR",null,"Ethane"]
[null,"OIL","LPG","CONSUMPTION","ETBLASTFR",null,"LPG"]
[null,"OIL","NAPHTHA","CONSUMPTION","ETBLASTFR",null,"Naphtha"]
[null,"OIL","BIOGASOL","CONSUMPTION","ETBLASTFR",null,"- Biogasoline"]
[null,"OIL","NONBIOGASO","CONSUMPTION","ETBLASTFR",null,"- Non-biogasoline"]
[null,"OIL","AVGAS","CONSUMPTION","ETBLASTFR",null,"Aviation gasoline"]
[null,"OIL","JETGAS","CONSUMPTION","ETBLASTFR",null,"Gasoline type jet fuel"]
[null,"OIL","BIOJETKERO","CONSUMPTION","ETBLASTFR",null,"- Bio jet kerosene"]
[null,"OIL","NONBIOJETK","CONSUMPTION","ETBLASTFR",null,"- Non-bio jet kerosene"]
[null,"OIL","OTHKERO","CONSUMPTION","ETBLASTFR",null,"Other kerosene"]
[null,"OIL","BIODIESEL","CONSUMPTION","ETBLASTFR",null,"- Biodiesels "]
[null,"OIL","NONBIODIES","CONSUMPTION","ETBLASTFR",null,"- Non-bio gas/diesel oil"]
[null,"OIL","RESFUEL","CONSUMPTION","ETBLASTFR",null,"Fuel oil"]
[null,"OIL","WHITESP","CONSUMPTION","ETBLASTFR",null,"White spirit & SBP"]
[null,"OIL","LUBRIC","CONSUMPTION","ETBLASTFR",null,"Lubricants"]
[null,"OIL","BITUMEN","CONSUMPTION","ETBLASTFR",null,"Bitumen"]
[null,"OIL","PARWAX","CONSUMPTION","ETBLASTFR",null,"Paraffin waxes"]
[null,"OIL","PETCOKE","CONSUMPTION","ETBLASTFR",null,"Petroleum coke"]
[null,"OIL","OPRODS","CONSUMPTION","ETBLASTFR",null,"Other oil products"]
[]
[null,null,null,null,null,null,"Industry Sector - Total"]
[null,"OIL","CRUDEOIL","CONSUMPTION","EIND",null,"Crude oil"]
[null,"OIL","NGL","CONSUMPTION","EIND",null,"Natural gas liquids"]
[null,"OIL","REFINGAS","CONSUMPTION","EIND",null,"Refinery gas"]
[null,"OIL","ETHANE","CONSUMPTION","EIND",null,"Ethane"]
[null,"OIL","LPG","CONSUMPTION","EIND",null,"LPG"]
[null,"OIL","NAPHTHA","CONSUMPTION","EIND",null,"Naphtha"]
[null,"OIL","BIOGASOL","CONSUMPTION","EIND",null,"- Biogasoline"]
[null,"OIL","NONBIOGASO","CONSUMPTION","EIND",null,"- Non-biogasoline"]
[null,"OIL","AVGAS","CONSUMPTION","EIND",null,"Aviation gasoline"]
[null,"OIL","JETGAS","CONSUMPTION","EIND",null,"Gasoline type jet fuel"]
[null,"OIL","BIOJETKERO","CONSUMPTION","EIND",null,"- Bio jet kerosene"]
[null,"OIL","NONBIOJETK","CONSUMPTION","EIND",null,"- Non-bio jet kerosene"]
[null,"OIL","OTHKERO","CONSUMPTION","EIND",null,"Other kerosene"]
[null,"OIL","BIODIESEL","CONSUMPTION","EIND",null,"- Biodiesels "]
[null,"OIL","NONBIODIES","CONSUMPTION","EIND",null,"- Non-bio gas/diesel oil"]
[null,"OIL","RESFUEL","CONSUMPTION","EIND",null,"Fuel oil"]
[null,"OIL","WHITESP","CONSUMPTION","EIND",null,"White spirit & SBP"]
[null,"OIL","LUBRIC","CONSUMPTION","EIND",null,"Lubricants"]
[null,"OIL","BITUMEN","CONSUMPTION","EIND",null,"Bitumen"]
[null,"OIL","PARWAX","CONSUMPTION","EIND",null,"Paraffin waxes"]
[null,"OIL","PETCOKE","CONSUMPTION","EIND",null,"Petroleum coke"]
[null,"OIL","OPRODS","CONSUMPTION","EIND",null,"Other oil products"]
[]
[null,null,null,null,null,null,"Other Sectors - Total"]
[null,"OIL","CRUDEOIL","CONSUMPTION","EOTHER",null,"Crude oil"]
[null,"OIL","NGL","CONSUMPTION","EOTHER",null,"Natural gas liquids"]
[null,"OIL","REFINGAS","CONSUMPTION","EOTHER",null,"Refinery gas"]
[null,"OIL","ETHANE","CONSUMPTION","EOTHER",null,"Ethane"]
[null,"OIL","LPG","CONSUMPTION","EOTHER",null,"LPG"]
[null,"OIL","NAPHTHA","CONSUMPTION","EOTHER",null,"Naphtha"]
[null,"OIL","BIOGASOL","CONSUMPTION","EOTHER",null,"- Biogasoline"]
[null,"OIL","NONBIOGASO","CONSUMPTION","EOTHER",null,"- Non-biogasoline"]
[null,"OIL","AVGAS","CONSUMPTION","EOTHER",null,"Aviation gasoline"]
[null,"OIL","JETGAS","CONSUMPTION","EOTHER",null,"Gasoline type jet fuel"]
[null,"OIL","BIOJETKERO","CONSUMPTION","EOTHER",null,"- Bio jet kerosene"]
[null,"OIL","NONBIOJETK","CONSUMPTION","EOTHER",null,"- Non-bio jet kerosene"]
[null,"OIL","OTHKERO","CONSUMPTION","EOTHER",null,"Other kerosene"]
[null,"OIL","BIODIESEL","CONSUMPTION","EOTHER",null,"- Biodiesels "]
[null,"OIL","NONBIODIES","CONSUMPTION","EOTHER",null,"- Non-bio gas/diesel oil"]
[null,"OIL","RESFUEL","CONSUMPTION","EOTHER",null,"Fuel oil"]
[null,"OIL","WHITESP","CONSUMPTION","EOTHER",null,"White spirit & SBP"]
[null,"OIL","LUBRIC","CONSUMPTION","EOTHER",null,"Lubricants"]
[null,"OIL","BITUMEN","CONSUMPTION","EOTHER",null,"Bitumen"]
[null,"OIL","PARWAX","CONSUMPTION","EOTHER",null,"Paraffin waxes"]
[null,"OIL","PETCOKE","CONSUMPTION","EOTHER",null,"Petroleum coke"]
[null,"OIL","OPRODS","CONSUMPTION","EOTHER",null,"Other oil products"]
[]
[null,null,null,null,null,null,"Transport Sector - Total"]
[null,"OIL","CRUDEOIL","CONSUMPTION","ETRANS",null,"Crude oil"]
[null,"OIL","NGL","CONSUMPTION","ETRANS",null,"Natural gas liquids"]
[null,"OIL","REFINGAS","CONSUMPTION","ETRANS",null,"Refinery gas"]
[null,"OIL","ETHANE","CONSUMPTION","ETRANS",null,"Ethane"]
[null,"OIL","LPG","CONSUMPTION","ETRANS",null,"LPG"]
[null,"OIL","NAPHTHA","CONSUMPTION","ETRANS",null,"Naphtha"]
[null,"OIL","BIOGASOL","CONSUMPTION","ETRANS",null,"- Biogasoline"]
[null,"OIL","NONBIOGASO","CONSUMPTION","ETRANS",null,"- Non-biogasoline"]
[null,"OIL","AVGAS","CONSUMPTION","ETRANS",null,"Aviation gasoline"]
[null,"OIL","JETGAS","CONSUMPTION","ETRANS",null,"Gasoline type jet fuel"]
[null,"OIL","BIOJETKERO","CONSUMPTION","ETRANS",null,"- Bio jet kerosene"]
[null,"OIL","NONBIOJETK","CONSUMPTION","ETRANS",null,"- Non-bio jet kerosene"]
[null,"OIL","OTHKERO","CONSUMPTION","ETRANS",null,"Other kerosene"]
[null,"OIL","BIODIESEL","CONSUMPTION","ETRANS",null,"- Biodiesels "]
[null,"OIL","NONBIODIES","CONSUMPTION","ETRANS",null,"- Non-bio gas/diesel oil"]
[null,"OIL","RESFUEL","CONSUMPTION","ETRANS",null,"Fuel oil"]
[null,"OIL","WHITESP","CONSUMPTION","ETRANS",null,"White spirit & SBP"]
[null,"OIL","LUBRIC","CONSUMPTION","ETRANS",null,"Lubricants"]
[null,"OIL","BITUMEN","CONSUMPTION","ETRANS",null,"Bitumen"]
[null,"OIL","PARWAX","CONSUMPTION","ETRANS",null,"Paraffin waxes"]
[null,"OIL","PETCOKE","CONSUMPTION","ETRANS",null,"Petroleum coke"]
[null,"OIL","OPRODS","CONSUMPTION","ETRANS",null,"Other oil products"]
[]
[null,null,null,null,null,null,"International Aviation"]
[null,"OIL","CRUDEOIL","CONSUMPTION","EINTLAIR",null,"Crude oil"]
[null,"OIL","NGL","CONSUMPTION","EINTLAIR",null,"Natural gas liquids"]
[null,"OIL","REFINGAS","CONSUMPTION","EINTLAIR",null,"Refinery gas"]
[null,"OIL","ETHANE","CONSUMPTION","EINTLAIR",null,"Ethane"]
[null,"OIL","LPG","CONSUMPTION","EINTLAIR",null,"LPG"]
[null,"OIL","NAPHTHA","CONSUMPTION","EINTLAIR",null,"Naphtha"]
[null,"OIL","BIOGASOL","CONSUMPTION","EINTLAIR",null,"- Biogasoline"]
[null,"OIL","NONBIOGASO","CONSUMPTION","EINTLAIR",null,"- Non-biogasoline"]
[null,"OIL","AVGAS","CONSUMPTION","EINTLAIR",null,"Aviation gasoline"]
[null,"OIL","JETGAS","CONSUMPTION","EINTLAIR",null,"Gasoline type jet fuel"]
[null,"OIL","BIOJETKERO","CONSUMPTION","EINTLAIR",null,"- Bio jet kerosene"]
[null,"OIL","NONBIOJETK","CONSUMPTION","EINTLAIR",null,"- Non-bio jet kerosene"]
[null,"OIL","OTHKERO","CONSUMPTION","EINTLAIR",null,"Other kerosene"]
[null,"OIL","BIODIESEL","CONSUMPTION","EINTLAIR",null,"- Biodiesels "]
[null,"OIL","NONBIODIES","CONSUMPTION","EINTLAIR",null,"- Non-bio gas/diesel oil"]
[null,"OIL","RESFUEL","CONSUMPTION","EINTLAIR",null,"Fuel oil"]
[null,"OIL","WHITESP","CONSUMPTION","EINTLAIR",null,"White spirit & SBP"]
[null,"OIL","LUBRIC","CONSUMPTION","EINTLAIR",null,"Lubricants"]
[null,"OIL","BITUMEN","CONSUMPTION","EINTLAIR",null,"Bitumen"]
[null,"OIL","PARWAX","CONSUMPTION","EINTLAIR",null,"Paraffin waxes"]
[null,"OIL","PETCOKE","CONSUMPTION","EINTLAIR",null,"Petroleum coke"]
[null,"OIL","OPRODS","CONSUMPTION","EINTLAIR",null,"Other oil products"]
[]
[null,null,null,null,null,null,"Domestic Aviation"]
[null,"OIL","CRUDEOIL","CONSUMPTION","EDOMESAIR",null,"Crude oil"]
[null,"OIL","NGL","CONSUMPTION","EDOMESAIR",null,"Natural gas liquids"]
[null,"OIL","REFINGAS","CONSUMPTION","EDOMESAIR",null,"Refinery gas"]
[null,"OIL","ETHANE","CONSUMPTION","EDOMESAIR",null,"Ethane"]
[null,"OIL","LPG","CONSUMPTION","EDOMESAIR",null,"LPG"]
[null,"OIL","NAPHTHA","CONSUMPTION","EDOMESAIR",null,"Naphtha"]
[null,"OIL","BIOGASOL","CONSUMPTION","EDOMESAIR",null,"- Biogasoline"]
[null,"OIL","NONBIOGASO","CONSUMPTION","EDOMESAIR",null,"- Non-biogasoline"]
[null,"OIL","AVGAS","CONSUMPTION","EDOMESAIR",null,"Aviation gasoline"]
[null,"OIL","JETGAS","CONSUMPTION","EDOMESAIR",null,"Gasoline type jet fuel"]
[null,"OIL","BIOJETKERO","CONSUMPTION","EDOMESAIR",null,"- Bio jet kerosene"]
[null,"OIL","NONBIOJETK","CONSUMPTION","EDOMESAIR",null,"- Non-bio jet kerosene"]
[null,"OIL","OTHKERO","CONSUMPTION","EDOMESAIR",null,"Other kerosene"]
[null,"OIL","BIODIESEL","CONSUMPTION","EDOMESAIR",null,"- Biodiesels "]
[null,"OIL","NONBIODIES","CONSUMPTION","EDOMESAIR",null,"- Non-bio gas/diesel oil"]
[null,"OIL","RESFUEL","CONSUMPTION","EDOMESAIR",null,"Fuel oil"]
[null,"OIL","WHITESP","CONSUMPTION","EDOMESAIR",null,"White spirit & SBP"]
[null,"OIL","LUBRIC","CONSUMPTION","EDOMESAIR",null,"Lubricants"]
[null,"OIL","BITUMEN","CONSUMPTION","EDOMESAIR",null,"Bitumen"]
[null,"OIL","PARWAX","CONSUMPTION","EDOMESAIR",null,"Paraffin waxes"]
[null,"OIL","PETCOKE","CONSUMPTION","EDOMESAIR",null,"Petroleum coke"]
[null,"OIL","OPRODS","CONSUMPTION","EDOMESAIR",null,"Other oil products"]

{"sheet":"GAS","index":10,"n_rows":20,"n_cols":38,"rows_kept":20,"cut":false,"hidden":false,"merged":[]}
["IMPORT","QUEST","PRODUCT","DATATYPE","ITEM1","ITEM2"]
[]
["TIME",null,null,null,null,null,null,1990,1991,1992,1993,1994,1995,1996,1997,1998,1999,2000,2001,2002,2003,2004,2005,2006,2007,2008,2009,2010,2011,2012,2013,2014,2015,2016,2017,2018,2019,2020]
[null,null,null,null,null,null,"TOTAL GFCoE [ktoe]",{"$f":"H5+H6","v":0},{"$f":"I5+I6","v":0},0,0,0,0,0,0,0,0,0,0,0,0,0,0,0,0,0,0,0,0,0,0,0,0,0,0,0,0,0]
[null,null,null,null,null,null,"- non-transport [ktoe]",{"$f":"SUM(H9:H11)*900/41868","v":0},{"$f":"SUM(I9:I11)*900/41868","v":0},0,0,0,0,0,0,0,0,0,0,0,0,0,0,0,0,0,0,0,0,0,0,0,0,0,0,0,0,0]
[null,null,null,null,null,null,"- transport [ktoe]",{"$f":"H13*900/41868","v":0},{"$f":"I13*900/41868","v":0},0,0,0,0,0,0,0,0,0,0,0,0,0,0,0,0,0,0,0,0,0,0,0,0,0,0,0,0,0]
[]
[null,null,null,null,null,null,"Natural gas consumption [TJ gross calorific value]"]
[null,"GAS","NATGASTJ","CONSUMPTION","TBLASTFUR",null,"Blast furnaces (Transformation)"]
[null,"GAS","ENERGUSETJ","CONSUMPTION","TOTIND",null,"Industry sector"]
[null,"GAS","ENERGUSETJ","CONSUMPTION","TOTOTHER",null,"Other sectors"]
[]
[null,"GAS","ENERGUSETJ","CONSUMPTION","TOTTRANS",null,"Transport sector"]
[null,"GAS","ENERGUSETJ","CONSUMPTION","ROAD",null,"Road"]
[null,"GAS","ENERGUSETJ","CONSUMPTION","ROADBIOGAS",null," - of which biogas"]
[]
[null,null,null,null,null,null,"Natural gas [TJ gross calorific value]"]
[null,"GAS","NATGASTJ","BALANCE","OSRENEW",null,"Receipts from other sources: Renewables"]
[null,"GAS","NATGASTJ","BALANCE","INDCONO",null,"Inland consumption (Observed)"]
[null,null,null,null,null,null,"Share of biomethatne in natural gas grid",{"$f":"IF(H19>0,H18/H19,0)","v":0},{"$f":"IF(I19>0,I18/I19,0)","v":0},0,0,0,0,0,0,0,0,0,0,0,0,0,0,0,0,0,0,0,0,0,0,0,0,0,0,0,0,0]

{"sheet":"ELE","index":11,"n_rows":47,"n_cols":38,"rows_kept":47,"cut":false,"hidden":false,"merged":[]}
["IMPORT","QUEST","PRODUCT","DATATYPE","ITEM1","ITEM2"]
[]
["TIME",null,null,null,null,null,null,1990,1991,1992,1993,1994,1995,1996,1997,1998,1999,2000,2001,2002,2003,2004,2005,2006,2007,2008,2009,2010,2011,2012,2013,2014,2015,2016,2017,2018,2019,2020]
[null,null,null,null,null,null,"TOTAL GFCoE [ktoe]",{"$f":"H5+H6","v":0},{"$f":"I5+I6","v":0},0,0,0,0,0,0,0,0,0,0,0,0,0,0,{"$f":"X5+X6","v":0},{"$f":"Y5+Y6","v":0},{"$f":"Z5+Z6","v":0},{"$f":"AA5+AA6","v":0},{"$f":"AB5+AB6","v":0},{"$f":"AC5+AC6","v":0},{"$f":"AD5+AD6","v":0},0,0,0,0,0,0,0,0]
[null,null,null,null,null,null,"Electricity [ktoe]",{"$f":"SUM(H9:H17)*3.6/41.868","v":0},{"$f":"SUM(I9:I17)*3.6/41.868","v":0},0,0,0,0,0,0,0,0,0,0,0,0,0,0,0,0,0,0,0,0,0,0,0,0,0,0,0,0,0]
[null,null,null,null,null,null,"Heat [ktoe]",{"$f":"SUM(H23:H31)/41.868","v":0},{"$f":"SUM(I23:I31)/41.868","v":0},0,0,0,0,0,0,0,0,0,0,0,0,0,0,{"$f":"SUM(X23:X31)/41.868","v":0},{"$f":"SUM(Y23:Y31)/41.868","v":0},0,0,0,0,0,{"$f":"SUM(AE23:AE31)/41.868","v":0},0,0,0,0,0,0,0]
[]
[null,null,null,null,null,null,"Electricity [GWh] - Consumption"]
[null,"ELE","ELECTR","BALANCE","TOTIND","TOTAL","Industry Sector"]
[null,"ELE","ELECTR","BALANCE","TOTTRANS","TOTAL","Transport Sector"]
[null,"ELE","ELECTR","BALANCE","RESIDENT","TOTAL","Residential"]
[null,"ELE","ELECTR","BALANCE","COMMPUB","TOTAL","Commercial and Public Services"]
[null,"ELE","ELECTR","BALANCE","AGRICULT","TOTAL","Agriculture/Forestry"]
[null,"ELE","ELECTR","BALANCE","FISHING","TOTAL","Fishing"]
[null,"ELE","ELECTR","BALANCE","ONONSPEC","TOTAL","Non-specified (Other)"]
[null,"ELE","ELECTR","BALANCE","DISTLOSS","TOTAL","Transmission and distribution losses"]
[null,"ELE","ELECTR","BALANCE","OWNUSE","TOTAL","Consumption by the energy branch for electricity and heat production"]
[]
[null,"ELE","ELECTR","BALANCE","ROAD","TOTAL","Road transport"]
[null,"ELE","ELECTR","BALANCE","RAIL","TOTAL","Rail transport"]
[]
[null,null,null,null,null,null,"Heat (derived heat) [TJ] - Consumption"]
[null,"ELE","HEAT","BALANCE","TOTIND","TOTAL","Industry Sector"]
[null,"ELE","HEAT","BALANCE","TOTTRANS","TOTAL","Transport Sector"]
[null,"ELE","HEAT","BALANCE","RESIDENT","TOTAL","Residential"]
[null,"ELE","HEAT","BALANCE","COMMPUB","TOTAL","Commercial and Public Services"]
[null,"ELE","HEAT","BALANCE","AGRICULT","TOTAL","Agriculture/Forestry"]
[null,"ELE","HEAT","BALANCE","FISHING","TOTAL","Fishing"]
[null,"ELE","HEAT","BALANCE","ONONSPEC","TOTAL","Non-specified (Other)"]
[null,"ELE","HEAT","BALANCE","DISTLOSS","TOTAL","Transmission and distribution losses"]
[null,"ELE","HEAT","BALANCE","OWNUSE","TOTAL","Consumption by the energy branch for electricity and heat production"]
[]
[]
[]
[null,null,null,null,null,null,"Electricity [GWh]"]
[null,"ELE","ELECTR","BALANCE","GROSPROD","TOTAL","Total Gross Production"]
[null,"ELE","WIND","BALANCE","GELEPROD","TOTAL","- Wind"]
[null,"ELE","HYDRO","BALANCE","GELEPROD","TOTAL","- Hydro"]
[null,"ELE","HYDPUMP","BALANCE","GELEPROD","TOTAL","- - of which Pumped Hydro"]
[null,"ELE","ELECTR","BALANCE","TOTIMPSB","TOTAL","Total Imports"]
[null,"ELE","ELECTR","BALANCE","TOTEXPSB","TOTAL","Total Exports"]
[null,null,null,null,null,null,"Total Gross Consumption [GWh]",{"$f":"H36+H40-H41-H39","v":0},{"$f":"I36+I40-I41-I39","v":0},0,0,0,0,0,0,0,0,0,0,0,0,0,0,0,0,0,{"$f":"AA36+AA40-AA41-AA39","v":0},0,0,0,0,0,0,0,0,0,0,0]
[null,null,null,null,null,null,"Pumped Hydro includes Pure Pumped hydro plants production and Mixed hydro plants production."]
[]
[null,null,null,null,null,null,"Production from natural gas (including biogas blended in the grid)"]
[null,"ELE","NATGAS","BALANCE","GELEPROD","TOTAL","Electricity [GWh]"]
[null,"ELE","NATGAS","BALANCE","GHEATPRO","TOTAL","Heat [TJ]"]

{"sheet":"REN","index":12,"n_rows":218,"n_cols":38,"rows_kept":218,"cut":false,"hidden":false,"merged":[]}
["IMPORT","QUEST","PRODUCT","DATATYPE","ITEM1","ITEM2"]
[]
["TIME",null,null,null,null,null,null,1990,1991,1992,1993,1994,1995,1996,1997,1998,1999,2000,2001,2002,2003,2004,2005,2006,2007,2008,2009,2010,2011,2012,2013,2014,2015,2016,2017,2018,2019,2020]
[null,null,null,null,null,null,"TOTAL GFCoE [ktoe]",{"$f":"(SUMPRODUCT(H32:H37,H40:H45)+SUMPRODUCT(H26:H37,H48:H59)+SUMPRODUCT(H26:H37,H62:H73))/41868","v":0},{"$f":"(SUMPRODUCT(I32:I37,I40:I45)+SUMPRODUCT(I26:I37,I48:I59)+SUMPRODUCT(I26:I37,I62:I73))/41868","v":0},0,0,0,0,0,0,0,0,0,0,0,0,0,0,0,0,0,0,0,0,0,0,0,{"$f":"(SUMPRODUCT(AG32:AG37,AG40:AG45)+SUMPRODUCT(AG26:AG37,AG48:AG59)+SUMPRODUCT(AG26:AG37,AG62:AG73))/41868","v":0},0,0,0,0,0]
[null,null,null,null,null,null,"value above excludes transport fuels - for GFCoE those are included in the sheet OIL, for RES-T indicators those are on sheet TRANSPORT"]
[]
[]
[]
[]
[]
[null,null,null,null,null,null,"Net calorific values [kJ/kg]"]
[null,"REN","CHARCOAL","CAPACITY","NAVERAGE",null,"Charcoal"]
[null,"REN","BIOGASOL","CAPACITY","NAVERAGE",null,"Biogasoline"]
[null,"REN","BIOJETKERO","CAPACITY","NAVERAGE",null,"Bio jet kerosenes"]
[null,"REN","BIODIESEL","CAPACITY","NAVERAGE",null,"Biodiesels"]
[null,"REN","OBIOLIQ","CAPACITY","NAVERAGE",null,"Other liquid biofuels"]
[]
[null,null,null,null,null,null,"Default calorific values for gap filling"]
[null,null,null,null,null,null,"Charcoal",null,null,null,null,null,null,null,null,null,null,null,null,null,"CHARCOAL",30000,"CHARCOAL"]
[null,null,null,null,null,null,"Biogasoline",null,null,null,null,null,null,null,null,null,null,null,null,null,"BIOGASOL",26800,"BIOGASOL"]
[null,null,null,null,null,null,"Bio jet kerosenes",null,null,null,null,null,null,null,null,null,null,null,null,null,"BIOJETKERO",36800,"BIOJETKERO"]
[null,null,null,null,null,null,"Biodiesels",null,null,null,null,null,null,null,null,null,null,null,null,null,"BIODIESEL",36800,"BIODIESEL"]
[null,null,null,null,null,null,"Other liquid biofuels",null,null,null,null,null,null,null,null,null,null,null,null,null,"OBIOLIQ",30000,"OBIOLIQ"]
[]
[null,null,null,null,null,null,"Net calorific values (ALL GAPS FILLED) - [conversion to GJ]"]
[null,null,null,null,null,null,"Geothermal energy",1000,1000,1000,1000,1000,1000,1000,1000,1000,1000,1000,1000,1000,1000,1000,1000,1000,1000,1000,1000,1000,1000,1000,1000,1000,1000,1000,1000,1000,1000,1000]
[null,null,null,null,null,null,"Solar thermal",1000,1000,1000,1000,1000,1000,1000,1000,1000,1000,1000,1000,1000,1000,1000,1000,1000,1000,1000,1000,1000,1000,1000,1000,1000,1000,1000,1000,1000,1000,1000]
[null,null,null,null,null,null,"Industrial waste (non-renewable)",1000,1000,1000,1000,1000,1000,1000,1000,1000,1000,1000,1000,1000,1000,1000,1000,1000,1000,1000,1000,1000,1000,1000,1000,1000,1000,1000,1000,1000,1000,1000]
[null,null,null,null,null,null,"Municipal Waste - Renewable",1000,1000,1000,1000,1000,1000,1000,1000,1000,1000,1000,1000,1000,1000,1000,1000,1000,1000,1000,1000,1000,1000,1000,1000,1000,1000,1000,1000,1000,1000,1000]
[null,null,null,null,null,null,"Municipal Waste Non-renewable",1000,1000,1000,1000,1000,1000,1000,1000,1000,1000,1000,1000,1000,1000,1000,1000,1000,1000,1000,1000,1000,1000,1000,1000,1000,1000,1000,1000,1000,1000,1000]
[null,null,null,null,null,null,"Solid biofuels excluding charcoal",1000,1000,1000,1000,1000,1000,1000,1000,1000,1000,1000,1000,1000,1000,1000,1000,1000,1000,1000,1000,1000,1000,1000,1000,1000,1000,1000,1000,1000,1000,1000]
[null,null,null,null,null,null,"Charcoal",{"$f":"IF(H12>0,H12,$V$19)","v":30000},{"$f":"IF(I12>0,I12,$V$19)","v":30000},30000,30000,30000,30000,30000,30000,30000,30000,30000,30000,30000,30000,30000,30000,30000,30000,30000,30000,30000,30000,30000,30000,30000,30000,30000,30000,30000,30000,30000]
[null,null,null,null,null,null,"Biogases",1000,1000,1000,1000,1000,1000,1000,1000,1000,1000,1000,1000,1000,1000,1000,1000,1000,1000,1000,1000,1000,1000,1000,1000,1000,1000,1000,1000,1000,1000,1000]
[null,null,null,null,null,null,"Biogasoline",{"$f":"IF(H13>0,H13,$V20)/1000","v":26.8},26.8,26.8,26.8,26.8,26.8,26.8,26.8,26.8,26.8,26.8,26.8,26.8,26.8,26.8,26.8,26.8,26.8,26.8,26.8,26.8,26.8,26.8,26.8,26.8,26.8,26.8,26.8,26.8,26.8,26.8]
[null,null,null,null,null,null,"Bio jet kerosenes",36.799999999999997,36.799999999999997,36.799999999999997,36.799999999999997,36.799999999999997,36.799999999999997,36.799999999999997,36.799999999999997,36.799999999999997,36.799999999999997,36.799999999999997,36.799999999999997,36.799999999999997,36.799999999999997,36.799999999999997,36.799999999999997,36.799999999999997,36.799999999999997,36.799999999999997,36.799999999999997,36.799999999999997,36.799999999999997,36.799999999999997,36.799999999999997,36.799999999999997,36.799999999999997,36.799999999999997,36.799999999999997,36.799999999999997,36.799999999999997,36.799999999999997]
[null,null,null,null,null,null,"Biodiesels",36.799999999999997,36.799999999999997,36.799999999999997,36.799999999999997,36.799999999999997,36.799999999999997,36.799999999999997,36.799999999999997,36.799999999999997,36.799999999999997,36.799999999999997,36.799999999999997,36.799999999999997,36.799999999999997,36.799999999999997,36.799999999999997,36.799999999999997,36.799999999999997,36.799999999999997,36.799999999999997,36.799999999999997,36.799999999999997,36.799999999999997,36.799999999999997,36.799999999999997,36.799999999999997,36.799999999999997,36.799999999999997,36.799999999999997,36.799999999999997,36.799999999999997]
[null,null,null,null,null,null,"Other liquid biofuels",30,30,30,30,30,30,30,30,30,30,30,30,30,30,30,30,30,30,30,30,30,30,30,30,30,30,30,30,30,30,30]
[]
[null,null,null,null,null,null,"Transformation Sector - Blast Furnaces"]
[null,"REN","CHARCOAL","BALANCE","TBLASTFUR",null,"Charcoal"]
[null,"REN","BIOGASES","BALANCE","TBLASTFUR",null,"Biogases"]
[null,"REN","BIOGASOL","BALANCE","TBLASTFUR",null,"Biogasoline"]
[null,"REN","BIOJETKERO","BALANCE","TBLASTFUR",null,"Bio jet kerosenes"]
[null,"REN","BIODIESEL","BALANCE","TBLASTFUR",null,"Biodiesels"]
[null,"REN","OBIOLIQ","BALANCE","TBLASTFUR",null,"Other liquid biofuels"]
[]
[null,null,null,null,null,null,"Industry Sector - Total"]
[null,"REN","GEOTHERM","BALANCE","TOTIND",null,"Geothermal energy"]
[null,"REN","SOLARTH","BALANCE","TOTIND",null,"Solar thermal"]
[null,"REN","INDWASTE","BALANCE","TOTIND",null,"Industrial waste (non-renewable)"]
[null,"REN","MUNWASTER","BALANCE","TOTIND",null,"Municipal Waste - Renewable"]
[null,"REN","MUNWASTEN","BALANCE","TOTIND",null,"Municipal Waste Non-renewable"]
[null,"REN","PRIMSBIO","BALANCE","TOTIND",null,"Solid biofuels excluding charcoal"]
[null,"REN","CHARCOAL","BALANCE","TOTIND",null,"Charcoal"]
[null,"REN","BIOGASES","BALANCE","TOTIND",null,"Biogases"]
[null,"REN","BIOGASOL","BALANCE","TOTIND",null,"Biogasoline"]
[null,"REN","BIOJETKERO","BALANCE","TOTIND",null,"Bio jet kerosenes"]
[null,"REN","BIODIESEL","BALANCE","TOTIND",null,"Biodiesels"]
[null,"REN","OBIOLIQ","BALANCE","TOTIND",null,"Other liquid biofuels"]
[]
[null,null,null,null,null,null,"Other Sectors - Total"]
[null,"REN","GEOTHERM","BALANCE","TOTOTHER",null,"Geothermal energy"]
[null,"REN","SOLARTH","BALANCE","TOTOTHER",null,"Solar thermal"]
[null,"REN","INDWASTE","BALANCE","TOTOTHER",null,"Industrial waste (non-renewable)"]
[null,"REN","MUNWASTER","BALANCE","TOTOTHER",null,"Municipal Waste - Renewable"]
[null,"REN","MUNWASTEN","BALANCE","TOTOTHER",null,"Municipal Waste Non-renewable"]
[null,"REN","PRIMSBIO","BALANCE","TOTOTHER",null,"Solid biofuels excluding charcoal"]
[null,"REN","CHARCOAL","BALANCE","TOTOTHER",null,"Charcoal"]
[null,"REN","BIOGASES","BALANCE","TOTOTHER",null,"Biogases"]
[null,"REN","BIOGASOL","BALANCE","TOTOTHER",null,"Biogasoline"]
[null,"REN","BIOJETKERO","BALANCE","TOTOTHER",null,"Bio jet kerosenes"]
[null,"REN","BIODIESEL","BALANCE","TOTOTHER",null,"Biodiesels"]
[null,"REN","OBIOLIQ","BALANCE","TOTOTHER",null,"Other liquid biofuels"]
[]
[null,null,null,null,null,null,"Residential"]
[null,"REN","PRIMSBIO","BALANCE","RESIDENT",null,"Solid biofuels excluding charcoal"]
[null,"REN","CHARCOAL","BALANCE","RESIDENT",null,"Charcoal"]
[]
[null,null,null,null,null,null,"Transport Sector - Total"]
[null,"REN","GEOTHERM","BALANCE","TOTTRANS",null,"Geothermal energy"]
[null,"REN","SOLARTH","BALANCE","TOTTRANS",null,"Solar thermal"]
[null,"REN","INDWASTE","BALANCE","TOTTRANS",null,"Industrial waste (non-renewable)"]
[null,"REN","MUNWASTER","BALANCE","TOTTRANS",null,"Municipal Waste - Renewable"]
[null,"REN","MUNWASTEN","BALANCE","TOTTRANS",null,"Municipal Waste Non-renewable"]
[null,"REN","PRIMSBIO","BALANCE","TOTTRANS",null,"Solid biofuels excluding charcoal"]
[null,"REN","CHARCOAL","BALANCE","TOTTRANS",null,"Charcoal"]
[null,"REN","BIOGASES","BALANCE","TOTTRANS",null,"Biogases"]
[null,"REN","BIOGASOL","BALANCE","TOTTRANS",null,"Biogasoline"]
[null,"REN","BIOJETKERO","BALANCE","TOTTRANS",null,"Bio jet kerosenes"]
[null,"REN","BIODIESEL","BALANCE","TOTTRANS",null,"Biodiesels"]
[null,"REN","OBIOLIQ","BALANCE","TOTTRANS",null,"Other liquid biofuels"]
[]
[]
[null,null,null,null,null,null,"Installed capacity for electricity generation [MW]"]
[null,"REN","HYDRO","CAPACITY","TOTCAP",null,"Hydro"]
[null,"REN","HYDROS","CAPACITY","TOTCAP",null,"   Hydro -1 MW"]
[null,"REN","HYDROM","CAPACITY","TOTCAP",null,"   Hydro 1-10 MW"]
[null,"REN","HYDROL","CAPACITY","TOTCAP",null,"   Hydro 10+ MW"]
[null,"REN","MIXEDHYDRO","CAPACITY","TOTCAP",null,"   Mixed plants"]
[null,"REN","HYDPUMP","CAPACITY","TOTCAP",null,"   Pure pumped storage"]
[null,"REN","GEOTHERM","CAPACITY","TOTCAP",null,"Geothermal"]
[null,"REN","SOLARPV","CAPACITY","TOTCAP",null,"Solar photovoltaic"]
[null,"REN","SOLARTH","CAPACITY","TOTCAP",null,"Solar thermal"]
[null,"REN","TIDE","CAPACITY","TOTCAP",null,"Tide, wave and ocean"]
[null,"REN","WIND","CAPACITY","TOTCAP",null,"Wind"]
[null,"REN","SBIOFUELS","CAPACITY","TOTCAP",null,"Solid biofuels"]
[null,"REN","BIOGASES","CAPACITY","TOTCAP",null,"Biogases"]
[null,"REN","BIODIESEL","CAPACITY","TOTCAP",null,"Biodiesels"]
[null,"REN","OBIOLIQ","CAPACITY","TOTCAP",null,"Other liquid biofuels"]
[]
[null,null,null,null,null,null,"Electricity generation from hydro - main activity producer plants [MWh]"]
[null,"REN","HYDRO","BALANCE","GELEPROD","MAINTOT","Hydro"]
[null,"REN","HYDROS","BALANCE","GELEPROD","MAINTOT","   Hydro -1 MW"]
[null,"REN","HYDROM","BALANCE","GELEPROD","MAINTOT","   Hydro 1-10 MW"]
[null,"REN","HYDROL","BALANCE","GELEPROD","MAINTOT","   Hydro 10+ MW"]
[null,"REN","HYDPUMP","BALANCE","GELEPROD","MAINTOT","   Pumped hydro"]
[null,null,null,null,null,null,"Electricity generation from hydro - autoproducer plants [MWh]"]
[null,"REN","HYDRO","BALANCE","GELEPROD","AUTOTOT","Hydro"]
[null,"REN","HYDROS","BALANCE","GELEPROD","AUTOTOT","   Hydro -1 MW"]
[null,"REN","HYDROM","BALANCE","GELEPROD","AUTOTOT","   Hydro 1-10 MW"]
[null,"REN","HYDROL","BALANCE","GELEPROD","AUTOTOT","   Hydro 10+ MW"]
[null,"REN","HYDPUMP","BALANCE","GELEPROD","AUTOTOT","   Pumped hydro"]
[]
[null,null,null,null,null,null,"Electricity generation from bioliquids [MWh]"]
[null,"REN","BIODIESEL","BALANCE","GELEPROD","AUTOTOT","Biodiesels - Autoproducers"]
[null,"REN","BIODIESEL","BALANCE","GELEPROD","MAINTOT","Biodiesels - Main Activity Producers"]
[null,"REN","OBIOLIQ","BALANCE","GELEPROD","AUTOTOT","Other liquid biofuels - Autoproducers"]
[null,"REN","OBIOLIQ","BALANCE","GELEPROD","MAINTOT","Other liquid biofuels  - Main Activity Producers"]
[]
[null,null,null,null,null,null,"Electricity generation from renewables other then hydro, wind and bioliquids"]
[null,null,null,null,null,null,"Autoproducers [MWh]"]
[null,"REN","GEOTHERM","BALANCE","GELEPROD","AUTOTOT","Geothermal"]
[null,"REN","SOLARPV","BALANCE","GELEPROD","AUTOTOT","Solar photovoltaic"]
[null,"REN","SOLARTH","BALANCE","GELEPROD","AUTOTOT","Solar thermal"]
[null,"REN","TIDE","BALANCE","GELEPROD","AUTOTOT","Tide, wave and ocean"]
[null,"REN","MUNWASTER","BALANCE","GELEPROD","AUTOTOT","Municipal waste (renewable)"]
[null,"REN","SBIOFUELS","BALANCE","GELEPROD","AUTOTOT","Solid biofuels"]
[null,"REN","BIOGASES","BALANCE","GELEPROD","AUTOTOT","Biogases"]
[null,null,null,null,null,null,"Main Activity Producres [MWh]"]
[null,"REN","GEOTHERM","BALANCE","GELEPROD","MAINTOT","Geothermal"]
[null,"REN","SOLARPV","BALANCE","GELEPROD","MAINTOT","Solar photovoltaic"]
[null,"REN","SOLARTH","BALANCE","GELEPROD","MAINTOT","Solar thermal"]
[null,"REN","TIDE","BALANCE","GELEPROD","MAINTOT","Tide, wave and ocean"]
[null,"REN","MUNWASTER","BALANCE","GELEPROD","MAINTOT","Municipal waste (renewable)"]
[null,"REN","SBIOFUELS","BALANCE","GELEPROD","MAINTOT","Solid biofuels"]
[null,"REN","BIOGASES","BALANCE","GELEPROD","MAINTOT","Biogases"]
[]
[null,null,null,null,null,null,"Electricity generation from CHP plants [MWh]"]
[null,null,null,null,null,null,"Autoproducer CHP plants"]
[null,"REN","GEOTHERM","BALANCE","GELEPROD","AUTOCHP","Geothermal"]
[null,"REN","SOLARTH","BALANCE","GELEPROD","AUTOCHP","Solar thermal"]
[null,"REN","MUNWASTER","BALANCE","GELEPROD","AUTOCHP","Municipal waste (renew)"]
[null,"REN","SBIOFUELS","BALANCE","GELEPROD","AUTOCHP","Solid biofuels"]
[null,"REN","BIOGASES","BALANCE","GELEPROD","AUTOCHP","Biogases"]
[null,"REN","BIODIESEL","BALANCE","GELEPROD","AUTOCHP","Biodiesels"]
[null,"REN","OBIOLIQ","BALANCE","GELEPROD","AUTOCHP","Other liquid biofuels"]
[null,null,null,null,null,null,"Main activity producer CHP plants"]
[null,"REN","GEOTHERM","BALANCE","GELEPROD","MAINCHP","Geothermal"]
[null,"REN","SOLARTH","BALANCE","GELEPROD","MAINCHP","Solar thermal"]
[null,"REN","MUNWASTER","BALANCE","GELEPROD","MAINCHP","Municipal waste (renew)"]
[null,"REN","SBIOFUELS","BALANCE","GELEPROD","MAINCHP","Solid biofuels"]
[null,"REN","BIOGASES","BALANCE","GELEPROD","MAINCHP","Biogases"]
[null,"REN","BIODIESEL","BALANCE","GELEPROD","MAINCHP","Biodiesels"]
[null,"REN","OBIOLIQ","BALANCE","GELEPROD","MAINCHP","Other liquid biofuels"]
[]
[null,null,null,null,null,null,"Gross Heat Production"]
[null,null,null,null,null,null,"Total Autoproducer Plants [TJ]"]
[null,"REN","GEOTHERM","BALANCE","GHEATPRO","AUTOTOT","Geothermal energy"]
[null,"REN","SOLARTH","BALANCE","GHEATPRO","AUTOTOT","Solar thermal"]
[null,"REN","MUNWASTER","BALANCE","GHEATPRO","AUTOTOT","Municipal Waste - Renewable"]
[null,"REN","SBIOFUELS","BALANCE","GHEATPRO","AUTOTOT","Solid biofuels"]
[null,"REN","BIOGASES","BALANCE","GHEATPRO","AUTOTOT","Biogases"]
[null,"REN","BIODIESEL","BALANCE","GHEATPRO","AUTOTOT","Biodiesels"]
[null,"REN","OBIOLIQ","BALANCE","GHEATPRO","AUTOTOT","Other liquid biofuels"]
[null,null,null,null,null,null,"Total Main Activity Producer Plants [TJ]"]
[null,"REN","GEOTHERM","BALANCE","GHEATPRO","MAINTOT","Geothermal energy"]
[null,"REN","SOLARTH","BALANCE","GHEATPRO","MAINTOT","Solar thermal"]
[null,"REN","MUNWASTER","BALANCE","GHEATPRO","MAINTOT","Municipal Waste - Renewable"]
[null,"REN","SBIOFUELS","BALANCE","GHEATPRO","MAINTOT","Solid biofuels"]
[null,"REN","BIOGASES","BALANCE","GHEATPRO","MAINTOT","Biogases"]
[null,"REN","BIODIESEL","BALANCE","GHEATPRO","MAINTOT","Biodiesels"]
[null,"REN","OBIOLIQ","BALANCE","GHEATPRO","MAINTOT","Other liquid biofuels"]
[]
[null,null,null,null,null,null,"Hydro normalization"]
[null,null,null,null,null,null,"- pure hydro plants (hydro plants with no pumped storage)"]
[null,null,null,null,null,null,"Actual generation [GWh]",{"$f":"((H112+H118-H116-H122)/1000)-H193","v":0},0,0,0,0,0,0,0,0,0,0,0,0,0,0,0,0,0,0,0,0,0,0,0,0,0,0,0,0,0,0]
[null,null,null,null,null,null,"Actual capacity [MW]",{"$f":"H95-(H99+H100)","v":0},{"$f":"I95-(I99+I100)","v":0},0,0,0,0,0,0,0,0,0,0,0,0,0,0,0,0,0,0,0,0,0,0,0,0,0,0,0,0,0]
[null,null,null,null,null,null,"Annual load factor ( Qi / Ci )",{"$f":"IF(H187>0,H186/H187,0)","v":0},{"$f":"IF(I187>0,I186/I187,0)","v":0},0,0,0,0,0,0,0,0,0,0,0,0,0,0,0,0,0,0,0,0,0,0,0,0,0,0,0,0,0]
[null,null,null,null,null,null,"15 year average load factor",null,null,null,null,null,null,null,null,null,null,null,null,null,null,{"$f":"SUM(H188:V188)/15","v":0},{"$f":"SUM(I188:W188)/15","v":0},0,0,0,0,0,0,0,0,0,0,0,0,0,0,0]
[null,null,null,null,null,null,"Normalized generation [GWh]",null,null,null,null,null,null,null,null,null,null,null,null,null,null,{"$f":"V187*V189","v":0},{"$f":"W187*W189","v":0},0,0,0,0,0,0,0,0,0,0,0,0,0,0,0]
[]
[null,null,null,null,null,null,"- mixed pumped storage plants (hydro plants with pumped storage capability but excluding pure pumped storage plants) "]
[null,null,null,null,null,null,"Generation without pumping [GWh]",0,0,0,0,0,0,0,0,0,0,0,0,0,0,0,0,0,0,0,0,0,0,0,0,0,0,0,0,0,0,0]
[null,null,null,null,null,null,"Actual capacity [MW]",{"$f":"H99","v":0},0,0,0,0,0,0,0,0,0,0,0,0,0,0,0,0,0,0,0,0,0,0,0,0,0,0,0,0,0,0]
[null,null,null,null,null,null,"Annual load factor ( Qi / Ci )",{"$f":"IF(H194>0,H193/H194,\"\")","v":""},"","","","","","","","","","","","","","","","","","","","","","","","","","","","","",""]
[null,null,null,null,null,null,"15 year average load factor",null,null,null,null,null,null,null,null,null,null,null,null,null,null,{"$f":"SUM(H195:V195)/15","v":0},0,0,0,0,0,0,0,0,0,0,0,0,0,0,0,0]
[null,null,null,null,null,null,"Normalized generation [GWh]",null,null,null,null,null,null,null,null,null,null,null,null,null,null,{"$f":"V194*V196","v":0},0,0,0,0,0,0,0,0,0,0,0,0,0,0,0,0]
[]
[null,null,null,null,null,null,"- Check for reported hydro data"]
[null,null,null,null,null,null,"Check value (zero means perfectly OK)",{"$f":"MAX(((ELE!H38-ELE!H39)-(REN!H186+REN!H193))/1000,IF(H186<0,186186186,0),IF(H193<0,193193193,0))","v":0},{"$f":"MAX(((ELE!I38-ELE!I39)-(REN!I186+REN!I193))/1000,IF(I186<0,186186186,0),IF(I193<0,193193193,0))","v":0},{"$f":"MAX(((ELE!J38-ELE!J39)-(REN!J186+REN!J193))/1000,IF(J186<0,186186186,0),IF(J193<0,193193193,0))","v":0},{"$f":"MAX(((ELE!K38-ELE!K39)-(REN!K186+REN!K193))/1000,IF(K186<0,186186186,0),IF(K193<0,193193193,0))","v":0},{"$f":"MAX(((ELE!L38-ELE!L39)-(REN!L186+REN!L193))/1000,IF(L186<0,186186186,0),IF(L193<0,193193193,0))","v":0},{"$f":"MAX(((ELE!M38-ELE!M39)-(REN!M186+REN!M193))/1000,IF(M186<0,186186186,0),IF(M193<0,193193193,0))","v":0},{"$f":"MAX(((ELE!N38-ELE!N39)-(REN!N186+REN!N193))/1000,IF(N186<0,186186186,0),IF(N193<0,193193193,0))","v":0},{"$f":"MAX(((ELE!O38-ELE!O39)-(REN!O186+REN!O193))/1000,IF(O186<0,186186186,0),IF(O193<0,193193193,0))","v":0},{"$f":"MAX(((ELE!P38-ELE!P39)-(REN!P186+REN!P193))/1000,IF(P186<0,186186186,0),IF(P193<0,193193193,0))","v":0},{"$f":"MAX(((ELE!Q38-ELE!Q39)-(REN!Q186+REN!Q193))/1000,IF(Q186<0,186186186,0),IF(Q193<0,193193193,0))","v":0},{"$f":"MAX(((ELE!R38-ELE!R39)-(REN!R186+REN!R193))/1000,IF(R186<0,186186186,0),IF(R193<0,193193193,0))","v":0},{"$f":"MAX(((ELE!S38-ELE!S39)-(REN!S186+REN!S193))/1000,IF(S186<0,186186186,0),IF(S193<0,193193193,0))","v":0},{"$f":"MAX(((ELE!T38-ELE!T39)-(REN!T186+REN!T193))/1000,IF(T186<0,186186186,0),IF(T193<0,193193193,0))","v":0},{"$f":"MAX(((ELE!U38-ELE!U39)-(REN!U186+REN!U193))/1000,IF(U186<0,186186186,0),IF(U193<0,193193193,0))","v":0},{"$f":"MAX(((ELE!V38-ELE!V39)-(REN!V186+REN!V193))/1000,IF(V186<0,186186186,0),IF(V193<0,193193193,0))","v":0},{"$f":"MAX(((ELE!W38-ELE!W39)-(REN!W186+REN!W193))/1000,IF(W186<0,186186186,0),IF(W193<0,193193193,0))","v":0},{"$f":"MAX(((ELE!X38-ELE!X39)-(REN!X186+REN!X193))/1000,IF(X186<0,186186186,0),IF(X193<0,193193193,0))","v":0},{"$f":"MAX(((ELE!Y38-ELE!Y39)-(REN!Y186+REN!Y193))/1000,IF(Y186<0,186186186,0),IF(Y193<0,193193193,0))","v":0},{"$f":"MAX(((ELE!Z38-ELE!Z39)-(REN!Z186+REN!Z193))/1000,IF(Z186<0,186186186,0),IF(Z193<0,193193193,0))","v":0},{"$f":"MAX(((ELE!AA38-ELE!AA39)-(REN!AA186+REN!AA193))/1000,IF(AA186<0,186186186,0),IF(AA193<0,193193193,0))","v":0},{"$f":"MAX(((ELE!AB38-ELE!AB39)-(REN!AB186+REN!AB193))/1000,IF(AB186<0,186186186,0),IF(AB193<0,193193193,0))","v":0},{"$f":"MAX(((ELE!AC38-ELE!AC39)-(REN!AC186+REN!AC193))/1000,IF(AC186<0,186186186,0),IF(AC193<0,193193193,0))","v":0},{"$f":"MAX(((ELE!AD38-ELE!AD39)-(REN!AD186+REN!AD193))/1000,IF(AD186<0,186186186,0),IF(AD193<0,193193193,0))","v":0},{"$f":"MAX(((ELE!AE38-ELE!AE39)-(REN!AE186+REN!AE193))/1000,IF(AE186<0,186186186,0),IF(AE193<0,193193193,0))","v":0},{"$f":"MAX(((ELE!AF38-ELE!AF39)-(REN!AF186+REN!AF193))/1000,IF(AF186<0,186186186,0),IF(AF193<0,193193193,0))","v":0},{"$f":"MAX(((ELE!AG38-ELE!AG39)-(REN!AG186+REN!AG193))/1000,IF(AG186<0,186186186,0),IF(AG193<0,193193193,0))","v":0},{"$f":"MAX(((ELE!AH38-ELE!AH39)-(REN!AH186+REN!AH193))/1000,IF(AH186<0,186186186,0),IF(AH193<0,193193193,0))","v":0},{"$f":"MAX(((ELE!AI38-ELE!AI39)-(REN!AI186+REN!AI193))/1000,IF(AI186<0,186186186,0),IF(AI193<0,193193193,0))","v":0},{"$f":"MAX(((ELE!AJ38-ELE!AJ39)-(REN!AJ186+REN!AJ193))/1000,IF(AJ186<0,186186186,0),IF(AJ193<0,193193193,0))","v":0},{"$f":"MAX(((ELE!AK38-ELE!AK39)-(REN!AK186+REN!AK193))/1000,IF(AK186<0,186186186,0),IF(AK193<0,193193193,0))","v":0},{"$f":"MAX(((ELE!AL38-ELE!AL39)-(REN!AL186+REN!AL193))/1000,IF(AL186<0,186186186,0),IF(AL193<0,193193193,0))","v":0}]
[]
[null,null,null,null,null,null,"- small hydro plants (hydro plants without pumped storage -1 MW)"]
[null,null,null,null,null,null,"Actual capacity [MW]",{"$f":"H96","v":0},0,0,0,0,0,0,0,0,0,0,0,0,0,0,0,0,0,0,0,0,0,0,0,0,0,0,0,0,0,0]
[null,null,null,null,null,null,"Annual load factor ( Qi / Ci )",{"$f":"IF(H203>0,(H119+H113)/(1000*H203),0)","v":0},0,0,0,0,0,0,0,0,0,0,0,0,0,0,0,0,0,0,0,0,0,0,0,0,0,0,0,0,0,0]
[null,null,null,null,null,null,"15 year average load factor",null,null,null,null,null,null,null,null,null,null,null,null,null,null,{"$f":"SUM(H204:V204)/15","v":0},{"$f":"SUM(I204:W204)/15","v":0},{"$f":"SUM(J204:X204)/15","v":0},{"$f":"SUM(K204:Y204)/15","v":0},{"$f":"SUM(L204:Z204)/15","v":0},{"$f":"SUM(M204:AA204)/15","v":0},{"$f":"SUM(N204:AB204)/15","v":0},{"$f":"SUM(O204:AC204)/15","v":0},{"$f":"SUM(P204:AD204)/15","v":0},{"$f":"SUM(Q204:AE204)/15","v":0},{"$f":"SUM(R204:AF204)/15","v":0},{"$f":"SUM(S204:AG204)/15","v":0},{"$f":"SUM(T204:AH204)/15","v":0},{"$f":"SUM(U204:AI204)/15","v":0},{"$f":"SUM(V204:AJ204)/15","v":0},{"$f":"SUM(W204:AK204)/15","v":0},{"$f":"SUM(X204:AL204)/15","v":0}]
[null,null,null,null,null,null,"Normalized generation [GWh]",null,null,null,null,null,null,null,null,null,null,null,null,null,null,{"$f":"V203*V205","v":0},{"$f":"W203*W205","v":0},0,0,0,0,0,0,0,0,0,0,0,0,0,0,0]
[]
[null,null,null,null,null,null,"- medium hydro plants (hydro plants without pumped storage 1-10 MW)"]
[null,null,null,null,null,null,"Actual capacity [MW]",{"$f":"H97","v":0},0,0,0,0,0,0,0,0,0,0,0,0,0,0,0,0,0,0,0,0,0,0,0,0,0,0,0,0,0,0]
[null,null,null,null,null,null,"Annual load factor ( Qi / Ci )",{"$f":"IF(H209>0,(H120+H114)/(1000*H209),0)","v":0},0,0,0,0,0,0,0,0,0,0,0,0,0,0,0,0,0,0,0,0,0,0,0,0,0,0,0,0,0,0]
[null,null,null,null,null,null,"15 year average load factor",null,null,null,null,null,null,null,null,null,null,null,null,null,null,{"$f":"SUM(H210:V210)/15","v":0},{"$f":"SUM(I210:W210)/15","v":0},{"$f":"SUM(J210:X210)/15","v":0},{"$f":"SUM(K210:Y210)/15","v":0},{"$f":"SUM(L210:Z210)/15","v":0},{"$f":"SUM(M210:AA210)/15","v":0},{"$f":"SUM(N210:AB210)/15","v":0},{"$f":"SUM(O210:AC210)/15","v":0},{"$f":"SUM(P210:AD210)/15","v":0},{"$f":"SUM(Q210:AE210)/15","v":0},{"$f":"SUM(R210:AF210)/15","v":0},{"$f":"SUM(S210:AG210)/15","v":0},{"$f":"SUM(T210:AH210)/15","v":0},{"$f":"SUM(U210:AI210)/15","v":0},{"$f":"SUM(V210:AJ210)/15","v":0},{"$f":"SUM(W210:AK210)/15","v":0},{"$f":"SUM(X210:AL210)/15","v":0}]
[null,null,null,null,null,null,"Normalized generation [GWh]",null,null,null,null,null,null,null,null,null,null,null,null,null,null,{"$f":"V209*V211","v":0},{"$f":"W209*W211","v":0},0,0,0,0,0,0,0,0,0,0,0,0,0,0,0]
[]
[null,null,null,null,null,null,"- large hydro plants (hydro plants without pumped storage 10+ MW)"]
[null,null,null,null,null,null,"Actual capacity [MW]",{"$f":"H98","v":0},0,0,0,0,0,0,0,0,0,0,0,0,0,0,0,0,0,0,0,0,0,0,0,0,0,0,0,0,0,0]
[null,null,null,null,null,null,"Annual load factor ( Qi / Ci )",{"$f":"IF(H215>0,(H121+H115)/(1000*H215),0)","v":0},0,0,0,0,0,0,0,0,0,0,0,0,0,0,0,0,0,0,0,0,0,0,0,0,0,0,0,0,0,0]
[null,null,null,null,null,null,"15 year average load factor",null,null,null,null,null,null,null,null,null,null,null,null,null,null,{"$f":"SUM(H216:V216)/15","v":0},{"$f":"SUM(I216:W216)/15","v":0},{"$f":"SUM(J216:X216)/15","v":0},{"$f":"SUM(K216:Y216)/15","v":0},{"$f":"SUM(L216:Z216)/15","v":0},{"$f":"SUM(M216:AA216)/15","v":0},{"$f":"SUM(N216:AB216)/15","v":0},{"$f":"SUM(O216:AC216)/15","v":0},{"$f":"SUM(P216:AD216)/15","v":0},{"$f":"SUM(Q216:AE216)/15","v":0},{"$f":"SUM(R216:AF216)/15","v":0},{"$f":"SUM(S216:AG216)/15","v":0},{"$f":"SUM(T216:AH216)/15","v":0},{"$f":"SUM(U216:AI216)/15","v":0},{"$f":"SUM(V216:AJ216)/15","v":0},{"$f":"SUM(W216:AK216)/15","v":0},{"$f":"SUM(X216:AL216)/15","v":0}]
[null,null,null,null,null,null,"Normalized generation [GWh]",null,null,null,null,null,null,null,null,null,null,null,null,null,null,{"$f":"V215*V217","v":0},{"$f":"W215*W217","v":0},0,0,0,0,0,0,0,0,0,0,0,0,0,0,0]